{"text_format":"1","workbook":"xlsx","n_sheets":23,"sheets":["Старт","Список","Анализ","Incognito DATA","Elizabet2","Mill","Beta8","Valui","Poisson","Графики","Расчеты","Архив","Дома","Гости","ДомаДома","ГостиГости","Очные","ОчныеДГ","ДомаГости","ГостиДома","Таблица","Форма","Коэффициенты"],"not_rendered":{"charts":4,"images":0,"macros":1,"external_links":0,"defined_names":7,"comments":2,"pivot_tables":0},"unopened":[],"bounds":{"document_bytes":16777216,"sheet_cells":100000,"rows_first":2000,"rows_last":500,"rows_between":2000,"halvings":0,"cell_chars":16384,"cell_head_chars":4096},"cells_cut":1,"cells_raw":0,"read":"whole","date_system":"1900"}

{"sheet":"Старт","index":0,"n_rows":16,"n_cols":25,"rows_kept":16,"cut":false,"hidden":false,"merged":[[8,7,8,10],[9,7,9,10],[10,7,10,10]]}
[]
[null,null,null,null,null,null,null,null,null,null,null,null,null,null,null,null,null,null,"GMT +0",4,{"$f":"TODAY()-7","v":"2022-03-20"},8,"flashscore.com (EN)",4,{"$f":"TODAY()-7","v":"2022-03-20"}]
[null,null,null,null,null,null,null,null,null,null,null,null,null,null,null,null,null,null,"GMT +1",null,{"$f":"TODAY()-6","v":"2022-03-21"},null,"soccerstand.com (EN)",null,{"$f":"TODAY()-6","v":"2022-03-21"}]
[null,null,null,null,null,null,null,null,null,null,null,null,null,null,null,null,null,null,"GMT +2",null,{"$f":"TODAY()-5","v":"2022-03-22"},null,"soccerstand.com (RU)",null,{"$f":"TODAY()-5","v":"2022-03-22"}]
[null,null,null,null,null,null,null,null,null,null,null,null,null,null,null,null,null,null,"GMT +3",null,{"$f":"TODAY()-4","v":"2022-03-23"},null,"myscore.ru (RU)",null,{"$f":"TODAY()-4","v":"2022-03-23"}]
[null,null,null,null,null,null,null,null,null,null,null,null,null,null,null,null,null,null,"GMT +4",null,{"$f":"TODAY()-3","v":"2022-03-24"},null,"myscore.com.ua (RU)",null,{"$f":"TODAY()-3","v":"2022-03-24"}]
[null,null,null,null,null,null,null,null,null,null,null,null,null,null,null,null,null,null,"GMT +5",null,{"$f":"TODAY() -2","v":"2022-03-25"},null,null,null,{"$f":"TODAY()-2","v":"2022-03-25"}]
[null,null,null,null,null,null,null,null,null,null,null,null,null,null,null,null,null,null,"GMT +6",null,"Вчера",null,null,null,{"$f":"TODAY()-1","v":"2022-03-26"}]
[null,null,null,null,null,null,null,"Incognito DeluX plus",null,null,null,null,null,null,null,null,null,null,"GMT +7",null,"Сегодня",null,null,null,{"$f":"TODAY()","v":"2022-03-27"}]
[null,null,null,null,null,null,null,"based on InfinityBook engine",null,null,null,null,null,null,null,null,null,null,"GMT +8",null,"Завтра",null,null,null,{"$f":"TODAY()+1","v":"2022-03-28"}]
[null,null,null,null,null,null,null,"compilation Dm_35",null,null,null,null,null,null,null,null,null,null,"GMT +9",null,{"$f":"TODAY()+2","v":"2022-03-29"},null,null,null,{"$f":"TODAY()+2","v":"2022-03-29"}]
[null,null,null,null,null,null,null,null,null,null,null,null,null,null,null,null,null,null,"GMT +10",null,{"$f":"TODAY()+3","v":"2022-03-30"},null,null,null,{"$f":"TODAY()+3","v":"2022-03-30"}]
[null,null,null,null,null,null,null,null,null,null,null,null,null,null,null,null,null,null,"GMT +11",null,{"$f":"TODAY()+4","v":"2022-03-31"},null,null,null,{"$f":"TODAY()+4","v":"2022-03-31"}]
[null,null,null,null,null,null,null,null,null,null,null,null,null,null,null,null,null,null,"GMT +12",null,{"$f":"TODAY()+5","v":"2022-04-01"},null,null,null,{"$f":"TODAY()+5","v":"2022-04-01"}]
[null,null,null,null,null,null,null,null,null,null,null,null,null,null,null,null,null,null,"GMT +13",null,{"$f":"TODAY()+6","v":"2022-04-02"},null,null,null,{"$f":"TODAY()+6","v":"2022-04-02"}]
[null,null,null,null,null,null,null,null,null,null,null,null,null,null,null,null,null,null,null,null,{"$f":"TODAY()+7","v":"2022-04-03"},null,null,null,{"$f":"TODAY()+7","v":"2022-04-03"}]

{"sheet":"Список","index":1,"n_rows":1000,"n_cols":25,"rows_kept":1000,"cut":false,"hidden":false,"merged":[]}
["Чемпионат","Дата/Время","Дома","Гости","Match_ID","Country_ID","home_ID","away_ID","Загрузить","К1","К2","П1 текущий","Х текущий","П2 текущий","П1 старт","Х старт","П2 старт","П1 прогруз","Х прогруз","П2 прогруз",null,null,null,null,"rP5ibdZs"]
["БЕРМУДЫ: Премьер-лига","2022.03.26 23:00","СБРС","Норт-Вилладж Рэмс","hpEmCVve",230,null,null,"Загрузить",1,2,null,null,null,null,null,null,{"$f":"IF(L2=\"\",\"\",L2-O2)","v":""},{"$f":"IF(M2=\"\",\"\",M2-P2)","v":""},{"$f":"IF(N2=\"\",\"\",N2-Q2)","v":""}]
["БРАЗИЛИЯ: Чемпионат Мараньенсе - Второй этап","2022.03.26 23:00","Пиньейро","Сан Жозе МА","jgTfqX1C",39,null,null,"Загрузить",3,1,2.06,3.2,3.52,2.02,3.1,3.64,4.0000000000000036E-2,0.10000000000000009,-0.12000000000000011]
["ВЕНЕСУЭЛА: Сегунда","2022.03.26 23:00","Academia Anzoategui","Динамо Пуэрто","Yw2SWnc7",205,null,null,"Загрузить",3,0,null,null,null,null,null,null,"","",""]
["КОЛУМБИЯ: Примера Б - Апертура","2022.03.26 23:00","Богота","Реал Сантандер","ddRjdOy1",53,null,null,"Загрузить",2,1,1.9,3.38,3.92,1.85,3.3,3.88,4.9999999999999822E-2,8.0000000000000071E-2,4.0000000000000036E-2]
["КОЛУМБИЯ: Примера Б - Апертура","2022.03.26 23:00","Бока Хуниорс Кали","Тигрес","pI7oI5bK",53,null,null,"Загрузить",2,0,2.46,3.1,2.9,2.12,2.88,3.66,0.33999999999999986,0.2200000000000002,-0.76000000000000023]
["КОЛУМБИЯ: Примера Б - Апертура","2022.03.26 23:00","Льянерос","Уила","4MUbf26D",53,null,null,"Загрузить",2,1,1.9,3.18,4.24,2.0299999999999998,3,3.7,-0.12999999999999989,0.18000000000000016,0.54]
["КОЛУМБИЯ: Лига - Женщины","2022.03.26 23:00","Orsomarso (Ж)","Ла Экидад (Ж)","CISigwPL",53,null,null,"Загрузить",1,1,1.34,4.76,8.1,1.21,6,9.3000000000000007,0.13000000000000012,-1.2400000000000002,-1.2000000000000011]
["КОСТА-РИКА: Ассенсо - Клаусура","2022.03.26 23:00","Десампарадос","Мунисипаль Либерия","6kBbYoHq",57,null,null,"Загрузить",2,1,3.38,2.92,2.25,3.34,3.1,2.12,4.0000000000000036E-2,-0.18000000000000016,0.12999999999999989]
["США: Чемпионшип ЮСЛ","2022.03.26 23:00","Детройт","Питтсбург","AgMXmSv5",200,null,null,"Загрузить",1,1,3.84,3.26,1.94,3.07,3.24,2.12,0.77,1.9999999999999574E-2,-0.18000000000000016]
["США: Кубок NWSL Челлендж - Женщины","2022.03.26 23:00","Angel City (Ж)","Рейн (Ж)","ncEcTZcI",200,null,null,"Загрузить",1,3,5.15,3.72,1.61,4.08,3.5,1.75,1.0700000000000003,0.2200000000000002,-0.1399999999999999]
["ЯМАЙКА: Премьер-лига","2022.03.26 23:00","Тиволи","Кавальер","xYDzHKnb",99,null,null,"Загрузить",1,3,2.82,2.89,2.59,2.6,2.9,2.7,0.21999999999999975,-9.9999999999997868E-3,-0.11000000000000032]
["ИСПАНИЯ: Сегунда","2022.03.26 23:30","Реал Овьедо","Фуэнлабрада","QmNRnIuO",176,null,null,"Загрузить",3,0,1.73,3.25,5.84,2.0699999999999998,3.24,3.6,-0.33999999999999986,9.9999999999997868E-3,2.2399999999999998]
["БРАЗИЛИЯ: Копа де Нордесте - Плей-офф","2022.03.26 23:45","Форталеза","Наутико","S66din9f",39,null,null,"Загрузить",2,0,1.45,4.3600000000000003,7.2,1.45,3.74,6.75,0,0.62000000000000011,0.45000000000000018]
["БРАЗИЛИЯ: Чемпионат Рорайменсе - Первый этап","2022.03.27 00:00","Рио Негро","Атлетико Рораима","0hQR2E6K",39,null,null,"Загрузить",1,0,1.73,4.04,3.5,2.11,3.4,3.26,-0.37999999999999989,0.64000000000000012,0.24000000000000021]
["ВЕНЕСУЭЛА: Высший дивизион","2022.03.27 00:00","Минерос де Гуаяна","Арагуа","U5sO51yP",205,null,null,"Загрузить",0,3,2.2400000000000002,3.08,3.38,2.3199999999999998,3.1,2.93,-7.9999999999999627E-2,-2.0000000000000018E-2,0.44999999999999973]
["ВЕНЕСУЭЛА: Сегунда","2022.03.27 00:00","Хероес Фалькон","Райо Зулиано","O8UlllSs",205,null,null,"Загрузить",1,1,null,null,null,null,null,null,"","",""]
["КОСТА-РИКА: Ассенсо - Клаусура","2022.03.27 00:00","Уругвай Коронадо","Ад Асерри","bqMOvlvG",57,null,null,"Загрузить",1,1,2.12,3.3,3.26,2.16,3.1,3.24,-4.0000000000000036E-2,0.19999999999999973,1.9999999999999574E-2]
["МЕКСИКА: Лига Премьер - Серия А - Клаусура","2022.03.27 00:00","Донгу","Cafetaleros","0zyBr4Se",128,null,null,"Загрузить",1,2,11.5,6.5,1.18,19,10,1.07,-7.5,-3.5,0.10999999999999988]
["МЕКСИКА: Лига Премьер - Серия В - Клаусура","2022.03.27 00:00","Ураканес","Лобос Уэрта","0jBvygas",128,null,null,"Загрузить",5,1,1.22,6,10.5,1.45,4.2,5.7,-0.22999999999999998,1.7999999999999998,4.8]
["МЕКСИКА: Лига Премьер - Серия В - Клаусура","2022.03.27 00:00","Уруапан","Сьервос","U7K8tFyK",128,null,null,"Загрузить",5,1,null,null,null,null,null,null,"","",""]
["ПАНАМА: ЛПФ - Апертура","2022.03.27 00:00","Тауро","Индепендьенте","EJxNxknP",149,null,null,"Загрузить",1,2,2.5,2.61,3.36,2.42,2.88,2.94,8.0000000000000071E-2,-0.27,0.41999999999999993]
["ПАРАГВАЙ: Первый дивизион - Апертура","2022.03.27 00:00","Соль де Америка","Олимпия Асунсьон","0MaCgWld",151,null,null,"Загрузить",0,1,3.66,3.68,1.9,3.19,3.38,2.17,0.4700000000000002,0.30000000000000027,-0.27]
["США: МЛС","2022.03.27 00:00","Шарлотт","Цинциннати","pSMiAg4o",200,"QJF7WTFB","8btog05R","Загрузить",2,0,2.2400000000000002,3.54,3.14,2.12,3.5,3.28,0.12000000000000011,4.0000000000000036E-2,-0.13999999999999968]
["КОЛУМБИЯ: Примера А - Апертура","2022.03.27 00:05","Энвигадо","Онсе Кальдас","r5BHs0Bm",53,null,null,"Загрузить",1,1,3.03,3.01,2.46,2.52,2.75,3.05,0.50999999999999979,0.25999999999999979,-0.58999999999999986]
["БРАЗИЛИЯ: Чемпионат Паулиста - Плей-офф","2022.03.27 00:30","Палмейрас","Брагантино","IumdFeTt",39,null,null,"Загрузить",2,1,1.52,4.22,6.55,1.62,3.4,5.6,-0.10000000000000009,0.81999999999999984,0.95000000000000018]
["ГВАТЕМАЛА: Национальная лига - Клаусура","2022.03.27 00:30","Кобан Империаль","Депортиво Малакатеко","IwMoDcnJ",85,null,null,"Загрузить",1,1,1.72,3.44,4.8,1.93,3.4,3.46,-0.20999999999999996,4.0000000000000036E-2,1.3399999999999999]
["МЕКСИКА: Лига Премьер - Серия А - Клаусура","2022.03.27 00:30","Мазоркьерос","Гавиланес де Матаморос","tWDc67K2",128,null,null,"Загрузить",0,0,1.6,3.82,5.15,1.37,4.74,6.2,0.22999999999999998,-0.92000000000000037,-1.0499999999999998]
["МЕКСИКА: Лига Премьер - Серия А - Клаусура","2022.03.27 00:30","Сакатекас","Коррекаминос 2","vRZEsOs2",128,null,null,"Загрузить",4,1,1.64,3.84,4.78,1.62,3.74,4.58,1.9999999999999796E-2,9.9999999999999645E-2,0.20000000000000018]
["БРАЗИЛИЯ: Чемпионат Акреано - Первый этап","2022.03.27 01:00","Умайта","Галвез","8z5qxhdl",39,null,null,"Загрузить",null,null,2.19,3.48,2.89,2.2200000000000002,3.5,2.75,-3.0000000000000249E-2,-2.0000000000000018E-2,0.14000000000000012]
["КОЛУМБИЯ: Лига - Женщины","2022.03.27 01:00","Депортиво Перейра (Ж)","Америка Де Кали (Ж)","QLWehcvS",53,null,null,"Загрузить",1,1,4.6399999999999997,4.1399999999999997,1.6,3.58,3.9,1.75,1.0599999999999996,0.23999999999999977,-0.14999999999999991]
["МИР: Клубные товарищеские матчи","2022.03.27 01:00","Тигрес","Пачука","WS0lgfgB",8,null,null,"Загрузить",2,1,null,null,null,null,null,null,"","",""]
["США: Чемпионшип ЮСЛ","2022.03.27 01:00","Нью-Мексико","Оранж Каунти СК","rowAUwvp",200,null,null,"Загрузить",1,1,1.87,3.4,3.94,1.93,3.3,3.64,-5.9999999999999831E-2,0.10000000000000009,0.29999999999999982]
["США: МЛС Некст Про","2022.03.27 01:00","Интер Майами II","Коламбус Крю 2","MmEuRX9e",200,null,null,"Загрузить",2,0,null,null,null,null,null,null,"","",""]
["АРГЕНТИНА: Торнео Федерал","2022.03.27 01:30","Сармьенто Ресистенция","Унион Сунчалес","ARqmW2ej",22,null,null,"Загрузить",2,0,2.0699999999999998,3.22,3.48,2.15,3.1,3.5,-8.0000000000000071E-2,0.12000000000000011,-2.0000000000000018E-2]
["АРУБА: Дивизион ди Онор","2022.03.27 01:30","Британниа","Юнайтед","j1PMFDd0",229,null,null,"Загрузить",null,null,null,null,null,null,null,null,"","",""]
["МЕКСИКА: Лига Премьер - Серия А - Клаусура","2022.03.27 01:30","Колима","Тритонес Вальярта","nTG54okF",128,null,null,"Загрузить",0,2,3.9,3.54,1.84,4.08,3.74,1.69,-0.18000000000000016,-0.20000000000000018,0.15000000000000013]
["АРГЕНТИНА: Кубок Аргентины","2022.03.27 02:00","Индепендьенте","Централ Норте","M93FSftF",22,null,null,"Загрузить",1,1,1.21,5.65,13,1.3,4.5,9.4,-9.000000000000008E-2,1.1500000000000004,3.5999999999999996]
["КОЛУМБИЯ: Лига - Женщины","2022.03.27 02:00","Инд. Санта Фе (Ж)","Кортулуа (Ж)","j3vqeaf9",53,null,null,"Загрузить",3,0,1.1299999999999999,7.6,15,1.1299999999999999,8.5,10,0,-0.90000000000000036,5]
["МЕКСИКА: Лига MX - Клаусура","2022.03.27 02:00","Пумас","Мазатлан","Y1bnHCnJ",128,null,null,"Загрузить",1,1,1.49,4.24,6.35,1.8,3.5,4.2,-0.31000000000000005,0.74000000000000021,2.1499999999999995]
["МЕКСИКА: Лига Премьер - Серия А - Клаусура","2022.03.27 02:00","Минейрос","Алакранес Дуранго","h6H15RZ8",128,null,null,"Загрузить",2,3,9.4,5.5,1.26,9.4,5,1.26,0,0.5,0]
["ПАНАМА: ЛПФ - Апертура","2022.03.27 02:00","Пласа Амадор","Эррера","juUlY8ft",149,null,null,"Загрузить",1,1,2.2000000000000002,2.9,3.54,2.2200000000000002,2.88,3.32,-2.0000000000000018E-2,2.0000000000000018E-2,0.2200000000000002]
["США: МЛС","2022.03.27 02:00","Спортинг Канзас-Сити","Реал Солт-Лейк","OILe9DJi",200,null,null,"Загрузить",1,0,1.96,3.64,3.82,1.77,3.74,4.18,0.18999999999999995,-0.10000000000000009,-0.35999999999999988]
["США: Чемпионшип ЮСЛ","2022.03.27 02:00","Майами","Лаудон","UwJ4jL03",200,null,null,"Загрузить",0,0,1.34,5.4,6.8,1.21,5.5,9.1,0.13000000000000012,-9.9999999999999645E-2,-2.2999999999999998]
["США: Кубок NWSL Челлендж - Женщины","2022.03.27 02:00","Нью-Йорк Флэш (Ж)","Орландо Прайд (Ж)","OMyRB7Sp",200,null,null,"Загрузить",1,0,1.95,3.36,3.7,2.02,3.2,3.36,-7.0000000000000062E-2,0.1599999999999997,0.3400000000000003]
["ЧИЛИ: Кубок Чили","2022.03.27 02:00","La Higuera","Сантьяго Вандерерс","vXAHZ8dL",51,null,null,"Загрузить",0,4,null,null,null,null,null,null,"","",""]
["ЭКВАДОР: Серия В","2022.03.27 02:00","Ольмедо","Индепендент Хуниорс","4AESiPVb",68,"OMFYOCcJ","M9z5NMQc","Загрузить",1,0,2.2999999999999998,3.12,3.08,1.93,3.2,3.68,0.36999999999999988,-8.0000000000000071E-2,-0.60000000000000009]
["КОЛУМБИЯ: Примера А - Апертура","2022.03.27 02:10","Унион Магдалена","Агилас Дорадас","GI9Puvt0",53,null,null,"Загрузить",2,1,2.4,2.96,3.06,2.8,2.75,2.63,-0.39999999999999991,0.20999999999999996,0.43000000000000016]
["БРАЗИЛИЯ: Чемпионат Рорайменсе - Первый этап","2022.03.27 02:15","Баре","Наутико","ITKW1YLQ",39,null,null,"Загрузить",4,1,2.2799999999999998,3.68,2.65,3.26,3.54,2.06,-0.98,0.14000000000000012,0.58999999999999986]
["ВЕНЕСУЭЛА: Высший дивизион","2022.03.27 02:15","Каракас","Португеза","2gCxPOym",205,null,null,"Загрузить",1,1,1.88,3.46,4.0599999999999996,1.85,3.4,3.8,2.9999999999999805E-2,6.0000000000000053E-2,0.25999999999999979]
["США: Чемпионшип ЮСЛ","2022.03.27 02:30","Бирмингем","Колорадо Спрингс","GWMTl8Pb",200,null,null,"Загрузить",0,2,2.19,3.2,3.2,1.97,3.3,3.38,0.21999999999999997,-9.9999999999999645E-2,-0.17999999999999972]
["США: Чемпионшип ЮСЛ","2022.03.27 02:30","Луисвилл Сити","Инди Элевен","6LFtn69H",200,null,null,"Загрузить",1,1,1.28,5.0999999999999996,9.4,1.41,4.2,6.25,-0.12999999999999989,0.89999999999999947,3.1500000000000004]
["США: Чемпионшип ЮСЛ","2022.03.27 02:30","Тампа Бэй","Хартфорд Атлетик","jmK0i1oc",200,null,null,"Загрузить",1,1,1.32,5.05,7.9,1.26,5,8.5,6.0000000000000053E-2,4.9999999999999822E-2,-0.59999999999999964]
["БЕРМУДЫ: Премьер-лига","2022.03.27 03:00","Робин Гуд","Девоншир Кугарс","jiWZXC1E",230,null,null,"Загрузить",0,0,null,null,null,null,null,null,"","",""]
["БРАЗИЛИЯ: Чемпионат Паулиста А2 - Плей-офф","2022.03.27 03:00","Сан-Бенто","Пирасикаба","Sf0mqX9C",39,null,null,"Загрузить",1,0,2.83,2.87,2.59,2.7,2.5499999999999998,3,0.12999999999999989,0.32000000000000028,-0.41000000000000014]
["КОСТА-РИКА: Ассенсо - Клаусура","2022.03.27 03:00","Эскорпионес","Мунисипаль Гарабито","xveGbTCb",57,null,null,"Загрузить",5,1,1.99,3.48,3.34,2.36,3.4,2.6,-0.36999999999999988,8.0000000000000071E-2,0.73999999999999977]
["ЭКВАДОР: Серия В","2022.03.27 03:00","Имбабура","Санто Доминго","bXDWjqo5",68,null,null,"Загрузить",2,0,1.98,3.11,3.92,2.02,3.1,3.48,-4.0000000000000036E-2,9.9999999999997868E-3,0.43999999999999995]
["АРУБА: Дивизион ди Онор","2022.03.27 03:30","Депортиво Насьональ","Ла Фама","lnrQEXB6",229,null,null,"Загрузить",null,null,null,null,null,null,null,null,"","",""]
["КОЛУМБИЯ: Примера Б - Апертура","2022.03.27 04:00","Чико","Форталеза","6R8sJoqE",53,null,null,"Загрузить",0,1,2.14,3.14,3.44,1.89,3.24,3.86,0.25000000000000022,-0.10000000000000009,-0.41999999999999993]
["КОСТА-РИКА: Ассенсо - Клаусура","2022.03.27 04:00","Маринейорс де Пунтаренас","Пунтаренас","rybOd7sB",57,null,null,"Загрузить",1,2,2.79,3.42,2.3199999999999998,2.78,3.44,2.3199999999999998,1.0000000000000231E-2,-2.0000000000000018E-2,0]
["МЕКСИКА: Лига Экспансьон МХ - Клаусура","2022.03.27 04:00","Алебрихес де Оахака","Дорадос де Синалоа","MVv6fLKQ",128,null,null,"Загрузить",5,1,2.0699999999999998,3.2,3.56,2.12,3,3.36,-5.0000000000000266E-2,0.20000000000000018,0.20000000000000018]
["МЕКСИКА: Лига MX - Женщины - Клаусура","2022.03.27 04:00","Хуарес (Ж)","Пумас (Ж)","d2leIIta",128,null,null,"Загрузить",1,0,3.8,3.56,1.86,4.1399999999999997,3.5,1.78,-0.33999999999999986,6.0000000000000053E-2,8.0000000000000071E-2]
["МИР: Клубные товарищеские матчи","2022.03.27 04:00","Америка","Монтеррей","6qEnRdMF",8,null,null,"Загрузить",1,2,null,null,null,null,null,null,"","",""]
["ПАНАМА: ЛПФ - Апертура","2022.03.27 04:00","Чирики","Арабе Юнидо","Y3JgXS9n",149,null,null,"Загрузить",1,0,2.59,2.75,2.97,2.17,2.9,3.38,0.41999999999999993,-0.14999999999999991,-0.4099999999999997]
["США: МЛС Некст Про","2022.03.27 04:00","Северный Техас","Миннесота 2","GADqQiP1",200,null,null,"Загрузить",3,1,null,null,null,null,null,null,"","",""]
["США: МЛС Некст Про","2022.03.27 04:00","Хьюстон Динамо 2","Ванкувер 2","EH5UkWHD",200,null,null,"Загрузить",1,0,null,null,null,null,null,null,{"$f":"IF(L66=\"\",\"\",L66-O66)","v":""},{"$f":"IF(M66=\"\",\"\",M66-P66)","v":""},{"$f":"IF(N66=\"\",\"\",N66-Q66)","v":""}]
["КОЛУМБИЯ: Примера А - Апертура","2022.03.27 04:15","Перейра","Медельин","nJgFplqP",53,null,null,"Загрузить",1,1,3.54,3.05,2.11,3.16,2.9,2.3199999999999998,0.37999999999999989,0.14999999999999991,-0.20999999999999996]
["США: Чемпионшип ЮСЛ","2022.03.27 05:00","Лас-Вегас Лайтс","Мемфис","lpLymnfB",200,null,null,"Загрузить",0,1,2.69,3.86,2.2200000000000002,3.44,3.74,1.85,-0.75,0.11999999999999966,0.37000000000000011]
["США: Чемпионшип ЮСЛ","2022.03.27 05:00","Окленд Рутс","Monterey Bay","x8xETcgj",200,null,null,"Загрузить",2,3,1.86,3.5,3.84,1.67,3.74,4.26,0.19000000000000017,-0.24000000000000021,-0.41999999999999993]
["США: НИСА","2022.03.27 05:00","Калифорния Юнайтед","Valley United","SlLIG9RI",200,null,null,"Загрузить",0,0,1.44,4.4400000000000004,6.15,1.34,4.74,6.75,9.9999999999999867E-2,-0.29999999999999982,-0.59999999999999964]
["США: НИСА","2022.03.27 05:00","Л-А Форс","Bay Cities","6uKMFTtP",200,null,null,"Загрузить",0,0,1.46,4.4000000000000004,5.95,1.45,3.7,6.2,1.0000000000000009E-2,0.70000000000000018,-0.25]
["США: Кубок NWSL Челлендж - Женщины","2022.03.27 05:00","San Diego Wave (Ж)","Портленд (Ж)","QRF9zi5o",200,null,null,"Загрузить",0,1,4.18,3.2,1.9,3.68,3.5,1.82,0.49999999999999956,-0.29999999999999982,7.9999999999999849E-2]
["США: Чемпионшип ЮСЛ","2022.03.27 05:30","Финикс Райзинг","Сан-Диего Лойял","lrtISH8d",200,null,null,"Загрузить",2,3,1.62,4.0599999999999996,4.58,1.41,4.32,5.75,0.21000000000000019,-0.26000000000000068,-1.17]
["АВСТРАЛИЯ: НПЛ Северный Новый Южный Уэльс","2022.03.27 06:00","Бродмидоу","Cooks Hill United","xhWvR0fs",24,null,null,"Загрузить",4,1,1.54,4.46,4.8,1.71,3.7,4.22,-0.16999999999999993,0.75999999999999979,0.58000000000000007]
["АВСТРАЛИЯ: НПЛ Северный Новый Южный Уэльс","2022.03.27 06:00","Валентайн","Лэйк-Макуаир","WAgCVtnQ",24,null,null,"Загрузить",null,null,1.65,4.22,4.2,2.84,3.44,2.2200000000000002,-1.19,0.7799999999999998,1.98]
["МЕКСИКА: Лига Экспансьон МХ - Клаусура","2022.03.27 06:00","Симарронес Сонора","Венадос","OvRXkuTs",128,null,null,"Загрузить",1,1,1.82,3.34,4.4000000000000004,2.12,3.2,3.17,-0.30000000000000004,0.13999999999999968,1.2300000000000004]
["ФИДЖИ: Премьер-лига","2022.03.27 06:00","Нади","Ба","fHdAfCYk",75,null,null,"Загрузить",1,2,null,null,null,null,null,null,"","",""]
["ЯПОНИЯ: Женская лига Надешико","2022.03.27 06:00","Ниттаидаи (Ж)","Харима Альбион (Ж)","j7xjtLbR",100,null,null,"Загрузить",0,0,2.4500000000000002,3.36,2.62,2.25,3.5,2.63,0.20000000000000018,-0.14000000000000012,-9.9999999999997868E-3]
["МЕКСИКА: Лига Экспансьон МХ - Клаусура","2022.03.27 06:05","Тепатитлан де Морельос","Атланте","hdz2e15K",128,null,null,"Загрузить",2,1,2.75,2.79,2.78,2.95,2.88,2.4,-0.20000000000000018,-8.9999999999999858E-2,0.37999999999999989]
["АВСТРАЛИЯ: НПЛ Новый Южный Уэльс","2022.03.27 07:00","Нортбридж Буллс","Сидней Юнайтед","69cOcHNR",24,null,null,"Загрузить",4,2,5.75,4.92,1.48,5.0999999999999996,4.4000000000000004,1.5,0.65000000000000036,0.51999999999999957,-2.0000000000000018E-2]
["АВСТРАЛИЯ: НПЛ Виктория","2022.03.27 07:00","Гейдельберг Юнайтед","Альтона Мэджик","0vaSFOA8",24,null,null,"Загрузить",1,2,1.91,3.74,3.74,2.0699999999999998,3.1,3.36,-0.15999999999999992,0.64000000000000012,0.38000000000000034]
["ЮЖНАЯ КОРЕЯ: К-Лига 2","2022.03.27 07:00","Сеул Е-Лэнд","Аньянг","U3tEMftt",106,null,null,"Загрузить",0,0,2.71,3.05,2.69,2.52,3.1,3.04,0.18999999999999995,-5.0000000000000266E-2,-0.35000000000000009]
["ЯПОНИЯ: Лига Джей-3","2022.03.27 07:00","Азул-Кларо","Гифу","I5Wv2MHq",100,null,null,"Загрузить",2,0,3.64,3.3,1.98,2.75,3.1,2.4500000000000002,0.89000000000000012,0.19999999999999973,-0.4700000000000002]
["ЯПОНИЯ: Лига Джей-3","2022.03.27 07:00","Ванрауре","Фудзиэда МИФК","v9ChFAyB",100,null,null,"Загрузить",1,0,3.17,3.3,2.16,3.24,3.24,2.09,-7.0000000000000284E-2,5.9999999999999609E-2,7.0000000000000284E-2]
["ЯПОНИЯ: Лига Джей-3","2022.03.27 07:00","Тоттори","Имабари","Wbc8WB6o",100,null,null,"Загрузить",1,1,2.61,3.2,2.56,2.9,3.1,2.36,-0.29000000000000004,0.10000000000000009,0.20000000000000018]
["ЯПОНИЯ: Лига Джей-3","2022.03.27 07:00","Фукусима Юнайтед","Иокогама","MX1cEUjH",100,null,null,"Загрузить",2,1,1.93,3.42,3.68,2.02,3.24,3.44,-9.000000000000008E-2,0.17999999999999972,0.24000000000000021]
["ЯПОНИЯ: WE Лига (Ж)","2022.03.27 07:00","Минави Сендай (Ж)","Парсеиро Нагано (Ж)","WYPgQnXb",100,null,null,"Загрузить",2,0,1.46,3.74,6.7,1.45,3.74,6.75,1.0000000000000009E-2,0,-4.9999999999999822E-2]
["ЯПОНИЯ: WE Лига (Ж)","2022.03.27 07:00","Омия (Ж)","Белеза (Ж)","vaPcP6n5",100,null,null,"Загрузить",0,1,5.45,5,1.37,5.0999999999999996,3.74,1.55,0.35000000000000053,1.2599999999999998,-0.17999999999999994]
["ЯПОНИЯ: Женская лига Надешико","2022.03.27 07:00","Анжевиолет Хиросима (Ж)","Эхимэ (Ж)","MkTLzaMl",100,null,null,"Загрузить",1,0,6.3,4.04,1.48,4.34,3.1,1.86,1.96,0.94,-0.38000000000000012]
["ЯПОНИЯ: Женская лига Надешико","2022.03.27 07:00","Орка (Ж)","Сэтагая (Ж)","hGOHyu7r",100,null,null,"Загрузить",0,1,3.48,3.38,2.0099999999999998,3.54,3,2.1,-6.0000000000000053E-2,0.37999999999999989,-9.0000000000000302E-2]
["АВСТРАЛИЯ: НПЛ Северный Новый Южный Уэльс","2022.03.27 07:30","Чарльзтаун Адзурри","Лэмбтон Джаффас","lSZrQK9m",24,null,null,"Загрузить",3,1,3.46,3.74,1.91,2.5499999999999998,3.34,2.46,0.91000000000000014,0.40000000000000036,-0.55000000000000004]
["ЮЖНАЯ КОРЕЯ: К-Лига 1","2022.03.27 08:00","Ульсан","Пхохан Стилерс","Kz6rbak6",106,null,null,"Загрузить",2,0,2.78,3.2,2.78,1.85,3.3,4.5599999999999996,0.92999999999999972,-9.9999999999999645E-2,-1.7799999999999998]
["ЮЖНАЯ КОРЕЯ: К-Лига 3","2022.03.27 08:00","Гимхэ","Бусан Киотонг","rqtFwZBl",106,null,null,"Загрузить",0,0,1.7,3.52,4.88,2.27,2.85,3.34,-0.57000000000000006,0.66999999999999993,1.54]
["ЮЖНАЯ КОРЕЯ: К-Лига 3","2022.03.27 08:00","Хвасон","Siheung Citizen","Q7VJxgRf",106,null,null,"Загрузить",0,1,2.06,3.2,3.58,2.27,2.95,3.4,-0.20999999999999996,0.25,0.18000000000000016]
["ЯПОНИЯ: Лига Джей-3","2022.03.27 08:00","Нагано Парсейро","Каматамаре","Uc55C8LT",100,null,null,"Загрузить",3,1,1.73,3.38,4.8600000000000003,1.78,3.4,4.32,-5.0000000000000044E-2,-2.0000000000000018E-2,0.54]
["ЯПОНИЯ: Лига Джей-3","2022.03.27 08:00","Тояма","Гираванз Китакуюши","W6iX7STp",100,null,null,"Загрузить",1,2,2.1800000000000002,3.17,3.26,2.36,3,3,-0.17999999999999972,0.16999999999999993,0.25999999999999979]
["ЯПОНИЯ: WE Лига (Ж)","2022.03.27 08:00","Нодзима Стелла (Ж)","ДЖЕФ Юнайтед (Ж)","IkO1OQ1B",100,null,null,"Загрузить",0,3,3.62,3,2.12,3.26,3.1,2.12,0.36000000000000032,-0.10000000000000009,0]
["ЯПОНИЯ: WE Лига (Ж)","2022.03.27 08:00","Хиросима (Ж)","Урава (Ж)","0ED6NpHH",100,null,null,"Загрузить",0,1,5.75,3.9,1.54,4.84,3.5,1.64,0.91000000000000014,0.39999999999999991,-9.9999999999999867E-2]
["АВСТРАЛИЯ: А-Лига Женщины - Плей-офф","2022.03.27 08:05","Сидней (Ж)","Мельбурн (Ж)","ng23vAjM",24,null,null,"Загрузить",1,2,1.65,3.92,4.58,1.49,4.2,5.35,0.15999999999999992,-0.28000000000000025,-0.76999999999999957]
["ЯПОНИЯ: Лига Джей-3","2022.03.27 09:00","Эхимэ","Iwaki","0ULq1tXk",100,null,null,"Загрузить",1,2,2.66,3.16,2.5299999999999998,2.5499999999999998,2.9,2.75,0.11000000000000032,0.26000000000000023,-0.2200000000000002]
["АВСТРАЛИЯ: НПЛ Виктория","2022.03.27 10:00","Сент Олбанс","Мельбурн Найтс","vVcWErQE",24,null,null,"Загрузить",0,2,2.78,3.68,2.36,3.16,3.5,2.02,-0.38000000000000034,0.18000000000000016,0.33999999999999986]
["МАКАО: Элитная Лига","2022.03.27 10:00","Спортинг Макао","Чен Фун","hvJgkmHl",233,null,null,"Загрузить",0,3,16,11,1.07,7.8,5.5,1.26,8.1999999999999993,5.5,-0.18999999999999995]
["РУМЫНИЯ: Лига 1 - Женщины - Группа вылета","2022.03.27 10:00","Тыргу Муреш (Ж)","Банат (Ж)","dhVx1jGh",157,null,null,"Загрузить",2,2,2.4300000000000002,4.04,2.33,2.12,4.2,2.5499999999999998,0.31000000000000005,-0.16000000000000014,-0.21999999999999975]
["ЮЖНАЯ КОРЕЯ: К-Лига 2","2022.03.27 10:00","Пусан Ай Парк","Gimpo FC","8fuILEen",106,null,null,"Загрузить",2,0,2.4500000000000002,3.01,3.09,2.3199999999999998,3.15,3.4,0.13000000000000034,-0.14000000000000012,-0.31000000000000005]
["АВСТРАЛИЯ: НПЛ Новый Южный Уэльс","2022.03.27 10:30","ФК Сидней U21","Мэнли Юнайтед","8IqjgyWr",24,null,null,"Загрузить",2,2,2.4500000000000002,3.68,2.64,2.34,3.4,2.65,0.11000000000000032,0.28000000000000025,-9.9999999999997868E-3]
["АВСТРАЛИЯ: НПЛ Квинсленд","2022.03.27 10:30","Брисбен U21","Олимпик ФК","8On0iiSL",24,null,null,"Загрузить",0,5,4.54,4.46,1.64,2.79,3.7,2.16,1.75,0.75999999999999979,-0.52000000000000024]
["АВСТРАЛИЯ: НПЛ Квинсленд","2022.03.27 11:00","Саншайн-Кост Уондерерз","Логан Лайтнинг","nFo4jBsS",24,null,null,"Загрузить",3,0,1.71,4.3600000000000003,4.12,1.89,4,3.22,-0.17999999999999994,0.36000000000000032,0.89999999999999991]
["МИР: Международные товарищеские матчи","2022.03.27 11:00","Хорватия U18","Латвия U18","UZSOTwQa",8,null,null,"Загрузить",2,3,null,null,null,null,null,null,"","",""]
["РУМЫНИЯ: Лига 1 - Женщины - Чемпионшип - плей-офф","2022.03.27 11:00","Вашаш Од (Ж)","Университатя Александрия (Ж)","hG85OcRM",157,null,null,"Загрузить",1,3,5.35,6,1.34,3.04,5,1.75,2.3099999999999996,1,-0.40999999999999992]
["ТУРЦИЯ: Суперлига - Женщина","2022.03.27 11:00","Сивасспор (Ж)","Конак Беледиеси (Ж)","0Ayjlye0",191,null,null,"Загрузить",0,2,7.2,5.7,1.27,9.3000000000000007,6,1.21,-2.1000000000000005,-0.29999999999999982,6.0000000000000053E-2]
["ЧЕХИЯ: Оломоуцкий край","2022.03.27 11:00","Сокол Усти","Доляны","jPBpDZD4",62,null,null,"Загрузить",5,0,1.1299999999999999,8.4,10,1.1299999999999999,8.5,10,0,-9.9999999999999645E-2,0]
["ЮЖНАЯ АФРИКА: Кубок Вызова Диски","2022.03.27 11:00","Роял АМ U23","ТС Гэлакси U23","8z9vR6vm",175,null,null,"Загрузить",1,1,2.23,3.4,2.8,2.2200000000000002,3.4,2.81,9.9999999999997868E-3,0,-1.0000000000000231E-2]
["ЮЖНАЯ АФРИКА: Кубок Вызова Диски","2022.03.27 11:00","Сехухуне U23","Амазулу U23","QB3qQQgg",175,null,null,"Загрузить",2,2,null,null,null,null,null,null,"","",""]
["АВСТРАЛИЯ: Лига А","2022.03.27 11:05","Мельбурн Виктори","ВС Уондерерс","ClXzMwgi",24,null,null,"Загрузить",1,1,1.89,3.85,4.1399999999999997,1.72,3.8,4.46,0.16999999999999993,5.0000000000000266E-2,-0.32000000000000028]
["ЧЕХИЯ: ЧФЛ - Группа A","2022.03.27 11:15","Славия Прага (Б)","Домазлице","nZDoORH3",62,null,null,"Загрузить",1,1,2.0299999999999998,4.0999999999999996,2.92,2.09,3.6,2.99,-6.0000000000000053E-2,0.49999999999999956,-7.0000000000000284E-2]
["ЧЕХИЯ: ЧФЛ - Группа B","2022.03.27 11:15","Богемианс 1905 (Б)","Либерец (Б)","CGBTu61d",62,null,null,"Загрузить",1,0,2.29,3.6,2.68,1.97,5,2.54,0.32000000000000006,-1.4,0.14000000000000012]
["ЧЕХИЯ: ЧФЛ - Группа B","2022.03.27 11:15","Дукла Прага (Б)","Пршеперже","0xhO1mOF",62,null,null,"Загрузить",1,0,2.4500000000000002,3.78,2.4,2.5499999999999998,4.74,1.97,-9.9999999999999645E-2,-0.96000000000000041,0.42999999999999994]
["ЧЕХИЯ: ЧФЛ - Группа B","2022.03.27 11:15","Млада-Болеслав (Б)","Усти-над-Орлици","YPCPtnnj",62,null,null,"Загрузить",0,0,1.56,4.24,4.9400000000000004,1.34,5.6,5.9,0.21999999999999997,-1.3599999999999994,-0.96]
["ЧЕХИЯ: Моравскосилезская футбольная лига","2022.03.27 11:15","Бланско","Зноймо","KEpBnHCs",62,null,null,"Загрузить",0,4,1.85,3.96,3.48,1.42,4.9000000000000004,5.5,0.43000000000000016,-0.94000000000000039,-2.02]
["ЧЕХИЯ: Моравскосилезская футбольная лига","2022.03.27 11:15","Велке Мезиржичи","Острава (Б)","GtvKpesf",62,null,null,"Загрузить",2,4,3.74,4.04,1.77,3.52,3.9,1.82,0.2200000000000002,0.14000000000000012,-5.0000000000000044E-2]
["ЧЕХИЯ: Моравскосилезская футбольная лига","2022.03.27 11:15","Сигма Оломоуц (Б)","Угерски-Брод","Wl0ygJZD",62,null,null,"Загрузить",2,1,1.22,6.05,10.5,1.1499999999999999,7.8,10.5,7.0000000000000062E-2,-1.75,0]
["ЧЕХИЯ: Моравскосилезская футбольная лига","2022.03.27 11:15","Уников","Росице","I5bqic4Q",62,null,null,"Загрузить",2,0,1.74,3.8,4.0999999999999996,1.77,3.9,3.72,-3.0000000000000027E-2,-0.10000000000000009,0.37999999999999945]
["ЧЕХИЯ: Дивизион D","2022.03.27 11:15","Велка-Битеш","Гумполец","tG7CuIIt",62,null,null,"Загрузить",0,1,1.74,4.2,3.46,1.75,4.2,3.44,-1.0000000000000009E-2,0,2.0000000000000018E-2]
["ЧЕХИЯ: Дивизион F","2022.03.27 11:15","Карвина (Б)","Фридлант-над-Остравици","lfxPpayH",62,null,null,"Загрузить",2,0,1.56,5.05,2.8,2.67,4.32,2.02,-1.1099999999999999,0.72999999999999954,0.7799999999999998]
["ЧЕХИЯ: Край Высочина","2022.03.27 11:15","Пельгржимов","Бедржихов","KCPzDONN",62,null,null,"Загрузить",4,0,null,null,null,null,null,null,"","",""]
["СЛОВАКИЯ: Первая лига - Женщины - Группа вылета","2022.03.27 11:30","Б. Быстрица (Ж)","Нитра (Ж)","0jLE6A07",171,null,null,"Загрузить",5,2,1.93,4,2.96,2.15,4,2.5,-0.21999999999999997,0,0.45999999999999996]
["ЧЕХИЯ: ЧФЛ - Группа A","2022.03.27 11:30","Плзень (Б)","Адмира Прага","0Q5b2pep",62,null,null,"Загрузить",1,1,2.17,3.64,2.9,1.56,4.3,4.5999999999999996,0.60999999999999988,-0.6599999999999997,-1.6999999999999997]
["ЧЕХИЯ: Устецкий край","2022.03.27 11:30","Кадан","Баник Мост (Б)","b3vNs7Vb",62,null,null,"Загрузить",1,1,null,null,null,null,null,null,"","",""]
["ГЕРМАНИЯ: Оберлига Гамбург - Этап победителей","2022.03.27 11:45","ХЕБК Гамбург","Палома","AaZhpkg5",81,null,null,"Загрузить",1,2,2.94,3.78,2.1,3.05,4,1.93,-0.10999999999999988,-0.2200000000000002,0.17000000000000015]
["ИСПАНИЯ: Терсера - Группа 4","2022.03.27 11:45","Сантутксу","Баскония","tvQsp4Vl",176,null,null,"Загрузить",0,1,4.9400000000000004,3.4,1.71,3.28,3.08,2.21,{"$f":"IF(L130=\"\",\"\",L130-O130)","v":1.6600000000000006},{"$f":"IF(M130=\"\",\"\",M130-P130)","v":0.31999999999999984},{"$f":"IF(N130=\"\",\"\",N130-Q130)","v":-0.5}]
["ВЕНГРИЯ: НБ III - Восток","2022.03.27 12:00","Дебрецен II","Сенио Карнифекс","U1F401U9",91,null,null,"Загрузить",5,1,2.2999999999999998,3.48,2.79,2.38,3.5,2.4500000000000002,-8.0000000000000071E-2,-2.0000000000000018E-2,0.33999999999999986]
["ВЕНГРИЯ: НБ III - Центр","2022.03.27 12:00","Гонвед II","Дунауйварош Пальхальмаи","z5Pl6GGL",91,null,null,"Загрузить",2,3,3.66,3.64,1.87,2.76,3.3,2.27,0.90000000000000036,0.3400000000000003,-0.39999999999999991]
["ВЕНГРИЯ: НБ III - Центр","2022.03.27 12:00","Пакш II","МТК II","v1YH54s8",91,null,null,"Загрузить",3,1,null,null,null,null,null,null,"","",""]
["ВЕНГРИЯ: НБ III - Центр","2022.03.27 12:00","Ференцварош II","Цеглед","UROh5zWR",91,null,null,"Загрузить",1,1,null,null,null,null,null,null,"","",""]
["ВЕНГРИЯ: НБ III - Запад","2022.03.27 12:00","Залаэгерсег II","Гардони Вароши","SvxujCMm",91,null,null,"Загрузить",3,0,1.3,4.34,9.5,1.51,3.74,5.7,-0.20999999999999996,0.59999999999999964,3.8]
["ВЕНГРИЯ: НБ III - Запад","2022.03.27 12:00","МОЛ Фехервар II","Шопрон","YyJHYAiD",91,null,null,"Загрузить",3,2,null,null,null,null,null,null,"","",""]
["ВЕНГРИЯ: НБ III - Запад","2022.03.27 12:00","Пушкаш Академи II","Мошонмадьяровар ТЕ","pGnzih7s",91,null,null,"Загрузить",0,4,null,null,null,null,null,null,"","",""]
["ГЕРМАНИЯ: Оберлига Бремен","2022.03.27 12:00","Геестмюнде","Леер","GdY7LqoM",81,null,null,"Загрузить",2,3,2.48,3.98,2.31,2.02,4.32,2.67,0.45999999999999996,-0.3400000000000003,-0.35999999999999988]
["ГЕРМАНИЯ: Вторая Бундеслига Женщины","2022.03.27 12:00","Вольфсбург II (Ж)","Бавария II (Ж)","lQdwLw70",81,null,null,"Загрузить",null,null,3.4,3.62,1.92,3.42,3.6,1.92,-2.0000000000000018E-2,2.0000000000000018E-2,0]
["ГЕРМАНИЯ: Вторая Бундеслига Женщины","2022.03.27 12:00","Генштедт-Ульцбург (Ж)","Андернах (Ж)","zsakIyiJ",81,null,null,"Загрузить",1,3,5.45,4.7,1.44,5.5,4.7,1.44,-4.9999999999999822E-2,0,0]
["ГЕРМАНИЯ: Вторая Бундеслига Женщины","2022.03.27 12:00","Ингольштадт (Ж)","Эльфсберг (Ж)","2T0sKcM6",81,null,null,"Загрузить",3,5,1.45,4.54,5.85,1.5,4.4000000000000004,5.0999999999999996,-5.0000000000000044E-2,0.13999999999999968,0.75]
["ГЕРМАНИЯ: Вторая Бундеслига Женщины","2022.03.27 12:00","Нюрнберг (Ж)","Боруссия Бохольт (Ж)","dj0oJHyD",81,null,null,"Загрузить",null,null,null,null,null,null,null,null,"","",""]
["ГЕРМАНИЯ: Вторая Бундеслига Женщины","2022.03.27 12:00","РБ Лейпциг (Ж)","Меппен (Ж)","SA8UMaxl",81,null,null,"Загрузить",4,2,3.14,3.74,2.02,3.72,3.8,1.79,-0.58000000000000007,-5.9999999999999609E-2,0.22999999999999998]
["ГЕРМАНИЯ: Вторая Бундеслига Женщины","2022.03.27 12:00","Хоффенхайм II (Ж)","Гутерслох (Ж)","YZgRNuNs",81,null,null,"Загрузить",0,0,4.28,4.04,1.67,3.62,3.8,1.81,0.66000000000000014,0.24000000000000021,-0.14000000000000012]
["ЕВРОПА: Женский чемпионат Европы до 17 лет - Квалификация - Round 2 - League A","2022.03.27 12:00","Франция U17 (Ж)","Хорватия U17 (Ж)","zqWTFw9n",6,null,null,"Загрузить",5,0,null,null,null,null,null,null,"","",""]
["ИСПАНИЯ: Сегунда (Ж)","2022.03.27 12:00","Атлетико (Б) (Ж)","Эспаньол (Ж)","fJ9zkCT3",176,null,null,"Загрузить",0,0,4.9400000000000004,4.18,1.56,4.82,4,1.55,0.12000000000000011,0.17999999999999972,1.0000000000000009E-2]
["МАКАО: Элитная Лига","2022.03.27 12:00","CFB Macau","Бенфика","n1Icl7Wf",233,null,null,"Загрузить",1,1,null,null,null,null,null,null,"","",""]
["РУМЫНИЯ: Лига 1 - Женщины - Группа вылета","2022.03.27 12:00","Тырговиште (Ж)","Университатя Галац (Ж)","zqUt0AVb",157,null,null,"Загрузить",2,0,4.8600000000000003,4.78,1.5,2.6,4,2.12,2.2600000000000002,0.78000000000000025,-0.62000000000000011]
["РУМЫНИЯ: Лига 1 - Женщины - Чемпионшип - плей-офф","2022.03.27 12:00","Олимпия Клуж-Напока (Ж)","Фэирплэй Бухарест (Ж)","bg91PwCG",157,null,null,"Загрузить",11,0,null,null,null,null,null,null,"","",""]
["СЛОВАКИЯ: Вторая лига","2022.03.27 12:00","Рогожник","Петржалка","Ymyc0hIB",171,null,null,"Загрузить",1,1,3.36,3.2,2.12,3.19,3.34,2.1,0.16999999999999993,-0.13999999999999968,2.0000000000000018E-2]
["ТУРЦИЯ: Суперлига - Женщина","2022.03.27 12:00","1207 Antalyaspor (Ж)","Алтай (Ж)","0Yq3eORn",191,null,null,"Загрузить",6,0,1.1399999999999999,6.75,15,1.08,10,23,5.9999999999999831E-2,-3.25,-8]
["ТУРЦИЯ: Суперлига - Женщина","2022.03.27 12:00","Kirecburnu (Ж)","Бешикташ (Ж)","Wbuad4Ct",191,null,null,"Загрузить",6,0,null,null,null,null,null,null,"","",""]
["ТУРЦИЯ: Суперлига - Женщина","2022.03.27 12:00","Галатасарай (Ж)","Adana Idmanyurduspor (Ж)","rZtokHuf",191,null,null,"Загрузить",1,1,1.71,3.2,3.86,2.12,3.6,2.85,-0.41000000000000014,-0.39999999999999991,1.0099999999999998]
["ТУРЦИЯ: Суперлига - Женщина","2022.03.27 12:00","Кайсери (Ж)","ALG Spor (Ж)","pxtAgWWu",191,null,null,"Загрузить",0,4,null,null,null,null,null,null,"","",""]
["ТУРЦИЯ: Суперлига - Женщина","2022.03.27 12:00","Карагюмрюк (Ж)","Hakkarigucu Spor (Ж)","YNZcnFPC",191,null,null,"Загрузить",2,0,2.64,3.6,2.2400000000000002,2.95,3.64,2.14,-0.31000000000000005,-4.0000000000000036E-2,0.10000000000000009]
["ТУРЦИЯ: Суперлига - Женщина","2022.03.27 12:00","Ризеспор (Ж)","Илькадим (Ж)","pbw2oZvJ",191,null,null,"Загрузить",3,0,1.1499999999999999,8,11,1.1399999999999999,8,11.5,1.0000000000000009E-2,0,-0.5]
["ТУРЦИЯ: Суперлига - Женщина","2022.03.27 12:00","Фенербахче (Ж)","Fatih Vatan Spor (Ж)","vPr7frsg",191,null,null,"Загрузить",2,1,1.26,5.15,9.3000000000000007,1.51,4.32,4.66,-0.25,0.83000000000000007,4.6400000000000006]
["ТУРЦИЯ: Суперлига - Женщина","2022.03.27 12:00","Хатайспор (Ж)","Аташехир Беледийеспор (Ж)","SpFlx1RO",191,null,null,"Загрузить",3,0,7.8,4.8,1.32,9.3000000000000007,7,1.18,-1.5000000000000009,-2.2000000000000002,0.14000000000000012]
["ХОРВАТИЯ: 3. ХНЛ - Центр","2022.03.27 12:00","Гай Маче","Сегеста","fuZjMhGr",59,null,null,"Загрузить",2,1,1.44,4.4000000000000004,6.25,1.41,4.74,5.4,3.0000000000000027E-2,-0.33999999999999986,0.84999999999999964]
["ЧЕХИЯ: ЧФЛ - Группа B","2022.03.27 12:00","Теплице (Б)","Хлумец-над-Цидлиноу","SOgG39g3",62,null,null,"Загрузить",4,0,2.08,3.78,2.98,1.69,5,3.32,0.39000000000000012,-1.2200000000000002,-0.33999999999999986]
["ИСПАНИЯ: Терсера - Группа 6","2022.03.27 12:30","Рекамбьос Колон","Эркулес (Б)","EDH4Qv33",176,null,null,"Загрузить",1,2,2.88,2.66,2.74,3.07,2.8,2.4,-0.18999999999999995,-0.13999999999999968,0.3400000000000003]
["ИСПАНИЯ: Терсера - Группа 7","2022.03.27 12:30","Колония","Лас-Росас","8xC8gynI",176,null,null,"Загрузить",1,2,11,5.9,1.22,10,6.5,1.18,1,-0.59999999999999964,4.0000000000000036E-2]
["ИСПАНИЯ: Терсера - Группа 13","2022.03.27 12:30","Ла Унион","Архена","Cn49oaqR",176,null,null,"Загрузить",0,0,1.59,3.8,5.25,1.45,4.2,5.7,0.14000000000000012,-0.40000000000000036,-0.45000000000000018]
["ИСПАНИЯ: Терсера - Группа 17","2022.03.27 12:30","Сарагоса (Б)","Робрес","zLH7FXoT",176,null,null,"Загрузить",2,1,1.63,3.4,5.75,1.64,3.6,5.15,-1.0000000000000009E-2,-0.20000000000000018,0.59999999999999964]
["ИСПАНИЯ: Терсера - Группа 18","2022.03.27 12:30","Ийескас","Уракан де Баласоте","4vlKvj3c",176,null,null,"Загрузить",2,0,1.59,3.8,5.3,1.51,3.74,5.7,8.0000000000000071E-2,5.9999999999999609E-2,-0.40000000000000036]
["ИСПАНИЯ: Терсера - Группа 2","2022.03.27 12:45","Правиано","Лангрео (Б)","MqWfsKa1",176,null,null,"Загрузить",1,0,1.36,4.72,7.4,1.3,5,7.7,6.0000000000000053E-2,-0.28000000000000025,-0.29999999999999982]
["ГЕРМАНИЯ: Младшая северная Бундеслига","2022.03.27 13:00","ФК Хемницер U19","Виктория Берлин U19","bsmIny3B",81,null,null,"Загрузить",0,3,2.46,3.5,2.46,2.4500000000000002,3.8,2.34,9.9999999999997868E-3,-0.29999999999999982,0.12000000000000011]
["ЕВРОПА: Чемпионат Европы до 17 лет - Квалификация - Второй этап","2022.03.27 13:00","Греция U17","Венгрия U17","UZWcW86f",6,null,null,"Загрузить",1,1,null,null,null,null,null,null,"","",""]
["ИСПАНИЯ: Примера РФЕФ - Группа 1","2022.03.27 13:00","Атлетик (Б)","Туделано","CElGgeaN",176,null,null,"Загрузить",1,0,1.88,3.4,4,1.82,3.2,4.0999999999999996,5.9999999999999831E-2,0.19999999999999973,-9.9999999999999645E-2]
["ИСПАНИЯ: Примера РФЕФ - Группа 1","2022.03.27 13:00","Расинг","СД Логроньес","UkaBfypH",176,null,null,"Загрузить",1,0,1.44,4.08,7.4,1.51,3.6,6.25,-7.0000000000000062E-2,0.48,1.1500000000000004]
["ИСПАНИЯ: Примера РФЕФ - Группа 1","2022.03.27 13:00","Сельта (Б)","Депортиво","MPe3dcF4",176,null,null,"Загрузить",2,1,2.98,3.19,2.35,2.4,3,2.75,0.58000000000000007,0.18999999999999995,-0.39999999999999991]
["ИСПАНИЯ: Примера РФЕФ - Группа 2","2022.03.27 13:00","Корнелья","Коста-Брава","js58Mtjj",176,null,null,"Загрузить",2,0,1.89,3.26,4.16,2.02,3.24,3.36,-0.13000000000000012,1.9999999999999574E-2,0.80000000000000027]
["ИСПАНИЯ: Примера РФЕФ - Группа 2","2022.03.27 13:00","Севилья (Б)","Балеарес","nTlBt2sM",176,null,null,"Загрузить",1,1,2.98,3.13,2.39,3.3,3.3,2.02,-0.31999999999999984,-0.16999999999999993,0.37000000000000011]
["ИСПАНИЯ: Сегунда РФЕФ - Группа 1","2022.03.27 13:00","Мостолес","Гимнастика Сеговиана","QekfFThi",176,null,null,"Загрузить",0,3,2.23,2.98,3.42,1.93,3.2,3.68,0.30000000000000004,-0.2200000000000002,-0.26000000000000023]
["ИСПАНИЯ: Сегунда РФЕФ - Группа 1","2022.03.27 13:00","Унион Сеарес","Реал Авилес","fysBBohG",176,null,null,"Загрузить",1,0,5.9,3.64,1.58,4.82,3.74,1.59,1.08,-0.10000000000000009,-1.0000000000000009E-2]
["ИСПАНИЯ: Сегунда РФЕФ Б - Группа 3","2022.03.27 13:00","Бреа","Европа","YwWSublR",176,null,null,"Загрузить",0,0,2,3.2,3.8,2.02,3.1,3.48,-2.0000000000000018E-2,0.10000000000000009,0.31999999999999984]
["ИСПАНИЯ: Сегунда РФЕФ Б - Группа 3","2022.03.27 13:00","Пенья Депортина","Таразона","WSQ2ZeRf",176,null,null,"Загрузить",3,1,1.75,3.44,4.68,1.85,3.3,3.86,-0.10000000000000009,0.14000000000000012,0.81999999999999984]
["ИСПАНИЯ: Сегунда РФЕФ Б - Группа 3","2022.03.27 13:00","Уэска (Б)","Андрач","jJIfyIdr",176,null,null,"Загрузить",0,0,2.13,3.16,3.44,2.3199999999999998,3.2,2.81,-0.18999999999999995,-4.0000000000000036E-2,0.62999999999999989]
["ИСПАНИЯ: Сегунда РФЕФ Б - Группа 3","2022.03.27 13:00","Эхеа","Ибица Ислас Питиусас","l4ybzxCl",176,null,null,"Загрузить",2,2,3.94,3.15,1.98,3.32,3,2.12,0.62000000000000011,0.14999999999999991,-0.14000000000000012]
["ИСПАНИЯ: Сегунда РФЕФ Б - Группа 4","2022.03.27 13:00","Антекера","Вильяновенсе","8xdsNVVf",176,null,null,"Загрузить",0,1,2.65,2.81,2.9,2.5,3,2.63,0.14999999999999991,-0.18999999999999995,0.27]
["ИСПАНИЯ: Сегунда РФЕФ Б - Группа 4","2022.03.27 13:00","Дон Бенито","Сеута","A1xxqDhE",176,null,null,"Загрузить",0,2,2.84,2.83,2.67,2.63,3,2.5,0.20999999999999996,-0.16999999999999993,0.16999999999999993]
["ИСПАНИЯ: Сегунда РФЕФ Б - Группа 4","2022.03.27 13:00","Кадис (Б)","Херес Депортиво","WGQpsiNQ",176,null,null,"Загрузить",0,0,2.76,2.92,2.66,2.4,3.2,2.63,0.35999999999999988,-0.28000000000000025,3.0000000000000249E-2]
["ИСПАНИЯ: Сегунда РФЕФ Б - Группа 4","2022.03.27 13:00","Монтижу","Кордоба","zPcZOi1r",176,null,null,"Загрузить",1,1,3.96,3.42,1.88,4.08,3.5,1.75,-0.12000000000000011,-8.0000000000000071E-2,0.12999999999999989]
["ИСПАНИЯ: Сегунда РФЕФ Б - Группа 5","2022.03.27 13:00","Манча","Пульпиленьо","MJd7qwNb",176,null,null,"Загрузить",1,1,2.39,2.99,3.11,2.3199999999999998,3,2.97,7.0000000000000284E-2,-9.9999999999997868E-3,0.13999999999999968]
["ИСПАНИЯ: Сегунда РФЕФ Б - Группа 5","2022.03.27 13:00","Мелилла","Эхидо","rZpGsHiB",176,null,null,"Загрузить",2,0,2.6,2.86,2.89,2.4,3,2.75,0.20000000000000018,-0.14000000000000012,0.14000000000000012]
["ИСПАНИЯ: Терсера - Группа 2","2022.03.27 13:00","Спортинг (Б)","Сан-Мартин","UaWl31MK",176,null,null,"Загрузить",2,0,1.45,4.0999999999999996,6.7,1.75,3.4,4.28,-0.30000000000000004,0.69999999999999973,2.42]
["ИСПАНИЯ: Терсера - Группа 4","2022.03.27 13:00","Алавес (Б)","Португалете","p8vCkQ7R",176,null,null,"Загрузить",0,0,2.1800000000000002,3.19,3.22,2.02,3,3.42,0.16000000000000014,0.18999999999999995,-0.19999999999999973]
["ИСПАНИЯ: Терсера - Группа 5","2022.03.27 13:00","Вильяфранка","Гинеуэта","tYt7OoXG",176,null,null,"Загрузить",2,2,1.5,3.88,6.4,1.51,3.74,5.7,-1.0000000000000009E-2,0.13999999999999968,0.70000000000000018]
["ИСПАНИЯ: Терсера - Группа 5","2022.03.27 13:00","Кастельдефельс","Гранольерс","zetBN5nN",176,null,null,"Загрузить",3,0,1.97,3.3,3.66,2.17,3.1,3.17,-0.19999999999999996,0.19999999999999973,0.49000000000000021]
["ИСПАНИЯ: Терсера - Группа 6","2022.03.27 13:00","Адзанета","Кальоса","zil0FEf2",176,null,null,"Загрузить",3,0,1.27,5,10.5,1.34,4,9,-7.0000000000000062E-2,1,1.5]
["ИСПАНИЯ: Терсера - Группа 7","2022.03.27 13:00","Алкала Херанес","СДЕ Мадрид","GO6lbaXn",176,null,null,"Загрузить",0,4,1.91,3.08,4.3,2.1,3,3.54,-0.19000000000000017,8.0000000000000071E-2,0.75999999999999979]
["ИСПАНИЯ: Терсера - Группа 7","2022.03.27 13:00","Атлетико (Б)","Торрехон","QD6Dhe1O",176,null,null,"Загрузить",1,0,1.36,4.5199999999999996,8,1.34,4.32,7.8,2.0000000000000018E-2,0.19999999999999929,0.20000000000000018]
["ИСПАНИЯ: Терсера - Группа 7","2022.03.27 13:00","Вильявисьоса","Тривал Вальдерас","8K0YiOAD",176,null,null,"Загрузить",0,1,3.2,3.14,2.2200000000000002,2.94,3,2.3199999999999998,0.26000000000000023,0.14000000000000012,-9.9999999999999645E-2]
["ИСПАНИЯ: Терсера - Группа 7","2022.03.27 13:00","Карабанчель","Алькоркон (Б)","UoD4fHWB",176,null,null,"Загрузить",0,3,2.88,3.09,2.4500000000000002,3.36,3.24,2.02,{"$f":"IF(L194=\"\",\"\",L194-O194)","v":-0.48},{"$f":"IF(M194=\"\",\"\",M194-P194)","v":-0.15000000000000036},{"$f":"IF(N194=\"\",\"\",N194-Q194)","v":0.43000000000000016}]
["ИСПАНИЯ: Терсера - Группа 7","2022.03.27 13:00","Посуэло-де-Аларкон","Хетафе (Б)","fF5hcJng",176,null,null,"Загрузить",0,0,2.5299999999999998,3.03,2.83,2.63,3,2.5,-0.10000000000000009,2.9999999999999805E-2,0.33000000000000007]
["ИСПАНИЯ: Терсера - Группа 8","2022.03.27 13:00","Леонеса (Б)","Санта-Марта-де-Тормес","IozRj7Go",176,null,null,"Загрузить",1,1,1.64,3.78,4.84,1.37,4.2,7.3,0.2699999999999998,-0.42000000000000037,-2.46]
["ИСПАНИЯ: Терсера - Группа 9","2022.03.27 13:00","Малага (Б)","Уэтор Вега","0xneR2jH",176,null,null,"Загрузить",1,1,1.33,4.66,8.8000000000000007,1.45,4.2,5.7,-0.11999999999999988,0.45999999999999996,3.1000000000000005]
["ИСПАНИЯ: Терсера - Группа 9","2022.03.27 13:00","Сан-Педро","Пало","IDdjSryB",176,null,null,"Загрузить",4,0,4.26,2.9,1.96,4.82,3.7,1.63,-0.5600000000000005,-0.80000000000000027,0.33000000000000007]
["ИСПАНИЯ: Терсера - Группа 10","2022.03.27 13:00","Рота","Херена","th31CIom",176,null,null,"Загрузить",0,1,4.28,3.34,1.82,3.17,3.1,2.17,1.1100000000000003,0.23999999999999977,-0.34999999999999987]
["ИСПАНИЯ: Терсера - Группа 10","2022.03.27 13:00","Сьюдад де Лусена","Севилья C","SlacDbWt",176,null,null,"Загрузить",1,2,1.6,3.4,5.8,1.6,3.4,5.8,0,0,0]
["ИСПАНИЯ: Терсера - Группа 10","2022.03.27 13:00","Томарес УД","Пособланко","WQ7jfyWI",176,null,null,"Загрузить",3,2,2.65,2.78,2.77,2.65,2.8,2.75,0,-2.0000000000000018E-2,2.0000000000000018E-2]
["ИСПАНИЯ: Терсера - Группа 10","2022.03.27 13:00","Утрера","Лос-Барриос","WIDRIK8J",176,null,null,"Загрузить",1,0,1.21,5,15,1.21,5,15,0,0,0]
["ИСПАНИЯ: Терсера - Группа 13","2022.03.27 13:00","Еклано","Каравака","xUBdl1a8",176,null,null,"Загрузить",1,0,1.1399999999999999,6.9,17,1.26,5,9.4,-0.12000000000000011,1.9000000000000004,7.6]
["ИСПАНИЯ: Терсера - Группа 13","2022.03.27 13:00","Картахена (Б)","Уэркаль-Овера","Ye55nuUK",176,null,null,"Загрузить",5,0,1.19,5.95,13.5,1.18,6.5,10,1.0000000000000009E-2,-0.54999999999999982,3.5]
["ИСПАНИЯ: Терсера - Группа 14","2022.03.27 13:00","Каламонте","Виллафранка","UyjL27Fl",176,null,null,"Загрузить",2,1,2.2400000000000002,2.75,3.56,2.2400000000000002,2.75,3.56,0,0,0]
["ИСПАНИЯ: Терсера - Группа 14","2022.03.27 13:00","Пласенсия","Диосесаньос","zyYnLFVF",176,null,null,"Загрузить",0,4,2.77,2.77,2.66,5.35,3.1,1.72,-2.5799999999999996,-0.33000000000000007,0.94000000000000017]
["ИСПАНИЯ: Терсера - Группа 14","2022.03.27 13:00","Трухильо","Йерененсе","joiH3m0r",176,null,null,"Загрузить",3,3,3.18,3.28,2.17,1.93,3.3,3.56,1.2500000000000002,-2.0000000000000018E-2,-1.3900000000000001]
["ИСПАНИЯ: Терсера - Группа 15","2022.03.27 13:00","Субиса","Гарес","KC9XIYNH",176,null,null,"Загрузить",4,0,1.02,14,39,1.1299999999999999,7.5,12.5,-0.10999999999999988,6.5,26.5]
["ИСПАНИЯ: Терсера - Группа 16","2022.03.27 13:00","Ягюе","Харо Депортиво","AuXSpVjL",176,null,null,"Загрузить",1,0,3.03,3.22,2.2799999999999998,2.93,3.24,2.2200000000000002,9.9999999999999645E-2,-2.0000000000000018E-2,5.9999999999999609E-2]
["ИСПАНИЯ: Терсера - Группа 17","2022.03.27 13:00","Куарте","Бельчите 97","638wAB9j",176,null,null,"Загрузить",0,1,1.66,3.54,5.0999999999999996,1.62,3.5,5.05,3.9999999999999813E-2,4.0000000000000036E-2,4.9999999999999822E-2]
["ИСПАНИЯ: Терсера - Группа 17","2022.03.27 13:00","Хинер Торреро","Барбастро","GYkUWYG3",176,null,null,"Загрузить",0,5,7.4,3.6,1.47,7.4,3.6,1.47,0,0,0]
["ИСПАНИЯ: Терсера - Группа 18","2022.03.27 13:00","Альманса","Огар Алкаррено","SbA2M8mT",176,null,null,"Загрузить",3,2,1.23,5.65,11,1.37,4.2,7.3,-0.14000000000000012,1.4500000000000002,3.7]
["ИСПАНИЯ: Терсера - Группа 18","2022.03.27 13:00","Гвадалахара","Асукека","06sTxUX9",176,null,null,"Загрузить",2,0,1.47,3.7,7.1,1.62,3.5,5.3,-0.15000000000000013,0.20000000000000018,1.7999999999999998]
["ИСПАНИЯ: Терсера - Группа 18","2022.03.27 13:00","Сьюдад Реал","Вильярробледо","CWoZGnBj",176,null,null,"Загрузить",3,0,2.79,3.04,2.5,2.5,3.2,2.5,0.29000000000000004,-0.16000000000000014,0]
["ИСПАНИЯ: Примера - Женщины","2022.03.27 13:00","Уэльва (Ж)","Реал Сосьедад (Ж)","fLUTWaeK",176,null,null,"Загрузить",1,2,4.4400000000000004,3.76,1.7,3.88,4.2,1.72,0.5600000000000005,-0.44000000000000039,-2.0000000000000018E-2]
["ИСПАНИЯ: Сегунда (Ж)","2022.03.27 13:00","Какерено (Ж)","Бетис (Б) (Ж)","CtwZiOxF",176,null,null,"Загрузить",2,1,null,null,null,null,null,null,"","",""]
["ИСПАНИЯ: Сегунда (Ж)","2022.03.27 13:00","Ла Солана (Ж)","Тенерифе (Б) (Ж)","AHI9oMFr",176,null,null,"Загрузить",0,1,null,null,null,null,null,null,"","",""]
["ИСПАНИЯ: Сегунда (Ж)","2022.03.27 13:00","Лас-Планас (Ж)","Депортиво (Ж)","Ob1ioUSS",176,null,null,"Загрузить",0,3,null,null,null,null,null,null,"","",""]
["ИСПАНИЯ: Сегунда (Ж)","2022.03.27 13:00","Сигулл (Ж)","Сарагоса (Ж)","0dAWkhEc",176,null,null,"Загрузить",1,4,5.95,4.18,1.48,5.7,4.2,1.45,0.25,-2.0000000000000462E-2,3.0000000000000027E-2]
["ИСПАНИЯ: Сегунда (Ж)","2022.03.27 13:00","Спортинг (Ж)","Осасуна (Ж)","Uy2mnADM",176,null,null,"Загрузить",1,2,null,null,null,null,null,null,"","",""]
["ИСПАНИЯ: Сегунда (Ж)","2022.03.27 13:00","Хуан Гранде (Ж)","Эльче (Ж)","4GZQgp82",176,null,null,"Загрузить",2,0,null,null,null,null,null,null,"","",""]
["МИР: Международные товарищеские матчи","2022.03.27 13:00","Замбия","Бенин","SbCcmjFL",8,null,null,"Загрузить",1,2,null,null,null,null,null,null,"","",""]
["МИР: Международные товарищеские матчи","2022.03.27 13:00","Чонбури","Непал","4bUDIvAU",8,null,null,"Загрузить",3,1,null,null,null,null,null,null,"","",""]
["ПОЛЬША: Дивизион 3 - группа 1","2022.03.27 13:00","Пеликан","Знич Бяла-Писка","dSoIQpKQ",154,null,null,"Загрузить",8,0,1.84,3.88,3.6,2.12,3.5,2.99,-0.28000000000000003,0.37999999999999989,0.60999999999999988]
["ПОРТУГАЛИЯ: Лига BPI - Женщины - Группа вылета","2022.03.27 13:00","Атлетику (Ж)","Амора (Ж)","fiDBu9jo",155,null,null,"Загрузить",null,null,38,12,1.02,8.5,6.2,1.26,29.5,5.8,-0.24]
["ПОРТУГАЛИЯ: Лига BPI - Женщины - Чемпионшип - плей-офф","2022.03.27 13:00","Маритиму (Ж)","Фамаликан (Ж)","xE9ZGyCb",155,null,null,"Загрузить",2,1,6.65,5.2,1.35,5.6,4.3,1.51,1.0500000000000007,0.90000000000000036,-0.15999999999999992]
["ТУРЦИЯ: Суперлига - Женщина","2022.03.27 13:00","Dudullu (Ж)","Трабзонспор (Ж)","v1zfmeA6",191,null,null,"Загрузить",1,1,10.5,7.9,1.18,9.3000000000000007,7,1.18,1.1999999999999993,0.90000000000000036,0]
["ТУРЦИЯ: Суперлига - Женщина","2022.03.27 13:00","Fomget GSK (Ж)","Amed SK (Ж)","UkgX0p4P",191,null,null,"Загрузить",1,0,1.06,15,25,1.1000000000000001,9,14.5,-4.0000000000000036E-2,6,10.5]
["ФИНЛЯНДИЯ: Женская лига","2022.03.27 13:00","ПК-35 Вантаа (Ж)","ОНС Оулу (Ж)","z1cosxBT",76,null,null,"Загрузить",2,1,1.1399999999999999,7.7,13.5,1.1000000000000001,8,17,3.9999999999999813E-2,-0.29999999999999982,-3.5]
["ХОРВАТИЯ: First League Women","2022.03.27 13:00","Неретва (Ж)","Осиек (Ж)","Q5CWGRyB",59,null,null,"Загрузить",2,1,null,null,null,null,null,null,"","",""]
["ЮЖНАЯ АФРИКА: Кубок Вызова Диски","2022.03.27 13:00","Мамелоди Сандаунс U23","Кайзер Чифс U23","422mPp9a",175,null,null,"Загрузить",3,4,2.09,3.7,3.02,2.02,3.6,3.06,6.999999999999984E-2,0.10000000000000009,-4.0000000000000036E-2]
["ИСПАНИЯ: Сегунда (Ж)","2022.03.27 13:15","Расинг (Ж)","Паркесоль (Ж)","ng6SjYbi",176,null,null,"Загрузить",2,3,null,null,null,null,null,null,"","",""]
["НИДЕРЛАНДЫ: Высшая лига - Женщины","2022.03.27 13:15","Аякс (Ж)","ПСВ (Ж)","SQYrFsZN",139,null,null,"Загрузить",0,0,1.39,4.8600000000000003,6.3,1.59,3.8,4.46,-0.20000000000000018,1.0600000000000005,1.8399999999999999]
["ИСПАНИЯ: Терсера - Группа 5","2022.03.27 13:30","Жирона (Б)","Сан-Кристобаль","6FlfRmmb",176,null,null,"Загрузить",0,0,2.5,2.96,2.92,2.37,2.7,3.34,0.12999999999999989,0.25999999999999979,-0.41999999999999993]
["ИСПАНИЯ: Терсера - Группа 13","2022.03.27 13:30","Реал Мурсия (Б)","Картахена","QgppucMf",176,null,null,"Загрузить",2,2,2.0499999999999998,3.12,3.66,2.2200000000000002,3.24,2.93,-0.17000000000000037,-0.12000000000000011,0.73]
["ИСПАНИЯ: Сегунда (Ж)","2022.03.27 13:30","Барселона (Б) (Ж)","Real Oviedo (Ж)","Y98vlWrA",176,null,null,"Загрузить",2,3,null,null,null,null,null,null,"","",""]
["ИТАЛИЯ: Серия A - Женщины","2022.03.27 13:30","Милан (Ж)","Фиорентина (Ж)","b9uP5M3F",98,null,null,"Загрузить",2,0,1.53,4.24,5.15,1.6,4.2,4.74,-7.0000000000000062E-2,4.0000000000000036E-2,0.41000000000000014]
["ИТАЛИЯ: Серия В - Женщины","2022.03.27 13:30","Палермо (Ж)","Читтаделла (Ж)","Eupacbsc",98,null,null,"Загрузить",0,2,null,null,null,null,null,null,"","",""]
["ИТАЛИЯ: Серия В - Женщины","2022.03.27 13:30","Торрес (Ж)","Чезена (Ж)","2iwEZfkj",98,null,null,"Загрузить",0,2,null,null,null,null,null,null,"","",""]
["ГРЕЦИЯ: Суперлига 2","2022.03.27 13:45","Иродотос","Родос","GUBEzDRB",83,null,null,"Загрузить",0,0,1.5,3.56,7.4,1.87,2.88,5.2,-0.37000000000000011,0.68000000000000016,2.2000000000000002]
["ИСПАНИЯ: Примера РФЕФ - Группа 2","2022.03.27 13:45","Сан Фернандо","Сабадель","h6k7srSF",176,null,null,"Загрузить",0,1,2.38,3.16,2.96,2.02,3.24,3.36,0.35999999999999988,-8.0000000000000071E-2,-0.39999999999999991]
["ИСПАНИЯ: Сегунда РФЕФ Б - Группа 4","2022.03.27 13:45","Менсахеро","Мерида АД","Mu0oMko1",176,null,null,"Загрузить",1,0,3.22,2.76,2.48,2.86,3.2,2.27,0.36000000000000032,-0.44000000000000039,0.20999999999999996]
["АВСТРИЯ: Бундеслига Женщины","2022.03.27 14:00","Аустрия (Ж)","Судбюргенланд (Ж)","Igj9jSlq",25,null,null,"Загрузить",5,2,1.01,29,58,1.0900000000000001,9.1999999999999993,20,-8.0000000000000071E-2,19.8,38]
["АНГЛИЯ: Чемпионшип - Женщины","2022.03.27 14:00","Ливерпуль (Ж)","Дарем (Ж)","tpkVJbKR",198,null,null,"Загрузить",3,0,1.37,4.38,8,1.45,4.5,5.15,-7.9999999999999849E-2,-0.12000000000000011,2.8499999999999996]
["БЕЛАРУСЬ: Высшая лига - Женщины","2022.03.27 14:00","Бобруйчанка (Ж)","Зорка-БДУ (Ж)","jLi5GExg",31,null,null,"Загрузить",0,2,null,null,null,null,null,null,"","",""]
["ГЕРМАНИЯ: Северо-восточная региональная лига","2022.03.27 14:00","Фюрстенвальде","Хальберштадт","hQDR9F7q",81,null,null,"Загрузить",1,2,2.7,3.62,2.4300000000000002,2.42,3.84,2.35,0.28000000000000025,-0.21999999999999975,8.0000000000000071E-2]
["ГЕРМАНИЯ: Женская Бундеслига","2022.03.27 14:00","Занд (Ж)","Вердер (Ж)","44FFESQp",81,null,null,"Загрузить",0,1,1.64,4.18,4.38,1.72,4.2,3.88,-8.0000000000000071E-2,-2.0000000000000462E-2,0.5]
["ГЕРМАНИЯ: Женская Бундеслига","2022.03.27 14:00","Кёльн (Ж)","Байер (Ж)","Iqc2xWIi",81,null,null,"Загрузить",1,1,3.44,3.88,1.9,3.05,4.3,1.95,0.39000000000000012,-0.41999999999999993,-5.0000000000000044E-2]
["ДАНИЯ: Элитный дивизион - Женщины - Чемпионшип - плей-офф","2022.03.27 14:00","КольдингКью (Ж)","Систед (Ж)","GjTw79UP",63,null,null,"Загрузить",1,1,2.1,3.5,3.14,2.35,3.6,2.5,-0.25,-0.10000000000000009,0.64000000000000012]
["ЕВРОПА: Премьер-лига (Крым)","2022.03.27 14:00","Евпатория","Гвардеец","KbWNlL36",6,null,null,"Загрузить",0,0,null,null,null,null,null,null,"","",""]
["ЕВРОПА: Женский чемпионат Европы до 17 лет - Квалификация - Round 2 - League A","2022.03.27 14:00","Швеция U17 (Ж)","Сербия U17 (Ж)","pIBpOtp9",6,null,null,"Загрузить",2,1,null,null,null,null,null,null,"","",""]
["ЕГИПЕТ: Дивизион 2 - Группа A","2022.03.27 14:00","El Badari","Fayoum","lMGwjvzS",69,null,null,"Загрузить",null,null,null,null,null,null,null,null,"","",""]
["ИСПАНИЯ: Сегунда РФЕФ Б - Группа 4","2022.03.27 14:00","Сан Фернандо","Лас-Пальмас (Б)","44kjL907",176,null,null,"Загрузить",3,2,2.88,3.16,2.4300000000000002,2.97,3,2.3199999999999998,-9.0000000000000302E-2,0.16000000000000014,0.11000000000000032]
["ИСПАНИЯ: Сегунда РФЕФ Б - Группа 4","2022.03.27 14:00","Тамарасейте","Панадерия","relfKTFD",176,null,null,"Загрузить",0,3,2.2000000000000002,3.22,3.24,1.82,3.24,4.08,0.38000000000000012,-2.0000000000000018E-2,-0.83999999999999986]
["ИСПАНИЯ: Терсера - Группа 12","2022.03.27 14:00","Гран Тарахаль","Яйса","dOsai6NL",176,null,null,"Загрузить",1,1,2.76,2.78,2.66,2.75,2.8,2.65,9.9999999999997868E-3,-2.0000000000000018E-2,1.0000000000000231E-2]
["ИСПАНИЯ: Терсера - Группа 12","2022.03.27 14:00","Ла-Куадра","Унион Виера","EuOVopoq",176,null,null,"Загрузить",2,2,1.87,3.01,4.46,1.87,3,4.46,0,9.9999999999997868E-3,0]
["ИСПАНИЯ: Терсера - Группа 12","2022.03.27 14:00","Лансароте","Арукас","hWMZp40k",176,null,null,"Загрузить",1,2,3.08,2.58,2.63,3.06,2.6,2.62,2.0000000000000018E-2,-2.0000000000000018E-2,9.9999999999997868E-3]
["ИСПАНИЯ: Терсера - Группа 12","2022.03.27 14:00","Тениска","Лас Зокас","M5RwpOFe",176,null,null,"Загрузить",1,0,1.41,4.12,7.3,1.57,3.6,5.7,{"$f":"IF(L258=\"\",\"\",L258-O258)","v":-0.16000000000000014},{"$f":"IF(M258=\"\",\"\",M258-P258)","v":0.52},{"$f":"IF(N258=\"\",\"\",N258-Q258)","v":1.5999999999999996}]
["ИСПАНИЯ: Примера - Женщины","2022.03.27 14:00","Тенерифе (Ж)","Бетис (Ж)","K2E8PHmf",176,null,null,"Загрузить",0,0,1.6,3.86,5.05,1.57,4.4000000000000004,4.74,3.0000000000000027E-2,-0.54000000000000048,0.30999999999999961]
["ИСПАНИЯ: Сегунда (Ж)","2022.03.27 14:00","Логроньо (Ж)","Атлетик Бильбао (Б) (Ж)","p27Itlyp",176,null,null,"Загрузить",2,1,null,null,null,null,null,null,"","",""]
["ИСПАНИЯ: Сегунда (Ж)","2022.03.27 14:00","Р. Юнион (Ж)","Гранада (Ж)","jXywirhL",176,null,null,"Загрузить",2,1,5.35,3.88,1.57,4.82,3.74,1.59,0.52999999999999936,0.13999999999999968,-2.0000000000000018E-2]
["ЛИТВА: Лига I","2022.03.27 14:00","БФА Вильнюс","Паневежис 2","nyN5IYxA",116,null,null,"Загрузить",2,2,3.62,4.12,1.78,4.5199999999999996,3.9,1.63,-0.89999999999999947,0.2200000000000002,0.15000000000000013]
["МИР: Международные товарищеские матчи","2022.03.27 14:00","Лаос","Бруней","pd8WhtzR",8,null,null,"Загрузить",3,2,1.72,3.6,5.3,1.8,3.7,4.72,-8.0000000000000071E-2,-0.10000000000000009,0.58000000000000007]
["МИР: Клубные товарищеские матчи","2022.03.27 14:00","Истанбулспор","Карагюмрюк","xYJgN2ea",8,null,null,"Загрузить",1,2,null,null,null,null,null,null,"","",""]
["МИР: Клубные товарищеские матчи","2022.03.27 14:00","Лундс","Ариана","f9UlOrtg",8,null,null,"Загрузить",1,0,null,null,null,null,null,null,"","",""]
["МИР: Клубные товарищеские матчи","2022.03.27 14:00","Шахтер Солигорск","Славия Мозырь","t6QpPOQn",8,null,null,"Загрузить",1,1,null,null,null,null,null,null,"","",""]
["НОРВЕГИЯ: Национальный дивизион U19","2022.03.27 14:00","Лиллестрём U19","Волеренга U19","lMAJ0Vzr",145,null,null,"Загрузить",null,null,null,null,null,null,null,null,"","",""]
["ПОЛЬША: Дивизион 3 - группа 4","2022.03.27 14:00","Томашовия","Сокол Сенява","hGY3RGo0",154,null,null,"Загрузить",3,0,2.6,3.4,2.38,2.79,3.4,2.27,-0.18999999999999995,0,0.10999999999999988]
["РОССИЯ: Олимп-ФНЛ 2 - Гр. 1","2022.03.27 14:00","Спартак Нальчик","Машук-КМВ","0fVma88d",158,null,null,"Загрузить",1,3,2.0099999999999998,3.54,3.3,1.88,3.4,3.82,0.12999999999999989,0.14000000000000012,-0.52]
["ТАИЛАНД: Тайская вторая лига","2022.03.27 14:00","Сухотай","Удон Тхани","OU11rnBl",186,null,null,"Загрузить",5,0,1.0900000000000001,8.4,22,1.31,5.2,8.1999999999999993,-0.21999999999999997,3.2,13.8]
["ТАИЛАНД: Тайская вторая лига","2022.03.27 14:00","Хонкаен","Раджпраха","fFBVm8mR",186,null,null,"Загрузить",1,0,2.69,2.74,2.86,2.5,3.1,2.8,0.18999999999999995,-0.35999999999999988,6.0000000000000053E-2]
["ТУРЦИЯ: Третья лига. Группа 1","2022.03.27 14:00","Караман Блд.","Фатса","tMfPi0oa",191,null,null,"Загрузить",1,1,2.69,1.97,3.13,2.52,2.75,2.96,0.16999999999999993,-0.78,0.16999999999999993]
["ТУРЦИЯ: Третья лига. Группа 1","2022.03.27 14:00","Кахта","Бэтмен Петролспор","GQ73zaGO",191,null,null,"Загрузить",0,0,2.94,3.11,2.09,3.9,2.9,1.97,-0.96,0.20999999999999996,0.11999999999999988]
["ТУРЦИЯ: Третья лига. Группа 1","2022.03.27 14:00","Келкит","Бурса","GvmxkbVH",191,null,null,"Загрузить",1,1,2.74,2.91,2.59,2.75,2.8,2.6,-9.9999999999997868E-3,0.11000000000000032,-1.0000000000000231E-2]
["ТУРЦИЯ: Третья лига. Группа 1","2022.03.27 14:00","Невшехирспор","Хендек","KCgTjK05",191,null,null,"Загрузить",0,3,1.65,3.54,5.15,1.77,3.3,4.54,-0.12000000000000011,0.24000000000000021,0.61000000000000032]
["ТУРЦИЯ: Третья лига. Группа 1","2022.03.27 14:00","Османиеспор","Бергама Блд.","4t1oargP",191,null,null,"Загрузить",0,3,2.31,3.04,3.16,2.3199999999999998,2.75,3.36,-9.9999999999997868E-3,0.29000000000000004,-0.19999999999999973]
["ТУРЦИЯ: Третья лига. Группа 1","2022.03.27 14:00","Хопаспор","Мамак","naeLhtWh",191,null,null,"Загрузить",3,0,1.32,4.54,9.1,1.51,3.8,5.7,-0.18999999999999995,0.74000000000000021,3.3999999999999995]
["ТУРЦИЯ: Третья лига. Группа 1","2022.03.27 14:00","Чаталджа","Арнавуткой","xllYkvGB",191,null,null,"Загрузить",2,1,2.97,2.95,2.4700000000000002,2.85,2.9,2.48,0.12000000000000011,5.0000000000000266E-2,-9.9999999999997868E-3]
["ТУРЦИЯ: Третья лига. Группа 1","2022.03.27 14:00","Элязыспор","Эрбааспор","lExIgMGn",191,null,null,"Загрузить",2,2,3.32,3.3,2.09,4.8,3.3,1.72,-1.48,0,0.36999999999999988]
["ТУРЦИЯ: Третья лига. Группа 3","2022.03.27 14:00","Агри 1970","Модафенспор","SWX1r0fs",191,null,null,"Загрузить",2,3,2.2200000000000002,3.06,3.19,2.2200000000000002,2.88,3.32,0,0.18000000000000016,-0.12999999999999989]
["ТУРЦИЯ: Третья лига. Группа 3","2022.03.27 14:00","Беледие Дериндже","Тепеджик","txXoxPX7",191,null,null,"Загрузить",2,2,1.89,3.36,3.92,2.12,3,3.46,-0.2300000000000002,0.35999999999999988,0.45999999999999996]
["ТУРЦИЯ: Третья лига. Группа 3","2022.03.27 14:00","Ичель","Ордуспор","nZJXaSPE",191,null,null,"Загрузить",1,0,2.48,2.93,2.98,2.4700000000000002,2.75,3.06,9.9999999999997868E-3,0.18000000000000016,-8.0000000000000071E-2]
["ТУРЦИЯ: Третья лига. Группа 3","2022.03.27 14:00","Кириккале","Джейханспор","2oYsw5I1",191,null,null,"Загрузить",6,1,1.05,11,24,1.06,8.5,29,-1.0000000000000009E-2,2.5,-5]
["ТУРЦИЯ: Третья лига. Группа 3","2022.03.27 14:00","Мардин ББ","Кардемир Карабюк","Amg3pmQR",191,null,null,"Загрузить",5,0,1.05,8.8000000000000007,41,1.1000000000000001,7.5,17,-5.0000000000000044E-2,1.3000000000000007,24]
["ТУРЦИЯ: Третья лига. Группа 3","2022.03.27 14:00","Офспор","Эдирнеспор","CduVu7Yr",191,null,null,"Загрузить",3,2,2.1800000000000002,3.11,3.32,2.17,2.9,3.38,1.0000000000000231E-2,0.20999999999999996,-6.0000000000000053E-2]
["ТУРЦИЯ: Третья лига. Группа 3","2022.03.27 14:00","Фетхиеспор","Каракопру","8rLT08A8",191,null,null,"Загрузить",0,1,1.57,3.82,5.15,2.12,3.1,3.34,-0.55000000000000004,0.71999999999999975,1.8100000000000005]
["ТУРЦИЯ: Третья лига. Группа 3","2022.03.27 14:00","Эрокспор","Гумусханеспор","6JvZvRmk",191,null,null,"Загрузить",3,0,1.27,5.35,9.5,1.3,4.5,8.9,-3.0000000000000027E-2,0.84999999999999964,0.59999999999999964]
["ФИНЛЯНДИЯ: Женская лига","2022.03.27 14:00","ХИК (Ж)","Аланд Юнайтед (Ж)","trzExdJp",76,null,null,"Загрузить",4,2,2.09,3.58,3.09,2.2799999999999998,3.64,2.6,-0.18999999999999995,-6.0000000000000053E-2,0.48999999999999977]
["ХОРВАТИЯ: First League Women","2022.03.27 14:00","Задар (Ж)","Medimurje Cakovec (Ж)","nFDSH7M4",59,null,null,"Загрузить",null,null,null,null,null,null,null,null,"","",""]
["ШВЕЦИЯ: Высшая женская лига","2022.03.27 14:00","АИК (Ж)","Эребру (Ж)","Ct9aLuN4",181,null,null,"Загрузить",2,0,3,3.54,2.1800000000000002,3.08,3.9,1.97,-8.0000000000000071E-2,-0.35999999999999988,0.21000000000000019]
["ШВЕЦИЯ: Высшая женская лига","2022.03.27 14:00","Умео (Ж)","Хеккен (Ж)","dnjPy17o",181,null,null,"Загрузить",1,1,8.6,5.35,1.29,7.7,5.6,1.28,0.89999999999999947,-0.25,1.0000000000000009E-2]
["АНГЛИЯ: Суперлига - Женщины","2022.03.27 14:30","Манчестер Юнайтед (Ж)","Эвертон (Ж)","EwDraoA1",198,null,null,"Загрузить",3,1,1.1599999999999999,7.2,13,1.21,6.5,8.6999999999999993,-5.0000000000000044E-2,0.70000000000000018,4.3000000000000007]
["АНГЛИЯ: Чемпионшип - Женщины","2022.03.27 14:30","Сандерленд (Ж)","Уотфорд (Ж)","ljv5Ddce",198,null,null,"Загрузить",2,1,1.52,4,5.75,1.64,3.74,4.42,-0.11999999999999988,0.25999999999999979,1.33]
["ГРЕЦИЯ: Суперлига 2","2022.03.27 14:45","Аполлон Ларисса","Кардица","Mq2N7Jco",83,null,null,"Загрузить",2,1,3.15,2.69,2.57,4.4800000000000004,3,1.97,-1.3300000000000005,-0.31000000000000005,0.59999999999999987]
["ГРЕЦИЯ: Суперлига 2","2022.03.27 14:45","Закинтос","Каламата","4n0XMUOK",83,null,null,"Загрузить",1,1,3.96,3.6,1.93,10,3.8,1.41,-6.04,-0.19999999999999973,0.52]
["ГРЕЦИЯ: Суперлига 2","2022.03.27 14:45","Иерапетра","АЕК (Б)","M9s8tuf2",83,null,null,"Загрузить",null,null,2.0699999999999998,3,4,2.0699999999999998,3,4,0,0,0]
["ГРЕЦИЯ: Суперлига 2","2022.03.27 14:45","Калитея","Кифисиас","Kv2yzegi",83,null,null,"Загрузить",1,0,2.57,2.5499999999999998,3.32,2.2200000000000002,2.88,3.62,0.34999999999999964,-0.33000000000000007,-0.30000000000000027]
["ГРЕЦИЯ: Суперлига 2","2022.03.27 14:45","Лариса","Перикос","r7I3IqVn",83,null,null,"Загрузить",1,0,1.28,4.9000000000000004,10,1.19,6,16,9.000000000000008E-2,-1.0999999999999996,-6]
["ГРЕЦИЯ: Суперлига 2","2022.03.27 14:45","Олимпиакос (Б)","Аполлон Понту","b38SCuaO",83,null,null,"Загрузить",null,null,1.69,3.5,5.8,1.97,3.1,4.0999999999999996,-0.28000000000000003,0.39999999999999991,1.7000000000000002]
["ГРЕЦИЯ: Суперлига 2","2022.03.27 14:45","Олимпиакос Волос","Кавала","f3gjHWfq",83,null,null,"Загрузить",0,2,2.0699999999999998,3.42,3.26,2.2200000000000002,3.24,3.3,-0.15000000000000036,0.17999999999999972,-4.0000000000000036E-2]
["ГРЕЦИЯ: Суперлига 2","2022.03.27 14:45","ПАОК (Б)","Теспротос","fcxNeD4j",83,null,null,"Загрузить",0,0,1.83,3.2,4.54,1.64,3.4,5.9,0.19000000000000017,-0.19999999999999973,-1.3600000000000003]
["РЕЮНЬОН: Региональ 1","2022.03.27 14:45","Capricorne","Жанна д'Арк","MPDaRnAQ",237,null,null,"Загрузить",0,4,null,null,null,null,null,null,"","",""]
["РЕЮНЬОН: Региональ 1","2022.03.27 14:45","Sainte Rose","Эксельсиор","4lJfSSfK",237,null,null,"Загрузить",0,4,null,null,null,null,null,null,"","",""]
["РЕЮНЬОН: Региональ 1","2022.03.27 14:45","Sainte-Suzanne","Тампоннез","E9D555m7",237,null,null,"Загрузить",0,4,null,null,null,null,null,null,"","",""]
["РЕЮНЬОН: Региональ 1","2022.03.27 14:45","Марсунс","Сен-Дени","CfW84P2D",237,null,null,"Загрузить",0,4,null,null,null,null,null,null,"","",""]
["РЕЮНЬОН: Региональ 1","2022.03.27 14:45","Парфин","Сен-Пьерроз","hfPd7RIf",237,null,null,"Загрузить",0,4,null,null,null,null,null,null,"","",""]
["РЕЮНЬОН: Региональ 1","2022.03.27 14:45","Сент-Луис","Сен-Марьен","WpO06oY0",237,null,null,"Загрузить",0,4,null,null,null,null,null,null,"","",""]
["РЕЮНЬОН: Региональ 1","2022.03.27 14:45","Труа Баззин","Сен-Полуаз","QcKjT8uE",237,null,null,"Загрузить",0,0,null,null,null,null,null,null,"","",""]
["АВСТРИЯ: Восточная региональная лига","2022.03.27 15:00","Адмира II","Брюк Лайта","GIqtPSuT",25,null,null,"Загрузить",1,1,2.69,3.6,2.31,2.4,3.6,2.4,0.29000000000000004,0,-8.9999999999999858E-2]
["АВСТРИЯ: Западная региональная лига - Форарльберг","2022.03.27 15:00","Ранквейл","Адмира Дорнбирн","GvTlko6d",25,null,null,"Загрузить",1,1,2.5299999999999998,3.8,2.36,2.25,3.74,2.5,0.2799999999999998,5.9999999999999609E-2,-0.14000000000000012]
["АВСТРИЯ: Бундеслига Женщины","2022.03.27 15:00","Вакер Инсбрук (Ж)","Бергхайм (Ж)","ENOy9z5A",25,null,null,"Загрузить",3,1,1.92,3.8,3.24,2.33,3.94,2.5,-0.41000000000000014,-0.14000000000000012,0.74000000000000021]
["АФРИКА: Кубок Африканских Наций - Квалификация - Предварительный раунд","2022.03.27 15:00","Маврикий","Сан-Томе и Принсипи","nsG3wv7H",1,null,null,"Загрузить",3,3,2.31,2.81,3.34,2.25,3,3.32,6.0000000000000053E-2,-0.18999999999999995,2.0000000000000018E-2]
["БЕЛЬГИЯ: Суперлига - Женщины - Этап победителей","2022.03.27 15:00","Клуб Брюгге (Ж)","Стандард Льеж (Ж)","UHHG2cWI",32,null,null,"Загрузить",1,2,3.06,3.7,2.0699999999999998,2.39,3.5,2.5499999999999998,0.66999999999999993,0.20000000000000018,-0.48]
["ВЕНГРИЯ: НБ III - Восток","2022.03.27 15:00","Бекешчаба II","Диошдьёри ВТК II","O4Cd2Nac",91,null,null,"Загрузить",0,2,null,null,null,null,null,null,"","",""]
["ВЕНГРИЯ: НБ III - Запад","2022.03.27 15:00","Веспрем","Кёлен","EXe4dEqK",91,null,null,"Загрузить",3,2,null,null,null,null,null,null,"","",""]
["ГЕРМАНИЯ: Северная региональная лига - Группа вылета","2022.03.27 15:00","Санкт-Паули II","Люнебургер Ганза","2gzhZlJ2",81,null,null,"Загрузить",4,0,2.3199999999999998,3.3,3.11,2.25,3.5,2.6,6.999999999999984E-2,-0.20000000000000018,0.50999999999999979]
["ГЕРМАНИЯ: Северная региональная лига - Повышение - группа","2022.03.27 15:00","Тевтония Оттензен","Ганновер II","WCfep4Os",81,null,null,"Загрузить",4,4,1.84,3.94,3.86,2.25,3.5,2.6,-0.40999999999999992,0.43999999999999995,1.2599999999999998]
["ГЕРМАНИЯ: Западная региональная лига","2022.03.27 15:00","Алемания Ахен","Рёдингхаузен","tKBEAsD6",81,null,null,"Загрузить",0,1,2.97,3.3,2.41,2.5499999999999998,3.4,2.39,0.42000000000000037,-0.10000000000000009,2.0000000000000018E-2]
["ГЕРМАНИЯ: Оберлига NOFV-Норд","2022.03.27 15:00","Бранденбургер","Пэмпоу","lSovFGzp",81,null,null,"Загрузить",1,1,2.8,3.66,2.2200000000000002,3.22,3.64,2.02,-0.42000000000000037,2.0000000000000018E-2,0.20000000000000018]
["ГЕРМАНИЯ: Оберлига NOFV-Юг","2022.03.27 15:00","Айнхайт Рудольштадт","Оберлаузитц","SQvR2jup",81,null,null,"Загрузить",1,0,1.85,3.78,3.62,1.85,4,3.17,0,-0.2200000000000002,0.45000000000000018]
["ГЕРМАНИЯ: Оберлига Шлезвиг-Голштейн","2022.03.27 15:00","Эккернфёрдер","Фленсбург","nm1Tg3Un",81,null,null,"Загрузить",null,null,4.32,4.74,1.51,4.32,4.74,1.51,0,0,0]
["ГЕРМАНИЯ: Оберлига Гамбург - Этап победителей","2022.03.27 15:00","Ниндорфер","Дассендорф","hOOcq98B",81,null,null,"Загрузить",1,0,7.7,5.5,1.3,4.04,4.5,1.59,{"$f":"IF(L322=\"\",\"\",L322-O322)","v":3.66},{"$f":"IF(M322=\"\",\"\",M322-P322)","v":1},{"$f":"IF(N322=\"\",\"\",N322-Q322)","v":-0.29000000000000004}]
["ГЕРМАНИЯ: Оберлига Бремен","2022.03.27 15:00","Ватан Бремен","Блументалер","YX4Yy5V2",81,null,null,"Загрузить",0,2,2.72,3.7,2.17,1.85,4.32,3.05,0.87000000000000011,-0.62000000000000011,-0.87999999999999989]
["ГЕРМАНИЯ: Оберлига Бремен","2022.03.27 15:00","Хемелинген","БТС Нойштадт","fmXBK30S",81,null,null,"Загрузить",1,4,1.48,4.9400000000000004,4.9400000000000004,1.97,4.32,2.75,-0.49,0.62000000000000011,2.1900000000000004]
["ГЕРМАНИЯ: Оберлига Нижняя Саксония - Этап проигравших","2022.03.27 15:00","Айнтрахт Нортхайм","Берзенбрюк","0WMnNoJN",81,null,null,"Загрузить",null,null,4.12,4,1.67,3.48,4.8,1.73,0.64000000000000012,-0.79999999999999982,-6.0000000000000053E-2]
["ГЕРМАНИЯ: Оберлига Рейнланд-Пфальц/Саар - Повышение - группа","2022.03.27 15:00","Кобленц","Герта Висбах","Im5NBvTN",81,null,null,"Загрузить",3,1,3.12,3.9,1.89,3.17,4,1.85,-4.9999999999999822E-2,-0.10000000000000009,3.9999999999999813E-2]
["ГЕРМАНИЯ: Оберлига Бавария Север","2022.03.27 15:00","Гроссбардорф","Фройхт","0zeYVny0",81,null,null,"Загрузить",3,1,2.81,4.0199999999999996,2.0099999999999998,2.8,4,2.02,1.0000000000000231E-2,1.9999999999999574E-2,-1.0000000000000231E-2]
["ГЕРМАНИЯ: Оберлига Бавария Юг","2022.03.27 15:00","Швабмюнхен","Исманинг","vVoUNmf0",81,null,null,"Загрузить",0,2,3.56,4,1.75,3.56,4,1.75,0,0,0]
["ГЕРМАНИЯ: Оберлига Баден-Вюрттемберг","2022.03.27 15:00","Бакнанг","Ройтлинген","QkjWXe1M",81,null,null,"Загрузить",3,0,1.53,4.3600000000000003,5,1.45,4.5,5.15,8.0000000000000071E-2,-0.13999999999999968,-0.15000000000000036]
["ГЕРМАНИЯ: Вторая Бундеслига Женщины","2022.03.27 15:00","Дуйсбург (Ж)","Айнтрахт Ф II (Ж)","617YLJif",81,null,null,"Загрузить",2,2,1.5,4.46,5.3,1.66,4,4.22,-0.15999999999999992,0.45999999999999996,1.08]
["ГРЕЦИЯ: Гамма Этники - Группа 5","2022.03.27 15:00","Арис Скалас","Агиос Иеротеос","KdJNyeRG",83,null,null,"Загрузить",null,null,null,null,null,null,null,null,"","",""]
["ГРЕЦИЯ: Гамма Этники - Группа 5","2022.03.27 15:00","Панаркадикос","Фониакис Эпидавру","Y3abVh4p",83,null,null,"Загрузить",null,null,null,null,null,null,null,null,"","",""]
["ГРЕЦИЯ: Гамма Этники - Группа 5","2022.03.27 15:00","Санторини","Mykonos","Cfb2UCJj",83,null,null,"Загрузить",null,null,null,null,null,null,null,null,"","",""]
["ГРЕЦИЯ: Гамма Этники - Группа 5","2022.03.27 15:00","Харавгиакос","Фостирас","hAHVZYeT",83,null,null,"Загрузить",null,null,null,null,null,null,null,null,"","",""]
["ГРЕЦИЯ: Гамма Этники - Группа 5","2022.03.27 15:00","Эрмионидас-Эрмис","Илиополис","EJIRzFtN",83,null,null,"Загрузить",null,null,null,null,null,null,null,null,"","",""]
["ГРЕЦИЯ: Гамма Этники - Группа 6","2022.03.27 15:00","Аиттитос Спата","Тиелла Д.","EVzB4aJA",83,null,null,"Загрузить",null,null,null,null,null,null,null,null,"","",""]
["ГРЕЦИЯ: Гамма Этники - Группа 6","2022.03.27 15:00","Каравас","Пилиу","hGn26Llb",83,null,null,"Загрузить",null,null,null,null,null,null,null,null,"","",""]
["ГРЕЦИЯ: Гамма Этники - Группа 6","2022.03.27 15:00","Керацини","Проодефтики","Otrb71Zi",83,null,null,"Загрузить",null,null,null,null,null,null,null,null,"","",""]
["ГРЕЦИЯ: Гамма Этники - Группа 6","2022.03.27 15:00","Кианос Астир Варис","Айоликос","dxVV3SSa",83,null,null,"Загрузить",2,1,null,null,null,null,null,null,"","",""]
["ГРЕЦИЯ: Гамма Этники - Группа 6","2022.03.27 15:00","Панелефсиниакос","Эйас","W6o65u44",83,null,null,"Загрузить",null,null,null,null,null,null,null,null,"","",""]
["ЕВРОПА: Премьер-лига (Крым)","2022.03.27 15:00","Океан","Рубин Ялта","6eSJk1l0",6,null,null,"Загрузить",1,1,null,null,null,null,null,null,"","",""]
["ЕВРОПА: Премьер-лига (Крым)","2022.03.27 15:00","Севастополь","Alushta","OWxFjsZg",6,null,null,"Загрузить",0,0,null,null,null,null,null,null,"","",""]
["ЕВРОПА: Женский чемпионат Европы до 17 лет - Квалификация - Round 2 - League A","2022.03.27 15:00","Польша U17 (Ж)","Англия U17 (Ж)","SvQD92nD",6,null,null,"Загрузить",0,1,null,null,null,null,null,null,"","",""]
["ЕГИПЕТ: Дивизион 2 - Группа A","2022.03.27 15:00","Telephonaat Beni Suef","Dayrout","AVHZjKKL",69,null,null,"Загрузить",1,2,2.16,2.64,3.88,2.12,2.8,3.68,4.0000000000000036E-2,-0.1599999999999997,0.19999999999999973]
["ЕГИПЕТ: Дивизион 2 - Группа C","2022.03.27 15:00","Al Hammam","Эль-Мансура","84UZbiOc",69,null,null,"Загрузить",0,0,2.1800000000000002,2.74,3.62,2.12,2.8,3.68,6.0000000000000053E-2,-5.9999999999999609E-2,-6.0000000000000053E-2]
["ЕГИПЕТ: Дивизион 2 - Группа C","2022.03.27 15:00","Dekernes","Salloum","WI35qCOA",69,null,null,"Загрузить",null,null,null,null,null,null,null,null,"","",""]
["ЕГИПЕТ: Дивизион 2 - Группа C","2022.03.27 15:00","Абу Каир Семад","Kafr El Sheikh","UDVVaX8i",69,null,null,"Загрузить",0,0,2.13,2.85,3.72,1.93,3,4.08,0.19999999999999996,-0.14999999999999991,-0.35999999999999988]
["ЕГИПЕТ: Дивизион 2 - Группа C","2022.03.27 15:00","Алааб Даманхур","Харас Эль-Ходуд","GAslylWj",69,null,null,"Загрузить",null,null,null,null,null,null,null,null,"","",""]
["ЕГИПЕТ: Дивизион 2 - Группа C","2022.03.27 15:00","Аль-Олимпи","Said El Mahalla","dQ0HtA8T",69,null,null,"Загрузить",2,0,1.18,5.6,14.5,1.21,5,13.5,-3.0000000000000027E-2,0.59999999999999964,1]
["ЕГИПЕТ: Дивизион 2 - Группа C","2022.03.27 15:00","Баладият Махалла","Alexandria SC","27wpxUGp",69,null,null,"Загрузить",null,null,null,null,null,null,null,null,"","",""]
["ИСПАНИЯ: Сегунда","2022.03.27 15:00","Мирандес","Понферрадина","8CSMmbQH",176,null,null,"Загрузить",3,1,2.0499999999999998,3.4,3.61,2.65,3.05,2.6,-0.60000000000000009,0.35000000000000009,1.0099999999999998]
["ИТАЛИЯ: Серия D - Группа G","2022.03.27 15:00","Афраголезе","Атлетико Ури","YodjHXvF",98,null,null,"Загрузить",2,0,1.69,3.66,4.6399999999999997,1.69,3.6,4.28,0,6.0000000000000053E-2,0.35999999999999943]
["МАЛАЙЗИЯ: Премьер-лига","2022.03.27 15:00","Селангор 2","Кучинг Сити","lfWw2GqJ",121,null,null,"Загрузить",null,null,null,null,null,null,null,null,"","",""]
["МИР: Международные товарищеские матчи","2022.03.27 15:00","Либерия","Сьерра-Леоне","I3upKDZA",8,null,null,"Загрузить",null,null,null,null,null,null,null,null,"","",""]
["МИР: Международные товарищеские матчи","2022.03.27 15:00","Таиланд","Суринам","MeSQ27et",8,null,null,"Загрузить",1,0,2.2799999999999998,3.8,3.04,1.79,3.84,4.54,0.48999999999999977,-4.0000000000000036E-2,-1.5]
["МИР: Клубные товарищеские матчи","2022.03.27 15:00","Зиря","Габала","pziua2WN",8,null,null,"Загрузить",1,2,null,null,null,null,null,null,"","",""]
["МИР: Клубные товарищеские матчи","2022.03.27 15:00","Трефф","Хедд 2","dSB9eKlL",8,null,null,"Загрузить",0,2,null,null,null,null,null,null,"","",""]
["МИР: Клубные товарищеские матчи","2022.03.27 15:00","Хайдук","Радомлье","2TI0ctK8",8,null,null,"Загрузить",5,2,1.28,5.45,8.6999999999999993,1.31,4.7,8.8000000000000007,-3.0000000000000027E-2,0.75,-0.10000000000000142]
["МИР: Клубные товарищеские матчи","2022.03.27 15:00","Юргорден","Хонка","Ch3eFcyH",8,null,null,"Загрузить",0,2,null,null,null,null,null,null,"","",""]
["НИДЕРЛАНДЫ: Третий дивизион","2022.03.27 15:00","Блау Гел","Хугланд","bkkvIiQG",139,null,null,"Загрузить",5,1,null,null,null,null,null,null,"","",""]
["НИДЕРЛАНДЫ: Третий дивизион","2022.03.27 15:00","Вестландия","Остзан","p6mnGVfT",139,null,null,"Загрузить",0,1,null,null,null,null,null,null,"","",""]
["НИДЕРЛАНДЫ: Третий дивизион","2022.03.27 15:00","ДЕМ","ЕВВ","6FlrHBuN",139,null,null,"Загрузить",2,2,null,null,null,null,null,null,"","",""]
["НИДЕРЛАНДЫ: Третий дивизион","2022.03.27 15:00","УСВ Геркулес","Донген","xz1VJDe4",139,null,null,"Загрузить",1,3,2.12,3.74,2.75,2.12,3.74,2.75,0,0,0]
["НИДЕРЛАНДЫ: Третий дивизион","2022.03.27 15:00","ХВ-энд-СВ Куик","Гемерт","KbjzJXAA",139,null,null,"Загрузить",1,3,null,null,null,null,null,null,"","",""]
["ПОЛЬША: Экстралига - Женщины","2022.03.27 15:00","Энергия (Ж)","Быдгощ (Ж)","jeMCz4lj",154,null,null,"Загрузить",2,0,3.04,3.66,2.09,2.27,3.8,2.5,0.77,-0.13999999999999968,-0.41000000000000014]
["РОССИЯ: Олимп-ФНЛ 2 - Гр. 1","2022.03.27 15:00","Алания 2","Черноморец","0pSZMB03",158,null,null,"Загрузить",4,6,21,9.1999999999999993,1.08,12,6.2,1.18,9,2.9999999999999991,-9.9999999999999867E-2]
["РОССИЯ: Олимп-ФНЛ 2 - Гр. 1","2022.03.27 15:00","Дружба","Ессентуки","f7RwMVF9",158,null,null,"Загрузить",0,0,1.53,4.5199999999999996,4.88,1.42,4.4000000000000004,6.3,0.1100000000000001,0.11999999999999922,-1.42]
["РОССИЯ: Олимп-ФНЛ 2 - Гр. 1","2022.03.27 15:00","Форте","СКА Ростов","jZKnK9pM",158,null,null,"Загрузить",1,4,3.24,3.28,2.14,3.46,3,2.12,-0.21999999999999975,0.2799999999999998,2.0000000000000018E-2]
["РОССИЯ: Олимп-ФНЛ 2 - Гр. 1","2022.03.27 15:00","Чайка","Легион-Динамо","2a9WNioc",158,null,null,"Загрузить",1,1,1.3,4.76,9.9,1.36,4.3,8.3000000000000007,-6.0000000000000053E-2,0.45999999999999996,1.5999999999999996]
["ТАИЛАНД: Тайская вторая лига","2022.03.27 15:00","Касетсарт","Районг","GOCRllYK",186,null,null,"Загрузить",1,1,2.36,3.38,2.77,2.5,3.15,2.75,-0.14000000000000012,0.22999999999999998,2.0000000000000018E-2]
["ТАИЛАНД: Тайская вторая лига","2022.03.27 15:00","Ранонг","Трат","CfbcqSer",186,null,null,"Загрузить",1,0,4.5,3.62,1.42,5.5,3.74,1.59,-1,-0.12000000000000011,-0.17000000000000015]
["ХОРВАТИЯ: First League Women","2022.03.27 15:00","Dinamo Maksimir (Ж)","Agram Zagreb (Ж)","KSBzGoiH",59,null,null,"Загрузить",2,1,null,null,null,null,null,null,"","",""]
["ЧЕХИЯ: Южно-Моравский край","2022.03.27 15:00","Иванчице","Быстрц","GOzfBLEf",62,null,null,"Загрузить",0,4,null,null,null,null,null,null,"","",""]
["ЧЕХИЯ: Край Высочина","2022.03.27 15:00","Велке Мезиржичи (Б)","Намешть-над-Ославой","CnMSEpgB",62,null,null,"Загрузить",3,1,2.2000000000000002,4.2,2.38,2.2000000000000002,4.2,2.38,0,0,0]
["ШВЕЙЦАРИЯ: Первая лига - группа 1","2022.03.27 15:00","Монтей","Эшален","rHckv5B0",182,null,null,"Загрузить",1,2,null,null,null,null,null,null,"","",""]
["ШОТЛАНДИЯ: Дивизион 1 (Ж)","2022.03.27 15:00","Глазго Сити (Ж)","Гамильтон (Ж)","Kh9f2dG6",199,null,null,"Загрузить",6,0,1.02,12,46,1.1000000000000001,9,17,-8.0000000000000071E-2,3,29]
["ГЕРМАНИЯ: Оберлига Рейнланд-Пфальц/Саар - Повышение - группа","2022.03.27 15:30","Вальдальгесхайм","Ворматия Вормс","0CfSAbrU",81,null,null,"Загрузить",null,null,4.84,5.5,1.41,5.65,5.5,1.34,-0.8100000000000005,0,6.999999999999984E-2]
["ИТАЛИЯ: Серия C - Группа B","2022.03.27 15:30","Каррарезе","Вис Пезаро","UgDnGlmk",98,null,null,"Загрузить",4,1,2.56,2.2599999999999998,4.0999999999999996,2.12,3,3.36,0.43999999999999995,-0.74000000000000021,0.73999999999999977]
["ИТАЛИЯ: Серия C - Группа B","2022.03.27 15:30","Ольбия","Терамо","nVNsHUXr",98,null,null,"Загрузить",0,0,2.85,2.27,3.54,2.3199999999999998,3,2.94,0.53000000000000025,-0.73,0.60000000000000009]
["ИТАЛИЯ: Серия C - Группа B","2022.03.27 15:30","Пескара","Понтедера","QRHGLAPR",98,null,null,"Загрузить",1,1,1.47,3.82,7.5,1.69,3.4,4.5999999999999996,-0.21999999999999997,0.41999999999999993,2.9000000000000004]
["ИТАЛИЯ: Серия C - Группа B","2022.03.27 15:30","Фермана","Чезена","dnQaPhQ2",98,null,null,"Загрузить",2,2,3.44,3.08,2.1800000000000002,3.68,3,2.02,-0.24000000000000021,8.0000000000000071E-2,0.16000000000000014]
["ИТАЛИЯ: Серия C - Группа C","2022.03.27 15:30","Мессина","Латина","rBUiEoUE",98,null,null,"Загрузить",1,0,2.0099999999999998,3.08,3.94,2.3199999999999998,2.9,3.07,-0.31000000000000005,0.18000000000000016,0.87000000000000011]
["ИТАЛИЯ: Серия C - Группа C","2022.03.27 15:30","Монополи","Потенца","vwO0CPbR",98,null,null,"Загрузить",3,1,1.49,3.76,7.1,1.41,3.7,8.3000000000000007,8.0000000000000071E-2,5.9999999999999609E-2,-1.2000000000000011]
["ИТАЛИЯ: Серия C - Группа C","2022.03.27 15:30","Монтероси","Вибонезе","ALEW63Ml",98,null,null,"Загрузить",0,0,1.5,4.0599999999999996,6.15,1.55,3.5,5.85,-5.0000000000000044E-2,0.55999999999999961,0.30000000000000071]
["ИТАЛИЯ: Серия C - Группа C","2022.03.27 15:30","Паганезе","Палермо","dEYeD5qL",98,null,null,"Загрузить",2,2,5.35,3.72,1.61,3.46,3.1,2.0699999999999998,1.8899999999999997,0.62000000000000011,-0.45999999999999974]
["ИТАЛИЯ: Серия C - Группа C","2022.03.27 15:30","Пичерно","Авеллино","ryQ78etd",98,null,null,"Загрузить",0,1,3.68,3.06,2.09,3.76,2.8,2.12,{"$f":"IF(L386=\"\",\"\",L386-O386)","v":-7.9999999999999627E-2},{"$f":"IF(M386=\"\",\"\",M386-P386)","v":0.26000000000000023},{"$f":"IF(N386=\"\",\"\",N386-Q386)","v":-3.0000000000000249E-2}]
["ИТАЛИЯ: Серия C - Группа C","2022.03.27 15:30","Стабия","Катанзаро","AcWqG7a2",98,null,null,"Загрузить",1,1,3.6,2.85,2.2400000000000002,3.68,2.8,2.12,-8.0000000000000071E-2,5.0000000000000266E-2,0.12000000000000011]
["ИТАЛИЯ: Серия C - Группа C","2022.03.27 15:30","Фоджа","Кампобассо","MROB7Fe2",98,null,null,"Загрузить",5,2,1.72,3.5,4.78,1.82,3.4,3.96,-0.10000000000000009,0.10000000000000009,0.82000000000000028]
["ИТАЛИЯ: Серия A - Женщины","2022.03.27 15:30","Сампдория (Ж)","Наполи (Ж)","KOTX30YR",98,null,null,"Загрузить",1,0,2.12,3.5,3.1,2.2000000000000002,3.5,3.01,-8.0000000000000071E-2,0,9.0000000000000302E-2]
["ИТАЛИЯ: Серия A - Женщины","2022.03.27 15:30","Ювентус (Ж)","Интер (Ж)","tYUT4tJL",98,null,null,"Загрузить",3,1,1.38,5.0999999999999996,6.5,1.22,6.5,9.8000000000000007,0.15999999999999992,-1.4000000000000004,-3.3000000000000007]
["ИТАЛИЯ: Серия В - Женщины","2022.03.27 15:30","Pink Bari (Ж)","Рома (Ж)","lbxCfdRF",98,null,null,"Загрузить",0,2,null,null,null,null,null,null,"","",""]
["ИТАЛИЯ: Серия В - Женщины","2022.03.27 15:30","Ак. Сан-Марино (Ж)","Кьево Верона (Ж)","0xdHYE4d",98,null,null,"Загрузить",null,null,null,null,null,null,null,null,"","",""]
["ИТАЛИЯ: Серия В - Женщины","2022.03.27 15:30","Брешия (Ж)","Таваньяччо (Ж)","rLyGgGtM",98,null,null,"Загрузить",0,2,null,null,null,null,null,null,"","",""]
["ИТАЛИЯ: Серия В - Женщины","2022.03.27 15:30","Комо (Ж)","Равенна (Ж)","A7w8exC9",98,null,null,"Загрузить",0,2,null,null,null,null,null,null,"","",""]
["ИТАЛИЯ: Серия В - Женщины","2022.03.27 15:30","Кортефранка (Ж)","Про Сесто (Ж)","hWr3dId3",98,null,null,"Загрузить",0,2,null,null,null,null,null,null,"","",""]
["КАМЕРУН: Элитный дивизион","2022.03.27 15:30","Ренессанс","Котонспорт","MVf5xsXL",46,null,null,"Загрузить",1,1,3.38,3.14,2.14,2.5,2.75,2.88,0.87999999999999989,0.39000000000000012,-0.73999999999999977]
["МАЛАВИ: Суперлига","2022.03.27 15:30","Dedza Dynamos","Каронга Юнайтед","fii1DUAJ",120,null,null,"Загрузить",1,1,null,null,null,null,null,null,"","",""]
["МАЛАВИ: Суперлига","2022.03.27 15:30","Sable Farming","Ред Лайонс","hnDIloYI",120,null,null,"Загрузить",null,null,null,null,null,null,null,null,"","",""]
["МАЛАВИ: Суперлига","2022.03.27 15:30","Sable Farming","ТН Старс","jTDy0Tgn",120,null,null,"Загрузить",0,0,null,null,null,null,null,null,"","",""]
["МАЛАВИ: Суперлига","2022.03.27 15:30","Блю Иглз","Rumphi United","vVLyV8fC",120,null,null,"Загрузить",2,0,1.7,3.14,5.15,1.93,3.2,3.68,-0.22999999999999998,-6.0000000000000053E-2,1.4700000000000002]
["МАЛАВИ: Суперлига","2022.03.27 15:30","Камудзу Барракс","Майти Тайгерс","QZsX78Yt",120,null,null,"Загрузить",1,1,2.02,2.99,3.68,2.02,3,3.68,0,-9.9999999999997868E-3,0]
["МАЛАВИ: Суперлига","2022.03.27 15:30","Эквендени Хаммерс","МАФКО","8fe5ClQP",120,null,null,"Загрузить",2,2,2.27,2.86,3.18,2.27,2.88,3.18,0,-2.0000000000000018E-2,0]
["НИДЕРЛАНДЫ: Первый дивизион","2022.03.27 15:30","Маастрихт","Алмере Сити","8YZ2kbNl",139,null,null,"Загрузить",0,3,5.9,4.68,1.47,2.7,3.5,2.35,3.2,1.1799999999999997,-0.88000000000000012]
["НИДЕРЛАНДЫ: Второй дивизион","2022.03.27 15:30","АФК","Йонг Спарта Роттердам","zHoEx9Mr",139,null,null,"Загрузить",2,3,1.57,4.16,4.88,1.75,3.74,3.8,-0.17999999999999994,0.41999999999999993,1.08]
["НИДЕРЛАНДЫ: Третий дивизион","2022.03.27 15:30","Грене Стер","ХВВ Холландиа","4jUIA9Ij",139,null,null,"Загрузить",null,null,null,null,null,null,null,null,"","",""]
["НИДЕРЛАНДЫ: Третий дивизион","2022.03.27 15:30","Осс","Ватерграфсмер","IgI0Zhei",139,null,null,"Загрузить",null,null,null,null,null,null,null,null,"","",""]
["НИДЕРЛАНДЫ: Третий дивизион","2022.03.27 15:30","УНА","АДО 20 Хемскерк","dpH4YCAc",139,null,null,"Загрузить",0,2,null,null,null,null,null,null,"","",""]
["НИДЕРЛАНДЫ: Третий дивизион","2022.03.27 15:30","ХСЦ-21","Унитас","jmQEBk3p",139,null,null,"Загрузить",4,0,null,null,null,null,null,null,"","",""]
["ПОЛЬША: Экстралига - Женщины","2022.03.27 15:30","Rekord Bielsko-Biala (Ж)","Тарновия (Ж)","ET77doB9",154,null,null,"Загрузить",0,0,2.57,3.82,2.29,2.27,3.8,2.5,0.29999999999999982,2.0000000000000018E-2,-0.20999999999999996]
["ФРАНЦИЯ: Дивизион 2 - Женщины","2022.03.27 15:30","Родез (Ж)","Ним (Ж)","As6IE4cQ",77,null,null,"Загрузить",null,null,1.1200000000000001,7.4,20,1.1399999999999999,7,12,-1.9999999999999796E-2,0.40000000000000036,8]
["АВСТРИЯ: Восточная региональная лига","2022.03.27 16:00","Леобендорф","Винер Виктория","AFgLTjRc",25,null,null,"Загрузить",0,0,1.7,4.08,4.0999999999999996,1.82,4,3.3,-0.12000000000000011,8.0000000000000071E-2,0.79999999999999982]
["АВСТРИЯ: Западная региональная лига - Зальцбург - Группа вылета","2022.03.27 16:00","Кюхль","Бишофсхофен","OrkoimMc",25,null,null,"Загрузить",1,0,null,null,null,null,null,null,"","",""]
["АВСТРИЯ: Западная региональная лига - Форарльберг","2022.03.27 16:00","Вольфурт","Ротис","OtAuC8D9",25,null,null,"Загрузить",1,1,1.93,4.32,2.85,1.93,4.32,2.85,0,0,0]
["АНГЛИЯ: Суперлига - Женщины","2022.03.27 16:00","Манчестер Сити (Ж)","Бирмингем (Ж)","hUBnb5P7",198,null,null,"Загрузить",null,null,1.02,13.5,39,1.06,12,32,-4.0000000000000036E-2,1.5,7]
["АФРИКА: Кубок Африканских Наций - Квалификация - Предварительный раунд","2022.03.27 16:00","Эсватини","Сомали","pIJnsM7h",1,null,null,"Загрузить",2,1,1.18,5.7,18,1.18,6.5,13.5,0,-0.79999999999999982,4.5]
["АФРИКА: Кубок Африканских Наций - Квалификация - Предварительный раунд","2022.03.27 16:00","Южный Судан","Джибути","C4Lvqrwt",1,null,null,"Загрузить",1,0,1.26,5.0999999999999996,11,1.26,5.0999999999999996,11.5,0,0,-0.5]
["БЕЛАРУСЬ: Высшая лига - Женщины","2022.03.27 16:00","Динамо Минск (Ж)","ФК Минск (Ж)","pri9FYia",31,null,null,"Загрузить",3,2,null,null,null,null,null,null,"","",""]
["БЕЛЬГИЯ: Национальный дивизион 1","2022.03.27 16:00","Бум","Патро Эйсден","0YsufHwQ",32,null,null,"Загрузить",2,1,3.08,2.99,2.37,2.81,3.3,2.27,0.27,-0.30999999999999961,0.10000000000000009]
["БЕЛЬГИЯ: Национальный дивизион 1","2022.03.27 16:00","Кнокке","Визе","ng0hWDoJ",32,null,null,"Загрузить",2,1,2.12,3.3,3.24,2.12,3.3,3.06,0,0,0.18000000000000016]
["БЕЛЬГИЯ: Национальный дивизион 1","2022.03.27 16:00","Льеж","Дендер","lbvyecOJ",32,null,null,"Загрузить",3,0,2.13,3.2,3.32,2.2200000000000002,3.24,2.93,-9.0000000000000302E-2,-4.0000000000000036E-2,0.38999999999999968]
["БЕЛЬГИЯ: Второй любительский дивизион - группа ACFF","2022.03.27 16:00","Амуар","Варнант","Klu6ZDXF",32,null,null,"Загрузить",null,null,null,null,null,null,null,null,"","",""]
["БЕЛЬГИЯ: Второй любительский дивизион - группа ACFF","2022.03.27 16:00","Варем","РААЛ Ла Лувирье","COybyz33",32,null,null,"Загрузить",0,6,null,null,null,null,null,null,"","",""]
["БЕЛЬГИЯ: Второй любительский дивизион - группа ACFF","2022.03.27 16:00","Гансхорен","Мё","2DUAYXnM",32,null,null,"Загрузить",null,null,null,null,null,null,null,null,"","",""]
["БЕЛЬГИЯ: Второй любительский дивизион - группа ACFF","2022.03.27 16:00","Жет","Верлен","6oy2zfI9",32,null,null,"Загрузить",null,null,null,null,null,null,null,null,"","",""]
["БЕЛЬГИЯ: Второй любительский дивизион - группа ACFF","2022.03.27 16:00","Кувен-Мариамбур","Акран","dGgBDWAd",32,null,null,"Загрузить",null,null,null,null,null,null,null,null,"","",""]
["БЕЛЬГИЯ: Второй любительский дивизион - группа ACFF","2022.03.27 16:00","Сольер Спорт","Живри","IPf7ECej",32,null,null,"Загрузить",null,null,null,null,null,null,null,null,"","",""]
["БЕЛЬГИЯ: Второй любительский дивизион - группа ACFF","2022.03.27 16:00","Стоке-Варфюзе","Тьюбиц","O2e3Fhtp",32,null,null,"Загрузить",null,null,null,null,null,null,null,null,"","",""]
["БЕЛЬГИЯ: Второй любительский дивизион - группа ACFF","2022.03.27 16:00","Энтренте Дурби","Ребекуаз","YXxfxGmc",32,null,null,"Загрузить",null,null,null,null,null,null,null,null,"","",""]
["БЕЛЬГИЯ: Второй любительский дивизион - группа VFV A","2022.03.27 16:00","Звевезеле","Диккелвенне","4SuwIXBB",32,null,null,"Загрузить",null,null,null,null,null,null,null,null,"","",""]
["БЕЛЬГИЯ: Второй любительский дивизион - группа VFV A","2022.03.27 16:00","Зелзате","Харелбеке","A5tZIDd5",32,null,null,"Загрузить",null,null,null,null,null,null,null,null,"","",""]
["БЕЛЬГИЯ: Второй любительский дивизион - группа VFV A","2022.03.27 16:00","Олса Бракел","Гуллегем","zmlMLFCn",32,null,null,"Загрузить",null,null,null,null,null,null,null,null,"","",""]
["БЕЛЬГИЯ: Второй любительский дивизион - группа VFV A","2022.03.27 16:00","Петегем","Гент","EwmQKZRh",32,null,null,"Загрузить",null,null,null,null,null,null,null,null,"","",""]
["БЕЛЬГИЯ: Второй любительский дивизион - группа VFV B","2022.03.27 16:00","Аальст","Хасселт","EaOcZxy9",32,null,null,"Загрузить",3,1,1.69,3.74,4.08,1.69,3.74,4.08,0,0,0]
["БЕЛЬГИЯ: Второй любительский дивизион - группа VFV B","2022.03.27 16:00","Дигем","Конинклейк Берхем Спорт","2PKgzJL2",32,null,null,"Загрузить",1,2,null,null,null,null,null,null,"","",""]
["БОЛГАРИЯ: Третья лига - Северо-Восток","2022.03.27 16:00","Устрем Дончево","Рилци","UcLba4H7",41,null,null,"Загрузить",null,null,null,null,null,null,null,null,"","",""]
["БОСНИЯ И ГЕРЦЕГОВИНА: Первая лига - РС","2022.03.27 16:00","Славия Сараево","Крупа","69qGPo9s",37,null,null,"Загрузить",0,2,3.82,3.4,1.82,3.82,3.4,1.82,0,0,0]
["БРАЗИЛИЯ: Чемпионат Паулиста А2 - Плей-офф","2022.03.27 16:00","Линенсе","Оэсте","pC8WnFAm",39,null,null,"Загрузить",1,0,3.03,2.75,2.58,3.28,2.75,2.4500000000000002,-0.25,0,0.12999999999999989]
["ГЕРМАНИЯ: Северная региональная лига - Группа вылета","2022.03.27 16:00","Ганновершер","Айнтрахт Нордерштедт","EXc1CRBk",81,null,null,"Загрузить",0,4,4.42,3.92,1.74,5.0999999999999996,4.2,1.51,-0.67999999999999972,-0.28000000000000025,0.22999999999999998]
["ГЕРМАНИЯ: Оберлига Гамбург - Этап победителей","2022.03.27 16:00","Зазель","Бухгольц 08","WEN1rTNH",81,null,null,"Загрузить",null,null,1.34,5.25,6.95,1.51,4.5,4.6399999999999997,-0.16999999999999993,0.75,2.3100000000000005]
["ГЕРМАНИЯ: Оберлига Бремен","2022.03.27 16:00","Бремерхафен","Аумунд-Фегезак","CO3xyPp9",81,null,null,"Загрузить",null,null,1.47,4.9000000000000004,5.0999999999999996,1.85,4.32,3.05,-0.38000000000000012,0.58000000000000007,2.0499999999999998]
["ГЕРМАНИЯ: Оберлига Бремен","2022.03.27 16:00","Комет Арстен","Швахгаузен","CSJwGN8q",81,null,null,"Загрузить",null,null,3.24,4.5,1.75,3.24,4.5,1.75,0,0,0]
["ГЕРМАНИЯ: Оберлига Бремен","2022.03.27 16:00","Хаштедт","Унион 60 Бремен","6RCnE1wd",81,null,null,"Загрузить",null,null,4.74,4.9000000000000004,1.5,6.15,6,1.3,-1.4100000000000001,-1.0999999999999996,0.19999999999999996]
["ГЕРМАНИЯ: Оберлига Нижняя Саксония - Этап победителей","2022.03.27 16:00","Брауншвейг","Шпелле-Венхаус","QHKosn93",81,null,null,"Загрузить",null,null,3.7,4.38,1.65,3.8,4.32,1.64,-9.9999999999999645E-2,5.9999999999999609E-2,1.0000000000000009E-2]
["ГЕРМАНИЯ: Оберлига Нижняя Саксония - Этап победителей","2022.03.27 16:00","Люпо-Мартини Вольфсбург","Ольденбург","48Jkt6O9",81,null,null,"Загрузить",null,null,2.06,4.32,2.56,2.67,4.32,2.02,-0.60999999999999988,0,0.54]
["ГЕРМАНИЯ: Оберлига Нижняя Саксония - Этап победителей","2022.03.27 16:00","Эгесторф-Лангредер","Лоне","nX8fuQwG",81,null,null,"Загрузить",2,2,2.12,4.2,2.5499999999999998,2.12,4.2,2.5499999999999998,0,0,0]
["ГЕРМАНИЯ: Оберлига Нижняя Саксония - Этап проигравших","2022.03.27 16:00","Гифхорн","Ротенбюргер","fgMjM5YT",81,null,null,"Загрузить",null,null,2.0699999999999998,3.44,3.3,2.0699999999999998,3.44,3.3,0,0,0]
["ГЕРМАНИЯ: Оберлига Вестфален","2022.03.27 16:00","АСК 09 Дортмунд","Финнентроп/Баменоль","GGvseMko",81,null,null,"Загрузить",2,2,1.46,4.66,5.45,1.41,5,5.15,5.0000000000000044E-2,-0.33999999999999986,0.29999999999999982]
["ГЕРМАНИЯ: Оберлига Вестфален","2022.03.27 16:00","Вестфалия Рюнерн","Клархольц","rNWSIPsh",81,null,null,"Загрузить",2,0,1.21,5.95,9.3000000000000007,1.21,6,9.3000000000000007,0,-4.9999999999999822E-2,0]
["ГЕРМАНИЯ: Оберлига Вестфален","2022.03.27 16:00","Гутерслох","Зиген","hCWiDLBT",81,null,null,"Загрузить",null,null,1.59,4.24,4.62,1.51,4.5,4.6399999999999997,8.0000000000000071E-2,-0.25999999999999979,-1.9999999999999574E-2]
["ГЕРМАНИЯ: Оберлига Вестфален","2022.03.27 16:00","Пройссен Мюнстер 2","Айнтрахт Райне","IgvuGNRA",81,null,null,"Загрузить",3,1,2.8,4,2.02,2.8,4,2.02,{"$f":"IF(L450=\"\",\"\",L450-O450)","v":0},{"$f":"IF(M450=\"\",\"\",M450-P450)","v":0},{"$f":"IF(N450=\"\",\"\",N450-Q450)","v":0}]
["ГЕРМАНИЯ: Оберлига Вестфален","2022.03.27 16:00","РСВ Майнерцхаген","Шермбек-2020","QoMXHqcb",81,null,null,"Загрузить",0,1,3.98,4.04,1.72,4.26,4.2,1.59,-0.2799999999999998,-0.16000000000000014,0.12999999999999989]
["ГЕРМАНИЯ: Оберлига Вестфален","2022.03.27 16:00","Хальтерн","Хаммер ШпФгг.","ELXmE1dN",81,null,null,"Загрузить",0,3,2.02,4.2,2.68,2.02,4.2,2.68,0,0,0]
["ГЕРМАНИЯ: Оберлига Вестфален","2022.03.27 16:00","Хольцвиккедер","Каан-Мариенборн","4WXOJ5So",81,null,null,"Загрузить",null,null,10,6.5,1.18,10,6.5,1.18,0,0,0]
["ГЕРМАНИЯ: Оберлига Эссен - Группа вылета","2022.03.27 16:00","Бад-Фильбель","Штейнбах","GQPN1Ra0",81,null,null,"Загрузить",0,2,2.21,3.52,2.91,2.17,3.5,3.02,4.0000000000000036E-2,2.0000000000000018E-2,-0.10999999999999988]
["ГЕРМАНИЯ: Оберлига Эссен - Группа вылета","2022.03.27 16:00","Вальдорф","Альценау","bkVI27pf",81,null,null,"Загрузить",null,null,3.06,3.8,2.0699999999999998,3.06,3.8,2.0699999999999998,0,0,0]
["ГЕРМАНИЯ: Оберлига Эссен - Группа вылета","2022.03.27 16:00","Виктория Грисхайм","Хунфелдер","QyXA4TFs",81,null,null,"Загрузить",null,null,2.08,3.54,3.2,2.08,3.54,3.2,0,0,0]
["ГЕРМАНИЯ: Оберлига Эссен - Группа вылета","2022.03.27 16:00","Гинсхайм","Флиден","KbWE3mVm",81,null,null,"Загрузить",3,0,1.98,3.92,3.11,2.2999999999999998,3.8,2.65,-0.31999999999999984,0.12000000000000011,0.45999999999999996]
["ГЕРМАНИЯ: Оберлига Эссен - Повышение - группа","2022.03.27 16:00","Эддерсхайм","Фернвальд","0OMWuVKj",81,null,null,"Загрузить",null,null,1.37,5.0999999999999996,6.45,1.69,4,3.82,-0.31999999999999984,1.0999999999999996,2.6300000000000003]
["ГЕРМАНИЯ: Оберлига Бавария Север","2022.03.27 16:00","Бамберг","Спвгг Ансбах 09","xKh5Yucb",81,null,null,"Загрузить",null,null,4.04,3.98,1.72,3.17,4,1.85,0.87000000000000011,-2.0000000000000018E-2,-0.13000000000000012]
["ГЕРМАНИЯ: Оберлига Бавария Юг","2022.03.27 16:00","Гархинг","Халлбергмос-Голдах","I3ZcLfY1",81,null,null,"Загрузить",null,null,1.53,4.3,5.3,1.53,4.3,5.3,0,0,0]
["ГЕРМАНИЯ: Оберлига Баден-Вюрттемберг","2022.03.27 16:00","Рилазинген-Арлен","Оберахерн","8UqklHo3",81,null,null,"Загрузить",4,3,1.93,3.94,3.08,1.93,4,3.05,0,-6.0000000000000053E-2,3.0000000000000249E-2]
["ГЕРМАНИЯ: Оберлига Средний Рейн","2022.03.27 16:00","Дюрен","Пеш","QRoCmIIO",81,null,null,"Загрузить",1,0,1.26,5.5,7.8,1.26,5.5,7.8,0,0,0]
["ГЕРМАНИЯ: Оберлига Средний Рейн","2022.03.27 16:00","Фрайальденхофен","Виктория 08","nym8lb3I",81,null,null,"Загрузить",null,null,null,null,null,null,null,null,"","",""]
["ГЕРМАНИЯ: Оберлига Средний Рейн","2022.03.27 16:00","Хеннеф","Брайниг","vBq0jKY5",81,null,null,"Загрузить",3,2,1.05,11,25,1.07,11,16,-2.0000000000000018E-2,0,9]
["ГЕРМАНИЯ: Оберлига Средний Рейн","2022.03.27 16:00","Хюрт","Весселинг-Урфельд","I1r4kvlC",81,null,null,"Загрузить",4,1,1.1000000000000001,8.4,19,1.18,7,9.3000000000000007,-7.9999999999999849E-2,1.4000000000000004,9.6999999999999993]
["ГЕРМАНИЯ: Оберлига Нижний Рейн","2022.03.27 16:00","Вельберт","Унион Неттеталь","tGyy0K5r",81,null,null,"Загрузить",2,1,1.0900000000000001,8.6999999999999993,19,1.1000000000000001,8,15,-1.0000000000000009E-2,0.69999999999999929,4]
["ГЕРМАНИЯ: Оберлига Нижний Рейн","2022.03.27 16:00","Германиа Раттинген","Дуйсбург","tGF5pu6e",81,null,null,"Загрузить",3,0,1.4,4.9400000000000004,6.05,1.34,5,6.2,5.9999999999999831E-2,-5.9999999999999609E-2,-0.15000000000000036]
["ГЕРМАНИЯ: Оберлига Нижний Рейн","2022.03.27 16:00","Край","Нидервенигерн","jocd72D8",81,null,null,"Загрузить",4,2,1.82,4.1399999999999997,3.44,1.75,4.2,3.44,7.0000000000000062E-2,-6.0000000000000497E-2,0]
["ГЕРМАНИЯ: Оберлига Нижний Рейн","2022.03.27 16:00","Мербуш","Баумберг","xrVqbbze",81,null,null,"Загрузить",1,6,3.94,4.28,1.68,4.6399999999999997,4.5,1.51,-0.69999999999999973,-0.21999999999999975,0.16999999999999993]
["ГЕРМАНИЯ: Оберлига Нижний Рейн","2022.03.27 16:00","Монхайм","1. ФК Менхенгладбах","SCB1oLjk",81,null,null,"Загрузить",2,0,1.08,9.8000000000000007,19,1.1299999999999999,8,11,-4.9999999999999822E-2,1.8000000000000007,8]
["ГЕРМАНИЯ: Оберлига Нижний Рейн","2022.03.27 16:00","ТВД Фельберт","Кроненбергер","Ozk940cR",81,null,null,"Загрузить",5,3,1.34,5,6.25,1.34,5,6.2,0,0,4.9999999999999822E-2]
["ГЕРМАНИЯ: Оберлига Нижний Рейн","2022.03.27 16:00","Тевтония Ст. Тонис","Фельберт","2V3ErJz8",81,null,null,"Загрузить",0,0,1.59,4.2,4.26,1.59,4.2,4.26,0,0,0]
["ГЕРМАНИЯ: Оберлига Нижний Рейн","2022.03.27 16:00","ТуРУ Дюссельдорф","Хильден","Ov5AqaL1",81,null,null,"Загрузить",1,2,5.2,4.5999999999999996,1.49,6.2,5,1.34,-1,-0.40000000000000036,0.14999999999999991]
["ГЕРМАНИЯ: Оберлига Нижний Рейн","2022.03.27 16:00","Эссен","Ян Хисфельд","Uyd06MSE",81,null,null,"Загрузить",4,2,1.29,5.6,7.8,1.62,4.2,4.0599999999999996,-0.33000000000000007,1.3999999999999995,3.74]
["ГРЕЦИЯ: Гамма Этники - Группа 2","2022.03.27 16:00","Козани","Посейдон Миханионас","UBv1BKq1",83,null,null,"Загрузить",null,null,null,null,null,null,null,null,"","",""]
["ГРЕЦИЯ: Гамма Этники - Группа 2","2022.03.27 16:00","Лефкимми","Гианитса","rexkEMar",83,null,null,"Загрузить",2,0,1.41,4,6.8,1.69,3.6,4.28,-0.28000000000000003,0.39999999999999991,2.5199999999999996]
["ГРЕЦИЯ: Гамма Этники - Группа 2","2022.03.27 16:00","Мегас Александрос Трикала","Козани","QwdIJrxL",83,null,null,"Загрузить",0,2,null,null,null,null,null,null,"","",""]
["ГРЕЦИЯ: Гамма Этники - Группа 2","2022.03.27 16:00","Тиелла Саракинои","Астерас Калирахис","xEaMI2iR",83,null,null,"Загрузить",null,null,null,null,null,null,null,null,"","",""]
["ГРЕЦИЯ: Гамма Этники - Группа 2","2022.03.27 16:00","Эдессаикос","Ираклис Ампелокипи","MoygDtFl",83,null,null,"Загрузить",4,1,null,null,null,null,null,null,"","",""]
["ГРЕЦИЯ: Гамма Этники - Группа 3","2022.03.27 16:00","Атромитос Паламас","Атос Макрихориу","8Uazjsh4",83,null,null,"Загрузить",null,null,null,null,null,null,null,null,"","",""]
["ГРЕЦИЯ: Гамма Этники - Группа 3","2022.03.27 16:00","Ираклис Ларисса","Амвриссеас","C26Ri3Ni",83,null,null,"Загрузить",1,0,null,null,null,null,null,null,"","",""]
["ГРЕЦИЯ: Гамма Этники - Группа 3","2022.03.27 16:00","Неа Артаки","Ипато","pdEuUaVp",83,null,null,"Загрузить",null,null,null,null,null,null,null,null,"","",""]
["ГРЕЦИЯ: Гамма Этники - Группа 3","2022.03.27 16:00","Тисеас Агриа","Аталанти","2iavk17A",83,null,null,"Загрузить",3,0,null,null,null,null,null,null,"","",""]
["ГРЕЦИЯ: Гамма Этники - Группа 3","2022.03.27 16:00","Фикис","Этникос Неу","YB7Nhq8o",83,null,null,"Загрузить",3,0,null,null,null,null,null,null,"","",""]
["ГРЕЦИЯ: Гамма Этники - Группа 3","2022.03.27 16:00","Эласон","Димитра","fReWjNxb",83,null,null,"Загрузить",null,null,null,null,null,null,null,null,"","",""]
["ГРЕЦИЯ: Гамма Этники - Группа 4","2022.03.27 16:00","Анагенниси Арта","Амвракикос Лутру","ra6clbit",83,null,null,"Загрузить",null,null,null,null,null,null,null,null,"","",""]
["ГРЕЦИЯ: Гамма Этники - Группа 4","2022.03.27 16:00","Диагорас Врачникон","ПАО Варда","WMwU5QMD",83,null,null,"Загрузить",2,1,null,null,null,null,null,null,"","",""]
["ГРЕЦИЯ: Гамма Этники - Группа 4","2022.03.27 16:00","Нафпактиакос","Ахерон Каналаки","xM51mI6n",83,null,null,"Загрузить",null,null,null,null,null,null,null,null,"","",""]
["ГРЕЦИЯ: Гамма Этники - Группа 4","2022.03.27 16:00","Панагриниакос","Паначаики","SlDmcYID",83,null,null,"Загрузить",null,null,null,null,null,null,null,null,"","",""]
["ГРЕЦИЯ: Гамма Этники - Группа 4","2022.03.27 16:00","Эйас Гастунис","Дьяволицы","lbEqbE37",83,null,null,"Загрузить",null,null,null,null,null,null,null,null,"","",""]
["ГРЕЦИЯ: Гамма Этники - Группа 5","2022.03.27 16:00","Харавгиакос","Панаркадикос","dIlKHZZp",83,null,null,"Загрузить",null,null,3.04,3.32,2.16,3.84,3.34,1.94,-0.79999999999999982,-2.0000000000000018E-2,0.2200000000000002]
["ГРЕЦИЯ: Гамма Этники - Группа 6","2022.03.27 16:00","Аиттитос Спата","Панелефсиниакос","ro5Bqbso",83,null,null,"Загрузить",1,5,null,null,null,null,null,null,"","",""]
["ГРЕЦИЯ: Гамма Этники - Группа 6","2022.03.27 16:00","Проодефтики","Этникос Пирей","EDPz3nr6",83,null,null,"Загрузить",null,null,null,null,null,null,null,null,"","",""]
["ГРЕЦИЯ: Гамма Этники - Группа 6","2022.03.27 16:00","Тиелла Д.","Каравас","nRNr1QCI",83,null,null,"Загрузить",1,1,null,null,null,null,null,null,"","",""]
["ГРЕЦИЯ: Гамма Этники - Группа 6","2022.03.27 16:00","Эйас","Керацини","h4Ov26cC",83,null,null,"Загрузить",4,0,null,null,null,null,null,null,"","",""]
["ГРЕЦИЯ: Гамма Этники - Группа 7","2022.03.27 16:00","АЕ Неаполис","Паниониос","ARs87hqs",83,null,null,"Загрузить",null,null,null,null,null,null,null,null,"","",""]
["ГРЕЦИЯ: Гамма Этники - Группа 7","2022.03.27 16:00","Альмирос Газиу","Гиухтас","4p5uCYzQ",83,null,null,"Загрузить",0,0,null,null,null,null,null,null,"","",""]
["ГРЕЦИЯ: Гамма Этники - Группа 7","2022.03.27 16:00","Арис Судас","Атсалениос","js1yDELJ",83,null,null,"Загрузить",null,null,null,null,null,null,null,null,"","",""]
["ГРЕЦИЯ: Гамма Этники - Группа 7","2022.03.27 16:00","Иерапетра","Агиос Николаос","lItC6Cbm",83,null,null,"Загрузить",null,null,null,null,null,null,null,null,"","",""]
["ГРЕЦИЯ: Гамма Этники - Группа 7","2022.03.27 16:00","Порос","ПАО Роуф","xvDglVrJ",83,null,null,"Загрузить",1,2,null,null,null,null,null,null,"","",""]
["ЕВРОПА: Премьер-лига (Крым)","2022.03.27 16:00","Кызылташ","ТСК-Таврия","ELVRmuJC",6,null,null,"Загрузить",0,2,null,null,null,null,null,null,"","",""]
["ЗАМБИЯ: Суперлига","2022.03.27 16:00","Занако","Нквази","CI6bTh2C",209,null,null,"Загрузить",2,0,2.02,2.72,4.3600000000000003,1.68,3.01,6.25,0.34000000000000008,-0.28999999999999959,-1.8899999999999997]
["ЗИМБАБВЕ: Премьер-лига","2022.03.27 16:00","Manica","Платинум","QawnwmcS",210,null,null,"Загрузить",0,0,null,null,null,null,null,null,"","",""]
["ЗИМБАБВЕ: Премьер-лига","2022.03.27 16:00","Whawha","Cranborne Bullets","n9vrvTsM",210,null,null,"Загрузить",null,null,null,null,null,null,null,null,"","",""]
["ЗИМБАБВЕ: Премьер-лига","2022.03.27 16:00","Хайлендерс","Ядах","ppKIXQKk",210,null,null,"Загрузить",3,0,null,null,null,null,null,null,"","",""]
["ЗИМБАБВЕ: Премьер-лига","2022.03.27 16:00","Хараре Сити","Динамос","WtGEY65q",210,null,null,"Загрузить",0,2,null,null,null,null,null,null,"","",""]
["ИТАЛИЯ: Серия D - Группа A","2022.03.27 16:00","Новара","Санремезе","Kv8tbgSN",98,null,null,"Загрузить",1,5,1.82,3.46,4.12,1.73,3.64,4.1399999999999997,9.000000000000008E-2,-0.18000000000000016,-1.9999999999999574E-2]
["ИТАЛИЯ: Серия D - Группа A","2022.03.27 16:00","Фоссано","Касале","C8LP1yTb",98,null,null,"Загрузить",1,4,3.18,3.38,2.12,2.89,3.2,2.3199999999999998,0.29000000000000004,0.17999999999999972,-0.19999999999999973]
["ИТАЛИЯ: Серия D - Группа A","2022.03.27 16:00","Читта де Варезе","ХСЛ Дертона","b5HL2HDh",98,null,null,"Загрузить",0,1,2.2200000000000002,3.12,3.22,1.98,3.44,3.38,0.24000000000000021,-0.31999999999999984,-0.1599999999999997]
["ИТАЛИЯ: Серия D - Группа B","2022.03.27 16:00","Вилла Валле","Сона","IZNnpVD9",98,null,null,"Загрузить",0,0,2.4300000000000002,3.4,2.61,2.42,3.24,2.65,1.0000000000000231E-2,0.1599999999999997,-4.0000000000000036E-2]
["ИТАЛИЯ: Серия D - Группа B","2022.03.27 16:00","Караваджо","Фольгоре Чаратезе","d4oGWBqA",98,null,null,"Загрузить",0,0,3.28,3.2,2.1,3.38,3.44,1.98,-0.10000000000000009,-0.23999999999999977,0.12000000000000011]
["ИТАЛИЯ: Серия D - Группа B","2022.03.27 16:00","Кастеллансезе","Брузапорто","xG2DVVbG",98,null,null,"Загрузить",2,1,3.11,3.48,2.12,4.04,3.54,1.78,-0.93000000000000016,-6.0000000000000053E-2,0.34000000000000008]
["ИТАЛИЯ: Серия D - Группа B","2022.03.27 16:00","Крема","Понте Сан-Пьетро","AT0LT9TS",98,null,null,"Загрузить",2,3,2.5,3,2.75,2.19,3.34,2.99,0.31000000000000005,-0.33999999999999986,-0.24000000000000021]
["ИТАЛИЯ: Серия D - Группа B","2022.03.27 16:00","Леньяно","Сити Нова","nkhmPTyp",98,null,null,"Загрузить",0,0,3.24,3.2,2.12,3.1,3.2,2.19,{"$f":"IF(L514=\"\",\"\",L514-O514)","v":0.14000000000000012},{"$f":"IF(M514=\"\",\"\",M514-P514)","v":0},{"$f":"IF(N514=\"\",\"\",N514-Q514)","v":-6.999999999999984E-2}]
["ИТАЛИЯ: Серия D - Группа B","2022.03.27 16:00","Леон","Чизерано-Бергамо","UDshOmij",98,null,null,"Загрузить",1,1,4.6399999999999997,3.92,1.64,4.82,4,1.55,-0.1800000000000006,-8.0000000000000071E-2,8.9999999999999858E-2]
["ИТАЛИЯ: Серия D - Группа C","2022.03.27 16:00","Картильяно","Камподарсего","b91FdT6o",98,null,null,"Загрузить",1,1,2.78,2.96,2.57,2.4,3.2,2.63,0.37999999999999989,-0.24000000000000021,-6.0000000000000053E-2]
["ИТАЛИЯ: Серия D - Группа D","2022.03.27 16:00","Атлетик Карпи","Реал Форте Керчета","xQiORRJO",98,null,null,"Загрузить",4,1,2.09,3.28,3.36,2.35,3.1,2.9,-0.26000000000000023,0.17999999999999972,0.45999999999999996]
["ИТАЛИЯ: Серия D - Группа D","2022.03.27 16:00","Сассо Маркони","Тритиум","pWEkrm45",98,null,null,"Загрузить",1,2,2.13,3.28,3.24,2.42,3.05,2.8,-0.29000000000000004,0.22999999999999998,0.44000000000000039]
["ИТАЛИЯ: Серия D - Группа D","2022.03.27 16:00","Серавецца","Прогрессо","vgEgs7JB",98,null,null,"Загрузить",3,1,1.73,3.44,4.7,1.72,3.44,4.54,1.0000000000000009E-2,0,0.16000000000000014]
["ИТАЛИЯ: Серия D - Группа E","2022.03.27 16:00","Скандиччи","Унипомеция","zwNjmOwt",98,null,null,"Загрузить",1,2,1.89,3.42,3.86,1.78,3.44,4.1399999999999997,0.10999999999999988,-2.0000000000000018E-2,-0.2799999999999998]
["ИТАЛИЯ: Серия D - Группа F","2022.03.27 16:00","Вастоджирарди","АСД Пинето","dMMflYBs",98,null,null,"Загрузить",null,null,2.85,3,2.5499999999999998,2.2000000000000002,3.24,3.05,0.64999999999999991,-0.24000000000000021,-0.5]
["ИТАЛИЯ: Серия D - Группа F","2022.03.27 16:00","Кастелнуово Вомано","Кьети","8KfYWWt7",98,null,null,"Загрузить",3,1,2.54,3.2,2.62,2.25,3.24,2.94,0.29000000000000004,-4.0000000000000036E-2,-0.31999999999999984]
["ИТАЛИЯ: Серия D - Группа F","2022.03.27 16:00","Кастельфидардо","Самбенедеттезе","l2h7nZ7G",98,null,null,"Загрузить",0,0,3.14,3.08,2.29,2.95,3.05,2.35,0.18999999999999995,3.0000000000000249E-2,-6.0000000000000053E-2]
["ИТАЛИЯ: Серия D - Группа F","2022.03.27 16:00","Фано","Монтеджорджо","0fiQYhCf",98,null,null,"Загрузить",1,1,1.6,3.58,5.6,2.34,3.05,3,-0.73999999999999977,0.53000000000000025,2.5999999999999996]
["ИТАЛИЯ: Серия D - Группа F","2022.03.27 16:00","Фьюджи","Трастевере Кальчо","vojUXCR0",98,null,null,"Загрузить",1,1,3.07,3.22,2.25,2.34,3.15,2.89,0.73,7.0000000000000284E-2,-0.64000000000000012]
["ИТАЛИЯ: Серия D - Группа G","2022.03.27 16:00","Нуова Флорида","Остиа Маре","jiYt7mH7",98,null,null,"Загрузить",2,1,2.15,3.19,3.3,1.89,3.15,4.0599999999999996,0.26,4.0000000000000036E-2,-0.75999999999999979]
["ИТАЛИЯ: Серия D - Группа H","2022.03.27 16:00","Битонто","Гравина","S6GJb0cM",98,null,null,"Загрузить",2,2,1.66,3.74,4.74,1.7,3.44,4.6399999999999997,-4.0000000000000036E-2,0.30000000000000027,0.10000000000000053]
["ИТАЛИЯ: Серия D - Группа H","2022.03.27 16:00","Бриндизи","Казарано","AV5OcKCS",98,null,null,"Загрузить",1,0,2.46,3.08,2.81,2.4,3.1,2.85,6.0000000000000053E-2,-2.0000000000000018E-2,-4.0000000000000036E-2]
["ИТАЛИЯ: Серия D - Группа H","2022.03.27 16:00","Франкавилла","Бишелье","tEdfhbzj",98,null,null,"Загрузить",2,1,1.89,3.2,4.04,1.57,3.54,5.8,0.31999999999999984,-0.33999999999999986,-1.7599999999999998]
["ИТАЛИЯ: Серия D - Группа I","2022.03.27 16:00","Ачиреале","Кастровиллари","hneXKrw6",98,null,null,"Загрузить",null,null,1.18,6.5,10,1.18,6.5,10,0,0,0]
["ИТАЛИЯ: Серия D - Группа I","2022.03.27 16:00","Кавезе 1919","Ликата","bBtULONa",98,null,null,"Загрузить",3,0,1.38,4.42,7.7,1.55,3.9,5.7,-0.17000000000000015,0.52,2]
["ИТАЛИЯ: Серия D - Группа I","2022.03.27 16:00","Ламеция-Терме","Портичи 1906","t8yStQaP",98,null,null,"Загрузить",3,2,1.47,4,6.65,1.55,3.6,6,-8.0000000000000071E-2,0.39999999999999991,0.65000000000000036]
["ИТАЛИЯ: Серия D - Группа I","2022.03.27 16:00","Патерно","Сан-Лука","rHNgxp8t",98,null,null,"Загрузить",0,2,2.17,3.18,3.28,1.68,3.44,4.84,0.49,-0.25999999999999979,-1.56]
["ИТАЛИЯ: Серия D - Группа I","2022.03.27 16:00","Реал Аверса","Гельбисон Клиенто","0hIby4Nn",98,null,null,"Загрузить",0,0,4.3600000000000003,3.11,1.86,3.5,3.2,2.02,0.86000000000000032,-9.0000000000000302E-2,-0.15999999999999992]
["ИТАЛИЯ: Серия D - Группа I","2022.03.27 16:00","Санта-Агата","Бьянкавилла","WxfyK2hC",98,null,null,"Загрузить",4,0,1.39,4.5,7.1,1.5,4,6.4,-0.1100000000000001,0.5,0.69999999999999929]
["ИТАЛИЯ: Серия D - Группа I","2022.03.27 16:00","Читтановезе","Джарре","E1qtJM7I",98,null,null,"Загрузить",3,1,1.98,3.28,3.7,1.74,3.3,4.6399999999999997,0.24,-2.0000000000000018E-2,-0.9399999999999995]
["ИТАЛИЯ: Примавера 2","2022.03.27 16:00","Лацио U19","Фрозиноне U19","EwPwOJUf",98,null,null,"Загрузить",2,1,1.82,3.8,3.78,1.84,3.8,3.74,-2.0000000000000018E-2,0,3.9999999999999591E-2]
["МАЛАЙЗИЯ: Премьер-лига","2022.03.27 16:00","ПДРМ ФА","Келантан Юнайтед","A3XZ2dUC",121,null,null,"Загрузить",0,1,2.1,3.48,3.14,2.4500000000000002,3.24,2.75,-0.35000000000000009,0.23999999999999977,0.39000000000000012]
["МИР: Международные товарищеские матчи","2022.03.27 16:00","Франция U20","Португалия U20","O21vZafB",8,null,null,"Загрузить",null,null,null,null,null,null,null,null,"","",""]
["МИР: Клубные товарищеские матчи","2022.03.27 16:00","Гёзтепе","Менеменспор","GOIcMMA5",8,null,null,"Загрузить",2,0,null,null,null,null,null,null,"","",""]
["МИР: Клубные товарищеские матчи","2022.03.27 16:00","Стьордалс Блинк","Ранхейм","f39UeVAF",8,null,null,"Загрузить",1,2,null,null,null,null,null,null,"","",""]
["МИР: Клубные товарищеские матчи","2022.03.27 16:00","Хаугесунд","Эйгарден","04Y1xurq",8,null,null,"Загрузить",null,null,2.25,3.74,2.5,2.25,3.74,2.5,0,0,0]
["НОРВЕГИЯ: Премьер-лига - женщины","2022.03.27 16:00","Авальдснес (Ж)","Стреммен (Ж)","EyYUIM2L",145,null,null,"Загрузить",0,2,7,6.65,1.28,4.88,4.5,1.51,2.12,2.1500000000000004,-0.22999999999999998]
["НОРВЕГИЯ: Премьер-лига - женщины","2022.03.27 16:00","Бранн (Ж)","Арна-Бьёрнар (Ж)","ALYaD0Qr",145,null,null,"Загрузить",7,0,1.05,11.5,30,1.0900000000000001,9.8000000000000007,13.5,-4.0000000000000036E-2,1.6999999999999993,16.5]
["НОРВЕГИЯ: Премьер-лига - женщины","2022.03.27 16:00","Колботн (Ж)","РЕА (Ж)","8CnYHtIR",145,null,null,"Загрузить",1,0,1.51,4.34,5.4,1.55,4.2,4.8,-4.0000000000000036E-2,0.13999999999999968,0.60000000000000053]
["НОРВЕГИЯ: Премьер-лига - женщины","2022.03.27 16:00","Стабек (Ж)","РУсенбург (Ж)","hpO4CKuk",145,null,null,"Загрузить",2,3,9.8000000000000007,5.9,1.24,10,5.8,1.22,-0.19999999999999929,0.10000000000000053,2.0000000000000018E-2]
["ПОЛЬША: Дивизион 3 - группа 1","2022.03.27 16:00","Щучин","Урсус Варшава","Yg0N43c7",154,null,null,"Загрузить",1,1,3.72,3.54,1.89,3.58,3.7,1.84,0.14000000000000012,-0.16000000000000014,4.9999999999999822E-2]
["ПОЛЬША: Дивизион 3 - группа 4","2022.03.27 16:00","Сандомир","Вислока Дебица","SbWxDHW6",154,null,null,"Загрузить",0,1,4.42,3.7,1.71,3.04,3.5,2.11,1.38,0.20000000000000018,-0.39999999999999991]
["ПОРТУГАЛИЯ: Лига BPI - Женщины - Чемпионшип - плей-офф","2022.03.27 16:00","Албергария/Дурит (Ж)","Спортинг (Ж)","Wz9wGeR4",155,null,null,"Загрузить",0,4,32,15,1.05,8.3000000000000007,6.2,1.26,23.7,8.8000000000000007,-0.20999999999999996]
["РОССИЯ: Олимп-ФНЛ 2 - Гр. 1","2022.03.27 16:00","Динамо Махачкала","Туапсе","YcQsLkVF",158,null,null,"Загрузить",3,0,1.21,6.45,9.8000000000000007,1.25,5.7,8.6,-4.0000000000000036E-2,0.75,1.2000000000000011]
["РОССИЯ: Олимп-ФНЛ 2 - Гр. 1","2022.03.27 16:00","Кубань Холдинг","Динамо Ставрополь","UPJjJTaS",158,null,null,"Загрузить",0,0,1.3,5.5,7.7,1.47,4.0999999999999996,6,-0.16999999999999993,1.4000000000000004,1.7000000000000002]
["СЕРБИЯ: Сербская Лига - Войводина","2022.03.27 16:00","Борац","Единство СП","Amqs4WhL",167,null,null,"Загрузить",3,0,null,null,null,null,null,null,"","",""]
["СЕРБИЯ: Сербская Лига - Восток","2022.03.27 16:00","Брзи Брод","Месево","zRWDy8nn",167,null,null,"Загрузить",0,0,null,null,null,null,null,null,"","",""]
["СЕРБИЯ: Сербская Лига - Восток","2022.03.27 16:00","Будучность Поповац","Пчиня","YoCsVNVT",167,null,null,"Загрузить",1,0,null,null,null,null,null,null,"","",""]
["СЕРБИЯ: Сербская Лига - Восток","2022.03.27 16:00","Рембас","Раднички Пирот","QFPQY5W4",167,null,null,"Загрузить",0,3,null,null,null,null,null,null,"","",""]
["СЕРБИЯ: Сербская Лига - Восток","2022.03.27 16:00","Тимочанин","Слуга Лесковац","rizMZoHb",167,null,null,"Загрузить",2,0,null,null,null,null,null,null,"","",""]
["СЛОВАКИЯ: Дивизион C - Запад","2022.03.27 16:00","Галанта","Partizanske","xlAKg1dk",171,null,null,"Загрузить",3,0,1.37,4.7,7.1,1.34,5,6.2,3.0000000000000027E-2,-0.29999999999999982,0.89999999999999947]
["СЛОВАКИЯ: Дивизион C - Запад","2022.03.27 16:00","Злате-Моравце (Б)","Нове Замки","hEezIVu0",171,null,null,"Загрузить",3,1,null,null,null,null,null,null,"","",""]
["СЛОВАКИЯ: Дивизион C - Запад","2022.03.27 16:00","Имель","Кристал","K0cSJiBm",171,null,null,"Загрузить",null,null,null,null,null,null,null,null,"","",""]
["СЛОВАКИЯ: Дивизион C - Запад","2022.03.27 16:00","Левице","Белуша","KCaPhLBe",171,null,null,"Загрузить",null,null,null,null,null,null,null,null,"","",""]
["СЛОВАКИЯ: Дивизион C - Запад","2022.03.27 16:00","Мальженице","Вельке Лудинце","ENdWIBQg",171,null,null,"Загрузить",1,1,1.32,5.2,7.6,1.41,4.5,5.7,-8.9999999999999858E-2,0.70000000000000018,1.8999999999999995]
["СЛОВАКИЯ: Дивизион C - Запад","2022.03.27 16:00","Нитра","Спартак Миява","Q9jFFrJ8",171,null,null,"Загрузить",0,1,2.97,3.46,2.19,3.06,3.6,2.02,-8.9999999999999858E-2,-0.14000000000000012,0.16999999999999993]
["СЛОВАКИЯ: Дивизион C - Восток","2022.03.27 16:00","Раславице","Татран Прешов","naoXrWUD",171,null,null,"Загрузить",1,3,12.5,6.95,1.17,7.8,5.5,1.26,4.7,1.4500000000000002,-9.000000000000008E-2]
["СЛОВАКИЯ: Дивизион C - Восток","2022.03.27 16:00","Свидник","Славия Кошице","QkpyrjpK",171,null,null,"Загрузить",null,null,null,null,null,null,null,null,"","",""]
["СЛОВАКИЯ: Дивизион C - Восток","2022.03.27 16:00","Снина","Попрад","QDOJZRi0",171,null,null,"Загрузить",null,null,null,null,null,null,null,null,"","",""]
["СЛОВАКИЯ: Дивизион C - Восток","2022.03.27 16:00","Собранце","Младость Калша","dYz7xU7s",171,null,null,"Загрузить",4,0,1.65,4.16,4.3,1.93,3.74,3.16,-0.28000000000000003,0.41999999999999993,1.1399999999999997]
["СЛОВАКИЯ: Дивизион C - Восток","2022.03.27 16:00","Спишске-Подградье","Спишска-Нова-Вес","ImPFz8xf",171,null,null,"Загрузить",0,4,15,7.9,1.1200000000000001,9.3000000000000007,6,1.21,5.6999999999999993,1.9000000000000004,-8.9999999999999858E-2]
["СЛОВАКИЯ: Дивизион C - Центр","2022.03.27 16:00","Жарновица","Йеднота Банова","bP3ju6Bi",171,null,null,"Загрузить",null,null,null,null,null,null,null,null,"","",""]
["СЛОВАКИЯ: Дивизион C - Центр","2022.03.27 16:00","Красно","Калиново","xG2fvQQc",171,null,null,"Загрузить",1,1,2.2999999999999998,3.4,2.5499999999999998,2.85,3.6,2.12,-0.55000000000000027,-0.20000000000000018,0.42999999999999972]
["СЛОВАКИЯ: Дивизион C - Центр","2022.03.27 16:00","Липтовска Штьявница","Ковачова","S4e7yOAG",171,null,null,"Загрузить",null,null,2.33,3.44,2.71,2.2000000000000002,3.74,2.5499999999999998,0.12999999999999989,-0.30000000000000027,0.16000000000000014]
["СЛОВАКИЯ: Дивизион C - Центр","2022.03.27 16:00","Ракитовце","МСК Мартин","Kvhawpt4",171,null,null,"Загрузить",3,2,2.33,3.5,2.73,2.25,3.74,2.5499999999999998,8.0000000000000071E-2,-0.24000000000000021,0.18000000000000016]
["СЛОВАКИЯ: Дивизион C - Братислава","2022.03.27 16:00","Дунайска Лужна","Вракуна Братислава","pdl4N6A1",171,null,null,"Загрузить",0,3,2.38,3.42,2.67,2.17,3.74,2.68,0.20999999999999996,-0.32000000000000028,-1.0000000000000231E-2]
["СЛОВАКИЯ: Дивизион C - Братислава","2022.03.27 16:00","Иванка-при-Дунае","Рача","bah8MQP7",171,null,null,"Загрузить",null,null,null,null,null,null,null,null,"","",""]
["СЛОВАКИЯ: Дивизион C - Братислава","2022.03.27 16:00","Малацки","Интер Братислава","jZl0Onee",171,null,null,"Загрузить",null,null,2.63,3.5,2.25,2.63,3.5,2.25,0,0,0]
["СЛОВАКИЯ: Дивизион C - Братислава","2022.03.27 16:00","Нова Дединка","Сенец","WWYbQ8Qr",171,null,null,"Загрузить",null,null,null,null,null,null,null,null,"","",""]
["СЛОВАКИЯ: Дивизион C - Братислава","2022.03.27 16:00","Русовце","Калинково","04WjoA28",171,null,null,"Загрузить",null,null,1.23,6.15,9.4,1.34,5,6.2,-0.1100000000000001,1.1500000000000004,3.2]
["СЛОВАКИЯ: Дивизион C - Братислава","2022.03.27 16:00","Слован Мост","Ровинка","CrjdPSuk",171,null,null,"Загрузить",null,null,6.05,4.96,1.38,6.2,4.74,1.37,-0.15000000000000036,0.21999999999999975,9.9999999999997868E-3]
["СЛОВЕНИЯ: 3. СНЛ - Запад","2022.03.27 16:00","Брда","НК Адрия","YDtuFkvM",172,null,null,"Загрузить",null,null,1.73,3.86,4.12,1.77,3.6,3.86,{"$f":"IF(L578=\"\",\"\",L578-O578)","v":-4.0000000000000036E-2},{"$f":"IF(M578=\"\",\"\",M578-P578)","v":0.25999999999999979},{"$f":"IF(N578=\"\",\"\",N578-Q578)","v":0.26000000000000023}]
["СЛОВЕНИЯ: 3. СНЛ - Запад","2022.03.27 16:00","Постойна","Собец","jkizGVOF",172,null,null,"Загрузить",null,null,5.95,4.4400000000000004,1.45,5.7,4.2,1.45,0.25,0.24000000000000021,0]
["СЛОВЕНИЯ: 3. СНЛ - Запад","2022.03.27 16:00","Сава Крань","Любляна Свобода","xnmWGB99",172,null,null,"Загрузить",null,null,1.71,3.92,4.1399999999999997,1.51,4,5.2,0.19999999999999996,-8.0000000000000071E-2,-1.0600000000000005]
["СЛОВЕНИЯ: Первый дивизион (Ж)","2022.03.27 16:00","Олимпия Любляна (Ж)","Приморье (Ж)","YNHYPzj0",172,null,null,"Загрузить",null,null,null,null,null,null,null,null,"","",""]
["СЛОВЕНИЯ: Первый дивизион (Ж)","2022.03.27 16:00","Помурье (Ж)","Крим (Ж)","v1IUQGzf",172,null,null,"Загрузить",null,null,null,null,null,null,null,null,"","",""]
["СЛОВЕНИЯ: Первый дивизион (Ж)","2022.03.27 16:00","Радомлье (Ж)","Церкле (Ж)","W8zxPf56",172,null,null,"Загрузить",null,null,null,null,null,null,null,null,"","",""]
["ТАНЗАНИЯ: Премьер-лига","2022.03.27 16:00","Полиси Танзания","Симба","AFkdg4J9",185,null,null,"Загрузить",null,null,null,null,null,null,null,null,"","",""]
["УГАНДА: Премьер-лига","2022.03.27 16:00","Уганда Ревеню Ауторити","Вилла","dIvJFbpA",194,null,null,"Загрузить",3,1,1.79,3.08,4.8,1.53,3.84,6.1,0.26,-0.75999999999999979,-1.2999999999999998]
["ФРАНЦИЯ: Кубок Франции - Женщины","2022.03.27 16:00","Изёр Алье (Ж)","Нант (Ж)","Ak4TqeMC",77,null,null,"Загрузить",2,1,3.34,3.46,2.0299999999999998,3.26,3.3,2.02,8.0000000000000071E-2,0.16000000000000014,9.9999999999997868E-3]
["ЧЕХИЯ: ЧФЛ - Группа A","2022.03.27 16:00","Повлтавска ФА","Баник Соколов","SWcpQmmi",62,null,null,"Загрузить",0,2,1.58,4.28,4.66,1.58,4.2,4.5199999999999996,0,8.0000000000000071E-2,0.14000000000000057]
["ЧЕХИЯ: ЧФЛ - Группа B","2022.03.27 16:00","Брозаны","Градец-Кралове (Б)","QaDLsSWq",62,null,null,"Загрузить",0,1,1.73,3.9,4.0599999999999996,1.82,4.74,3.03,-9.000000000000008E-2,-0.8400000000000003,1.0299999999999998]
["ЧЕХИЯ: Дивизион A","2022.03.27 16:00","Йиндржихув Градец","Хоровице","zmd4WDoc",62,null,null,"Загрузить",2,2,null,null,null,null,null,null,"","",""]
["ЧЕХИЯ: Дивизион B","2022.03.27 16:00","Лоуны","Метеор Прага","fqTcuq4F",62,null,null,"Загрузить",0,1,2.13,3.98,2.64,2.12,4,2.65,9.9999999999997868E-3,-2.0000000000000018E-2,-9.9999999999997868E-3]
["ЧЕХИЯ: Дивизион C","2022.03.27 16:00","Зенит Каслав","Бенатки","SWwqmmUG",62,null,null,"Загрузить",2,1,null,null,null,null,null,null,"","",""]
["ЧЕХИЯ: Дивизион C","2022.03.27 16:00","Колин","Глинско","p8Ymn7qN",62,null,null,"Загрузить",5,0,1.19,6.5,9.3000000000000007,1.19,6.5,9.3000000000000007,0,0,0]
["ЧЕХИЯ: Дивизион D","2022.03.27 16:00","Здирец","Brno (Б)","UyvfNz3C",62,null,null,"Загрузить",1,1,null,null,null,null,null,null,"","",""]
["ЧЕХИЯ: Дивизион D","2022.03.27 16:00","Славой Польна","Тасовице","I1zjOGm6",62,null,null,"Загрузить",1,1,3.98,4.32,1.59,4.4800000000000004,4.5,1.51,-0.50000000000000044,-0.17999999999999972,8.0000000000000071E-2]
["ЧЕХИЯ: Дивизион E","2022.03.27 16:00","Козловице","Валашске-Мезиржичи","K0RKxVKk",62,null,null,"Загрузить",1,1,1.55,4.5,4.24,1.55,4.5,4.24,0,0,0]
["ЧЕХИЯ: Дивизион E","2022.03.27 16:00","Шумперк","Славицин","SQUSz9k2",62,null,null,"Загрузить",1,1,null,null,null,null,null,null,"","",""]
["ЧЕХИЯ: Дивизион F","2022.03.27 16:00","Биловец","Нови-Йичин","rcZGnL64",62,null,null,"Загрузить",1,4,1.69,4.2,3.66,1.69,4.2,3.66,0,0,0]
["ЧЕХИЯ: Дивизион F","2022.03.27 16:00","Богумин","Рымаржов","fygMQwpo",62,null,null,"Загрузить",0,0,null,null,null,null,null,null,"","",""]
["ЧЕХИЯ: Дивизион F","2022.03.27 16:00","Полянка-над-Одру","Детмаровице","nVu8lsxh",62,null,null,"Загрузить",4,0,1.34,5.5,5.65,1.34,5.5,5.65,0,0,0]
["ЧЕХИЯ: Дивизион F","2022.03.27 16:00","Френштат-под-Радгоштем","Гавиржов","xKYKouMA",62,null,null,"Загрузить",0,1,1.91,4.0599999999999996,2.98,1.37,5,5.7,0.53999999999999981,-0.94000000000000039,-2.72]
["ЧЕХИЯ: Моравскосилезский край","2022.03.27 16:00","Крнов","Долни Датыне","Ic4R6ELm",62,null,null,"Загрузить",1,1,null,null,null,null,null,null,"","",""]
["ЧЕХИЯ: Моравскосилезский край","2022.03.27 16:00","Пуста Полом","Кобержице","zZEM7f6s",62,null,null,"Загрузить",3,3,null,null,null,null,null,null,"","",""]
["ЧЕХИЯ: Злинский край","2022.03.27 16:00","Боршице","Брумов","lWw2H4Gn",62,null,null,"Загрузить",0,0,1.35,5,6.05,1.34,5,6.2,1.0000000000000009E-2,0,-0.15000000000000036]
["ЧЕХИЯ: Злинский край","2022.03.27 16:00","Недашов","Сокол Невшова","67lcIp1t",62,null,null,"Загрузить",1,2,null,null,null,null,null,null,"","",""]
["ЧЕХИЯ: Злинский край","2022.03.27 16:00","Штитна над Вларжи","Велке Карловице","2Zs6GOVh",62,null,null,"Загрузить",3,1,null,null,null,null,null,null,"","",""]
["ЧЕХИЯ: Край Высочина","2022.03.27 16:00","Ледеч-над-Сазавоу","Нова-Вес","69LWD48H",62,null,null,"Загрузить",1,5,null,null,null,null,null,null,"","",""]
["ЧЕХИЯ: Край Высочина","2022.03.27 16:00","Спержице","Сапели Полна","hp6RG6Ob",62,null,null,"Загрузить",3,1,null,null,null,null,null,null,"","",""]
["ЧЕХИЯ: Краловеградецкий край","2022.03.27 16:00","Врхлаби","Полице-над-Метуйи","YNFAkr2a",62,null,null,"Загрузить",1,1,null,null,null,null,null,null,"","",""]
["ЧЕХИЯ: Краловеградецкий край","2022.03.27 16:00","Нови-Биджов","Яромерж","6kTHmMWB",62,null,null,"Загрузить",5,2,null,null,null,null,null,null,"","",""]
["ЧЕХИЯ: Краловеградецкий край","2022.03.27 16:00","Славия Градец","Тржебеш","48imYtXO",62,null,null,"Загрузить",0,1,null,null,null,null,null,null,"","",""]
["ЧЕХИЯ: Краловеградецкий край","2022.03.27 16:00","Хоржице","Чернилов","CEEEl2H5",62,null,null,"Загрузить",4,0,null,null,null,null,null,null,"","",""]
["ЧЕХИЯ: Устецкий край","2022.03.27 16:00","Модра","Србице","Eu64PPFU",62,null,null,"Загрузить",0,3,null,null,null,null,null,null,"","",""]
["ЧЕХИЯ: Пльзенский край","2022.03.27 16:00","Домазлице (Б)","Зруч","xSKQowBF",62,null,null,"Загрузить",4,0,null,null,null,null,null,null,"","",""]
["ЧЕХИЯ: Пльзенский край","2022.03.27 16:00","Сокол Раднице","Хлотиков","jBMImat3",62,null,null,"Загрузить",0,3,null,null,null,null,null,null,"","",""]
["ЧЕХИЯ: Южночешский край","2022.03.27 16:00","Юниор Страконице","Милевско","KUSFyu8r",62,null,null,"Загрузить",1,1,null,null,null,null,null,null,"","",""]
["ЧЕХИЯ: Чемпионат Праги","2022.03.27 16:00","Вышеград (Б)","Адмира Прага (Б)","bqMnwQvE",62,null,null,"Загрузить",2,2,null,null,null,null,null,null,"","",""]
["ЧЕХИЯ: Чемпионат Праги","2022.03.27 16:00","Тршеборадице","Подоли Прага","OQ5RVsXm",62,null,null,"Загрузить",1,1,null,null,null,null,null,null,"","",""]
["ЧЕХИЯ: Чемпионат Праги","2022.03.27 16:00","Уезд-над-Лесы","Коловраты","hrFey49Q",62,null,null,"Загрузить",0,8,null,null,null,null,null,null,"","",""]
["ЧЕХИЯ: Среднечешский край","2022.03.27 16:00","Лиса-над-Лабем","Добровице","llNSmDl1",62,null,null,"Загрузить",0,3,null,null,null,null,null,null,"","",""]
["ЧЕХИЯ: Среднечешский край","2022.03.27 16:00","Нимбурк","Неспеки","zoJOlgZf",62,null,null,"Загрузить",1,1,null,null,null,null,null,null,"","",""]
["ЧЕХИЯ: Оломоуцкий край","2022.03.27 16:00","Вельке-Лосини","Богуновице","WMeqFeqh",62,null,null,"Загрузить",4,1,null,null,null,null,null,null,"","",""]
["ЧЕХИЯ: Оломоуцкий край","2022.03.27 16:00","Липова","Бродек-у-Пршерова","CYCtEFbb",62,null,null,"Загрузить",1,1,null,null,null,null,null,null,"","",""]
["ЧЕХИЯ: Оломоуцкий край","2022.03.27 16:00","Рапотин","Забржег","pnBlCgTA",62,null,null,"Загрузить",3,3,null,null,null,null,null,null,"","",""]
["ЧЕХИЯ: Оломоуцкий край","2022.03.27 16:00","Сигма Лутин","Кралице-на-Гане","pSjP907C",62,null,null,"Загрузить",0,0,null,null,null,null,null,null,"","",""]
["ЧЕХИЯ: Пардубицкий край","2022.03.27 16:00","Гержманув Местец","Моравска-Тршебова","xYDvNgXp",62,null,null,"Загрузить",0,2,null,null,null,null,null,null,"","",""]
["ЧЕХИЯ: Пардубицкий край","2022.03.27 16:00","Лузе","Горни-Жедице","Qm7MowAo",62,null,null,"Загрузить",0,3,null,null,null,null,null,null,"","",""]
["ЧЕХИЯ: Пардубицкий край","2022.03.27 16:00","Просеч","Ланшкроун","h0x8SF9N",62,null,null,"Загрузить",1,4,null,null,null,null,null,null,"","",""]
["ЧЕХИЯ: Пардубицкий край","2022.03.27 16:00","СК Пардубицки","Хрудим (Б)","zPRCRZOT",62,null,null,"Загрузить",1,0,null,null,null,null,null,null,"","",""]
["ЧЕХИЯ: Пардубицкий край","2022.03.27 16:00","Холице","Роговладова Бела","fFJ4TefH",62,null,null,"Загрузить",6,2,null,null,null,null,null,null,"","",""]
["ШВЕЦИЯ: Высшая женская лига","2022.03.27 16:00","Кристианстадс (Ж)","Кальмар (Ж)","tM0GHcMT",181,null,null,"Загрузить",4,0,1.22,6.2,10.5,1.1299999999999999,7.2,14.5,9.000000000000008E-2,-1,-4]
["ШВЕЦИЯ: Высшая женская лига","2022.03.27 16:00","Линкепингс (Ж)","Виттсье (Ж)","rVnrDHUp",181,null,null,"Загрузить",1,1,1.97,3.6,3.44,1.53,4.4000000000000004,4.7,0.43999999999999995,-0.80000000000000027,-1.2600000000000002]
["ГЕРМАНИЯ: Оберлига Вестфален","2022.03.27 16:15","Вестафалия Херн","Эннепеталь","AiJJ8uKp",81,null,null,"Загрузить",null,null,4.28,4.24,1.64,3.82,4,1.69,0.46000000000000041,0.24000000000000021,-5.0000000000000044E-2]
["ПОЛЬША: Дивизион 2","2022.03.27 16:15","Стежица","С. Жешув","dlusr8kQ",154,null,null,"Загрузить",1,3,3.56,3.58,1.92,3.44,3.4,1.98,0.12000000000000011,0.18000000000000016,-6.0000000000000053E-2]
["АНГЛИЯ: Чемпионшип - Женщины","2022.03.27 16:30","Ковентри Юнайтед (Ж)","Блэкберн (Ж)","bLaQKv5L",198,null,null,"Загрузить",1,0,2.66,3.38,2.41,2.4500000000000002,3.4,2.4500000000000002,0.20999999999999996,-2.0000000000000018E-2,-4.0000000000000036E-2]
["БОСНИЯ И ГЕРЦЕГОВИНА: Первая лига - ФБиГ","2022.03.27 16:30","Градина Сребреник","Звезда","nBqUaT5R",37,null,null,"Загрузить",3,1,null,null,null,null,null,null,"","",""]
["БОСНИЯ И ГЕРЦЕГОВИНА: Первая лига - ФБиГ","2022.03.27 16:30","ТОШК Тешань","Младость ДК","lKVeemEr",37,null,null,"Загрузить",1,0,null,null,null,null,null,null,"","",""]
["ГЕРМАНИЯ: Оберлига Бремен","2022.03.27 16:30","Хабенхаузер","Бремерхавен","pIBjDLh2",81,null,null,"Загрузить",null,null,7.7,6,1.24,12.5,7.5,1.1299999999999999,-4.8,-1.5,0.1100000000000001]
["ГЕРМАНИЯ: Оберлига Средний Рейн","2022.03.27 16:30","Вихтталь","Бергиш Гладбах","bFGQ6uJn",81,null,null,"Загрузить",null,null,5.4,4.74,1.41,7.8,5.5,1.26,-2.3999999999999995,-0.75999999999999979,0.14999999999999991]
["ГЕРМАНИЯ: Оберлига Средний Рейн","2022.03.27 16:30","Дойц","Альфтер","x6FU5aYh",81,null,null,"Загрузить",null,null,2.85,3.96,2.0299999999999998,4.6399999999999997,4.5,1.51,-1.7899999999999996,-0.54,0.5199999999999998]
["ГЕРМАНИЯ: Оберлига Средний Рейн","2022.03.27 16:30","Фортуна Кёльн II","Глеш/Паффендорф","IHWR4Jma",81,null,null,"Загрузить",null,null,3.8,3.98,1.69,3.82,4,1.69,-2.0000000000000018E-2,-2.0000000000000018E-2,0]
["ГЕРМАНИЯ: Оберлига Средний Рейн","2022.03.27 16:30","Фрехен","Зигбургер","SWPfC1eP",81,null,null,"Загрузить",null,null,1.82,4,3.26,1.97,4,2.92,-0.14999999999999991,0,0.33999999999999986]
["ГЕРМАНИЯ: Оберлига Средний Рейн","2022.03.27 16:30","Фрисдорф","Айлендорф","4hHM7L3t",81,null,null,"Загрузить",null,null,1.51,4.18,4.92,1.55,4.2,4.5599999999999996,{"$f":"IF(L642=\"\",\"\",L642-O642)","v":-4.0000000000000036E-2},{"$f":"IF(M642=\"\",\"\",M642-P642)","v":-2.0000000000000462E-2},{"$f":"IF(N642=\"\",\"\",N642-Q642)","v":0.36000000000000032}]
["ГЕРМАНИЯ: Оберлига Нижний Рейн","2022.03.27 16:30","Бохольт","Дюссельдорф-Вест","K6zuavLl",81,null,null,"Загрузить",null,null,1.1100000000000001,8.5,14.5,1.1100000000000001,8.5,14.5,0,0,0]
["ДАНИЯ: Второй дивизион","2022.03.27 16:30","Систед","Миддельфарт","4xgijBrf",63,null,null,"Загрузить",1,2,1.61,3.86,5,1.67,3.74,4.42,-5.9999999999999831E-2,0.11999999999999966,0.58000000000000007]
["ИТАЛИЯ: Серия D - Группа H","2022.03.27 16:30","Ночерина","Мольфетта Кальчо","M9ZtG1Sd",98,null,null,"Загрузить",2,0,2.2799999999999998,3.24,3,1.88,3.4,3.74,0.39999999999999991,-0.1599999999999997,-0.74000000000000021]
["МИР: Клубные товарищеские матчи","2022.03.27 16:30","ЦСКА София","Свог","O2Vj8cYQ",8,null,null,"Загрузить",3,1,null,null,null,null,null,null,"","",""]
["СЕРБИЯ: Сербская Лига - Белград","2022.03.27 16:30","Единство","Борац Лазаревац","lQvxT0t8",167,null,null,"Загрузить",null,null,null,null,null,null,null,null,"","",""]
["СЕРБИЯ: Сербская Лига - Белград","2022.03.27 16:30","Звездара","Раднички Обреновац","E7OGLIYs",167,null,null,"Загрузить",null,null,null,null,null,null,null,null,"","",""]
["СЕРБИЯ: Сербская Лига - Белград","2022.03.27 16:30","Лештане","Земун","00rtSKeE",167,null,null,"Загрузить",null,null,null,null,null,null,null,null,"","",""]
["СЕРБИЯ: Сербская Лига - Запад","2022.03.27 16:30","Раброво","Слога Пожега","l2469EdC",167,null,null,"Загрузить",null,null,null,null,null,null,null,null,"","",""]
["СЕРБИЯ: Сербская Лига - Запад","2022.03.27 16:30","Радевац","Смедерево","dS7E7hRO",167,null,null,"Загрузить",null,null,null,null,null,null,null,null,"","",""]
["ЧЕХИЯ: Пльзенский край","2022.03.27 16:30","Станков","Болевец","byMMnJe9",62,null,null,"Загрузить",4,0,null,null,null,null,null,null,"","",""]
["ЧЕХИЯ: Кубок Чехии - женщины","2022.03.27 16:30","Спарта Прага (Ж)","Дукла Прага (Ж)","CAp3ZnN4",62,null,null,"Загрузить",7,0,null,null,null,null,null,null,"","",""]
["ОАЭ: Дивизион 1","2022.03.27 16:40","Аль-Таид","Масфут","6wLjMq4A",196,null,null,"Загрузить",null,null,2.54,3.24,2.6,2.02,3.34,3.6,0.52,-9.9999999999999645E-2,-1]
["ОАЭ: Дивизион 1","2022.03.27 16:40","Дибба Аль-Фуджайра","Gulf Heroes","E3ObKNYM",196,null,null,"Загрузить",5,2,1.1499999999999999,7.3,13,1.18,6.4,13.5,-3.0000000000000027E-2,0.89999999999999947,-0.5]
["ОАЭ: Дивизион 1","2022.03.27 16:40","Эль-Фуджайра","Масафи","KtPfL3JG",196,null,null,"Загрузить",1,2,1.39,4.7,6.75,1.38,4.5,7.7,1.0000000000000009E-2,0.20000000000000018,-0.95000000000000018]
["ОАЭ: Дивизион 1","2022.03.27 16:45","Аль-Хамрия","Аль-Джазира Хамра","hfN2JslT",196,null,null,"Загрузить",null,null,1.34,5.0999999999999996,7.2,1.29,5.2,9,5.0000000000000044E-2,-0.10000000000000053,-1.7999999999999998]
["АВСТРАЛИЯ И ОКЕАНИЯ: Чемпионат мира - Квалификация - Третий этап","2022.03.27 17:00","Соломоновы Острова","Папуа-Новая Гвинея","WWjLkHmd",7,null,null,"Загрузить",null,null,2.02,3.6,3.22,2.42,3.15,3.14,-0.39999999999999991,0.45000000000000018,8.0000000000000071E-2]
["АВСТРИЯ: Восточная региональная лига","2022.03.27 17:00","Ферст Вена","Трайскирхен","xSpxQ8QM",25,null,null,"Загрузить",null,null,null,null,null,null,null,null,"","",""]
["АЛЖИР: Первый дивизион","2022.03.27 17:00","Хуссейн Дей","Белуиздад","xUwQZSra",18,null,null,"Загрузить",null,null,5.75,3.14,1.7,4.5599999999999996,3,1.85,1.1900000000000004,0.14000000000000012,-0.15000000000000013]
["АНГЛИЯ: Суперлига - Женщины","2022.03.27 17:00","Вест Хэм (Ж)","Брайтон (Ж)","p48v0Rfe",198,null,null,"Загрузить",null,null,1.86,3.58,3.84,1.85,3.5,3.82,1.0000000000000009E-2,8.0000000000000071E-2,2.0000000000000018E-2]
["АНГЛИЯ: Суперлига - Женщины","2022.03.27 17:00","Лестер (Ж)","Челси (Ж)","fZkVMl28",198,null,null,"Загрузить",null,null,39,14.5,1.02,33,11,1.06,6,3.5,-4.0000000000000036E-2]
["АРГЕНТИНА: Примера А Женщины","2022.03.27 17:00","Вилья Сан-Карлос (Ж)","Эстудиантес (Ж)","bRd482aE",22,null,null,"Загрузить",null,null,3.46,4.04,1.84,2.92,3.74,2.14,0.54,0.29999999999999982,-0.30000000000000004]
["АФРИКА: Кубок Африканских Наций - Квалификация - Предварительный раунд","2022.03.27 17:00","Лесото","Сейшельские острова","QDnMQ0NB",1,null,null,"Загрузить",null,null,1.47,3.86,6.65,1.57,3.5,6.55,-0.10000000000000009,0.35999999999999988,0.10000000000000053]
["БОЛГАРИЯ: Третья лига - Юго-Восток","2022.03.27 17:00","Хасково","Несебар","QTMXP1C4",41,null,null,"Загрузить",null,null,null,null,null,null,null,null,"","",""]
["БРАЗИЛИЯ: Бразилейро - Женщины","2022.03.27 17:00","Атлетико Минейро (Ж)","Avai Kindermann (Ж)","v9pLeW1t",39,null,null,"Загрузить",null,null,1.56,3.94,5.35,1.82,3.1,3.96,-0.26,0.83999999999999986,1.3899999999999997]
["БРАЗИЛИЯ: Бразилейро - Женщины","2022.03.27 17:00","Сантос (Ж)","Коринтианс (Ж)","Ag67x91I",39,null,null,"Загрузить",null,null,4.3,3.82,1.7,5.85,3.8,1.45,-1.5499999999999998,2.0000000000000018E-2,0.25]
["ВЕНГРИЯ: НБ III - Восток","2022.03.27 17:00","Казинцбарцикай","Тёрёксентмиклош","pEDh33pi",91,null,null,"Загрузить",null,null,null,null,null,null,null,null,"","",""]
["ВЕНГРИЯ: НБ III - Восток","2022.03.27 17:00","Кишварда II","ДЕАЦ","O63Yc88B",91,null,null,"Загрузить",null,null,3.5,3.58,1.94,2.38,3.6,2.38,1.1200000000000001,-2.0000000000000018E-2,-0.43999999999999995]
["ВЕНГРИЯ: НБ III - Восток","2022.03.27 17:00","Тисауйварош","Путнок","U5V5u0hp",91,null,null,"Загрузить",null,null,null,null,null,null,null,null,"","",""]
["ВЕНГРИЯ: НБ III - Восток","2022.03.27 17:00","Тисафюреди","Шальготарьяни","IRB01sF3",91,null,null,"Загрузить",null,null,null,null,null,null,null,null,"","",""]
["ВЕНГРИЯ: НБ III - Восток","2022.03.27 17:00","Фюзешьярмат","Эльоре","trETblg5",91,null,null,"Загрузить",null,null,null,null,null,null,null,null,"","",""]
["ВЕНГРИЯ: НБ III - Восток","2022.03.27 17:00","Хайдусобосло","Хидаснемети","8dU9vK7j",91,null,null,"Загрузить",null,null,1.19,6.45,11,1.21,6,9.3000000000000007,-2.0000000000000018E-2,0.45000000000000018,1.6999999999999993]
["ВЕНГРИЯ: НБ III - Восток","2022.03.27 17:00","Эгер СЕ","Ясбереньи","xA7xcSNH",91,null,null,"Загрузить",null,null,null,null,null,null,null,null,"","",""]
["ВЕНГРИЯ: НБ III - Центр","2022.03.27 17:00","Балашшадьярмат","Ходмезовашархей","S24TbY8e",91,null,null,"Загрузить",null,null,null,null,null,null,null,null,"","",""]
["ВЕНГРИЯ: НБ III - Центр","2022.03.27 17:00","Вац","Ракошменти КСК","zT7ycCw8",91,null,null,"Загрузить",null,null,null,null,null,null,null,null,"","",""]
["ВЕНГРИЯ: НБ III - Центр","2022.03.27 17:00","Герьени","Козармишлень","lC5PaEgk",91,null,null,"Загрузить",null,null,null,null,null,null,null,null,"","",""]
["ВЕНГРИЯ: НБ III - Центр","2022.03.27 17:00","Дабас-Дьен","Иванча","xniL4OdE",91,null,null,"Загрузить",null,null,3.54,3.54,1.84,3.68,3.5,1.82,-0.14000000000000012,4.0000000000000036E-2,2.0000000000000018E-2]
["ВЕНГРИЯ: НБ III - Центр","2022.03.27 17:00","ЕСМТК Будапешт","Мохач","6mGK0fvq",91,null,null,"Загрузить",null,null,1.37,4.4400000000000004,7.8,1.45,4.5,5.15,-7.9999999999999849E-2,-5.9999999999999609E-2,2.6499999999999995]
["ВЕНГРИЯ: НБ III - Центр","2022.03.27 17:00","Макой","Сексарди","dx9XchO1",91,null,null,"Загрузить",null,null,null,null,null,null,null,null,"","",""]
["ВЕНГРИЯ: НБ III - Центр","2022.03.27 17:00","Монори","Дабаш","dEQp7d1F",91,null,null,"Загрузить",null,null,2.54,3.34,2.54,2.25,3.5,2.6,0.29000000000000004,-0.16000000000000014,-6.0000000000000053E-2]
["ВЕНГРИЯ: НБ III - Запад","2022.03.27 17:00","БВСК Зугло","Татабанья","tU0AzXM0",91,null,null,"Загрузить",null,null,1.37,4.8,6.05,1.37,4.74,6.2,0,5.9999999999999609E-2,-0.15000000000000036]
["ВЕНГРИЯ: НБ III - Запад","2022.03.27 17:00","Капошвар","Балатонфуреди","2w26yD7f",91,null,null,"Загрузить",null,null,1.85,3.3,3.88,1.85,3.24,3.88,0,5.9999999999999609E-2,0]
["ВЕНГРИЯ: НБ III - Запад","2022.03.27 17:00","Комаром ВСЕ","Андрашхида","p271xghl",91,null,null,"Загрузить",null,null,1.31,4.76,7.8,1.37,4.2,7.3,-6.0000000000000053E-2,0.55999999999999961,0.5]
["ВЕНГРИЯ: НБ III - Запад","2022.03.27 17:00","Надьканижа","Папай Перуц","zi0EZjx7",91,null,null,"Загрузить",null,null,2.3199999999999998,3.24,2.8,2.3199999999999998,3.24,2.76,0,0,4.0000000000000036E-2]
["ВЕНГРИЯ: НБ III - Запад","2022.03.27 17:00","Эрди","Дьер II","zsc0cfUD",91,null,null,"Загрузить",null,null,null,null,null,null,null,null,"","",""]
["ВЕНГРИЯ: НБ I - Женщины","2022.03.27 17:00","Астра (Ж)","Шорокшар (Ж)","zRnazPM9",91,null,null,"Загрузить",null,null,1.68,4.0599999999999996,4.16,1.62,3.8,4.1399999999999997,5.9999999999999831E-2,0.25999999999999979,2.0000000000000462E-2]
["ГЕРМАНИЯ: Оберлига Вестфален","2022.03.27 17:00","Эрндтебрюк","Шпрокхёфель","dpwqFssH",81,null,null,"Загрузить",null,null,2.4500000000000002,4,2.2000000000000002,2.4500000000000002,4,2.2000000000000002,0,0,0]
["ГЕРМАНИЯ: Женская Бундеслига","2022.03.27 17:00","Бавария (Ж)","Эссен (Ж)","YLOqKl3N",81,null,null,"Загрузить",null,null,1.03,13.5,32,1.0900000000000001,9,20,-6.0000000000000053E-2,4.5,12]
["ГЕРМАНИЯ: Женская Бундеслига","2022.03.27 17:00","Хоффенхайм (Ж)","Карл-Цейс Йена (Ж)","C6d6yjYc",81,null,null,"Загрузить",null,null,1.01,15,62,1.03,13,27,-2.0000000000000018E-2,2,35]
["ЕВРОПА: Чемпионат Европы до 17 лет - Квалификация - Второй этап","2022.03.27 17:00","Нидерланды U17","Словакия U17","8QV1VSL0",6,null,null,"Загрузить",null,null,null,null,null,null,null,null,"","",""]
["ЕВРОПА: Женский чемпионат Европы до 17 лет - Квалификация - Round 2 - League A","2022.03.27 17:00","Норвегия U17 (Ж)","Румыния U17 (Ж)","z74cLvUR",6,null,null,"Загрузить",null,null,null,null,null,null,null,null,"","",""]
["ИСПАНИЯ: Сегунда","2022.03.27 17:00","Бургос","Тенерифе","0tx2hMBn",176,null,null,"Загрузить",null,null,3.18,2.86,2.54,2.88,3.1,2.5,0.30000000000000027,-0.24000000000000021,4.0000000000000036E-2]
["ИСПАНИЯ: Терсера - Группа 1","2022.03.27 17:00","Силва","Польворин","K8ZV4QJa",176,null,null,"Загрузить",null,null,4.3600000000000003,3.34,1.81,4.58,3.74,1.62,-0.21999999999999975,-0.40000000000000036,0.18999999999999995]
["ИСПАНИЯ: Терсера - Группа 7","2022.03.27 17:00","Мораталас","Урсария","APvHG7mE",176,null,null,"Загрузить",null,null,3.52,3.08,2.12,2.86,3,2.4,0.66000000000000014,8.0000000000000071E-2,-0.2799999999999998]
["ИСПАНИЯ: Терсера - Группа 11","2022.03.27 17:00","Портмани","Кампос","4x5pNk4n",176,null,null,"Загрузить",null,null,1.3,4.9400000000000004,9.3000000000000007,1.26,5,9.4,4.0000000000000036E-2,-5.9999999999999609E-2,-9.9999999999999645E-2]
["КОНГО: Лига 1","2022.03.27 17:00","КАРА Браззавиль","Таланге","WQJgP2dc",56,null,null,"Загрузить",null,null,null,null,null,null,null,null,"","",""]
["ЛИБЕРИЯ: Первый дивизион","2022.03.27 17:00","БЕА Маунтин","Ватанга","rBxfTUNk",113,null,null,"Загрузить",null,null,2.38,3,2.75,2.38,3,2.75,0,0,0]
["МЕКСИКА: Лига МХ (до 20 лет) - Клаусура","2022.03.27 17:00","Пумас U20","Масатлан U20","bLarXH3J",128,null,null,"Загрузить",null,null,1.89,3.6,3.64,1.93,3.7,3.28,-4.0000000000000036E-2,-0.10000000000000009,0.36000000000000032]
["МИР: Клубные товарищеские матчи","2022.03.27 17:00","Брюне","Ерв","EHNkM2eo",8,null,null,"Загрузить",null,null,2.8,3.56,2.31,2.81,3.9,2.17,-1.0000000000000231E-2,-0.33999999999999986,0.14000000000000012]
["НОРВЕГИЯ: Премьер-лига - женщины","2022.03.27 17:00","Люн (Ж)","Волеренга (Ж)","6mS8Bvee",145,null,null,"Загрузить",null,null,11.5,6.15,1.21,6.4,4.7,1.42,5.0999999999999996,1.4500000000000002,-0.20999999999999996]
["ПОРТУГАЛИЯ: Третья лига - Группа вылета","2022.03.27 17:00","Корученше","Витория Серначе","KYtjTnFq",155,null,null,"Загрузить",null,null,2.42,3.15,2.8,2.48,3,2.93,-6.0000000000000053E-2,0.14999999999999991,-0.13000000000000034]
["ПОРТУГАЛИЯ: Лига BPI - Женщины - Группа вылета","2022.03.27 17:00","Жил Висенте (Ж)","Варзин (Ж)","no0c3Crh",155,null,null,"Загрузить",null,null,3.2,3.84,1.97,2.97,3.64,2.15,0.22999999999999998,0.19999999999999973,-0.17999999999999994]
["ПОРТУГАЛИЯ: Лига BPI - Женщины - Группа вылета","2022.03.27 17:00","Оуриенсе (Ж)","Кондейша (Ж)","8f1g4hTo",155,null,null,"Загрузить",null,null,1.79,3.84,3.8,1.66,4.0999999999999996,4.3600000000000003,0.13000000000000012,-0.25999999999999979,-0.5600000000000005]
["ПОРТУГАЛИЯ: Лига BPI - Женщины - Группа вылета","2022.03.27 17:00","Эшторил (Ж)","Валадареш Гайя (Ж)","SdHf2Wcb",155,null,null,"Загрузить",null,null,7,4.8,1.37,6.8,4.9000000000000004,1.39,0.20000000000000018,-0.10000000000000053,-1.9999999999999796E-2]
["ПОРТУГАЛИЯ: Лига BPI - Женщины - Чемпионшип - плей-офф","2022.03.27 17:00","Брага (Ж)","Бенфика (Ж)","tnGQIcsn",155,null,null,"Загрузить",null,null,3.48,3.8,1.89,3.12,3.4,2.1800000000000002,{"$f":"IF(L706=\"\",\"\",L706-O706)","v":0.35999999999999988},{"$f":"IF(M706=\"\",\"\",M706-P706)","v":0.39999999999999991},{"$f":"IF(N706=\"\",\"\",N706-Q706)","v":-0.29000000000000026}]
["СЕРБИЯ: Первая лига","2022.03.27 17:00","Жарково","Нови Белград","rP5ibdZs",167,"GUfMCPgC","CIgZyXPE","Загрузить",null,null,2.54,2.88,2.95,2.8,2.95,2.6,-0.25999999999999979,-7.0000000000000284E-2,0.35000000000000009]
["СЕРБИЯ: Первая лига","2022.03.27 17:00","Инджия","Младость ГАТ","MF4ecGll",167,"AXNXOpEQ","O2wbZeXh","Загрузить",null,null,2.58,2.58,3.26,1.87,3.2,4.4000000000000004,0.71,-0.62000000000000011,-1.1400000000000006]
["СЕРБИЯ: Первая лига","2022.03.27 17:00","Мачва","Тимок","ve1W2xRQ",167,null,null,"Загрузить",null,null,1.74,3.22,5.05,1.72,3.44,4.88,2.0000000000000018E-2,-0.21999999999999975,0.16999999999999993]
["СЕРБИЯ: Первая лига","2022.03.27 17:00","Рад","Железничар Панчево","Uu83efJ0",167,null,null,"Загрузить",null,null,2.4,3.09,2.95,2.65,2.9,2.75,-0.25,0.18999999999999995,0.20000000000000018]
["СЛОВЕНИЯ: Вторая лига","2022.03.27 17:00","НК Крка","Горица","n7VchuGD",172,null,null,"Загрузить",null,null,4.4400000000000004,3.52,1.75,3.8,3.3,1.97,0.64000000000000057,0.2200000000000002,-0.21999999999999997]
["СЛОВЕНИЯ: Вторая лига","2022.03.27 17:00","Рогаска","Илирия","Y3RggL07",172,null,null,"Загрузить",null,null,1.96,3.42,3.58,1.84,3.5,4,0.11999999999999988,-8.0000000000000071E-2,-0.41999999999999993]
["СЛОВЕНИЯ: Вторая лига","2022.03.27 17:00","Ядран Декани","Брежице","ClwoesWf",172,null,null,"Загрузить",null,null,1.44,4.2,6.7,1.42,4.5,6.8,2.0000000000000018E-2,-0.29999999999999982,-9.9999999999999645E-2]
["СЛОВЕНИЯ: 3. СНЛ - Восток","2022.03.27 17:00","Чиркуляне","Заврч","hnwzFFkQ",172,null,null,"Загрузить",null,null,1.38,4.74,6.85,1.37,4.74,5.95,9.9999999999997868E-3,0,0.89999999999999947]
["СЛОВЕНИЯ: 3. СНЛ - Запад","2022.03.27 17:00","Гросуплье","Шенчур","MwRE8mHk",172,null,null,"Загрузить",null,null,null,null,null,null,null,null,"","",""]
["ТУРЦИЯ: Суперлига - Женщина","2022.03.27 17:00","Karadeniz Eregli Bld. (Ж)","Kocaeli Bayan (Ж)","MmYBg2da",191,null,null,"Загрузить",null,null,1.03,10,52,1.06,13,28,-3.0000000000000027E-2,-3,24]
["ХОРВАТИЯ: 3. ХНЛ - Центр","2022.03.27 17:00","Карловац","Равнице","OEweLCVl",59,null,null,"Загрузить",null,null,1.41,4.42,6.95,1.34,4.5,7.3,6.999999999999984E-2,-8.0000000000000071E-2,-0.34999999999999964]
["ХОРВАТИЯ: First League Women","2022.03.27 17:00","ZNK Split (Ж)","Риека (Ж)","YVFvF56N",59,null,null,"Загрузить",null,null,null,null,null,null,null,null,"","",""]
["ЧЕХИЯ: Чемпионат Праги","2022.03.27 17:00","Виктория Жижков (Б)","Краловице","AJPjxpfK",62,null,null,"Загрузить",null,null,null,null,null,null,null,null,"","",""]
["АНГЛИЯ: Чемпионшип - Женщины","2022.03.27 17:30","Чарльтон (Ж)","Кристал Пэлас (Ж)","KU0MLKkF",198,null,null,"Загрузить",null,null,1.62,3.88,4.84,1.82,3.4,3.82,-0.19999999999999996,0.48,1.02]
["ИСПАНИЯ: Терсера - Группа 3","2022.03.27 17:30","Торина","Барреда Баломпие","63jscYyB",176,null,null,"Загрузить",null,null,1.68,3.3,5.25,1.67,3.3,5.3,1.0000000000000009E-2,0,-4.9999999999999822E-2]
["ИСПАНИЯ: Терсера - Группа 5","2022.03.27 17:30","Фигерас","Аско","2sr3PRHA",176,null,null,"Загрузить",null,null,2.0699999999999998,2.8,3.96,1.8,3.3,4.34,0.2699999999999998,-0.5,-0.37999999999999989]
["ИСПАНИЯ: Терсера - Группа 13","2022.03.27 17:30","УКАМ Мурсия (Б)","Бульенсе","jXF0mLEE",176,null,null,"Загрузить",null,null,1.58,3.72,5.5,1.41,4.32,6.2,0.17000000000000015,-0.60000000000000009,-0.70000000000000018]
["ИСПАНИЯ: Терсера - Группа 14","2022.03.27 17:30","Асуага","Морало","ObkP1RUf",176,null,null,"Загрузить",null,null,3.36,2.9,2.2200000000000002,3.36,2.9,2.2200000000000002,0,0,0]
["ИСПАНИЯ: Терсера - Группа 15","2022.03.27 17:30","Мурчанте","Корельяно","fRaryGwn",176,null,null,"Загрузить",null,null,2.15,2.9,3.54,2.15,2.9,3.54,0,0,0]
["КАМЕРУН: Элитный дивизион","2022.03.27 17:30","УМС де Лум","Эдинг Спорт","0Mg9y1nS",46,null,null,"Загрузить",null,null,2.46,2.78,3.18,2.12,2.75,3.7,0.33999999999999986,2.9999999999999805E-2,-0.52]
["КОТ-Д'ИВУАР: Лига 1","2022.03.27 17:30","АСЕК Мимосас","Корого","bsg89dm6",58,null,null,"Загрузить",null,null,1.44,3.86,6.65,1.42,4.2,7.6,2.0000000000000018E-2,-0.3400000000000003,-0.94999999999999929]
["СЛОВЕНИЯ: 3. СНЛ - Восток","2022.03.27 17:30","Позавье-Кршко","Дравоград","bPwWFezK",172,null,null,"Загрузить",null,null,5.75,4.7,1.44,5.95,4.5,1.41,-0.20000000000000018,0.20000000000000018,3.0000000000000027E-2]
["ФРАНЦИЯ: Дивизион 2 - Женщины","2022.03.27 17:30","Сен-Мор (Ж)","Орлеан (Ж)","8tf6Fk7t",77,null,null,"Загрузить",null,null,2.27,3.4,2.75,2.27,3.4,2.75,0,0,0]
["ХОРВАТИЯ: 3. ХНЛ - Юг","2022.03.27 17:30","Неретва","Приморац","APY18Tyn",59,null,null,"Загрузить",null,null,null,null,null,null,null,null,"","",""]
["ХОРВАТИЯ: 3. ХНЛ - Юг","2022.03.27 17:30","Слога Мравинце","Kamen Podbablje","KGsG35jH",59,null,null,"Загрузить",null,null,1.47,4.2,6.15,1.62,4,4.26,-0.15000000000000013,0.20000000000000018,1.8900000000000006]
["ХОРВАТИЯ: 3. ХНЛ - Юг","2022.03.27 17:30","Хрваце","Ускок","Oll75RL4",59,null,null,"Загрузить",null,null,2.64,3.4,2.41,2.81,3.4,2.2200000000000002,-0.16999999999999993,0,0.18999999999999995]
["ХОРВАТИЯ: 3. ХНЛ - Восток","2022.03.27 17:30","Бедем Иванково","Кутьево","CW56gw3t",59,null,null,"Загрузить",null,null,1.29,5.4,8.4,2.87,3.52,2.14,-1.58,1.8800000000000003,6.26]
["НИДЕРЛАНДЫ: Первый дивизион","2022.03.27 17:45","Эммен","Телстар","vaVbjv8r",139,null,null,"Загрузить",null,null,1.34,5,7.9,1.4,4.8,6.6,-5.9999999999999831E-2,0.20000000000000018,1.3000000000000007]
["БЕНИН: Лига 1 - Группа вылета","2022.03.27 18:00","Takunnin","Динамик Джугу","tIYRUgus",34,null,null,"Загрузить",null,null,null,null,null,null,null,null,"","",""]
["БЕНИН: Лига 1 - Группа вылета","2022.03.27 18:00","Дамисса","Динамо Параку","fLxWTDfm",34,null,null,"Загрузить",null,null,null,null,null,null,null,null,"","",""]
["БЕНИН: Лига 1 - Группа вылета","2022.03.27 18:00","Тоннер д'Абоме","Baboni","Oxn0ZZWP",34,null,null,"Загрузить",null,null,null,null,null,null,null,null,"","",""]
["БЕНИН: Лига 1 - Чемпионшип - плей-офф","2022.03.27 18:00","Coton FC","АСВО","8UTgbIW6",34,null,null,"Загрузить",null,null,null,null,null,null,null,null,"","",""]
["БЕНИН: Лига 1 - Чемпионшип - плей-офф","2022.03.27 18:00","Бембереке","Лото","SICdabH0",34,null,null,"Загрузить",null,null,null,null,null,null,null,null,"","",""]
["БЕНИН: Лига 1 - Чемпионшип - плей-офф","2022.03.27 18:00","Дадже","Бюффль де Боргу","lSDh0v2f",34,null,null,"Загрузить",null,null,null,null,null,null,null,null,"","",""]
["БЕНИН: Лига 1 - Чемпионшип - плей-офф","2022.03.27 18:00","Джеффа","Аджиджа","f5El1Knl",34,null,null,"Загрузить",null,null,null,null,null,null,null,null,"","",""]
["БЕНИН: Лига 1 - Чемпионшип - плей-офф","2022.03.27 18:00","Кавальерс","Эспуар","t2Ap20Xs",34,null,null,"Загрузить",null,null,null,null,null,null,null,null,"","",""]
["БЕНИН: Лига 1 - Чемпионшип - плей-офф","2022.03.27 18:00","Этернель","Pobe","MDcCK8m9",34,null,null,"Загрузить",null,null,null,null,null,null,null,null,"","",""]
["ВЕНГРИЯ: НБ III - Запад","2022.03.27 18:00","Бичке","Дьирмот II","r708eYbQ",91,null,null,"Загрузить",null,null,null,null,null,null,null,null,"","",""]
["ИСПАНИЯ: Примера РФЕФ - Группа 1","2022.03.27 18:00","Самора","Талавера","j5mKhFET",176,null,null,"Загрузить",null,null,2.68,2.88,2.77,2.3199999999999998,3,2.94,0.36000000000000032,-0.12000000000000011,-0.16999999999999993]
["ИСПАНИЯ: Примера РФЕФ - Группа 1","2022.03.27 18:00","Ферроль","Сан-Себастьян","Gne7eHUA",176,null,null,"Загрузить",null,null,1.66,3.48,5.3,1.51,3.6,6.25,0.14999999999999991,-0.12000000000000011,-0.95000000000000018]
["ИСПАНИЯ: Примера РФЕФ - Группа 2","2022.03.27 18:00","Алькояно","Вильярреал (Б)","UX3CL05d",176,null,null,"Загрузить",null,null,2.52,3.03,2.88,2.81,3.3,2.27,-0.29000000000000004,-0.27,0.60999999999999988]
["ИСПАНИЯ: Сегунда РФЕФ - Группа 1","2022.03.27 18:00","Компостела","Коруксо","4nlbEm8c",176,null,null,"Загрузить",null,null,2.41,2.85,3.22,2.12,3.1,3.26,0.29000000000000004,-0.25,-3.9999999999999591E-2]
["ИСПАНИЯ: Сегунда РФЕФ - Группа 1","2022.03.27 18:00","Лангрео","Ароса","6BpFA57M",176,null,null,"Загрузить",null,null,1.72,3.32,5.0999999999999996,1.93,3.2,3.68,-0.20999999999999996,0.11999999999999966,1.4199999999999995]
["ИСПАНИЯ: Сегунда РФЕФ - Группа 1","2022.03.27 18:00","Саламанка","Навалькарнеро","CCi6CRxA",176,null,null,"Загрузить",null,null,2.73,2.81,2.78,3.18,2.88,2.27,-0.45000000000000018,-6.999999999999984E-2,0.50999999999999979]
["ИСПАНИЯ: Сегунда РФЕФ - Группа 2","2022.03.27 18:00","Логроньес (Б)","Ардой","UqCccP7n",176,null,null,"Загрузить",null,null,1.5,3.98,6.35,1.59,3.4,5.6,-9.000000000000008E-2,0.58000000000000007,0.75]
["ИСПАНИЯ: Сегунда РФЕФ - Группа 2","2022.03.27 18:00","Наксара","Реал Сосьедад C","8CdwdFBC",176,null,null,"Загрузить",null,null,3.4,2.98,2.2400000000000002,3.17,3,2.2200000000000002,0.22999999999999998,-2.0000000000000018E-2,2.0000000000000018E-2]
["ИСПАНИЯ: Сегунда РФЕФ - Группа 2","2022.03.27 18:00","Тропесон","Аренас Клуб","fTfofgtP",176,null,null,"Загрузить",null,null,3.08,2.79,2.56,3.68,2.8,2.12,-0.60000000000000009,-9.9999999999997868E-3,0.43999999999999995]
["ИСПАНИЯ: Сегунда РФЕФ Б - Группа 3","2022.03.27 18:00","Нумансия","Бадалона","fmXOtvZK",176,null,null,"Загрузить",null,null,1.54,3.64,6.55,1.64,3.2,5.6,-9.9999999999999867E-2,0.43999999999999995,0.95000000000000018]
["ИСПАНИЯ: Сегунда РФЕФ Б - Группа 3","2022.03.27 18:00","Серданьола-дель-Вальес","Эбро","vgUAXZe7",176,null,null,"Загрузить",null,null,2.4500000000000002,3.09,2.92,2.3199999999999998,3.1,2.86,0.13000000000000034,-1.0000000000000231E-2,6.0000000000000053E-2]
["ИСПАНИЯ: Сегунда РФЕФ Б - Группа 3","2022.03.27 18:00","Терраса","Теруэль","AJP6YFt1",176,null,null,"Загрузить",null,null,2.4500000000000002,3.14,2.88,2.4,3,2.75,5.0000000000000266E-2,0.14000000000000012,0.12999999999999989]
["ИСПАНИЯ: Сегунда РФЕФ Б - Группа 5","2022.03.27 18:00","Агилас","Леванте УД (Б)","4rnCrcx5",176,null,null,"Загрузить",null,null,2.1,3.07,3.64,2.3199999999999998,3,2.97,-0.21999999999999975,6.999999999999984E-2,0.66999999999999993]
["ИСПАНИЯ: Сегунда РФЕФ Б - Группа 5","2022.03.27 18:00","Марчамало","Алсира","UBv0oahn",176,null,null,"Загрузить",null,null,2.9,2.89,2.56,2.97,3,2.3199999999999998,-7.0000000000000284E-2,-0.10999999999999988,0.24000000000000021]
["ИСПАНИЯ: Сегунда РФЕФ Б - Группа 5","2022.03.27 18:00","Мурсия","Ла-Нусия","C8kKty7H",176,null,null,"Загрузить",null,null,2.5,2.87,3.05,2.63,2.88,2.63,-0.12999999999999989,-9.9999999999997868E-3,0.41999999999999993]
["ИСПАНИЯ: Сегунда РФЕФ Б - Группа 5","2022.03.27 18:00","Эркулес","Эльденсе","jalOueMN",176,null,null,"Загрузить",null,null,1.98,3.09,4.0599999999999996,2.12,3,3.36,-0.14000000000000012,8.9999999999999858E-2,0.69999999999999973]
["ИСПАНИЯ: Терсера - Группа 1","2022.03.27 18:00","Арсуа","Оренсе","GzTv34lC",176,null,null,"Загрузить",null,null,4.22,2.7,2.06,5.55,3.2,1.66,-1.33,-0.5,0.40000000000000013]
["ИСПАНИЯ: Терсера - Группа 1","2022.03.27 18:00","Сомосас","Депортиво Фабриль","AcSr2O3I",176,null,null,"Загрузить",null,null,2.2799999999999998,2.85,3.34,2.2799999999999998,2.85,3.34,0,0,0]
["ИСПАНИЯ: Терсера - Группа 3","2022.03.27 18:00","Гимнастика Торрелавега","Картес","0QkodhiH",176,null,null,"Загрузить",null,null,1.18,6.05,13.5,1.3,5,7.7,-0.12000000000000011,1.0499999999999998,5.8]
["ИСПАНИЯ: Терсера - Группа 3","2022.03.27 18:00","Наваль Рейноза","Сьете Вильяс","MaMx0zhh",176,null,null,"Загрузить",null,null,2.0499999999999998,2.9,3.86,2.27,2.85,3.34,-0.2200000000000002,4.9999999999999822E-2,0.52]
["ИСПАНИЯ: Терсера - Группа 3","2022.03.27 18:00","Селайя","Колиндрес","ETgkeC6N",176,null,null,"Загрузить",null,null,2.02,3.1,3.64,2.02,3.1,3.64,0,0,0]
["ИСПАНИЯ: Терсера - Группа 4","2022.03.27 18:00","Баракальдо","Аурьера Ондарроа","SWq7j6hL",176,null,null,"Загрузить",null,null,1.53,3.86,5.9,1.55,3.6,5.55,-2.0000000000000018E-2,0.25999999999999979,0.35000000000000053]
["ИСПАНИЯ: Терсера - Группа 5","2022.03.27 18:00","Олот","Пералада","nVqFMP1T",176,null,null,"Загрузить",null,null,2.06,2.81,3.96,2.0699999999999998,2.8,3.96,-9.9999999999997868E-3,1.0000000000000231E-2,0]
["ИСПАНИЯ: Терсера - Группа 6","2022.03.27 18:00","Олимпик Хатива","Вильярреал C","42AHNxmM",176,null,null,"Загрузить",null,null,3.2,3.05,2.27,2.63,3,2.5,0.57000000000000028,4.9999999999999822E-2,-0.22999999999999998]
["ИСПАНИЯ: Терсера - Группа 7","2022.03.27 18:00","Паракуэльос Антамира","Трес Кантос","xvecdw2a",176,null,null,"Загрузить",null,null,1.81,3.13,4.8,1.75,3.4,4.28,6.0000000000000053E-2,-0.27,0.51999999999999957]
["ИСПАНИЯ: Терсера - Группа 8","2022.03.27 18:00","Арандина","Атлетико Тордесильяс","SMfHW3VT",176,null,null,"Загрузить",null,null,1.91,3.28,3.96,1.87,3.3,3.82,{"$f":"IF(L770=\"\",\"\",L770-O770)","v":3.9999999999999813E-2},{"$f":"IF(M770=\"\",\"\",M770-P770)","v":-2.0000000000000018E-2},{"$f":"IF(N770=\"\",\"\",N770-Q770)","v":0.14000000000000012}]
["ИСПАНИЯ: Терсера - Группа 8","2022.03.27 18:00","Гихуэло","Нумансия (Б)","dxZUkRVi",176,null,null,"Загрузить",null,null,1.25,5.0999999999999996,10.5,1.25,5.0999999999999996,10.5,0,0,0]
["ИСПАНИЯ: Терсера - Группа 8","2022.03.27 18:00","Реал Авила","Сьюдад Родриго","Ob5Rloob",176,null,null,"Загрузить",null,null,1.1399999999999999,6.95,17,1.1299999999999999,6.5,16,1.0000000000000009E-2,0.45000000000000018,1]
["ИСПАНИЯ: Терсера - Группа 9","2022.03.27 18:00","Атлетико Поркуна","Алаурин","nXjFWcSd",176,null,null,"Загрузить",null,null,1.59,3.82,5.25,1.55,3.74,5.0999999999999996,4.0000000000000036E-2,7.9999999999999627E-2,0.15000000000000036]
["ИСПАНИЯ: Терсера - Группа 9","2022.03.27 18:00","Мотриль","Торреперохиль","6yES8fzj",176,null,null,"Загрузить",null,null,1.32,4.5599999999999996,9.1,1.41,4.2,7,-8.9999999999999858E-2,0.35999999999999943,2.0999999999999996]
["ИСПАНИЯ: Терсера - Группа 10","2022.03.27 18:00","Антониано","Кониль","OGh6Bx1g",176,null,null,"Загрузить",null,null,1.41,4,7.8,2.57,2.7,3.05,-1.1599999999999999,1.2999999999999998,4.75]
["ИСПАНИЯ: Терсера - Группа 10","2022.03.27 18:00","Рекреативо","Картайя","hz9neHGC",176,null,null,"Загрузить",null,null,1.1599999999999999,6,15,1.28,4.2,14,-0.12000000000000011,1.7999999999999998,1]
["ИСПАНИЯ: Терсера - Группа 11","2022.03.27 18:00","Биниссалем","Платгес-де-Кальвия","8zoAHoYN",176,null,null,"Загрузить",null,null,4.58,2.98,1.9,3.56,3.3,1.93,1.02,-0.31999999999999984,-3.0000000000000027E-2]
["ИСПАНИЯ: Терсера - Группа 11","2022.03.27 18:00","Побленсе","Sant Rafel","2cpEG5mU",176,null,null,"Загрузить",null,null,1.24,5.3,11.5,1.21,6,9.3000000000000007,3.0000000000000027E-2,-0.70000000000000018,2.1999999999999993]
["ИСПАНИЯ: Терсера - Группа 11","2022.03.27 18:00","Сольер","Ротлет Молинар","46WuCPeo",176,null,null,"Загрузить",null,null,1.75,3.32,4.76,1.69,3.6,4.28,6.0000000000000053E-2,-0.28000000000000025,0.47999999999999954]
["ИСПАНИЯ: Терсера - Группа 13","2022.03.27 18:00","Лос Гаррес","Бала Азул","pzPAQc71",176,null,null,"Загрузить",null,null,3.42,3.04,2.17,3.17,3.2,2.12,0.25,-0.16000000000000014,4.9999999999999822E-2]
["ИСПАНИЯ: Терсера - Группа 15","2022.03.27 18:00","Кантолагуа","Сирбонеро","695TJE8B",176,null,null,"Загрузить",null,null,3.84,3,2.02,3.84,3,2.02,0,0,0]
["ИСПАНИЯ: Терсера - Группа 15","2022.03.27 18:00","Кортес","Бети Онак","Gz1vxdOu",176,null,null,"Загрузить",null,null,2.12,2.84,3.76,2.12,2.85,3.74,0,-1.0000000000000231E-2,1.9999999999999574E-2]
["ИСПАНИЯ: Терсера - Группа 15","2022.03.27 18:00","Чантреа","Памплона","EZ8yIhwO",176,null,null,"Загрузить",null,null,null,null,null,null,null,null,"","",""]
["ИСПАНИЯ: Терсера - Группа 16","2022.03.27 18:00","Ангиано","Агонсильо","b55GyRD7",176,null,null,"Загрузить",null,null,1.25,5.45,8,1.23,5.4,10.5,2.0000000000000018E-2,4.9999999999999822E-2,-2.5]
["ИСПАНИЯ: Терсера - Группа 16","2022.03.27 18:00","Калаорра (Б)","Арнедо","OnD3vTTl",176,null,null,"Загрузить",null,null,3.84,3,2.02,4.1399999999999997,3,1.94,-0.29999999999999982,0,8.0000000000000071E-2]
["ИСПАНИЯ: Терсера - Группа 16","2022.03.27 18:00","Касаларрейна","Вианес","QBgb0Aj8",176,null,null,"Загрузить",null,null,1.4,4.0999999999999996,7.6,1.4,4.0999999999999996,7.6,0,0,0]
["ИСПАНИЯ: Терсера - Группа 16","2022.03.27 18:00","Ла-Кальсада","Сенисеро","xjH7wmqe",176,null,null,"Загрузить",null,null,1.05,7.9,90,1.17,6.4,12.5,-0.11999999999999988,1.5,77.5]
["ИСПАНИЯ: Терсера - Группа 16","2022.03.27 18:00","Ойонеса","Вареа","SGRXqk6R",176,null,null,"Загрузить",null,null,3.34,3,2.1800000000000002,3.34,3,2.1800000000000002,0,0,0]
["ИСПАНИЯ: Терсера - Группа 16","2022.03.27 18:00","Ривер Эбро","Альфаро","KE6Cx7b1",176,null,null,"Загрузить",null,null,6.95,4.5999999999999996,1.37,5.25,3.5,1.62,1.7000000000000002,1.0999999999999996,-0.25]
["ИСПАНИЯ: Терсера - Группа 17","2022.03.27 18:00","Бинефар","Санта-Анастасия","SC9ZAifp",176,null,null,"Загрузить",null,null,1.5,3.6,6.85,1.54,3.8,5.65,-4.0000000000000036E-2,-0.19999999999999973,1.1999999999999993]
["ИСПАНИЯ: Терсера - Группа 17","2022.03.27 18:00","Борха","Кариньена","fPlYVhW9",176,null,null,"Загрузить",null,null,3.36,2.88,2.29,3.68,3.2,1.93,-0.32000000000000028,-0.32000000000000028,0.3600000000000001]
["ИСПАНИЯ: Терсера - Группа 17","2022.03.27 18:00","Бьескас","Ильека","88nMYfni",176,null,null,"Загрузить",null,null,9.9,4.0999999999999996,1.34,10,4.0999999999999996,1.34,-9.9999999999999645E-2,0,0]
["ИСПАНИЯ: Терсера - Группа 18","2022.03.27 18:00","Конкенсе","Альбасете (Б)","YumVHSep",176,null,null,"Загрузить",null,null,1.36,4.34,8.6,1.51,3.74,5.7,-0.14999999999999991,0.59999999999999964,2.8999999999999995]
["ИСПАНИЯ: Терсера - Группа 18","2022.03.27 18:00","Мигельтурьеньо","Кинтанар","fTtXylmG",176,null,null,"Загрузить",null,null,10,4.08,1.33,10,4.0999999999999996,1.33,0,-1.9999999999999574E-2,0]
["МИР: Клубные товарищеские матчи","2022.03.27 18:00","Будё/Глимт","Мольде","QgCTKNVC",8,null,null,"Загрузить",null,null,null,null,null,null,null,null,"","",""]
["НИГЕРИЯ: ННЛ","2022.03.27 18:00","Нигерия Эирфорс","Джигава Голден Старс","YPvLCFiG",143,null,null,"Загрузить",null,null,null,null,null,null,null,null,"","",""]
["НИГЕРИЯ: ННЛ","2022.03.27 18:00","Эль Канеми","Ойя Спортс","rokMiEFj",143,null,null,"Загрузить",null,null,null,null,null,null,null,null,"","",""]
["ПОРТУГАЛИЯ: Третья лига - Группа вылета","2022.03.27 18:00","Сакавененше","О Элваш","OQaxupEe",155,null,null,"Загрузить",null,null,1.44,4,7.4,1.55,3.7,6.3,-0.1100000000000001,0.29999999999999982,1.1000000000000005]
["СЕРБИЯ: Сербская Лига - Запад","2022.03.27 18:00","Слобода","Реал Подунавци","YPxPReCt",167,null,null,"Загрузить",null,null,null,null,null,null,null,null,"","",""]
["СЛОВЕНИЯ: Первый дивизион (Ж)","2022.03.27 18:00","ЗНК Любляна (Ж)","Птуй (Ж)","EXPtOEKC",172,null,null,"Загрузить",null,null,null,null,null,null,null,null,"","",""]
["ТОГО: Чемпионат - Чемпионшип - плей-офф","2022.03.27 18:00","Binah","АСКО Кара","t0P3byuK",187,null,null,"Загрузить",null,null,null,null,null,null,null,null,"","",""]
["ТОГО: Чемпионат - Чемпионшип - плей-офф","2022.03.27 18:00","Гомидо","Кара","EgXHzYnD",187,null,null,"Загрузить",null,null,null,null,null,null,null,null,"","",""]
["ТОГО: Чемпионат - Чемпионшип - плей-офф","2022.03.27 18:00","Динамик Тоголез","Того-Порт","SdLaaHPD",187,null,null,"Загрузить",null,null,null,null,null,null,null,null,"","",""]
["ШОТЛАНДИЯ: Дивизион 1 (Ж)","2022.03.27 18:00","Абердин (Ж)","Спартанс (Ж)","SIC20zoJ",199,null,null,"Загрузить",null,null,2.31,3.7,2.5099999999999998,2.25,3.5,2.4500000000000002,6.0000000000000053E-2,0.20000000000000018,5.9999999999999609E-2]
["ШОТЛАНДИЯ: Дивизион 1 (Ж)","2022.03.27 18:00","Мотеруэлл (Ж)","Партик (Ж)","z9FYdJBr",199,null,null,"Загрузить",null,null,2.73,3.88,2.14,2.38,3.7,2.25,0.35000000000000009,0.17999999999999972,-0.10999999999999988]
["ШОТЛАНДИЯ: Дивизион 1 (Ж)","2022.03.27 18:00","Рейнджерс (Ж)","Хартс (Ж)","EF8b1GVC",199,null,null,"Загрузить",null,null,null,null,null,null,null,null,"","",""]
["ВЕНГРИЯ: НБ I - Женщины","2022.03.27 18:15","Дьер (Ж)","МТК Хунгария (Ж)","h2s4ZrxG",91,null,null,"Загрузить",null,null,2.73,3.7,2.25,1.72,3.7,3.72,1.01,0,-1.4700000000000002]
["ИСПАНИЯ: Сегунда РФЕФ Б - Группа 4","2022.03.27 18:15","Сан-Рока","Какерено","EFdwOBGl",176,null,null,"Загрузить",null,null,2.62,3.01,2.72,2.63,3.2,2.4,-9.9999999999997868E-3,-0.19000000000000039,0.32000000000000028]
["АНГЛИЯ: Чемпионшип - Женщины","2022.03.27 18:30","Лондон-Сити Лайонессес (Ж)","Льюиз (Ж)","GxtcFISr",198,null,null,"Загрузить",null,null,null,null,null,null,null,null,"","",""]
["ИСПАНИЯ: Сегунда РФЕФ Б - Группа 5","2022.03.27 18:30","Толедо","Сокуэльямос","OYw4pJ7h",176,null,null,"Загрузить",null,null,2.2999999999999998,2.61,3.88,2.27,3,3.07,2.9999999999999805E-2,-0.39000000000000012,0.81]
["ИСПАНИЯ: Терсера - Группа 1","2022.03.27 18:30","Алондрас","Софан","nNkCpdYp",176,null,null,"Загрузить",null,null,1.57,3.6,5.7,1.57,3.6,5.7,0,0,0]
["ИСПАНИЯ: Терсера - Группа 1","2022.03.27 18:30","Арнойя","Чоко","2XOz4pZ5",176,null,null,"Загрузить",null,null,3.54,2.8,2.2200000000000002,3.06,3.2,2.17,0.48,-0.40000000000000036,5.0000000000000266E-2]
["ИСПАНИЯ: Терсера - Группа 1","2022.03.27 18:30","Барко","Понтеареас","YiXJ7SZt",176,null,null,"Загрузить",null,null,1.46,4,6.9,1.37,4.2,7.3,8.9999999999999858E-2,-0.20000000000000018,-0.39999999999999947]
["ИСПАНИЯ: Терсера - Группа 2","2022.03.27 18:30","Колунга","Луарка","COyp4s7E",176,null,null,"Загрузить",null,null,2.2599999999999998,2.72,3.56,2.25,2.75,3.54,9.9999999999997868E-3,-2.9999999999999805E-2,2.0000000000000018E-2]
["ИСПАНИЯ: Терсера - Группа 4","2022.03.27 18:30","Лагун Онак","Анайтасуна","zwJjrr01",176,null,null,"Загрузить",null,null,2.2999999999999998,3.2,3,2.02,3.24,3.36,0.2799999999999998,-4.0000000000000036E-2,-0.35999999999999988]
["ИСПАНИЯ: Терсера - Группа 6","2022.03.27 18:30","Ориуэла","Торрент","nRFCOIXF",176,null,null,"Загрузить",null,null,1.8,3.18,4.76,1.93,3.1,3.82,-0.12999999999999989,8.0000000000000071E-2,0.94]
["ИСПАНИЯ: Терсера - Группа 8","2022.03.27 18:30","Альмасан","Диосесаньос","pb5CXqGN",176,null,null,"Загрузить",null,null,1.28,5.05,9.1,1.28,5,9,0,4.9999999999999822E-2,9.9999999999999645E-2]
["ИСПАНИЯ: Терсера - Группа 17","2022.03.27 18:30","Эпила","Каламоча","MBjQXE1c",176,null,null,"Загрузить",null,null,2.25,2.91,3.4,1.77,3.3,4.28,0.48,-0.38999999999999968,-0.88000000000000034]
["ИТАЛИЯ: Серия C - Группа B","2022.03.27 18:30","Губбио","Витербезе","8pCjF82e",98,null,null,"Загрузить",null,null,2.33,2.96,3.24,1.82,3.4,3.82,0.51,-0.43999999999999995,-0.57999999999999963]
["ИТАЛИЯ: Серия C - Группа B","2022.03.27 18:30","Монтеварки","Гроссето","zwP3OCu9",98,null,null,"Загрузить",null,null,1.79,2.98,5.5,1.93,3.2,3.68,-0.1399999999999999,-0.2200000000000002,1.8199999999999998]
["ИТАЛИЯ: Серия C - Группа B","2022.03.27 18:30","Реджана","Имолезе","hEJ8NWfF",98,null,null,"Загрузить",null,null,1.2,5.8,14.5,1.26,5,9.4,-6.0000000000000053E-2,0.79999999999999982,5.0999999999999996]
["ИТАЛИЯ: Серия C - Группа B","2022.03.27 18:30","Сиена","Лючезе","W4ICMjAL",98,null,null,"Загрузить",null,null,2.4,2.68,3.5,2.02,3,3.68,0.37999999999999989,-0.31999999999999984,-0.18000000000000016]
["ИТАЛИЯ: Серия C - Группа C","2022.03.27 18:30","Бари","Фиделис Андриа","llVmFRE8",98,null,null,"Загрузить",null,null,1.32,4.8,9.1,1.23,5,10.5,9.000000000000008E-2,-0.20000000000000018,-1.4000000000000004]
["КОТ-Д'ИВУАР: Лига 1","2022.03.27 18:30","АФ Амаду Диалло","Спортинг Ганьоа","0Iugjz4s",58,null,null,"Загрузить",null,null,null,null,null,null,null,null,"","",""]
["КОТ-Д'ИВУАР: Лига 1","2022.03.27 18:30","Буяке","АСЕК Мимосас","j7Y5mYm0",58,null,null,"Загрузить",null,null,null,null,null,null,null,null,"","",""]
["ЛИБЕРИЯ: Первый дивизион","2022.03.27 18:30","Heaven Eleven","Sandi","WWIlkCp9",113,null,null,"Загрузить",null,null,null,null,null,null,null,null,"","",""]
["ЛИБЕРИЯ: Первый дивизион","2022.03.27 18:30","Nimba United","Инвинсибл Элевен","4QQ2R8h2",113,null,null,"Загрузить",null,null,null,null,null,null,null,null,"","",""]
["ЛИБЕРИЯ: Первый дивизион","2022.03.27 18:30","Майти Барроль","Нимба Квадо","htKpjhV2",113,null,null,"Загрузить",null,null,null,null,null,null,null,null,"","",""]
["ЛИБЕРИЯ: Первый дивизион","2022.03.27 18:30","МК Брюуэрис","ЛПРК Ойлер","QZRbSlwd",113,null,null,"Загрузить",null,null,null,null,null,null,null,null,"","",""]
["НОРВЕГИЯ: Национальный дивизион U19","2022.03.27 18:30","Лиллестрём U19","Будё/Глимт U19","v7mVIUdQ",145,null,null,"Загрузить",null,null,null,null,null,null,null,null,"","",""]
["ШВЕЦИЯ: Высшая женская лига","2022.03.27 18:30","Юргорден (Ж)","Питео (Ж)","jX73KaxB",181,null,null,"Загрузить",null,null,2.2400000000000002,3.32,3.05,2.23,3.84,2.5499999999999998,1.0000000000000231E-2,-0.52,0.5]
["БЕЛЬГИЯ: Суперлига - Женщины - Этап победителей","2022.03.27 19:00","Лёвен (Ж)","Генк (Ж)","6Z0aRt9J",32,null,null,"Загрузить",null,null,1.5,4.34,5.4,1.49,4.5,5,1.0000000000000009E-2,-0.16000000000000014,0.40000000000000036]
["БУРКИНА-ФАСО: Премьер-лига","2022.03.27 19:00","Бобо-Диуласо","Кудугу","r3W8TcIi",42,null,null,"Загрузить",null,null,3.68,3.02,2,4.5999999999999996,3,1.82,-0.91999999999999948,2.0000000000000018E-2,0.17999999999999994]
["БУРКИНА-ФАСО: Премьер-лига","2022.03.27 19:00","Витесс","Koupela","vVPHRym4",42,null,null,"Загрузить",null,null,null,null,null,null,null,null,{"$f":"IF(L834=\"\",\"\",L834-O834)","v":""},{"$f":"IF(M834=\"\",\"\",M834-P834)","v":""},{"$f":"IF(N834=\"\",\"\",N834-Q834)","v":""}]
["БУРКИНА-ФАСО: Премьер-лига","2022.03.27 19:00","Кадиого","Сонабель Уагадугу","0vRDSHXc",42,null,null,"Загрузить",null,null,2.6,2.7,2.76,2.6,2.75,2.75,0,-4.9999999999999822E-2,9.9999999999997868E-3]
["БУРКИНА-ФАСО: Премьер-лига","2022.03.27 19:00","Мажестик","Дуане","4CX4Uw3o",42,null,null,"Загрузить",null,null,null,null,null,null,null,null,"","",""]
["ГВИНЕЯ: Лига 1","2022.03.27 19:00","Калум Стар","Фелло Стар","x8QegQDU",86,null,null,"Загрузить",null,null,null,null,null,null,null,null,"","",""]
["ГВИНЕЯ: Лига 1","2022.03.27 19:00","Лубха","Хоройя","SGeGqADU",86,null,null,"Загрузить",null,null,null,null,null,null,null,null,"","",""]
["ИСПАНИЯ: Примера РФЕФ - Группа 2","2022.03.27 19:00","Бетис (Б)","Барселона (Б)","v3o3rOC9",176,null,null,"Загрузить",null,null,3.74,3.08,2.0699999999999998,3.66,3.6,1.82,8.0000000000000071E-2,-0.52,0.24999999999999978]
["ИСПАНИЯ: Сегунда РФЕФ - Группа 2","2022.03.27 19:00","Сестао","Расинг (Б)","424AfNi5",176,null,null,"Загрузить",null,null,1.63,3.48,5.75,1.82,3.24,4.08,-0.19000000000000017,0.23999999999999977,1.67]
["ИСПАНИЯ: Сегунда РФЕФ Б - Группа 4","2022.03.27 19:00","Кория","Велес","lhytrX7K",176,null,null,"Загрузить",null,null,2.1,3.03,3.72,2.4,3,2.75,-0.29999999999999982,2.9999999999999805E-2,0.9700000000000002]
["ИСПАНИЯ: Сегунда РФЕФ Б - Группа 5","2022.03.27 19:00","Пуэртольяно","Интерсити","GUXmvroJ",176,null,null,"Загрузить",null,null,3.98,2.96,2.06,3.06,3.1,2.2200000000000002,0.91999999999999993,-0.14000000000000012,-0.16000000000000014]
["ИСПАНИЯ: Терсера - Группа 2","2022.03.27 19:00","Льянес","Басико Уррака","8jVh2LyR",176,null,null,"Загрузить",null,null,2.06,2.69,4.28,2.0499999999999998,2.7,4.28,1.0000000000000231E-2,-1.0000000000000231E-2,0]
["ИСПАНИЯ: Терсера - Группа 2","2022.03.27 19:00","Эль-Энтрего","Хихон Индустриаль","QVHKcupr",176,null,null,"Загрузить",null,null,1.65,3.52,5.2,1.64,3.5,4.84,1.0000000000000009E-2,2.0000000000000018E-2,0.36000000000000032]
["ИСПАНИЯ: Терсера - Группа 4","2022.03.27 19:00","Витория","Урдулис","ETHfs2F7",176,null,null,"Загрузить",null,null,1.94,2.9,4.3600000000000003,2.14,3,3.44,-0.20000000000000018,-0.10000000000000009,0.92000000000000037]
["ИСПАНИЯ: Терсера - Группа 5","2022.03.27 19:00","Вилассар-де-Мар","Оспиталет","hCMsIqAp",176,null,null,"Загрузить",null,null,2.75,2.85,2.68,2.4,3.2,2.63,0.35000000000000009,-0.35000000000000009,5.0000000000000266E-2]
["ИСПАНИЯ: Терсера - Группа 9","2022.03.27 19:00","Уэтор-Тахар","Марбелья","fcfNUyc9",176,null,null,"Загрузить",null,null,2.4,3.19,2.85,2.2200000000000002,3.24,2.93,0.17999999999999972,-5.0000000000000266E-2,-8.0000000000000071E-2]
["ИСПАНИЯ: Терсера - Группа 10","2022.03.27 19:00","Херес","Кабреренсе","27iAAdGa",176,null,null,"Загрузить",null,null,1.2,5.85,13,1.37,4,9,-0.17000000000000015,1.8499999999999996,4]
["ИСПАНИЯ: Терсера - Группа 13","2022.03.27 19:00","Лорка Депортива","Пальмар","4vdysJir",176,null,null,"Загрузить",null,null,1.62,3.4,5.6,1.62,3.4,5.6,0,0,0]
["ИСПАНИЯ: Терсера - Группа 14","2022.03.27 19:00","Арройо","Бадахос (Б)","lKVzOHoc",176,null,null,"Загрузить",null,null,1.58,3.7,5.3,1.59,3.7,5.3,-1.0000000000000009E-2,0,0]
["ИСПАНИЯ: Терсера - Группа 14","2022.03.27 19:00","АСЕ","Оливенса","dpZrMeG9",176,null,null,"Загрузить",null,null,3.32,3.03,2.2200000000000002,3.06,3.1,2.2200000000000002,0.25999999999999979,-7.0000000000000284E-2,0]
["ИСПАНИЯ: Терсера - Группа 14","2022.03.27 19:00","Дон Альваро","Эстремадура (Б)","nFihaY8d",176,null,null,"Загрузить",null,null,null,null,null,null,null,null,"","",""]
["ИСПАНИЯ: Терсера - Группа 14","2022.03.27 19:00","Херес","Миахадас","2NZvNy13",176,null,null,"Загрузить",null,null,1.76,3.3,4.5599999999999996,2.09,2.85,3.84,-0.32999999999999985,0.44999999999999973,0.71999999999999975]
["ИСПАНИЯ: Терсера - Группа 18","2022.03.27 19:00","Ла Рода","Торрихос","Ee6bNlYM",176,null,null,"Загрузить",null,null,null,null,null,null,null,null,"","",""]
["ИСПАНИЯ: Сегунда (Ж)","2022.03.27 19:00","SE AEM (Ж)","Прадехон (Ж)","jo3qmjbG",176,null,null,"Загрузить",null,null,1.5,4.26,5.65,1.51,4.0999999999999996,5.15,-1.0000000000000009E-2,0.16000000000000014,0.5]
["КОЛУМБИЯ: Лига - Женщины","2022.03.27 19:00","Атлетико Насьональ (Ж)","Хуниор (Ж)","UgwmfJ9F",53,null,null,"Загрузить",null,null,1.62,4.08,4.58,1.64,3.8,4.28,-1.9999999999999796E-2,0.28000000000000025,0.29999999999999982]
["КОЛУМБИЯ: Лига - Женщины","2022.03.27 19:00","Букараманга (Ж)","Мильонариос (Ж)","rwyycLPd",53,null,null,"Загрузить",null,null,4.0999999999999996,3.82,1.74,3.34,4.32,1.75,0.75999999999999979,-0.50000000000000044,-1.0000000000000009E-2]
["ЛИБЕРИЯ: Первый дивизион","2022.03.27 19:00","Фрипорт","ЛИСЦР","Ee8glWaF",113,null,null,"Загрузить",null,null,null,null,null,null,null,null,"","",""]
["ЛИТВА: Лига I","2022.03.27 19:00","Банга 2","Нептунас","nBiAFWMS",116,null,null,"Загрузить",null,null,3.32,3.72,1.95,1.92,3.3,3.74,1.4,0.42000000000000037,-1.7900000000000003]
["МЕКСИКА: Лига MX - Женщины - Клаусура","2022.03.27 19:00","Монтеррей (Ж)","Сантос Лагуна (Ж)","zgmaHxd5",128,null,null,"Загрузить",null,null,1.24,5.95,9.5,1.29,5.4,8.6999999999999993,-5.0000000000000044E-2,0.54999999999999982,0.80000000000000071]
["МИР: Международные товарищеские матчи","2022.03.27 19:00","Мавритания U20","Кабо-Верде U20","WzZkUA8q",8,null,null,"Загрузить",null,null,null,null,null,null,null,null,"","",""]
["МИР: Клубные товарищеские матчи","2022.03.27 19:00","Викинг","Хёугесунн","Uq8J3Htr",8,null,null,"Загрузить",null,null,1.66,4.0599999999999996,4.38,1.71,3.94,4.26,-5.0000000000000044E-2,0.11999999999999966,0.12000000000000011]
["ПОЛЬША: Дивизион 2","2022.03.27 19:00","Рух","Калиш","jm0tq6KD",154,null,null,"Загрузить",null,null,1.69,3.62,4.72,1.98,3.4,3.44,-0.29000000000000004,0.2200000000000002,1.2799999999999998]
["СЕРБИЯ: Первая лига","2022.03.27 19:00","Явор Иваница","Будучность Добановичи","Gx4adz4f",167,null,null,"Загрузить",null,null,1.29,4.88,9.6999999999999993,1.39,4.3,8.5,-9.9999999999999867E-2,0.58000000000000007,1.1999999999999993]
["СЛОВАКИЯ: Первая лига - Женщины - Группа вылета","2022.03.27 19:00","Петржалка (Ж)","Тренчин (Ж)","rFQ97jo1",171,null,null,"Загрузить",null,null,2.0699999999999998,4,2.68,2.0699999999999998,4,2.68,0,0,0]
["ИСПАНИЯ: Сегунда","2022.03.27 19:15","Алькоркон","Вальядолид","Uu0VAURD",176,null,null,"Загрузить",null,null,4.5999999999999996,3.42,1.77,3.78,3.4,1.97,0.81999999999999984,2.0000000000000018E-2,-0.19999999999999996]
["ИСПАНИЯ: Сегунда","2022.03.27 19:15","Малага","Уэска","ULTIlvBB",176,null,null,"Загрузить",null,null,2.84,2.93,2.75,2.12,3.1,3.7,0.71999999999999975,-0.16999999999999993,-0.95000000000000018]
["СЬЕРРА-ЛЕОНЕ: Премьер-лига","2022.03.27 19:15","Фритаун Сити","Бай-Буре Уорриорз","lIWVI4gF",169,null,null,"Загрузить",null,null,null,null,null,null,null,null,"","",""]
["ГАМБИЯ: Лига","2022.03.27 19:30","Реал Банжул","Гамбия Портс","0IFGjKI9",79,null,null,"Загрузить",null,null,1.55,3.62,5.3,1.51,3.5,6.3,4.0000000000000036E-2,0.12000000000000011,-1]
["ГАМБИЯ: Лига","2022.03.27 19:30","Фальконс","Уоллидан","6eGCi033",79,null,null,"Загрузить",null,null,2.2999999999999998,2.73,3.3,2.27,2.75,3.32,2.9999999999999805E-2,-2.0000000000000018E-2,-2.0000000000000018E-2]
["СЕНЕГАЛ: Лига 1","2022.03.27 19:30","Дуанес","Гедиауэй","tt9e6qf3",166,null,null,"Загрузить",null,null,null,null,null,null,null,null,"","",""]
["СЕНЕГАЛ: Лига 1","2022.03.27 19:30","Лингер","Диараф","QXQ8rt2d",166,null,null,"Загрузить",null,null,2.86,2.37,3.05,2.8,2.6,2.95,6.0000000000000053E-2,-0.22999999999999998,9.9999999999999645E-2]
["СЕНЕГАЛ: Лига 1","2022.03.27 19:30","Пикин","Дакар","z38a5399",166,null,null,"Загрузить",null,null,2.37,2.2599999999999998,4.46,2.2200000000000002,2.6,3.96,0.14999999999999991,-0.3400000000000003,0.5]
["СЕНЕГАЛ: Лига 1","2022.03.27 19:30","ЮС Горе","АСЕК Ндиамбур","2kAi7Pvc",166,null,null,"Загрузить",null,null,2.06,2.7,4.28,1.87,2.8,5.05,0.18999999999999995,-9.9999999999999645E-2,-0.76999999999999957]
["ИЗРАИЛЬ: Первая лига - Повышение - группа","2022.03.27 19:45","МС Кафр-Касим","Хапоэль Умм аль-Фахм","tI6I3XmJ",97,null,null,"Загрузить",null,null,1.93,3.05,4.38,2.02,3.1,3.48,-9.000000000000008E-2,-5.0000000000000266E-2,0.89999999999999991]
["ИСПАНИЯ: Сегунда РФЕФ - Группа 1","2022.03.27 20:00","Понтеведра","Юнион Адарве","YLh2D7N3",176,null,null,"Загрузить",null,null,1.68,3.48,5.0999999999999996,1.93,3.2,3.68,-0.25,0.2799999999999998,1.4199999999999995]
["ИСПАНИЯ: Терсера - Группа 5","2022.03.27 20:00","УЕ Сантс","Сант-Андрю","W2LoH3Pj",176,null,null,"Загрузить",null,null,3.9,3.1,1.99,3.17,3.1,2.17,0.73,0,-0.17999999999999994]
["ИСПАНИЯ: Терсера - Группа 13","2022.03.27 20:00","Сьюдад Мурсия","Масаррон","OQNEPHM7",176,null,null,"Загрузить",null,null,1.59,3.8,5.3,1.51,3.74,5.7,8.0000000000000071E-2,5.9999999999999609E-2,-0.40000000000000036]
["КОСТА-РИКА: Ассенсо - Клаусура","2022.03.27 20:00","Либерия","Кармелита","bmdCa9ch",57,null,null,"Загрузить",null,null,2.4,3.28,2.73,2.4,3.2,2.62,0,7.9999999999999627E-2,0.10999999999999988]
["КОСТА-РИКА: Ассенсо - Клаусура","2022.03.27 20:00","Санта-Ана","Мунисипаль Турриальба","WdKWxS8S",57,null,null,"Загрузить",null,null,1.62,3.8,4.9800000000000004,1.69,3.6,4.38,-6.999999999999984E-2,0.19999999999999973,0.60000000000000053]
["МИР: Международные товарищеские матчи","2022.03.27 20:00","Атлетико Сан-Луис","Никарагуа","d6lwlNY4",8,null,null,"Загрузить",null,null,null,null,null,null,null,null,"","",""]
["АВСТРАЛИЯ И ОКЕАНИЯ: Чемпионат мира - Квалификация - Третий этап","2022.03.27 20:30","Новая Зеландия","Таити","hthHjcYk",7,null,null,"Загрузить",null,null,1.1000000000000001,8.5,17,1.19,8.1999999999999993,12.5,-8.9999999999999858E-2,0.30000000000000071,4.5]
["ЯМАЙКА: Премьер-лига","2022.03.27 20:45","Харбор Вью","Данбихолден","GOCvGv24",99,null,null,"Загрузить",null,null,2.52,2.83,3.04,2.52,2.85,3.03,0,-2.0000000000000018E-2,1.0000000000000231E-2]
["АРГЕНТИНА: Примера А Женщины","2022.03.27 21:00","УАИ Уркиса (Ж)","Дефенсорес де Бельграно (Ж)","842kmhT5",22,null,null,"Загрузить",null,null,1.04,12.5,30,1.1399999999999999,7,13.5,-9.9999999999999867E-2,5.5,16.5]
["БЕРМУДЫ: Премьер-лига","2022.03.27 21:00","Девоншир Кольтс","Х-Роудс Уорриорс","QcCeA997",230,null,null,"Загрузить",null,null,null,null,null,null,null,null,"","",""]
["БЕРМУДЫ: Премьер-лига","2022.03.27 21:00","Зебрас","Сомерсет Троянс","n7DiBkf1",230,null,null,"Загрузить",null,null,null,null,null,null,null,null,"","",""]
["БЕРМУДЫ: Премьер-лига","2022.03.27 21:00","Сент-Джорлд Кольтс","Данди Таун Хорнетс","C0XVYhn8",230,null,null,"Загрузить",null,null,null,null,null,null,null,null,"","",""]
["БРАЗИЛИЯ: Чемпионат Кариока - Така Рио","2022.03.27 21:00","Ресенде","Нова-Игуасу","zutlDQ3A",39,null,null,"Загрузить",null,null,2.79,3.22,2.66,2.25,2.9,3.52,0.54,0.32000000000000028,-0.85999999999999988]
["БРАЗИЛИЯ: Чемпионат Сеараенсе - Плей-офф","2022.03.27 21:00","Каукая","Форталеза","zwDRcccd",39,null,null,"Загрузить",null,null,null,null,null,null,null,null,"","",""]
["БРАЗИЛИЯ: Чемпионат Пернамбукано - Группа вылета","2022.03.27 21:00","Афогадос да Ингасейра","Ibis Sport Club","IPf2lkPE",39,null,null,"Загрузить",null,null,1.78,2.46,9.1,1.64,3.74,4.54,0.14000000000000012,-1.2800000000000002,4.5599999999999996]
["БРАЗИЛИЯ: Чемпионат Пернамбукано - Группа вылета","2022.03.27 21:00","Вера-Круз","Сете де Сетембро","Cnf6m9vL",39,null,null,"Загрузить",null,null,8.9,5.6,1.26,1.23,5.5,8.9,7.67,9.9999999999999645E-2,-7.6400000000000006]
["БРАЗИЛИЯ: Бразилейро - Женщины","2022.03.27 21:00","Сан-Паулу (Ж)","Гремио (Ж)","OdAByTGO",39,null,null,"Загрузить",null,null,1.49,4.24,5.7,1.45,3.7,5.95,4.0000000000000036E-2,0.54,-0.25]
["БРАЗИЛИЯ: Бразилейро - Женщины","2022.03.27 21:00","Эсмак (Ж)","Сан Хосе (Ж)","x0bg0CgP",39,null,null,"Загрузить",null,null,4.24,4.28,1.64,5.95,3.7,1.45,-1.71,0.58000000000000007,0.18999999999999995]
["ГВАТЕМАЛА: Национальная лига - Клаусура","2022.03.27 21:00","Депортиво Ачуапа","Гуастотоя","bZbYz1vQ",85,null,null,"Загрузить",null,null,2.81,2.65,2.83,2.5,3,2.63,0.31000000000000005,-0.35000000000000009,0.20000000000000018]
["КОТ-Д'ИВУАР: Лига 1","2022.03.27 21:00","Бафинг","Сан-Педро","fuuckfJm",58,null,null,"Загрузить",null,null,2.72,2.64,2.72,2.6,2.9,2.6,0.12000000000000011,-0.25999999999999979,0.12000000000000011]
["МЕКСИКА: Лига Экспансьон МХ - Клаусура","2022.03.27 21:00","Атлетико Морелия","Леонес Негрос","63Gxkarl",128,null,null,"Загрузить",null,null,2.36,3.2,2.95,2.02,3.24,3.32,0.33999999999999986,-4.0000000000000036E-2,-0.36999999999999966]
["МЕКСИКА: Лига MX - Женщины - Клаусура","2022.03.27 21:00","Пуэбла (Ж)","Америка (Ж)","4Si3GdBB",128,null,null,"Загрузить",null,null,8.6,5.05,1.3,7,4.2,1.34,1.5999999999999996,0.84999999999999964,-4.0000000000000036E-2]
["МИР: Международные товарищеские матчи","2022.03.27 21:00","Мавритания U23","Алжир U23","z9aQXEU2",8,null,null,"Загрузить",null,null,null,null,null,null,null,null,{"$f":"IF(L898=\"\",\"\",L898-O898)","v":""},{"$f":"IF(M898=\"\",\"\",M898-P898)","v":""},{"$f":"IF(N898=\"\",\"\",N898-Q898)","v":""}]
["США: МЛС Некст Про","2022.03.27 21:00","Филадельфия II","Цинциннати 2","f1CmPBv8",200,null,null,"Загрузить",null,null,null,null,null,null,null,null,"","",""]
["АРГЕНТИНА: Торнео Федерал","2022.03.27 21:15","Дуглас Хаиг","Деф. Пронунсиаменто","thuqXrtp",22,null,null,"Загрузить",null,null,2.89,2.66,2.73,2.52,2.75,3.05,0.37000000000000011,-8.9999999999999858E-2,-0.31999999999999984]
["БУРКИНА-ФАСО: Премьер-лига","2022.03.27 21:15","УСФА","Этуаль Филанте","YiPLQe2A",42,null,null,"Загрузить",null,null,2.83,2.73,2.72,2.75,2.75,2.6,8.0000000000000071E-2,-2.0000000000000018E-2,0.12000000000000011]
["АРГЕНТИНА: Примера Насьональ","2022.03.27 21:30","Сакачиспас","Клуб Атлетико Митре","CQGzXwX8",22,null,null,"Загрузить",null,null,2.8,2.74,2.8,2.52,2.7,3.06,0.2799999999999998,4.0000000000000036E-2,-0.26000000000000023]
["АРГЕНТИНА: Торнео Федерал","2022.03.27 21:30","Сьюдад Боливар","Сансинена","rHa8wo3G",22,null,null,"Загрузить",null,null,2.5099999999999998,2.9,2.89,2.3199999999999998,2.8,3.18,0.18999999999999995,0.10000000000000009,-0.29000000000000004]
["АРГЕНТИНА: Торнео Федерал","2022.03.27 21:30","Хувентуд Унида Гуалегуайчу","Крусеро Дель Норте","2cQwgQ23",22,null,null,"Загрузить",null,null,2.1,3.1,3.56,2.02,3.1,3.48,8.0000000000000071E-2,0,8.0000000000000071E-2]
["АРГЕНТИНА: Примера C - Апертура","2022.03.27 21:30","Архентино де Мерло","Леандро Н. Алем","ClgkDuFo",22,null,null,"Загрузить",null,null,1.92,3.22,4.0199999999999996,1.72,3.4,4.5599999999999996,0.19999999999999996,-0.17999999999999972,-0.54]
["АРГЕНТИНА: Примера C - Апертура","2022.03.27 21:30","Атлас","Экскурсионистас","GnZE7yqN",22,null,null,"Загрузить",null,null,2.42,3.04,2.97,2.5,2.85,2.85,-8.0000000000000071E-2,0.18999999999999995,0.12000000000000011]
["АРГЕНТИНА: Примера C - Апертура","2022.03.27 21:30","Берасатеги","Эль Порвенир","bo57ldxo",22,null,null,"Загрузить",null,null,1.72,3.4,4.88,1.77,3.3,4.28,-5.0000000000000044E-2,0.10000000000000009,0.59999999999999964]
["АРГЕНТИНА: Примера C - Апертура","2022.03.27 21:30","Викториано Аренас","Мидленд","fXp69cEA",22,null,null,"Загрузить",null,null,2.58,2.9,2.81,2.29,2.85,3.3,0.29000000000000004,4.9999999999999822E-2,-0.48999999999999977]
["АРГЕНТИНА: Примера C - Апертура","2022.03.27 21:30","Клайполе","Линиерс","YNqA8HTG",22,null,null,"Загрузить",null,null,2.02,3.12,3.76,1.97,3,3.84,5.0000000000000044E-2,0.12000000000000011,-8.0000000000000071E-2]
["АРГЕНТИНА: Примера C - Апертура","2022.03.27 21:30","Клуб Лухан","Депортиво Эспаньол","n7o2Awa4",22,null,null,"Загрузить",null,null,2.61,2.77,2.91,2.6,2.7,2.85,9.9999999999997868E-3,6.999999999999984E-2,6.0000000000000053E-2]
["АРГЕНТИНА: Примера C - Апертура","2022.03.27 21:30","Лаферрере","Сентраль Кордоба","8GnbBJqb",22,null,null,"Загрузить",null,null,2.31,2.77,3.48,2.27,2.7,3.48,4.0000000000000036E-2,6.999999999999984E-2,0]
["БРАЗИЛИЯ: Чемпионат Бразиленсе - Этап победителей","2022.03.27 21:30","Гама","Сейляндия","vTAnTuVB",39,null,null,"Загрузить",null,null,3.64,3.34,1.97,4,3.3,1.92,-0.35999999999999988,4.0000000000000036E-2,5.0000000000000044E-2]
["БРАЗИЛИЯ: Чемпионат Мараньенсе - Второй этап","2022.03.27 21:30","Иапе","Tuntum","OKt2sBWO",39,null,null,"Загрузить",null,null,2.46,2.97,2.96,2.12,3,3.36,0.33999999999999986,-2.9999999999999805E-2,-0.39999999999999991]
["БРАЗИЛИЯ: Чемпионат Мараньенсе - Второй этап","2022.03.27 21:30","Кордино ЕС","Жувентуде","QPKp6f9P",39,null,null,"Загрузить",null,null,1.39,4.5199999999999996,7.2,1.75,3.5,4.08,-0.3600000000000001,1.0199999999999996,3.12]
["АРГЕНТИНА: Примера Насьональ","2022.03.27 21:35","Чакарита Хуниорс","Альварадо","4nYgK0m3",22,null,null,"Загрузить",null,null,2.48,3.03,2.92,2.52,2.75,3.01,-4.0000000000000036E-2,0.2799999999999998,-8.9999999999999858E-2]
["БРАЗИЛИЯ: Чемпионат Пиауиенсе","2022.03.27 21:45","Corisabba","Фламенго ПИ","hnXAw9km",39,null,null,"Загрузить",null,null,null,null,null,null,null,null,"","",""]
["БРАЗИЛИЯ: Чемпионат Токантиненсе - Плей-офф","2022.03.27 21:45","Капитал","Интерпорто","Wb15adG2",39,null,null,"Загрузить",null,null,2.16,3.18,3.3,2.4500000000000002,3.2,2.5499999999999998,-0.29000000000000004,-2.0000000000000018E-2,0.75]
["АРГЕНТИНА: Примера Насьональ","2022.03.27 22:00","Гильермо Браун","Эстудиантес Рио Куарто","YLxbJK29",22,null,null,"Загрузить",null,null,2.0299999999999998,2.84,4.32,1.97,2.8,4.28,5.9999999999999831E-2,4.0000000000000036E-2,4.0000000000000036E-2]
["АРГЕНТИНА: Примера Насьональ","2022.03.27 22:00","Олл Бойс","Депортиво Риестра","fFkW4LmG",22,null,null,"Загрузить",null,null,2.41,2.85,3.24,2.09,2.85,3.84,0.32000000000000028,0,-0.59999999999999964]
["АРГЕНТИНА: Примера Насьональ","2022.03.27 22:00","Сан-Тельмо","Вилла Дальмине","pKOl9zu2",22,null,null,"Загрузить",null,null,2.4300000000000002,2.96,3.06,2.27,2.75,3.38,0.16000000000000014,0.20999999999999996,-0.31999999999999984]
["АРГЕНТИНА: Торнео Федерал","2022.03.27 22:00","Индепендьенте Чивилькой","Argentino MM","OfgDJPBp",22,null,null,"Загрузить",null,null,1.8,3.1,5.05,1.8,3.1,5.05,0,0,0]
["АРГЕНТИНА: Примера А Женщины","2022.03.27 22:00","Ривер Плейт (Ж)","Бока Хуниорс (Ж)","vPAYjzUt",22,null,null,"Загрузить",null,null,3.36,3.58,1.98,2.13,3.34,3.1,1.23,0.24000000000000021,-1.1200000000000001]
["БРАЗИЛИЯ: Чемпионат Баияно - Плей-офф","2022.03.27 22:00","Барселона","Жакуипенсе","MqMKyCu9",39,null,null,"Загрузить",null,null,3.13,3.04,2.3199999999999998,3.46,2.95,2.15,-0.33000000000000007,8.9999999999999858E-2,0.16999999999999993]
["БРАЗИЛИЯ: Чемпионат Бразиленсе - Этап победителей","2022.03.27 22:00","Бразильенсе","Кэпитал","IJ9jSapI",39,null,null,"Загрузить",null,null,1.57,3.88,5.35,1.84,3.3,4.38,-0.27,0.58000000000000007,0.96999999999999975]
["БРАЗИЛИЯ: Чемпионат Кариока - Така Гуанабара - плей-офф","2022.03.27 22:00","Флуминенсе","Ботафого","pAVuphee",39,null,null,"Загрузить",null,null,1.8,3.48,4.88,1.64,3.24,5.55,0.16000000000000014,0.23999999999999977,-0.66999999999999993]
["БРАЗИЛИЯ: Чемпионат Катариненсе - Плей-офф","2022.03.27 22:00","Бруске","Конкордия","6cw9Pjxq",39,null,null,"Загрузить",null,null,1.79,3.24,4.72,1.77,3.2,5.05,2.0000000000000018E-2,4.0000000000000036E-2,-0.33000000000000007]
["БРАЗИЛИЯ: Чемпионат Минейро - 5-8 места","2022.03.27 22:00","Вилла-Нова","Демократа","INHi2ARB",39,null,null,"Загрузить",null,null,1.98,3.2,3.86,2.06,3.1,3.72,-8.0000000000000071E-2,0.10000000000000009,0.13999999999999968]
["БРАЗИЛИЯ: Чемпионат Параибано","2022.03.27 22:00","Ботафого ПБ","Соуза","KKN66gik",39,null,null,"Загрузить",null,null,1.91,3.13,4.22,1.93,3.1,3.82,-2.0000000000000018E-2,2.9999999999999805E-2,0.39999999999999991]
["БРАЗИЛИЯ: Чемпионат Паранаенсе - Плей-офф","2022.03.27 22:00","Коритиба","Атлетико Паранаэнсе","O8xbU0u8",39,null,null,"Загрузить",null,null,2.2799999999999998,2.95,3.3,2.19,3,3.52,8.9999999999999858E-2,-4.9999999999999822E-2,-0.2200000000000002]
["БРАЗИЛИЯ: Чемпионат Паулиста - Плей-офф","2022.03.27 22:00","Сан-Паулу","Коринтианс","dWo0EFrm",39,null,null,"Загрузить",null,null,2.48,3.11,3.12,2.17,2.9,3.38,0.31000000000000005,0.20999999999999996,-0.25999999999999979]
["БРАЗИЛИЯ: Чемпионат Потигуар - Второй этап","2022.03.27 22:00","Ассу РН","Глобо","YPShB5OS",39,null,null,"Загрузить",null,null,12.5,5.45,1.22,5.5,3.6,1.59,7,1.85,-0.37000000000000011]
["ВЕНЕСУЭЛА: Высший дивизион","2022.03.27 22:00","Эстудиантес Мерида","Депортиво Лара","pIHXP4Mt",205,null,null,"Загрузить",null,null,2.3199999999999998,3.18,3.12,2.3199999999999998,3.1,2.93,0,8.0000000000000071E-2,0.18999999999999995]
["ВЕНЕСУЭЛА: Сегунда","2022.03.27 22:00","Академия Рэй","Трухильянос","tpPgm8sl",205,null,null,"Загрузить",null,null,null,null,null,null,null,null,"","",""]
["ИСПАНИЯ: Сегунда","2022.03.27 22:00","Альмерия","Жирона","65Nbg2dt",176,null,null,"Загрузить",null,null,2.12,3.4,3.44,1.82,3.4,4.5599999999999996,0.30000000000000004,0,-1.1199999999999997]
["США: МЛС Некст Про","2022.03.27 22:00","Такома Дефинс","Реал Монаркс","SlgtQZv8",200,null,null,"Загрузить",null,null,1.78,3.58,4.2,1.79,3.84,3.88,-1.0000000000000009E-2,-0.25999999999999979,0.32000000000000028]
["ЧИЛИ: Высший дивизион","2022.03.27 22:00","Универсидад де Чили","Унион Эспаньола","jaASDL3g",51,null,null,"Загрузить",null,null,2.93,3.52,2.3199999999999998,2.0499999999999998,3.4,3.4,0.88000000000000034,0.12000000000000011,-1.08]
["АРГЕНТИНА: Торнео Федерал","2022.03.27 22:30","Бока Юнидос","Антониана","dKPshpI9",22,null,null,"Загрузить",null,null,2.2200000000000002,3.17,3.18,2.12,3,3.36,0.10000000000000009,0.16999999999999993,-0.17999999999999972]
["АРГЕНТИНА: Торнео Федерал","2022.03.27 22:30","Вилла Митре","Уракан Лас-Эрас","lf04vRmA",22,null,null,"Загрузить",null,null,1.83,3.07,4.76,1.84,3.15,4.4400000000000004,-1.0000000000000009E-2,-8.0000000000000071E-2,0.3199999999999994]
["АРГЕНТИНА: Торнео Федерал","2022.03.27 22:30","Дефенсорес Бельграно","Сан-Мартин Формоса","vqgHyPXS",22,null,null,"Загрузить",null,null,1.76,3.28,4.82,1.75,3.2,4.5999999999999996,1.0000000000000009E-2,7.9999999999999627E-2,0.22000000000000064]
["АРГЕНТИНА: Торнео Федерал","2022.03.27 22:30","Расинг Кордова","Атлетико Парана","jNMZg6mc",22,null,null,"Загрузить",null,null,1.71,3.42,4.9000000000000004,1.69,3.3,4.84,2.0000000000000018E-2,0.12000000000000011,6.0000000000000497E-2]
["БРАЗИЛИЯ: Чемпионат Амазоненсе - Плей-офф","2022.03.27 22:30","Принцесса Солимойнс","Фаст Клуб","Um4GVyUD",39,null,null,"Загрузить",null,null,2,3.38,3.5,1.82,3.24,4.08,0.17999999999999994,0.13999999999999968,-0.58000000000000007]
["БРАЗИЛИЯ: Чемпионат Сул-Матогроссенсе - Второй этап","2022.03.27 22:30","Доурадос","Акидауаненше","6PTuEdcF",39,null,null,"Загрузить",null,null,2.12,3.18,3.4,2.27,3.1,2.96,-0.14999999999999991,8.0000000000000071E-2,0.43999999999999995]
["АРГЕНТИНА: Примера Насьональ","2022.03.27 22:40","Химнасия Мендоса","Бельграно","bNCWXJH2",22,null,null,"Загрузить",null,null,2.78,2.91,2.65,2.62,2.8,2.7,0.1599999999999997,0.11000000000000032,-5.0000000000000266E-2]
["БРАЗИЛИЯ: Чемпионат Рондониенсе","2022.03.27 22:45","Генус","Рондониенсе","tQEKKHgI",39,null,null,"Загрузить",null,null,1.76,3.76,4.04,1.91,3.5,3.74,-0.14999999999999991,0.25999999999999979,0.29999999999999982]
["БРАЗИЛИЯ: Чемпионат Рондониенсе","2022.03.27 22:45","Пиментенсе","Униан Какоаленсе","KGDOJy9O",39,null,null,"Загрузить",null,null,10.5,6.45,1.21,7.2,4.5,1.4,3.3,1.9500000000000002,-0.18999999999999995]
["БРАЗИЛИЯ: Чемпионат Рондониенсе","2022.03.27 22:45","Реал Арикемес","Порту-Велью","b1PFLcvC",39,null,null,"Загрузить",null,null,null,null,null,null,null,null,"","",""]
["АРГЕНТИНА: Торнео Федерал","2022.03.27 23:00","Десампарадос","Ферро Хенераль Пико","dK3Cx5IM",22,null,null,"Загрузить",null,null,2.4300000000000002,2.86,3.13,2.4700000000000002,2.7,3.16,-4.0000000000000036E-2,0.1599999999999997,-3.0000000000000249E-2]
["АРГЕНТИНА: Торнео Федерал","2022.03.27 23:00","Спортиво Эстудиантес","КА Линиерс","j1oasT3i",22,null,null,"Загрузить",null,null,null,null,null,null,null,null,"","",""]
["АРГЕНТИНА: Торнео Федерал","2022.03.27 23:00","Химнасия Е.Р.","Спортиво Лас-Парехас","zBOoi4XF",22,null,null,"Загрузить",null,null,3.58,2.78,2.2599999999999998,3.56,2.8,2.21,2.0000000000000018E-2,-2.0000000000000018E-2,4.9999999999999822E-2]
["БРАЗИЛИЯ: Чемпионат Акреано - Первый этап","2022.03.27 23:00","Independencia","Сан-Франсиску","2c4myCBf",39,null,null,"Загрузить",null,null,9.1999999999999993,6.2,1.22,8.1999999999999993,6.5,1.21,1,-0.29999999999999982,1.0000000000000009E-2]
["БРАЗИЛИЯ: Чемпионат Акреано - Первый этап","2022.03.27 23:00","Науас","Рио-Бранко","fX0uwYtr",39,null,null,"Загрузить",null,null,4.0599999999999996,3.8,1.69,4.0599999999999996,3.8,1.69,0,0,0]
["БРАЗИЛИЯ: Чемпионат Мараньенсе - Второй этап","2022.03.27 23:00","Сампайо Корреа","Мото Клуб","pUsbriHI",39,null,null,"Загрузить",null,null,1.82,3.28,4.42,2.09,3,3.56,-0.2699999999999998,0.2799999999999998,0.85999999999999988]
["БРАЗИЛИЯ: Чемпионат Параенсе - Плей-офф","2022.03.27 23:00","Агуя ди Мараба","Пайсанду","6ToRWTpf",39,null,null,"Загрузить",null,null,4.88,2.81,1.95,5.9,3.34,1.65,-1.0200000000000005,-0.5299999999999998,0.30000000000000004]
["БРАЗИЛИЯ: Чемпионат Сул-Матогроссенсе - Второй этап","2022.03.27 23:00","Операриу","Коста-Рика","xjPyFxr9",39,null,null,"Загрузить",null,null,3.22,3.3,2.14,3.17,3.4,2.02,5.0000000000000266E-2,-0.10000000000000009,0.12000000000000011]
["ВЕНЕСУЭЛА: Сегунда","2022.03.27 23:00","Лланерос","Титанес","KzOcnSdf",205,null,null,"Загрузить",null,null,null,null,null,null,null,null,"","",""]
["ВЕНЕСУЭЛА: Сегунда","2022.03.27 23:00","Эль-Вигия","Унион Локаль Андина","EcN1onC0",205,null,null,"Загрузить",null,null,2.6,3,2.6,2.6,3.15,2.65,0,-0.14999999999999991,-4.9999999999999822E-2]
["КОЛУМБИЯ: Лига - Женщины","2022.03.27 23:00","Форталеза (Ж)","Льянерос (Ж)","tYdhYymd",53,null,null,"Загрузить",null,null,2.25,3.74,2.5,2.25,3.74,2.5,0,0,0]
["КОСТА-РИКА: Ассенсо - Клаусура","2022.03.27 23:00","Лимон","Карьяри Покоси","xzLSw8gM",57,null,null,"Загрузить",null,null,null,null,null,null,null,null,"","",""]
["МИР: Международные товарищеские матчи","2022.03.27 23:00","Гватемала","Гаити","ShVMbzwE",8,null,null,"Загрузить",null,null,2.4700000000000002,3.14,2.92,2.4500000000000002,3,2.8,2.0000000000000018E-2,0.14000000000000012,0.12000000000000011]
["США: МЛС","2022.03.27 23:00","Портленд Тимберс","Орландо Сити","hhQa8XYc",200,null,null,"Загрузить",null,null,1.99,3.74,3.62,1.99,3.5,3.46,0,0.24000000000000021,0.16000000000000014]
["ЧИЛИ: Кубок Чили","2022.03.27 23:00","Provincial Ranco","Депортес Пуэрто-Монтт","x8QIE7Ke",51,null,null,"Загрузить",null,null,5.75,4.54,1.4,5.7,4.5,1.41,4.9999999999999822E-2,4.0000000000000036E-2,-1.0000000000000009E-2]
["ЧИЛИ: Кубок Чили","2022.03.27 23:00","Иберия","Депортес Темуко","lQKGVaem",51,null,null,"Загрузить",null,null,3.9,3.74,1.88,4,3.6,1.83,{"$f":"IF(L962=\"\",\"\",L962-O962)","v":-0.10000000000000009},{"$f":"IF(M962=\"\",\"\",M962-P962)","v":0.14000000000000012},{"$f":"IF(N962=\"\",\"\",N962-Q962)","v":4.9999999999999822E-2}]
["ЧИЛИ: Кубок Чили","2022.03.27 23:00","Хенераль Веласкес","Санта-Круз","QT6DzksF",51,null,null,"Загрузить",null,null,2.69,3.58,2.46,2.5,3.6,2.48,0.18999999999999995,-2.0000000000000018E-2,-2.0000000000000018E-2]
["ЯМАЙКА: Премьер-лига","2022.03.27 23:00","Маунт Плезант","Портмор","bm2qFbHA",99,null,null,"Загрузить",null,null,1.71,3.46,4.8600000000000003,1.77,3.3,4.4400000000000004,-6.0000000000000053E-2,0.16000000000000014,0.41999999999999993]
["СЕВЕРНАЯ И ЦЕНТРАЛЬНАЯ АМЕРИКА: Чемпионат мира - Квалификация - Третий этап","2022.03.27 23:05","Канада","Ямайка","vPhWhKbT",2,null,null,"Загрузить",null,null,1.29,5.45,11.5,1.3,4.74,9.6,-1.0000000000000009E-2,0.71,1.9000000000000004]
["КОЛУМБИЯ: Примера А - Апертура","2022.03.27 23:10","Депортиво Кали","Кортулуа","dUQMvbe6",53,null,null,"Загрузить",null,null,1.55,3.9,6,1.82,3.1,4.5599999999999996,-0.27,0.79999999999999982,1.4400000000000004]
["АРГЕНТИНА: Примера Насьональ","2022.03.27 23:30","Сан-Мартин Сан-Хуан","Химнасия Хухуй","lhVuBdAk",22,null,null,"Загрузить",null,null,1.85,3.1,4.74,2.02,2.8,4.08,-0.16999999999999993,0.30000000000000027,0.66000000000000014]
["КОЛУМБИЯ: Лига - Женщины","2022.03.27 23:30","Уила (Ж)","Толима (Ж)","r1JNmHnq",53,null,null,"Загрузить",null,null,2.67,4.32,2.02,2.67,4.32,2.02,0,0,0]
["ЧИЛИ: Кубок Чили","2022.03.27 23:30","Сан-Антонио Юнидо","Сан-Луис","GEDpT6Zl",51,null,null,"Загрузить",null,null,null,null,null,null,null,null,"","",""]
["ЧИЛИ: Кубок Чили","2022.03.27 23:30","Сан-Бернардо Унидо","Магальянес","r5H8yVR8",51,null,null,"Загрузить",null,null,null,null,null,null,null,null,"","",""]
["ЭКВАДОР: Серия В","2022.03.27 23:30","Чакаритас","Эль Насьональ","CzIzj30B",68,null,null,"Загрузить",null,null,2.2999999999999998,3.1,3.08,2.3199999999999998,2.85,3.24,-2.0000000000000018E-2,0.25,-0.16000000000000014]
["АРГЕНТИНА: Торнео Федерал","2022.03.28 00:00","Чиполлетти","Пеньяроль","A310u7Y3",22,null,null,"Загрузить",null,null,2.1,3.04,3.62,2.2000000000000002,2.85,3.5,-0.10000000000000009,0.18999999999999995,0.12000000000000011]
["БРАЗИЛИЯ: Чемпионат Минейро - Плей-офф","2022.03.28 00:00","Атлетико Минейро","Кальденсе","WQ3PrSdP",39,null,null,"Загрузить",null,null,1.1499999999999999,6.75,17,1.1299999999999999,7,21,2.0000000000000018E-2,-0.25,-4]
["БРАЗИЛИЯ: Чемпионат Паранаенсе - Плей-офф","2022.03.28 00:00","Малинга","Операрио","U74VBhPt",39,null,null,"Загрузить",null,null,2.69,2.68,2.92,2.9,2.85,2.6,-0.20999999999999996,-0.16999999999999993,0.31999999999999984]
["БРАЗИЛИЯ: Чемпионат Сул-Матогроссенсе - Второй этап","2022.03.28 00:00","Навираенс","Шападан","pGSqDGCL",39,null,null,"Загрузить",null,null,1.37,4.4400000000000004,7.9,1.82,3.4,3.86,-0.44999999999999996,1.0400000000000005,4.0400000000000009]
["БРАЗИЛИЯ: Бразилейро - Женщины","2022.03.28 00:00","Ферровиария (Ж)","Интернасьонал (Ж)","dpuQfjHn",39,null,null,"Загрузить",null,null,2.5,3.4,2.54,2.12,3.2,3,0.37999999999999989,0.19999999999999973,-0.45999999999999996]
["ВЕНЕСУЭЛА: Сегунда","2022.03.28 00:00","Ангостура","Deportivo Nueva Esparta","CU0WV6CD",205,null,null,"Загрузить",null,null,null,null,null,null,null,null,"","",""]
["ГВАТЕМАЛА: Национальная лига - Клаусура","2022.03.28 00:00","Нуэва Консепсьон","Шелаху","jRj0WKns",85,null,null,"Загрузить",null,null,2.8,3.11,2.46,2.7,3.1,2.38,9.9999999999999645E-2,9.9999999999997868E-3,8.0000000000000071E-2]
["МЕКСИКА: Лига Премьер - Серия А - Клаусура","2022.03.28 00:00","Лобос УЛМКС","Интер Керетаро","reAE2PJR",128,null,null,"Загрузить",null,null,null,null,null,null,null,null,"","",""]
["МЕКСИКА: Лига Премьер - Серия А - Клаусура","2022.03.28 00:00","Ялмакан","Montaneses","QJF9354L",128,null,null,"Загрузить",null,null,null,null,null,null,null,null,"","",""]
["США: Чемпионшип ЮСЛ","2022.03.28 00:00","Сакраменто Репаблик","Талса","KSBHmJpM",200,null,null,"Загрузить",null,null,1.86,3.62,3.72,2.4500000000000002,3.6,2.5499999999999998,-0.59000000000000008,2.0000000000000018E-2,1.1700000000000004]
["США: МЛС Некст Про","2022.03.28 00:00","Нью-Йорк Сити II","New England Revolution II","6uhpPgfE",200,null,null,"Загрузить",null,null,null,null,null,null,null,null,"","",""]
["ЧИЛИ: Кубок Чили","2022.03.28 00:00","Индепендиенте Каукенес","Рейнджерс Де Талка","4EI4xBC2",51,null,null,"Загрузить",null,null,7.2,4.66,1.42,7.2,4,1.41,0,0.66000000000000014,1.0000000000000009E-2]
["ЧИЛИ: Кубок Чили","2022.03.28 00:00","Кобрелоа","Депортес Икике","YgALYSBR",51,null,null,"Загрузить",null,null,2.42,3.4,2.88,2.37,3.4,2.75,4.9999999999999822E-2,0,0.12999999999999989]
["ЧИЛИ: Кубок Чили","2022.03.28 00:00","Лаутаро","С. Монинг","rRhql8BE",51,null,null,"Загрузить",null,null,5.45,4.04,1.6,5.15,3.9,1.6,0.29999999999999982,0.14000000000000012,0]
["ЧИЛИ: Кубок Чили","2022.03.28 00:00","Провинциал Овалье","Копиапо","GbPMDRZ1",51,null,null,"Загрузить",null,null,8.3000000000000007,5,1.36,6.85,4.4000000000000004,1.42,1.4500000000000011,0.59999999999999964,-5.9999999999999831E-2]
["ЭКВАДОР: Серия В","2022.03.28 00:00","Америка Кито","Либертад","fa7ukNFH",68,null,null,"Загрузить",null,null,1.8,3.32,4.4400000000000004,1.74,3.3,4.6399999999999997,6.0000000000000053E-2,2.0000000000000018E-2,-0.19999999999999929]
["СЕВЕРНАЯ И ЦЕНТРАЛЬНАЯ АМЕРИКА: Чемпионат мира - Квалификация - Третий этап","2022.03.28 00:05","Сальвадор","Коста-Рика","A7q2mbMj",2,null,null,"Загрузить",null,null,4.4400000000000004,3.28,1.94,3.44,3.3,2.02,1.0000000000000004,-2.0000000000000018E-2,-8.0000000000000071E-2]
["ЧИЛИ: Кубок Чили","2022.03.28 00:15","Депортес Консепсьон","Артуро Фернандес","z3dmUnKr",51,null,null,"Загрузить",null,null,4.0999999999999996,3.72,1.84,4.18,3.7,1.77,-8.0000000000000071E-2,2.0000000000000018E-2,7.0000000000000062E-2]
["БРАЗИЛИЯ: Копа де Нордесте - Плей-офф","2022.03.28 00:30","Спорт Ресифи","Регатас","86geB4YM",39,null,null,"Загрузить",null,null,2.17,2.9,3.38,2.2200000000000002,2.75,3.48,-5.0000000000000266E-2,0.14999999999999991,-0.10000000000000009]
["АРГЕНТИНА: Примера Насьональ","2022.03.28 00:40","Чако Фор Эвер","Альмиранте Браун","6TPpAGPe",22,null,null,"Загрузить",null,null,2.2000000000000002,3.02,3.44,2.6,2.65,2.95,-0.39999999999999991,0.37000000000000011,0.48999999999999977]
[null,null,null,null,null,null,null,null,null,null,null,null,null,null,null,null,null,"","",""]
[null,null,null,null,null,null,null,null,null,null,null,null,null,null,null,null,null,"","",""]
[null,null,null,null,null,null,null,null,null,null,null,null,null,null,null,null,null,"","",""]
[null,null,null,null,null,null,null,null,null,null,null,null,null,null,null,null,null,"","",""]
[null,null,null,null,null,null,null,null,null,null,null,null,null,null,null,null,null,"","",""]
[null,null,null,null,null,null,null,null,null,null,null,null,null,null,null,null,null,"","",""]
[null,null,null,null,null,null,null,null,null,null,null,null,null,null,null,null,null,"","",""]
[null,null,null,null,null,null,null,null,null,null,null,null,null,null,null,null,null,"","",""]
[null,null,null,null,null,null,null,null,null,null,null,null,null,null,null,null,null,"","",""]

{"sheet":"Анализ","index":2,"n_rows":26,"n_cols":46,"rows_kept":26,"cut":false,"hidden":false,"merged":[[19,7,20,8],[19,9,20,9],[19,10,20,11],[19,12,20,13],[21,7,22,8],[21,9,22,9],[21,10,22,11],[21,12,22,13],[17,7,18,8],[17,10,18,11],[17,9,18,9],[17,12,18,13],[2,15,3,15],[7,9,8,9],[7,7,8,8],[7,10,8,11],[11,12,12,13],[11,7,12,8],[11,9,12,9],[11,10,12,11],[15,12,16,13],[15,10,16,11],[15,7,16,8],[15,9,16,9],[8,1,8,3],[2,3,3,3],[13,7,14,8],[13,9,14,9],[13,10,14,11],[1,10,1,14],[1,4,1,9],[2,4,3,8],[2,10,3,14],[13,12,14,13],[12,4,12,5],[9,7,10,8],[9,9,10,9],[9,10,10,11],[7,12,8,13],[9,12,10,13],[23,12,24,13],[25,12,26,13],[23,7,24,8],[23,9,24,9],[23,10,24,11],[25,7,26,8],[25,9,26,9],[25,10,26,11]]}
[null,null,null,null,null,null,null,null,null,null,null,null,null,null,null,null,null,null,null,null,null,null,null,null,null,null,null,null,null,null,null,null,null,null,null,null,null,null,null,null,null,null,null,null,"-",{"$f":"CONCATENATE(E3,AS1,K3)","v":"Жарково-Нови Белград"}]
[null,null,null,null,{"$f":"Расчеты!C126","v":"СЕРБИЯ: Первая лига"},null,null,null,null,null,{"$f":"Расчеты!D127","v":"27.03.22 17:00"}]
[null,null,null,{"$f":"IFERROR('Incognito DATA'!I2,\"RISK\")","v":6},{"$f":"'Incognito DATA'!A1","v":"Жарково"},null,null,null,null,null,{"$f":"'Incognito DATA'!A7","v":"Нови Белград"},null,null,null,null,{"$f":"IFERROR('Incognito DATA'!I8,\"RISK\")","v":5}]
[]
[null,null,null,{"$f":"IFERROR('Incognito DATA'!AA57,\"RISK\")","v":-0.2},{"$f":"TRANSPOSE(ДомаДома!N2:N7)","v":"Н"},"Н","П","П","В","д/г",{"$f":"TRANSPOSE(ГостиГости!N2:N7)","v":"Н"},"В","В","Н","Н",{"$f":"IFERROR('Incognito DATA'!AC57,\"RISK\")","v":0.28499999999999998},"GD-xGD"]
[null,null,"рейтинг",{"$f":"Графики!AJ26","v":2.1},{"$f":"TRANSPOSE(Дома!N2:N7)","v":"Н"},"Н","Н","В","П","общие",{"$f":"TRANSPOSE(Гости!N2:N7)","v":"Н"},"Н","В","В","В",{"$f":"Графики!AJ27","v":1.6},"ТБ 2.5","ТМ 2.5"]
[null,null,null,null,{"$f":"TRANSPOSE(Очные!G2:G7)","v":"Н"},"В","П","П","","очные",{"$f":"TRANSPOSE(Очные!M2:M7)","v":"Н"},"П","В","В","",null,{"$f":"Коэффициенты!C5","v":2.4500000000000002},{"$f":"Коэффициенты!C6","v":1.55},"kf"]
[null,null,null,null,null,null,null,{"$f":"IFERROR('Incognito DATA'!S6,\"RISK\")","v":0.21406250000000004},null,{"$f":"IFERROR('Incognito DATA'!T6,\"RISK\")","v":0.37395833333333339},{"$f":"IFERROR('Incognito DATA'!U6,\"RISK\")","v":0.41197916666666673},null,"1 пр",null,null,null,{"$f":"Mill!Y42","v":75.519125683060111},{"$f":"Mill!W42","v":24.480874316939889},{"$f":"Mill!G90","v":"ОЗ-нет"},"mill"]
[null,"Букмекер",null,null,null,null,null,null,null,null,null,null,null,null,null,null,{"$f":"Elizabet2!V20","v":0.49126851356285772},"ТБ2.5/ОЗ да",{"$f":"Elizabet2!V19","v":0.50857875493615923},"Elizabet"]
[null,1,"x",2,null,null,null,{"$f":"IFERROR('Incognito DATA'!W6,\"RISK\")","v":0.23333333333333331},null,{"$f":"IFERROR('Incognito DATA'!X6,\"RISK\")","v":0.28333333333333333},{"$f":"IFERROR('Incognito DATA'!Y6,\"RISK\")","v":0.48333333333333334},null,"2 пр"]
[null,{"$f":"Коэффициенты!C2","v":2.54},{"$f":"Коэффициенты!C3","v":2.88},{"$f":"Коэффициенты!C4","v":2.95},"kf",null,null,null,null,null,null,null,null,null,{"$f":"Mill!C75","v":"П2"},"mill",{"$f":"Elizabet2!V10","v":1},{"$f":"Elizabet2!W10","v":1},"Elizabet"]
[null,{"$f":"IFERROR('Incognito DATA'!S43,\"RISK\")","v":0.35714285714285715},{"$f":"IFERROR('Incognito DATA'!T43,\"RISK\")","v":0.33898305084745761},{"$f":"IFERROR('Incognito DATA'!U43,\"RISK\")","v":0.38461538461538458},null,null,null,{"$f":"IFERROR('Incognito DATA'!C44,\"RISK\")","v":0.20499999999999999},null,{"$f":"IFERROR('Incognito DATA'!C47,\"RISK\")","v":0.35},{"$f":"IFERROR('Incognito DATA'!D44,\"RISK\")","v":0.44500000000000006},null,"de lux",null,{"$f":"Mill!M2","v":"П2"},"10 д/г",{"$f":"IFERROR('Incognito DATA'!C45,\"RISK\")","v":1},{"$f":"IFERROR('Incognito DATA'!D45,\"RISK\")","v":1.97}]
[null,{"$f":"IFERROR(Valui!M41,\"RISK\")","v":0.1},{"$f":"IFERROR(Valui!N41,\"RISK\")","v":0.5},{"$f":"IFERROR(Valui!O41,\"RISK\")","v":0.4},"Valui",null,null,null,null,null,null,null,null,null,{"$f":"Mill!C39","v":"П2 -"},"3 оч",{"$f":"Расчеты!X112","v":2},{"$f":"Расчеты!Y112","v":2},{"$f":"Расчеты!Z112","v":"X2"},"NTB"]
[null,{"$f":"IFERROR(Valui!I21,\"\")","v":"-"},{"$f":"IFERROR(Valui!I23,\"\")","v":"-"},{"$f":"IFERROR(Valui!I25,\"\")","v":"-"},null,null,null,{"$f":"IFERROR(Poisson!B13,\"RISK\")","v":0.222},null,{"$f":"IFERROR(Poisson!C13,\"RISK\")","v":0.24},{"$f":"IFERROR(Poisson!D13,\"RISK\")","v":0.53800000000000003},null,"poisson",null,{"$f":"Mill!J49","v":"П2"},"5 д/г+оч",{"$f":"'Incognito DATA'!D12","v":0.56250000000000011},{"$f":"'Incognito DATA'!E13","v":1.1599999999999999},"Mini Vini"]
[null,null,null,null,null,null,null,null,null,null,null,null,null,null,{"$f":"Mill!I55","v":"П2"},"тот",{"$f":"'Incognito DATA'!D13","v":0.9225000000000001},{"$f":"'Incognito DATA'!E13","v":1.1599999999999999}]
[null,null,null,null,null,null,null,{"$f":"IFERROR('Incognito DATA'!H96,\"RISK\")","v":0.18847272105353172},null,{"$f":"IFERROR('Incognito DATA'!I96,\"RISK\")","v":0.28612963913117839},{"$f":"IFERROR('Incognito DATA'!J96,\"RISK\")","v":0.52539763981528997},null,"ср взвеш"]
[]
[null,null,null,null,null,null,null,{"$f":"IFERROR(Mill!W37,\"RISK\")","v":0.26943005181347152},null,{"$f":"IFERROR(Mill!X39,\"RISK\")","v":0.1295336787564767},{"$f":"IFERROR(Mill!Y37,\"RISK\")","v":0.60103626943005184},null,"mill"]
[]
[null,null,null,null,null,null,null,{"$f":"'Incognito DATA'!J13","v":0.25370370370370371},null,{"$f":"'Incognito DATA'!K13","v":0.44259259259259259},{"$f":"'Incognito DATA'!L13","v":0.3037037037037037},null,"Mini Vini"]
[]
[null,null,null,null,null,null,null,{"$f":"Elizabet2!W16","v":0.25087298099174471},null,{"$f":"Elizabet2!W17","v":0.32248251603496653},{"$f":"Elizabet2!W18","v":0.42664450297328882},null,"Elizabet"]
[]
[null,null,null,null,null,null,null,{"$f":"Графики!M26","v":0.15883663184889948},null,{"$f":"Графики!M28","v":0.20616087089406077},{"$f":"Графики!M27","v":0.63381217277300461},null,"5Match p"]
[]
[null,null,null,null,null,null,null,{"$f":"Графики!M30","v":7.1428571428571425E-2},null,{"$f":"Графики!M31","v":0.59375},{"$f":"Графики!M32","v":0.3348214285714286},null,"5Match"]

{"sheet":"Incognito DATA","index":3,"n_rows":99,"n_cols":32,"rows_kept":99,"cut":false,"hidden":false,"merged":[[53,1,53,2],[53,3,53,4],[85,1,85,2],[85,3,85,4],[86,2,86,3],[92,2,92,3],[88,1,88,2],[88,3,88,4],[89,2,89,3],[91,1,91,2],[91,3,91,4],[40,11,40,12],[41,11,41,12],[42,11,42,12],[38,6,38,7],[40,6,40,7],[41,6,41,7],[42,6,42,7],[26,6,26,7],[36,6,36,7],[37,6,37,7],[28,6,28,7],[29,6,29,7],[27,6,27,7],[32,6,32,7],[33,6,33,7],[27,11,27,12],[28,11,28,12],[29,11,29,12],[15,11,15,12],[26,11,26,12],[16,11,16,12],[17,11,17,12],[18,11,18,12],[19,11,19,12],[20,11,20,12],[25,6,25,7],[21,11,21,12],[22,11,22,12],[23,11,23,12],[25,11,25,12],[24,11,24,12],[15,6,15,7],[16,6,16,7],[17,6,17,7],[18,6,18,7],[19,6,19,7],[20,6,20,7],[21,6,21,7],[22,6,22,7],[23,6,23,7],[24,6,24,7],[44,18,44,20],[44,22,44,24],[51,6,51,7],[54,6,54,7],[56,6,56,7],[47,6,47,7],[48,6,48,7],[48,11,48,12],[45,11,45,12],[45,6,45,7],[47,11,47,12],[44,6,44,7],[44,11,44,12],[50,6,50,7],[50,11,50,12],[49,23,51,23],[56,11,56,12],[54,11,54,12],[51,11,51,12],[53,6,53,7],[53,11,53,12],[52,23,53,23],[39,18,39,20],[39,22,39,24],[36,11,36,12],[37,11,37,12],[38,11,38,12],[32,11,32,12],[33,11,33,12],[34,6,34,7],[34,11,34,12],[11,27,11,28],[14,1,14,2],[14,3,14,4],[3,18,3,20],[3,22,3,24],[10,19,10,20],[11,19,11,20],[10,18,11,18],[12,18,12,21],[14,6,14,7],[14,11,14,12],[3,26,3,28],[49,31,51,31],[52,31,53,31],[40,31,42,31],[43,31,44,31],[49,27,51,27],[52,27,53,27],[40,27,42,27],[43,27,44,27],[46,26,46,28],[59,6,59,7],[59,8,59,9],[94,1,94,2],[94,3,94,4],[95,2,95,3],[97,1,97,2],[97,3,97,4],[98,2,98,3],[55,26,55,28],[57,26,57,28],[57,6,57,7],[57,11,57,12]]}
[{"$f":"Очные!A1","v":"Жарково"},"Игр ХОЗЯЕВ","В","Н","П","Заб","Проп","Очки","Место",null,"ОЧНЫЕ  ХОЗЯЕВ","В","Н","П","Заб","Проп"]
["Общая",{"$f":"MAX(Дома!O2:'Дома'!O21)","v":20},{"$f":"MAX(Дома!P2:'Дома'!P21)","v":7},{"$f":"MAX(Дома!Q2:'Дома'!Q21)","v":5},{"$f":"MAX(Дома!R2:'Дома'!R21)","v":8},{"$f":"MAX(Дома!S2:'Дома'!S21)","v":21},{"$f":"MAX(Дома!T2:'Дома'!T21)","v":21},{"$f":"MAX(Дома!U2:'Дома'!U21)","v":26},{"$f":"IFERROR(MATCH(A1,Таблица!B:B,0)-1,\"\")","v":6},"Общая",{"$f":"K3+K4","v":4},{"$f":"COUNTIFS(Очные!G:G,\"В\")","v":1},{"$f":"COUNTIFS(Очные!G:G,\"Н\")","v":1},{"$f":"COUNTIFS(Очные!G:G,\"П\")","v":2},{"$f":"MAXA(Очные!H:H)","v":4},{"$f":"MAXA(Очные!I:I)","v":6},null,null,null,null,null,null,null,null,null,null,null,null,null,{"$f":"SUM(ДомаДома!L2:L11)","v":7},{"$f":"SUM(ГостиГости!L2:L11)","v":14}]
["Дом",{"$f":"MAX(Дома!V2:'Дома'!V21)","v":10},{"$f":"MAX(Дома!W2:'Дома'!W21)","v":2},{"$f":"MAX(Дома!X2:'Дома'!X21)","v":3},{"$f":"MAX(Дома!Y2:'Дома'!Y21)","v":5},{"$f":"MAX(Дома!Z2:'Дома'!Z21)","v":7},{"$f":"MAX(Дома!AA2:'Дома'!AA21)","v":12},{"$f":"MAX(Дома!AB2:'Дома'!AB21)","v":9},{"$f":"IFERROR(MATCH(A1,Таблица!L:L,0)-1,\"\")","v":11},"Дома",{"$f":"COUNTIF(Очные!S:S,\"Дома\")","v":2},{"$f":"COUNTIFS(Очные!T:T,\"В\")","v":0},{"$f":"COUNTIFS(Очные!T:T,\"Н\")","v":1},{"$f":"COUNTIFS(Очные!T:T,\"П\")","v":1},{"$f":"SUM(Очные!U:U)","v":3},{"$f":"SUM(Очные!V:V)","v":5},null,null,"Тотал",{"$f":"(E45+E46+O45+O46)/2","v":2.9458333333333333},null,null,null,null,null,null,null,null,null,{"$f":"IFERROR(H3/B3*F3/G3,H3/B3*F3/G2)","v":0.52500000000000002},{"$f":"H10/B10*F10/G10","v":0.90909090909090906}]
["Гости",{"$f":"MAX(Дома!AC2:'Дома'!AC21)","v":10},{"$f":"MAX(Дома!AD2:'Дома'!AD21)","v":5},{"$f":"MAX(Дома!AE2:'Дома'!AE21)","v":2},{"$f":"MAX(Дома!AF2:'Дома'!AF21)","v":3},{"$f":"MAX(Дома!AG2:'Дома'!AG21)","v":14},{"$f":"MAX(Дома!AH2:'Дома'!AH21)","v":9},{"$f":"MAX(Дома!AI2:'Дома'!AI21)","v":17},{"$f":"IFERROR(MATCH(A1,Таблица!V:V,0)-1,\"\")","v":4},"В Гостях",{"$f":"COUNTIF(Очные!S:S,\"Гости\")","v":2},{"$f":"COUNTIFS(Очные!W:W,\"В\")","v":1},{"$f":"COUNTIFS(Очные!W:W,\"Н\")","v":0},{"$f":"COUNTIFS(Очные!W:W,\"П\")","v":1},{"$f":"SUM(Очные!X:X)","v":1},{"$f":"SUM(Очные!Y:Y)","v":1},null,null,"Прогноз 1",null,null,null,"Прогноз 2",null,null,null,"Прогноз 3"]
["Форма 5 Общ",{"$f":"MAX(Дома!O2:'Дома'!O6)","v":5},{"$f":"MAX(Дома!P2:'Дома'!P6)","v":1},{"$f":"MAX(Дома!Q2:'Дома'!Q6)","v":3},{"$f":"MAX(Дома!R2:'Дома'!R6)","v":1},{"$f":"MAX(Дома!S2:'Дома'!S6)","v":4},{"$f":"MAX(Дома!T2:'Дома'!T6)","v":5},{"$f":"MAX(Дома!U2:'Дома'!U6)","v":6},{"$f":"IFERROR(MATCH(A1&5,Форма!BB:BB,0)-1,\"\")","v":10},null,null,null,null,null,null,null,null,null,1,"Х",2,null,1,"Х",2,null,1,"Х",2]
[null,null,null,null,null,null,null,null,null,null,null,null,null,null,null,null,null,null,{"$f":"T32+T34","v":0.21406250000000004},{"$f":"U32+T34","v":0.37395833333333339},{"$f":"V32+T34","v":0.41197916666666673},{"$f":"SUM(S6:U6)","v":1.0000000000000002},{"$f":"W13+Z11","v":0.23333333333333331},{"$f":"X13+Z11","v":0.28333333333333333},{"$f":"Y13+Z11","v":0.48333333333333334},{"$f":"SUM(W6:Y6)","v":1},{"$f":"AB32","v":0.35},{"$f":"AB34","v":0.15000000000000002},{"$f":"AB33","v":0.5}]
[{"$f":"Очные!B1","v":"Нови Белград"},"Игр ГОСТЕЙ","В","Н","П","Заб","Проп","Очки","Место",null,"ОЧНЫЕ  ГОСТЕЙ","В","Н","П","Заб","Проп"]
["Общая",{"$f":"MAX(Гости!O2:'Гости'!O21)","v":20},{"$f":"MAX(Гости!P2:'Гости'!P21)","v":8},{"$f":"MAX(Гости!Q2:'Гости'!Q21)","v":7},{"$f":"MAX(Гости!R2:'Гости'!R21)","v":5},{"$f":"MAX(Гости!S2:'Гости'!S21)","v":30},{"$f":"MAX(Гости!T2:'Гости'!T21)","v":22},{"$f":"MAX(Гости!U2:'Гости'!U21)","v":31},{"$f":"IFERROR(MATCH(A7,Таблица!B:B,0)-1,\"\")","v":5},"Общая",{"$f":"K9+K10","v":4},{"$f":"COUNTIFS(Очные!M:M,\"В\")","v":2},{"$f":"COUNTIFS(Очные!M:M,\"Н\")","v":1},{"$f":"COUNTIFS(Очные!M:M,\"П\")","v":1},{"$f":"MAXA(Очные!N:N)","v":6},{"$f":"MAXA(Очные!O:O)","v":4},null,null,"1К","ТС","2К",null,{"$f":"G16*G20+G24*G28+G33*G37+G41*G28/8","v":0.1825},{"$f":"L16*L20+L24*L28+L33*L37+L41*L28/8","v":0.63749999999999996},null,null,null,{"$f":"((F5+G5)/2)/B5","v":0.9},{"$f":"AB8+AB9","v":2.7}]
["Дом",{"$f":"MAX(Гости!V2:'Гости'!V21)","v":12},{"$f":"MAX(Гости!W2:'Гости'!W21)","v":6},{"$f":"MAX(Гости!X2:'Гости'!X21)","v":3},{"$f":"MAX(Гости!Y2:'Гости'!Y21)","v":3},{"$f":"MAX(Гости!Z2:'Гости'!Z21)","v":22},{"$f":"MAX(Гости!AA2:'Гости'!AA21)","v":11},{"$f":"MAX(Гости!AB2:'Гости'!AB21)","v":21},{"$f":"IFERROR(MATCH(A7,Таблица!L:L,0)-1,\"\")","v":6},"Дома",{"$f":"COUNTIF(Очные!S:S,\"Дома\")","v":2},{"$f":"COUNTIFS(Очные!AA:AA,\"В\")","v":1},{"$f":"COUNTIFS(Очные!AA:AA,\"Н\")","v":0},{"$f":"COUNTIFS(Очные!AA:AA,\"П\")","v":1},{"$f":"SUM(Очные!AB:AB)","v":1},{"$f":"SUM(Очные!AC:AC)","v":1},null,null,{"$f":"E45","v":1},null,{"$f":"O45","v":1.9666666666666668},null,{"$f":"G17*G21+G25*G29","v":0.19500000000000001},{"$f":"L17*L21+L25*L29","v":0.28749999999999998},null,null,null,{"$f":"((F11+G11)/2)/B11","v":1.8},{"$f":"IF(AB12>=2,\"Да\",\"Нет\")","v":"Нет"}]
["Гости",{"$f":"MAX(Гости!AC2:'Гости'!AC21)","v":8},{"$f":"MAX(Гости!AD2:'Гости'!AD21)","v":2},{"$f":"MAX(Гости!AE2:'Гости'!AE21)","v":4},{"$f":"MAX(Гости!AF2:'Гости'!AF21)","v":2},{"$f":"MAX(Гости!AG2:'Гости'!AG21)","v":8},{"$f":"MAX(Гости!AH2:'Гости'!AH21)","v":11},{"$f":"MAX(Гости!AI2:'Гости'!AI21)","v":10},{"$f":"IFERROR(MATCH(A7,Таблица!V:V,0)-1,\"\")","v":6},"В Гостях",{"$f":"COUNTIF(Очные!S:S,\"Гости\")","v":2},{"$f":"COUNTIFS(Очные!AD:AD,\"В\")","v":1},{"$f":"COUNTIFS(Очные!AD:AD,\"Н\")","v":1},{"$f":"COUNTIFS(Очные!AD:AD,\"П\")","v":0},{"$f":"SUM(Очные!AE:AE)","v":5},{"$f":"SUM(Очные!AF:AF)","v":3},null,null,null,null,null,null,{"$f":"G18*G22+G26*G30","v":0.26},{"$f":"L18*L22+L26*L30","v":6.25E-2},null,null,null,{"$f":"IF(AB8>=1.7,\"1\",\"0\")","v":"0"},{"$f":"IF(AB9>=1.8,\"1\",\"0\")","v":"1"}]
["Форма 5 Общ",{"$f":"MAX(Гости!O2:'Гости'!O6)","v":5},{"$f":"MAX(Гости!P2:'Гости'!P6)","v":3},{"$f":"MAX(Гости!Q2:'Гости'!Q6)","v":2},{"$f":"MAX(Гости!R2:'Гости'!R6)","v":0},{"$f":"MAX(Гости!S2:'Гости'!S6)","v":12},{"$f":"MAX(Гости!T2:'Гости'!T6)","v":6},{"$f":"MAX(Гости!U2:'Гости'!U6)","v":11},{"$f":"IFERROR(MATCH(A7&5,Форма!BB:BB,0)-1,\"\")","v":2},null,null,null,null,null,null,null,null,null,"Pa(B1)=","P(B1)*PB1(A)",null,null,null,null,null,{"$f":"Z12/3","v":-1.666666666666668E-2},null,{"$f":"AB10","v":"0"},{"$f":"AC10","v":"1"}]
[null,null,null,{"$f":"((G10/B10/B3)*F3)-40%","v":0.56250000000000011},{"$f":"((G3/B3/B10)*F10)-40%","v":0.79999999999999993},{"$f":"SUM(D12:E13)","v":3.4450000000000003},{"$f":"F12/2","v":1.7225000000000001},{"$f":"IF(G12>=4,(\"Over\"),(\"\"))","v":""},null,{"$f":"C3/B3","v":0.2},{"$f":"(D3+D10)/(B3+B10)","v":0.3888888888888889},{"$f":"C10/B10","v":0.25},null,{"$f":"SUM(J12:L12)","v":0.83888888888888891},{"$f":"N12-100%","v":-0.16111111111111109},null,null,null,null,"P(A)",null,null,{"$f":"MEDIAN(G17,G21,G25,G29,G34,G38,G42)","v":0.25},null,{"$f":"MEDIAN(L17,L21,L25,L29,L34,L38,L42)","v":0.35},{"$f":"100%-Z13","v":-5.0000000000000044E-2},null,{"$f":"AB11+AC11","v":1}]
[null,null,null,{"$f":"((G10/B10/B3)*F3)-4%","v":0.9225000000000001},{"$f":"((G3/B3/B10)*F10)-4%","v":1.1599999999999999},null,null,null,null,{"$f":"J12-O13","v":0.25370370370370371},{"$f":"K12-O13","v":0.44259259259259259},{"$f":"L12-O13","v":0.3037037037037037},null,{"$f":"SUM(J13:M13)","v":1},{"$f":"O12/3","v":-5.3703703703703698E-2},null,null,null,"P(A)=P(B1)*PB1(A)+P(B2)*PB2(A)",null,null,null,{"$f":"MEDIAN(G16,G20,G24,G28,G33,G37,G41)","v":0.25},{"$f":"(W12+Y12)/2","v":0.3},{"$f":"MEDIAN(L16,L20,L24,L28,L33,L37,L41)","v":0.5},{"$f":"SUM(W13:Y13)","v":1.05}]
[null,null,null,null,null,null,{"$f":"AVERAGE(G28:H29,G24:H25,G20:H21,G16:H17)","v":0.32500000000000001},{"$f":"AVERAGE(G30,G26,G22,G18)","v":0.35},null,null,null,{"$f":"AVERAGE(L28:M29,L24:M25,L20:M21,L16:M17)","v":0.40625},{"$f":"AVERAGE(L30,L26,L22,L18)","v":0.1875}]
[null,"1 Команда",null,"2 Команда",null,null,{"$f":"A1","v":"Жарково"},null,null,{"$f":"A2","v":"Общая"},null,{"$f":"A7","v":"Нови Белград"},null,null,{"$f":"J15","v":"Общая"},1,"Х",2,null,1,"Х",2]
[null,10,{"$f":"B16*G16/100","v":3.5000000000000003E-2},{"$f":"E16*L16/100","v":0.04},10,null,{"$f":"C2/B2","v":0.35},null,null,"Побед",null,{"$f":"C8/B8","v":0.4},null,null,null,{"$f":"(G16+G20+G24+G28)/4","v":0.3125},{"$f":"(G17+G21+G25+G29+L29+L25+L21+L17)/8","v":0.35625000000000001},{"$f":"(L16+L20+L24+L28)/4","v":0.4375},null,{"$f":"(P16+P20+P24+P28)/4","v":0.30312499999999998},{"$f":"(Q16+Q20+Q24+Q28)/4","v":0.37031250000000004},{"$f":"(R16+R20+R24+R28)/4","v":0.44687500000000002},{"$f":"SUM(T16:V16)","v":1.1203125}]
[null,null,null,null,null,null,{"$f":"D2/B2","v":0.25},null,null,"Ничья",null,{"$f":"D8/B8","v":0.35},null,null,null,null,null,null,null,null,null,null,null,null,{"$f":"S6*100","v":21.406250000000004},{"$f":"T6*100","v":37.395833333333343},{"$f":"U6*100","v":41.197916666666671}]
[null,null,null,null,null,null,{"$f":"E2/B2","v":0.4},null,null,"Проигрыш",null,{"$f":"E8/B8","v":0.25},null,null,null,null,null,null,null,null,null,null,null,null,{"$f":"100/Y17","v":4.6715328467153281},{"$f":"100/Z17","v":2.6740947075208905},2.4273072060682677]
[null,null,null,null,null,null,null,null,null,"Дом",null,null,null,null,{"$f":"J19","v":"Дом"},1,"Х",2]
[null,30,{"$f":"B20*G20/100","v":0.06},{"$f":"E20*L20/100","v":2.5000000000000001E-2},5,null,{"$f":"C3/B3","v":0.2},null,null,"Побед",null,{"$f":"C9/B9","v":0.5},null,null,null,{"$f":"G20","v":0.2},{"$f":"(G21+L21)/2","v":0.27500000000000002},{"$f":"L20","v":0.5},null,1,"Х",2,null,null,{"$f":"W6*100","v":23.333333333333332},{"$f":"X6*100","v":28.333333333333332},48.333333333333336]
[null,null,null,null,null,null,{"$f":"D3/B3","v":0.3},null,null,"Ничья",null,{"$f":"D9/B9","v":0.25},null,null,null,null,null,null,null,{"$f":"P20","v":0.2},{"$f":"(Q20+Q24)/2","v":0.3125},{"$f":"R24","v":0.25},{"$f":"SUM(T21:V21)","v":0.76249999999999996},null,{"$f":"100/Y20","v":4.2857142857142856},{"$f":"100/Z20","v":3.5294117647058827},2.068965517241379]
[null,null,null,null,null,null,{"$f":"E3/B3","v":0.5},null,null,"Проигрыш",null,{"$f":"E9/B9","v":0.25}]
[null,null,null,null,null,null,null,null,null,"Гости",null,null,null,null,{"$f":"J23","v":"Гости"},1,"Х",2,null,null,null,null,null,null,"Win","X","Lose"]
[null,5,{"$f":"B24*G24/100","v":2.5000000000000001E-2},{"$f":"E24*L24/100","v":7.4999999999999997E-2},30,null,{"$f":"C4/B4","v":0.5},null,null,"Побед",null,{"$f":"C10/B10","v":0.25},null,null,null,{"$f":"G24","v":0.5},{"$f":"(G25+L25)/2","v":0.35},{"$f":"L24","v":0.25}]
[null,null,null,null,null,null,{"$f":"D4/B4","v":0.2},null,null,"Ничья",null,{"$f":"D10/B10","v":0.5},null,null,null,null,null,null,null,null,null,null,null,null,{"$f":"(C5+C11)/B11","v":0.8},{"$f":"(D5+D11)/B11","v":1}]
[null,null,null,null,null,null,{"$f":"E4/B4","v":0.3},null,null,"Проигрыш",null,{"$f":"E10/B10","v":0.25}]
[null,null,null,null,null,null,null,null,null,"Форма",null,null,null,null,{"$f":"J27","v":"Форма"},1,"Х",2,null,1,"Х",2]
[null,30,{"$f":"B28*G28/100","v":0.06},{"$f":"E28*L28/100","v":0.18},30,null,{"$f":"C5/B5","v":0.2},null,null,"Побед",null,{"$f":"C11/B11","v":0.6},null,null,null,{"$f":"G28","v":0.2},{"$f":"(G29+L29)/2","v":0.5},{"$f":"L28","v":0.6},null,{"$f":"P28","v":0.2},{"$f":"Q28","v":0.5},{"$f":"R28","v":0.6},{"$f":"SUM(T28:V28)","v":1.2999999999999998}]
[null,null,null,null,null,null,{"$f":"D5/B5","v":0.6},null,null,"Ничья",null,{"$f":"D11/B11","v":0.4}]
[null,null,null,null,null,null,{"$f":"E5/B5","v":0.2},null,null,"Проигрыш",null,{"$f":"E11/B11","v":0}]
[null,null,null,null,null,null,null,null,null,"Очные",null,null,null,null,null,null,null,null,null,1,"Х",2,{"$f":"(W16+W21+W28)/3","v":1.0609374999999999}]
[null,null,null,null,null,null,null,null,null,"Общая",null,null,null,null,null,null,null,null,null,{"$f":"(T16+T21+T28)/3","v":0.234375},{"$f":"(U16+U21+U28)/3","v":0.39427083333333335},{"$f":"(V16+V21+V28)/3","v":0.43229166666666669},{"$f":"SUM(T32:V32)","v":1.0609375000000001},null,null,{"$f":"C3/B3","v":0.2},{"$f":"(D3/B3)/2","v":0.15},{"$f":"SUM(Z32:AA32)","v":0.35}]
[null,null,null,null,null,null,{"$f":"IFERROR(L2/K2,0)","v":0.25},null,null,"Побед",null,{"$f":"IFERROR(L8/K8,0)","v":0.5},null,null,null,null,null,null,null,null,null,null,null,null,null,{"$f":"C10/B10","v":0.25},{"$f":"(D10/B10)/2","v":0.25},{"$f":"SUM(Z33:AA33)","v":0.5}]
[null,null,null,null,null,null,{"$f":"IFERROR(M2/K2,0)","v":0.25},null,null,"Ничья",null,{"$f":"IFERROR(M8/K8,0)","v":0.25},null,null,null,null,null,null,null,{"$f":"(100%-W31)/3","v":-2.0312499999999956E-2},null,null,null,null,null,null,null,{"$f":"100%-AB33-AB32","v":0.15000000000000002}]
[null,null,null,null,null,null,{"$f":"IFERROR(N2/K2,0)","v":0.5},null,null,"Проигрыш",null,{"$f":"IFERROR(N8/K8,0)","v":0.25}]
[null,null,null,null,null,null,null,null,null,"Дом"]
[null,20,{"$f":"B37*G37/100","v":0},{"$f":"E37*L37/100","v":2.5000000000000001E-2},5,null,{"$f":"IFERROR(L3/K3,0)","v":0},null,null,"Побед",null,{"$f":"IFERROR(L9/K9,0)","v":0.5}]
[null,null,null,null,null,null,{"$f":"IFERROR(M3/K3,0)","v":0.5},null,null,"Ничья",null,{"$f":"IFERROR(M9/K9,0)","v":0}]
[null,null,null,null,null,null,{"$f":"IFERROR(N3/K3,0)","v":0.5},null,null,"Проигрыш",null,{"$f":"IFERROR(N9/K9,0)","v":0.5}]
[null,null,null,null,null,null,null,null,null,"Гости",null,null,null,null,null,null,null,null,"Кофициэнт букмекера стартовый",null,null,null,"Кофициэнт анализа 1",null,null,null,{"$f":"A1","v":"Жарково"},null,{"$f":"A7","v":"Нови Белград"}]
[null,5,{"$f":"B41*G41/100","v":2.5000000000000001E-2},{"$f":"E41*L41/100","v":0.1},20,null,{"$f":"IFERROR(L4/K4,0)","v":0.5},null,null,"Побед",null,{"$f":"IFERROR(L10/K10,0)","v":0.5},null,null,null,null,null,null,1,"Х",2,null,1,"Х",2,"в ср. пропущ. Дома",{"$f":"G3/B3","v":1.2},"по статистике  матчей Дома/в Гостях",{"$f":"G10/B10","v":1.375},"в ср. пропущ. в Гостях",null,"по статистике Гостевых матчей"]
[null,null,null,null,null,null,{"$f":"IFERROR(M4/K4,0)","v":0},null,null,"Ничья",null,{"$f":"IFERROR(M10/K10,0)","v":0.5},null,null,null,null,null,null,{"$f":"Коэффициенты!B2","v":2.8},{"$f":"Коэффициенты!B3","v":2.95},{"$f":"Коэффициенты!B4","v":2.6},null,{"$f":"Y18","v":4.6715328467153281},{"$f":"Z18","v":2.6740947075208905},{"$f":"AA18","v":2.4273072060682677},"в ср. Поражен Дома",{"$f":"E3/B3","v":0.5},null,{"$f":"E10/B10","v":0.25},"в ср. Поражен в Гостях"]
[null,null,null,null,null,null,{"$f":"IFERROR(N4/K4,0)","v":0.5},null,null,"Проигрыш",null,{"$f":"IFERROR(N10/K10,0)","v":0},null,null,null,null,null,null,{"$f":"1/S42","v":0.35714285714285715},{"$f":"1/T42","v":0.33898305084745761},0.38461538461538458,null,{"$f":"S6","v":0.21406250000000004},{"$f":"T6","v":0.37395833333333339},{"$f":"U6","v":0.41197916666666673},"в ср. очков Дома",{"$f":"H3/B3","v":0.9},null,{"$f":"H10/B10","v":1.25},"в ср. очков в Гостях"]
[null,null,{"$f":"SUM(C16:C43)","v":0.20499999999999999},{"$f":"SUM(D16:D43)","v":0.44500000000000006},null,null,null,null,null,"Общая",null,null,null,null,null,null,null,null,null,null,null,null,null,null,null,"в ср. Пропущено Хозяевами",{"$f":"G5/B5","v":1},"по Форме5",{"$f":"G11/B11","v":1.2},"в ср. Пропущено Гостями",null,"по Форме5"]
[null,null,{"$f":"VALUE(TEXT((G48+G54+G57)/3,\"0,00\"))","v":1},{"$f":"VALUE(TEXT((L51+L54+L57)/3,\"0,00\"))","v":1.97},{"$f":"(G48+G54+G57)/3","v":1},null,{"$f":"F2/B2","v":1.05},null,null,"Забили",null,{"$f":"F8/B8","v":1.5},null,null,{"$f":"(L51+L54+L57)/3","v":1.9666666666666668},null,null,null,"Кофициэнт букмекера актуальный",null,null,null,"Кофициэнт анализа 2",null,null,"в ср. Поражен Хозяев",{"$f":"E5/B5","v":0.2},null,{"$f":"E11/B11","v":0},"в ср. Поражен Гостей"]
[null,null,null,null,{"$f":"(G49+G55+G58)/3","v":1.5666666666666667},null,{"$f":"G2/B2","v":1.05},null,null,"Пропустили",null,{"$f":"G8/B8","v":1.1000000000000001},null,null,{"$f":"(L52+L55+L58)/3","v":1.3583333333333334},null,null,null,1,"Х",2,null,1,"Х",2,null,{"$f":"(AA41+AA42+AA43+AA44+AA45)/5","v":0.76},"Проиграет",{"$f":"(AC41+AC42+AC43+AC44+AC45)/5","v":0.81500000000000006}]
[null,null,{"$f":"100%-C44-D44","v":0.35},null,{"$f":"(E45+O46)/2","v":1.1791666666666667},null,null,null,null,"Дом",null,null,null,null,{"$f":"(O45+E46)/2","v":1.7666666666666666},null,null,null,{"$f":"Коэффициенты!C2","v":2.54},{"$f":"Коэффициенты!C3","v":2.88},{"$f":"Коэффициенты!C4","v":2.95},null,{"$f":"Y21","v":4.2857142857142856},{"$f":"Z21","v":3.5294117647058827},{"$f":"AA21","v":2.068965517241379},null,"средние кф-ты поражения"]
[null,null,{"$f":"SUMPRODUCT(C16:C41,B16:B41)/SUM(B16:B41)","v":4.1999999999999996E-2},{"$f":"SUMPRODUCT(D16:D41,E16:E41)/SUM(E16:E41)","v":0.10299999999999999},"ср взвеш",null,{"$f":"F3/B3","v":0.7},null,{"$f":"G48","v":0.7},"Забили",null,{"$f":"F9/B9","v":1.8333333333333333},null,null,null,null,null,null,{"$f":"1/S47","v":0.39370078740157477},{"$f":"1/T47","v":0.34722222222222221},0.33898305084745761,null,{"$f":"W6","v":0.23333333333333331},{"$f":"X6","v":0.28333333333333333},{"$f":"Y6","v":0.48333333333333334}]
[null,null,{"$f":"C48/(C48+D48)","v":0.28965517241379307},{"$f":"D48/(D48+C48)","v":0.71034482758620687},null,null,{"$f":"G3/B3","v":1.2},null,{"$f":"G49","v":1.2},"Пропустили",null,{"$f":"G9/B9","v":0.91666666666666663},null,null,null,null,null,null,null,null,null,null,null,null,null,null,{"$f":"A1","v":"Жарково"},null,{"$f":"A7","v":"Нови Белград"},"Adv"]
[null,null,{"$f":"H3/B3","v":0.9},{"$f":"H10/B10","v":1.25},null,null,null,null,null,"Гости",null,null,null,null,null,null,null,null,null,null,null,null,null,null,"в ср. забито Дома",null,{"$f":"F3/B3","v":0.7},"по статистике  матчей Дома/в Гостях",{"$f":"F10/B10","v":1},"в ср. забито в Гостях"]
[null,null,{"$f":"H5/B5","v":1.2},{"$f":"H11/B11","v":2.2000000000000002},null,null,{"$f":"F4/B4","v":1.4},null,null,"Забили",{"$f":"L51","v":1},{"$f":"F10/B10","v":1},null,null,null,null,null,null,null,null,null,null,null,null,"в ср. Побед Дома",null,{"$f":"C3/B3","v":0.2},null,{"$f":"C10/B10","v":0.25},"в ср. Побед в Гостях"]
[null,null,{"$f":"(C50+C51)/2","v":1.05},{"$f":"(D50+D51)/2","v":1.7250000000000001},null,null,{"$f":"G4/B4","v":0.9},null,null,"Пропустили",{"$f":"L52","v":1.375},{"$f":"G10/B10","v":1.375},null,null,null,null,null,null,{"$f":"H3/B3","v":0.9},null,{"$f":"H10/B10","v":1.25},null,null,null,"в ср. очков Дома",null,{"$f":"H3/B3","v":0.9},null,{"$f":"H10/B10","v":1.25},"в ср. очков в Гостях"]
[null,null,"Adv","Adv",null,null,null,null,null,"Форма",null,null,null,null,null,null,null,null,{"$f":"H5/B5","v":1.2},null,{"$f":"H11/B11","v":2.2000000000000002},null,null,null,"в ср. забито Хозяевами ",null,{"$f":"F5/B5","v":0.8},"по Форме5",{"$f":"F11/B11","v":2.4},"в ср. забито Гостями"]
[null,"1 Команда",null,"2 Команда",null,null,{"$f":"F5/B5","v":0.8},null,null,"Забили",null,{"$f":"F11/B11","v":2.4},null,null,null,null,null,null,{"$f":"O3/K3","v":1.5},null,{"$f":"O10/K10","v":2.5},null,null,null,"в ср. Побед Хозяев",null,{"$f":"C5/B5","v":0.2},null,{"$f":"C11/B11","v":0.6},"в ср. Побед Гостей"]
[null,10,{"$f":"B55*G18/100","v":0.04},{"$f":"E55*L18/100","v":2.5000000000000001E-2},10,null,{"$f":"G5/B5","v":1},null,null,"Пропустили",null,{"$f":"G11/B11","v":1.2},null,null,null,null,null,null,{"$f":"SUM(S52:S54)","v":3.6},null,{"$f":"SUM(U52:U54)","v":5.95},null,null,null,null,null,{"$f":"(AA50+AA51+AA52+AA53+AA54)/5","v":0.55999999999999994},"Выйграет",{"$f":"(AC50+AC51+AC52+AC53+AC54)/5","v":1.1000000000000001}]
[null,null,null,null,null,null,null,null,null,"Очные",null,null,null,null,null,null,null,null,{"$f":"S55-U55","v":-2.35},null,{"$f":"U55-S55","v":2.35},null,null,null,null,null,"средние кф-ты победы"]
[null,null,null,null,null,null,{"$f":"IFERROR(O3/K3,0)","v":1.5},null,null,"Забили",null,{"$f":"IFERROR(O10/K10,0)","v":2.5},null,null,null,null,null,null,null,null,null,null,null,null,null,null,{"$f":"VALUE(TEXT(AA55-AA46,\"0,000\"))","v":-0.2},null,{"$f":"VALUE(TEXT(AC55-AC46,\"0,000\"))","v":0.28499999999999998}]
[null,null,null,null,null,null,{"$f":"IFERROR(P3/K3,0)","v":2.5},null,null,"Пропустили",null,{"$f":"IFERROR(P10/K10,0)","v":1.5},null,null,null,null,null,null,null,null,null,null,null,null,null,null,"Индексы Победы/Поражения"]
[null,30,{"$f":"B59*G22/100","v":0.15},{"$f":"E59*L22/100","v":1.2500000000000001E-2},5]
[null,null,null,null,null,null,"1 Команда",null,"2 Команда",null,null,null,null,null,null,null,null,null,null,null,null,null,null,null,null,null,{"$f":"AA49","v":"Жарково"},null,{"$f":"AC49","v":"Нови Белград"}]
[null,null,null,null,null,null,10,{"$f":"G61*G17/100","v":2.5000000000000001E-2},{"$f":"J61*L17/100","v":3.5000000000000003E-2},10,null,null,null,null,null,null,null,null,null,null,null,null,null,null,null,null,{"$f":"F3/F2","v":0.33333333333333331},{"$f":"J45","v":"Забили"},{"$f":"F10/F8","v":0.26666666666666666}]
[null,null,null,null,null,null,null,null,null,null,null,null,null,null,null,null,null,null,null,null,null,null,null,null,null,null,{"$f":"G3/G2","v":0.5714285714285714},{"$f":"J46","v":"Пропустили"},{"$f":"G10/G8","v":0.5}]
[null,5,{"$f":"B63*G26/100","v":1.4999999999999999E-2},{"$f":"E63*L26/100","v":7.4999999999999997E-2},30]
[]
[null,null,null,null,null,null,30,{"$f":"G65*G21/100","v":0.09},{"$f":"J65*L21/100","v":1.2500000000000001E-2},5]
[]
[null,30,{"$f":"B67*G30/100","v":0.06},{"$f":"E67*L30/100","v":0},30]
[]
[null,null,null,null,null,null,5,{"$f":"G69*G25/100","v":0.01},{"$f":"J69*L25/100","v":0.15},30]
[]
[]
[]
[null,null,null,null,null,null,30,{"$f":"G73*G29/100","v":0.18},{"$f":"J73*L29/100","v":0.12},30]
[]
[]
[null,20,{"$f":"B76*G39/100","v":0.1},{"$f":"E76*L39/100","v":2.5000000000000001E-2},5]
[]
[]
[]
[null,5,{"$f":"B80*G43/100","v":2.5000000000000001E-2},{"$f":"E80*L43/100","v":0},20]
[]
[null,null,null,null,null,null,20,{"$f":"G82*G38/100","v":0.1},{"$f":"J82*L38/100","v":0},5]
[null,null,{"$f":"SUM(C55:C82)","v":0.39},{"$f":"SUM(D55:D82)","v":0.13750000000000001}]
[]
[]
[null,"1 Команда",null,"2 Команда",null,null,5,{"$f":"G86*G42/100","v":0},{"$f":"J86*L42/100","v":0.1},20]
[null,{"$f":"C44","v":0.20499999999999999},"Выйграет",null,{"$f":"D44","v":0.44500000000000006}]
[]
[null,"1 Команда",null,"2 Команда",null,null,null,{"$f":"VALUE(TEXT(SUM(H61:H88),\"0,000\"))","v":0.40500000000000003},{"$f":"VALUE(TEXT(SUM(I61:I88),\"0,000\"))","v":0.41799999999999998}]
[null,{"$f":"C83","v":0.39},"Проиграет",null,{"$f":"D83","v":0.13750000000000001}]
[null,null,null,null,null,null,null,{"$f":"SUMPRODUCT(C16:C41,B16:B41)/SUM(B16:B41)","v":4.1999999999999996E-2},{"$f":"SUMPRODUCT(D16:D41,E16:E41)/SUM(E16:E41)","v":0.10299999999999999},{"$f":"H91+I92","v":6.8874999999999992E-2}]
[null,"1 Команда",null,"2 Команда",null,null,null,{"$f":"SUMPRODUCT(C55:C80,B55:B80)/SUM(B55:B80)","v":8.900000000000001E-2},{"$f":"SUMPRODUCT(D55:D80,E55:E80)/SUM(E55:E80)","v":2.6875E-2},{"$f":"I91+H92","v":0.192}]
[null,{"$f":"(B87+E90)/2","v":0.17125000000000001},{"$f":"100%-B93-E93","v":0.41124999999999995},null,{"$f":"(B90+E87)/2","v":0.41750000000000004},null,null,{"$f":"SUMPRODUCT(H61:H86,G61:G86)/SUM(G61:G86)","v":0.10399999999999998},{"$f":"SUMPRODUCT(I61:I86,J61:J86)/SUM(J61:J86)","v":0.105125},{"$f":"(H93+I93)/2","v":0.10456249999999999}]
[null,null,null,null,null,null,null,null,null,{"$f":"SUM(J91:J93)","v":0.36543749999999997}]
[null,"1 Команда",null,"2 Команда"]
[null,{"$f":"H89","v":0.40500000000000003},"ничья",null,{"$f":"I89","v":0.41799999999999998},null,null,{"$f":"(J91/J94)","v":0.18847272105353172},{"$f":"(J93/J94)","v":0.28612963913117839},{"$f":"(J92/J94)","v":0.52539763981528997}]
[]
[null,"1 Команда",null,"2 Команда"]
[null,{"$f":"(B87+E90+B96)/3","v":0.24916666666666668},{"$f":"100%-B99-E99","v":0.33316666666666667},null,{"$f":"(B90+E87+E96)/3","v":0.41766666666666669}]

{"sheet":"Elizabet2","index":4,"n_rows":295,"n_cols":44,"rows_kept":295,"cut":false,"hidden":false,"merged":[[188,0,188,1],[215,0,215,1],[242,0,242,1],[269,0,269,1],[28,20,28,21],[30,16,30,19],[53,18,53,22],[107,0,107,1],[134,0,134,1],[161,0,161,1],[19,29,19,33],[21,0,22,0],[21,5,22,5],[21,10,22,10],[26,20,26,22],[27,10,27,12],[27,20,27,21],[6,0,6,4],[6,10,6,13],[7,7,7,9],[13,29,13,33],[14,0,14,18],[15,0,16,0],[15,5,16,5],[15,10,16,10],[15,15,16,15],[1,20,1,21],[0,0,0,4],[0,8,0,9],[0,12,0,13],[0,15,0,16],[1,15,1,16]]}
["HOME Team",null,null,null,null,16,{"$f":"F1*2-2","v":30},null,"Prob. Goals",null,null,null,"Prob. CS",null,null,"Prob. Bets",null,null,"Prob. CS",null,null,null,null,null,null,null,null,null,null,null,null,null,"команда1",{"$f":"C6/B6","v":0.8},{"$f":"D6/B6","v":1},null,null,"Очки"]
[{"$f":"'Incognito DATA'!A1","v":"Жарково"},"Played","G For","G Against","Points",{"$f":"TEXT(B3/(F1*2-2),\"0%\")","v":"67%"},{"$f":"IFERROR(B3&\" / \"&F2,\"\")","v":"20 / 67%"},null,"HOME","AWAY",null,null,"HOME","AWAY",null,"Forecasts",null,null,"main + addit.",null,"Totals",null,null,null,"Total Forecasts",null,null,null,null,null,null,null,"команда2",{"$f":"C12/B12","v":2.4},{"$f":"D12/B12","v":1.2},null,null,{"$f":"A2","v":"Жарково"}]
["Overall",{"$f":"'Incognito DATA'!B2","v":20},{"$f":"'Incognito DATA'!F2","v":21},{"$f":"'Incognito DATA'!G2","v":21},{"$f":"'Incognito DATA'!H2","v":26},{"$f":"(C3/B3+D9/B9)/2","v":1.0750000000000002},null,"Overall",{"$f":"F3","v":1.0750000000000002},{"$f":"F9","v":1.2749999999999999},null,null,{"$f":"IF(I3<1,IF(I3>0.9,CEILING(I3,1),FLOOR(I3,1)),IF(I3>1.54,CEILING(I3,1),FLOOR(I3,1)))","v":1},{"$f":"IF(J3<1,IF(J3>0.95,CEILING(J3,1),FLOOR(J3,1)),IF(J3>1.7,CEILING(J3,1),FLOOR(J3,1)))","v":1},{"$f":"ABS(I3-J3)","v":0.19999999999999973},{"$f":"IF(I3>J3,\"1X\",\"X2\")","v":"X2"},{"$f":"IF(AND(I3>J3,O3>0.29),\"W1\",IF(AND(I3<J3,O3>0.29),\"W2\",\"X\"))","v":"X"},{"$f":"IF(COUNTIF(S$2:S3,S3)=1,MAX(R$2:R2)+1,\"\")","v":1},{"$f":"M3&\" - \"&N3","v":"1 - 1"},null,{"$f":"(C3/B3)+(C9/B9)","v":2.5499999999999998},"Goals For",{"$f":"MOD(U3,1)","v":0.54999999999999982},{"$f":"IF(W3>0.6,CEILING(U3,1),FLOOR(U3,1))","v":2},{"$f":"TEXT(Z3,\"0,00\")","v":""},{"$f":"IF(U5>=2.95,\"O 2,5\",IF(U5<1.8,\"U 2,5\",\"\"))","v":""},null,null,null,null,null,null,null,{"$f":"SUM(AH1:AH2)","v":3.2},{"$f":"SUM(AI1:AI2)","v":2.2000000000000002},null,null,"Общие",{"$f":"E3","v":26},null,null,null,null,"На сколько процентов лучше хуже от нетрального поля"]
[" @Home",{"$f":"'Incognito DATA'!B3","v":10},{"$f":"'Incognito DATA'!F3","v":7},{"$f":"'Incognito DATA'!G3","v":12},{"$f":"'Incognito DATA'!H3","v":9},{"$f":"(C4/B4+D11/B11)/2","v":1.0375000000000001},null,"Home / Away",{"$f":"F4","v":1.0375000000000001},{"$f":"F11","v":1.1000000000000001},null,null,{"$f":"IF(I4<1,IF(I4>0.9,CEILING(I4,1),FLOOR(I4,1)),IF(I4>1.6,CEILING(I4,1),FLOOR(I4,1)))","v":1},{"$f":"IF(J4<1,IF(J4>0.95,CEILING(J4,1),FLOOR(J4,1)),IF(J4>1.7,CEILING(J4,1),FLOOR(J4,1)))","v":1},{"$f":"ABS(I4-J4)","v":6.25E-2},{"$f":"IF(I4>J4,\"1X\",\"X2\")","v":"X2"},{"$f":"IF(AND(I4>J4,O4>0.29),\"W1\",IF(AND(I4<J4,O4>0.29),\"W2\",\"X\"))","v":"X"},{"$f":"IF(COUNTIF(S$2:S4,S4)=1,MAX(R$2:R3)+1,\"\")","v":""},{"$f":"M4&\" - \"&N4","v":"1 - 1"},null,{"$f":"(D3/B3)+(D9/B9)","v":2.1500000000000004},"Goals Against",{"$f":"MOD(U4,1)","v":0.15000000000000036},{"$f":"IF(W4>0.6,CEILING(U4,1),FLOOR(U4,1))","v":2},{"$f":"Z4","v":"U 2,5"},{"$f":"IF(X8>=2.6,\"O 2,5\",IF(X8<2.3,\"U 2,5\",\"\"))","v":"U 2,5"},null,null,null,null,null,null,null,null,{"$f":"AH3+AI3","v":5.4},null,null,"Дом",{"$f":"E4","v":9},{"$f":"AM4/AM3","v":0.34615384615384615},{"$f":"AN4/0.5","v":0.69230769230769229},{"$f":"AO4","v":0.69230769230769229},{"$f":"AP4*100-100","v":-30.769230769230774}]
[" @Away",{"$f":"'Incognito DATA'!B4","v":10},{"$f":"'Incognito DATA'!F4","v":14},{"$f":"'Incognito DATA'!G4","v":9},{"$f":"'Incognito DATA'!H4","v":17},null,null,null,null,null,null,null,null,null,null,null,null,{"$f":"IF(COUNTIF(S$2:S5,S5)=1,MAX(R$2:R4)+1,\"\")","v":""},null,null,{"$f":"I3+J3","v":2.35},"Overal",{"$f":"MOD(U5,1)","v":0.35000000000000009},{"$f":"IF(W5>0.6,CEILING(U5,1),FLOOR(U5,1))","v":2},{"$f":"TEXT(U5,\"0,00\")","v":"2,35"},{"$f":"IF(X8>=2.6,\"O 1,5\",IF(X8<0.8,\"U 1,5\",\"\"))","v":""},null,null,null,null,null,null,"голы по форме",null,{"$f":"AI4/2","v":2.7},null,null,"Выезд",{"$f":"E5","v":17},{"$f":"AM5/AM3","v":0.65384615384615385},{"$f":"AN5/0.5","v":1.3076923076923077},{"$f":"AO5","v":1.3076923076923077},{"$f":"AP5*100-100","v":30.769230769230774}]
["Form 5",{"$f":"'Incognito DATA'!B5","v":5},{"$f":"'Incognito DATA'!F5","v":4},{"$f":"'Incognito DATA'!G5","v":5},{"$f":"'Incognito DATA'!H5","v":6},{"$f":"(C6/B6+D12/B12)/2","v":1},null,"Form 5",{"$f":"F6","v":1},{"$f":"F12","v":1.7},null,null,{"$f":"IF(I6<1,IF(I6>0.9,CEILING(I6,1),FLOOR(I6,1)),IF(I6>1.69,CEILING(I6,1),FLOOR(I6,1)))","v":1},{"$f":"IF(J6<1,IF(J6>0.95,CEILING(J6,1),FLOOR(J6,1)),IF(J6>1.7,CEILING(J6,1),FLOOR(J6,1)))","v":1},{"$f":"ABS(I6-J6)","v":0.7},{"$f":"IF(I6>J6,\"1X\",\"X2\")","v":"X2"},{"$f":"IF(AND(I6>J6,O6>0.29),\"W1\",IF(AND(I6<J6,O6>0.29),\"W2\",\"X\"))","v":"W2"},{"$f":"IF(COUNTIF(S$2:S6,S6)=1,MAX(R$2:R5)+1,\"\")","v":""},{"$f":"M6&\" - \"&N6","v":"1 - 1"},null,{"$f":"I6+J6","v":2.7},"Form 5",{"$f":"MOD(U6,1)","v":0.70000000000000018},{"$f":"IF(W6>0.6,CEILING(U6,1),FLOOR(U6,1))","v":3},null,null,null,null,null,null,null,null,null,null,null,{"$f":"IF(AI7<1,IF(AI7>0.9,CEILING(AI7,1),FLOOR(AI7,1)),IF(AI7>1.6,CEILING(AI7,1),FLOOR(AI7,1)))","v":1}]
["AWAY Team",null,null,null,null,null,null,null,null,null,"Additional CS ",null,null,null,1,{"$f":"IFERROR(VLOOKUP(O7,R$3:S$13,2,FALSE),\"\")","v":"1 - 1"},{"$f":"IF(P8=\"\",\"\",\"  /  \")","v":""},{"$f":"IF(COUNTIF(S$2:S7,S7)=1,MAX(R$2:R6)+1,\"\")","v":""},null,null,{"$f":"I4+J4","v":2.1375000000000002},"Home / Away",{"$f":"MOD(U7,1)","v":0.13750000000000018},{"$f":"IF(W7>0.6,CEILING(U7,1),FLOOR(U7,1))","v":2},null,null,null,null,null,null,null,null,"команда1",null,{"$f":"AG9/AH9","v":1.0222222222222221},{"$f":"IF(AI8<1,IF(AI8>0.9,CEILING(AI8,1),FLOOR(AI8,1)),IF(AI8>1.5,CEILING(AI8,1),FLOOR(AI8,1)))","v":2},null,{"$f":"A8","v":"Нови Белград"}]
[{"$f":"'Incognito DATA'!A7","v":"Нови Белград"},"Played","G For","G Against","Points",{"$f":"TEXT(B9/(F1*2-2),\"0%\")","v":"67%"},{"$f":"IFERROR(B9&\" / \"&F8,\"\")","v":"20 / 67%"},"Both To Score YES / NO",null,null,{"$f":"IF(AND(K3<=0.95,K3>=0.6),1,0)","v":0},{"$f":"IF(AND(L3<=0.95,L3>=0.6),1,0)","v":0},{"$f":"IF(K$14<9,\"\",IF(M3=N3,\"\",IF(M3>N3,N3,IF(N3>M3,M3,\"\"))))","v":""},{"$f":"IF(K$14<9,\"\",IF(M3=N3,\"\",IF(M3<N3,N3,IF(N3<M3,M3,\"\"))))","v":""},2,{"$f":"IFERROR(VLOOKUP(O8,R$3:S$13,2,FALSE),\"\")","v":""},"",{"$f":"IF(COUNTIF(S$2:S8,S8)=1,MAX(R$2:R7)+1,\"\")","v":""},{"$f":"IF(M8=\"\",\"\",M8&\" - \"&N8)","v":""},null,{"$f":"AVERAGE(U3:U7)","v":2.3774999999999999},null,null,{"$f":"SUM(X3:X7)/5","v":2.2000000000000002},null,null,null,null,null,null,null,null,"команда2",null,{"$f":"AG10/AH10","v":1.6},null,null,"Общие",{"$f":"E9","v":31}]
["Overall",{"$f":"'Incognito DATA'!B8","v":20},{"$f":"'Incognito DATA'!F8","v":30},{"$f":"'Incognito DATA'!G8","v":22},{"$f":"'Incognito DATA'!H8","v":31},{"$f":"(C9/B9+D3/B3)/2","v":1.2749999999999999},null,{"$f":"(C3/B3)+(C9/B9)","v":2.5499999999999998},{"$f":"(D3/B3)+(D9/B9)","v":2.1500000000000004},{"$f":"I3+J3","v":2.35},{"$f":"IF(AND(K4<=0.95,K4>=0.6),1,0)","v":0},{"$f":"IF(AND(L4<=0.95,L4>=0.6),1,0)","v":0},{"$f":"IF(K$14<9,\"\",IF(M4=N4,\"\",IF(M4>N4,N4,IF(N4>M4,M4,\"\"))))","v":""},{"$f":"IF(K$14<9,\"\",IF(M4=N4,\"\",IF(M4<N4,N4,IF(N4<M4,M4,\"\"))))","v":""},3,"","",{"$f":"IF(COUNTIF(S$2:S9,S9)=1,MAX(R$2:R8)+1,\"\")","v":""},"",null,null,null,null,null,null,null,null,null,null,null,null,null,{"$f":"C3+C4+C5+C6","v":46},{"$f":"B3+B4+B5+B6","v":45},null,null,null,"Дом",{"$f":"E10","v":21},{"$f":"AM9/AM8","v":0.67741935483870963},{"$f":"AN9/0.5","v":1.3548387096774193},{"$f":"AO9","v":1.3548387096774193},{"$f":"AP9*100-100","v":35.483870967741922}]
[" @Home",{"$f":"'Incognito DATA'!B9","v":12},{"$f":"'Incognito DATA'!F9","v":22},{"$f":"'Incognito DATA'!G9","v":11},{"$f":"'Incognito DATA'!H9","v":21},null,null,{"$f":"H9+I9+J9","v":7.0500000000000007},{"$f":"IF(H10>8.55,\"YES\",\"\")","v":""},null,{"$f":"IF(AND(K6<=0.95,K6>=0.6),1,0)","v":0},{"$f":"IF(AND(L6<=0.95,L6>=0.6),1,0)","v":0},{"$f":"IF(K$14<9,\"\",IF(M6=N6,\"\",IF(M6>N6,N6,IF(N6>M6,M6,\"\"))))","v":""},{"$f":"IF(K$14<9,\"\",IF(M6=N6,\"\",IF(M6<N6,N6,IF(N6<M6,M6,\"\"))))","v":""},4,"","",{"$f":"IF(COUNTIF(S$2:S10,S10)=1,MAX(R$2:R9)+1,\"\")","v":""},"",null,null,{"$f":"AVERAGE(M3:M6)","v":1},{"$f":"AVERAGE(N3:N6)","v":1},null,null,null,null,null,null,null,null,null,{"$f":"C9+C10+C11+C12","v":72},{"$f":"B9+B10+B11+B12","v":45},null,{"$f":"AJ6+AJ7","v":3},null,"Выезд",{"$f":"E11","v":10},{"$f":"AM10/AM8","v":0.32258064516129031},{"$f":"AN10/0.5","v":0.64516129032258063},{"$f":"AO10","v":0.64516129032258063},{"$f":"AP10*100-100","v":-35.483870967741936}]
[" @Away",{"$f":"'Incognito DATA'!B10","v":8},{"$f":"'Incognito DATA'!F10","v":8},{"$f":"'Incognito DATA'!G10","v":11},{"$f":"'Incognito DATA'!H10","v":10},{"$f":"(C11/B11+D4/B4)/2","v":1.1000000000000001},null,null,null,null,{"$f":"IF(ABS(K3-L3)<=0.25,1,0)","v":1},{"$f":"IF((I3+J3)<=1.45,1,0)","v":0},{"$f":"IF(L11=0,\"\",0)","v":""},{"$f":"IF(L11=0,\"\",0)","v":""},5,"","",{"$f":"IF(COUNTIF(S$2:S11,S11)=1,MAX(R$2:R10)+1,\"\")","v":""},"",null,null,null,null,null,null,null,null,null,null,null,null,null,"общие голы",null,{"$f":"AI7+AI8","v":2.6222222222222222}]
["Form 5",{"$f":"'Incognito DATA'!B11","v":5},{"$f":"'Incognito DATA'!F11","v":12},{"$f":"'Incognito DATA'!G11","v":6},{"$f":"'Incognito DATA'!H11","v":11},{"$f":"(C12/B12+D6/B6)/2","v":1.7},"Rank",{"$f":"A2","v":"Жарково"},{"$f":"IFERROR('Incognito DATA'!I2,\"RISK\")","v":6},null,{"$f":"IF(ABS(K4-L4)<=0.25,1,0)","v":1},{"$f":"IF((I4+J4)<=1.45,1,0)","v":0},{"$f":"IF(L12=0,\"\",0)","v":""},{"$f":"IF(L12=0,\"\",0)","v":""},6,"","",{"$f":"IF(COUNTIF(S$2:S12,S12)=1,MAX(R$2:R11)+1,\"\")","v":""},""]
[null,null,null,null,null,null,null,{"$f":"A8","v":"Нови Белград"},{"$f":"IFERROR('Incognito DATA'!I8,\"RISK\")","v":5},null,{"$f":"IF(ABS(K6-L6)<=0.25,1,0)","v":1},{"$f":"IF((I6+J6)<=1.45,1,0)","v":0},{"$f":"IF(L13=0,\"\",0)","v":""},{"$f":"IF(L13=0,\"\",0)","v":""},7,"",null,{"$f":"IF(COUNTIF(S$2:S13,S13)=1,MAX(R$2:R12)+1,\"\")","v":""},""]
[null,null,null,null,null,null,null,null,null,null,{"$f":"K13+K12+K11+K10+K9+K8+L8+L9+L10","v":3},{"$f":"L11+L12+L13","v":0},null,null,null,null,null,null,{"$f":"P7&Q7&P8&Q8&P9&Q9&P10&Q10&P11&Q11&P12&Q12&P13&Q13","v":"1 - 1"},{"$f":"AVERAGE(H29,H56,H83,H110)","v":1.1455176767676767},"ТС",{"$f":"AVERAGE(H30,H57,H84,H111)","v":1.5412247474747476},null,null,null,null,null,null,null,"HOME @ home"]
["Пуассон",null,null,null,null,null,null,null,null,null,null,null,null,null,null,null,null,null,null,"Форма",null,"Среднее","Прогноз",null,null,null,null,null,null,"Победы",null,"Ничьи",null,"Порожения",null,{"$f":"A2","v":"Жарково"},null,{"$f":"AD16*3","v":6},{"$f":"AF16*1.5","v":4.5},null,null,{"$f":"-AH16*AH16","v":-25}]
["Общая",1,"X",2,null,"Дома",1,"X",2,null,"В гостях",1,"X",2,null,"Дом\\Гости",1,"X",2,{"$f":"A143","v":0.22182535551593763},"П1",{"$f":"AVERAGE(B17,G17,L17,Q17)","v":0.29433855457608199},{"$f":"AVERAGE(V16,V22)","v":0.25087298099174471},"П1",null,null,null,null,null,{"$f":"'Incognito DATA'!C3","v":2},null,{"$f":"'Incognito DATA'!D3","v":3},null,{"$f":"'Incognito DATA'!E3","v":5},{"$f":"AL15+AM15+AP15","v":-14.5}]
[null,{"$f":"A35","v":0.31198084944024879},{"$f":"B35","v":0.27831378760494541},{"$f":"C35","v":0.40970536295480581},null,null,{"$f":"A62","v":0.19841801262723663},{"$f":"B62","v":0.25636199752907152},{"$f":"C62","v":0.5452199898436918},null,null,{"$f":"A89","v":0.47189164740713874},{"$f":"B89","v":0.27249126624070658},{"$f":"C89","v":0.25561708635215463},null,null,{"$f":"A116","v":0.19506370882970372},{"$f":"B116","v":0.18750789171982346},{"$f":"C116","v":0.6174283994504729},{"$f":"C143","v":0.53794809372260255},"X",{"$f":"AVERAGE(C17,H17,M17,R17)","v":0.24866873577363674},{"$f":"AVERAGE(V17,V23)","v":0.32248251603496653},"Х",null,null,null,null,{"$f":"AD16+AF16+AH16","v":10},{"$f":"AD16/AC17","v":0.2},null,{"$f":"AF16/AC17","v":0.3},null,{"$f":"AH16/AC17","v":0.5},null,{"$f":"A8","v":"Нови Белград"},null,{"$f":"AD18*3","v":6},{"$f":"AF18*1.5","v":6},null,null,{"$f":"-AH18*AH18","v":-4}]
["ОЗ","Over 1.5","Over 2.5","Over 3.5",null,"ОЗ","Over 1.5","Over 2.5","Over 3.5",null,"ОЗ","Over 1.5","Over 2.5","Over 3.5",null,"ОЗ","Over 1.5","Over 2.5","Over 3.5",{"$f":"B143","v":0.24022655076145977},"П2",{"$f":"AVERAGE(D17,I17,N17,S17)","v":0.45699270965028127},{"$f":"AVERAGE(V18,V24)","v":0.42664450297328882},"П2",null,null,null,null,null,{"$f":"'Incognito DATA'!C10","v":2},null,{"$f":"'Incognito DATA'!D10","v":4},null,{"$f":"'Incognito DATA'!E10","v":2},{"$f":"AL17+AM17+AP17","v":8},null,{"$f":"AD15","v":"Победы"},{"$f":"AF15","v":"Ничьи"},{"$f":"AH15","v":"Порожения"}]
[{"$f":"F47","v":0.47463963358927891},{"$f":"B41","v":0.68051210447942667},{"$f":"B42","v":0.41717400531173998},{"$f":"B43","v":0.21089249429705242},null,{"$f":"F74","v":0.4396264228185518},{"$f":"B68","v":0.68355217872902474},{"$f":"B69","v":0.42075717749972724},{"$f":"B70","v":0.21370657047058425},null,{"$f":"F101","v":0.4587228638876073},{"$f":"B95","v":0.67675794385511101},{"$f":"B96","v":0.41277869800200867},{"$f":"B97","v":0.20746150678292857},null,{"$f":"F128","v":0.66132609944919885},{"$f":"B122","v":0.88359671212742819},{"$f":"B123","v":0.714364173437955},{"$f":"B124","v":0.50564404238760441},{"$f":"F155","v":0.51663488820688108},"ОЗ",{"$f":"AVERAGE(A19,F19,K19,P19)","v":0.50857875493615923},null,null,null,null,null,null,{"$f":"AD18+AF18+AH18","v":8},{"$f":"AD18/AC19","v":0.25},null,{"$f":"AF18/AC19","v":0.5},null,{"$f":"AH18/AC19","v":0.25},null,{"$f":"AJ15","v":"Жарково"},{"$f":"AD17","v":0.2},{"$f":"AF17","v":0.3},{"$f":"AH17","v":0.5}]
[null,null,null,null,null,null,null,null,null,null,null,null,null,null,null,null,null,null,null,{"$f":"B150","v":0.50636342472276974},"ТБ2.5",{"$f":"AVERAGE(C19,H19,M19,R19)","v":0.49126851356285772},null,null,null,null,null,null,null,"AWAY @ away",null,null,null,null,null,{"$f":"AJ17","v":"Нови Белград"},{"$f":"AD19","v":0.25},{"$f":"AF19","v":0.5},{"$f":"AH19","v":0.25}]
["Пиччетто"]
["Общая",1,"X",2,null,"Дом\\Гости",1,"X",2,null,"Форма",1,"X",2,null,null,null,null,null,null,"П1",{"$f":"AVERAGE(B23,G23,L23)","v":0.20740740740740737},null,null,null,null,null,null,null,null,null,null,"Счет","Общая","Дом\\Вые","Форма","среднее"]
[null,{"$f":"IFERROR(IF(B22=\"\",\"\",((R33+T34)/(B3+B9))),\"\")","v":0.3},{"$f":"IFERROR(IF(C22=\"\",\"\",((S33+S34)/(B3+B9))),\"\")","v":0.3},{"$f":"IFERROR(IF(D22=\"\",\"\",((R34+T33)/(B9+B3))),\"\")","v":0.4},null,null,{"$f":"IFERROR(IF(G22=\"\",\"\",((R37+T38)/(B4+B11))),\"\")","v":0.22222222222222221},{"$f":"IFERROR(IF(H22=\"\",\"\",((S37+S38)/(B11+B4))),\"\")","v":0.3888888888888889},{"$f":"IFERROR(IF(I22=\"\",\"\",((R38+T37)/(B11+B4))),\"\")","v":0.3888888888888889},null,null,{"$f":"IFERROR(IF(L22=\"\",\"\",((R41+T42)/(B6+B12))),\"\")","v":0.1},{"$f":"IFERROR(IF(M22=\"\",\"\",((S41+S42)/(B6+B12))),\"\")","v":0.5},{"$f":"IFERROR(IF(N22=\"\",\"\",((R42+T41)/(B12+B6))),\"\")","v":0.4},null,"0 голов","пропустят","забьют",null,null,"Х",{"$f":"AVERAGE(C23,H23,M23)","v":0.39629629629629631}]
[null,null,null,null,null,null,null,null,null,null,null,null,null,null,{"$f":"A2","v":"Жарково"},{"$f":"B4/C4","v":1.4285714285714286},{"$f":"D4/B4","v":1.2},{"$f":"C4/B4","v":0.7},null,null,"П2",{"$f":"AVERAGE(D23,I23,N23)","v":0.39629629629629637},null,null,null,null,null,null,null,null,null,{"$f":"AK24","v":6.2432733808546269E-2}," 0 - 0",{"$f":"G33","v":9.5369162215549627E-2},{"$f":"G114","v":2.4723526470339392E-2},{"$f":"G141","v":6.720551273974977E-2},{"$f":"AVERAGE(AH24,AI24,AJ24)","v":6.2432733808546269E-2},{"$f":"LARGE(AK24:AK39,1)","v":0.10736737740224039},{"$f":"VLOOKUP(AL24,AF24:AG39,2,FALSE)","v":" 1 - 1"}]
[null,null,null,null,null,null,null,null,null,null,null,null,null,null,{"$f":"A8","v":"Нови Белград"},{"$f":"B11/C11","v":1},{"$f":"D11/B11","v":1.375},{"$f":"C11/B11","v":1},null,null,null,null,null,null,null,null,null,null,null,null,null,{"$f":"AK25","v":6.728931551096895E-2}," 1 - 0",{"$f":"G34","v":0.10252184938171584},{"$f":"G115","v":3.2140584411441214E-2},{"$f":"G142","v":6.720551273974977E-2},{"$f":"AVERAGE(AH25:AJ25)","v":6.728931551096895E-2},{"$f":"LARGE(AK24:AK39,2)","v":9.8393839003738284E-2},{"$f":"VLOOKUP(AL25,AF24:AG39,2,FALSE)","v":" 0  -1"}]
[null,null,null,null,null,null,null,null,null,null,null,null,null,null,null,null,null,null,null,null,null,null,null,null,null,null,null,null,null,null,null,3.6533210093327974E-2," 2 - 0",{"$f":"G35","v":5.5105494042672259E-2},{"$f":"G116","v":2.0891379867436794E-2},{"$f":"G143","v":3.3602756369874878E-2},3.6533210093327974E-2,{"$f":"LARGE(AK24:AK39,3)","v":9.1002629904821664E-2},{"$f":"VLOOKUP(AL26,AF24:AG39,2,FALSE)","v":" 1 - 2"}]
["Общая",null,null,null,null,null,null,null,null,null,null,null,null,null,null,null,null,"Атака","Защита",null,"Победа по очкам",null,null,null,null,null,null,null,null,null,null,1.3333328477046158E-2," 3 - 0",{"$f":"G36","v":1.9746135365290893E-2},{"$f":"G117","v":9.0529312758892821E-3},{"$f":"G144","v":1.1200918789958296E-2},1.3333328477046158E-2,{"$f":"LARGE(AK24:AK39,4)","v":8.1944323102280767E-2},{"$f":"VLOOKUP(AL27,AF24:AG39,2,FALSE)","v":" 0 - 2"}]
[null,null,"Команда","Забито","Пропущено","Игры",null,"Средний",null,null,"Алгоритм3",null,null,null,null,null,{"$f":"A2","v":"Жарково"},{"$f":"A197","v":0.22375241222997275},{"$f":"A224","v":0.28059913188153063},null,{"$f":"A2","v":"Жарково"},null,{"$f":"A251","v":0.25581011250993557},null,null,null,null,null,null,null,null,9.8393839003738284E-2," 0  -1",{"$f":"H33","v":0.12159568182482576},{"$f":"H114","v":5.933646352881454E-2},{"$f":"H141","v":0.11424937165757459},9.8393839003738284E-2]
[null,"Дом",{"$f":"A2","v":"Жарково"},{"$f":"C3","v":21},{"$f":"D3","v":21},{"$f":"B3","v":20},null,{"$f":"(D29+E30)/(F30+F29)","v":1.075},null,null,1,"х",2,null,null,null,{"$f":"A8","v":"Нови Белград"},{"$f":"C197","v":0.2632248871670545},{"$f":"C224","v":0.31511871337567354},null,{"$f":"A8","v":"Нови Белград"},null,{"$f":"C251","v":0.29260067505448273},null,null,null,null,null,null,null,null,8.1944323102280767E-2," 0 - 2",{"$f":"I33","v":7.7517247163326433E-2},{"$f":"I114","v":7.1203756234577462E-2},{"$f":"I141","v":9.7111965908938419E-2},8.1944323102280767E-2,null,{"$f":"AM24&\" / \"&AM25&\" / \"&AM26&\" / \"&AM27","v":" 1 - 1 /  0  -1 /  1 - 2 /  0 - 2"}]
[null,"Гости",{"$f":"A8","v":"Нови Белград"},{"$f":"C9","v":30},{"$f":"D9","v":22},{"$f":"B9","v":20},null,{"$f":"(D30+E29)/(F29+F30)","v":1.2749999999999999},null,null,{"$f":"A170","v":0.14076213662229031},{"$f":"B170","v":0.59067472795272591},{"$f":"C170","v":0.26856313542498378},null,null,null,null,null,null,null,null,null,null,null,null,null,null,null,null,null,null,4.831264968238027E-2," 0 - 3",{"$f":"J33","v":3.2944830044413745E-2},{"$f":"J114","v":5.6963004987661964E-2},{"$f":"J141","v":5.5030114015065107E-2},4.831264968238027E-2]
[null,null,null,null,null,null,null,null,null,null,null,null,null,null,null,null,"Пиччетто",null,null,null,null,"ТБ2.5",{"$f":"IFERROR(IF(V31=\"\",\"\",((C4+D11)/(B4+B11))),\"\")","v":1},{"$f":"IFERROR(IF(V31=\"\",\"\",((C11+D4)/(B4+B11))),\"\")","v":1.1111111111111112},null,null,null,null,null,null,null,0.10736737740224039," 1 - 1",{"$f":"H34","v":0.13071535796168768},{"$f":"H115","v":7.7137402587458909E-2},{"$f":"H142","v":0.11424937165757459},0.10736737740224039]
[null,null,null,null,null,null,0,1,2,3,4,5,6,7,8,9,"ОБЩАЯ","В","Н","П",null,null,null,null,null,null,null,null,null,null,null,5.1171197116415573E-2," 2 - 2",{"$f":"I35","v":4.4790434376559544E-2},{"$f":"I116","v":6.016717401821798E-2},{"$f":"I143","v":4.8555982954469203E-2},5.1171197116415573E-2]
[null,null,null,null,null,0,{"$f":"POISSON(F33,H29,0)*POISSON(G32,H30,0)","v":9.5369162215549627E-2},{"$f":"POISSON(F33,H29,0)*POISSON(H32,H30,0)","v":0.12159568182482576},{"$f":"POISSON(F33,H29,0)*POISSON(I32,H30,0)","v":7.7517247163326433E-2},{"$f":"POISSON(F33,H29,0)*POISSON(J32,H30,0)","v":3.2944830044413745E-2},{"$f":"POISSON(F33,H29,0)*POISSON(K32,H30,0)","v":1.0501164576656875E-2},{"$f":"POISSON(F33,H29,0)*POISSON(L32,H30,0)","v":2.6777969670475021E-3},{"$f":"POISSON(F33,H29,0)*POISSON(M32,H30,0)","v":5.6903185549759486E-4},{"$f":"POISSON(F33,H29,0)*POISSON(N32,H30,0)","v":1.0364508796563327E-4},{"$f":"POISSON(F33,H29,0)*POISSON(O32,H30,0)","v":1.6518435894522802E-5},{"$f":"POISSON(F33,H29,0)*POISSON(P32,H30,0)","v":2.3401117517240601E-6},"Team 1",{"$f":"'Incognito DATA'!C2","v":7},{"$f":"'Incognito DATA'!D2","v":5},{"$f":"'Incognito DATA'!E2","v":8},null,null,null,null,null,null,null,null,null,null,null,1.2283616410252213E-2," 3 - 3",{"$f":"J36","v":6.8212099019302162E-3},{"$f":"J117","v":2.0857953659648903E-2},{"$f":"J144","v":9.1716856691775178E-3},1.2283616410252213E-2]
[{"$f":"\"1\"","v":"1"},{"$f":"\"X\"","v":"X"},{"$f":"\"2\"","v":"2"},null,null,1,{"$f":"POISSON(F34,H29,0)*POISSON(G32,H30,0)","v":0.10252184938171584},{"$f":"POISSON(F34,H29,0)*POISSON(H32,H30,0)","v":0.13071535796168768},{"$f":"POISSON(F34,H29,0)*POISSON(I32,H30,0)","v":8.3331040700575912E-2},{"$f":"POISSON(F34,H29,0)*POISSON(J32,H30,0)","v":3.5415692297744772E-2},{"$f":"POISSON(F34,H29,0)*POISSON(K32,H30,0)","v":1.1288751919906139E-2},{"$f":"POISSON(F34,H29,0)*POISSON(L32,H30,0)","v":2.8786317395760644E-3},{"$f":"POISSON(F34,H29,0)*POISSON(M32,H30,0)","v":6.1170924465991439E-4},{"$f":"POISSON(F34,H29,0)*POISSON(N32,H30,0)","v":1.1141846956305575E-4},{"$f":"POISSON(F34,H29,0)*POISSON(O32,H30,0)","v":1.775731858661201E-5},{"$f":"POISSON(F34,H29,0)*POISSON(P32,H30,0)","v":2.5156201331033645E-6},"Team 2",{"$f":"'Incognito DATA'!C8","v":8},{"$f":"'Incognito DATA'!D8","v":7},{"$f":"'Incognito DATA'!E8","v":5},null,null,null,null,null,null,null,null,null,null,null,5.9174500805014241E-2," 2 - 1",{"$f":"H35","v":7.0259504904407119E-2},{"$f":"H116","v":5.0139311681848306E-2},{"$f":"H143","v":5.7124685828787283E-2},5.9174500805014241E-2]
[{"$f":"SUM(G34:G42,H35:H42,I36:I42,J37:J42,K38:K42,L39:L42,M40:M42,N41:N42,O42)","v":0.31198084944024879},{"$f":"SUM(G33,H34,I35,J36,K37,L38,M39,N40,O41,P42)","v":0.27831378760494541},{"$f":"1-B35-A35","v":0.40970536295480581},null,null,2,{"$f":"POISSON(F35,H29,0)*POISSON(G32,H30,0)","v":5.5105494042672259E-2},{"$f":"POISSON(F35,H29,0)*POISSON(H32,H30,0)","v":7.0259504904407119E-2},{"$f":"POISSON(F35,H29,0)*POISSON(I32,H30,0)","v":4.4790434376559544E-2},{"$f":"POISSON(F35,H29,0)*POISSON(J32,H30,0)","v":1.9035934610037809E-2},{"$f":"POISSON(F35,H29,0)*POISSON(K32,H30,0)","v":6.067704156949549E-3},{"$f":"POISSON(F35,H29,0)*POISSON(L32,H30,0)","v":1.5472645600221344E-3},{"$f":"POISSON(F35,H29,0)*POISSON(M32,H30,0)","v":3.2879371900470394E-4},{"$f":"POISSON(F35,H29,0)*POISSON(N32,H30,0)","v":5.9887427390142453E-5},{"$f":"POISSON(F35,H29,0)*POISSON(O32,H30,0)","v":9.5445587403039534E-6},{"$f":"POISSON(F35,H29,0)*POISSON(P32,H30,0)","v":1.3521458215430581E-6},null,null,null,null,null,null,null,null,null,null,null,null,null,null,null,2.1981639865269752E-2," 3 - 1",{"$f":"H36","v":2.5176322590745887E-2},{"$f":"H117","v":2.1727035062134276E-2},{"$f":"H144","v":1.9041561942929098E-2},2.1981639865269752E-2]
[{"$f":"1/A35","v":3.2053249479709556},{"$f":"1/B35","v":3.593066691397472},{"$f":"1/C35","v":2.4407783993550241},null,null,3,{"$f":"POISSON(F36,H29,0)*POISSON(G32,H30,0)","v":1.9746135365290893E-2},{"$f":"POISSON(F36,H29,0)*POISSON(H32,H30,0)","v":2.5176322590745887E-2},{"$f":"POISSON(F36,H29,0)*POISSON(I32,H30,0)","v":1.6049905651600506E-2},{"$f":"POISSON(F36,H29,0)*POISSON(J32,H30,0)","v":6.8212099019302162E-3},{"$f":"POISSON(F36,H29,0)*POISSON(K32,H30,0)","v":2.1742606562402552E-3},{"$f":"POISSON(F36,H29,0)*POISSON(L32,H30,0)","v":5.5443646734126481E-4},{"$f":"POISSON(F36,H29,0)*POISSON(M32,H30,0)","v":1.1781774931001893E-4},{"$f":"POISSON(F36,H29,0)*POISSON(N32,H30,0)","v":2.1459661481467714E-5},{"$f":"POISSON(F36,H29,0)*POISSON(O32,H30,0)","v":3.420133548608917E-6},{"$f":"POISSON(F36,H29,0)*POISSON(P32,H30,0)","v":4.8451891938626248E-7},"Д\\Г","В","Н","П",null,null,null,null,null,null,null,null,null,null,null,1.943589179255046E-2," 3 - 2",{"$f":"I36","v":1.6049905651600506E-2},{"$f":"I117","v":2.6072442074561136E-2},{"$f":"I144","v":1.6185327651489737E-2},1.943589179255046E-2]
[null,null,null,null,null,4,{"$f":"POISSON(F37,H29,0)*POISSON(G32,H30,0)","v":5.3067738794219275E-3},{"$f":"POISSON(F37,H29,0)*POISSON(H32,H30,0)","v":6.766136696262956E-3},{"$f":"POISSON(F37,H29,0)*POISSON(I32,H30,0)","v":4.3134121438676357E-3},{"$f":"POISSON(F37,H29,0)*POISSON(J32,H30,0)","v":1.8332001611437454E-3},{"$f":"POISSON(F37,H29,0)*POISSON(K32,H30,0)","v":5.8433255136456849E-4},{"$f":"POISSON(F37,H29,0)*POISSON(L32,H30,0)","v":1.490048005979649E-4},{"$f":"POISSON(F37,H29,0)*POISSON(M32,H30,0)","v":3.1663520127067581E-5},{"$f":"POISSON(F37,H29,0)*POISSON(N32,H30,0)","v":5.7672840231444479E-6},{"$f":"POISSON(F37,H29,0)*POISSON(O32,H30,0)","v":9.1916089118864634E-7},{"$f":"POISSON(F37,H29,0)*POISSON(P32,H30,0)","v":1.3021445958505805E-7},"Team 1",{"$f":"'Incognito DATA'!C3","v":2},{"$f":"'Incognito DATA'!D3","v":3},{"$f":"'Incognito DATA'!E3","v":5},null,null,null,null,null,null,null,null,null,null,null,9.1002629904821664E-2," 1 - 2",{"$f":"I34","v":8.3331040700575912E-2},{"$f":"I115","v":9.2564883104950701E-2},{"$f":"I142","v":9.7111965908938419E-2},9.1002629904821664E-2]
[null,null,null,null,null,5,{"$f":"POISSON(F38,H29,0)*POISSON(G32,H30,0)","v":1.1409563840757146E-3},{"$f":"POISSON(F38,H29,0)*POISSON(H32,H30,0)","v":1.454719389696536E-3},{"$f":"POISSON(F38,H29,0)*POISSON(I32,H30,0)","v":9.2738361093154184E-4},{"$f":"POISSON(F38,H29,0)*POISSON(J32,H30,0)","v":3.9413803464590538E-4},{"$f":"POISSON(F38,H29,0)*POISSON(K32,H30,0)","v":1.2563149854338227E-4},{"$f":"POISSON(F38,H29,0)*POISSON(L32,H30,0)","v":3.2036032128562468E-5},{"$f":"POISSON(F38,H29,0)*POISSON(M32,H30,0)","v":6.8076568273195324E-6},{"$f":"POISSON(F38,H29,0)*POISSON(N32,H30,0)","v":1.2399660649760567E-6},{"$f":"POISSON(F38,H29,0)*POISSON(O32,H30,0)","v":1.9761959160555901E-7},{"$f":"POISSON(F38,H29,0)*POISSON(P32,H30,0)","v":2.7996108810787487E-8},"Team 2",{"$f":"'Incognito DATA'!C10","v":2},{"$f":"'Incognito DATA'!D10","v":4},{"$f":"'Incognito DATA'!E10","v":2},null,null,null,null,null,null,null,null,null,null,null,5.4832570932256817E-2," 1 - 3",{"$f":"J34","v":3.5415692297744772E-2},{"$f":"J115","v":7.4051906483960553E-2},{"$f":"J142","v":5.5030114015065107E-2},5.4832570932256817E-2]
[null,null,null,null,null,6,{"$f":"POISSON(F39,H29,0)*POISSON(G32,H30,0)","v":2.0442135214689876E-4},{"$f":"POISSON(F39,H29,0)*POISSON(H32,H30,0)","v":2.6063722398729587E-4},{"$f":"POISSON(F39,H29,0)*POISSON(I32,H30,0)","v":1.6615623029190115E-4},{"$f":"POISSON(F39,H29,0)*POISSON(J32,H30,0)","v":7.0616397874058003E-5},{"$f":"POISSON(F39,H29,0)*POISSON(K32,H30,0)","v":2.2508976822355976E-5},{"$f":"POISSON(F39,H29,0)*POISSON(L32,H30,0)","v":5.7397890897007717E-6},{"$f":"POISSON(F39,H29,0)*POISSON(M32,H30,0)","v":1.2197051815614153E-6},{"$f":"POISSON(F39,H29,0)*POISSON(N32,H30,0)","v":2.2216058664154334E-7},{"$f":"POISSON(F39,H29,0)*POISSON(O32,H30,0)","v":3.5406843495995965E-8},{"$f":"POISSON(F39,H29,0)*POISSON(P32,H30,0)","v":5.0159694952660878E-9},null,null,null,null,null,null,null,null,null,null,null,null,null,null,null,3.156157694404825E-2," 2 - 3",{"$f":"J35","v":1.9035934610037809E-2},{"$f":"J116","v":4.8133739214574381E-2},{"$f":"J143","v":2.751505700753255E-2},3.156157694404825E-2]
["ТБ 0.5",{"$f":"SUM(G33:P42)-G33","v":0.90462963568596833},{"$f":"1/B40","v":1.1054247623025457},null,null,7,{"$f":"POISSON(F40,H29,0)*POISSON(G32,H30,0)","v":3.1393279079702357E-5},{"$f":"POISSON(F40,H29,0)*POISSON(H32,H30,0)","v":4.0026430826620506E-5},{"$f":"POISSON(F40,H29,0)*POISSON(I32,H30,0)","v":2.5516849651970574E-5},{"$f":"POISSON(F40,H29,0)*POISSON(J32,H30,0)","v":1.0844661102087497E-5},{"$f":"POISSON(F40,H29,0)*POISSON(K32,H30,0)","v":3.4567357262903875E-6},{"$f":"POISSON(F40,H29,0)*POISSON(L32,H30,0)","v":8.8146761020404852E-7},{"$f":"POISSON(F40,H29,0)*POISSON(M32,H30,0)","v":1.8731186716836053E-7},{"$f":"POISSON(F40,H29,0)*POISSON(N32,H30,0)","v":3.4117518662808496E-8},{"$f":"POISSON(F40,H29,0)*POISSON(O32,H30,0)","v":5.4374795368851043E-9},{"$f":"POISSON(F40,H29,0)*POISSON(P32,H30,0)","v":7.7030960105872199E-10},"Форма","В","Н","П"]
["ТБ 1.5",{"$f":"SUM(G35:G42,H34:H42,I33:I42,J33:P42)","v":0.68051210447942667},{"$f":"1/B41","v":1.4694815763269529},null,null,8,{"$f":"POISSON(F41,H29,0)*POISSON(G32,H30,0)","v":4.2184718763349884E-6},{"$f":"POISSON(F41,H29,0)*POISSON(H32,H30,0)","v":5.3785516423271099E-6},{"$f":"POISSON(F41,H29,0)*POISSON(I32,H30,0)","v":3.4288266719835331E-6},{"$f":"POISSON(F41,H29,0)*POISSON(J32,H30,0)","v":1.4572513355930018E-6},{"$f":"POISSON(F41,H29,0)*POISSON(K32,H30,0)","v":4.6449886322026908E-7},{"$f":"POISSON(F41,H29,0)*POISSON(L32,H30,0)","v":1.1844721012116856E-7},{"$f":"POISSON(F41,H29,0)*POISSON(M32,H30,0)","v":2.517003215074835E-8},{"$f":"POISSON(F41,H29,0)*POISSON(N32,H30,0)","v":4.5845415703148747E-9},{"$f":"POISSON(F41,H29,0)*POISSON(O32,H30,0)","v":7.3066131276893311E-10},{"$f":"POISSON(F41,H29,0)*POISSON(P32,H30,0)","v":1.0351035264226537E-10},"Team 1",{"$f":"'Incognito DATA'!C5","v":1},{"$f":"'Incognito DATA'!D5","v":3},{"$f":"'Incognito DATA'!E5","v":1}]
["ТБ 2.5",{"$f":"SUM(G36:G42,H35:H42,I34:I42,J33:P42)","v":0.41717400531173998},{"$f":"1/B42","v":2.3970812832710751},null,null,9,{"$f":"POISSON(F42,H29,0)*POISSON(G32,H30,0)","v":5.0387302967334646E-7},{"$f":"POISSON(F42,H29,0)*POISSON(H32,H30,0)","v":6.4243811283351659E-7},{"$f":"POISSON(F42,H29,0)*POISSON(I32,H30,0)","v":4.0955429693136691E-7},{"$f":"POISSON(F42,H29,0)*POISSON(J32,H30,0)","v":1.7406057619583098E-7},{"$f":"POISSON(F42,H29,0)*POISSON(K32,H30,0)","v":5.5481808662421089E-8},{"$f":"POISSON(F42,H29,0)*POISSON(L32,H30,0)","v":1.4147861208917372E-8},{"$f":"POISSON(F42,H29,0)*POISSON(M32,H30,0)","v":3.0064205068949452E-9},{"$f":"POISSON(F42,H29,0)*POISSON(N32,H30,0)","v":5.4759802089872173E-10},{"$f":"POISSON(F42,H29,0)*POISSON(O32,H30,0)","v":8.7273434580733773E-11},{"$f":"POISSON(F42,H29,0)*POISSON(P32,H30,0)","v":1.2363736565603933E-11},"Team 2",{"$f":"'Incognito DATA'!C11","v":3},{"$f":"'Incognito DATA'!D11","v":2},{"$f":"'Incognito DATA'!E11","v":0}]
["ТБ 3.5",{"$f":"SUM(G37:G42,H36:H42,I35:I42,J34:J42,K33:P42)","v":0.21089249429705242},{"$f":"1/B43","v":4.7417524427941515}]
["ТБ 4.5",{"$f":"SUM(G38:G42,H37:H42,I36:I42,J35:J42,K34:K42,L33:P42)","v":8.9702106575923438E-2},11.14801021036897,null,null,null,null,null,null,null,null,null,null,null,null,null,null,"забьют","пропустят"]
["ТБ 5.5",{"$f":"SUM(G39:G42,H38:H42,I37:I42,J36:J42,K35:K42,L34:L42,M33:P42)","v":3.2742624346992794E-2},30.541229359089044,null,null,null,null,null,null,null,null,null,null,null,null,null,null,{"$f":"(C3+C4+C6)/(B3+B4+B6)","v":0.91428571428571426},{"$f":"(D3+D4+D6)/(B3+B4+B6)","v":1.0857142857142856}]
[null,null,null,null,null,null,null,null,null,null,null,null,null,null,null,null,null,{"$f":"(C9+C11+C12)/(B9+B11+B12)","v":1.5151515151515151},{"$f":"(D9+D11+D12)/(B9+B11+B12)","v":1.1818181818181819}]
["ТМ 0.5",{"$f":"1-B40","v":9.5370364314031675E-2},10.485437559064371,null,"ОЗ",{"$f":"SUM(H34:P42)","v":0.47463963358927891},{"$f":"1/F47","v":2.1068615623981635}]
["ТМ 1.5",0.31948789552057333,3.1300090364005833,null,"НЕ ОЗ",{"$f":"1-F47","v":0.52536036641072115},{"$f":"1/F48","v":1.9034553497669267}]
["ТМ 2.5",0.58282599468826002,1.7157779665179083]
["ТМ 3.5",0.78910750570294752,1.267254452369182,null,"P",{"$f":"SUM(G33,G35,G37,G39,G41,H34,H36,H38,H40,H42,I33,I35,I37,I39,I41,J34,J36,J38,J40,J42,K33,K35,K37,K39,K41,L34,L36,L38,L40,L42)+SUM(M33,M35,M37,M39,M41,N34,N36,N38,N40,N42,O33,O35,O37,O39,O41,P34,P36,P38,P40,P42)","v":0.50454698502756179},{"$f":"1/F50","v":1.9819759698799373},null,null,null,null,null,null,null,null,null,"BTTS ALL",{"$f":"AVERAGE(F47,F74,F101,F128,F155)","v":0.5101899815903036}]
["ТМ 4.5",0.91029789342407652,1.0985414854015645,null,"D",{"$f":"1-F50","v":0.49545301497243821},{"$f":"1/F51","v":2.0183548586451319}]
["ТМ 5.5",0.96725737565300718,1.0338509947519272]
[]
["Дома",null,null,null,null,null,null,null,null,null,null,null,null,null,null,null,{"$f":"(H56+H57+H83+H84)/2","v":2.3484848484848486},null,"Очки команд"]
[null,null,"Команда","Забито","Пропущено","Игры",null,"Средний",null,null,null,null,null,null,null,null,null,null,"1К","Дом",{"$error":"#N/A"},{"$f":"U55/B4","v":{"$error":"#N/A"}},"XP1"]
[null,"Дом",{"$f":"A2","v":"Жарково"},{"$f":"C4","v":7},{"$f":"D4","v":12},{"$f":"B4","v":10},null,{"$f":"(D56+E57)/(F57+F56)","v":0.81818181818181823},null,null,null,null,null,null,null,null,null,null,"2К","Гости",{"$error":"#N/A"},{"$f":"U56/B11","v":{"$error":"#N/A"}},"XP2"]
[null,"Гости",{"$f":"A8","v":"Нови Белград"},{"$f":"C10","v":22},{"$f":"D10","v":11},{"$f":"B10","v":12},null,{"$f":"(D57+E56)/(F56+F57)","v":1.5454545454545454}]
[null,null,null,null,null,null,null,null,null,null,null,null,null,null,null,null,null,null,"1К","Общая",{"$error":"#N/A"},{"$f":"U58/B3","v":{"$error":"#N/A"}},"XP1"]
[null,null,null,null,null,null,0,1,2,3,4,5,6,7,8,9,null,null,"2К","Общая",{"$error":"#N/A"},{"$f":"U59/B9","v":{"$error":"#N/A"}},"XP2"]
[null,null,null,null,null,0,{"$f":"POISSON(F60,H56,0)*POISSON(G59,H57,0)","v":9.4077500440073861E-2},{"$f":"POISSON(F60,H56,0)*POISSON(H59,H57,0)","v":0.14539250068011414},{"$f":"POISSON(F60,H56,0)*POISSON(I59,H57,0)","v":0.11234875052554277},{"$f":"POISSON(F60,H56,0)*POISSON(J59,H57,0)","v":5.7876629058612926E-2},{"$f":"POISSON(F60,H56,0)*POISSON(K59,H57,0)","v":2.2361424863554993E-2},{"$f":"POISSON(F60,H56,0)*POISSON(L59,H57,0)","v":6.9117131396442717E-3},{"$f":"POISSON(F60,H56,0)*POISSON(M59,H57,0)","v":1.780289748090194E-3},{"$f":"POISSON(F60,H56,0)*POISSON(N59,H57,0)","v":3.9305098334458782E-4},{"$f":"POISSON(F60,H56,0)*POISSON(O59,H57,0)","v":7.5930303600658976E-5},{"$f":"POISSON(F60,H56,0)*POISSON(P59,H57,0)","v":1.3038536981931346E-5}]
[{"$f":"\"1\"","v":"1"},{"$f":"\"X\"","v":"X"},{"$f":"\"2\"","v":"2"},null,null,1,{"$f":"POISSON(F61,H56,0)*POISSON(G59,H57,0)","v":7.6972500360060425E-2},{"$f":"POISSON(F61,H56,0)*POISSON(H59,H57,0)","v":0.11895750055645701},{"$f":"POISSON(F61,H56,0)*POISSON(I59,H57,0)","v":9.1921704975444093E-2},{"$f":"POISSON(F61,H56,0)*POISSON(J59,H57,0)","v":4.7353605593410578E-2},{"$f":"POISSON(F61,H56,0)*POISSON(K59,H57,0)","v":1.8295711251999539E-2},{"$f":"POISSON(F61,H56,0)*POISSON(L59,H57,0)","v":5.6550380233453129E-3},{"$f":"POISSON(F61,H56,0)*POISSON(M59,H57,0)","v":1.4566007029828858E-3},{"$f":"POISSON(F61,H56,0)*POISSON(N59,H57,0)","v":3.215871681910264E-4},{"$f":"POISSON(F61,H56,0)*POISSON(O59,H57,0)","v":6.2124793855084618E-5},{"$f":"POISSON(F61,H56,0)*POISSON(P59,H57,0)","v":1.0667893894307465E-5},null,null,"1К","Форма 5",{"$error":"#N/A"},{"$f":"U61/5","v":{"$error":"#N/A"}},"XP1"]
[{"$f":"SUM(G61:G69,H62:H69,I63:I69,J64:J69,K65:K69,L66:L69,M67:M69,N68:N69,O69)","v":0.19841801262723663},{"$f":"SUM(G60,H61,I62,J63,K64,L65,M66,N67,O68,P69)","v":0.25636199752907152},{"$f":"1-B62-A62","v":0.5452199898436918},null,null,2,{"$f":"POISSON(F62,H56,0)*POISSON(G59,H57,0)","v":3.1488750147297448E-2},{"$f":"POISSON(F62,H56,0)*POISSON(H59,H57,0)","v":4.8664432045823325E-2},{"$f":"POISSON(F62,H56,0)*POISSON(I59,H57,0)","v":3.7604333853590764E-2},{"$f":"POISSON(F62,H56,0)*POISSON(J59,H57,0)","v":1.9371929560940689E-2},{"$f":"POISSON(F62,H56,0)*POISSON(K59,H57,0)","v":7.4846091485452652E-3},{"$f":"POISSON(F62,H56,0)*POISSON(L59,H57,0)","v":2.3134246459139917E-3},{"$f":"POISSON(F62,H56,0)*POISSON(M59,H57,0)","v":5.9588210576572598E-4},{"$f":"POISSON(F62,H56,0)*POISSON(N59,H57,0)","v":1.3155838698723806E-4},{"$f":"POISSON(F62,H56,0)*POISSON(O59,H57,0)","v":2.5414688395261887E-5},{"$f":"POISSON(F62,H56,0)*POISSON(P59,H57,0)","v":4.3641384113075991E-6},null,null,"2К","Форма 5",{"$error":"#N/A"},{"$f":"U62/5","v":{"$error":"#N/A"}},"XP2"]
[{"$f":"1/A62","v":5.0398650140634009},{"$f":"1/B62","v":3.9007341557580109},{"$f":"1/C62","v":1.8341220399616829},null,null,3,{"$f":"POISSON(F63,H56,0)*POISSON(G59,H57,0)","v":8.5878409492629419E-3},{"$f":"POISSON(F63,H56,0)*POISSON(H59,H57,0)","v":1.3272117830679091E-2},{"$f":"POISSON(F63,H56,0)*POISSON(I59,H57,0)","v":1.0255727414615666E-2},{"$f":"POISSON(F63,H56,0)*POISSON(J59,H57,0)","v":5.2832535166201892E-3},{"$f":"POISSON(F63,H56,0)*POISSON(K59,H57,0)","v":2.0412570405123455E-3},{"$f":"POISSON(F63,H56,0)*POISSON(L59,H57,0)","v":6.3093399434017972E-4},{"$f":"POISSON(F63,H56,0)*POISSON(M59,H57,0)","v":1.6251330157247078E-4},{"$f":"POISSON(F63,H56,0)*POISSON(N59,H57,0)","v":3.5879560087428571E-5},{"$f":"POISSON(F63,H56,0)*POISSON(O59,H57,0)","v":6.9312786532532438E-6},{"$f":"POISSON(F63,H56,0)*POISSON(P59,H57,0)","v":1.1902195667202544E-6}]
[null,null,null,null,null,4,{"$f":"POISSON(F64,H56,0)*POISSON(G59,H57,0)","v":1.7566038305310561E-3},{"$f":"POISSON(F64,H56,0)*POISSON(H59,H57,0)","v":2.7147513744570861E-3},{"$f":"POISSON(F64,H56,0)*POISSON(I59,H57,0)","v":2.0977624257168402E-3},{"$f":"POISSON(F64,H56,0)*POISSON(J59,H57,0)","v":1.0806654920359475E-3},{"$f":"POISSON(F64,H56,0)*POISSON(K59,H57,0)","v":4.1752984919570695E-4},{"$f":"POISSON(F64,H56,0)*POISSON(L59,H57,0)","v":1.2905468066049127E-4},{"$f":"POISSON(F64,H56,0)*POISSON(M59,H57,0)","v":3.3241357139823556E-5},{"$f":"POISSON(F64,H56,0)*POISSON(N59,H57,0)","v":7.3390009269740241E-6},{"$f":"POISSON(F64,H56,0)*POISSON(O59,H57,0)","v":1.4177615427108904E-6},{"$f":"POISSON(F64,H56,0)*POISSON(P59,H57,0)","v":2.4345400228368837E-7}]
[null,null,null,null,null,5,{"$f":"POISSON(F65,H56,0)*POISSON(G59,H57,0)","v":2.8744426317780933E-4},{"$f":"POISSON(F65,H56,0)*POISSON(H59,H57,0)","v":4.44232043092978E-4},{"$f":"POISSON(F65,H56,0)*POISSON(I59,H57,0)","v":3.4327021511730132E-4},{"$f":"POISSON(F65,H56,0)*POISSON(J59,H57,0)","v":1.7683617142406425E-4},{"$f":"POISSON(F65,H56,0)*POISSON(K59,H57,0)","v":6.8323066232024818E-5},{"$f":"POISSON(F65,H56,0)*POISSON(L59,H57,0)","v":2.1118038653534946E-5},{"$f":"POISSON(F65,H56,0)*POISSON(M59,H57,0)","v":5.4394948046984036E-6},{"$f":"POISSON(F65,H56,0)*POISSON(N59,H57,0)","v":1.2009274244139318E-6},{"$f":"POISSON(F65,H56,0)*POISSON(O59,H57,0)","v":2.3199734335269129E-7},{"$f":"POISSON(F65,H56,0)*POISSON(P59,H57,0)","v":3.9837927646421759E-8}]
[null,null,null,null,null,6,{"$f":"POISSON(F66,H56,0)*POISSON(G59,H57,0)","v":3.9196944978792166E-5},{"$f":"POISSON(F66,H56,0)*POISSON(H59,H57,0)","v":6.0577096785406064E-5},{"$f":"POISSON(F66,H56,0)*POISSON(I59,H57,0)","v":4.6809574788722883E-5},{"$f":"POISSON(F66,H56,0)*POISSON(J59,H57,0)","v":2.411402337600875E-5},{"$f":"POISSON(F66,H56,0)*POISSON(K59,H57,0)","v":9.3167817589124709E-6},{"$f":"POISSON(F66,H56,0)*POISSON(L59,H57,0)","v":2.879732543663855E-6},{"$f":"POISSON(F66,H56,0)*POISSON(M59,H57,0)","v":7.4174929154978198E-7},{"$f":"POISSON(F66,H56,0)*POISSON(N59,H57,0)","v":1.6376283060189973E-7},{"$f":"POISSON(F66,H56,0)*POISSON(O59,H57,0)","v":3.1636001366276075E-8},{"$f":"POISSON(F66,H56,0)*POISSON(P59,H57,0)","v":5.4324446790575097E-9}]
["ТБ 0.5",{"$f":"SUM(G60:P69)-G60","v":0.90591717976919883},{"$f":"1/B67","v":1.1038536660214024},null,null,7,{"$f":"POISSON(F67,H56,0)*POISSON(G59,H57,0)","v":4.5814611014172742E-6},{"$f":"POISSON(F67,H56,0)*POISSON(H59,H57,0)","v":7.0804398840085129E-6},{"$f":"POISSON(F67,H56,0)*POISSON(I59,H57,0)","v":5.4712490012793078E-6},{"$f":"POISSON(F67,H56,0)*POISSON(J59,H57,0)","v":2.8185222127802485E-6},{"$f":"POISSON(F67,H56,0)*POISSON(K59,H57,0)","v":1.0889744913014594E-6},{"$f":"POISSON(F67,H56,0)*POISSON(L59,H57,0)","v":3.3659211549317844E-7},{"$f":"POISSON(F67,H56,0)*POISSON(M59,H57,0)","v":8.6697969142182454E-8},{"$f":"POISSON(F67,H56,0)*POISSON(N59,H57,0)","v":1.914111007035195E-8},{"$f":"POISSON(F67,H56,0)*POISSON(O59,H57,0)","v":3.697714445408898E-9},{"$f":"POISSON(F67,H56,0)*POISSON(P59,H57,0)","v":6.3496106638334639E-10}]
["ТБ 1.5",{"$f":"SUM(G62:G69,H61:H69,I60:I69,J60:P69)","v":0.68355217872902474},{"$f":"1/B68","v":1.4629461087511539},null,null,8,{"$f":"POISSON(F68,H56,0)*POISSON(G59,H57,0)","v":4.6855852173585573E-7},{"$f":"POISSON(F68,H56,0)*POISSON(H59,H57,0)","v":7.2413589722814056E-7},{"$f":"POISSON(F68,H56,0)*POISSON(I59,H57,0)","v":5.5955955694901788E-7},{"$f":"POISSON(F68,H56,0)*POISSON(J59,H57,0)","v":2.8825795357979702E-7},{"$f":"POISSON(F68,H56,0)*POISSON(K59,H57,0)","v":1.1137239115583065E-7},{"$f":"POISSON(F68,H56,0)*POISSON(L59,H57,0)","v":3.4424193629984027E-8},{"$f":"POISSON(F68,H56,0)*POISSON(M59,H57,0)","v":8.8668377531777165E-9},{"$f":"POISSON(F68,H56,0)*POISSON(N59,H57,0)","v":1.9576135299223509E-9},{"$f":"POISSON(F68,H56,0)*POISSON(O59,H57,0)","v":3.7817534100772674E-10},{"$f":"POISSON(F68,H56,0)*POISSON(P59,H57,0)","v":6.4939199971023812E-11}]
["ТБ 2.5",{"$f":"SUM(G63:G69,H62:H69,I61:I69,J60:P69)","v":0.42075717749972724},{"$f":"1/B69","v":2.3766677159075873},null,null,9,{"$f":"POISSON(F69,H56,0)*POISSON(G59,H57,0)","v":4.2596229248714215E-8},{"$f":"POISSON(F69,H56,0)*POISSON(H59,H57,0)","v":6.5830536111649239E-8},{"$f":"POISSON(F69,H56,0)*POISSON(I59,H57,0)","v":5.0869050631728971E-8},{"$f":"POISSON(F69,H56,0)*POISSON(J59,H57,0)","v":2.6205268507254311E-8},{"$f":"POISSON(F69,H56,0)*POISSON(K59,H57,0)","v":1.0124762832348255E-8},{"$f":"POISSON(F69,H56,0)*POISSON(L59,H57,0)","v":3.1294721481803704E-9},{"$f":"POISSON(F69,H56,0)*POISSON(M59,H57,0)","v":8.0607615937979355E-10},{"$f":"POISSON(F69,H56,0)*POISSON(N59,H57,0)","v":1.7796486635657758E-10},{"$f":"POISSON(F69,H56,0)*POISSON(O59,H57,0)","v":3.4379576455247932E-11},{"$f":"POISSON(F69,H56,0)*POISSON(P59,H57,0)","v":5.9035636337294454E-12}]
["ТБ 3.5",{"$f":"SUM(G64:G69,H63:H69,I62:I69,J61:J69,K60:P69)","v":0.21370657047058425},{"$f":"1/B70","v":4.6793133116964487}]
["ТБ 4.5",{"$f":"SUM(G65:G69,H64:H69,I63:I69,J62:J69,K61:K69,L60:P69)","v":9.1358484498817699E-2},10.945890854975175]
["ТБ 5.5",{"$f":"SUM(G66:G69,H65:H69,I64:I69,J63:J69,K62:K69,L61:L69,M60:P69)","v":3.3521207493982609E-2},29.831860925043049]
[]
["ТМ 0.5",{"$f":"1-B67","v":9.4082820230801167E-2},10.628933077758829,null,"ОЗ",{"$f":"SUM(H61:P69)","v":0.4396264228185518},{"$f":"1/F74","v":2.2746585466559472}]
["ТМ 1.5",0.31644782127097526,3.1600786378734358,null,"НЕ ОЗ",{"$f":"1-F74","v":0.5603735771814482},{"$f":"1/F75","v":1.7845238261050296}]
["ТМ 2.5",0.57924282250027281,1.7263916981889387]
["ТМ 3.5",0.78629342952941572,1.2717898464425479,null,"P",{"$f":"SUM(G60,G62,G64,G66,G68,H61,H63,H65,H67,H69,I60,I62,I64,I66,I68,J61,J63,J65,J67,J69,K60,K62,K64,K66,K68,L61,L63,L65,L67,L69)+SUM(M60,M62,M64,M66,M68,N61,N63,N65,N67,N69,O60,O62,O64,O66,O68,P61,P63,P65,P67,P69)","v":0.50442223852542845},{"$f":"1/F77","v":1.9824661238633889}]
["ТМ 4.5",0.90864151550118233,1.1005440351780831,null,"D",{"$f":"1-F77","v":0.49557776147457155},{"$f":"1/F78","v":2.0178467997121996}]
["ТМ 5.5",0.96647879250601743,1.0346838520968105]
[]
["В гостях"]
[null,null,"Команда","Забито","Пропущено","Игры",null,"Средний"]
[null,"Дом",{"$f":"A2","v":"Жарково"},{"$f":"C5","v":14},{"$f":"D5","v":9},{"$f":"B5","v":10},null,{"$f":"(D83+E84)/(F84+F83)","v":1.3888888888888888}]
[null,"Гости",{"$f":"A8","v":"Нови Белград"},{"$f":"C11","v":8},{"$f":"D11","v":11},{"$f":"B11","v":8},null,{"$f":"(D84+E83)/(F83+F84)","v":0.94444444444444442}]
[]
[null,null,null,null,null,null,0,1,2,3,4,5,6,7,8,9]
[null,null,null,null,null,0,{"$f":"POISSON(F87,H83,0)*POISSON(G86,H84,0)","v":9.6971967864405081E-2},{"$f":"POISSON(F87,H83,0)*POISSON(H86,H84,0)","v":9.1584636316382556E-2},{"$f":"POISSON(F87,H83,0)*POISSON(I86,H84,0)","v":4.3248300482736202E-2},{"$f":"POISSON(F87,H83,0)*POISSON(J86,H84,0)","v":1.3615205707528066E-2},{"$f":"POISSON(F87,H83,0)*POISSON(K86,H84,0)","v":3.2147013476107925E-3},{"$f":"POISSON(F87,H83,0)*POISSON(L86,H84,0)","v":6.0722136565981668E-4},{"$f":"POISSON(F87,H83,0)*POISSON(M86,H84,0)","v":9.5581140890897017E-5},{"$f":"POISSON(F87,H83,0)*POISSON(N86,H84,0)","v":1.2895868215438507E-5},{"$f":"POISSON(F87,H83,0)*POISSON(O86,H84,0)","v":1.5224288865448179E-6},{"$f":"POISSON(F87,H83,0)*POISSON(P86,H84,0)","v":1.5976105599544404E-7}]
[{"$f":"\"1\"","v":"1"},{"$f":"\"X\"","v":"X"},{"$f":"\"2\"","v":"2"},null,null,1,{"$f":"POISSON(F88,H83,0)*POISSON(G86,H84,0)","v":0.13468328870056259},{"$f":"POISSON(F88,H83,0)*POISSON(H86,H84,0)","v":0.12720088377275354},{"$f":"POISSON(F88,H83,0)*POISSON(I86,H84,0)","v":6.0067084003800272E-2},{"$f":"POISSON(F88,H83,0)*POISSON(J86,H84,0)","v":1.8910007927122312E-2},{"$f":"POISSON(F88,H83,0)*POISSON(K86,H84,0)","v":4.4648629827927673E-3},{"$f":"POISSON(F88,H83,0)*POISSON(L86,H84,0)","v":8.4336300786085636E-4},{"$f":"POISSON(F88,H83,0)*POISSON(M86,H84,0)","v":1.3275158457069029E-4},{"$f":"POISSON(F88,H83,0)*POISSON(N86,H84,0)","v":1.7910928076997926E-5},{"$f":"POISSON(F88,H83,0)*POISSON(O86,H84,0)","v":2.1144845646455803E-6},{"$f":"POISSON(F88,H83,0)*POISSON(P86,H84,0)","v":2.2189035554922778E-7}]
[{"$f":"SUM(G88:G96,H89:H96,I90:I96,J91:J96,K92:K96,L93:L96,M94:M96,N95:N96,O96)","v":0.47189164740713874},{"$f":"SUM(G87,H88,I89,J90,K91,L92,M93,N94,O95,P96)","v":0.27249126624070658},{"$f":"1-B89-A89","v":0.25561708635215463},null,null,2,{"$f":"POISSON(F89,H83,0)*POISSON(G86,H84,0)","v":9.3530061597612929E-2},{"$f":"POISSON(F89,H83,0)*POISSON(H86,H84,0)","v":8.8333947064412194E-2},{"$f":"POISSON(F89,H83,0)*POISSON(I86,H84,0)","v":4.1713252780416862E-2},{"$f":"POISSON(F89,H83,0)*POISSON(J86,H84,0)","v":1.3131949949390497E-2},{"$f":"POISSON(F89,H83,0)*POISSON(K86,H84,0)","v":3.100599293606089E-3},{"$f":"POISSON(F89,H83,0)*POISSON(L86,H84,0)","v":5.8566875545892818E-4},{"$f":"POISSON(F89,H83,0)*POISSON(M86,H84,0)","v":9.218860039631271E-5},{"$f":"POISSON(F89,H83,0)*POISSON(N86,H84,0)","v":1.2438144497915229E-5},{"$f":"POISSON(F89,H83,0)*POISSON(O86,H84,0)","v":1.4683920587816532E-6},{"$f":"POISSON(F89,H83,0)*POISSON(P86,H84,0)","v":1.5409052468696378E-7}]
[{"$f":"1/A89","v":2.1191305366276589},{"$f":"1/B89","v":3.6698423908994013},{"$f":"1/C89","v":3.9121015510768138},null,null,3,{"$f":"POISSON(F90,H83,0)*POISSON(G86,H84,0)","v":4.3300954443339298E-2},{"$f":"POISSON(F90,H83,0)*POISSON(H86,H84,0)","v":4.089534586315377E-2},{"$f":"POISSON(F90,H83,0)*POISSON(I86,H84,0)","v":1.9311691102044833E-2},{"$f":"POISSON(F90,H83,0)*POISSON(J86,H84,0)","v":6.079606458051153E-3},{"$f":"POISSON(F90,H83,0)*POISSON(K86,H84,0)","v":1.4354626359287441E-3},{"$f":"POISSON(F90,H83,0)*POISSON(L86,H84,0)","v":2.7114294234209621E-4},{"$f":"POISSON(F90,H83,0)*POISSON(M86,H84,0)","v":4.2679907590885492E-5},{"$f":"POISSON(F90,H83,0)*POISSON(N86,H84,0)","v":5.7584002305163064E-6},{"$f":"POISSON(F90,H83,0)*POISSON(O86,H84,0)","v":6.7981113832483904E-7},{"$f":"POISSON(F90,H83,0)*POISSON(P86,H84,0)","v":7.1338205873594301E-8}]
[null,null,null,null,null,4,{"$f":"POISSON(F91,H83,0)*POISSON(G86,H84,0)","v":1.503505362615949E-2},{"$f":"POISSON(F91,H83,0)*POISSON(H86,H84,0)","v":1.4199772869150626E-2},{"$f":"POISSON(F91,H83,0)*POISSON(I86,H84,0)","v":6.7054482993211288E-3},{"$f":"POISSON(F91,H83,0)*POISSON(J86,H84,0)","v":2.1109744646010966E-3},{"$f":"POISSON(F91,H83,0)*POISSON(K86,H84,0)","v":4.984245263641476E-4},{"$f":"POISSON(F91,H83,0)*POISSON(L86,H84,0)","v":9.4146854979894597E-5},{"$f":"POISSON(F91,H83,0)*POISSON(M86,H84,0)","v":1.4819412357946364E-5},{"$f":"POISSON(F91,H83,0)*POISSON(N86,H84,0)","v":1.9994445244848302E-6},{"$f":"POISSON(F91,H83,0)*POISSON(O86,H84,0)","v":2.360455341405693E-7},{"$f":"POISSON(F91,H83,0)*POISSON(P86,H84,0)","v":2.4770210372775819E-8}]
[null,null,null,null,null,5,{"$f":"POISSON(F92,H83,0)*POISSON(G86,H84,0)","v":4.1764037850443034E-3},{"$f":"POISSON(F92,H83,0)*POISSON(H86,H84,0)","v":3.9443813525418415E-3},{"$f":"POISSON(F92,H83,0)*POISSON(I86,H84,0)","v":1.8626245275892026E-3},{"$f":"POISSON(F92,H83,0)*POISSON(J86,H84,0)","v":5.863817957225269E-4},{"$f":"POISSON(F92,H83,0)*POISSON(K86,H84,0)","v":1.3845125732337438E-4},{"$f":"POISSON(F92,H83,0)*POISSON(L86,H84,0)","v":2.6151904161081835E-5},{"$f":"POISSON(F92,H83,0)*POISSON(M86,H84,0)","v":4.1165034327628794E-6},{"$f":"POISSON(F92,H83,0)*POISSON(N86,H84,0)","v":5.5540125680134178E-7},{"$f":"POISSON(F92,H83,0)*POISSON(O86,H84,0)","v":6.5568203927935927E-8},{"$f":"POISSON(F92,H83,0)*POISSON(P86,H84,0)","v":6.8806139924377286E-9}]
[null,null,null,null,null,6,{"$f":"POISSON(F93,H83,0)*POISSON(G86,H84,0)","v":9.6676013542692086E-4},{"$f":"POISSON(F93,H83,0)*POISSON(H86,H84,0)","v":9.1305123901431399E-4},{"$f":"POISSON(F93,H83,0)*POISSON(I86,H84,0)","v":4.3116308509009266E-4},{"$f":"POISSON(F93,H83,0)*POISSON(J86,H84,0)","v":1.3573652678762179E-4},{"$f":"POISSON(F93,H83,0)*POISSON(K86,H84,0)","v":3.2048902158188468E-5},{"$f":"POISSON(F93,H83,0)*POISSON(L86,H84,0)","v":6.0536815187689359E-6},{"$f":"POISSON(F93,H83,0)*POISSON(M86,H84,0)","v":9.5289431313955422E-7},{"$f":"POISSON(F93,H83,0)*POISSON(N86,H84,0)","v":1.2856510574105118E-7},{"$f":"POISSON(F93,H83,0)*POISSON(O86,H84,0)","v":1.5177824983318483E-8},{"$f":"POISSON(F93,H83,0)*POISSON(P86,H84,0)","v":1.5927347204716944E-9}]
["ТБ 0.5",{"$f":"SUM(G87:P96)-G87","v":0.90302586887205616},{"$f":"1/B94","v":1.1073879879532924},null,null,7,{"$f":"POISSON(F94,H83,0)*POISSON(G86,H84,0)","v":1.9181748718788145E-4},{"$f":"POISSON(F94,H83,0)*POISSON(H86,H84,0)","v":1.8116096012188801E-4},{"$f":"POISSON(F94,H83,0)*POISSON(I86,H84,0)","v":8.5548231168669332E-5},{"$f":"POISSON(F94,H83,0)*POISSON(J86,H84,0)","v":2.6931850553099608E-5},{"$f":"POISSON(F94,H83,0)*POISSON(K86,H84,0)","v":6.3589091583707393E-6},{"$f":"POISSON(F94,H83,0)*POISSON(L86,H84,0)","v":1.201127285470029E-6},{"$f":"POISSON(F94,H83,0)*POISSON(M86,H84,0)","v":1.8906633197213412E-7},{"$f":"POISSON(F94,H83,0)*POISSON(N86,H84,0)","v":2.5508949551795915E-8},{"$f":"POISSON(F94,H83,0)*POISSON(O86,H84,0)","v":3.0114732109758946E-9},{"$f":"POISSON(F94,H83,0)*POISSON(P86,H84,0)","v":3.1601879374438436E-10}]
["ТБ 1.5",{"$f":"SUM(G89:G96,H88:H96,I87:I96,J87:P96)","v":0.67675794385511101},{"$f":"1/B95","v":1.4776331908326927},null,null,8,{"$f":"POISSON(F95,H83,0)*POISSON(G86,H84,0)","v":3.330164708122937E-5},{"$f":"POISSON(F95,H83,0)*POISSON(H86,H84,0)","v":3.1451555576716618E-5},{"$f":"POISSON(F95,H83,0)*POISSON(I86,H84,0)","v":1.4852123466782846E-5},{"$f":"POISSON(F95,H83,0)*POISSON(J86,H84,0)","v":4.6756684988020087E-6},{"$f":"POISSON(F95,H83,0)*POISSON(K86,H84,0)","v":1.1039772844393629E-6},{"$f":"POISSON(F95,H83,0)*POISSON(L86,H84,0)","v":2.0852904261632417E-7},{"$f":"POISSON(F95,H83,0)*POISSON(M86,H84,0)","v":3.2824015967384343E-8},{"$f":"POISSON(F95,H83,0)*POISSON(N86,H84,0)","v":4.4286370749645619E-9},{"$f":"POISSON(F95,H83,0)*POISSON(O86,H84,0)","v":5.2282521023886981E-10},{"$f":"POISSON(F95,H83,0)*POISSON(P86,H84,0)","v":5.4864373913955538E-11}]
["ТБ 2.5",{"$f":"SUM(G90:G96,H89:H96,I88:I96,J87:P96)","v":0.41277869800200867},{"$f":"1/B96","v":2.4226056355144903},null,null,9,{"$f":"POISSON(F96,H83,0)*POISSON(G86,H84,0)","v":5.1391430680909557E-6},{"$f":"POISSON(F96,H83,0)*POISSON(H86,H84,0)","v":4.8536351198636801E-6},{"$f":"POISSON(F96,H83,0)*POISSON(I86,H84,0)","v":2.2919943621578483E-6},{"$f":"POISSON(F96,H83,0)*POISSON(J86,H84,0)","v":7.2155378067932281E-7},{"$f":"POISSON(F96,H83,0)*POISSON(K86,H84,0)","v":1.7036686488261785E-7},{"$f":"POISSON(F96,H83,0)*POISSON(L86,H84,0)","v":3.2180407811161163E-8},{"$f":"POISSON(F96,H83,0)*POISSON(M86,H84,0)","v":5.065434562867958E-9},{"$f":"POISSON(F96,H83,0)*POISSON(N86,H84,0)","v":6.8343164737107484E-10},{"$f":"POISSON(F96,H83,0)*POISSON(O86,H84,0)","v":8.0682902814640471E-11},{"$f":"POISSON(F96,H83,0)*POISSON(P86,H84,0)","v":8.4667243694375894E-12}]
["ТБ 3.5",{"$f":"SUM(G91:G96,H90:H96,I89:I96,J88:J96,K87:P96)","v":0.20746150678292857},{"$f":"1/B97","v":4.8201712959036849}]
["ТБ 4.5",{"$f":"SUM(G92:G96,H91:H96,I90:I96,J89:J96,K88:K96,L87:P96)","v":8.7693145238465359E-2},11.4033998584574]
["ТБ 5.5",{"$f":"SUM(G93:G96,H92:H96,I91:I96,J90:J96,K89:K96,L88:L96,M87:P96)","v":3.180124318438262E-2},31.445311562256578]
[]
["ТМ 0.5",{"$f":"1-B94","v":9.6974131127943841E-2},10.312028459225269,null,"ОЗ",{"$f":"SUM(H88:P96)","v":0.4587228638876073},{"$f":"1/F101","v":2.1799654622077269}]
["ТМ 1.5",0.32324205614488899,3.0936568462853833,null,"НЕ ОЗ",{"$f":"1-F101","v":0.5412771361123927},{"$f":"1/F102","v":1.8474824323493251}]
["ТМ 2.5",0.58722130199799127,1.7029354973968924]
["ТМ 3.5",0.79253849321707137,1.2617683665317014,null,"P",{"$f":"SUM(G87,G89,G91,G93,G95,H88,H90,H92,H94,H96,I87,I89,I91,I93,I95,J88,J90,J92,J94,J96,K87,K89,K91,K93,K95,L88,L90,L92,L94,L96)+SUM(M87,M89,M91,M93,M95,N88,N90,N92,N94,N96,O87,O89,O91,O93,O95,P88,P90,P92,P94,P96)","v":0.50470057481442898},{"$f":"1/F104","v":1.9813728176705274}]
["ТМ 4.5",0.91230685476153461,1.0961224228238287,null,"D",{"$f":"1-F104","v":0.49529942518557102},{"$f":"1/F105","v":2.0189807400348498}]
["ТМ 5.5",0.9681987568156174,1.0328457798158883]
[]
["Дом/Гости"]
[null,null,"Команда","Забито","Пропущено","Игры",null,"Средний"]
[null,"Дом",{"$f":"A2","v":"Жарково"},{"$f":"C4","v":7},{"$f":"D4","v":12},{"$f":"B6","v":5},null,{"$f":"(D110+E111)/(F111+F110)","v":1.3},{"$f":"H110+H111","v":3.7}]
[null,"Гости",{"$f":"A8","v":"Нови Белград"},{"$f":"C12","v":12},{"$f":"D12","v":6},{"$f":"B12","v":5},null,{"$f":"(D111+E110)/(F110+F111)","v":2.4}]
[]
[null,null,null,null,null,null,0,1,2,3,4,5,6,7,8,9]
[null,null,null,null,null,0,{"$f":"POISSON(F114,H110,0)*POISSON(G113,H111,0)","v":2.4723526470339392E-2},{"$f":"POISSON(F114,H110,0)*POISSON(H113,H111,0)","v":5.933646352881454E-2},{"$f":"POISSON(F114,H110,0)*POISSON(I113,H111,0)","v":7.1203756234577462E-2},{"$f":"POISSON(F114,H110,0)*POISSON(J113,H111,0)","v":5.6963004987661964E-2},{"$f":"POISSON(F114,H110,0)*POISSON(K113,H111,0)","v":3.4177802992597178E-2},{"$f":"POISSON(F114,H110,0)*POISSON(L113,H111,0)","v":1.6405345436446638E-2},{"$f":"POISSON(F114,H110,0)*POISSON(M113,H111,0)","v":6.5621381745786566E-3},{"$f":"POISSON(F114,H110,0)*POISSON(N113,H111,0)","v":2.2498759455698244E-3},{"$f":"POISSON(F114,H110,0)*POISSON(O113,H111,0)","v":6.7496278367094691E-4},{"$f":"POISSON(F114,H110,0)*POISSON(P113,H111,0)","v":1.7999007564558584E-4}]
[{"$f":"\"1\"","v":"1"},{"$f":"\"X\"","v":"X"},{"$f":"\"2\"","v":"2"},null,null,1,{"$f":"POISSON(F115,H110,0)*POISSON(G113,H111,0)","v":3.2140584411441214E-2},{"$f":"POISSON(F115,H110,0)*POISSON(H113,H111,0)","v":7.7137402587458909E-2},{"$f":"POISSON(F115,H110,0)*POISSON(I113,H111,0)","v":9.2564883104950701E-2},{"$f":"POISSON(F115,H110,0)*POISSON(J113,H111,0)","v":7.4051906483960553E-2},{"$f":"POISSON(F115,H110,0)*POISSON(K113,H111,0)","v":4.4431143890376334E-2},{"$f":"POISSON(F115,H110,0)*POISSON(L113,H111,0)","v":2.1326949067380627E-2},{"$f":"POISSON(F115,H110,0)*POISSON(M113,H111,0)","v":8.5307796269522528E-3},{"$f":"POISSON(F115,H110,0)*POISSON(N113,H111,0)","v":2.9248387292407719E-3},{"$f":"POISSON(F115,H110,0)*POISSON(O113,H111,0)","v":8.7745161877223106E-4},{"$f":"POISSON(F115,H110,0)*POISSON(P113,H111,0)","v":2.339870983392616E-4}]
[{"$f":"SUM(G115:G123,H116:H123,I117:I123,J118:J123,K119:K123,L120:L123,M121:M123,N122:N123,O123)","v":0.19506370882970372},{"$f":"SUM(G114,H115,I116,J117,K118,L119,M120,N121,O122,P123)","v":0.18750789171982346},{"$f":"1-B116-A116","v":0.6174283994504729},null,null,2,{"$f":"POISSON(F116,H110,0)*POISSON(G113,H111,0)","v":2.0891379867436794E-2},{"$f":"POISSON(F116,H110,0)*POISSON(H113,H111,0)","v":5.0139311681848306E-2},{"$f":"POISSON(F116,H110,0)*POISSON(I113,H111,0)","v":6.016717401821798E-2},{"$f":"POISSON(F116,H110,0)*POISSON(J113,H111,0)","v":4.8133739214574381E-2},{"$f":"POISSON(F116,H110,0)*POISSON(K113,H111,0)","v":2.8880243528744628E-2},{"$f":"POISSON(F116,H110,0)*POISSON(L113,H111,0)","v":1.3862516893797413E-2},{"$f":"POISSON(F116,H110,0)*POISSON(M113,H111,0)","v":5.5450067575189667E-3},{"$f":"POISSON(F116,H110,0)*POISSON(N113,H111,0)","v":1.9011451740065023E-3},{"$f":"POISSON(F116,H110,0)*POISSON(O113,H111,0)","v":5.7034355220195036E-4},{"$f":"POISSON(F116,H110,0)*POISSON(P113,H111,0)","v":1.5209161392052008E-4}]
[{"$f":"1/A116","v":5.1265302295314656},{"$f":"1/B116","v":5.3331088671948379},{"$f":"1/C116","v":1.6196209971715354},null,null,3,{"$f":"POISSON(F117,H110,0)*POISSON(G113,H111,0)","v":9.0529312758892821E-3},{"$f":"POISSON(F117,H110,0)*POISSON(H113,H111,0)","v":2.1727035062134276E-2},{"$f":"POISSON(F117,H110,0)*POISSON(I113,H111,0)","v":2.6072442074561136E-2},{"$f":"POISSON(F117,H110,0)*POISSON(J113,H111,0)","v":2.0857953659648903E-2},{"$f":"POISSON(F117,H110,0)*POISSON(K113,H111,0)","v":1.2514772195789343E-2},{"$f":"POISSON(F117,H110,0)*POISSON(L113,H111,0)","v":6.0070906539788811E-3},{"$f":"POISSON(F117,H110,0)*POISSON(M113,H111,0)","v":2.4028362615915533E-3},{"$f":"POISSON(F117,H110,0)*POISSON(N113,H111,0)","v":8.2382957540281794E-4},{"$f":"POISSON(F117,H110,0)*POISSON(O113,H111,0)","v":2.4714887262084525E-4},{"$f":"POISSON(F117,H110,0)*POISSON(P113,H111,0)","v":6.5906366032225392E-5}]
[null,null,null,null,null,4,{"$f":"POISSON(F118,H110,0)*POISSON(G113,H111,0)","v":2.9422026646640162E-3},{"$f":"POISSON(F118,H110,0)*POISSON(H113,H111,0)","v":7.0612863951936382E-3},{"$f":"POISSON(F118,H110,0)*POISSON(I113,H111,0)","v":8.4735436742323679E-3},{"$f":"POISSON(F118,H110,0)*POISSON(J113,H111,0)","v":6.7788349393858929E-3},{"$f":"POISSON(F118,H110,0)*POISSON(K113,H111,0)","v":4.0673009636315359E-3},{"$f":"POISSON(F118,H110,0)*POISSON(L113,H111,0)","v":1.9523044625431361E-3},{"$f":"POISSON(F118,H110,0)*POISSON(M113,H111,0)","v":7.8092178501725472E-4},{"$f":"POISSON(F118,H110,0)*POISSON(N113,H111,0)","v":2.6774461200591582E-4},{"$f":"POISSON(F118,H110,0)*POISSON(O113,H111,0)","v":8.032338360177469E-5},{"$f":"POISSON(F118,H110,0)*POISSON(P113,H111,0)","v":2.1419568960473251E-5}]
[null,null,null,null,null,5,{"$f":"POISSON(F119,H110,0)*POISSON(G113,H111,0)","v":7.6497269281264411E-4},{"$f":"POISSON(F119,H110,0)*POISSON(H113,H111,0)","v":1.8359344627503459E-3},{"$f":"POISSON(F119,H110,0)*POISSON(I113,H111,0)","v":2.2031213553004156E-3},{"$f":"POISSON(F119,H110,0)*POISSON(J113,H111,0)","v":1.7624970842403322E-3},{"$f":"POISSON(F119,H110,0)*POISSON(K113,H111,0)","v":1.0574982505441994E-3},{"$f":"POISSON(F119,H110,0)*POISSON(L113,H111,0)","v":5.0759916026121539E-4},{"$f":"POISSON(F119,H110,0)*POISSON(M113,H111,0)","v":2.0303966410448621E-4},{"$f":"POISSON(F119,H110,0)*POISSON(N113,H111,0)","v":6.9613599121538106E-5},{"$f":"POISSON(F119,H110,0)*POISSON(O113,H111,0)","v":2.088407973646142E-5},{"$f":"POISSON(F119,H110,0)*POISSON(P113,H111,0)","v":5.5690879297230446E-6}]
[null,null,null,null,null,6,{"$f":"POISSON(F120,H110,0)*POISSON(G113,H111,0)","v":1.6574408344273957E-4},{"$f":"POISSON(F120,H110,0)*POISSON(H113,H111,0)","v":3.9778580026257496E-4},{"$f":"POISSON(F120,H110,0)*POISSON(I113,H111,0)","v":4.7734296031509005E-4},{"$f":"POISSON(F120,H110,0)*POISSON(J113,H111,0)","v":3.8187436825207199E-4},{"$f":"POISSON(F120,H110,0)*POISSON(K113,H111,0)","v":2.2912462095124321E-4},{"$f":"POISSON(F120,H110,0)*POISSON(L113,H111,0)","v":1.0997981805659666E-4},{"$f":"POISSON(F120,H110,0)*POISSON(M113,H111,0)","v":4.3991927222638682E-5},{"$f":"POISSON(F120,H110,0)*POISSON(N113,H111,0)","v":1.5082946476333257E-5},{"$f":"POISSON(F120,H110,0)*POISSON(O113,H111,0)","v":4.5248839428999743E-6},{"$f":"POISSON(F120,H110,0)*POISSON(P113,H111,0)","v":1.2066357181066599E-6}]
["ТБ 0.5",{"$f":"SUM(G114:P123)-G114","v":0.97507376006768387},{"$f":"1/B121","v":1.0255634403807419},null,null,7,{"$f":"POISSON(F121,H110,0)*POISSON(G113,H111,0)","v":3.0781044067937358E-5},{"$f":"POISSON(F121,H110,0)*POISSON(H113,H111,0)","v":7.3874505763049664E-5},{"$f":"POISSON(F121,H110,0)*POISSON(I113,H111,0)","v":8.8649406915659613E-5},{"$f":"POISSON(F121,H110,0)*POISSON(J113,H111,0)","v":7.0919525532527682E-5},{"$f":"POISSON(F121,H110,0)*POISSON(K113,H111,0)","v":4.2551715319516612E-5},{"$f":"POISSON(F121,H110,0)*POISSON(L113,H111,0)","v":2.042482335336796E-5},{"$f":"POISSON(F121,H110,0)*POISSON(M113,H111,0)","v":8.1699293413471852E-6},{"$f":"POISSON(F121,H110,0)*POISSON(N113,H111,0)","v":2.8011186313190342E-6},{"$f":"POISSON(F121,H110,0)*POISSON(O113,H111,0)","v":8.4033558939570982E-7},{"$f":"POISSON(F121,H110,0)*POISSON(P113,H111,0)","v":2.240894905055226E-7}]
["ТБ 1.5",{"$f":"SUM(G116:G123,H115:H123,I114:I123,J114:P123)","v":0.88359671212742819},{"$f":"1/B122","v":1.1317380273997497},null,null,8,{"$f":"POISSON(F122,H110,0)*POISSON(G113,H111,0)","v":5.0019196610398262E-6},{"$f":"POISSON(F122,H110,0)*POISSON(H113,H111,0)","v":1.2004607186495584E-5},{"$f":"POISSON(F122,H110,0)*POISSON(I113,H111,0)","v":1.4405528623794703E-5},{"$f":"POISSON(F122,H110,0)*POISSON(J113,H111,0)","v":1.152442289903576E-5},{"$f":"POISSON(F122,H110,0)*POISSON(K113,H111,0)","v":6.9146537394214565E-6},{"$f":"POISSON(F122,H110,0)*POISSON(L113,H111,0)","v":3.3190337949222972E-6},{"$f":"POISSON(F122,H110,0)*POISSON(M113,H111,0)","v":1.3276135179689193E-6},{"$f":"POISSON(F122,H110,0)*POISSON(N113,H111,0)","v":4.5518177758934363E-7},{"$f":"POISSON(F122,H110,0)*POISSON(O113,H111,0)","v":1.36554533276803E-7},{"$f":"POISSON(F122,H110,0)*POISSON(P113,H111,0)","v":3.6414542207147464E-8}]
["ТБ 2.5",{"$f":"SUM(G117:G123,H116:H123,I115:I123,J114:P123)","v":0.714364173437955},{"$f":"1/B123","v":1.399846236951374},null,null,9,{"$f":"POISSON(F123,H110,0)*POISSON(G113,H111,0)","v":7.2249950659463944E-7},{"$f":"POISSON(F123,H110,0)*POISSON(H113,H111,0)","v":1.7339988158271345E-6},{"$f":"POISSON(F123,H110,0)*POISSON(I113,H111,0)","v":2.0807985789925619E-6},{"$f":"POISSON(F123,H110,0)*POISSON(J113,H111,0)","v":1.6646388631940493E-6},{"$f":"POISSON(F123,H110,0)*POISSON(K113,H111,0)","v":9.9878331791642953E-7},{"$f":"POISSON(F123,H110,0)*POISSON(L113,H111,0)","v":4.7941599259988589E-7},{"$f":"POISSON(F123,H110,0)*POISSON(M113,H111,0)","v":1.9176639703995442E-7},{"$f":"POISSON(F123,H110,0)*POISSON(N113,H111,0)","v":6.5748478985127205E-8},{"$f":"POISSON(F123,H110,0)*POISSON(O113,H111,0)","v":1.9724543695538149E-8},{"$f":"POISSON(F123,H110,0)*POISSON(P113,H111,0)","v":5.2598783188101737E-9}]
["ТБ 3.5",{"$f":"SUM(G118:G123,H117:H123,I116:I123,J115:J123,K114:P123)","v":0.50564404238760441},{"$f":"1/B124","v":1.977675827600168}]
["ТБ 4.5",{"$f":"SUM(G119:G123,H118:H123,I117:I123,J116:J123,K115:K123,L114:P123)","v":0.31257792116603039},3.1992022861679832]
["ТБ 5.5",{"$f":"SUM(G120:G123,H119:H123,I118:I123,J117:J123,K116:K123,L115:L123,M114:P123)","v":0.16970899146206561},5.8924397074360444]
[]
["ТМ 0.5",{"$f":"1-B121","v":2.492623993231613E-2},40.118365333695181,null,"ОЗ",{"$f":"SUM(H115:P123)","v":0.66132609944919885},{"$f":"1/F128","v":1.512113314192308}]
["ТМ 1.5",0.11640328787257181,8.5908226329028867,null,"НЕ ОЗ",{"$f":"1-F128","v":0.33867390055080115},{"$f":"1/F129","v":2.9526928363055238}]
["ТМ 2.5",0.285635826562045,3.5009613886190247]
["ТМ 3.5",0.49435595761239559,2.0228339207839774,null,"P",{"$f":"SUM(G114,G116,G118,G120,G122,H115,H117,H119,H121,H123,I114,I116,I118,I120,I122,J115,J117,J119,J121,J123,K114,K116,K118,K120,K122,L115,L117,L119,L121,L123)+SUM(M114,M116,M118,M120,M122,N115,N117,N119,N121,N123,O114,O116,O118,O120,O122,P115,P117,P119,P121,P123)","v":0.50019944739966105},{"$f":"1/F131","v":1.9992025285085864}]
["ТМ 4.5",0.68742207883396955,1.4547103312367222,null,"D",{"$f":"1-F131","v":0.49980055260033895},{"$f":"1/F132","v":2.0007981079597585}]
["ТМ 5.5",0.83029100853793436,1.2043970002287601]
[]
["Форма"]
[null,null,"Команда","Забито","Пропущено","Игры",null,"Средний"]
[null,"Дом",{"$f":"C110","v":"Жарково"},{"$f":"C6","v":4},{"$f":"D6","v":5},{"$f":"B6","v":5},null,{"$f":"(D137+E138)/(F138+F137)","v":1}]
[null,"Гости",{"$f":"C111","v":"Нови Белград"},{"$f":"C12","v":12},{"$f":"D12","v":6},{"$f":"B12","v":5},null,{"$f":"(D138+E137)/(F137+F138)","v":1.7}]
[]
[null,null,null,null,null,null,0,1,2,3,4,5,6,7,8,9]
[null,null,null,null,null,0,{"$f":"POISSON(F141,H137,0)*POISSON(G140,H138,0)","v":6.720551273974977E-2},{"$f":"POISSON(F141,H137,0)*POISSON(H140,H138,0)","v":0.11424937165757459},{"$f":"POISSON(F141,H137,0)*POISSON(I140,H138,0)","v":9.7111965908938419E-2},{"$f":"POISSON(F141,H137,0)*POISSON(J140,H138,0)","v":5.5030114015065107E-2},{"$f":"POISSON(F141,H137,0)*POISSON(K140,H138,0)","v":2.338779845640266E-2},{"$f":"POISSON(F141,H137,0)*POISSON(L140,H138,0)","v":7.9518514751769024E-3},{"$f":"POISSON(F141,H137,0)*POISSON(M140,H138,0)","v":2.2530245846334577E-3},{"$f":"POISSON(F141,H137,0)*POISSON(N140,H138,0)","v":5.4716311341098235E-4},{"$f":"POISSON(F141,H137,0)*POISSON(O140,H138,0)","v":1.1627216159983382E-4},{"$f":"POISSON(F141,H137,0)*POISSON(P140,H138,0)","v":2.1962519413301931E-5}]
[{"$f":"\"1\"","v":"1"},{"$f":"\"X\"","v":"X"},{"$f":"\"2\"","v":"2"},null,null,1,{"$f":"POISSON(F142,H137,0)*POISSON(G140,H138,0)","v":6.720551273974977E-2},{"$f":"POISSON(F142,H137,0)*POISSON(H140,H138,0)","v":0.11424937165757459},{"$f":"POISSON(F142,H137,0)*POISSON(I140,H138,0)","v":9.7111965908938419E-2},{"$f":"POISSON(F142,H137,0)*POISSON(J140,H138,0)","v":5.5030114015065107E-2},{"$f":"POISSON(F142,H137,0)*POISSON(K140,H138,0)","v":2.338779845640266E-2},{"$f":"POISSON(F142,H137,0)*POISSON(L140,H138,0)","v":7.9518514751769024E-3},{"$f":"POISSON(F142,H137,0)*POISSON(M140,H138,0)","v":2.2530245846334577E-3},{"$f":"POISSON(F142,H137,0)*POISSON(N140,H138,0)","v":5.4716311341098235E-4},{"$f":"POISSON(F142,H137,0)*POISSON(O140,H138,0)","v":1.1627216159983382E-4},{"$f":"POISSON(F142,H137,0)*POISSON(P140,H138,0)","v":2.1962519413301931E-5}]
[{"$f":"SUM(G142:G150,H143:H150,I144:I150,J145:J150,K146:K150,L147:L150,M148:M150,N149:N150,O150)","v":0.22182535551593763},{"$f":"SUM(G141,H142,I143,J144,K145,L146,M147,N148,O149,P150)","v":0.24022655076145977},{"$f":"1-B143-A143","v":0.53794809372260255},null,null,2,{"$f":"POISSON(F143,H137,0)*POISSON(G140,H138,0)","v":3.3602756369874878E-2},{"$f":"POISSON(F143,H137,0)*POISSON(H140,H138,0)","v":5.7124685828787283E-2},{"$f":"POISSON(F143,H137,0)*POISSON(I140,H138,0)","v":4.8555982954469203E-2},{"$f":"POISSON(F143,H137,0)*POISSON(J140,H138,0)","v":2.751505700753255E-2},{"$f":"POISSON(F143,H137,0)*POISSON(K140,H138,0)","v":1.1693899228201328E-2},{"$f":"POISSON(F143,H137,0)*POISSON(L140,H138,0)","v":3.9759257375884503E-3},{"$f":"POISSON(F143,H137,0)*POISSON(M140,H138,0)","v":1.1265122923167286E-3},{"$f":"POISSON(F143,H137,0)*POISSON(N140,H138,0)","v":2.7358155670549112E-4},{"$f":"POISSON(F143,H137,0)*POISSON(O140,H138,0)","v":5.8136080799916895E-5},{"$f":"POISSON(F143,H137,0)*POISSON(P140,H138,0)","v":1.0981259706650964E-5}]
[{"$f":"1/A143","v":4.508050928957724},{"$f":"1/B143","v":4.1627372029871097},{"$f":"1/C143","v":1.8589154077673122},null,null,3,{"$f":"POISSON(F144,H137,0)*POISSON(G140,H138,0)","v":1.1200918789958296E-2},{"$f":"POISSON(F144,H137,0)*POISSON(H140,H138,0)","v":1.9041561942929098E-2},{"$f":"POISSON(F144,H137,0)*POISSON(I140,H138,0)","v":1.6185327651489737E-2},{"$f":"POISSON(F144,H137,0)*POISSON(J140,H138,0)","v":9.1716856691775178E-3},{"$f":"POISSON(F144,H137,0)*POISSON(K140,H138,0)","v":3.8979664094004438E-3},{"$f":"POISSON(F144,H137,0)*POISSON(L140,H138,0)","v":1.3253085791961503E-3},{"$f":"POISSON(F144,H137,0)*POISSON(M140,H138,0)","v":3.7550409743890962E-4},{"$f":"POISSON(F144,H137,0)*POISSON(N140,H138,0)","v":9.1193852235163725E-5},{"$f":"POISSON(F144,H137,0)*POISSON(O140,H138,0)","v":1.9378693599972304E-5},{"$f":"POISSON(F144,H137,0)*POISSON(P140,H138,0)","v":3.6604199022169888E-6}]
[null,null,null,null,null,4,{"$f":"POISSON(F145,H137,0)*POISSON(G140,H138,0)","v":2.8002296974895735E-3},{"$f":"POISSON(F145,H137,0)*POISSON(H140,H138,0)","v":4.7603904857322736E-3},{"$f":"POISSON(F145,H137,0)*POISSON(I140,H138,0)","v":4.0463319128724333E-3},{"$f":"POISSON(F145,H137,0)*POISSON(J140,H138,0)","v":2.292921417294379E-3},{"$f":"POISSON(F145,H137,0)*POISSON(K140,H138,0)","v":9.7449160235011073E-4},{"$f":"POISSON(F145,H137,0)*POISSON(L140,H138,0)","v":3.3132714479903753E-4},{"$f":"POISSON(F145,H137,0)*POISSON(M140,H138,0)","v":9.3876024359727391E-5},{"$f":"POISSON(F145,H137,0)*POISSON(N140,H138,0)","v":2.2798463058790928E-5},{"$f":"POISSON(F145,H137,0)*POISSON(O140,H138,0)","v":4.8446733999930743E-6},{"$f":"POISSON(F145,H137,0)*POISSON(P140,H138,0)","v":9.1510497555424699E-7}]
[null,null,null,null,null,5,{"$f":"POISSON(F146,H137,0)*POISSON(G140,H138,0)","v":5.6004593949791491E-4},{"$f":"POISSON(F146,H137,0)*POISSON(H140,H138,0)","v":9.5207809714645513E-4},{"$f":"POISSON(F146,H137,0)*POISSON(I140,H138,0)","v":8.0926638257448706E-4},{"$f":"POISSON(F146,H137,0)*POISSON(J140,H138,0)","v":4.58584283458876E-4},{"$f":"POISSON(F146,H137,0)*POISSON(K140,H138,0)","v":1.948983204700222E-4},{"$f":"POISSON(F146,H137,0)*POISSON(L140,H138,0)","v":6.6265428959807525E-5},{"$f":"POISSON(F146,H137,0)*POISSON(M140,H138,0)","v":1.8775204871945484E-5},{"$f":"POISSON(F146,H137,0)*POISSON(N140,H138,0)","v":4.559692611758187E-6},{"$f":"POISSON(F146,H137,0)*POISSON(O140,H138,0)","v":9.6893467999861528E-7},{"$f":"POISSON(F146,H137,0)*POISSON(P140,H138,0)","v":1.8302099511084944E-7}]
[null,null,null,null,null,6,{"$f":"POISSON(F147,H137,0)*POISSON(G140,H138,0)","v":9.3340989916319107E-5},{"$f":"POISSON(F147,H137,0)*POISSON(H140,H138,0)","v":1.5867968285774244E-4},{"$f":"POISSON(F147,H137,0)*POISSON(I140,H138,0)","v":1.3487773042908111E-4},{"$f":"POISSON(F147,H137,0)*POISSON(J140,H138,0)","v":7.6430713909812626E-5},{"$f":"POISSON(F147,H137,0)*POISSON(K140,H138,0)","v":3.2483053411670358E-5},{"$f":"POISSON(F147,H137,0)*POISSON(L140,H138,0)","v":1.1044238159967916E-5},{"$f":"POISSON(F147,H137,0)*POISSON(M140,H138,0)","v":3.1292008119909126E-6},{"$f":"POISSON(F147,H137,0)*POISSON(N140,H138,0)","v":7.5994876862636424E-7},{"$f":"POISSON(F147,H137,0)*POISSON(O140,H138,0)","v":1.6148911333310247E-7},{"$f":"POISSON(F147,H137,0)*POISSON(P140,H138,0)","v":3.0503499185141565E-8}]
["ТБ 0.5",{"$f":"SUM(G141:P150)-G141","v":0.93278240305648208},{"$f":"1/B148","v":1.0720613904413971},null,null,7,{"$f":"POISSON(F148,H137,0)*POISSON(G140,H138,0)","v":1.3334427130902751E-5},{"$f":"POISSON(F148,H137,0)*POISSON(H140,H138,0)","v":2.2668526122534672E-5},{"$f":"POISSON(F148,H137,0)*POISSON(I140,H138,0)","v":1.9268247204154478E-5},{"$f":"POISSON(F148,H137,0)*POISSON(J140,H138,0)","v":1.0918673415687537E-5},{"$f":"POISSON(F148,H137,0)*POISSON(K140,H138,0)","v":4.6404362016672011E-6},{"$f":"POISSON(F148,H137,0)*POISSON(L140,H138,0)","v":1.5777483085668478E-6},{"$f":"POISSON(F148,H137,0)*POISSON(M140,H138,0)","v":4.4702868742727402E-7},{"$f":"POISSON(F148,H137,0)*POISSON(N140,H138,0)","v":1.0856410980376649E-7},{"$f":"POISSON(F148,H137,0)*POISSON(O140,H138,0)","v":2.3069873333300394E-8},{"$f":"POISSON(F148,H137,0)*POISSON(P140,H138,0)","v":4.3576427407345162E-9}]
["ТБ 1.5",{"$f":"SUM(G143:G150,H142:H150,I141:I150,J141:P150)","v":0.75132751865915781},1.330977470098035,null,null,8,{"$f":"POISSON(F149,H137,0)*POISSON(G140,H138,0)","v":1.6668033913628376E-6},{"$f":"POISSON(F149,H137,0)*POISSON(H140,H138,0)","v":2.833565765316823E-6},{"$f":"POISSON(F149,H137,0)*POISSON(I140,H138,0)","v":2.4085309005193004E-6},{"$f":"POISSON(F149,H137,0)*POISSON(J140,H138,0)","v":1.3648341769609368E-6},{"$f":"POISSON(F149,H137,0)*POISSON(K140,H138,0)","v":5.8005452520839791E-7},{"$f":"POISSON(F149,H137,0)*POISSON(L140,H138,0)","v":1.9721853857085521E-7},{"$f":"POISSON(F149,H137,0)*POISSON(M140,H138,0)","v":5.5878585928409034E-8},{"$f":"POISSON(F149,H137,0)*POISSON(N140,H138,0)","v":1.3570513725470759E-8},{"$f":"POISSON(F149,H137,0)*POISSON(O140,H138,0)","v":2.8837341666625377E-9},{"$f":"POISSON(F149,H137,0)*POISSON(P140,H138,0)","v":5.4470534259181245E-10}]
["ТБ 2.5",{"$f":"SUM(G144:G150,H143:H150,I142:I150,J141:P150)","v":0.50636342472276974},1.9748661755092061,null,null,9,{"$f":"POISSON(F150,H137,0)*POISSON(G140,H138,0)","v":1.8520037681809328E-7},{"$f":"POISSON(F150,H137,0)*POISSON(H140,H138,0)","v":3.1484064059075849E-7},{"$f":"POISSON(F150,H137,0)*POISSON(I140,H138,0)","v":2.6761454450214476E-7},{"$f":"POISSON(F150,H137,0)*POISSON(J140,H138,0)","v":1.5164824188454871E-7},{"$f":"POISSON(F150,H137,0)*POISSON(K140,H138,0)","v":6.4450502800933172E-8},{"$f":"POISSON(F150,H137,0)*POISSON(L140,H138,0)","v":2.191317095231727E-8},{"$f":"POISSON(F150,H137,0)*POISSON(M140,H138,0)","v":6.2087317698232329E-9},{"$f":"POISSON(F150,H137,0)*POISSON(N140,H138,0)","v":1.5078348583856417E-9},{"$f":"POISSON(F150,H137,0)*POISSON(O140,H138,0)","v":3.2041490740694903E-10},{"$f":"POISSON(F150,H137,0)*POISSON(P140,H138,0)","v":6.0522815843534779E-11}]
["ТБ 3.5",{"$f":"SUM(G145:G150,H144:H150,I143:I150,J142:J150,K141:P150)","v":0.28589574018002067},3.4977785935891439]
["ТБ 4.5",{"$f":"SUM(G146:G150,H145:H150,I144:I150,J143:J150,K142:K150,L141:P150)","v":0.13708005311366508},7.2950073864562368]
["ТБ 5.5",{"$f":"SUM(G147:G150,H146:H150,I145:I150,J144:J150,K143:K150,L142:L150,M141:P150)","v":5.6719582097833031E-2},17.63059534315936]
[]
["ТМ 0.5",{"$f":"1-B148","v":6.7217596943517921E-2},{"$f":"1/B155","v":14.877056685621879},null,"ОЗ",{"$f":"SUM(H142:P150)","v":0.51663488820688108},{"$f":"1/F155","v":1.9356029235090302}]
["ТМ 1.5",0.24867248134084219,4.0213536882247656,null,"НЕ ОЗ",{"$f":"1-F155","v":0.48336511179311892},{"$f":"1/F156","v":2.0688294947277903}]
["ТМ 2.5",0.49363657527723026,2.0257818202356499]
["ТМ 3.5",0.71410425981997938,1.4003557411239822,null,"P",{"$f":"SUM(G141,G143,G145,G147,G149,H142,H144,H146,H148,H150,I141,I143,I145,I147,I149,J142,J144,J146,J148,J150,K141,K143,K145,K147,K149,L142,L144,L146,L148,L150)+SUM(M141,M143,M145,M147,M149,N142,N144,N146,N148,N150,O141,O143,O145,O147,O149,P142,P144,P146,P148,P150)","v":0.5022516529095411},{"$f":"1/F158","v":1.9910337660553339}]
["ТМ 4.5",0.86291994688633489,1.1588560487079822,null,"D",{"$f":"1-F158","v":0.4977483470904589},{"$f":"1/F159","v":2.0090473546429752}]
["ТМ 5.5",0.94328041790216699,1.0601301384205304]
[]
["Побед Дома\\выезд"]
[null,null,"Команда","Победы","Порожения","Игры",null,"Средний"]
[null,"Дом",{"$f":"A2","v":"Жарково"},{"$f":"AD16","v":2},{"$f":"AH16","v":5},{"$f":"B4","v":10},null,{"$f":"(D164+E165)/(F165+F164)","v":0.22222222222222221}]
[null,"Гости",{"$f":"A8","v":"Нови Белград"},{"$f":"AD18","v":2},{"$f":"AH18","v":2},{"$f":"B11","v":8},null,{"$f":"(D165+E164)/(F164+F165)","v":0.3888888888888889}]
[]
[null,null,null,null,null,null,0,1,2,3,4,5,6,7,8,9]
[null,null,null,null,null,0,{"$f":"POISSON(F168,H164,0)*POISSON(G167,H165,0)","v":0.54274748116422189},{"$f":"POISSON(F168,H164,0)*POISSON(H167,H165,0)","v":0.21106846489719741},{"$f":"POISSON(F168,H164,0)*POISSON(I167,H165,0)","v":4.104109039667727E-2},{"$f":"POISSON(F168,H164,0)*POISSON(J167,H165,0)","v":5.3201413477174256E-3},{"$f":"POISSON(F168,H164,0)*POISSON(K167,H165,0)","v":5.1723596436141625E-4},{"$f":"POISSON(F168,H164,0)*POISSON(L167,H165,0)","v":4.0229463894776824E-5},{"$f":"POISSON(F168,H164,0)*POISSON(M167,H165,0)","v":2.607465252439238E-6},{"$f":"POISSON(F168,H164,0)*POISSON(N167,H165,0)","v":1.4485918069106896E-7},{"$f":"POISSON(F168,H164,0)*POISSON(O167,H165,0)","v":7.0417657280380487E-9},{"$f":"POISSON(F168,H164,0)*POISSON(P167,H165,0)","v":3.0427382775473096E-10}]
[{"$f":"\"1\"","v":"1"},{"$f":"\"X\"","v":"X"},{"$f":"\"2\"","v":"2"},null,null,1,{"$f":"POISSON(F169,H164,0)*POISSON(G167,H165,0)","v":0.12061055136982705},{"$f":"POISSON(F169,H164,0)*POISSON(H167,H165,0)","v":4.6904103310488304E-2},{"$f":"POISSON(F169,H164,0)*POISSON(I167,H165,0)","v":9.1202423103727247E-3},{"$f":"POISSON(F169,H164,0)*POISSON(J167,H165,0)","v":1.1822536328260943E-3},{"$f":"POISSON(F169,H164,0)*POISSON(K167,H165,0)","v":1.1494132541364802E-4},{"$f":"POISSON(F169,H164,0)*POISSON(L167,H165,0)","v":8.9398808655059574E-6},{"$f":"POISSON(F169,H164,0)*POISSON(M167,H165,0)","v":5.79436722764275E-7},{"$f":"POISSON(F169,H164,0)*POISSON(N167,H165,0)","v":3.2190929042459757E-8},{"$f":"POISSON(F169,H164,0)*POISSON(O167,H165,0)","v":1.5648368284528994E-9},{"$f":"POISSON(F169,H164,0)*POISSON(P167,H165,0)","v":6.7616406167717979E-11}]
[{"$f":"SUM(G169:G177,H170:H177,I171:I177,J172:J177,K173:K177,L174:L177,M175:M177,N176:N177,O177)","v":0.14076213662229031},{"$f":"SUM(G168,H169,I170,J171,K172,L173,M174,N175,O176,P177)","v":0.59067472795272591},{"$f":"1-B170-A170","v":0.26856313542498378},null,null,2,{"$f":"POISSON(F170,H164,0)*POISSON(G167,H165,0)","v":1.3401172374425226E-2},{"$f":"POISSON(F170,H164,0)*POISSON(H167,H165,0)","v":5.2115670344986993E-3},{"$f":"POISSON(F170,H164,0)*POISSON(I167,H165,0)","v":1.0133602567080804E-3},{"$f":"POISSON(F170,H164,0)*POISSON(J167,H165,0)","v":1.3136151475845489E-4},{"$f":"POISSON(F170,H164,0)*POISSON(K167,H165,0)","v":1.2771258379294221E-5},{"$f":"POISSON(F170,H164,0)*POISSON(L167,H165,0)","v":9.9332009616732853E-7},{"$f":"POISSON(F170,H164,0)*POISSON(M167,H165,0)","v":6.4381858084919435E-8},{"$f":"POISSON(F170,H164,0)*POISSON(N167,H165,0)","v":3.5767698936066394E-9},{"$f":"POISSON(F170,H164,0)*POISSON(O167,H165,0)","v":1.7387075871698878E-10},{"$f":"POISSON(F170,H164,0)*POISSON(P167,H165,0)","v":7.5129340186353297E-12}]
[{"$f":"1/A170","v":7.1041831560380384},{"$f":"1/B170","v":1.6929791519369592},{"$f":"1/C170","v":3.7235192328893714},null,null,3,{"$f":"POISSON(F171,H164,0)*POISSON(G167,H165,0)","v":9.9267943514260988E-4},{"$f":"POISSON(F171,H164,0)*POISSON(H167,H165,0)","v":3.8604200255545939E-4},{"$f":"POISSON(F171,H164,0)*POISSON(I167,H165,0)","v":7.5063722719117106E-5},{"$f":"POISSON(F171,H164,0)*POISSON(J167,H165,0)","v":9.7304825747003674E-6},{"$f":"POISSON(F171,H164,0)*POISSON(K167,H165,0)","v":9.4601913920697991E-7},{"$f":"POISSON(F171,H164,0)*POISSON(L167,H165,0)","v":7.3579266382765108E-8},{"$f":"POISSON(F171,H164,0)*POISSON(M167,H165,0)","v":4.7690265248088495E-9},{"$f":"POISSON(F171,H164,0)*POISSON(N167,H165,0)","v":2.6494591804493636E-10},{"$f":"POISSON(F171,H164,0)*POISSON(O167,H165,0)","v":1.2879315460517694E-11},{"$f":"POISSON(F171,H164,0)*POISSON(P167,H165,0)","v":5.5651363101002462E-13}]
[null,null,null,null,null,4,{"$f":"POISSON(F172,H164,0)*POISSON(G167,H165,0)","v":5.5148857507922736E-5},{"$f":"POISSON(F172,H164,0)*POISSON(H167,H165,0)","v":2.144677791974773E-5},{"$f":"POISSON(F172,H164,0)*POISSON(I167,H165,0)","v":4.1702068177287253E-6},{"$f":"POISSON(F172,H164,0)*POISSON(J167,H165,0)","v":5.405823652611312E-7},{"$f":"POISSON(F172,H164,0)*POISSON(K167,H165,0)","v":5.255661884483218E-8},{"$f":"POISSON(F172,H164,0)*POISSON(L167,H165,0)","v":4.0877370212647254E-9},{"$f":"POISSON(F172,H164,0)*POISSON(M167,H165,0)","v":2.649459180449359E-10},{"$f":"POISSON(F172,H164,0)*POISSON(N167,H165,0)","v":1.4719217669163123E-11},{"$f":"POISSON(F172,H164,0)*POISSON(O167,H165,0)","v":7.1551752558431591E-13},{"$f":"POISSON(F172,H164,0)*POISSON(P167,H165,0)","v":3.0917423945001349E-14}]
[null,null,null,null,null,5,{"$f":"POISSON(F173,H164,0)*POISSON(G167,H165,0)","v":2.4510603336854539E-6},{"$f":"POISSON(F173,H164,0)*POISSON(H167,H165,0)","v":9.5319012976656547E-7},{"$f":"POISSON(F173,H164,0)*POISSON(I167,H165,0)","v":1.8534252523238774E-7},{"$f":"POISSON(F173,H164,0)*POISSON(J167,H165,0)","v":2.4025882900494711E-8},{"$f":"POISSON(F173,H164,0)*POISSON(K167,H165,0)","v":2.3358497264369851E-9},{"$f":"POISSON(F173,H164,0)*POISSON(L167,H165,0)","v":1.8167720094509888E-10},{"$f":"POISSON(F173,H164,0)*POISSON(M167,H165,0)","v":1.1775374135330481E-11},{"$f":"POISSON(F173,H164,0)*POISSON(N167,H165,0)","v":6.5418745196280529E-13},{"$f":"POISSON(F173,H164,0)*POISSON(O167,H165,0)","v":3.1800778914858475E-14},{"$f":"POISSON(F173,H164,0)*POISSON(P167,H165,0)","v":1.3741077308889486E-15}]
[null,null,null,null,null,6,{"$f":"POISSON(F174,H164,0)*POISSON(G167,H165,0)","v":9.0780012358720611E-8},{"$f":"POISSON(F174,H164,0)*POISSON(H167,H165,0)","v":3.5303338139502459E-8},{"$f":"POISSON(F174,H164,0)*POISSON(I167,H165,0)","v":6.8645379715699228E-9},{"$f":"POISSON(F174,H164,0)*POISSON(J167,H165,0)","v":8.8984751483313831E-10},{"$f":"POISSON(F174,H164,0)*POISSON(K167,H165,0)","v":8.6512952830999542E-11},{"$f":"POISSON(F174,H164,0)*POISSON(L167,H165,0)","v":6.7287852201888539E-12},{"$f":"POISSON(F174,H164,0)*POISSON(M167,H165,0)","v":4.3612496797520344E-13},{"$f":"POISSON(F174,H164,0)*POISSON(N167,H165,0)","v":2.4229164887511332E-14},{"$f":"POISSON(F174,H164,0)*POISSON(O167,H165,0)","v":1.1778066264762411E-15},{"$f":"POISSON(F174,H164,0)*POISSON(P167,H165,0)","v":5.0892878921812961E-17}]
["ТБ 0.5",{"$f":"SUM(G168:P177)-G168","v":0.45725251882039419},{"$f":"1/B175","v":2.1869753775873533},null,null,7,{"$f":"POISSON(F175,H164,0)*POISSON(G167,H165,0)","v":2.8819051542451018E-9},{"$f":"POISSON(F175,H164,0)*POISSON(H167,H165,0)","v":1.1207408933175396E-9},{"$f":"POISSON(F175,H164,0)*POISSON(I167,H165,0)","v":2.1792184036729935E-10},{"$f":"POISSON(F175,H164,0)*POISSON(J167,H165,0)","v":2.8249127455020293E-11},{"$f":"POISSON(F175,H164,0)*POISSON(K167,H165,0)","v":2.7464429470158614E-12},{"$f":"POISSON(F175,H164,0)*POISSON(L167,H165,0)","v":2.1361222921234478E-13},{"$f":"POISSON(F175,H164,0)*POISSON(M167,H165,0)","v":1.3845237078577901E-14},{"$f":"POISSON(F175,H164,0)*POISSON(N167,H165,0)","v":7.6917983769877316E-16},{"$f":"POISSON(F175,H164,0)*POISSON(O167,H165,0)","v":3.7390686554801342E-17},{"$f":"POISSON(F175,H164,0)*POISSON(P167,H165,0)","v":1.6156469498988258E-18}]
["ТБ 1.5",{"$f":"SUM(G170:G177,H169:H177,I168:I177,J168:P177)","v":0.12557350255337013},7.9634634669443018,null,null,8,{"$f":"POISSON(F176,H164,0)*POISSON(G167,H165,0)","v":8.0052920951252473E-11},{"$f":"POISSON(F176,H164,0)*POISSON(H167,H165,0)","v":3.1131691481042627E-11},{"$f":"POISSON(F176,H164,0)*POISSON(I167,H165,0)","v":6.0533844546471774E-12},{"$f":"POISSON(F176,H164,0)*POISSON(J167,H165,0)","v":7.8469798486167132E-13},{"$f":"POISSON(F176,H164,0)*POISSON(K167,H165,0)","v":7.6290081861551358E-14},{"$f":"POISSON(F176,H164,0)*POISSON(L167,H165,0)","v":5.9336730336762175E-15},{"$f":"POISSON(F176,H164,0)*POISSON(M167,H165,0)","v":3.8458991884938446E-16},{"$f":"POISSON(F176,H164,0)*POISSON(N167,H165,0)","v":2.1366106602743605E-17},{"$f":"POISSON(F176,H164,0)*POISSON(O167,H165,0)","v":1.0386301820778104E-18},{"$f":"POISSON(F176,H164,0)*POISSON(P167,H165,0)","v":4.4879081941633852E-20}]
["ТБ 2.5",{"$f":"SUM(G171:G177,H170:H177,I169:I177,J168:P177)","v":2.422713647177932E-2},41.276029511982877,null,null,9,{"$f":"POISSON(F177,H164,0)*POISSON(G167,H165,0)","v":1.9766153321296921E-12},{"$f":"POISSON(F177,H164,0)*POISSON(H167,H165,0)","v":7.6868374027265797E-13},{"$f":"POISSON(F177,H164,0)*POISSON(I167,H165,0)","v":1.494662828307946E-13},{"$f":"POISSON(F177,H164,0)*POISSON(J167,H165,0)","v":1.9375258885473379E-14},{"$f":"POISSON(F177,H164,0)*POISSON(K167,H165,0)","v":1.8837057249765779E-15},{"$f":"POISSON(F177,H164,0)*POISSON(L167,H165,0)","v":1.4651044527595607E-16},{"$f":"POISSON(F177,H164,0)*POISSON(M167,H165,0)","v":9.4960473789971528E-18},{"$f":"POISSON(F177,H164,0)*POISSON(N167,H165,0)","v":5.2755818772206462E-19},{"$f":"POISSON(F177,H164,0)*POISSON(O167,H165,0)","v":2.5645189680933607E-20},{"$f":"POISSON(F177,H164,0)*POISSON(P167,H165,0)","v":1.1081254800403427E-21}]
["ТБ 3.5",{"$f":"SUM(G172:G177,H171:H177,I170:I177,J169:J177,K168:P177)","v":3.5825063440478575E-3},279.13418818125655]
["ТБ 4.5",{"$f":"SUM(G173:G177,H172:H177,I171:I177,J170:J177,K169:K177,L168:P177)","v":4.2846563008888439E-4},2333.9094895255703]
["ТБ 5.5",{"$f":"SUM(G174:G177,H173:H177,I172:I177,J171:J177,K170:K177,L169:L177,M168:P177)","v":4.2971765049454227E-5},23271.094376717967]
[]
["ТМ 0.5",{"$f":"1-B175","v":0.54274748117960581},{"$f":"1/B182","v":1.8424774589954851},null,"ОЗ",{"$f":"SUM(H169:P177)","v":6.4200500238890026E-2},{"$f":"1/F182","v":15.576202619590198}]
["ТМ 1.5",0.87442649744662981,1.1436066986991489,null,"НЕ ОЗ",{"$f":"1-F182","v":0.93579949976110999},{"$f":"1/F183","v":1.0686049738809211}]
["ТМ 2.5",0.97577286352822068,1.0248286639005089]
["ТМ 3.5",0.99641749365595211,1.0035953868402123,null,"P",{"$f":"SUM(G168,G170,G172,G174,G176,H169,H171,H173,H175,H177,I168,I170,I172,I174,I176,J169,J171,J173,J175,J177,K168,K170,K172,K174,K176,L169,L171,L173,L175,L177)+SUM(M168,M170,M172,M174,M176,N169,N171,N173,N175,N177,O168,O170,O172,O174,O176,P169,P171,P173,P175,P177)","v":0.64728741414277202},{"$f":"1/F185","v":1.5449087656436808}]
["ТМ 4.5",0.99957153436991109,1.0004286492915777,null,"D",{"$f":"1-F185","v":0.35271258585722798},{"$f":"1/F186","v":2.8351695972787967}]
["ТМ 5.5",0.99995702823495058,1.0000429736117014]
[]
["Атака"]
[null,null,"Команда","Забито","Порожения","Игры",null,"Средний"]
[null,"Дом",{"$f":"C164","v":"Жарково"},{"$f":"C4","v":7},{"$f":"AH43","v":0},{"$f":"B4","v":10},null,{"$f":"(D191+E192)/(F192+F191)","v":0.3888888888888889}]
[null,"Гости",{"$f":"C165","v":"Нови Белград"},{"$f":"C11","v":8},{"$f":"AH45","v":0},{"$f":"B11","v":8},null,{"$f":"(D192+E191)/(F191+F192)","v":0.44444444444444442}]
[]
[null,null,null,null,null,null,0,1,2,3,4,5,6,7,8,9]
[null,null,null,null,null,0,{"$f":"POISSON(F195,H191,0)*POISSON(G194,H192,0)","v":0.43459820850707825},{"$f":"POISSON(F195,H191,0)*POISSON(H194,H192,0)","v":0.19315475933647919},{"$f":"POISSON(F195,H191,0)*POISSON(I194,H192,0)","v":4.2923279852550934E-2},{"$f":"POISSON(F195,H191,0)*POISSON(J194,H192,0)","v":6.3590044226001395E-3},{"$f":"POISSON(F195,H191,0)*POISSON(K194,H192,0)","v":7.0655604695557084E-4},{"$f":"POISSON(F195,H191,0)*POISSON(L194,H192,0)","v":6.2804981951606294E-5},{"$f":"POISSON(F195,H191,0)*POISSON(M194,H192,0)","v":4.6522208853041699E-6},{"$f":"POISSON(F195,H191,0)*POISSON(N194,H192,0)","v":2.9537910382883679E-7},{"$f":"POISSON(F195,H191,0)*POISSON(O194,H192,0)","v":1.6409950212713084E-8},{"$f":"POISSON(F195,H191,0)*POISSON(P194,H192,0)","v":8.1036791173891827E-10}]
[{"$f":"\"1\"","v":"1"},{"$f":"\"X\"","v":"X"},{"$f":"\"2\"","v":"2"},null,null,1,{"$f":"POISSON(F196,H191,0)*POISSON(G194,H192,0)","v":0.1690104144194193},{"$f":"POISSON(F196,H191,0)*POISSON(H194,H192,0)","v":7.511573974196413E-2},{"$f":"POISSON(F196,H191,0)*POISSON(I194,H192,0)","v":1.6692386609325364E-2},{"$f":"POISSON(F196,H191,0)*POISSON(J194,H192,0)","v":2.4729461643444987E-3},{"$f":"POISSON(F196,H191,0)*POISSON(K194,H192,0)","v":2.7477179603827755E-4},{"$f":"POISSON(F196,H191,0)*POISSON(L194,H192,0)","v":2.4424159647846892E-5},{"$f":"POISSON(F196,H191,0)*POISSON(M194,H192,0)","v":1.8091970109516215E-6},{"$f":"POISSON(F196,H191,0)*POISSON(N194,H192,0)","v":1.1486965148899208E-7},{"$f":"POISSON(F196,H191,0)*POISSON(O194,H192,0)","v":6.3816473049439772E-9},{"$f":"POISSON(F196,H191,0)*POISSON(P194,H192,0)","v":3.1514307678735709E-10}]
[{"$f":"SUM(G196:G204,H197:H204,I198:I204,J199:J204,K200:K204,L201:L204,M202:M204,N203:N204,O204)","v":0.22375241222997275},{"$f":"SUM(G195,H196,I197,J198,K199,L200,M201,N202,O203,P204)","v":0.51302270060297273},{"$f":"1-B197-A197","v":0.2632248871670545},null,null,2,{"$f":"POISSON(F197,H191,0)*POISSON(G194,H192,0)","v":3.2863136137109311E-2},{"$f":"POISSON(F197,H191,0)*POISSON(H194,H192,0)","v":1.4605838283159693E-2},{"$f":"POISSON(F197,H191,0)*POISSON(I194,H192,0)","v":3.2457418407021541E-3},{"$f":"POISSON(F197,H191,0)*POISSON(J194,H192,0)","v":4.8085064306698584E-4},{"$f":"POISSON(F197,H191,0)*POISSON(K194,H192,0)","v":5.342784922966508E-5},{"$f":"POISSON(F197,H191,0)*POISSON(L194,H192,0)","v":4.7491421537480071E-6},{"$f":"POISSON(F197,H191,0)*POISSON(M194,H192,0)","v":3.5178830768503753E-7},{"$f":"POISSON(F197,H191,0)*POISSON(N194,H192,0)","v":2.2335765567304016E-8},{"$f":"POISSON(F197,H191,0)*POISSON(O194,H192,0)","v":1.2408758648502179E-9},{"$f":"POISSON(F197,H191,0)*POISSON(P194,H192,0)","v":6.1277820486430554E-11}]
[{"$f":"1/A197","v":4.4692255606710507},{"$f":"1/B197","v":1.9492314839570775},{"$f":"1/C197","v":3.7990328755098086},null,null,3,{"$f":"POISSON(F198,H191,0)*POISSON(G194,H192,0)","v":4.2600361659215786E-3},{"$f":"POISSON(F198,H191,0)*POISSON(H194,H192,0)","v":1.8933494070762569E-3},{"$f":"POISSON(F198,H191,0)*POISSON(I194,H192,0)","v":4.2074431268361264E-4},{"$f":"POISSON(F198,H191,0)*POISSON(J194,H192,0)","v":6.2332490767942627E-5},{"$f":"POISSON(F198,H191,0)*POISSON(K194,H192,0)","v":6.9258323075491783E-6},{"$f":"POISSON(F198,H191,0)*POISSON(L194,H192,0)","v":6.1562953844881584E-7},{"$f":"POISSON(F198,H191,0)*POISSON(M194,H192,0)","v":4.5602188033245614E-8},{"$f":"POISSON(F198,H191,0)*POISSON(N194,H192,0)","v":2.8953770179838547E-9},{"$f":"POISSON(F198,H191,0)*POISSON(O194,H192,0)","v":1.6085427877688011E-10},{"$f":"POISSON(F198,H191,0)*POISSON(P194,H192,0)","v":7.9434211741669245E-12}]
[null,null,null,null,null,4,{"$f":"POISSON(F199,H191,0)*POISSON(G194,H192,0)","v":4.1417018279793109E-4},{"$f":"POISSON(F199,H191,0)*POISSON(H194,H192,0)","v":1.8407563679908047E-4},{"$f":"POISSON(F199,H191,0)*POISSON(I194,H192,0)","v":4.0905697066462327E-5},{"$f":"POISSON(F199,H191,0)*POISSON(J194,H192,0)","v":6.0601032691055315E-6},{"$f":"POISSON(F199,H191,0)*POISSON(K194,H192,0)","v":6.7334480767839217E-7},{"$f":"POISSON(F199,H191,0)*POISSON(L194,H192,0)","v":5.9852871793634861E-8},{"$f":"POISSON(F199,H191,0)*POISSON(M194,H192,0)","v":4.4335460587877669E-9},{"$f":"POISSON(F199,H191,0)*POISSON(N194,H192,0)","v":2.8149498785954136E-10},{"$f":"POISSON(F199,H191,0)*POISSON(O194,H192,0)","v":1.5638610436641118E-11},{"$f":"POISSON(F199,H191,0)*POISSON(P194,H192,0)","v":7.7227705859956193E-13}]
[null,null,null,null,null,5,{"$f":"POISSON(F200,H191,0)*POISSON(G194,H192,0)","v":3.2213236439839087E-5},{"$f":"POISSON(F200,H191,0)*POISSON(H194,H192,0)","v":1.4316993973261817E-5},{"$f":"POISSON(F200,H191,0)*POISSON(I194,H192,0)","v":3.1815542162804036E-6},{"$f":"POISSON(F200,H191,0)*POISSON(J194,H192,0)","v":4.7134136537487472E-7},{"$f":"POISSON(F200,H191,0)*POISSON(K194,H192,0)","v":5.237126281943051E-8},{"$f":"POISSON(F200,H191,0)*POISSON(L194,H192,0)","v":4.6552233617271565E-9},{"$f":"POISSON(F200,H191,0)*POISSON(M194,H192,0)","v":3.4483136012793749E-10},{"$f":"POISSON(F200,H191,0)*POISSON(N194,H192,0)","v":2.1894054611297661E-11},{"$f":"POISSON(F200,H191,0)*POISSON(O194,H192,0)","v":1.2163363672943093E-12},{"$f":"POISSON(F200,H191,0)*POISSON(P194,H192,0)","v":6.0065993446632596E-14}]
[null,null,null,null,null,6,{"$f":"POISSON(F201,H191,0)*POISSON(G194,H192,0)","v":2.0878949544340151E-6},{"$f":"POISSON(F201,H191,0)*POISSON(H194,H192,0)","v":9.2795331308178431E-7},{"$f":"POISSON(F201,H191,0)*POISSON(I194,H192,0)","v":2.0621184735150763E-7},{"$f":"POISSON(F201,H191,0)*POISSON(J194,H192,0)","v":3.0549903311334468E-8},{"$f":"POISSON(F201,H191,0)*POISSON(K194,H192,0)","v":3.3944337012593843E-9},{"$f":"POISSON(F201,H191,0)*POISSON(L194,H192,0)","v":3.0172744011194527E-10},{"$f":"POISSON(F201,H191,0)*POISSON(M194,H192,0)","v":2.2350180749032982E-11},{"$f":"POISSON(F201,H191,0)*POISSON(N194,H192,0)","v":1.4190590951767003E-12},{"$f":"POISSON(F201,H191,0)*POISSON(O194,H192,0)","v":7.8836616398705232E-14},{"$f":"POISSON(F201,H191,0)*POISSON(P194,H192,0)","v":3.8931662419113721E-15}]
["ТБ 0.5",{"$f":"SUM(G195:P204)-G195","v":0.5654017914222389},{"$f":"1/B202","v":1.7686537523776709},null,null,7,{"$f":"POISSON(F202,H191,0)*POISSON(G194,H192,0)","v":1.1599416413522318E-7},{"$f":"POISSON(F202,H191,0)*POISSON(H194,H192,0)","v":5.1552961837876967E-8},{"$f":"POISSON(F202,H191,0)*POISSON(I194,H192,0)","v":1.1456213741750438E-8},{"$f":"POISSON(F202,H191,0)*POISSON(J194,H192,0)","v":1.6972168506296946E-9},{"$f":"POISSON(F202,H191,0)*POISSON(K194,H192,0)","v":1.8857965006996601E-10},{"$f":"POISSON(F202,H191,0)*POISSON(L194,H192,0)","v":1.6762635561774758E-11},{"$f":"POISSON(F202,H191,0)*POISSON(M194,H192,0)","v":1.2416767082796116E-12},{"$f":"POISSON(F202,H191,0)*POISSON(N194,H192,0)","v":7.8836616398705661E-14},{"$f":"POISSON(F202,H191,0)*POISSON(O194,H192,0)","v":4.3798120221502953E-15},{"$f":"POISSON(F202,H191,0)*POISSON(P194,H192,0)","v":2.1628701343952089E-16}]
["ТБ 1.5",{"$f":"SUM(G197:G204,H196:H204,I195:I204,J195:P204)","v":0.20323661766634021},4.9203731664228476,null,null,8,{"$f":"POISSON(F203,H191,0)*POISSON(G194,H192,0)","v":5.6386052010177737E-9},{"$f":"POISSON(F203,H191,0)*POISSON(H194,H192,0)","v":2.5060467560078991E-9},{"$f":"POISSON(F203,H191,0)*POISSON(I194,H192,0)","v":5.5689927911286648E-10},{"$f":"POISSON(F203,H191,0)*POISSON(J194,H192,0)","v":8.2503596905609866E-11},{"$f":"POISSON(F203,H191,0)*POISSON(K194,H192,0)","v":9.1670663228455382E-12},{"$f":"POISSON(F203,H191,0)*POISSON(L194,H192,0)","v":8.1485033980849226E-13},{"$f":"POISSON(F203,H191,0)*POISSON(M194,H192,0)","v":6.0359284430258682E-14},{"$f":"POISSON(F203,H191,0)*POISSON(N194,H192,0)","v":3.8323355193815112E-15},{"$f":"POISSON(F203,H191,0)*POISSON(O194,H192,0)","v":2.1290752885452749E-16},{"$f":"POISSON(F203,H191,0)*POISSON(P194,H192,0)","v":1.0513952042198895E-17}]
["ТБ 2.5",{"$f":"SUM(G198:G204,H197:H204,I196:I204,J195:P204)","v":5.2334461934715894E-2},19.107868181532851,null,null,9,{"$f":"POISSON(F204,H191,0)*POISSON(G194,H192,0)","v":2.4364343461187946E-10},{"$f":"POISSON(F204,H191,0)*POISSON(H194,H192,0)","v":1.0828597093861308E-10},{"$f":"POISSON(F204,H191,0)*POISSON(I194,H192,0)","v":2.4063549097469576E-11},{"$f":"POISSON(F204,H191,0)*POISSON(J194,H192,0)","v":3.5649702366621602E-12},{"$f":"POISSON(F204,H191,0)*POISSON(K194,H192,0)","v":3.9610780407357321E-13},{"$f":"POISSON(F204,H191,0)*POISSON(L194,H192,0)","v":3.5209582584317617E-14},{"$f":"POISSON(F204,H191,0)*POISSON(M194,H192,0)","v":2.6081172284679714E-15},{"$f":"POISSON(F204,H191,0)*POISSON(N194,H192,0)","v":1.6559474466463344E-16},{"$f":"POISSON(F204,H191,0)*POISSON(O194,H192,0)","v":9.199708036924041E-18},{"$f":"POISSON(F204,H191,0)*POISSON(P194,H192,0)","v":4.5430656972464426E-19}]
["ТБ 3.5",{"$f":"SUM(G199:G204,H198:H204,I197:I204,J196:J204,K195:P204)","v":1.0417196453709107E-2},95.995117730926907]
["ТБ 4.5",{"$f":"SUM(G200:G204,H199:H204,I198:I204,J197:J204,K196:K204,L195:P204)","v":1.6844328118327007E-3},593.67164601357865]
["ТБ 5.5",{"$f":"SUM(G201:G204,H200:H204,I199:I204,J198:J204,K197:K204,L196:L204,M195:P204)","v":2.2897220485329926E-4},4367.342318429839]
[]
["ТМ 0.5",{"$f":"1-B202","v":0.4345982085777611},{"$f":"1/B209","v":2.3009758905185951},null,"ОЗ",{"$f":"SUM(H196:P204)","v":0.11560824204833887},{"$f":"1/F209","v":8.6499023104414423}]
["ТМ 1.5",0.79676338233365973,1.2550777585574724,null,"НЕ ОЗ",{"$f":"1-F209","v":0.88439175795166114},{"$f":"1/F210","v":1.1307206235346414}]
["ТМ 2.5",0.94766553806528409,1.0552246123052653]
["ТМ 3.5",0.98958280354629091,1.0105268567889194,null,"P",{"$f":"SUM(G195,G197,G199,G201,G203,H196,H198,H200,H202,H204,I195,I197,I199,I201,I203,J196,J198,J200,J202,J204,K195,K197,K199,K201,K203,L196,L198,L200,L202,L204)+SUM(M195,M197,M199,M201,M203,N196,N198,N200,N202,N204,O195,O197,O199,O201,O203,P196,P198,P200,P202,P204)","v":0.59443780136877511},{"$f":"1/F212","v":1.6822617903796864}]
["ТМ 4.5",0.99831556718816727,1.0016872749130588,null,"D",{"$f":"1-F212","v":0.40556219863122489},{"$f":"1/F213","v":2.46571303581795}]
["ТМ 5.5",0.99977102779514671,1.0002290246451313]
[]
["Защита"]
[null,null,"Команда","Забито","Пропущенно","Игры",null,"Средний"]
[null,"Дом",{"$f":"C191","v":"Жарково"},{"$f":"D37","v":0},{"$f":"D4","v":12},{"$f":"B4","v":10},null,{"$f":"(D218+E219)/(F219+F218)","v":0.61111111111111116}]
[null,"Гости",{"$f":"C192","v":"Нови Белград"},{"$f":"D44","v":0},{"$f":"D11","v":11},{"$f":"B11","v":8},null,{"$f":"(D219+E218)/(F218+F219)","v":0.66666666666666663}]
[]
[null,null,null,null,null,null,0,1,2,3,4,5,6,7,8,9]
[null,null,null,null,null,0,{"$f":"POISSON(F222,H218,0)*POISSON(G221,H219,0)","v":0.27865584814153083},{"$f":"POISSON(F222,H218,0)*POISSON(H221,H219,0)","v":0.18577056542768719},{"$f":"POISSON(F222,H218,0)*POISSON(I221,H219,0)","v":6.1923521809229061E-2},{"$f":"POISSON(F222,H218,0)*POISSON(J221,H219,0)","v":1.3760782624273125E-2},{"$f":"POISSON(F222,H218,0)*POISSON(K221,H219,0)","v":2.2934637707121871E-3},{"$f":"POISSON(F222,H218,0)*POISSON(L221,H219,0)","v":3.0579516942829164E-4},{"$f":"POISSON(F222,H218,0)*POISSON(M221,H219,0)","v":3.397724104758794E-5},{"$f":"POISSON(F222,H218,0)*POISSON(N221,H219,0)","v":3.2359277188179054E-6},{"$f":"POISSON(F222,H218,0)*POISSON(O221,H219,0)","v":2.6966064323482432E-7},{"$f":"POISSON(F222,H218,0)*POISSON(P221,H219,0)","v":1.9974862461838859E-8}]
[{"$f":"\"1\"","v":"1"},{"$f":"\"X\"","v":"X"},{"$f":"\"2\"","v":"2"},null,null,1,{"$f":"POISSON(F223,H218,0)*POISSON(G221,H219,0)","v":0.17028968497537994},{"$f":"POISSON(F223,H218,0)*POISSON(H221,H219,0)","v":0.11352645665025329},{"$f":"POISSON(F223,H218,0)*POISSON(I221,H219,0)","v":3.7842152216751093E-2},{"$f":"POISSON(F223,H218,0)*POISSON(J221,H219,0)","v":8.4093671592780205E-3},{"$f":"POISSON(F223,H218,0)*POISSON(K221,H219,0)","v":1.4015611932130033E-3},{"$f":"POISSON(F223,H218,0)*POISSON(L221,H219,0)","v":1.868748257617338E-4},{"$f":"POISSON(F223,H218,0)*POISSON(M221,H219,0)","v":2.0763869529081524E-5},{"$f":"POISSON(F223,H218,0)*POISSON(N221,H219,0)","v":1.9775113837220533E-6},{"$f":"POISSON(F223,H218,0)*POISSON(O221,H219,0)","v":1.6479261531017043E-7},{"$f":"POISSON(F223,H218,0)*POISSON(P221,H219,0)","v":1.220686039334597E-8}]
[{"$f":"SUM(G223:G231,H224:H231,I225:I231,J226:J231,K227:K231,L228:L231,M229:M231,N230:N231,O231)","v":0.28059913188153063},{"$f":"SUM(G222,H223,I224,J225,K226,L227,M228,N229,O230,P231)","v":0.40428215474279583},{"$f":"1-B224-A224","v":0.31511871337567354},null,null,2,{"$f":"POISSON(F224,H218,0)*POISSON(G221,H219,0)","v":5.2032959298032755E-2},{"$f":"POISSON(F224,H218,0)*POISSON(H221,H219,0)","v":3.4688639532021837E-2},{"$f":"POISSON(F224,H218,0)*POISSON(I221,H219,0)","v":1.1562879844007277E-2},{"$f":"POISSON(F224,H218,0)*POISSON(J221,H219,0)","v":2.5695288542238394E-3},{"$f":"POISSON(F224,H218,0)*POISSON(K221,H219,0)","v":4.2825480903730648E-4},{"$f":"POISSON(F224,H218,0)*POISSON(L221,H219,0)","v":5.7100641204974213E-5},{"$f":"POISSON(F224,H218,0)*POISSON(M221,H219,0)","v":6.3445156894415757E-6},{"$f":"POISSON(F224,H218,0)*POISSON(N221,H219,0)","v":6.0423958947062739E-7},{"$f":"POISSON(F224,H218,0)*POISSON(O221,H219,0)","v":5.0353299122552076E-8},{"$f":"POISSON(F224,H218,0)*POISSON(P221,H219,0)","v":3.7298740090779347E-9}]
[{"$f":"1/A224","v":3.5638029002249425},{"$f":"1/B224","v":2.4735200113796751},{"$f":"1/C224","v":3.1734072194177654},null,null,3,{"$f":"POISSON(F225,H218,0)*POISSON(G221,H219,0)","v":1.0599306523673342E-2},{"$f":"POISSON(F225,H218,0)*POISSON(H221,H219,0)","v":7.0662043491155615E-3},{"$f":"POISSON(F225,H218,0)*POISSON(I221,H219,0)","v":2.3554014497051867E-3},{"$f":"POISSON(F225,H218,0)*POISSON(J221,H219,0)","v":5.2342254437893045E-4},{"$f":"POISSON(F225,H218,0)*POISSON(K221,H219,0)","v":8.7237090729821719E-5},{"$f":"POISSON(F225,H218,0)*POISSON(L221,H219,0)","v":1.1631612097309566E-5},{"$f":"POISSON(F225,H218,0)*POISSON(M221,H219,0)","v":1.2924013441455066E-6},{"$f":"POISSON(F225,H218,0)*POISSON(N221,H219,0)","v":1.2308584229957229E-7},{"$f":"POISSON(F225,H218,0)*POISSON(O221,H219,0)","v":1.0257153524964314E-8},{"$f":"POISSON(F225,H218,0)*POISSON(P221,H219,0)","v":7.5978914999735742E-10}]
[null,null,null,null,null,4,{"$f":"POISSON(F226,H218,0)*POISSON(G221,H219,0)","v":1.619338496672316E-3},{"$f":"POISSON(F226,H218,0)*POISSON(H221,H219,0)","v":1.079558997781544E-3},{"$f":"POISSON(F226,H218,0)*POISSON(I221,H219,0)","v":3.5985299926051463E-4},{"$f":"POISSON(F226,H218,0)*POISSON(J221,H219,0)","v":7.9967333169003252E-5},{"$f":"POISSON(F226,H218,0)*POISSON(K221,H219,0)","v":1.332788886150054E-5},{"$f":"POISSON(F226,H218,0)*POISSON(L221,H219,0)","v":1.7770518482000723E-6},{"$f":"POISSON(F226,H218,0)*POISSON(M221,H219,0)","v":1.9745020535556348E-7},{"$f":"POISSON(F226,H218,0)*POISSON(N221,H219,0)","v":1.8804781462434651E-8},{"$f":"POISSON(F226,H218,0)*POISSON(O221,H219,0)","v":1.5670651218695477E-9},{"$f":"POISSON(F226,H218,0)*POISSON(P221,H219,0)","v":1.1607889791626292E-10}]
[null,null,null,null,null,5,{"$f":"POISSON(F227,H218,0)*POISSON(G221,H219,0)","v":1.979191495932832E-4},{"$f":"POISSON(F227,H218,0)*POISSON(H221,H219,0)","v":1.3194609972885546E-4},{"$f":"POISSON(F227,H218,0)*POISSON(I221,H219,0)","v":4.3982033242951814E-5},{"$f":"POISSON(F227,H218,0)*POISSON(J221,H219,0)","v":9.7737851651004028E-6},{"$f":"POISSON(F227,H218,0)*POISSON(K221,H219,0)","v":1.6289641941834003E-6},{"$f":"POISSON(F227,H218,0)*POISSON(L221,H219,0)","v":2.1719522589112006E-7},{"$f":"POISSON(F227,H218,0)*POISSON(M221,H219,0)","v":2.4132802876791105E-8},{"$f":"POISSON(F227,H218,0)*POISSON(N221,H219,0)","v":2.2983621787420143E-9},{"$f":"POISSON(F227,H218,0)*POISSON(O221,H219,0)","v":1.9153018156183374E-10},{"$f":"POISSON(F227,H218,0)*POISSON(P221,H219,0)","v":1.4187420856432143E-11}]
[null,null,null,null,null,6,{"$f":"POISSON(F228,H218,0)*POISSON(G221,H219,0)","v":2.015843190301957E-5},{"$f":"POISSON(F228,H218,0)*POISSON(H221,H219,0)","v":1.3438954602013047E-5},{"$f":"POISSON(F228,H218,0)*POISSON(I221,H219,0)","v":4.4796515340043489E-6},{"$f":"POISSON(F228,H218,0)*POISSON(J221,H219,0)","v":9.9547811866763314E-7},{"$f":"POISSON(F228,H218,0)*POISSON(K221,H219,0)","v":1.659130197779388E-7},{"$f":"POISSON(F228,H218,0)*POISSON(L221,H219,0)","v":2.2121735970391844E-8},{"$f":"POISSON(F228,H218,0)*POISSON(M221,H219,0)","v":2.4579706633768705E-9},{"$f":"POISSON(F228,H218,0)*POISSON(N221,H219,0)","v":2.3409244413113093E-10},{"$f":"POISSON(F228,H218,0)*POISSON(O221,H219,0)","v":1.9507703677594167E-11},{"$f":"POISSON(F228,H218,0)*POISSON(P221,H219,0)","v":1.4450150872291989E-12}]
["ТБ 0.5",{"$f":"SUM(G222:P231)-G222","v":0.72134414809741076},{"$f":"1/B229","v":1.3863008421674468},null,null,7,{"$f":"POISSON(F229,H218,0)*POISSON(G221,H219,0)","v":1.7598631026445686E-6},{"$f":"POISSON(F229,H218,0)*POISSON(H221,H219,0)","v":1.1732420684297123E-6},{"$f":"POISSON(F229,H218,0)*POISSON(I221,H219,0)","v":3.9108068947657074E-7},{"$f":"POISSON(F229,H218,0)*POISSON(J221,H219,0)","v":8.6906819883682399E-8},{"$f":"POISSON(F229,H218,0)*POISSON(K221,H219,0)","v":1.4484469980613729E-8},{"$f":"POISSON(F229,H218,0)*POISSON(L221,H219,0)","v":1.9312626640818308E-9},{"$f":"POISSON(F229,H218,0)*POISSON(M221,H219,0)","v":2.1458474045353666E-10},{"$f":"POISSON(F229,H218,0)*POISSON(N221,H219,0)","v":2.0436641947955909E-11},{"$f":"POISSON(F229,H218,0)*POISSON(O221,H219,0)","v":1.7030534956629855E-12},{"$f":"POISSON(F229,H218,0)*POISSON(P221,H219,0)","v":1.2615211078985089E-13}]
["ТБ 1.5",{"$f":"SUM(G224:G231,H223:H231,I222:I231,J222:P231)","v":0.36528389769434333},2.7375967194611044,null,null,8,{"$f":"POISSON(F230,H218,0)*POISSON(G221,H219,0)","v":1.3443398700757076E-7},{"$f":"POISSON(F230,H218,0)*POISSON(H221,H219,0)","v":8.9622658005047163E-8},{"$f":"POISSON(F230,H218,0)*POISSON(I221,H219,0)","v":2.9874219335015719E-8},{"$f":"POISSON(F230,H218,0)*POISSON(J221,H219,0)","v":6.6387154077812708E-9},{"$f":"POISSON(F230,H218,0)*POISSON(K221,H219,0)","v":1.1064525679635449E-9},{"$f":"POISSON(F230,H218,0)*POISSON(L221,H219,0)","v":1.4752700906180601E-10},{"$f":"POISSON(F230,H218,0)*POISSON(M221,H219,0)","v":1.6391889895756214E-11},{"$f":"POISSON(F230,H218,0)*POISSON(N221,H219,0)","v":1.5611323710244044E-12},{"$f":"POISSON(F230,H218,0)*POISSON(O221,H219,0)","v":1.3009436425203316E-13},{"$f":"POISSON(F230,H218,0)*POISSON(P221,H219,0)","v":9.6366195742246878E-15}]
["ТБ 2.5",{"$f":"SUM(G225:G231,H224:H231,I223:I231,J222:P231)","v":0.13780095993682781},7.2568434970150477,null,null,9,{"$f":"POISSON(F231,H218,0)*POISSON(G221,H219,0)","v":9.1282336856992606E-9},{"$f":"POISSON(F231,H218,0)*POISSON(H221,H219,0)","v":6.0854891237995065E-9},{"$f":"POISSON(F231,H218,0)*POISSON(I221,H219,0)","v":2.0284963745998351E-9},{"$f":"POISSON(F231,H218,0)*POISSON(J221,H219,0)","v":4.5077697213329675E-10},{"$f":"POISSON(F231,H218,0)*POISSON(K221,H219,0)","v":7.5129495355549436E-11},{"$f":"POISSON(F231,H218,0)*POISSON(L221,H219,0)","v":1.0017266047406593E-11},{"$f":"POISSON(F231,H218,0)*POISSON(M221,H219,0)","v":1.1130295608229542E-12},{"$f":"POISSON(F231,H218,0)*POISSON(N221,H219,0)","v":1.0600281531647203E-13},{"$f":"POISSON(F231,H218,0)*POISSON(O221,H219,0)","v":8.8335679430392997E-15},{"$f":"POISSON(F231,H218,0)*POISSON(P221,H219,0)","v":6.5433836615105988E-16}]
["ТБ 3.5",{"$f":"SUM(G226:G231,H225:H231,I224:I231,J223:J231,K222:P231)","v":4.0910079040108488E-2},24.443854019924871]
["ТБ 4.5",{"$f":"SUM(G227:G231,H226:H231,I225:I231,J224:J231,K223:K231,L222:P231)","v":9.9588254203231644E-3},100.41344815215668]
["ТБ 5.5",{"$f":"SUM(G228:G231,H227:H231,I226:I231,J225:J231,K224:K231,L223:L231,M222:P231)","v":2.0490606063780161E-3},488.02851262053758]
[]
["ТМ 0.5",{"$f":"1-B229","v":0.27865585190258924},{"$f":"1/B236","v":3.5886560184265348},null,"ОЗ",{"$f":"SUM(H223:P231)","v":0.22249124619123012},{"$f":"1/F236","v":4.494558851724463}]
["ТМ 1.5",0.63471610230565667,1.5755075322138836,null,"НЕ ОЗ",{"$f":"1-F236","v":0.77750875380876994},{"$f":"1/F237","v":1.2861591526800382}]
["ТМ 2.5",0.86219904006317216,1.1598249980964155]
["ТМ 3.5",0.95908992095989154,1.0426551026614523,null,"P",{"$f":"SUM(G222,G224,G226,G228,G230,H223,H225,H227,H229,H231,I222,I224,I226,I228,I230,J223,J225,J227,J229,J231,K222,K224,K226,K228,K230,L223,L225,L227,L229,L231)+SUM(M222,M224,M226,M228,M230,N223,N225,N227,N229,N231,O222,O224,O226,O228,O230,P223,P225,P227,P229,P231)","v":0.53882453849494349},{"$f":"1/F239","v":1.8558917208804593}]
["ТМ 4.5",0.99004117457967689,1.0100590012577519,null,"D",{"$f":"1-F239","v":0.46117546150505651},{"$f":"1/F240","v":2.168372091473552}]
["ТМ 5.5",0.99795093939362201,1.0020532678766985]
[]
["По очкам"]
[null,null,"Команда","Набранные",null,"Игры",null,"Средний"]
[null,"Дом",{"$f":"C218","v":"Жарково"},{"$f":"E4","v":9},{"$f":"E37","v":0},{"$f":"B4","v":10},null,{"$f":"(D245+E246)/(F246+F245)","v":0.5}]
[null,"Гости",{"$f":"C219","v":"Нови Белград"},{"$f":"E11","v":10},{"$f":"E44","v":0},{"$f":"B11","v":8},null,{"$f":"(D246+E245)/(F245+F246)","v":0.55555555555555558}]
[]
[null,null,null,null,null,null,0,1,2,3,4,5,6,7,8,9]
[null,null,null,null,null,0,{"$f":"POISSON(F249,H245,0)*POISSON(G248,H246,0)","v":0.34799904079225519},{"$f":"POISSON(F249,H245,0)*POISSON(H248,H246,0)","v":0.19333280044014178},{"$f":"POISSON(F249,H245,0)*POISSON(I248,H246,0)","v":5.370355567781717E-2},{"$f":"POISSON(F249,H245,0)*POISSON(J248,H246,0)","v":9.9451029032994777E-3},{"$f":"POISSON(F249,H245,0)*POISSON(K248,H246,0)","v":1.3812642921249274E-3},{"$f":"POISSON(F249,H245,0)*POISSON(L248,H246,0)","v":1.5347381023610306E-4},{"$f":"POISSON(F249,H245,0)*POISSON(M248,H246,0)","v":1.4210537984824357E-5},{"$f":"POISSON(F249,H245,0)*POISSON(N248,H246,0)","v":1.1278204749860615E-6},{"$f":"POISSON(F249,H245,0)*POISSON(O248,H246,0)","v":7.8320866318476229E-8},{"$f":"POISSON(F249,H245,0)*POISSON(P248,H246,0)","v":4.8346213776837251E-9}]
[{"$f":"\"1\"","v":"1"},{"$f":"\"X\"","v":"X"},{"$f":"\"2\"","v":"2"},null,null,1,{"$f":"POISSON(F250,H245,0)*POISSON(G248,H246,0)","v":0.17399952039612759},{"$f":"POISSON(F250,H245,0)*POISSON(H248,H246,0)","v":9.6666400220070892E-2},{"$f":"POISSON(F250,H245,0)*POISSON(I248,H246,0)","v":2.6851777838908585E-2},{"$f":"POISSON(F250,H245,0)*POISSON(J248,H246,0)","v":4.9725514516497388E-3},{"$f":"POISSON(F250,H245,0)*POISSON(K248,H246,0)","v":6.9063214606246372E-4},{"$f":"POISSON(F250,H245,0)*POISSON(L248,H246,0)","v":7.6736905118051532E-5},{"$f":"POISSON(F250,H245,0)*POISSON(M248,H246,0)","v":7.1052689924121787E-6},{"$f":"POISSON(F250,H245,0)*POISSON(N248,H246,0)","v":5.6391023749303076E-7},{"$f":"POISSON(F250,H245,0)*POISSON(O248,H246,0)","v":3.9160433159238115E-8},{"$f":"POISSON(F250,H245,0)*POISSON(P248,H246,0)","v":2.4173106888418625E-9}]
[{"$f":"SUM(G250:G258,H251:H258,I252:I258,J253:J258,K254:K258,L255:L258,M256:M258,N257:N258,O258)","v":0.25581011250993557},{"$f":"SUM(G249,H250,I251,J252,K253,L254,M255,N256,O257,P258)","v":0.4515892124355817},{"$f":"1-B251-A251","v":0.29260067505448273},null,null,2,{"$f":"POISSON(F251,H245,0)*POISSON(G248,H246,0)","v":4.3499880099031898E-2},{"$f":"POISSON(F251,H245,0)*POISSON(H248,H246,0)","v":2.4166600055017723E-2},{"$f":"POISSON(F251,H245,0)*POISSON(I248,H246,0)","v":6.7129444597271463E-3},{"$f":"POISSON(F251,H245,0)*POISSON(J248,H246,0)","v":1.2431378629124347E-3},{"$f":"POISSON(F251,H245,0)*POISSON(K248,H246,0)","v":1.7265803651561593E-4},{"$f":"POISSON(F251,H245,0)*POISSON(L248,H246,0)","v":1.9184226279512883E-5},{"$f":"POISSON(F251,H245,0)*POISSON(M248,H246,0)","v":1.7763172481030447E-6},{"$f":"POISSON(F251,H245,0)*POISSON(N248,H246,0)","v":1.4097755937325769E-7},{"$f":"POISSON(F251,H245,0)*POISSON(O248,H246,0)","v":9.7901082898095287E-9},{"$f":"POISSON(F251,H245,0)*POISSON(P248,H246,0)","v":6.0432767221046563E-10}]
[{"$f":"1/A251","v":3.9091496039319416},{"$f":"1/B251","v":2.2144018777743679},{"$f":"1/C251","v":3.4176271118096304},null,null,3,{"$f":"POISSON(F252,H245,0)*POISSON(G248,H246,0)","v":7.2499800165053184E-3},{"$f":"POISSON(F252,H245,0)*POISSON(H248,H246,0)","v":4.0277666758362883E-3},{"$f":"POISSON(F252,H245,0)*POISSON(I248,H246,0)","v":1.1188240766211912E-3},{"$f":"POISSON(F252,H245,0)*POISSON(J248,H246,0)","v":2.0718964381873916E-4},{"$f":"POISSON(F252,H245,0)*POISSON(K248,H246,0)","v":2.8776339419269326E-5},{"$f":"POISSON(F252,H245,0)*POISSON(L248,H246,0)","v":3.1973710465854813E-6},{"$f":"POISSON(F252,H245,0)*POISSON(M248,H246,0)","v":2.9605287468384083E-7},{"$f":"POISSON(F252,H245,0)*POISSON(N248,H246,0)","v":2.3496259895542952E-8},{"$f":"POISSON(F252,H245,0)*POISSON(O248,H246,0)","v":1.6316847149682552E-9},{"$f":"POISSON(F252,H245,0)*POISSON(P248,H246,0)","v":1.007212787017443E-10}]
[null,null,null,null,null,4,{"$f":"POISSON(F253,H245,0)*POISSON(G248,H246,0)","v":9.0624750206316448E-4},{"$f":"POISSON(F253,H245,0)*POISSON(H248,H246,0)","v":5.0347083447953593E-4},{"$f":"POISSON(F253,H245,0)*POISSON(I248,H246,0)","v":1.3985300957764887E-4},{"$f":"POISSON(F253,H245,0)*POISSON(J248,H246,0)","v":2.5898705477342389E-5},{"$f":"POISSON(F253,H245,0)*POISSON(K248,H246,0)","v":3.5970424274086649E-6},{"$f":"POISSON(F253,H245,0)*POISSON(L248,H246,0)","v":3.9967138082318506E-7},{"$f":"POISSON(F253,H245,0)*POISSON(M248,H246,0)","v":3.7006609335480091E-8},{"$f":"POISSON(F253,H245,0)*POISSON(N248,H246,0)","v":2.9370324869428681E-9},{"$f":"POISSON(F253,H245,0)*POISSON(O248,H246,0)","v":2.0396058937103185E-10},{"$f":"POISSON(F253,H245,0)*POISSON(P248,H246,0)","v":1.2590159837718034E-11}]
[null,null,null,null,null,5,{"$f":"POISSON(F254,H245,0)*POISSON(G248,H246,0)","v":9.062475020631648E-5},{"$f":"POISSON(F254,H245,0)*POISSON(H248,H246,0)","v":5.0347083447953602E-5},{"$f":"POISSON(F254,H245,0)*POISSON(I248,H246,0)","v":1.398530095776489E-5},{"$f":"POISSON(F254,H245,0)*POISSON(J248,H246,0)","v":2.5898705477342395E-6},{"$f":"POISSON(F254,H245,0)*POISSON(K248,H246,0)","v":3.5970424274086659E-7},{"$f":"POISSON(F254,H245,0)*POISSON(L248,H246,0)","v":3.9967138082318514E-8},{"$f":"POISSON(F254,H245,0)*POISSON(M248,H246,0)","v":3.7006609335480102E-9},{"$f":"POISSON(F254,H245,0)*POISSON(N248,H246,0)","v":2.937032486942869E-10},{"$f":"POISSON(F254,H245,0)*POISSON(O248,H246,0)","v":2.0396058937103191E-11},{"$f":"POISSON(F254,H245,0)*POISSON(P248,H246,0)","v":1.2590159837718038E-12}]
[null,null,null,null,null,6,{"$f":"POISSON(F255,H245,0)*POISSON(G248,H246,0)","v":7.5520625171930392E-6},{"$f":"POISSON(F255,H245,0)*POISSON(H248,H246,0)","v":4.1955902873294663E-6},{"$f":"POISSON(F255,H245,0)*POISSON(I248,H246,0)","v":1.1654417464804074E-6},{"$f":"POISSON(F255,H245,0)*POISSON(J248,H246,0)","v":2.1582254564451995E-7},{"$f":"POISSON(F255,H245,0)*POISSON(K248,H246,0)","v":2.9975353561738876E-8},{"$f":"POISSON(F255,H245,0)*POISSON(L248,H246,0)","v":3.3305948401932094E-9},{"$f":"POISSON(F255,H245,0)*POISSON(M248,H246,0)","v":3.0838841112900083E-10},{"$f":"POISSON(F255,H245,0)*POISSON(N248,H246,0)","v":2.4475270724523904E-11},{"$f":"POISSON(F255,H245,0)*POISSON(O248,H246,0)","v":1.6996715780919323E-12},{"$f":"POISSON(F255,H245,0)*POISSON(P248,H246,0)","v":1.049179986476503E-13}]
["ТБ 0.5",{"$f":"SUM(G249:P258)-G249","v":0.65200095857050033},{"$f":"1/B256","v":1.5337400763834472},null,null,7,{"$f":"POISSON(F256,H245,0)*POISSON(G248,H246,0)","v":5.3943303694236074E-7},{"$f":"POISSON(F256,H245,0)*POISSON(H248,H246,0)","v":2.996850205235338E-7},{"$f":"POISSON(F256,H245,0)*POISSON(I248,H246,0)","v":8.3245839034314947E-8},{"$f":"POISSON(F256,H245,0)*POISSON(J248,H246,0)","v":1.5415896117465735E-8},{"$f":"POISSON(F256,H245,0)*POISSON(K248,H246,0)","v":2.1410966829813517E-9},{"$f":"POISSON(F256,H245,0)*POISSON(L248,H246,0)","v":2.3789963144237244E-10},{"$f":"POISSON(F256,H245,0)*POISSON(M248,H246,0)","v":2.2027743652071524E-11},{"$f":"POISSON(F256,H245,0)*POISSON(N248,H246,0)","v":1.7482336231802816E-12},{"$f":"POISSON(F256,H245,0)*POISSON(O248,H246,0)","v":1.2140511272085249E-13},{"$f":"POISSON(F256,H245,0)*POISSON(P248,H246,0)","v":7.4941427605464615E-15}]
["ТБ 1.5",{"$f":"SUM(G251:G258,H250:H258,I249:I258,J249:P258)","v":0.28466863773423162},3.5128562386054134,null,null,8,{"$f":"POISSON(F257,H245,0)*POISSON(G248,H246,0)","v":3.3714564808897421E-8},{"$f":"POISSON(F257,H245,0)*POISSON(H248,H246,0)","v":1.873031378272079E-8},{"$f":"POISSON(F257,H245,0)*POISSON(I248,H246,0)","v":5.2028649396446643E-9},{"$f":"POISSON(F257,H245,0)*POISSON(J248,H246,0)","v":9.6349350734160475E-10},{"$f":"POISSON(F257,H245,0)*POISSON(K248,H246,0)","v":1.3381854268633397E-10},{"$f":"POISSON(F257,H245,0)*POISSON(L248,H246,0)","v":1.4868726965148223E-11},{"$f":"POISSON(F257,H245,0)*POISSON(M248,H246,0)","v":1.376733978254465E-12},{"$f":"POISSON(F257,H245,0)*POISSON(N248,H246,0)","v":1.0926460144876718E-13},{"$f":"POISSON(F257,H245,0)*POISSON(O248,H246,0)","v":7.5878195450532524E-15},{"$f":"POISSON(F257,H245,0)*POISSON(P248,H246,0)","v":4.6838392253415207E-16}]
["ТБ 2.5",{"$f":"SUM(G252:G258,H251:H258,I250:I258,J249:P258)","v":9.0798801737311502E-2},11.013361199337005,null,null,9,{"$f":"POISSON(F258,H245,0)*POISSON(G248,H246,0)","v":1.8730313782720805E-9},{"$f":"POISSON(F258,H245,0)*POISSON(H248,H246,0)","v":1.0405729879289339E-9},{"$f":"POISSON(F258,H245,0)*POISSON(I248,H246,0)","v":2.890480522024816E-10},{"$f":"POISSON(F258,H245,0)*POISSON(J248,H246,0)","v":5.3527417074533649E-11},{"$f":"POISSON(F258,H245,0)*POISSON(K248,H246,0)","v":7.4343634825741163E-12},{"$f":"POISSON(F258,H245,0)*POISSON(L248,H246,0)","v":8.2604038695267978E-13},{"$f":"POISSON(F258,H245,0)*POISSON(M248,H246,0)","v":7.6485221014137012E-14},{"$f":"POISSON(F258,H245,0)*POISSON(N248,H246,0)","v":6.0702556360426274E-15},{"$f":"POISSON(F258,H245,0)*POISSON(O248,H246,0)","v":4.2154553028073665E-16},{"$f":"POISSON(F258,H245,0)*POISSON(P248,H246,0)","v":2.602132902967514E-17}]
["ТБ 3.5",{"$f":"SUM(G253:G258,H252:H258,I251:I258,J250:J258,K249:P258)","v":2.258534092358043E-2},44.276506756466134]
["ТБ 4.5",{"$f":"SUM(G254:G258,H253:H258,I252:I258,J251:J258,K250:K258,L249:P258)","v":4.5845665421791531E-3},218.12312915512319]
["ТБ 5.5",{"$f":"SUM(G255:G258,H254:H258,I253:I258,J252:J258,K251:K258,L250:L258,M249:P258)","v":7.8440306166110833E-4},1274.8547894271703]
[]
["ТМ 0.5",{"$f":"1-B256","v":0.34799904142949967},{"$f":"1/B263","v":2.8735711336796532},null,"ОЗ",{"$f":"SUM(H250:P258)","v":0.16771496008584927},{"$f":"1/F263","v":5.9624973197866424}]
["ТМ 1.5",0.71533136226576843,1.3979535258073419,null,"НЕ ОЗ",{"$f":"1-F263","v":0.8322850399141507},{"$f":"1/F264","v":1.2015114438475896}]
["ТМ 2.5",0.90920119826268853,1.0998665662900695]
["ТМ 3.5",0.97741465907641956,1.0231072254890488,null,"P",{"$f":"SUM(G249,G251,G253,G255,G257,H250,H252,H254,H256,H258,I249,I251,I253,I255,I257,J250,J252,J254,J256,J258,K249,K251,K253,K255,K257,L250,L252,L254,L256,L258)+SUM(M249,M251,M253,M255,M257,N250,N252,N254,N256,N258,O249,O251,O253,O255,O257,P250,P252,P254,P256,P258)","v":0.56055166577432525},{"$f":"1/F266","v":1.783956878655667}]
["ТМ 4.5",0.9954154334578208,1.0046056815959279,null,"D",{"$f":"1-F266","v":0.43944833422567475},{"$f":"1/F267","v":2.2755803631888587}]
["ТМ 5.5",0.99921559693833895,1.0007850188328371]
[]
["Форма"]
[null,null,"Команда","Забито","Пропущено","Игры",null,"Средний"]
[null,"Дом",{"$f":"C245","v":"Жарково"},{"$f":"R45","v":0.91428571428571426},{"$f":"S45","v":1.0857142857142856},1,null,{"$f":"(D272+E273)/(F273+F272)","v":1.0480519480519481}]
[null,"Гости",{"$f":"C246","v":"Нови Белград"},{"$f":"R46","v":1.5151515151515151},{"$f":"S46","v":1.1818181818181819},1,null,{"$f":"(D273+E272)/(F272+F273)","v":1.3004329004329005}]
[]
[null,null,null,null,null,null,0,1,2,3,4,5,6,7,8,9]
[null,null,null,null,null,0,{"$f":"POISSON(F276,H272,0)*POISSON(G275,H273,0)","v":9.5513770470222747E-2},{"$f":"POISSON(F276,H272,0)*POISSON(H275,H273,0)","v":0.12420924956387407},{"$f":"POISSON(F276,H272,0)*POISSON(I275,H273,0)","v":8.0762897335471373E-2},{"$f":"POISSON(F276,H272,0)*POISSON(J275,H273,0)","v":3.5008909609777213E-2},{"$f":"POISSON(F276,H272,0)*POISSON(K275,H273,0)","v":1.1381684466208953E-2},{"$f":"POISSON(F276,H272,0)*POISSON(L275,H273,0)","v":2.9602233884408386E-3},{"$f":"POISSON(F276,H272,0)*POISSON(M275,H273,0)","v":6.4159531449323724E-4},{"$f":"POISSON(F276,H272,0)*POISSON(N275,H273,0)","v":1.1919309367580014E-4},{"$f":"POISSON(F276,H272,0)*POISSON(O275,H273,0)","v":1.9375327565048914E-5},{"$f":"POISSON(F276,H272,0)*POISSON(P275,H273,0)","v":2.7995903802504521E-6}]
[{"$f":"\"1\"","v":"1"},{"$f":"\"X\"","v":"X"},{"$f":"\"2\"","v":"2"},null,null,1,{"$f":"POISSON(F277,H272,0)*POISSON(G275,H273,0)","v":0.10010339320710358},{"$f":"POISSON(F277,H272,0)*POISSON(H275,H273,0)","v":0.13017774597148879},{"$f":"POISSON(F277,H272,0)*POISSON(I275,H273,0)","v":8.4643711882760264E-2},{"$f":"POISSON(F277,H272,0)*POISSON(J275,H273,0)","v":3.6691155915701573E-2},{"$f":"POISSON(F277,H272,0)*POISSON(K275,H273,0)","v":1.1928596576922889E-2},{"$f":"POISSON(F277,H272,0)*POISSON(L275,H273,0)","v":3.1024678889243593E-3},{"$f":"POISSON(F277,H272,0)*POISSON(M275,H273,0)","v":6.724252192156395E-4},{"$f":"POISSON(F277,H272,0)*POISSON(N275,H273,0)","v":1.2492055402126066E-4},{"$f":"POISSON(F277,H272,0)*POISSON(O275,H273,0)","v":2.0306349798694122E-5},{"$f":"POISSON(F277,H272,0)*POISSON(P275,H273,0)","v":2.9341161517689804E-6}]
[{"$f":"SUM(G277:G285,H278:H285,I279:I285,J280:J285,K281:K285,L282:L285,M283:M285,N284:N285,O285)","v":0.29970517155659665},{"$f":"SUM(G276,H277,I278,J279,K280,L281,M282,N283,O284,P285)","v":0.27736860583445699},{"$f":"1-B278-A278","v":0.42292622260894636},null,null,2,{"$f":"POISSON(F278,H272,0)*POISSON(G275,H273,0)","v":5.2456778128657518E-2},{"$f":"POISSON(F278,H272,0)*POISSON(H275,H273,0)","v":6.8216520129215225E-2},{"$f":"POISSON(F278,H272,0)*POISSON(I275,H273,0)","v":4.4355503564537352E-2},{"$f":"POISSON(F278,H272,0)*POISSON(J275,H273,0)","v":1.9227118716864396E-2},{"$f":"POISSON(F278,H272,0)*POISSON(K275,H273,0)","v":6.2508944399849165E-3},{"$f":"POISSON(F278,H272,0)*POISSON(L275,H273,0)","v":1.6257737573778946E-3},{"$f":"POISSON(F278,H272,0)*POISSON(M275,H273,0)","v":3.5236828045910455E-4},{"$f":"POISSON(F278,H272,0)*POISSON(N275,H273,0)","v":6.5461614996855419E-5},{"$f":"POISSON(F278,H272,0)*POISSON(O275,H273,0)","v":1.0641054732172826E-5},{"$f":"POISSON(F278,H272,0)*POISSON(P275,H273,0)","v":1.5375530743360825E-6}]
[{"$f":"1/A278","v":3.3366124274941278},{"$f":"1/B278","v":3.6053106911343598},{"$f":"1/C278","v":2.3644785935267909},null,null,3,{"$f":"POISSON(F279,H272,0)*POISSON(G275,H273,0)","v":1.8325809502089452E-2},{"$f":"POISSON(F279,H272,0)*POISSON(H275,H273,0)","v":2.3831485603582992E-2},{"$f":"POISSON(F279,H272,0)*POISSON(I275,H273,0)","v":1.5495623972546174E-2},{"$f":"POISSON(F279,H272,0)*POISSON(J275,H273,0)","v":6.717006408878603E-3},{"$f":"POISSON(F279,H272,0)*POISSON(K275,H273,0)","v":2.1837540316310953E-3},{"$f":"POISSON(F279,H272,0)*POISSON(L275,H273,0)","v":5.6796511783721278E-4},{"$f":"POISSON(F279,H272,0)*POISSON(M275,H273,0)","v":1.2310008758895997E-4},{"$f":"POISSON(F279,H272,0)*POISSON(N275,H273,0)","v":2.2869057706693659E-5},{"$f":"POISSON(F279,H272,0)*POISSON(O275,H273,0)","v":3.7174593804603789E-6},{"$f":"POISSON(F279,H272,0)*POISSON(P275,H273,0)","v":5.3714516493039787E-7}]
[null,null,null,null,null,4,{"$f":"POISSON(F280,H272,0)*POISSON(G275,H273,0)","v":4.8016000870734375E-3},{"$f":"POISSON(F280,H272,0)*POISSON(H275,H273,0)","v":6.2441587279517766E-3},{"$f":"POISSON(F280,H272,0)*POISSON(I275,H273,0)","v":4.0600547226768702E-3},{"$f":"POISSON(F280,H272,0)*POISSON(J275,H273,0)","v":1.7599429129756597E-3},{"$f":"POISSON(F280,H272,0)*POISSON(K275,H273,0)","v":5.7217191672931606E-4},{"$f":"POISSON(F280,H272,0)*POISSON(L275,H273,0)","v":1.4881423704371125E-4},{"$f":"POISSON(F280,H272,0)*POISSON(M275,H273,0)","v":3.2253821650743724E-5},{"$f":"POISSON(F280,H272,0)*POISSON(N275,H273,0)","v":5.991990119903175E-6},{"$f":"POISSON(F280,H272,0)*POISSON(O275,H273,0)","v":9.7402263637387194E-7},{"$f":"POISSON(F280,H272,0)*POISSON(P275,H273,0)","v":1.4073900912299708E-7}]
[null,null,null,null,null,5,{"$f":"POISSON(F281,H272,0)*POISSON(G275,H273,0)","v":1.0064652650047441E-3},{"$f":"POISSON(F281,H272,0)*POISSON(H275,H273,0)","v":1.3088405437550871E-3},{"$f":"POISSON(F281,H272,0)*POISSON(I275,H273,0)","v":8.5102965225980129E-4},{"$f":"POISSON(F281,H272,0)*POISSON(J275,H273,0)","v":3.6890231968087216E-4},{"$f":"POISSON(F281,H272,0)*POISSON(K275,H273,0)","v":1.1993317838975538E-4},{"$f":"POISSON(F281,H272,0)*POISSON(L275,H273,0)","v":3.11930102063052E-5},{"$f":"POISSON(F281,H272,0)*POISSON(M275,H273,0)","v":6.7607361226364138E-6},{"$f":"POISSON(F281,H272,0)*POISSON(N275,H273,0)","v":1.2559833835745099E-6},{"$f":"POISSON(F281,H272,0)*POISSON(O275,H273,0)","v":2.0416526429966618E-7},{"$f":"POISSON(F281,H272,0)*POISSON(P275,H273,0)","v":2.9500358535651603E-8}]
[null,null,null,null,null,6,{"$f":"POISSON(F282,H272,0)*POISSON(G275,H273,0)","v":1.7580464693914033E-4},{"$f":"POISSON(F282,H272,0)*POISSON(H275,H273,0)","v":2.2862214692864828E-4},{"$f":"POISSON(F282,H272,0)*POISSON(I275,H273,0)","v":1.4865388081680941E-4},{"$f":"POISSON(F282,H272,0)*POISSON(J275,H273,0)","v":6.4438132463736752E-5},{"$f":"POISSON(F282,H272,0)*POISSON(K275,H273,0)","v":2.0949366874574149E-5},{"$f":"POISSON(F282,H272,0)*POISSON(L275,H273,0)","v":5.4486491853870761E-6},{"$f":"POISSON(F282,H272,0)*POISSON(M275,H273,0)","v":1.1809337772657111E-6},{"$f":"POISSON(F282,H272,0)*POISSON(N275,H273,0)","v":2.1938930531269034E-7},{"$f":"POISSON(F282,H272,0)*POISSON(O275,H273,0)","v":3.5662633828967659E-8},{"$f":"POISSON(F282,H272,0)*POISSON(P275,H273,0)","v":5.152984705253429E-9}]
["ТБ 0.5",{"$f":"SUM(G276:P285)-G276","v":0.90448488304358232},{"$f":"1/B283","v":1.1056016731147682},null,null,7,{"$f":"POISSON(F283,H272,0)*POISSON(G275,H273,0)","v":2.6321771814450182E-5},{"$f":"POISSON(F283,H272,0)*POISSON(H275,H273,0)","v":3.4229698065198419E-5},{"$f":"POISSON(F283,H272,0)*POISSON(I275,H273,0)","v":2.2256712767934211E-5},{"$f":"POISSON(F283,H272,0)*POISSON(J275,H273,0)","v":9.6477871796355546E-6},{"$f":"POISSON(F283,H272,0)*POISSON(K275,H273,0)","v":3.1365749661932033E-6},{"$f":"POISSON(F283,H272,0)*POISSON(L275,H273,0)","v":8.1578105614237055E-7},{"$f":"POISSON(F283,H272,0)*POISSON(M275,H273,0)","v":1.768114208262394E-7},{"$f":"POISSON(F283,H272,0)*POISSON(N275,H273,0)","v":3.2847341259247016E-8},{"$f":"POISSON(F283,H272,0)*POISSON(O275,H273,0)","v":5.3394704081589887E-9},{"$f":"POISSON(F283,H272,0)*POISSON(P275,H273,0)","v":7.7151366551753687E-10}]
["ТБ 1.5",{"$f":"SUM(G278:G285,H277:H285,I276:I285,J276:P285)","v":0.6801722402726047},1.4702158376813677,null,null,8,{"$f":"POISSON(F284,H272,0)*POISSON(G275,H273,0)","v":3.4483230282891586E-6},{"$f":"POISSON(F284,H272,0)*POISSON(H275,H273,0)","v":4.4843127173076329E-6},{"$f":"POISSON(F284,H272,0)*POISSON(I275,H273,0)","v":2.9157738967082537E-6},{"$f":"POISSON(F284,H272,0)*POISSON(J275,H273,0)","v":1.2639227685009519E-6},{"$f":"POISSON(F284,H272,0)*POISSON(K275,H273,0)","v":4.1091168794121845E-7},{"$f":"POISSON(F284,H272,0)*POISSON(L275,H273,0)","v":1.0687261563423548E-7},{"$f":"POISSON(F284,H272,0)*POISSON(M275,H273,0)","v":2.3163444254346537E-8},{"$f":"POISSON(F284,H272,0)*POISSON(N275,H273,0)","v":4.3032149993851041E-9},{"$f":"POISSON(F284,H272,0)*POISSON(O275,H273,0)","v":6.9950529535459209E-10},{"$f":"POISSON(F284,H272,0)*POISSON(P275,H273,0)","v":1.0107330001179382E-10}]
["ТБ 2.5",{"$f":"SUM(G279:G285,H278:H285,I277:I285,J276:P285)","v":0.41677481883698803},2.3993772051548228,null,null,9,{"$f":"POISSON(F285,H272,0)*POISSON(G275,H273,0)","v":4.0155796303453891E-7},{"$f":"POISSON(F285,H272,0)*POISSON(H275,H273,0)","v":5.2219918656093282E-7},{"$f":"POISSON(F285,H272,0)*POISSON(I275,H273,0)","v":3.3954250139156761E-7},{"$f":"POISSON(F285,H272,0)*POISSON(J275,H273,0)","v":1.4718407996829286E-7},{"$f":"POISSON(F285,H272,0)*POISSON(K275,H273,0)","v":4.7850755002678749E-8},{"$f":"POISSON(F285,H272,0)*POISSON(L275,H273,0)","v":1.2445339223207525E-8},{"$f":"POISSON(F285,H272,0)*POISSON(M275,H273,0)","v":2.6973880971511802E-9},{"$f":"POISSON(F285,H272,0)*POISSON(N275,H273,0)","v":5.0111031811021399E-10},{"$f":"POISSON(F285,H272,0)*POISSON(O275,H273,0)","v":8.1457543052114943E-11},{"$f":"POISSON(F285,H272,0)*POISSON(P275,H273,0)","v":1.1770007663711071E-11}]
["ТБ 3.5",{"$f":"SUM(G280:G285,H279:H285,I278:I285,J277:J285,K276:P285)","v":0.21057986771314549},4.7487920419924112]
["ТБ 4.5",{"$f":"SUM(G281:G285,H280:H285,I279:I285,J278:J285,K277:K285,L276:P285)","v":8.9518438076041165E-2},11.170883021334141]
["ТБ 5.5",{"$f":"SUM(G282:G285,H281:H285,I280:I285,J279:J285,K278:K285,L277:L285,M276:P285)","v":3.2656251428310384E-2},30.622008230040731]
[]
["ТМ 0.5",{"$f":"1-B283","v":9.5515116956417678E-2},{"$f":"1/B290","v":10.4695469352384},null,"ОЗ",{"$f":"SUM(H277:P285)","v":0.47247893286402287},{"$f":"1/F290","v":2.116496483638552}]
["ТМ 1.5",0.3198277597273953,3.1266829397559124,null,"НЕ ОЗ",{"$f":"1-F290","v":0.52752106713597713},{"$f":"1/F291","v":1.8956588889031682}]
["ТМ 2.5",0.58322518116301203,1.7146036081739395]
["ТМ 3.5",0.78942013228685448,1.2667525935817232,null,"P",{"$f":"SUM(G276,G278,G280,G282,G284,H277,H279,H281,H283,H285,I276,I278,I280,I282,I284,J277,J279,J281,J283,J285,K276,K278,K280,K282,K284,L277,L279,L281,L283,L285)+SUM(M276,M278,M280,M282,M284,N277,N279,N281,N283,N285,O276,O278,O280,O282,O284,P277,P279,P281,P283,P285)","v":0.5045607046791879},{"$f":"1/F293","v":1.9819220774154906}]
["ТМ 4.5",0.91048156192395879,1.0983198801817335,null,"D",{"$f":"1-F293","v":0.4954392953208121},{"$f":"1/F294","v":2.018410750710578}]
["ТМ 5.5",0.96734374857168959,1.0337586834840544]

{"sheet":"Mill","index":5,"n_rows":97,"n_cols":25,"rows_kept":97,"cut":false,"hidden":false,"merged":[[51,1,51,10],[74,2,74,6],[43,1,43,4],[43,6,43,9],[43,15,43,16],[44,1,44,4],[44,6,44,9],[45,1,45,4],[45,6,45,9],[36,15,36,16],[38,15,38,16],[40,1,40,10],[40,15,41,16],[42,1,42,4],[42,6,42,9],[1,12,1,14],[17,1,17,4],[23,15,23,16],[23,17,23,19],[25,21,25,22],[23,21,23,22],[23,24,24,24],[24,15,24,16],[35,15,35,16],[35,17,35,19],[26,15,26,16],[27,21,27,22],[28,15,29,16],[31,15,31,16]]}
[]
[null,"Тест №1 Анализ 10 последних игр команд дома и в гостях",null,null,null,null,null,{"$f":"IF(ДомаДома!N2=\"В\",1,0)","v":0},{"$f":"IF(C7=\"Победа\",1,0)","v":0},{"$f":"IF(ГостиГости!N2=\"В\",1,0)","v":0},{"$f":"IF(E7=\"Победа\",1,0)","v":0},null,{"$f":"IF(F20>F21,B20,IF(F20<F21,B21,\"Ничья\"))","v":"П2"},null,null,null,null,null,null,null,null,2.5]
[null,null,null,null,null,null,null,{"$f":"IF(ДомаДома!N3=\"В\",1,0)","v":0},{"$f":"IF(C8=\"Победа\",1,0)","v":0},{"$f":"IF(ГостиГости!N3=\"В\",1,0)","v":1},{"$f":"IF(E8=\"Победа\",1,0)","v":0},null,null,null,null,null,null,null,null,null,null,2.5]
[null,null,null,null,null,null,null,{"$f":"IF(ДомаДома!N4=\"В\",1,0)","v":0},0,{"$f":"IF(ГостиГости!N4=\"В\",1,0)","v":1},1,null,null,null,null,null,null,null,null,null,null,2.5]
[null,"Последние 10 игр команды 1",null,"Последние 10 игр команды 2",null,null,null,{"$f":"IF(ДомаДома!N5=\"В\",1,0)","v":0},1,{"$f":"IF(ГостиГости!N5=\"В\",1,0)","v":0},1,null,null,null,null,null,null,null,null,null,null,2.5]
[null,"№ игры","Исход","№ игры","Исход",null,null,{"$f":"IF(ДомаДома!N6=\"В\",1,0)","v":1},0,{"$f":"IF(ГостиГости!N6=\"В\",1,0)","v":0},1,null,null,null,null,null,null,null,null,null,null,2.5]
[null,1,{"$f":"IF(Дома!N2=\"В\",\"Победа\",IF(Дома!N2=\"П\",\"Поражение\",\"Ничья\"))","v":"Ничья"},1,{"$f":"IF(Гости!N2=\"В\",\"Победа\",IF(Гости!N2=\"П\",\"Поражение\",\"Ничья\"))","v":"Ничья"},null,null,{"$f":"IF(ДомаДома!N7=\"В\",1,0)","v":0},1,{"$f":"IF(ГостиГости!N7=\"В\",1,0)","v":0},1,null,null,null,null,null,null,null,null,null,null,2.5]
[null,2,{"$f":"IF(Дома!N3=\"В\",\"Победа\",IF(Дома!N3=\"П\",\"Поражение\",\"Ничья\"))","v":"Ничья"},2,{"$f":"IF(Гости!N3=\"В\",\"Победа\",IF(Гости!N3=\"П\",\"Поражение\",\"Ничья\"))","v":"Ничья"},null,null,{"$f":"IF(ДомаДома!N8=\"В\",1,0)","v":0},0,{"$f":"IF(ГостиГости!N8=\"В\",1,0)","v":0},0,null,null,null,null,null,null,null,null,null,null,2.5]
[null,3,{"$f":"IF(Дома!N4=\"В\",\"Победа\",IF(Дома!N4=\"П\",\"Поражение\",\"Ничья\"))","v":"Ничья"},3,{"$f":"IF(Гости!N4=\"В\",\"Победа\",IF(Гости!N4=\"П\",\"Поражение\",\"Ничья\"))","v":"Победа"},null,null,{"$f":"IF(ДомаДома!N9=\"В\",1,0)","v":0},0,{"$f":"IF(ГостиГости!N9=\"В\",1,0)","v":0},1,null,null,null,null,null,null,null,null,null,null,2.5]
[null,4,{"$f":"IF(Дома!N5=\"В\",\"Победа\",IF(Дома!N5=\"П\",\"Поражение\",\"Ничья\"))","v":"Победа"},4,{"$f":"IF(Гости!N5=\"В\",\"Победа\",IF(Гости!N5=\"П\",\"Поражение\",\"Ничья\"))","v":"Победа"},null,null,{"$f":"IF(ДомаДома!N10=\"В\",1,0)","v":0},1,{"$f":"IF(ГостиГости!N10=\"В\",1,0)","v":1},0]
[null,5,{"$f":"IF(Дома!N6=\"В\",\"Победа\",IF(Дома!N6=\"П\",\"Поражение\",\"Ничья\"))","v":"Поражение"},5,{"$f":"IF(Гости!N6=\"В\",\"Победа\",IF(Гости!N6=\"П\",\"Поражение\",\"Ничья\"))","v":"Победа"},null,null,{"$f":"IF(ДомаДома!N11=\"В\",1,0)","v":1},0,{"$f":"IF(ГостиГости!N11=\"В\",1,0)","v":1},0]
[null,6,{"$f":"IF(Дома!N7=\"В\",\"Победа\",IF(Дома!N7=\"П\",\"Поражение\",\"Ничья\"))","v":"Победа"},6,{"$f":"IF(Гости!N7=\"В\",\"Победа\",IF(Гости!N7=\"П\",\"Поражение\",\"Ничья\"))","v":"Победа"},null,null,{"$f":"SUM(H2:H11)","v":2},{"$f":"SUM(I2:I11)","v":3},{"$f":"SUM(J2:J11)","v":4},{"$f":"SUM(K2:K11)","v":5},null,null,null,null,{"$f":"IF(C7=\"Победа\",2,IF(C7=\"Ничья\",1,0))","v":1},{"$f":"IF(C7=\"Победа\",1,0)","v":0},{"$f":"IF(E7=\"Победа\",2,IF(E7=\"Ничья\",1,0))","v":1},{"$f":"IF(E7=\"Победа\",1,0)","v":0}]
[null,7,{"$f":"IF(Дома!N8=\"В\",\"Победа\",IF(Дома!N8=\"П\",\"Поражение\",\"Ничья\"))","v":"Поражение"},7,{"$f":"IF(Гости!N8=\"В\",\"Победа\",IF(Гости!N8=\"П\",\"Поражение\",\"Ничья\"))","v":"Поражение"},null,null,null,null,null,null,null,null,null,null,{"$f":"IF(C8=\"Победа\",2,IF(C8=\"Ничья\",1,0))","v":1},{"$f":"IF(C8=\"Победа\",1,0)","v":0},{"$f":"IF(E8=\"Победа\",2,IF(E8=\"Ничья\",1,0))","v":1},{"$f":"IF(E8=\"Победа\",1,0)","v":0}]
[null,8,{"$f":"IF(Дома!N9=\"В\",\"Победа\",IF(Дома!N9=\"П\",\"Поражение\",\"Ничья\"))","v":"Поражение"},8,{"$f":"IF(Гости!N9=\"В\",\"Победа\",IF(Гости!N9=\"П\",\"Поражение\",\"Ничья\"))","v":"Победа"},null,null,null,null,null,null,null,null,null,null,1,0,2,1]
[null,9,{"$f":"IF(Дома!N10=\"В\",\"Победа\",IF(Дома!N10=\"П\",\"Поражение\",\"Ничья\"))","v":"Победа"},9,{"$f":"IF(Гости!N10=\"В\",\"Победа\",IF(Гости!N10=\"П\",\"Поражение\",\"Ничья\"))","v":"Ничья"},null,null,null,null,null,null,null,null,null,null,2,1,2,1]
[null,10,{"$f":"IF(Дома!N11=\"В\",\"Победа\",IF(Дома!N11=\"П\",\"Поражение\",\"Ничья\"))","v":"Ничья"},10,{"$f":"IF(Гости!N11=\"В\",\"Победа\",IF(Гости!N11=\"П\",\"Поражение\",\"Ничья\"))","v":"Ничья"},null,null,null,null,null,null,null,null,null,null,0,0,2,1]
[null,null,null,null,null,null,null,null,null,null,null,null,null,null,null,2,1,2,1]
[null,"Итог анализа Теста №1",null,null,null,null,null,{"$f":"SUM(H2:H6)","v":1},{"$f":"SUM(I2:I6)","v":1},{"$f":"SUM(J2:J6)","v":2},{"$f":"SUM(K2:K6)","v":3},null,null,null,null,0,0,0,0]
[null,"Команда ","Очки","Значение Теста","Число","ИТОГ",null,null,null,null,null,null,null,null,null,0,0,2,1]
[null,"П1",{"$f":"P22","v":10},{"$f":"IF(C20>18,4,IF(C20>15,3,IF(C20>10,2,IF(C20>5,1,0))))","v":1},{"$f":"IF(Q22>=9,3,IF(Q22>=6,2,IF(Q22>=4,1,0)))","v":0},{"$f":"IF(C20>C21,1,0)+IF(D20>D21,1,0)+E20","v":0},null,null,null,null,null,null,null,null,null,2,1,1,0]
[null,"П2",{"$f":"R22","v":14},{"$f":"IF(C21>18,4,IF(C21>15,3,IF(C21>10,2,IF(C21>5,1,0))))","v":2},{"$f":"IF(S22>=9,3,IF(S22>=6,2,IF(S22>=4,1,0)))","v":1},{"$f":"IF(C21>C20,1,0)+IF(D21>D20,1,0)+E21","v":3},null,null,null,null,null,null,null,null,null,{"$f":"IF(C16=\"Победа\",2,IF(C16=\"Ничья\",1,0))","v":1},0,{"$f":"IF(E16=\"Победа\",2,IF(E16=\"Ничья\",1,0))","v":1},{"$f":"IF(E16=\"Победа\",1,0)","v":0}]
[null,null,null,"    Последние  три  игры  команд  между  собой",null,null,null,null,null,null,null,null,null,null,null,{"$f":"SUM(P12:P21)","v":10},{"$f":"SUM(Q12:Q21)","v":3},{"$f":"SUM(R12:R21)","v":14},{"$f":"SUM(S12:S21)","v":5}]
[null,null,"КОМАНДА 1","гости","Очки",null,null,"хозяева","КОМАНДА 2","Очки","П1 +"]
[null,"1 игра",{"$f":"ДомаДома!L2","v":2},{"$f":"ДомаДома!M2","v":2},{"$f":"IF(C24>D24,2+(C24-D24),IF(C24=D24,1,0))","v":1},null,"1 игра",{"$f":"ГостиГости!M2","v":2},{"$f":"ГостиГости!L2","v":2},{"$f":"IF(I24>H24,2+(I24-H24),IF(H24=I24,1,0))","v":1},"П2 +",null,null,null,null,{"$f":"Очные!A1","v":"Жарково"},null,"ввод данных",null,null,null,"РАСЧЁТ ДАННЫХ",null,"Очки","Итоговые очки"]
[null,"2 игра",{"$f":"ДомаДома!L3","v":0},{"$f":"ДомаДома!M3","v":0},{"$f":"IF(C25>D25,2+(C25-D25),IF(C25=D25,1,0))","v":1},null,"2 игра",{"$f":"ГостиГости!M3","v":1},{"$f":"ГостиГости!L3","v":2},{"$f":"IF(I25>H25,2+(I25-H25),IF(H25=I25,1,0))","v":3},"П1 -",null,null,null,null,"Место в турнирной таблице",null,{"$f":"VLOOKUP(P24,P46:Q78,2,FALSE)","v":6},"из",{"$f":"MAX(Таблица!A:A)","v":16}]
[null,"3 игра",{"$f":"ДомаДома!L4","v":0},{"$f":"ДомаДома!M4","v":3},{"$f":"IF(C26>D26,2+(C26-D26),IF(C26=D26,1,0))","v":0},null,"3 игра",{"$f":"ГостиГости!M4","v":1},{"$f":"ГостиГости!L4","v":2},{"$f":"IF(I26>H26,2+(I26-H26),IF(H26=I26,1,0))","v":3},"П2 -",null,null,null,null,null,null,null,null,null,null,"Команда1",null,{"$f":"S46+S47+IF(R27>R39,U46,0)","v":13},{"$f":"X26*U47","v":13.65}]
[null,null,null,"Итого:",{"$f":"SUM(E24,E25,E26) +1","v":3},null,null,null,"Итого:",{"$f":"SUM(J24,J25,J26)","v":7},"1Х",null,null,null,null,"Сколько мячей забито",null,{"$f":"'Incognito DATA'!F2","v":21}]
[null,"какая команда дома","Счёт","Счёт","Очки","Какая команда победила ","Какая команда в гостях",null,null,null,"Х2",null,null,null,null,null,null,null,null,null,null,"Команда2",null,{"$f":"T46+T47+IF(R39>R27,U46,0)","v":29},{"$f":"X28*U48","v":43.5}]
[null,{"$f":"IF(Очные!C2=Очные!A1,1,2)","v":1},{"$f":"IF(B29=1,Очные!E2,Очные!F2)","v":2},{"$f":"IF(B29=2,Очные!E2,Очные!F2)","v":2},{"$f":"IF(C29>D29,3+(C29-D29),IF(C29=D29,1,IF(D29>C29,3+(D29-C29),0)))","v":1},{"$f":"IF(C29>D29,B29,IF(D29>C29,B29,0))","v":0},{"$f":"IF(B29=2,1,2)","v":2},null,null,{"$f":"IF(F29=0,1,0)","v":1},"Ф1(+1)",null,null,null,null,"Сколько мячей забито за  последние 3 игры дома",null,{"$f":"ДомаДома!S4","v":2}]
[null,{"$f":"IF(Очные!C3=Очные!A1,1,2)","v":2},{"$f":"IF(B30=1,Очные!E3,Очные!F3)","v":1},{"$f":"IF(B30=2,Очные!E3,Очные!F3)","v":0},{"$f":"IF(C30>D30,3+(C30-D30),IF(C30=D30,0,IF(D30>C30,3+(D30-C30),0)))","v":4},{"$f":"IF(C30>D30,B30,IF(D30>C30,B30,0))","v":2},{"$f":"IF(B30=2,1,2)","v":1},null,null,{"$f":"IF(B29=2,1,0)","v":0},"Ф2(+1)"]
[null,{"$f":"IF(Очные!C4=Очные!A1,1,2)","v":2},{"$f":"IF(B31=1,Очные!E4,Очные!F4)","v":0},{"$f":"IF(B31=2,Очные!E4,Очные!F4)","v":1},{"$f":"IF(C31>D31,3+(C31-D31),IF(C31=D31,0,IF(D31>C31,3+(D31-C31),0)))","v":4},{"$f":"IF(C31>D31,B31,IF(D31>C31,B31,0))","v":2},{"$f":"IF(B31=2,1,2)","v":1},null,null,{"$f":"IF(J30=J29,1,0)","v":0},"Х П1"]
[null,"ИТОГ",null,null,null,null,null,null,null,null,"Х П2",null,null,null,null,"Игр сыграно за сезон",null,{"$f":"'Incognito DATA'!B2","v":20}]
[null,"Дополнительная информация, НЕОБЯЗАТЕЛЬНО для заполнения: "]
[null,"Кто выше в турнирной таблице?",null,{"$f":"IF(R25<R37,1,2)","v":2},{"$f":"IF(C38>D38,1,IF(C38=D38,0,2))","v":2},{"$f":"IF(E34=1,C38-D38,IF(E34=2,D38-C38,0))","v":12},{"$f":"IF(D34=1,1,2)+IF(F34>0,99,0)","v":101},null,{"$f":"IF(G29=1,1,0)","v":0},{"$f":"IF(G29=2,1,0)","v":1}]
[null,null,1,2,"Для к1","Для к2",null,null,{"$f":"IF(G30=1,1,0)","v":1},{"$f":"IF(G30=2,1,0)","v":0}]
[null,"Очки",{"$f":"E27+IF(F29=1,E29,0)+IF(F30=1,E30,0)+IF(F31=1,E31,0)","v":3},{"$f":"J27+IF(F29=2,E29,0)+IF(F30=2,E30,0)+IF(F31=2,E31,0)","v":15},{"$f":"IF(E34=1,F34,0)","v":0},{"$f":"IF(E34=2,F34,0)","v":12},null,null,{"$f":"IF(G31=1,1,0)","v":1},{"$f":"IF(G31=2,1,0)","v":0},null,null,null,null,null,{"$f":"Очные!B1","v":"Нови Белград"},null,"ввод данных",null,null,null,"Вероятный исход в процентах"]
[null,"Доп. Очки",null,null,{"$f":"IF(E36>12,K23,IF(E36>7,K25,IF(E36>4,K27,IF(E36>0,K29,0))))","v":0},{"$f":"IF(F36>13,K24,IF(F36>7,K26,IF(F36>4,K28,IF(F36>0,K30,0))))","v":"П2 -"},null,null,{"$f":"SUM(I34:I36)","v":2},{"$f":"SUM(J34:J36)","v":1},null,null,null,null,null,"Место в турнирной таблице",null,{"$f":"VLOOKUP(P36,P46:Q78,2,FALSE)","v":5},"из",{"$f":"T25","v":16},null,"П1",{"$f":"(X26/S49)","v":0.26943005181347152},"П2",{"$f":"(X28/S49)","v":0.60103626943005184}]
[null,"Итоговые:",{"$f":"SUM(C36,C37)","v":3},{"$f":"SUM(D36,D37)","v":15}]
[null,"ИТОГО:",{"$f":"IF(E34=1,E37,IF(G34=1,K31,IF(E34=2,F37,K32)))","v":"П2 -"},null,null,null,null,null,null,null,null,null,null,null,null,"Сколько мячей забито",null,{"$f":"'Incognito DATA'!F8","v":30},null,null,null,null,"Ничья",{"$f":"1-(W37+Y37)","v":0.1295336787564767}]
[]
[null,"Тест №3 Общая теория",null,null,null,null,null,null,null,null,null,null,null,null,null,"Мячей забито за  последние 3 игры в гостях",null,{"$f":"ГостиГости!S4","v":6}]
[null,null,null,null,null,null,null,null,null,null,null,null,null,null,null,null,null,null,null,null,null,"ТМ 2,5",{"$f":"100-Y42","v":24.480874316939889},"ТБ2,5",{"$f":"(S53/T52)*100-10","v":75.519125683060111}]
[null,"Расчёт команды 1",null,null,null,"Число","Расчёт команды 2",null,null,null,"Число"]
[null,"Сколько Побед из 5 последних игр дома",null,null,null,{"$f":"H18","v":1},"Сколько Побед из 5 последних игр в гостях",null,null,null,{"$f":"J18","v":2},null,null,null,null,"Игр сыграно за сезон",null,{"$f":"'Incognito DATA'!B2","v":20}]
[null,"Сколько Побед из 5 последних игр вообще",null,null,null,{"$f":"I18","v":1},"Сколько Побед из 5 последних игр вообще",null,null,null,{"$f":"K18","v":3}]
[null,"Сколько Побед из 3 последних игр между командами",null,null,null,{"$f":"I37","v":2},"Сколько Побед из 3 последних игр между командами",null,null,null,0,null,null,null,null,{"$f":"Таблица!B2","v":"Инджия"},{"$f":"Таблица!A2","v":1},null,{"$f":"T25-R25","v":10},{"$f":"T37-R37","v":11},{"$f":"IF(R27>R39,R27-R39,IF(R39>R27,R39-R27,0))","v":9}]
[null,null,null,null,null,{"$f":"SUM(F44:F46)/13","v":0.30769230769230771},null,null,null,null,{"$f":"SUM(K44:K46)/13","v":0.38461538461538464},null,null,null,null,{"$f":"Таблица!B3","v":"Младость ГАТ"},{"$f":"Таблица!A3","v":2},null,{"$f":"(R29*3)/2","v":3},{"$f":"(R41*3)/2","v":9},{"$f":"R27/R32","v":1.05}]
[null,null,null,null,null,{"$f":"(1+1-1)/3","v":0.33333333333333331},null,null,null,null,{"$f":"(1+1-1)/3","v":0.33333333333333331},null,null,null,null,{"$f":"Таблица!B4","v":"Железничар Панчево"},{"$f":"Таблица!A4","v":3},null,null,null,{"$f":"R39/R44","v":1.5}]
[null,null,null,null,null,{"$f":"F47/F48","v":0.92307692307692313},1,{"$f":"F49+G49+K49","v":3.0769230769230771},"Итог",{"$f":"IF(F50>K50,\"П1\",IF(K50>F50,\"П2\",\"Х\"))","v":"П2"},{"$f":"K47/K48","v":1.153846153846154},null,null,null,null,{"$f":"Таблица!B5","v":"Явор Иваница"},{"$f":"Таблица!A5","v":4},null,{"$f":"T25-1+5+((R32+R44)/2)+(((R27+R44)/2)/2)-2","v":48.25}]
[null,null,null,null,null,{"$f":"((H49-F49)*F49)/3","v":0.66272189349112443},null,{"$f":"(H49-G49)*1/3","v":0.6923076923076924},null,null,{"$f":"((H49-K49)*K49)/3","v":0.7396449704142013},null,null,null,null,{"$f":"Таблица!B6","v":"Нови Белград"},{"$f":"Таблица!A6","v":5}]
[null,null,null,null,null,null,null,null,null,null,null,null,null,null,null,{"$f":"Таблица!B7","v":"Жарково"},{"$f":"Таблица!A7","v":6},null,{"$f":"(R27/R32)+R29/3","v":1.7166666666666668},{"$f":"(R32+R44)/2","v":20}]
[null,"Тест №4 Тоталы",null,null,null,null,null,null,null,null,null,null,null,null,null,{"$f":"Таблица!B8","v":"Сремска-Митровица"},{"$f":"Таблица!A8","v":7},null,{"$f":"R39/R44+R41/3","v":3.5},{"$f":"((T51/4)*3+(T51/2)+(T51)+(T51/5)*4)/T51","v":3.05}]
[null,"Второй анализ.","Команда 1","Команда 2",{"$f":"C54*C55","v":0.3888888888888889},{"$f":"D54+D55","v":3.2},"П1",null,null,null,null,null,null,null,null,{"$f":"Таблица!B9","v":"Лозница"},{"$f":"Таблица!A9","v":8},null,{"$f":"(S51+S52)/2","v":2.6083333333333334}]
[null,"Забьёт в абстрактном матче ",{"$f":"(C24+C25+C26+1+H24+H25+H26)/6","v":1.1666666666666667},{"$f":"(D24+D25+D26+I24+I25+I26+1)/6","v":2},{"$f":"E53/F53","v":0.12152777777777778},{"$f":"F53/E53","v":8.2285714285714295},"П2",null,null,null,null,null,null,null,null,{"$f":"Таблица!B10","v":"Мачва"},{"$f":"Таблица!A10","v":9}]
[null,"Забьёт/пропустит в конкретном",{"$f":"(C24+C25+C26)/(D24+D25+D26+1)","v":0.33333333333333331},{"$f":"(I24+I25+I26)/(H24+H25+H26+1)","v":1.2},null,null,"Х","Итог",{"$f":"IF(E56>F56,G53,IF(F56>E56,G54,G55))","v":"П2"},null,null,null,null,null,null,{"$f":"Таблица!B11","v":"Будучность Добановичи"},{"$f":"Таблица!A11","v":10}]
[null,"Забьёт в этом матче",{"$f":"E54","v":0.12152777777777778},{"$f":"F54","v":8.2285714285714295},{"$f":"C54+C55+C56","v":1.6215277777777777},{"$f":"D54+D55+D56","v":11.428571428571431},null,null,null,null,null,null,null,null,null,{"$f":"Таблица!B12","v":"Златибор"},{"$f":"Таблица!A12","v":11}]
[null,null,null,null,null,null,null,null,null,null,null,null,null,null,null,{"$f":"Таблица!B13","v":"Графичар Белград"},{"$f":"Таблица!A13","v":12}]
[null,null,"Mill+ Исход",null,null,null,null,null,null,null,null,null,null,null,null,{"$f":"Таблица!B14","v":"Бачка"},{"$f":"Таблица!A14","v":13}]
[null,null,null,null,null,null,null,null,null,null,null,null,null,null,null,{"$f":"Таблица!B15","v":"Рад"},{"$f":"Таблица!A15","v":14}]
[null,"Первая партия",null,null,null,null,"Первая партия",null,null,null,null,null,null,null,null,{"$f":"Таблица!B16","v":"Тимок"},{"$f":"Таблица!A16","v":15}]
[null,"Игра","Команда 1","Гости","Очки",null,"Игра","Домашняя ","Команда 2","Очки",null,null,null,null,null,{"$f":"Таблица!B17","v":"Кабель Нови-Сад"},{"$f":"Таблица!A17","v":16}]
[null,"1 игра",{"$f":"ДомаДома!L2","v":2},{"$f":"ДомаДома!M2","v":2},{"$f":"IF(C62>D62,2+(C62-D62),IF(C62=D62,1,0))","v":1},null,"1 игра",{"$f":"ГостиГости!M2","v":2},{"$f":"ГостиГости!L2","v":2},{"$f":"IF(I62>H62,2+(I62-H62),IF(H62=I62,1,0))","v":1},null,null,null,null,null,{"$f":"Таблица!B18","v":0},{"$f":"Таблица!A18","v":0}]
[null,"2 игра",{"$f":"ДомаДома!L3","v":0},{"$f":"ДомаДома!M3","v":0},{"$f":"IF(C63>D63,2+(C63-D63),IF(C63=D63,1,0))","v":1},null,"2 игра",{"$f":"ГостиГости!M3","v":1},{"$f":"ГостиГости!L3","v":2},{"$f":"IF(I63>H63,2+(I63-H63),IF(H63=I63,1,0))","v":3},null,null,null,null,null,{"$f":"Таблица!B19","v":0},{"$f":"Таблица!A19","v":0}]
[null,null,null,"Итог:",{"$f":"E62+E63","v":2},null,null,null,"Итог:",{"$f":"J62+J63","v":4},null,null,null,null,null,{"$f":"Таблица!B20","v":0},{"$f":"Таблица!A20","v":0}]
[null,"Вторая партия",null,null,null,null,"Вторая партия",null,null,null,null,null,null,null,null,{"$f":"Таблица!B21","v":0},{"$f":"Таблица!A21","v":0}]
[null,"Игра","Команда 1","Гости","Очки",null,"Игра","Домашняя ","Команда2","Очки",null,null,null,null,null,{"$f":"Таблица!B22","v":0},{"$f":"Таблица!A22","v":0}]
[null,"5 игра ",{"$f":"ДомаДома!L6","v":2},{"$f":"ДомаДома!M6","v":1},3,null,"5 игра ",{"$f":"ГостиГости!M6","v":0},{"$f":"ГостиГости!L6","v":0},{"$f":"IF(I67>H67,2+(I67-H67),IF(H67=I67,1,0))","v":1},null,null,null,null,null,{"$f":"Таблица!B23","v":0},{"$f":"Таблица!A23","v":0}]
[null,"6 игра",{"$f":"ДомаДома!L7","v":0},{"$f":"ДомаДома!M7","v":0},1,null,"6 игра",{"$f":"ГостиГости!M7","v":1},{"$f":"ГостиГости!L7","v":1},{"$f":"IF(I68>H68,2+(I68-H68),IF(H68=I68,1,0))","v":1},null,null,null,null,null,{"$f":"Таблица!B24","v":0},{"$f":"Таблица!A24","v":0}]
[null,null,null,"Итог:",{"$f":"SUM(E67:E68)","v":4},null,null,null,"Итог:",{"$f":"J67+J68","v":2},null,null,null,null,null,{"$f":"Таблица!B25","v":0},{"$f":"Таблица!A25","v":0}]
[null,"Сколько побед за последни 10 игр:",null,null,{"$f":"H12","v":2},null,"Сколько побед за последни 10 игр:",null,null,{"$f":"J12","v":4},null,null,null,null,null,{"$f":"Таблица!B26","v":0},{"$f":"Таблица!A26","v":0}]
[null,"Итоговые очки:",null,"Очки","Динамика","Итоговые очки",null,"10BUH1","10BUH2",null,null,null,null,null,null,{"$f":"Таблица!B27","v":0},{"$f":"Таблица!A27","v":0}]
[null,"Команда 1",null,{"$f":"E64+E69+IF(F29=1,E29,0)+IF(F30=1,E30,0)+IF(F31=1,E31,0)","v":6},{"$f":"IF(E64>E69,2,IF(E64=E69,1,0))","v":0},{"$f":"IF(E72=2,D72+(D72*0.3),IF(E72=1,D72,IF(E72=0,D72-(D72*0.3),0)))+IF(E64>J64,(D72*0.15),0)+H72","v":3},null,{"$f":"IF(E70<=4,-(D72*0.2),IF(E70>=6,D72*0.1,IF(E70>=9,D72*0.2,0)))","v":-1.2000000000000002},{"$f":"IF(J70<=4,-(D73*0.2),IF(J70>=6,D73*0.1,IF(J70>=9,D73*0.2,0)))","v":-2.8000000000000003},null,null,null,null,null,null,{"$f":"Таблица!B28","v":0},{"$f":"Таблица!A28","v":0}]
[null,"Команда 2",null,{"$f":"J64+J69+IF(F29=2,E29,0)+IF(F30=2,E30,0)+IF(F31=2,E31,0)","v":14},{"$f":"IF(J64>J69,2,IF(J64=J69,1,0))","v":2},{"$f":"IF(E73=2,D73+(D73*0.3),IF(E73=1,D73,IF(E73=0,D73-(D73*0.3),0)))+IF(J64>E64,(D73*0.15),0)+I72","v":17.5},null,"КТО ПОБЕДИЛ","Разница",null,null,null,null,null,null,{"$f":"Таблица!B29","v":0},{"$f":"Таблица!A29","v":0}]
[null,null,null,null,null,null,null,{"$f":"IF(F72>F73,1,IF(F72=F73,0,2))","v":2},{"$f":"IF(H74=1,F72-F73,IF(H74=2,F73-F72,0))","v":14.5},null,null,null,null,null,null,{"$f":"Таблица!B30","v":0},{"$f":"Таблица!A30","v":0}]
[null,"Mill+(Исход):",{"$f":"IF(H74=1,I76,I77)","v":"П2"},null,null,null,null,"П1","ИТОГ",null,null,null,null,null,null,{"$f":"Таблица!B31","v":0},{"$f":"Таблица!A31","v":0}]
[null,null,null,null,null,null,null,"П2",{"$f":"IF(I74<6,H79,IF(I74<10,H77,H75))","v":"П1"},null,null,null,null,null,null,{"$f":"Таблица!B32","v":0},{"$f":"Таблица!A32","v":0}]
[null,null,null,null,null,null,null,"1Х",{"$f":"IF(I74<6,H80,IF(I74<10,H78,H76))","v":"П2"},null,null,null,null,null,null,{"$f":"Таблица!B33","v":0},{"$f":"Таблица!A33","v":0}]
[null,null,null,null,null,null,null,"Х2",null,null,null,null,null,null,null,{"$f":"Таблица!B34","v":0},{"$f":"Таблица!A34","v":0}]
[null,null,null,null,null,null,null," Ф1(+1)"]
[null,null,null,null,null,null,null," Ф2(+1)"]
[]
[]
[]
[]
[]
[]
[]
[]
[null,null,null,"Фут17",null,null,"ОЗ","Тотал","1й забьет",{"$f":"IF(C97>D97,\"1 тайм П1\",IF(D97>C97,\"1 тайм П2\",\"1 тайм Х\"))","v":"1 тайм Х"},{"$f":"C97& \" - \" &D97","v":"0 - 0"}]
[null,null,{"$f":"IF(C91-TRUNC(C91)>=0.7,TRUNC(C91)+1,TRUNC(C91))","v":0},{"$f":"IF(D91-TRUNC(D91)>=0.7,TRUNC(D91)+1,TRUNC(D91))","v":1},null,null,{"$f":"IF(AND(C90>0,D90>0),\"ОЗ-да\",\"ОЗ-нет\")","v":"ОЗ-нет"},{"$f":"IF(C90+D90>2,\"ТБ2.5\",\"ТМ2.5\")","v":"ТМ2.5"},{"$f":"IF(C92>D92,P24,P36)","v":"Нови Белград"},{"$f":"IF(C90>D90,\"Матч П1\",IF(D90>C90,\"Матч П2\",\"Матч X\"))","v":"Матч П2"},{"$f":"C90& \" - \" &D90","v":"0 - 1"}]
[null,null,{"$f":"SUM(C93:C95)","v":0.60000000000000009},{"$f":"SUM(D93:D95)","v":0.84000000000000008},null,null,null,null,null,{"$f":"J89&\"/\"&J90","v":"1 тайм Х/Матч П2"}]
[null,null,{"$f":"C91/2","v":0.30000000000000004},{"$f":"D91/2","v":0.42000000000000004}]
[0,{"$f":"AVERAGE(ДомаДома!L2:L6)","v":0.8},{"$f":"B93*0.4","v":0.32000000000000006},{"$f":"E93*0.4","v":0.64000000000000012},{"$f":"AVERAGE(ДомаДома!M2:M6)","v":1.6},0]
[0,{"$f":"AVERAGE(ГостиГости!L2:L6)","v":1.4},{"$f":"B94*0.2","v":0.27999999999999997},{"$f":"E94*0.2","v":0.2},{"$f":"AVERAGE(ГостиГости!M2:M6)","v":1},0]
[0,{"$f":"AVERAGE(A93:A97)","v":0},{"$f":"B95*0.4","v":0},{"$f":"E95*0.4","v":0},{"$f":"AVERAGE(F93:F97)","v":0},0]
[0,null,null,null,null,0]
[0,null,{"$f":"IF(C92-TRUNC(C92)>=0.7,TRUNC(C92)+1,TRUNC(C92))","v":0},{"$f":"IF(D92-TRUNC(D92)>=0.7,TRUNC(D92)+1,TRUNC(D92))","v":0},null,0]

{"sheet":"Beta8","index":6,"n_rows":57,"n_cols":25,"rows_kept":57,"cut":false,"hidden":false,"merged":[[25,18,25,21],[23,18,24,21],[21,18,22,21],[15,18,15,19],[16,18,16,19],[17,18,17,19],[1,12,2,24],[20,18,20,21],[3,20,4,22],[3,23,4,24],[7,12,8,14],[7,15,8,17],[8,18,9,19],[8,23,9,24],[19,15,20,17],[3,12,4,14],[3,15,4,17],[3,18,4,19],[11,12,12,14],[11,15,12,17],[13,18,14,19],[15,12,16,14],[18,18,19,21],[15,15,16,17],[17,15,18,17],[13,23,14,24],[18,23,19,24],[43,2,43,5],[43,1,44,1],[43,6,43,13],[1,10,2,11],[3,10,4,11],[5,10,6,11],[7,10,8,10],[9,10,10,10],[7,11,8,11],[23,10,24,11],[25,10,25,11],[26,10,26,11],[15,11,16,11],[9,11,10,11],[11,11,12,11],[13,11,14,11],[11,10,12,10],[13,10,14,10],[15,10,16,10],[29,10,30,17],[17,10,18,11],[24,8,24,9],[26,8,26,9],[25,8,25,9],[27,8,27,9],[40,1,40,2],[35,10,35,11],[36,10,36,11],[31,10,32,10],[39,10,39,12],[40,10,40,12],[37,10,38,17],[32,11,33,11],[32,12,33,12],[32,13,33,13],[32,14,33,14],[32,15,33,16],[35,17,36,17],[31,11,31,12],[31,13,31,14],[31,15,31,16],[41,1,42,1],[41,2,42,2],[33,10,34,10],[33,17,34,17],[41,10,41,12],[42,10,42,12],[19,7,20,7],[19,8,20,9],[36,3,36,9],[30,1,31,1],[30,2,31,2],[19,1,19,6],[22,1,22,2],[22,3,22,4],[22,5,22,6],[29,3,29,4],[29,5,29,6],[21,7,22,9],[28,7,29,9],[21,15,22,17],[31,17,32,17],[21,10,22,11],[30,7,31,9],[23,8,23,9],[15,7,16,7],[15,8,16,8],[15,9,16,9],[17,7,18,7],[17,8,18,8],[17,9,18,9],[15,1,15,4],[15,5,16,5],[15,6,16,6],[3,1,4,1],[3,2,4,3],[3,4,4,5],[3,6,4,6],[13,1,14,2],[13,3,14,3],[13,4,14,5],[13,6,14,6],[1,1,2,6],[9,1,10,3],[9,4,10,6],[11,2,12,3],[11,4,12,6],[5,1,6,2],[5,3,6,4],[5,5,6,6],[7,1,8,1],[7,2,8,2],[7,3,8,3],[7,4,8,4],[7,5,8,5],[7,6,8,6],[1,7,2,9],[3,7,4,7],[3,8,4,8],[3,9,4,9],[5,7,6,9],[13,7,14,9],[7,7,8,7],[7,8,8,8],[7,9,8,9],[9,7,10,9],[11,7,12,9]]}
[]
[null,"MyBet_MySkore_v10_11_1",null,null,null,null,null,"Wanga-Bet_v1_010_2",null,null,"\"Динамика\"",null,"Altadar"]
[]
[null,{"$f":"CONCATENATE(Расчеты!E14,\" / \",Расчеты!H14)","v":"6 / 16"},{"$f":"Расчеты!F14","v":"Жарково"},null,{"$f":"Расчеты!I14","v":"Нови Белград"},null,{"$f":"CONCATENATE(Расчеты!K14,\" / \",Расчеты!H14)","v":"5 / 16"},{"$f":"C4","v":"Жарково"},"-",{"$f":"E4","v":"Нови Белград"},{"$f":"Расчеты!Z50","v":"Х2"},null,"ИСХОДЫ №1",null,null,"ДИ №1",null,null,"ТОТАЛЫ №1",null,"ТС",null,null,"ИТБ №1"]
[]
[null,"Точный Счет \"Програмный\"",null,"Точный Счет по Миллеру",null,"Точный Счет на ТМ (2А,ЗА)",null,"Точный Счет Матча",null,null,"\"Теория Лиги\"",null,"П1","Х","П2","1Х",12,"Х2","ТБ","ТМ","ТС №1",{"$f":"Расчеты!G118","v":1},{"$f":"Расчеты!H118","v":0},"ИТБ1","ИТБ2"]
[null,null,null,null,null,null,null,null,null,null,null,null,{"$f":"Расчеты!C104","v":9.5238095238095233E-2},{"$f":"Расчеты!D104","v":0.5714285714285714},{"$f":"Расчеты!E104","v":0.33333333333333331},{"$f":"Расчеты!C107","v":0.33333333333333331},{"$f":"Расчеты!D107","v":0.21428571428571427},{"$f":"Расчеты!E107","v":0.45238095238095233},{"$f":"Расчеты!C110","v":2.0666666666666669},{"$f":"Расчеты!D110","v":2.1666666666666665},"ТС №2",{"$f":"Расчеты!G119","v":0},{"$f":"Расчеты!H119","v":1},{"$f":"Расчеты!C114","v":1.0333333333333334},{"$f":"Расчеты!D114","v":1.8333333333333333}]
[null,{"$f":"CONCATENATE(Расчеты!F12,\" - \",Расчеты!F13)","v":"1 - 2"},{"$f":"CONCATENATE(Расчеты!G12,\" - \",Расчеты!G13)","v":"1 - 2"},{"$f":"CONCATENATE(Расчеты!N18,\" - \",Расчеты!N20)","v":"1 - 0"},{"$f":"CONCATENATE(Расчеты!O18,\" - \",Расчеты!O20)","v":"1 - 1"},{"$f":"CONCATENATE(Расчеты!H12,\" - \",Расчеты!H13)","v":"1 - 1"},{"$f":"CONCATENATE(Расчеты!I12,\" - \",Расчеты!I13)","v":"1 - 2"},{"$f":"Расчеты!AE57","v":0},":",{"$f":"Расчеты!AG57","v":1},"П1",{"$f":"Расчеты!T67/100","v":0.2139917695473251},"ИСХОДЫ №2",null,null,"ДИ №2",null,null,{"$f":"Расчеты!C111","v":0.51181102362204722},{"$f":"Расчеты!D111","v":0.48818897637795278},"ТС №3",{"$f":"Расчеты!G120","v":0},{"$f":"Расчеты!H120","v":-1},{"$f":"Расчеты!C115","v":0.63953488372093015},{"$f":"Расчеты!D115","v":0.3604651162790698}]
[null,null,null,null,null,null,null,null,null,null,null,null,null,null,null,null,null,null,"ТОТАЛЫ №2",null,"ТС №4",{"$f":"Расчеты!G121","v":2},{"$f":"Расчеты!H121","v":4},"ИТБ №2"]
[null,"Первый гол забьёт:",null,null,"Если условие слабое то 1 гол забьет:",null,null,"Первый Гол Забьёт:",null,null,"Х",{"$f":"Расчеты!U67/100","v":0.37448559670781889},"П1","Х","П2","1Х",12,"Х2",null,null,"ТС №5",{"$f":"Расчеты!G122","v":1},{"$f":"Расчеты!H122","v":3}]
[null,null,null,null,null,null,null,null,null,null,null,null,{"$f":"Расчеты!F103","v":0.11111111111111113},{"$f":"Расчеты!G103","v":0.55555555555555558},{"$f":"Расчеты!H103","v":0.33333333333333337},{"$f":"Расчеты!F107","v":0.33333333333333337},{"$f":"Расчеты!G107","v":0.22222222222222227},{"$f":"Расчеты!H107","v":0.44444444444444448},"ТБ","ТМ","ТС №6",{"$f":"Расчеты!G123","v":3},{"$f":"Расчеты!H123","v":5},"ИТБ1","ИТБ2"]
[null,{"$f":"Расчеты!J12","v":0.8},{"$f":"IF(Расчеты!K12=\"К1\",\"Команда 1\",\"Команда 2\")","v":"Команда 2"},null,{"$f":"IF(Расчеты!K13=\"К1\",\"Команда 1\",\"Команда 2\")","v":"Команда 1"},null,null,{"$f":"Расчеты!G87","v":"2 команда"},null,null,"П2",{"$f":"Расчеты!V67/100","v":0.41152263374485598},"ИСХОДЫ №3",null,null,"ДИ №3",null,null,{"$f":"Расчеты!E110","v":2.2000000000000002},{"$f":"Расчеты!F110","v":3.2},null,null,null,{"$f":"Расчеты!E114","v":1.1000000000000001},{"$f":"Расчеты!F114","v":1.28}]
[null,{"$f":"Расчеты!J13","v":1.4615384615384615},null,null,null,null,null,null,null,null,null,null,null,null,null,null,null,null,{"$f":"Расчеты!E111","v":0.59259259259259256},{"$f":"Расчеты!F111","v":0.40740740740740744},null,null,null,{"$f":"Расчеты!E115","v":0.46218487394957991},{"$f":"Расчеты!F115","v":0.53781512605042026}]
[null,"Обе забьют? ",null,{"$f":"Расчеты!L14","v":"Да"},"Индикатор ТБ 2,5",null,{"$f":"Расчеты!C28","v":"Нет ставки"},"Вероятность забитого гола:",null,null,"ТБ 2,5",{"$f":"Расчеты!X67/100","v":0.77301587301587316},"П1","Х","П2","1Х",12,"Х2","ТОТАЛЫ №3",null,null,null,null,"ИТМ №1"]
[null,null,null,null,null,null,null,null,null,null,null,null,{"$f":"Расчеты!I104","v":0.26470588235294118},{"$f":"Расчеты!J104","v":0.5},{"$f":"Расчеты!K104","v":0.23529411764705882},{"$f":"Расчеты!I107","v":0.38235294117647056},{"$f":"Расчеты!J107","v":0.25},{"$f":"Расчеты!K107","v":0.36764705882352944}]
[null,"Средние показатели команд за 5 домашних и  гостевых матчей",null,null,null,"Возможный Тотал матча",{"$f":"Расчеты!D14","v":2.4999999999999996},"Команда 1",null,"Команда 2","ТМ 2,5",{"$f":"Расчеты!W67/100","v":0.22698412698412682},"ИСХОДЫ №4",null,null,"ДИ №4",null,null,{"$f":"\"Тотал №1 \"&Расчеты!G110","v":"Тотал №1 ТМ(2,42)"},null,null,null,null,"ИТМ1","ИТМ2"]
[null,"Команды:","Тотал","Забито","Пропущено",null,null,null,null,null,null,null,null,null,null,null,null,null,{"$f":"\"Тотал №2 \"&Расчеты!H110","v":"Тотал №2 ТМ(3,42)"},null,null,null,null,{"$f":"Расчеты!G114","v":1.2666666666666666},{"$f":"Расчеты!H114","v":1.2666666666666666}]
[null,{"$f":"C4","v":"Жарково"},{"$f":"Расчеты!J25","v":2.4},{"$f":"Расчеты!K25","v":0.8},{"$f":"Расчеты!L25","v":1.6},"% прохода ТБ 2,5",{"$f":"Расчеты!M12","v":0.71428571428571419},{"$f":"Расчеты!R97","v":"НЕТ"},null,{"$f":"Расчеты!S97","v":"ДА"},"Теория \"0 голов\"",null,"П1","П2",null,{"$f":"Расчеты!L107","v":"1Х"},null,null,{"$f":"\"Тотал №3 \"&Расчеты!I110","v":"Тотал №3 ТМ(1,42)"},null,null,null,null,{"$f":"Расчеты!G115","v":0.5},{"$f":"Расчеты!H115","v":0.5}]
[null,{"$f":"E4","v":"Нови Белград"},{"$f":"Расчеты!J26","v":2.4},{"$f":"Расчеты!K26","v":1.4},{"$f":"Расчеты!L26","v":1},"Ставка на тотал",{"$f":"Расчеты!M13","v":"Нет"},null,null,null,null,null,{"$f":"Расчеты!L104","v":0.56666666666666665},{"$f":"Расчеты!M104","v":0.43333333333333335},null,null,null,null,"ДОП. ИНФО. ПО ГОЛАХ",null,null,null,null,"ИТМ №2"]
[null,"EW-легкая победа, W-победа простая, D-ничья, L-проигрыш, HL-позорный проигрыш",null,null,null,null,null,"Обе забьют?",{"$f":"Расчеты!T97","v":"НЕТ"},null,{"$f":"Расчеты!AB82","v":1},{"$f":"Расчеты!AC82","v":1},null,null,null,"ФОРА (ИСХОД)"]
[null,{"$f":"C4","v":"Жарково"},{"$f":"Расчеты!Q20","v":"D"},{"$f":"Расчеты!R20","v":"D"},{"$f":"Расчеты!S20","v":"D"},{"$f":"Расчеты!T20","v":"EW"},{"$f":"Расчеты!U20","v":"HL"},null,null,null,{"$f":"Расчеты!AB83","v":0.49246428767540978},{"$f":"Расчеты!AC83","v":0.3675688348529676},null,null,null,null,null,null,{"$f":"\"В матче будет забито: \"&Расчеты!I117&\", \"&Расчеты!J117&\" гола\"","v":"В матче будет забито: 1, 2 гола"},null,null,null,null,"ИТМ1","ИТМ2"]
[null,{"$f":"E4","v":"Нови Белград"},{"$f":"Расчеты!V20","v":"D"},{"$f":"Расчеты!W20","v":"D"},{"$f":"Расчеты!X20","v":"W"},{"$f":"Расчеты!Y20","v":"EW"},{"$f":"Расчеты!Z20","v":"EW"},"Теория \"Синдиката\"",null,null,{"$f":"Расчеты!Z75","v":"П2"},null,null,null,null,{"$f":"Расчеты!M107","v":"Ф1(0)"},null,null,{"$f":"\"ОЗ: \"&Расчеты!I119&\"/\"&Расчеты!J119","v":"ОЗ: НЕТ/НЕТ"},null,null,null,null,{"$f":"Расчеты!I114","v":1.1400000000000001},{"$f":"Расчеты!J114","v":1.05}]
[null,"ВСЕГО",null,"ДОМА",null,"ВЫЕЗД",null,null,null,null,null,null,null,null,null,null,null,null,null,null,null,null,null,{"$f":"Расчеты!I115","v":0.3604651162790698},{"$f":"Расчеты!J115","v":0.63953488372093015}]
[null,"W/D/L","Забито/Проп.","W/D/L","Забито/Проп.","W/D/L","Забито/Проп.","Тест № 1",{"$f":"Расчеты!D76","v":"П2"},null,"Теория \"П/Т\"",null,null,null,null,null,null,null,"ДИСТАНЦИЯ"]
[null,{"$f":"Расчеты!H8","v":"3/4/3"},{"$f":"Расчеты!I8","v":"8/10"},{"$f":"Расчеты!O8","v":"1/3/2"},{"$f":"Расчеты!P8","v":"4/8"},{"$f":"Расчеты!V8","v":"2/1/1"},{"$f":"Расчеты!W8","v":"4/2"},"Тест № 2",{"$f":"Расчеты!D77","v":"Ф2 (+1)"}]
[null,{"$f":"Расчеты!H9","v":"5/4/1"},{"$f":"Расчеты!I9","v":"19/13"},{"$f":"Расчеты!O9","v":"3/2/1"},{"$f":"Расчеты!P9","v":"12/8"},{"$f":"Расчеты!V9","v":"2/2/0"},{"$f":"Расчеты!W9","v":"7/5"},"Тест № 3",{"$f":"Расчеты!D78","v":"П2"},null,"Обе забьют?",null,null,null,null,null,null,null,{"$f":"\"Больше мотивации в \"& Расчеты!I123","v":"Больше мотивации в Команда 2"}]
[null,"Команды:","Сила атаки","Сила обороны","Серии","ТБ 2,5","Рейтинг","Тест № 4",{"$f":"Расчеты!D79","v":"П2"},null,{"$f":"Расчеты!AM46","v":"Нет"}]
[null,{"$f":"C4","v":"Жарково"},{"$f":"Расчеты!Q25","v":0.57692307692307687},{"$f":"Расчеты!R25","v":0.66666666666666674},{"$f":"Расчеты!N12","v":"НННВП"},{"$f":"Расчеты!O12","v":"+---+"},{"$f":"Расчеты!P12","v":0.21626984126984128},"Тотал",{"$f":"Расчеты!D80","v":"ТМ 2,5"},null,"1 команда",{"$f":"Расчеты!AF47","v":"Нет"}]
[null,{"$f":"E4","v":"Нови Белград"},{"$f":"Расчеты!Q26","v":1.4999999999999998},{"$f":"Расчеты!R26","v":1.7333333333333334},{"$f":"Расчеты!N13","v":"ННВВВ"},{"$f":"Расчеты!O13","v":"+++-+"},{"$f":"Расчеты!P13","v":0.41600529100529104},"Счет матча",null,null,"2 команда",{"$f":"Расчеты!AG47","v":"Нет"}]
[null,"Исход матча","ТБ 2,5","Мощь",null,"Вероятность гола",null,null,null,null,"New Total Bomb 2016   39"]
[null,{"$f":"Расчеты!W26","v":"П2"},{"$f":"Расчеты!P14","v":0.6},"1 команда","2 команда","1 команда","2 команда",{"$f":"CONCATENATE(Расчеты!Q66,\" - \",Расчеты!Q67)","v":"1 - 2"}]
[null,null,null,{"$f":"Расчеты!Q12","v":-0.43333333333333329},{"$f":"Расчеты!Q13","v":0.15000000000000002},{"$f":"Расчеты!R12","v":"Да"},{"$f":"Расчеты!R13","v":"Да"},null,null,null,"К1","Результат 1",null,"Результат 2",null,"ПРОГНОЗ",null,"К2"]
[null,"Линия БК bet365","П1","Х","П2","ТБ 2,5","ТМ 2,5","ОЗ \"Да\"","ОЗ \"Нет\"","Маржа (%) ТБ:",null,{"$f":"Расчеты!V112","v":1},{"$f":"Расчеты!W112","v":1},{"$f":"Расчеты!X112","v":2},{"$f":"Расчеты!Y112","v":2},{"$f":"Расчеты!Z112","v":"X2"}]
[null,"Коэффициенты:",{"$f":"Расчеты!E33","v":2.8},{"$f":"Расчеты!F33","v":2.95},{"$f":"Расчеты!G33","v":2.6},{"$f":"Расчеты!J33","v":2.2999999999999998},{"$f":"Расчеты!K33","v":1.55},{"$f":"Расчеты!N33","v":2},{"$f":"Расчеты!O33","v":1.71},{"$f":"Расчеты!K31","v":7.9943899018232845E-2},{"$f":"Расчеты!V120","v":1.2776076101530347},null,null,null,null,null,null,{"$f":"Расчеты!W120","v":1.4645984557769658}]
[null,"Вероятность %:",{"$f":"Расчеты!E34","v":0.33046100818612667},{"$f":"Расчеты!F34","v":0.31365790607496769},{"$f":"Расчеты!G34","v":0.35588108573890559},{"$f":"Расчеты!J34","v":0.40259740259740262},{"$f":"Расчеты!K34","v":0.59740259740259738},{"$f":"Расчеты!N34","v":0.46091644204851756},{"$f":"Расчеты!O34","v":0.53908355795148244},"Маржа (%) ОЗ:",null,null,1,"X",2,"ТБ2,5","ТМ2,5"]
[null,"Валуйность %:",{"$f":"C35-C39","v":0.17120178113345697},{"$f":"D35-D39","v":8.1649601302322128E-2},{"$f":"E35-E39","v":-0.25239613239618791},{"$f":"F35-I42","v":-5.3589481519267734E-2},{"$f":"G35-I39","v":5.358948151926779E-2},{"$f":"H35-D42","v":2.2293220566159677E-2},{"$f":"I35-E42","v":-2.2293220566159677E-2},{"$f":"Расчеты!O31","v":8.4795321637426868E-2},"%",null,{"$f":"Расчеты!X116","v":32.991527644739165},{"$f":"Расчеты!Y116","v":25.458517619723239},{"$f":"Расчеты!Z116","v":41.529804796430525},{"$f":"Расчеты!AB116","v":51.665729053210647},{"$f":"Расчеты!AA116","v":48.334270946789353}]
[null,"Маржа (%) 1х2:",{"$f":"Расчеты!G31","v":8.07412926056994E-2},"Вероятность событий и распределение коэффициентов в соответсвии с распределением Пуассона",null,null,null,null,null,null,"Кф",null,{"$f":"Расчеты!X117","v":3.031081224150165},{"$f":"Расчеты!Y117","v":3.9279584732195065},{"$f":"Расчеты!Z117","v":2.4079092230309489},{"$f":"Расчеты!AB117","v":1.9355189955223469},{"$f":"Расчеты!AA117","v":2.068925382366662}]
[null,"Исход","П1","Х","П2","1К забьет \"Да\"","2К забьет \"Да\"","ТМ 1,5","ТМ 2,5","ТМ 3,5"]
[null,"Вероятность в %:",{"$f":"Расчеты!AD17/100","v":0.15925922705266971},{"$f":"Расчеты!AD18/100","v":0.23200830477264556},{"$f":"Расчеты!AD19/100","v":0.6082772181350935},{"$f":"Расчеты!AD26/100","v":0.53176609017877186},{"$f":"Расчеты!AD28/100","v":0.82477213267968719},{"$f":"Расчеты!AD21/100","v":0.28729749518364583},{"$f":"Расчеты!AD23/100","v":0.54381311588332959},{"$f":"Расчеты!AD25/100","v":0.75757613313306593}]
[null,"Коэффициенты:",{"$f":"Расчеты!AE17","v":6.2790710372422129},{"$f":"Расчеты!AE18","v":4.3101905381358696},{"$f":"Расчеты!AE19","v":1.6439872646650857},{"$f":"Расчеты!AE26","v":1.8805260780427251},{"$f":"Расчеты!AE28","v":1.2124560959049342},{"$f":"Расчеты!AE21","v":3.4807125602009914},{"$f":"Расчеты!AE23","v":1.8388670129363729},{"$f":"Расчеты!AE25","v":1.3199993456292702},"МОЖНО СТАВИТЬ",null,null,{"$f":"Расчеты!Y118","v":"OK"},{"$f":"Расчеты!Z118","v":"OK"},{"$f":"Расчеты!AA118","v":"OK"},{"$f":"Расчеты!AB118","v":"NO"},{"$f":"Расчеты!AC118","v":"NO"}]
[null,"Вероятный счет",null,"Обе забьют \"Да\"","Обе забьют \"Нет\"","1К забьет \"Нет\"","2К забьет \"Нет\"","ТБ 1,5","ТБ 2,5","ТБ 3,5","%",null,null,{"$f":"Расчеты!Y119","v":93.557194254155675},{"$f":"Расчеты!Z119","v":75.88969325629273},{"$f":"Расчеты!AA119","v":51.665729053210647},{"$f":"Расчеты!AB119","v":29.523361860356374},{"$f":"Расчеты!AC119","v":16.294073958713909}]
[null,{"$f":"Расчеты!S12","v":0},{"$f":"Расчеты!S13","v":1},{"$f":"Расчеты!AD30/100","v":0.43862322148235788},{"$f":"Расчеты!AD31/100","v":0.56137677851764212},{"$f":"Расчеты!AD27/100","v":0.46823390982122809},{"$f":"Расчеты!AD29/100","v":0.17522786732031281},{"$f":"Расчеты!AD20/100","v":0.71270250481635411},{"$f":"Расчеты!AD22/100","v":0.45618688411667035},{"$f":"Расчеты!AD24/100","v":0.24242386686693407},"БОЛЬШЕ",null,null,0.5,1.5,2.5,3.5,4.5]
[null,null,null,{"$f":"Расчеты!AE30","v":2.279861053914177},{"$f":"Расчеты!AE31","v":1.78133481516741},{"$f":"Расчеты!AE27","v":2.1356847059235853},{"$f":"Расчеты!AE29","v":5.7068548244784676},{"$f":"Расчеты!AE20","v":1.4031099838181085},{"$f":"Расчеты!AE22","v":2.1920840664595889},{"$f":"Расчеты!AE24","v":4.1250063903522243},"Кф",null,null,{"$f":"Расчеты!Y121","v":1.0688648884482568},{"$f":"Расчеты!Z121","v":1.3177019923151165},{"$f":"Расчеты!AA121","v":1.9355189955223469},{"$f":"Расчеты!AB121","v":3.3871481328242239},{"$f":"Расчеты!AC121","v":6.1372005707953097}]
[null,"Tyresyas  39","Показатели",null,null,null,"Прогноз"]
[null,null,"Дома","Гости","Тотал","Дельта","К1 Заб","2К Заб","ОЗ","Тотал1","Тотал2","1X2","ОНЗ","Чет/нечет"]
[null,"Вариант1",{"$f":"Расчеты!AK66","v":1.55},{"$f":"Расчеты!AL66","v":1.5},{"$f":"Расчеты!AM66","v":3.05},{"$f":"Расчеты!AN66","v":5.0000000000000044E-2},{"$f":"Расчеты!AO66","v":"Да"},{"$f":"Расчеты!AP66","v":"-"},{"$f":"Расчеты!AQ66","v":"-"},{"$f":"Расчеты!AR66","v":"ТБ1.5"},{"$f":"Расчеты!AS66","v":"-"},{"$f":"Расчеты!AT66","v":"-"},{"$f":"Расчеты!AU66","v":"-"},{"$f":"Расчеты!AV66","v":"Чет"}]
[null,"Вариант2",{"$f":"Расчеты!AK67","v":1.0696969696969698},{"$f":"Расчеты!AL67","v":1.1545454545454548},{"$f":"Расчеты!AM67","v":2.2242424242424246},{"$f":"Расчеты!AN67","v":-8.4848484848484951E-2},{"$f":"Расчеты!AO67","v":"-"},{"$f":"Расчеты!AP67","v":"-"},{"$f":"Расчеты!AQ67","v":"-"},{"$f":"Расчеты!AR67","v":"ТМ2"},{"$f":"Расчеты!AS67","v":"-"},{"$f":"Расчеты!AT67","v":"-"},{"$f":"Расчеты!AU67","v":"-"},{"$f":"Расчеты!AV67","v":"Чет"}]
[null,"Вариант3",{"$f":"Расчеты!AK68","v":1.2666666666666666},{"$f":"Расчеты!AL68","v":1.2000000000000002},{"$f":"Расчеты!AM68","v":2.4666666666666668},{"$f":"Расчеты!AN68","v":6.666666666666643E-2},{"$f":"Расчеты!AO68","v":"-"},{"$f":"Расчеты!AP68","v":"-"},{"$f":"Расчеты!AQ68","v":"-"},{"$f":"Расчеты!AR68","v":"-"},{"$f":"Расчеты!AS68","v":"-"},{"$f":"Расчеты!AT68","v":"-"},{"$f":"Расчеты!AU68","v":"-"},{"$f":"Расчеты!AV68","v":"Чет"}]
[null,"Вариант4",{"$f":"Расчеты!AK69","v":0.94999999999999984},{"$f":"Расчеты!AL69","v":0.20000000000000029},{"$f":"Расчеты!AM69","v":1.1500000000000001},{"$f":"Расчеты!AN69","v":0.74999999999999956},{"$f":"Расчеты!AO69","v":"-"},{"$f":"Расчеты!AP69","v":"-"},{"$f":"Расчеты!AQ69","v":"-"},{"$f":"Расчеты!AR69","v":"ТМ3.5"},{"$f":"Расчеты!AS69","v":"-"},{"$f":"Расчеты!AT69","v":"-"},{"$f":"Расчеты!AU69","v":"-"},{"$f":"Расчеты!AV69","v":"Нечет"}]
[null,"Вариант5",{"$f":"Расчеты!AK70","v":0.9939393939393939},{"$f":"Расчеты!AL70","v":1.3272727272727272},{"$f":"Расчеты!AM70","v":2.3212121212121213},{"$f":"Расчеты!AN70","v":-0.33333333333333326},{"$f":"Расчеты!AO70","v":"-"},{"$f":"Расчеты!AP70","v":"-"},{"$f":"Расчеты!AQ70","v":"-"},{"$f":"Расчеты!AR70","v":"ТМ2"},{"$f":"Расчеты!AS70","v":"-"},{"$f":"Расчеты!AT70","v":"-"},{"$f":"Расчеты!AU70","v":"-"},{"$f":"Расчеты!AV70","v":"Нечет"}]
[null,"Вариант6",{"$f":"Расчеты!AK71","v":0.93333333333333368},{"$f":"Расчеты!AL71","v":1.6},{"$f":"Расчеты!AM71","v":2.5333333333333337},{"$f":"Расчеты!AN71","v":-0.66666666666666641},{"$f":"Расчеты!AO71","v":"-"},{"$f":"Расчеты!AP71","v":"Да"},{"$f":"Расчеты!AQ71","v":"-"},{"$f":"Расчеты!AR71","v":"ТБ1.5"},{"$f":"Расчеты!AS71","v":"-"},{"$f":"Расчеты!AT71","v":"-"},{"$f":"Расчеты!AU71","v":"-"},{"$f":"Расчеты!AV71","v":"Нечет"}]
[null,"Вариант7",{"$f":"Расчеты!AK89","v":0.10000000000000014},{"$f":"Расчеты!AL89","v":0.79999999999999993},{"$f":"Расчеты!AM89","v":0.90000000000000013},{"$f":"Расчеты!AN89","v":-0.69999999999999973},{"$f":"Расчеты!AO89","v":"-"},{"$f":"Расчеты!AP89","v":"-"},{"$f":"Расчеты!AQ89","v":"-"},{"$f":"Расчеты!AR89","v":"ТМ3.5"},{"$f":"Расчеты!AS89","v":"ТМ3.5"},{"$f":"Расчеты!AT89","v":"-"},{"$f":"Расчеты!AU89","v":"-"},{"$f":"Расчеты!AV89","v":"Нечет"}]
[null,"Вариант8",{"$f":"Расчеты!AK90","v":1.0303030303030303},{"$f":"Расчеты!AL90","v":1.1454545454545455},{"$f":"Расчеты!AM90","v":2.1757575757575758},{"$f":"Расчеты!AN90","v":-0.11515151515151523},{"$f":"Расчеты!AO90","v":"-"},{"$f":"Расчеты!AP90","v":"-"},{"$f":"Расчеты!AQ90","v":"-"},{"$f":"Расчеты!AR90","v":"ТМ2"},{"$f":"Расчеты!AS90","v":"-"},{"$f":"Расчеты!AT90","v":"-"},{"$f":"Расчеты!AU90","v":"-"},{"$f":"Расчеты!AV90","v":"Нечет"}]
[null,"Вариант9",{"$f":"Расчеты!AK91","v":0.83333333333333348},{"$f":"Расчеты!AL91","v":1.1000000000000003},{"$f":"Расчеты!AM91","v":1.9333333333333338},{"$f":"Расчеты!AN91","v":-0.26666666666666683},{"$f":"Расчеты!AO91","v":"-"},{"$f":"Расчеты!AP91","v":"-"},{"$f":"Расчеты!AQ91","v":"-"},{"$f":"Расчеты!AR91","v":"ТМ3.5"},{"$f":"Расчеты!AS91","v":"-"},{"$f":"Расчеты!AT91","v":"-"},{"$f":"Расчеты!AU91","v":"-"},{"$f":"Расчеты!AV91","v":"Нечет"}]
[null,"Вариант10",{"$f":"Расчеты!AK92","v":0.30000000000000004},{"$f":"Расчеты!AL92","v":0.75000000000000022},{"$f":"Расчеты!AM92","v":1.0500000000000003},{"$f":"Расчеты!AN92","v":-0.45000000000000018},{"$f":"Расчеты!AO92","v":"-"},{"$f":"Расчеты!AP92","v":"-"},{"$f":"Расчеты!AQ92","v":"-"},{"$f":"Расчеты!AR92","v":"ТМ3.5"},{"$f":"Расчеты!AS92","v":"-"},{"$f":"Расчеты!AT92","v":"-"},{"$f":"Расчеты!AU92","v":"-"},{"$f":"Расчеты!AV92","v":"Чет"}]
[null,"Вариант11",{"$f":"Расчеты!AK93","v":1.0060606060606061},{"$f":"Расчеты!AL93","v":1.2727272727272727},{"$f":"Расчеты!AM93","v":2.2787878787878788},{"$f":"Расчеты!AN93","v":-0.26666666666666661},{"$f":"Расчеты!AO93","v":"-"},{"$f":"Расчеты!AP93","v":"-"},{"$f":"Расчеты!AQ93","v":"-"},{"$f":"Расчеты!AR93","v":"ТМ2"},{"$f":"Расчеты!AS93","v":"-"},{"$f":"Расчеты!AT93","v":"-"},{"$f":"Расчеты!AU93","v":"-"},{"$f":"Расчеты!AV93","v":"Чет"}]
[null,"Вариант12",{"$f":"Расчеты!AK94","v":1.0666666666666669},{"$f":"Расчеты!AL94","v":1},{"$f":"Расчеты!AM94","v":2.0666666666666669},{"$f":"Расчеты!AN94","v":6.6666666666666874E-2},{"$f":"Расчеты!AO94","v":"-"},{"$f":"Расчеты!AP94","v":"-"},{"$f":"Расчеты!AQ94","v":"-"},{"$f":"Расчеты!AR94","v":"-"},{"$f":"Расчеты!AS94","v":"-"},{"$f":"Расчеты!AT94","v":"-"},{"$f":"Расчеты!AU94","v":"-"},{"$f":"Расчеты!AV94","v":"Чет"}]

{"sheet":"Valui","index":7,"n_rows":41,"n_cols":17,"rows_kept":41,"cut":false,"hidden":false,"merged":[[3,3,4,6],[3,9,4,12]]}
[]
[]
[]
[null,null,null,{"$f":"'Incognito DATA'!A1","v":"Жарково"},null,null,null,null,null,{"$f":"'Incognito DATA'!A7","v":"Нови Белград"},null,null,null,null,null,"SVIZZERA  B"]
[null,null,null,null,null,null,null,null,null,null,null,null,null,null,null,"01.09.2014    ore  19.45"]
[]
[]
[]
[null,null,null,"BOOK",null,null,"Quota   1",null,"Quota   X",null,"Quota   2"]
[null,null,null,"WILLIAM  HILL"]
[null,null,null,null,null,null,{"$f":"Коэффициенты!C2","v":2.54},null,{"$f":"Коэффициенты!C3","v":2.88},null,{"$f":"Коэффициенты!C4","v":2.95}]
[]
[null,null,null,"probabilità percentuale quote",null,null,{"$f":"100/G11","v":39.370078740157481},null,{"$f":"100/I11","v":34.722222222222221},null,{"$f":"100/K11","v":33.898305084745758},null,{"$f":"SUM(G13+I13+K13)","v":107.99060604712547},null,"AGGIO  DEL  BOOK",null,{"$f":"M13-100","v":7.9906060471254676}]
[]
[]
[null,null,null,null,null,null,{"$f":"(M29+M40)/2","v":16.111111111111111},null,{"$f":"(N29+N40)/2","v":44.444444444444443},null,{"$f":"(O29+O40)/2","v":39.444444444444443},null,"Picchetto tecnico"]
[null,null,null,null,null,null,null,null,null,null,null,null,"Esso è ricavato dalla media del picchetto casa/fuori e del picchetto forma"]
[null,null,null,null,null,null,{"$f":"100/G16","v":6.2068965517241379},null,{"$f":"100/I16","v":2.25},null,{"$f":"100/K16","v":2.535211267605634},null,"costituito dalle ultime 5 giornate totali"]
[]
[null,null,null,null,null,null,null,null,null,null,null,null,"Vinte casa","Nulle casa","Perse casa"]
[null,null,null,null,"SEGNO  1",null,{"$f":"G16-G13","v":-23.258967629046371},null,{"$f":"IF(G21>9.99,\"value 1\",\"-\")","v":"-"},null,null,null,{"$f":"'Incognito DATA'!C3","v":2},{"$f":"'Incognito DATA'!D3","v":3},{"$f":"'Incognito DATA'!E3","v":5},null,{"$f":"D4","v":"Жарково"}]
[null,null,null,null,null,null,null,null,null,null,null,null,"Vinte fuori","Nulle fuori","Perse fuori"]
[null,null,null,null,"SEGNO  X",null,{"$f":"I16-I13","v":9.7222222222222214},null,{"$f":"IF(G23>9.99,\"value Х\",\"-\")","v":"-"},null,null,null,{"$f":"'Incognito DATA'!C10","v":2},{"$f":"'Incognito DATA'!D10","v":4},{"$f":"'Incognito DATA'!E10","v":2},null,{"$f":"J4","v":"Нови Белград"}]
[]
[null,null,null,null,"SEGNO  2",null,{"$f":"K16-K13","v":5.5461393596986852},null,{"$f":"IF(G25>9.99,\"value 2\",\"-\")","v":"-"},null,null,null,"Segno  1","Segno  X","Segno  2"]
[null,null,null,null,null,null,null,null,null,null,null,null,{"$f":"M21+O23","v":4},{"$f":"N21+N23","v":7},{"$f":"O21+M23","v":7}]
[]
[null,null,null,null,null,null,null,null,null,null,null,null,"% SEGNO 1","% SEGNO X","% SEGNO 2"]
[null,null,null,null,null,null,null,null,null,null,null,null,{"$f":"M26*100/(M26+N26+O26)","v":22.222222222222221},{"$f":"N26*100/(M26+N26+O26)","v":38.888888888888886},{"$f":"O26*100/(M26+N26+O26)","v":38.888888888888886}]
[]
[null,null,null,null,null,null,null,null,null,null,null,null,"Vinte u5","Nulle u5","Perse u5"]
[null,null,null,null,null,null,null,null,null,null,null,null,{"$f":"'Incognito DATA'!C5","v":1},{"$f":"'Incognito DATA'!D5","v":3},{"$f":"'Incognito DATA'!E5","v":1},null,{"$f":"D4","v":"Жарково"}]
[null,null,null,null,null,null,null,null,null,null,null,null,"Vinte u5","Nulle u5","Perse u5"]
[null,null,null,null,null,null,null,null,null,null,null,null,{"$f":"'Incognito DATA'!C11","v":3},{"$f":"'Incognito DATA'!D11","v":2},{"$f":"'Incognito DATA'!E11","v":0},null,{"$f":"J4","v":"Нови Белград"}]
[]
[null,null,null,null,null,null,null,null,null,null,null,null,"Segno  1","Segno  X","Segno  2"]
[null,null,null,null,null,null,null,null,null,null,null,null,{"$f":"M32+O34","v":1},{"$f":"N32+N34","v":5},{"$f":"M34+O32","v":4}]
[]
[null,null,null,null,null,null,null,null,null,null,null,null,"% SEGNO 1","% SEGNO X","% SEGNO 2"]
[null,null,null,null,null,null,null,null,null,null,null,null,{"$f":"M37*100/(M37+N37+O37)","v":10},{"$f":"N37*100/(M37+N37+O37)","v":50},{"$f":"O37*100/(M37+N37+O37)","v":40}]
[null,null,null,null,null,null,null,null,null,null,null,null,{"$f":"M40/100","v":0.1},{"$f":"N40/100","v":0.5},0.4]

{"sheet":"Poisson","index":8,"n_rows":30,"n_cols":17,"rows_kept":30,"cut":false,"hidden":false,"merged":[]}
[]
[]
[]
[]
[]
[null,null,null,"Команда","Забито","Пропущено","Игры",null,"Средний"]
[null,null,"Дом",{"$f":"'Incognito DATA'!A1","v":"Жарково"},{"$f":"'Incognito DATA'!F5","v":4},{"$f":"'Incognito DATA'!G5","v":5},{"$f":"'Incognito DATA'!B5","v":5},null,{"$f":"(E7+F8)/(G8+G7)","v":1}]
[null,null,"Гости",{"$f":"'Incognito DATA'!A7","v":"Нови Белград"},{"$f":"'Incognito DATA'!F11","v":12},{"$f":"'Incognito DATA'!G11","v":6},{"$f":"'Incognito DATA'!B11","v":5},null,{"$f":"(E8+F7)/(G7+G8)","v":1.7}]
[]
[null,null,null,null,null,null,null,0,1,2,3,4,5,6,7,8,9]
[null,null,null,null,null,null,0,{"$f":"POISSON(G11,I7,0)*POISSON(H10,I8,0)","v":6.720551273974977E-2},{"$f":"POISSON(G11,I7,0)*POISSON(I10,I8,0)","v":0.11424937165757459},{"$f":"POISSON(G11,I7,0)*POISSON(J10,I8,0)","v":9.7111965908938419E-2},{"$f":"POISSON(G11,I7,0)*POISSON(K10,I8,0)","v":5.5030114015065107E-2},{"$f":"POISSON(G11,I7,0)*POISSON(L10,I8,0)","v":2.338779845640266E-2},{"$f":"POISSON(G11,I7,0)*POISSON(M10,I8,0)","v":7.9518514751769024E-3},{"$f":"POISSON(G11,I7,0)*POISSON(N10,I8,0)","v":2.2530245846334577E-3},{"$f":"POISSON(G11,I7,0)*POISSON(O10,I8,0)","v":5.4716311341098235E-4},{"$f":"POISSON(G11,I7,0)*POISSON(P10,I8,0)","v":1.1627216159983382E-4},{"$f":"POISSON(G11,I7,0)*POISSON(Q10,I8,0)","v":2.1962519413301931E-5}]
[null,{"$f":"\"1\"","v":"1"},{"$f":"\"X\"","v":"X"},{"$f":"\"2\"","v":"2"},null,null,1,{"$f":"POISSON(G12,I7,0)*POISSON(H10,I8,0)","v":6.720551273974977E-2},{"$f":"POISSON(G12,I7,0)*POISSON(I10,I8,0)","v":0.11424937165757459},{"$f":"POISSON(G12,I7,0)*POISSON(J10,I8,0)","v":9.7111965908938419E-2},{"$f":"POISSON(G12,I7,0)*POISSON(K10,I8,0)","v":5.5030114015065107E-2},{"$f":"POISSON(G12,I7,0)*POISSON(L10,I8,0)","v":2.338779845640266E-2},{"$f":"POISSON(G12,I7,0)*POISSON(M10,I8,0)","v":7.9518514751769024E-3},{"$f":"POISSON(G12,I7,0)*POISSON(N10,I8,0)","v":2.2530245846334577E-3},{"$f":"POISSON(G12,I7,0)*POISSON(O10,I8,0)","v":5.4716311341098235E-4},{"$f":"POISSON(G12,I7,0)*POISSON(P10,I8,0)","v":1.1627216159983382E-4},{"$f":"POISSON(G12,I7,0)*POISSON(Q10,I8,0)","v":2.1962519413301931E-5}]
[null,{"$f":"VALUE(TEXT(SUM(H12:H20,I13:I20,J14:J20,K15:K20,L16:L20,M17:M20,N18:N20,O19:O20,P20),\"0,000\"))","v":0.222},{"$f":"VALUE(TEXT(SUM(H11,I12,J13,K14,L15,M16,N17,O18,P19,Q20),\"0,000\"))","v":0.24},{"$f":"VALUE(TEXT(1-C13-B13,\"0,000\"))","v":0.53800000000000003},null,null,2,{"$f":"POISSON(G13,I7,0)*POISSON(H10,I8,0)","v":3.3602756369874878E-2},{"$f":"POISSON(G13,I7,0)*POISSON(I10,I8,0)","v":5.7124685828787283E-2},{"$f":"POISSON(G13,I7,0)*POISSON(J10,I8,0)","v":4.8555982954469203E-2},{"$f":"POISSON(G13,I7,0)*POISSON(K10,I8,0)","v":2.751505700753255E-2},{"$f":"POISSON(G13,I7,0)*POISSON(L10,I8,0)","v":1.1693899228201328E-2},{"$f":"POISSON(G13,I7,0)*POISSON(M10,I8,0)","v":3.9759257375884503E-3},{"$f":"POISSON(G13,I7,0)*POISSON(N10,I8,0)","v":1.1265122923167286E-3},{"$f":"POISSON(G13,I7,0)*POISSON(O10,I8,0)","v":2.7358155670549112E-4},{"$f":"POISSON(G13,I7,0)*POISSON(P10,I8,0)","v":5.8136080799916895E-5},{"$f":"POISSON(G13,I7,0)*POISSON(Q10,I8,0)","v":1.0981259706650964E-5}]
[null,{"$f":"1/B13","v":4.5045045045045047},{"$f":"1/C13","v":4.166666666666667},{"$f":"1/D13","v":1.8587360594795539},null,null,3,{"$f":"POISSON(G14,I7,0)*POISSON(H10,I8,0)","v":1.1200918789958296E-2},{"$f":"POISSON(G14,I7,0)*POISSON(I10,I8,0)","v":1.9041561942929098E-2},{"$f":"POISSON(G14,I7,0)*POISSON(J10,I8,0)","v":1.6185327651489737E-2},{"$f":"POISSON(G14,I7,0)*POISSON(K10,I8,0)","v":9.1716856691775178E-3},{"$f":"POISSON(G14,I7,0)*POISSON(L10,I8,0)","v":3.8979664094004438E-3},{"$f":"POISSON(G14,I7,0)*POISSON(M10,I8,0)","v":1.3253085791961503E-3},{"$f":"POISSON(G14,I7,0)*POISSON(N10,I8,0)","v":3.7550409743890962E-4},{"$f":"POISSON(G14,I7,0)*POISSON(O10,I8,0)","v":9.1193852235163725E-5},{"$f":"POISSON(G14,I7,0)*POISSON(P10,I8,0)","v":1.9378693599972304E-5},{"$f":"POISSON(G14,I7,0)*POISSON(Q10,I8,0)","v":3.6604199022169888E-6}]
[null,null,null,null,null,null,4,{"$f":"POISSON(G15,I7,0)*POISSON(H10,I8,0)","v":2.8002296974895735E-3},{"$f":"POISSON(G15,I7,0)*POISSON(I10,I8,0)","v":4.7603904857322736E-3},{"$f":"POISSON(G15,I7,0)*POISSON(J10,I8,0)","v":4.0463319128724333E-3},{"$f":"POISSON(G15,I7,0)*POISSON(K10,I8,0)","v":2.292921417294379E-3},{"$f":"POISSON(G15,I7,0)*POISSON(L10,I8,0)","v":9.7449160235011073E-4},{"$f":"POISSON(G15,I7,0)*POISSON(M10,I8,0)","v":3.3132714479903753E-4},{"$f":"POISSON(G15,I7,0)*POISSON(N10,I8,0)","v":9.3876024359727391E-5},{"$f":"POISSON(G15,I7,0)*POISSON(O10,I8,0)","v":2.2798463058790928E-5},{"$f":"POISSON(G15,I7,0)*POISSON(P10,I8,0)","v":4.8446733999930743E-6},{"$f":"POISSON(G15,I7,0)*POISSON(Q10,I8,0)","v":9.1510497555424699E-7}]
[null,null,null,null,null,null,5,{"$f":"POISSON(G16,I7,0)*POISSON(H10,I8,0)","v":5.6004593949791491E-4},{"$f":"POISSON(G16,I7,0)*POISSON(I10,I8,0)","v":9.5207809714645513E-4},{"$f":"POISSON(G16,I7,0)*POISSON(J10,I8,0)","v":8.0926638257448706E-4},{"$f":"POISSON(G16,I7,0)*POISSON(K10,I8,0)","v":4.58584283458876E-4},{"$f":"POISSON(G16,I7,0)*POISSON(L10,I8,0)","v":1.948983204700222E-4},{"$f":"POISSON(G16,I7,0)*POISSON(M10,I8,0)","v":6.6265428959807525E-5},{"$f":"POISSON(G16,I7,0)*POISSON(N10,I8,0)","v":1.8775204871945484E-5},{"$f":"POISSON(G16,I7,0)*POISSON(O10,I8,0)","v":4.559692611758187E-6},{"$f":"POISSON(G16,I7,0)*POISSON(P10,I8,0)","v":9.6893467999861528E-7},{"$f":"POISSON(G16,I7,0)*POISSON(Q10,I8,0)","v":1.8302099511084944E-7}]
[null,null,null,null,null,null,6,{"$f":"POISSON(G17,I7,0)*POISSON(H10,I8,0)","v":9.3340989916319107E-5},{"$f":"POISSON(G17,I7,0)*POISSON(I10,I8,0)","v":1.5867968285774244E-4},{"$f":"POISSON(G17,I7,0)*POISSON(J10,I8,0)","v":1.3487773042908111E-4},{"$f":"POISSON(G17,I7,0)*POISSON(K10,I8,0)","v":7.6430713909812626E-5},{"$f":"POISSON(G17,I7,0)*POISSON(L10,I8,0)","v":3.2483053411670358E-5},{"$f":"POISSON(G17,I7,0)*POISSON(M10,I8,0)","v":1.1044238159967916E-5},{"$f":"POISSON(G17,I7,0)*POISSON(N10,I8,0)","v":3.1292008119909126E-6},{"$f":"POISSON(G17,I7,0)*POISSON(O10,I8,0)","v":7.5994876862636424E-7},{"$f":"POISSON(G17,I7,0)*POISSON(P10,I8,0)","v":1.6148911333310247E-7},{"$f":"POISSON(G17,I7,0)*POISSON(Q10,I8,0)","v":3.0503499185141565E-8}]
[null,"ТБ 0.5",{"$f":"VALUE(TEXT(SUM(H11:Q20)-H11,\"0,000\"))","v":0.93300000000000005},{"$f":"1/C18","v":1.0718113612004287},null,null,7,{"$f":"POISSON(G18,I7,0)*POISSON(H10,I8,0)","v":1.3334427130902751E-5},{"$f":"POISSON(G18,I7,0)*POISSON(I10,I8,0)","v":2.2668526122534672E-5},{"$f":"POISSON(G18,I7,0)*POISSON(J10,I8,0)","v":1.9268247204154478E-5},{"$f":"POISSON(G18,I7,0)*POISSON(K10,I8,0)","v":1.0918673415687537E-5},{"$f":"POISSON(G18,I7,0)*POISSON(L10,I8,0)","v":4.6404362016672011E-6},{"$f":"POISSON(G18,I7,0)*POISSON(M10,I8,0)","v":1.5777483085668478E-6},{"$f":"POISSON(G18,I7,0)*POISSON(N10,I8,0)","v":4.4702868742727402E-7},{"$f":"POISSON(G18,I7,0)*POISSON(O10,I8,0)","v":1.0856410980376649E-7},{"$f":"POISSON(G18,I7,0)*POISSON(P10,I8,0)","v":2.3069873333300394E-8},{"$f":"POISSON(G18,I7,0)*POISSON(Q10,I8,0)","v":4.3576427407345162E-9}]
[null,"ТБ 1.5",{"$f":"VALUE(TEXT(SUM(H13:H20,I12:I20,J11:J20,K11:Q20),\"0,000\"))","v":0.751},{"$f":"1/C19","v":1.3315579227696406},null,null,8,{"$f":"POISSON(G19,I7,0)*POISSON(H10,I8,0)","v":1.6668033913628376E-6},{"$f":"POISSON(G19,I7,0)*POISSON(I10,I8,0)","v":2.833565765316823E-6},{"$f":"POISSON(G19,I7,0)*POISSON(J10,I8,0)","v":2.4085309005193004E-6},{"$f":"POISSON(G19,I7,0)*POISSON(K10,I8,0)","v":1.3648341769609368E-6},{"$f":"POISSON(G19,I7,0)*POISSON(L10,I8,0)","v":5.8005452520839791E-7},{"$f":"POISSON(G19,I7,0)*POISSON(M10,I8,0)","v":1.9721853857085521E-7},{"$f":"POISSON(G19,I7,0)*POISSON(N10,I8,0)","v":5.5878585928409034E-8},{"$f":"POISSON(G19,I7,0)*POISSON(O10,I8,0)","v":1.3570513725470759E-8},{"$f":"POISSON(G19,I7,0)*POISSON(P10,I8,0)","v":2.8837341666625377E-9},{"$f":"POISSON(G19,I7,0)*POISSON(Q10,I8,0)","v":5.4470534259181245E-10}]
[null,"ТБ 2.5",{"$f":"VALUE(TEXT(SUM(H14:H20,I13:I20,J12:J20,K11:Q20),\"0,000\"))","v":0.50600000000000001},{"$f":"1/C20","v":1.9762845849802371},null,null,9,{"$f":"POISSON(G20,I7,0)*POISSON(H10,I8,0)","v":1.8520037681809328E-7},{"$f":"POISSON(G20,I7,0)*POISSON(I10,I8,0)","v":3.1484064059075849E-7},{"$f":"POISSON(G20,I7,0)*POISSON(J10,I8,0)","v":2.6761454450214476E-7},{"$f":"POISSON(G20,I7,0)*POISSON(K10,I8,0)","v":1.5164824188454871E-7},{"$f":"POISSON(G20,I7,0)*POISSON(L10,I8,0)","v":6.4450502800933172E-8},{"$f":"POISSON(G20,I7,0)*POISSON(M10,I8,0)","v":2.191317095231727E-8},{"$f":"POISSON(G20,I7,0)*POISSON(N10,I8,0)","v":6.2087317698232329E-9},{"$f":"POISSON(G20,I7,0)*POISSON(O10,I8,0)","v":1.5078348583856417E-9},{"$f":"POISSON(G20,I7,0)*POISSON(P10,I8,0)","v":3.2041490740694903E-10},{"$f":"POISSON(G20,I7,0)*POISSON(Q10,I8,0)","v":6.0522815843534779E-11}]
[null,"ТБ 3.5",{"$f":"VALUE(TEXT(SUM(H15:H20,I14:I20,J13:J20,K12:K20,L11:Q20),\"0,000\"))","v":0.28599999999999998},{"$f":"1/C21","v":3.4965034965034967}]
[null,"ТБ 4.5",{"$f":"VALUE(TEXT(SUM(H16:H20,I15:I20,J14:J20,K13:K20,L12:L20,M11:Q20),\"0,000\"))","v":0.13700000000000001},7.2992700729926998]
[null,"ТБ 5.5",{"$f":"VALUE(TEXT(SUM(H17:H20,I16:I20,J15:J20,K14:K20,L13:L20,M12:M20,N11:Q20),\"0,000\"))","v":5.7000000000000002E-2},17.543859649122805]
[]
[null,"ТМ 0.5",{"$f":"1-C18","v":6.6999999999999948E-2},14.925373134328369,null,"ОЗ",{"$f":"VALUE(TEXT(SUM(I12:Q20),\"0,000\"))","v":0.51700000000000002},{"$f":"1/G25","v":1.9342359767891681}]
[null,"ТМ 1.5",0.249,4.0160642570281126,null,"НЕ ОЗ",{"$f":"1-G25","v":0.48299999999999998},{"$f":"1/G26","v":2.0703933747412009}]
[null,"ТМ 2.5",0.49399999999999999,2.0242914979757085]
[null,"ТМ 3.5",0.71399999999999997,1.400560224089636,null,"P",{"$f":"VALUE(TEXT(SUM(H11,H13,H15,H17,H19,I12,I14,I16,I18,I20,J11,J13,J15,J17,J19,K12,K14,K16,K18,K20,L11,L13,L15,L17,L19,M12,M14,M16,M18,M20)+SUM(N11,N13,N15,N17,N19,O12,O14,O16,O18,O20,P11,P13,P15,P17,P19,Q12,Q14,Q16,Q18,Q20),\"0,000\"))","v":0.502},{"$f":"1/G28","v":1.9920318725099602}]
[null,"ТМ 4.5",0.86299999999999999,1.1587485515643106,null,"D",{"$f":"1-G28","v":0.498},{"$f":"1/G29","v":2.0080321285140563}]
[null,"ТМ 5.5",0.94299999999999995,1.0604453870625663]

{"sheet":"Графики","index":9,"n_rows":110,"n_cols":41,"rows_kept":110,"cut":false,"hidden":false,"merged":[[25,9,25,10],[26,9,26,11]]}
[{"$f":"'Incognito DATA'!A1","v":"Жарково"},{"$f":"TREND(F2:F8,E2:E8,E9)","v":0.85714285714285721},null,null,null,null,null,null,null,null,null,null,null,"И","В","Н","П","З","П",null,"В","Н","П","З","П"]
["дома",{"$f":"ДомаДома!L2","v":2},{"$f":"ДомаДома!M2","v":2},{"$f":"ДомаДома!N2","v":"Н"},1,{"$f":"B8","v":1},{"$f":"B2-C2","v":0},{"$f":"G2+H3","v":-5},5,{"$f":"Дома!L2","v":2},{"$f":"Дома!M2","v":2},{"$f":"Дома!N2","v":"Н"},{"$f":"Дома!I2","v":"Дома"},{"$f":"IF(OR(M2=\"Гости\",M2=\"Дома\"),1,0)","v":1},{"$f":"IF(M2=\"Дома\",IF(L2=\"В\",1,0),0)","v":0},{"$f":"IF(M2=\"Дома\",IF(L2=\"Н\",1,0),0)","v":1},{"$f":"IF(M2=\"Дома\",IF(L2=\"П\",1,0),0)","v":0},{"$f":"IF(M2=\"Дома\",J2,0)","v":2},{"$f":"IF(M2=\"Дома\",K2,0)","v":2},null,{"$f":"IF(M2=\"Гости\",IF(L2=\"В\",1,0),0)","v":0},{"$f":"IF(M2=\"Гости\",IF(L2=\"Н\",1,0),0)","v":0},{"$f":"IF(M2=\"Гости\",IF(L2=\"П\",1,0),0)","v":0},{"$f":"IF(M2=\"Гости\",J2,0)","v":0},{"$f":"IF(M2=\"Гости\",K2,0)","v":0}]
[null,{"$f":"ДомаДома!L3","v":0},{"$f":"ДомаДома!M3","v":0},{"$f":"ДомаДома!N3","v":"Н"},2,{"$f":"B7","v":0},{"$f":"B3-C3","v":0},{"$f":"H4+G3","v":-5},"m",{"$f":"Дома!L3","v":0},{"$f":"Дома!M3","v":0},{"$f":"Дома!N3","v":"Н"},{"$f":"Дома!I3","v":"Гости"},{"$f":"IF(OR(M3=\"Гости\",M3=\"Дома\"),N2+1,N2)","v":2},{"$f":"IF(M3=\"Дома\",IF(L3=\"В\",O2+1,O2+0),O2+0)","v":0},{"$f":"IF(M3=\"Дома\",IF(L3=\"Н\",P2+1,P2+0),P2+0)","v":1},{"$f":"IF(M3=\"Дома\",IF(L3=\"П\",Q2+1,Q2+0),Q2+0)","v":0},{"$f":"IF(M3=\"Дома\",R2+J3,R2+0)","v":2},{"$f":"IF(M3=\"Дома\",S2+K3,S2+0)","v":2},null,{"$f":"IF(M3=\"Гости\",IF(L3=\"В\",U2+1,U2+0),U2+0)","v":0},{"$f":"IF(M3=\"Гости\",IF(L3=\"Н\",V2+1,V2+0),V2+0)","v":1},{"$f":"IF(M3=\"Гости\",IF(L3=\"П\",W2+1,W2+0),W2+0)","v":0},{"$f":"IF(M3=\"Гости\",X2+J3,X2+0)","v":0},{"$f":"IF(M3=\"Гости\",Y2+K3,Y2+0)","v":0}]
[null,{"$f":"ДомаДома!L4","v":0},{"$f":"ДомаДома!M4","v":3},{"$f":"ДомаДома!N4","v":"П"},3,{"$f":"B6","v":2},-3,-5,"a",{"$f":"Дома!L4","v":0},{"$f":"Дома!M4","v":0},{"$f":"Дома!N4","v":"Н"},{"$f":"Дома!I4","v":"Дома"},{"$f":"IF(OR(M4=\"Гости\",M4=\"Дома\"),N3+1,N3)","v":3},{"$f":"IF(M4=\"Дома\",IF(L4=\"В\",O3+1,O3+0),O3+0)","v":0},{"$f":"IF(M4=\"Дома\",IF(L4=\"Н\",P3+1,P3+0),P3+0)","v":2},{"$f":"IF(M4=\"Дома\",IF(L4=\"П\",Q3+1,Q3+0),Q3+0)","v":0},{"$f":"IF(M4=\"Дома\",R3+J4,R3+0)","v":2},{"$f":"IF(M4=\"Дома\",S3+K4,S3+0)","v":2},null,{"$f":"IF(M4=\"Гости\",IF(L4=\"В\",U3+1,U3+0),U3+0)","v":0},{"$f":"IF(M4=\"Гости\",IF(L4=\"Н\",V3+1,V3+0),V3+0)","v":1},{"$f":"IF(M4=\"Гости\",IF(L4=\"П\",W3+1,W3+0),W3+0)","v":0},{"$f":"IF(M4=\"Гости\",X3+J4,X3+0)","v":0},{"$f":"IF(M4=\"Гости\",Y3+K4,Y3+0)","v":0}]
[null,{"$f":"ДомаДома!L5","v":0},{"$f":"ДомаДома!M5","v":2},{"$f":"ДомаДома!N5","v":"П"},4,{"$f":"B5","v":0},-2,-2,"t",{"$f":"Дома!L5","v":2},{"$f":"Дома!M5","v":0},{"$f":"Дома!N5","v":"В"},{"$f":"Дома!I5","v":"Гости"},4,0,2,0,2,2,null,1,1,0,2,0]
[null,{"$f":"ДомаДома!L6","v":2},{"$f":"ДомаДома!M6","v":1},{"$f":"ДомаДома!N6","v":"В"},5,{"$f":"B4","v":0},1,{"$f":"H7+G6","v":0},"h",{"$f":"Дома!L6","v":0},{"$f":"Дома!M6","v":3},{"$f":"Дома!N6","v":"П"},{"$f":"Дома!I6","v":"Дома"},5,0,2,1,2,5,null,1,1,0,2,0]
[null,{"$f":"ДомаДома!L7","v":0},{"$f":"ДомаДома!M7","v":0},{"$f":"ДомаДома!N7","v":"Н"},6,{"$f":"B3","v":0},0,{"$f":"H8+G7","v":-1},null,{"$f":"Очные!AG2","v":2},{"$f":"Очные!AH2","v":2},{"$f":"Очные!G2","v":"Н"},{"$f":"Очные!S2","v":"Дома"},6,0,3,1,4,7,null,1,1,0,2,0]
[null,{"$f":"ДомаДома!L8","v":1},{"$f":"ДомаДома!M8","v":2},{"$f":"ДомаДома!N8","v":"П"},7,{"$f":"B2","v":2},-1,{"$f":"H9+G8","v":-1},null,{"$f":"Очные!AG3","v":1},{"$f":"Очные!AH3","v":0},{"$f":"Очные!G3","v":"В"},{"$f":"Очные!S3","v":"Гости"},7,0,3,1,4,7,null,2,1,0,3,0]
[null,{"$f":"ДомаДома!L9","v":0},{"$f":"ДомаДома!M9","v":1},{"$f":"ДомаДома!N9","v":"П"},8,null,-1,{"$f":"H10+G9","v":0},null,{"$f":"Очные!AG4","v":0},{"$f":"Очные!AH4","v":1},{"$f":"Очные!G4","v":"П"},{"$f":"Очные!S4","v":"Гости"},8,0,3,1,4,7,null,2,1,1,3,1]
[null,{"$f":"ДомаДома!L10","v":0},{"$f":"ДомаДома!M10","v":1},{"$f":"ДомаДома!N10","v":"П"},null,null,-1,{"$f":"H11+G10","v":1},null,{"$f":"Очные!AG5","v":1},{"$f":"Очные!AH5","v":3},{"$f":"Очные!G5","v":"П"},{"$f":"Очные!S5","v":"Дома"},9,0,3,2,5,10,null,2,1,1,3,1]
[null,{"$f":"ДомаДома!L11","v":2},{"$f":"ДомаДома!M11","v":0},{"$f":"ДомаДома!N11","v":"В"},null,null,2,{"$f":"G11","v":2},null,{"$f":"Очные!AG6","v":""},{"$f":"Очные!AH6","v":""},{"$f":"Очные!G6","v":""},{"$f":"Очные!S6","v":""},9,0,3,2,5,10,null,2,1,1,3,1]
[]
[{"$f":"'Incognito DATA'!A7","v":"Нови Белград"},{"$f":"TREND(F14:F20,E2:E8,E9)","v":2.5714285714285712},null,null,null,null,null,null,null,null,null,null,null,"И"]
["гости",{"$f":"ГостиГости!L2","v":2},{"$f":"ГостиГости!M2","v":2},{"$f":"ГостиГости!N2","v":"Н"},null,{"$f":"B20","v":0},{"$f":"B14-C14","v":0},{"$f":"H15+G14","v":1},null,{"$f":"Гости!L2","v":2},{"$f":"Гости!M2","v":2},{"$f":"Гости!N2","v":"Н"},{"$f":"Гости!I2","v":"Гости"},null,{"$f":"IF(M14=\"Дома\",IF(L14=\"В\",1,0),0)","v":0},{"$f":"IF(M14=\"Дома\",IF(L14=\"Н\",1,0),0)","v":0},{"$f":"IF(M14=\"Дома\",IF(L14=\"П\",1,0),0)","v":0},{"$f":"IF(M14=\"Дома\",J14,0)","v":0},{"$f":"IF(M14=\"Дома\",K14,0)","v":0},null,{"$f":"IF(M14=\"Гости\",IF(L14=\"В\",1,0),0)","v":0},{"$f":"IF(M14=\"Гости\",IF(L14=\"Н\",1,0),0)","v":1},{"$f":"IF(M14=\"Гости\",IF(L14=\"П\",1,0),0)","v":0},{"$f":"IF(M14=\"Гости\",J14,0)","v":2},{"$f":"IF(M14=\"Гости\",K14,0)","v":2}]
[null,{"$f":"ГостиГости!L3","v":2},{"$f":"ГостиГости!M3","v":1},{"$f":"ГостиГости!N3","v":"В"},null,{"$f":"B19","v":1},{"$f":"B15-C15","v":1},{"$f":"H16+G15","v":1},null,{"$f":"Гости!L3","v":2},{"$f":"Гости!M3","v":2},{"$f":"Гости!N3","v":"Н"},{"$f":"Гости!I3","v":"Дома"},null,{"$f":"IF(M15=\"Дома\",IF(L15=\"В\",O14+1,O14+0),O14+0)","v":0},{"$f":"IF(M15=\"Дома\",IF(L15=\"Н\",P14+1,P14+0),P14+0)","v":1},{"$f":"IF(M15=\"Дома\",IF(L15=\"П\",Q14+1,Q14+0),Q14+0)","v":0},{"$f":"IF(M15=\"Дома\",R14+J15,R14+0)","v":2},{"$f":"IF(M15=\"Дома\",S14+K15,S14+0)","v":2},null,{"$f":"IF(M15=\"Гости\",IF(L15=\"В\",U14+1,U14+0),U14+0)","v":0},{"$f":"IF(M15=\"Гости\",IF(L15=\"Н\",V14+1,V14+0),V14+0)","v":1},{"$f":"IF(M15=\"Гости\",IF(L15=\"П\",W14+1,W14+0),W14+0)","v":0},{"$f":"IF(M15=\"Гости\",X14+J15,X14+0)","v":2},{"$f":"IF(M15=\"Гости\",Y14+K15,Y14+0)","v":2}]
[null,{"$f":"ГостиГости!L4","v":2},{"$f":"ГостиГости!M4","v":1},{"$f":"ГостиГости!N4","v":"В"},null,{"$f":"B18","v":0},1,0,null,{"$f":"Гости!L4","v":2},{"$f":"Гости!M4","v":1},{"$f":"Гости!N4","v":"В"},{"$f":"Гости!I4","v":"Гости"},null,{"$f":"IF(M16=\"Дома\",IF(L16=\"В\",O15+1,O15+0),O15+0)","v":0},{"$f":"IF(M16=\"Дома\",IF(L16=\"Н\",P15+1,P15+0),P15+0)","v":1},{"$f":"IF(M16=\"Дома\",IF(L16=\"П\",Q15+1,Q15+0),Q15+0)","v":0},{"$f":"IF(M16=\"Дома\",R15+J16,R15+0)","v":2},{"$f":"IF(M16=\"Дома\",S15+K16,S15+0)","v":2},null,{"$f":"IF(M16=\"Гости\",IF(L16=\"В\",U15+1,U15+0),U15+0)","v":1},{"$f":"IF(M16=\"Гости\",IF(L16=\"Н\",V15+1,V15+0),V15+0)","v":1},{"$f":"IF(M16=\"Гости\",IF(L16=\"П\",W15+1,W15+0),W15+0)","v":0},{"$f":"IF(M16=\"Гости\",X15+J16,X15+0)","v":4},{"$f":"IF(M16=\"Гости\",Y15+K16,Y15+0)","v":3}]
[null,{"$f":"ГостиГости!L5","v":1},{"$f":"ГостиГости!M5","v":1},{"$f":"ГостиГости!N5","v":"Н"},null,{"$f":"B17","v":1},0,-1,null,{"$f":"Гости!L5","v":2},{"$f":"Гости!M5","v":0},{"$f":"Гости!N5","v":"В"},{"$f":"Гости!I5","v":"Дома"},null,1,1,0,4,2,null,1,1,0,4,3]
[null,{"$f":"ГостиГости!L6","v":0},{"$f":"ГостиГости!M6","v":0},{"$f":"ГостиГости!N6","v":"Н"},null,{"$f":"B16","v":2},0,-1,null,{"$f":"Гости!L6","v":4},{"$f":"Гости!M6","v":1},{"$f":"Гости!N6","v":"В"},{"$f":"Гости!I6","v":"Дома"},null,2,1,0,8,3,null,1,1,0,4,3]
[null,{"$f":"ГостиГости!L7","v":1},{"$f":"ГостиГости!M7","v":1},{"$f":"ГостиГости!N7","v":"Н"},null,{"$f":"B15","v":2},0,-1,null,{"$f":"Очные!AH2","v":2},{"$f":"Очные!AG2","v":2},{"$f":"Очные!M2","v":"Н"},{"$f":"Очные!Z2","v":"Гости"},null,2,1,0,8,3,null,1,2,0,6,5]
[null,{"$f":"ГостиГости!L8","v":0},{"$f":"ГостиГости!M8","v":4},{"$f":"ГостиГости!N8","v":"П"},null,{"$f":"B14","v":2},-4,-1,null,{"$f":"Очные!AH3","v":0},{"$f":"Очные!AG3","v":1},{"$f":"Очные!M3","v":"П"},{"$f":"Очные!Z3","v":"Дома"},null,2,1,1,8,4,null,1,2,0,6,5]
[null,{"$f":"ГостиГости!L9","v":0},{"$f":"ГостиГости!M9","v":1},{"$f":"ГостиГости!N9","v":"П"},null,null,-1,3,null,{"$f":"Очные!AH4","v":1},{"$f":"Очные!AG4","v":0},{"$f":"Очные!M4","v":"В"},{"$f":"Очные!Z4","v":"Дома"},null,3,1,1,9,4,null,1,2,0,6,5]
[null,{"$f":"ГостиГости!L10","v":3},{"$f":"ГостиГости!M10","v":0},{"$f":"ГостиГости!N10","v":"В"},null,null,3,{"$f":"H23+G22","v":4},null,{"$f":"Очные!AH5","v":3},{"$f":"Очные!AG5","v":1},{"$f":"Очные!M5","v":"В"},{"$f":"Очные!Z5","v":"Гости"},null,3,1,1,9,4,null,2,2,0,9,6]
[null,{"$f":"ГостиГости!L11","v":3},{"$f":"ГостиГости!M11","v":2},{"$f":"ГостиГости!N11","v":"В"},null,null,1,{"$f":"G23","v":1},null,{"$f":"Очные!AH6","v":""},{"$f":"Очные!AG6","v":""},{"$f":"Очные!M6","v":""},{"$f":"Очные!Z6","v":""},null,3,1,1,9,4,null,2,2,0,9,6]
[]
["total",null,null,{"$f":"TREND(F26:F32,E2:E8,E9)","v":2.9285714285714288},null,null,null,null,null,null,null,null,null,"В","Н","П","З","П","О",null,"И","В","Н","П","З","П","О",null,"И","В","Н","П","З","П","О","рейтинг",null,null,"ср заб"]
[null,{"$f":"AVERAGE(B2:C2)","v":2},{"$f":"AVERAGE(B14:C14)","v":2},{"$f":"SUM(B26:C26)","v":4},null,{"$f":"D32","v":3.5},null,null,null,{"$f":"A1","v":"Жарково"},null,null,{"$f":"SUM(AO42:AO69)/100","v":0.15883663184889948},{"$f":"COUNTIF(L2:L11,\"В\")","v":2},{"$f":"COUNTIF(L2:L11,\"Н\")","v":4},{"$f":"COUNTIF(L2:L11,\"П\")","v":3},{"$f":"SUM(J2:J11)","v":8},{"$f":"SUM(K2:K11)","v":11},{"$f":"N26*3+O26","v":10},null,{"$f":"COUNTIF(M2:M11,\"Дома\")","v":5},{"$f":"MAX(O2:O11)","v":0},{"$f":"MAX(P2:P11)","v":3},2,5,10,{"$f":"V26*3+W26","v":3},null,{"$f":"COUNTIF(M2:M11,\"Гости\")","v":4},{"$f":"MAX(U2:U11)","v":2},{"$f":"MAX(V2:V11)","v":1},1,3,1,{"$f":"AD26*3+AE26","v":7},{"$f":"(((AA26+AI26)*1.5+(Y26*1.5)+(Z26*1.5))-(AG26*1.5)-(AH26*1.5))/15","v":2.1},{"$f":"Q26/10","v":0.8},{"$f":"Y26/U26","v":1},{"$f":"AVERAGE(AK26:AL26)","v":0.9}]
[null,0,{"$f":"AVERAGE(B15:C15)","v":1.5},{"$f":"SUM(B27:C27)","v":1.5},null,{"$f":"D31","v":1},null,null,null,{"$f":"A13","v":"Нови Белград"},null,null,{"$f":"SUM(AO73:AO100)/100","v":0.63381217277300461},{"$f":"COUNTIF(L14:L23,\"В\")","v":5},{"$f":"COUNTIF(L14:L23,\"Н\")","v":3},{"$f":"COUNTIF(L14:L23,\"П\")","v":1},{"$f":"SUM(J14:J23)","v":18},{"$f":"SUM(K14:K23)","v":10},{"$f":"N27*3+O27","v":18},null,{"$f":"COUNTIF(M14:M23,\"Дома\")","v":5},{"$f":"MAX(O14:O23)","v":3},{"$f":"MAX(P14:P23)","v":1},1,9,4,{"$f":"V27*3+W27","v":10},null,{"$f":"COUNTIF(M14:M23,\"Гости\")","v":4},{"$f":"MAX(U14:U23)","v":2},{"$f":"MAX(V14:V23)","v":2},0,9,6,{"$f":"AD27*3+AE27","v":8},{"$f":"(((AA27+AI27)*1.5+(Y27*1.5)+(Z27*1.5))-(AG27*1.5)-(AH27*1.5))/15","v":1.6},{"$f":"Q27/10","v":1.8},{"$f":"AG27/AC27","v":2.25},{"$f":"AVERAGE(AK27:AL27)","v":2.0249999999999999}]
[null,1.5,1.5,3,null,{"$f":"D30","v":1.5},null,null,null,null,{"$f":"MAX(N2:N11)","v":9},"DR",{"$f":"SUM(AO104:AO110)/100","v":0.20616087089406077}]
[null,1,1,2,null,{"$f":"D29","v":2},null,null,null,null,null,null,null,null,null,null,null,null,null,null,null,null,null,null,null,null,null,null,null,null,null,null,null,null,null,null,null,"хоз","гости"]
[null,1.5,0,1.5,null,{"$f":"D28","v":3},null,null,null,null,null,null,{"$f":"AVERAGE(N30:O30)","v":7.1428571428571425E-2},{"$f":"V26/U26/(V26/U26+W26/U26+AD27/AC27+AE27/AC27)","v":0},{"$f":"N26/K28/(N26/K28+O26/K28+N27/K28+O27/K28)","v":0.14285714285714285},null,null,null,null,null,null,null,null,null,null,null,null,null,null,null,null,null,null,null,null,null,0,{"$f":"POISSON(AK30,$AM$26,FALSE)*100","v":40.656965974059908},{"$f":"POISSON(AK30,$AM$27,FALSE)*100","v":13.199384318783022},0]
[null,0,1,1,null,{"$f":"D27","v":1.5},null,null,null,null,null,null,{"$f":"AVERAGE(N31:O31)","v":0.59375},{"$f":"(W26/U26+AE27/AC27)/(V26/U26+W26/U26+AD27/AC27+AE27/AC27)","v":0.6875},{"$f":"(O26/K28+O27/K28)/(N26/K28+O26/K28+N27/K28+O27/K28)","v":0.49999999999999994},null,null,null,null,null,null,null,null,null,null,null,null,null,null,null,null,null,null,null,null,null,1,{"$f":"POISSON(AK31,$AM$26,FALSE)*100","v":36.591269376653926},{"$f":"POISSON(AK31,$AM$27,FALSE)*100","v":26.728753245535618},1]
[null,1.5,2,3.5,null,{"$f":"D26","v":4},null,null,null,null,null,null,0.3348214285714286,{"$f":"AD27/AC27/(V26/U26+W26/U26+AD27/AC27+AE27/AC27)","v":0.3125},{"$f":"N27/K28/(N26/K28+O26/K28+N27/K28+O27/K28)","v":0.35714285714285715},null,null,null,null,null,null,null,null,null,null,null,null,null,null,null,null,null,null,null,null,null,2,16.466071219494264,27.06286266110482,2]
[null,0.5,0.5,1,null,null,null,null,null,null,null,null,null,null,null,null,null,null,null,null,null,null,null,null,null,null,null,null,null,null,null,null,null,null,null,null,3,4.939821365848279,18.267432296245747,3]
[null,0.5,1.5,2,null,null,null,null,null,null,null,null,null,null,null,null,null,null,null,null,null,null,null,null,null,null,null,null,null,null,null,null,null,null,null,null,4,1.1114598073158626,9.2478875999744101,4]
[null,1,2.5,3.5,null,null,null,null,null,null,null,null,null,null,null,null,null,null,null,null,null,null,null,null,null,null,null,null,null,null,null,null,null,null,null,null,5,0.20006276531685532,3.7453944779896338,5]
[null,null,null,null,null,null,null,null,null,null,null,null,null,null,null,null,null,null,null,null,null,null,null,null,null,null,null,null,null,null,null,null,null,null,null,null,6,3.0009414797528295E-2,1.2640706363215026,6]
[null,null,null,null,null,null,null,null,null,null,null,null,null,null,null,null,null,null,null,null,null,null,null,null,null,null,null,null,null,null,null,null,null,null,null,null,7,3.8583533311107874E-3,0.36567757693586267,7]
[null,null,null,null,null,null,null,null,null,null,null,null,null,null,null,null,null,null,null,null,null,null,null,null,null,null,null,null,null,null,null,null,null,null,null,null,{"$f":"MATCH(AL38,AL30:AL37,0)","v":1},{"$f":"MAX(AL30:AL37)","v":40.656965974059908},{"$f":"MAX(AM30:AM37)","v":27.06286266110482},{"$f":"MATCH(AM38,AM30:AM37,0)","v":3}]
[]
[null,null,null,null,null,null,null,null,null,null,null,null,null,null,null,null,null,null,null,null,null,null,null,null,null,null,null,null,null,null,null,null,null,null,null,null,"хоз"]
[null,null,null,null,null,null,null,null,null,null,null,null,null,null,null,null,null,null,null,null,null,null,null,null,null,null,null,null,null,null,null,null,null,null,null,null,null,null,"H","A","EXP"]
[null,null,null,null,null,null,null,null,null,null,null,null,null,null,null,null,null,null,null,null,null,null,null,null,null,null,null,null,null,null,null,null,null,null,null,null,7,0,{"$f":"VLOOKUP(AK42,$AK$30:$AM$37,2)","v":3.8583533311107874E-3},{"$f":"VLOOKUP(AL42,$AK$30:$AM$37,3)","v":13.199384318783022},{"$f":"(AM42*AN42)/100","v":5.0927888454987958E-4}]
[null,null,null,null,null,null,null,null,null,null,null,null,null,null,null,null,null,null,null,null,null,null,null,null,null,null,null,null,null,null,null,null,null,null,null,null,7,1,{"$f":"VLOOKUP(AK43,$AK$30:$AM$37,2)","v":3.8583533311107874E-3},{"$f":"VLOOKUP(AL43,$AK$30:$AM$37,3)","v":26.728753245535618},1.0312897412135063E-3]
[null,null,null,null,null,null,null,null,null,null,null,null,null,null,null,null,null,null,null,null,null,null,null,null,null,null,null,null,null,null,null,null,null,null,null,null,7,2,3.8583533311107874E-3,27.06286266110482,1.0441808629786753E-3]
[null,null,null,null,null,null,null,null,null,null,null,null,null,null,null,null,null,null,null,null,null,null,null,null,null,null,null,null,null,null,null,null,null,null,null,null,7,3,3.8583533311107874E-3,18.267432296245747,7.0482208251060547E-4]
[null,null,null,null,null,null,null,null,null,null,null,null,null,null,null,null,null,null,null,null,null,null,null,null,null,null,null,null,null,null,null,null,null,null,null,null,7,4,3.8583533311107874E-3,9.2478875999744101,3.5681617927099408E-4]
[null,null,null,null,null,null,null,null,null,null,null,null,null,null,null,null,null,null,null,null,null,null,null,null,null,null,null,null,null,null,null,null,null,null,null,null,7,5,3.8583533311107874E-3,3.7453944779896338,1.4451055260475252E-4]
[null,null,null,null,null,null,null,null,null,null,null,null,null,null,null,null,null,null,null,null,null,null,null,null,null,null,null,null,null,null,null,null,null,null,null,null,7,6,3.8583533311107874E-3,1.2640706363215026,4.8772311504104019E-5]
[null,null,null,null,null,null,null,null,null,null,null,null,null,null,null,null,null,null,null,null,null,null,null,null,null,null,null,null,null,null,null,null,null,null,null,null,6,0,3.0009414797528295E-2,13.199384318783022,3.9610579909435013E-3]
[null,null,null,null,null,null,null,null,null,null,null,null,null,null,null,null,null,null,null,null,null,null,null,null,null,null,null,null,null,null,null,null,null,null,null,null,6,1,3.0009414797528295E-2,26.728753245535618,8.0211424316605912E-3]
[null,null,null,null,null,null,null,null,null,null,null,null,null,null,null,null,null,null,null,null,null,null,null,null,null,null,null,null,null,null,null,null,null,null,null,null,6,2,3.0009414797528295E-2,27.06286266110482,8.1214067120563491E-3]
[null,null,null,null,null,null,null,null,null,null,null,null,null,null,null,null,null,null,null,null,null,null,null,null,null,null,null,null,null,null,null,null,null,null,null,null,6,3,3.0009414797528295E-2,18.267432296245747,5.4819495306380342E-3]
[null,null,null,null,null,null,null,null,null,null,null,null,null,null,null,null,null,null,null,null,null,null,null,null,null,null,null,null,null,null,null,null,null,null,null,null,6,4,3.0009414797528295E-2,9.2478875999744101,2.7752369498855053E-3]
[null,null,null,null,null,null,null,null,null,null,null,null,null,null,null,null,null,null,null,null,null,null,null,null,null,null,null,null,null,null,null,null,null,null,null,null,6,5,3.0009414797528295E-2,3.7453944779896338,1.1239709647036288E-3]
[null,null,null,null,null,null,null,null,null,null,null,null,null,null,null,null,null,null,null,null,null,null,null,null,null,null,null,null,null,null,null,null,null,null,null,null,5,0,0.20006276531685532,13.199384318783022,2.6407053272956681E-2]
[null,null,null,null,null,null,null,null,null,null,null,null,null,null,null,null,null,null,null,null,null,null,null,null,null,null,null,null,null,null,null,null,null,null,null,null,5,1,0.20006276531685532,26.728753245535618,5.3474282877737277E-2]
[null,null,null,null,null,null,null,null,null,null,null,null,null,null,null,null,null,null,null,null,null,null,null,null,null,null,null,null,null,null,null,null,null,null,null,null,5,2,0.20006276531685532,27.06286266110482,5.4142711413709001E-2]
[null,null,null,null,null,null,null,null,null,null,null,null,null,null,null,null,null,null,null,null,null,null,null,null,null,null,null,null,null,null,null,null,null,null,null,null,5,3,0.20006276531685532,18.267432296245747,3.6546330204253567E-2]
[null,null,null,null,null,null,null,null,null,null,null,null,null,null,null,null,null,null,null,null,null,null,null,null,null,null,null,null,null,null,null,null,null,null,null,null,5,4,0.20006276531685532,9.2478875999744101,1.8501579665903368E-2]
[null,null,null,null,null,null,null,null,null,null,null,null,null,null,null,null,null,null,null,null,null,null,null,null,null,null,null,null,null,null,null,null,null,null,null,null,4,0,1.1114598073158626,13.199384318783022,0.14670585151642596]
[null,null,null,null,null,null,null,null,null,null,null,null,null,null,null,null,null,null,null,null,null,null,null,null,null,null,null,null,null,null,null,null,null,null,null,null,4,1,1.1114598073158626,26.728753245535618,0.29707934932076258]
[null,null,null,null,null,null,null,null,null,null,null,null,null,null,null,null,null,null,null,null,null,null,null,null,null,null,null,null,null,null,null,null,null,null,null,null,4,2,1.1114598073158626,27.06286266110482,0.30079284118727218]
[null,null,null,null,null,null,null,null,null,null,null,null,null,null,null,null,null,null,null,null,null,null,null,null,null,null,null,null,null,null,null,null,null,null,null,null,4,3,1.1114598073158626,18.267432296245747,0.20303516780140865]
[null,null,null,null,null,null,null,null,null,null,null,null,null,null,null,null,null,null,null,null,null,null,null,null,null,null,null,null,null,null,null,null,null,null,null,null,3,0,4.939821365848279,13.199384318783022,0.65202600673967093]
[null,null,null,null,null,null,null,null,null,null,null,null,null,null,null,null,null,null,null,null,null,null,null,null,null,null,null,null,null,null,null,null,null,null,null,null,3,1,4.939821365848279,26.728753245535618,1.3203526636478338]
[null,null,null,null,null,null,null,null,null,null,null,null,null,null,null,null,null,null,null,null,null,null,null,null,null,null,null,null,null,null,null,null,null,null,null,null,3,2,4.939821365848279,27.06286266110482,1.3368570719434318]
[null,null,null,null,null,null,null,null,null,null,null,null,null,null,null,null,null,null,null,null,null,null,null,null,null,null,null,null,null,null,null,null,null,null,null,null,2,0,16.466071219494264,13.199384318783022,2.17342002246557]
[null,null,null,null,null,null,null,null,null,null,null,null,null,null,null,null,null,null,null,null,null,null,null,null,null,null,null,null,null,null,null,null,null,null,null,null,2,1,16.466071219494264,26.728753245535618,4.4011755454927792]
[null,null,null,null,null,null,null,null,null,null,null,null,null,null,null,null,null,null,null,null,null,null,null,null,null,null,null,null,null,null,null,null,null,null,null,null,1,0,36.591269376653926,13.199384318783022,4.8298222721457122]
[]
[null,null,null,null,null,null,null,null,null,null,null,null,null,null,null,null,null,null,null,null,null,null,null,null,null,null,null,null,null,null,null,null,null,null,null,null,"гости"]
[]
[null,null,null,null,null,null,null,null,null,null,null,null,null,null,null,null,null,null,null,null,null,null,null,null,null,null,null,null,null,null,null,null,null,null,null,null,0,7,{"$f":"VLOOKUP(AK73,$AK$30:$AM$37,2)","v":40.656965974059908},{"$f":"VLOOKUP(AL73,$AK$30:$AM$37,3)","v":0.36567757693586267},{"$f":"(AM73*AN73)/100","v":0.14867340802958043}]
[null,null,null,null,null,null,null,null,null,null,null,null,null,null,null,null,null,null,null,null,null,null,null,null,null,null,null,null,null,null,null,null,null,null,null,null,1,7,{"$f":"VLOOKUP(AK74,$AK$30:$AM$37,2)","v":36.591269376653926},{"$f":"VLOOKUP(AL74,$AK$30:$AM$37,3)","v":0.36567757693586267},0.13380606722662242]
[null,null,null,null,null,null,null,null,null,null,null,null,null,null,null,null,null,null,null,null,null,null,null,null,null,null,null,null,null,null,null,null,null,null,null,null,2,7,16.466071219494264,0.36567757693586267,6.0212730251980082E-2]
[null,null,null,null,null,null,null,null,null,null,null,null,null,null,null,null,null,null,null,null,null,null,null,null,null,null,null,null,null,null,null,null,null,null,null,null,3,7,4.939821365848279,0.36567757693586267,1.8063819075594022E-2]
[null,null,null,null,null,null,null,null,null,null,null,null,null,null,null,null,null,null,null,null,null,null,null,null,null,null,null,null,null,null,null,null,null,null,null,null,4,7,1.1114598073158626,0.36567757693586267,4.0643592920086543E-3]
[null,null,null,null,null,null,null,null,null,null,null,null,null,null,null,null,null,null,null,null,null,null,null,null,null,null,null,null,null,null,null,null,null,null,null,null,5,7,0.20006276531685532,0.36567757693586267,7.3158467256155795E-4]
[null,null,null,null,null,null,null,null,null,null,null,null,null,null,null,null,null,null,null,null,null,null,null,null,null,null,null,null,null,null,null,null,null,null,null,null,6,7,3.0009414797528295E-2,0.36567757693586267,1.0973770088423368E-4]
[null,null,null,null,null,null,null,null,null,null,null,null,null,null,null,null,null,null,null,null,null,null,null,null,null,null,null,null,null,null,null,null,null,null,null,null,0,6,40.656965974059908,1.2640706363215026,0.51393276849731595]
[null,null,null,null,null,null,null,null,null,null,null,null,null,null,null,null,null,null,null,null,null,null,null,null,null,null,null,null,null,null,null,null,null,null,null,null,1,6,36.591269376653926,1.2640706363215026,0.4625394916475844]
[null,null,null,null,null,null,null,null,null,null,null,null,null,null,null,null,null,null,null,null,null,null,null,null,null,null,null,null,null,null,null,null,null,null,null,null,2,6,16.466071219494264,1.2640706363215026,0.20814277124141295]
[null,null,null,null,null,null,null,null,null,null,null,null,null,null,null,null,null,null,null,null,null,null,null,null,null,null,null,null,null,null,null,null,null,null,null,null,3,6,4.939821365848279,1.2640706363215026,6.2442831372423881E-2]
[null,null,null,null,null,null,null,null,null,null,null,null,null,null,null,null,null,null,null,null,null,null,null,null,null,null,null,null,null,null,null,null,null,null,null,null,4,6,1.1114598073158626,1.2640706363215026,1.404963705879537E-2]
[null,null,null,null,null,null,null,null,null,null,null,null,null,null,null,null,null,null,null,null,null,null,null,null,null,null,null,null,null,null,null,null,null,null,null,null,5,6,0.20006276531685532,1.2640706363215026,2.5289346705831676E-3]
[null,null,null,null,null,null,null,null,null,null,null,null,null,null,null,null,null,null,null,null,null,null,null,null,null,null,null,null,null,null,null,null,null,null,null,null,0,5,40.656965974059908,3.7453944779896338,1.522763758510564]
[null,null,null,null,null,null,null,null,null,null,null,null,null,null,null,null,null,null,null,null,null,null,null,null,null,null,null,null,null,null,null,null,null,null,null,null,1,5,36.591269376653926,3.7453944779896338,1.3704873826595081]
[null,null,null,null,null,null,null,null,null,null,null,null,null,null,null,null,null,null,null,null,null,null,null,null,null,null,null,null,null,null,null,null,null,null,null,null,2,5,16.466071219494264,3.7453944779896338,0.6167193221967785]
[null,null,null,null,null,null,null,null,null,null,null,null,null,null,null,null,null,null,null,null,null,null,null,null,null,null,null,null,null,null,null,null,null,null,null,null,3,5,4.939821365848279,3.7453944779896338,0.18501579665903353]
[null,null,null,null,null,null,null,null,null,null,null,null,null,null,null,null,null,null,null,null,null,null,null,null,null,null,null,null,null,null,null,null,null,null,null,null,4,5,1.1114598073158626,3.7453944779896338,4.1628554248282539E-2]
[null,null,null,null,null,null,null,null,null,null,null,null,null,null,null,null,null,null,null,null,null,null,null,null,null,null,null,null,null,null,null,null,null,null,null,null,0,4,40.656965974059908,9.2478875999744101,3.7599105148409011]
[null,null,null,null,null,null,null,null,null,null,null,null,null,null,null,null,null,null,null,null,null,null,null,null,null,null,null,null,null,null,null,null,null,null,null,null,1,4,36.591269376653926,9.2478875999744101,3.3839194633568122]
[null,null,null,null,null,null,null,null,null,null,null,null,null,null,null,null,null,null,null,null,null,null,null,null,null,null,null,null,null,null,null,null,null,null,null,null,2,4,16.466071219494264,9.2478875999744101,1.5227637585105651]
[null,null,null,null,null,null,null,null,null,null,null,null,null,null,null,null,null,null,null,null,null,null,null,null,null,null,null,null,null,null,null,null,null,null,null,null,3,4,4.939821365848279,9.2478875999744101,0.45682912755316957]
[null,null,null,null,null,null,null,null,null,null,null,null,null,null,null,null,null,null,null,null,null,null,null,null,null,null,null,null,null,null,null,null,null,null,null,null,0,3,40.656965974059908,18.267432296245747,7.426983733019064]
[null,null,null,null,null,null,null,null,null,null,null,null,null,null,null,null,null,null,null,null,null,null,null,null,null,null,null,null,null,null,null,null,null,null,null,null,1,3,36.591269376653926,18.267432296245747,6.6842853597171601]
[null,null,null,null,null,null,null,null,null,null,null,null,null,null,null,null,null,null,null,null,null,null,null,null,null,null,null,null,null,null,null,null,null,null,null,null,2,3,16.466071219494264,18.267432296245747,3.0079284118727214]
[null,null,null,null,null,null,null,null,null,null,null,null,null,null,null,null,null,null,null,null,null,null,null,null,null,null,null,null,null,null,null,null,null,null,null,null,0,2,40.656965974059908,27.06286266110482,11.002938863731949]
[null,null,null,null,null,null,null,null,null,null,null,null,null,null,null,null,null,null,null,null,null,null,null,null,null,null,null,null,null,null,null,null,null,null,null,null,1,2,36.591269376653926,27.06286266110482,9.9026449773587579]
[null,null,null,null,null,null,null,null,null,null,null,null,null,null,null,null,null,null,null,null,null,null,null,null,null,null,null,null,null,null,null,null,null,null,null,null,0,1,40.656965974059908,26.728753245535618,10.867100112327849]
[]
[null,null,null,null,null,null,null,null,null,null,null,null,null,null,null,null,null,null,null,null,null,null,null,null,null,null,null,null,null,null,null,null,null,null,null,null,"ничья"]
[]
[null,null,null,null,null,null,null,null,null,null,null,null,null,null,null,null,null,null,null,null,null,null,null,null,null,null,null,null,null,null,null,null,null,null,null,null,0,0,{"$f":"VLOOKUP(AK104,$AK$30:$AM$37,2)","v":40.656965974059908},{"$f":"VLOOKUP(AL104,$AK$30:$AM$37,3)","v":13.199384318783022},{"$f":"(AM104*AN104)/100","v":5.366469191273012}]
[null,null,null,null,null,null,null,null,null,null,null,null,null,null,null,null,null,null,null,null,null,null,null,null,null,null,null,null,null,null,null,null,null,null,null,null,1,1,{"$f":"VLOOKUP(AK105,$AK$30:$AM$37,2)","v":36.591269376653926},{"$f":"VLOOKUP(AL105,$AK$30:$AM$37,3)","v":26.728753245535618},9.7803901010950671]
[null,null,null,null,null,null,null,null,null,null,null,null,null,null,null,null,null,null,null,null,null,null,null,null,null,null,null,null,null,null,null,null,null,null,null,null,2,2,16.466071219494264,27.06286266110482,4.4561902398114404]
[null,null,null,null,null,null,null,null,null,null,null,null,null,null,null,null,null,null,null,null,null,null,null,null,null,null,null,null,null,null,null,null,null,null,null,null,3,3,4.939821365848279,18.267432296245747,0.90237852356181636]
[null,null,null,null,null,null,null,null,null,null,null,null,null,null,null,null,null,null,null,null,null,null,null,null,null,null,null,null,null,null,null,null,null,null,null,null,4,4,1.1114598073158626,9.2478875999744101,0.10278655369946313]
[null,null,null,null,null,null,null,null,null,null,null,null,null,null,null,null,null,null,null,null,null,null,null,null,null,null,null,null,null,null,null,null,null,null,null,null,5,5,0.20006276531685532,3.7453944779896338,7.4931397646908595E-3]
[null,null,null,null,null,null,null,null,null,null,null,null,null,null,null,null,null,null,null,null,null,null,null,null,null,null,null,null,null,null,null,null,null,null,null,null,6,6,3.0009414797528295E-2,1.2640706363215026,3.7934020058747505E-4]

{"sheet":"Расчеты","index":10,"n_rows":127,"n_cols":73,"rows_kept":127,"cut":false,"hidden":true,"merged":[[125,3,125,4],[126,3,126,4],[115,21,115,22],[115,27,115,28],[116,21,116,22],[116,27,116,28],[117,22,118,22],[117,21,118,21],[119,22,120,22],[119,21,120,21],[122,8,122,9],[121,8,121,9],[115,5,116,7],[115,8,115,9],[117,8,117,9],[119,8,119,9],[110,21,110,22],[110,23,110,24],[110,25,110,26],[110,27,110,28],[111,21,113,21],[111,22,113,22],[111,23,113,23],[111,24,113,24],[111,25,113,26],[111,27,113,28],[114,21,114,22],[114,27,114,28],[14,51,14,53],[2,67,2,72],[2,61,2,66],[2,55,2,60],[2,51,2,54],[110,15,111,16],[112,15,113,16],[80,27,80,28],[101,27,101,35],[38,35,43,35],[43,37,43,38],[44,31,44,32],[72,36,72,38],[72,39,72,41],[72,42,72,44],[72,45,72,47],[49,42,49,44],[49,45,49,47],[49,36,49,38],[49,39,49,41],[49,35,60,35],[72,35,83,35],[104,11,104,12],[111,2,111,3],[111,4,111,5],[111,6,111,7],[111,8,111,9],[49,2,49,3],[50,7,52,7],[54,3,55,6],[54,7,55,10],[104,2,104,4],[104,5,104,7],[104,8,104,10],[63,2,64,7],[65,2,65,3],[65,5,65,6],[66,2,66,3],[66,5,66,6],[65,12,65,13],[66,12,66,13],[107,2,107,3],[107,4,107,5],[107,6,107,8],[67,2,67,3],[67,5,67,6],[68,2,68,3],[68,5,68,6],[100,2,100,4],[100,5,100,7],[100,8,100,10],[100,11,100,12],[82,19,82,26],[83,19,88,19],[83,21,88,21],[83,23,88,23],[83,25,88,25],[75,14,75,15],[73,2,73,3],[101,18,101,26],[96,19,96,20],[86,2,86,5],[86,6,86,9],[95,15,95,16],[95,17,95,18],[91,3,91,9],[91,10,91,16],[91,17,91,23],[95,19,95,20],[45,35,45,37],[45,38,45,39],[66,24,66,25],[61,24,61,25],[37,30,37,35],[37,37,37,39],[38,29,43,29],[38,31,43,31],[38,33,43,33],[55,29,55,32],[46,25,48,26],[49,25,51,26],[37,19,37,22],[37,23,37,26],[45,19,45,21],[45,23,45,25],[46,19,46,24],[77,25,77,26],[77,27,77,28],[63,21,63,23],[60,19,60,20],[59,19,59,20],[59,21,59,23],[64,24,64,25],[65,24,65,25],[61,19,61,20],[61,21,61,23],[63,24,63,25],[63,26,63,28],[63,19,63,20],[73,19,73,28],[74,19,74,20],[74,21,74,22],[74,23,74,24],[74,26,74,27],[2,32,2,37],[2,38,2,43],[2,28,2,31],[2,44,2,49],[14,28,14,30],[29,11,29,14],[30,11,30,13],[31,11,31,12],[32,11,32,12],[17,13,18,13],[19,13,20,13],[17,14,18,14],[19,14,20,14],[2,17,2,23],[6,10,6,11],[7,10,7,11],[8,10,8,11],[15,4,15,14],[16,10,16,12],[17,12,18,12],[19,12,20,12],[29,16,29,23],[2,3,2,9],[2,10,2,16],[8,3,8,4],[6,5,6,6],[7,5,7,6],[8,5,8,6],[22,12,22,17],[6,19,6,20],[7,19,7,20],[8,19,8,20],[15,16,15,25],[6,12,6,13],[7,12,7,13],[8,12,8,13],[6,17,6,18],[7,17,7,18],[8,17,8,18],[6,3,6,4],[7,3,7,4],[22,8,23,8],[22,9,22,11],[13,5,13,6],[13,8,13,9],[15,2,16,3],[19,2,19,3],[20,2,20,3],[17,2,17,3],[18,2,18,3],[22,3,22,6],[37,2,37,7],[27,2,27,6],[22,2,23,2],[26,2,26,6],[33,2,33,3],[34,2,34,3],[29,7,29,10],[30,7,30,9],[31,7,31,8],[32,7,32,8],[33,7,33,8],[34,7,34,8],[29,2,29,5],[30,2,30,3],[37,10,37,16],[30,4,30,5],[31,2,31,3],[32,2,32,3],[34,11,34,12],[33,11,33,12],[46,12,46,13],[60,11,60,12],[64,19,64,23],[62,19,62,20],[62,24,62,25],[61,26,61,28],[62,21,62,23],[62,26,62,28],[59,24,59,25],[59,26,59,28],[60,24,60,25],[56,11,56,12],[57,11,57,12],[58,11,58,12],[59,11,59,12],[54,11,55,15],[51,19,51,20],[63,12,63,16]]}
["rP5ibdZs"]
[]
[null,null,null,"Всего",null,null,null,null,null,null,"Дома",null,null,null,null,null,null,"На выезде",null,null,null,null,null,null,null,null,null,null,"Пуассон",null,null,null,"Дома",null,null,null,null,null,"Гости",null,null,null,null,null,"Ничья",null,null,null,null,null,null,"Пуассон",null,null,null,"Дома",null,null,null,null,null,"Гости",null,null,null,null,null,"Ничья"]
[null,null,null,"Игр","В","Н","П","Забито","Проп","Очки","Игр","В","Н","П","Забито","Проп","Очки","Игр","В","Н","П","Забито","Проп","Очки",null,null,null,null,{"$f":"D12","v":0.7583333333333333},"HG","AG",{"$f":"D13","v":1.7416666666666663},"Г1","Г2","Д","Г","%","КФ","К1","К2","Д","Г","%","КФ","К1","К2","Д","Гости","%","КФ",null,{"$f":"U112","v":1.2776076101530347},"HG","AG",{"$f":"U114","v":1.4645984557769658},"Г1","Г2","Д","Г","%","КФ","К1","К2","Д","Г","%","КФ","К1","К2","Д","Гости","%","КФ"]
[null,null,"Хозяева",{"$f":"Дома!O11","v":10},{"$f":"Дома!P11","v":3},{"$f":"Дома!Q11","v":4},{"$f":"Дома!R11","v":3},{"$f":"Дома!S11","v":8},{"$f":"Дома!T11","v":10},{"$f":"Дома!U11","v":13},{"$f":"Дома!V11","v":6},{"$f":"Дома!W11","v":1},{"$f":"Дома!X11","v":3},{"$f":"Дома!Y11","v":2},{"$f":"Дома!Z11","v":4},{"$f":"Дома!AA11","v":8},{"$f":"Дома!AB11","v":6},{"$f":"Дома!AC11","v":4},{"$f":"Дома!AD11","v":2},{"$f":"Дома!AE11","v":1},{"$f":"Дома!AF11","v":1},{"$f":"Дома!AG11","v":4},{"$f":"Дома!AH11","v":2},{"$f":"Дома!AI11","v":7},null,null,null,null,0,{"$f":"POISSON(AC5,AC4,FALSE)*100","v":46.844652095263406},{"$f":"POISSON(AC5,AF4,FALSE)*100","v":17.522811025892683},0,7,0,{"$f":"VLOOKUP(AG5,AC5:AE12,2)","v":1.3404496491131086E-3},{"$f":"VLOOKUP(AH5,AC5:AE12,3)","v":17.522811025892683},{"$f":"(AI5*AJ5)/100","v":2.3488445891133158E-4},{"$f":"100/AK5","v":425741.23662114999},0,7,{"$f":"VLOOKUP(AM5,AC5:AE12,2)","v":46.844652095263406},{"$f":"VLOOKUP(AN5,AC5:AE12,3)","v":0.16901627321789253},{"$f":"(AO5*AP5)/100","v":7.9175085173301615E-2},{"$f":"100/AQ5","v":1263.023586032348},0,0,{"$f":"VLOOKUP(AS5,AC5:AE12,2)","v":46.844652095263406},{"$f":"VLOOKUP(AT5,AC5:AE12,3)","v":17.522811025892683},{"$f":"(AU5*AV5)/100","v":8.2084998623898837},{"$f":"100/AW5","v":12.182493960703468},null,0,{"$f":"POISSON(AZ5,AZ4,FALSE)*100","v":27.870327038008025},{"$f":"POISSON(AZ5,BC4,FALSE)*100","v":23.117079814162121},0,7,0,{"$f":"VLOOKUP(BD5,AZ5:BB12,2)","v":3.0725146245539525E-2},{"$f":"VLOOKUP(BE5,AZ5:BB12,3)","v":23.117079814162121},{"$f":"(BF5*BG5)/100","v":7.1027565805994088E-3},{"$f":"100/BH5","v":14079.040843542592},0,7,{"$f":"VLOOKUP(BJ5,AZ5:BB12,2)","v":27.870327038008025},{"$f":"VLOOKUP(BK5,AZ5:BB12,3)","v":6.6302887022809329E-2},{"$f":"(BL5*BM5)/100","v":1.8478831448897944E-2},{"$f":"100/BN5","v":5411.597604347643},0,0,{"$f":"VLOOKUP(BP5,AZ5:BB12,2)","v":27.870327038008025},{"$f":"VLOOKUP(BQ5,AZ5:BB12,3)","v":23.117079814162121},{"$f":"(BR5*BS5)/100","v":6.4428057458443213},{"$f":"100/BT5","v":15.521188119710278}]
[null,null,"Гости",{"$f":"Гости!O11","v":10},{"$f":"Гости!P11","v":5},{"$f":"Гости!Q11","v":4},{"$f":"Гости!R11","v":1},{"$f":"Гости!S11","v":19},{"$f":"Гости!T11","v":13},{"$f":"Гости!U11","v":19},{"$f":"Гости!V11","v":6},{"$f":"Гости!W11","v":3},{"$f":"Гости!X11","v":2},{"$f":"Гости!Y11","v":1},{"$f":"Гости!Z11","v":12},{"$f":"Гости!AA11","v":8},{"$f":"Гости!AB11","v":11},{"$f":"Гости!AC11","v":4},{"$f":"Гости!AD11","v":2},{"$f":"Гости!AE11","v":2},{"$f":"Гости!AF11","v":0},{"$f":"Гости!AG11","v":7},{"$f":"Гости!AH11","v":5},{"$f":"Гости!AI11","v":8},null,null,null,null,1,{"$f":"POISSON(AC6,AC4,FALSE)*100","v":35.523861172241411},{"$f":"POISSON(AC6,AF4,FALSE)*100","v":30.518895870096408},1,7,1,{"$f":"VLOOKUP(AG6,AC5:AE12,2)","v":1.3404496491131086E-3},{"$f":"VLOOKUP(AH6,AC5:AE12,3)","v":30.518895870096408},4.0909043260390227E-4,244444.72916046903,1,7,{"$f":"VLOOKUP(AM6,AC5:AE12,2)","v":35.523861172241411},{"$f":"VLOOKUP(AN6,AC5:AE12,3)","v":0.16901627321789253},6.0041106256420382E-2,1665.5256079547451,1,1,{"$f":"VLOOKUP(AS6,AC5:AE12,2)","v":35.523861172241411},{"$f":"VLOOKUP(AT6,AC5:AE12,3)","v":30.518895870096408},10.841490200193967,9.2238242301976978,null,1,{"$f":"POISSON(AZ6,AZ4,FALSE)*100","v":35.607341921212935},{"$f":"POISSON(AZ6,BC4,FALSE)*100","v":33.857239397894709},1,7,1,{"$f":"VLOOKUP(BD6,AZ5:BB12,2)","v":3.0725146245539525E-2},{"$f":"VLOOKUP(BE6,AZ5:BB12,3)","v":33.857239397894709},1.0402686319705574E-2,9612.9016031726587,1,7,{"$f":"VLOOKUP(BJ6,AZ5:BB12,2)","v":35.607341921212935},{"$f":"VLOOKUP(BK6,AZ5:BB12,3)","v":6.6302887022809329E-2},2.3608695685847239E-2,4235.7274341058683,1,1,{"$f":"VLOOKUP(BP6,AZ5:BB12,2)","v":35.607341921212935},{"$f":"VLOOKUP(BQ6,AZ5:BB12,3)","v":33.857239397894709},12.055662997491984,8.2948569498669329]
[null,null,null,"Забивают",null,"Пропускают",null,"В/Н/П","З/П",null,"Забивают",null,"Пропускают",null,"В/Н/П","З/П",null,"Забивают",null,"Пропускают",null,"В/Н/П","З/П",null,null,null,null,null,2,{"$f":"POISSON(AC7,AC4,FALSE)*100","v":13.469464027808201},{"$f":"POISSON(AC7,AF4,FALSE)*100","v":26.576871820208957},2,7,2,{"$f":"VLOOKUP(AG7,AC5:AE12,2)","v":1.3404496491131086E-3},{"$f":"VLOOKUP(AH7,AC5:AE12,3)","v":26.576871820208957},3.5624958505923164E-4,280702.08133259596,2,7,{"$f":"VLOOKUP(AM7,AC5:AE12,2)","v":13.469464027808201},{"$f":"VLOOKUP(AN7,AC5:AE12,3)","v":0.16901627321789253},2.276558612222606E-2,4392.5950099905367,2,2,{"$f":"VLOOKUP(AS7,AC5:AE12,2)","v":13.469464027808201},{"$f":"VLOOKUP(AT7,AC5:AE12,3)","v":26.576871820208957},3.57976218953974,27.934816533960117,null,2,{"$f":"POISSON(AZ7,AZ4,FALSE)*100","v":22.746105507931418},{"$f":"POISSON(AZ7,BC4,FALSE)*100","v":24.793630269513827},2,7,2,{"$f":"VLOOKUP(BD7,AZ5:BB12,2)","v":3.0725146245539525E-2},{"$f":"VLOOKUP(BE7,AZ5:BB12,3)","v":24.793630269513827},7.6178791598864783E-3,13127.013162215899,2,7,{"$f":"VLOOKUP(BJ7,AZ5:BB12,2)","v":22.746105507931418},{"$f":"VLOOKUP(BK7,AZ5:BB12,3)","v":6.6302887022809329E-2},1.5081324637012778E-2,6630.7172882267078,2,2,{"$f":"VLOOKUP(BP7,AZ5:BB12,2)","v":22.746105507931418},{"$f":"VLOOKUP(BQ7,AZ5:BB12,3)","v":24.793630269513827},5.6395853003500358,17.731800243147884]
[null,null,"Хозяева",{"$f":"H5/D5","v":0.8},null,{"$f":"I5/D5","v":1},null,{"$f":"CONCATENATE(E5,\"/\",F5,\"/\",G5)","v":"3/4/3"},{"$f":"CONCATENATE(H5,\"/\",I5)","v":"8/10"},null,{"$f":"O5/K5","v":0.66666666666666663},null,{"$f":"P5/K5","v":1.3333333333333333},null,{"$f":"CONCATENATE(L5,\"/\",M5,\"/\",N5)","v":"1/3/2"},{"$f":"CONCATENATE(O5,\"/\",P5)","v":"4/8"},null,{"$f":"V5/R5","v":1},null,{"$f":"W5/R5","v":0.5},null,{"$f":"CONCATENATE(S5,\"/\",T5,\"/\",U5)","v":"2/1/1"},{"$f":"CONCATENATE(V5,\"/\",W5)","v":"4/2"},null,null,null,null,null,3,{"$f":"POISSON(AC8,AC4,FALSE)*100","v":3.4047811848070735},{"$f":"POISSON(AC8,AF4,FALSE)*100","v":15.429350584510198},3,7,3,{"$f":"VLOOKUP(AG8,AC5:AE12,2)","v":1.3404496491131086E-3},{"$f":"VLOOKUP(AH8,AC5:AE12,3)","v":15.429350584510198},2.0682267577049832E-4,483505.97741499793,3,7,{"$f":"VLOOKUP(AM8,AC5:AE12,2)","v":3.4047811848070735},{"$f":"VLOOKUP(AN8,AC5:AE12,3)","v":0.16901627321789253},5.7546342697849216E-3,17377.298940621899,3,3,{"$f":"VLOOKUP(AS8,AC5:AE12,2)","v":3.4047811848070735},{"$f":"VLOOKUP(AT8,AC5:AE12,3)","v":15.429350584510198},0.52533562563932346,190.35449933231143,null,3,{"$f":"POISSON(AZ8,AZ4,FALSE)*100","v":9.6868658327590165},{"$f":"POISSON(AZ8,BC4,FALSE)*100","v":12.104237535278326},3,7,3,{"$f":"VLOOKUP(BD8,AZ5:BB12,2)","v":3.0725146245539525E-2},{"$f":"VLOOKUP(BE8,AZ5:BB12,3)","v":12.104237535278326},3.7190446846217546E-3,26888.625569222088,3,7,{"$f":"VLOOKUP(BJ8,AZ5:BB12,2)","v":9.6868658327590165},{"$f":"VLOOKUP(BK8,AZ5:BB12,3)","v":6.6302887022809329E-2},6.4226717091453289E-3,15569.844533328498,3,3,{"$f":"VLOOKUP(BP8,AZ5:BB12,2)","v":9.6868658327590165},{"$f":"VLOOKUP(BQ8,AZ5:BB12,3)","v":12.104237535278326},1.1725212501208682,85.286300772537473]
[null,null,"Гости",{"$f":"H6/D6","v":1.9},null,{"$f":"I6/D6","v":1.3},null,{"$f":"CONCATENATE(E6,\"/\",F6,\"/\",G6)","v":"5/4/1"},{"$f":"CONCATENATE(H6,\"/\",I6)","v":"19/13"},null,{"$f":"O6/K6","v":2},null,{"$f":"P6/K6","v":1.3333333333333333},null,{"$f":"CONCATENATE(L6,\"/\",M6,\"/\",N6)","v":"3/2/1"},{"$f":"CONCATENATE(O6,\"/\",P6)","v":"12/8"},null,{"$f":"V6/R6","v":1.75},null,{"$f":"W6/R6","v":1.25},null,{"$f":"CONCATENATE(S6,\"/\",T6,\"/\",U6)","v":"2/2/0"},{"$f":"CONCATENATE(V6,\"/\",W6)","v":"7/5"},null,null,null,null,null,4,{"$f":"POISSON(AC9,AC4,FALSE)*100","v":0.6454897662863408},{"$f":"POISSON(AC9,AF4,FALSE)*100","v":6.7181964003388162},4,7,4,{"$f":"VLOOKUP(AG9,AC5:AE12,2)","v":1.3404496491131086E-3},{"$f":"VLOOKUP(AH9,AC5:AE12,3)","v":6.7181964003388162},9.0054040075071139E-5,1110444.3500440144,4,7,{"$f":"VLOOKUP(AM9,AC5:AE12,2)","v":0.6454897662863408},{"$f":"VLOOKUP(AN9,AC5:AE12,3)","v":0.16901627321789253},1.0909827469800578E-3,91660.477928555105,4,4,{"$f":"VLOOKUP(AS9,AC5:AE12,2)","v":0.6454897662863408},{"$f":"VLOOKUP(AT9,AC5:AE12,3)","v":6.7181964003388162},4.3365270243204385E-2,2305.9927780726939,null,4,{"$f":"POISSON(AZ9,AZ4,FALSE)*100","v":3.0940033766160835},{"$f":"POISSON(AZ9,BC4,FALSE)*100","v":4.4319619006315536},4,7,4,{"$f":"VLOOKUP(BD9,AZ5:BB12,2)","v":3.0725146245539525E-2},{"$f":"VLOOKUP(BE9,AZ5:BB12,3)","v":4.4319619006315536},1.3617267755156378E-3,73436.170748815261,4,7,{"$f":"VLOOKUP(BJ9,AZ5:BB12,2)","v":3.0940033766160835},{"$f":"VLOOKUP(BK9,AZ5:BB12,3)","v":6.6302887022809329E-2},2.0514135632796675E-3,48746.874735548918,4,4,{"$f":"VLOOKUP(BP9,AZ5:BB12,2)","v":3.0940033766160835},{"$f":"VLOOKUP(BQ9,AZ5:BB12,3)","v":4.4319619006315536},0.13712505085587862,729.26135214419833]
[null,null,null,null,null,null,null,null,null,null,null,null,null,null,null,null,null,null,null,null,null,null,null,null,null,null,null,null,5,{"$f":"POISSON(AC10,AC4,FALSE)*100","v":9.7899281220095058E-2},{"$f":"POISSON(AC10,AF4,FALSE)*100","v":2.3401717461180196},5,7,5,{"$f":"VLOOKUP(AG10,AC5:AE12,2)","v":1.3404496491131086E-3},{"$f":"VLOOKUP(AH10,AC5:AE12,3)","v":2.3401717461180196},3.1368823959483096E-5,3187878.5168727706,5,7,{"$f":"VLOOKUP(AM10,AC5:AE12,2)","v":9.7899281220095058E-2},{"$f":"VLOOKUP(AN10,AC5:AE12,3)","v":0.16901627321789253},1.6546571662530879E-4,604354.79952893464,5,5,{"$f":"VLOOKUP(AS10,AC5:AE12,2)","v":9.7899281220095058E-2},{"$f":"VLOOKUP(AT10,AC5:AE12,3)","v":2.3401717461180196},2.2910113187652888E-3,43648.845896533465,null,5,{"$f":"POISSON(AZ10,AZ4,FALSE)*100","v":0.79058445196077898},{"$f":"POISSON(AZ10,BC4,FALSE)*100","v":1.2982089111454649},5,7,5,{"$f":"VLOOKUP(BD10,AZ5:BB12,2)","v":3.0725146245539525E-2},{"$f":"VLOOKUP(BE10,AZ5:BB12,3)","v":1.2982089111454649},3.9887658652207038E-4,250704.11094301436,5,7,{"$f":"VLOOKUP(BJ10,AZ5:BB12,2)","v":0.79058445196077898},{"$f":"VLOOKUP(BK10,AZ5:BB12,3)","v":6.6302887022809329E-2},5.2418031600345155E-4,190774.0465388661,5,5,{"$f":"VLOOKUP(BP10,AZ5:BB12,2)","v":0.79058445196077898},{"$f":"VLOOKUP(BQ10,AZ5:BB12,3)","v":1.2982089111454649},1.026343780548537E-2,9743.3240104552751]
[null,null,{"$f":"AVERAGE(Дома!L2:M11,Гости!L2:M11)","v":1.25},"Ср.Тот","Заб","Счет1","Счет2","Счет5","Счет6","Итог","1й Гол","ОЗ","Тотал1","Серия","ТБ2.5","Рейтинг","Мощь","Голы","Счет7",null,null,null,null,null,null,null,null,null,6,{"$f":"POISSON(AC11,AC4,FALSE)*100","v":1.2373381376428676E-2},{"$f":"POISSON(AC11,AF4,FALSE)*100","v":0.67929985408148019},6,7,6,{"$f":"VLOOKUP(AG11,AC5:AE12,2)","v":1.3404496491131086E-3},{"$f":"VLOOKUP(AH11,AC5:AE12,3)","v":0.67929985408148019},9.1056725104610599E-6,10982165.225590412,6,7,{"$f":"VLOOKUP(AM11,AC5:AE12,2)","v":1.2373381376428676E-2},{"$f":"VLOOKUP(AN11,AC5:AE12,3)","v":0.16901627321789253},2.0913028073476521E-5,4781708.3039651988,6,6,{"$f":"VLOOKUP(AS11,AC5:AE12,2)","v":1.2373381376428676E-2},{"$f":"VLOOKUP(AT11,AC5:AE12,3)","v":0.67929985408148019},8.4052361635025027E-5,1189734.56610563,null,6,{"$f":"POISSON(AZ11,AZ4,FALSE)*100","v":0.1683427853822928},{"$f":"POISSON(AZ11,BC4,FALSE)*100","v":0.31689246108992419},6,7,6,{"$f":"VLOOKUP(BD11,AZ5:BB12,2)","v":3.0725146245539525E-2},{"$f":"VLOOKUP(BE11,AZ5:BB12,3)","v":0.31689246108992419},9.7365672110968633E-5,1027056.0232566257,6,7,{"$f":"VLOOKUP(BJ11,AZ5:BB12,2)","v":0.1683427853822928},{"$f":"VLOOKUP(BK11,AZ5:BB12,3)","v":6.6302887022809329E-2},1.1161612680307197E-4,895927.88124993187,6,6,{"$f":"VLOOKUP(BP11,AZ5:BB12,2)","v":0.1683427853822928},{"$f":"VLOOKUP(BQ11,AZ5:BB12,3)","v":0.31689246108992419},5.3346559566527676E-4,187453.51305231135]
[null,null,"Хозяева",{"$f":"AVERAGE(K8,D8)+AVERAGE(T9,F9)-AVERAGE(1.25,C11)","v":0.7583333333333333},{"$f":"AVERAGE(K8,D8)","v":0.73333333333333339},{"$f":"ROUND(AVERAGE(D12,E12),0)","v":1},{"$f":"ROUND(D12,0)","v":1},{"$f":"ROUND(SUM(Дома!L2:L8)/7,0)","v":1},{"$f":"ROUND(SUM(Дома!L2:L8)/7,0)","v":1},{"$f":"Дома!S11/Дома!T11","v":0.8},{"$f":"IF(J12>J13,\"К1\",\"К2\")","v":"К2"},{"$f":"IF(M18>0.6,\"1\",\"0\")","v":"1"},{"$f":"((100/3.5)*D14)/100","v":0.71428571428571419},{"$f":"CONCATENATE(Дома!N2,Дома!N3,Дома!N4,Дома!N5,Дома!N6)","v":"НННВП"},{"$f":"CONCATENATE(Q21,R21,S21,T21,U21)","v":"+---+"},{"$f":"(Q5/K5+X5/R5*1.1+K8-M8*1.1+R8*1.1-T8)/12.6","v":0.21626984126984128},{"$f":"(K8-M8+D8-F8)/2","v":-0.43333333333333329},{"$f":"IF(E12>0.6,\"Да\",\"Нет\")","v":"Да"},{"$f":"AC13-1","v":0},null,null,null,null,null,null,null,null,null,7,{"$f":"POISSON(AC12,AC4,FALSE)*100","v":1.3404496491131086E-3},{"$f":"POISSON(AC12,AF4,FALSE)*100","v":0.16901627321789253},7,6,0,{"$f":"VLOOKUP(AG12,AC5:AE12,2)","v":1.2373381376428676E-2},{"$f":"VLOOKUP(AH12,AC5:AE12,3)","v":17.522811025892683},2.1681642361045957E-3,46121.967300624659,0,6,{"$f":"VLOOKUP(AM12,AC5:AE12,2)","v":46.844652095263406},{"$f":"VLOOKUP(AN12,AC5:AE12,3)","v":0.67929985408148019},0.31821565332810137,314.25229700090648,7,7,{"$f":"VLOOKUP(AS12,AC5:AE12,2)","v":1.3404496491131086E-3},{"$f":"VLOOKUP(AT12,AC5:AE12,3)","v":0.16901627321789253},{"$f":"(AU12*AV12)/100","v":2.2655780412932934E-6},{"$f":"100/AW12","v":44138845.882755607},null,7,{"$f":"POISSON(AZ12,AZ4,FALSE)*100","v":3.0725146245539525E-2},{"$f":"POISSON(AZ12,BC4,FALSE)*100","v":6.6302887022809329E-2},7,6,0,{"$f":"VLOOKUP(BD12,AZ5:BB12,2)","v":0.1683427853822928},{"$f":"VLOOKUP(BE12,AZ5:BB12,3)","v":23.117079814162121},3.891593605820827E-2,2569.6413893379213,0,6,{"$f":"VLOOKUP(BJ12,AZ5:BB12,2)","v":27.870327038008025},{"$f":"VLOOKUP(BK12,AZ5:BB12,3)","v":0.31689246108992419},8.8318965264554197E-2,1132.2596420876985,7,7,{"$f":"VLOOKUP(BP12,AZ5:BB12,2)","v":3.0725146245539525E-2},{"$f":"VLOOKUP(BQ12,AZ5:BB12,3)","v":6.6302887022809329E-2},2.0371659002773011E-5,4908780.3789759045]
[null,null,"Гости",{"$f":"AVERAGE(R9,D9)+AVERAGE(M8,F8)-AVERAGE(1.25,C11)","v":1.7416666666666663},{"$f":"AVERAGE(R9,D9)","v":1.825},{"$f":"ROUND(AVERAGE(D13,E13),0)","v":2},{"$f":"ROUND(D13,0)","v":2},{"$f":"ROUND(SUM(Гости!L2:L8)/7-1,0)","v":1},{"$f":"ROUND(SUM(Гости!L2:L8)/7,0)","v":2},{"$f":"Гости!S11/Гости!T11","v":1.4615384615384615},{"$f":"IF(M18>M20,\"К1\",\"К2\")","v":"К1"},{"$f":"IF(ROUND((V6/R6+P5/K5)/2,0)+M20>0.6,\"1\",\"0\")","v":"1"},{"$f":"IF(D14>2.85,IF(F12+F13>2,\"ТБ 2\",\"Нет\"),IF(D14<2.2,IF(F12+F13<3,\"ТМ 3\",\"Нет\"),\"Нет\"))","v":"Нет"},{"$f":"CONCATENATE(Гости!N2,Гости!N3,Гости!N4,Гости!N5,Гости!N6)","v":"ННВВВ"},{"$f":"CONCATENATE(V21,W21,X21,Y21,Z21)","v":"+++-+"},{"$f":"(Q6/K6+X6/R6*1.1+K9-M9*1.1+R9*1.1-T9)/12.6","v":0.41600529100529104},{"$f":"(R9-T9+D8-F8)/2","v":0.15000000000000002},{"$f":"IF(E13>0.6,\"Да\",\"Нет\")","v":"Да"},{"$f":"AF13-1","v":1},null,null,null,null,null,null,null,null,null,{"$f":"MATCH(AD13,AD5:AD12,0)","v":1},{"$f":"MAX(AD5:AD12)","v":46.844652095263406},{"$f":"MAX(AE5:AE12)","v":30.518895870096408},{"$f":"MATCH(AE13,AE5:AE12,0)","v":2},6,1,{"$f":"VLOOKUP(AG13,AC5:AE12,2)","v":1.2373381376428676E-2},{"$f":"VLOOKUP(AH13,AC5:AE12,3)","v":30.518895870096408},3.7762193778821691E-3,26481.512325717518,1,6,{"$f":"VLOOKUP(AM13,AC5:AE12,2)","v":35.523861172241411},{"$f":"VLOOKUP(AN13,AC5:AE12,3)","v":0.67929985408148019},0.24131353710714351,414.39863340778879,null,null,null,null,null,null,null,{"$f":"MATCH(BA13,BA5:BA12,0)","v":2},{"$f":"MAX(BA5:BA12)","v":35.607341921212935},{"$f":"MAX(BB5:BB12)","v":33.857239397894709},{"$f":"MATCH(BB13,BB5:BB12,0)","v":2},6,1,{"$f":"VLOOKUP(BD13,AZ5:BB12,2)","v":0.1683427853822928},{"$f":"VLOOKUP(BE13,AZ5:BB12,3)","v":33.857239397894709},5.6996219855966972E-2,1754.502320552245,1,6,{"$f":"VLOOKUP(BJ13,AZ5:BB12,2)","v":35.607341921212935},{"$f":"VLOOKUP(BK13,AZ5:BB12,3)","v":0.31689246108992419},0.11283698214283597,886.23426558336939]
[null,null,null,{"$f":"D12+D13","v":2.4999999999999996},{"$f":"MATCH(F14,Таблица!B2:B100,0)","v":6},{"$f":"Очные!A1","v":"Жарково"},null,{"$f":"COUNT(Таблица!A2:A100)","v":16},{"$f":"Очные!B1","v":"Нови Белград"},null,{"$f":"MATCH(I14,Таблица!B2:B100,0)","v":5},{"$f":"IF(L12+L13=2,\"Да\",\"Нет\")","v":"Да"},null,null,null,{"$f":"(COUNTIF(Гости!AJ2:AJ11,\">2,5\")+COUNTIF(Дома!AJ2:AJ11,\">2,5\"))/COUNT(Дома!AJ2:AJ11,Гости!AJ2:AJ11)","v":0.6},null,null,null,null,null,null,null,null,null,null,null,null,null,null,null,null,6,2,{"$f":"VLOOKUP(AG14,AC5:AE12,2)","v":1.2373381376428676E-2},{"$f":"VLOOKUP(AH14,AC5:AE12,3)","v":26.576871820208957},3.2884577082390558E-3,30409.392144364614,2,6,{"$f":"VLOOKUP(AM14,AC5:AE12,2)","v":13.469464027808201},{"$f":"VLOOKUP(AN14,AC5:AE12,3)","v":0.67929985408148019},9.1498049486458566E-2,1092.9194727238387,null,null,null,null,null,null,null,null,null,null,null,6,2,{"$f":"VLOOKUP(BD14,AZ5:BB12,2)","v":0.1683427853822928},{"$f":"VLOOKUP(BE14,AZ5:BB12,3)","v":24.793630269513827},4.1738287793086845E-2,2395.8817020894448,2,6,{"$f":"VLOOKUP(BJ14,AZ5:BB12,2)","v":22.746105507931418},{"$f":"VLOOKUP(BK14,AZ5:BB12,3)","v":0.31689246108992419},7.2080693546194674E-2,1387.3340430043525]
[null,null,null,null,null,null,null,null,null,null,null,null,null,null,null,null,null,null,null,null,null,null,null,null,null,null,null,null,"Пуассон",null,null,null,6,3,{"$f":"VLOOKUP(AG15,AC5:AE12,2)","v":1.2373381376428676E-2},{"$f":"VLOOKUP(AH15,AC5:AE12,3)","v":15.429350584510198},1.909132391727674E-3,52379.814219958185,3,6,{"$f":"VLOOKUP(AM15,AC5:AE12,2)","v":3.4047811848070735},{"$f":"VLOOKUP(AN15,AC5:AE12,3)","v":0.67929985408148019},2.3128673620188143E-2,4323.6374745118883,null,null,null,null,null,null,null,"Пуассон",null,null,null,6,3,{"$f":"VLOOKUP(BD15,AZ5:BB12,2)","v":0.1683427853822928},{"$f":"VLOOKUP(BE15,AZ5:BB12,3)","v":12.104237535278326},2.0376610616176523E-2,4907.5875219705231,3,6,{"$f":"VLOOKUP(BJ15,AZ5:BB12,2)","v":9.6868658327590165},{"$f":"VLOOKUP(BK15,AZ5:BB12,3)","v":0.31689246108992419},3.0696947539909026E-2,3257.6528943143367]
[null,null,null,null,"Миллер",null,null,null,null,null,null,null,null,null,null,null,"EW-легкая победа, W-победа простая, D-ничья, L-проигрыш, HL-позорный проигрыш",null,null,null,null,null,null,null,null,null,null,null,"ИД","%","КФ",null,6,4,{"$f":"VLOOKUP(AG16,AC5:AE12,2)","v":1.2373381376428676E-2},{"$f":"VLOOKUP(AH16,AC5:AE12,3)","v":6.7181964003388162},8.3126806223142479E-4,120298.13792143506,4,6,{"$f":"VLOOKUP(AM16,AC5:AE12,2)","v":0.6454897662863408},{"$f":"VLOOKUP(AN16,AC5:AE12,3)","v":0.67929985408148019},4.3848110404940003E-3,22805.999865557224,null,null,null,null,null,null,null,"ИД","%","КФ",null,6,4,{"$f":"VLOOKUP(BD16,AZ5:BB12,2)","v":0.1683427853822928},{"$f":"VLOOKUP(BE16,AZ5:BB12,3)","v":4.4319619006315536},7.4608881106051619E-3,13403.230087026312,4,6,{"$f":"VLOOKUP(BJ16,AZ5:BB12,2)","v":3.0940033766160835},{"$f":"VLOOKUP(BK16,AZ5:BB12,3)","v":0.31689246108992419},9.8046634463640637E-3,10199.228208805447]
[null,null,null,null,1,2,3,4,"Max","Min","Расчет",null,null,"Счет3","Счет4",null,1,2,3,4,5,1,2,3,4,5,null,null,1,{"$f":"SUM(AK5:AK32)","v":15.925922705266972},{"$f":"100/AD17","v":6.2790710372422129},null,6,5,{"$f":"VLOOKUP(AG17,AC5:AE12,2)","v":1.2373381376428676E-2},{"$f":"VLOOKUP(AH17,AC5:AE12,3)","v":2.3401717461180196},2.8955837501061277E-4,345353.50599455065,5,6,{"$f":"VLOOKUP(AM17,AC5:AE12,2)","v":9.7899281220095058E-2},{"$f":"VLOOKUP(AN17,AC5:AE12,3)","v":0.67929985408148019},6.6502967447492375E-4,150369.22988279478,null,null,null,null,null,null,null,1,{"$f":"SUM(BH5:BH32)","v":32.991527644739165},{"$f":"100/BA17","v":3.031081224150165},null,6,5,{"$f":"VLOOKUP(BD17,AZ5:BB12,2)","v":0.1683427853822928},{"$f":"VLOOKUP(BE17,AZ5:BB12,3)","v":1.2982089111454649},2.1854410411034104E-3,45757.35429106377,5,6,{"$f":"VLOOKUP(BJ17,AZ5:BB12,2)","v":0.79058445196077898},{"$f":"VLOOKUP(BK17,AZ5:BB12,3)","v":0.31689246108992419},2.5053025268128022E-3,39915.339137592331]
[null,null,"Сила Атаки1",null,{"$f":"Дома!L2","v":2},{"$f":"Дома!L3","v":0},{"$f":"Дома!L4","v":0},{"$f":"Дома!L5","v":2},{"$f":"MAX(E18:H18)","v":2},{"$f":"MIN(E18:H18)","v":0},{"$f":"E18+F18+G18+H18-I18-J18","v":2},{"$f":"K18/2","v":1},{"$f":"L18+L21-1.5","v":1},{"$f":"ROUNDDOWN(M18,0)","v":1},{"$f":"ROUNDUP(M18,0)","v":1},null,{"$f":"IF(Дома!N2=\"В\",IF(Дома!L2-Дома!M2>1,\"EW\",\"W\"),\"\")","v":""},{"$f":"IF(Дома!N3=\"В\",IF(Дома!L3-Дома!M3>1,\"EW\",\"W\"),\"\")","v":""},{"$f":"IF(Дома!N4=\"В\",IF(Дома!L4-Дома!M4>1,\"EW\",\"W\"),\"\")","v":""},{"$f":"IF(Дома!N5=\"В\",IF(Дома!L5-Дома!M5>1,\"EW\",\"W\"),\"\")","v":"EW"},{"$f":"IF(Дома!N6=\"В\",IF(Дома!L6-Дома!M6>1,\"EW\",\"W\"),\"\")","v":""},{"$f":"IF(Гости!N2=\"В\",IF(Гости!L2-Гости!M2>1,\"EW\",\"W\"),\"\")","v":""},{"$f":"IF(Гости!N3=\"В\",IF(Гости!L3-Гости!M3>1,\"EW\",\"W\"),\"\")","v":""},{"$f":"IF(Гости!N4=\"В\",IF(Гости!L4-Гости!M4>1,\"EW\",\"W\"),\"\")","v":"W"},{"$f":"IF(Гости!N5=\"В\",IF(Гости!L5-Гости!M5>1,\"EW\",\"W\"),\"\")","v":"EW"},{"$f":"IF(Гости!N6=\"В\",IF(Гости!L6-Гости!M6>1,\"EW\",\"W\"),\"\")","v":"EW"},null,null,"Х",{"$f":"SUM(AW5:AW12)","v":23.200830477264557},4.3101905381358696,null,5,0,{"$f":"VLOOKUP(AG18,AC5:AE12,2)","v":9.7899281220095058E-2},{"$f":"VLOOKUP(AH18,AC5:AE12,3)","v":17.522811025892683},1.71547060439045E-2,5829.3042004956142,0,5,{"$f":"VLOOKUP(AM18,AC5:AE12,2)","v":46.844652095263406},{"$f":"VLOOKUP(AN18,AC5:AE12,3)","v":2.3401717461180196},1.0962453129006371,91.220458434985275,null,null,null,null,null,null,null,"Х",{"$f":"SUM(BT5:BT12)","v":25.458517619723239},3.9279584732195065,null,5,0,{"$f":"VLOOKUP(BD18,AZ5:BB12,2)","v":0.79058445196077898},{"$f":"VLOOKUP(BE18,AZ5:BB12,3)","v":23.117079814162121},0.18276003875812946,547.16556573039054,0,5,{"$f":"VLOOKUP(BJ18,AZ5:BB12,2)","v":27.870327038008025},{"$f":"VLOOKUP(BK18,AZ5:BB12,3)","v":1.2982089111454649},0.36181506917280409,276.38428722337062]
[null,null,"Сила Обороны1",null,{"$f":"Дома!M2","v":2},{"$f":"Дома!M3","v":0},{"$f":"Дома!M4","v":0},{"$f":"Дома!M5","v":0},{"$f":"MAX(E19:H19)","v":2},{"$f":"MIN(E19:H19)","v":0},{"$f":"E19+F19+G19+H19-I19-J19","v":0},{"$f":"K19/2","v":0},null,null,null,null,{"$f":"IF(Дома!N2=\"П\",IF(Дома!L2-Дома!M2<1,\"HL\",\"L\"),\"D\")","v":"D"},{"$f":"IF(Дома!N3=\"П\",IF(Дома!L3-Дома!M3<1,\"HL\",\"L\"),\"D\")","v":"D"},{"$f":"IF(Дома!N4=\"П\",IF(Дома!L4-Дома!M4<1,\"HL\",\"L\"),\"D\")","v":"D"},{"$f":"IF(Дома!N5=\"П\",IF(Дома!L5-Дома!M5<1,\"HL\",\"L\"),\"D\")","v":"D"},{"$f":"IF(Дома!N6=\"П\",IF(Дома!L6-Дома!M6<1,\"HL\",\"L\"),\"D\")","v":"HL"},{"$f":"IF(Гости!N2=\"П\",IF(Гости!L2-Гости!M2<1,\"HL\",\"L\"),\"D\")","v":"D"},{"$f":"IF(Гости!N3=\"П\",IF(Гости!L3-Гости!M3<1,\"HL\",\"L\"),\"D\")","v":"D"},{"$f":"IF(Гости!N4=\"П\",IF(Гости!L4-Гости!M4<1,\"HL\",\"L\"),\"D\")","v":"D"},{"$f":"IF(Гости!N5=\"П\",IF(Гости!L5-Гости!M5<1,\"HL\",\"L\"),\"D\")","v":"D"},{"$f":"IF(Гости!N6=\"П\",IF(Гости!L6-Гости!M6<1,\"HL\",\"L\"),\"D\")","v":"D"},null,null,2,{"$f":"SUM(AQ5:AQ32)","v":60.827721813509349},1.6439872646650857,null,5,1,{"$f":"VLOOKUP(AG19,AC5:AE12,2)","v":9.7899281220095058E-2},{"$f":"VLOOKUP(AH19,AC5:AE12,3)","v":30.518895870096408},2.9877779693133658E-2,3346.9689189448518,1,5,{"$f":"VLOOKUP(AM19,AC5:AE12,2)","v":35.523861172241411},{"$f":"VLOOKUP(AN19,AC5:AE12,3)","v":2.3401717461180196},0.83131936228298298,120.29071441976083,null,null,null,null,null,null,null,2,{"$f":"SUM(BN5:BN32)","v":41.529804796430525},2.4079092230309489,null,5,1,{"$f":"VLOOKUP(BD19,AZ5:BB12,2)","v":0.79058445196077898},{"$f":"VLOOKUP(BE19,AZ5:BB12,3)","v":33.857239397894709},0.26767007054289482,373.59425279478432,1,5,{"$f":"VLOOKUP(BJ19,AZ5:BB12,2)","v":35.607341921212935},{"$f":"VLOOKUP(BK19,AZ5:BB12,3)","v":1.2982089111454649},0.46225768584322113,216.32955613833948]
[null,null,"Сила Атаки2",null,{"$f":"Гости!L2","v":2},{"$f":"Гости!L3","v":2},{"$f":"Гости!L4","v":2},{"$f":"Гости!L5","v":2},{"$f":"MAX(E20:H20)","v":2},{"$f":"MIN(E20:H20)","v":2},{"$f":"E20+F20+G20+H20-I20-J20","v":4},{"$f":"K20/2","v":2},{"$f":"L20+L19-1.5","v":0.5},{"$f":"ROUNDDOWN(M20,0)","v":0},{"$f":"ROUNDUP(M20,0)","v":1},null,{"$f":"IF(Q18=\"\",Q19,Q18)","v":"D"},"D","D","EW","HL","D","D","W","EW","EW",null,null,"ТБ1.5",{"$f":"100-AD21","v":71.270250481635415},1.4031099838181085,null,5,2,{"$f":"VLOOKUP(AG20,AC5:AE12,2)","v":9.7899281220095058E-2},{"$f":"VLOOKUP(AH20,AC5:AE12,3)","v":26.576871820208957},2.6018566482770563E-2,3843.4092849127478,2,5,{"$f":"VLOOKUP(AM20,AC5:AE12,2)","v":13.469464027808201},{"$f":"VLOOKUP(AN20,AC5:AE12,3)","v":2.3401717461180196},0.31520859153229769,317.25023583233627,null,null,null,null,null,null,null,"ТБ1.5",{"$f":"100-BA21","v":75.88969325629273},1.3177019923151165,null,5,2,{"$f":"VLOOKUP(BD20,AZ5:BB12,2)","v":0.79058445196077898},{"$f":"VLOOKUP(BE20,AZ5:BB12,3)","v":24.793630269513827},0.19601458598741769,510.16611593597969,2,5,{"$f":"VLOOKUP(BJ20,AZ5:BB12,2)","v":22.746105507931418},{"$f":"VLOOKUP(BK20,AZ5:BB12,3)","v":1.2982089111454649},0.29529196864251506,338.64788283849845]
[null,null,"Сила Обороны2",null,{"$f":"Гости!M2","v":2},{"$f":"Гости!M3","v":2},{"$f":"Гости!M4","v":1},{"$f":"Гости!M5","v":0},{"$f":"MAX(E21:H21)","v":2},{"$f":"MIN(E21:H21)","v":0},{"$f":"E21+F21+G21+H21-I21-J21","v":3},{"$f":"K21/2","v":1.5},null,null,null,null,{"$f":"IF(Дома!L2+Дома!M2>2,\"+\",\"-\")","v":"+"},{"$f":"IF(Дома!L3+Дома!M3>2,\"+\",\"-\")","v":"-"},{"$f":"IF(Дома!L4+Дома!M4>2,\"+\",\"-\")","v":"-"},{"$f":"IF(Дома!L5+Дома!M5>2,\"+\",\"-\")","v":"-"},{"$f":"IF(Дома!L6+Дома!M6>2,\"+\",\"-\")","v":"+"},{"$f":"IF(Гости!L2+Гости!M2>2,\"+\",\"-\")","v":"+"},{"$f":"IF(Гости!L3+Гости!M3>2,\"+\",\"-\")","v":"+"},{"$f":"IF(Гости!L4+Гости!M4>2,\"+\",\"-\")","v":"+"},{"$f":"IF(Гости!L5+Гости!M5>2,\"+\",\"-\")","v":"-"},{"$f":"IF(Гости!L6+Гости!M6>2,\"+\",\"-\")","v":"+"},null,null,"ТМ1.5",{"$f":"SUM(AK32+AQ32+AW5)","v":28.729749518364585},3.4807125602009914,null,5,3,{"$f":"VLOOKUP(AG21,AC5:AE12,2)","v":9.7899281220095058E-2},{"$f":"VLOOKUP(AH21,AC5:AE12,3)","v":15.429350584510198},1.5105223319164019E-2,6620.2265194669353,3,5,{"$f":"VLOOKUP(AM21,AC5:AE12,2)","v":3.4047811848070735},{"$f":"VLOOKUP(AN21,AC5:AE12,3)","v":2.3401717461180196},7.9677727303997484E-2,1255.0558780180334,null,null,null,null,null,null,null,"ТМ1.5",{"$f":"SUM(BH32+BN32+BT5)","v":24.110306743707277},4.1476038054181839,null,5,3,{"$f":"VLOOKUP(BD21,AZ5:BB12,2)","v":0.79058445196077898},{"$f":"VLOOKUP(BE21,AZ5:BB12,3)","v":12.104237535278326},9.5694219982311049E-2,1044.9951942602684,3,5,{"$f":"VLOOKUP(BJ21,AZ5:BB12,2)","v":9.6868658327590165},{"$f":"VLOOKUP(BK21,AZ5:BB12,3)","v":1.2982089111454649},0.12575575545158288,795.19223307835739]
[null,null,null,null,null,null,null,null,null,null,null,null,null,null,null,null,null,null,null,null,null,null,null,null,null,null,null,null,"ТБ2.5",{"$f":"100-AD23","v":45.618688411667037},2.1920840664595889,null,5,4,{"$f":"VLOOKUP(AG22,AC5:AE12,2)","v":9.7899281220095058E-2},{"$f":"VLOOKUP(AH22,AC5:AE12,3)","v":6.7181964003388162},6.577065986886E-3,15204.347987292482,4,5,{"$f":"VLOOKUP(AM22,AC5:AE12,2)","v":0.6454897662863408},{"$f":"VLOOKUP(AN22,AC5:AE12,3)","v":2.3401717461180196},1.5105569134716185E-2,6620.0749609742443,null,null,null,null,null,null,null,"ТБ2.5",{"$f":"100-BA23","v":51.665729053210647},1.9355189955223469,null,5,4,{"$f":"VLOOKUP(BD22,AZ5:BB12,2)","v":0.79058445196077898},{"$f":"VLOOKUP(BE22,AZ5:BB12,3)","v":4.4319619006315536},3.5038401703218494E-2,2854.0114599694875,4,5,{"$f":"VLOOKUP(BJ22,AZ5:BB12,2)","v":3.0940033766160835},{"$f":"VLOOKUP(BK22,AZ5:BB12,3)","v":1.2982089111454649},4.0166627546371576E-2,2489.6289807888893]
[null,null,null,"Индикатор ТБ2.5",null,null,null,null,null,"Среднее за 5 матчей Д/Г",null,null,"Расчет силы атаки/обороны 10 матчей",null,null,null,null,null,null,1,{"$f":"L5/K5/(L5/K5+M5/K5+S6/R6+T6/R6)","v":0.1},{"$f":"E5/D5/(E5/D5+F5/D5+E6/D6+F6/D6)","v":0.18749999999999997},{"$f":"AVERAGE(U23,V23)","v":0.14374999999999999},null,null,null,null,null,"ТМ2.5",{"$f":"SUM(AK32+AK30+AQ30+AQ32+AW5+AW6)","v":54.381311588332963},1.8388670129363729,null,4,0,{"$f":"VLOOKUP(AG23,AC5:AE12,2)","v":0.6454897662863408},{"$f":"VLOOKUP(AH23,AC5:AE12,3)","v":17.522811025892683},0.11310795193783184,884.11113707516836,0,4,{"$f":"VLOOKUP(AM23,AC5:AE12,2)","v":46.844652095263406},{"$f":"VLOOKUP(AN23,AC5:AE12,3)","v":6.7181964003388162},3.1471157308152278,31.775126354853189,null,null,null,null,null,null,null,"ТМ2.5",{"$f":"SUM(BH32+BH30+BN30+BN32+BT5+BT6)","v":48.334270946789353},2.068925382366662,null,4,0,{"$f":"VLOOKUP(BD23,AZ5:BB12,2)","v":3.0940033766160835},{"$f":"VLOOKUP(BE23,AZ5:BB12,3)","v":23.117079814162121},0.71524323002521095,139.81257815816753,0,4,{"$f":"VLOOKUP(BJ23,AZ5:BB12,2)","v":27.870327038008025},{"$f":"VLOOKUP(BK23,AZ5:BB12,3)","v":4.4319619006315536},1.2352022759059302,80.958400053673259]
[null,null,null,"Заб","Проп","Набр","Потер",null,null,"Тотал","Заб","Проп","ЗабО","ЗабДГ","ПропО","ПропДГ","Атака","Оборона",null,"X",{"$f":"(M5/K5+T6/R6)/(L5/K5+M5/K5+S6/R6+T6/R6)","v":0.60000000000000009},{"$f":"(F5/D5+F6/D6)/(E5/D5+F5/D5+E6/D6+F6/D6)","v":0.5},{"$f":"AVERAGE(U24,V24)","v":0.55000000000000004},null,null,null,null,null,"ТБ3.5",{"$f":"100-AD25","v":24.242386686693408},4.1250063903522243,null,4,1,{"$f":"VLOOKUP(AG24,AC5:AE12,2)","v":0.6454897662863408},{"$f":"VLOOKUP(AH24,AC5:AE12,3)","v":30.518895870096408},0.19699634962505702,507.62361937330269,1,4,{"$f":"VLOOKUP(AM24,AC5:AE12,2)","v":35.523861172241411},{"$f":"VLOOKUP(AN24,AC5:AE12,3)","v":6.7181964003388162},2.3865627625348806,41.901265522883335,null,null,null,null,null,null,null,"ТБ3.5",{"$f":"100-BA25","v":29.523361860356374},3.3871481328242239,null,4,1,{"$f":"VLOOKUP(BD24,AZ5:BB12,2)","v":3.0940033766160835},{"$f":"VLOOKUP(BE24,AZ5:BB12,3)","v":33.857239397894709},1.0475441301998532,95.461372096010635,1,4,{"$f":"VLOOKUP(BJ24,AZ5:BB12,2)","v":35.607341921212935},{"$f":"VLOOKUP(BK24,AZ5:BB12,3)","v":4.4319619006315536},1.5781038277757649,63.367186771825729]
[null,null,"Хозяева",{"$f":"Дома!Z6*1.5+Дома!AG6*2","v":7},{"$f":"Дома!AA6*1.5+Дома!AH6","v":7.5},{"$f":"D25/5","v":1.4},{"$f":"E25/5","v":1.5},null,"Хозяева",{"$f":"SUM(ДомаДома!L2:M6)/5","v":2.4},{"$f":"SUM(ДомаДома!L2:L6)/5","v":0.8},{"$f":"SUM(ДомаДома!M2:M6)/5","v":1.6},{"$f":"(SUM(Дома!L2:L11)/10)","v":0.8},{"$f":"(SUM(ДомаДома!L2:L11)/10)","v":0.7},{"$f":"(SUM(Дома!M2:M11)/10)","v":1},{"$f":"(SUM(ДомаДома!M2:M11)/10)","v":1.2},{"$f":"((M25+N25)/2)/((O26+P26)/2)","v":0.57692307692307687},{"$f":"((O25+P25)/2)/((M26+N26)/2)","v":0.66666666666666674},null,2,{"$f":"S6/R6/(L5/K5+M5/K5+S6/R6+T6/R6)","v":0.30000000000000004},{"$f":"E6/D6/(E5/D5+F5/D5+E6/D6+F6/D6)","v":0.3125},{"$f":"AVERAGE(U25,V25)","v":0.30625000000000002},null,null,null,null,null,"ТМ3.5",{"$f":"SUM(AK32+AK31+AK30+AK27+AQ32+AQ31+AQ30+AQ27+AW5+AW6)","v":75.757613313306592},1.3199993456292702,null,4,2,{"$f":"VLOOKUP(AG25,AC5:AE12,2)","v":0.6454897662863408},{"$f":"VLOOKUP(AH25,AC5:AE12,3)","v":26.576871820208957},0.17155098779848718,582.9170748784336,2,4,{"$f":"VLOOKUP(AM25,AC5:AE12,2)","v":13.469464027808201},{"$f":"VLOOKUP(AN25,AC5:AE12,3)","v":6.7181964003388162},0.90490504746114231,110.50883214826374,null,null,null,null,null,null,null,"ТМ3.5",{"$f":"SUM(BH32+BH31+BH30+BH27+BN32+BN31+BN30+BN27+BT5+BT6)","v":70.476638139643626},1.4189099060295451,null,4,2,{"$f":"VLOOKUP(BD25,AZ5:BB12,2)","v":3.0940033766160835},{"$f":"VLOOKUP(BE25,AZ5:BB12,3)","v":24.793630269513827},0.76711575772446527,130.35842243240461,2,4,{"$f":"VLOOKUP(BJ25,AZ5:BB12,2)","v":22.746105507931418},{"$f":"VLOOKUP(BK25,AZ5:BB12,3)","v":4.4319619006315536},1.0080987299889757,99.196633251480819]
[null,null,"Гости",{"$f":"Гости!Z6*1.5+Гости!AG6*2","v":20},{"$f":"Гости!AA6*1.5+Гости!AH6","v":7.5},{"$f":"D26/5","v":4},{"$f":"E26/5","v":1.5},null,"Гости",{"$f":"SUM(ГостиГости!L2:M6)/5","v":2.4},{"$f":"SUM(ГостиГости!L2:L6)/5","v":1.4},{"$f":"SUM(ГостиГости!M2:M6)/5","v":1},{"$f":"(SUM(Гости!L2:L11)/10)","v":1.9},{"$f":"(SUM(ГостиГости!L2:L11)/10)","v":1.4},{"$f":"(SUM(Гости!M2:M11)/10)","v":1.3},{"$f":"(SUM(ГостиГости!M2:M11)/10)","v":1.3},{"$f":"((M26+N26)/2)/((O25+P25)/2)","v":1.4999999999999998},{"$f":"((O26+P26)/2)/((M25+N25)/2)","v":1.7333333333333334},null,null,null,null,{"$f":"IF(AND(W23-W25>0.27,F12>F13),\"П1\",IF(AND(W23>W25,F12>=F13),\"1Х\",IF(AND(W25-W23>0.12,F13>0),\"П2\",IF(AND(W25>W23,F13>=F12),\"Х2\",\"\"))))","v":"П2"},null,null,null,null,null,"К1 Заб",{"$f":"100-AD27","v":53.17660901787719},1.8805260780427251,null,4,3,{"$f":"VLOOKUP(AG26,AC5:AE12,2)","v":0.6454897662863408},{"$f":"VLOOKUP(AH26,AC5:AE12,3)","v":15.429350584510198},9.9594879027455049E-2,1004.0676887858187,3,4,{"$f":"VLOOKUP(AM26,AC5:AE12,2)","v":3.4047811848070735},{"$f":"VLOOKUP(AN26,AC5:AE12,3)","v":6.7181964003388162},0.22873988699712211,437.17779750961472,null,null,null,null,null,null,null,"К1 Заб",{"$f":"100-BA27","v":72.133699338881485},1.3863145924376297,null,4,3,{"$f":"VLOOKUP(BD26,AZ5:BB12,2)","v":3.0940033766160835},{"$f":"VLOOKUP(BE26,AZ5:BB12,3)","v":12.104237535278326},0.37450551805514282,267.0187625520536,3,4,{"$f":"VLOOKUP(BJ26,AZ5:BB12,2)","v":9.6868658327590165},{"$f":"VLOOKUP(BK26,AZ5:BB12,3)","v":4.4319619006315536},0.42931820307317509,232.92746332247998]
[null,null,{"$f":"((F25+G26)/2+(F26+G25)/2)/2","v":2.1},null,null,null,null,null,null,null,null,null,null,null,null,null,null,null,null,null,null,null,null,null,null,null,null,null,"К1 НЗ",{"$f":"SUM(AQ32+AQ30+AQ27+AQ23+AQ18+AQ12+AQ5+AW5)","v":46.82339098212281},2.1356847059235853,null,3,0,{"$f":"VLOOKUP(AG27,AC5:AE12,2)","v":3.4047811848070735},{"$f":"VLOOKUP(AH27,AC5:AE12,3)","v":17.522811025892683},0.59661337285889338,167.61273640383396,0,3,{"$f":"VLOOKUP(AM27,AC5:AE12,2)","v":46.844652095263406},{"$f":"VLOOKUP(AN27,AC5:AE12,3)","v":15.429350584510198},7.2278256018722926,13.835419600342329,null,null,null,null,null,null,null,"К1 НЗ",{"$f":"SUM(BN32+BN30+BN27+BN23+BN18+BN12+BN5+BT5)","v":27.866300661118508},3.5885638792209229,null,3,0,{"$f":"VLOOKUP(BD27,AZ5:BB12,2)","v":9.6868658327590165},{"$f":"VLOOKUP(BE27,AZ5:BB12,3)","v":23.117079814162121},2.2393205060497023,44.656403462497686,0,3,{"$f":"VLOOKUP(BJ27,AZ5:BB12,2)","v":27.870327038008025},{"$f":"VLOOKUP(BK27,AZ5:BB12,3)","v":12.104237535278326},3.3734905865393916,29.642886925195906]
[null,null,{"$f":"IF(C27>2.25,\"ТБ 2,5\",\"Нет ставки\")","v":"Нет ставки"},null,null,null,null,null,null,null,null,null,null,null,null,null,null,null,null,null,null,null,null,null,null,null,null,null,"К2 Заб",{"$f":"100-AD29","v":82.477213267968722},1.2124560959049342,null,3,1,{"$f":"VLOOKUP(AG28,AC5:AE12,2)","v":3.4047811848070735},{"$f":"VLOOKUP(AH28,AC5:AE12,3)","v":30.518895870096408},1.0391016243959055,96.236977839521941,1,3,{"$f":"VLOOKUP(AM28,AC5:AE12,2)","v":35.523861172241411},{"$f":"VLOOKUP(AN28,AC5:AE12,3)","v":15.429350584510198},5.4811010814198209,18.244509363088788,null,null,null,null,null,null,null,"К2 Заб",{"$f":"100-BA29","v":76.884238770173397},1.3006566963474206,null,3,1,{"$f":"VLOOKUP(BD28,AZ5:BB12,2)","v":9.6868658327590165},{"$f":"VLOOKUP(BE28,AZ5:BB12,3)","v":33.857239397894709},3.279705355150087,30.490543866378438,1,3,{"$f":"VLOOKUP(BJ28,AZ5:BB12,2)","v":35.607341921212935},{"$f":"VLOOKUP(BK28,AZ5:BB12,3)","v":12.104237535278326},4.3099972461423501,23.20187097323663]
[null,null,null,null,null,null,null,null,null,null,null,null,null,null,null,null,null,null,null,null,null,null,null,null,null,null,null,null,"К2 НЗ",{"$f":"SUM(AK32+AK30+AK27+AK23+AK18+AK12+AK5+AW5)","v":17.522786732031282},5.7068548244784676,null,3,2,{"$f":"VLOOKUP(AG29,AC5:AE12,2)","v":3.4047811848070735},{"$f":"VLOOKUP(AH29,AC5:AE12,3)","v":26.576871820208957},0.90488433124476775,110.51136211236968,2,3,{"$f":"VLOOKUP(AM29,AC5:AE12,2)","v":13.469464027808201},{"$f":"VLOOKUP(AN29,AC5:AE12,3)","v":15.429350584510198},2.0782508267050153,48.117387331223178,null,null,null,null,null,null,null,"К2 НЗ",{"$f":"SUM(BH32+BH30+BH27+BH23+BH18+BH12+BH5+BT5)","v":23.115761229826607},4.3260526445898968,null,3,2,{"$f":"VLOOKUP(BD29,AZ5:BB12,2)","v":9.6868658327590165},{"$f":"VLOOKUP(BE29,AZ5:BB12,3)","v":24.793630269513827},2.4017256992781322,41.636728136796059,2,3,{"$f":"VLOOKUP(BJ29,AZ5:BB12,2)","v":22.746105507931418},{"$f":"VLOOKUP(BK29,AZ5:BB12,3)","v":12.104237535278326},2.7532426407050457,36.320808969598183]
[null,null,"1Х2",null,null,null,{"$f":"IF(E34=G34,\"Х\",IF(E34>G34,LOOKUP(MAX(E34:G34)-MIN(E34:G34),{0;0.2;0.4},{\"1Х\";\"П1\";\"П1\"}),LOOKUP(MAX(E34:G34)-MIN(E34:G35),{0;0.2;0.4},{\"Х2\";\"П2\";\"П2\"})))","v":"Х2"},"Тотал",null,null,null,"Обе забьют",null,null,null,null,"Очные всречи (5 матчей)",null,null,null,null,null,null,null,null,null,null,null,"ОЗ",{"$f":"100-AD31","v":43.862322148235791},2.279861053914177,null,2,0,{"$f":"VLOOKUP(AG30,AC5:AE12,2)","v":13.469464027808201},{"$f":"VLOOKUP(AH30,AC5:AE12,3)","v":17.522811025892683},2.360228727793424,42.368775035413591,0,2,{"$f":"VLOOKUP(AM30,AC5:AE12,2)","v":46.844652095263406},{"$f":"VLOOKUP(AN30,AC5:AE12,3)","v":26.576871820208957},12.449843141980985,8.0322297124209605,null,null,null,null,null,null,null,"ОЗ",{"$f":"100-BA31","v":55.460743854899206},1.8030771505991323,null,2,0,{"$f":"VLOOKUP(BD30,AZ5:BB12,2)","v":22.746105507931418},{"$f":"VLOOKUP(BE30,AZ5:BB12,3)","v":23.117079814162121},5.2582353648820321,19.017786968583803,0,2,{"$f":"VLOOKUP(BJ30,AZ5:BB12,2)","v":27.870327038008025},{"$f":"VLOOKUP(BK30,AZ5:BB12,3)","v":24.793630269513827},6.9100658407080537,14.471642138471042]
[null,null,null,null,"маржа(%):",null,{"$f":"(E35+F35+G35)-1","v":8.07412926056994E-2},"маржа(%):",null,null,{"$f":"(J35+K35)-1","v":7.9943899018232845E-2},"маржа(%):",null,null,{"$f":"(N35+O35)-1","v":8.4795321637426868E-2},null,"команды","В","Н","П","Забито","Пропущено","итог","очки",null,null,null,null,"ОНЗ",{"$f":"SUM(AK32+AK30+AK27+AK23+AK18+AK12+AK5+AQ5+AQ12+AQ18+AQ23+AQ27+AQ30+AQ32+AW5)","v":56.137677851764209},1.78133481516741,null,2,1,{"$f":"VLOOKUP(AG31,AC5:AE12,2)","v":13.469464027808201},{"$f":"VLOOKUP(AH31,AC5:AE12,3)","v":30.518895870096408},4.1107317009068787,24.326569398323603,1,2,{"$f":"VLOOKUP(AM31,AC5:AE12,2)","v":35.523861172241411},{"$f":"VLOOKUP(AN31,AC5:AE13,3)","v":26.576871820208957},9.4411310493355796,10.591951269126543,null,null,null,null,null,null,null,"ОНЗ",{"$f":"SUM(BH32+BH30+BH27+BH23+BH18+BH12+BH5+BN5+BN12+BN18+BN23+BN27+BN30+BN32+BT5)","v":44.539256145100794},2.2452103751849424,null,2,1,{"$f":"VLOOKUP(BD31,AZ5:BB12,2)","v":22.746105507931418},{"$f":"VLOOKUP(BE31,AZ5:BB12,3)","v":33.857239397894709},7.7012033955180534,12.984983627130015,1,2,{"$f":"VLOOKUP(BJ31,AZ5:BB12,2)","v":35.607341921212935},{"$f":"VLOOKUP(BK31,AZ5:BB13,3)","v":24.793630269513827},8.828352704747136,11.327141466179587]
[null,null,"Линия:",null,"П1","Х","П2","Линия:",null,"ТБ 2,5","ТМ 2,5","Линия:",null,"ОЗ-да","ОЗ-нет",null,"1К",{"$f":"Очные!J6","v":""},{"$f":"Очные!K6","v":""},{"$f":"Очные!L6","v":""},{"$f":"Очные!H6","v":""},{"$f":"Очные!I6","v":""},{"$f":"U32/V32","v":{"$error":"#VALUE!"}},{"$f":"R32*3+S32","v":{"$error":"#VALUE!"}},null,null,null,null,null,null,null,null,1,0,{"$f":"VLOOKUP(AG32,AC5:AE12,2)","v":35.523861172241411},{"$f":"VLOOKUP(AH32,AC5:AE12,3)","v":17.522811025892683},6.2247790623123276,16.064827200927652,0,1,{"$f":"VLOOKUP(AM32,AC5:AE12,2)","v":46.844652095263406},{"$f":"VLOOKUP(AN32,AC5:AE12,3)","v":30.518895870096408},14.296470593662375,6.9947333745665867,null,null,null,null,null,null,null,"ТБ0.5",{"$f":"100-BA33","v":93.557194254155675},{"$f":"100/BA32","v":1.0688648884482568},null,1,0,{"$f":"VLOOKUP(BD32,AZ5:BB12,2)","v":35.607341921212935},{"$f":"VLOOKUP(BE32,AZ5:BB12,3)","v":23.117079814162121},8.2313776516284012,12.148634679665943,0,1,{"$f":"VLOOKUP(BJ32,AZ5:BB12,2)","v":27.870327038008025},{"$f":"VLOOKUP(BK32,AZ5:BB12,3)","v":33.857239397894709},9.4361233462345542,10.597572364280781]
[null,null,"Коэф-ы бук-ов:",null,{"$f":"Коэффициенты!B2","v":2.8},{"$f":"Коэффициенты!B3","v":2.95},{"$f":"Коэффициенты!B4","v":2.6},"Коэф-ы бук-ов:",null,{"$f":"Коэффициенты!B5","v":2.2999999999999998},{"$f":"Коэффициенты!B6","v":1.55},"Коэф-ы бук-ов:",null,{"$f":"Коэффициенты!B7","v":2},{"$f":"Коэффициенты!B8","v":1.71},null,"2К",{"$f":"Очные!P6","v":""},{"$f":"Очные!Q6","v":""},{"$f":"Очные!R6","v":""},{"$f":"Очные!N6","v":""},{"$f":"Очные!O6","v":""},{"$f":"U33/V33","v":{"$error":"#VALUE!"}},{"$f":"R33*3+S33","v":{"$error":"#VALUE!"}},null,null,null,null,null,null,null,null,null,null,null,null,null,null,null,null,null,null,null,null,null,null,null,null,null,null,null,"ТМ0.5",{"$f":"SUM(BT5)","v":6.4428057458443213},15.521188119710278]
[null,null,"Вероятность (%):",null,{"$f":"E35/(1+G31)","v":0.33046100818612667},{"$f":"F35/(1+G31)","v":0.31365790607496769},{"$f":"G35/(1+G31)","v":0.35588108573890559},"Вероятность (%):",null,{"$f":"J35/(1+K31)","v":0.40259740259740262},{"$f":"K35/(1+K31)","v":0.59740259740259738},"Вероятность (%):",null,{"$f":"N35/(1+O31)","v":0.46091644204851756},{"$f":"O35/(1+O31)","v":0.53908355795148244},null,null,null,null,null,null,null,null,null,null,null,null,null,null,null,null,null,null,null,null,null,null,null,null,null,null,null,null,null,null,null,null,null,null,null,null,"ТБ4.5",{"$f":"100-BA35","v":16.294073958713909},6.1372005707953097]
[null,null,"Вер. с маржой (%):",null,{"$f":"1/E33","v":0.35714285714285715},{"$f":"1/F33","v":0.33898305084745761},{"$f":"1/G33","v":0.38461538461538458},"Вер. с маржой (%):",null,{"$f":"1/J33","v":0.43478260869565222},{"$f":"1/K33","v":0.64516129032258063},"Вер. с маржой (%):",null,{"$f":"1/N33","v":0.5},{"$f":"1/O33","v":0.58479532163742687},null,null,null,null,null,null,null,null,null,null,null,null,null,null,null,null,null,null,null,null,null,null,null,null,null,null,null,null,null,null,null,null,null,null,null,null,"ТМ4.5",{"$f":"SUM(BH32+BH31+BH30+BH28+BH27+BN32+BN31+BN30+BN28+BN27+BT5+BT6+BT7)","v":83.705926041286091},1.194658547241652]
[]
[]
[null,null,"Тест №1 Анализ 10 игр команд дома и в гостях",null,null,null,null,null,null,null,"Последние  три  игры  команд  между  собой",null,null,null,null,null,null,null,null,"Первая",null,null,null,"Вторая",null,null,null,null,null,{"$f":"AVERAGE(W32,AN41)","v":{"$error":"#VALUE!"}},"Вероятность голов",null,null,null,null,null,{"$f":"AVERAGE(W33,AN42)","v":{"$error":"#VALUE!"}},"Расчет ТС и Тотал от #YMA "]
[null,null,"К1","К2","К1","К2","К1","К2",null,null,"Команда дома","Счёт","Счёт","Очки","Команда победитель","Команда в гостях",null,null,null,"Игра","Дома","Гости","Очки","Игра","Дома","Гости","Очки",null,null,"Забьют хозяева",1,"Вероятность",{"$f":"_xlfn.POISSON.DIST(AE39,AD38,FALSE)","v":{"$error":"#VALUE!"}},"Забьют гости",1,"Вероятность",{"$f":"_xlfn.POISSON.DIST(AI39,AK38,FALSE)","v":{"$error":"#VALUE!"}},{"$f":"O5","v":4},{"$f":"P5","v":8},{"$f":"K5","v":6}]
[null,null,{"$f":"IF(Дома!N2=\"П\",\"Поражение\",IF(Дома!N2=\"Н\",\"Ничья\",\"Победа\"))","v":"Ничья"},{"$f":"IF(Гости!N2=\"П\",\"Поражение\",IF(Гости!N2=\"Н\",\"Ничья\",\"Победа\"))","v":"Ничья"},{"$f":"IF(C40=\"Победа\",2,IF(C40=\"Ничья\",1,0))","v":1},{"$f":"IF(D40=\"Победа\",2,IF(D40=\"Ничья\",1,0))","v":1},{"$f":"IF(C40=\"Победа\",1,0)","v":0},{"$f":"IF(D40=\"Победа\",1,0)","v":0},null,null,{"$f":"IF(Очные!A1=Очные!C2,1,2)","v":1},{"$f":"Очные!E2","v":2},{"$f":"Очные!F2","v":2},{"$f":"IF(L40>M40,3+(L40-M40),IF(L40=M40,1,IF(M40>L40,3+(M40-L40),0)))","v":1},{"$f":"IF(L40>M40,K40,IF(M40>L40,P40,0))","v":0},{"$f":"IF(K40=2,1,2)","v":2},null,null,null,"1 игра",{"$f":"ДомаДома!L2","v":2},{"$f":"ДомаДома!M2","v":2},{"$f":"IF(U40>V40,2+(U40-V40),IF(U40=V40,1,0))","v":1},"1 игра",{"$f":"ГостиГости!M2","v":2},{"$f":"ГостиГости!L2","v":2},{"$f":"IF(Z40>Y40,2+(Z40-Y40),IF(Y40=Z40,1,0))","v":1},null,null,null,2,null,{"$f":"_xlfn.POISSON.DIST(AE40,AD38,FALSE)","v":{"$error":"#VALUE!"}},null,2,null,{"$f":"_xlfn.POISSON.DIST(AI40,AK38,FALSE)","v":{"$error":"#VALUE!"}},{"$f":"V6","v":7},{"$f":"W6","v":5},{"$f":"R6","v":4}]
[null,null,{"$f":"IF(Дома!N3=\"П\",\"Поражение\",IF(Дома!N3=\"Н\",\"Ничья\",\"Победа\"))","v":"Ничья"},{"$f":"IF(Гости!N3=\"П\",\"Поражение\",IF(Гости!N3=\"Н\",\"Ничья\",\"Победа\"))","v":"Ничья"},1,1,0,0,null,null,{"$f":"IF(Очные!A1=Очные!C3,1,2)","v":2},{"$f":"Очные!E3","v":0},{"$f":"Очные!F3","v":1},{"$f":"IF(L41>M41,3+(L41-M41),IF(L41=M41,0,IF(M41>L41,3+(M41-L41),0)))","v":4},{"$f":"IF(L41>M41,K41,IF(M41>L41,P41,0))","v":1},{"$f":"IF(K41=2,1,2)","v":1},null,null,null,"2 игра",{"$f":"ДомаДома!L3","v":0},{"$f":"ДомаДома!M3","v":0},{"$f":"IF(U41>V41,2+(U41-V41),IF(U41=V41,1,0))","v":1},"2 игра",{"$f":"ГостиГости!M3","v":1},{"$f":"ГостиГости!L3","v":2},{"$f":"IF(Z41>Y41,2+(Z41-Y41),IF(Y41=Z41,1,0))","v":3},null,null,null,3,null,{"$f":"_xlfn.POISSON.DIST(AE41,AD38,FALSE)","v":{"$error":"#VALUE!"}},null,3,null,{"$f":"_xlfn.POISSON.DIST(AI41,AK38,FALSE)","v":{"$error":"#VALUE!"}},{"$f":"AL39/AN39","v":0.66666666666666663},{"$f":"AM39/AN39","v":1.3333333333333333},{"$f":"AVERAGE(AL41,AM42)","v":0.95833333333333326}]
[null,null,{"$f":"IF(Дома!N4=\"П\",\"Поражение\",IF(Дома!N4=\"Н\",\"Ничья\",\"Победа\"))","v":"Ничья"},{"$f":"IF(Гости!N4=\"П\",\"Поражение\",IF(Гости!N4=\"Н\",\"Ничья\",\"Победа\"))","v":"Победа"},1,2,0,1,null,null,{"$f":"IF(Очные!A1=Очные!C4,1,2)","v":2},{"$f":"Очные!E4","v":1},{"$f":"Очные!F4","v":0},{"$f":"IF(L42>M42,3+(L42-M42),IF(L42=M42,0,IF(M42>L42,3+(M42-L42),0)))","v":4},{"$f":"IF(L42>M42,K42,IF(M42>L42,P42,0))","v":2},{"$f":"IF(K42=2,1,2)","v":1},null,null,null,null,null,"Итог:",{"$f":"W40+W41","v":2},null,null,"Итог:",{"$f":"AA40+AA41","v":4},null,null,null,4,null,{"$f":"_xlfn.POISSON.DIST(AE42,AD38,FALSE)","v":{"$error":"#VALUE!"}},null,4,null,{"$f":"_xlfn.POISSON.DIST(AI42,AK38,FALSE)","v":{"$error":"#VALUE!"}},{"$f":"AL40/AN40","v":1.75},{"$f":"AM40/AN40","v":1.25},{"$f":"AVERAGE(AL42,AM41)","v":1.5416666666666665}]
[null,null,{"$f":"IF(Дома!N5=\"П\",\"Поражение\",IF(Дома!N5=\"Н\",\"Ничья\",\"Победа\"))","v":"Победа"},{"$f":"IF(Гости!N5=\"П\",\"Поражение\",IF(Гости!N5=\"Н\",\"Ничья\",\"Победа\"))","v":"Победа"},2,2,1,1,null,null,null,"П1","Команды",1,2,{"$f":"IF(N46>O46,1,IF(N46=O46,0,2))","v":2},null,null,null,"5 игра ",{"$f":"ДомаДома!L6","v":2},{"$f":"ДомаДома!M6","v":1},{"$f":"IF(U43>V43,2+(U43-V43),IF(U43=V43,1,0))","v":3},"5 игра ",{"$f":"ГостиГости!M6","v":0},{"$f":"ГостиГости!L6","v":0},{"$f":"IF(Z43>Y43,2+(Z43-Y43),IF(Y43=Z43,1,0))","v":1},null,null,null,5,null,{"$f":"_xlfn.POISSON.DIST(AE43,AD38,FALSE)","v":{"$error":"#VALUE!"}},null,5,null,{"$f":"_xlfn.POISSON.DIST(AI43,AK38,FALSE)","v":{"$error":"#VALUE!"}},{"$f":"ROUND(AN41,0)","v":1},{"$f":"ROUND(AN42,0)","v":2},{"$f":"AN41+AN42","v":2.5}]
[null,null,{"$f":"IF(Дома!N6=\"П\",\"Поражение\",IF(Дома!N6=\"Н\",\"Ничья\",\"Победа\"))","v":"Поражение"},{"$f":"IF(Гости!N6=\"П\",\"Поражение\",IF(Гости!N6=\"Н\",\"Ничья\",\"Победа\"))","v":"Победа"},0,2,0,1,null,null,null,"П2","Очки",{"$f":"G61+IF(O40=1,N40,0)+IF(O41=1,N41,0)+IF(O42=1,N42,0)","v":7},{"$f":"K61+IF(O40=2,N40,0)+IF(O41=2,N41,0)+IF(O42=2,N42,0)","v":11},{"$f":"IF(P46=1,1,2)+IF(P47>0,99,0)","v":101},null,null,null,"6 игра",{"$f":"ДомаДома!L7","v":0},{"$f":"ДомаДома!M7","v":0},{"$f":"IF(U44>V44,2+(U44-V44),IF(U44=V44,1,0))","v":1},"6 игра",{"$f":"ГостиГости!M7","v":1},{"$f":"ГостиГости!L7","v":1},{"$f":"IF(Z44>Y44,2+(Z44-Y44),IF(Y44=Z44,1,0))","v":1},null,null,null,0,null,{"$f":"_xlfn.POISSON.DIST(AE44,AD38,FALSE)","v":{"$error":"#VALUE!"}},null,0,null,{"$f":"_xlfn.POISSON.DIST(AI44,AK38,FALSE)","v":{"$error":"#VALUE!"}},"Ставка тотал",null,{"$f":"IF(AN43>3,\"ТБ 2,5\",IF(AN43>2,\"ТБ 1,5\",\"ТМ 2,5\"))","v":"ТБ 1,5"}]
[null,null,{"$f":"IF(Дома!N7=\"П\",\"Поражение\",IF(Дома!N7=\"Н\",\"Ничья\",\"Победа\"))","v":"Победа"},{"$f":"IF(Гости!N7=\"П\",\"Поражение\",IF(Гости!N7=\"Н\",\"Ничья\",\"Победа\"))","v":"Победа"},2,2,1,1,null,null,null,"П1","Доп. Очки",{"$f":"IF(P50=1,1,0)","v":0},null,null,null,null,null,null,null,"Итог:",{"$f":"SUM(W43:W44)","v":4},null,null,"Итог:",{"$f":"AA43+AA44","v":2},null,null,0.25,null,"Прогноз на матч",null,null,null,null,0.35]
[null,null,{"$f":"IF(Дома!N8=\"П\",\"Поражение\",IF(Дома!N8=\"Н\",\"Ничья\",\"Победа\"))","v":"Поражение"},{"$f":"IF(Гости!N8=\"П\",\"Поражение\",IF(Гости!N8=\"Н\",\"Ничья\",\"Победа\"))","v":"Поражение"},0,0,0,0,null,null,null,"П2","Итоговые:",{"$f":"SUM(N44,N45)","v":7},{"$f":"SUM(O44,O45)","v":11},null,null,null,null,"Сколько побед 10 игр:",null,null,{"$f":"E5","v":3},"Сколько побед за 10 игр:",null,null,{"$f":"E6","v":5},null,null,null,{"$f":"IF(AF46>0,1,0)","v":0},{"$f":"SUMIFS(AE39:AE44,AG39:AG44,\">25%\")","v":0},{"$f":"SUMIFS(AI39:AI44,AK39:AK44,\">35%\")","v":0},{"$f":"IF(AG46>0,1,0)","v":0},null,"Обе забьют?",null,null,{"$f":"IF(AE46+AH46=2,\"Да\",\"Нет\")","v":"Нет"}]
[null,null,{"$f":"IF(Дома!N9=\"П\",\"Поражение\",IF(Дома!N9=\"Н\",\"Ничья\",\"Победа\"))","v":"Поражение"},{"$f":"IF(Гости!N9=\"П\",\"Поражение\",IF(Гости!N9=\"Н\",\"Ничья\",\"Победа\"))","v":"Победа"},0,2,0,1,null,null,null,"1Х","ИТОГОВЫЙ ВЫВОД:",null,{"$f":"IF(P43=1,M51,IF(P44=1,\"X1\",IF(P44=2,\"2X\",O51)))","v":"Ф2 (+1)"},{"$f":"IF(P43=1,N46-O46,IF(P43=2,O46-N46,0))","v":4},null,null,null,"СОПЕРНИЧЕСТВО  КОМАНД МЕЖДУ СОБОЙ",null,null,null,null,null,"ИСХОД:",null,null,null,null,null,{"$f":"IF(AF46>0,\"Гол!\",\"Нет\")","v":"Нет"},{"$f":"IF(AG46>0,\"Гол!\",\"Нет\")","v":"Нет"}]
[null,null,{"$f":"IF(Дома!N10=\"П\",\"Поражение\",IF(Дома!N10=\"Н\",\"Ничья\",\"Победа\"))","v":"Победа"},{"$f":"IF(Гости!N10=\"П\",\"Поражение\",IF(Гости!N10=\"Н\",\"Ничья\",\"Победа\"))","v":"Ничья"},2,1,1,0,null,null,null,"Х2",null,null,null,null,null,null,null,"Дома","Счёт","Счёт","Очки","Победа","Гости"]
[null,null,{"$f":"IF(Дома!N11=\"П\",\"Поражение\",IF(Дома!N11=\"Н\",\"Ничья\",\"Победа\"))","v":"Ничья"},{"$f":"IF(Гости!N11=\"П\",\"Поражение\",IF(Гости!N11=\"Н\",\"Ничья\",\"Победа\"))","v":"Ничья"},1,1,0,0,null,null,null,"Х1","Для команды 1",null,"Для команды 2",null,null,null,null,{"$f":"K40","v":1},2,2,{"$f":"IF(U49>V49,3+(U49-V49),IF(U49=V49,1,IF(V49>U49,3+(V49-U49),0)))","v":1},{"$f":"IF(U49>V49,T49,IF(V49>U49,Y49,0))","v":0},{"$f":"IF(T49=2,1,2)","v":2}]
[null,null,"Среднее",null,{"$f":"SUM(E40:E49)","v":10},{"$f":"SUM(F40:F49)","v":14},{"$f":"SUM(G40:G49)","v":3},{"$f":"SUM(H40:H49)","v":5},null,null,null,"2Х",{"$f":"IF(P43=1,P47,P49)","v":0},null,{"$f":"IF(P43=2,P47,P48)","v":4},{"$f":"IF(P52=P51,1,0)","v":0},null,null,null,2,0,1,{"$f":"IF(U50>V50,3+(U50-V50),IF(U50=V50,0,IF(V50>U50,3+(V50-U50),0)))","v":4},{"$f":"IF(U50>V50,T50,IF(V50>U50,Y50,0))","v":1},{"$f":"IF(T50=2,1,2)","v":1},{"$f":"IF(X57=1,AA56,AA55)","v":"Х2"},null,null,null,"ЗабитоДома",{"$f":"Дома!Z16","v":5},"ЗабитоГости",{"$f":"Гости!AG16","v":8},null,null,"Оригинал","Дома Все игры",null,null,"Гости все игры",null,null,"ДомаДома",null,null,"ГостиГости"]
[null,null,"Команда ","Очки","Значение","Число","ИТОГ",{"$f":"IF(G52>G53,C52,IF(G52<G53,C53,\"Х\"))","v":"П2"},null,null,null,"Ф1 (+1)",{"$f":"IF(M50>12,\"П1\",IF(M50>7,\"П1\",IF(M50>4,\"1X\",IF(M50>0,\"Ф1 (+1)\",P45))))","v":0},null,{"$f":"IF(O50>13,\"П2\",IF(O50>7,\"П2\",IF(O50>4,\"X2\",IF(O50>0,\"Ф2 (+1)\",\"\"))))","v":"Ф2 (+1)"},{"$f":"IF(O40=0,1,0)","v":1},null,null,null,2,1,0,{"$f":"IF(U51>V51,3+(U51-V51),IF(U51=V51,0,IF(V51>U51,3+(V51-U51),0)))","v":4},{"$f":"IF(U51>V51,T51,IF(V51>U51,Y51,0))","v":2},{"$f":"IF(T51=2,1,2)","v":1},null,null,null,null,"ПропДома",{"$f":"Дома!AA16","v":11},"ПропГости",{"$f":"Гости!AH16","v":6},null,null,null,"Игр","Заб","Проп","Игр","Заб","Проп","Игр","Заб","Проп","Игр","Заб","Проп"]
[null,null,"П1",{"$f":"E50","v":10},{"$f":"IF(D52>18,4,IF(D52>15,3,IF(D52>10,2,IF(D52>5,1,0))))","v":1},{"$f":"IF(G50>=9,3,IF(G50>=6,2,IF(G50>=4,1,0)))","v":0},{"$f":"IF(D52>D53,1,0)+IF(E52>E53,1,0)+F52","v":0},null,null,null,null,"Ф2 (+1)",1,{"$f":"IF(P47=0,P46,8)","v":8},2,{"$f":"IF(K40=O52,1,0)","v":0},null,null,null,"Итоговые очки:",null,"Очки","Динамика","Итоговые очки",null,null,null,null,null,"Всего игр",{"$f":"Дома!O16","v":15},"Всего игр",{"$f":"Гости!O16","v":15},null,null,null,0,{"$f":"Дома!L11","v":0},{"$f":"Дома!M11","v":0},0,{"$f":"Гости!L11","v":1},{"$f":"Гости!M11","v":1},0,{"$f":"ДомаДома!L11","v":2},{"$f":"ДомаДома!M11","v":0},0,{"$f":"ГостиГости!L11","v":3},{"$f":"ГостиГости!M11","v":2}]
[null,null,"П2",{"$f":"F50","v":14},{"$f":"IF(D53>18,4,IF(D53>15,3,IF(D53>10,2,IF(D53>5,1,0))))","v":2},{"$f":"IF(H50>=9,3,IF(H50>=6,2,IF(H50>=4,1,0)))","v":1},{"$f":"IF(D53>D52,1,0)+IF(E53>E52,1,0)+F53","v":3},null,null,null,null,null,null,null,null,null,null,null,null,"Команда 1",null,{"$f":"W42+W45+IF(X49=1,W49,0)+IF(X50=1,W50,0)+IF(X51=1,W51,0)","v":10},{"$f":"IF(W42>W45,2,IF(W42=W45,1,0))","v":0},{"$f":"IF(W53=2,V53+(V53*0.3),IF(W53=1,V53,IF(W53=0,V53-(V53*0.3),0)))+IF(W42>AA42,(V53*0.15),0)+V57","v":5},null,null,null,null,null,"АЗД",{"$f":"AE50/AE52","v":0.33333333333333331},"БЗВ",{"$f":"AG50/AG52","v":0.53333333333333333},null,null,null,1,{"$f":"Дома!L10","v":2},{"$f":"Дома!M10","v":1},1,{"$f":"Гости!L10","v":1},{"$f":"Гости!M10","v":1},1,{"$f":"ДомаДома!L10","v":0},{"$f":"ДомаДома!M10","v":1},1,{"$f":"ГостиГости!L10","v":3},{"$f":"ГостиГости!M10","v":0}]
[null,null,null,null,null,null,null,null,null,null,null,null,null,null,null,null,null,null,null,"Команда 2",null,{"$f":"AA42+AA45+IF(X49=2,W49,0)+IF(X50=2,W50,0)+IF(X51=2,W51,0)","v":10},{"$f":"IF(AA42>AA45,2,IF(AA42=AA45,1,0))","v":2},{"$f":"IF(W54=2,V54+(V54*0.3),IF(W54=1,V54,IF(W54=0,V54-(V54*0.3),0)))+IF(AA42>W42,(V54*0.15),0)+W57","v":14.5},null,"1Х","ИТОГ",null,null,"БПВ",{"$f":"AG51/AG52","v":0.4},"АПД",{"$f":"AE51/AE52","v":0.73333333333333328},null,null,null,2,{"$f":"Дома!L9","v":0},{"$f":"Дома!M9","v":2},2,{"$f":"Гости!L9","v":3},{"$f":"Гости!M9","v":2},2,{"$f":"ДомаДома!L9","v":0},{"$f":"ДомаДома!M9","v":1},2,{"$f":"ГостиГости!L9","v":0},{"$f":"ГостиГости!M9","v":1}]
[null,null,null,"Последние 3 игры команды 1 ДОМА",null,null,null,"Последние 3 игры команды 2 в гостях",null,null,null,"Второй прогноз на Тоталы",null,null,null,null,null,null,null,null,null,null,null,null,null,"Х2",{"$f":"IF(Y57<6,Z57,IF(Y57<10,Z55,T57))","v":"Х2"},null,null,"А забьет",{"$f":"(AE53+AE54)/2.5","v":0.29333333333333333},"Б забьет",{"$f":"(AG53+AG54)/2.5","v":0.5066666666666666},null,null,null,3,{"$f":"Дома!L8","v":0},{"$f":"Дома!M8","v":2},3,{"$f":"Гости!L8","v":0},{"$f":"Гости!M8","v":2},3,{"$f":"ДомаДома!L8","v":1},{"$f":"ДомаДома!M8","v":2},3,{"$f":"ГостиГости!L8","v":0},{"$f":"ГостиГости!M8","v":4}]
[null,null,null,null,null,null,null,null,null,null,null,null,null,null,null,null,null,null,null," П1",2,"10BUH1","10BUH2","КТО ПОБЕДИЛ","Разница","Ф1(+1)",{"$f":"IF(Y57<6,Z56,IF(Y57<10,Z54,T56))","v":"1Х"},null,null,"Примерный счет c округлением:",null,null,null,null,null,null,4,{"$f":"Дома!L7","v":2},{"$f":"Дома!M7","v":0},4,{"$f":"Гости!L7","v":2},{"$f":"Гости!M7","v":1},4,{"$f":"ДомаДома!L7","v":0},{"$f":"ДомаДома!M7","v":0},4,{"$f":"ГостиГости!L7","v":1},{"$f":"ГостиГости!M7","v":1}]
[null,null,null,null,"КОМАНДА 1","гости","Очки",null,"хозяева","КОМАНДА 2","Очки","Второй анализ.",null,"Команда 1","Команда 2",{"$f":"N58*N59","v":0.3888888888888889},null,null,null," П2",1,{"$f":"IF(W46<=4,-(V53*0.2),IF(W46>=6,V53*0.1,IF(W46>=9,V53*0.2,0)))","v":-2},{"$f":"IF(AA46<=4,-(V54*0.2),IF(AA46>=6,V54*0.1,IF(AA46>=9,V54*0.2,0)))","v":0},{"$f":"IF(X53>X54,1,IF(X53=X54,0,2))","v":2},{"$f":"IF(X57=1,X53-X54,IF(X57=2,X54-X53,0))","v":9.5},"Ф2(+1)",null,null,null,"А забьет",{"$f":"IF(AE55>0.5,1,0)+IF(AE55>0.7,1,0)+IF(AE55>0.9,1,0)","v":0},"Б забьет",{"$f":"IF(AG55>0.5,1,0) + IF(AG55>0.7,1,0)+IF(AG55>0.9,1,0)","v":1},null,null,null,5,{"$f":"Дома!L6","v":0},{"$f":"Дома!M6","v":3},5,{"$f":"Гости!L6","v":4},{"$f":"Гости!M6","v":1},5,{"$f":"ДомаДома!L6","v":2},{"$f":"ДомаДома!M6","v":1},5,{"$f":"ГостиГости!L6","v":0},{"$f":"ГостиГости!M6","v":0}]
[null,null,null,"1 игра",{"$f":"ДомаДома!L2","v":2},{"$f":"ДомаДома!M2","v":2},{"$f":"IF(E58>F58,2+(E58-F58),IF(E58=F58,1,0))","v":1},"1 игра",{"$f":"ГостиГости!M2","v":2},{"$f":"ГостиГости!L2","v":2},{"$f":"IF(J58>I58,2+(J58-I58),IF(I58=J58,1,0))","v":1},"Забьёт в абстрактном матче ",null,{"$f":"(E58+E59+E60+1+I58+I59+I60)/6","v":1.1666666666666667},{"$f":"(J58+J59+J60+F58+F59+F60+1)/6","v":2},{"$f":"O58+O59","v":3.2},null,null,null,null,null,null,null,null,null,null,null,null,null,null,null,null,null,null,null,null,6,{"$f":"Дома!L5","v":2},{"$f":"Дома!M5","v":0},6,{"$f":"Гости!L5","v":2},{"$f":"Гости!M5","v":0},6,{"$f":"ДомаДома!L5","v":0},{"$f":"ДомаДома!M5","v":2},6,{"$f":"ГостиГости!L5","v":1},{"$f":"ГостиГости!M5","v":1}]
[null,null,null,"2 игра",{"$f":"ДомаДома!L3","v":0},{"$f":"ДомаДома!M3","v":0},{"$f":"IF(E59>F59,2+(E59-F59),IF(E59=F59,1,0))","v":1},"2 игра",{"$f":"ГостиГости!M3","v":1},{"$f":"ГостиГости!L3","v":2},{"$f":"IF(J59>I59,2+(J59-I59),IF(I59=J59,1,0))","v":3},"Забьёт/пропустит в конкретном",null,{"$f":"(E58+E59+E60)/(F58+F59+F60+1)","v":0.33333333333333331},{"$f":"(J58+J59+J60)/(I58+I59+I60+1)","v":1.2},{"$f":"P57/P58","v":0.12152777777777778},null,null,null,null,null,null,null,null,null,null,null,null,null,null,null,null,null,null,null,null,7,{"$f":"Дома!L4","v":0},{"$f":"Дома!M4","v":0},7,{"$f":"Гости!L4","v":2},{"$f":"Гости!M4","v":1},7,{"$f":"ДомаДома!L4","v":0},{"$f":"ДомаДома!M4","v":3},7,{"$f":"ГостиГости!L4","v":2},{"$f":"ГостиГости!M4","v":1}]
[null,null,null,"3 игра",{"$f":"ДомаДома!L4","v":0},{"$f":"ДомаДома!M4","v":3},{"$f":"IF(E60>F60,2+(E60-F60),IF(E60=F60,1,0))","v":0},"3 игра",{"$f":"ГостиГости!M4","v":1},{"$f":"ГостиГости!L4","v":2},{"$f":"IF(J60>I60,2+(J60-I60),IF(I60=J60,1,0))","v":3},"Забьёт в этом матче",null,{"$f":"P59","v":0.12152777777777778},{"$f":"P60","v":8.2285714285714295},{"$f":"P58/P57","v":8.2285714285714295},null,null,null,"Команда 1 ",null,"ввод данных",null,null,"Команда 2",null,"ввод данных",null,null,null,null,null,null,null,null,null,8,{"$f":"Дома!L3","v":0},{"$f":"Дома!M3","v":0},8,{"$f":"Гости!L3","v":2},{"$f":"Гости!M3","v":2},8,{"$f":"ДомаДома!L3","v":0},{"$f":"ДомаДома!M3","v":0},8,{"$f":"ГостиГости!L3","v":2},{"$f":"ГостиГости!M3","v":1}]
[null,null,null,null,null,"Итого:",{"$f":"SUM(G58,G59,G60) +1","v":3},null,null,"Итого:",{"$f":"SUM(K58,K59,K60)","v":7},"Счет матча",null,{"$f":"N58+N59+N60","v":1.6215277777777777},{"$f":"O58+O59+O60","v":11.428571428571431},null,null,null,null,"Место в ТТ",null,{"$f":"E14","v":6},"из",{"$f":"H14","v":16},"Место в ТТ",null,{"$f":"K14","v":5},"из",{"$f":"H14","v":16},null,null,null,null,null,null,null,9,{"$f":"Дома!L2","v":2},{"$f":"Дома!M2","v":2},9,{"$f":"Гости!L2","v":2},{"$f":"Гости!M2","v":2},9,{"$f":"ДомаДома!L2","v":2},{"$f":"ДомаДома!M2","v":2},9,{"$f":"ГостиГости!L2","v":2},{"$f":"ГостиГости!M2","v":2}]
[null,null,null,null,null,null,null,null,null,null,null,null,null,null,null,null,null,null,null,"Сколько мячей забито",null,{"$f":"OFFSET(Таблица!B1,MATCH(Расчеты!F14,Таблица!B2:'Таблица'!B100,0),5)","v":34},null,null,"Сколько мячей забито",null,{"$f":"OFFSET(Таблица!B1,MATCH(I14,Таблица!B2:'Таблица'!B100,0),5)","v":39},null,null,null,null,null,null,null,null,"5из5",5,{"$f":"TREND(AL52:AL56,AK52:AK56,AK62)","v":1.4000000000000001},{"$f":"TREND(AM52:AM56,AK52:AK56,AK62)","v":1.3},5,{"$f":"TREND(AO52:AO56,AN52:AN56,AN62)","v":1.6999999999999997},{"$f":"TREND(AP52:AP56,AN52:AN56,AN62)","v":1.7},5,{"$f":"TREND(AR52:AR56,AQ52:AQ56,AQ62)","v":-0.2999999999999996},{"$f":"TREND(AS52:AS56,AQ52:AQ56,AQ62)","v":1.0999999999999999},5,{"$f":"TREND(AU52:AU56,AT52:AT56,AT62)","v":-0.69999999999999929},{"$f":"TREND(AV52:AV56,AT52:AT56,AT62)","v":2.1999999999999993}]
[null,null,null,null,null,null,null,null,null,null,null,null,null,null,null,null,null,null,null,"Забито за 3 игры дома",null,{"$f":"ДомаДома!S4","v":2},null,null,"Забито за 3 игры в гостях",null,{"$f":"ГостиГости!S4","v":6},null,null,null,null,null,null,null,null,"5из10",5,{"$f":"TREND(AL52:AL61,AK52:AK61,AK63)","v":0.82424242424242422},{"$f":"TREND(AM52:AM61,AK52:AK61,AK63)","v":0.99393939393939401},5,{"$f":"TREND(AO52:AO61,AN52:AN61,AN63)","v":1.9575757575757575},{"$f":"TREND(AP52:AP61,AN52:AN61,AN63)","v":1.3151515151515154},5,{"$f":"TREND(AR52:AR61,AQ52:AQ61,AQ63)","v":0.69696969696969691},{"$f":"TREND(AS52:AS61,AQ52:AQ61,AQ63)","v":1.2666666666666666},5,{"$f":"TREND(AU52:AU61,AT52:AT61,AT63)","v":1.3878787878787877},{"$f":"TREND(AV52:AV61,AT52:AT61,AT63)","v":1.290909090909091}]
[null,null,"Тест №3 Общая теория",null,null,null,null,null,"Победа 1","Ничья","Победа 2",null,"ПРОГНОЗЫ НА ТОТАЛЫ",null,null,null,null,null,null,"Игр сыграно за сезон",null,{"$f":"OFFSET(Таблица!B1,MATCH(Расчеты!F14,Таблица!B2:'Таблица'!B100,0),1)","v":28},null,null,"Игр сыграно за сезон",null,{"$f":"OFFSET(Таблица!B1,MATCH(I14,Таблица!B2:'Таблица'!B100,0),1)","v":27},null,null,null,null,null,null,null,null,"10из10",10,{"$f":"TREND(AL52:AL61,AK52:AK61,AK64)","v":1.0666666666666662},{"$f":"TREND(AM52:AM61,AK52:AK61,AK64)","v":0.93333333333333335},10,{"$f":"TREND(AO52:AO61,AN52:AN61,AN64)","v":2.5333333333333332},{"$f":"TREND(AP52:AP61,AN52:AN61,AN64)","v":1.4666666666666668},10,{"$f":"TREND(AR52:AR61,AQ52:AQ61,AQ64)","v":0.66666666666666696},{"$f":"TREND(AS52:AS61,AQ52:AQ61,AQ64)","v":1.9333333333333336},10,{"$f":"TREND(AU52:AU61,AT52:AT61,AT64)","v":1.2666666666666664},{"$f":"TREND(AV52:AV61,AT52:AT61,AT64)","v":1.2000000000000004}]
[null,null,null,null,null,null,null,null,{"$f":"(E68+E67+E69)/13","v":0.23076923076923078},null,{"$f":"(H67+H68+H69)/13","v":0.53846153846153844},null,null,"Шансы =>","Забьёт","Пропустит","примерный счёт ",null,null,"Вероятный исход в процентах",null,null,null,null,"РАСЧЁТ ДАННЫХ",null,"Очки",null,null,null,null,null,null,null,null,null,"Дома","Гости","Тотал","Дельта","К1 Заб","2К Заб","ОЗ","Тотал1","Тотал2","1X2","ОНЗ","Чет/нечет"]
[null,null,"Расчёт команды 1",null,"Число","Расчёт команды 2",null,"Число",{"$f":"(1+1-1)/3","v":0.33333333333333331},null,{"$f":"(1+1-1)/3","v":0.33333333333333331},null,"Команда 1",null,{"$f":"P80","v":1.3333333333333333},{"$f":"P79","v":1.6666666666666667},{"$f":"O78","v":1},null,null,"П1","Ничья","П2","ТМ 2,5","ТБ2,5","Команда1",null,{"$f":"T68+T70+IF(V62>AA62,T71,0)","v":13},null,null,null,null,null,null,null,null,"5_5",{"$f":"AVERAGE(AL62,AP62)","v":1.55},{"$f":"AVERAGE(AM62,AP62)","v":1.5},{"$f":"AK66+AL66","v":3.05},{"$f":"AK66-AL66","v":5.0000000000000044E-2},{"$f":"IF(AK66>1.5,\"Да\",\"-\")","v":"Да"},"-",{"$f":"IF((AK66>1.5)*(AL66>1.5),\"Да\",\"-\")","v":"-"},{"$f":"IF(AM66>=3.5,\"ТБ2.5\",IF(AM66>=2.5,\"ТБ1.5\",IF(AM66<=0.5,\"ТМ2.5\",IF(AM66<2,\"ТМ3.5\",\"-\"))))","v":"ТБ1.5"},{"$f":"IF(AM66>=4.5,\"ТБ2.5\",IF(AM66>=3.5,\"ТБ1.5\",IF(AM66<=0.5,\"ТМ2.5\",IF(AM66<1,\"ТМ3.5\",\"-\"))))","v":"-"},{"$f":"IF(AN66>1.5,\"П1\",IF(AN66>1,\"1X\",IF(AN66<-1.5,\"П2\",IF(AN66<-1,\"X2\",\"-\"))))","v":"-"},{"$f":"IF(AK66<-0.5,\"Да\",IF(AL66<-0.5,\"Да\",\"-\"))","v":"-"},{"$f":"IF(ISEVEN(AM66*10),\"Чет\",\"Нечет\")","v":"Чет"}]
[null,null,"Сколько Побед из 5 последних игр дома",null,{"$f":"ДомаДома!P6","v":1},"Сколько Побед из 5 последних игр в гостях",null,{"$f":"ГостиГости!P6","v":2},{"$f":"I65/I66","v":0.6923076923076924},1,{"$f":"K65/K66","v":1.6153846153846154},null,"Команда 2",null,{"$f":"P66","v":1.6666666666666667},{"$f":"O66","v":1.3333333333333333},{"$f":"P78","v":2},null,null,{"$f":"(AA66/T69)*100","v":21.399176954732511},{"$f":"100-(T67+V67)","v":37.44855967078189},{"$f":"(AA67/T69)*100","v":41.152263374485599},{"$f":"100-X67","v":22.698412698412682},{"$f":"(AA68/W69)*100-10","v":77.301587301587318},"Команда2",null,{"$f":"V68+V69+IF(AA62>V62,T71,0)","v":25},null,null,null,null,null,null,null,null,"5_10",{"$f":"AVERAGE(AL63,AP63)","v":1.0696969696969698},{"$f":"AVERAGE(AM63,AP63)","v":1.1545454545454548},2.2242424242424246,-8.4848484848484951E-2,"-","-","-",{"$f":"IF(AM67>=3.5,\"ТБ2.5\",IF(AM67>=2.5,\"ТБ1.5\",IF(AM67<=0.5,\"ТМ2.5\",IF(AM67<2,\"ТМ3.5\",\"ТМ2\"))))","v":"ТМ2"},{"$f":"IF(AM67>=4.5,\"ТБ2.5\",IF(AM67>=3.5,\"ТБ1.5\",IF(AM67<=0.5,\"ТМ2.5\",IF(AM67<1,\"ТМ3.5\",\"-\"))))","v":"-"},{"$f":"IF(AN67>1.5,\"П1\",IF(AN67>1,\"1X\",IF(AN67<-1.5,\"П2\",IF(AN67<-1,\"X2\",\"-\"))))","v":"-"},"-","Чет"]
[null,null,"Сколько Побед из 5 последних игр вообще",null,{"$f":"Дома!P6","v":1},"Сколько Побед из 5 последних игр вообще",null,{"$f":"Гости!P6","v":3},{"$f":"((I72-I67)*I67)/3","v":0.60355029585798825},{"$f":"(I72-J67)*1/3","v":0.76923076923076927},{"$f":"((I72-K67)*K67)*1/3","v":0.91124260355029596},null,"Тотал матча: ",{"$f":"IF(N75>3,\"ТБ 2,5\",IF(N75>2,\"ТБ 1,5\",\"ТМ 2,5\"))","v":"ТМ 2,5"},null,null,null,null,null,{"$f":"X61-V61","v":10},null,{"$f":"AC61-AA61","v":11},{"$f":"(V64+AA64)/2","v":27.5},null,{"$f":"(V62/V64)+V63/3","v":1.8809523809523809},{"$f":"AA62/AA64+AA63/3","v":3.4444444444444446},{"$f":"(Y68+Z68)/2","v":2.662698412698413},null,null,null,null,null,null,null,null,"10_10",{"$f":"AVERAGE(AL64,AP64)","v":1.2666666666666666},{"$f":"AVERAGE(AM64,AP64)","v":1.2000000000000002},2.4666666666666668,6.666666666666643E-2,"-","-","-",{"$f":"IF(AM68>=3.5,\"ТБ2.5\",IF(AM68>=2.5,\"ТБ1.5\",IF(AM68<=0.5,\"ТМ2.5\",IF(AM68<2,\"ТМ3.5\",\"-\"))))","v":"-"},"-","-","-","Чет"]
[null,null,"Сколько Побед из 3 последних игр между командами",null,{"$f":"SUM(E70:E72)","v":1},"Сколько Побед из 3 последних игр между командами",null,{"$f":"SUM(H70:H72)","v":2},null,null,null,null,{"$f":"(E58+E59+E60)/3+O70/3","v":1.6666666666666665},{"$f":"(I58+I59+I60)/3","v":1.3333333333333333},null,null,null,null,null,{"$f":"X61-1+5+((V64+AA64)/2)+(((V62+AA64)/2)/2)-2","v":60.75},null,{"$f":"(AA63*3)/2","v":9},{"$f":"((W68/4)*3+(W68/2)+(W68)+(W68/5)*4)/W68","v":3.05},null,null,null,null,null,null,null,null,null,null,null,null,"5_5",{"$f":"AVERAGE(AR62,AV62)","v":0.94999999999999984},{"$f":"AVERAGE(AS62,AU62)","v":0.20000000000000029},1.1500000000000001,0.74999999999999956,"-","-","-",{"$f":"IF(AM69>=3.5,\"ТБ2.5\",IF(AM69>=2.5,\"ТБ1.5\",IF(AM69<=0.5,\"ТМ2.5\",IF(AM69<2,\"ТМ3.5\",\"-\"))))","v":"ТМ3.5"},"-","-","-","Нечет"]
[null,null,null,null,{"$f":"IF(K40=1,1,0)","v":1},null,null,{"$f":"IF(K40=2,1,0)","v":0},null,null,null,null,{"$f":"(J58+J59+J60)/3+O71/3","v":3},{"$f":"(F58+F59+F60)/3","v":1.6666666666666667},{"$f":"IF(K40=1,L40,M40)+IF(K41=1,L41,M41)+IF(K42=1,L42,M42)","v":3},"команда 1",null,null,null,{"$f":"(V63*3)/2","v":3},null,null,null,null,null,null,null,null,null,null,null,null,null,null,null,"5_10",{"$f":"AVERAGE(AR63,AV63)","v":0.9939393939393939},{"$f":"AVERAGE(AS63,AU63)","v":1.3272727272727272},2.3212121212121213,-0.33333333333333326,"-","-","-",{"$f":"IF(AM70>=3.5,\"ТБ2.5\",IF(AM70>=2.5,\"ТБ1.5\",IF(AM70<=0.5,\"ТМ2.5\",IF(AM70<2,\"ТМ3.5\",\"ТМ2\"))))","v":"ТМ2"},"-","-","-","Нечет"]
[null,null,null,"Тесты",{"$f":"IF(K41=1,1,0)","v":0},null,null,{"$f":"IF(K41=2,1,0)","v":1},null,null,null,null,null,null,{"$f":"IF(K40=2,L40,M40)+IF(K41=2,L41,M41)+IF(K42=2,L42,M42)","v":3},"команда 2",null,null,null,{"$f":"IF(V62>AA62,V62-AA62,IF(AA62>V62,AA62-V62,0))","v":5},null,null,null,null,null,null,null,null,null,null,null,null,null,null,null,"10_10",{"$f":"AVERAGE(AR64,AV64)","v":0.93333333333333368},{"$f":"AVERAGE(AS64,AU64)","v":1.6},2.5333333333333337,-0.66666666666666641,"-","Да","-",{"$f":"IF(AM71>=3.5,\"ТБ2.5\",IF(AM71>=2.5,\"ТБ1.5\",IF(AM71<=0.5,\"ТМ2.5\",IF(AM71<2,\"ТМ3.5\",\"-\"))))","v":"ТБ1.5"},"-","-","-","Нечет"]
[null,null,"№1",{"$f":"IF(I68>K68,\"П1\",IF(K68>I68,\"П2\",0))","v":"П2"},{"$f":"IF(K42=1,1,0)","v":0},null,null,{"$f":"IF(K42=2,1,0)","v":1},{"$f":"I67+J67+K67","v":3.3076923076923079}]
[null,null,null,null,null,null,null,null,null,null,null,null,null,null,{"$f":"IF(O70>O71,O70/O71,O71/O70)","v":1},{"$f":"IF(O70>O71,P70,P71)","v":"команда 2"},null,null,null,null,null,null,null,null,null,null,null,null,null,null,null,null,null,null,null,"Инверсия","Дома Все игры",null,null,"Гости все игры",null,null,"ДомаДома",null,null,"ГостиГости"]
[null,null,"Общий прогноз",null,null,null,null,null,null,null,null,null,{"$f":"(M69*M70*O73)/3","v":1.6666666666666667},null,null,null,{"$f":"IF(Q66=0,1,Q66)","v":1},null,null,"Расчет матчей",null,null,null,null,null,null,null,null,null,null,null,null,null,null,null,null,"Игр","Заб","Проп","Игр","Заб","Проп","Игр","Заб","Проп","Игр","Заб","Проп"]
[null,null,"№ Теста","прогноз:",null,null,null,null,null,null,null,null,0.5,{"$f":"(((P79+P80)*M74)/(M70*N69)-N76)/1.75","v":0.42857142857142855},null,null,{"$f":"IF(Q67=0,1,Q67)","v":2},null,null,"Вводные данные",null,"Хозяева",null,"Гости",null,{"$f":"IF(W81-Y81>0.23,\"П1\",IF(W81>Y81,\"1X\",IF(Y81-W81>0.24,\"П2\",IF(Y81>W81,\"Х2\",\"\"))))","v":"П2"},"Расчет",null,null,null,null,null,null,null,null,null,0,{"$f":"Дома!L2","v":2},{"$f":"Дома!M2","v":2},0,{"$f":"Гости!L2","v":2},{"$f":"Гости!M2","v":2},0,{"$f":"ДомаДома!L2","v":2},{"$f":"ДомаДома!M2","v":2},0,{"$f":"ГостиГости!L2","v":2},{"$f":"ГостиГости!M2","v":2}]
[null,null,"Тест № 1",{"$f":"H51","v":"П2"},null,null,null,null,null,null,null,null,1.5,{"$f":"(Q74/Q75)*(Q75/Q74)/2","v":0.5},"Примерный счёт",null,null,null,null,"Голов забито дома",{"$f":"Дома!Z11+Гости!Z11","v":16},"Забито дома",{"$f":"Дома!Z11","v":4},"Забито в гостях",{"$f":"Гости!AG11","v":7},{"$f":"IF(W81>=1,\"Yes\",\"No\")","v":"No"},"Ср. забитых дома",{"$f":"U76/U80/U81","v":1.3333333333333333},null,null,null,null,null,null,null,null,1,{"$f":"Дома!L3","v":0},{"$f":"Дома!M3","v":0},1,{"$f":"Гости!L3","v":2},{"$f":"Гости!M3","v":2},1,{"$f":"ДомаДома!L3","v":0},{"$f":"ДомаДома!M3","v":0},1,{"$f":"ГостиГости!L3","v":2},{"$f":"ГостиГости!M3","v":1}]
[null,null,"Тест № 2",{"$f":"O47","v":"Ф2 (+1)"},null,null,null,null,null,null,null,null,2.5,null,{"$f":"M69*N69*(O70/3)/3","v":0.74074074074074059},{"$f":"M70*N70*(O71/3)/3","v":1.6666666666666667},null,null,null,"Голов пропущено дома",{"$f":"Дома!AA11+Гости!AA11","v":16},"Пропущено дома",{"$f":"Дома!AA11","v":8},"Пропущено в гостях",{"$f":"Гости!AH11","v":5},{"$f":"IF(Y81>=1,\"Yes\",\"No\")","v":"Yes"},"Ср. забитых в гостях",{"$f":"U78/U80/U82","v":1.375},null,null,null,null,null,null,null,null,2,{"$f":"Дома!L4","v":0},{"$f":"Дома!M4","v":0},2,{"$f":"Гости!L4","v":2},{"$f":"Гости!M4","v":1},2,{"$f":"ДомаДома!L4","v":0},{"$f":"ДомаДома!M4","v":3},2,{"$f":"ГостиГости!L4","v":2},{"$f":"ГостиГости!M4","v":1}]
[null,null,"Тест № 3",{"$f":"IF(N61>O61,\"П1\",IF(O61>N61,\"П2\",\"Х\"))","v":"П2"},null,null,null,null,null,null,null,null,3.5,null,{"$f":"IF(O77>4.55,5,IF(O77>3.55,4,IF(O77>2.55,3,IF(O77>1.55,2,IF(O77>0.55,1,0)))))","v":1},{"$f":"IF(P77>4.55,5,IF(P77>3.55,4,IF(P77>2.55,3,IF(P77>1.55,2,IF(P77>0.55,1,0)))))","v":2},null,null,null,"Голов забито в гостях",{"$f":"Дома!AG11+Гости!AG11","v":11},"Матчей дома",{"$f":"Дома!V11","v":6},"Матчей в гостях",{"$f":"Гости!AC11","v":4},"команда 1",null,"команда 2",null,null,null,null,null,null,null,null,3,{"$f":"Дома!L5","v":2},{"$f":"Дома!M5","v":0},3,{"$f":"Гости!L5","v":2},{"$f":"Гости!M5","v":0},3,{"$f":"ДомаДома!L5","v":0},{"$f":"ДомаДома!M5","v":2},3,{"$f":"ГостиГости!L5","v":1},{"$f":"ГостиГости!M5","v":1}]
[null,null,"Тест № 4",{"$f":"D72","v":"П2"},null,null,null,null,null,null,null,null,null,null,null,{"$f":"IF(M70>=N70,N70,\"0\")","v":1.6666666666666667},"к2",null,null,"Голов пропущено в гостях",{"$f":"Дома!AH11+Гости!AH11","v":7},"Сила атаки",{"$f":"W76/W78","v":0.66666666666666663},"Сила атаки",{"$f":"Y76/Y78","v":1.75},"атака","оборона","атака","оборона",null,null,null,null,null,null,null,4,{"$f":"Дома!L6","v":0},{"$f":"Дома!M6","v":3},4,{"$f":"Гости!L6","v":4},{"$f":"Гости!M6","v":1},4,{"$f":"ДомаДома!L6","v":2},{"$f":"ДомаДома!M6","v":1},4,{"$f":"ГостиГости!L6","v":0},{"$f":"ГостиГости!M6","v":0}]
[null,null,"Тотал",{"$f":"N68","v":"ТМ 2,5"},null,null,null,null,null,null,null,null,{"$f":"((P79+P80)*M74)/(M70*N69)+N76","v":1.75},null,null,{"$f":"IF(M69>=N69,N69,\"0\")","v":1.3333333333333333},"к1",null,null,"Кол-во команд",2,"Сила обороны",{"$f":"W77/W78","v":1.3333333333333333},"Сила обороны",{"$f":"Y77/Y78","v":1.25},{"$f":"W79","v":0.66666666666666663},{"$f":"W80","v":1.3333333333333333},{"$f":"Y79","v":1.75},{"$f":"Y80","v":1.25},null,null,null,null,null,null,null,5,{"$f":"Дома!L7","v":2},{"$f":"Дома!M7","v":0},5,{"$f":"Гости!L7","v":2},{"$f":"Гости!M7","v":1},5,{"$f":"ДомаДома!L7","v":0},{"$f":"ДомаДома!M7","v":0},5,{"$f":"ГостиГости!L7","v":1},{"$f":"ГостиГости!M7","v":1}]
[null,null,null,null,null,null,null,null,null,null,null,null,null,null,null,null,null,null,null,"Игр сыграно дома",{"$f":"(Дома!V11+Гости!V11)/2","v":6},"Расчет голов",{"$f":"(AVERAGE(W79,Y80))-0.25","v":0.70833333333333326},"Расчет голов",{"$f":"(AVERAGE(Y79,W80))-0.5","v":1.0416666666666665},null,null,"Прогноз на матч",null,null,null,null,null,null,null,null,6,{"$f":"Дома!L8","v":0},{"$f":"Дома!M8","v":2},6,{"$f":"Гости!L8","v":0},{"$f":"Гости!M8","v":2},6,{"$f":"ДомаДома!L8","v":1},{"$f":"ДомаДома!M8","v":2},6,{"$f":"ГостиГости!L8","v":0},{"$f":"ГостиГости!M8","v":4}]
[null,null,null,null,null,null,null,null,null,null,null,null,null,null,null,null,null,null,null,"Игр сыграно в гостях",{"$f":"(Дома!AC11+Гости!AC11)/2","v":4},null,null,null,null,null,null,{"$f":"SUMIFS(U84:U89,W84:W89,\">27,7%\")","v":1},{"$f":"SUMIFS(Y84:Y89,AA84:AA89,\">27,7%\")","v":1},null,null,null,null,null,null,null,7,{"$f":"Дома!L9","v":0},{"$f":"Дома!M9","v":2},7,{"$f":"Гости!L9","v":3},{"$f":"Гости!M9","v":2},7,{"$f":"ДомаДома!L9","v":0},{"$f":"ДомаДома!M9","v":1},7,{"$f":"ГостиГости!L9","v":0},{"$f":"ГостиГости!M9","v":1}]
[null,null,null,null,null,null,null,null,null,null,null,null,null,null,null,null,null,null,null,"Расчитываем вероятность голов",null,null,null,null,null,null,null,{"$f":"MAX(W84:W89)","v":0.49246428767540978},{"$f":"MAX(AA84:AA89)","v":0.3675688348529676},null,null,null,null,null,null,null,8,{"$f":"Дома!L10","v":2},{"$f":"Дома!M10","v":1},8,{"$f":"Гости!L10","v":1},{"$f":"Гости!M10","v":1},8,{"$f":"ДомаДома!L10","v":0},{"$f":"ДомаДома!M10","v":1},8,{"$f":"ГостиГости!L10","v":3},{"$f":"ГостиГости!M10","v":0}]
[null,null,"15 матчей","голы дома","голы гости","проп дома","проп гости","забито","проп","итог",null,null,null,null,null,null,null,null,null,"Забьют хозяева",1,"Вероятность",{"$f":"_xlfn.POISSON.DIST(U84,W81,FALSE)","v":0.34882887043674854},"Забьют гости",1,"Вероятность",{"$f":"_xlfn.POISSON.DIST(Y84,Y81,FALSE)","v":0.3675688348529676},null,null,null,null,null,null,null,null,null,9,{"$f":"Дома!L11","v":0},{"$f":"Дома!M11","v":0},9,{"$f":"Гости!L11","v":1},{"$f":"Гости!M11","v":1},9,{"$f":"ДомаДома!L11","v":2},{"$f":"ДомаДома!M11","v":0},9,{"$f":"ГостиГости!L11","v":3},{"$f":"ГостиГости!M11","v":2}]
[null,null,{"$f":"Очные!A1","v":"Жарково"},{"$f":"Дома!Z16","v":5},{"$f":"Дома!AG16","v":11},{"$f":"Дома!AA16","v":11},{"$f":"Дома!AH16","v":5},{"$f":"D85+E85","v":16},{"$f":"F85+G85","v":16},{"$f":"H85/I85","v":1},null,null,null,null,null,null,null,null,null,null,2,null,{"$f":"_xlfn.POISSON.DIST(U85,W81,FALSE)","v":0.12354355827968173},null,2,null,{"$f":"_xlfn.POISSON.DIST(Y85,Y81,FALSE)","v":0.19144210148592058},null,null,null,null,null,null,null,null,"5из5",5,{"$f":"TREND(AL75:AL79,AK75:AK79,AK85)","v":0.20000000000000007},{"$f":"TREND(AM75:AM79,AK75:AK79,AK85)","v":1.5999999999999996},5,{"$f":"TREND(AO75:AO79,AN75:AN79,AN85)","v":3.5999999999999996},{"$f":"TREND(AP75:AP79,AN75:AN79,AN85)","v":2.2204460492503131E-16},5,{"$f":"TREND(AR75:AR79,AQ75:AQ79,AQ85)","v":0.79999999999999982},{"$f":"TREND(AS75:AS79,AQ75:AQ79,AQ85)","v":1.6},5,{"$f":"TREND(AU75:AU79,AT75:AT79,AT85)","v":-9.9999999999999645E-2},{"$f":"TREND(AV75:AV79,AT75:AT79,AT85)","v":-0.19999999999999973}]
[null,null,{"$f":"Очные!B1","v":"Нови Белград"},{"$f":"Гости!Z16","v":20},{"$f":"Гости!AG16","v":8},{"$f":"Гости!AA16","v":9},{"$f":"Гости!AH16","v":6},{"$f":"D86+E86","v":28},{"$f":"F86+G86","v":15},{"$f":"H86/I86","v":1.8666666666666667},null,null,null,null,null,null,null,null,null,null,3,null,{"$f":"_xlfn.POISSON.DIST(U86,W81,FALSE)","v":2.917000681603597E-2},null,3,null,{"$f":"_xlfn.POISSON.DIST(Y86,Y81,FALSE)","v":6.647295190483353E-2},null,null,null,null,null,null,null,null,"5из10",5,{"$f":"TREND(AL75:AL84,AK75:AK84,AK86)","v":0.77575757575757587},{"$f":"TREND(AM75:AM84,AK75:AK84,AK86)","v":1.0060606060606061},5,{"$f":"TREND(AO75:AO84,AN75:AN84,AN86)","v":1.8424242424242421},{"$f":"TREND(AP75:AP84,AN75:AN84,AN86)","v":1.2848484848484849},5,{"$f":"TREND(AR75:AR84,AQ75:AQ84,AQ86)","v":0.70303030303030301},{"$f":"TREND(AS75:AS84,AQ75:AQ84,AQ86)","v":1.1333333333333333},5,{"$f":"TREND(AU75:AU84,AT75:AT84,AT86)","v":1.4121212121212121},{"$f":"TREND(AV75:AV84,AT75:AT84,AT86)","v":1.3090909090909091}]
[null,null,"Первый гол :",null,null,null,{"$f":"IF(J85>=J86,\"1 команда\",\"2 команда\")","v":"2 команда"},null,null,null,null,null,null,null,null,null,null,null,null,null,4,null,{"$f":"_xlfn.POISSON.DIST(U87,W81,FALSE)","v":5.1655220403397017E-3},null,4,null,{"$f":"_xlfn.POISSON.DIST(Y87,Y81,FALSE)","v":1.7310664558550393E-2},null,null,null,null,null,null,null,null,"10из10",10,{"$f":"TREND(AL75:AL84,AK75:AK84,AK87)","v":0.53333333333333333},{"$f":"TREND(AM75:AM84,AK75:AK84,AK87)","v":1.0666666666666671},10,{"$f":"TREND(AO75:AO84,AN75:AN84,AN87)","v":1.2666666666666662},{"$f":"TREND(AP75:AP84,AN75:AN84,AN87)","v":1.1333333333333335},10,{"$f":"TREND(AR75:AR84,AQ75:AQ84,AQ87)","v":0.7333333333333335},{"$f":"TREND(AS75:AS84,AQ75:AQ84,AQ87)","v":0.46666666666666679},10,{"$f":"TREND(AU75:AU84,AT75:AT84,AT87)","v":1.5333333333333332},{"$f":"TREND(AV75:AV84,AT75:AT84,AT87)","v":1.4000000000000001}]
[null,null,null,null,null,null,null,null,null,null,null,null,null,null,null,null,null,null,null,null,5,null,{"$f":"_xlfn.POISSON.DIST(U88,W81,FALSE)","v":7.3178228904812457E-4},null,5,null,{"$f":"_xlfn.POISSON.DIST(Y88,Y81,FALSE)","v":3.6063884496979996E-3},null,null,null,null,null,null,null,null,null,"Дома","Гости","Тотал","Дельта","К1 Заб","2К Заб","ОЗ","Тотал1","Тотал2","1X2","ОНЗ","Чет/нечет"]
[null,null,null,null,null,null,null,null,null,null,null,null,null,null,null,null,null,null,null,null,0,null,{"$f":"_xlfn.POISSON.DIST(U89,W81,FALSE)","v":0.49246428767540978},null,0,null,{"$f":"_xlfn.POISSON.DIST(Y89,Y81,FALSE)","v":0.35286608145884896},null,null,null,null,null,null,null,null,"5_5",{"$f":"AVERAGE(AL85,AP85)","v":0.10000000000000014},{"$f":"AVERAGE(AM85,AP85)","v":0.79999999999999993},{"$f":"AK89+AL89","v":0.90000000000000013},{"$f":"AK89-AL89","v":-0.69999999999999973},{"$f":"IF(AK89>1.5,\"Да\",\"-\")","v":"-"},"-",{"$f":"IF((AK89>1.5)*(AL89>1.5),\"Да\",\"-\")","v":"-"},{"$f":"IF(AM89>=3.5,\"ТБ2.5\",IF(AM89>=2.5,\"ТБ1.5\",IF(AM89<=0.5,\"ТМ2.5\",IF(AM89<2,\"ТМ3.5\",\"-\"))))","v":"ТМ3.5"},{"$f":"IF(AM89>=4.5,\"ТБ2.5\",IF(AM89>=3.5,\"ТБ1.5\",IF(AM89<=0.5,\"ТМ2.5\",IF(AM89<1,\"ТМ3.5\",\"-\"))))","v":"ТМ3.5"},{"$f":"IF(AN89>1.5,\"П1\",IF(AN89>1,\"1X\",IF(AN89<-1.5,\"П2\",IF(AN89<-1,\"X2\",\"-\"))))","v":"-"},{"$f":"IF(AK89<-0.5,\"Да\",IF(AL89<-0.5,\"Да\",\"-\"))","v":"-"},{"$f":"IF(ISEVEN(AM89*10),\"Чет\",\"Нечет\")","v":"Нечет"}]
[null,null,null,null,null,null,null,null,null,null,null,null,null,null,null,null,null,null,null,null,null,null,null,null,null,null,null,null,null,null,null,null,null,null,null,"5_10",{"$f":"AVERAGE(AL86,AP86)","v":1.0303030303030303},{"$f":"AVERAGE(AM86,AP86)","v":1.1454545454545455},2.1757575757575758,-0.11515151515151523,"-","-","-",{"$f":"IF(AM90>=3.5,\"ТБ2.5\",IF(AM90>=2.5,\"ТБ1.5\",IF(AM90<=0.5,\"ТМ2.5\",IF(AM90<2,\"ТМ3.5\",\"ТМ2\"))))","v":"ТМ2"},{"$f":"IF(AM90>=4.5,\"ТБ2.5\",IF(AM90>=3.5,\"ТБ1.5\",IF(AM90<=0.5,\"ТМ2.5\",IF(AM90<1,\"ТМ3.5\",\"-\"))))","v":"-"},{"$f":"IF(AN90>1.5,\"П1\",IF(AN90>1,\"1X\",IF(AN90<-1.5,\"П2\",IF(AN90<-1,\"X2\",\"-\"))))","v":"-"},"-","Нечет"]
[null,null,null,null,null,null,null,null,null,null,null,null,null,null,null,null,null,null,null,null,null,null,null,null,null,null,null,null,null,null,null,null,null,null,null,"10_10",{"$f":"AVERAGE(AL87,AP87)","v":0.83333333333333348},{"$f":"AVERAGE(AM87,AP87)","v":1.1000000000000003},1.9333333333333338,-0.26666666666666683,"-","-","-",{"$f":"IF(AM91>=3.5,\"ТБ2.5\",IF(AM91>=2.5,\"ТБ1.5\",IF(AM91<=0.5,\"ТМ2.5\",IF(AM91<2,\"ТМ3.5\",\"-\"))))","v":"ТМ3.5"},"-","-","-","Нечет"]
[null,null,null,"Всего",null,null,null,null,null,null,"Дома",null,null,null,null,null,null,"На выезде",null,null,null,null,null,null,null,null,null,null,null,null,null,null,null,null,null,"5_5",{"$f":"AVERAGE(AR85,AV85)","v":0.30000000000000004},{"$f":"AVERAGE(AS85,AU85)","v":0.75000000000000022},1.0500000000000003,-0.45000000000000018,"-","-","-",{"$f":"IF(AM92>=3.5,\"ТБ2.5\",IF(AM92>=2.5,\"ТБ1.5\",IF(AM92<=0.5,\"ТМ2.5\",IF(AM92<2,\"ТМ3.5\",\"-\"))))","v":"ТМ3.5"},"-","-","-","Чет"]
[null,null,null,"Игр","В","Н","П","Забито","Пропущено","Очки","Игр","В","Н","П","Забито","Пропущено","Очки","Игр","В","Н","П","Забито","Пропущено","Очки",null,null,null,null,null,null,null,null,null,null,null,"5_10",{"$f":"AVERAGE(AR86,AV86)","v":1.0060606060606061},{"$f":"AVERAGE(AS86,AU86)","v":1.2727272727272727},2.2787878787878788,-0.26666666666666661,"-","-","-",{"$f":"IF(AM93>=3.5,\"ТБ2.5\",IF(AM93>=2.5,\"ТБ1.5\",IF(AM93<=0.5,\"ТМ2.5\",IF(AM93<2,\"ТМ3.5\",\"ТМ2\"))))","v":"ТМ2"},"-","-","-","Чет"]
[null,null,"Хозяева",{"$f":"Дома!O16","v":15},{"$f":"Дома!P16","v":5},{"$f":"Дома!Q16","v":4},{"$f":"Дома!R16","v":6},{"$f":"Дома!S16","v":16},{"$f":"Дома!T16","v":16},{"$f":"Дома!U16","v":19},{"$f":"Дома!V15","v":7},{"$f":"Дома!W16","v":1},{"$f":"Дома!X16","v":3},{"$f":"Дома!Y16","v":4},{"$f":"Дома!Z16","v":5},{"$f":"Дома!AA16","v":11},{"$f":"Дома!AB16","v":6},{"$f":"Дома!AC16","v":7},{"$f":"Дома!AD16","v":4},{"$f":"Дома!AE16","v":1},{"$f":"Дома!AF16","v":2},{"$f":"Дома!AG16","v":11},{"$f":"Дома!AH16","v":5},{"$f":"Дома!AI16","v":13},null,null,null,null,null,null,null,null,null,null,null,"10_10",{"$f":"AVERAGE(AR87,AV87)","v":1.0666666666666669},{"$f":"AVERAGE(AS87,AU87)","v":1},2.0666666666666669,6.6666666666666874E-2,"-","-","-",{"$f":"IF(AM94>=3.5,\"ТБ2.5\",IF(AM94>=2.5,\"ТБ1.5\",IF(AM94<=0.5,\"ТМ2.5\",IF(AM94<2,\"ТМ3.5\",\"-\"))))","v":"-"},"-","-","-","Чет"]
[null,null,"Гости",{"$f":"Гости!O16","v":15},{"$f":"Гости!P16","v":7},{"$f":"Гости!Q16","v":7},{"$f":"Гости!R16","v":1},{"$f":"Гости!S16","v":28},{"$f":"Гости!U16","v":28},{"$f":"Гости!U16","v":28},{"$f":"Гости!V16","v":9},{"$f":"Гости!W16","v":5},{"$f":"Гости!X16","v":3},{"$f":"Гости!Y16","v":1},{"$f":"Гости!Z16","v":20},{"$f":"Гости!AA16","v":9},{"$f":"Гости!AB16","v":18},{"$f":"Гости!AC16","v":6},{"$f":"Гости!AD16","v":2},{"$f":"Гости!AE16","v":4},{"$f":"Гости!AF16","v":0},{"$f":"Гости!AG16","v":8},{"$f":"Гости!AH16","v":6},{"$f":"Гости!AI16","v":10}]
[null,null,null,"Забивают","Пропускают","Забивают","Пропускают","Забивают","Пропускают",null,"Т1","Т2","Заб1","Заб2","Ср. заб.","Счет",null,"Забьет гол ",null,"Обе забьют?"]
[null,null,"Хозяева",{"$f":"H94/D94","v":1.0666666666666667},{"$f":"I94/D94","v":1.0666666666666667},{"$f":"O94/K94","v":0.7142857142857143},{"$f":"P94/K94","v":1.5714285714285714},{"$f":"V94/R94","v":1.5714285714285714},{"$f":"W94/R94","v":0.7142857142857143},null,{"$f":"AVERAGE(F97,D97)+AVERAGE(I98,E98)-AVERAGE(1.25,O97)","v":1.0738095238095235},{"$f":"AVERAGE(H98,D98)+AVERAGE(G97,E97)-AVERAGE(1.25,O97)","v":1.6690476190476193},{"$f":"AVERAGE(F97,D97)","v":0.89047619047619042},{"$f":"AVERAGE(H98,D98)","v":1.6},{"$f":"AVERAGE(Дома!L2:M16,Гости!L2:M16)","v":1.25},{"$f":"ROUND(AVERAGE(K97,M97),0)","v":1},{"$f":"ROUND(AVERAGE(L97,N97),0)","v":2},{"$f":"IF(P97>1,\"ДА\",\"НЕТ\")","v":"НЕТ"},{"$f":"IF(Q97>=1,\"ДА\",\"НЕТ\")","v":"ДА"},{"$f":"IF(AND(R97=\"ДА\",S97=\"ДА\"),\"ДА\",\"НЕТ\")","v":"НЕТ"}]
[null,null,"Гости",{"$f":"H95/D95","v":1.8666666666666667},{"$f":"I95/D95","v":1.8666666666666667},{"$f":"O95/K95","v":2.2222222222222223},{"$f":"P95/K95","v":1},{"$f":"V95/R95","v":1.3333333333333333},{"$f":"W95/R95","v":1}]
[]
[]
[null,null,"Исходы №1",null,null,"Исходы №2",null,null,"Исходы №3",null,null,"Исходы №4"]
[null,null,"П1","Х","П2","П1","Х","П2","П1","Х","П2","П1","П2",null,null,null,null,null,{"$f":"Очные!A1","v":"Жарково"},null,null,null,null,null,null,null,null,{"$f":"Очные!B1","v":"Нови Белград"}]
[null,null,{"$f":"SUM(Дома!J2:J6)","v":2},{"$f":"(SUM(Дома!K2:K6)+SUM(Гости!J2:J6))/1.5","v":12},{"$f":"SUM(Гости!K2:K6)","v":7},{"$f":"Дома!P6/5/(Дома!P6/5+Дома!Q6/5+Гости!P6/5+Гости!Q6/5)","v":0.11111111111111113},{"$f":"(Дома!Q6/5+Гости!Q6/5)/(Дома!P6/5+Дома!Q6/5+Гости!P6/5+Гости!Q6/5)","v":0.55555555555555558},{"$f":"Гости!P6/5/(Дома!P6/5+Дома!Q6/5+Гости!P6/5+Гости!Q6/5)","v":0.33333333333333337},{"$f":"Дома!S6+Дома!T6+Гости!S6+Гости!T6","v":27},{"$f":"Дома!S6+Дома!T6+Гости!S6+Гости!T6+ДомаДома!S6+ДомаДома!T6+ГостиГости!S6+ГостиГости!T6","v":51},{"$f":"ДомаДома!S6+ДомаДома!T6+ГостиГости!S6+ГостиГости!T6","v":24},{"$f":"E103+I103","v":34},{"$f":"C103+K103","v":26},null,null,null,null,null,null,"Матчей","В","Н","П","Заб","Проп","Очки","Место",null,"Матчей","В","Н","П","Заб","Проп","Очки","Место"]
[null,null,{"$f":"C103/(C103+D103+E103)","v":9.5238095238095233E-2},{"$f":"D103/(C103+D103+E103)","v":0.5714285714285714},{"$f":"E103/(C103+D103+E103)","v":0.33333333333333331},null,null,null,{"$f":"I103/(I103+J103+K103)","v":0.26470588235294118},{"$f":"J103/(I103+J103+K103)","v":0.5},{"$f":"K103/(I103+J103+K103)","v":0.23529411764705882},{"$f":"L103/(L103+M103)","v":0.56666666666666665},{"$f":"M103/(L103+M103)","v":0.43333333333333335},null,null,null,null,null,"Общая",{"$f":"MAX(Дома!O2:'Дома'!O21)","v":20},{"$f":"MAX(Дома!P2:'Дома'!P21)","v":7},{"$f":"MAX(Дома!Q2:'Дома'!Q21)","v":5},{"$f":"MAX(Дома!R2:'Дома'!R21)","v":8},{"$f":"MAX(Дома!S2:'Дома'!S21)","v":21},{"$f":"MAX(Дома!T2:'Дома'!T21)","v":21},{"$f":"MAX(Дома!U2:'Дома'!U21)","v":26},{"$f":"INDEX(Таблица!A:A,MATCH(Расчеты!S102,Таблица!B:B,FALSE),1)","v":6},"Общая",{"$f":"MAX(Гости!O2:'Гости'!O21)","v":20},{"$f":"MAX(Гости!P2:'Гости'!P21)","v":8},{"$f":"MAX(Гости!Q2:'Гости'!Q21)","v":7},{"$f":"MAX(Гости!R2:'Гости'!R21)","v":5},{"$f":"MAX(Гости!S2:'Гости'!S21)","v":30},{"$f":"MAX(Гости!T2:'Гости'!T21)","v":22},{"$f":"MAX(Гости!U2:'Гости'!U21)","v":31},{"$f":"INDEX(Таблица!A:A,MATCH(Расчеты!AB102,Таблица!B:B,FALSE),1)","v":5}]
[null,null,"ДИ №1",null,null,"ДИ №2",null,null,"ДИ №3",null,null,"ДИ №4",null,null,null,null,null,null,"Дома",{"$f":"MAX(Дома!V2:'Дома'!V21)","v":10},{"$f":"MAX(Дома!W2:'Дома'!W21)","v":2},{"$f":"MAX(Дома!X2:'Дома'!X21)","v":3},{"$f":"MAX(Дома!Y2:'Дома'!Y21)","v":5},{"$f":"MAX(Дома!Z2:'Дома'!Z21)","v":7},{"$f":"MAX(Дома!AA2:'Дома'!AA21)","v":12},{"$f":"MAX(Дома!AB2:'Дома'!AB21)","v":9},{"$f":"INDEX(Таблица!K:K,MATCH(S102,Таблица!L:L,FALSE),1)","v":11},"Дома",{"$f":"MAX(Гости!V2:'Гости'!V21)","v":12},{"$f":"MAX(Гости!W2:'Гости'!W21)","v":6},{"$f":"MAX(Гости!X2:'Гости'!X21)","v":3},{"$f":"MAX(Гости!Y2:'Гости'!Y21)","v":3},{"$f":"MAX(Гости!Z2:'Гости'!Z21)","v":22},{"$f":"MAX(Гости!AA2:'Гости'!AA21)","v":11},{"$f":"MAX(Гости!AB2:'Гости'!AB21)","v":21},{"$f":"INDEX(Таблица!K:K,MATCH(AB102,Таблица!L:L,FALSE),1)","v":6}]
[null,null,"1Х",12,"Х2","1Х",12,"Х2","1Х",12,"Х2","1X2","ФОРА",null,null,null,null,null,"Гости",{"$f":"MAX(Дома!AC2:'Дома'!AC21)","v":10},{"$f":"MAX(Дома!AD2:'Дома'!AD21)","v":5},{"$f":"MAX(Дома!AE2:'Дома'!AE21)","v":2},{"$f":"MAX(Дома!AF2:'Дома'!AF21)","v":3},{"$f":"MAX(Дома!AG2:'Дома'!AG21)","v":14},{"$f":"MAX(Дома!AH2:'Дома'!AH21)","v":9},{"$f":"MAX(Дома!AI2:'Дома'!AI21)","v":17},{"$f":"INDEX(Таблица!U:U,MATCH(S102,Таблица!V:V,FALSE),1)","v":4},"Гости",{"$f":"MAX(Гости!AC2:'Гости'!AC21)","v":8},{"$f":"MAX(Гости!AD2:'Гости'!AD21)","v":2},{"$f":"MAX(Гости!AE2:'Гости'!AE21)","v":4},{"$f":"MAX(Гости!AF2:'Гости'!AF21)","v":2},{"$f":"MAX(Гости!AG2:'Гости'!AG21)","v":8},{"$f":"MAX(Гости!AH2:'Гости'!AH21)","v":11},{"$f":"MAX(Гости!AI2:'Гости'!AI21)","v":10},{"$f":"INDEX(Таблица!U:U,MATCH(AB102,Таблица!V:V,FALSE),1)","v":6}]
[null,null,{"$f":"AVERAGE(C104,D104)","v":0.33333333333333331},{"$f":"AVERAGE(C104,E104)","v":0.21428571428571427},{"$f":"AVERAGE(D104,E104)","v":0.45238095238095233},{"$f":"AVERAGE(F103,G103)","v":0.33333333333333337},{"$f":"AVERAGE(F103,H103)","v":0.22222222222222227},{"$f":"AVERAGE(G103,H103)","v":0.44444444444444448},{"$f":"AVERAGE(I104,J104)","v":0.38235294117647056},{"$f":"AVERAGE(I104,K104)","v":0.25},{"$f":"AVERAGE(J104,K104)","v":0.36764705882352944},{"$f":"IF(L104>M104,\"1Х\",\"Х2\")","v":"1Х"},{"$f":"IF(L104>M104,\"Ф1(0)\",\"Ф2(0)\")","v":"Ф1(0)"},null,null,"Команды","Дмашние матчи","Гостевые матчи","Домашние голы","Гостевые голы","Среднее дома","Среднее гости","Атака дома","Сила атаки дома","Сила атаки в гостях","взвешенная сила атаки дома","взвешенная сила атаки в гостях","Дома пропущенно","Пропущенно в гостях","среднее дома","среднее в гостях","защита дома","слабость дома","слабость гости","слабость дома","слабость гости"]
[null,null,"ТОТАЛЫ №1",null,"ТОТАЛЫ №2",null,"ТОТАЛЫ №3",null,null,"З 1к","П 1к","З 2к","П 2к",null,null,{"$f":"S102","v":"Жарково"},{"$f":"T105","v":10},{"$f":"T106","v":10},{"$f":"X105","v":7},{"$f":"X106","v":14},{"$f":"S108/Q108","v":0.7},1.4,{"$f":"U108/V108","v":0.5},{"$f":"U108/U110","v":0.53103448275862064},{"$f":"V108/V110","v":1.1454545454545453},{"$f":"(U108+V108)/((U110+V110))","v":0.82664015904572541},{"$f":"(V108 + U108)/(U110 + V110)","v":0.82664015904572541},{"$f":"Y105","v":12},{"$f":"Y106","v":9},{"$f":"AB108/Q108","v":1.2},{"$f":"AC108/R108","v":0.9},{"$f":" AE108/AD108","v":0.75},{"$f":"AD108/AD110","v":1.1478260869565218},{"$f":"AE108/AE110","v":0.9900000000000001},{"$f":"(AD108 + AE108)/(AD110 +AE110)","v":1.0744186046511628},{"$f":"(AE108 + AD108)/(AD110 + AE110)","v":1.0744186046511628}]
[null,null,"ТБ","ТМ","ТБ","ТМ","Тотал №1","Тотал №2","Тотал №3",{"$f":"Дома!S6","v":4},{"$f":"Дома!T6","v":5},{"$f":"Гости!S6","v":12},{"$f":"Гости!T6","v":6},null,null,{"$f":"AB102","v":"Нови Белград"},{"$f":"AC105","v":12},{"$f":"AC106","v":8},{"$f":"AG105","v":22},{"$f":"AG106","v":8},1.8333333333333333,1,{"$f":"U109/V109","v":1.8333333333333333},{"$f":"U109/U110","v":1.3908045977011494},{"$f":"V109/V110","v":0.81818181818181812},{"$f":"(U109 + V109)/(U110 + V110)","v":1.1153081510934391},{"$f":"(V109 +U109)/(U110 + V110)","v":1.1153081510934391},{"$f":"AH105","v":11},{"$f":"AH106","v":11},{"$f":"AB109/Q109","v":0.91666666666666663},{"$f":"AC109/R109","v":1.375},{"$f":" AE109/AD109","v":1.5},{"$f":"AD109/AD110","v":0.87681159420289856},{"$f":"AE109/AE110","v":1.5125},{"$f":"(AD109+AE109)/(AD110+AE110)","v":1.1724806201550386},{"$f":"(AE109 + AD109)/(AD110 + AE110)","v":1.1724806201550386}]
[null,null,{"$f":"(Дома!S6+ДомаДома!T6+Гости!T6+ГостиГости!S6-0.2)/12","v":2.0666666666666669},{"$f":"(Дома!T6+ДомаДома!S6+Гости!S6+ГостиГости!T6)/12","v":2.1666666666666665},{"$f":"(Дома!T6+Гости!T6)/5","v":2.2000000000000002},{"$f":"(Дома!S6+Гости!S6)/5","v":3.2},{"$f":"IF(AND(L112+M112<K109+L109/10-1,L112+M112<J109+L109/10-1),CONCATENATE(\"ТМ\",\"(\"&((L112+M112)+(K109+M109)/50)&\")\"),CONCATENATE(\"ТБ\",\"(\"&((L112+M112)+(J109+L109)/10-3&\")\")))","v":"ТМ(2,42)"},{"$f":"IF(AND(L112+M112+1<K109+L109/10,L112+M112+1<J109+K109/10),CONCATENATE(\"ТМ\",\"(\"&((L112+M112+1)+(K109+M109)/50)&\")\"),CONCATENATE(\"ТБ\",\"(\"&((L112+M112+0.5)+(J109+L109)/10-3&\")\")))","v":"ТМ(3,42)"},{"$f":"IF(AND(L112+M112<K109+L109/10-1,L112+M112<J109+L109/10-1),CONCATENATE(\"ТМ\",\"(\"&((L112+M112)+(K109+M109)/50-1)&\")\"),CONCATENATE(\"ТБ\",\"(\"&((L112+M112+0.5)+(J109+L109)/10-3&\")\")))","v":"ТМ(1,42)"},"З 1кд","П 1кд","З 2кг","П 2кг",null,null,"Среднее",{"$f":"SUM(Q108:Q109)","v":22},{"$f":"SUM(R108:R109)","v":18},{"$f":"SUM(S108:S109)","v":29},{"$f":"SUM(T108:T109)","v":22},1.3181818181818181,1.2222222222222223,{"$f":"U110/V110","v":1.0785123966942147},{"$f":"U110/U110","v":1},{"$f":"V110/V110","v":1},{"$f":"U110/U110","v":1},{"$f":"V110/V110","v":1},{"$f":"AB108+AB109","v":23},{"$f":"AC108+AC109","v":20},{"$f":"AB110/Q110","v":1.0454545454545454},{"$f":"AC110/Q110","v":0.90909090909090906},{"$f":" AE110/AD110","v":0.86956521739130432},{"$f":"AD110/AD110","v":1},{"$f":"AE110/AE110","v":1},{"$f":"(AD110 +AE110)/(AD110 +AE110)","v":1},{"$f":"(AE110 +AD110)/(AD110 + AE110)","v":1}]
[null,null,{"$f":"D110/(C110+D110)","v":0.51181102362204722},{"$f":"C110/(C110+D110)","v":0.48818897637795278},{"$f":"F110/(E110+F110)","v":0.59259259259259256},{"$f":"E110/(E110+F110)","v":0.40740740740740744},null,null,null,{"$f":"ДомаДома!S6","v":4},{"$f":"ДомаДома!T6","v":8},{"$f":"ГостиГости!S6","v":7},{"$f":"ГостиГости!T6","v":5},null,null,{"$f":"S102","v":"Жарково"},null,"голов","сила","слабость","голов","Результат 1",null,"Результат 2",null,"ПРОГНОЗ №1",null,"МИНУТА"]
[null,null,"ИТБ №1",null,"ИТБ №2",null,"ИТМ №1",null,"ИТМ №1",null,null,{"$f":"J109/5","v":0.8},{"$f":"L111/5","v":1.4},null,null,null,null,{"$f":"U110","v":1.3181818181818181},{"$f":"Z108","v":0.82664015904572541},{"$f":"AJ109","v":1.1724806201550386},{"$f":"R112*S112*T112","v":1.2776076101530347},{"$f":"AZ13-1","v":1},{"$f":"BC13-1","v":1},{"$f":"AZ13","v":2},{"$f":"BC13","v":2},{"$f":"IF(X116-Z116>25,\"П1\",IF(X116>Z116,\"1X\",IF(Z116-X116>25,\"П2\",IF(Z116>X116,\"X2\",\"\"))))","v":"X2"},null,90]
[null,null,"ИТБ1","ИТБ2","ИТБ1","ИТБ2","ИТМ1","ИТМ2","ИТМ1","ИТМ2",null,null,null,null,null,{"$f":"AB102","v":"Нови Белград"},null,"голов","сила","слабость","голов"]
[null,null,{"$f":"C110/2","v":1.0333333333333334},{"$f":"D110/2+0.75","v":1.8333333333333333},{"$f":"E110/2","v":1.1000000000000001},{"$f":"F110/2.5","v":1.28},{"$f":"D114/2+0.35","v":1.2666666666666666},{"$f":"C114/2+0.75","v":1.2666666666666666},{"$f":"F114/2+0.5","v":1.1400000000000001},{"$f":"E114/2+0.5","v":1.05},null,null,null,null,null,null,null,{"$f":"V110","v":1.2222222222222223},{"$f":"AA109","v":1.1153081510934391},{"$f":"AJ108","v":1.0744186046511628},{"$f":"R114*S114*T114","v":1.4645984557769658}]
[null,null,{"$f":"D114/(C114+D114)","v":0.63953488372093015},{"$f":"C114/(C114+D114)","v":0.3604651162790698},{"$f":"E114/(E114+F114)","v":0.46218487394957991},{"$f":"F114/(E114+F114)","v":0.53781512605042026},{"$f":"H114/(G114+H114)","v":0.5},{"$f":"G114/(G114+H114)","v":0.5},{"$f":"D115","v":0.3604651162790698},{"$f":"C115","v":0.63953488372093015},null,null,null,null,null,null,null,null,null,null,null,null,null,1,"X",2,"МЕНЬШЕ 2,5","БОЛЬШЕ 2,5"]
[null,null,{"$f":"MAX(Дома!J2:J6)","v":2},{"$f":"MIN(Дома!J2:J6)","v":0},"1к","ТС",null,null,"В матче будет забито",null,null,null,null,null,null,null,null,null,null,null,null,"Шансы",null,{"$f":"BA17","v":32.991527644739165},{"$f":"BA18","v":25.458517619723239},{"$f":"BA19","v":41.529804796430525},{"$f":"BA23","v":48.334270946789353},{"$f":"BA22","v":51.665729053210647}]
[null,null,{"$f":"MAX(Дома!K2:K6)","v":3},{"$f":"MIN(Дома!K2:K6)","v":0},null,null,null,null,{"$f":"E120+E121","v":1},{"$f":"E120+E121+1","v":2},null,null,null,null,null,null,null,null,null,null,null,"Величина",null,{"$f":"BB17","v":3.031081224150165},{"$f":"BB18","v":3.9279584732195065},{"$f":"BB19","v":2.4079092230309489},{"$f":"BB23","v":2.068925382366662},{"$f":"BB22","v":1.9355189955223469}]
[null,null,{"$f":"MAX(Гости!J2:J6)","v":4},{"$f":"MIN(Гости!J2:J6)","v":1},"2к","ТС №1",{"$f":"E120","v":1},{"$f":"E121","v":0},"обе забьют",null,null,null,null,null,null,null,null,null,null,null,null,{"$f":"S102","v":"Жарково"},{"$f":"AB102","v":"Нови Белград"},"МОЖНО СТАВИТЬ",{"$f":"IF(Y119>50,\"OK\",IF(Y119<50,\"NO\"))","v":"OK"},{"$f":"IF(Z119>50,\"OK\",IF(Z119<50,\"NO\"))","v":"OK"},"OK","NO","NO"]
[null,null,{"$f":"MAX(Гости!K2:K6)","v":2},{"$f":"MIN(Гости!K2:K6)","v":0},null,"ТС №2",{"$f":"D119","v":0},{"$f":"D118","v":1},{"$f":"IF(G118-1=0,\"НЕТ\",IF(H118=0,\"НЕТ\",\"ДА\"))","v":"НЕТ"},{"$f":"IF(G118=0,\"НЕТ\",IF(G119=0,\"НЕТ\",\"ДА\"))","v":"НЕТ"},null,null,null,null,null,null,null,null,null,null,null,null,null,"%",{"$f":"BA32","v":93.557194254155675},{"$f":"BA20","v":75.88969325629273},{"$f":"BA22","v":51.665729053210647},{"$f":"BA24","v":29.523361860356374},{"$f":"BA34","v":16.294073958713909}]
[null,null,{"$f":"SUM(Дома!J2:J5)-C116-D116","v":0},{"$f":"C120/2","v":0},{"$f":"ROUND(D120+D123-1.5,0)","v":1},"ТС №3",{"$f":"G118-1","v":0},{"$f":"H118-1","v":-1},"ДИСТАНЦИЯ",null,null,null,null,null,null,null,null,null,null,null,null,{"$f":"AB112*U112/90","v":1.2776076101530347},{"$f":"AB112*U114/90","v":1.4645984557769658},"БОЛЬШЕ",0.5,1.5,2.5,3.5,4.5]
[null,null,{"$f":"SUM(Дома!K2:K5)-C117-D117","v":1},{"$f":"C121/2","v":0.5},{"$f":"ROUND(D121+D122-1.5,0)","v":0},"ТС №4",{"$f":"Дома!K2","v":2},{"$f":"Гости!J6","v":4},{"$f":"(J109-L109)+(K109-L109)+(L109-J109)+(M109-J109)","v":-5},{"$f":"(J111-L111)+(K111-L111)+(L111-J111)+(M111-J111)","v":2},null,null,null,null,null,null,null,null,null,null,null,null,null,null,{"$f":"BB32","v":1.0688648884482568},{"$f":"BB20","v":1.3177019923151165},{"$f":"BB22","v":1.9355189955223469},{"$f":"BB24","v":3.3871481328242239},{"$f":"BB34","v":6.1372005707953097}]
[null,null,{"$f":"SUM(Гости!J2:J5)-C118-D118","v":2},{"$f":"C122/2","v":1},null,"ТС №5",{"$f":"G121-1","v":1},{"$f":"H121-1","v":3},"мотивация"]
[null,null,{"$f":"SUM(Гости!K2:K5)-C119-D119","v":4},{"$f":"C123/2","v":2},null,"ТС №6",{"$f":"G121+1","v":3},{"$f":"H121+1","v":5},{"$f":"IF(I121>J121,\"Команда 1\",\"Команда 2\")","v":"Команда 2"}]
[]
[]
[null,{"$f":"MATCH(A1,Список!E:E,0)","v":707},{"$f":"INDEX(Список!A:B,B126,1)","v":"СЕРБИЯ: Первая лига"},{"$f":"INDEX(Список!A:B,B126,2)","v":"2022.03.27 17:00"}]
[null,null,null,{"$f":"TEXT(D126,\"дд.ММ.гг Ч:мм\")","v":"27.03.22 17:00"}]

{"sheet":"Архив","index":11,"n_rows":1,"n_cols":58,"rows_kept":1,"cut":false,"hidden":false,"merged":[]}
["Дата","Лига","ХОЗЯЕВА","ГОСТИ","matchID",1,"X",2,1,"Х",2,1,"Х",2,1,"Х",2,1,"Х",2,"GD-xGD","xGD","iPPM","xG90","PPM","GD-xGD","xGD","iPPM","xG90","PPM","ТОТАЛ","ИТ1","ИТ2","ТБ 1,5","ТБ 2,5","ТБ 3,5","ОЗ ДА","ОЗ НЕТ","ОЗ ДА\n100%","П1","Х","П2","ТМ2,5","ТБ2,5","ОЗДа","ОЗНет","Счет","Ставка","+/-","+",{"$f":"BE1/BC1","v":{"$error":"#DIV/0!"}},"-",{"$f":"BF1/BC1","v":{"$error":"#DIV/0!"}},"Прогнозов =>>>",{"$f":"BE1+BF1","v":0},null,{"$f":"COUNTIF(AW$2:AW$1048576,\"+\")","v":0},{"$f":"COUNTIF(AW$2:AW$1048576,\"-\")","v":0}]

{"sheet":"Дома","index":12,"n_rows":150,"n_cols":36,"rows_kept":150,"cut":false,"hidden":true,"merged":[]}
["Чемпионат","Дата/Время","Дома","Гости","К1 в 1Т","К2 в 1Т","К1 во 2Т","К2 во 2Т","Где играли","К1 Голов","К2 Голов","Забито","Пропущено","Результат","Всего Игр","Всего выиграно","Всего ничьих","Всего проиграно","Всего забито","Всего пропущено","Всего очков","Дома игр","Дома выиграно","Дома ничьих","Дома проиграно","Дома забито","Дома пропущено","Дома очков","Гости игр","Гости выиграно","Гости ничьих","Гости проиграно","Гости забито","Гости пропущено","Гости очков","Тотал"]
["СЕРБИЯ: Первая лига","2022.03.27 17:00","Жарково","Нови Белград",1,1,1,1,"Дома",{"$f":"IF(I2=\"\",\"\",E2+G2)","v":2},{"$f":"IF(I2=\"\",\"\",F2+H2)","v":2},{"$f":"IF(I2=\"\",\"\",IF(I2=\"Дома\",J2,K2))","v":2},{"$f":"IF(I2=\"\",\"\",IF(I2=\"Дома\",K2,J2))","v":2},{"$f":"IF(I2=\"\",\"\",IF(I2=\"Дома\",IF(J2>K2,\"В\",IF(J2=K2,\"Н\",\"П\")),IF(J2<K2,\"В\",IF(J2=K2,\"Н\",\"П\"))))","v":"Н"},{"$f":"IF(I2=\"\",\"\",1)","v":1},{"$f":"IF(I2=\"\",\"\",IF(N2=\"В\",1,0))","v":0},{"$f":"IF(I2=\"\",\"\",IF(N2=\"Н\",1,0))","v":1},{"$f":"IF(I2=\"\",\"\",IF(N2=\"П\",1,0))","v":0},{"$f":"IF(I2=\"\",\"\",L2)","v":2},{"$f":"IF(I2=\"\",\"\",M2)","v":2},{"$f":"IF(I2=\"\",\"\",P2*3+Q2)","v":1},{"$f":"IF(I2=\"\",\"\",IF(I2=\"Дома\",1,0))","v":1},{"$f":"IF(I2=\"\",\"\",IF(I2=\"Дома\",IF(N2=\"В\",1,0),0))","v":0},{"$f":"IF(I2=\"\",\"\",IF(I2=\"Дома\",IF(N2=\"Н\",1,0),0))","v":1},{"$f":"IF(I2=\"\",\"\",IF(I2=\"Дома\",IF(N2=\"П\",1,0),0))","v":0},{"$f":"IF(I2=\"\",\"\",IF(I2=\"Дома\",L2,0))","v":2},{"$f":"IF(I2=\"\",\"\",IF(I2=\"Дома\",M2,0))","v":2},{"$f":"IF(I2=\"\",\"\",IF(I2=\"Дома\",W2*3+X2,0))","v":1},{"$f":"IF(I2=\"\",\"\",IF(I2=\"Гости\",1,0))","v":0},{"$f":"IF(I2=\"\",\"\",IF(I2=\"Гости\",IF(N2=\"В\",1,0),0))","v":0},{"$f":"IF(I2=\"\",\"\",IF(I2=\"Гости\",IF(N2=\"Н\",1,0),0))","v":0},{"$f":"IF(I2=\"\",\"\",IF(I2=\"Гости\",IF(N2=\"П\",1,0),0))","v":0},{"$f":"IF(I2=\"\",\"\",IF(I2=\"Гости\",L2,0))","v":0},{"$f":"IF(I2=\"\",\"\",IF(I2=\"Гости\",M2,0))","v":0},{"$f":"IF(I2=\"\",\"\",IF(I2=\"Гости\",AD2*3+AE2,0))","v":0},{"$f":"IF(I2=\"Дома\",L2+M2,\"\")","v":4}]
["СЕРБИЯ: Первая лига","2022.03.23 17:00","Тимок","Жарково",0,0,0,0,"Гости",{"$f":"IF(I3=\"\",\"\",E3+G3)","v":0},{"$f":"IF(I3=\"\",\"\",F3+H3)","v":0},{"$f":"IF(I3=\"\",\"\",IF(I3=\"Дома\",J3,K3))","v":0},{"$f":"IF(I3=\"\",\"\",IF(I3=\"Дома\",K3,J3))","v":0},{"$f":"IF(I3=\"\",\"\",IF(I3=\"Дома\",IF(J3>K3,\"В\",IF(J3=K3,\"Н\",\"П\")),IF(J3<K3,\"В\",IF(J3=K3,\"Н\",\"П\"))))","v":"Н"},{"$f":"IF(I3=\"\",\"\",O2+1)","v":2},{"$f":"IF(I3=\"\",\"\",IF(N3=\"В\",P2+1,P2))","v":0},{"$f":"IF(I3=\"\",\"\",IF(N3=\"Н\",Q2+1,Q2))","v":2},{"$f":"IF(I3=\"\",\"\",IF(N3=\"П\",R2+1,R2))","v":0},{"$f":"IF(I3=\"\",\"\",S2+L3)","v":2},{"$f":"IF(I3=\"\",\"\",T2+M3)","v":2},{"$f":"IF(I3=\"\",\"\",P3*3+Q3)","v":2},{"$f":"IF(I3=\"\",\"\",IF(I3=\"Дома\",V2+1,V2+0))","v":1},{"$f":"IF(I3=\"\",\"\",IF(I3=\"Дома\",IF(N3=\"В\",W2+1,W2),W2))","v":0},{"$f":"IF(I3=\"\",\"\",IF(I3=\"Дома\",IF(N3=\"Н\",X2+1,X2),X2))","v":1},{"$f":"IF(I3=\"\",\"\",IF(I3=\"Дома\",IF(N3=\"П\",Y2+1,Y2),Y2))","v":0},{"$f":"IF(I3=\"\",\"\",IF(I3=\"Дома\",L3+Z2,Z2))","v":2},{"$f":"IF(I3=\"\",\"\",IF(I3=\"Дома\",M3+AA2,AA2))","v":2},{"$f":"IF(I3=\"\",\"\",IF(I3=\"Дома\",W3*3+X3,AB2))","v":1},{"$f":"IF(I3=\"\",\"\",IF(I3=\"Гости\",AC2+1,AC2+0))","v":1},{"$f":"IF(I3=\"\",\"\",IF(I3=\"Гости\",IF(N3=\"В\",AD2+1,AD2),AD2))","v":0},{"$f":"IF(I3=\"\",\"\",IF(I3=\"Гости\",IF(N3=\"Н\",AE2+1,AE2),AE2))","v":1},{"$f":"IF(I3=\"\",\"\",IF(I3=\"Гости\",IF(N3=\"П\",AF2+1,AF2),AF2))","v":0},{"$f":"IF(I3=\"\",\"\",IF(I3=\"Гости\",L3+AG2,AG2))","v":0},{"$f":"IF(I3=\"\",\"\",IF(I3=\"Гости\",M3+AH2,AH2))","v":0},{"$f":"IF(I3=\"\",\"\",IF(I3=\"Гости\",AD3*3+AE3,AI2))","v":1},{"$f":"IF(I3=\"Дома\",L3+M3,\"\")","v":""}]
["СЕРБИЯ: Первая лига","2022.03.19 17:00","Жарково","Златибор",0,0,0,0,"Дома",0,0,0,0,"Н",3,{"$f":"IF(I4=\"\",\"\",IF(N4=\"В\",P3+1,P3))","v":0},{"$f":"IF(I4=\"\",\"\",IF(N4=\"Н\",Q3+1,Q3))","v":3},{"$f":"IF(I4=\"\",\"\",IF(N4=\"П\",R3+1,R3))","v":0},{"$f":"IF(I4=\"\",\"\",S3+L4)","v":2},{"$f":"IF(I4=\"\",\"\",T3+M4)","v":2},3,{"$f":"IF(I4=\"\",\"\",IF(I4=\"Дома\",V3+1,V3+0))","v":2},{"$f":"IF(I4=\"\",\"\",IF(I4=\"Дома\",IF(N4=\"В\",W3+1,W3),W3))","v":0},{"$f":"IF(I4=\"\",\"\",IF(I4=\"Дома\",IF(N4=\"Н\",X3+1,X3),X3))","v":2},{"$f":"IF(I4=\"\",\"\",IF(I4=\"Дома\",IF(N4=\"П\",Y3+1,Y3),Y3))","v":0},{"$f":"IF(I4=\"\",\"\",IF(I4=\"Дома\",L4+Z3,Z3))","v":2},{"$f":"IF(I4=\"\",\"\",IF(I4=\"Дома\",M4+AA3,AA3))","v":2},{"$f":"IF(I4=\"\",\"\",IF(I4=\"Дома\",W4*3+X4,AB3))","v":2},{"$f":"IF(I4=\"\",\"\",IF(I4=\"Гости\",AC3+1,AC3+0))","v":1},{"$f":"IF(I4=\"\",\"\",IF(I4=\"Гости\",IF(N4=\"В\",AD3+1,AD3),AD3))","v":0},{"$f":"IF(I4=\"\",\"\",IF(I4=\"Гости\",IF(N4=\"Н\",AE3+1,AE3),AE3))","v":1},{"$f":"IF(I4=\"\",\"\",IF(I4=\"Гости\",IF(N4=\"П\",AF3+1,AF3),AF3))","v":0},{"$f":"IF(I4=\"\",\"\",IF(I4=\"Гости\",L4+AG3,AG3))","v":0},{"$f":"IF(I4=\"\",\"\",IF(I4=\"Гости\",M4+AH3,AH3))","v":0},{"$f":"IF(I4=\"\",\"\",IF(I4=\"Гости\",AD4*3+AE4,AI3))","v":1},0]
["СЕРБИЯ: Первая лига","2022.03.12 18:00","Бачка","Жарково",0,2,0,0,"Гости",0,2,2,0,"В",4,1,3,0,4,2,6,2,0,2,0,2,2,2,2,1,1,0,2,0,4,""]
["СЕРБИЯ: Первая лига","2022.03.06 16:00","Жарково","Графичар Белград",0,2,0,1,"Дома",0,3,0,3,"П",5,1,3,1,4,5,6,3,0,2,1,2,5,2,2,1,1,0,2,0,4,3]
["СЕРБИЯ: Первая лига","2022.03.02 19:00","Мачва","Жарково",0,0,0,2,"Гости",0,2,2,0,"В",6,2,3,1,6,5,9,3,0,2,1,2,5,2,3,2,1,0,4,0,7,""]
["СЕРБИЯ: Первая лига","2022.02.26 15:00","Сремска-Митровица","Жарково",0,0,2,0,"Гости",2,0,0,2,"П",7,2,3,2,6,7,9,3,0,2,1,2,5,2,4,2,1,1,4,2,7,""]
["МИР: Клубные товарищеские матчи","2022.02.02 16:00","Жарково","Инджия",0,0,0,2,"Дома",0,2,0,2,{"$f":"IF(I9=\"\",\"\",IF(I9=\"Дома\",IF(J9>K9,\"В\",IF(J9=K9,\"Н\",\"П\")),IF(J9<K9,\"В\",IF(J9=K9,\"Н\",\"П\"))))","v":"П"},8,2,3,3,6,9,9,4,0,2,2,2,7,2,4,2,1,1,4,2,7,2]
["МИР: Клубные товарищеские матчи","2022.01.22 16:30","Жарково","Локомотива Загреб",2,1,0,0,"Дома",2,1,2,1,{"$f":"IF(I10=\"\",\"\",IF(I10=\"Дома\",IF(J10>K10,\"В\",IF(J10=K10,\"Н\",\"П\")),IF(J10<K10,\"В\",IF(J10=K10,\"Н\",\"П\"))))","v":"В"},9,3,3,3,8,10,12,5,1,2,2,4,8,5,4,2,1,1,4,2,7,3]
["МИР: Клубные товарищеские матчи","2022.01.18 13:00","Жарково","Фореста Сучава",0,0,0,0,"Дома",0,0,0,0,"Н",10,3,4,3,8,10,13,6,1,3,2,4,8,6,4,2,1,1,4,2,7,0]
["МИР: Клубные товарищеские матчи","2022.01.15 16:30","Шибеник","Жарково",0,1,0,2,"Гости",0,3,3,0,"В",11,4,4,3,11,10,{"$f":"IF(I12=\"\",\"\",P12*3+Q12)","v":16},6,1,3,2,4,8,6,5,3,1,1,7,2,10,""]
["МИР: Клубные товарищеские матчи","2022.01.12 13:00","Истра 1961","Жарково",0,0,0,2,"Гости",0,2,2,0,"В",12,5,4,3,13,10,19,6,1,3,2,4,8,6,6,4,1,1,9,2,13,""]
["СЕРБИЯ: Первая лига","2021.12.04 15:00","Жарково","Инджия",1,0,0,2,"Дома",1,2,1,2,"П",13,5,4,4,14,12,19,7,1,3,3,5,10,6,6,4,1,1,9,2,13,3]
["СЕРБИЯ: Первая лига","2021.11.28 17:00","Явор Иваница","Жарково",2,2,1,0,"Гости",3,2,2,3,"П",14,5,4,5,16,15,19,7,1,3,3,5,10,6,7,4,1,2,11,5,13,""]
["СЕРБИЯ: Первая лига","2021.11.24 15:00","Жарково","Младость ГАТ",0,0,0,1,"Дома",0,1,0,1,"П",15,5,4,6,16,16,19,8,1,3,4,5,11,6,7,4,1,2,11,5,13,1]
["СЕРБИЯ: Первая лига","2021.11.20 15:00","Жарково","Рад",0,1,0,0,"Дома",0,1,0,1,"П",16,5,4,7,16,17,19,9,1,3,5,5,12,6,7,4,1,2,11,5,13,1]
["СЕРБИЯ: Первая лига","2021.11.15 15:00","Лозница","Жарково",0,0,0,1,"Гости",0,1,1,0,"В",17,6,4,7,17,17,22,9,1,3,5,5,12,6,8,5,1,2,12,5,16,""]
["СЕРБИЯ: Первая лига","2021.11.10 15:00","Жарково","Кабель Нови-Сад",1,0,1,0,"Дома",2,0,2,0,"В",18,7,4,7,19,17,25,10,2,3,5,7,12,9,8,5,1,2,12,5,16,2]
["СЕРБИЯ: Первая лига","2021.11.06 15:00","Железничар Панчево","Жарково",1,0,1,2,"Гости",2,2,2,2,"Н",19,7,5,7,21,19,26,10,2,3,5,7,12,9,9,5,2,2,14,7,17,""]
["СЕРБИЯ: Первая лига","2021.11.01 15:00","Будучность Добановичи","Жарково",0,0,2,0,"Гости",2,0,0,2,"П",20,7,5,8,21,21,26,10,2,3,5,7,12,9,10,5,2,3,14,9,17,""]
["СЕРБИЯ: Первая лига","2021.10.18 16:00","Нови Белград","Жарково",0,0,0,1,"Гости",0,1,1,0,"В",21,8,5,8,22,21,29,10,2,3,5,7,12,9,11,6,2,3,15,9,20,""]
["СЕРБИЯ: Кубок Сербии","2021.10.14 18:00","Металац","Жарково",2,1,1,1,"Гости",3,2,2,3,"П",22,8,5,9,24,24,29,10,2,3,5,7,12,9,12,6,2,4,17,12,20,""]
["СЕРБИЯ: Первая лига","2021.10.10 16:00","Жарково","Тимок",0,0,2,1,"Дома",2,1,2,1,"В",23,9,5,9,26,25,32,11,3,3,5,9,13,12,12,6,2,4,17,12,20,3]
["СЕРБИЯ: Первая лига","2021.10.06 16:00","Златибор","Жарково",0,1,0,4,"Гости",0,5,5,0,"В",24,10,5,9,31,25,35,11,3,3,5,9,13,12,13,7,2,4,22,12,23,""]
["СЕРБИЯ: Первая лига","2021.10.02 16:00","Жарково","Бачка",0,0,0,1,"Дома",0,1,0,1,"П",25,10,5,10,31,26,35,12,3,3,6,9,14,12,13,7,2,4,22,12,23,1]
["СЕРБИЯ: Первая лига","2021.09.26 16:00","Графичар Белград","Жарково",1,0,2,0,"Гости",3,0,0,3,"П",26,10,5,11,31,29,35,12,3,3,6,9,14,12,14,7,2,5,22,15,23,""]
["СЕРБИЯ: Первая лига","2021.09.22 17:00","Жарково","Мачва",0,1,1,2,"Дома",1,3,1,3,"П",27,10,5,12,32,32,35,13,3,3,7,10,17,12,14,7,2,5,22,15,23,4]
["СЕРБИЯ: Первая лига","2021.09.18 17:00","Жарково","Сремска-Митровица",0,0,1,0,"Дома",1,0,1,0,"В",28,11,5,12,33,32,38,14,4,3,7,11,17,15,14,7,2,5,22,15,23,1]
["СЕРБИЯ: Первая лига","2021.09.12 17:30","Инджия","Жарково",1,0,0,0,"Гости",1,0,0,1,"П",29,11,5,13,33,33,38,14,4,3,7,11,17,15,15,7,2,6,22,16,23,""]
["СЕРБИЯ: Первая лига","2021.09.03 17:30","Жарково","Явор Иваница",0,1,2,0,"Дома",2,1,2,1,"В",30,12,5,13,35,34,41,15,5,3,7,13,18,18,15,7,2,6,22,16,23,3]
["СЕРБИЯ: Первая лига","2021.08.28 21:00","Рад","Жарково",0,0,1,1,"Гости",1,1,1,1,"Н",31,12,6,13,36,35,42,15,5,3,7,13,18,18,16,7,3,6,23,17,24,""]
["СЕРБИЯ: Первая лига","2021.08.22 18:30","Жарково","Лозница",1,0,0,0,"Дома",1,0,1,0,"В",32,13,6,13,37,35,45,16,6,3,7,14,18,21,16,7,3,6,23,17,24,1]
["СЕРБИЯ: Первая лига","2021.08.15 18:30","Кабель Нови-Сад","Жарково",0,2,0,1,"Гости",0,3,3,0,"В",33,14,6,13,40,35,48,16,6,3,7,14,18,21,17,8,3,6,26,17,27,""]
["СЕРБИЯ: Первая лига","2021.08.07 18:30","Жарково","Железничар Панчево",2,0,1,0,"Дома",3,0,3,0,"В",{"$f":"IF(I35=\"\",\"\",O34+1)","v":34},15,6,13,43,35,51,17,7,3,7,17,18,24,17,8,3,6,26,17,27,3]
["СЕРБИЯ: Первая лига","2021.05.19 18:00","Жарково","Будучность Добановичи",1,0,1,0,"Дома",2,0,2,0,"В",35,16,6,13,45,35,54,18,8,3,7,19,18,27,17,8,3,6,26,17,27,2]
["СЕРБИЯ: Первая лига","2021.05.14 18:00","Траял Крушевац","Жарково",0,0,0,2,"Гости",0,2,2,0,"В",36,17,6,13,47,35,57,18,8,3,7,19,18,27,18,9,3,6,28,17,30,""]
["СЕРБИЯ: Первая лига","2021.05.09 18:00","Жарково","Колубара",0,2,0,1,"Дома",0,3,0,3,"П",37,17,6,14,47,38,57,19,8,3,8,19,21,27,18,9,3,6,28,17,30,3]
["СЕРБИЯ: Первая лига","2021.05.05 18:00","Лозница","Жарково",1,0,0,2,"Гости",1,2,2,1,"В",38,18,6,14,49,39,60,19,8,3,8,19,21,27,19,10,3,6,30,18,33,""]
["СЕРБИЯ: Первая лига","2021.05.01 17:00","Жарково","Земун",0,1,0,0,"Дома",0,1,0,1,"П",39,18,6,15,49,40,60,20,8,3,9,19,22,27,19,10,3,6,30,18,33,1]
["СЕРБИЯ: Первая лига","2021.04.24 17:00","Борац","Жарково",1,0,1,0,"Гости",2,0,0,2,"П",40,18,6,16,49,42,60,20,8,3,9,19,22,27,20,10,3,7,30,20,33,""]
["СЕРБИЯ: Первая лига","2021.04.18 17:00","Дин. Вранье","Жарково",0,0,2,0,"Гости",2,0,0,2,"П",41,18,6,17,49,44,60,20,8,3,9,19,22,27,21,10,3,8,30,22,33,""]
["Сербия: Первая лига","2020.09.23 17:00","Жарково","Нови Белград",1,3,null,null,"Гости",1,3,3,1,"В",42,19,6,17,52,45,63,20,8,3,9,19,22,27,22,11,3,8,33,23,36,""]
[null,null,null,null,null,null,null,null,null,"","","","","","","","","","","","","","","","","","","","","","","","","","",""]
[null,null,null,null,null,null,null,null,null,"","","","","","","","","","","","","","","","","","","","","","","","","","",""]
[null,null,null,null,null,null,null,null,null,"","","","","","","","","","","","","","","","","","","","","","","","","","",""]
[null,null,null,null,null,null,null,null,null,"","","","","","","","","","","","","","","","","","","","","","","","","","",""]
[null,null,null,null,null,null,null,null,null,"","","","","","","","","","","","","","","","","","","","","","","","","","",""]
[null,null,null,null,null,null,null,null,null,"","","","","","","","","","","","","","","","","","","","","","","","","","",""]
[null,null,null,null,null,null,null,null,null,"","","","","","","","","","","","","","","","","","","","","","","","","","",""]
[null,null,null,null,null,null,null,null,null,"","","","","","","","","","","","","","","","","","","","","","","","","","",""]
[null,null,null,null,null,null,null,null,null,"","","","","","","","","","","","","","","","","","","","","","","","","","",""]
[null,null,null,null,null,null,null,null,null,"","","","","","","","","","","","","","","","","","","","","","","","","","",""]
[null,null,null,null,null,null,null,null,null,"","","","","","","","","","","","","","","","","","","","","","","","","","",""]
[null,null,null,null,null,null,null,null,null,"","","","","","","","","","","","","","","","","","","","","","","","","","",""]
[null,null,null,null,null,null,null,null,null,"","","","","","","","","","","","","","","","","","","","","","","","","","",""]
[null,null,null,null,null,null,null,null,null,"","","","","","","","","","","","","","","","","","","","","","","","","","",""]
[null,null,null,null,null,null,null,null,null,"","","","","","","","","","","","","","","","","","","","","","","","","","",""]
[null,null,null,null,null,null,null,null,null,"","","","","","","","","","","","","","","","","","","","","","","","","","",""]
[null,null,null,null,null,null,null,null,null,"","","","","","","","","","","","","","","","","","","","","","","","","","",""]
[null,null,null,null,null,null,null,null,null,"","","","","","","","","","","","","","","","","","","","","","","","","","",""]
[null,null,null,null,null,null,null,null,null,"","","","","","","","","","","","","","","","","","","","","","","","","","",""]
[null,null,null,null,null,null,null,null,null,"","","","","","","","","","","","","","","","","","","","","","","","","","",""]
[null,null,null,null,null,null,null,null,null,"","","","","","","","","","","","","","","","","","","","","","","","","","",""]
[null,null,null,null,null,null,null,null,null,"","","","","","","","","","","","","","","","","","","","","","","","","","",""]
[null,null,null,null,null,null,null,null,null,"","","","","","","","","","","","","","","","","","","","","","","","","","",""]
[null,null,null,null,null,null,null,null,null,{"$f":"IF(I67=\"\",\"\",E67+G67)","v":""},{"$f":"IF(I67=\"\",\"\",F67+H67)","v":""},{"$f":"IF(I67=\"\",\"\",IF(I67=\"Дома\",J67,K67))","v":""},{"$f":"IF(I67=\"\",\"\",IF(I67=\"Дома\",K67,J67))","v":""},"",{"$f":"IF(I67=\"\",\"\",O66+1)","v":""},"","","","","",{"$f":"IF(I67=\"\",\"\",P67*3+Q67)","v":""},"","","","","","","","","","","","","","",{"$f":"IF(I67=\"Дома\",L67+M67,\"\")","v":""}]
[null,null,null,null,null,null,null,null,null,"","","","","","",{"$f":"IF(I68=\"\",\"\",IF(N68=\"В\",P67+1,P67))","v":""},{"$f":"IF(I68=\"\",\"\",IF(N68=\"Н\",Q67+1,Q67))","v":""},{"$f":"IF(I68=\"\",\"\",IF(N68=\"П\",R67+1,R67))","v":""},{"$f":"IF(I68=\"\",\"\",S67+L68)","v":""},{"$f":"IF(I68=\"\",\"\",T67+M68)","v":""},"",{"$f":"IF(I68=\"\",\"\",IF(I68=\"Дома\",V67+1,V67+0))","v":""},{"$f":"IF(I68=\"\",\"\",IF(I68=\"Дома\",IF(N68=\"В\",W67+1,W67),W67))","v":""},{"$f":"IF(I68=\"\",\"\",IF(I68=\"Дома\",IF(N68=\"Н\",X67+1,X67),X67))","v":""},{"$f":"IF(I68=\"\",\"\",IF(I68=\"Дома\",IF(N68=\"П\",Y67+1,Y67),Y67))","v":""},{"$f":"IF(I68=\"\",\"\",IF(I68=\"Дома\",L68+Z67,Z67))","v":""},{"$f":"IF(I68=\"\",\"\",IF(I68=\"Дома\",M68+AA67,AA67))","v":""},{"$f":"IF(I68=\"\",\"\",IF(I68=\"Дома\",W68*3+X68,AB67))","v":""},{"$f":"IF(I68=\"\",\"\",IF(I68=\"Гости\",AC67+1,AC67+0))","v":""},{"$f":"IF(I68=\"\",\"\",IF(I68=\"Гости\",IF(N68=\"В\",AD67+1,AD67),AD67))","v":""},{"$f":"IF(I68=\"\",\"\",IF(I68=\"Гости\",IF(N68=\"Н\",AE67+1,AE67),AE67))","v":""},{"$f":"IF(I68=\"\",\"\",IF(I68=\"Гости\",IF(N68=\"П\",AF67+1,AF67),AF67))","v":""},{"$f":"IF(I68=\"\",\"\",IF(I68=\"Гости\",L68+AG67,AG67))","v":""},{"$f":"IF(I68=\"\",\"\",IF(I68=\"Гости\",M68+AH67,AH67))","v":""},{"$f":"IF(I68=\"\",\"\",IF(I68=\"Гости\",AD68*3+AE68,AI67))","v":""},""]
[null,null,null,null,null,null,null,null,null,"","","","","","","","","","","","","","","","","","","","","","","","","","",""]
[null,null,null,null,null,null,null,null,null,"","","","","","","","","","","","","","","","","","","","","","","","","","",""]
[null,null,null,null,null,null,null,null,null,"","","","","","","","","","","","","","","","","","","","","","","","","","",""]
[null,null,null,null,null,null,null,null,null,"","","","","","","","","","","","","","","","","","","","","","","","","","",""]
[null,null,null,null,null,null,null,null,null,"","","","","","","","","","","","","","","","","","","","","","","","","","",""]
[null,null,null,null,null,null,null,null,null,"","","","",{"$f":"IF(I74=\"\",\"\",IF(I74=\"Дома\",IF(J74>K74,\"В\",IF(J74=K74,\"Н\",\"П\")),IF(J74<K74,\"В\",IF(J74=K74,\"Н\",\"П\"))))","v":""},"","","","","","","","","","","","","","","","","","","","","",""]
[null,null,null,null,null,null,null,null,null,"","","","","","","","","","","","","","","","","","","","","","","","","","",""]
[null,null,null,null,null,null,null,null,null,"","","","","","","","","","","","","","","","","","","","","","","","","","",""]
[null,null,null,null,null,null,null,null,null,"","","","","","","","","","","","","","","","","","","","","","","","","","",""]
[null,null,null,null,null,null,null,null,null,"","","","","","","","","","","","","","","","","","","","","","","","","","",""]
[null,null,null,null,null,null,null,null,null,"","","","","","","","","","","","","","","","","","","","","","","","","","",""]
[null,null,null,null,null,null,null,null,null,"","","","","","","","","","","","","","","","","","","","","","","","","","",""]
[null,null,null,null,null,null,null,null,null,"","","","","","","","","","","","","","","","","","","","","","","","","","",""]
[null,null,null,null,null,null,null,null,null,"","","","","","","","","","","","","","","","","","","","","","","","","","",""]
[null,null,null,null,null,null,null,null,null,"","","","","","","","","","","","","","","","","","","","","","","","","","",""]
[null,null,null,null,null,null,null,null,null,"","","","","","","","","","","","","","","","","","","","","","","","","","",""]
[null,null,null,null,null,null,null,null,null,"","","","","","","","","","","","","","","","","","","","","","","","","","",""]
[null,null,null,null,null,null,null,null,null,"","","","","","","","","","","","","","","","","","","","","","","","","","",""]
[null,null,null,null,null,null,null,null,null,"","","","","","","","","","","","","","","","","","","","","","","","","","",""]
[null,null,null,null,null,null,null,null,null,"","","","","","","","","","","","","","","","","","","","","","","","","","",""]
[null,null,null,null,null,null,null,null,null,"","","","","","","","","","","","","","","","","","","","","","","","","","",""]
[null,null,null,null,null,null,null,null,null,"","","","","","","","","","","","","","","","","","","","","","","","","","",""]
[null,null,null,null,null,null,null,null,null,"","","","","","","","","","","","","","","","","","","","","","","","","","",""]
[null,null,null,null,null,null,null,null,null,"","","","","","","","","","","","","","","","","","","","","","","","","","",""]
[null,null,null,null,null,null,null,null,null,"","","","","","","","","","","","","","","","","","","","","","","","","","",""]
[null,null,null,null,null,null,null,null,null,"","","","","","","","","","","","","","","","","","","","","","","","","","",""]
[null,null,null,null,null,null,null,null,null,"","","","","","","","","","","","","","","","","","","","","","","","","","",""]
[null,null,null,null,null,null,null,null,null,"","","","","","","","","","","","","","","","","","","","","","","","","","",""]
[null,null,null,null,null,null,null,null,null,"","","","","","","","","","","","","","","","","","","","","","","","","","",""]
[null,null,null,null,null,null,null,null,null,"","","","","","","","","","","","","","","","","","","","","","","","","","",""]
[null,null,null,null,null,null,null,null,null,"","","","","",{"$f":"IF(I99=\"\",\"\",O98+1)","v":""},"","","","","","","","","","","","","","","","","","","","",""]
[null,null,null,null,null,null,null,null,null,"","","","","","","","","","","","","","","","","","","","","","","","","","",""]
[null,null,null,null,null,null,null,null,null,"","","","","","","","","","","","","","","","","","","","","","","","","","",""]
[null,null,null,null,null,null,null,null,null,"","","","","","","","","","","","","","","","","","","","","","","","","","",""]
[null,null,null,null,null,null,null,null,null,"","","","","","","","","","","","","","","","","","","","","","","","","","",""]
[null,null,null,null,null,null,null,null,null,"","","","","","","","","","","","","","","","","","","","","","","","","","",""]
[null,null,null,null,null,null,null,null,null,"","","","","","","","","","","","","","","","","","","","","","","","","","",""]
[null,null,null,null,null,null,null,null,null,"","","","","","","","","","","","","","","","","","","","","","","","","","",""]
[null,null,null,null,null,null,null,null,null,"","","","","","","","","","","","","","","","","","","","","","","","","","",""]
[null,null,null,null,null,null,null,null,null,"","","","","","","","","","","","","","","","","","","","","","","","","","",""]
[null,null,null,null,null,null,null,null,null,"","","","","","","","","","","","","","","","","","","","","","","","","","",""]
[null,null,null,null,null,null,null,null,null,"","","","","","","","","","","","","","","","","","","","","","","","","","",""]
[null,null,null,null,null,null,null,null,null,"","","","","","","","","","","","","","","","","","","","","","","","","","",""]
[null,null,null,null,null,null,null,null,null,"","","","","","","","","","","","","","","","","","","","","","","","","","",""]
[null,null,null,null,null,null,null,null,null,"","","","","","","","","","","","","","","","","","","","","","","","","","",""]
[null,null,null,null,null,null,null,null,null,"","","","","","","","","","","","","","","","","","","","","","","","","","",""]
[null,null,null,null,null,null,null,null,null,"","","","","","","","","","","","","","","","","","","","","","","","","","",""]
[null,null,null,null,null,null,null,null,null,"","","","","","","","","","","","","","","","","","","","","","","","","","",""]
[null,null,null,null,null,null,null,null,null,"","","","","","","","","","","","","","","","","","","","","","","","","","",""]
[null,null,null,null,null,null,null,null,null,"","","","","","","","","","","","","","","","","","","","","","","","","","",""]
[null,null,null,null,null,null,null,null,null,"","","","","","","","","","","","","","","","","","","","","","","","","","",""]
[null,null,null,null,null,null,null,null,null,"","","","","","","","","","","","","","","","","","","","","","","","","","",""]
[null,null,null,null,null,null,null,null,null,"","","","","","","","","","","","","","","","","","","","","","","","","","",""]
[null,null,null,null,null,null,null,null,null,"","","","","","","","","","","","","","","","","","","","","","","","","","",""]
[null,null,null,null,null,null,null,null,null,"","","","","","","","","","","","","","","","","","","","","","","","","","",""]
[null,null,null,null,null,null,null,null,null,"","","","","","","","","","","","","","","","","","","","","","","","","","",""]
[null,null,null,null,null,null,null,null,null,"","","","","","","","","","","","","","","","","","","","","","","","","","",""]
[null,null,null,null,null,null,null,null,null,"","","","","","","","","","","","","","","","","","","","","","","","","","",""]
[null,null,null,null,null,null,null,null,null,"","","","","","","","","","","","","","","","","","","","","","","","","","",""]
[null,null,null,null,null,null,null,null,null,"","","","","","","","","","","","","","","","","","","","","","","","","","",""]
[null,null,null,null,null,null,null,null,null,"","","","","","","","","","","","","","","","","","","","","","","","","","",""]
[null,null,null,null,null,null,null,null,null,"","","","","","","","","","","","","","","","","","","","","","","","","","",""]
[null,null,null,null,null,null,null,null,null,{"$f":"IF(I131=\"\",\"\",E131+G131)","v":""},{"$f":"IF(I131=\"\",\"\",F131+H131)","v":""},{"$f":"IF(I131=\"\",\"\",IF(I131=\"Дома\",J131,K131))","v":""},{"$f":"IF(I131=\"\",\"\",IF(I131=\"Дома\",K131,J131))","v":""},"",{"$f":"IF(I131=\"\",\"\",O130+1)","v":""},"","","","","",{"$f":"IF(I131=\"\",\"\",P131*3+Q131)","v":""},"","","","","","","","","","","","","","",{"$f":"IF(I131=\"Дома\",L131+M131,\"\")","v":""}]
[null,null,null,null,null,null,null,null,null,"","","","","","",{"$f":"IF(I132=\"\",\"\",IF(N132=\"В\",P131+1,P131))","v":""},{"$f":"IF(I132=\"\",\"\",IF(N132=\"Н\",Q131+1,Q131))","v":""},{"$f":"IF(I132=\"\",\"\",IF(N132=\"П\",R131+1,R131))","v":""},{"$f":"IF(I132=\"\",\"\",S131+L132)","v":""},{"$f":"IF(I132=\"\",\"\",T131+M132)","v":""},"",{"$f":"IF(I132=\"\",\"\",IF(I132=\"Дома\",V131+1,V131+0))","v":""},{"$f":"IF(I132=\"\",\"\",IF(I132=\"Дома\",IF(N132=\"В\",W131+1,W131),W131))","v":""},{"$f":"IF(I132=\"\",\"\",IF(I132=\"Дома\",IF(N132=\"Н\",X131+1,X131),X131))","v":""},{"$f":"IF(I132=\"\",\"\",IF(I132=\"Дома\",IF(N132=\"П\",Y131+1,Y131),Y131))","v":""},{"$f":"IF(I132=\"\",\"\",IF(I132=\"Дома\",L132+Z131,Z131))","v":""},{"$f":"IF(I132=\"\",\"\",IF(I132=\"Дома\",M132+AA131,AA131))","v":""},{"$f":"IF(I132=\"\",\"\",IF(I132=\"Дома\",W132*3+X132,AB131))","v":""},{"$f":"IF(I132=\"\",\"\",IF(I132=\"Гости\",AC131+1,AC131+0))","v":""},{"$f":"IF(I132=\"\",\"\",IF(I132=\"Гости\",IF(N132=\"В\",AD131+1,AD131),AD131))","v":""},{"$f":"IF(I132=\"\",\"\",IF(I132=\"Гости\",IF(N132=\"Н\",AE131+1,AE131),AE131))","v":""},{"$f":"IF(I132=\"\",\"\",IF(I132=\"Гости\",IF(N132=\"П\",AF131+1,AF131),AF131))","v":""},{"$f":"IF(I132=\"\",\"\",IF(I132=\"Гости\",L132+AG131,AG131))","v":""},{"$f":"IF(I132=\"\",\"\",IF(I132=\"Гости\",M132+AH131,AH131))","v":""},{"$f":"IF(I132=\"\",\"\",IF(I132=\"Гости\",AD132*3+AE132,AI131))","v":""},""]
[null,null,null,null,null,null,null,null,null,"","","","","","","","","","","","","","","","","","","","","","","","","","",""]
[null,null,null,null,null,null,null,null,null,"","","","","","","","","","","","","","","","","","","","","","","","","","",""]
[null,null,null,null,null,null,null,null,null,"","","","","","","","","","","","","","","","","","","","","","","","","","",""]
[null,null,null,null,null,null,null,null,null,"","","","","","","","","","","","","","","","","","","","","","","","","","",""]
[null,null,null,null,null,null,null,null,null,"","","","","","","","","","","","","","","","","","","","","","","","","","",""]
[null,null,null,null,null,null,null,null,null,"","","","",{"$f":"IF(I138=\"\",\"\",IF(I138=\"Дома\",IF(J138>K138,\"В\",IF(J138=K138,\"Н\",\"П\")),IF(J138<K138,\"В\",IF(J138=K138,\"Н\",\"П\"))))","v":""},"","","","","","","","","","","","","","","","","","","","","",""]
[null,null,null,null,null,null,null,null,null,"","","","","","","","","","","","","","","","","","","","","","","","","","",""]
[null,null,null,null,null,null,null,null,null,"","","","","","","","","","","","","","","","","","","","","","","","","","",""]
[null,null,null,null,null,null,null,null,null,"","","","","","","","","","","","","","","","","","","","","","","","","","",""]
[null,null,null,null,null,null,null,null,null,"","","","","","","","","","","","","","","","","","","","","","","","","","",""]
[null,null,null,null,null,null,null,null,null,"","","","","","","","","","","","","","","","","","","","","","","","","","",""]
[null,null,null,null,null,null,null,null,null,"","","","","","","","","","","","","","","","","","","","","","","","","","",""]
[null,null,null,null,null,null,null,null,null,"","","","","","","","","","","","","","","","","","","","","","","","","","",""]
[null,null,null,null,null,null,null,null,null,"","","","","","","","","","","","","","","","","","","","","","","","","","",""]
[null,null,null,null,null,null,null,null,null,"","","","","","","","","","","","","","","","","","","","","","","","","","",""]
[null,null,null,null,null,null,null,null,null,"","","","","","","","","","","","","","","","","","","","","","","","","","",""]
[null,null,null,null,null,null,null,null,null,"","","","","","","","","","","","","","","","","","","","","","","","","","",""]
[null,null,null,null,null,null,null,null,null,"","","","","","","","","","","","","","","","","","","","","","","","","","",""]

{"sheet":"Гости","index":13,"n_rows":150,"n_cols":36,"rows_kept":150,"cut":false,"hidden":true,"merged":[]}
["Чемпионат","Дата/Время","Дома","Гости","К1 в 1Т","К2 в 1Т","К1 во 2Т","К2 во 2Т","Где играли","К1 Голов","К2 Голов","Забито","Пропущено","Результат","Всего Игр","Всего выиграно","Всего ничьих","Всего проиграно","Всего забито","Всего пропущено","Всего очков","Дома игр","Дома выиграно","Дома ничьих","Дома проиграно","Дома забито","Дома пропущено","Дома очков","Гости игр","Гости выиграно","Гости ничьих","Гости проиграно","Гости забито","Гости пропущено","Гости очков","Тотал"]
["СЕРБИЯ: Первая лига","2022.03.27 17:00","Жарково","Нови Белград",1,1,1,1,"Гости",{"$f":"IF(I2=\"\",\"\",E2+G2)","v":2},{"$f":"IF(I2=\"\",\"\",F2+H2)","v":2},{"$f":"IF(I2=\"\",\"\",IF(I2=\"Дома\",J2,K2))","v":2},{"$f":"IF(I2=\"\",\"\",IF(I2=\"Дома\",K2,J2))","v":2},{"$f":"IF(I2=\"\",\"\",IF(I2=\"Дома\",IF(J2>K2,\"В\",IF(J2=K2,\"Н\",\"П\")),IF(J2<K2,\"В\",IF(J2=K2,\"Н\",\"П\"))))","v":"Н"},{"$f":"IF(I2=\"\",\"\",1)","v":1},{"$f":"IF(I2=\"\",\"\",IF(N2=\"В\",1,0))","v":0},{"$f":"IF(I2=\"\",\"\",IF(N2=\"Н\",1,0))","v":1},{"$f":"IF(I2=\"\",\"\",IF(N2=\"П\",1,0))","v":0},{"$f":"IF(I2=\"\",\"\",L2)","v":2},{"$f":"IF(I2=\"\",\"\",M2)","v":2},{"$f":"IF(I2=\"\",\"\",P2*3+Q2)","v":1},{"$f":"IF(I2=\"\",\"\",IF(I2=\"Дома\",1,0))","v":0},{"$f":"IF(I2=\"\",\"\",IF(I2=\"Дома\",IF(N2=\"В\",1,0),0))","v":0},{"$f":"IF(I2=\"\",\"\",IF(I2=\"Дома\",IF(N2=\"Н\",1,0),0))","v":0},{"$f":"IF(I2=\"\",\"\",IF(I2=\"Дома\",IF(N2=\"П\",1,0),0))","v":0},{"$f":"IF(I2=\"\",\"\",IF(I2=\"Дома\",L2,0))","v":0},{"$f":"IF(I2=\"\",\"\",IF(I2=\"Дома\",M2,0))","v":0},{"$f":"IF(I2=\"\",\"\",IF(I2=\"Дома\",W2*3+X2,0))","v":0},{"$f":"IF(I2=\"\",\"\",IF(I2=\"Гости\",1,0))","v":1},{"$f":"IF(I2=\"\",\"\",IF(I2=\"Гости\",IF(N2=\"В\",1,0),0))","v":0},{"$f":"IF(I2=\"\",\"\",IF(I2=\"Гости\",IF(N2=\"Н\",1,0),0))","v":1},{"$f":"IF(I2=\"\",\"\",IF(I2=\"Гости\",IF(N2=\"П\",1,0),0))","v":0},{"$f":"IF(I2=\"\",\"\",IF(I2=\"Гости\",L2,0))","v":2},{"$f":"IF(I2=\"\",\"\",IF(I2=\"Гости\",M2,0))","v":2},{"$f":"IF(I2=\"\",\"\",IF(I2=\"Гости\",AD2*3+AE2,0))","v":1},{"$f":"IF(I2=\"Гости\",L2+M2,\"\")","v":4}]
["СЕРБИЯ: Первая лига","2022.03.23 17:00","Нови Белград","Инджия",2,0,0,2,"Дома",{"$f":"IF(I3=\"\",\"\",E3+G3)","v":2},{"$f":"IF(I3=\"\",\"\",F3+H3)","v":2},{"$f":"IF(I3=\"\",\"\",IF(I3=\"Дома\",J3,K3))","v":2},{"$f":"IF(I3=\"\",\"\",IF(I3=\"Дома\",K3,J3))","v":2},{"$f":"IF(I3=\"\",\"\",IF(I3=\"Дома\",IF(J3>K3,\"В\",IF(J3=K3,\"Н\",\"П\")),IF(J3<K3,\"В\",IF(J3=K3,\"Н\",\"П\"))))","v":"Н"},{"$f":"IF(I3=\"\",\"\",O2+1)","v":2},{"$f":"IF(I3=\"\",\"\",IF(N3=\"В\",P2+1,P2))","v":0},{"$f":"IF(I3=\"\",\"\",IF(N3=\"Н\",Q2+1,Q2))","v":2},{"$f":"IF(I3=\"\",\"\",IF(N3=\"П\",R2+1,R2))","v":0},{"$f":"IF(I3=\"\",\"\",S2+L3)","v":4},{"$f":"IF(I3=\"\",\"\",T2+M3)","v":4},{"$f":"IF(I3=\"\",\"\",P3*3+Q3)","v":2},{"$f":"IF(I3=\"\",\"\",IF(I3=\"Дома\",V2+1,V2+0))","v":1},{"$f":"IF(I3=\"\",\"\",IF(I3=\"Дома\",IF(N3=\"В\",W2+1,W2),W2))","v":0},{"$f":"IF(I3=\"\",\"\",IF(I3=\"Дома\",IF(N3=\"Н\",X2+1,X2),X2))","v":1},{"$f":"IF(I3=\"\",\"\",IF(I3=\"Дома\",IF(N3=\"П\",Y2+1,Y2),Y2))","v":0},{"$f":"IF(I3=\"\",\"\",IF(I3=\"Дома\",L3+Z2,Z2))","v":2},{"$f":"IF(I3=\"\",\"\",IF(I3=\"Дома\",M3+AA2,AA2))","v":2},{"$f":"IF(I3=\"\",\"\",IF(I3=\"Дома\",W3*3+X3,AB2))","v":1},{"$f":"IF(I3=\"\",\"\",IF(I3=\"Гости\",AC2+1,AC2+0))","v":1},{"$f":"IF(I3=\"\",\"\",IF(I3=\"Гости\",IF(N3=\"В\",AD2+1,AD2),AD2))","v":0},{"$f":"IF(I3=\"\",\"\",IF(I3=\"Гости\",IF(N3=\"Н\",AE2+1,AE2),AE2))","v":1},{"$f":"IF(I3=\"\",\"\",IF(I3=\"Гости\",IF(N3=\"П\",AF2+1,AF2),AF2))","v":0},{"$f":"IF(I3=\"\",\"\",IF(I3=\"Гости\",L3+AG2,AG2))","v":2},{"$f":"IF(I3=\"\",\"\",IF(I3=\"Гости\",M3+AH2,AH2))","v":2},{"$f":"IF(I3=\"\",\"\",IF(I3=\"Гости\",AD3*3+AE3,AI2))","v":1},{"$f":"IF(I3=\"Гости\",L3+M3,\"\")","v":""}]
["СЕРБИЯ: Первая лига","2022.03.19 17:00","Явор Иваница","Нови Белград",1,0,0,2,"Гости",1,2,2,1,"В",3,{"$f":"IF(I4=\"\",\"\",IF(N4=\"В\",P3+1,P3))","v":1},{"$f":"IF(I4=\"\",\"\",IF(N4=\"Н\",Q3+1,Q3))","v":2},{"$f":"IF(I4=\"\",\"\",IF(N4=\"П\",R3+1,R3))","v":0},{"$f":"IF(I4=\"\",\"\",S3+L4)","v":6},{"$f":"IF(I4=\"\",\"\",T3+M4)","v":5},5,{"$f":"IF(I4=\"\",\"\",IF(I4=\"Дома\",V3+1,V3+0))","v":1},{"$f":"IF(I4=\"\",\"\",IF(I4=\"Дома\",IF(N4=\"В\",W3+1,W3),W3))","v":0},{"$f":"IF(I4=\"\",\"\",IF(I4=\"Дома\",IF(N4=\"Н\",X3+1,X3),X3))","v":1},{"$f":"IF(I4=\"\",\"\",IF(I4=\"Дома\",IF(N4=\"П\",Y3+1,Y3),Y3))","v":0},{"$f":"IF(I4=\"\",\"\",IF(I4=\"Дома\",L4+Z3,Z3))","v":2},{"$f":"IF(I4=\"\",\"\",IF(I4=\"Дома\",M4+AA3,AA3))","v":2},{"$f":"IF(I4=\"\",\"\",IF(I4=\"Дома\",W4*3+X4,AB3))","v":1},{"$f":"IF(I4=\"\",\"\",IF(I4=\"Гости\",AC3+1,AC3+0))","v":2},{"$f":"IF(I4=\"\",\"\",IF(I4=\"Гости\",IF(N4=\"В\",AD3+1,AD3),AD3))","v":1},{"$f":"IF(I4=\"\",\"\",IF(I4=\"Гости\",IF(N4=\"Н\",AE3+1,AE3),AE3))","v":1},{"$f":"IF(I4=\"\",\"\",IF(I4=\"Гости\",IF(N4=\"П\",AF3+1,AF3),AF3))","v":0},{"$f":"IF(I4=\"\",\"\",IF(I4=\"Гости\",L4+AG3,AG3))","v":4},{"$f":"IF(I4=\"\",\"\",IF(I4=\"Гости\",M4+AH3,AH3))","v":3},{"$f":"IF(I4=\"\",\"\",IF(I4=\"Гости\",AD4*3+AE4,AI3))","v":4},3]
["СЕРБИЯ: Первая лига","2022.03.11 16:00","Нови Белград","Рад",1,0,1,0,"Дома",2,0,2,0,"В",4,2,2,0,8,5,8,2,1,1,0,4,2,4,2,1,1,0,4,3,4,""]
["СЕРБИЯ: Первая лига","2022.03.03 15:00","Нови Белград","Кабель Нови-Сад",0,1,4,0,"Дома",4,1,4,1,"В",5,3,2,0,12,6,11,3,2,1,0,8,3,7,2,1,1,0,4,3,4,""]
["СЕРБИЯ: Первая лига","2022.02.27 15:00","Железничар Панчево","Нови Белград",1,1,0,1,"Гости",1,2,2,1,"В",6,4,2,0,14,7,14,3,2,1,0,8,3,7,3,2,1,0,6,4,7,3]
["МИР: Клубные товарищеские матчи","2022.02.16 13:00","Нови Белград","ОФК Белград",0,0,0,2,"Дома",0,2,0,2,"П",7,4,2,1,14,9,14,4,2,1,1,8,5,7,3,2,1,0,6,4,7,""]
["СЕРБИЯ: Первая лига","2021.12.06 15:00","Нови Белград","Будучность Добановичи",1,0,2,2,"Дома",3,2,3,2,{"$f":"IF(I9=\"\",\"\",IF(I9=\"Дома\",IF(J9>K9,\"В\",IF(J9=K9,\"Н\",\"П\")),IF(J9<K9,\"В\",IF(J9=K9,\"Н\",\"П\"))))","v":"В"},8,5,2,1,17,11,17,5,3,1,1,11,7,10,3,2,1,0,6,4,7,""]
["СЕРБИЯ: Первая лига","2021.11.29 15:00","Младость ГАТ","Нови Белград",1,0,0,1,"Гости",1,1,1,1,{"$f":"IF(I10=\"\",\"\",IF(I10=\"Дома\",IF(J10>K10,\"В\",IF(J10=K10,\"Н\",\"П\")),IF(J10<K10,\"В\",IF(J10=K10,\"Н\",\"П\"))))","v":"Н"},9,5,3,1,18,12,18,5,3,1,1,11,7,10,4,2,2,0,7,5,8,2]
["СЕРБИЯ: Первая лига","2021.11.20 15:00","Нови Белград","Сремска-Митровица",0,0,1,1,"Дома",1,1,1,1,"Н",10,5,4,1,19,13,19,6,3,2,1,12,8,11,4,2,2,0,7,5,8,""]
["СЕРБИЯ: Первая лига","2021.11.15 15:00","Нови Белград","Тимок",3,0,1,0,"Дома",4,0,4,0,"В",11,6,4,1,23,13,{"$f":"IF(I12=\"\",\"\",P12*3+Q12)","v":22},7,4,2,1,16,8,14,4,2,2,0,7,5,8,""]
["СЕРБИЯ: Первая лига","2021.11.10 15:00","Златибор","Нови Белград",0,0,0,0,"Гости",0,0,0,0,"Н",12,6,5,1,23,13,23,7,4,2,1,16,8,14,5,2,3,0,7,5,9,0]
["СЕРБИЯ: Первая лига","2021.11.05 15:00","Нови Белград","Бачка",0,0,1,1,"Дома",1,1,1,1,"Н",13,6,6,1,24,14,24,8,4,3,1,17,9,15,5,2,3,0,7,5,9,""]
["СЕРБИЯ: Первая лига","2021.10.31 15:00","Нови Белград","Графичар Белград",1,0,2,0,"Дома",3,0,3,0,"В",14,7,6,1,27,14,27,9,5,3,1,20,9,18,5,2,3,0,7,5,9,""]
["СЕРБИЯ: Первая лига","2021.10.24 18:00","Мачва","Нови Белград",1,0,0,1,"Гости",1,1,1,1,"Н",15,7,7,1,28,15,28,9,5,3,1,20,9,18,6,2,4,0,8,6,10,2]
["СЕРБИЯ: Первая лига","2021.10.18 16:00","Нови Белград","Жарково",0,0,0,1,"Дома",0,1,0,1,"П",16,7,7,2,28,16,28,10,5,3,2,20,10,18,6,2,4,0,8,6,10,""]
["СЕРБИЯ: Первая лига","2021.10.10 16:00","Инджия","Нови Белград",1,0,3,0,"Гости",4,0,0,4,"П",17,7,7,3,28,20,28,10,5,3,2,20,10,18,7,2,4,1,8,10,10,4]
["СЕРБИЯ: Первая лига","2021.10.06 16:00","Нови Белград","Явор Иваница",0,1,0,0,"Дома",0,1,0,1,"П",18,7,7,4,28,21,28,11,5,3,3,20,11,18,7,2,4,1,8,10,10,""]
["СЕРБИЯ: Первая лига","2021.10.02 16:00","Рад","Нови Белград",1,0,0,0,"Гости",1,0,0,1,"П",19,7,7,5,28,22,28,11,5,3,3,20,11,18,8,2,4,2,8,11,10,1]
["СЕРБИЯ: Первая лига","2021.09.27 16:00","Нови Белград","Лозница",1,0,1,0,"Дома",2,0,2,0,"В",20,8,7,5,30,22,31,12,6,3,3,22,11,21,8,2,4,2,8,11,10,""]
["СЕРБИЯ: Первая лига","2021.09.22 17:00","Кабель Нови-Сад","Нови Белград",0,2,0,1,"Гости",0,3,3,0,"В",21,9,7,5,33,22,34,12,6,3,3,22,11,21,9,3,4,2,11,11,13,3]
["СЕРБИЯ: Первая лига","2021.09.18 17:00","Нови Белград","Железничар Панчево",0,0,0,0,"Дома",0,0,0,0,"Н",22,9,8,5,33,22,35,13,6,4,3,22,11,22,9,3,4,2,11,11,13,""]
["СЕРБИЯ: Первая лига","2021.09.12 17:30","Будучность Добановичи","Нови Белград",2,0,0,3,"Гости",2,3,3,2,"В",23,10,8,5,36,24,38,13,6,4,3,22,11,22,10,4,4,2,14,13,16,5]
["СЕРБИЯ: Первая лига","2021.09.03 17:30","Нови Белград","Младость ГАТ",0,1,0,0,"Дома",0,1,0,1,"П",24,10,8,6,36,25,38,14,6,4,4,22,12,22,10,4,4,2,14,13,16,""]
["СЕРБИЯ: Первая лига","2021.08.28 18:00","Сремска-Митровица","Нови Белград",1,0,0,2,"Гости",1,2,2,1,"В",25,11,8,6,38,26,41,14,6,4,4,22,12,22,11,5,4,2,16,14,19,3]
["СЕРБИЯ: Первая лига","2021.08.22 18:30","Тимок","Нови Белград",0,1,1,0,"Гости",1,1,1,1,"Н",26,11,9,6,39,27,42,14,6,4,4,22,12,22,12,5,5,2,17,15,20,2]
["СЕРБИЯ: Первая лига","2021.08.15 18:30","Нови Белград","Златибор",0,0,0,0,"Дома",0,0,0,0,"Н",27,11,10,6,39,27,43,15,6,5,4,22,12,23,12,5,5,2,17,15,20,""]
["СЕРБИЯ: Первая лига","2021.08.08 21:00","Бачка","Нови Белград",1,0,0,0,"Гости",1,0,0,1,"П",28,11,10,7,39,28,43,15,6,5,4,22,12,23,13,5,5,3,17,16,20,1]
["МИР: Клубные товарищеские матчи","2021.07.24 18:30","Нови Белград","Аль-Фейха",0,2,0,0,"Дома",0,2,0,2,"П",29,11,10,8,39,30,43,16,6,5,5,22,14,23,13,5,5,3,17,16,20,""]
["МИР: Клубные товарищеские матчи","2021.07.10 19:00","Нови Белград","Будучность Добановичи",0,1,0,2,"Дома",0,3,0,3,"П",30,11,10,9,39,33,43,17,6,5,6,22,17,23,13,5,5,3,17,16,20,""]
["СЕРБИЯ: Первая лига","2021.05.19 18:00","Нови Белград","Слога Кральево",4,0,2,1,"Дома",6,1,6,1,"В",31,12,10,9,45,34,46,18,7,5,6,28,18,26,13,5,5,3,17,16,20,""]
["СЕРБИЯ: Первая лига","2021.05.15 18:00","Дубочица","Нови Белград",1,0,0,0,"Гости",1,0,0,1,"П",32,12,10,10,45,35,46,18,7,5,6,28,18,26,14,5,5,4,17,17,20,1]
["СЕРБИЯ: Первая лига","2021.05.10 18:00","Нови Белград","Железничар Панчево",0,2,1,1,"Дома",1,3,1,3,"П",33,12,10,11,46,38,46,19,7,5,7,29,21,26,14,5,5,4,17,17,20,""]
["СЕРБИЯ: Первая лига","2021.05.05 18:00","Ягодина","Нови Белград",0,2,0,1,"Гости",0,3,3,0,"В",34,13,10,11,49,38,49,19,7,5,7,29,21,26,15,6,5,4,20,17,23,3]
["СЕРБИЯ: Первая лига","2021.05.01 17:00","Нови Белград","Будучность Добановичи",1,1,4,1,"Дома",5,2,5,2,"В",35,14,10,11,54,40,52,20,8,5,7,34,23,29,15,6,5,4,20,17,23,""]
["СЕРБИЯ: Первая лига","2021.04.25 17:30","Траял Крушевац","Нови Белград",1,2,1,1,"Гости",2,3,3,2,"В",36,15,10,11,57,42,55,20,8,5,7,34,23,29,16,7,5,4,23,19,26,5]
["СЕРБИЯ: Первая лига","2021.04.19 17:00","Нови Белград","Колубара",1,0,0,0,"Дома",1,0,1,0,"В",37,16,10,11,58,42,58,21,9,5,7,35,23,32,16,7,5,4,23,19,26,""]
["СЕРБИЯ: Первая лига","2021.04.18 17:00","Дин. Вранье","Жарково",0,0,2,0,"Дома",2,0,2,0,"В",38,17,10,11,60,42,61,22,10,5,7,37,23,35,16,7,5,4,23,19,26,""]
["СЕРБИЯ: Первая лига","2021.04.12 17:00","Лозница","Нови Белград",0,0,1,2,"Гости",1,2,2,1,"В",39,18,10,11,62,43,64,22,10,5,7,37,23,35,17,8,5,4,25,20,29,3]
["СЕРБИЯ: Первая лига","2021.04.07 17:00","Нови Белград","Земун",0,0,2,0,"Дома",2,0,2,0,"В",40,19,10,11,64,43,67,23,11,5,7,39,23,38,17,8,5,4,25,20,29,""]
["СЕРБИЯ: Первая лига","2021.04.03 17:00","Борац","Нови Белград",1,0,0,1,"Гости",1,1,1,1,"Н",41,19,11,11,65,44,68,23,11,5,7,39,23,38,18,8,6,4,26,21,30,2]
["СЕРБИЯ: Кубок Сербии","2021.03.30 17:00","Црвена Звезда","Нови Белград",3,0,0,0,"Гости",3,0,0,3,"П",42,19,11,12,65,47,68,23,11,5,7,39,23,38,19,8,6,5,26,24,30,3]
[null,null,null,null,null,null,null,null,null,"","","","","","","","","","","","","","","","","","","","","","","","","","",""]
[null,null,null,null,null,null,null,null,null,"","","","","","","","","","","","","","","","","","","","","","","","","","",""]
[null,null,null,null,null,null,null,null,null,"","","","","","","","","","","","","","","","","","","","","","","","","","",""]
[null,null,null,null,null,null,null,null,null,"","","","","","","","","","","","","","","","","","","","","","","","","","",""]
[null,null,null,null,null,null,null,null,null,"","","","","","","","","","","","","","","","","","","","","","","","","","",""]
[null,null,null,null,null,null,null,null,null,"","","","","","","","","","","","","","","","","","","","","","","","","","",""]
[null,null,null,null,null,null,null,null,null,"","","","","","","","","","","","","","","","","","","","","","","","","","",""]
[null,null,null,null,null,null,null,null,null,"","","","","","","","","","","","","","","","","","","","","","","","","","",""]
[null,null,null,null,null,null,null,null,null,"","","","","","","","","","","","","","","","","","","","","","","","","","",""]
[null,null,null,null,null,null,null,null,null,"","","","","","","","","","","","","","","","","","","","","","","","","","",""]
[null,null,null,null,null,null,null,null,null,"","","","","","","","","","","","","","","","","","","","","","","","","","",""]
[null,null,null,null,null,null,null,null,null,"","","","","","","","","","","","","","","","","","","","","","","","","","",""]
[null,null,null,null,null,null,null,null,null,"","","","","","","","","","","","","","","","","","","","","","","","","","",""]
[null,null,null,null,null,null,null,null,null,"","","","","","","","","","","","","","","","","","","","","","","","","","",""]
[null,null,null,null,null,null,null,null,null,"","","","","","","","","","","","","","","","","","","","","","","","","","",""]
[null,null,null,null,null,null,null,null,null,"","","","","","","","","","","","","","","","","","","","","","","","","","",""]
[null,null,null,null,null,null,null,null,null,"","","","","","","","","","","","","","","","","","","","","","","","","","",""]
[null,null,null,null,null,null,null,null,null,"","","","","","","","","","","","","","","","","","","","","","","","","","",""]
[null,null,null,null,null,null,null,null,null,"","","","","","","","","","","","","","","","","","","","","","","","","","",""]
[null,null,null,null,null,null,null,null,null,"","","","","","","","","","","","","","","","","","","","","","","","","","",""]
[null,null,null,null,null,null,null,null,null,"","","","","","","","","","","","","","","","","","","","","","","","","","",""]
[null,null,null,null,null,null,null,null,null,"","","","","","","","","","","","","","","","","","","","","","","","","","",""]
[null,null,null,null,null,null,null,null,null,"","","","","","","","","","","","","","","","","","","","","","","","","","",""]
[null,null,null,null,null,null,null,null,null,{"$f":"IF(I67=\"\",\"\",E67+G67)","v":""},{"$f":"IF(I67=\"\",\"\",F67+H67)","v":""},{"$f":"IF(I67=\"\",\"\",IF(I67=\"Дома\",J67,K67))","v":""},{"$f":"IF(I67=\"\",\"\",IF(I67=\"Дома\",K67,J67))","v":""},"",{"$f":"IF(I67=\"\",\"\",O66+1)","v":""},"","","","","",{"$f":"IF(I67=\"\",\"\",P67*3+Q67)","v":""},"","","","","","","","","","","","","","",{"$f":"IF(I67=\"Гости\",L67+M67,\"\")","v":""}]
[null,null,null,null,null,null,null,null,null,"","","","","","",{"$f":"IF(I68=\"\",\"\",IF(N68=\"В\",P67+1,P67))","v":""},{"$f":"IF(I68=\"\",\"\",IF(N68=\"Н\",Q67+1,Q67))","v":""},{"$f":"IF(I68=\"\",\"\",IF(N68=\"П\",R67+1,R67))","v":""},{"$f":"IF(I68=\"\",\"\",S67+L68)","v":""},{"$f":"IF(I68=\"\",\"\",T67+M68)","v":""},"",{"$f":"IF(I68=\"\",\"\",IF(I68=\"Дома\",V67+1,V67+0))","v":""},{"$f":"IF(I68=\"\",\"\",IF(I68=\"Дома\",IF(N68=\"В\",W67+1,W67),W67))","v":""},{"$f":"IF(I68=\"\",\"\",IF(I68=\"Дома\",IF(N68=\"Н\",X67+1,X67),X67))","v":""},{"$f":"IF(I68=\"\",\"\",IF(I68=\"Дома\",IF(N68=\"П\",Y67+1,Y67),Y67))","v":""},{"$f":"IF(I68=\"\",\"\",IF(I68=\"Дома\",L68+Z67,Z67))","v":""},{"$f":"IF(I68=\"\",\"\",IF(I68=\"Дома\",M68+AA67,AA67))","v":""},{"$f":"IF(I68=\"\",\"\",IF(I68=\"Дома\",W68*3+X68,AB67))","v":""},{"$f":"IF(I68=\"\",\"\",IF(I68=\"Гости\",AC67+1,AC67+0))","v":""},{"$f":"IF(I68=\"\",\"\",IF(I68=\"Гости\",IF(N68=\"В\",AD67+1,AD67),AD67))","v":""},{"$f":"IF(I68=\"\",\"\",IF(I68=\"Гости\",IF(N68=\"Н\",AE67+1,AE67),AE67))","v":""},{"$f":"IF(I68=\"\",\"\",IF(I68=\"Гости\",IF(N68=\"П\",AF67+1,AF67),AF67))","v":""},{"$f":"IF(I68=\"\",\"\",IF(I68=\"Гости\",L68+AG67,AG67))","v":""},{"$f":"IF(I68=\"\",\"\",IF(I68=\"Гости\",M68+AH67,AH67))","v":""},{"$f":"IF(I68=\"\",\"\",IF(I68=\"Гости\",AD68*3+AE68,AI67))","v":""},""]
[null,null,null,null,null,null,null,null,null,"","","","","","","","","","","","","","","","","","","","","","","","","","",""]
[null,null,null,null,null,null,null,null,null,"","","","","","","","","","","","","","","","","","","","","","","","","","",""]
[null,null,null,null,null,null,null,null,null,"","","","","","","","","","","","","","","","","","","","","","","","","","",""]
[null,null,null,null,null,null,null,null,null,"","","","","","","","","","","","","","","","","","","","","","","","","","",""]
[null,null,null,null,null,null,null,null,null,"","","","","","","","","","","","","","","","","","","","","","","","","","",""]
[null,null,null,null,null,null,null,null,null,"","","","",{"$f":"IF(I74=\"\",\"\",IF(I74=\"Дома\",IF(J74>K74,\"В\",IF(J74=K74,\"Н\",\"П\")),IF(J74<K74,\"В\",IF(J74=K74,\"Н\",\"П\"))))","v":""},"","","","","","","","","","","","","","","","","","","","","",""]
[null,null,null,null,null,null,null,null,null,"","","","","","","","","","","","","","","","","","","","","","","","","","",""]
[null,null,null,null,null,null,null,null,null,"","","","","","","","","","","","","","","","","","","","","","","","","","",""]
[null,null,null,null,null,null,null,null,null,"","","","","","","","","","","","","","","","","","","","","","","","","","",""]
[null,null,null,null,null,null,null,null,null,"","","","","","","","","","","","","","","","","","","","","","","","","","",""]
[null,null,null,null,null,null,null,null,null,"","","","","","","","","","","","","","","","","","","","","","","","","","",""]
[null,null,null,null,null,null,null,null,null,"","","","","","","","","","","","","","","","","","","","","","","","","","",""]
[null,null,null,null,null,null,null,null,null,"","","","","","","","","","","","","","","","","","","","","","","","","","",""]
[null,null,null,null,null,null,null,null,null,"","","","","","","","","","","","","","","","","","","","","","","","","","",""]
[null,null,null,null,null,null,null,null,null,"","","","","","","","","","","","","","","","","","","","","","","","","","",""]
[null,null,null,null,null,null,null,null,null,"","","","","","","","","","","","","","","","","","","","","","","","","","",""]
[null,null,null,null,null,null,null,null,null,"","","","","","","","","","","","","","","","","","","","","","","","","","",""]
[null,null,null,null,null,null,null,null,null,"","","","","","","","","","","","","","","","","","","","","","","","","","",""]
[null,null,null,null,null,null,null,null,null,"","","","","","","","","","","","","","","","","","","","","","","","","","",""]
[null,null,null,null,null,null,null,null,null,"","","","","","","","","","","","","","","","","","","","","","","","","","",""]
[null,null,null,null,null,null,null,null,null,"","","","","","","","","","","","","","","","","","","","","","","","","","",""]
[null,null,null,null,null,null,null,null,null,"","","","","","","","","","","","","","","","","","","","","","","","","","",""]
[null,null,null,null,null,null,null,null,null,"","","","","","","","","","","","","","","","","","","","","","","","","","",""]
[null,null,null,null,null,null,null,null,null,"","","","","","","","","","","","","","","","","","","","","","","","","","",""]
[null,null,null,null,null,null,null,null,null,"","","","","","","","","","","","","","","","","","","","","","","","","","",""]
[null,null,null,null,null,null,null,null,null,"","","","","","","","","","","","","","","","","","","","","","","","","","",""]
[null,null,null,null,null,null,null,null,null,"","","","","","","","","","","","","","","","","","","","","","","","","","",""]
[null,null,null,null,null,null,null,null,null,"","","","","","","","","","","","","","","","","","","","","","","","","","",""]
[null,null,null,null,null,null,null,null,null,"","","","","","","","","","","","","","","","","","","","","","","","","","",""]
[null,null,null,null,null,null,null,null,null,"","","","","","","","","","","","","","","","","","","","","","","","","","",""]
[null,null,null,null,null,null,null,null,null,"","","","","","","","","","","","","","","","","","","","","","","","","","",""]
[null,null,null,null,null,null,null,null,null,"","","","","","","","","","","","","","","","","","","","","","","","","","",""]
[null,null,null,null,null,null,null,null,null,"","","","","","","","","","","","","","","","","","","","","","","","","","",""]
[null,null,null,null,null,null,null,null,null,"","","","","","","","","","","","","","","","","","","","","","","","","","",""]
[null,null,null,null,null,null,null,null,null,"","","","","","","","","","","","","","","","","","","","","","","","","","",""]
[null,null,null,null,null,null,null,null,null,"","","","","","","","","","","","","","","","","","","","","","","","","","",""]
[null,null,null,null,null,null,null,null,null,"","","","","","","","","","","","","","","","","","","","","","","","","","",""]
[null,null,null,null,null,null,null,null,null,"","","","","","","","","","","","","","","","","","","","","","","","","","",""]
[null,null,null,null,null,null,null,null,null,"","","","","","","","","","","","","","","","","","","","","","","","","","",""]
[null,null,null,null,null,null,null,null,null,"","","","","","","","","","","","","","","","","","","","","","","","","","",""]
[null,null,null,null,null,null,null,null,null,"","","","","","","","","","","","","","","","","","","","","","","","","","",""]
[null,null,null,null,null,null,null,null,null,"","","","","","","","","","","","","","","","","","","","","","","","","","",""]
[null,null,null,null,null,null,null,null,null,"","","","","","","","","","","","","","","","","","","","","","","","","","",""]
[null,null,null,null,null,null,null,null,null,"","","","","","","","","","","","","","","","","","","","","","","","","","",""]
[null,null,null,null,null,null,null,null,null,"","","","","","","","","","","","","","","","","","","","","","","","","","",""]
[null,null,null,null,null,null,null,null,null,"","","","","","","","","","","","","","","","","","","","","","","","","","",""]
[null,null,null,null,null,null,null,null,null,"","","","","","","","","","","","","","","","","","","","","","","","","","",""]
[null,null,null,null,null,null,null,null,null,"","","","","","","","","","","","","","","","","","","","","","","","","","",""]
[null,null,null,null,null,null,null,null,null,"","","","","","","","","","","","","","","","","","","","","","","","","","",""]
[null,null,null,null,null,null,null,null,null,"","","","","","","","","","","","","","","","","","","","","","","","","","",""]
[null,null,null,null,null,null,null,null,null,"","","","","","","","","","","","","","","","","","","","","","","","","","",""]
[null,null,null,null,null,null,null,null,null,"","","","","","","","","","","","","","","","","","","","","","","","","","",""]
[null,null,null,null,null,null,null,null,null,"","","","","","","","","","","","","","","","","","","","","","","","","","",""]
[null,null,null,null,null,null,null,null,null,"","","","","","","","","","","","","","","","","","","","","","","","","","",""]
[null,null,null,null,null,null,null,null,null,"","","","","","","","","","","","","","","","","","","","","","","","","","",""]
[null,null,null,null,null,null,null,null,null,"","","","","","","","","","","","","","","","","","","","","","","","","","",""]
[null,null,null,null,null,null,null,null,null,"","","","","","","","","","","","","","","","","","","","","","","","","","",""]
[null,null,null,null,null,null,null,null,null,"","","","","","","","","","","","","","","","","","","","","","","","","","",""]
[null,null,null,null,null,null,null,null,null,"","","","","","","","","","","","","","","","","","","","","","","","","","",""]
[null,null,null,null,null,null,null,null,null,"","","","","","","","","","","","","","","","","","","","","","","","","","",""]
[null,null,null,null,null,null,null,null,null,"","","","","","","","","","","","","","","","","","","","","","","","","","",""]
[null,null,null,null,null,null,null,null,null,"","","","","","","","","","","","","","","","","","","","","","","","","","",""]
[null,null,null,null,null,null,null,null,null,{"$f":"IF(I131=\"\",\"\",E131+G131)","v":""},{"$f":"IF(I131=\"\",\"\",F131+H131)","v":""},{"$f":"IF(I131=\"\",\"\",IF(I131=\"Дома\",J131,K131))","v":""},{"$f":"IF(I131=\"\",\"\",IF(I131=\"Дома\",K131,J131))","v":""},"",{"$f":"IF(I131=\"\",\"\",O130+1)","v":""},"","","","","",{"$f":"IF(I131=\"\",\"\",P131*3+Q131)","v":""},"","","","","","","","","","","","","","",{"$f":"IF(I131=\"Гости\",L131+M131,\"\")","v":""}]
[null,null,null,null,null,null,null,null,null,"","","","","","",{"$f":"IF(I132=\"\",\"\",IF(N132=\"В\",P131+1,P131))","v":""},{"$f":"IF(I132=\"\",\"\",IF(N132=\"Н\",Q131+1,Q131))","v":""},{"$f":"IF(I132=\"\",\"\",IF(N132=\"П\",R131+1,R131))","v":""},{"$f":"IF(I132=\"\",\"\",S131+L132)","v":""},{"$f":"IF(I132=\"\",\"\",T131+M132)","v":""},"",{"$f":"IF(I132=\"\",\"\",IF(I132=\"Дома\",V131+1,V131+0))","v":""},{"$f":"IF(I132=\"\",\"\",IF(I132=\"Дома\",IF(N132=\"В\",W131+1,W131),W131))","v":""},{"$f":"IF(I132=\"\",\"\",IF(I132=\"Дома\",IF(N132=\"Н\",X131+1,X131),X131))","v":""},{"$f":"IF(I132=\"\",\"\",IF(I132=\"Дома\",IF(N132=\"П\",Y131+1,Y131),Y131))","v":""},{"$f":"IF(I132=\"\",\"\",IF(I132=\"Дома\",L132+Z131,Z131))","v":""},{"$f":"IF(I132=\"\",\"\",IF(I132=\"Дома\",M132+AA131,AA131))","v":""},{"$f":"IF(I132=\"\",\"\",IF(I132=\"Дома\",W132*3+X132,AB131))","v":""},{"$f":"IF(I132=\"\",\"\",IF(I132=\"Гости\",AC131+1,AC131+0))","v":""},{"$f":"IF(I132=\"\",\"\",IF(I132=\"Гости\",IF(N132=\"В\",AD131+1,AD131),AD131))","v":""},{"$f":"IF(I132=\"\",\"\",IF(I132=\"Гости\",IF(N132=\"Н\",AE131+1,AE131),AE131))","v":""},{"$f":"IF(I132=\"\",\"\",IF(I132=\"Гости\",IF(N132=\"П\",AF131+1,AF131),AF131))","v":""},{"$f":"IF(I132=\"\",\"\",IF(I132=\"Гости\",L132+AG131,AG131))","v":""},{"$f":"IF(I132=\"\",\"\",IF(I132=\"Гости\",M132+AH131,AH131))","v":""},{"$f":"IF(I132=\"\",\"\",IF(I132=\"Гости\",AD132*3+AE132,AI131))","v":""},""]
[null,null,null,null,null,null,null,null,null,"","","","","","","","","","","","","","","","","","","","","","","","","","",""]
[null,null,null,null,null,null,null,null,null,"","","","","","","","","","","","","","","","","","","","","","","","","","",""]
[null,null,null,null,null,null,null,null,null,"","","","","","","","","","","","","","","","","","","","","","","","","","",""]
[null,null,null,null,null,null,null,null,null,"","","","","","","","","","","","","","","","","","","","","","","","","","",""]
[null,null,null,null,null,null,null,null,null,"","","","","","","","","","","","","","","","","","","","","","","","","","",""]
[null,null,null,null,null,null,null,null,null,"","","","",{"$f":"IF(I138=\"\",\"\",IF(I138=\"Дома\",IF(J138>K138,\"В\",IF(J138=K138,\"Н\",\"П\")),IF(J138<K138,\"В\",IF(J138=K138,\"Н\",\"П\"))))","v":""},"","","","","","","","","","","","","","","","","","","","","",""]
[null,null,null,null,null,null,null,null,null,"","","","","","","","","","","","","","","","","","","","","","","","","","",""]
[null,null,null,null,null,null,null,null,null,"","","","","","","","","","","","","","","","","","","","","","","","","","",""]
[null,null,null,null,null,null,null,null,null,"","","","","","","","","","","","","","","","","","","","","","","","","","",""]
[null,null,null,null,null,null,null,null,null,"","","","","","","","","","","","","","","","","","","","","","","","","","",""]
[null,null,null,null,null,null,null,null,null,"","","","","","","","","","","","","","","","","","","","","","","","","","",""]
[null,null,null,null,null,null,null,null,null,"","","","","","","","","","","","","","","","","","","","","","","","","","",""]
[null,null,null,null,null,null,null,null,null,"","","","","","","","","","","","","","","","","","","","","","","","","","",""]
[null,null,null,null,null,null,null,null,null,"","","","","","","","","","","","","","","","","","","","","","","","","","",""]
[null,null,null,null,null,null,null,null,null,"","","","","","","","","","","","","","","","","","","","","","","","","","",""]
[null,null,null,null,null,null,null,null,null,"","","","","","","","","","","","","","","","","","","","","","","","","","",""]
[null,null,null,null,null,null,null,null,null,"","","","","","","","","","","","","","","","","","","","","","","","","","",""]
[null,null,null,null,null,null,null,null,null,"","","","","","","","","","","","","","","","","","","","","","","","","","",""]

{"sheet":"ДомаДома","index":14,"n_rows":150,"n_cols":35,"rows_kept":150,"cut":false,"hidden":true,"merged":[]}
["Чемпионат","Дата/Время","Дома","Гости","К1 в 1Т","К2 в 1Т","К1 во 2Т","К2 во 2Т","Где играли","К1 Голов","К2 Голов","Забито","Пропущено","Результат","Всего Игр","Всего выиграно","Всего ничьих","Всего проиграно","Всего забито","Всего пропущено","Всего очков","Дома игр","Дома выиграно","Дома ничьих","Дома проиграно","Дома забито","Дома пропущено","Дома очков","Гости игр","Гости выиграно","Гости ничьих","Гости проиграно","Гости забито","Гости пропущено","Гости очков"]
["СЕРБИЯ: Первая лига","2022.03.27 17:00","Жарково","Нови Белград",1,1,1,1,"Дома",{"$f":"IF(I2=\"\",\"\",E2+G2)","v":2},{"$f":"IF(I2=\"\",\"\",F2+H2)","v":2},{"$f":"IF(I2=\"\",\"\",IF(I2=\"Дома\",J2,K2))","v":2},{"$f":"IF(I2=\"\",\"\",IF(I2=\"Дома\",K2,J2))","v":2},{"$f":"IF(I2=\"\",\"\",IF(I2=\"Дома\",IF(J2>K2,\"В\",IF(J2=K2,\"Н\",\"П\")),IF(J2<K2,\"В\",IF(J2=K2,\"Н\",\"П\"))))","v":"Н"},{"$f":"IF(I2=\"\",\"\",1)","v":1},{"$f":"IF(I2=\"\",\"\",IF(N2=\"В\",1,0))","v":0},{"$f":"IF(I2=\"\",\"\",IF(N2=\"Н\",1,0))","v":1},{"$f":"IF(I2=\"\",\"\",IF(N2=\"П\",1,0))","v":0},{"$f":"IF(I2=\"\",\"\",L2)","v":2},{"$f":"IF(I2=\"\",\"\",M2)","v":2},{"$f":"IF(I2=\"\",\"\",P2*3+Q2)","v":1},{"$f":"IF(I2=\"\",\"\",IF(I2=\"Дома\",1,0))","v":1},{"$f":"IF(I2=\"\",\"\",IF(I2=\"Дома\",IF(N2=\"В\",1,0),0))","v":0},{"$f":"IF(I2=\"\",\"\",IF(I2=\"Дома\",IF(N2=\"Н\",1,0),0))","v":1},{"$f":"IF(I2=\"\",\"\",IF(I2=\"Дома\",IF(N2=\"П\",1,0),0))","v":0},{"$f":"IF(I2=\"\",\"\",IF(I2=\"Дома\",L2,0))","v":2},{"$f":"IF(I2=\"\",\"\",IF(I2=\"Дома\",M2,0))","v":2},{"$f":"IF(I2=\"\",\"\",IF(I2=\"Дома\",W2*3+X2,0))","v":1},{"$f":"IF(I2=\"\",\"\",IF(I2=\"Гости\",1,0))","v":0},{"$f":"IF(I2=\"\",\"\",IF(I2=\"Гости\",IF(N2=\"В\",1,0),0))","v":0},{"$f":"IF(I2=\"\",\"\",IF(I2=\"Гости\",IF(N2=\"Н\",1,0),0))","v":0},{"$f":"IF(I2=\"\",\"\",IF(I2=\"Гости\",IF(N2=\"П\",1,0),0))","v":0},{"$f":"IF(I2=\"\",\"\",IF(I2=\"Гости\",L2,0))","v":0},{"$f":"IF(I2=\"\",\"\",IF(I2=\"Гости\",M2,0))","v":0},{"$f":"IF(I2=\"\",\"\",IF(I2=\"Гости\",AD2*3+AE2,0))","v":0}]
["СЕРБИЯ: Первая лига","2022.03.19 17:00","Жарково","Златибор",0,0,0,0,"Дома",{"$f":"IF(I3=\"\",\"\",E3+G3)","v":0},{"$f":"IF(I3=\"\",\"\",F3+H3)","v":0},{"$f":"IF(I3=\"\",\"\",IF(I3=\"Дома\",J3,K3))","v":0},{"$f":"IF(I3=\"\",\"\",IF(I3=\"Дома\",K3,J3))","v":0},{"$f":"IF(I3=\"\",\"\",IF(I3=\"Дома\",IF(J3>K3,\"В\",IF(J3=K3,\"Н\",\"П\")),IF(J3<K3,\"В\",IF(J3=K3,\"Н\",\"П\"))))","v":"Н"},{"$f":"IF(I3=\"\",\"\",O2+1)","v":2},{"$f":"IF(I3=\"\",\"\",IF(N3=\"В\",P2+1,P2))","v":0},{"$f":"IF(I3=\"\",\"\",IF(N3=\"Н\",Q2+1,Q2))","v":2},{"$f":"IF(I3=\"\",\"\",IF(N3=\"П\",R2+1,R2))","v":0},{"$f":"IF(I3=\"\",\"\",S2+L3)","v":2},{"$f":"IF(I3=\"\",\"\",T2+M3)","v":2},{"$f":"IF(I3=\"\",\"\",P3*3+Q3)","v":2},{"$f":"IF(I3=\"\",\"\",IF(I3=\"Дома\",V2+1,V2+0))","v":2},{"$f":"IF(I3=\"\",\"\",IF(I3=\"Дома\",IF(N3=\"В\",W2+1,W2),W2))","v":0},{"$f":"IF(I3=\"\",\"\",IF(I3=\"Дома\",IF(N3=\"Н\",X2+1,X2),X2))","v":2},{"$f":"IF(I3=\"\",\"\",IF(I3=\"Дома\",IF(N3=\"П\",Y2+1,Y2),Y2))","v":0},{"$f":"IF(I3=\"\",\"\",IF(I3=\"Дома\",L3+Z2,Z2))","v":2},{"$f":"IF(I3=\"\",\"\",IF(I3=\"Дома\",M3+AA2,AA2))","v":2},{"$f":"IF(I3=\"\",\"\",IF(I3=\"Дома\",W3*3+X3,AB2))","v":2},{"$f":"IF(I3=\"\",\"\",IF(I3=\"Гости\",AC2+1,AC2+0))","v":0},{"$f":"IF(I3=\"\",\"\",IF(I3=\"Гости\",IF(N3=\"В\",AD2+1,AD2),AD2))","v":0},{"$f":"IF(I3=\"\",\"\",IF(I3=\"Гости\",IF(N3=\"Н\",AE2+1,AE2),AE2))","v":0},{"$f":"IF(I3=\"\",\"\",IF(I3=\"Гости\",IF(N3=\"П\",AF2+1,AF2),AF2))","v":0},{"$f":"IF(I3=\"\",\"\",IF(I3=\"Гости\",L3+AG2,AG2))","v":0},{"$f":"IF(I3=\"\",\"\",IF(I3=\"Гости\",M3+AH2,AH2))","v":0},{"$f":"IF(I3=\"\",\"\",IF(I3=\"Гости\",AD3*3+AE3,AI2))","v":0}]
["СЕРБИЯ: Первая лига","2022.03.06 16:00","Жарково","Графичар Белград",0,2,0,1,"Дома",0,3,0,3,"П",3,{"$f":"IF(I4=\"\",\"\",IF(N4=\"В\",P3+1,P3))","v":0},{"$f":"IF(I4=\"\",\"\",IF(N4=\"Н\",Q3+1,Q3))","v":2},{"$f":"IF(I4=\"\",\"\",IF(N4=\"П\",R3+1,R3))","v":1},{"$f":"IF(I4=\"\",\"\",S3+L4)","v":2},{"$f":"IF(I4=\"\",\"\",T3+M4)","v":5},2,{"$f":"IF(I4=\"\",\"\",IF(I4=\"Дома\",V3+1,V3+0))","v":3},{"$f":"IF(I4=\"\",\"\",IF(I4=\"Дома\",IF(N4=\"В\",W3+1,W3),W3))","v":0},{"$f":"IF(I4=\"\",\"\",IF(I4=\"Дома\",IF(N4=\"Н\",X3+1,X3),X3))","v":2},{"$f":"IF(I4=\"\",\"\",IF(I4=\"Дома\",IF(N4=\"П\",Y3+1,Y3),Y3))","v":1},{"$f":"IF(I4=\"\",\"\",IF(I4=\"Дома\",L4+Z3,Z3))","v":2},{"$f":"IF(I4=\"\",\"\",IF(I4=\"Дома\",M4+AA3,AA3))","v":5},{"$f":"IF(I4=\"\",\"\",IF(I4=\"Дома\",W4*3+X4,AB3))","v":2},{"$f":"IF(I4=\"\",\"\",IF(I4=\"Гости\",AC3+1,AC3+0))","v":0},{"$f":"IF(I4=\"\",\"\",IF(I4=\"Гости\",IF(N4=\"В\",AD3+1,AD3),AD3))","v":0},{"$f":"IF(I4=\"\",\"\",IF(I4=\"Гости\",IF(N4=\"Н\",AE3+1,AE3),AE3))","v":0},{"$f":"IF(I4=\"\",\"\",IF(I4=\"Гости\",IF(N4=\"П\",AF3+1,AF3),AF3))","v":0},{"$f":"IF(I4=\"\",\"\",IF(I4=\"Гости\",L4+AG3,AG3))","v":0},{"$f":"IF(I4=\"\",\"\",IF(I4=\"Гости\",M4+AH3,AH3))","v":0},{"$f":"IF(I4=\"\",\"\",IF(I4=\"Гости\",AD4*3+AE4,AI3))","v":0}]
["МИР: Клубные товарищеские матчи","2022.02.02 16:00","Жарково","Инджия",0,0,0,2,"Дома",0,2,0,2,"П",4,0,2,2,2,7,2,4,0,2,2,2,7,2,0,0,0,0,0,0,0]
["МИР: Клубные товарищеские матчи","2022.01.22 16:30","Жарково","Локомотива Загреб",2,1,0,0,"Дома",2,1,2,1,"В",5,1,2,2,4,8,5,5,1,2,2,4,8,5,0,0,0,0,0,0,0]
["МИР: Клубные товарищеские матчи","2022.01.18 13:00","Жарково","Фореста Сучава",0,0,0,0,"Дома",0,0,0,0,"Н",6,1,3,2,4,8,6,6,1,3,2,4,8,6,0,0,0,0,0,0,0]
["СЕРБИЯ: Первая лига","2021.12.04 15:00","Жарково","Инджия",1,0,0,2,"Дома",1,2,1,2,"П",7,1,3,3,5,10,6,7,1,3,3,5,10,6,0,0,0,0,0,0,0]
["СЕРБИЯ: Первая лига","2021.11.24 15:00","Жарково","Младость ГАТ",0,0,0,1,"Дома",0,1,0,1,{"$f":"IF(I9=\"\",\"\",IF(I9=\"Дома\",IF(J9>K9,\"В\",IF(J9=K9,\"Н\",\"П\")),IF(J9<K9,\"В\",IF(J9=K9,\"Н\",\"П\"))))","v":"П"},8,1,3,4,5,11,6,8,1,3,4,5,11,6,0,0,0,0,0,0,0]
["СЕРБИЯ: Первая лига","2021.11.20 15:00","Жарково","Рад",0,1,0,0,"Дома",0,1,0,1,{"$f":"IF(I10=\"\",\"\",IF(I10=\"Дома\",IF(J10>K10,\"В\",IF(J10=K10,\"Н\",\"П\")),IF(J10<K10,\"В\",IF(J10=K10,\"Н\",\"П\"))))","v":"П"},9,1,3,5,5,12,6,9,1,3,5,5,12,6,0,0,0,0,0,0,0]
["СЕРБИЯ: Первая лига","2021.11.10 15:00","Жарково","Кабель Нови-Сад",1,0,1,0,"Дома",2,0,2,0,"В",10,2,3,5,7,12,9,10,2,3,5,7,12,9,0,0,0,0,0,0,0]
["СЕРБИЯ: Первая лига","2021.10.10 16:00","Жарково","Тимок",0,0,2,1,"Дома",2,1,2,1,"В",11,3,3,5,9,13,{"$f":"IF(I12=\"\",\"\",P12*3+Q12)","v":12},11,3,3,5,9,13,12,0,0,0,0,0,0,0]
["СЕРБИЯ: Первая лига","2021.10.02 16:00","Жарково","Бачка",0,0,0,1,"Дома",0,1,0,1,"П",12,3,3,6,9,14,12,12,3,3,6,9,14,12,0,0,0,0,0,0,0]
["СЕРБИЯ: Первая лига","2021.09.22 17:00","Жарково","Мачва",0,1,1,2,"Дома",1,3,1,3,"П",13,3,3,7,10,17,12,13,3,3,7,10,17,12,0,0,0,0,0,0,0]
["СЕРБИЯ: Первая лига","2021.09.18 17:00","Жарково","Сремска-Митровица",0,0,1,0,"Дома",1,0,1,0,"В",14,4,3,7,11,17,15,14,4,3,7,11,17,15,0,0,0,0,0,0,0]
["СЕРБИЯ: Первая лига","2021.09.03 17:30","Жарково","Явор Иваница",0,1,2,0,"Дома",2,1,2,1,"В",15,5,3,7,13,18,18,15,5,3,7,13,18,18,0,0,0,0,0,0,0]
["СЕРБИЯ: Первая лига","2021.08.22 18:30","Жарково","Лозница",1,0,0,0,"Дома",1,0,1,0,"В",16,6,3,7,14,18,21,16,6,3,7,14,18,21,0,0,0,0,0,0,0]
["СЕРБИЯ: Первая лига","2021.08.07 18:30","Жарково","Железничар Панчево",2,0,1,0,"Дома",3,0,3,0,"В",17,7,3,7,17,18,24,17,7,3,7,17,18,24,0,0,0,0,0,0,0]
["СЕРБИЯ: Первая лига","2021.05.19 18:00","Жарково","Будучность Добановичи",1,0,1,0,"Дома",2,0,2,0,"В",18,8,3,7,19,18,27,18,8,3,7,19,18,27,0,0,0,0,0,0,0]
["СЕРБИЯ: Первая лига","2021.05.09 18:00","Жарково","Колубара",0,2,0,1,"Дома",0,3,0,3,"П",19,8,3,8,19,21,27,19,8,3,8,19,21,27,0,0,0,0,0,0,0]
["СЕРБИЯ: Первая лига","2021.05.01 17:00","Жарково","Земун",0,1,0,0,"Дома",0,1,0,1,"П",20,8,3,9,19,22,27,20,8,3,9,19,22,27,0,0,0,0,0,0,0]
[null,null,null,null,null,null,null,null,null,"","","","","","","","","","","","","","","","","","","","","","","","","",""]
[null,null,null,null,null,null,null,null,null,"","","","","","","","","","","","","","","","","","","","","","","","","",""]
[null,null,null,null,null,null,null,null,null,"","","","","","","","","","","","","","","","","","","","","","","","","",""]
[null,null,null,null,null,null,null,null,null,"","",null,"","","","","","","","","","","","","","","","","","","","","","",""]
[null,null,null,null,null,null,null,null,null,"","","","","","","","","","","","","","","","","","","","","","","","","",""]
[null,null,null,null,null,null,null,null,null,"","","","","","","","","","","","","","","","","","","","","","","","","",""]
[null,null,null,null,null,null,null,null,null,"","","","","","","","","","","","","","","","","","","","","","","","","",""]
[null,null,null,null,null,null,null,null,null,"","","","","","","","","","","","","","","","","","","","","","","","","",""]
[null,null,null,null,null,null,null,null,null,"","","","","","","","","","","","","","","","","","","","","","","","","",""]
[null,null,null,null,null,null,null,null,null,"","","","","","","","","","","","","","","","","","","","","","","","","",""]
[null,null,null,null,null,null,null,null,null,"","","","","","","","","","","","","","","","","","","","","","","","","",""]
[null,null,null,null,null,null,null,null,null,"","","","","","","","","","","","","","","","","","","","","","","","","",""]
[null,null,null,null,null,null,null,null,null,"","","","","","","","","","","","","","","","","","","","","","","","","",""]
[null,null,null,null,null,null,null,null,null,"","","","","","","","","","","","","","","","","","","","","","","","","",""]
[null,null,null,null,null,null,null,null,null,"","","","","","","","","","","","","","","","","","","","","","","","","",""]
[null,null,null,null,null,null,null,null,null,"","","","","","","","","","","","","","","","","","","","","","","","","",""]
[null,null,null,null,null,null,null,null,null,"","","","","","","","","","","","","","","","","","","","","","","","","",""]
[null,null,null,null,null,null,null,null,null,"","","","","","","","","","","","","","","","","","","","","","","","","",""]
[null,null,null,null,null,null,null,null,null,"","","","","","","","","","","","","","","","","","","","","","","","","",""]
[null,null,null,null,null,null,null,null,null,"","","","","","","","","","","","","","","","","","","","","","","","","",""]
[null,null,null,null,null,null,null,null,null,"","","","","","","","","","","","","","","","","","","","","","","","","",""]
[null,null,null,null,null,null,null,null,null,"","","","","","","","","","","","","","","","","","","","","","","","","",""]
[null,null,null,null,null,null,null,null,null,"","","","","","","","","","","","","","","","","","","","","","","","","",""]
[null,null,null,null,null,null,null,null,null,"","","","","","","","","","","","","","","","","","","","","","","","","",""]
[null,null,null,null,null,null,null,null,null,"","","","","","","","","","","","","","","","","","","","","","","","","",""]
[null,null,null,null,null,null,null,null,null,"","","","","","","","","","","","","","","","","","","","","","","","","",""]
[null,null,null,null,null,null,null,null,null,"","","","","","","","","","","","","","","","","","","","","","","","","",""]
[null,null,null,null,null,null,null,null,null,"","","","","","","","","","","","","","","","","","","","","","","","","",""]
[null,null,null,null,null,null,null,null,null,"","","","","","","","","","","","","","","","","","","","","","","","","",""]
[null,null,null,null,null,null,null,null,null,"","","","","","","","","","","","","","","","","","","","","","","","","",""]
[null,null,null,null,null,null,null,null,null,"","","","","","","","","","","","","","","","","","","","","","","","","",""]
[null,null,null,null,null,null,null,null,null,"","","","","","","","","","","","","","","","","","","","","","","","","",""]
[null,null,null,null,null,null,null,null,null,"","","","","","","","","","","","","","","","","","","","","","","","","",""]
[null,null,null,null,null,null,null,null,null,"","","","","","","","","","","","","","","","","","","","","","","","","",""]
[null,null,null,null,null,null,null,null,null,"","","","","","","","","","","","","","","","","","","","","","","","","",""]
[null,null,null,null,null,null,null,null,null,"","","","","","","","","","","","","","","","","","","","","","","","","",""]
[null,null,null,null,null,null,null,null,null,"","","","","","","","","","","","","","","","","","","","","","","","","",""]
[null,null,null,null,null,null,null,null,null,"","","","","","","","","","","","","","","","","","","","","","","","","",""]
[null,null,null,null,null,null,null,null,null,"","","","","","","","","","","","","","","","","","","","","","","","","",""]
[null,null,null,null,null,null,null,null,null,"","","","","","","","","","","","","","","","","","","","","","","","","",""]
[null,null,null,null,null,null,null,null,null,"","","","","","","","","","","","","","","","","","","","","","","","","",""]
[null,null,null,null,null,null,null,null,null,"","","","","","","","","","","","","","","","","","","","","","","","","",""]
[null,null,null,null,null,null,null,null,null,"","","","","","","","","","","","","","","","","","","","","","","","","",""]
[null,null,null,null,null,null,null,null,null,"","","","","","","","","","","","","","","","","","","","","","","","","",""]
[null,null,null,null,null,null,null,null,null,"","","","","","","","","","","","","","","","","","","","","","","","","",""]
[null,null,null,null,null,null,null,null,null,{"$f":"IF(I67=\"\",\"\",E67+G67)","v":""},{"$f":"IF(I67=\"\",\"\",F67+H67)","v":""},{"$f":"IF(I67=\"\",\"\",IF(I67=\"Дома\",J67,K67))","v":""},{"$f":"IF(I67=\"\",\"\",IF(I67=\"Дома\",K67,J67))","v":""},"",{"$f":"IF(I67=\"\",\"\",O66+1)","v":""},"","","","","",{"$f":"IF(I67=\"\",\"\",P67*3+Q67)","v":""},"","","","","","","","","","","","","",""]
[null,null,null,null,null,null,null,null,null,"","","","","","",{"$f":"IF(I68=\"\",\"\",IF(N68=\"В\",P67+1,P67))","v":""},{"$f":"IF(I68=\"\",\"\",IF(N68=\"Н\",Q67+1,Q67))","v":""},{"$f":"IF(I68=\"\",\"\",IF(N68=\"П\",R67+1,R67))","v":""},{"$f":"IF(I68=\"\",\"\",S67+L68)","v":""},{"$f":"IF(I68=\"\",\"\",T67+M68)","v":""},"",{"$f":"IF(I68=\"\",\"\",IF(I68=\"Дома\",V67+1,V67+0))","v":""},{"$f":"IF(I68=\"\",\"\",IF(I68=\"Дома\",IF(N68=\"В\",W67+1,W67),W67))","v":""},{"$f":"IF(I68=\"\",\"\",IF(I68=\"Дома\",IF(N68=\"Н\",X67+1,X67),X67))","v":""},{"$f":"IF(I68=\"\",\"\",IF(I68=\"Дома\",IF(N68=\"П\",Y67+1,Y67),Y67))","v":""},{"$f":"IF(I68=\"\",\"\",IF(I68=\"Дома\",L68+Z67,Z67))","v":""},{"$f":"IF(I68=\"\",\"\",IF(I68=\"Дома\",M68+AA67,AA67))","v":""},{"$f":"IF(I68=\"\",\"\",IF(I68=\"Дома\",W68*3+X68,AB67))","v":""},{"$f":"IF(I68=\"\",\"\",IF(I68=\"Гости\",AC67+1,AC67+0))","v":""},{"$f":"IF(I68=\"\",\"\",IF(I68=\"Гости\",IF(N68=\"В\",AD67+1,AD67),AD67))","v":""},{"$f":"IF(I68=\"\",\"\",IF(I68=\"Гости\",IF(N68=\"Н\",AE67+1,AE67),AE67))","v":""},{"$f":"IF(I68=\"\",\"\",IF(I68=\"Гости\",IF(N68=\"П\",AF67+1,AF67),AF67))","v":""},{"$f":"IF(I68=\"\",\"\",IF(I68=\"Гости\",L68+AG67,AG67))","v":""},{"$f":"IF(I68=\"\",\"\",IF(I68=\"Гости\",M68+AH67,AH67))","v":""},{"$f":"IF(I68=\"\",\"\",IF(I68=\"Гости\",AD68*3+AE68,AI67))","v":""}]
[null,null,null,null,null,null,null,null,null,"","","","","","","","","","","","","","","","","","","","","","","","","",""]
[null,null,null,null,null,null,null,null,null,"","","","","","","","","","","","","","","","","","","","","","","","","",""]
[null,null,null,null,null,null,null,null,null,"","","","","","","","","","","","","","","","","","","","","","","","","",""]
[null,null,null,null,null,null,null,null,null,"","","","","","","","","","","","","","","","","","","","","","","","","",""]
[null,null,null,null,null,null,null,null,null,"","","","","","","","","","","","","","","","","","","","","","","","","",""]
[null,null,null,null,null,null,null,null,null,"","","","",{"$f":"IF(I74=\"\",\"\",IF(I74=\"Дома\",IF(J74>K74,\"В\",IF(J74=K74,\"Н\",\"П\")),IF(J74<K74,\"В\",IF(J74=K74,\"Н\",\"П\"))))","v":""},"","","","","","","","","","","","","","","","","","","","",""]
[null,null,null,null,null,null,null,null,null,"","","","","","","","","","","","","","","","","","","","","","","","","",""]
[null,null,null,null,null,null,null,null,null,"","","","","","","","","","","","","","","","","","","","","","","","","",""]
[null,null,null,null,null,null,null,null,null,"","","","","","","","","","","","","","","","","","","","","","","","","",""]
[null,null,null,null,null,null,null,null,null,"","","","","","","","","","","","","","","","","","","","","","","","","",""]
[null,null,null,null,null,null,null,null,null,"","","","","","","","","","","","","","","","","","","","","","","","","",""]
[null,null,null,null,null,null,null,null,null,"","","","","","","","","","","","","","","","","","","","","","","","","",""]
[null,null,null,null,null,null,null,null,null,"","","","","","","","","","","","","","","","","","","","","","","","","",""]
[null,null,null,null,null,null,null,null,null,"","","","","","","","","","","","","","","","","","","","","","","","","",""]
[null,null,null,null,null,null,null,null,null,"","","","","","","","","","","","","","","","","","","","","","","","","",""]
[null,null,null,null,null,null,null,null,null,"","","","","","","","","","","","","","","","","","","","","","","","","",""]
[null,null,null,null,null,null,null,null,null,"","","","","","","","","","","","","","","","","","","","","","","","","",""]
[null,null,null,null,null,null,null,null,null,"","","","","","","","","","","","","","","","","","","","","","","","","",""]
[null,null,null,null,null,null,null,null,null,"","","","","","","","","","","","","","","","","","","","","","","","","",""]
[null,null,null,null,null,null,null,null,null,"","","","","","","","","","","","","","","","","","","","","","","","","",""]
[null,null,null,null,null,null,null,null,null,"","","","","","","","","","","","","","","","","","","","","","","","","",""]
[null,null,null,null,null,null,null,null,null,"","","","","","","","","","","","","","","","","","","","","","","","","",""]
[null,null,null,null,null,null,null,null,null,"","","","","","","","","","","","","","","","","","","","","","","","","",""]
[null,null,null,null,null,null,null,null,null,"","","","","","","","","","","","","","","","","","","","","","","","","",""]
[null,null,null,null,null,null,null,null,null,"","","","","","","","","","","","","","","","","","","","","","","","","",""]
[null,null,null,null,null,null,null,null,null,"","","","","","","","","","","","","","","","","","","","","","","","","",""]
[null,null,null,null,null,null,null,null,null,"","","","","","","","","","","","","","","","","","","","","","","","","",""]
[null,null,null,null,null,null,null,null,null,"","","","","","","","","","","","","","","","","","","","","","","","","",""]
[null,null,null,null,null,null,null,null,null,"","","","","","","","","","","","","","","","","","","","","","","","","",""]
[null,null,null,null,null,null,null,null,null,"","","","","","","","","","","","","","","","","","","","","","","","","",""]
[null,null,null,null,null,null,null,null,null,"","","","","","","","","","","","","","","","","","","","","","","","","",""]
[null,null,null,null,null,null,null,null,null,"","","","","","","","","","","","","","","","","","","","","","","","","",""]
[null,null,null,null,null,null,null,null,null,"","","","","","","","","","","","","","","","","","","","","","","","","",""]
[null,null,null,null,null,null,null,null,null,"","","","","","","","","","","","","","","","","","","","","","","","","",""]
[null,null,null,null,null,null,null,null,null,"","","","","","","","","","","","","","","","","","","","","","","","","",""]
[null,null,null,null,null,null,null,null,null,"","","","","","","","","","","","","","","","","","","","","","","","","",""]
[null,null,null,null,null,null,null,null,null,"","","","","","","","","","","","","","","","","","","","","","","","","",""]
[null,null,null,null,null,null,null,null,null,"","","","","","","","","","","","","","","","","","","","","","","","","",""]
[null,null,null,null,null,null,null,null,null,"","","","","","","","","","","","","","","","","","","","","","","","","",""]
[null,null,null,null,null,null,null,null,null,"","","","","","","","","","","","","","","","","","","","","","","","","",""]
[null,null,null,null,null,null,null,null,null,"","","","","","","","","","","","","","","","","","","","","","","","","",""]
[null,null,null,null,null,null,null,null,null,"","","","","","","","","","","","","","","","","","","","","","","","","",""]
[null,null,null,null,null,null,null,null,null,"","","","","","","","","","","","","","","","","","","","","","","","","",""]
[null,null,null,null,null,null,null,null,null,"","","","","","","","","","","","","","","","","","","","","","","","","",""]
[null,null,null,null,null,null,null,null,null,"","","","","","","","","","","","","","","","","","","","","","","","","",""]
[null,null,null,null,null,null,null,null,null,"","","","","","","","","","","","","","","","","","","","","","","","","",""]
[null,null,null,null,null,null,null,null,null,"","","","","","","","","","","","","","","","","","","","","","","","","",""]
[null,null,null,null,null,null,null,null,null,"","","","","","","","","","","","","","","","","","","","","","","","","",""]
[null,null,null,null,null,null,null,null,null,"","","","","","","","","","","","","","","","","","","","","","","","","",""]
[null,null,null,null,null,null,null,null,null,"","","","","","","","","","","","","","","","","","","","","","","","","",""]
[null,null,null,null,null,null,null,null,null,"","","","","","","","","","","","","","","","","","","","","","","","","",""]
[null,null,null,null,null,null,null,null,null,"","","","","","","","","","","","","","","","","","","","","","","","","",""]
[null,null,null,null,null,null,null,null,null,"","","","","","","","","","","","","","","","","","","","","","","","","",""]
[null,null,null,null,null,null,null,null,null,"","","","","","","","","","","","","","","","","","","","","","","","","",""]
[null,null,null,null,null,null,null,null,null,"","","","","","","","","","","","","","","","","","","","","","","","","",""]
[null,null,null,null,null,null,null,null,null,"","","","","","","","","","","","","","","","","","","","","","","","","",""]
[null,null,null,null,null,null,null,null,null,"","","","","","","","","","","","","","","","","","","","","","","","","",""]
[null,null,null,null,null,null,null,null,null,"","","","","","","","","","","","","","","","","","","","","","","","","",""]
[null,null,null,null,null,null,null,null,null,"","","","","","","","","","","","","","","","","","","","","","","","","",""]
[null,null,null,null,null,null,null,null,null,"","","","","","","","","","","","","","","","","","","","","","","","","",""]
[null,null,null,null,null,null,null,null,null,"","","","","","","","","","","","","","","","","","","","","","","","","",""]
[null,null,null,null,null,null,null,null,null,"","","","","","","","","","","","","","","","","","","","","","","","","",""]
[null,null,null,null,null,null,null,null,null,{"$f":"IF(I131=\"\",\"\",E131+G131)","v":""},{"$f":"IF(I131=\"\",\"\",F131+H131)","v":""},{"$f":"IF(I131=\"\",\"\",IF(I131=\"Дома\",J131,K131))","v":""},{"$f":"IF(I131=\"\",\"\",IF(I131=\"Дома\",K131,J131))","v":""},"",{"$f":"IF(I131=\"\",\"\",O130+1)","v":""},"","","","","",{"$f":"IF(I131=\"\",\"\",P131*3+Q131)","v":""},"","","","","","","","","","","","","",""]
[null,null,null,null,null,null,null,null,null,"","","","","","",{"$f":"IF(I132=\"\",\"\",IF(N132=\"В\",P131+1,P131))","v":""},{"$f":"IF(I132=\"\",\"\",IF(N132=\"Н\",Q131+1,Q131))","v":""},{"$f":"IF(I132=\"\",\"\",IF(N132=\"П\",R131+1,R131))","v":""},{"$f":"IF(I132=\"\",\"\",S131+L132)","v":""},{"$f":"IF(I132=\"\",\"\",T131+M132)","v":""},"",{"$f":"IF(I132=\"\",\"\",IF(I132=\"Дома\",V131+1,V131+0))","v":""},{"$f":"IF(I132=\"\",\"\",IF(I132=\"Дома\",IF(N132=\"В\",W131+1,W131),W131))","v":""},{"$f":"IF(I132=\"\",\"\",IF(I132=\"Дома\",IF(N132=\"Н\",X131+1,X131),X131))","v":""},{"$f":"IF(I132=\"\",\"\",IF(I132=\"Дома\",IF(N132=\"П\",Y131+1,Y131),Y131))","v":""},{"$f":"IF(I132=\"\",\"\",IF(I132=\"Дома\",L132+Z131,Z131))","v":""},{"$f":"IF(I132=\"\",\"\",IF(I132=\"Дома\",M132+AA131,AA131))","v":""},{"$f":"IF(I132=\"\",\"\",IF(I132=\"Дома\",W132*3+X132,AB131))","v":""},{"$f":"IF(I132=\"\",\"\",IF(I132=\"Гости\",AC131+1,AC131+0))","v":""},{"$f":"IF(I132=\"\",\"\",IF(I132=\"Гости\",IF(N132=\"В\",AD131+1,AD131),AD131))","v":""},{"$f":"IF(I132=\"\",\"\",IF(I132=\"Гости\",IF(N132=\"Н\",AE131+1,AE131),AE131))","v":""},{"$f":"IF(I132=\"\",\"\",IF(I132=\"Гости\",IF(N132=\"П\",AF131+1,AF131),AF131))","v":""},{"$f":"IF(I132=\"\",\"\",IF(I132=\"Гости\",L132+AG131,AG131))","v":""},{"$f":"IF(I132=\"\",\"\",IF(I132=\"Гости\",M132+AH131,AH131))","v":""},{"$f":"IF(I132=\"\",\"\",IF(I132=\"Гости\",AD132*3+AE132,AI131))","v":""}]
[null,null,null,null,null,null,null,null,null,"","","","","","","","","","","","","","","","","","","","","","","","","",""]
[null,null,null,null,null,null,null,null,null,"","","","","","","","","","","","","","","","","","","","","","","","","",""]
[null,null,null,null,null,null,null,null,null,"","","","","","","","","","","","","","","","","","","","","","","","","",""]
[null,null,null,null,null,null,null,null,null,"","","","","","","","","","","","","","","","","","","","","","","","","",""]
[null,null,null,null,null,null,null,null,null,"","","","","","","","","","","","","","","","","","","","","","","","","",""]
[null,null,null,null,null,null,null,null,null,"","","","",{"$f":"IF(I138=\"\",\"\",IF(I138=\"Дома\",IF(J138>K138,\"В\",IF(J138=K138,\"Н\",\"П\")),IF(J138<K138,\"В\",IF(J138=K138,\"Н\",\"П\"))))","v":""},"","","","","","","","","","","","","","","","","","","","",""]
[null,null,null,null,null,null,null,null,null,"","","","","","","","","","","","","","","","","","","","","","","","","",""]
[null,null,null,null,null,null,null,null,null,"","","","","","","","","","","","","","","","","","","","","","","","","",""]
[null,null,null,null,null,null,null,null,null,"","","","","","","","","","","","","","","","","","","","","","","","","",""]
[null,null,null,null,null,null,null,null,null,"","","","","","","","","","","","","","","","","","","","","","","","","",""]
[null,null,null,null,null,null,null,null,null,"","","","","","","","","","","","","","","","","","","","","","","","","",""]
[null,null,null,null,null,null,null,null,null,"","","","","","","","","","","","","","","","","","","","","","","","","",""]
[null,null,null,null,null,null,null,null,null,"","","","","","","","","","","","","","","","","","","","","","","","","",""]
[null,null,null,null,null,null,null,null,null,"","","","","","","","","","","","","","","","","","","","","","","","","",""]
[null,null,null,null,null,null,null,null,null,"","","","","","","","","","","","","","","","","","","","","","","","","",""]
[null,null,null,null,null,null,null,null,null,"","","","","","","","","","","","","","","","","","","","","","","","","",""]
[null,null,null,null,null,null,null,null,null,"","","","","","","","","","","","","","","","","","","","","","","","","",""]
[null,null,null,null,null,null,null,null,null,"","","","","","","","","","","","","","","","","","","","","","","","","",""]

{"sheet":"ГостиГости","index":15,"n_rows":150,"n_cols":35,"rows_kept":150,"cut":false,"hidden":true,"merged":[]}
["Чемпионат","Дата/Время","Дома","Гости","К1 в 1Т","К2 в 1Т","К1 во 2Т","К2 во 2Т","Где играли","К1 Голов","К2 Голов","Забито","Пропущено","Результат","Всего Игр","Всего выиграно","Всего ничьих","Всего проиграно","Всего забито","Всего пропущено","Всего очков","Дома игр","Дома выиграно","Дома ничьих","Дома проиграно","Дома забито","Дома пропущено","Дома очков","Гости игр","Гости выиграно","Гости ничьих","Гости проиграно","Гости забито","Гости пропущено","Гости очков"]
["СЕРБИЯ: Первая лига","2022.03.27 17:00","Жарково","Нови Белград",1,1,1,1,"Гости",{"$f":"IF(I2=\"\",\"\",E2+G2)","v":2},{"$f":"IF(I2=\"\",\"\",F2+H2)","v":2},{"$f":"IF(I2=\"\",\"\",IF(I2=\"Дома\",J2,K2))","v":2},{"$f":"IF(I2=\"\",\"\",IF(I2=\"Дома\",K2,J2))","v":2},{"$f":"IF(I2=\"\",\"\",IF(I2=\"Дома\",IF(J2>K2,\"В\",IF(J2=K2,\"Н\",\"П\")),IF(J2<K2,\"В\",IF(J2=K2,\"Н\",\"П\"))))","v":"Н"},{"$f":"IF(I2=\"\",\"\",1)","v":1},{"$f":"IF(I2=\"\",\"\",IF(N2=\"В\",1,0))","v":0},{"$f":"IF(I2=\"\",\"\",IF(N2=\"Н\",1,0))","v":1},{"$f":"IF(I2=\"\",\"\",IF(N2=\"П\",1,0))","v":0},{"$f":"IF(I2=\"\",\"\",L2)","v":2},{"$f":"IF(I2=\"\",\"\",M2)","v":2},{"$f":"IF(I2=\"\",\"\",P2*3+Q2)","v":1},{"$f":"IF(I2=\"\",\"\",IF(I2=\"Дома\",1,0))","v":0},{"$f":"IF(I2=\"\",\"\",IF(I2=\"Дома\",IF(N2=\"В\",1,0),0))","v":0},{"$f":"IF(I2=\"\",\"\",IF(I2=\"Дома\",IF(N2=\"Н\",1,0),0))","v":0},{"$f":"IF(I2=\"\",\"\",IF(I2=\"Дома\",IF(N2=\"П\",1,0),0))","v":0},{"$f":"IF(I2=\"\",\"\",IF(I2=\"Дома\",L2,0))","v":0},{"$f":"IF(I2=\"\",\"\",IF(I2=\"Дома\",M2,0))","v":0},{"$f":"IF(I2=\"\",\"\",IF(I2=\"Дома\",W2*3+X2,0))","v":0},{"$f":"IF(I2=\"\",\"\",IF(I2=\"Гости\",1,0))","v":1},{"$f":"IF(I2=\"\",\"\",IF(I2=\"Гости\",IF(N2=\"В\",1,0),0))","v":0},{"$f":"IF(I2=\"\",\"\",IF(I2=\"Гости\",IF(N2=\"Н\",1,0),0))","v":1},{"$f":"IF(I2=\"\",\"\",IF(I2=\"Гости\",IF(N2=\"П\",1,0),0))","v":0},{"$f":"IF(I2=\"\",\"\",IF(I2=\"Гости\",L2,0))","v":2},{"$f":"IF(I2=\"\",\"\",IF(I2=\"Гости\",M2,0))","v":2},{"$f":"IF(I2=\"\",\"\",IF(I2=\"Гости\",AD2*3+AE2,0))","v":1}]
["СЕРБИЯ: Первая лига","2022.03.19 17:00","Явор Иваница","Нови Белград",1,0,0,2,"Гости",{"$f":"IF(I3=\"\",\"\",E3+G3)","v":1},{"$f":"IF(I3=\"\",\"\",F3+H3)","v":2},{"$f":"IF(I3=\"\",\"\",IF(I3=\"Дома\",J3,K3))","v":2},{"$f":"IF(I3=\"\",\"\",IF(I3=\"Дома\",K3,J3))","v":1},{"$f":"IF(I3=\"\",\"\",IF(I3=\"Дома\",IF(J3>K3,\"В\",IF(J3=K3,\"Н\",\"П\")),IF(J3<K3,\"В\",IF(J3=K3,\"Н\",\"П\"))))","v":"В"},{"$f":"IF(I3=\"\",\"\",O2+1)","v":2},{"$f":"IF(I3=\"\",\"\",IF(N3=\"В\",P2+1,P2))","v":1},{"$f":"IF(I3=\"\",\"\",IF(N3=\"Н\",Q2+1,Q2))","v":1},{"$f":"IF(I3=\"\",\"\",IF(N3=\"П\",R2+1,R2))","v":0},{"$f":"IF(I3=\"\",\"\",S2+L3)","v":4},{"$f":"IF(I3=\"\",\"\",T2+M3)","v":3},{"$f":"IF(I3=\"\",\"\",P3*3+Q3)","v":4},{"$f":"IF(I3=\"\",\"\",IF(I3=\"Дома\",V2+1,V2+0))","v":0},{"$f":"IF(I3=\"\",\"\",IF(I3=\"Дома\",IF(N3=\"В\",W2+1,W2),W2))","v":0},{"$f":"IF(I3=\"\",\"\",IF(I3=\"Дома\",IF(N3=\"Н\",X2+1,X2),X2))","v":0},{"$f":"IF(I3=\"\",\"\",IF(I3=\"Дома\",IF(N3=\"П\",Y2+1,Y2),Y2))","v":0},{"$f":"IF(I3=\"\",\"\",IF(I3=\"Дома\",L3+Z2,Z2))","v":0},{"$f":"IF(I3=\"\",\"\",IF(I3=\"Дома\",M3+AA2,AA2))","v":0},{"$f":"IF(I3=\"\",\"\",IF(I3=\"Дома\",W3*3+X3,AB2))","v":0},{"$f":"IF(I3=\"\",\"\",IF(I3=\"Гости\",AC2+1,AC2+0))","v":2},{"$f":"IF(I3=\"\",\"\",IF(I3=\"Гости\",IF(N3=\"В\",AD2+1,AD2),AD2))","v":1},{"$f":"IF(I3=\"\",\"\",IF(I3=\"Гости\",IF(N3=\"Н\",AE2+1,AE2),AE2))","v":1},{"$f":"IF(I3=\"\",\"\",IF(I3=\"Гости\",IF(N3=\"П\",AF2+1,AF2),AF2))","v":0},{"$f":"IF(I3=\"\",\"\",IF(I3=\"Гости\",L3+AG2,AG2))","v":4},{"$f":"IF(I3=\"\",\"\",IF(I3=\"Гости\",M3+AH2,AH2))","v":3},{"$f":"IF(I3=\"\",\"\",IF(I3=\"Гости\",AD3*3+AE3,AI2))","v":4}]
["СЕРБИЯ: Первая лига","2022.02.27 15:00","Железничар Панчево","Нови Белград",1,1,0,1,"Гости",1,2,2,1,"В",3,{"$f":"IF(I4=\"\",\"\",IF(N4=\"В\",P3+1,P3))","v":2},{"$f":"IF(I4=\"\",\"\",IF(N4=\"Н\",Q3+1,Q3))","v":1},{"$f":"IF(I4=\"\",\"\",IF(N4=\"П\",R3+1,R3))","v":0},{"$f":"IF(I4=\"\",\"\",S3+L4)","v":6},{"$f":"IF(I4=\"\",\"\",T3+M4)","v":4},7,{"$f":"IF(I4=\"\",\"\",IF(I4=\"Дома\",V3+1,V3+0))","v":0},{"$f":"IF(I4=\"\",\"\",IF(I4=\"Дома\",IF(N4=\"В\",W3+1,W3),W3))","v":0},{"$f":"IF(I4=\"\",\"\",IF(I4=\"Дома\",IF(N4=\"Н\",X3+1,X3),X3))","v":0},{"$f":"IF(I4=\"\",\"\",IF(I4=\"Дома\",IF(N4=\"П\",Y3+1,Y3),Y3))","v":0},{"$f":"IF(I4=\"\",\"\",IF(I4=\"Дома\",L4+Z3,Z3))","v":0},{"$f":"IF(I4=\"\",\"\",IF(I4=\"Дома\",M4+AA3,AA3))","v":0},{"$f":"IF(I4=\"\",\"\",IF(I4=\"Дома\",W4*3+X4,AB3))","v":0},{"$f":"IF(I4=\"\",\"\",IF(I4=\"Гости\",AC3+1,AC3+0))","v":3},{"$f":"IF(I4=\"\",\"\",IF(I4=\"Гости\",IF(N4=\"В\",AD3+1,AD3),AD3))","v":2},{"$f":"IF(I4=\"\",\"\",IF(I4=\"Гости\",IF(N4=\"Н\",AE3+1,AE3),AE3))","v":1},{"$f":"IF(I4=\"\",\"\",IF(I4=\"Гости\",IF(N4=\"П\",AF3+1,AF3),AF3))","v":0},{"$f":"IF(I4=\"\",\"\",IF(I4=\"Гости\",L4+AG3,AG3))","v":6},{"$f":"IF(I4=\"\",\"\",IF(I4=\"Гости\",M4+AH3,AH3))","v":4},{"$f":"IF(I4=\"\",\"\",IF(I4=\"Гости\",AD4*3+AE4,AI3))","v":7}]
["СЕРБИЯ: Первая лига","2021.11.29 15:00","Младость ГАТ","Нови Белград",1,0,0,1,"Гости",1,1,1,1,"Н",4,2,2,0,7,5,8,0,0,0,0,0,0,0,4,2,2,0,7,5,8]
["СЕРБИЯ: Первая лига","2021.11.10 15:00","Златибор","Нови Белград",0,0,0,0,"Гости",0,0,0,0,"Н",5,2,3,0,7,5,9,0,0,0,0,0,0,0,5,2,3,0,7,5,9]
["СЕРБИЯ: Первая лига","2021.10.24 18:00","Мачва","Нови Белград",1,0,0,1,"Гости",1,1,1,1,"Н",6,2,4,0,8,6,10,0,0,0,0,0,0,0,6,2,4,0,8,6,10]
["СЕРБИЯ: Первая лига","2021.10.10 16:00","Инджия","Нови Белград",1,0,3,0,"Гости",4,0,0,4,"П",7,2,4,1,8,10,10,0,0,0,0,0,0,0,7,2,4,1,8,10,10]
["СЕРБИЯ: Первая лига","2021.10.02 16:00","Рад","Нови Белград",1,0,0,0,"Гости",1,0,0,1,{"$f":"IF(I9=\"\",\"\",IF(I9=\"Дома\",IF(J9>K9,\"В\",IF(J9=K9,\"Н\",\"П\")),IF(J9<K9,\"В\",IF(J9=K9,\"Н\",\"П\"))))","v":"П"},8,2,4,2,8,11,10,0,0,0,0,0,0,0,8,2,4,2,8,11,10]
["СЕРБИЯ: Первая лига","2021.09.22 17:00","Кабель Нови-Сад","Нови Белград",0,2,0,1,"Гости",0,3,3,0,{"$f":"IF(I10=\"\",\"\",IF(I10=\"Дома\",IF(J10>K10,\"В\",IF(J10=K10,\"Н\",\"П\")),IF(J10<K10,\"В\",IF(J10=K10,\"Н\",\"П\"))))","v":"В"},9,3,4,2,11,11,13,0,0,0,0,0,0,0,9,3,4,2,11,11,13]
["СЕРБИЯ: Первая лига","2021.09.12 17:30","Будучность Добановичи","Нови Белград",2,0,0,3,"Гости",2,3,3,2,"В",10,4,4,2,14,13,16,0,0,0,0,0,0,0,10,4,4,2,14,13,16]
["СЕРБИЯ: Первая лига","2021.08.28 18:00","Сремска-Митровица","Нови Белград",1,0,0,2,"Гости",1,2,2,1,"В",11,5,4,2,16,14,{"$f":"IF(I12=\"\",\"\",P12*3+Q12)","v":19},0,0,0,0,0,0,0,11,5,4,2,16,14,19]
["СЕРБИЯ: Первая лига","2021.08.22 18:30","Тимок","Нови Белград",0,1,1,0,"Гости",1,1,1,1,"Н",12,5,5,2,17,15,20,0,0,0,0,0,0,0,12,5,5,2,17,15,20]
["СЕРБИЯ: Первая лига","2021.08.08 21:00","Бачка","Нови Белград",1,0,0,0,"Гости",1,0,0,1,"П",13,5,5,3,17,16,20,0,0,0,0,0,0,0,13,5,5,3,17,16,20]
["СЕРБИЯ: Первая лига","2021.05.15 18:00","Дубочица","Нови Белград",1,0,0,0,"Гости",1,0,0,1,"П",14,5,5,4,17,17,20,0,0,0,0,0,0,0,14,5,5,4,17,17,20]
["СЕРБИЯ: Первая лига","2021.05.05 18:00","Ягодина","Нови Белград",0,2,0,1,"Гости",0,3,3,0,"В",15,6,5,4,20,17,23,0,0,0,0,0,0,0,15,6,5,4,20,17,23]
["СЕРБИЯ: Первая лига","2021.04.25 17:30","Траял Крушевац","Нови Белград",1,2,1,1,"Гости",2,3,3,2,"В",16,7,5,4,23,19,26,0,0,0,0,0,0,0,16,7,5,4,23,19,26]
["СЕРБИЯ: Первая лига","2021.04.12 17:00","Лозница","Нови Белград",0,0,1,2,"Гости",1,2,2,1,"В",17,8,5,4,25,20,29,0,0,0,0,0,0,0,17,8,5,4,25,20,29]
["СЕРБИЯ: Первая лига","2021.04.03 17:00","Борац","Нови Белград",1,0,0,1,"Гости",1,1,1,1,"Н",18,8,6,4,26,21,30,0,0,0,0,0,0,0,18,8,6,4,26,21,30]
["СЕРБИЯ: Кубок Сербии","2021.03.30 17:00","Црвена Звезда","Нови Белград",3,0,0,0,"Гости",3,0,0,3,"П",19,8,6,5,26,24,30,0,0,0,0,0,0,0,19,8,6,5,26,24,30]
[null,null,null,null,null,null,null,null,null,"","","","","","","","","","","","","","","","","","","","","","","","","",""]
[null,null,null,null,null,null,null,null,null,"","","","","","","","","","","","","","","","","","","","","","","","","",""]
[null,null,null,null,null,null,null,null,null,"","","","","","","","","","","","","","","","","","","","","","","","","",""]
[null,null,null,null,null,null,null,null,null,"","","","","","","","","","","","","","","","","","","","","","","","","",""]
[null,null,null,null,null,null,null,null,null,"","","","","","","","","","","","","","","","","","","","","","","","","",""]
[null,null,null,null,null,null,null,null,null,"","","","","","","","","","","","","","","","","","","","","","","","","",""]
[null,null,null,null,null,null,null,null,null,"","","","","","","","","","","","","","","","","","","","","","","","","",""]
[null,null,null,null,null,null,null,null,null,"","","","","","","","","","","","","","","","","","","","","","","","","",""]
[null,null,null,null,null,null,null,null,null,"","","","","","","","","","","","","","","","","","","","","","","","","",""]
[null,null,null,null,null,null,null,null,null,"","","","","","","","","","","","","","","","","","","","","","","","","",""]
[null,null,null,null,null,null,null,null,null,"","","","","","","","","","","","","","","","","","","","","","","","","",""]
[null,null,null,null,null,null,null,null,null,"","","","","","","","","","","","","","","","","","","","","","","","","",""]
[null,null,null,null,null,null,null,null,null,"","","","","","","","","","","","","","","","","","","","","","","","","",""]
[null,null,null,null,null,null,null,null,null,"","","","","","","","","","","","","","","","","","","","","","","","","",""]
[null,null,null,null,null,null,null,null,null,"","","","","","","","","","","","","","","","","","","","","","","","","",""]
[null,null,null,null,null,null,null,null,null,"","","","","","","","","","","","","","","","","","","","","","","","","",""]
[null,null,null,null,null,null,null,null,null,"","","","","","","","","","","","","","","","","","","","","","","","","",""]
[null,null,null,null,null,null,null,null,null,"","","","","","","","","","","","","","","","","","","","","","","","","",""]
[null,null,null,null,null,null,null,null,null,"","","","","","","","","","","","","","","","","","","","","","","","","",""]
[null,null,null,null,null,null,null,null,null,"","","","","","","","","","","","","","","","","","","","","","","","","",""]
[null,null,null,null,null,null,null,null,null,"","","","","","","","","","","","","","","","","","","","","","","","","",""]
[null,null,null,null,null,null,null,null,null,"","","","","","","","","","","","","","","","","","","","","","","","","",""]
[null,null,null,null,null,null,null,null,null,"","","","","","","","","","","","","","","","","","","","","","","","","",""]
[null,null,null,null,null,null,null,null,null,"","","","","","","","","","","","","","","","","","","","","","","","","",""]
[null,null,null,null,null,null,null,null,null,"","","","","","","","","","","","","","","","","","","","","","","","","",""]
[null,null,null,null,null,null,null,null,null,"","","","","","","","","","","","","","","","","","","","","","","","","",""]
[null,null,null,null,null,null,null,null,null,"","","","","","","","","","","","","","","","","","","","","","","","","",""]
[null,null,null,null,null,null,null,null,null,"","","","","","","","","","","","","","","","","","","","","","","","","",""]
[null,null,null,null,null,null,null,null,null,"","","","","","","","","","","","","","","","","","","","","","","","","",""]
[null,null,null,null,null,null,null,null,null,"","","","","","","","","","","","","","","","","","","","","","","","","",""]
[null,null,null,null,null,null,null,null,null,"","","","","","","","","","","","","","","","","","","","","","","","","",""]
[null,null,null,null,null,null,null,null,null,"","","","","","","","","","","","","","","","","","","","","","","","","",""]
[null,null,null,null,null,null,null,null,null,"","","","","","","","","","","","","","","","","","","","","","","","","",""]
[null,null,null,null,null,null,null,null,null,"","","","","","","","","","","","","","","","","","","","","","","","","",""]
[null,null,null,null,null,null,null,null,null,"","","","","","","","","","","","","","","","","","","","","","","","","",""]
[null,null,null,null,null,null,null,null,null,"","","","","","","","","","","","","","","","","","","","","","","","","",""]
[null,null,null,null,null,null,null,null,null,"","","","","","","","","","","","","","","","","","","","","","","","","",""]
[null,null,null,null,null,null,null,null,null,"","","","","","","","","","","","","","","","","","","","","","","","","",""]
[null,null,null,null,null,null,null,null,null,"","","","","","","","","","","","","","","","","","","","","","","","","",""]
[null,null,null,null,null,null,null,null,null,"","","","","","","","","","","","","","","","","","","","","","","","","",""]
[null,null,null,null,null,null,null,null,null,"","","","","","","","","","","","","","","","","","","","","","","","","",""]
[null,null,null,null,null,null,null,null,null,"","","","","","","","","","","","","","","","","","","","","","","","","",""]
[null,null,null,null,null,null,null,null,null,"","","","","","","","","","","","","","","","","","","","","","","","","",""]
[null,null,null,null,null,null,null,null,null,"","","","","","","","","","","","","","","","","","","","","","","","","",""]
[null,null,null,null,null,null,null,null,null,"","","","","","","","","","","","","","","","","","","","","","","","","",""]
[null,null,null,null,null,null,null,null,null,"","","","","","","","","","","","","","","","","","","","","","","","","",""]
[null,null,null,null,null,null,null,null,null,{"$f":"IF(I67=\"\",\"\",E67+G67)","v":""},{"$f":"IF(I67=\"\",\"\",F67+H67)","v":""},{"$f":"IF(I67=\"\",\"\",IF(I67=\"Дома\",J67,K67))","v":""},{"$f":"IF(I67=\"\",\"\",IF(I67=\"Дома\",K67,J67))","v":""},"",{"$f":"IF(I67=\"\",\"\",O66+1)","v":""},"","","","","",{"$f":"IF(I67=\"\",\"\",P67*3+Q67)","v":""},"","","","","","","","","","","","","",""]
[null,null,null,null,null,null,null,null,null,"","","","","","",{"$f":"IF(I68=\"\",\"\",IF(N68=\"В\",P67+1,P67))","v":""},{"$f":"IF(I68=\"\",\"\",IF(N68=\"Н\",Q67+1,Q67))","v":""},{"$f":"IF(I68=\"\",\"\",IF(N68=\"П\",R67+1,R67))","v":""},{"$f":"IF(I68=\"\",\"\",S67+L68)","v":""},{"$f":"IF(I68=\"\",\"\",T67+M68)","v":""},"",{"$f":"IF(I68=\"\",\"\",IF(I68=\"Дома\",V67+1,V67+0))","v":""},{"$f":"IF(I68=\"\",\"\",IF(I68=\"Дома\",IF(N68=\"В\",W67+1,W67),W67))","v":""},{"$f":"IF(I68=\"\",\"\",IF(I68=\"Дома\",IF(N68=\"Н\",X67+1,X67),X67))","v":""},{"$f":"IF(I68=\"\",\"\",IF(I68=\"Дома\",IF(N68=\"П\",Y67+1,Y67),Y67))","v":""},{"$f":"IF(I68=\"\",\"\",IF(I68=\"Дома\",L68+Z67,Z67))","v":""},{"$f":"IF(I68=\"\",\"\",IF(I68=\"Дома\",M68+AA67,AA67))","v":""},{"$f":"IF(I68=\"\",\"\",IF(I68=\"Дома\",W68*3+X68,AB67))","v":""},{"$f":"IF(I68=\"\",\"\",IF(I68=\"Гости\",AC67+1,AC67+0))","v":""},{"$f":"IF(I68=\"\",\"\",IF(I68=\"Гости\",IF(N68=\"В\",AD67+1,AD67),AD67))","v":""},{"$f":"IF(I68=\"\",\"\",IF(I68=\"Гости\",IF(N68=\"Н\",AE67+1,AE67),AE67))","v":""},{"$f":"IF(I68=\"\",\"\",IF(I68=\"Гости\",IF(N68=\"П\",AF67+1,AF67),AF67))","v":""},{"$f":"IF(I68=\"\",\"\",IF(I68=\"Гости\",L68+AG67,AG67))","v":""},{"$f":"IF(I68=\"\",\"\",IF(I68=\"Гости\",M68+AH67,AH67))","v":""},{"$f":"IF(I68=\"\",\"\",IF(I68=\"Гости\",AD68*3+AE68,AI67))","v":""}]
[null,null,null,null,null,null,null,null,null,"","","","","","","","","","","","","","","","","","","","","","","","","",""]
[null,null,null,null,null,null,null,null,null,"","","","","","","","","","","","","","","","","","","","","","","","","",""]
[null,null,null,null,null,null,null,null,null,"","","","","","","","","","","","","","","","","","","","","","","","","",""]
[null,null,null,null,null,null,null,null,null,"","","","","","","","","","","","","","","","","","","","","","","","","",""]
[null,null,null,null,null,null,null,null,null,"","","","","","","","","","","","","","","","","","","","","","","","","",""]
[null,null,null,null,null,null,null,null,null,"","","","",{"$f":"IF(I74=\"\",\"\",IF(I74=\"Дома\",IF(J74>K74,\"В\",IF(J74=K74,\"Н\",\"П\")),IF(J74<K74,\"В\",IF(J74=K74,\"Н\",\"П\"))))","v":""},"","","","","","","","","","","","","","","","","","","","",""]
[null,null,null,null,null,null,null,null,null,"","","","","","","","","","","","","","","","","","","","","","","","","",""]
[null,null,null,null,null,null,null,null,null,"","","","","","","","","","","","","","","","","","","","","","","","","",""]
[null,null,null,null,null,null,null,null,null,"","","","","","","","","","","","","","","","","","","","","","","","","",""]
[null,null,null,null,null,null,null,null,null,"","","","","","","","","","","","","","","","","","","","","","","","","",""]
[null,null,null,null,null,null,null,null,null,"","","","","","","","","","","","","","","","","","","","","","","","","",""]
[null,null,null,null,null,null,null,null,null,"","","","","","","","","","","","","","","","","","","","","","","","","",""]
[null,null,null,null,null,null,null,null,null,"","","","","","","","","","","","","","","","","","","","","","","","","",""]
[null,null,null,null,null,null,null,null,null,"","","","","","","","","","","","","","","","","","","","","","","","","",""]
[null,null,null,null,null,null,null,null,null,"","","","","","","","","","","","","","","","","","","","","","","","","",""]
[null,null,null,null,null,null,null,null,null,"","","","","","","","","","","","","","","","","","","","","","","","","",""]
[null,null,null,null,null,null,null,null,null,"","","","","","","","","","","","","","","","","","","","","","","","","",""]
[null,null,null,null,null,null,null,null,null,"","","","","","","","","","","","","","","","","","","","","","","","","",""]
[null,null,null,null,null,null,null,null,null,"","","","","","","","","","","","","","","","","","","","","","","","","",""]
[null,null,null,null,null,null,null,null,null,"","","","","","","","","","","","","","","","","","","","","","","","","",""]
[null,null,null,null,null,null,null,null,null,"","","","","","","","","","","","","","","","","","","","","","","","","",""]
[null,null,null,null,null,null,null,null,null,"","","","","","","","","","","","","","","","","","","","","","","","","",""]
[null,null,null,null,null,null,null,null,null,"","","","","","","","","","","","","","","","","","","","","","","","","",""]
[null,null,null,null,null,null,null,null,null,"","","","","","","","","","","","","","","","","","","","","","","","","",""]
[null,null,null,null,null,null,null,null,null,"","","","","","","","","","","","","","","","","","","","","","","","","",""]
[null,null,null,null,null,null,null,null,null,"","","","","","","","","","","","","","","","","","","","","","","","","",""]
[null,null,null,null,null,null,null,null,null,"","","","","","","","","","","","","","","","","","","","","","","","","",""]
[null,null,null,null,null,null,null,null,null,"","","","","","","","","","","","","","","","","","","","","","","","","",""]
[null,null,null,null,null,null,null,null,null,"","","","","","","","","","","","","","","","","","","","","","","","","",""]
[null,null,null,null,null,null,null,null,null,"","","","","","","","","","","","","","","","","","","","","","","","","",""]
[null,null,null,null,null,null,null,null,null,"","","","","","","","","","","","","","","","","","","","","","","","","",""]
[null,null,null,null,null,null,null,null,null,"","","","","","","","","","","","","","","","","","","","","","","","","",""]
[null,null,null,null,null,null,null,null,null,"","","","","","","","","","","","","","","","","","","","","","","","","",""]
[null,null,null,null,null,null,null,null,null,"","","","","","","","","","","","","","","","","","","","","","","","","",""]
[null,null,null,null,null,null,null,null,null,"","","","","","","","","","","","","","","","","","","","","","","","","",""]
[null,null,null,null,null,null,null,null,null,"","","","","","","","","","","","","","","","","","","","","","","","","",""]
[null,null,null,null,null,null,null,null,null,"","","","","","","","","","","","","","","","","","","","","","","","","",""]
[null,null,null,null,null,null,null,null,null,"","","","","","","","","","","","","","","","","","","","","","","","","",""]
[null,null,null,null,null,null,null,null,null,"","","","","","","","","","","","","","","","","","","","","","","","","",""]
[null,null,null,null,null,null,null,null,null,"","","","","","","","","","","","","","","","","","","","","","","","","",""]
[null,null,null,null,null,null,null,null,null,"","","","","","","","","","","","","","","","","","","","","","","","","",""]
[null,null,null,null,null,null,null,null,null,"","","","","","","","","","","","","","","","","","","","","","","","","",""]
[null,null,null,null,null,null,null,null,null,"","","","","","","","","","","","","","","","","","","","","","","","","",""]
[null,null,null,null,null,null,null,null,null,"","","","","","","","","","","","","","","","","","","","","","","","","",""]
[null,null,null,null,null,null,null,null,null,"","","","","","","","","","","","","","","","","","","","","","","","","",""]
[null,null,null,null,null,null,null,null,null,"","","","","","","","","","","","","","","","","","","","","","","","","",""]
[null,null,null,null,null,null,null,null,null,"","","","","","","","","","","","","","","","","","","","","","","","","",""]
[null,null,null,null,null,null,null,null,null,"","","","","","","","","","","","","","","","","","","","","","","","","",""]
[null,null,null,null,null,null,null,null,null,"","","","","","","","","","","","","","","","","","","","","","","","","",""]
[null,null,null,null,null,null,null,null,null,"","","","","","","","","","","","","","","","","","","","","","","","","",""]
[null,null,null,null,null,null,null,null,null,"","","","","","","","","","","","","","","","","","","","","","","","","",""]
[null,null,null,null,null,null,null,null,null,"","","","","","","","","","","","","","","","","","","","","","","","","",""]
[null,null,null,null,null,null,null,null,null,"","","","","","","","","","","","","","","","","","","","","","","","","",""]
[null,null,null,null,null,null,null,null,null,"","","","","","","","","","","","","","","","","","","","","","","","","",""]
[null,null,null,null,null,null,null,null,null,"","","","","","","","","","","","","","","","","","","","","","","","","",""]
[null,null,null,null,null,null,null,null,null,"","","","","","","","","","","","","","","","","","","","","","","","","",""]
[null,null,null,null,null,null,null,null,null,"","","","","","","","","","","","","","","","","","","","","","","","","",""]
[null,null,null,null,null,null,null,null,null,"","","","","","","","","","","","","","","","","","","","","","","","","",""]
[null,null,null,null,null,null,null,null,null,"","","","","","","","","","","","","","","","","","","","","","","","","",""]
[null,null,null,null,null,null,null,null,null,"","","","","","","","","","","","","","","","","","","","","","","","","",""]
[null,null,null,null,null,null,null,null,null,"","","","","","","","","","","","","","","","","","","","","","","","","",""]
[null,null,null,null,null,null,null,null,null,"","","","","","","","","","","","","","","","","","","","","","","","","",""]
[null,null,null,null,null,null,null,null,null,{"$f":"IF(I131=\"\",\"\",E131+G131)","v":""},{"$f":"IF(I131=\"\",\"\",F131+H131)","v":""},{"$f":"IF(I131=\"\",\"\",IF(I131=\"Дома\",J131,K131))","v":""},{"$f":"IF(I131=\"\",\"\",IF(I131=\"Дома\",K131,J131))","v":""},"",{"$f":"IF(I131=\"\",\"\",O130+1)","v":""},"","","","","",{"$f":"IF(I131=\"\",\"\",P131*3+Q131)","v":""},"","","","","","","","","","","","","",""]
[null,null,null,null,null,null,null,null,null,"","","","","","",{"$f":"IF(I132=\"\",\"\",IF(N132=\"В\",P131+1,P131))","v":""},{"$f":"IF(I132=\"\",\"\",IF(N132=\"Н\",Q131+1,Q131))","v":""},{"$f":"IF(I132=\"\",\"\",IF(N132=\"П\",R131+1,R131))","v":""},{"$f":"IF(I132=\"\",\"\",S131+L132)","v":""},{"$f":"IF(I132=\"\",\"\",T131+M132)","v":""},"",{"$f":"IF(I132=\"\",\"\",IF(I132=\"Дома\",V131+1,V131+0))","v":""},{"$f":"IF(I132=\"\",\"\",IF(I132=\"Дома\",IF(N132=\"В\",W131+1,W131),W131))","v":""},{"$f":"IF(I132=\"\",\"\",IF(I132=\"Дома\",IF(N132=\"Н\",X131+1,X131),X131))","v":""},{"$f":"IF(I132=\"\",\"\",IF(I132=\"Дома\",IF(N132=\"П\",Y131+1,Y131),Y131))","v":""},{"$f":"IF(I132=\"\",\"\",IF(I132=\"Дома\",L132+Z131,Z131))","v":""},{"$f":"IF(I132=\"\",\"\",IF(I132=\"Дома\",M132+AA131,AA131))","v":""},{"$f":"IF(I132=\"\",\"\",IF(I132=\"Дома\",W132*3+X132,AB131))","v":""},{"$f":"IF(I132=\"\",\"\",IF(I132=\"Гости\",AC131+1,AC131+0))","v":""},{"$f":"IF(I132=\"\",\"\",IF(I132=\"Гости\",IF(N132=\"В\",AD131+1,AD131),AD131))","v":""},{"$f":"IF(I132=\"\",\"\",IF(I132=\"Гости\",IF(N132=\"Н\",AE131+1,AE131),AE131))","v":""},{"$f":"IF(I132=\"\",\"\",IF(I132=\"Гости\",IF(N132=\"П\",AF131+1,AF131),AF131))","v":""},{"$f":"IF(I132=\"\",\"\",IF(I132=\"Гости\",L132+AG131,AG131))","v":""},{"$f":"IF(I132=\"\",\"\",IF(I132=\"Гости\",M132+AH131,AH131))","v":""},{"$f":"IF(I132=\"\",\"\",IF(I132=\"Гости\",AD132*3+AE132,AI131))","v":""}]
[null,null,null,null,null,null,null,null,null,"","","","","","","","","","","","","","","","","","","","","","","","","",""]
[null,null,null,null,null,null,null,null,null,"","","","","","","","","","","","","","","","","","","","","","","","","",""]
[null,null,null,null,null,null,null,null,null,"","","","","","","","","","","","","","","","","","","","","","","","","",""]
[null,null,null,null,null,null,null,null,null,"","","","","","","","","","","","","","","","","","","","","","","","","",""]
[null,null,null,null,null,null,null,null,null,"","","","","","","","","","","","","","","","","","","","","","","","","",""]
[null,null,null,null,null,null,null,null,null,"","","","",{"$f":"IF(I138=\"\",\"\",IF(I138=\"Дома\",IF(J138>K138,\"В\",IF(J138=K138,\"Н\",\"П\")),IF(J138<K138,\"В\",IF(J138=K138,\"Н\",\"П\"))))","v":""},"","","","","","","","","","","","","","","","","","","","",""]
[null,null,null,null,null,null,null,null,null,"","","","","","","","","","","","","","","","","","","","","","","","","",""]
[null,null,null,null,null,null,null,null,null,"","","","","","","","","","","","","","","","","","","","","","","","","",""]
[null,null,null,null,null,null,null,null,null,"","","","","","","","","","","","","","","","","","","","","","","","","",""]
[null,null,null,null,null,null,null,null,null,"","","","","","","","","","","","","","","","","","","","","","","","","",""]
[null,null,null,null,null,null,null,null,null,"","","","","","","","","","","","","","","","","","","","","","","","","",""]
[null,null,null,null,null,null,null,null,null,"","","","","","","","","","","","","","","","","","","","","","","","","",""]
[null,null,null,null,null,null,null,null,null,"","","","","","","","","","","","","","","","","","","","","","","","","",""]
[null,null,null,null,null,null,null,null,null,"","","","","","","","","","","","","","","","","","","","","","","","","",""]
[null,null,null,null,null,null,null,null,null,"","","","","","","","","","","","","","","","","","","","","","","","","",""]
[null,null,null,null,null,null,null,null,null,"","","","","","","","","","","","","","","","","","","","","","","","","",""]
[null,null,null,null,null,null,null,null,null,"","","","","","","","","","","","","","","","","","","","","","","","","",""]
[null,null,null,null,null,null,null,null,null,"","","","","","","","","","","","","","","","","","","","","","","","","",""]

{"sheet":"Очные","index":16,"n_rows":153,"n_cols":34,"rows_kept":153,"cut":false,"hidden":false,"merged":[]}
["Жарково","Нови Белград",null,null,null,null,"Результат К1","Забито К1","Пропущено К1","Выиграно К1","Ничьих К1","Проиграно К1","РезультатК2","Забито К2","Пропущено К2","Выиграно К2","Ничьих К2","Пропущено К2","ХОЗЯЕВА","Д","Заб","Проп","Г","Заб","Проп","ГОСТИ","Д","Заб","Проп","Г","Заб","Проп"]
["Сербия: Первая лига","2022.03.27 17:00","Жарково","Нови Белград",2,2,{"$f":"IF(A2=\"\",\"\",IF(A1=C2,IF(E2>F2,\"В\",IF(E2=F2,\"Н\",\"П\")),IF(E2<F2,\"В\",IF(E2=F2,\"Н\",\"П\"))))","v":"Н"},{"$f":"IF(A2=\"\",\"\",IF(A1=C2,E2,F2))","v":2},{"$f":"IF(A2=\"\",\"\",IF(A1=C2,F2,E2))","v":2},{"$f":"IF(A2=\"\",\"\",IF(G2=\"В\",1,0))","v":0},{"$f":"IF(A2=\"\",\"\",IF(G2=\"Н\",1,0))","v":1},{"$f":"IF(A2=\"\",\"\",IF(G2=\"П\",1,0))","v":0},{"$f":"IF(A2=\"\",\"\",IF(B1=D2,IF(F2>E2,\"В\",IF(F2=E2,\"Н\",\"П\")),IF(F2<E2,\"В\",IF(F2=E2,\"Н\",\"П\"))))","v":"Н"},{"$f":"IF(A2=\"\",\"\",IF(B1=D2,F2,E2))","v":2},{"$f":"IF(A2=\"\",\"\",IF(B1=D2,E2,F2))","v":2},{"$f":"IF(A2=\"\",\"\",IF(M2=\"В\",1,0))","v":0},{"$f":"IF(A2=\"\",\"\",IF(M2=\"Н\",1,0))","v":1},{"$f":"IF(A2=\"\",\"\",IF(M2=\"П\",1,0))","v":0},{"$f":"IF(A2=\"\",\"\",IF(C2=$A$1,\"Дома\",IF(D2=$A$1,\"Гости\",\"\")))","v":"Дома"},{"$f":"IF(S2=\"Дома\",G2,\"\")","v":"Н"},{"$f":"IF(S2=\"Дома\",E2,\"\")","v":2},{"$f":"IF(S2=\"Дома\",F2,\"\")","v":2},{"$f":"IF(S2=\"Гости\",G2,\"\")","v":""},{"$f":"IF(S2=\"Гости\",F2,\"\")","v":""},{"$f":"IF(S2=\"Гости\",E2,\"\")","v":""},{"$f":"IF(A2=\"\",\"\",IF(D2=$A$1,\"Дома\",IF(C2=$A$1,\"Гости\",\"\")))","v":"Гости"},{"$f":"IF(Z2=\"Дома\",M2,\"\")","v":""},{"$f":"IF(Z2=\"Дома\",E2,\"\")","v":""},{"$f":"IF(Z2=\"Дома\",F2,\"\")","v":""},{"$f":"IF(Z2=\"Гости\",M2,\"\")","v":"Н"},{"$f":"IF(Z2=\"Гости\",F2,\"\")","v":2},{"$f":"IF(Z2=\"Гости\",E2,\"\")","v":2},{"$f":"IF(S2=\"\",\"\",IF(S2=\"Дома\",E2,F2))","v":2},{"$f":"IF(S2=\"\",\"\",IF(S2=\"Дома\",F2,E2))","v":2}]
["Сербия: Первая лига","2021.10.18 16:00","Нови Белград","Жарково",0,1,{"$f":"IF(A3=\"\",\"\",IF($A$1=C3,IF(E3>F3,\"В\",IF(E3=F3,\"Н\",\"П\")),IF(E3<F3,\"В\",IF(E3=F3,\"Н\",\"П\"))))","v":"В"},{"$f":"IF(A3=\"\",\"\",IF($A$1=C3,E3+H2,F3+H2))","v":3},{"$f":"IF(A3=\"\",\"\",IF($A$1=C3,F3+I2,E3+I2))","v":2},{"$f":"IF(A3=\"\",\"\",IF(G3=\"В\",1+J2,0+J2))","v":1},{"$f":"IF(A3=\"\",\"\",IF(G3=\"Н\",1+K2,0+K2))","v":1},{"$f":"IF(A3=\"\",\"\",IF(G3=\"П\",1+L2,0+L2))","v":0},{"$f":"IF(A3=\"\",\"\",IF($B$1=D3,IF(F3>E3,\"В\",IF(F3=E3,\"Н\",\"П\")),IF(F3<E3,\"В\",IF(F3=E3,\"Н\",\"П\"))))","v":"П"},{"$f":"IF(A3=\"\",\"\",IF($B$1=D3,F3+N2,E3+N2))","v":2},{"$f":"IF(A3=\"\",\"\",IF($B$1=D3,E3+O2,F3+O2))","v":3},{"$f":"IF(A3=\"\",\"\",IF(M3=\"В\",1+P2,0+P2))","v":0},{"$f":"IF(A3=\"\",\"\",IF(M3=\"Н\",1+Q2,0+Q2))","v":1},{"$f":"IF(A3=\"\",\"\",IF(M3=\"П\",1+R2,0+R2))","v":1},{"$f":"IF(A3=\"\",\"\",IF(C3=$A$1,\"Дома\",IF(D3=$A$1,\"Гости\",\"\")))","v":"Гости"},{"$f":"IF(S3=\"Дома\",G3,\"\")","v":""},{"$f":"IF(S3=\"Дома\",E3,\"\")","v":""},{"$f":"IF(S3=\"Дома\",F3,\"\")","v":""},{"$f":"IF(S3=\"Гости\",G3,\"\")","v":"В"},{"$f":"IF(S3=\"Гости\",F3,\"\")","v":1},{"$f":"IF(S3=\"Гости\",E3,\"\")","v":0},{"$f":"IF(A3=\"\",\"\",IF(D3=$A$1,\"Дома\",IF(C3=$A$1,\"Гости\",\"\")))","v":"Дома"},{"$f":"IF(Z3=\"Дома\",M3,\"\")","v":"П"},{"$f":"IF(Z3=\"Дома\",E3,\"\")","v":0},{"$f":"IF(Z3=\"Дома\",F3,\"\")","v":1},{"$f":"IF(Z3=\"Гости\",M3,\"\")","v":""},{"$f":"IF(Z3=\"Гости\",F3,\"\")","v":""},{"$f":"IF(Z3=\"Гости\",E3,\"\")","v":""},{"$f":"IF(S3=\"\",\"\",IF(S3=\"Дома\",E3,F3))","v":1},{"$f":"IF(S3=\"\",\"\",IF(S3=\"Дома\",F3,E3))","v":0}]
["Сербия: Первая лига","2021.03.27 17:00","Нови Белград","Жарково",1,0,"П",3,3,{"$f":"IF(A4=\"\",\"\",IF(G4=\"В\",1+J3,0+J3))","v":1},{"$f":"IF(A4=\"\",\"\",IF(G4=\"Н\",1+K3,0+K3))","v":1},{"$f":"IF(A4=\"\",\"\",IF(G4=\"П\",1+L3,0+L3))","v":1},{"$f":"IF(A4=\"\",\"\",IF($B$1=D4,IF(F4>E4,\"В\",IF(F4=E4,\"Н\",\"П\")),IF(F4<E4,\"В\",IF(F4=E4,\"Н\",\"П\"))))","v":"В"},{"$f":"IF(A4=\"\",\"\",IF($B$1=D4,F4+N3,E4+N3))","v":3},{"$f":"IF(A4=\"\",\"\",IF($B$1=D4,E4+O3,F4+O3))","v":3},{"$f":"IF(A4=\"\",\"\",IF(M4=\"В\",1+P3,0+P3))","v":1},{"$f":"IF(A4=\"\",\"\",IF(M4=\"Н\",1+Q3,0+Q3))","v":1},{"$f":"IF(A4=\"\",\"\",IF(M4=\"П\",1+R3,0+R3))","v":1},"Гости","","","","П",0,1,"Дома","В",1,0,"","","",0,1]
["Сербия: Первая лига","2020.09.23 17:00","Жарково","Нови Белград",1,3,"П",4,6,1,1,2,"В",6,4,2,1,1,"Дома","П",1,3,"","","","Гости","","","","В",3,1,1,3]
[null,null,null,null,null,null,"","","","","","","","","","","","","","","","","","","","","","","","","","","",""]
[null,null,null,null,null,null,"","","","","","","","","","","","","","","","","","","","","","","","","",""]
[null,null,null,null,null,null,"","",{"$f":"IF(A8=\"\",\"\",IF($A$1=C8,F8+I7,E8+I7))","v":""},"","","","","","","","","","","","","","","","","","","","","","",""]
[null,null,null,null,null,null,"","","","","","","","","","","","","","","","","","","","","","","","","",""]
[null,null,null,null,null,null,"","","","","","","","","","","","","","","","","","","","","","","","","",""]
[null,null,null,null,null,null,"","","","","","","","","","","","","","","","","","","","","","","","","",""]
[null,null,null,null,null,null,"","","","","","","","","","","","","","","","","","","","","","","","","",""]
[null,null,null,null,null,null,"","","","","","","","","","","","","","","","","","","","","","","","","",""]
[null,null,null,null,null,null,"","","","","","","","","","","","","","","","","","","","","","","","","",""]
[null,null,null,null,null,null,"","","","","","","","","","","","","","","","","","","","","","","","","",""]
[null,null,null,null,null,null,"","","","","","","","","","","","","","","","","","","","","","","","","",""]
[null,null,null,null,null,null,"","","","","","","","","","","","","","","","","","","","","","","","","",""]
[null,null,null,null,null,null,"","","","","","","","","","","","","","","","","","","","","","","","","",""]
[null,null,null,null,null,null,"","","","","","","","","","","","","","","","","","","","","","","","","",""]
[null,null,null,null,null,null,"","","","","","","","","","","","","","","","","","","","","","","","","",""]
[null,null,null,null,null,null,"","","","","","","","","","","","","","","","","","","","","","","","","",""]
[null,null,null,null,null,null,"","","","","","","","","","","","","","","","","","","","","","","","","",""]
[null,null,null,null,null,null,"","","","","","","","","","","","","","","","","","","","","","","","","",""]
[null,null,null,null,null,null,"","","","","","","","","","","","","","","","","","","","","","","","","",""]
[null,null,null,null,null,null,"","","","","","","","","","","","","","","","","","","","","","","","","",""]
[null,null,null,null,null,null,"","","","","","","","","","","","","","","","","","","","","","","","","",""]
[null,null,null,null,null,null,"","","","","","","","","","","","","","","","","","","","","","","","","",""]
[null,null,null,null,null,null,"","","","","","","","","","","","","","","","","","","","","","","","","",""]
[null,null,null,null,null,null,"","","","","","","","","","","","","","","","","","","","","","","","","",""]
[null,null,null,null,null,null,"","","","","","","","","","","","","","","","","","","","","","","","","",""]
[null,null,null,null,null,null,"","","","","","","","","","","","","","","","","","","","","","","","","",""]
[null,null,null,null,null,null,"","","","","","","","","","","","","","","","","","","","","","","","","",""]
[null,null,null,null,null,null,"","","","","","","","","","","","","","","","","","","","","","","","","",""]
[null,null,null,null,null,null,"","","","","","","","","","","","","","","","","","","","","","","","","",""]
[null,null,null,null,null,null,{"$f":"IF(A35=\"\",\"\",IF($A$1=C35,IF(E35>F35,\"В\",IF(E35=F35,\"Н\",\"П\")),IF(E35<F35,\"В\",IF(E35=F35,\"Н\",\"П\"))))","v":""},{"$f":"IF(A35=\"\",\"\",IF($A$1=C35,E35+H34,F35+H34))","v":""},{"$f":"IF(A35=\"\",\"\",IF($A$1=C35,F35+I34,E35+I34))","v":""},"","","","","","","","","","","","","","","","","","","","","","",""]
[null,null,null,null,null,null,"","","","","","","","","","","","","","","","","","","","","","","","","",""]
[null,null,null,null,null,null,"","","","","","","","","","","","","","","","","","","","","","","","","",""]
[null,null,null,null,null,null,"","","","","","","","","","","","","","","","","","","","","","","","","",""]
[null,null,null,null,null,null,"","","","","","","","","","","","","","","","","","","","","","","","","",""]
[null,null,null,null,null,null,"","","","","","","","","","","","","","","","","","","","","","","","","",""]
[null,null,null,null,null,null,"","","","","","","","","","","","","","","","","","","","","","","","","",""]
[null,null,null,null,null,null,"","","","","","","","","","","","","","","","","","","","","","","","","",""]
[null,null,null,null,null,null,"","","","","","","","","","","","","","","","","","","","","","","","","",""]
[null,null,null,null,null,null,"","","","","","","","","","","","","","","","","","","","","","","","","",""]
[null,null,null,null,null,null,"","","","","","","","","","","","","","","","","","","","","","","","","",""]
[null,null,null,null,null,null,"","","","","","","","","","","","","","","","","","","","","","","","","",""]
[null,null,null,null,null,null,"","","","","","","","","","","","","","","","","","","","","","","","","",""]
[null,null,null,null,null,null,"","","","","","","","","","","","","","","","","","","","","","","","","",""]
[null,null,null,null,null,null,"","","","","","","","","","","","","","","","","","","","","","","","","",""]
[null,null,null,null,null,null,"","","","","","","","","","","","","","","","","","","","","","","","","",""]
[null,null,null,null,null,null,"","","","","","","","","","","","","","","","","","","","","","","","","",""]
[null,null,null,null,null,null,"","","","","","","","","","","","","","","","","","","","","","","","","",""]
[null,null,null,null,null,null,"","","","","","","","","","","","","","","","","","","","","","","","","",""]
[null,null,null,null,null,null,"","","","","","","","","","","","","","","","","","","","","","","","","",""]
[null,null,null,null,null,null,"","","","","","","","","","","","","","","","","","","","","","","","","",""]
[null,null,null,null,null,null,"","","","","","","","","","","","","","","","","","","","","","","","","",""]
[null,null,null,null,null,null,"","","","","","","","","","","","","","","","","","","","","","","","","",""]
[null,null,null,null,null,null,"","","","","","","","","","","","","","","","","","","","","","","","","",""]
[null,null,null,null,null,null,"","","","","","","","","","","","","","","","","","","","","","","","","",""]
[null,null,null,null,null,null,"","","","","","","","","","","","","","","","","","","","","","","","","",""]
[null,null,null,null,null,null,"","","","","","","","","","","","","","","","","","","","","","","","","",""]
[null,null,null,null,null,null,"","","","","","","","","","","","","","","","","","","","","","","","","",""]
[null,null,null,null,null,null,"","","","","","","","","","","","","","","","","","","","","","","","","",""]
[null,null,null,null,null,null,"","","","","","","","","","","","","","","","","","","","","","","","","",""]
[null,null,null,null,null,null,"","","","","","","","","","","","","","","","","","","","","","","","","",""]
[null,null,null,null,null,null,"","","","","","","","","","","","","","","","","","","","","","","","","",""]
[null,null,null,null,null,null,{"$f":"IF(A67=\"\",\"\",IF($A$1=C67,IF(E67>F67,\"В\",IF(E67=F67,\"Н\",\"П\")),IF(E67<F67,\"В\",IF(E67=F67,\"Н\",\"П\"))))","v":""},{"$f":"IF(A67=\"\",\"\",IF($A$1=C67,E67+H66,F67+H66))","v":""},{"$f":"IF(A67=\"\",\"\",IF($A$1=C67,F67+I66,E67+I66))","v":""},"","","","","","","","","",{"$f":"IF(A67=\"\",\"\",IF(C67=$A$1,\"Дома\",IF(D67=$A$1,\"Гости\",\"\")))","v":""},{"$f":"IF(S67=\"Дома\",G67,\"\")","v":""},{"$f":"IF(S67=\"Дома\",E67,\"\")","v":""},{"$f":"IF(S67=\"Дома\",F67,\"\")","v":""},{"$f":"IF(S67=\"Гости\",G67,\"\")","v":""},{"$f":"IF(S67=\"Гости\",F67,\"\")","v":""},{"$f":"IF(S67=\"Гости\",E67,\"\")","v":""},{"$f":"IF(A67=\"\",\"\",IF(D67=$A$1,\"Дома\",IF(C67=$A$1,\"Гости\",\"\")))","v":""},{"$f":"IF(Z67=\"Дома\",M67,\"\")","v":""},{"$f":"IF(Z67=\"Дома\",E67,\"\")","v":""},{"$f":"IF(Z67=\"Дома\",F67,\"\")","v":""},{"$f":"IF(Z67=\"Гости\",M67,\"\")","v":""},{"$f":"IF(Z67=\"Гости\",F67,\"\")","v":""},{"$f":"IF(Z67=\"Гости\",E67,\"\")","v":""}]
[null,null,null,null,null,null,"","","",{"$f":"IF(A68=\"\",\"\",IF(G68=\"В\",1+J67,0+J67))","v":""},{"$f":"IF(A68=\"\",\"\",IF(G68=\"Н\",1+K67,0+K67))","v":""},{"$f":"IF(A68=\"\",\"\",IF(G68=\"П\",1+L67,0+L67))","v":""},{"$f":"IF(A68=\"\",\"\",IF($B$1=D68,IF(F68>E68,\"В\",IF(F68=E68,\"Н\",\"П\")),IF(F68<E68,\"В\",IF(F68=E68,\"Н\",\"П\"))))","v":""},{"$f":"IF(A68=\"\",\"\",IF($B$1=D68,F68+N67,E68+N67))","v":""},{"$f":"IF(A68=\"\",\"\",IF($B$1=D68,E68+O67,F68+O67))","v":""},{"$f":"IF(A68=\"\",\"\",IF(M68=\"В\",1+P67,0+P67))","v":""},{"$f":"IF(A68=\"\",\"\",IF(M68=\"Н\",1+Q67,0+Q67))","v":""},{"$f":"IF(A68=\"\",\"\",IF(M68=\"П\",1+R67,0+R67))","v":""},"","","","","","","","","","","","","",""]
[null,null,null,null,null,null,"","","","","","","","","","","","","","","","","","","","","","","","","",""]
[null,null,null,null,null,null,"","","","","","","","","","","","","","","","","","","","","","","","","",""]
[null,null,null,null,null,null,"","","","","","","","","","","","","","","","","","","","","","","","","",""]
[null,null,null,null,null,null,"","","","","","","","","","","","","","","","","","","","","","","","","",""]
[null,null,null,null,null,null,"","","","","","","","","","","","","","","","","","","","","","","","","",""]
[null,null,null,null,null,null,"","","","","","","","","","","","","","","","","","","","","","","","","",""]
[null,null,null,null,null,null,"","","","","","","","","","","","","","","","","","","","","","","","","",""]
[null,null,null,null,null,null,"","","","","","","","","","","","","","","","","","","","","","","","","",""]
[null,null,null,null,null,null,"","","","","","","","","","","","","","","","","","","","","","","","","",""]
[null,null,null,null,null,null,"","","","","","","","","","","","","","","","","","","","","","","","","",""]
[null,null,null,null,null,null,"","","","","","","","","","","","","","","","","","","","","","","","","",""]
[null,null,null,null,null,null,"","","","","","","","","","","","","","","","","","","","","","","","","",""]
[null,null,null,null,null,null,"","","","","","","","","","","","","","","","","","","","","","","","","",""]
[null,null,null,null,null,null,"","","","","","","","","","","","","","","","","","","","","","","","","",""]
[null,null,null,null,null,null,"","","","","","","","","","","","","","","","","","","","","","","","","",""]
[null,null,null,null,null,null,"","","","","","","","","","","","","","","","","","","","","","","","","",""]
[null,null,null,null,null,null,"","","","","","","","","","","","","","","","","","","","","","","","","",""]
[null,null,null,null,null,null,"","","","","","","","","","","","","","","","","","","","","","","","","",""]
[null,null,null,null,null,null,"","","","","","","","","","","","","","","","","","","","","","","","","",""]
[null,null,null,null,null,null,"","","","","","","","","","","","","","","","","","","","","","","","","",""]
[null,null,null,null,null,null,"","","","","","","","","","","","","","","","","","","","","","","","","",""]
[null,null,null,null,null,null,"","","","","","","","","","","","","","","","","","","","","","","","","",""]
[null,null,null,null,null,null,"","","","","","","","","","","","","","","","","","","","","","","","","",""]
[null,null,null,null,null,null,"","","","","","","","","","","","","","","","","","","","","","","","","",""]
[null,null,null,null,null,null,"","","","","","","","","","","","","","","","","","","","","","","","","",""]
[null,null,null,null,null,null,"","","","","","","","","","","","","","","","","","","","","","","","","",""]
[null,null,null,null,null,null,"","","","","","","","","","","","","","","","","","","","","","","","","",""]
[null,null,null,null,null,null,"","","","","","","","","","","","","","","","","","","","","","","","","",""]
[null,null,null,null,null,null,"","","","","","","","","","","","","","","","","","","","","","","","","",""]
[null,null,null,null,null,null,"","","","","","","","","","","","","","","","","","","","","","","","","",""]
[null,null,null,null,null,null,{"$f":"IF(A99=\"\",\"\",IF($A$1=C99,IF(E99>F99,\"В\",IF(E99=F99,\"Н\",\"П\")),IF(E99<F99,\"В\",IF(E99=F99,\"Н\",\"П\"))))","v":""},{"$f":"IF(A99=\"\",\"\",IF($A$1=C99,E99+H98,F99+H98))","v":""},{"$f":"IF(A99=\"\",\"\",IF($A$1=C99,F99+I98,E99+I98))","v":""},"","","","","","","","","","","","","","","","","","","","","","",""]
[null,null,null,null,null,null,"","","","","","","","","","","","","","","","","","","","","","","","","",""]
[null,null,null,null,null,null,"","","","","","","","","","","","","","","","","","","","","","","","","",""]
[null,null,null,null,null,null,"","","","","","","","","","","","","","","","","","","","","","","","","",""]
[null,null,null,null,null,null,"","","","","","","","","","","","","","","","","","","","","","","","","",""]
[null,null,null,null,null,null,"","","","","","","","","","","","","","","","","","","","","","","","","",""]
[null,null,null,null,null,null,"","","","","","","","","","","","","","","","","","","","","","","","","",""]
[null,null,null,null,null,null,"","","","","","","","","","","","","","","","","","","","","","","","","",""]
[null,null,null,null,null,null,"","","","","","","","","","","","","","","","","","","","","","","","","",""]
[null,null,null,null,null,null,"","","","","","","","","","","","",{"$f":"IF(A108=\"\",\"\",IF(C108=$A$1,\"Дома\",IF(D108=$A$1,\"В Гостях\",\"\")))","v":""},"","","","","","","","","","","","",""]
[null,null,null,null,null,null,"","","","","","","","","","","","","","","","","","","","","","","","","",""]
[null,null,null,null,null,null,"","","","","","","","","","","","","","","","","","","","","","","","","",""]
[null,null,null,null,null,null,"","","","","","","","","","","","","","","","","","","","","","","","","",""]
[null,null,null,null,null,null,"","","","","","","","","","","","","","","","","","","","","","","","","",""]
[null,null,null,null,null,null,"","","","","","","","","","","","","","","","","","","","","","","","","",""]
[null,null,null,null,null,null,"","","","","","","","","","","","","","","","","","","","","","","","","",""]
[null,null,null,null,null,null,"","","","","","","","","","","","","","","","","","","","","","","","","",""]
[null,null,null,null,null,null,"","","","","","","","","","","","","","","","","","","","","","","","","",""]
[null,null,null,null,null,null,"","","","","","","","","","","","","","","","","","","","","","","","","",""]
[null,null,null,null,null,null,"","","","","","","","","","","","","","","","","","","","","","","","","",""]
[null,null,null,null,null,null,"","","","","","","","","","","","","","","","","","","","","","","","","",""]
[null,null,null,null,null,null,"","","","","","","","","","","","","","","","","","","","","","","","","",""]
[null,null,null,null,null,null,"","","","","","","","","","","","","","","","","","","","","","","","","",""]
[null,null,null,null,null,null,"","","","","","","","","","","","","","","","","","","","","","","","","",""]
[null,null,null,null,null,null,"","","","","","","","","","","","","","","","","","","","","","","","","",""]
[null,null,null,null,null,null,"","","","","","","","","","","","","","","","","","","","","","","","","",""]
[null,null,null,null,null,null,"","","","","","","","","","","","","","","","","","","","","","","","","",""]
[null,null,null,null,null,null,"","","","","","","","","","","","","","","","","","","","","","","","","",""]
[null,null,null,null,null,null,"","","","","","","","","","","","","","","","","","","","","","","","","",""]
[null,null,null,null,null,null,"","","","","","","","","","","","","","","","","","","","","","","","","",""]
[null,null,null,null,null,null,"","","","","","","","","","","","","","","","","","","","","","","","","",""]
[null,null,null,null,null,null,"","","","","","","","","","","","","","","","","","","","","","","","","",""]
[null,null,null,null,null,null,{"$f":"IF(A131=\"\",\"\",IF($A$1=C131,IF(E131>F131,\"В\",IF(E131=F131,\"Н\",\"П\")),IF(E131<F131,\"В\",IF(E131=F131,\"Н\",\"П\"))))","v":""},{"$f":"IF(A131=\"\",\"\",IF($A$1=C131,E131+H130,F131+H130))","v":""},{"$f":"IF(A131=\"\",\"\",IF($A$1=C131,F131+I130,E131+I130))","v":""},"","","","","","","","","",{"$f":"IF(A131=\"\",\"\",IF(C131=$A$1,\"Дома\",IF(D131=$A$1,\"В Гостях\",\"\")))","v":""},{"$f":"IF(S131=\"Дома\",G131,\"\")","v":""},{"$f":"IF(S131=\"Дома\",E131,\"\")","v":""},{"$f":"IF(S131=\"Дома\",F131,\"\")","v":""},{"$f":"IF(S131=\"Гости\",G131,\"\")","v":""},{"$f":"IF(S131=\"Гости\",F131,\"\")","v":""},{"$f":"IF(S131=\"Гости\",E131,\"\")","v":""},{"$f":"IF(A131=\"\",\"\",IF(D131=$A$1,\"Дома\",IF(C131=$A$1,\"Гости\",\"\")))","v":""},{"$f":"IF(Z131=\"Дома\",M131,\"\")","v":""},{"$f":"IF(Z131=\"Дома\",E131,\"\")","v":""},{"$f":"IF(Z131=\"Дома\",F131,\"\")","v":""},{"$f":"IF(Z131=\"Гости\",M131,\"\")","v":""},{"$f":"IF(Z131=\"Гости\",F131,\"\")","v":""},{"$f":"IF(Z131=\"Гости\",E131,\"\")","v":""}]
[null,null,null,null,null,null,"","","",{"$f":"IF(A132=\"\",\"\",IF(G132=\"В\",1+J131,0+J131))","v":""},{"$f":"IF(A132=\"\",\"\",IF(G132=\"Н\",1+K131,0+K131))","v":""},{"$f":"IF(A132=\"\",\"\",IF(G132=\"П\",1+L131,0+L131))","v":""},{"$f":"IF(A132=\"\",\"\",IF($B$1=D132,IF(F132>E132,\"В\",IF(F132=E132,\"Н\",\"П\")),IF(F132<E132,\"В\",IF(F132=E132,\"Н\",\"П\"))))","v":""},{"$f":"IF(A132=\"\",\"\",IF($B$1=D132,F132+N131,E132+N131))","v":""},{"$f":"IF(A132=\"\",\"\",IF($B$1=D132,E132+O131,F132+O131))","v":""},{"$f":"IF(A132=\"\",\"\",IF(M132=\"В\",1+P131,0+P131))","v":""},{"$f":"IF(A132=\"\",\"\",IF(M132=\"Н\",1+Q131,0+Q131))","v":""},{"$f":"IF(A132=\"\",\"\",IF(M132=\"П\",1+R131,0+R131))","v":""},"","","","","","","","","","","","","",""]
[null,null,null,null,null,null,"","","","","","","","","","","","","","","","","","","","","","","","","",""]
[null,null,null,null,null,null,"","","","","","","","","","","","","","","","","","","","","","","","","",""]
[null,null,null,null,null,null,"","","","","","","","","","","","","","","","","","","","","","","","","",""]
[null,null,null,null,null,null,"","","","","","","","","","","","","","","","","","","","","","","","","",""]
[null,null,null,null,null,null,"","","","","","","","","","","","","","","","","","","","","","","","","",""]
[null,null,null,null,null,null,"","","","","","","","","","","","","","","","","","","","","","","","","",""]
[null,null,null,null,null,null,"","","","","","","","","","","","","","","","","","","","","","","","","",""]
[null,null,null,null,null,null,"","","","","","","","","","","","","","","","","","","","","","","","","",""]
[null,null,null,null,null,null,"","","","","","","","","","","","","","","","","","","","","","","","","",""]
[null,null,null,null,null,null,"","","","","","","","","","","","","","","","","","","","","","","","","",""]
[null,null,null,null,null,null,"","","","","","","","","","","","","","","","","","","",{"$f":"IF(A143=\"\",\"\",IF(D143=$A$1,\"Дома\",IF(C143=$A$1,\"В Гостях\",\"\")))","v":""},"","","","","",""]
[null,null,null,null,null,null,"","","","","","","","","","","","","","","","","","","","","","","","","",""]
[null,null,null,null,null,null,"","","","","","","","","","","","","","","","","","","","","","","","","",""]
[null,null,null,null,null,null,"","","","","","","","","","","","","","","","","","","","","","","","","",""]
[null,null,null,null,null,null,"","","","","","","","","","","","","","","","","","","","","","","","","",""]
[null,null,null,null,null,null,"","","","","","","","","","","","","","","","","","","","","","","","","",""]
[null,null,null,null,null,null,"","","","","","","","","","","","","","","","","","","","","","","","","",""]
[null,null,null,null,null,null,"","","","","","","","","","","","","","","","","","","","","","","","","",""]
[null,null,null,null,null,null,null,null,null,null,null,null,null,null,null,null,null,null,null,null,null,null,"","","",null,null,null,null,"","",""]
[null,null,null,null,null,null,null,null,null,null,null,null,null,null,null,null,null,null,null,null,null,null,"","","",null,null,null,null,"","",""]
[null,null,null,null,null,null,null,null,null,null,null,null,null,null,null,null,null,null,null,null,null,null,"","","",null,null,null,null,"","",""]

{"sheet":"ОчныеДГ","index":17,"n_rows":150,"n_cols":18,"rows_kept":150,"cut":false,"hidden":false,"merged":[]}
["Жарково","Нови Белград",null,null,null,null,"Результат К1","Забито К1","Пропущено К1","Выиграно К1","Ничьих К1","Проиграно К1","РезультатК2","Забито К2","Пропущено К2","Выиграно К2","Ничьих К2","Пропущено К2"]
["Сербия: Первая лига","2022.03.27 17:00","Жарково","Нови Белград",2,2,{"$f":"IF(A2=\"\",\"\",IF($A$1=C2,IF(E2>F2,\"В\",IF(E2=F2,\"Н\",\"П\")),IF(E2<F2,\"В\",IF(E2=F2,\"Н\",\"П\"))))","v":"Н"},{"$f":"IF(A2=\"\",\"\",IF($A$1=C2,E2,F2))","v":2},{"$f":"IF(A2=\"\",\"\",IF($A$1=C2,F2,E2))","v":2},{"$f":"IF(A2=\"\",\"\",IF(G2=\"В\",1,0))","v":0},{"$f":"IF(A2=\"\",\"\",IF(G2=\"Н\",1,0))","v":1},{"$f":"IF(A2=\"\",\"\",IF(G2=\"П\",1,0))","v":0},{"$f":"IF(A2=\"\",\"\",IF(B1=D2,IF(F2>E2,\"В\",IF(F2=E2,\"Н\",\"П\")),IF(F2<E2,\"В\",IF(F2=E2,\"Н\",\"П\"))))","v":"Н"},{"$f":"IF(A2=\"\",\"\",IF(B1=D2,F2,E2))","v":2},{"$f":"IF(A2=\"\",\"\",IF(B1=D2,E2,F2))","v":2},{"$f":"IF(A2=\"\",\"\",IF(M2=\"В\",1,0))","v":0},{"$f":"IF(A2=\"\",\"\",IF(M2=\"Н\",1,0))","v":1},{"$f":"IF(A2=\"\",\"\",IF(M2=\"П\",1,0))","v":0}]
["Сербия: Первая лига","2020.09.23 17:00","Жарково","Нови Белград",1,3,"П",{"$f":"IF(A3=\"\",\"\",IF($A$1=C3,E3+H2,F3+H2))","v":3},{"$f":"IF(A3=\"\",\"\",IF($A$1=C3,F3+I2,E3+I2))","v":5},{"$f":"IF(A3=\"\",\"\",IF(G3=\"В\",1+J2,0+J2))","v":0},{"$f":"IF(A3=\"\",\"\",IF(G3=\"Н\",1+K2,0+K2))","v":1},{"$f":"IF(A3=\"\",\"\",IF(G3=\"П\",1+L2,0+L2))","v":1},{"$f":"IF(A3=\"\",\"\",IF($B$1=D3,IF(F3>E3,\"В\",IF(F3=E3,\"Н\",\"П\")),IF(F3<E3,\"В\",IF(F3=E3,\"Н\",\"П\"))))","v":"В"},{"$f":"IF(A3=\"\",\"\",IF($B$1=D3,F3+N2,E3+N2))","v":5},{"$f":"IF(A3=\"\",\"\",IF($B$1=D3,E3+O2,F3+O2))","v":3},{"$f":"IF(A3=\"\",\"\",IF(M3=\"В\",1+P2,0+P2))","v":1},{"$f":"IF(A3=\"\",\"\",IF(M3=\"Н\",1+Q2,0+Q2))","v":1},{"$f":"IF(A3=\"\",\"\",IF(M3=\"П\",1+R2,0+R2))","v":0}]
[null,null,null,null,null,null,"",{"$f":"IF(A4=\"\",\"\",IF($A$1=C4,E4+H3,F4+H3))","v":""},{"$f":"IF(A4=\"\",\"\",IF($A$1=C4,F4+I3,E4+I3))","v":""},{"$f":"IF(A4=\"\",\"\",IF(G4=\"В\",1+J3,0+J3))","v":""},{"$f":"IF(A4=\"\",\"\",IF(G4=\"Н\",1+K3,0+K3))","v":""},{"$f":"IF(A4=\"\",\"\",IF(G4=\"П\",1+L3,0+L3))","v":""},{"$f":"IF(A4=\"\",\"\",IF($B$1=D4,IF(F4>E4,\"В\",IF(F4=E4,\"Н\",\"П\")),IF(F4<E4,\"В\",IF(F4=E4,\"Н\",\"П\"))))","v":""},{"$f":"IF(A4=\"\",\"\",IF($B$1=D4,F4+N3,E4+N3))","v":""},{"$f":"IF(A4=\"\",\"\",IF($B$1=D4,E4+O3,F4+O3))","v":""},{"$f":"IF(A4=\"\",\"\",IF(M4=\"В\",1+P3,0+P3))","v":""},{"$f":"IF(A4=\"\",\"\",IF(M4=\"Н\",1+Q3,0+Q3))","v":""},{"$f":"IF(A4=\"\",\"\",IF(M4=\"П\",1+R3,0+R3))","v":""}]
[null,null,null,null,null,null,"","","","","","","","","","","",""]
[null,null,null,null,null,null,"","","","","","","","","","","",""]
[null,null,null,null,null,null,"","","",{"$f":"IF(A7=\"\",\"\",IF(G7=\"В\",1+J6,0+J6))","v":""},{"$f":"IF(A7=\"\",\"\",IF(G7=\"Н\",1+K6,0+K6))","v":""},{"$f":"IF(A7=\"\",\"\",IF(G7=\"П\",1+L6,0+L6))","v":""},{"$f":"IF(A7=\"\",\"\",IF($B$1=D7,IF(F7>E7,\"В\",IF(F7=E7,\"Н\",\"П\")),IF(F7<E7,\"В\",IF(F7=E7,\"Н\",\"П\"))))","v":""},{"$f":"IF(A7=\"\",\"\",IF($B$1=D7,F7+N6,E7+N6))","v":""},{"$f":"IF(A7=\"\",\"\",IF($B$1=D7,E7+O6,F7+O6))","v":""},{"$f":"IF(A7=\"\",\"\",IF(M7=\"В\",1+P6,0+P6))","v":""},{"$f":"IF(A7=\"\",\"\",IF(M7=\"Н\",1+Q6,0+Q6))","v":""},{"$f":"IF(A7=\"\",\"\",IF(M7=\"П\",1+R6,0+R6))","v":""}]
[null,null,null,null,null,null,"","","","","","","","","","","",""]
[null,null,null,null,null,null,"","","","","","","","","","","",""]
[null,null,null,null,null,null,"","","","","","","","","","","",""]
[null,null,null,null,null,null,"","","","","","","","","","","",""]
[null,null,null,null,null,null,"","","","","","","","","","","",""]
[null,null,null,null,null,null,"","","","","","","","","","","",""]
[null,null,null,null,null,null,"","","","","","","","","","","",""]
[null,null,null,null,null,null,"","","","","","","","","","","",""]
[null,null,null,null,null,null,"","","","","","","","","","","",""]
[null,null,null,null,null,null,"","","","","","","","","","","",""]
[null,null,null,null,null,null,"","","","","","","","","","","",""]
[null,null,null,null,null,null,"","","","","","","","","","","",""]
[null,null,null,null,null,null,"","","","","","","","","","","",""]
[null,null,null,null,null,null,"","","","","","","","","","","",""]
[null,null,null,null,null,null,"","","","","","","","","","","",""]
[null,null,null,null,null,null,"","","","","","","","","","","",""]
[null,null,null,null,null,null,"","","","","","","","","","","",""]
[null,null,null,null,null,null,"","","","","","","","","","","",""]
[null,null,null,null,null,null,"","","","","","","","","","","",""]
[null,null,null,null,null,null,"","","","","","","","","","","",""]
[null,null,null,null,null,null,"","","","","","","","","","","",""]
[null,null,null,null,null,null,"","","","","","","","","","","",""]
[null,null,null,null,null,null,"","","","","","","","","","","",""]
[null,null,null,null,null,null,"","","","","","","","","","","",""]
[null,null,null,null,null,null,"","","","","","","","","","","",""]
[null,null,null,null,null,null,"","","","","","","","","","","",""]
[null,null,null,null,null,null,{"$f":"IF(A34=\"\",\"\",IF($A$1=C34,IF(E34>F34,\"В\",IF(E34=F34,\"Н\",\"П\")),IF(E34<F34,\"В\",IF(E34=F34,\"Н\",\"П\"))))","v":""},"","","","","","","","","","",""]
[null,null,null,null,null,null,"","","","","","","","","","","",""]
[null,null,null,null,null,null,"","","","","","","","","","","",""]
[null,null,null,null,null,null,"","","","","","","","","","","",""]
[null,null,null,null,null,null,"","","","","","","","","","","",""]
[null,null,null,null,null,null,"","","","","","","","","","","",""]
[null,null,null,null,null,null,"","","","","","","","","","","",""]
[null,null,null,null,null,null,"","","","","","","","","","","",""]
[null,null,null,null,null,null,"","","","","","","","","","","",""]
[null,null,null,null,null,null,"","","","","","","","","","","",""]
[null,null,null,null,null,null,"","","","","","","","","","","",""]
[null,null,null,null,null,null,"","","","","","","","","","","",""]
[null,null,null,null,null,null,"","","","","","","","","","","",""]
[null,null,null,null,null,null,"","","","","","","","","","","",""]
[null,null,null,null,null,null,"","","","","","","","","","","",""]
[null,null,null,null,null,null,"","","","","","","","","","","",""]
[null,null,null,null,null,null,"","","","","","","","","","","",""]
[null,null,null,null,null,null,"","","","","","","","","","","",""]
[null,null,null,null,null,null,"","","","","","","","","","","",""]
[null,null,null,null,null,null,"","","","","","","","","","","",""]
[null,null,null,null,null,null,"","","","","","","","","","","",""]
[null,null,null,null,null,null,"","","","","","","","","","","",""]
[null,null,null,null,null,null,"","","","","","","","","","","",""]
[null,null,null,null,null,null,"","","","","","","","","","","",""]
[null,null,null,null,null,null,"","","","","","","","","","","",""]
[null,null,null,null,null,null,"","","","","","","","","","","",""]
[null,null,null,null,null,null,"","","","","","","","","","","",""]
[null,null,null,null,null,null,"","","","","","","","","","","",""]
[null,null,null,null,null,null,"","","","","","","","","","","",""]
[null,null,null,null,null,null,"","","","","","","","","","","",""]
[null,null,null,null,null,null,"","","","","","","","","","","",""]
[null,null,null,null,null,null,"","","","","","","","","","","",""]
[null,null,null,null,null,null,{"$f":"IF(A66=\"\",\"\",IF($A$1=C66,IF(E66>F66,\"В\",IF(E66=F66,\"Н\",\"П\")),IF(E66<F66,\"В\",IF(E66=F66,\"Н\",\"П\"))))","v":""},"","","","","","","","","","",""]
[null,null,null,null,null,null,"","","","","","","","","","","",""]
[null,null,null,null,null,null,"",{"$f":"IF(A68=\"\",\"\",IF($A$1=C68,E68+H67,F68+H67))","v":""},{"$f":"IF(A68=\"\",\"\",IF($A$1=C68,F68+I67,E68+I67))","v":""},"","","","","","","","",""]
[null,null,null,null,null,null,"","","","","","","","","","","",""]
[null,null,null,null,null,null,"","","","","","","","","","","",""]
[null,null,null,null,null,null,"","","",{"$f":"IF(A71=\"\",\"\",IF(G71=\"В\",1+J70,0+J70))","v":""},{"$f":"IF(A71=\"\",\"\",IF(G71=\"Н\",1+K70,0+K70))","v":""},{"$f":"IF(A71=\"\",\"\",IF(G71=\"П\",1+L70,0+L70))","v":""},{"$f":"IF(A71=\"\",\"\",IF($B$1=D71,IF(F71>E71,\"В\",IF(F71=E71,\"Н\",\"П\")),IF(F71<E71,\"В\",IF(F71=E71,\"Н\",\"П\"))))","v":""},{"$f":"IF(A71=\"\",\"\",IF($B$1=D71,F71+N70,E71+N70))","v":""},{"$f":"IF(A71=\"\",\"\",IF($B$1=D71,E71+O70,F71+O70))","v":""},{"$f":"IF(A71=\"\",\"\",IF(M71=\"В\",1+P70,0+P70))","v":""},{"$f":"IF(A71=\"\",\"\",IF(M71=\"Н\",1+Q70,0+Q70))","v":""},{"$f":"IF(A71=\"\",\"\",IF(M71=\"П\",1+R70,0+R70))","v":""}]
[null,null,null,null,null,null,"","","","","","","","","","","",""]
[null,null,null,null,null,null,"","","","","","","","","","","",""]
[null,null,null,null,null,null,"","","","","","","","","","","",""]
[null,null,null,null,null,null,"","","","","","","","","","","",""]
[null,null,null,null,null,null,"","","","","","","","","","","",""]
[null,null,null,null,null,null,"","","","","","","","","","","",""]
[null,null,null,null,null,null,"","","","","","","","","","","",""]
[null,null,null,null,null,null,"","","","","","","","","","","",""]
[null,null,null,null,null,null,"","","","","","","","","","","",""]
[null,null,null,null,null,null,"","","","","","","","","","","",""]
[null,null,null,null,null,null,"","","","","","","","","","","",""]
[null,null,null,null,null,null,"","","","","","","","","","","",""]
[null,null,null,null,null,null,"","","","","","","","","","","",""]
[null,null,null,null,null,null,"","","","","","","","","","","",""]
[null,null,null,null,null,null,"","","","","","","","","","","",""]
[null,null,null,null,null,null,"","","","","","","","","","","",""]
[null,null,null,null,null,null,"","","","","","","","","","","",""]
[null,null,null,null,null,null,"","","","","","","","","","","",""]
[null,null,null,null,null,null,"","","","","","","","","","","",""]
[null,null,null,null,null,null,"","","","","","","","","","","",""]
[null,null,null,null,null,null,"","","","","","","","","","","",""]
[null,null,null,null,null,null,"","","","","","","","","","","",""]
[null,null,null,null,null,null,"","","","","","","","","","","",""]
[null,null,null,null,null,null,"","","","","","","","","","","",""]
[null,null,null,null,null,null,"","","","","","","","","","","",""]
[null,null,null,null,null,null,"","","","","","","","","","","",""]
[null,null,null,null,null,null,{"$f":"IF(A98=\"\",\"\",IF($A$1=C98,IF(E98>F98,\"В\",IF(E98=F98,\"Н\",\"П\")),IF(E98<F98,\"В\",IF(E98=F98,\"Н\",\"П\"))))","v":""},"","","","","","","","","","",""]
[null,null,null,null,null,null,"","","","","","","","","","","",""]
[null,null,null,null,null,null,"","","","","","","","","","","",""]
[null,null,null,null,null,null,"","","","","","","","","","","",""]
[null,null,null,null,null,null,"","","","","","","","","","","",""]
[null,null,null,null,null,null,"","","","","","","","","","","",""]
[null,null,null,null,null,null,"","","","","","","","","","","",""]
[null,null,null,null,null,null,"","","","","","","","","","","",""]
[null,null,null,null,null,null,"","","","","","","","","","","",""]
[null,null,null,null,null,null,"","","","","","","","","","","",""]
[null,null,null,null,null,null,"","","","","","","","","","","",""]
[null,null,null,null,null,null,"","","","","","","","","","","",""]
[null,null,null,null,null,null,"","","","","","","","","","","",""]
[null,null,null,null,null,null,"","","","","","","","","","","",""]
[null,null,null,null,null,null,"","","","","","","","","","","",""]
[null,null,null,null,null,null,"","","","","","","","","","","",""]
[null,null,null,null,null,null,"","","","","","","","","","","",""]
[null,null,null,null,null,null,"","","","","","","","","","","",""]
[null,null,null,null,null,null,"","","","","","","","","","","",""]
[null,null,null,null,null,null,"","","","","","","","","","","",""]
[null,null,null,null,null,null,"","","","","","","","","","","",""]
[null,null,null,null,null,null,"","","","","","","","","","","",""]
[null,null,null,null,null,null,"","","","","","","","","","","",""]
[null,null,null,null,null,null,"","","","","","","","","","","",""]
[null,null,null,null,null,null,"","","","","","","","","","","",""]
[null,null,null,null,null,null,"","","","","","","","","","","",""]
[null,null,null,null,null,null,"","","","","","","","","","","",""]
[null,null,null,null,null,null,"","","","","","","","","","","",""]
[null,null,null,null,null,null,"","","","","","","","","","","",""]
[null,null,null,null,null,null,"","","","","","","","","","","",""]
[null,null,null,null,null,null,"","","","","","","","","","","",""]
[null,null,null,null,null,null,"","","","","","","","","","","",""]
[null,null,null,null,null,null,{"$f":"IF(A130=\"\",\"\",IF($A$1=C130,IF(E130>F130,\"В\",IF(E130=F130,\"Н\",\"П\")),IF(E130<F130,\"В\",IF(E130=F130,\"Н\",\"П\"))))","v":""},"","","","","","","","","","",""]
[null,null,null,null,null,null,"","","","","","","","","","","",""]
[null,null,null,null,null,null,"",{"$f":"IF(A132=\"\",\"\",IF($A$1=C132,E132+H131,F132+H131))","v":""},{"$f":"IF(A132=\"\",\"\",IF($A$1=C132,F132+I131,E132+I131))","v":""},"","","","","","","","",""]
[null,null,null,null,null,null,"","","","","","","","","","","",""]
[null,null,null,null,null,null,"","","","","","","","","","","",""]
[null,null,null,null,null,null,"","","",{"$f":"IF(A135=\"\",\"\",IF(G135=\"В\",1+J134,0+J134))","v":""},{"$f":"IF(A135=\"\",\"\",IF(G135=\"Н\",1+K134,0+K134))","v":""},{"$f":"IF(A135=\"\",\"\",IF(G135=\"П\",1+L134,0+L134))","v":""},{"$f":"IF(A135=\"\",\"\",IF($B$1=D135,IF(F135>E135,\"В\",IF(F135=E135,\"Н\",\"П\")),IF(F135<E135,\"В\",IF(F135=E135,\"Н\",\"П\"))))","v":""},{"$f":"IF(A135=\"\",\"\",IF($B$1=D135,F135+N134,E135+N134))","v":""},{"$f":"IF(A135=\"\",\"\",IF($B$1=D135,E135+O134,F135+O134))","v":""},{"$f":"IF(A135=\"\",\"\",IF(M135=\"В\",1+P134,0+P134))","v":""},{"$f":"IF(A135=\"\",\"\",IF(M135=\"Н\",1+Q134,0+Q134))","v":""},{"$f":"IF(A135=\"\",\"\",IF(M135=\"П\",1+R134,0+R134))","v":""}]
[null,null,null,null,null,null,"","","","","","","","","","","",""]
[null,null,null,null,null,null,"","","","","","","","","","","",""]
[null,null,null,null,null,null,"","","","","","","","","","","",""]
[null,null,null,null,null,null,"","","","","","","","","","","",""]
[null,null,null,null,null,null,"","","","","","","","","","","",""]
[null,null,null,null,null,null,"","","","","","","","","","","",""]
[null,null,null,null,null,null,"","","","","","","","","","","",""]
[null,null,null,null,null,null,"","","","","","","","","","","",""]
[null,null,null,null,null,null,"","","","","","","","","","","",""]
[null,null,null,null,null,null,"","","","","","","","","","","",""]
[null,null,null,null,null,null,"","","","","","","","","","","",""]
[null,null,null,null,null,null,"","","","","","","","","","","",""]
[null,null,null,null,null,null,"","","","","","","","","","","",""]
[null,null,null,null,null,null,"","","","","","","","","","","",""]
[null,null,null,null,null,null,"","","","","","","","","","","",""]

{"sheet":"ДомаГости","index":18,"n_rows":150,"n_cols":35,"rows_kept":150,"cut":false,"hidden":false,"merged":[]}
["Чемпионат","Дата/Время","Дома","Гости","К1 в 1Т","К2 в 1Т","К1 во 2Т","К2 во 2Т","Где играли","К1 Голов","К2 Голов","Забито","Пропущено","Результат","Всего Игр","Всего выиграно","Всего ничьих","Всего проиграно","Всего забито","Всего пропущено","Всего очков","Дома игр","Дома выиграно","Дома ничьих","Дома проиграно","Дома забито","Дома пропущено","Дома очков","Гости игр","Гости выиграно","Гости ничьих","Гости проиграно","Гости забито","Гости пропущено","Гости очков"]
["СЕРБИЯ: Первая лига","2022.03.23 17:00","Тимок","Жарково",0,0,0,0,"Гости",{"$f":"IF(I2=\"\",\"\",E2+G2)","v":0},{"$f":"IF(I2=\"\",\"\",F2+H2)","v":0},{"$f":"IF(I2=\"\",\"\",IF(I2=\"Дома\",J2,K2))","v":0},{"$f":"IF(I2=\"\",\"\",IF(I2=\"Дома\",K2,J2))","v":0},{"$f":"IF(I2=\"\",\"\",IF(I2=\"Дома\",IF(J2>K2,\"В\",IF(J2=K2,\"Н\",\"П\")),IF(J2<K2,\"В\",IF(J2=K2,\"Н\",\"П\"))))","v":"Н"},{"$f":"IF(I2=\"\",\"\",1)","v":1},{"$f":"IF(I2=\"\",\"\",IF(N2=\"В\",1,0))","v":0},{"$f":"IF(I2=\"\",\"\",IF(N2=\"Н\",1,0))","v":1},{"$f":"IF(I2=\"\",\"\",IF(N2=\"П\",1,0))","v":0},{"$f":"IF(I2=\"\",\"\",L2)","v":0},{"$f":"IF(I2=\"\",\"\",M2)","v":0},{"$f":"IF(I2=\"\",\"\",P2*3+Q2)","v":1},{"$f":"IF(I2=\"\",\"\",IF(I2=\"Дома\",1,0))","v":0},{"$f":"IF(I2=\"\",\"\",IF(I2=\"Дома\",IF(N2=\"В\",1,0),0))","v":0},{"$f":"IF(I2=\"\",\"\",IF(I2=\"Дома\",IF(N2=\"Н\",1,0),0))","v":0},{"$f":"IF(I2=\"\",\"\",IF(I2=\"Дома\",IF(N2=\"П\",1,0),0))","v":0},{"$f":"IF(I2=\"\",\"\",IF(I2=\"Дома\",L2,0))","v":0},{"$f":"IF(I2=\"\",\"\",IF(I2=\"Дома\",M2,0))","v":0},{"$f":"IF(I2=\"\",\"\",IF(I2=\"Дома\",W2*3+X2,0))","v":0},{"$f":"IF(I2=\"\",\"\",IF(I2=\"Гости\",1,0))","v":1},{"$f":"IF(I2=\"\",\"\",IF(I2=\"Гости\",IF(N2=\"В\",1,0),0))","v":0},{"$f":"IF(I2=\"\",\"\",IF(I2=\"Гости\",IF(N2=\"Н\",1,0),0))","v":1},{"$f":"IF(I2=\"\",\"\",IF(I2=\"Гости\",IF(N2=\"П\",1,0),0))","v":0},{"$f":"IF(I2=\"\",\"\",IF(I2=\"Гости\",L2,0))","v":0},{"$f":"IF(I2=\"\",\"\",IF(I2=\"Гости\",M2,0))","v":0},{"$f":"IF(I2=\"\",\"\",IF(I2=\"Гости\",AD2*3+AE2,0))","v":1}]
["СЕРБИЯ: Первая лига","2022.03.12 18:00","Бачка","Жарково",0,2,0,0,"Гости",{"$f":"IF(I3=\"\",\"\",E3+G3)","v":0},{"$f":"IF(I3=\"\",\"\",F3+H3)","v":2},{"$f":"IF(I3=\"\",\"\",IF(I3=\"Дома\",J3,K3))","v":2},{"$f":"IF(I3=\"\",\"\",IF(I3=\"Дома\",K3,J3))","v":0},{"$f":"IF(I3=\"\",\"\",IF(I3=\"Дома\",IF(J3>K3,\"В\",IF(J3=K3,\"Н\",\"П\")),IF(J3<K3,\"В\",IF(J3=K3,\"Н\",\"П\"))))","v":"В"},{"$f":"IF(I3=\"\",\"\",O2+1)","v":2},{"$f":"IF(I3=\"\",\"\",IF(N3=\"В\",P2+1,P2))","v":1},{"$f":"IF(I3=\"\",\"\",IF(N3=\"Н\",Q2+1,Q2))","v":1},{"$f":"IF(I3=\"\",\"\",IF(N3=\"П\",R2+1,R2))","v":0},{"$f":"IF(I3=\"\",\"\",S2+L3)","v":2},{"$f":"IF(I3=\"\",\"\",T2+M3)","v":0},{"$f":"IF(I3=\"\",\"\",P3*3+Q3)","v":4},{"$f":"IF(I3=\"\",\"\",IF(I3=\"Дома\",V2+1,V2+0))","v":0},{"$f":"IF(I3=\"\",\"\",IF(I3=\"Дома\",IF(N3=\"В\",W2+1,W2),W2))","v":0},{"$f":"IF(I3=\"\",\"\",IF(I3=\"Дома\",IF(N3=\"Н\",X2+1,X2),X2))","v":0},{"$f":"IF(I3=\"\",\"\",IF(I3=\"Дома\",IF(N3=\"П\",Y2+1,Y2),Y2))","v":0},{"$f":"IF(I3=\"\",\"\",IF(I3=\"Дома\",L3+Z2,Z2))","v":0},{"$f":"IF(I3=\"\",\"\",IF(I3=\"Дома\",M3+AA2,AA2))","v":0},{"$f":"IF(I3=\"\",\"\",IF(I3=\"Дома\",W3*3+X3,AB2))","v":0},{"$f":"IF(I3=\"\",\"\",IF(I3=\"Гости\",AC2+1,AC2+0))","v":2},{"$f":"IF(I3=\"\",\"\",IF(I3=\"Гости\",IF(N3=\"В\",AD2+1,AD2),AD2))","v":1},{"$f":"IF(I3=\"\",\"\",IF(I3=\"Гости\",IF(N3=\"Н\",AE2+1,AE2),AE2))","v":1},{"$f":"IF(I3=\"\",\"\",IF(I3=\"Гости\",IF(N3=\"П\",AF2+1,AF2),AF2))","v":0},{"$f":"IF(I3=\"\",\"\",IF(I3=\"Гости\",L3+AG2,AG2))","v":2},{"$f":"IF(I3=\"\",\"\",IF(I3=\"Гости\",M3+AH2,AH2))","v":0},{"$f":"IF(I3=\"\",\"\",IF(I3=\"Гости\",AD3*3+AE3,AI2))","v":4}]
["СЕРБИЯ: Первая лига","2022.03.02 19:00","Мачва","Жарково",0,0,0,2,"Гости",0,2,2,0,"В",3,{"$f":"IF(I4=\"\",\"\",IF(N4=\"В\",P3+1,P3))","v":2},{"$f":"IF(I4=\"\",\"\",IF(N4=\"Н\",Q3+1,Q3))","v":1},{"$f":"IF(I4=\"\",\"\",IF(N4=\"П\",R3+1,R3))","v":0},{"$f":"IF(I4=\"\",\"\",S3+L4)","v":4},{"$f":"IF(I4=\"\",\"\",T3+M4)","v":0},7,{"$f":"IF(I4=\"\",\"\",IF(I4=\"Дома\",V3+1,V3+0))","v":0},{"$f":"IF(I4=\"\",\"\",IF(I4=\"Дома\",IF(N4=\"В\",W3+1,W3),W3))","v":0},{"$f":"IF(I4=\"\",\"\",IF(I4=\"Дома\",IF(N4=\"Н\",X3+1,X3),X3))","v":0},{"$f":"IF(I4=\"\",\"\",IF(I4=\"Дома\",IF(N4=\"П\",Y3+1,Y3),Y3))","v":0},{"$f":"IF(I4=\"\",\"\",IF(I4=\"Дома\",L4+Z3,Z3))","v":0},{"$f":"IF(I4=\"\",\"\",IF(I4=\"Дома\",M4+AA3,AA3))","v":0},{"$f":"IF(I4=\"\",\"\",IF(I4=\"Дома\",W4*3+X4,AB3))","v":0},{"$f":"IF(I4=\"\",\"\",IF(I4=\"Гости\",AC3+1,AC3+0))","v":3},{"$f":"IF(I4=\"\",\"\",IF(I4=\"Гости\",IF(N4=\"В\",AD3+1,AD3),AD3))","v":2},{"$f":"IF(I4=\"\",\"\",IF(I4=\"Гости\",IF(N4=\"Н\",AE3+1,AE3),AE3))","v":1},{"$f":"IF(I4=\"\",\"\",IF(I4=\"Гости\",IF(N4=\"П\",AF3+1,AF3),AF3))","v":0},{"$f":"IF(I4=\"\",\"\",IF(I4=\"Гости\",L4+AG3,AG3))","v":4},{"$f":"IF(I4=\"\",\"\",IF(I4=\"Гости\",M4+AH3,AH3))","v":0},{"$f":"IF(I4=\"\",\"\",IF(I4=\"Гости\",AD4*3+AE4,AI3))","v":7}]
["СЕРБИЯ: Первая лига","2022.02.26 15:00","Сремска-Митровица","Жарково",0,0,2,0,"Гости",2,0,0,2,"П",4,2,1,1,4,2,7,0,0,0,0,0,0,0,4,2,1,1,4,2,7]
["МИР: Клубные товарищеские матчи","2022.01.15 16:30","Шибеник","Жарково",0,1,0,2,"Гости",0,3,3,0,"В",5,3,1,1,7,2,10,0,0,0,0,0,0,0,5,3,1,1,7,2,10]
["МИР: Клубные товарищеские матчи","2022.01.12 13:00","Истра 1961","Жарково",0,0,0,2,"Гости",0,2,2,0,"В",6,4,1,1,9,2,13,0,0,0,0,0,0,0,6,4,1,1,9,2,13]
["СЕРБИЯ: Первая лига","2021.11.28 17:00","Явор Иваница","Жарково",2,2,1,0,"Гости",3,2,2,3,"П",7,4,1,2,11,5,13,0,0,0,0,0,0,0,7,4,1,2,11,5,13]
["СЕРБИЯ: Первая лига","2021.11.15 15:00","Лозница","Жарково",0,0,0,1,"Гости",0,1,1,0,{"$f":"IF(I9=\"\",\"\",IF(I9=\"Дома\",IF(J9>K9,\"В\",IF(J9=K9,\"Н\",\"П\")),IF(J9<K9,\"В\",IF(J9=K9,\"Н\",\"П\"))))","v":"В"},8,5,1,2,12,5,16,0,0,0,0,0,0,0,8,5,1,2,12,5,16]
["СЕРБИЯ: Первая лига","2021.11.06 15:00","Железничар Панчево","Жарково",1,0,1,2,"Гости",2,2,2,2,{"$f":"IF(I10=\"\",\"\",IF(I10=\"Дома\",IF(J10>K10,\"В\",IF(J10=K10,\"Н\",\"П\")),IF(J10<K10,\"В\",IF(J10=K10,\"Н\",\"П\"))))","v":"Н"},9,5,2,2,14,7,17,0,0,0,0,0,0,0,9,5,2,2,14,7,17]
["СЕРБИЯ: Первая лига","2021.11.01 15:00","Будучность Добановичи","Жарково",0,0,2,0,"Гости",2,0,0,2,"П",10,5,2,3,14,9,17,0,0,0,0,0,0,0,10,5,2,3,14,9,17]
["СЕРБИЯ: Первая лига","2021.10.18 16:00","Нови Белград","Жарково",0,0,0,1,"Гости",0,1,1,0,"В",11,6,2,3,15,9,{"$f":"IF(I12=\"\",\"\",P12*3+Q12)","v":20},0,0,0,0,0,0,0,11,6,2,3,15,9,20]
["СЕРБИЯ: Кубок Сербии","2021.10.14 18:00","Металац","Жарково",2,1,1,1,"Гости",3,2,2,3,"П",12,6,2,4,17,12,20,0,0,0,0,0,0,0,12,6,2,4,17,12,20]
["СЕРБИЯ: Первая лига","2021.10.06 16:00","Златибор","Жарково",0,1,0,4,"Гости",0,5,5,0,"В",13,7,2,4,22,12,23,0,0,0,0,0,0,0,13,7,2,4,22,12,23]
["СЕРБИЯ: Первая лига","2021.09.26 16:00","Графичар Белград","Жарково",1,0,2,0,"Гости",3,0,0,3,"П",14,7,2,5,22,15,23,0,0,0,0,0,0,0,14,7,2,5,22,15,23]
["СЕРБИЯ: Первая лига","2021.09.12 17:30","Инджия","Жарково",1,0,0,0,"Гости",1,0,0,1,"П",15,7,2,6,22,16,23,0,0,0,0,0,0,0,15,7,2,6,22,16,23]
["СЕРБИЯ: Первая лига","2021.08.28 21:00","Рад","Жарково",0,0,1,1,"Гости",1,1,1,1,"Н",16,7,3,6,23,17,24,0,0,0,0,0,0,0,16,7,3,6,23,17,24]
["СЕРБИЯ: Первая лига","2021.08.15 18:30","Кабель Нови-Сад","Жарково",0,2,0,1,"Гости",0,3,3,0,"В",17,8,3,6,26,17,27,0,0,0,0,0,0,0,17,8,3,6,26,17,27]
["СЕРБИЯ: Первая лига","2021.05.14 18:00","Траял Крушевац","Жарково",0,0,0,2,"Гости",0,2,2,0,"В",18,9,3,6,28,17,30,0,0,0,0,0,0,0,18,9,3,6,28,17,30]
["СЕРБИЯ: Первая лига","2021.05.05 18:00","Лозница","Жарково",1,0,0,2,"Гости",1,2,2,1,"В",19,10,3,6,30,18,33,0,0,0,0,0,0,0,19,10,3,6,30,18,33]
["СЕРБИЯ: Первая лига","2021.04.24 17:00","Борац","Жарково",1,0,1,0,"Гости",2,0,0,2,"П",20,10,3,7,30,20,33,0,0,0,0,0,0,0,20,10,3,7,30,20,33]
["СЕРБИЯ: Первая лига","2021.04.18 17:00","Дин. Вранье","Жарково",0,0,2,0,"Гости",2,0,0,2,"П",21,10,3,8,30,22,33,0,0,0,0,0,0,0,21,10,3,8,30,22,33]
["Сербия: Первая лига","2020.09.23 17:00","Жарково","Нови Белград",1,3,null,null,"Гости",1,3,3,1,"В",22,11,3,8,33,23,36,0,0,0,0,0,0,0,22,11,3,8,33,23,36]
[null,null,null,null,null,null,null,null,null,"","","","","","","","","","","","","","","","","","","","","","","","","",""]
[null,null,null,null,null,null,null,null,null,"","","","","","","","","","","","","","","","","","","","","","","","","",""]
[null,null,null,null,null,null,null,null,null,"","","","","","","","","","","","","","","","","","","","","","","","","",""]
[null,null,null,null,null,null,null,null,null,"","","","","","","","","","","","","","","","","","","","","","","","","",""]
[null,null,null,null,null,null,null,null,null,"","","","","","","","","","","","","","","","","","","","","","","","","",""]
[null,null,null,null,null,null,null,null,null,"","","","","","","","","","","","","","","","","","","","","","","","","",""]
[null,null,null,null,null,null,null,null,null,"","","","","","","","","","","","","","","","","","","","","","","","","",""]
[null,null,null,null,null,null,null,null,null,"","","","","","","","","","","","","","","","","","","","","","","","","",""]
[null,null,null,null,null,null,null,null,null,"","","","","","","","","","","","","","","","","","","","","","","","","",""]
[null,null,null,null,null,null,null,null,null,"","","","","","","","","","","","","","","","","","","","","","","","","",""]
[null,null,null,null,null,null,null,null,null,"","","","","","","","","","","","","","","","","","","","","","","","","",""]
[null,null,null,null,null,null,null,null,null,"","","","","","","","","","","","","","","","","","","","","","","","","",""]
[null,null,null,null,null,null,null,null,null,"","","","","","","","","","","","","","","","","","","","","","","","","",""]
[null,null,null,null,null,null,null,null,null,"","","","","","","","","","","","","","","","","","","","","","","","","",""]
[null,null,null,null,null,null,null,null,null,"","","","","","","","","","","","","","","","","","","","","","","","","",""]
[null,null,null,null,null,null,null,null,null,"","","","","","","","","","","","","","","","","","","","","","","","","",""]
[null,null,null,null,null,null,null,null,null,"","","","","","","","","","","","","","","","","","","","","","","","","",""]
[null,null,null,null,null,null,null,null,null,"","","","","","","","","","","","","","","","","","","","","","","","","",""]
[null,null,null,null,null,null,null,null,null,"","","","","","","","","","","","","","","","","","","","","","","","","",""]
[null,null,null,null,null,null,null,null,null,"","","","","","","","","","","","","","","","","","","","","","","","","",""]
[null,null,null,null,null,null,null,null,null,"","","","","","","","","","","","","","","","","","","","","","","","","",""]
[null,null,null,null,null,null,null,null,null,"","","","","","","","","","","","","","","","","","","","","","","","","",""]
[null,null,null,null,null,null,null,null,null,"","","","","","","","","","","","","","","","","","","","","","","","","",""]
[null,null,null,null,null,null,null,null,null,"","","","","","","","","","","","","","","","","","","","","","","","","",""]
[null,null,null,null,null,null,null,null,null,"","","","","","","","","","","","","","","","","","","","","","","","","",""]
[null,null,null,null,null,null,null,null,null,"","","","","","","","","","","","","","","","","","","","","","","","","",""]
[null,null,null,null,null,null,null,null,null,"","","","","","","","","","","","","","","","","","","","","","","","","",""]
[null,null,null,null,null,null,null,null,null,"","","","","","","","","","","","","","","","","","","","","","","","","",""]
[null,null,null,null,null,null,null,null,null,"","","","","","","","","","","","","","","","","","","","","","","","","",""]
[null,null,null,null,null,null,null,null,null,"","","","","","","","","","","","","","","","","","","","","","","","","",""]
[null,null,null,null,null,null,null,null,null,"","","","","","","","","","","","","","","","","","","","","","","","","",""]
[null,null,null,null,null,null,null,null,null,"","","","","","","","","","","","","","","","","","","","","","","","","",""]
[null,null,null,null,null,null,null,null,null,"","","","","","","","","","","","","","","","","","","","","","","","","",""]
[null,null,null,null,null,null,null,null,null,"","","","","","","","","","","","","","","","","","","","","","","","","",""]
[null,null,null,null,null,null,null,null,null,"","","","","","","","","","","","","","","","","","","","","","","","","",""]
[null,null,null,null,null,null,null,null,null,"","","","","","","","","","","","","","","","","","","","","","","","","",""]
[null,null,null,null,null,null,null,null,null,"","","","","","","","","","","","","","","","","","","","","","","","","",""]
[null,null,null,null,null,null,null,null,null,"","","","","","","","","","","","","","","","","","","","","","","","","",""]
[null,null,null,null,null,null,null,null,null,"","","","","","","","","","","","","","","","","","","","","","","","","",""]
[null,null,null,null,null,null,null,null,null,"","","","","","","","","","","","","","","","","","","","","","","","","",""]
[null,null,null,null,null,null,null,null,null,"","","","","","","","","","","","","","","","","","","","","","","","","",""]
[null,null,null,null,null,null,null,null,null,"","","","","","","","","","","","","","","","","","","","","","","","","",""]
[null,null,null,null,null,null,null,null,null,"","","","","","","","","","","","","","","","","","","","","","","","","",""]
[null,null,null,null,null,null,null,null,null,{"$f":"IF(I67=\"\",\"\",E67+G67)","v":""},{"$f":"IF(I67=\"\",\"\",F67+H67)","v":""},{"$f":"IF(I67=\"\",\"\",IF(I67=\"Дома\",J67,K67))","v":""},{"$f":"IF(I67=\"\",\"\",IF(I67=\"Дома\",K67,J67))","v":""},"",{"$f":"IF(I67=\"\",\"\",O66+1)","v":""},"","","","","",{"$f":"IF(I67=\"\",\"\",P67*3+Q67)","v":""},"","","","","","","","","","","","","",""]
[null,null,null,null,null,null,null,null,null,"","","","","","",{"$f":"IF(I68=\"\",\"\",IF(N68=\"В\",P67+1,P67))","v":""},{"$f":"IF(I68=\"\",\"\",IF(N68=\"Н\",Q67+1,Q67))","v":""},{"$f":"IF(I68=\"\",\"\",IF(N68=\"П\",R67+1,R67))","v":""},{"$f":"IF(I68=\"\",\"\",S67+L68)","v":""},{"$f":"IF(I68=\"\",\"\",T67+M68)","v":""},"",{"$f":"IF(I68=\"\",\"\",IF(I68=\"Дома\",V67+1,V67+0))","v":""},{"$f":"IF(I68=\"\",\"\",IF(I68=\"Дома\",IF(N68=\"В\",W67+1,W67),W67))","v":""},{"$f":"IF(I68=\"\",\"\",IF(I68=\"Дома\",IF(N68=\"Н\",X67+1,X67),X67))","v":""},{"$f":"IF(I68=\"\",\"\",IF(I68=\"Дома\",IF(N68=\"П\",Y67+1,Y67),Y67))","v":""},{"$f":"IF(I68=\"\",\"\",IF(I68=\"Дома\",L68+Z67,Z67))","v":""},{"$f":"IF(I68=\"\",\"\",IF(I68=\"Дома\",M68+AA67,AA67))","v":""},{"$f":"IF(I68=\"\",\"\",IF(I68=\"Дома\",W68*3+X68,AB67))","v":""},{"$f":"IF(I68=\"\",\"\",IF(I68=\"Гости\",AC67+1,AC67+0))","v":""},{"$f":"IF(I68=\"\",\"\",IF(I68=\"Гости\",IF(N68=\"В\",AD67+1,AD67),AD67))","v":""},{"$f":"IF(I68=\"\",\"\",IF(I68=\"Гости\",IF(N68=\"Н\",AE67+1,AE67),AE67))","v":""},{"$f":"IF(I68=\"\",\"\",IF(I68=\"Гости\",IF(N68=\"П\",AF67+1,AF67),AF67))","v":""},{"$f":"IF(I68=\"\",\"\",IF(I68=\"Гости\",L68+AG67,AG67))","v":""},{"$f":"IF(I68=\"\",\"\",IF(I68=\"Гости\",M68+AH67,AH67))","v":""},{"$f":"IF(I68=\"\",\"\",IF(I68=\"Гости\",AD68*3+AE68,AI67))","v":""}]
[null,null,null,null,null,null,null,null,null,"","","","","","","","","","","","","","","","","","","","","","","","","",""]
[null,null,null,null,null,null,null,null,null,"","","","","","","","","","","","","","","","","","","","","","","","","",""]
[null,null,null,null,null,null,null,null,null,"","","","","","","","","","","","","","","","","","","","","","","","","",""]
[null,null,null,null,null,null,null,null,null,"","","","","","","","","","","","","","","","","","","","","","","","","",""]
[null,null,null,null,null,null,null,null,null,"","","","","","","","","","","","","","","","","","","","","","","","","",""]
[null,null,null,null,null,null,null,null,null,"","","","",{"$f":"IF(I74=\"\",\"\",IF(I74=\"Дома\",IF(J74>K74,\"В\",IF(J74=K74,\"Н\",\"П\")),IF(J74<K74,\"В\",IF(J74=K74,\"Н\",\"П\"))))","v":""},"","","","","","","","","","","","","","","","","","","","",""]
[null,null,null,null,null,null,null,null,null,"","","","","","","","","","","","","","","","","","","","","","","","","",""]
[null,null,null,null,null,null,null,null,null,"","","","","","","","","","","","","","","","","","","","","","","","","",""]
[null,null,null,null,null,null,null,null,null,"","","","","","","","","","","","","","","","","","","","","","","","","",""]
[null,null,null,null,null,null,null,null,null,"","","","","","","","","","","","","","","","","","","","","","","","","",""]
[null,null,null,null,null,null,null,null,null,"","","","","","","","","","","","","","","","","","","","","","","","","",""]
[null,null,null,null,null,null,null,null,null,"","","","","","","","","","","","","","","","","","","","","","","","","",""]
[null,null,null,null,null,null,null,null,null,"","","","","","","","","","","","","","","","","","","","","","","","","",""]
[null,null,null,null,null,null,null,null,null,"","","","","","","","","","","","","","","","","","","","","","","","","",""]
[null,null,null,null,null,null,null,null,null,"","","","","","","","","","","","","","","","","","","","","","","","","",""]
[null,null,null,null,null,null,null,null,null,"","","","","","","","","","","","","","","","","","","","","","","","","",""]
[null,null,null,null,null,null,null,null,null,"","","","","","","","","","","","","","","","","","","","","","","","","",""]
[null,null,null,null,null,null,null,null,null,"","","","","","","","","","","","","","","","","","","","","","","","","",""]
[null,null,null,null,null,null,null,null,null,"","","","","","","","","","","","","","","","","","","","","","","","","",""]
[null,null,null,null,null,null,null,null,null,"","","","","","","","","","","","","","","","","","","","","","","","","",""]
[null,null,null,null,null,null,null,null,null,"","","","","","","","","","","","","","","","","","","","","","","","","",""]
[null,null,null,null,null,null,null,null,null,"","","","","","","","","","","","","","","","","","","","","","","","","",""]
[null,null,null,null,null,null,null,null,null,"","","","","","","","","","","","","","","","","","","","","","","","","",""]
[null,null,null,null,null,null,null,null,null,"","","","","","","","","","","","","","","","","","","","","","","","","",""]
[null,null,null,null,null,null,null,null,null,"","","","","","","","","","","","","","","","","","","","","","","","","",""]
[null,null,null,null,null,null,null,null,null,"","","","","","","","","","","","","","","","","","","","","","","","","",""]
[null,null,null,null,null,null,null,null,null,"","","","","","","","","","","","","","","","","","","","","","","","","",""]
[null,null,null,null,null,null,null,null,null,"","","","","","","","","","","","","","","","","","","","","","","","","",""]
[null,null,null,null,null,null,null,null,null,"","","","","","","","","","","","","","","","","","","","","","","","","",""]
[null,null,null,null,null,null,null,null,null,"","","","","","","","","","","","","","","","","","","","","","","","","",""]
[null,null,null,null,null,null,null,null,null,"","","","","","","","","","","","","","","","","","","","","","","","","",""]
[null,null,null,null,null,null,null,null,null,"","","","","","","","","","","","","","","","","","","","","","","","","",""]
[null,null,null,null,null,null,null,null,null,"","","","","","","","","","","","","","","","","","","","","","","","","",""]
[null,null,null,null,null,null,null,null,null,"","","","","","","","","","","","","","","","","","","","","","","","","",""]
[null,null,null,null,null,null,null,null,null,"","","","","","","","","","","","","","","","","","","","","","","","","",""]
[null,null,null,null,null,null,null,null,null,"","","","","","","","","","","","","","","","","","","","","","","","","",""]
[null,null,null,null,null,null,null,null,null,"","","","","","","","","","","","","","","","","","","","","","","","","",""]
[null,null,null,null,null,null,null,null,null,"","","","","","","","","","","","","","","","","","","","","","","","","",""]
[null,null,null,null,null,null,null,null,null,"","","","","","","","","","","","","","","","","","","","","","","","","",""]
[null,null,null,null,null,null,null,null,null,"","","","","","","","","","","","","","","","","","","","","","","","","",""]
[null,null,null,null,null,null,null,null,null,"","","","","","","","","","","","","","","","","","","","","","","","","",""]
[null,null,null,null,null,null,null,null,null,"","","","","","","","","","","","","","","","","","","","","","","","","",""]
[null,null,null,null,null,null,null,null,null,"","","","","","","","","","","","","","","","","","","","","","","","","",""]
[null,null,null,null,null,null,null,null,null,"","","","","","","","","","","","","","","","","","","","","","","","","",""]
[null,null,null,null,null,null,null,null,null,"","","","","","","","","","","","","","","","","","","","","","","","","",""]
[null,null,null,null,null,null,null,null,null,"","","","","","","","","","","","","","","","","","","","","","","","","",""]
[null,null,null,null,null,null,null,null,null,"","","","","","","","","","","","","","","","","","","","","","","","","",""]
[null,null,null,null,null,null,null,null,null,"","","","","","","","","","","","","","","","","","","","","","","","","",""]
[null,null,null,null,null,null,null,null,null,"","","","","","","","","","","","","","","","","","","","","","","","","",""]
[null,null,null,null,null,null,null,null,null,"","","","","","","","","","","","","","","","","","","","","","","","","",""]
[null,null,null,null,null,null,null,null,null,"","","","","","","","","","","","","","","","","","","","","","","","","",""]
[null,null,null,null,null,null,null,null,null,"","","","","","","","","","","","","","","","","","","","","","","","","",""]
[null,null,null,null,null,null,null,null,null,"","","","","","","","","","","","","","","","","","","","","","","","","",""]
[null,null,null,null,null,null,null,null,null,"","","","","","","","","","","","","","","","","","","","","","","","","",""]
[null,null,null,null,null,null,null,null,null,"","","","","","","","","","","","","","","","","","","","","","","","","",""]
[null,null,null,null,null,null,null,null,null,"","","","","","","","","","","","","","","","","","","","","","","","","",""]
[null,null,null,null,null,null,null,null,null,"","","","","","","","","","","","","","","","","","","","","","","","","",""]
[null,null,null,null,null,null,null,null,null,"","","","","","","","","","","","","","","","","","","","","","","","","",""]
[null,null,null,null,null,null,null,null,null,"","","","","","","","","","","","","","","","","","","","","","","","","",""]
[null,null,null,null,null,null,null,null,null,"","","","","","","","","","","","","","","","","","","","","","","","","",""]
[null,null,null,null,null,null,null,null,null,"","","","","","","","","","","","","","","","","","","","","","","","","",""]
[null,null,null,null,null,null,null,null,null,"","","","","","","","","","","","","","","","","","","","","","","","","",""]
[null,null,null,null,null,null,null,null,null,{"$f":"IF(I131=\"\",\"\",E131+G131)","v":""},{"$f":"IF(I131=\"\",\"\",F131+H131)","v":""},{"$f":"IF(I131=\"\",\"\",IF(I131=\"Дома\",J131,K131))","v":""},{"$f":"IF(I131=\"\",\"\",IF(I131=\"Дома\",K131,J131))","v":""},"",{"$f":"IF(I131=\"\",\"\",O130+1)","v":""},"","","","","",{"$f":"IF(I131=\"\",\"\",P131*3+Q131)","v":""},"","","","","","","","","","","","","",""]
[null,null,null,null,null,null,null,null,null,"","","","","","",{"$f":"IF(I132=\"\",\"\",IF(N132=\"В\",P131+1,P131))","v":""},{"$f":"IF(I132=\"\",\"\",IF(N132=\"Н\",Q131+1,Q131))","v":""},{"$f":"IF(I132=\"\",\"\",IF(N132=\"П\",R131+1,R131))","v":""},{"$f":"IF(I132=\"\",\"\",S131+L132)","v":""},{"$f":"IF(I132=\"\",\"\",T131+M132)","v":""},"",{"$f":"IF(I132=\"\",\"\",IF(I132=\"Дома\",V131+1,V131+0))","v":""},{"$f":"IF(I132=\"\",\"\",IF(I132=\"Дома\",IF(N132=\"В\",W131+1,W131),W131))","v":""},{"$f":"IF(I132=\"\",\"\",IF(I132=\"Дома\",IF(N132=\"Н\",X131+1,X131),X131))","v":""},{"$f":"IF(I132=\"\",\"\",IF(I132=\"Дома\",IF(N132=\"П\",Y131+1,Y131),Y131))","v":""},{"$f":"IF(I132=\"\",\"\",IF(I132=\"Дома\",L132+Z131,Z131))","v":""},{"$f":"IF(I132=\"\",\"\",IF(I132=\"Дома\",M132+AA131,AA131))","v":""},{"$f":"IF(I132=\"\",\"\",IF(I132=\"Дома\",W132*3+X132,AB131))","v":""},{"$f":"IF(I132=\"\",\"\",IF(I132=\"Гости\",AC131+1,AC131+0))","v":""},{"$f":"IF(I132=\"\",\"\",IF(I132=\"Гости\",IF(N132=\"В\",AD131+1,AD131),AD131))","v":""},{"$f":"IF(I132=\"\",\"\",IF(I132=\"Гости\",IF(N132=\"Н\",AE131+1,AE131),AE131))","v":""},{"$f":"IF(I132=\"\",\"\",IF(I132=\"Гости\",IF(N132=\"П\",AF131+1,AF131),AF131))","v":""},{"$f":"IF(I132=\"\",\"\",IF(I132=\"Гости\",L132+AG131,AG131))","v":""},{"$f":"IF(I132=\"\",\"\",IF(I132=\"Гости\",M132+AH131,AH131))","v":""},{"$f":"IF(I132=\"\",\"\",IF(I132=\"Гости\",AD132*3+AE132,AI131))","v":""}]
[null,null,null,null,null,null,null,null,null,"","","","","","","","","","","","","","","","","","","","","","","","","",""]
[null,null,null,null,null,null,null,null,null,"","","","","","","","","","","","","","","","","","","","","","","","","",""]
[null,null,null,null,null,null,null,null,null,"","","","","","","","","","","","","","","","","","","","","","","","","",""]
[null,null,null,null,null,null,null,null,null,"","","","","","","","","","","","","","","","","","","","","","","","","",""]
[null,null,null,null,null,null,null,null,null,"","","","","","","","","","","","","","","","","","","","","","","","","",""]
[null,null,null,null,null,null,null,null,null,"","","","",{"$f":"IF(I138=\"\",\"\",IF(I138=\"Дома\",IF(J138>K138,\"В\",IF(J138=K138,\"Н\",\"П\")),IF(J138<K138,\"В\",IF(J138=K138,\"Н\",\"П\"))))","v":""},"","","","","","","","","","","","","","","","","","","","",""]
[null,null,null,null,null,null,null,null,null,"","","","","","","","","","","","","","","","","","","","","","","","","",""]
[null,null,null,null,null,null,null,null,null,"","","","","","","","","","","","","","","","","","","","","","","","","",""]
[null,null,null,null,null,null,null,null,null,"","","","","","","","","","","","","","","","","","","","","","","","","",""]
[null,null,null,null,null,null,null,null,null,"","","","","","","","","","","","","","","","","","","","","","","","","",""]
[null,null,null,null,null,null,null,null,null,"","","","","","","","","","","","","","","","","","","","","","","","","",""]
[null,null,null,null,null,null,null,null,null,"","","","","","","","","","","","","","","","","","","","","","","","","",""]
[null,null,null,null,null,null,null,null,null,"","","","","","","","","","","","","","","","","","","","","","","","","",""]
[null,null,null,null,null,null,null,null,null,"","","","","","","","","","","","","","","","","","","","","","","","","",""]
[null,null,null,null,null,null,null,null,null,"","","","","","","","","","","","","","","","","","","","","","","","","",""]
[null,null,null,null,null,null,null,null,null,"","","","","","","","","","","","","","","","","","","","","","","","","",""]
[null,null,null,null,null,null,null,null,null,"","","","","","","","","","","","","","","","","","","","","","","","","",""]
[null,null,null,null,null,null,null,null,null,"","","","","","","","","","","","","","","","","","","","","","","","","",""]

{"sheet":"ГостиДома","index":19,"n_rows":150,"n_cols":35,"rows_kept":150,"cut":false,"hidden":false,"merged":[]}
["Чемпионат","Дата/Время","Дома","Гости","К1 в 1Т","К2 в 1Т","К1 во 2Т","К2 во 2Т","Где играли","К1 Голов","К2 Голов","Забито","Пропущено","Результат","Всего Игр","Всего выиграно","Всего ничьих","Всего проиграно","Всего забито","Всего пропущено","Всего очков","Дома игр","Дома выиграно","Дома ничьих","Дома проиграно","Дома забито","Дома пропущено","Дома очков","Гости игр","Гости выиграно","Гости ничьих","Гости проиграно","Гости забито","Гости пропущено","Гости очков"]
["СЕРБИЯ: Первая лига","2022.03.23 17:00","Нови Белград","Инджия",2,0,0,2,"Дома",{"$f":"IF(I2=\"\",\"\",E2+G2)","v":2},{"$f":"IF(I2=\"\",\"\",F2+H2)","v":2},{"$f":"IF(I2=\"\",\"\",IF(I2=\"Дома\",J2,K2))","v":2},{"$f":"IF(I2=\"\",\"\",IF(I2=\"Дома\",K2,J2))","v":2},{"$f":"IF(I2=\"\",\"\",IF(I2=\"Дома\",IF(J2>K2,\"В\",IF(J2=K2,\"Н\",\"П\")),IF(J2<K2,\"В\",IF(J2=K2,\"Н\",\"П\"))))","v":"Н"},{"$f":"IF(I2=\"\",\"\",1)","v":1},{"$f":"IF(I2=\"\",\"\",IF(N2=\"В\",1,0))","v":0},{"$f":"IF(I2=\"\",\"\",IF(N2=\"Н\",1,0))","v":1},{"$f":"IF(I2=\"\",\"\",IF(N2=\"П\",1,0))","v":0},{"$f":"IF(I2=\"\",\"\",L2)","v":2},{"$f":"IF(I2=\"\",\"\",M2)","v":2},{"$f":"IF(I2=\"\",\"\",P2*3+Q2)","v":1},{"$f":"IF(I2=\"\",\"\",IF(I2=\"Дома\",1,0))","v":1},{"$f":"IF(I2=\"\",\"\",IF(I2=\"Дома\",IF(N2=\"В\",1,0),0))","v":0},{"$f":"IF(I2=\"\",\"\",IF(I2=\"Дома\",IF(N2=\"Н\",1,0),0))","v":1},{"$f":"IF(I2=\"\",\"\",IF(I2=\"Дома\",IF(N2=\"П\",1,0),0))","v":0},{"$f":"IF(I2=\"\",\"\",IF(I2=\"Дома\",L2,0))","v":2},{"$f":"IF(I2=\"\",\"\",IF(I2=\"Дома\",M2,0))","v":2},{"$f":"IF(I2=\"\",\"\",IF(I2=\"Дома\",W2*3+X2,0))","v":1},{"$f":"IF(I2=\"\",\"\",IF(I2=\"Гости\",1,0))","v":0},{"$f":"IF(I2=\"\",\"\",IF(I2=\"Гости\",IF(N2=\"В\",1,0),0))","v":0},{"$f":"IF(I2=\"\",\"\",IF(I2=\"Гости\",IF(N2=\"Н\",1,0),0))","v":0},{"$f":"IF(I2=\"\",\"\",IF(I2=\"Гости\",IF(N2=\"П\",1,0),0))","v":0},{"$f":"IF(I2=\"\",\"\",IF(I2=\"Гости\",L2,0))","v":0},{"$f":"IF(I2=\"\",\"\",IF(I2=\"Гости\",M2,0))","v":0},{"$f":"IF(I2=\"\",\"\",IF(I2=\"Гости\",AD2*3+AE2,0))","v":0}]
["СЕРБИЯ: Первая лига","2022.03.11 16:00","Нови Белград","Рад",1,0,1,0,"Дома",{"$f":"IF(I3=\"\",\"\",E3+G3)","v":2},{"$f":"IF(I3=\"\",\"\",F3+H3)","v":0},{"$f":"IF(I3=\"\",\"\",IF(I3=\"Дома\",J3,K3))","v":2},{"$f":"IF(I3=\"\",\"\",IF(I3=\"Дома\",K3,J3))","v":0},{"$f":"IF(I3=\"\",\"\",IF(I3=\"Дома\",IF(J3>K3,\"В\",IF(J3=K3,\"Н\",\"П\")),IF(J3<K3,\"В\",IF(J3=K3,\"Н\",\"П\"))))","v":"В"},{"$f":"IF(I3=\"\",\"\",O2+1)","v":2},{"$f":"IF(I3=\"\",\"\",IF(N3=\"В\",P2+1,P2))","v":1},{"$f":"IF(I3=\"\",\"\",IF(N3=\"Н\",Q2+1,Q2))","v":1},{"$f":"IF(I3=\"\",\"\",IF(N3=\"П\",R2+1,R2))","v":0},{"$f":"IF(I3=\"\",\"\",S2+L3)","v":4},{"$f":"IF(I3=\"\",\"\",T2+M3)","v":2},{"$f":"IF(I3=\"\",\"\",P3*3+Q3)","v":4},{"$f":"IF(I3=\"\",\"\",IF(I3=\"Дома\",V2+1,V2+0))","v":2},{"$f":"IF(I3=\"\",\"\",IF(I3=\"Дома\",IF(N3=\"В\",W2+1,W2),W2))","v":1},{"$f":"IF(I3=\"\",\"\",IF(I3=\"Дома\",IF(N3=\"Н\",X2+1,X2),X2))","v":1},{"$f":"IF(I3=\"\",\"\",IF(I3=\"Дома\",IF(N3=\"П\",Y2+1,Y2),Y2))","v":0},{"$f":"IF(I3=\"\",\"\",IF(I3=\"Дома\",L3+Z2,Z2))","v":4},{"$f":"IF(I3=\"\",\"\",IF(I3=\"Дома\",M3+AA2,AA2))","v":2},{"$f":"IF(I3=\"\",\"\",IF(I3=\"Дома\",W3*3+X3,AB2))","v":4},{"$f":"IF(I3=\"\",\"\",IF(I3=\"Гости\",AC2+1,AC2+0))","v":0},{"$f":"IF(I3=\"\",\"\",IF(I3=\"Гости\",IF(N3=\"В\",AD2+1,AD2),AD2))","v":0},{"$f":"IF(I3=\"\",\"\",IF(I3=\"Гости\",IF(N3=\"Н\",AE2+1,AE2),AE2))","v":0},{"$f":"IF(I3=\"\",\"\",IF(I3=\"Гости\",IF(N3=\"П\",AF2+1,AF2),AF2))","v":0},{"$f":"IF(I3=\"\",\"\",IF(I3=\"Гости\",L3+AG2,AG2))","v":0},{"$f":"IF(I3=\"\",\"\",IF(I3=\"Гости\",M3+AH2,AH2))","v":0},{"$f":"IF(I3=\"\",\"\",IF(I3=\"Гости\",AD3*3+AE3,AI2))","v":0}]
["СЕРБИЯ: Первая лига","2022.03.03 15:00","Нови Белград","Кабель Нови-Сад",0,1,4,0,"Дома",4,1,4,1,"В",3,{"$f":"IF(I4=\"\",\"\",IF(N4=\"В\",P3+1,P3))","v":2},{"$f":"IF(I4=\"\",\"\",IF(N4=\"Н\",Q3+1,Q3))","v":1},{"$f":"IF(I4=\"\",\"\",IF(N4=\"П\",R3+1,R3))","v":0},{"$f":"IF(I4=\"\",\"\",S3+L4)","v":8},{"$f":"IF(I4=\"\",\"\",T3+M4)","v":3},7,{"$f":"IF(I4=\"\",\"\",IF(I4=\"Дома\",V3+1,V3+0))","v":3},{"$f":"IF(I4=\"\",\"\",IF(I4=\"Дома\",IF(N4=\"В\",W3+1,W3),W3))","v":2},{"$f":"IF(I4=\"\",\"\",IF(I4=\"Дома\",IF(N4=\"Н\",X3+1,X3),X3))","v":1},{"$f":"IF(I4=\"\",\"\",IF(I4=\"Дома\",IF(N4=\"П\",Y3+1,Y3),Y3))","v":0},{"$f":"IF(I4=\"\",\"\",IF(I4=\"Дома\",L4+Z3,Z3))","v":8},{"$f":"IF(I4=\"\",\"\",IF(I4=\"Дома\",M4+AA3,AA3))","v":3},{"$f":"IF(I4=\"\",\"\",IF(I4=\"Дома\",W4*3+X4,AB3))","v":7},{"$f":"IF(I4=\"\",\"\",IF(I4=\"Гости\",AC3+1,AC3+0))","v":0},{"$f":"IF(I4=\"\",\"\",IF(I4=\"Гости\",IF(N4=\"В\",AD3+1,AD3),AD3))","v":0},{"$f":"IF(I4=\"\",\"\",IF(I4=\"Гости\",IF(N4=\"Н\",AE3+1,AE3),AE3))","v":0},{"$f":"IF(I4=\"\",\"\",IF(I4=\"Гости\",IF(N4=\"П\",AF3+1,AF3),AF3))","v":0},{"$f":"IF(I4=\"\",\"\",IF(I4=\"Гости\",L4+AG3,AG3))","v":0},{"$f":"IF(I4=\"\",\"\",IF(I4=\"Гости\",M4+AH3,AH3))","v":0},{"$f":"IF(I4=\"\",\"\",IF(I4=\"Гости\",AD4*3+AE4,AI3))","v":0}]
["МИР: Клубные товарищеские матчи","2022.02.16 13:00","Нови Белград","ОФК Белград",0,0,0,2,"Дома",0,2,0,2,"П",4,2,1,1,8,5,7,4,2,1,1,8,5,7,0,0,0,0,0,0,0]
["СЕРБИЯ: Первая лига","2021.12.06 15:00","Нови Белград","Будучность Добановичи",1,0,2,2,"Дома",3,2,3,2,"В",5,3,1,1,11,7,10,5,3,1,1,11,7,10,0,0,0,0,0,0,0]
["СЕРБИЯ: Первая лига","2021.11.20 15:00","Нови Белград","Сремска-Митровица",0,0,1,1,"Дома",1,1,1,1,"Н",6,3,2,1,12,8,11,6,3,2,1,12,8,11,0,0,0,0,0,0,0]
["СЕРБИЯ: Первая лига","2021.11.15 15:00","Нови Белград","Тимок",3,0,1,0,"Дома",4,0,4,0,"В",7,4,2,1,16,8,14,7,4,2,1,16,8,14,0,0,0,0,0,0,0]
["СЕРБИЯ: Первая лига","2021.11.05 15:00","Нови Белград","Бачка",0,0,1,1,"Дома",1,1,1,1,{"$f":"IF(I9=\"\",\"\",IF(I9=\"Дома\",IF(J9>K9,\"В\",IF(J9=K9,\"Н\",\"П\")),IF(J9<K9,\"В\",IF(J9=K9,\"Н\",\"П\"))))","v":"Н"},8,4,3,1,17,9,15,8,4,3,1,17,9,15,0,0,0,0,0,0,0]
["СЕРБИЯ: Первая лига","2021.10.31 15:00","Нови Белград","Графичар Белград",1,0,2,0,"Дома",3,0,3,0,{"$f":"IF(I10=\"\",\"\",IF(I10=\"Дома\",IF(J10>K10,\"В\",IF(J10=K10,\"Н\",\"П\")),IF(J10<K10,\"В\",IF(J10=K10,\"Н\",\"П\"))))","v":"В"},9,5,3,1,20,9,18,9,5,3,1,20,9,18,0,0,0,0,0,0,0]
["СЕРБИЯ: Первая лига","2021.10.18 16:00","Нови Белград","Жарково",0,0,0,1,"Дома",0,1,0,1,"П",10,5,3,2,20,10,18,10,5,3,2,20,10,18,0,0,0,0,0,0,0]
["СЕРБИЯ: Первая лига","2021.10.06 16:00","Нови Белград","Явор Иваница",0,1,0,0,"Дома",0,1,0,1,"П",11,5,3,3,20,11,{"$f":"IF(I12=\"\",\"\",P12*3+Q12)","v":18},11,5,3,3,20,11,18,0,0,0,0,0,0,0]
["СЕРБИЯ: Первая лига","2021.09.27 16:00","Нови Белград","Лозница",1,0,1,0,"Дома",2,0,2,0,"В",12,6,3,3,22,11,21,12,6,3,3,22,11,21,0,0,0,0,0,0,0]
["СЕРБИЯ: Первая лига","2021.09.18 17:00","Нови Белград","Железничар Панчево",0,0,0,0,"Дома",0,0,0,0,"Н",13,6,4,3,22,11,22,13,6,4,3,22,11,22,0,0,0,0,0,0,0]
["СЕРБИЯ: Первая лига","2021.09.03 17:30","Нови Белград","Младость ГАТ",0,1,0,0,"Дома",0,1,0,1,"П",14,6,4,4,22,12,22,14,6,4,4,22,12,22,0,0,0,0,0,0,0]
["СЕРБИЯ: Первая лига","2021.08.15 18:30","Нови Белград","Златибор",0,0,0,0,"Дома",0,0,0,0,"Н",15,6,5,4,22,12,23,15,6,5,4,22,12,23,0,0,0,0,0,0,0]
["МИР: Клубные товарищеские матчи","2021.07.24 18:30","Нови Белград","Аль-Фейха",0,2,0,0,"Дома",0,2,0,2,"П",16,6,5,5,22,14,23,16,6,5,5,22,14,23,0,0,0,0,0,0,0]
["МИР: Клубные товарищеские матчи","2021.07.10 19:00","Нови Белград","Будучность Добановичи",0,1,0,2,"Дома",0,3,0,3,"П",17,6,5,6,22,17,23,17,6,5,6,22,17,23,0,0,0,0,0,0,0]
["СЕРБИЯ: Первая лига","2021.05.19 18:00","Нови Белград","Слога Кральево",4,0,2,1,"Дома",6,1,6,1,"В",18,7,5,6,28,18,26,18,7,5,6,28,18,26,0,0,0,0,0,0,0]
["СЕРБИЯ: Первая лига","2021.05.10 18:00","Нови Белград","Железничар Панчево",0,2,1,1,"Дома",1,3,1,3,"П",19,7,5,7,29,21,26,19,7,5,7,29,21,26,0,0,0,0,0,0,0]
["СЕРБИЯ: Первая лига","2021.05.01 17:00","Нови Белград","Будучность Добановичи",1,1,4,1,"Дома",5,2,5,2,"В",20,8,5,7,34,23,29,20,8,5,7,34,23,29,0,0,0,0,0,0,0]
["СЕРБИЯ: Первая лига","2021.04.19 17:00","Нови Белград","Колубара",1,0,0,0,"Дома",1,0,1,0,"В",21,9,5,7,35,23,32,21,9,5,7,35,23,32,0,0,0,0,0,0,0]
["СЕРБИЯ: Первая лига","2021.04.18 17:00","Дин. Вранье","Жарково",0,0,2,0,"Дома",2,0,2,0,"В",22,10,5,7,37,23,35,22,10,5,7,37,23,35,0,0,0,0,0,0,0]
["СЕРБИЯ: Первая лига","2021.04.07 17:00","Нови Белград","Земун",0,0,2,0,"Дома",2,0,2,0,"В",23,11,5,7,39,23,38,23,11,5,7,39,23,38,0,0,0,0,0,0,0]
[null,null,null,null,null,null,null,null,null,"","","","","","","","","","","","","","","","","","","","","","","","","",""]
[null,null,null,null,null,null,null,null,null,"","","","","","","","","","","","","","","","","","","","","","","","","",""]
[null,null,null,null,null,null,null,null,null,"","","","","","","","","","","","","","","","","","","","","","","","","",""]
[null,null,null,null,null,null,null,null,null,"","","","","","","","","","","","","","","","","","","","","","","","","",""]
[null,null,null,null,null,null,null,null,null,"","","","","","","","","","","","","","","","","","","","","","","","","",""]
[null,null,null,null,null,null,null,null,null,"","","","","","","","","","","","","","","","","","","","","","","","","",""]
[null,null,null,null,null,null,null,null,null,"","","","","","","","","","","","","","","","","","","","","","","","","",""]
[null,null,null,null,null,null,null,null,null,"","","","","","","","","","","","","","","","","","","","","","","","","",""]
[null,null,null,null,null,null,null,null,null,"","","","","","","","","","","","","","","","","","","","","","","","","",""]
[null,null,null,null,null,null,null,null,null,"","","","","","","","","","","","","","","","","","","","","","","","","",""]
[null,null,null,null,null,null,null,null,null,"","","","","","","","","","","","","","","","","","","","","","","","","",""]
[null,null,null,null,null,null,null,null,null,"","","","","","","","","","","","","","","","","","","","","","","","","",""]
[null,null,null,null,null,null,null,null,null,"","","","","","","","","","","","","","","","","","","","","","","","","",""]
[null,null,null,null,null,null,null,null,null,"","","","","","","","","","","","","","","","","","","","","","","","","",""]
[null,null,null,null,null,null,null,null,null,"","","","","","","","","","","","","","","","","","","","","","","","","",""]
[null,null,null,null,null,null,null,null,null,"","","","","","","","","","","","","","","","","","","","","","","","","",""]
[null,null,null,null,null,null,null,null,null,"","","","","","","","","","","","","","","","","","","","","","","","","",""]
[null,null,null,null,null,null,null,null,null,"","","","","","","","","","","","","","","","","","","","","","","","","",""]
[null,null,null,null,null,null,null,null,null,"","","","","","","","","","","","","","","","","","","","","","","","","",""]
[null,null,null,null,null,null,null,null,null,"","","","","","","","","","","","","","","","","","","","","","","","","",""]
[null,null,null,null,null,null,null,null,null,"","","","","","","","","","","","","","","","","","","","","","","","","",""]
[null,null,null,null,null,null,null,null,null,"","","","","","","","","","","","","","","","","","","","","","","","","",""]
[null,null,null,null,null,null,null,null,null,"","","","","","","","","","","","","","","","","","","","","","","","","",""]
[null,null,null,null,null,null,null,null,null,"","","","","","","","","","","","","","","","","","","","","","","","","",""]
[null,null,null,null,null,null,null,null,null,"","","","","","","","","","","","","","","","","","","","","","","","","",""]
[null,null,null,null,null,null,null,null,null,"","","","","","","","","","","","","","","","","","","","","","","","","",""]
[null,null,null,null,null,null,null,null,null,"","","","","","","","","","","","","","","","","","","","","","","","","",""]
[null,null,null,null,null,null,null,null,null,"","","","","","","","","","","","","","","","","","","","","","","","","",""]
[null,null,null,null,null,null,null,null,null,"","","","","","","","","","","","","","","","","","","","","","","","","",""]
[null,null,null,null,null,null,null,null,null,"","","","","","","","","","","","","","","","","","","","","","","","","",""]
[null,null,null,null,null,null,null,null,null,"","","","","","","","","","","","","","","","","","","","","","","","","",""]
[null,null,null,null,null,null,null,null,null,"","","","","","","","","","","","","","","","","","","","","","","","","",""]
[null,null,null,null,null,null,null,null,null,"","","","","","","","","","","","","","","","","","","","","","","","","",""]
[null,null,null,null,null,null,null,null,null,"","","","","","","","","","","","","","","","","","","","","","","","","",""]
[null,null,null,null,null,null,null,null,null,"","","","","","","","","","","","","","","","","","","","","","","","","",""]
[null,null,null,null,null,null,null,null,null,"","","","","","","","","","","","","","","","","","","","","","","","","",""]
[null,null,null,null,null,null,null,null,null,"","","","","","","","","","","","","","","","","","","","","","","","","",""]
[null,null,null,null,null,null,null,null,null,"","","","","","","","","","","","","","","","","","","","","","","","","",""]
[null,null,null,null,null,null,null,null,null,"","","","","","","","","","","","","","","","","","","","","","","","","",""]
[null,null,null,null,null,null,null,null,null,"","","","","","","","","","","","","","","","","","","","","","","","","",""]
[null,null,null,null,null,null,null,null,null,"","","","","","","","","","","","","","","","","","","","","","","","","",""]
[null,null,null,null,null,null,null,null,null,"","","","","","","","","","","","","","","","","","","","","","","","","",""]
[null,null,null,null,null,null,null,null,null,{"$f":"IF(I67=\"\",\"\",E67+G67)","v":""},{"$f":"IF(I67=\"\",\"\",F67+H67)","v":""},{"$f":"IF(I67=\"\",\"\",IF(I67=\"Дома\",J67,K67))","v":""},{"$f":"IF(I67=\"\",\"\",IF(I67=\"Дома\",K67,J67))","v":""},"",{"$f":"IF(I67=\"\",\"\",O66+1)","v":""},"","","","","",{"$f":"IF(I67=\"\",\"\",P67*3+Q67)","v":""},"","","","","","","","","","","","","",""]
[null,null,null,null,null,null,null,null,null,"","","","","","",{"$f":"IF(I68=\"\",\"\",IF(N68=\"В\",P67+1,P67))","v":""},{"$f":"IF(I68=\"\",\"\",IF(N68=\"Н\",Q67+1,Q67))","v":""},{"$f":"IF(I68=\"\",\"\",IF(N68=\"П\",R67+1,R67))","v":""},{"$f":"IF(I68=\"\",\"\",S67+L68)","v":""},{"$f":"IF(I68=\"\",\"\",T67+M68)","v":""},"",{"$f":"IF(I68=\"\",\"\",IF(I68=\"Дома\",V67+1,V67+0))","v":""},{"$f":"IF(I68=\"\",\"\",IF(I68=\"Дома\",IF(N68=\"В\",W67+1,W67),W67))","v":""},{"$f":"IF(I68=\"\",\"\",IF(I68=\"Дома\",IF(N68=\"Н\",X67+1,X67),X67))","v":""},{"$f":"IF(I68=\"\",\"\",IF(I68=\"Дома\",IF(N68=\"П\",Y67+1,Y67),Y67))","v":""},{"$f":"IF(I68=\"\",\"\",IF(I68=\"Дома\",L68+Z67,Z67))","v":""},{"$f":"IF(I68=\"\",\"\",IF(I68=\"Дома\",M68+AA67,AA67))","v":""},{"$f":"IF(I68=\"\",\"\",IF(I68=\"Дома\",W68*3+X68,AB67))","v":""},{"$f":"IF(I68=\"\",\"\",IF(I68=\"Гости\",AC67+1,AC67+0))","v":""},{"$f":"IF(I68=\"\",\"\",IF(I68=\"Гости\",IF(N68=\"В\",AD67+1,AD67),AD67))","v":""},{"$f":"IF(I68=\"\",\"\",IF(I68=\"Гости\",IF(N68=\"Н\",AE67+1,AE67),AE67))","v":""},{"$f":"IF(I68=\"\",\"\",IF(I68=\"Гости\",IF(N68=\"П\",AF67+1,AF67),AF67))","v":""},{"$f":"IF(I68=\"\",\"\",IF(I68=\"Гости\",L68+AG67,AG67))","v":""},{"$f":"IF(I68=\"\",\"\",IF(I68=\"Гости\",M68+AH67,AH67))","v":""},{"$f":"IF(I68=\"\",\"\",IF(I68=\"Гости\",AD68*3+AE68,AI67))","v":""}]
[null,null,null,null,null,null,null,null,null,"","","","","","","","","","","","","","","","","","","","","","","","","",""]
[null,null,null,null,null,null,null,null,null,"","","","","","","","","","","","","","","","","","","","","","","","","",""]
[null,null,null,null,null,null,null,null,null,"","","","","","","","","","","","","","","","","","","","","","","","","",""]
[null,null,null,null,null,null,null,null,null,"","","","","","","","","","","","","","","","","","","","","","","","","",""]
[null,null,null,null,null,null,null,null,null,"","","","","","","","","","","","","","","","","","","","","","","","","",""]
[null,null,null,null,null,null,null,null,null,"","","","",{"$f":"IF(I74=\"\",\"\",IF(I74=\"Дома\",IF(J74>K74,\"В\",IF(J74=K74,\"Н\",\"П\")),IF(J74<K74,\"В\",IF(J74=K74,\"Н\",\"П\"))))","v":""},"","","","","","","","","","","","","","","","","","","","",""]
[null,null,null,null,null,null,null,null,null,"","","","","","","","","","","","","","","","","","","","","","","","","",""]
[null,null,null,null,null,null,null,null,null,"","","","","","","","","","","","","","","","","","","","","","","","","",""]
[null,null,null,null,null,null,null,null,null,"","","","","","","","","","","","","","","","","","","","","","","","","",""]
[null,null,null,null,null,null,null,null,null,"","","","","","","","","","","","","","","","","","","","","","","","","",""]
[null,null,null,null,null,null,null,null,null,"","","","","","","","","","","","","","","","","","","","","","","","","",""]
[null,null,null,null,null,null,null,null,null,"","","","","","","","","","","","","","","","","","","","","","","","","",""]
[null,null,null,null,null,null,null,null,null,"","","","","","","","","","","","","","","","","","","","","","","","","",""]
[null,null,null,null,null,null,null,null,null,"","","","","","","","","","","","","","","","","","","","","","","","","",""]
[null,null,null,null,null,null,null,null,null,"","","","","","","","","","","","","","","","","","","","","","","","","",""]
[null,null,null,null,null,null,null,null,null,"","","","","","","","","","","","","","","","","","","","","","","","","",""]
[null,null,null,null,null,null,null,null,null,"","","","","","","","","","","","","","","","","","","","","","","","","",""]
[null,null,null,null,null,null,null,null,null,"","","","","","","","","","","","","","","","","","","","","","","","","",""]
[null,null,null,null,null,null,null,null,null,"","","","","","","","","","","","","","","","","","","","","","","","","",""]
[null,null,null,null,null,null,null,null,null,"","","","","","","","","","","","","","","","","","","","","","","","","",""]
[null,null,null,null,null,null,null,null,null,"","","","","","","","","","","","","","","","","","","","","","","","","",""]
[null,null,null,null,null,null,null,null,null,"","","","","","","","","","","","","","","","","","","","","","","","","",""]
[null,null,null,null,null,null,null,null,null,"","","","","","","","","","","","","","","","","","","","","","","","","",""]
[null,null,null,null,null,null,null,null,null,"","","","","","","","","","","","","","","","","","","","","","","","","",""]
[null,null,null,null,null,null,null,null,null,"","","","","","","","","","","","","","","","","","","","","","","","","",""]
[null,null,null,null,null,null,null,null,null,"","","","","","","","","","","","","","","","","","","","","","","","","",""]
[null,null,null,null,null,null,null,null,null,"","","","","","","","","","","","","","","","","","","","","","","","","",""]
[null,null,null,null,null,null,null,null,null,"","","","","","","","","","","","","","","","","","","","","","","","","",""]
[null,null,null,null,null,null,null,null,null,"","","","","","","","","","","","","","","","","","","","","","","","","",""]
[null,null,null,null,null,null,null,null,null,"","","","","","","","","","","","","","","","","","","","","","","","","",""]
[null,null,null,null,null,null,null,null,null,"","","","","","","","","","","","","","","","","","","","","","","","","",""]
[null,null,null,null,null,null,null,null,null,"","","","","","","","","","","","","","","","","","","","","","","","","",""]
[null,null,null,null,null,null,null,null,null,"","","","","","","","","","","","","","","","","","","","","","","","","",""]
[null,null,null,null,null,null,null,null,null,"","","","","","","","","","","","","","","","","","","","","","","","","",""]
[null,null,null,null,null,null,null,null,null,"","","","","","","","","","","","","","","","","","","","","","","","","",""]
[null,null,null,null,null,null,null,null,null,"","","","","","","","","","","","","","","","","","","","","","","","","",""]
[null,null,null,null,null,null,null,null,null,"","","","","","","","","","","","","","","","","","","","","","","","","",""]
[null,null,null,null,null,null,null,null,null,"","","","","","","","","","","","","","","","","","","","","","","","","",""]
[null,null,null,null,null,null,null,null,null,"","","","","","","","","","","","","","","","","","","","","","","","","",""]
[null,null,null,null,null,null,null,null,null,"","","","","","","","","","","","","","","","","","","","","","","","","",""]
[null,null,null,null,null,null,null,null,null,"","","","","","","","","","","","","","","","","","","","","","","","","",""]
[null,null,null,null,null,null,null,null,null,"","","","","","","","","","","","","","","","","","","","","","","","","",""]
[null,null,null,null,null,null,null,null,null,"","","","","","","","","","","","","","","","","","","","","","","","","",""]
[null,null,null,null,null,null,null,null,null,"","","","","","","","","","","","","","","","","","","","","","","","","",""]
[null,null,null,null,null,null,null,null,null,"","","","","","","","","","","","","","","","","","","","","","","","","",""]
[null,null,null,null,null,null,null,null,null,"","","","","","","","","","","","","","","","","","","","","","","","","",""]
[null,null,null,null,null,null,null,null,null,"","","","","","","","","","","","","","","","","","","","","","","","","",""]
[null,null,null,null,null,null,null,null,null,"","","","","","","","","","","","","","","","","","","","","","","","","",""]
[null,null,null,null,null,null,null,null,null,"","","","","","","","","","","","","","","","","","","","","","","","","",""]
[null,null,null,null,null,null,null,null,null,"","","","","","","","","","","","","","","","","","","","","","","","","",""]
[null,null,null,null,null,null,null,null,null,"","","","","","","","","","","","","","","","","","","","","","","","","",""]
[null,null,null,null,null,null,null,null,null,"","","","","","","","","","","","","","","","","","","","","","","","","",""]
[null,null,null,null,null,null,null,null,null,"","","","","","","","","","","","","","","","","","","","","","","","","",""]
[null,null,null,null,null,null,null,null,null,"","","","","","","","","","","","","","","","","","","","","","","","","",""]
[null,null,null,null,null,null,null,null,null,"","","","","","","","","","","","","","","","","","","","","","","","","",""]
[null,null,null,null,null,null,null,null,null,"","","","","","","","","","","","","","","","","","","","","","","","","",""]
[null,null,null,null,null,null,null,null,null,"","","","","","","","","","","","","","","","","","","","","","","","","",""]
[null,null,null,null,null,null,null,null,null,"","","","","","","","","","","","","","","","","","","","","","","","","",""]
[null,null,null,null,null,null,null,null,null,"","","","","","","","","","","","","","","","","","","","","","","","","",""]
[null,null,null,null,null,null,null,null,null,"","","","","","","","","","","","","","","","","","","","","","","","","",""]
[null,null,null,null,null,null,null,null,null,"","","","","","","","","","","","","","","","","","","","","","","","","",""]
[null,null,null,null,null,null,null,null,null,"","","","","","","","","","","","","","","","","","","","","","","","","",""]
[null,null,null,null,null,null,null,null,null,{"$f":"IF(I131=\"\",\"\",E131+G131)","v":""},{"$f":"IF(I131=\"\",\"\",F131+H131)","v":""},{"$f":"IF(I131=\"\",\"\",IF(I131=\"Дома\",J131,K131))","v":""},{"$f":"IF(I131=\"\",\"\",IF(I131=\"Дома\",K131,J131))","v":""},"",{"$f":"IF(I131=\"\",\"\",O130+1)","v":""},"","","","","",{"$f":"IF(I131=\"\",\"\",P131*3+Q131)","v":""},"","","","","","","","","","","","","",""]
[null,null,null,null,null,null,null,null,null,"","","","","","",{"$f":"IF(I132=\"\",\"\",IF(N132=\"В\",P131+1,P131))","v":""},{"$f":"IF(I132=\"\",\"\",IF(N132=\"Н\",Q131+1,Q131))","v":""},{"$f":"IF(I132=\"\",\"\",IF(N132=\"П\",R131+1,R131))","v":""},{"$f":"IF(I132=\"\",\"\",S131+L132)","v":""},{"$f":"IF(I132=\"\",\"\",T131+M132)","v":""},"",{"$f":"IF(I132=\"\",\"\",IF(I132=\"Дома\",V131+1,V131+0))","v":""},{"$f":"IF(I132=\"\",\"\",IF(I132=\"Дома\",IF(N132=\"В\",W131+1,W131),W131))","v":""},{"$f":"IF(I132=\"\",\"\",IF(I132=\"Дома\",IF(N132=\"Н\",X131+1,X131),X131))","v":""},{"$f":"IF(I132=\"\",\"\",IF(I132=\"Дома\",IF(N132=\"П\",Y131+1,Y131),Y131))","v":""},{"$f":"IF(I132=\"\",\"\",IF(I132=\"Дома\",L132+Z131,Z131))","v":""},{"$f":"IF(I132=\"\",\"\",IF(I132=\"Дома\",M132+AA131,AA131))","v":""},{"$f":"IF(I132=\"\",\"\",IF(I132=\"Дома\",W132*3+X132,AB131))","v":""},{"$f":"IF(I132=\"\",\"\",IF(I132=\"Гости\",AC131+1,AC131+0))","v":""},{"$f":"IF(I132=\"\",\"\",IF(I132=\"Гости\",IF(N132=\"В\",AD131+1,AD131),AD131))","v":""},{"$f":"IF(I132=\"\",\"\",IF(I132=\"Гости\",IF(N132=\"Н\",AE131+1,AE131),AE131))","v":""},{"$f":"IF(I132=\"\",\"\",IF(I132=\"Гости\",IF(N132=\"П\",AF131+1,AF131),AF131))","v":""},{"$f":"IF(I132=\"\",\"\",IF(I132=\"Гости\",L132+AG131,AG131))","v":""},{"$f":"IF(I132=\"\",\"\",IF(I132=\"Гости\",M132+AH131,AH131))","v":""},{"$f":"IF(I132=\"\",\"\",IF(I132=\"Гости\",AD132*3+AE132,AI131))","v":""}]
[null,null,null,null,null,null,null,null,null,"","","","","","","","","","","","","","","","","","","","","","","","","",""]
[null,null,null,null,null,null,null,null,null,"","","","","","","","","","","","","","","","","","","","","","","","","",""]
[null,null,null,null,null,null,null,null,null,"","","","","","","","","","","","","","","","","","","","","","","","","",""]
[null,null,null,null,null,null,null,null,null,"","","","","","","","","","","","","","","","","","","","","","","","","",""]
[null,null,null,null,null,null,null,null,null,"","","","","","","","","","","","","","","","","","","","","","","","","",""]
[null,null,null,null,null,null,null,null,null,"","","","",{"$f":"IF(I138=\"\",\"\",IF(I138=\"Дома\",IF(J138>K138,\"В\",IF(J138=K138,\"Н\",\"П\")),IF(J138<K138,\"В\",IF(J138=K138,\"Н\",\"П\"))))","v":""},"","","","","","","","","","","","","","","","","","","","",""]
[null,null,null,null,null,null,null,null,null,"","","","","","","","","","","","","","","","","","","","","","","","","",""]
[null,null,null,null,null,null,null,null,null,"","","","","","","","","","","","","","","","","","","","","","","","","",""]
[null,null,null,null,null,null,null,null,null,"","","","","","","","","","","","","","","","","","","","","","","","","",""]
[null,null,null,null,null,null,null,null,null,"","","","","","","","","","","","","","","","","","","","","","","","","",""]
[null,null,null,null,null,null,null,null,null,"","","","","","","","","","","","","","","","","","","","","","","","","",""]
[null,null,null,null,null,null,null,null,null,"","","","","","","","","","","","","","","","","","","","","","","","","",""]
[null,null,null,null,null,null,null,null,null,"","","","","","","","","","","","","","","","","","","","","","","","","",""]
[null,null,null,null,null,null,null,null,null,"","","","","","","","","","","","","","","","","","","","","","","","","",""]
[null,null,null,null,null,null,null,null,null,"","","","","","","","","","","","","","","","","","","","","","","","","",""]
[null,null,null,null,null,null,null,null,null,"","","","","","","","","","","","","","","","","","","","","","","","","",""]
[null,null,null,null,null,null,null,null,null,"","","","","","","","","","","","","","","","","","","","","","","","","",""]
[null,null,null,null,null,null,null,null,null,"","","","","","","","","","","","","","","","","","","","","","","","","",""]

{"sheet":"Таблица","index":20,"n_rows":17,"n_cols":29,"rows_kept":17,"cut":false,"hidden":false,"merged":[]}
["Место","Команда","Игр","Выиграно","Ничьих","Проиграно","Забито","Пропущено","Очков",null,"Место","Команда","Игр","Выиграно","Ничьих","Проиграно","Забито","Пропущено","Очков",null,"Место","Команда","Игр","Выиграно","Ничьих","Проиграно","Забито","Пропущено","Очков"]
[1,"Инджия",28,16,7,5,46,26,55,null,1,"Инджия",14,9,3,2,25,12,30,null,1,"Младость ГАТ",14,7,5,2,13,7,26]
[2,"Младость ГАТ",28,15,8,5,33,17,53,null,2,"Железничар Панчево",14,8,4,2,20,10,28,null,2,"Инджия",14,7,4,3,21,14,25]
[3,"Железничар Панчево",28,14,7,7,38,27,49,null,3,"Младость ГАТ",14,8,3,3,20,10,27,null,3,"Явор Иваница",14,5,8,1,16,9,23]
[4,"Явор Иваница",26,11,11,4,36,20,44,null,4,"Графичар Белград",13,7,3,3,24,13,24,null,4,"Жарково",14,6,3,5,19,14,21]
[5,"Нови Белград",27,11,10,6,39,26,43,null,5,"Лозница",13,7,3,3,18,8,24,null,5,"Железничар Панчево",14,6,3,5,18,17,21]
[6,"Жарково",28,12,5,11,34,29,41,null,6,"Нови Белград",14,6,5,3,22,10,23,null,6,"Нови Белград",13,5,5,3,17,16,20]
[7,"Сремска-Митровица",27,11,6,10,35,27,39,null,7,"Златибор",14,6,5,3,17,10,23,null,7,"Сремска-Митровица",14,5,4,5,15,12,19]
[8,"Лозница",27,10,8,9,26,22,38,null,8,"Мачва",14,7,2,5,15,14,23,null,8,"Тимок",14,5,1,8,15,23,16]
[9,"Мачва",28,10,8,10,25,31,38,null,9,"Явор Иваница",12,6,3,3,20,11,21,null,9,"Мачва",14,3,6,5,10,17,15]
[10,"Будучность Добановичи",27,9,7,11,28,37,34,null,10,"Сремска-Митровица",13,6,2,5,20,15,20,null,10,"Лозница",14,3,5,6,8,14,14]
[11,"Златибор",26,8,9,9,27,28,33,null,11,"Жарково",14,6,2,6,15,15,20,null,11,"Бачка",13,3,5,5,10,18,14]
[12,"Графичар Белград",26,9,4,13,38,38,31,null,12,"Будучность Добановичи",14,5,5,4,15,15,20,null,12,"Будучность Добановичи",13,4,2,7,13,22,14]
[13,"Бачка",26,6,12,8,21,28,30,null,13,"Рад",14,5,4,5,19,17,19,null,13,"Златибор",12,2,4,6,10,18,10]
[14,"Рад",28,7,8,13,24,34,29,null,14,"Бачка",13,3,7,3,11,10,16,null,14,"Рад",14,2,4,8,5,17,10]
[15,"Тимок",28,7,6,15,27,35,27,null,15,"Тимок",14,2,5,7,12,12,11,null,15,"Графичар Белград",13,2,1,10,14,25,7]
[16,"Кабель Нови-Сад",28,1,6,21,12,64,9,null,16,"Кабель Нови-Сад",14,0,5,9,5,29,5,null,16,"Кабель Нови-Сад",14,1,1,12,7,35,4]

{"sheet":"Форма","index":21,"n_rows":500,"n_cols":61,"rows_kept":500,"cut":false,"hidden":false,"merged":[]}
["Место","Команда","Игр","Выиграно","Ничьих","Проиграно","Забито","Пропущено","Очков",null,"Место","Команда","Игр","Выиграно","Ничьих","Проиграно","Забито","Пропущено","Очков",null,"Место","Команда","Игр","Выиграно","Ничьих","Проиграно","Забито","Пропущено","Очков",null,null,null,null,null,null,null,null,null,null,null,null,null,null,null,null,null,null,null,null,null,null,null,"Место","Команда","Игр","Выиграно","Ничьих","Проиграно","Забито","Пропущено","Очков"]
[1,"Железничар Панчево",5,4,1,0,5,0,13,null,1,"Нови Белград",5,3,2,0,6,12,11,null,1,"Тимок",5,4,1,0,8,1,13,null,null,null,null,null,null,null,null,null,null,null,null,null,null,null,null,null,null,null,null,null,null,null,{"$f":"A2","v":1},{"$f":"B2&C2","v":"Железничар Панчево5"},{"$f":"C2","v":5},{"$f":"D2","v":4},1,0,5,0,13]
[2,"Нови Белград",5,3,2,0,12,6,11,null,2,"Графичар Белград",5,3,2,0,5,11,11,null,2,"Младость ГАТ",5,3,1,1,8,3,10,null,null,null,null,null,null,null,null,null,null,null,null,null,null,null,null,null,null,null,null,null,null,null,{"$f":"A3","v":2},{"$f":"B3&C3","v":"Нови Белград5"},{"$f":"C3","v":5},{"$f":"D3","v":3},{"$f":"E3","v":2},{"$f":"F3","v":0},{"$f":"G3","v":12},{"$f":"H3","v":6},{"$f":"I3","v":11}]
[3,"Будучность Добановичи",5,3,1,1,3,2,10,null,3,"Златибор",5,3,1,1,3,10,10,null,3,"Железничар Панчево",5,3,1,1,6,4,10,null,null,null,null,null,null,null,null,null,null,null,null,null,null,null,null,null,null,null,null,null,null,null,3,"Будучность Добановичи5",5,3,1,1,3,2,10]
[4,"Сремска-Митровица",5,3,0,2,7,2,9,null,4,"Лозница",5,3,1,1,2,7,10,null,4,"Нови Белград",5,2,3,0,7,5,9,null,null,null,null,null,null,null,null,null,null,null,null,null,null,null,null,null,null,null,null,null,null,null,4,"Сремска-Митровица5",5,3,0,2,7,2,9]
[5,"Тимок",5,2,3,0,3,1,9,null,5,"Железничар Панчево",5,3,1,1,2,5,10,null,5,"Инджия",5,2,2,1,8,5,8,null,null,null,null,null,null,null,null,null,null,null,null,null,null,null,null,null,null,null,null,null,null,null,5,"Тимок5",5,2,3,0,3,1,9]
[6,"Графичар Белград",5,2,2,1,7,2,8,null,6,"Сремска-Митровица",5,3,1,1,4,6,10,null,6,"Явор Иваница",5,1,4,0,6,3,7,null,null,null,null,null,null,null,null,null,null,null,null,null,null,null,null,null,null,null,null,null,null,null,6,"Графичар Белград5",5,2,2,1,7,2,8]
[7,"Младость ГАТ",5,2,2,1,6,2,8,null,7,"Явор Иваница",5,2,2,1,7,9,8,null,7,"Сремска-Митровица",5,2,1,2,6,3,7,null,null,null,null,null,null,null,null,null,null,null,null,null,null,null,null,null,null,null,null,null,null,null,7,"Младость ГАТ5",5,2,2,1,6,2,8]
[8,"Лозница",5,2,2,1,2,1,8,null,8,"Будучность Добановичи",5,2,2,1,3,3,8,null,8,"Жарково",5,2,1,2,6,5,7,null,null,null,null,null,null,null,null,null,null,null,null,null,null,null,null,null,null,null,null,null,null,null,8,"Лозница5",5,2,2,1,2,1,8]
[9,"Златибор",5,2,2,1,4,5,8,null,9,"Инджия",5,2,1,2,6,5,7,null,9,"Будучность Добановичи",5,2,1,2,7,7,7,null,null,null,null,null,null,null,null,null,null,null,null,null,null,null,null,null,null,null,null,null,null,null,9,"Златибор5",5,2,2,1,4,5,8]
[10,"Жарково",5,1,3,1,4,5,6,null,10,"Бачка",5,1,3,1,7,7,6,null,10,"Златибор",5,2,1,2,6,8,7,null,null,null,null,null,null,null,null,null,null,null,null,null,null,null,null,null,null,null,null,null,null,null,10,"Жарково5",5,1,3,1,4,5,6]
[11,"Инджия",5,1,2,2,5,6,5,null,11,"Младость ГАТ",5,1,3,1,3,3,6,null,11,"Бачка",5,1,3,1,4,5,6,null,null,null,null,null,null,null,null,null,null,null,null,null,null,null,null,null,null,null,null,null,null,null,11,"Инджия5",5,1,2,2,5,6,5]
[12,"Мачва",5,1,2,2,3,6,5,null,12,"Мачва",5,1,1,3,7,3,4,null,12,"Лозница",5,1,2,2,3,5,5,null,null,null,null,null,null,null,null,null,null,null,null,null,null,null,null,null,null,null,null,null,null,null,12,"Мачва5",5,1,2,2,3,6,5]
[13,"Явор Иваница",5,0,4,1,3,4,4,null,13,"Тимок",5,0,2,3,3,0,2,null,13,"Графичар Белград",5,1,1,3,3,4,4,null,null,null,null,null,null,null,null,null,null,null,null,null,null,null,null,null,null,null,null,null,null,null,13,"Явор Иваница5",5,0,4,1,3,4,4]
[14,"Бачка",5,0,3,2,4,8,3,null,14,"Жарково",5,0,2,3,8,3,2,null,14,"Рад",5,1,1,3,2,6,4,null,null,null,null,null,null,null,null,null,null,null,null,null,null,null,null,null,null,null,null,null,null,null,14,"Бачка5",5,0,3,2,4,8,3]
[15,"Рад",5,0,1,4,0,6,1,null,15,"Рад",5,0,1,4,7,2,1,null,15,"Мачва",5,1,1,3,3,8,4,null,null,null,null,null,null,null,null,null,null,null,null,null,null,null,null,null,null,null,null,null,null,null,15,"Рад5",5,0,1,4,0,6,1]
[16,"Кабель Нови-Сад",5,0,0,5,0,10,0,null,16,"Кабель Нови-Сад",5,0,1,4,12,1,1,null,16,"Кабель Нови-Сад",5,0,0,5,2,16,0,null,null,null,null,null,null,null,null,null,null,null,null,null,null,null,null,null,null,null,null,null,null,null,16,"Кабель Нови-Сад5",5,0,0,5,0,10,0]
[1,"Нови Белград",10,6,4,0,23,11,22,null,1,"Графичар Белград",10,7,2,1,8,23,23,null,1,"Явор Иваница",10,4,6,0,12,5,18,null,null,null,null,null,null,null,null,null,null,null,null,null,null,null,null,null,null,null,null,null,null,null,1,"Нови Белград10",10,6,4,0,23,11,22]
[2,"Железничар Панчево",10,6,2,2,11,6,20,null,2,"Железничар Панчево",10,6,3,1,5,12,21,null,2,"Инджия",10,5,3,2,15,11,18,null,null,null,null,null,null,null,null,null,null,null,null,null,null,null,null,null,null,null,null,null,null,null,2,"Железничар Панчево10",10,6,2,2,11,6,20]
[3,"Графичар Белград",10,5,3,2,17,9,18,null,3,"Инджия",10,6,2,2,11,19,20,null,3,"Младость ГАТ",10,5,3,2,11,7,18,null,null,null,null,null,null,null,null,null,null,null,null,null,null,null,null,null,null,null,null,null,null,null,3,"Графичар Белград10",10,5,3,2,17,9,18]
[4,"Сремска-Митровица",10,5,2,3,12,7,17,null,4,"Нови Белград",10,5,3,2,9,20,18,null,4,"Сремска-Митровица",10,5,2,3,14,6,17,null,null,null,null,null,null,null,null,null,null,null,null,null,null,null,null,null,null,null,null,null,null,null,4,"Сремска-Митровица10",10,5,2,3,12,7,17]
[5,"Младость ГАТ",10,4,4,2,11,6,16,null,5,"Лозница",10,5,3,2,5,12,18,null,5,"Жарково",10,5,2,3,15,9,17,null,null,null,null,null,null,null,null,null,null,null,null,null,null,null,null,null,null,null,null,null,null,null,5,"Младость ГАТ10",10,4,4,2,11,6,16]
[6,"Явор Иваница",10,3,6,1,13,8,15,null,6,"Златибор",10,5,3,2,9,15,18,null,6,"Железничар Панчево",10,5,2,3,15,12,17,null,null,null,null,null,null,null,null,null,null,null,null,null,null,null,null,null,null,null,null,null,null,null,6,"Явор Иваница10",10,3,6,1,13,8,15]
[7,"Златибор",10,4,3,3,14,10,15,null,7,"Сремска-Митровица",10,5,2,3,10,14,17,null,7,"Нови Белград",10,4,4,2,14,13,16,null,null,null,null,null,null,null,null,null,null,null,null,null,null,null,null,null,null,null,null,null,null,null,7,"Златибор10",10,4,3,3,14,10,15]
[8,"Тимок",10,4,3,3,8,4,15,null,8,"Будучность Добановичи",10,4,4,2,6,8,16,null,8,"Лозница",10,3,4,3,8,9,13,null,null,null,null,null,null,null,null,null,null,null,null,null,null,null,null,null,null,null,null,null,null,null,8,"Тимок10",10,4,3,3,8,4,15]
[9,"Лозница",10,4,3,3,10,7,15,null,9,"Явор Иваница",10,4,3,3,11,14,15,null,9,"Тимок",10,4,1,5,9,13,13,null,null,null,null,null,null,null,null,null,null,null,null,null,null,null,null,null,null,null,null,null,null,null,9,"Лозница10",10,4,3,3,10,7,15]
[10,"Инджия",10,4,3,3,13,11,15,null,10,"Младость ГАТ",10,4,3,3,9,12,15,null,10,"Будучность Добановичи",10,3,2,5,12,16,11,null,null,null,null,null,null,null,null,null,null,null,null,null,null,null,null,null,null,null,null,null,null,null,10,"Инджия10",10,4,3,3,13,11,15]
[11,"Будучность Добановичи",10,4,3,3,10,10,15,null,11,"Рад",10,4,1,5,14,15,13,null,11,"Бачка",10,2,5,3,8,14,11,null,null,null,null,null,null,null,null,null,null,null,null,null,null,null,null,null,null,null,null,null,null,null,11,"Будучность Добановичи10",10,4,3,3,10,10,15]
[12,"Бачка",10,2,6,2,11,12,12,null,12,"Бачка",10,2,6,2,9,10,12,null,12,"Мачва",10,2,4,4,5,11,10,null,null,null,null,null,null,null,null,null,null,null,null,null,null,null,null,null,null,null,null,null,null,null,12,"Бачка10",10,2,6,2,11,12,12]
[13,"Жарково",10,2,3,5,9,13,9,null,13,"Мачва",10,3,2,5,13,7,11,null,13,"Златибор",10,2,2,6,9,17,8,null,null,null,null,null,null,null,null,null,null,null,null,null,null,null,null,null,null,null,null,null,null,null,13,"Жарково10",10,2,3,5,9,13,9]
[14,"Мачва",10,2,2,6,6,15,8,null,14,"Жарково",10,2,2,6,14,8,8,null,14,"Рад",10,1,3,6,3,11,6,null,null,null,null,null,null,null,null,null,null,null,null,null,null,null,null,null,null,null,null,null,null,null,14,"Мачва10",10,2,2,6,6,15,8]
[15,"Рад",10,1,2,7,4,13,5,null,15,"Кабель Нови-Сад",10,0,4,6,18,3,4,null,15,"Графичар Белград",10,1,1,8,7,19,4,null,null,null,null,null,null,null,null,null,null,null,null,null,null,null,null,null,null,null,null,null,null,null,15,"Рад10",10,1,2,7,4,13,5]
[16,"Кабель Нови-Сад",10,0,1,9,3,28,1,null,16,"Тимок",10,0,3,7,10,3,3,null,16,"Кабель Нови-Сад",10,1,0,9,7,29,3,null,null,null,null,null,null,null,null,null,null,null,null,null,null,null,null,null,null,null,null,null,null,null,16,"Кабель Нови-Сад10",10,0,1,9,3,28,1]
[1,"Железничар Панчево",15,8,5,2,18,11,29,null,1,"Инджия",14,9,3,2,12,25,30,null,1,"Младость ГАТ",14,7,5,2,13,7,26,null,null,null,null,null,null,null,null,null,null,null,null,null,null,null,null,null,null,null,null,null,null,null,1,"Железничар Панчево15",15,8,5,2,18,11,29]
[2,"Нови Белград",15,7,7,1,28,14,28,null,2,"Железничар Панчево",14,8,4,2,10,20,28,null,2,"Инджия",14,7,4,3,21,14,25,null,null,null,null,null,null,null,null,null,null,null,null,null,null,null,null,null,null,null,null,null,null,null,2,"Нови Белград15",15,7,7,1,28,14,28]
[3,"Младость ГАТ",15,7,5,3,18,9,26,null,3,"Младость ГАТ",14,8,3,3,10,20,27,null,3,"Явор Иваница",14,5,8,1,16,9,23,null,null,null,null,null,null,null,null,null,null,null,null,null,null,null,null,null,null,null,null,null,null,null,3,"Младость ГАТ15",15,7,5,3,18,9,26]
[4,"Златибор",15,7,3,5,21,15,24,null,4,"Графичар Белград",13,7,3,3,13,24,24,null,4,"Жарково",14,6,3,5,19,14,21,null,null,null,null,null,null,null,null,null,null,null,null,null,null,null,null,null,null,null,null,null,null,null,4,"Златибор15",15,7,3,5,21,15,24]
[5,"Сремска-Митровица",15,7,3,5,17,11,24,null,5,"Лозница",13,7,3,3,8,18,24,null,5,"Железничар Панчево",14,6,3,5,18,17,21,null,null,null,null,null,null,null,null,null,null,null,null,null,null,null,null,null,null,null,null,null,null,null,5,"Сремска-Митровица15",15,7,3,5,17,11,24]
[6,"Явор Иваница",15,5,8,2,20,13,23,null,6,"Нови Белград",14,6,5,3,10,22,23,null,6,"Нови Белград",13,5,5,3,17,16,20,null,null,null,null,null,null,null,null,null,null,null,null,null,null,null,null,null,null,null,null,null,null,null,6,"Явор Иваница15",15,5,8,2,20,13,23]
[7,"Лозница",15,6,5,4,13,9,23,null,7,"Златибор",14,6,5,3,10,17,23,null,7,"Сремска-Митровица",14,5,4,5,15,12,19,null,null,null,null,null,null,null,null,null,null,null,null,null,null,null,null,null,null,null,null,null,null,null,7,"Лозница15",15,6,5,4,13,9,23]
[8,"Инджия",15,6,5,4,18,16,23,null,8,"Мачва",14,7,2,5,14,15,23,null,8,"Тимок",14,5,1,8,15,23,16,null,null,null,null,null,null,null,null,null,null,null,null,null,null,null,null,null,null,null,null,null,null,null,8,"Инджия15",15,6,5,4,18,16,23]
[9,"Графичар Белград",15,6,3,6,19,17,21,null,9,"Явор Иваница",12,6,3,3,11,20,21,null,9,"Мачва",14,3,6,5,10,17,15,null,null,null,null,null,null,null,null,null,null,null,null,null,null,null,null,null,null,null,null,null,null,null,9,"Графичар Белград15",15,6,3,6,19,17,21]
[10,"Будучность Добановичи",15,5,5,5,14,14,20,null,10,"Сремска-Митровица",13,6,2,5,15,20,20,null,10,"Лозница",14,3,5,6,8,14,14,null,null,null,null,null,null,null,null,null,null,null,null,null,null,null,null,null,null,null,null,null,null,null,10,"Будучность Добановичи15",15,5,5,5,14,14,20]
[11,"Бачка",15,3,9,3,17,20,18,null,11,"Жарково",14,6,2,6,15,15,20,null,11,"Бачка",13,3,5,5,10,18,14,null,null,null,null,null,null,null,null,null,null,null,null,null,null,null,null,null,null,null,null,null,null,null,11,"Бачка15",15,3,9,3,17,20,18]
[12,"Жарково",15,4,4,7,14,18,16,null,12,"Будучность Добановичи",14,5,5,4,15,15,20,null,12,"Будучность Добановичи",13,4,2,7,13,22,14,null,null,null,null,null,null,null,null,null,null,null,null,null,null,null,null,null,null,null,null,null,null,null,12,"Жарково15",15,4,4,7,14,18,16]
[13,"Тимок",15,4,4,7,11,15,16,null,13,"Рад",14,5,4,5,17,19,19,null,13,"Златибор",12,2,4,6,10,18,10,null,null,null,null,null,null,null,null,null,null,null,null,null,null,null,null,null,null,null,null,null,null,null,13,"Тимок15",15,4,4,7,11,15,16]
[14,"Рад",15,3,4,8,11,17,13,null,14,"Бачка",13,3,7,3,10,11,16,null,14,"Рад",14,2,4,8,5,17,10,null,null,null,null,null,null,null,null,null,null,null,null,null,null,null,null,null,null,null,null,null,null,null,14,"Рад15",15,3,4,8,11,17,13]
[15,"Мачва",15,2,5,8,8,20,11,null,15,"Тимок",14,2,5,7,12,12,11,null,15,"Графичар Белград",13,2,1,10,14,25,7,null,null,null,null,null,null,null,null,null,null,null,null,null,null,null,null,null,null,null,null,null,null,null,15,"Мачва15",15,2,5,8,8,20,11]
[16,"Кабель Нови-Сад",15,0,2,13,6,38,2,null,16,"Кабель Нови-Сад",14,0,5,9,29,5,5,null,16,"Кабель Нови-Сад",14,1,1,12,7,35,4,null,null,null,null,null,null,null,null,null,null,null,null,null,null,null,null,null,null,null,null,null,null,null,16,"Кабель Нови-Сад15",15,0,2,13,6,38,2]
[1,"Железничар Панчево",20,11,5,4,27,17,38,null,null,null,null,null,null,null,null,null,null,null,null,null,null,null,null,null,null,null,null,null,null,null,null,null,null,null,null,null,null,null,null,null,null,null,null,null,null,null,null,null,null,null,1,"Железничар Панчево20",20,11,5,4,27,17,38]
[2,"Младость ГАТ",20,10,6,4,27,13,36,null,null,null,null,null,null,null,null,null,null,null,null,null,null,null,null,null,null,null,null,null,null,null,null,null,null,null,null,null,null,null,null,null,null,null,null,null,null,null,null,null,null,null,2,"Младость ГАТ20",20,10,6,4,27,13,36]
[3,"Явор Иваница",20,9,9,2,27,14,36,null,null,null,null,null,null,null,null,null,null,null,null,null,null,null,null,null,null,null,null,null,null,null,null,null,null,null,null,null,null,null,null,null,null,null,null,null,null,null,null,null,null,null,3,"Явор Иваница20",20,9,9,2,27,14,36]
[4,"Инджия",20,10,6,4,29,19,36,null,null,null,null,null,null,null,null,null,null,null,null,null,null,null,null,null,null,null,null,null,null,null,null,null,null,null,null,null,null,null,null,null,null,null,null,null,null,null,null,null,null,null,4,"Инджия20",20,10,6,4,29,19,36]
[5,"Нови Белград",20,9,7,4,33,20,34,null,null,null,null,null,null,null,null,null,null,null,null,null,null,null,null,null,null,null,null,null,null,null,null,null,null,null,null,null,null,null,null,null,null,null,null,null,null,null,null,null,null,null,5,"Нови Белград20",20,9,7,4,33,20,34]
[6,"Сремска-Митровица",20,10,4,6,28,16,34,null,null,null,null,null,null,null,null,null,null,null,null,null,null,null,null,null,null,null,null,null,null,null,null,null,null,null,null,null,null,null,null,null,null,null,null,null,null,null,null,null,null,null,6,"Сремска-Митровица20",20,10,4,6,28,16,34]
[7,"Лозница",20,7,7,6,18,16,28,null,null,null,null,null,null,null,null,null,null,null,null,null,null,null,null,null,null,null,null,null,null,null,null,null,null,null,null,null,null,null,null,null,null,null,null,null,null,null,null,null,null,null,7,"Лозница20",20,7,7,6,18,16,28]
[8,"Графичар Белград",20,8,3,9,30,27,27,null,null,null,null,null,null,null,null,null,null,null,null,null,null,null,null,null,null,null,null,null,null,null,null,null,null,null,null,null,null,null,null,null,null,null,null,null,null,null,null,null,null,null,8,"Графичар Белград20",20,8,3,9,30,27,27]
[9,"Будучность Добановичи",20,7,6,7,21,24,27,null,null,null,null,null,null,null,null,null,null,null,null,null,null,null,null,null,null,null,null,null,null,null,null,null,null,null,null,null,null,null,null,null,null,null,null,null,null,null,null,null,null,null,9,"Будучность Добановичи20",20,7,6,7,21,24,27]
[10,"Златибор",20,7,5,8,23,25,26,null,null,null,null,null,null,null,null,null,null,null,null,null,null,null,null,null,null,null,null,null,null,null,null,null,null,null,null,null,null,null,null,null,null,null,null,null,null,null,null,null,null,null,10,"Златибор20",20,7,5,8,23,25,26]
[11,"Жарково",20,7,4,9,22,23,25,null,null,null,null,null,null,null,null,null,null,null,null,null,null,null,null,null,null,null,null,null,null,null,null,null,null,null,null,null,null,null,null,null,null,null,null,null,null,null,null,null,null,null,11,"Жарково20",20,7,4,9,22,23,25]
[12,"Бачка",20,4,11,5,18,23,23,null,null,null,null,null,null,null,null,null,null,null,null,null,null,null,null,null,null,null,null,null,null,null,null,null,null,null,null,null,null,null,null,null,null,null,null,null,null,null,null,null,null,null,12,"Бачка20",20,4,11,5,18,23,23]
[13,"Мачва",20,5,6,9,12,24,21,null,null,null,null,null,null,null,null,null,null,null,null,null,null,null,null,null,null,null,null,null,null,null,null,null,null,null,null,null,null,null,null,null,null,null,null,null,null,null,null,null,null,null,13,"Мачва20",20,5,6,9,12,24,21]
[14,"Рад",20,4,5,11,17,25,17,null,null,null,null,null,null,null,null,null,null,null,null,null,null,null,null,null,null,null,null,null,null,null,null,null,null,null,null,null,null,null,null,null,null,null,null,null,null,null,null,null,null,null,14,"Рад20",20,4,5,11,17,25,17]
[15,"Тимок",20,4,5,11,13,22,17,null,null,null,null,null,null,null,null,null,null,null,null,null,null,null,null,null,null,null,null,null,null,null,null,null,null,null,null,null,null,null,null,null,null,null,null,null,null,null,null,null,null,null,15,"Тимок20",20,4,5,11,13,22,17]
[16,"Кабель Нови-Сад",20,1,4,15,10,47,7,null,null,null,null,null,null,null,null,null,null,null,null,null,null,null,null,null,null,null,null,null,null,null,null,null,null,null,null,null,null,null,null,null,null,null,null,null,null,null,null,null,null,null,16,"Кабель Нови-Сад20",20,1,4,15,10,47,7]
[1,"Младость ГАТ",25,14,6,5,32,17,48,null,null,null,null,null,null,null,null,null,null,null,null,null,null,null,null,null,null,null,null,null,null,null,null,null,null,null,null,null,null,null,null,null,null,null,null,null,null,null,null,null,null,null,1,"Младость ГАТ25",25,14,6,5,32,17,48]
[2,"Инджия",25,13,7,5,40,26,46,null,null,null,null,null,null,null,null,null,null,null,null,null,null,null,null,null,null,null,null,null,null,null,null,null,null,null,null,null,null,null,null,null,null,null,null,null,null,null,null,null,null,null,{"$f":"A67","v":2},{"$f":"B67&C67","v":"Инджия25"},{"$f":"C67","v":25},{"$f":"D67","v":13},{"$f":"E67","v":7},{"$f":"F67","v":5},{"$f":"G67","v":40},{"$f":"H67","v":26},{"$f":"I67","v":46}]
[3,"Железничар Панчево",25,13,6,6,34,23,45,null,null,null,null,null,null,null,null,null,null,null,null,null,null,null,null,null,null,null,null,null,null,null,null,null,null,null,null,null,null,null,null,null,null,null,null,null,null,null,null,null,null,null,3,"Железничар Панчево25",25,13,6,6,34,23,45]
[4,"Нови Белград",25,11,9,5,39,25,42,null,null,null,null,null,null,null,null,null,null,null,null,null,null,null,null,null,null,null,null,null,null,null,null,null,null,null,null,null,null,null,null,null,null,null,null,null,null,null,null,null,null,null,4,"Нови Белград25",25,11,9,5,39,25,42]
[5,"Явор Иваница",25,10,11,4,34,20,41,null,null,null,null,null,null,null,null,null,null,null,null,null,null,null,null,null,null,null,null,null,null,null,null,null,null,null,null,null,null,null,null,null,null,null,null,null,null,null,null,null,null,null,5,"Явор Иваница25",25,10,11,4,34,20,41]
[6,"Лозница",25,10,8,7,26,18,38,null,null,null,null,null,null,null,null,null,null,null,null,null,null,null,null,null,null,null,null,null,null,null,null,null,null,null,null,null,null,null,null,null,null,null,null,null,null,null,null,null,null,null,6,"Лозница25",25,10,8,7,26,18,38]
[7,"Сремска-Митровица",25,10,5,10,30,25,35,null,null,null,null,null,null,null,null,null,null,null,null,null,null,null,null,null,null,null,null,null,null,null,null,null,null,null,null,null,null,null,null,null,null,null,null,null,null,null,null,null,null,null,7,"Сремска-Митровица25",25,10,5,10,30,25,35]
[8,"Златибор",25,8,9,8,27,27,33,null,null,null,null,null,null,null,null,null,null,null,null,null,null,null,null,null,null,null,null,null,null,null,null,null,null,null,null,null,null,null,null,null,null,null,null,null,null,null,null,null,null,null,8,"Златибор25",25,8,9,8,27,27,33]
[9,"Жарково",25,9,5,11,27,29,32,null,null,null,null,null,null,null,null,null,null,null,null,null,null,null,null,null,null,null,null,null,null,null,null,null,null,null,null,null,null,null,null,null,null,null,null,null,null,null,null,null,null,null,9,"Жарково25",25,9,5,11,27,29,32]
[10,"Мачва",25,8,7,10,22,30,31,null,null,null,null,null,null,null,null,null,null,null,null,null,null,null,null,null,null,null,null,null,null,null,null,null,null,null,null,null,null,null,null,null,null,null,null,null,null,null,null,null,null,null,10,"Мачва25",25,8,7,10,22,30,31]
[11,"Будучность Добановичи",25,8,7,10,25,34,31,null,null,null,null,null,null,null,null,null,null,null,null,null,null,null,null,null,null,null,null,null,null,null,null,null,null,null,null,null,null,null,null,null,null,null,null,null,null,null,null,null,null,null,11,"Будучность Добановичи25",25,8,7,10,25,34,31]
[12,"Графичар Белград",25,9,3,13,38,38,30,null,null,null,null,null,null,null,null,null,null,null,null,null,null,null,null,null,null,null,null,null,null,null,null,null,null,null,null,null,null,null,null,null,null,null,null,null,null,null,null,null,null,null,12,"Графичар Белград25",25,9,3,13,38,38,30]
[13,"Бачка",25,5,12,8,20,28,27,null,null,null,null,null,null,null,null,null,null,null,null,null,null,null,null,null,null,null,null,null,null,null,null,null,null,null,null,null,null,null,null,null,null,null,null,null,null,null,null,null,null,null,13,"Бачка25",25,5,12,8,20,28,27]
[14,"Рад",25,7,6,12,23,32,27,null,null,null,null,null,null,null,null,null,null,null,null,null,null,null,null,null,null,null,null,null,null,null,null,null,null,null,null,null,null,null,null,null,null,null,null,null,null,null,null,null,null,null,14,"Рад25",25,7,6,12,23,32,27]
[15,"Тимок",25,6,5,14,23,29,23,null,null,null,null,null,null,null,null,null,null,null,null,null,null,null,null,null,null,null,null,null,null,null,null,null,null,null,null,null,null,null,null,null,null,null,null,null,null,null,null,null,null,null,15,"Тимок25",25,6,5,14,23,29,23]
[16,"Кабель Нови-Сад",25,1,6,18,12,57,9,null,null,null,null,null,null,null,null,null,null,null,null,null,null,null,null,null,null,null,null,null,null,null,null,null,null,null,null,null,null,null,null,null,null,null,null,null,null,null,null,null,null,null,16,"Кабель Нови-Сад25",25,1,6,18,12,57,9]
[1,"Инджия",28,16,7,5,46,26,55,null,null,null,null,null,null,null,null,null,null,null,null,null,null,null,null,null,null,null,null,null,null,null,null,null,null,null,null,null,null,null,null,null,null,null,null,null,null,null,null,null,null,null,1,"Инджия28",28,16,7,5,46,26,55]
[2,"Младость ГАТ",28,15,8,5,33,17,53,null,null,null,null,null,null,null,null,null,null,null,null,null,null,null,null,null,null,null,null,null,null,null,null,null,null,null,null,null,null,null,null,null,null,null,null,null,null,null,null,null,null,null,2,"Младость ГАТ28",28,15,8,5,33,17,53]
[3,"Железничар Панчево",28,14,7,7,38,27,49,null,null,null,null,null,null,null,null,null,null,null,null,null,null,null,null,null,null,null,null,null,null,null,null,null,null,null,null,null,null,null,null,null,null,null,null,null,null,null,null,null,null,null,3,"Железничар Панчево28",28,14,7,7,38,27,49]
[4,"Явор Иваница",26,11,11,4,36,20,44,null,null,null,null,null,null,null,null,null,null,null,null,null,null,null,null,null,null,null,null,null,null,null,null,null,null,null,null,null,null,null,null,null,null,null,null,null,null,null,null,null,null,null,4,"Явор Иваница26",26,11,11,4,36,20,44]
[5,"Нови Белград",27,11,10,6,39,26,43,null,null,null,null,null,null,null,null,null,null,null,null,null,null,null,null,null,null,null,null,null,null,null,null,null,null,null,null,null,null,null,null,null,null,null,null,null,null,null,null,null,null,null,5,"Нови Белград27",27,11,10,6,39,26,43]
[6,"Жарково",28,12,5,11,34,29,41,null,null,null,null,null,null,null,null,null,null,null,null,null,null,null,null,null,null,null,null,null,null,null,null,null,null,null,null,null,null,null,null,null,null,null,null,null,null,null,null,null,null,null,6,"Жарково28",28,12,5,11,34,29,41]
[7,"Сремска-Митровица",27,11,6,10,35,27,39,null,null,null,null,null,null,null,null,null,null,null,null,null,null,null,null,null,null,null,null,null,null,null,null,null,null,null,null,null,null,null,null,null,null,null,null,null,null,null,null,null,null,null,7,"Сремска-Митровица27",27,11,6,10,35,27,39]
[8,"Лозница",27,10,8,9,26,22,38,null,null,null,null,null,null,null,null,null,null,null,null,null,null,null,null,null,null,null,null,null,null,null,null,null,null,null,null,null,null,null,null,null,null,null,null,null,null,null,null,null,null,null,8,"Лозница27",27,10,8,9,26,22,38]
[9,"Мачва",28,10,8,10,25,31,38,null,null,null,null,null,null,null,null,null,null,null,null,null,null,null,null,null,null,null,null,null,null,null,null,null,null,null,null,null,null,null,null,null,null,null,null,null,null,null,null,null,null,null,9,"Мачва28",28,10,8,10,25,31,38]
[10,"Будучность Добановичи",27,9,7,11,28,37,34,null,null,null,null,null,null,null,null,null,null,null,null,null,null,null,null,null,null,null,null,null,null,null,null,null,null,null,null,null,null,null,null,null,null,null,null,null,null,null,null,null,null,null,10,"Будучность Добановичи27",27,9,7,11,28,37,34]
[11,"Златибор",26,8,9,9,27,28,33,null,null,null,null,null,null,null,null,null,null,null,null,null,null,null,null,null,null,null,null,null,null,null,null,null,null,null,null,null,null,null,null,null,null,null,null,null,null,null,null,null,null,null,11,"Златибор26",26,8,9,9,27,28,33]
[12,"Графичар Белград",26,9,4,13,38,38,31,null,null,null,null,null,null,null,null,null,null,null,null,null,null,null,null,null,null,null,null,null,null,null,null,null,null,null,null,null,null,null,null,null,null,null,null,null,null,null,null,null,null,null,12,"Графичар Белград26",26,9,4,13,38,38,31]
[13,"Бачка",26,6,12,8,21,28,30,null,null,null,null,null,null,null,null,null,null,null,null,null,null,null,null,null,null,null,null,null,null,null,null,null,null,null,null,null,null,null,null,null,null,null,null,null,null,null,null,null,null,null,13,"Бачка26",26,6,12,8,21,28,30]
[14,"Рад",28,7,8,13,24,34,29,null,null,null,null,null,null,null,null,null,null,null,null,null,null,null,null,null,null,null,null,null,null,null,null,null,null,null,null,null,null,null,null,null,null,null,null,null,null,null,null,null,null,null,14,"Рад28",28,7,8,13,24,34,29]
[15,"Тимок",28,7,6,15,27,35,27,null,null,null,null,null,null,null,null,null,null,null,null,null,null,null,null,null,null,null,null,null,null,null,null,null,null,null,null,null,null,null,null,null,null,null,null,null,null,null,null,null,null,null,15,"Тимок28",28,7,6,15,27,35,27]
[16,"Кабель Нови-Сад",28,1,6,21,12,64,9,null,null,null,null,null,null,null,null,null,null,null,null,null,null,null,null,null,null,null,null,null,null,null,null,null,null,null,null,null,null,null,null,null,null,null,null,null,null,null,null,null,null,null,16,"Кабель Нови-Сад28",28,1,6,21,12,64,9]
[null,null,null,null,null,null,null,null,null,null,null,null,null,null,null,null,null,null,null,null,null,null,null,null,null,null,null,null,null,null,null,null,null,null,null,null,null,null,null,null,null,null,null,null,null,null,null,null,null,null,null,null,0,"",0,0,0,0,0,0,0]
[null,null,null,null,null,null,null,null,null,null,null,null,null,null,null,null,null,null,null,null,null,null,null,null,null,null,null,null,null,null,null,null,null,null,null,null,null,null,null,null,null,null,null,null,null,null,null,null,null,null,null,null,0,"",0,0,0,0,0,0,0]
[null,null,null,null,null,null,null,null,null,null,null,null,null,null,null,null,null,null,null,null,null,null,null,null,null,null,null,null,null,null,null,null,null,null,null,null,null,null,null,null,null,null,null,null,null,null,null,null,null,null,null,null,0,"",0,0,0,0,0,0,0]
[null,null,null,null,null,null,null,null,null,null,null,null,null,null,null,null,null,null,null,null,null,null,null,null,null,null,null,null,null,null,null,null,null,null,null,null,null,null,null,null,null,null,null,null,null,null,null,null,null,null,null,null,{"$f":"A101","v":0},{"$f":"B101&C101","v":""},{"$f":"C101","v":0},{"$f":"D101","v":0},{"$f":"E101","v":0},{"$f":"F101","v":0},{"$f":"G101","v":0},{"$f":"H101","v":0},{"$f":"I101","v":0}]
[null,null,null,null,null,null,null,null,null,null,null,null,null,null,null,null,null,null,null,null,null,null,null,null,null,null,null,null,null,null,null,null,null,null,null,null,null,null,null,null,null,null,null,null,null,null,null,null,null,null,null,null,0,"",0,0,0,0,0,0,0]
[null,null,null,null,null,null,null,null,null,null,null,null,null,null,null,null,null,null,null,null,null,null,null,null,null,null,null,null,null,null,null,null,null,null,null,null,null,null,null,null,null,null,null,null,null,null,null,null,null,null,null,null,0,"",0,0,0,0,0,0,0]
[null,null,null,null,null,null,null,null,null,null,null,null,null,null,null,null,null,null,null,null,null,null,null,null,null,null,null,null,null,null,null,null,null,null,null,null,null,null,null,null,null,null,null,null,null,null,null,null,null,null,null,null,0,"",0,0,0,0,0,0,0]
[null,null,null,null,null,null,null,null,null,null,null,null,null,null,null,null,null,null,null,null,null,null,null,null,null,null,null,null,null,null,null,null,null,null,null,null,null,null,null,null,null,null,null,null,null,null,null,null,null,null,null,null,0,"",0,0,0,0,0,0,0]
[null,null,null,null,null,null,null,null,null,null,null,null,null,null,null,null,null,null,null,null,null,null,null,null,null,null,null,null,null,null,null,null,null,null,null,null,null,null,null,null,null,null,null,null,null,null,null,null,null,null,null,null,0,"",0,0,0,0,0,0,0]
[null,null,null,null,null,null,null,null,null,null,null,null,null,null,null,null,null,null,null,null,null,null,null,null,null,null,null,null,null,null,null,null,null,null,null,null,null,null,null,null,null,null,null,null,null,null,null,null,null,null,null,null,0,"",0,0,0,0,0,0,0]
[null,null,null,null,null,null,null,null,null,null,null,null,null,null,null,null,null,null,null,null,null,null,null,null,null,null,null,null,null,null,null,null,null,null,null,null,null,null,null,null,null,null,null,null,null,null,null,null,null,null,null,null,0,"",0,0,0,0,0,0,0]
[null,null,null,null,null,null,null,null,null,null,null,null,null,null,null,null,null,null,null,null,null,null,null,null,null,null,null,null,null,null,null,null,null,null,null,null,null,null,null,null,null,null,null,null,null,null,null,null,null,null,null,null,0,"",0,0,0,0,0,0,0]
[null,null,null,null,null,null,null,null,null,null,null,null,null,null,null,null,null,null,null,null,null,null,null,null,null,null,null,null,null,null,null,null,null,null,null,null,null,null,null,null,null,null,null,null,null,null,null,null,null,null,null,null,0,"",0,0,0,0,0,0,0]
[null,null,null,null,null,null,null,null,null,null,null,null,null,null,null,null,null,null,null,null,null,null,null,null,null,null,null,null,null,null,null,null,null,null,null,null,null,null,null,null,null,null,null,null,null,null,null,null,null,null,null,null,0,"",0,0,0,0,0,0,0]
[null,null,null,null,null,null,null,null,null,null,null,null,null,null,null,null,null,null,null,null,null,null,null,null,null,null,null,null,null,null,null,null,null,null,null,null,null,null,null,null,null,null,null,null,null,null,null,null,null,null,null,null,0,"",0,0,0,0,0,0,0]
[null,null,null,null,null,null,null,null,null,null,null,null,null,null,null,null,null,null,null,null,null,null,null,null,null,null,null,null,null,null,null,null,null,null,null,null,null,null,null,null,null,null,null,null,null,null,null,null,null,null,null,null,0,"",0,0,0,0,0,0,0]
[null,null,null,null,null,null,null,null,null,null,null,null,null,null,null,null,null,null,null,null,null,null,null,null,null,null,null,null,null,null,null,null,null,null,null,null,null,null,null,null,null,null,null,null,null,null,null,null,null,null,null,null,0,"",0,0,0,0,0,0,0]
[null,null,null,null,null,null,null,null,null,null,null,null,null,null,null,null,null,null,null,null,null,null,null,null,null,null,null,null,null,null,null,null,null,null,null,null,null,null,null,null,null,null,null,null,null,null,null,null,null,null,null,null,0,"",0,0,0,0,0,0,0]
[null,null,null,null,null,null,null,null,null,null,null,null,null,null,null,null,null,null,null,null,null,null,null,null,null,null,null,null,null,null,null,null,null,null,null,null,null,null,null,null,null,null,null,null,null,null,null,null,null,null,null,null,0,"",0,0,0,0,0,0,0]
[null,null,null,null,null,null,null,null,null,null,null,null,null,null,null,null,null,null,null,null,null,null,null,null,null,null,null,null,null,null,null,null,null,null,null,null,null,null,null,null,null,null,null,null,null,null,null,null,null,null,null,null,0,"",0,0,0,0,0,0,0]
[null,null,null,null,null,null,null,null,null,null,null,null,null,null,null,null,null,null,null,null,null,null,null,null,null,null,null,null,null,null,null,null,null,null,null,null,null,null,null,null,null,null,null,null,null,null,null,null,null,null,null,null,0,"",0,0,0,0,0,0,0]
[null,null,null,null,null,null,null,null,null,null,null,null,null,null,null,null,null,null,null,null,null,null,null,null,null,null,null,null,null,null,null,null,null,null,null,null,null,null,null,null,null,null,null,null,null,null,null,null,null,null,null,null,0,"",0,0,0,0,0,0,0]
[null,null,null,null,null,null,null,null,null,null,null,null,null,null,null,null,null,null,null,null,null,null,null,null,null,null,null,null,null,null,null,null,null,null,null,null,null,null,null,null,null,null,null,null,null,null,null,null,null,null,null,null,0,"",0,0,0,0,0,0,0]
[null,null,null,null,null,null,null,null,null,null,null,null,null,null,null,null,null,null,null,null,null,null,null,null,null,null,null,null,null,null,null,null,null,null,null,null,null,null,null,null,null,null,null,null,null,null,null,null,null,null,null,null,0,"",0,0,0,0,0,0,0]
[null,null,null,null,null,null,null,null,null,null,null,null,null,null,null,null,null,null,null,null,null,null,null,null,null,null,null,null,null,null,null,null,null,null,null,null,null,null,null,null,null,null,null,null,null,null,null,null,null,null,null,null,0,"",0,0,0,0,0,0,0]
[null,null,null,null,null,null,null,null,null,null,null,null,null,null,null,null,null,null,null,null,null,null,null,null,null,null,null,null,null,null,null,null,null,null,null,null,null,null,null,null,null,null,null,null,null,null,null,null,null,null,null,null,0,"",0,0,0,0,0,0,0]
[null,null,null,null,null,null,null,null,null,null,null,null,null,null,null,null,null,null,null,null,null,null,null,null,null,null,null,null,null,null,null,null,null,null,null,null,null,null,null,null,null,null,null,null,null,null,null,null,null,null,null,null,0,"",0,0,0,0,0,0,0]
[null,null,null,null,null,null,null,null,null,null,null,null,null,null,null,null,null,null,null,null,null,null,null,null,null,null,null,null,null,null,null,null,null,null,null,null,null,null,null,null,null,null,null,null,null,null,null,null,null,null,null,null,0,"",0,0,0,0,0,0,0]
[null,null,null,null,null,null,null,null,null,null,null,null,null,null,null,null,null,null,null,null,null,null,null,null,null,null,null,null,null,null,null,null,null,null,null,null,null,null,null,null,null,null,null,null,null,null,null,null,null,null,null,null,0,"",0,0,0,0,0,0,0]
[null,null,null,null,null,null,null,null,null,null,null,null,null,null,null,null,null,null,null,null,null,null,null,null,null,null,null,null,null,null,null,null,null,null,null,null,null,null,null,null,null,null,null,null,null,null,null,null,null,null,null,null,0,"",0,0,0,0,0,0,0]
[null,null,null,null,null,null,null,null,null,null,null,null,null,null,null,null,null,null,null,null,null,null,null,null,null,null,null,null,null,null,null,null,null,null,null,null,null,null,null,null,null,null,null,null,null,null,null,null,null,null,null,null,0,"",0,0,0,0,0,0,0]
[null,null,null,null,null,null,null,null,null,null,null,null,null,null,null,null,null,null,null,null,null,null,null,null,null,null,null,null,null,null,null,null,null,null,null,null,null,null,null,null,null,null,null,null,null,null,null,null,null,null,null,null,0,"",0,0,0,0,0,0,0]
[null,null,null,null,null,null,null,null,null,null,null,null,null,null,null,null,null,null,null,null,null,null,null,null,null,null,null,null,null,null,null,null,null,null,null,null,null,null,null,null,null,null,null,null,null,null,null,null,null,null,null,null,0,"",0,0,0,0,0,0,0]
[null,null,null,null,null,null,null,null,null,null,null,null,null,null,null,null,null,null,null,null,null,null,null,null,null,null,null,null,null,null,null,null,null,null,null,null,null,null,null,null,null,null,null,null,null,null,null,null,null,null,null,null,0,"",0,0,0,0,0,0,0]
[null,null,null,null,null,null,null,null,null,null,null,null,null,null,null,null,null,null,null,null,null,null,null,null,null,null,null,null,null,null,null,null,null,null,null,null,null,null,null,null,null,null,null,null,null,null,null,null,null,null,null,null,0,"",0,0,0,0,0,0,0]
[null,null,null,null,null,null,null,null,null,null,null,null,null,null,null,null,null,null,null,null,null,null,null,null,null,null,null,null,null,null,null,null,null,null,null,null,null,null,null,null,null,null,null,null,null,null,null,null,null,null,null,null,0,"",0,0,0,0,0,0,0]
[null,null,null,null,null,null,null,null,null,null,null,null,null,null,null,null,null,null,null,null,null,null,null,null,null,null,null,null,null,null,null,null,null,null,null,null,null,null,null,null,null,null,null,null,null,null,null,null,null,null,null,null,0,"",0,0,0,0,0,0,0]
[null,null,null,null,null,null,null,null,null,null,null,null,null,null,null,null,null,null,null,null,null,null,null,null,null,null,null,null,null,null,null,null,null,null,null,null,null,null,null,null,null,null,null,null,null,null,null,null,null,null,null,null,0,"",0,0,0,0,0,0,0]
[null,null,null,null,null,null,null,null,null,null,null,null,null,null,null,null,null,null,null,null,null,null,null,null,null,null,null,null,null,null,null,null,null,null,null,null,null,null,null,null,null,null,null,null,null,null,null,null,null,null,null,null,0,"",0,0,0,0,0,0,0]
[null,null,null,null,null,null,null,null,null,null,null,null,null,null,null,null,null,null,null,null,null,null,null,null,null,null,null,null,null,null,null,null,null,null,null,null,null,null,null,null,null,null,null,null,null,null,null,null,null,null,null,null,0,"",0,0,0,0,0,0,0]
[null,null,null,null,null,null,null,null,null,null,null,null,null,null,null,null,null,null,null,null,null,null,null,null,null,null,null,null,null,null,null,null,null,null,null,null,null,null,null,null,null,null,null,null,null,null,null,null,null,null,null,null,0,"",0,0,0,0,0,0,0]
[null,null,null,null,null,null,null,null,null,null,null,null,null,null,null,null,null,null,null,null,null,null,null,null,null,null,null,null,null,null,null,null,null,null,null,null,null,null,null,null,null,null,null,null,null,null,null,null,null,null,null,null,0,"",0,0,0,0,0,0,0]
[null,null,null,null,null,null,null,null,null,null,null,null,null,null,null,null,null,null,null,null,null,null,null,null,null,null,null,null,null,null,null,null,null,null,null,null,null,null,null,null,null,null,null,null,null,null,null,null,null,null,null,null,0,"",0,0,0,0,0,0,0]
[null,null,null,null,null,null,null,null,null,null,null,null,null,null,null,null,null,null,null,null,null,null,null,null,null,null,null,null,null,null,null,null,null,null,null,null,null,null,null,null,null,null,null,null,null,null,null,null,null,null,null,null,0,"",0,0,0,0,0,0,0]
[null,null,null,null,null,null,null,null,null,null,null,null,null,null,null,null,null,null,null,null,null,null,null,null,null,null,null,null,null,null,null,null,null,null,null,null,null,null,null,null,null,null,null,null,null,null,null,null,null,null,null,null,0,"",0,0,0,0,0,0,0]
[null,null,null,null,null,null,null,null,null,null,null,null,null,null,null,null,null,null,null,null,null,null,null,null,null,null,null,null,null,null,null,null,null,null,null,null,null,null,null,null,null,null,null,null,null,null,null,null,null,null,null,null,0,"",0,0,0,0,0,0,0]
[null,null,null,null,null,null,null,null,null,null,null,null,null,null,null,null,null,null,null,null,null,null,null,null,null,null,null,null,null,null,null,null,null,null,null,null,null,null,null,null,null,null,null,null,null,null,null,null,null,null,null,null,0,"",0,0,0,0,0,0,0]
[null,null,null,null,null,null,null,null,null,null,null,null,null,null,null,null,null,null,null,null,null,null,null,null,null,null,null,null,null,null,null,null,null,null,null,null,null,null,null,null,null,null,null,null,null,null,null,null,null,null,null,null,0,"",0,0,0,0,0,0,0]
[null,null,null,null,null,null,null,null,null,null,null,null,null,null,null,null,null,null,null,null,null,null,null,null,null,null,null,null,null,null,null,null,null,null,null,null,null,null,null,null,null,null,null,null,null,null,null,null,null,null,null,null,0,"",0,0,0,0,0,0,0]
[null,null,null,null,null,null,null,null,null,null,null,null,null,null,null,null,null,null,null,null,null,null,null,null,null,null,null,null,null,null,null,null,null,null,null,null,null,null,null,null,null,null,null,null,null,null,null,null,null,null,null,null,0,"",0,0,0,0,0,0,0]
[null,null,null,null,null,null,null,null,null,null,null,null,null,null,null,null,null,null,null,null,null,null,null,null,null,null,null,null,null,null,null,null,null,null,null,null,null,null,null,null,null,null,null,null,null,null,null,null,null,null,null,null,0,"",0,0,0,0,0,0,0]
[null,null,null,null,null,null,null,null,null,null,null,null,null,null,null,null,null,null,null,null,null,null,null,null,null,null,null,null,null,null,null,null,null,null,null,null,null,null,null,null,null,null,null,null,null,null,null,null,null,null,null,null,0,"",0,0,0,0,0,0,0]
[null,null,null,null,null,null,null,null,null,null,null,null,null,null,null,null,null,null,null,null,null,null,null,null,null,null,null,null,null,null,null,null,null,null,null,null,null,null,null,null,null,null,null,null,null,null,null,null,null,null,null,null,0,"",0,0,0,0,0,0,0]
[null,null,null,null,null,null,null,null,null,null,null,null,null,null,null,null,null,null,null,null,null,null,null,null,null,null,null,null,null,null,null,null,null,null,null,null,null,null,null,null,null,null,null,null,null,null,null,null,null,null,null,null,0,"",0,0,0,0,0,0,0]
[null,null,null,null,null,null,null,null,null,null,null,null,null,null,null,null,null,null,null,null,null,null,null,null,null,null,null,null,null,null,null,null,null,null,null,null,null,null,null,null,null,null,null,null,null,null,null,null,null,null,null,null,0,"",0,0,0,0,0,0,0]
[null,null,null,null,null,null,null,null,null,null,null,null,null,null,null,null,null,null,null,null,null,null,null,null,null,null,null,null,null,null,null,null,null,null,null,null,null,null,null,null,null,null,null,null,null,null,null,null,null,null,null,null,0,"",0,0,0,0,0,0,0]
[null,null,null,null,null,null,null,null,null,null,null,null,null,null,null,null,null,null,null,null,null,null,null,null,null,null,null,null,null,null,null,null,null,null,null,null,null,null,null,null,null,null,null,null,null,null,null,null,null,null,null,null,0,"",0,0,0,0,0,0,0]
[null,null,null,null,null,null,null,null,null,null,null,null,null,null,null,null,null,null,null,null,null,null,null,null,null,null,null,null,null,null,null,null,null,null,null,null,null,null,null,null,null,null,null,null,null,null,null,null,null,null,null,null,0,"",0,0,0,0,0,0,0]
[null,null,null,null,null,null,null,null,null,null,null,null,null,null,null,null,null,null,null,null,null,null,null,null,null,null,null,null,null,null,null,null,null,null,null,null,null,null,null,null,null,null,null,null,null,null,null,null,null,null,null,null,0,"",0,0,0,0,0,0,0]
[null,null,null,null,null,null,null,null,null,null,null,null,null,null,null,null,null,null,null,null,null,null,null,null,null,null,null,null,null,null,null,null,null,null,null,null,null,null,null,null,null,null,null,null,null,null,null,null,null,null,null,null,0,"",0,0,0,0,0,0,0]
[null,null,null,null,null,null,null,null,null,null,null,null,null,null,null,null,null,null,null,null,null,null,null,null,null,null,null,null,null,null,null,null,null,null,null,null,null,null,null,null,null,null,null,null,null,null,null,null,null,null,null,null,0,"",0,0,0,0,0,0,0]
[null,null,null,null,null,null,null,null,null,null,null,null,null,null,null,null,null,null,null,null,null,null,null,null,null,null,null,null,null,null,null,null,null,null,null,null,null,null,null,null,null,null,null,null,null,null,null,null,null,null,null,null,0,"",0,0,0,0,0,0,0]
[null,null,null,null,null,null,null,null,null,null,null,null,null,null,null,null,null,null,null,null,null,null,null,null,null,null,null,null,null,null,null,null,null,null,null,null,null,null,null,null,null,null,null,null,null,null,null,null,null,null,null,null,0,"",0,0,0,0,0,0,0]
[null,null,null,null,null,null,null,null,null,null,null,null,null,null,null,null,null,null,null,null,null,null,null,null,null,null,null,null,null,null,null,null,null,null,null,null,null,null,null,null,null,null,null,null,null,null,null,null,null,null,null,null,0,"",0,0,0,0,0,0,0]
[null,null,null,null,null,null,null,null,null,null,null,null,null,null,null,null,null,null,null,null,null,null,null,null,null,null,null,null,null,null,null,null,null,null,null,null,null,null,null,null,null,null,null,null,null,null,null,null,null,null,null,null,0,"",0,0,0,0,0,0,0]
[null,null,null,null,null,null,null,null,null,null,null,null,null,null,null,null,null,null,null,null,null,null,null,null,null,null,null,null,null,null,null,null,null,null,null,null,null,null,null,null,null,null,null,null,null,null,null,null,null,null,null,null,0,"",0,0,0,0,0,0,0]
[null,null,null,null,null,null,null,null,null,null,null,null,null,null,null,null,null,null,null,null,null,null,null,null,null,null,null,null,null,null,null,null,null,null,null,null,null,null,null,null,null,null,null,null,null,null,null,null,null,null,null,null,0,"",0,0,0,0,0,0,0]
[null,null,null,null,null,null,null,null,null,null,null,null,null,null,null,null,null,null,null,null,null,null,null,null,null,null,null,null,null,null,null,null,null,null,null,null,null,null,null,null,null,null,null,null,null,null,null,null,null,null,null,null,{"$f":"A165","v":0},{"$f":"B165&C165","v":""},{"$f":"C165","v":0},{"$f":"D165","v":0},{"$f":"E165","v":0},{"$f":"F165","v":0},{"$f":"G165","v":0},{"$f":"H165","v":0},{"$f":"I165","v":0}]
[null,null,null,null,null,null,null,null,null,null,null,null,null,null,null,null,null,null,null,null,null,null,null,null,null,null,null,null,null,null,null,null,null,null,null,null,null,null,null,null,null,null,null,null,null,null,null,null,null,null,null,null,0,"",0,0,0,0,0,0,0]
[null,null,null,null,null,null,null,null,null,null,null,null,null,null,null,null,null,null,null,null,null,null,null,null,null,null,null,null,null,null,null,null,null,null,null,null,null,null,null,null,null,null,null,null,null,null,null,null,null,null,null,null,0,"",0,0,0,0,0,0,0]
[null,null,null,null,null,null,null,null,null,null,null,null,null,null,null,null,null,null,null,null,null,null,null,null,null,null,null,null,null,null,null,null,null,null,null,null,null,null,null,null,null,null,null,null,null,null,null,null,null,null,null,null,0,"",0,0,0,0,0,0,0]
[null,null,null,null,null,null,null,null,null,null,null,null,null,null,null,null,null,null,null,null,null,null,null,null,null,null,null,null,null,null,null,null,null,null,null,null,null,null,null,null,null,null,null,null,null,null,null,null,null,null,null,null,0,"",0,0,0,0,0,0,0]
[null,null,null,null,null,null,null,null,null,null,null,null,null,null,null,null,null,null,null,null,null,null,null,null,null,null,null,null,null,null,null,null,null,null,null,null,null,null,null,null,null,null,null,null,null,null,null,null,null,null,null,null,0,"",0,0,0,0,0,0,0]
[null,null,null,null,null,null,null,null,null,null,null,null,null,null,null,null,null,null,null,null,null,null,null,null,null,null,null,null,null,null,null,null,null,null,null,null,null,null,null,null,null,null,null,null,null,null,null,null,null,null,null,null,0,"",0,0,0,0,0,0,0]
[null,null,null,null,null,null,null,null,null,null,null,null,null,null,null,null,null,null,null,null,null,null,null,null,null,null,null,null,null,null,null,null,null,null,null,null,null,null,null,null,null,null,null,null,null,null,null,null,null,null,null,null,0,"",0,0,0,0,0,0,0]
[null,null,null,null,null,null,null,null,null,null,null,null,null,null,null,null,null,null,null,null,null,null,null,null,null,null,null,null,null,null,null,null,null,null,null,null,null,null,null,null,null,null,null,null,null,null,null,null,null,null,null,null,0,"",0,0,0,0,0,0,0]
[null,null,null,null,null,null,null,null,null,null,null,null,null,null,null,null,null,null,null,null,null,null,null,null,null,null,null,null,null,null,null,null,null,null,null,null,null,null,null,null,null,null,null,null,null,null,null,null,null,null,null,null,0,"",0,0,0,0,0,0,0]
[null,null,null,null,null,null,null,null,null,null,null,null,null,null,null,null,null,null,null,null,null,null,null,null,null,null,null,null,null,null,null,null,null,null,null,null,null,null,null,null,null,null,null,null,null,null,null,null,null,null,null,null,0,"",0,0,0,0,0,0,0]
[null,null,null,null,null,null,null,null,null,null,null,null,null,null,null,null,null,null,null,null,null,null,null,null,null,null,null,null,null,null,null,null,null,null,null,null,null,null,null,null,null,null,null,null,null,null,null,null,null,null,null,null,0,"",0,0,0,0,0,0,0]
[null,null,null,null,null,null,null,null,null,null,null,null,null,null,null,null,null,null,null,null,null,null,null,null,null,null,null,null,null,null,null,null,null,null,null,null,null,null,null,null,null,null,null,null,null,null,null,null,null,null,null,null,0,"",0,0,0,0,0,0,0]
[null,null,null,null,null,null,null,null,null,null,null,null,null,null,null,null,null,null,null,null,null,null,null,null,null,null,null,null,null,null,null,null,null,null,null,null,null,null,null,null,null,null,null,null,null,null,null,null,null,null,null,null,0,"",0,0,0,0,0,0,0]
[null,null,null,null,null,null,null,null,null,null,null,null,null,null,null,null,null,null,null,null,null,null,null,null,null,null,null,null,null,null,null,null,null,null,null,null,null,null,null,null,null,null,null,null,null,null,null,null,null,null,null,null,0,"",0,0,0,0,0,0,0]
[null,null,null,null,null,null,null,null,null,null,null,null,null,null,null,null,null,null,null,null,null,null,null,null,null,null,null,null,null,null,null,null,null,null,null,null,null,null,null,null,null,null,null,null,null,null,null,null,null,null,null,null,0,"",0,0,0,0,0,0,0]
[null,null,null,null,null,null,null,null,null,null,null,null,null,null,null,null,null,null,null,null,null,null,null,null,null,null,null,null,null,null,null,null,null,null,null,null,null,null,null,null,null,null,null,null,null,null,null,null,null,null,null,null,0,"",0,0,0,0,0,0,0]
[null,null,null,null,null,null,null,null,null,null,null,null,null,null,null,null,null,null,null,null,null,null,null,null,null,null,null,null,null,null,null,null,null,null,null,null,null,null,null,null,null,null,null,null,null,null,null,null,null,null,null,null,0,"",0,0,0,0,0,0,0]
[null,null,null,null,null,null,null,null,null,null,null,null,null,null,null,null,null,null,null,null,null,null,null,null,null,null,null,null,null,null,null,null,null,null,null,null,null,null,null,null,null,null,null,null,null,null,null,null,null,null,null,null,0,"",0,0,0,0,0,0,0]
[null,null,null,null,null,null,null,null,null,null,null,null,null,null,null,null,null,null,null,null,null,null,null,null,null,null,null,null,null,null,null,null,null,null,null,null,null,null,null,null,null,null,null,null,null,null,null,null,null,null,null,null,0,"",0,0,0,0,0,0,0]
[null,null,null,null,null,null,null,null,null,null,null,null,null,null,null,null,null,null,null,null,null,null,null,null,null,null,null,null,null,null,null,null,null,null,null,null,null,null,null,null,null,null,null,null,null,null,null,null,null,null,null,null,0,"",0,0,0,0,0,0,0]
[null,null,null,null,null,null,null,null,null,null,null,null,null,null,null,null,null,null,null,null,null,null,null,null,null,null,null,null,null,null,null,null,null,null,null,null,null,null,null,null,null,null,null,null,null,null,null,null,null,null,null,null,0,"",0,0,0,0,0,0,0]
[null,null,null,null,null,null,null,null,null,null,null,null,null,null,null,null,null,null,null,null,null,null,null,null,null,null,null,null,null,null,null,null,null,null,null,null,null,null,null,null,null,null,null,null,null,null,null,null,null,null,null,null,0,"",0,0,0,0,0,0,0]
[null,null,null,null,null,null,null,null,null,null,null,null,null,null,null,null,null,null,null,null,null,null,null,null,null,null,null,null,null,null,null,null,null,null,null,null,null,null,null,null,null,null,null,null,null,null,null,null,null,null,null,null,0,"",0,0,0,0,0,0,0]
[null,null,null,null,null,null,null,null,null,null,null,null,null,null,null,null,null,null,null,null,null,null,null,null,null,null,null,null,null,null,null,null,null,null,null,null,null,null,null,null,null,null,null,null,null,null,null,null,null,null,null,null,0,"",0,0,0,0,0,0,0]
[null,null,null,null,null,null,null,null,null,null,null,null,null,null,null,null,null,null,null,null,null,null,null,null,null,null,null,null,null,null,null,null,null,null,null,null,null,null,null,null,null,null,null,null,null,null,null,null,null,null,null,null,0,"",0,0,0,0,0,0,0]
[null,null,null,null,null,null,null,null,null,null,null,null,null,null,null,null,null,null,null,null,null,null,null,null,null,null,null,null,null,null,null,null,null,null,null,null,null,null,null,null,null,null,null,null,null,null,null,null,null,null,null,null,0,"",0,0,0,0,0,0,0]
[null,null,null,null,null,null,null,null,null,null,null,null,null,null,null,null,null,null,null,null,null,null,null,null,null,null,null,null,null,null,null,null,null,null,null,null,null,null,null,null,null,null,null,null,null,null,null,null,null,null,null,null,0,"",0,0,0,0,0,0,0]
[null,null,null,null,null,null,null,null,null,null,null,null,null,null,null,null,null,null,null,null,null,null,null,null,null,null,null,null,null,null,null,null,null,null,null,null,null,null,null,null,null,null,null,null,null,null,null,null,null,null,null,null,0,"",0,0,0,0,0,0,0]
[null,null,null,null,null,null,null,null,null,null,null,null,null,null,null,null,null,null,null,null,null,null,null,null,null,null,null,null,null,null,null,null,null,null,null,null,null,null,null,null,null,null,null,null,null,null,null,null,null,null,null,null,0,"",0,0,0,0,0,0,0]
[null,null,null,null,null,null,null,null,null,null,null,null,null,null,null,null,null,null,null,null,null,null,null,null,null,null,null,null,null,null,null,null,null,null,null,null,null,null,null,null,null,null,null,null,null,null,null,null,null,null,null,null,0,"",0,0,0,0,0,0,0]
[null,null,null,null,null,null,null,null,null,null,null,null,null,null,null,null,null,null,null,null,null,null,null,null,null,null,null,null,null,null,null,null,null,null,null,null,null,null,null,null,null,null,null,null,null,null,null,null,null,null,null,null,0,"",0,0,0,0,0,0,0]
[null,null,null,null,null,null,null,null,null,null,null,null,null,null,null,null,null,null,null,null,null,null,null,null,null,null,null,null,null,null,null,null,null,null,null,null,null,null,null,null,null,null,null,null,null,null,null,null,null,null,null,null,0,"",0,0,0,0,0,0,0]
[null,null,null,null,null,null,null,null,null,null,null,null,null,null,null,null,null,null,null,null,null,null,null,null,null,null,null,null,null,null,null,null,null,null,null,null,null,null,null,null,null,null,null,null,null,null,null,null,null,null,null,null,0,"",0,0,0,0,0,0,0]
[null,null,null,null,null,null,null,null,null,null,null,null,null,null,null,null,null,null,null,null,null,null,null,null,null,null,null,null,null,null,null,null,null,null,null,null,null,null,null,null,null,null,null,null,null,null,null,null,null,null,null,null,0,"",0,0,0,0,0,0,0]
[null,null,null,null,null,null,null,null,null,null,null,null,null,null,null,null,null,null,null,null,null,null,null,null,null,null,null,null,null,null,null,null,null,null,null,null,null,null,null,null,null,null,null,null,null,null,null,null,null,null,null,null,0,"",0,0,0,0,0,0,0]
[null,null,null,null,null,null,null,null,null,null,null,null,null,null,null,null,null,null,null,null,null,null,null,null,null,null,null,null,null,null,null,null,null,null,null,null,null,null,null,null,null,null,null,null,null,null,null,null,null,null,null,null,0,"",0,0,0,0,0,0,0]
[null,null,null,null,null,null,null,null,null,null,null,null,null,null,null,null,null,null,null,null,null,null,null,null,null,null,null,null,null,null,null,null,null,null,null,null,null,null,null,null,null,null,null,null,null,null,null,null,null,null,null,null,0,"",0,0,0,0,0,0,0]
[null,null,null,null,null,null,null,null,null,null,null,null,null,null,null,null,null,null,null,null,null,null,null,null,null,null,null,null,null,null,null,null,null,null,null,null,null,null,null,null,null,null,null,null,null,null,null,null,null,null,null,null,0,"",0,0,0,0,0,0,0]
[null,null,null,null,null,null,null,null,null,null,null,null,null,null,null,null,null,null,null,null,null,null,null,null,null,null,null,null,null,null,null,null,null,null,null,null,null,null,null,null,null,null,null,null,null,null,null,null,null,null,null,null,0,"",0,0,0,0,0,0,0]
[null,null,null,null,null,null,null,null,null,null,null,null,null,null,null,null,null,null,null,null,null,null,null,null,null,null,null,null,null,null,null,null,null,null,null,null,null,null,null,null,null,null,null,null,null,null,null,null,null,null,null,null,0,"",0,0,0,0,0,0,0]
[null,null,null,null,null,null,null,null,null,null,null,null,null,null,null,null,null,null,null,null,null,null,null,null,null,null,null,null,null,null,null,null,null,null,null,null,null,null,null,null,null,null,null,null,null,null,null,null,null,null,null,null,0,"",0,0,0,0,0,0,0]
[null,null,null,null,null,null,null,null,null,null,null,null,null,null,null,null,null,null,null,null,null,null,null,null,null,null,null,null,null,null,null,null,null,null,null,null,null,null,null,null,null,null,null,null,null,null,null,null,null,null,null,null,0,"",0,0,0,0,0,0,0]
[null,null,null,null,null,null,null,null,null,null,null,null,null,null,null,null,null,null,null,null,null,null,null,null,null,null,null,null,null,null,null,null,null,null,null,null,null,null,null,null,null,null,null,null,null,null,null,null,null,null,null,null,0,"",0,0,0,0,0,0,0]
[null,null,null,null,null,null,null,null,null,null,null,null,null,null,null,null,null,null,null,null,null,null,null,null,null,null,null,null,null,null,null,null,null,null,null,null,null,null,null,null,null,null,null,null,null,null,null,null,null,null,null,null,0,"",0,0,0,0,0,0,0]
[null,null,null,null,null,null,null,null,null,null,null,null,null,null,null,null,null,null,null,null,null,null,null,null,null,null,null,null,null,null,null,null,null,null,null,null,null,null,null,null,null,null,null,null,null,null,null,null,null,null,null,null,0,"",0,0,0,0,0,0,0]
[null,null,null,null,null,null,null,null,null,null,null,null,null,null,null,null,null,null,null,null,null,null,null,null,null,null,null,null,null,null,null,null,null,null,null,null,null,null,null,null,null,null,null,null,null,null,null,null,null,null,null,null,0,"",0,0,0,0,0,0,0]
[null,null,null,null,null,null,null,null,null,null,null,null,null,null,null,null,null,null,null,null,null,null,null,null,null,null,null,null,null,null,null,null,null,null,null,null,null,null,null,null,null,null,null,null,null,null,null,null,null,null,null,null,0,"",0,0,0,0,0,0,0]
[null,null,null,null,null,null,null,null,null,null,null,null,null,null,null,null,null,null,null,null,null,null,null,null,null,null,null,null,null,null,null,null,null,null,null,null,null,null,null,null,null,null,null,null,null,null,null,null,null,null,null,null,0,"",0,0,0,0,0,0,0]
[null,null,null,null,null,null,null,null,null,null,null,null,null,null,null,null,null,null,null,null,null,null,null,null,null,null,null,null,null,null,null,null,null,null,null,null,null,null,null,null,null,null,null,null,null,null,null,null,null,null,null,null,0,"",0,0,0,0,0,0,0]
[null,null,null,null,null,null,null,null,null,null,null,null,null,null,null,null,null,null,null,null,null,null,null,null,null,null,null,null,null,null,null,null,null,null,null,null,null,null,null,null,null,null,null,null,null,null,null,null,null,null,null,null,0,"",0,0,0,0,0,0,0]
[null,null,null,null,null,null,null,null,null,null,null,null,null,null,null,null,null,null,null,null,null,null,null,null,null,null,null,null,null,null,null,null,null,null,null,null,null,null,null,null,null,null,null,null,null,null,null,null,null,null,null,null,0,"",0,0,0,0,0,0,0]
[null,null,null,null,null,null,null,null,null,null,null,null,null,null,null,null,null,null,null,null,null,null,null,null,null,null,null,null,null,null,null,null,null,null,null,null,null,null,null,null,null,null,null,null,null,null,null,null,null,null,null,null,0,"",0,0,0,0,0,0,0]
[null,null,null,null,null,null,null,null,null,null,null,null,null,null,null,null,null,null,null,null,null,null,null,null,null,null,null,null,null,null,null,null,null,null,null,null,null,null,null,null,null,null,null,null,null,null,null,null,null,null,null,null,0,"",0,0,0,0,0,0,0]
[null,null,null,null,null,null,null,null,null,null,null,null,null,null,null,null,null,null,null,null,null,null,null,null,null,null,null,null,null,null,null,null,null,null,null,null,null,null,null,null,null,null,null,null,null,null,null,null,null,null,null,null,0,"",0,0,0,0,0,0,0]
[null,null,null,null,null,null,null,null,null,null,null,null,null,null,null,null,null,null,null,null,null,null,null,null,null,null,null,null,null,null,null,null,null,null,null,null,null,null,null,null,null,null,null,null,null,null,null,null,null,null,null,null,0,"",0,0,0,0,0,0,0]
[null,null,null,null,null,null,null,null,null,null,null,null,null,null,null,null,null,null,null,null,null,null,null,null,null,null,null,null,null,null,null,null,null,null,null,null,null,null,null,null,null,null,null,null,null,null,null,null,null,null,null,null,0,"",0,0,0,0,0,0,0]
[null,null,null,null,null,null,null,null,null,null,null,null,null,null,null,null,null,null,null,null,null,null,null,null,null,null,null,null,null,null,null,null,null,null,null,null,null,null,null,null,null,null,null,null,null,null,null,null,null,null,null,null,0,"",0,0,0,0,0,0,0]
[null,null,null,null,null,null,null,null,null,null,null,null,null,null,null,null,null,null,null,null,null,null,null,null,null,null,null,null,null,null,null,null,null,null,null,null,null,null,null,null,null,null,null,null,null,null,null,null,null,null,null,null,0,"",0,0,0,0,0,0,0]
[null,null,null,null,null,null,null,null,null,null,null,null,null,null,null,null,null,null,null,null,null,null,null,null,null,null,null,null,null,null,null,null,null,null,null,null,null,null,null,null,null,null,null,null,null,null,null,null,null,null,null,null,0,"",0,0,0,0,0,0,0]
[null,null,null,null,null,null,null,null,null,null,null,null,null,null,null,null,null,null,null,null,null,null,null,null,null,null,null,null,null,null,null,null,null,null,null,null,null,null,null,null,null,null,null,null,null,null,null,null,null,null,null,null,0,"",0,0,0,0,0,0,0]
[null,null,null,null,null,null,null,null,null,null,null,null,null,null,null,null,null,null,null,null,null,null,null,null,null,null,null,null,null,null,null,null,null,null,null,null,null,null,null,null,null,null,null,null,null,null,null,null,null,null,null,null,0,"",0,0,0,0,0,0,0]
[null,null,null,null,null,null,null,null,null,null,null,null,null,null,null,null,null,null,null,null,null,null,null,null,null,null,null,null,null,null,null,null,null,null,null,null,null,null,null,null,null,null,null,null,null,null,null,null,null,null,null,null,0,"",0,0,0,0,0,0,0]
[null,null,null,null,null,null,null,null,null,null,null,null,null,null,null,null,null,null,null,null,null,null,null,null,null,null,null,null,null,null,null,null,null,null,null,null,null,null,null,null,null,null,null,null,null,null,null,null,null,null,null,null,0,"",0,0,0,0,0,0,0]
[null,null,null,null,null,null,null,null,null,null,null,null,null,null,null,null,null,null,null,null,null,null,null,null,null,null,null,null,null,null,null,null,null,null,null,null,null,null,null,null,null,null,null,null,null,null,null,null,null,null,null,null,{"$f":"A229","v":0},{"$f":"B229&C229","v":""},{"$f":"C229","v":0},{"$f":"D229","v":0},{"$f":"E229","v":0},{"$f":"F229","v":0},{"$f":"G229","v":0},{"$f":"H229","v":0},{"$f":"I229","v":0}]
[null,null,null,null,null,null,null,null,null,null,null,null,null,null,null,null,null,null,null,null,null,null,null,null,null,null,null,null,null,null,null,null,null,null,null,null,null,null,null,null,null,null,null,null,null,null,null,null,null,null,null,null,0,"",0,0,0,0,0,0,0]
[null,null,null,null,null,null,null,null,null,null,null,null,null,null,null,null,null,null,null,null,null,null,null,null,null,null,null,null,null,null,null,null,null,null,null,null,null,null,null,null,null,null,null,null,null,null,null,null,null,null,null,null,0,"",0,0,0,0,0,0,0]
[null,null,null,null,null,null,null,null,null,null,null,null,null,null,null,null,null,null,null,null,null,null,null,null,null,null,null,null,null,null,null,null,null,null,null,null,null,null,null,null,null,null,null,null,null,null,null,null,null,null,null,null,0,"",0,0,0,0,0,0,0]
[null,null,null,null,null,null,null,null,null,null,null,null,null,null,null,null,null,null,null,null,null,null,null,null,null,null,null,null,null,null,null,null,null,null,null,null,null,null,null,null,null,null,null,null,null,null,null,null,null,null,null,null,0,"",0,0,0,0,0,0,0]
[null,null,null,null,null,null,null,null,null,null,null,null,null,null,null,null,null,null,null,null,null,null,null,null,null,null,null,null,null,null,null,null,null,null,null,null,null,null,null,null,null,null,null,null,null,null,null,null,null,null,null,null,0,"",0,0,0,0,0,0,0]
[null,null,null,null,null,null,null,null,null,null,null,null,null,null,null,null,null,null,null,null,null,null,null,null,null,null,null,null,null,null,null,null,null,null,null,null,null,null,null,null,null,null,null,null,null,null,null,null,null,null,null,null,0,"",0,0,0,0,0,0,0]
[null,null,null,null,null,null,null,null,null,null,null,null,null,null,null,null,null,null,null,null,null,null,null,null,null,null,null,null,null,null,null,null,null,null,null,null,null,null,null,null,null,null,null,null,null,null,null,null,null,null,null,null,0,"",0,0,0,0,0,0,0]
[null,null,null,null,null,null,null,null,null,null,null,null,null,null,null,null,null,null,null,null,null,null,null,null,null,null,null,null,null,null,null,null,null,null,null,null,null,null,null,null,null,null,null,null,null,null,null,null,null,null,null,null,0,"",0,0,0,0,0,0,0]
[null,null,null,null,null,null,null,null,null,null,null,null,null,null,null,null,null,null,null,null,null,null,null,null,null,null,null,null,null,null,null,null,null,null,null,null,null,null,null,null,null,null,null,null,null,null,null,null,null,null,null,null,0,"",0,0,0,0,0,0,0]
[null,null,null,null,null,null,null,null,null,null,null,null,null,null,null,null,null,null,null,null,null,null,null,null,null,null,null,null,null,null,null,null,null,null,null,null,null,null,null,null,null,null,null,null,null,null,null,null,null,null,null,null,0,"",0,0,0,0,0,0,0]
[null,null,null,null,null,null,null,null,null,null,null,null,null,null,null,null,null,null,null,null,null,null,null,null,null,null,null,null,null,null,null,null,null,null,null,null,null,null,null,null,null,null,null,null,null,null,null,null,null,null,null,null,0,"",0,0,0,0,0,0,0]
[null,null,null,null,null,null,null,null,null,null,null,null,null,null,null,null,null,null,null,null,null,null,null,null,null,null,null,null,null,null,null,null,null,null,null,null,null,null,null,null,null,null,null,null,null,null,null,null,null,null,null,null,0,"",0,0,0,0,0,0,0]
[null,null,null,null,null,null,null,null,null,null,null,null,null,null,null,null,null,null,null,null,null,null,null,null,null,null,null,null,null,null,null,null,null,null,null,null,null,null,null,null,null,null,null,null,null,null,null,null,null,null,null,null,0,"",0,0,0,0,0,0,0]
[null,null,null,null,null,null,null,null,null,null,null,null,null,null,null,null,null,null,null,null,null,null,null,null,null,null,null,null,null,null,null,null,null,null,null,null,null,null,null,null,null,null,null,null,null,null,null,null,null,null,null,null,0,"",0,0,0,0,0,0,0]
[null,null,null,null,null,null,null,null,null,null,null,null,null,null,null,null,null,null,null,null,null,null,null,null,null,null,null,null,null,null,null,null,null,null,null,null,null,null,null,null,null,null,null,null,null,null,null,null,null,null,null,null,0,"",0,0,0,0,0,0,0]
[null,null,null,null,null,null,null,null,null,null,null,null,null,null,null,null,null,null,null,null,null,null,null,null,null,null,null,null,null,null,null,null,null,null,null,null,null,null,null,null,null,null,null,null,null,null,null,null,null,null,null,null,0,"",0,0,0,0,0,0,0]
[null,null,null,null,null,null,null,null,null,null,null,null,null,null,null,null,null,null,null,null,null,null,null,null,null,null,null,null,null,null,null,null,null,null,null,null,null,null,null,null,null,null,null,null,null,null,null,null,null,null,null,null,0,"",0,0,0,0,0,0,0]
[null,null,null,null,null,null,null,null,null,null,null,null,null,null,null,null,null,null,null,null,null,null,null,null,null,null,null,null,null,null,null,null,null,null,null,null,null,null,null,null,null,null,null,null,null,null,null,null,null,null,null,null,0,"",0,0,0,0,0,0,0]
[null,null,null,null,null,null,null,null,null,null,null,null,null,null,null,null,null,null,null,null,null,null,null,null,null,null,null,null,null,null,null,null,null,null,null,null,null,null,null,null,null,null,null,null,null,null,null,null,null,null,null,null,0,"",0,0,0,0,0,0,0]
[null,null,null,null,null,null,null,null,null,null,null,null,null,null,null,null,null,null,null,null,null,null,null,null,null,null,null,null,null,null,null,null,null,null,null,null,null,null,null,null,null,null,null,null,null,null,null,null,null,null,null,null,0,"",0,0,0,0,0,0,0]
[null,null,null,null,null,null,null,null,null,null,null,null,null,null,null,null,null,null,null,null,null,null,null,null,null,null,null,null,null,null,null,null,null,null,null,null,null,null,null,null,null,null,null,null,null,null,null,null,null,null,null,null,0,"",0,0,0,0,0,0,0]
[null,null,null,null,null,null,null,null,null,null,null,null,null,null,null,null,null,null,null,null,null,null,null,null,null,null,null,null,null,null,null,null,null,null,null,null,null,null,null,null,null,null,null,null,null,null,null,null,null,null,null,null,0,"",0,0,0,0,0,0,0]
[null,null,null,null,null,null,null,null,null,null,null,null,null,null,null,null,null,null,null,null,null,null,null,null,null,null,null,null,null,null,null,null,null,null,null,null,null,null,null,null,null,null,null,null,null,null,null,null,null,null,null,null,0,"",0,0,0,0,0,0,0]
[null,null,null,null,null,null,null,null,null,null,null,null,null,null,null,null,null,null,null,null,null,null,null,null,null,null,null,null,null,null,null,null,null,null,null,null,null,null,null,null,null,null,null,null,null,null,null,null,null,null,null,null,0,"",0,0,0,0,0,0,0]
[null,null,null,null,null,null,null,null,null,null,null,null,null,null,null,null,null,null,null,null,null,null,null,null,null,null,null,null,null,null,null,null,null,null,null,null,null,null,null,null,null,null,null,null,null,null,null,null,null,null,null,null,0,"",0,0,0,0,0,0,0]
[null,null,null,null,null,null,null,null,null,null,null,null,null,null,null,null,null,null,null,null,null,null,null,null,null,null,null,null,null,null,null,null,null,null,null,null,null,null,null,null,null,null,null,null,null,null,null,null,null,null,null,null,0,"",0,0,0,0,0,0,0]
[null,null,null,null,null,null,null,null,null,null,null,null,null,null,null,null,null,null,null,null,null,null,null,null,null,null,null,null,null,null,null,null,null,null,null,null,null,null,null,null,null,null,null,null,null,null,null,null,null,null,null,null,0,"",0,0,0,0,0,0,0]
[null,null,null,null,null,null,null,null,null,null,null,null,null,null,null,null,null,null,null,null,null,null,null,null,null,null,null,null,null,null,null,null,null,null,null,null,null,null,null,null,null,null,null,null,null,null,null,null,null,null,null,null,0,"",0,0,0,0,0,0,0]
[null,null,null,null,null,null,null,null,null,null,null,null,null,null,null,null,null,null,null,null,null,null,null,null,null,null,null,null,null,null,null,null,null,null,null,null,null,null,null,null,null,null,null,null,null,null,null,null,null,null,null,null,0,"",0,0,0,0,0,0,0]
[null,null,null,null,null,null,null,null,null,null,null,null,null,null,null,null,null,null,null,null,null,null,null,null,null,null,null,null,null,null,null,null,null,null,null,null,null,null,null,null,null,null,null,null,null,null,null,null,null,null,null,null,0,"",0,0,0,0,0,0,0]
[null,null,null,null,null,null,null,null,null,null,null,null,null,null,null,null,null,null,null,null,null,null,null,null,null,null,null,null,null,null,null,null,null,null,null,null,null,null,null,null,null,null,null,null,null,null,null,null,null,null,null,null,0,"",0,0,0,0,0,0,0]
[null,null,null,null,null,null,null,null,null,null,null,null,null,null,null,null,null,null,null,null,null,null,null,null,null,null,null,null,null,null,null,null,null,null,null,null,null,null,null,null,null,null,null,null,null,null,null,null,null,null,null,null,0,"",0,0,0,0,0,0,0]
[null,null,null,null,null,null,null,null,null,null,null,null,null,null,null,null,null,null,null,null,null,null,null,null,null,null,null,null,null,null,null,null,null,null,null,null,null,null,null,null,null,null,null,null,null,null,null,null,null,null,null,null,0,"",0,0,0,0,0,0,0]
[null,null,null,null,null,null,null,null,null,null,null,null,null,null,null,null,null,null,null,null,null,null,null,null,null,null,null,null,null,null,null,null,null,null,null,null,null,null,null,null,null,null,null,null,null,null,null,null,null,null,null,null,0,"",0,0,0,0,0,0,0]
[null,null,null,null,null,null,null,null,null,null,null,null,null,null,null,null,null,null,null,null,null,null,null,null,null,null,null,null,null,null,null,null,null,null,null,null,null,null,null,null,null,null,null,null,null,null,null,null,null,null,null,null,0,"",0,0,0,0,0,0,0]
[null,null,null,null,null,null,null,null,null,null,null,null,null,null,null,null,null,null,null,null,null,null,null,null,null,null,null,null,null,null,null,null,null,null,null,null,null,null,null,null,null,null,null,null,null,null,null,null,null,null,null,null,0,"",0,0,0,0,0,0,0]
[null,null,null,null,null,null,null,null,null,null,null,null,null,null,null,null,null,null,null,null,null,null,null,null,null,null,null,null,null,null,null,null,null,null,null,null,null,null,null,null,null,null,null,null,null,null,null,null,null,null,null,null,0,"",0,0,0,0,0,0,0]
[null,null,null,null,null,null,null,null,null,null,null,null,null,null,null,null,null,null,null,null,null,null,null,null,null,null,null,null,null,null,null,null,null,null,null,null,null,null,null,null,null,null,null,null,null,null,null,null,null,null,null,null,0,"",0,0,0,0,0,0,0]
[null,null,null,null,null,null,null,null,null,null,null,null,null,null,null,null,null,null,null,null,null,null,null,null,null,null,null,null,null,null,null,null,null,null,null,null,null,null,null,null,null,null,null,null,null,null,null,null,null,null,null,null,0,"",0,0,0,0,0,0,0]
[null,null,null,null,null,null,null,null,null,null,null,null,null,null,null,null,null,null,null,null,null,null,null,null,null,null,null,null,null,null,null,null,null,null,null,null,null,null,null,null,null,null,null,null,null,null,null,null,null,null,null,null,0,"",0,0,0,0,0,0,0]
[null,null,null,null,null,null,null,null,null,null,null,null,null,null,null,null,null,null,null,null,null,null,null,null,null,null,null,null,null,null,null,null,null,null,null,null,null,null,null,null,null,null,null,null,null,null,null,null,null,null,null,null,0,"",0,0,0,0,0,0,0]
[null,null,null,null,null,null,null,null,null,null,null,null,null,null,null,null,null,null,null,null,null,null,null,null,null,null,null,null,null,null,null,null,null,null,null,null,null,null,null,null,null,null,null,null,null,null,null,null,null,null,null,null,0,"",0,0,0,0,0,0,0]
[null,null,null,null,null,null,null,null,null,null,null,null,null,null,null,null,null,null,null,null,null,null,null,null,null,null,null,null,null,null,null,null,null,null,null,null,null,null,null,null,null,null,null,null,null,null,null,null,null,null,null,null,0,"",0,0,0,0,0,0,0]
[null,null,null,null,null,null,null,null,null,null,null,null,null,null,null,null,null,null,null,null,null,null,null,null,null,null,null,null,null,null,null,null,null,null,null,null,null,null,null,null,null,null,null,null,null,null,null,null,null,null,null,null,0,"",0,0,0,0,0,0,0]
[null,null,null,null,null,null,null,null,null,null,null,null,null,null,null,null,null,null,null,null,null,null,null,null,null,null,null,null,null,null,null,null,null,null,null,null,null,null,null,null,null,null,null,null,null,null,null,null,null,null,null,null,0,"",0,0,0,0,0,0,0]
[null,null,null,null,null,null,null,null,null,null,null,null,null,null,null,null,null,null,null,null,null,null,null,null,null,null,null,null,null,null,null,null,null,null,null,null,null,null,null,null,null,null,null,null,null,null,null,null,null,null,null,null,0,"",0,0,0,0,0,0,0]
[null,null,null,null,null,null,null,null,null,null,null,null,null,null,null,null,null,null,null,null,null,null,null,null,null,null,null,null,null,null,null,null,null,null,null,null,null,null,null,null,null,null,null,null,null,null,null,null,null,null,null,null,0,"",0,0,0,0,0,0,0]
[null,null,null,null,null,null,null,null,null,null,null,null,null,null,null,null,null,null,null,null,null,null,null,null,null,null,null,null,null,null,null,null,null,null,null,null,null,null,null,null,null,null,null,null,null,null,null,null,null,null,null,null,0,"",0,0,0,0,0,0,0]
[null,null,null,null,null,null,null,null,null,null,null,null,null,null,null,null,null,null,null,null,null,null,null,null,null,null,null,null,null,null,null,null,null,null,null,null,null,null,null,null,null,null,null,null,null,null,null,null,null,null,null,null,0,"",0,0,0,0,0,0,0]
[null,null,null,null,null,null,null,null,null,null,null,null,null,null,null,null,null,null,null,null,null,null,null,null,null,null,null,null,null,null,null,null,null,null,null,null,null,null,null,null,null,null,null,null,null,null,null,null,null,null,null,null,0,"",0,0,0,0,0,0,0]
[null,null,null,null,null,null,null,null,null,null,null,null,null,null,null,null,null,null,null,null,null,null,null,null,null,null,null,null,null,null,null,null,null,null,null,null,null,null,null,null,null,null,null,null,null,null,null,null,null,null,null,null,0,"",0,0,0,0,0,0,0]
[null,null,null,null,null,null,null,null,null,null,null,null,null,null,null,null,null,null,null,null,null,null,null,null,null,null,null,null,null,null,null,null,null,null,null,null,null,null,null,null,null,null,null,null,null,null,null,null,null,null,null,null,0,"",0,0,0,0,0,0,0]
[null,null,null,null,null,null,null,null,null,null,null,null,null,null,null,null,null,null,null,null,null,null,null,null,null,null,null,null,null,null,null,null,null,null,null,null,null,null,null,null,null,null,null,null,null,null,null,null,null,null,null,null,0,"",0,0,0,0,0,0,0]
[null,null,null,null,null,null,null,null,null,null,null,null,null,null,null,null,null,null,null,null,null,null,null,null,null,null,null,null,null,null,null,null,null,null,null,null,null,null,null,null,null,null,null,null,null,null,null,null,null,null,null,null,0,"",0,0,0,0,0,0,0]
[null,null,null,null,null,null,null,null,null,null,null,null,null,null,null,null,null,null,null,null,null,null,null,null,null,null,null,null,null,null,null,null,null,null,null,null,null,null,null,null,null,null,null,null,null,null,null,null,null,null,null,null,0,"",0,0,0,0,0,0,0]
[null,null,null,null,null,null,null,null,null,null,null,null,null,null,null,null,null,null,null,null,null,null,null,null,null,null,null,null,null,null,null,null,null,null,null,null,null,null,null,null,null,null,null,null,null,null,null,null,null,null,null,null,0,"",0,0,0,0,0,0,0]
[null,null,null,null,null,null,null,null,null,null,null,null,null,null,null,null,null,null,null,null,null,null,null,null,null,null,null,null,null,null,null,null,null,null,null,null,null,null,null,null,null,null,null,null,null,null,null,null,null,null,null,null,0,"",0,0,0,0,0,0,0]
[null,null,null,null,null,null,null,null,null,null,null,null,null,null,null,null,null,null,null,null,null,null,null,null,null,null,null,null,null,null,null,null,null,null,null,null,null,null,null,null,null,null,null,null,null,null,null,null,null,null,null,null,0,"",0,0,0,0,0,0,0]
[null,null,null,null,null,null,null,null,null,null,null,null,null,null,null,null,null,null,null,null,null,null,null,null,null,null,null,null,null,null,null,null,null,null,null,null,null,null,null,null,null,null,null,null,null,null,null,null,null,null,null,null,0,"",0,0,0,0,0,0,0]
[null,null,null,null,null,null,null,null,null,null,null,null,null,null,null,null,null,null,null,null,null,null,null,null,null,null,null,null,null,null,null,null,null,null,null,null,null,null,null,null,null,null,null,null,null,null,null,null,null,null,null,null,0,"",0,0,0,0,0,0,0]
[null,null,null,null,null,null,null,null,null,null,null,null,null,null,null,null,null,null,null,null,null,null,null,null,null,null,null,null,null,null,null,null,null,null,null,null,null,null,null,null,null,null,null,null,null,null,null,null,null,null,null,null,0,"",0,0,0,0,0,0,0]
[null,null,null,null,null,null,null,null,null,null,null,null,null,null,null,null,null,null,null,null,null,null,null,null,null,null,null,null,null,null,null,null,null,null,null,null,null,null,null,null,null,null,null,null,null,null,null,null,null,null,null,null,0,"",0,0,0,0,0,0,0]
[null,null,null,null,null,null,null,null,null,null,null,null,null,null,null,null,null,null,null,null,null,null,null,null,null,null,null,null,null,null,null,null,null,null,null,null,null,null,null,null,null,null,null,null,null,null,null,null,null,null,null,null,0,"",0,0,0,0,0,0,0]
[null,null,null,null,null,null,null,null,null,null,null,null,null,null,null,null,null,null,null,null,null,null,null,null,null,null,null,null,null,null,null,null,null,null,null,null,null,null,null,null,null,null,null,null,null,null,null,null,null,null,null,null,{"$f":"A293","v":0},{"$f":"B293&C293","v":""},{"$f":"C293","v":0},{"$f":"D293","v":0},{"$f":"E293","v":0},{"$f":"F293","v":0},{"$f":"G293","v":0},{"$f":"H293","v":0},{"$f":"I293","v":0}]
[null,null,null,null,null,null,null,null,null,null,null,null,null,null,null,null,null,null,null,null,null,null,null,null,null,null,null,null,null,null,null,null,null,null,null,null,null,null,null,null,null,null,null,null,null,null,null,null,null,null,null,null,0,"",0,0,0,0,0,0,0]
[null,null,null,null,null,null,null,null,null,null,null,null,null,null,null,null,null,null,null,null,null,null,null,null,null,null,null,null,null,null,null,null,null,null,null,null,null,null,null,null,null,null,null,null,null,null,null,null,null,null,null,null,0,"",0,0,0,0,0,0,0]
[null,null,null,null,null,null,null,null,null,null,null,null,null,null,null,null,null,null,null,null,null,null,null,null,null,null,null,null,null,null,null,null,null,null,null,null,null,null,null,null,null,null,null,null,null,null,null,null,null,null,null,null,0,"",0,0,0,0,0,0,0]
[null,null,null,null,null,null,null,null,null,null,null,null,null,null,null,null,null,null,null,null,null,null,null,null,null,null,null,null,null,null,null,null,null,null,null,null,null,null,null,null,null,null,null,null,null,null,null,null,null,null,null,null,0,"",0,0,0,0,0,0,0]
[null,null,null,null,null,null,null,null,null,null,null,null,null,null,null,null,null,null,null,null,null,null,null,null,null,null,null,null,null,null,null,null,null,null,null,null,null,null,null,null,null,null,null,null,null,null,null,null,null,null,null,null,0,"",0,0,0,0,0,0,0]
[null,null,null,null,null,null,null,null,null,null,null,null,null,null,null,null,null,null,null,null,null,null,null,null,null,null,null,null,null,null,null,null,null,null,null,null,null,null,null,null,null,null,null,null,null,null,null,null,null,null,null,null,0,"",0,0,0,0,0,0,0]
[null,null,null,null,null,null,null,null,null,null,null,null,null,null,null,null,null,null,null,null,null,null,null,null,null,null,null,null,null,null,null,null,null,null,null,null,null,null,null,null,null,null,null,null,null,null,null,null,null,null,null,null,0,"",0,0,0,0,0,0,0]
[null,null,null,null,null,null,null,null,null,null,null,null,null,null,null,null,null,null,null,null,null,null,null,null,null,null,null,null,null,null,null,null,null,null,null,null,null,null,null,null,null,null,null,null,null,null,null,null,null,null,null,null,0,"",0,0,0,0,0,0,0]
[null,null,null,null,null,null,null,null,null,null,null,null,null,null,null,null,null,null,null,null,null,null,null,null,null,null,null,null,null,null,null,null,null,null,null,null,null,null,null,null,null,null,null,null,null,null,null,null,null,null,null,null,0,"",0,0,0,0,0,0,0]
[null,null,null,null,null,null,null,null,null,null,null,null,null,null,null,null,null,null,null,null,null,null,null,null,null,null,null,null,null,null,null,null,null,null,null,null,null,null,null,null,null,null,null,null,null,null,null,null,null,null,null,null,0,"",0,0,0,0,0,0,0]
[null,null,null,null,null,null,null,null,null,null,null,null,null,null,null,null,null,null,null,null,null,null,null,null,null,null,null,null,null,null,null,null,null,null,null,null,null,null,null,null,null,null,null,null,null,null,null,null,null,null,null,null,0,"",0,0,0,0,0,0,0]
[null,null,null,null,null,null,null,null,null,null,null,null,null,null,null,null,null,null,null,null,null,null,null,null,null,null,null,null,null,null,null,null,null,null,null,null,null,null,null,null,null,null,null,null,null,null,null,null,null,null,null,null,0,"",0,0,0,0,0,0,0]
[null,null,null,null,null,null,null,null,null,null,null,null,null,null,null,null,null,null,null,null,null,null,null,null,null,null,null,null,null,null,null,null,null,null,null,null,null,null,null,null,null,null,null,null,null,null,null,null,null,null,null,null,0,"",0,0,0,0,0,0,0]
[null,null,null,null,null,null,null,null,null,null,null,null,null,null,null,null,null,null,null,null,null,null,null,null,null,null,null,null,null,null,null,null,null,null,null,null,null,null,null,null,null,null,null,null,null,null,null,null,null,null,null,null,0,"",0,0,0,0,0,0,0]
[null,null,null,null,null,null,null,null,null,null,null,null,null,null,null,null,null,null,null,null,null,null,null,null,null,null,null,null,null,null,null,null,null,null,null,null,null,null,null,null,null,null,null,null,null,null,null,null,null,null,null,null,0,"",0,0,0,0,0,0,0]
[null,null,null,null,null,null,null,null,null,null,null,null,null,null,null,null,null,null,null,null,null,null,null,null,null,null,null,null,null,null,null,null,null,null,null,null,null,null,null,null,null,null,null,null,null,null,null,null,null,null,null,null,0,"",0,0,0,0,0,0,0]
[null,null,null,null,null,null,null,null,null,null,null,null,null,null,null,null,null,null,null,null,null,null,null,null,null,null,null,null,null,null,null,null,null,null,null,null,null,null,null,null,null,null,null,null,null,null,null,null,null,null,null,null,0,"",0,0,0,0,0,0,0]
[null,null,null,null,null,null,null,null,null,null,null,null,null,null,null,null,null,null,null,null,null,null,null,null,null,null,null,null,null,null,null,null,null,null,null,null,null,null,null,null,null,null,null,null,null,null,null,null,null,null,null,null,0,"",0,0,0,0,0,0,0]
[null,null,null,null,null,null,null,null,null,null,null,null,null,null,null,null,null,null,null,null,null,null,null,null,null,null,null,null,null,null,null,null,null,null,null,null,null,null,null,null,null,null,null,null,null,null,null,null,null,null,null,null,0,"",0,0,0,0,0,0,0]
[null,null,null,null,null,null,null,null,null,null,null,null,null,null,null,null,null,null,null,null,null,null,null,null,null,null,null,null,null,null,null,null,null,null,null,null,null,null,null,null,null,null,null,null,null,null,null,null,null,null,null,null,0,"",0,0,0,0,0,0,0]
[null,null,null,null,null,null,null,null,null,null,null,null,null,null,null,null,null,null,null,null,null,null,null,null,null,null,null,null,null,null,null,null,null,null,null,null,null,null,null,null,null,null,null,null,null,null,null,null,null,null,null,null,0,"",0,0,0,0,0,0,0]
[null,null,null,null,null,null,null,null,null,null,null,null,null,null,null,null,null,null,null,null,null,null,null,null,null,null,null,null,null,null,null,null,null,null,null,null,null,null,null,null,null,null,null,null,null,null,null,null,null,null,null,null,0,"",0,0,0,0,0,0,0]
[null,null,null,null,null,null,null,null,null,null,null,null,null,null,null,null,null,null,null,null,null,null,null,null,null,null,null,null,null,null,null,null,null,null,null,null,null,null,null,null,null,null,null,null,null,null,null,null,null,null,null,null,0,"",0,0,0,0,0,0,0]
[null,null,null,null,null,null,null,null,null,null,null,null,null,null,null,null,null,null,null,null,null,null,null,null,null,null,null,null,null,null,null,null,null,null,null,null,null,null,null,null,null,null,null,null,null,null,null,null,null,null,null,null,0,"",0,0,0,0,0,0,0]
[null,null,null,null,null,null,null,null,null,null,null,null,null,null,null,null,null,null,null,null,null,null,null,null,null,null,null,null,null,null,null,null,null,null,null,null,null,null,null,null,null,null,null,null,null,null,null,null,null,null,null,null,0,"",0,0,0,0,0,0,0]
[null,null,null,null,null,null,null,null,null,null,null,null,null,null,null,null,null,null,null,null,null,null,null,null,null,null,null,null,null,null,null,null,null,null,null,null,null,null,null,null,null,null,null,null,null,null,null,null,null,null,null,null,0,"",0,0,0,0,0,0,0]
[null,null,null,null,null,null,null,null,null,null,null,null,null,null,null,null,null,null,null,null,null,null,null,null,null,null,null,null,null,null,null,null,null,null,null,null,null,null,null,null,null,null,null,null,null,null,null,null,null,null,null,null,0,"",0,0,0,0,0,0,0]
[null,null,null,null,null,null,null,null,null,null,null,null,null,null,null,null,null,null,null,null,null,null,null,null,null,null,null,null,null,null,null,null,null,null,null,null,null,null,null,null,null,null,null,null,null,null,null,null,null,null,null,null,0,"",0,0,0,0,0,0,0]
[null,null,null,null,null,null,null,null,null,null,null,null,null,null,null,null,null,null,null,null,null,null,null,null,null,null,null,null,null,null,null,null,null,null,null,null,null,null,null,null,null,null,null,null,null,null,null,null,null,null,null,null,0,"",0,0,0,0,0,0,0]
[null,null,null,null,null,null,null,null,null,null,null,null,null,null,null,null,null,null,null,null,null,null,null,null,null,null,null,null,null,null,null,null,null,null,null,null,null,null,null,null,null,null,null,null,null,null,null,null,null,null,null,null,0,"",0,0,0,0,0,0,0]
[null,null,null,null,null,null,null,null,null,null,null,null,null,null,null,null,null,null,null,null,null,null,null,null,null,null,null,null,null,null,null,null,null,null,null,null,null,null,null,null,null,null,null,null,null,null,null,null,null,null,null,null,0,"",0,0,0,0,0,0,0]
[null,null,null,null,null,null,null,null,null,null,null,null,null,null,null,null,null,null,null,null,null,null,null,null,null,null,null,null,null,null,null,null,null,null,null,null,null,null,null,null,null,null,null,null,null,null,null,null,null,null,null,null,0,"",0,0,0,0,0,0,0]
[null,null,null,null,null,null,null,null,null,null,null,null,null,null,null,null,null,null,null,null,null,null,null,null,null,null,null,null,null,null,null,null,null,null,null,null,null,null,null,null,null,null,null,null,null,null,null,null,null,null,null,null,0,"",0,0,0,0,0,0,0]
[null,null,null,null,null,null,null,null,null,null,null,null,null,null,null,null,null,null,null,null,null,null,null,null,null,null,null,null,null,null,null,null,null,null,null,null,null,null,null,null,null,null,null,null,null,null,null,null,null,null,null,null,0,"",0,0,0,0,0,0,0]
[null,null,null,null,null,null,null,null,null,null,null,null,null,null,null,null,null,null,null,null,null,null,null,null,null,null,null,null,null,null,null,null,null,null,null,null,null,null,null,null,null,null,null,null,null,null,null,null,null,null,null,null,0,"",0,0,0,0,0,0,0]
[null,null,null,null,null,null,null,null,null,null,null,null,null,null,null,null,null,null,null,null,null,null,null,null,null,null,null,null,null,null,null,null,null,null,null,null,null,null,null,null,null,null,null,null,null,null,null,null,null,null,null,null,0,"",0,0,0,0,0,0,0]
[null,null,null,null,null,null,null,null,null,null,null,null,null,null,null,null,null,null,null,null,null,null,null,null,null,null,null,null,null,null,null,null,null,null,null,null,null,null,null,null,null,null,null,null,null,null,null,null,null,null,null,null,0,"",0,0,0,0,0,0,0]
[null,null,null,null,null,null,null,null,null,null,null,null,null,null,null,null,null,null,null,null,null,null,null,null,null,null,null,null,null,null,null,null,null,null,null,null,null,null,null,null,null,null,null,null,null,null,null,null,null,null,null,null,0,"",0,0,0,0,0,0,0]
[null,null,null,null,null,null,null,null,null,null,null,null,null,null,null,null,null,null,null,null,null,null,null,null,null,null,null,null,null,null,null,null,null,null,null,null,null,null,null,null,null,null,null,null,null,null,null,null,null,null,null,null,0,"",0,0,0,0,0,0,0]
[null,null,null,null,null,null,null,null,null,null,null,null,null,null,null,null,null,null,null,null,null,null,null,null,null,null,null,null,null,null,null,null,null,null,null,null,null,null,null,null,null,null,null,null,null,null,null,null,null,null,null,null,0,"",0,0,0,0,0,0,0]
[null,null,null,null,null,null,null,null,null,null,null,null,null,null,null,null,null,null,null,null,null,null,null,null,null,null,null,null,null,null,null,null,null,null,null,null,null,null,null,null,null,null,null,null,null,null,null,null,null,null,null,null,0,"",0,0,0,0,0,0,0]
[null,null,null,null,null,null,null,null,null,null,null,null,null,null,null,null,null,null,null,null,null,null,null,null,null,null,null,null,null,null,null,null,null,null,null,null,null,null,null,null,null,null,null,null,null,null,null,null,null,null,null,null,0,"",0,0,0,0,0,0,0]
[null,null,null,null,null,null,null,null,null,null,null,null,null,null,null,null,null,null,null,null,null,null,null,null,null,null,null,null,null,null,null,null,null,null,null,null,null,null,null,null,null,null,null,null,null,null,null,null,null,null,null,null,0,"",0,0,0,0,0,0,0]
[null,null,null,null,null,null,null,null,null,null,null,null,null,null,null,null,null,null,null,null,null,null,null,null,null,null,null,null,null,null,null,null,null,null,null,null,null,null,null,null,null,null,null,null,null,null,null,null,null,null,null,null,0,"",0,0,0,0,0,0,0]
[null,null,null,null,null,null,null,null,null,null,null,null,null,null,null,null,null,null,null,null,null,null,null,null,null,null,null,null,null,null,null,null,null,null,null,null,null,null,null,null,null,null,null,null,null,null,null,null,null,null,null,null,0,"",0,0,0,0,0,0,0]
[null,null,null,null,null,null,null,null,null,null,null,null,null,null,null,null,null,null,null,null,null,null,null,null,null,null,null,null,null,null,null,null,null,null,null,null,null,null,null,null,null,null,null,null,null,null,null,null,null,null,null,null,0,"",0,0,0,0,0,0,0]
[null,null,null,null,null,null,null,null,null,null,null,null,null,null,null,null,null,null,null,null,null,null,null,null,null,null,null,null,null,null,null,null,null,null,null,null,null,null,null,null,null,null,null,null,null,null,null,null,null,null,null,null,0,"",0,0,0,0,0,0,0]
[null,null,null,null,null,null,null,null,null,null,null,null,null,null,null,null,null,null,null,null,null,null,null,null,null,null,null,null,null,null,null,null,null,null,null,null,null,null,null,null,null,null,null,null,null,null,null,null,null,null,null,null,0,"",0,0,0,0,0,0,0]
[null,null,null,null,null,null,null,null,null,null,null,null,null,null,null,null,null,null,null,null,null,null,null,null,null,null,null,null,null,null,null,null,null,null,null,null,null,null,null,null,null,null,null,null,null,null,null,null,null,null,null,null,0,"",0,0,0,0,0,0,0]
[null,null,null,null,null,null,null,null,null,null,null,null,null,null,null,null,null,null,null,null,null,null,null,null,null,null,null,null,null,null,null,null,null,null,null,null,null,null,null,null,null,null,null,null,null,null,null,null,null,null,null,null,0,"",0,0,0,0,0,0,0]
[null,null,null,null,null,null,null,null,null,null,null,null,null,null,null,null,null,null,null,null,null,null,null,null,null,null,null,null,null,null,null,null,null,null,null,null,null,null,null,null,null,null,null,null,null,null,null,null,null,null,null,null,0,"",0,0,0,0,0,0,0]
[null,null,null,null,null,null,null,null,null,null,null,null,null,null,null,null,null,null,null,null,null,null,null,null,null,null,null,null,null,null,null,null,null,null,null,null,null,null,null,null,null,null,null,null,null,null,null,null,null,null,null,null,0,"",0,0,0,0,0,0,0]
[null,null,null,null,null,null,null,null,null,null,null,null,null,null,null,null,null,null,null,null,null,null,null,null,null,null,null,null,null,null,null,null,null,null,null,null,null,null,null,null,null,null,null,null,null,null,null,null,null,null,null,null,0,"",0,0,0,0,0,0,0]
[null,null,null,null,null,null,null,null,null,null,null,null,null,null,null,null,null,null,null,null,null,null,null,null,null,null,null,null,null,null,null,null,null,null,null,null,null,null,null,null,null,null,null,null,null,null,null,null,null,null,null,null,0,"",0,0,0,0,0,0,0]
[null,null,null,null,null,null,null,null,null,null,null,null,null,null,null,null,null,null,null,null,null,null,null,null,null,null,null,null,null,null,null,null,null,null,null,null,null,null,null,null,null,null,null,null,null,null,null,null,null,null,null,null,0,"",0,0,0,0,0,0,0]
[null,null,null,null,null,null,null,null,null,null,null,null,null,null,null,null,null,null,null,null,null,null,null,null,null,null,null,null,null,null,null,null,null,null,null,null,null,null,null,null,null,null,null,null,null,null,null,null,null,null,null,null,0,"",0,0,0,0,0,0,0]
[null,null,null,null,null,null,null,null,null,null,null,null,null,null,null,null,null,null,null,null,null,null,null,null,null,null,null,null,null,null,null,null,null,null,null,null,null,null,null,null,null,null,null,null,null,null,null,null,null,null,null,null,0,"",0,0,0,0,0,0,0]
[null,null,null,null,null,null,null,null,null,null,null,null,null,null,null,null,null,null,null,null,null,null,null,null,null,null,null,null,null,null,null,null,null,null,null,null,null,null,null,null,null,null,null,null,null,null,null,null,null,null,null,null,0,"",0,0,0,0,0,0,0]
[null,null,null,null,null,null,null,null,null,null,null,null,null,null,null,null,null,null,null,null,null,null,null,null,null,null,null,null,null,null,null,null,null,null,null,null,null,null,null,null,null,null,null,null,null,null,null,null,null,null,null,null,0,"",0,0,0,0,0,0,0]
[null,null,null,null,null,null,null,null,null,null,null,null,null,null,null,null,null,null,null,null,null,null,null,null,null,null,null,null,null,null,null,null,null,null,null,null,null,null,null,null,null,null,null,null,null,null,null,null,null,null,null,null,0,"",0,0,0,0,0,0,0]
[null,null,null,null,null,null,null,null,null,null,null,null,null,null,null,null,null,null,null,null,null,null,null,null,null,null,null,null,null,null,null,null,null,null,null,null,null,null,null,null,null,null,null,null,null,null,null,null,null,null,null,null,0,"",0,0,0,0,0,0,0]
[null,null,null,null,null,null,null,null,null,null,null,null,null,null,null,null,null,null,null,null,null,null,null,null,null,null,null,null,null,null,null,null,null,null,null,null,null,null,null,null,null,null,null,null,null,null,null,null,null,null,null,null,0,"",0,0,0,0,0,0,0]
[null,null,null,null,null,null,null,null,null,null,null,null,null,null,null,null,null,null,null,null,null,null,null,null,null,null,null,null,null,null,null,null,null,null,null,null,null,null,null,null,null,null,null,null,null,null,null,null,null,null,null,null,0,"",0,0,0,0,0,0,0]
[null,null,null,null,null,null,null,null,null,null,null,null,null,null,null,null,null,null,null,null,null,null,null,null,null,null,null,null,null,null,null,null,null,null,null,null,null,null,null,null,null,null,null,null,null,null,null,null,null,null,null,null,{"$f":"A357","v":0},{"$f":"B357&C357","v":""},{"$f":"C357","v":0},{"$f":"D357","v":0},{"$f":"E357","v":0},{"$f":"F357","v":0},{"$f":"G357","v":0},{"$f":"H357","v":0},{"$f":"I357","v":0}]
[null,null,null,null,null,null,null,null,null,null,null,null,null,null,null,null,null,null,null,null,null,null,null,null,null,null,null,null,null,null,null,null,null,null,null,null,null,null,null,null,null,null,null,null,null,null,null,null,null,null,null,null,0,"",0,0,0,0,0,0,0]
[null,null,null,null,null,null,null,null,null,null,null,null,null,null,null,null,null,null,null,null,null,null,null,null,null,null,null,null,null,null,null,null,null,null,null,null,null,null,null,null,null,null,null,null,null,null,null,null,null,null,null,null,0,"",0,0,0,0,0,0,0]
[null,null,null,null,null,null,null,null,null,null,null,null,null,null,null,null,null,null,null,null,null,null,null,null,null,null,null,null,null,null,null,null,null,null,null,null,null,null,null,null,null,null,null,null,null,null,null,null,null,null,null,null,0,"",0,0,0,0,0,0,0]
[null,null,null,null,null,null,null,null,null,null,null,null,null,null,null,null,null,null,null,null,null,null,null,null,null,null,null,null,null,null,null,null,null,null,null,null,null,null,null,null,null,null,null,null,null,null,null,null,null,null,null,null,0,"",0,0,0,0,0,0,0]
[null,null,null,null,null,null,null,null,null,null,null,null,null,null,null,null,null,null,null,null,null,null,null,null,null,null,null,null,null,null,null,null,null,null,null,null,null,null,null,null,null,null,null,null,null,null,null,null,null,null,null,null,0,"",0,0,0,0,0,0,0]
[null,null,null,null,null,null,null,null,null,null,null,null,null,null,null,null,null,null,null,null,null,null,null,null,null,null,null,null,null,null,null,null,null,null,null,null,null,null,null,null,null,null,null,null,null,null,null,null,null,null,null,null,0,"",0,0,0,0,0,0,0]
[null,null,null,null,null,null,null,null,null,null,null,null,null,null,null,null,null,null,null,null,null,null,null,null,null,null,null,null,null,null,null,null,null,null,null,null,null,null,null,null,null,null,null,null,null,null,null,null,null,null,null,null,0,"",0,0,0,0,0,0,0]
[null,null,null,null,null,null,null,null,null,null,null,null,null,null,null,null,null,null,null,null,null,null,null,null,null,null,null,null,null,null,null,null,null,null,null,null,null,null,null,null,null,null,null,null,null,null,null,null,null,null,null,null,0,"",0,0,0,0,0,0,0]
[null,null,null,null,null,null,null,null,null,null,null,null,null,null,null,null,null,null,null,null,null,null,null,null,null,null,null,null,null,null,null,null,null,null,null,null,null,null,null,null,null,null,null,null,null,null,null,null,null,null,null,null,0,"",0,0,0,0,0,0,0]
[null,null,null,null,null,null,null,null,null,null,null,null,null,null,null,null,null,null,null,null,null,null,null,null,null,null,null,null,null,null,null,null,null,null,null,null,null,null,null,null,null,null,null,null,null,null,null,null,null,null,null,null,0,"",0,0,0,0,0,0,0]
[null,null,null,null,null,null,null,null,null,null,null,null,null,null,null,null,null,null,null,null,null,null,null,null,null,null,null,null,null,null,null,null,null,null,null,null,null,null,null,null,null,null,null,null,null,null,null,null,null,null,null,null,0,"",0,0,0,0,0,0,0]
[null,null,null,null,null,null,null,null,null,null,null,null,null,null,null,null,null,null,null,null,null,null,null,null,null,null,null,null,null,null,null,null,null,null,null,null,null,null,null,null,null,null,null,null,null,null,null,null,null,null,null,null,0,"",0,0,0,0,0,0,0]
[null,null,null,null,null,null,null,null,null,null,null,null,null,null,null,null,null,null,null,null,null,null,null,null,null,null,null,null,null,null,null,null,null,null,null,null,null,null,null,null,null,null,null,null,null,null,null,null,null,null,null,null,0,"",0,0,0,0,0,0,0]
[null,null,null,null,null,null,null,null,null,null,null,null,null,null,null,null,null,null,null,null,null,null,null,null,null,null,null,null,null,null,null,null,null,null,null,null,null,null,null,null,null,null,null,null,null,null,null,null,null,null,null,null,0,"",0,0,0,0,0,0,0]
[null,null,null,null,null,null,null,null,null,null,null,null,null,null,null,null,null,null,null,null,null,null,null,null,null,null,null,null,null,null,null,null,null,null,null,null,null,null,null,null,null,null,null,null,null,null,null,null,null,null,null,null,0,"",0,0,0,0,0,0,0]
[null,null,null,null,null,null,null,null,null,null,null,null,null,null,null,null,null,null,null,null,null,null,null,null,null,null,null,null,null,null,null,null,null,null,null,null,null,null,null,null,null,null,null,null,null,null,null,null,null,null,null,null,0,"",0,0,0,0,0,0,0]
[null,null,null,null,null,null,null,null,null,null,null,null,null,null,null,null,null,null,null,null,null,null,null,null,null,null,null,null,null,null,null,null,null,null,null,null,null,null,null,null,null,null,null,null,null,null,null,null,null,null,null,null,0,"",0,0,0,0,0,0,0]
[null,null,null,null,null,null,null,null,null,null,null,null,null,null,null,null,null,null,null,null,null,null,null,null,null,null,null,null,null,null,null,null,null,null,null,null,null,null,null,null,null,null,null,null,null,null,null,null,null,null,null,null,0,"",0,0,0,0,0,0,0]
[null,null,null,null,null,null,null,null,null,null,null,null,null,null,null,null,null,null,null,null,null,null,null,null,null,null,null,null,null,null,null,null,null,null,null,null,null,null,null,null,null,null,null,null,null,null,null,null,null,null,null,null,0,"",0,0,0,0,0,0,0]
[null,null,null,null,null,null,null,null,null,null,null,null,null,null,null,null,null,null,null,null,null,null,null,null,null,null,null,null,null,null,null,null,null,null,null,null,null,null,null,null,null,null,null,null,null,null,null,null,null,null,null,null,0,"",0,0,0,0,0,0,0]
[null,null,null,null,null,null,null,null,null,null,null,null,null,null,null,null,null,null,null,null,null,null,null,null,null,null,null,null,null,null,null,null,null,null,null,null,null,null,null,null,null,null,null,null,null,null,null,null,null,null,null,null,0,"",0,0,0,0,0,0,0]
[null,null,null,null,null,null,null,null,null,null,null,null,null,null,null,null,null,null,null,null,null,null,null,null,null,null,null,null,null,null,null,null,null,null,null,null,null,null,null,null,null,null,null,null,null,null,null,null,null,null,null,null,0,"",0,0,0,0,0,0,0]
[null,null,null,null,null,null,null,null,null,null,null,null,null,null,null,null,null,null,null,null,null,null,null,null,null,null,null,null,null,null,null,null,null,null,null,null,null,null,null,null,null,null,null,null,null,null,null,null,null,null,null,null,0,"",0,0,0,0,0,0,0]
[null,null,null,null,null,null,null,null,null,null,null,null,null,null,null,null,null,null,null,null,null,null,null,null,null,null,null,null,null,null,null,null,null,null,null,null,null,null,null,null,null,null,null,null,null,null,null,null,null,null,null,null,0,"",0,0,0,0,0,0,0]
[null,null,null,null,null,null,null,null,null,null,null,null,null,null,null,null,null,null,null,null,null,null,null,null,null,null,null,null,null,null,null,null,null,null,null,null,null,null,null,null,null,null,null,null,null,null,null,null,null,null,null,null,0,"",0,0,0,0,0,0,0]
[null,null,null,null,null,null,null,null,null,null,null,null,null,null,null,null,null,null,null,null,null,null,null,null,null,null,null,null,null,null,null,null,null,null,null,null,null,null,null,null,null,null,null,null,null,null,null,null,null,null,null,null,0,"",0,0,0,0,0,0,0]
[null,null,null,null,null,null,null,null,null,null,null,null,null,null,null,null,null,null,null,null,null,null,null,null,null,null,null,null,null,null,null,null,null,null,null,null,null,null,null,null,null,null,null,null,null,null,null,null,null,null,null,null,0,"",0,0,0,0,0,0,0]
[null,null,null,null,null,null,null,null,null,null,null,null,null,null,null,null,null,null,null,null,null,null,null,null,null,null,null,null,null,null,null,null,null,null,null,null,null,null,null,null,null,null,null,null,null,null,null,null,null,null,null,null,0,"",0,0,0,0,0,0,0]
[null,null,null,null,null,null,null,null,null,null,null,null,null,null,null,null,null,null,null,null,null,null,null,null,null,null,null,null,null,null,null,null,null,null,null,null,null,null,null,null,null,null,null,null,null,null,null,null,null,null,null,null,0,"",0,0,0,0,0,0,0]
[null,null,null,null,null,null,null,null,null,null,null,null,null,null,null,null,null,null,null,null,null,null,null,null,null,null,null,null,null,null,null,null,null,null,null,null,null,null,null,null,null,null,null,null,null,null,null,null,null,null,null,null,0,"",0,0,0,0,0,0,0]
[null,null,null,null,null,null,null,null,null,null,null,null,null,null,null,null,null,null,null,null,null,null,null,null,null,null,null,null,null,null,null,null,null,null,null,null,null,null,null,null,null,null,null,null,null,null,null,null,null,null,null,null,0,"",0,0,0,0,0,0,0]
[null,null,null,null,null,null,null,null,null,null,null,null,null,null,null,null,null,null,null,null,null,null,null,null,null,null,null,null,null,null,null,null,null,null,null,null,null,null,null,null,null,null,null,null,null,null,null,null,null,null,null,null,0,"",0,0,0,0,0,0,0]
[null,null,null,null,null,null,null,null,null,null,null,null,null,null,null,null,null,null,null,null,null,null,null,null,null,null,null,null,null,null,null,null,null,null,null,null,null,null,null,null,null,null,null,null,null,null,null,null,null,null,null,null,0,"",0,0,0,0,0,0,0]
[null,null,null,null,null,null,null,null,null,null,null,null,null,null,null,null,null,null,null,null,null,null,null,null,null,null,null,null,null,null,null,null,null,null,null,null,null,null,null,null,null,null,null,null,null,null,null,null,null,null,null,null,0,"",0,0,0,0,0,0,0]
[null,null,null,null,null,null,null,null,null,null,null,null,null,null,null,null,null,null,null,null,null,null,null,null,null,null,null,null,null,null,null,null,null,null,null,null,null,null,null,null,null,null,null,null,null,null,null,null,null,null,null,null,0,"",0,0,0,0,0,0,0]
[null,null,null,null,null,null,null,null,null,null,null,null,null,null,null,null,null,null,null,null,null,null,null,null,null,null,null,null,null,null,null,null,null,null,null,null,null,null,null,null,null,null,null,null,null,null,null,null,null,null,null,null,0,"",0,0,0,0,0,0,0]
[null,null,null,null,null,null,null,null,null,null,null,null,null,null,null,null,null,null,null,null,null,null,null,null,null,null,null,null,null,null,null,null,null,null,null,null,null,null,null,null,null,null,null,null,null,null,null,null,null,null,null,null,0,"",0,0,0,0,0,0,0]
[null,null,null,null,null,null,null,null,null,null,null,null,null,null,null,null,null,null,null,null,null,null,null,null,null,null,null,null,null,null,null,null,null,null,null,null,null,null,null,null,null,null,null,null,null,null,null,null,null,null,null,null,0,"",0,0,0,0,0,0,0]
[null,null,null,null,null,null,null,null,null,null,null,null,null,null,null,null,null,null,null,null,null,null,null,null,null,null,null,null,null,null,null,null,null,null,null,null,null,null,null,null,null,null,null,null,null,null,null,null,null,null,null,null,0,"",0,0,0,0,0,0,0]
[null,null,null,null,null,null,null,null,null,null,null,null,null,null,null,null,null,null,null,null,null,null,null,null,null,null,null,null,null,null,null,null,null,null,null,null,null,null,null,null,null,null,null,null,null,null,null,null,null,null,null,null,0,"",0,0,0,0,0,0,0]
[null,null,null,null,null,null,null,null,null,null,null,null,null,null,null,null,null,null,null,null,null,null,null,null,null,null,null,null,null,null,null,null,null,null,null,null,null,null,null,null,null,null,null,null,null,null,null,null,null,null,null,null,0,"",0,0,0,0,0,0,0]
[null,null,null,null,null,null,null,null,null,null,null,null,null,null,null,null,null,null,null,null,null,null,null,null,null,null,null,null,null,null,null,null,null,null,null,null,null,null,null,null,null,null,null,null,null,null,null,null,null,null,null,null,0,"",0,0,0,0,0,0,0]
[null,null,null,null,null,null,null,null,null,null,null,null,null,null,null,null,null,null,null,null,null,null,null,null,null,null,null,null,null,null,null,null,null,null,null,null,null,null,null,null,null,null,null,null,null,null,null,null,null,null,null,null,0,"",0,0,0,0,0,0,0]
[null,null,null,null,null,null,null,null,null,null,null,null,null,null,null,null,null,null,null,null,null,null,null,null,null,null,null,null,null,null,null,null,null,null,null,null,null,null,null,null,null,null,null,null,null,null,null,null,null,null,null,null,0,"",0,0,0,0,0,0,0]
[null,null,null,null,null,null,null,null,null,null,null,null,null,null,null,null,null,null,null,null,null,null,null,null,null,null,null,null,null,null,null,null,null,null,null,null,null,null,null,null,null,null,null,null,null,null,null,null,null,null,null,null,0,"",0,0,0,0,0,0,0]
[null,null,null,null,null,null,null,null,null,null,null,null,null,null,null,null,null,null,null,null,null,null,null,null,null,null,null,null,null,null,null,null,null,null,null,null,null,null,null,null,null,null,null,null,null,null,null,null,null,null,null,null,0,"",0,0,0,0,0,0,0]
[null,null,null,null,null,null,null,null,null,null,null,null,null,null,null,null,null,null,null,null,null,null,null,null,null,null,null,null,null,null,null,null,null,null,null,null,null,null,null,null,null,null,null,null,null,null,null,null,null,null,null,null,0,"",0,0,0,0,0,0,0]
[null,null,null,null,null,null,null,null,null,null,null,null,null,null,null,null,null,null,null,null,null,null,null,null,null,null,null,null,null,null,null,null,null,null,null,null,null,null,null,null,null,null,null,null,null,null,null,null,null,null,null,null,0,"",0,0,0,0,0,0,0]
[null,null,null,null,null,null,null,null,null,null,null,null,null,null,null,null,null,null,null,null,null,null,null,null,null,null,null,null,null,null,null,null,null,null,null,null,null,null,null,null,null,null,null,null,null,null,null,null,null,null,null,null,0,"",0,0,0,0,0,0,0]
[null,null,null,null,null,null,null,null,null,null,null,null,null,null,null,null,null,null,null,null,null,null,null,null,null,null,null,null,null,null,null,null,null,null,null,null,null,null,null,null,null,null,null,null,null,null,null,null,null,null,null,null,0,"",0,0,0,0,0,0,0]
[null,null,null,null,null,null,null,null,null,null,null,null,null,null,null,null,null,null,null,null,null,null,null,null,null,null,null,null,null,null,null,null,null,null,null,null,null,null,null,null,null,null,null,null,null,null,null,null,null,null,null,null,0,"",0,0,0,0,0,0,0]
[null,null,null,null,null,null,null,null,null,null,null,null,null,null,null,null,null,null,null,null,null,null,null,null,null,null,null,null,null,null,null,null,null,null,null,null,null,null,null,null,null,null,null,null,null,null,null,null,null,null,null,null,0,"",0,0,0,0,0,0,0]
[null,null,null,null,null,null,null,null,null,null,null,null,null,null,null,null,null,null,null,null,null,null,null,null,null,null,null,null,null,null,null,null,null,null,null,null,null,null,null,null,null,null,null,null,null,null,null,null,null,null,null,null,0,"",0,0,0,0,0,0,0]
[null,null,null,null,null,null,null,null,null,null,null,null,null,null,null,null,null,null,null,null,null,null,null,null,null,null,null,null,null,null,null,null,null,null,null,null,null,null,null,null,null,null,null,null,null,null,null,null,null,null,null,null,0,"",0,0,0,0,0,0,0]
[null,null,null,null,null,null,null,null,null,null,null,null,null,null,null,null,null,null,null,null,null,null,null,null,null,null,null,null,null,null,null,null,null,null,null,null,null,null,null,null,null,null,null,null,null,null,null,null,null,null,null,null,0,"",0,0,0,0,0,0,0]
[null,null,null,null,null,null,null,null,null,null,null,null,null,null,null,null,null,null,null,null,null,null,null,null,null,null,null,null,null,null,null,null,null,null,null,null,null,null,null,null,null,null,null,null,null,null,null,null,null,null,null,null,0,"",0,0,0,0,0,0,0]
[null,null,null,null,null,null,null,null,null,null,null,null,null,null,null,null,null,null,null,null,null,null,null,null,null,null,null,null,null,null,null,null,null,null,null,null,null,null,null,null,null,null,null,null,null,null,null,null,null,null,null,null,0,"",0,0,0,0,0,0,0]
[null,null,null,null,null,null,null,null,null,null,null,null,null,null,null,null,null,null,null,null,null,null,null,null,null,null,null,null,null,null,null,null,null,null,null,null,null,null,null,null,null,null,null,null,null,null,null,null,null,null,null,null,0,"",0,0,0,0,0,0,0]
[null,null,null,null,null,null,null,null,null,null,null,null,null,null,null,null,null,null,null,null,null,null,null,null,null,null,null,null,null,null,null,null,null,null,null,null,null,null,null,null,null,null,null,null,null,null,null,null,null,null,null,null,0,"",0,0,0,0,0,0,0]
[null,null,null,null,null,null,null,null,null,null,null,null,null,null,null,null,null,null,null,null,null,null,null,null,null,null,null,null,null,null,null,null,null,null,null,null,null,null,null,null,null,null,null,null,null,null,null,null,null,null,null,null,0,"",0,0,0,0,0,0,0]
[null,null,null,null,null,null,null,null,null,null,null,null,null,null,null,null,null,null,null,null,null,null,null,null,null,null,null,null,null,null,null,null,null,null,null,null,null,null,null,null,null,null,null,null,null,null,null,null,null,null,null,null,0,"",0,0,0,0,0,0,0]
[null,null,null,null,null,null,null,null,null,null,null,null,null,null,null,null,null,null,null,null,null,null,null,null,null,null,null,null,null,null,null,null,null,null,null,null,null,null,null,null,null,null,null,null,null,null,null,null,null,null,null,null,0,"",0,0,0,0,0,0,0]
[null,null,null,null,null,null,null,null,null,null,null,null,null,null,null,null,null,null,null,null,null,null,null,null,null,null,null,null,null,null,null,null,null,null,null,null,null,null,null,null,null,null,null,null,null,null,null,null,null,null,null,null,0,"",0,0,0,0,0,0,0]
[null,null,null,null,null,null,null,null,null,null,null,null,null,null,null,null,null,null,null,null,null,null,null,null,null,null,null,null,null,null,null,null,null,null,null,null,null,null,null,null,null,null,null,null,null,null,null,null,null,null,null,null,{"$f":"A421","v":0},{"$f":"B421&C421","v":""},{"$f":"C421","v":0},{"$f":"D421","v":0},{"$f":"E421","v":0},{"$f":"F421","v":0},{"$f":"G421","v":0},{"$f":"H421","v":0},{"$f":"I421","v":0}]
[null,null,null,null,null,null,null,null,null,null,null,null,null,null,null,null,null,null,null,null,null,null,null,null,null,null,null,null,null,null,null,null,null,null,null,null,null,null,null,null,null,null,null,null,null,null,null,null,null,null,null,null,0,"",0,0,0,0,0,0,0]
[null,null,null,null,null,null,null,null,null,null,null,null,null,null,null,null,null,null,null,null,null,null,null,null,null,null,null,null,null,null,null,null,null,null,null,null,null,null,null,null,null,null,null,null,null,null,null,null,null,null,null,null,0,"",0,0,0,0,0,0,0]
[null,null,null,null,null,null,null,null,null,null,null,null,null,null,null,null,null,null,null,null,null,null,null,null,null,null,null,null,null,null,null,null,null,null,null,null,null,null,null,null,null,null,null,null,null,null,null,null,null,null,null,null,0,"",0,0,0,0,0,0,0]
[null,null,null,null,null,null,null,null,null,null,null,null,null,null,null,null,null,null,null,null,null,null,null,null,null,null,null,null,null,null,null,null,null,null,null,null,null,null,null,null,null,null,null,null,null,null,null,null,null,null,null,null,0,"",0,0,0,0,0,0,0]
[null,null,null,null,null,null,null,null,null,null,null,null,null,null,null,null,null,null,null,null,null,null,null,null,null,null,null,null,null,null,null,null,null,null,null,null,null,null,null,null,null,null,null,null,null,null,null,null,null,null,null,null,0,"",0,0,0,0,0,0,0]
[null,null,null,null,null,null,null,null,null,null,null,null,null,null,null,null,null,null,null,null,null,null,null,null,null,null,null,null,null,null,null,null,null,null,null,null,null,null,null,null,null,null,null,null,null,null,null,null,null,null,null,null,0,"",0,0,0,0,0,0,0]
[null,null,null,null,null,null,null,null,null,null,null,null,null,null,null,null,null,null,null,null,null,null,null,null,null,null,null,null,null,null,null,null,null,null,null,null,null,null,null,null,null,null,null,null,null,null,null,null,null,null,null,null,0,"",0,0,0,0,0,0,0]
[null,null,null,null,null,null,null,null,null,null,null,null,null,null,null,null,null,null,null,null,null,null,null,null,null,null,null,null,null,null,null,null,null,null,null,null,null,null,null,null,null,null,null,null,null,null,null,null,null,null,null,null,0,"",0,0,0,0,0,0,0]
[null,null,null,null,null,null,null,null,null,null,null,null,null,null,null,null,null,null,null,null,null,null,null,null,null,null,null,null,null,null,null,null,null,null,null,null,null,null,null,null,null,null,null,null,null,null,null,null,null,null,null,null,0,"",0,0,0,0,0,0,0]
[null,null,null,null,null,null,null,null,null,null,null,null,null,null,null,null,null,null,null,null,null,null,null,null,null,null,null,null,null,null,null,null,null,null,null,null,null,null,null,null,null,null,null,null,null,null,null,null,null,null,null,null,0,"",0,0,0,0,0,0,0]
[null,null,null,null,null,null,null,null,null,null,null,null,null,null,null,null,null,null,null,null,null,null,null,null,null,null,null,null,null,null,null,null,null,null,null,null,null,null,null,null,null,null,null,null,null,null,null,null,null,null,null,null,0,"",0,0,0,0,0,0,0]
[null,null,null,null,null,null,null,null,null,null,null,null,null,null,null,null,null,null,null,null,null,null,null,null,null,null,null,null,null,null,null,null,null,null,null,null,null,null,null,null,null,null,null,null,null,null,null,null,null,null,null,null,0,"",0,0,0,0,0,0,0]
[null,null,null,null,null,null,null,null,null,null,null,null,null,null,null,null,null,null,null,null,null,null,null,null,null,null,null,null,null,null,null,null,null,null,null,null,null,null,null,null,null,null,null,null,null,null,null,null,null,null,null,null,0,"",0,0,0,0,0,0,0]
[null,null,null,null,null,null,null,null,null,null,null,null,null,null,null,null,null,null,null,null,null,null,null,null,null,null,null,null,null,null,null,null,null,null,null,null,null,null,null,null,null,null,null,null,null,null,null,null,null,null,null,null,0,"",0,0,0,0,0,0,0]
[null,null,null,null,null,null,null,null,null,null,null,null,null,null,null,null,null,null,null,null,null,null,null,null,null,null,null,null,null,null,null,null,null,null,null,null,null,null,null,null,null,null,null,null,null,null,null,null,null,null,null,null,0,"",0,0,0,0,0,0,0]
[null,null,null,null,null,null,null,null,null,null,null,null,null,null,null,null,null,null,null,null,null,null,null,null,null,null,null,null,null,null,null,null,null,null,null,null,null,null,null,null,null,null,null,null,null,null,null,null,null,null,null,null,0,"",0,0,0,0,0,0,0]
[null,null,null,null,null,null,null,null,null,null,null,null,null,null,null,null,null,null,null,null,null,null,null,null,null,null,null,null,null,null,null,null,null,null,null,null,null,null,null,null,null,null,null,null,null,null,null,null,null,null,null,null,0,"",0,0,0,0,0,0,0]
[null,null,null,null,null,null,null,null,null,null,null,null,null,null,null,null,null,null,null,null,null,null,null,null,null,null,null,null,null,null,null,null,null,null,null,null,null,null,null,null,null,null,null,null,null,null,null,null,null,null,null,null,0,"",0,0,0,0,0,0,0]
[null,null,null,null,null,null,null,null,null,null,null,null,null,null,null,null,null,null,null,null,null,null,null,null,null,null,null,null,null,null,null,null,null,null,null,null,null,null,null,null,null,null,null,null,null,null,null,null,null,null,null,null,0,"",0,0,0,0,0,0,0]
[null,null,null,null,null,null,null,null,null,null,null,null,null,null,null,null,null,null,null,null,null,null,null,null,null,null,null,null,null,null,null,null,null,null,null,null,null,null,null,null,null,null,null,null,null,null,null,null,null,null,null,null,0,"",0,0,0,0,0,0,0]
[null,null,null,null,null,null,null,null,null,null,null,null,null,null,null,null,null,null,null,null,null,null,null,null,null,null,null,null,null,null,null,null,null,null,null,null,null,null,null,null,null,null,null,null,null,null,null,null,null,null,null,null,0,"",0,0,0,0,0,0,0]
[null,null,null,null,null,null,null,null,null,null,null,null,null,null,null,null,null,null,null,null,null,null,null,null,null,null,null,null,null,null,null,null,null,null,null,null,null,null,null,null,null,null,null,null,null,null,null,null,null,null,null,null,0,"",0,0,0,0,0,0,0]
[null,null,null,null,null,null,null,null,null,null,null,null,null,null,null,null,null,null,null,null,null,null,null,null,null,null,null,null,null,null,null,null,null,null,null,null,null,null,null,null,null,null,null,null,null,null,null,null,null,null,null,null,0,"",0,0,0,0,0,0,0]
[null,null,null,null,null,null,null,null,null,null,null,null,null,null,null,null,null,null,null,null,null,null,null,null,null,null,null,null,null,null,null,null,null,null,null,null,null,null,null,null,null,null,null,null,null,null,null,null,null,null,null,null,0,"",0,0,0,0,0,0,0]
[null,null,null,null,null,null,null,null,null,null,null,null,null,null,null,null,null,null,null,null,null,null,null,null,null,null,null,null,null,null,null,null,null,null,null,null,null,null,null,null,null,null,null,null,null,null,null,null,null,null,null,null,0,"",0,0,0,0,0,0,0]
[null,null,null,null,null,null,null,null,null,null,null,null,null,null,null,null,null,null,null,null,null,null,null,null,null,null,null,null,null,null,null,null,null,null,null,null,null,null,null,null,null,null,null,null,null,null,null,null,null,null,null,null,0,"",0,0,0,0,0,0,0]
[null,null,null,null,null,null,null,null,null,null,null,null,null,null,null,null,null,null,null,null,null,null,null,null,null,null,null,null,null,null,null,null,null,null,null,null,null,null,null,null,null,null,null,null,null,null,null,null,null,null,null,null,0,"",0,0,0,0,0,0,0]
[null,null,null,null,null,null,null,null,null,null,null,null,null,null,null,null,null,null,null,null,null,null,null,null,null,null,null,null,null,null,null,null,null,null,null,null,null,null,null,null,null,null,null,null,null,null,null,null,null,null,null,null,0,"",0,0,0,0,0,0,0]
[null,null,null,null,null,null,null,null,null,null,null,null,null,null,null,null,null,null,null,null,null,null,null,null,null,null,null,null,null,null,null,null,null,null,null,null,null,null,null,null,null,null,null,null,null,null,null,null,null,null,null,null,0,"",0,0,0,0,0,0,0]
[null,null,null,null,null,null,null,null,null,null,null,null,null,null,null,null,null,null,null,null,null,null,null,null,null,null,null,null,null,null,null,null,null,null,null,null,null,null,null,null,null,null,null,null,null,null,null,null,null,null,null,null,0,"",0,0,0,0,0,0,0]
[null,null,null,null,null,null,null,null,null,null,null,null,null,null,null,null,null,null,null,null,null,null,null,null,null,null,null,null,null,null,null,null,null,null,null,null,null,null,null,null,null,null,null,null,null,null,null,null,null,null,null,null,0,"",0,0,0,0,0,0,0]
[null,null,null,null,null,null,null,null,null,null,null,null,null,null,null,null,null,null,null,null,null,null,null,null,null,null,null,null,null,null,null,null,null,null,null,null,null,null,null,null,null,null,null,null,null,null,null,null,null,null,null,null,0,"",0,0,0,0,0,0,0]
[null,null,null,null,null,null,null,null,null,null,null,null,null,null,null,null,null,null,null,null,null,null,null,null,null,null,null,null,null,null,null,null,null,null,null,null,null,null,null,null,null,null,null,null,null,null,null,null,null,null,null,null,0,"",0,0,0,0,0,0,0]
[null,null,null,null,null,null,null,null,null,null,null,null,null,null,null,null,null,null,null,null,null,null,null,null,null,null,null,null,null,null,null,null,null,null,null,null,null,null,null,null,null,null,null,null,null,null,null,null,null,null,null,null,0,"",0,0,0,0,0,0,0]
[null,null,null,null,null,null,null,null,null,null,null,null,null,null,null,null,null,null,null,null,null,null,null,null,null,null,null,null,null,null,null,null,null,null,null,null,null,null,null,null,null,null,null,null,null,null,null,null,null,null,null,null,0,"",0,0,0,0,0,0,0]
[null,null,null,null,null,null,null,null,null,null,null,null,null,null,null,null,null,null,null,null,null,null,null,null,null,null,null,null,null,null,null,null,null,null,null,null,null,null,null,null,null,null,null,null,null,null,null,null,null,null,null,null,0,"",0,0,0,0,0,0,0]
[null,null,null,null,null,null,null,null,null,null,null,null,null,null,null,null,null,null,null,null,null,null,null,null,null,null,null,null,null,null,null,null,null,null,null,null,null,null,null,null,null,null,null,null,null,null,null,null,null,null,null,null,0,"",0,0,0,0,0,0,0]
[null,null,null,null,null,null,null,null,null,null,null,null,null,null,null,null,null,null,null,null,null,null,null,null,null,null,null,null,null,null,null,null,null,null,null,null,null,null,null,null,null,null,null,null,null,null,null,null,null,null,null,null,0,"",0,0,0,0,0,0,0]
[null,null,null,null,null,null,null,null,null,null,null,null,null,null,null,null,null,null,null,null,null,null,null,null,null,null,null,null,null,null,null,null,null,null,null,null,null,null,null,null,null,null,null,null,null,null,null,null,null,null,null,null,0,"",0,0,0,0,0,0,0]
[null,null,null,null,null,null,null,null,null,null,null,null,null,null,null,null,null,null,null,null,null,null,null,null,null,null,null,null,null,null,null,null,null,null,null,null,null,null,null,null,null,null,null,null,null,null,null,null,null,null,null,null,0,"",0,0,0,0,0,0,0]
[null,null,null,null,null,null,null,null,null,null,null,null,null,null,null,null,null,null,null,null,null,null,null,null,null,null,null,null,null,null,null,null,null,null,null,null,null,null,null,null,null,null,null,null,null,null,null,null,null,null,null,null,0,"",0,0,0,0,0,0,0]
[null,null,null,null,null,null,null,null,null,null,null,null,null,null,null,null,null,null,null,null,null,null,null,null,null,null,null,null,null,null,null,null,null,null,null,null,null,null,null,null,null,null,null,null,null,null,null,null,null,null,null,null,0,"",0,0,0,0,0,0,0]
[null,null,null,null,null,null,null,null,null,null,null,null,null,null,null,null,null,null,null,null,null,null,null,null,null,null,null,null,null,null,null,null,null,null,null,null,null,null,null,null,null,null,null,null,null,null,null,null,null,null,null,null,0,"",0,0,0,0,0,0,0]
[null,null,null,null,null,null,null,null,null,null,null,null,null,null,null,null,null,null,null,null,null,null,null,null,null,null,null,null,null,null,null,null,null,null,null,null,null,null,null,null,null,null,null,null,null,null,null,null,null,null,null,null,0,"",0,0,0,0,0,0,0]
[null,null,null,null,null,null,null,null,null,null,null,null,null,null,null,null,null,null,null,null,null,null,null,null,null,null,null,null,null,null,null,null,null,null,null,null,null,null,null,null,null,null,null,null,null,null,null,null,null,null,null,null,0,"",0,0,0,0,0,0,0]
[null,null,null,null,null,null,null,null,null,null,null,null,null,null,null,null,null,null,null,null,null,null,null,null,null,null,null,null,null,null,null,null,null,null,null,null,null,null,null,null,null,null,null,null,null,null,null,null,null,null,null,null,0,"",0,0,0,0,0,0,0]
[null,null,null,null,null,null,null,null,null,null,null,null,null,null,null,null,null,null,null,null,null,null,null,null,null,null,null,null,null,null,null,null,null,null,null,null,null,null,null,null,null,null,null,null,null,null,null,null,null,null,null,null,0,"",0,0,0,0,0,0,0]
[null,null,null,null,null,null,null,null,null,null,null,null,null,null,null,null,null,null,null,null,null,null,null,null,null,null,null,null,null,null,null,null,null,null,null,null,null,null,null,null,null,null,null,null,null,null,null,null,null,null,null,null,0,"",0,0,0,0,0,0,0]
[null,null,null,null,null,null,null,null,null,null,null,null,null,null,null,null,null,null,null,null,null,null,null,null,null,null,null,null,null,null,null,null,null,null,null,null,null,null,null,null,null,null,null,null,null,null,null,null,null,null,null,null,0,"",0,0,0,0,0,0,0]
[null,null,null,null,null,null,null,null,null,null,null,null,null,null,null,null,null,null,null,null,null,null,null,null,null,null,null,null,null,null,null,null,null,null,null,null,null,null,null,null,null,null,null,null,null,null,null,null,null,null,null,null,0,"",0,0,0,0,0,0,0]
[null,null,null,null,null,null,null,null,null,null,null,null,null,null,null,null,null,null,null,null,null,null,null,null,null,null,null,null,null,null,null,null,null,null,null,null,null,null,null,null,null,null,null,null,null,null,null,null,null,null,null,null,0,"",0,0,0,0,0,0,0]
[null,null,null,null,null,null,null,null,null,null,null,null,null,null,null,null,null,null,null,null,null,null,null,null,null,null,null,null,null,null,null,null,null,null,null,null,null,null,null,null,null,null,null,null,null,null,null,null,null,null,null,null,0,"",0,0,0,0,0,0,0]
[null,null,null,null,null,null,null,null,null,null,null,null,null,null,null,null,null,null,null,null,null,null,null,null,null,null,null,null,null,null,null,null,null,null,null,null,null,null,null,null,null,null,null,null,null,null,null,null,null,null,null,null,0,"",0,0,0,0,0,0,0]
[null,null,null,null,null,null,null,null,null,null,null,null,null,null,null,null,null,null,null,null,null,null,null,null,null,null,null,null,null,null,null,null,null,null,null,null,null,null,null,null,null,null,null,null,null,null,null,null,null,null,null,null,0,"",0,0,0,0,0,0,0]
[null,null,null,null,null,null,null,null,null,null,null,null,null,null,null,null,null,null,null,null,null,null,null,null,null,null,null,null,null,null,null,null,null,null,null,null,null,null,null,null,null,null,null,null,null,null,null,null,null,null,null,null,0,"",0,0,0,0,0,0,0]
[null,null,null,null,null,null,null,null,null,null,null,null,null,null,null,null,null,null,null,null,null,null,null,null,null,null,null,null,null,null,null,null,null,null,null,null,null,null,null,null,null,null,null,null,null,null,null,null,null,null,null,null,0,"",0,0,0,0,0,0,0]
[null,null,null,null,null,null,null,null,null,null,null,null,null,null,null,null,null,null,null,null,null,null,null,null,null,null,null,null,null,null,null,null,null,null,null,null,null,null,null,null,null,null,null,null,null,null,null,null,null,null,null,null,0,"",0,0,0,0,0,0,0]
[null,null,null,null,null,null,null,null,null,null,null,null,null,null,null,null,null,null,null,null,null,null,null,null,null,null,null,null,null,null,null,null,null,null,null,null,null,null,null,null,null,null,null,null,null,null,null,null,null,null,null,null,0,"",0,0,0,0,0,0,0]
[null,null,null,null,null,null,null,null,null,null,null,null,null,null,null,null,null,null,null,null,null,null,null,null,null,null,null,null,null,null,null,null,null,null,null,null,null,null,null,null,null,null,null,null,null,null,null,null,null,null,null,null,0,"",0,0,0,0,0,0,0]
[null,null,null,null,null,null,null,null,null,null,null,null,null,null,null,null,null,null,null,null,null,null,null,null,null,null,null,null,null,null,null,null,null,null,null,null,null,null,null,null,null,null,null,null,null,null,null,null,null,null,null,null,0,"",0,0,0,0,0,0,0]
[null,null,null,null,null,null,null,null,null,null,null,null,null,null,null,null,null,null,null,null,null,null,null,null,null,null,null,null,null,null,null,null,null,null,null,null,null,null,null,null,null,null,null,null,null,null,null,null,null,null,null,null,0,"",0,0,0,0,0,0,0]
[null,null,null,null,null,null,null,null,null,null,null,null,null,null,null,null,null,null,null,null,null,null,null,null,null,null,null,null,null,null,null,null,null,null,null,null,null,null,null,null,null,null,null,null,null,null,null,null,null,null,null,null,0,"",0,0,0,0,0,0,0]
[null,null,null,null,null,null,null,null,null,null,null,null,null,null,null,null,null,null,null,null,null,null,null,null,null,null,null,null,null,null,null,null,null,null,null,null,null,null,null,null,null,null,null,null,null,null,null,null,null,null,null,null,0,"",0,0,0,0,0,0,0]
[null,null,null,null,null,null,null,null,null,null,null,null,null,null,null,null,null,null,null,null,null,null,null,null,null,null,null,null,null,null,null,null,null,null,null,null,null,null,null,null,null,null,null,null,null,null,null,null,null,null,null,null,{"$f":"A485","v":0},{"$f":"B485&C485","v":""},{"$f":"C485","v":0},{"$f":"D485","v":0},{"$f":"E485","v":0},{"$f":"F485","v":0},{"$f":"G485","v":0},{"$f":"H485","v":0},{"$f":"I485","v":0}]
[null,null,null,null,null,null,null,null,null,null,null,null,null,null,null,null,null,null,null,null,null,null,null,null,null,null,null,null,null,null,null,null,null,null,null,null,null,null,null,null,null,null,null,null,null,null,null,null,null,null,null,null,0,"",0,0,0,0,0,0,0]
[null,null,null,null,null,null,null,null,null,null,null,null,null,null,null,null,null,null,null,null,null,null,null,null,null,null,null,null,null,null,null,null,null,null,null,null,null,null,null,null,null,null,null,null,null,null,null,null,null,null,null,null,0,"",0,0,0,0,0,0,0]
[null,null,null,null,null,null,null,null,null,null,null,null,null,null,null,null,null,null,null,null,null,null,null,null,null,null,null,null,null,null,null,null,null,null,null,null,null,null,null,null,null,null,null,null,null,null,null,null,null,null,null,null,0,"",0,0,0,0,0,0,0]
[null,null,null,null,null,null,null,null,null,null,null,null,null,null,null,null,null,null,null,null,null,null,null,null,null,null,null,null,null,null,null,null,null,null,null,null,null,null,null,null,null,null,null,null,null,null,null,null,null,null,null,null,0,"",0,0,0,0,0,0,0]
[null,null,null,null,null,null,null,null,null,null,null,null,null,null,null,null,null,null,null,null,null,null,null,null,null,null,null,null,null,null,null,null,null,null,null,null,null,null,null,null,null,null,null,null,null,null,null,null,null,null,null,null,0,"",0,0,0,0,0,0,0]
[null,null,null,null,null,null,null,null,null,null,null,null,null,null,null,null,null,null,null,null,null,null,null,null,null,null,null,null,null,null,null,null,null,null,null,null,null,null,null,null,null,null,null,null,null,null,null,null,null,null,null,null,0,"",0,0,0,0,0,0,0]
[null,null,null,null,null,null,null,null,null,null,null,null,null,null,null,null,null,null,null,null,null,null,null,null,null,null,null,null,null,null,null,null,null,null,null,null,null,null,null,null,null,null,null,null,null,null,null,null,null,null,null,null,0,"",0,0,0,0,0,0,0]
[null,null,null,null,null,null,null,null,null,null,null,null,null,null,null,null,null,null,null,null,null,null,null,null,null,null,null,null,null,null,null,null,null,null,null,null,null,null,null,null,null,null,null,null,null,null,null,null,null,null,null,null,0,"",0,0,0,0,0,0,0]
[null,null,null,null,null,null,null,null,null,null,null,null,null,null,null,null,null,null,null,null,null,null,null,null,null,null,null,null,null,null,null,null,null,null,null,null,null,null,null,null,null,null,null,null,null,null,null,null,null,null,null,null,0,"",0,0,0,0,0,0,0]
[null,null,null,null,null,null,null,null,null,null,null,null,null,null,null,null,null,null,null,null,null,null,null,null,null,null,null,null,null,null,null,null,null,null,null,null,null,null,null,null,null,null,null,null,null,null,null,null,null,null,null,null,0,"",0,0,0,0,0,0,0]
[null,null,null,null,null,null,null,null,null,null,null,null,null,null,null,null,null,null,null,null,null,null,null,null,null,null,null,null,null,null,null,null,null,null,null,null,null,null,null,null,null,null,null,null,null,null,null,null,null,null,null,null,0,"",0,0,0,0,0,0,0]
[null,null,null,null,null,null,null,null,null,null,null,null,null,null,null,null,null,null,null,null,null,null,null,null,null,null,null,null,null,null,null,null,null,null,null,null,null,null,null,null,null,null,null,null,null,null,null,null,null,null,null,null,0,"",0,0,0,0,0,0,0]
[null,null,null,null,null,null,null,null,null,null,null,null,null,null,null,null,null,null,null,null,null,null,null,null,null,null,null,null,null,null,null,null,null,null,null,null,null,null,null,null,null,null,null,null,null,null,null,null,null,null,null,null,0,"",0,0,0,0,0,0,0]
[null,null,null,null,null,null,null,null,null,null,null,null,null,null,null,null,null,null,null,null,null,null,null,null,null,null,null,null,null,null,null,null,null,null,null,null,null,null,null,null,null,null,null,null,null,null,null,null,null,null,null,null,0,"",0,0,0,0,0,0,0]
[null,null,null,null,null,null,null,null,null,null,null,null,null,null,null,null,null,null,null,null,null,null,null,null,null,null,null,null,null,null,null,null,null,null,null,null,null,null,null,null,null,null,null,null,null,null,null,null,null,null,null,null,0,"",0,0,0,0,0,0,0]

{"sheet":"Коэффициенты","index":22,"n_rows":8,"n_cols":6,"rows_kept":8,"cut":false,"hidden":false,"merged":[]}
["Идентификатор","Стартовый","Текущий",null,null,{"$cut":{"chars":32767,"head":"<div id=\"box-table-type-1\" data-hash=\"72526c60c922b8356a84f6f2d7d46424\" data-ts=\"1567781602\"><div id=\"table-type-1\" class=\"table table-type-1\"><div class=\"table__wrapper\"><div class=\"table__header\"><div class=\"table__cell table__cell--rank col_rank\" title=\"Место\" data-type=\"rank\">#</div><div class=\"table__cell table__cell--participant_name col_name\" title=\"Команда\" data-type=\"participant_name\">Команда</div><div class=\"table__cell table__cell--matches\" title=\"Игры\" data-type=\"matches\">И</div><div class=\"table__cell table__cell--wins_regular\" title=\"Выигрыши\" data-type=\"wins_regular\">B</div><div class=\"table__cell table__cell--draws\" title=\"Ничьи\" data-type=\"draws\">Н</div><div class=\"table__cell table__cell--losses_regular\" title=\"Проигрыши\" data-type=\"losses_regular\">П</div><div class=\"table__cell table__cell--goals\" title=\"Голы\" data-type=\"goals\">Г</div><div class=\"table__cell table__cell--points\" title=\"Очки\" data-type=\"points\">О</div><div class=\"table__cell table__cell--form\" title=\"Последние 5 матчей\" data-type=\"form\">Форма</div></div><div class=\"table__body\"><div class=\"table__rowglib-participant-dCnwK15c highlight\"data-def-order=\"0\"><div class=\"table__cell table__cell--rank table__cell--col_rank table__cell--no table__cell--q1\" title=\"Повышение - ФНЛ\">1.</div><div class=\"table__cell table__cell--participant_name table__cell--col_participant_name table__cell--col_name\"><span class=\"cell--block\"><span class=\"team-logo team-logo-371\" style=\"background: transparent url(/res/image/data/m-v7oSgQbP-0IAWiJn9.png?new) 0 0px no-repeat;background-size: 15px;\"></span><span class=\"team_name_span\"><a onclick=\"javascript:getUrlByWinType('/team/d-bryansk/dCnwK15c/');\">Динамо Брянск</a></span></span></div><div class=\"table__cell table__cell--matches_played table__cell--col_matches_played\">7</div><div class=\"table__cell table__cell--wins_regular table__cell--col_wins_regular\">5</div><div class=\"table__cell table__cell--draws table__cell--col_draws\">0</div><div class=\"table__cell table__cell--losses_regular table__cell--col_losses_regular\">2</div><div class=\"table__cell table__cell--goals table__cell--col_goals\">9:5</div><div class=\"table__cell table__cell--points table__cell--col_points\">15</div><div class=\"table__cell table__cell--form table__cell--col_form\"><a class=\"form__cell form__cell--upcoming glib-event-xhfPzlvt glib-participants-dCnwK15c-bF7KpXuR glib-partnames-d-bryansk;m-lipetsk\" title=\"[b]Следующий матч:[/b]Динамо Брянск - Металлург Липецк1567782000\"></a><a class=\"form__cell form__cell--loss stage-3 glib-event-UoXcKSga glib-participants-0GAoHqF1-dCnwK15c glib-partnames-ryazan;d-bryansk\" title=\"[b]3:1&amp;nbsp;[/b](ФК Рязань - Динамо Брянск)1567179000\"></a><a class=\"form__cell form__cell--win glib-event-A7VS69Pa glib-participants-dCnwK15c-zgJTd9AM glib-partnames-d-bryansk;khimki\" title=\"[b]1:0&amp;nbsp;[/b](Динамо Брянск - Химки 2)1566572400\"></a><a class=\"form__cell form__cell--loss stage-3 glib-event-jNYe4G31 glib-participants-C6Xac0g7-dCnwK15c glib-partnames-khimik-novomoskovsk;d-bryansk\" title=\"[b]2:0&amp;nbsp;[/b](Химик Новомосковск - Динамо Брянск)1565964000\"></a><a class=\"form__cell form__cell--win glib-event-Uq64E0R8 glib-participants-dCnwK15c-jiqiaMOf glib-partnames-d-bryansk;strogino-moscow\" title=\"[b]2:0&amp;nbsp;[/b](Динамо Брянск - Строгино)1565362800\"></a><a class=\"form__cell form__cell--win glib-event-UVQVa1CF glib-participants-pftkxeSR-dCnwK15c glib-partnames-kvant-obninsk;d-bryansk\" title=\"[b]0:2&amp;nbsp;[/b](Квант - Динамо Брянск)1564673400\"></a></div></div><div class=\"table__rowglib-participant-UenvuAao\"data-def-order=\"1\"><div class=\"table__cell table__cell--rank table__cell--col_rank table__cell--no table__cell--\">2.</div><div class=\"table__cell table__cell--participant_name table__cell--col_participant_name table__cell--col_name\"><span class=\"cell--block\"><span class=\"team-logo team-logo-18367\" style=\"background: transparent url(/res/image/data/m-v7oSgQbP-0IAWiJn9.png?new) 0 -52.5px no-repeat;background-size: 15px;\"></span><span class=\"team_name_span\"><a onclick=\"javascript:getUrlByWinType('/team/sara"}}]
["П1",2.8,2.54]
["Х",2.95,2.88]
["П2",2.6,2.95]
["ТБ2.5",2.2999999999999998,2.4500000000000002]
["ТМ2.5",1.55,1.55]
["ОЗ",2,2.1]
["ОНЗ",1.71,1.7]