{"text_format":"1","workbook":"xlsx","n_sheets":28,"sheets":["Poisson","Лист3","Лист2","Лист4","Старт","Список","АнализУПР","Таблица","Форма","Результат","АрхивУПР","Beta8","расчет банка","SVOD","DATA","Анализ","Расчеты","SC","Valui","Дома","Гости","ДомаДома","ГостиГости","Очные","ДомаГости","ГостиДома","ОчныеДГ","Коэффициенты"],"not_rendered":{"charts":14,"images":1,"macros":1,"external_links":1,"defined_names":21,"comments":2,"pivot_tables":0},"unopened":[],"bounds":{"document_bytes":16777216,"sheet_cells":100000,"rows_first":2000,"rows_last":500,"rows_between":2000,"halvings":0,"cell_chars":16384,"cell_head_chars":4096},"cells_cut":0,"cells_raw":0,"read":"whole","date_system":"1900"}

{"sheet":"Poisson","index":0,"n_rows":57,"n_cols":21,"rows_kept":57,"cut":false,"hidden":true,"merged":[[31,1,31,16],[4,1,4,16]]}
[]
[]
[]
[]
[null,"Пуасон Делюкс"]
[null,null,null,"Команда","Забито","Пропущено","Игры",null,"Средний"]
[null,null,"Дом",{"$f":"SVOD!A1","v":"Everton"},{"$f":"SVOD!F5","v":5},{"$f":"SVOD!G5","v":3},{"$f":"SVOD!B5","v":4},null,{"$f":"(E7+F8)/(G8+G7)","v":1.5}]
[null,null,"Гости",{"$f":"SVOD!A7","v":"Colo Colo"},{"$f":"SVOD!F11","v":5},{"$f":"SVOD!G11","v":7},{"$f":"SVOD!B11","v":4},null,{"$f":"(E8+F7)/(G7+G8)","v":1}]
[]
[null,null,null,null,null,null,null,0,1,2,3,4,5,6,7,8,9]
[null,null,null,null,null,null,0,{"$f":"POISSON(G11,I7,0)*POISSON(H10,I8,0)","v":8.20849986238988E-2},{"$f":"POISSON(G11,I7,0)*POISSON(I10,I8,0)","v":8.20849986238988E-2},{"$f":"POISSON(G11,I7,0)*POISSON(J10,I8,0)","v":4.1042499311949393E-2},{"$f":"POISSON(G11,I7,0)*POISSON(K10,I8,0)","v":1.3680833103983133E-2},{"$f":"POISSON(G11,I7,0)*POISSON(L10,I8,0)","v":3.4202082759957823E-3},{"$f":"POISSON(G11,I7,0)*POISSON(M10,I8,0)","v":6.8404165519915679E-4},{"$f":"POISSON(G11,I7,0)*POISSON(N10,I8,0)","v":1.1400694253319273E-4},{"$f":"POISSON(G11,I7,0)*POISSON(O10,I8,0)","v":1.6286706076170418E-5},{"$f":"POISSON(G11,I7,0)*POISSON(P10,I8,0)","v":2.0358382595212946E-6},{"$f":"POISSON(G11,I7,0)*POISSON(Q10,I8,0)","v":2.2620425105792188E-7}]
[null,{"$f":"\"1\"","v":"1"},{"$f":"\"X\"","v":"X"},{"$f":"\"2\"","v":"2"},null,null,1,{"$f":"POISSON(G12,I7,0)*POISSON(H10,I8,0)","v":0.12312749793584819},{"$f":"POISSON(G12,I7,0)*POISSON(I10,I8,0)","v":0.12312749793584819},{"$f":"POISSON(G12,I7,0)*POISSON(J10,I8,0)","v":6.156374896792409E-2},{"$f":"POISSON(G12,I7,0)*POISSON(K10,I8,0)","v":2.05212496559747E-2},{"$f":"POISSON(G12,I7,0)*POISSON(L10,I8,0)","v":5.1303124139936741E-3},{"$f":"POISSON(G12,I7,0)*POISSON(M10,I8,0)","v":1.0260624827987351E-3},{"$f":"POISSON(G12,I7,0)*POISSON(N10,I8,0)","v":1.7101041379978912E-4},{"$f":"POISSON(G12,I7,0)*POISSON(O10,I8,0)","v":2.443005911425563E-5},{"$f":"POISSON(G12,I7,0)*POISSON(P10,I8,0)","v":3.0537573892819419E-6},{"$f":"POISSON(G12,I7,0)*POISSON(Q10,I8,0)","v":3.3930637658688279E-7}]
[null,{"$f":"SUM(H12:H20,I13:I20,J14:J20,K15:K20,L16:L20,M17:M20,N18:N20,O19:O20,P20)","v":0.48794158581562763},{"$f":"SUM(H11,I12,J13,K14,L15,M16,N17,O18,P19,Q20)","v":0.25984737425739302},{"$f":"1-C13-B13","v":0.25221103992697935},null,null,2,{"$f":"POISSON(G13,I7,0)*POISSON(H10,I8,0)","v":9.2345623451886155E-2},{"$f":"POISSON(G13,I7,0)*POISSON(I10,I8,0)","v":9.2345623451886155E-2},{"$f":"POISSON(G13,I7,0)*POISSON(J10,I8,0)","v":4.6172811725943071E-2},{"$f":"POISSON(G13,I7,0)*POISSON(K10,I8,0)","v":1.5390937241981028E-2},{"$f":"POISSON(G13,I7,0)*POISSON(L10,I8,0)","v":3.847734310495256E-3},{"$f":"POISSON(G13,I7,0)*POISSON(M10,I8,0)","v":7.695468620990514E-4},{"$f":"POISSON(G13,I7,0)*POISSON(N10,I8,0)","v":1.2825781034984186E-4},{"$f":"POISSON(G13,I7,0)*POISSON(O10,I8,0)","v":1.8322544335691723E-5},{"$f":"POISSON(G13,I7,0)*POISSON(P10,I8,0)","v":2.2903180419614565E-6},{"$f":"POISSON(G13,I7,0)*POISSON(Q10,I8,0)","v":2.5447978244016214E-7}]
[null,{"$f":"1/B13","v":2.0494256465729026},{"$f":"1/C13","v":3.8484129495549393},{"$f":"1/D13","v":3.9649334949394839},null,null,3,{"$f":"POISSON(G14,I7,0)*POISSON(H10,I8,0)","v":4.6172811725943091E-2},{"$f":"POISSON(G14,I7,0)*POISSON(I10,I8,0)","v":4.6172811725943091E-2},{"$f":"POISSON(G14,I7,0)*POISSON(J10,I8,0)","v":2.3086405862971542E-2},{"$f":"POISSON(G14,I7,0)*POISSON(K10,I8,0)","v":7.6954686209905147E-3},{"$f":"POISSON(G14,I7,0)*POISSON(L10,I8,0)","v":1.9238671552476282E-3},{"$f":"POISSON(G14,I7,0)*POISSON(M10,I8,0)","v":3.8477343104952581E-4},{"$f":"POISSON(G14,I7,0)*POISSON(N10,I8,0)","v":6.4128905174920946E-5},{"$f":"POISSON(G14,I7,0)*POISSON(O10,I8,0)","v":9.1612721678458651E-6},{"$f":"POISSON(G14,I7,0)*POISSON(P10,I8,0)","v":1.1451590209807285E-6},{"$f":"POISSON(G14,I7,0)*POISSON(Q10,I8,0)","v":1.272398912200811E-7}]
[null,null,null,null,null,null,4,{"$f":"POISSON(G15,I7,0)*POISSON(H10,I8,0)","v":1.7314804397228659E-2},{"$f":"POISSON(G15,I7,0)*POISSON(I10,I8,0)","v":1.7314804397228659E-2},{"$f":"POISSON(G15,I7,0)*POISSON(J10,I8,0)","v":8.6574021986143296E-3},{"$f":"POISSON(G15,I7,0)*POISSON(K10,I8,0)","v":2.8858007328714437E-3},{"$f":"POISSON(G15,I7,0)*POISSON(L10,I8,0)","v":7.214501832178607E-4},{"$f":"POISSON(G15,I7,0)*POISSON(M10,I8,0)","v":1.442900366435722E-4},{"$f":"POISSON(G15,I7,0)*POISSON(N10,I8,0)","v":2.4048339440595356E-5},{"$f":"POISSON(G15,I7,0)*POISSON(O10,I8,0)","v":3.4354770629421996E-6},{"$f":"POISSON(G15,I7,0)*POISSON(P10,I8,0)","v":4.2943463286777326E-7},{"$f":"POISSON(G15,I7,0)*POISSON(Q10,I8,0)","v":4.7714959207530415E-8}]
[null,null,null,null,null,null,5,{"$f":"POISSON(G16,I7,0)*POISSON(H10,I8,0)","v":5.1944413191685928E-3},{"$f":"POISSON(G16,I7,0)*POISSON(I10,I8,0)","v":5.1944413191685928E-3},{"$f":"POISSON(G16,I7,0)*POISSON(J10,I8,0)","v":2.5972206595842964E-3},{"$f":"POISSON(G16,I7,0)*POISSON(K10,I8,0)","v":8.6574021986143227E-4},{"$f":"POISSON(G16,I7,0)*POISSON(L10,I8,0)","v":2.1643505496535801E-4},{"$f":"POISSON(G16,I7,0)*POISSON(M10,I8,0)","v":4.328701099307162E-5},{"$f":"POISSON(G16,I7,0)*POISSON(N10,I8,0)","v":7.2145018321785994E-6},{"$f":"POISSON(G16,I7,0)*POISSON(O10,I8,0)","v":1.0306431188826588E-6},{"$f":"POISSON(G16,I7,0)*POISSON(P10,I8,0)","v":1.2883038986033185E-7},{"$f":"POISSON(G16,I7,0)*POISSON(Q10,I8,0)","v":1.4314487762259112E-8}]
[null,null,null,null,null,null,6,{"$f":"POISSON(G17,I7,0)*POISSON(H10,I8,0)","v":1.2986103297921499E-3},{"$f":"POISSON(G17,I7,0)*POISSON(I10,I8,0)","v":1.2986103297921499E-3},{"$f":"POISSON(G17,I7,0)*POISSON(J10,I8,0)","v":6.4930516489607485E-4},{"$f":"POISSON(G17,I7,0)*POISSON(K10,I8,0)","v":2.1643505496535831E-4},{"$f":"POISSON(G17,I7,0)*POISSON(L10,I8,0)","v":5.4108763741339571E-5},{"$f":"POISSON(G17,I7,0)*POISSON(M10,I8,0)","v":1.0821752748267917E-5},{"$f":"POISSON(G17,I7,0)*POISSON(N10,I8,0)","v":1.8036254580446522E-6},{"$f":"POISSON(G17,I7,0)*POISSON(O10,I8,0)","v":2.5766077972066501E-7},{"$f":"POISSON(G17,I7,0)*POISSON(P10,I8,0)","v":3.2207597465083001E-8},{"$f":"POISSON(G17,I7,0)*POISSON(Q10,I8,0)","v":3.5786219405647821E-9}]
[null,"ТБ 0.5",{"$f":"SUM(H11:Q20)-H11","v":0.91791079245010332},{"$f":"1/C18","v":1.0894304852117305},null,null,7,{"$f":"POISSON(G18,I7,0)*POISSON(H10,I8,0)","v":2.782736420983176E-4},{"$f":"POISSON(G18,I7,0)*POISSON(I10,I8,0)","v":2.782736420983176E-4},{"$f":"POISSON(G18,I7,0)*POISSON(J10,I8,0)","v":1.3913682104915877E-4},{"$f":"POISSON(G18,I7,0)*POISSON(K10,I8,0)","v":4.6378940349719602E-5},{"$f":"POISSON(G18,I7,0)*POISSON(L10,I8,0)","v":1.1594735087429897E-5},{"$f":"POISSON(G18,I7,0)*POISSON(M10,I8,0)","v":2.3189470174859802E-6},{"$f":"POISSON(G18,I7,0)*POISSON(N10,I8,0)","v":3.8649116958099654E-7},{"$f":"POISSON(G18,I7,0)*POISSON(O10,I8,0)","v":5.5213024225856743E-8},{"$f":"POISSON(G18,I7,0)*POISSON(P10,I8,0)","v":6.9016280282320665E-9},{"$f":"POISSON(G18,I7,0)*POISSON(Q10,I8,0)","v":7.6684755869245263E-10}]
[null,"ТБ 1.5",{"$f":"SUM(H13:H20,I12:I20,J11:J20,K11:Q20)","v":0.71269829589035627},{"$f":"1/C19","v":1.4031182700538449},null,null,8,{"$f":"POISSON(G19,I7,0)*POISSON(H10,I8,0)","v":5.2176307893434554E-5},{"$f":"POISSON(G19,I7,0)*POISSON(I10,I8,0)","v":5.2176307893434554E-5},{"$f":"POISSON(G19,I7,0)*POISSON(J10,I8,0)","v":2.6088153946717273E-5},{"$f":"POISSON(G19,I7,0)*POISSON(K10,I8,0)","v":8.6960513155724267E-6},{"$f":"POISSON(G19,I7,0)*POISSON(L10,I8,0)","v":2.1740128288931058E-6},{"$f":"POISSON(G19,I7,0)*POISSON(M10,I8,0)","v":4.3480256577862137E-7},{"$f":"POISSON(G19,I7,0)*POISSON(N10,I8,0)","v":7.2467094296436868E-8},{"$f":"POISSON(G19,I7,0)*POISSON(O10,I8,0)","v":1.0352442042348141E-8},{"$f":"POISSON(G19,I7,0)*POISSON(P10,I8,0)","v":1.2940552552935125E-9},{"$f":"POISSON(G19,I7,0)*POISSON(Q10,I8,0)","v":1.4378391725483488E-10}]
[null,"ТБ 2.5",{"$f":"SUM(H14:H20,I13:I20,J12:J20,K11:Q20)","v":0.45618267519067235},{"$f":"1/C20","v":2.1921042915144167},null,null,9,{"$f":"POISSON(G20,I7,0)*POISSON(H10,I8,0)","v":8.6960513155724318E-6},{"$f":"POISSON(G20,I7,0)*POISSON(I10,I8,0)","v":8.6960513155724318E-6},{"$f":"POISSON(G20,I7,0)*POISSON(J10,I8,0)","v":4.3480256577862151E-6},{"$f":"POISSON(G20,I7,0)*POISSON(K10,I8,0)","v":1.4493418859287388E-6},{"$f":"POISSON(G20,I7,0)*POISSON(L10,I8,0)","v":3.6233547148218461E-7},{"$f":"POISSON(G20,I7,0)*POISSON(M10,I8,0)","v":7.2467094296436948E-8},{"$f":"POISSON(G20,I7,0)*POISSON(N10,I8,0)","v":1.2077849049406154E-8},{"$f":"POISSON(G20,I7,0)*POISSON(O10,I8,0)","v":1.7254070070580247E-9},{"$f":"POISSON(G20,I7,0)*POISSON(P10,I8,0)","v":2.1567587588225226E-10},{"$f":"POISSON(G20,I7,0)*POISSON(Q10,I8,0)","v":2.3963986209139167E-11}]
[null,"ТБ 3.5",{"$f":"SUM(H15:H20,I14:I20,J13:J20,K12:K20,L11:Q20)","v":0.24241965794093606},{"$f":"1/C21","v":4.1250780093239934}]
[null,"ТБ 4.5",{"$f":"SUM(H16:H20,I15:I20,J14:J20,K13:K20,L12:L20,M11:Q20)","v":0.1088177721598506},9.1896753641585764]
[null,"ТБ 5.5",{"$f":"SUM(H17:H20,I16:I20,J15:J20,K14:K20,L13:L20,M12:M20,N11:Q20)","v":4.2016829269307943E-2},23.799987228700061]
[]
[null,"ТМ 0.5",{"$f":"1-C18","v":8.2089207549896681E-2},12.181869332727633,null,"ОЗ",{"$f":"SUM(I12:Q20)","v":0.4910727206267827},{"$f":"1/G25","v":2.0363582785124898}]
[null,"ТМ 1.5",0.28730170410964373,3.4806615682946567,null,"НЕ ОЗ",{"$f":"1-G25","v":0.50892727937321736},{"$f":"1/G26","v":1.9649172691854444}]
[null,"ТМ 2.5",0.54381732480932765,1.8388527808499266]
[null,"ТМ 3.5",0.75758034205906388,1.3199920120446262,null,"P",{"$f":"SUM(H11,H13,H15,H17,H19,I12,I14,I16,I18,I20,J11,J13,J15,J17,J19,K12,K14,K16,K18,K20,L11,L13,L15,L17,L19,M12,M14,M16,M18,M20)+SUM(N11,N13,N15,N17,N19,O12,O14,O16,O18,O20,P11,P13,P15,P17,P19,Q12,Q14,Q16,Q18,Q20)","v":0.50336665584657947},{"$f":"1/G28","v":1.9866234451270226}]
[null,"ТМ 4.5",0.89118222784014944,1.1221049621058747,null,"D",{"$f":"1-G28","v":0.49663334415342053},{"$f":"1/G29","v":2.0135579130407297}]
[null,"ТМ 5.5",0.95798317073069206,1.0438596736905723]
[]
[null,"Пуасон Дом-Гости"]
[null,null,null,"Команда","Забито","Пропущено","Игры",null,"Средний"]
[null,null,"Дом",{"$f":"SVOD!A1","v":"Everton"},{"$f":"SVOD!F6","v":5},{"$f":"SVOD!G6","v":5},{"$f":"SVOD!B6","v":4},null,{"$f":"(E34+F35)/(G35+G34)","v":1.375}]
[null,null,"Гости",{"$f":"SVOD!A7","v":"Colo Colo"},{"$f":"SVOD!F12","v":5},{"$f":"SVOD!G12","v":6},{"$f":"SVOD!B12","v":4},null,{"$f":"(E35+F34)/(G34+G35)","v":1.25}]
[]
[null,null,null,null,null,null,null,0,1,2,3,4,5,6,7,8,9]
[null,null,null,null,null,null,0,{"$f":"POISSON(G38,I34,0)*POISSON(H37,I35,0)","v":7.2439757034251456E-2},{"$f":"POISSON(G38,I34,0)*POISSON(I37,I35,0)","v":9.0549696292814327E-2},{"$f":"POISSON(G38,I34,0)*POISSON(J37,I35,0)","v":5.6593560183008949E-2},{"$f":"POISSON(G38,I34,0)*POISSON(K37,I35,0)","v":2.3580650076253738E-2},{"$f":"POISSON(G38,I34,0)*POISSON(L37,I35,0)","v":7.3689531488292919E-3},{"$f":"POISSON(G38,I34,0)*POISSON(M37,I35,0)","v":1.8422382872073223E-3},{"$f":"POISSON(G38,I34,0)*POISSON(N37,I35,0)","v":3.8379964316819241E-4},{"$f":"POISSON(G38,I34,0)*POISSON(O37,I35,0)","v":6.8535650565748591E-5},{"$f":"POISSON(G38,I34,0)*POISSON(P37,I35,0)","v":1.0708695400898217E-5},{"$f":"POISSON(G38,I34,0)*POISSON(Q37,I35,0)","v":1.4873188056803058E-6}]
[null,{"$f":"\"1\"","v":"1"},{"$f":"\"X\"","v":"X"},{"$f":"\"2\"","v":"2"},null,null,1,{"$f":"POISSON(G39,I34,0)*POISSON(H37,I35,0)","v":9.9604665922095742E-2},{"$f":"POISSON(G39,I34,0)*POISSON(I37,I35,0)","v":0.12450583240261968},{"$f":"POISSON(G39,I34,0)*POISSON(J37,I35,0)","v":7.7816145251637298E-2},{"$f":"POISSON(G39,I34,0)*POISSON(K37,I35,0)","v":3.2423393854848888E-2},{"$f":"POISSON(G39,I34,0)*POISSON(L37,I35,0)","v":1.0132310579640275E-2},{"$f":"POISSON(G39,I34,0)*POISSON(M37,I35,0)","v":2.533077644910068E-3},{"$f":"POISSON(G39,I34,0)*POISSON(N37,I35,0)","v":5.2772450935626455E-4},{"$f":"POISSON(G39,I34,0)*POISSON(O37,I35,0)","v":9.4236519527904309E-5},{"$f":"POISSON(G39,I34,0)*POISSON(P37,I35,0)","v":1.4724456176235046E-5},{"$f":"POISSON(G39,I34,0)*POISSON(Q37,I35,0)","v":2.04506335781042E-6},null,{"$f":"\"1\"","v":"1"},{"$f":"\"X\"","v":"X"},{"$f":"\"2\"","v":"2"}]
[null,{"$f":"SUM(H39:H47,I40:I47,J41:J47,K42:K47,L43:L47,M44:M47,N45:N47,O46:O47,P47)","v":0.39822312477898791},{"$f":"SUM(H38,I39,J40,K41,L42,M43,N44,O45,P46,Q47)","v":0.26183762332463645},{"$f":"1-C40-B40","v":0.33993925189637564},null,null,2,{"$f":"POISSON(G40,I34,0)*POISSON(H37,I35,0)","v":6.8478207821440831E-2},{"$f":"POISSON(G40,I34,0)*POISSON(I37,I35,0)","v":8.559775977680105E-2},{"$f":"POISSON(G40,I34,0)*POISSON(J37,I35,0)","v":5.3498599860500651E-2},{"$f":"POISSON(G40,I34,0)*POISSON(K37,I35,0)","v":2.2291083275208616E-2},{"$f":"POISSON(G40,I34,0)*POISSON(L37,I35,0)","v":6.9659635235026903E-3},{"$f":"POISSON(G40,I34,0)*POISSON(M37,I35,0)","v":1.7414908808756722E-3},{"$f":"POISSON(G40,I34,0)*POISSON(N37,I35,0)","v":3.6281060018243194E-4},{"$f":"POISSON(G40,I34,0)*POISSON(O37,I35,0)","v":6.4787607175434227E-5},{"$f":"POISSON(G40,I34,0)*POISSON(P37,I35,0)","v":1.0123063621161597E-5},{"$f":"POISSON(G40,I34,0)*POISSON(Q37,I35,0)","v":1.4059810584946641E-6},null,{"$f":"SUM(H39:H47,I40:I47,J41:J47,K42:K47,L43:L47,M44:M47,N45:N47,O46:O47,P47)","v":0.39822312477898791},{"$f":"SUM(H38,I39,J40,K41,L42,M43,N44,O45,P46,Q47)","v":0.26183762332463645},{"$f":"1-T40-S40","v":0.33993925189637564}]
[null,{"$f":"1/B40","v":2.5111550228405135},{"$f":"1/C40","v":3.8191608497765852},{"$f":"1/D40","v":2.9417020671235461},null,null,3,{"$f":"POISSON(G41,I34,0)*POISSON(H37,I35,0)","v":3.1385845251493731E-2},{"$f":"POISSON(G41,I34,0)*POISSON(I37,I35,0)","v":3.9232306564367166E-2},{"$f":"POISSON(G41,I34,0)*POISSON(J37,I35,0)","v":2.4520191602729478E-2},{"$f":"POISSON(G41,I34,0)*POISSON(K37,I35,0)","v":1.0216746501137287E-2},{"$f":"POISSON(G41,I34,0)*POISSON(L37,I35,0)","v":3.1927332816054019E-3},{"$f":"POISSON(G41,I34,0)*POISSON(M37,I35,0)","v":7.9818332040135014E-4},{"$f":"POISSON(G41,I34,0)*POISSON(N37,I35,0)","v":1.662881917502814E-4},{"$f":"POISSON(G41,I34,0)*POISSON(O37,I35,0)","v":2.969431995540737E-5},{"$f":"POISSON(G41,I34,0)*POISSON(P37,I35,0)","v":4.6397374930324009E-6},{"$f":"POISSON(G41,I34,0)*POISSON(Q37,I35,0)","v":6.4440798514338805E-7},null,{"$f":"1/S40","v":2.5111550228405135},{"$f":"1/T40","v":3.8191608497765852},{"$f":"1/U40","v":2.9417020671235461}]
[null,null,null,null,null,null,4,{"$f":"POISSON(G42,I34,0)*POISSON(H37,I35,0)","v":1.0788884305200962E-2},{"$f":"POISSON(G42,I34,0)*POISSON(I37,I35,0)","v":1.3486105381501204E-2},{"$f":"POISSON(G42,I34,0)*POISSON(J37,I35,0)","v":8.4288158634382524E-3},{"$f":"POISSON(G42,I34,0)*POISSON(K37,I35,0)","v":3.5120066097659398E-3},{"$f":"POISSON(G42,I34,0)*POISSON(L37,I35,0)","v":1.097502065551856E-3},{"$f":"POISSON(G42,I34,0)*POISSON(M37,I35,0)","v":2.743755163879639E-4},{"$f":"POISSON(G42,I34,0)*POISSON(N37,I35,0)","v":5.7161565914159179E-5},{"$f":"POISSON(G42,I34,0)*POISSON(O37,I35,0)","v":1.0207422484671275E-5},{"$f":"POISSON(G42,I34,0)*POISSON(P37,I35,0)","v":1.5949097632298866E-6},{"$f":"POISSON(G42,I34,0)*POISSON(Q37,I35,0)","v":2.2151524489303948E-7},null,{"$f":"S40+SVOD!H91+SVOD!H92+SVOD!H93","v":0.41772312477898793},{"$f":"100%-S42-U42","v":0.22583762332463647},{"$f":"U40+SVOD!J91+SVOD!J92+SVOD!J93","v":0.35643925189637565}]
[null,null,null,null,null,null,5,{"$f":"POISSON(G43,I34,0)*POISSON(H37,I35,0)","v":2.9669431839302635E-3},{"$f":"POISSON(G43,I34,0)*POISSON(I37,I35,0)","v":3.7086789799128297E-3},{"$f":"POISSON(G43,I34,0)*POISSON(J37,I35,0)","v":2.3179243624455183E-3},{"$f":"POISSON(G43,I34,0)*POISSON(K37,I35,0)","v":9.6580181768563314E-4},{"$f":"POISSON(G43,I34,0)*POISSON(L37,I35,0)","v":3.0181306802676028E-4},{"$f":"POISSON(G43,I34,0)*POISSON(M37,I35,0)","v":7.5453267006690044E-5},{"$f":"POISSON(G43,I34,0)*POISSON(N37,I35,0)","v":1.5719430626393769E-5},{"$f":"POISSON(G43,I34,0)*POISSON(O37,I35,0)","v":2.8070411832845997E-6},{"$f":"POISSON(G43,I34,0)*POISSON(P37,I35,0)","v":4.3860018488821866E-7},{"$f":"POISSON(G43,I34,0)*POISSON(Q37,I35,0)","v":6.0916692345585839E-8}]
[null,null,null,null,null,null,6,{"$f":"POISSON(G44,I34,0)*POISSON(H37,I35,0)","v":6.7992447965068575E-4},{"$f":"POISSON(G44,I34,0)*POISSON(I37,I35,0)","v":8.4990559956335716E-4},{"$f":"POISSON(G44,I34,0)*POISSON(J37,I35,0)","v":5.3119099972709816E-4},{"$f":"POISSON(G44,I34,0)*POISSON(K37,I35,0)","v":2.2132958321962435E-4},{"$f":"POISSON(G44,I34,0)*POISSON(L37,I35,0)","v":6.9165494756132594E-5},{"$f":"POISSON(G44,I34,0)*POISSON(M37,I35,0)","v":1.7291373689033142E-5},{"$f":"POISSON(G44,I34,0)*POISSON(N37,I35,0)","v":3.6023695185485739E-6},{"$f":"POISSON(G44,I34,0)*POISSON(O37,I35,0)","v":6.4328027116938769E-7},{"$f":"POISSON(G44,I34,0)*POISSON(P37,I35,0)","v":1.0051254237021682E-7},{"$f":"POISSON(G44,I34,0)*POISSON(Q37,I35,0)","v":1.3960075329196761E-8}]
[null,"ТБ 0.5",{"$f":"SUM(H38:Q47)-H38","v":0.92755749406406796},{"$f":"1/C45","v":1.0781002863968325},null,null,7,{"$f":"POISSON(G45,I34,0)*POISSON(H37,I35,0)","v":1.3355659421709901E-4},{"$f":"POISSON(G45,I34,0)*POISSON(I37,I35,0)","v":1.6694574277137378E-4},{"$f":"POISSON(G45,I34,0)*POISSON(J37,I35,0)","v":1.043410892321086E-4},{"$f":"POISSON(G45,I34,0)*POISSON(K37,I35,0)","v":4.3475453846711941E-5},{"$f":"POISSON(G45,I34,0)*POISSON(L37,I35,0)","v":1.3586079327097478E-5},{"$f":"POISSON(G45,I34,0)*POISSON(M37,I35,0)","v":3.3965198317743682E-6},{"$f":"POISSON(G45,I34,0)*POISSON(N37,I35,0)","v":7.0760829828632714E-7},{"$f":"POISSON(G45,I34,0)*POISSON(O37,I35,0)","v":1.2635862469398692E-7},{"$f":"POISSON(G45,I34,0)*POISSON(P37,I35,0)","v":1.9743535108435453E-8},{"$f":"POISSON(G45,I34,0)*POISSON(Q37,I35,0)","v":2.7421576539493644E-9}]
[null,"ТБ 1.5",{"$f":"SUM(H40:H47,I39:I47,J38:J47,K38:Q47)","v":0.73740313184915796},1.356110323931413,null,null,8,{"$f":"POISSON(G46,I34,0)*POISSON(H37,I35,0)","v":2.2955039631063906E-5},{"$f":"POISSON(G46,I34,0)*POISSON(I37,I35,0)","v":2.8693799538829886E-5},{"$f":"POISSON(G46,I34,0)*POISSON(J37,I35,0)","v":1.7933624711768677E-5},{"$f":"POISSON(G46,I34,0)*POISSON(K37,I35,0)","v":7.4723436299036183E-6},{"$f":"POISSON(G46,I34,0)*POISSON(L37,I35,0)","v":2.3351073843448805E-6},{"$f":"POISSON(G46,I34,0)*POISSON(M37,I35,0)","v":5.837768460862199E-7},{"$f":"POISSON(G46,I34,0)*POISSON(N37,I35,0)","v":1.2162017626796256E-7},{"$f":"POISSON(G46,I34,0)*POISSON(O37,I35,0)","v":2.1717888619279013E-8},{"$f":"POISSON(G46,I34,0)*POISSON(P37,I35,0)","v":3.3934200967623453E-9},{"$f":"POISSON(G46,I34,0)*POISSON(Q37,I35,0)","v":4.7130834677254731E-10}]
[null,"ТБ 2.5",{"$f":"SUM(H41:H47,I40:I47,J39:J47,K38:Q47)","v":0.48782553144208907},2.0499132077893556,null,null,9,{"$f":"POISSON(G47,I34,0)*POISSON(H37,I35,0)","v":3.5070199436347547E-6},{"$f":"POISSON(G47,I34,0)*POISSON(I37,I35,0)","v":4.3837749295434439E-6},{"$f":"POISSON(G47,I34,0)*POISSON(J37,I35,0)","v":2.7398593309646518E-6},{"$f":"POISSON(G47,I34,0)*POISSON(K37,I35,0)","v":1.1416080545686056E-6},{"$f":"POISSON(G47,I34,0)*POISSON(L37,I35,0)","v":3.5675251705268914E-7},{"$f":"POISSON(G47,I34,0)*POISSON(M37,I35,0)","v":8.9188129263172259E-8},{"$f":"POISSON(G47,I34,0)*POISSON(N37,I35,0)","v":1.8580860263160899E-8},{"$f":"POISSON(G47,I34,0)*POISSON(O37,I35,0)","v":3.3180107612787297E-9},{"$f":"POISSON(G47,I34,0)*POISSON(P37,I35,0)","v":5.1843918144980141E-10},{"$f":"POISSON(G47,I34,0)*POISSON(Q37,I35,0)","v":7.2005441868027868E-11}]
[null,"ТБ 3.5",{"$f":"SUM(H42:H47,I41:I47,J40:J47,K39:K47,L38:Q47)","v":0.26944513108590323},3.7113307483785434]
[null,"ТБ 4.5",{"$f":"SUM(H43:H47,I42:I47,J41:J47,K40:K47,L39:L47,M38:Q47)","v":0.1261329933521563},7.9281397628299803]
[null,"ТБ 5.5",{"$f":"SUM(H44:H47,I43:I47,J42:J47,K41:K47,L40:L47,M39:M47,N38:Q47)","v":5.0894121041939147E-2},19.648634842832887]
[]
[null,"ТМ 0.5",{"$f":"1-C45","v":7.2442505935932044E-2},{"$f":"1/C52","v":13.804050358009389},null,"ОЗ",{"$f":"SUM(I39:Q47)","v":0.53309337515041011},{"$f":"1/G52","v":1.8758439827128861}]
[null,"ТМ 1.5",0.26259686815084204,3.8081185318081388,null,"НЕ ОЗ",{"$f":"1-G52","v":0.46690662484958989},{"$f":"1/G53","v":2.1417558603331912}]
[null,"ТМ 2.5",0.51217446855791093,1.9524596819822368]
[null,"ТМ 3.5",0.73055486891409682,1.3688225793175655,null,"P",{"$f":"SUM(H38,H40,H42,H44,H46,I39,I41,I43,I45,I47,J38,J40,J42,J44,J46,K39,K41,K43,K45,K47,L38,L40,L42,L44,L46,M39,M41,M43,M45,M47)+SUM(N38,N40,N42,N44,N46,O39,O41,O43,O45,O47,P38,P40,P42,P44,P46,Q39,Q41,Q43,Q45,Q47)","v":0.50262230232524663},{"$f":"1/G55","v":1.989565515445235}]
[null,"ТМ 4.5",0.87386700664784367,1.1443388895479678,null,"D",{"$f":"1-G55","v":0.49737769767475337},{"$f":"1/G56","v":2.0105445110929017}]
[null,"ТМ 5.5",0.94910587895806087,1.0536232281037088]

{"sheet":"Лист3","index":1,"n_rows":31,"n_cols":31,"rows_kept":31,"cut":false,"hidden":true,"merged":[[18,7,18,8],[18,9,18,10],[18,11,18,12]]}
[{"$f":"Q1","v":1.0857142857142859},null,null,null,{"$f":"W1","v":1.3142857142857143},null,null,null,null,{"$f":"TREND(J2:J15)","v":1.0857142857142859},{"$f":"TREND(K2:K15)","v":1.3142857142857143},{"$f":"TREND(L2:L15)","v":2.4},null,null,null,null,{"$f":"J1","v":1.0857142857142859},null,null,null,null,null,{"$f":"K1","v":1.3142857142857143},null,null,null,null,null,null,null,{"$f":"L1","v":2.4}]
[{"$f":"Дома!L2","v":1},{"$f":"Дома!M2","v":1},null,null,{"$f":"Гости!L2","v":1},{"$f":"Гости!M2","v":2},null,{"$f":"A2+E2","v":2},null,{"$f":"AVERAGE(A2,F2)","v":1.5},{"$f":"AVERAGE(E2,B2)","v":1},{"$f":"J2+K2","v":2.5},{"$f":"AVEDEV(A2:A6)","v":0.4},{"$f":"O2+M2","v":1.4},{"$f":"AVERAGE(A2:A6)","v":1},{"$f":"O2-M2","v":0.6},{"$f":"A2","v":1},null,{"$f":"AVEDEV(E2:E6)","v":0.64},{"$f":"U2+S2","v":1.8399999999999999},{"$f":"AVERAGE(E2:E6)","v":1.2},{"$f":"U2-S2","v":0.55999999999999994},{"$f":"E2","v":1},null,{"$f":"M2","v":0.4},{"$f":"S2","v":0.64},{"$f":"AVERAGE(Y2:Z2)","v":0.52},{"$f":"AC2+AA2","v":2.72},{"$f":"AVERAGE(H2:H6)","v":2.2000000000000002},{"$f":"AC2-AA2","v":1.6800000000000002},{"$f":"H2","v":2}]
[{"$f":"Дома!L3","v":2},{"$f":"Дома!M3","v":1},null,null,{"$f":"Гости!L3","v":2},{"$f":"Гости!M3","v":1},null,{"$f":"A3+E3","v":4},null,{"$f":"AVERAGE(A3,F3)","v":1.5},{"$f":"AVERAGE(E3,B3)","v":1.5},{"$f":"J3+K3","v":3},{"$f":"AVEDEV(A3:A7)","v":0.4},{"$f":"O3+M3","v":1.4},{"$f":"AVERAGE(A3:A7)","v":1},{"$f":"O3-M3","v":0.6},{"$f":"A3","v":2},null,{"$f":"AVEDEV(E3:E7)","v":0.64},{"$f":"U3+S3","v":1.8399999999999999},{"$f":"AVERAGE(E3:E7)","v":1.2},{"$f":"U3-S3","v":0.55999999999999994},{"$f":"E3","v":2},null,{"$f":"M3","v":0.4},{"$f":"S3","v":0.64},{"$f":"AVERAGE(Y3:Z3)","v":0.52},{"$f":"AC3+AA3","v":2.72},{"$f":"AVERAGE(H3:H7)","v":2.2000000000000002},{"$f":"AC3-AA3","v":1.6800000000000002},{"$f":"H3","v":4}]
[{"$f":"Дома!L4","v":1},{"$f":"Дома!M4","v":1},null,null,{"$f":"Гости!L4","v":0},{"$f":"Гости!M4","v":0},null,1,null,{"$f":"AVERAGE(A4,F4)","v":0.5},0.5,1,0.31999999999999995,{"$f":"O4+M4","v":1.1200000000000001},{"$f":"AVERAGE(A4:A8)","v":0.8},0.48000000000000009,{"$f":"A4","v":1},null,0.64,{"$f":"U4+S4","v":1.44},0.8,0.16000000000000003,0,null,{"$f":"M4","v":0.31999999999999995},0.64,0.48,2.08,1.6,1.1200000000000001,{"$f":"H4","v":1}]
[{"$f":"Дома!L5","v":1},{"$f":"Дома!M5","v":0},null,null,{"$f":"Гости!L5","v":2},{"$f":"Гости!M5","v":4},null,3,null,2.5,1,3.5,0.4,1.4,{"$f":"AVERAGE(A5:A9)","v":1},0.6,{"$f":"A5","v":1},null,0.64,1.44,0.8,0.16000000000000003,2,null,0.4,0.64,0.52,2.3200000000000003,1.8,1.28,3]
[{"$f":"Дома!L6","v":0},{"$f":"Дома!M6","v":3},null,null,{"$f":"Гости!L6","v":1},{"$f":"Гости!M6","v":0},null,1,null,0,2,2,0.64,1.44,{"$f":"AVERAGE(A6:A10)","v":0.8},0.16000000000000003,0,null,0.64,1.44,0.8,0.16000000000000003,1,null,0.64,0.64,0.64,2.2400000000000002,1.6,0.96000000000000008,1]
[{"$f":"Дома!L7","v":1},{"$f":"Дома!M7","v":3},null,null,{"$f":"Гости!L7","v":1},{"$f":"Гости!M7","v":1},null,2,null,1,2,3,0.4,1.4,1,0.6,1,null,0.8,1.8,1,0.19999999999999996,1,null,0.4,0.8,0.60000000000000009,2.6,2,1.4,2]
[{"$f":"Дома!L8","v":1},{"$f":"Дома!M8","v":1},null,null,{"$f":"Гости!L8","v":0},{"$f":"Гости!M8","v":0},null,1,null,0.5,0.5,1,0.4,1.4,1,0.6,1,null,0.96,1.76,0.8,-0.15999999999999992,0,null,0.4,0.96,0.67999999999999994,2.48,1.8,1.1200000000000001,1]
[{"$f":"Дома!L9","v":2},{"$f":"Дома!M9","v":1},null,null,{"$f":"Гости!L9","v":0},{"$f":"Гости!M9","v":0},null,2,null,{"$f":"AVERAGE(A9,F9)","v":1},0.5,1.5,0.64,1.44,0.8,0.16000000000000003,2,null,0.8,1.8,1,0.19999999999999996,0,null,0.64,0.8,0.72,2.52,1.8,1.08,2]
[{"$f":"Дома!L10","v":0},{"$f":"Дома!M10","v":1},null,null,{"$f":"Гости!L10","v":2},{"$f":"Гости!M10","v":1},null,2,null,{"$f":"AVERAGE(A10,F10)","v":0.5},1.5,2,0.8,1.8,1,0.19999999999999996,0,null,0.64,1.8399999999999999,1.2,0.55999999999999994,2,null,0.8,0.64,0.72,2.92,2.2000000000000002,1.4800000000000002,2]
[{"$f":"Дома!L11","v":1},{"$f":"Дома!M11","v":1},null,null,{"$f":"Гости!L11","v":2},{"$f":"Гости!M11","v":1},null,3,null,{"$f":"AVERAGE(A11,F11)","v":1},1.5,2.5,0.72,1.92,1.2,0.48,1,null,0.64,1.44,0.8,0.16000000000000003,2,null,0.72,0.64,0.67999999999999994,2.6799999999999997,2,1.32,3]
[{"$f":"Дома!L12","v":1},{"$f":"Дома!M12","v":0},null,null,{"$f":"Гости!L12","v":0},{"$f":"Гости!M12","v":0},null,1,null,0.5,0,0.5,{"$f":"AVEDEV(A12:A16)","v":0.72000000000000008},1.92,1.2,0.47999999999999987,{"$f":"A12","v":1},null,0.48,1.08,0.6,0.12,0,null,0.72000000000000008,0.48,0.60000000000000009,2.4000000000000004,1.8,1.2,1]
[{"$f":"Дома!L13","v":0},{"$f":"Дома!M13","v":0},null,null,{"$f":"Гости!L13","v":1},{"$f":"Гости!M13","v":1},null,1,null,0.5,0.5,1]
[{"$f":"Дома!L14","v":3},{"$f":"Дома!M14","v":0},null,null,{"$f":"Гости!L14","v":1},{"$f":"Гости!M14","v":0},null,4,null,1.5,0.5,2]
[{"$f":"Дома!L15","v":1},{"$f":"Дома!M15","v":2},null,null,{"$f":"Гости!L15","v":0},{"$f":"Гости!M15","v":3},null,1,null,2,1,3]
[{"$f":"Дома!L16","v":1},{"$f":"Дома!M16","v":2},null,null,{"$f":"Гости!L16","v":1},{"$f":"Гости!M16","v":0},null,{"$f":"A16+E16","v":2}]
[{"$f":"Дома!L17","v":3},{"$f":"Дома!M17","v":1},null,null,{"$f":"Гости!L17","v":0},{"$f":"Гости!M17","v":0},null,null,null,null,null,null,null,null,null,null,null,null,null,null,null,null,null,null,null,null,null,null,null,null,{"$f":"AE2","v":2}]
[{"$f":"Дома!L18","v":2},{"$f":"Дома!M18","v":6},null,null,{"$f":"Гости!L18","v":2},{"$f":"Гости!M18","v":1},null,null,null,null,null,null,null,null,null,null,null,null,null,null,null,null,null,null,null,null,null,null,null,null,{"$f":"AE1","v":2.4}]
[{"$f":"Дома!L19","v":1},{"$f":"Дома!M19","v":1},null,null,{"$f":"Гости!L19","v":0},{"$f":"Гости!M19","v":2},null,"К1",null,"К2",null,"Тотал",null,null,null,{"$f":"Q1-1","v":8.5714285714285854E-2},{"$f":"Q1+1","v":2.0857142857142859},null,null,null,null,{"$f":"W1-1","v":0.31428571428571428},{"$f":"W1+1","v":2.3142857142857141},null,null,null,null,null,null,null,{"$f":"AE18-AE17","v":0.39999999999999991}]
[{"$f":"Дома!L20","v":1},{"$f":"Дома!M20","v":1},null,null,{"$f":"Гости!L20","v":2},{"$f":"Гости!M20","v":2},null,{"$f":"Q2","v":1},{"$f":"Q1","v":1.0857142857142859},{"$f":"W2","v":1},{"$f":"W1","v":1.3142857142857143},{"$f":"AE2","v":2},{"$f":"AE1","v":2.4}]
[{"$f":"Дома!L21","v":0},{"$f":"Дома!M21","v":1},null,null,{"$f":"Гости!L21","v":0},{"$f":"Гости!M21","v":2},null,null,{"$f":"(H20+I20)/2","v":1.0428571428571429},null,{"$f":"(J20+K20)/2","v":1.157142857142857},null,{"$f":"(L20+M20)/2","v":2.2000000000000002},null,null,{"$f":"_xlfn.FLOOR.MATH(P19)","v":0},{"$f":"_xlfn.CEILING.MATH(Q19)","v":3},null,null,null,null,{"$f":"_xlfn.FLOOR.MATH(V19)","v":0},{"$f":"_xlfn.CEILING.MATH(W19)","v":3}]
[{"$f":"Дома!L22","v":2},{"$f":"Дома!M22","v":1},null,null,{"$f":"Гости!L22","v":1},{"$f":"Гости!M22","v":0}]
[{"$f":"Дома!L23","v":1},{"$f":"Дома!M23","v":1},null,null,{"$f":"Гости!L23","v":1},{"$f":"Гости!M23","v":3},null,null,null,null,null,null,null,null,null,null,{"$f":"CONCATENATE(P21,\"-\",Q21)","v":"0-3"},null,{"$f":"(P21+V21)","v":0},{"$f":"Q21+W21","v":6},null,null,{"$f":"CONCATENATE(V21,\"-\",W21)","v":"0-3"}]
[{"$f":"Дома!L24","v":0},{"$f":"Дома!M24","v":1},null,null,{"$f":"Гости!L24","v":1},{"$f":"Гости!M24","v":0},null,null,null,null,null,null,null,null,null,null,null,null,{"$f":"CONCATENATE(S23,\"-\",T23)","v":"0-6"}]
[{"$f":"Дома!L25","v":2},{"$f":"Дома!M25","v":2},null,null,{"$f":"Гости!L25","v":0},{"$f":"Гости!M25","v":2}]
[{"$f":"Дома!L26","v":3},{"$f":"Дома!M26","v":1},null,null,{"$f":"Гости!L26","v":1},{"$f":"Гости!M26","v":1}]
[{"$f":"Дома!L27","v":2},{"$f":"Дома!M27","v":2},null,null,{"$f":"Гости!L27","v":0},{"$f":"Гости!M27","v":1}]
[{"$f":"Дома!L28","v":2},{"$f":"Дома!M28","v":1},null,null,{"$f":"Гости!L28","v":3},{"$f":"Гости!M28","v":5}]
[{"$f":"Дома!L29","v":0},{"$f":"Дома!M29","v":0},null,null,{"$f":"Гости!L29","v":2},{"$f":"Гости!M29","v":2}]
[{"$f":"Дома!L30","v":0},{"$f":"Дома!M30","v":1},null,null,{"$f":"Гости!L30","v":0},{"$f":"Гости!M30","v":1}]
[{"$f":"Дома!L31","v":0},{"$f":"Дома!M31","v":0},null,null,{"$f":"Гости!L31","v":0},{"$f":"Гости!M31","v":3}]

{"sheet":"Лист2","index":2,"n_rows":1000,"n_cols":9,"rows_kept":1000,"cut":false,"hidden":true,"merged":[]}
[{"$f":"Список!C2","v":"Boca Juniors"},{"$f":"Список!D2","v":"Atl. Tucuman"},{"$f":"Список!A2","v":"ARGENTINA: Copa de la Liga Profesional"},{"$f":"Список!B2","v":"2021.04.17 23:00"},null,null,null,"Hobart Huskies",{"$f":"VLOOKUP(H1,A1:C2966,3,FALSE)","v":{"$error":"#N/A"}}]
[{"$f":"Список!C3","v":"Delfines Del Este"},{"$f":"Список!D3","v":"Atl. San Francisco"},{"$f":"Список!A3","v":"DOMINICAN REPUBLIC: LDF"},{"$f":"Список!B3","v":"2021.04.17 23:00"},null,null,null,null,{"$f":"VLOOKUP(H1,A1:D2967,4,FALSE)","v":{"$error":"#N/A"}}]
[{"$f":"Список!C4","v":"Santa Lucia"},{"$f":"Список!D4","v":"Coban Imperial"},{"$f":"Список!A4","v":"GUATEMALA: Liga Nacional - Clausura"},{"$f":"Список!B4","v":"2021.04.17 23:00"}]
[{"$f":"Список!C5","v":"Cosmopolites"},{"$f":"Список!D5","v":"Fica"},{"$f":"Список!A5","v":"HAITI: Championnat National - Serie de Cloture"},{"$f":"Список!B5","v":"2021.04.17 23:00"}]
[{"$f":"Список!C6","v":"Cafetaleros de Chiapas 2"},{"$f":"Список!D6","v":"Alacranes de Durango"},{"$f":"Список!A6","v":"MEXICO: Liga Premier Serie A - Play Offs"},{"$f":"Список!B6","v":"2021.04.17 23:00"}]
[{"$f":"Список!C7","v":"Managua FC U20"},{"$f":"Список!D7","v":"Juventus Managua U20"},{"$f":"Список!A7","v":"NICARAGUA: Liga Primera U20 - Clausura"},{"$f":"Список!B7","v":"2021.04.17 23:00"}]
[{"$f":"Список!C8","v":"New England II"},{"$f":"Список!D8","v":"Richmond Kickers"},{"$f":"Список!A8","v":"USA: USL League One"},{"$f":"Список!B8","v":"2021.04.17 23:00"}]
[{"$f":"Список!C9","v":"Real Sociedad"},{"$f":"Список!D9","v":"Marathon"},{"$f":"Список!A9","v":"HONDURAS: Liga Nacional - Clausura - 1st Phase"},{"$f":"Список!B9","v":"2021.04.17 23:15"}]
[{"$f":"Список!C10","v":"Nouakchott King's"},{"$f":"Список!D10","v":"Madine Trarza"},{"$f":"Список!A10","v":"MAURITANIA: Ligue 1"},{"$f":"Список!B10","v":"2021.04.17 23:15"}]
[{"$f":"Список!C11","v":"JSM Tiaret"},{"$f":"Список!D11","v":"Remchi"},{"$f":"Список!A11","v":"ALGERIA: Ligue 2"},{"$f":"Список!B11","v":"2021.04.17 23:30"}]
[{"$f":"Список!C12","v":"Atletico GO"},{"$f":"Список!D12","v":"CRAC"},{"$f":"Список!A12","v":"BRAZIL: Campeonato Goiano"},{"$f":"Список!B12","v":"2021.04.17 23:30"}]
[{"$f":"Список!C13","v":"Vitoria"},{"$f":"Список!D13","v":"AE Altos"},{"$f":"Список!A13","v":"BRAZIL: Copa do Nordeste - Play Offs"},{"$f":"Список!B13","v":"2021.04.17 23:30"}]
[{"$f":"Список!C14","v":"Nacional Asuncion"},{"$f":"Список!D14","v":"Sp. Luqueno"},{"$f":"Список!A14","v":"PARAGUAY: Primera Division - Apertura"},{"$f":"Список!B14","v":"2021.04.17 23:45"}]
[{"$f":"Список!C15","v":"Caldense"},{"$f":"Список!D15","v":"Athletic Club"},{"$f":"Список!A15","v":"BRAZIL: Campeonato Mineiro"},{"$f":"Список!B15","v":"2021.04.18 00:00"}]
[{"$f":"Список!C16","v":"O'Higgins"},{"$f":"Список!D16","v":"La Serena"},{"$f":"Список!A16","v":"CHILE: Primera Division"},{"$f":"Список!B16","v":"2021.04.18 00:00"}]
[{"$f":"Список!C17","v":"UPNFM"},{"$f":"Список!D17","v":"Platense"},{"$f":"Список!A17","v":"HONDURAS: Liga Nacional - Clausura - 1st Phase"},{"$f":"Список!B17","v":"2021.04.18 00:00"}]
[{"$f":"Список!C18","v":"Atl. San Luis"},{"$f":"Список!D18","v":"Puebla"},{"$f":"Список!A18","v":"MEXICO: Liga MX - Clausura"},{"$f":"Список!B18","v":"2021.04.18 00:00"}]
[{"$f":"Список!C19","v":"Gavilanes de Matamoros"},{"$f":"Список!D19","v":"Cruz Azul Hidalgo"},{"$f":"Список!A19","v":"MEXICO: Liga Premier Serie A - Play Offs"},{"$f":"Список!B19","v":"2021.04.18 00:00"}]
[{"$f":"Список!C20","v":"FUS Rabat"},{"$f":"Список!D20","v":"Renaissance Zemamra"},{"$f":"Список!A20","v":"MOROCCO: Botola Pro"},{"$f":"Список!B20","v":"2021.04.18 00:00"}]
[{"$f":"Список!C21","v":"Olympique de Safi"},{"$f":"Список!D21","v":"Rapide Oued Zem"},{"$f":"Список!A21","v":"MOROCCO: Botola Pro"},{"$f":"Список!B21","v":"2021.04.18 00:00"}]
[{"$f":"Список!C22","v":"Dcheira"},{"$f":"Список!D22","v":"Salmi"},{"$f":"Список!A22","v":"MOROCCO: Botola 2"},{"$f":"Список!B22","v":"2021.04.18 00:00"}]
[{"$f":"Список!C23","v":"Kawkab Marrakech"},{"$f":"Список!D23","v":"Chabab Benguerir"},{"$f":"Список!A23","v":"MOROCCO: Botola 2"},{"$f":"Список!B23","v":"2021.04.18 00:00"}]
[{"$f":"Список!C24","v":"Wydad Fes"},{"$f":"Список!D24","v":"RAC Casablanca"},{"$f":"Список!A24","v":"MOROCCO: Botola 2"},{"$f":"Список!B24","v":"2021.04.18 00:00"}]
[{"$f":"Список!C25","v":"Diriangen U20"},{"$f":"Список!D25","v":"Ferretti U20"},{"$f":"Список!A25","v":"NICARAGUA: Liga Primera U20 - Clausura"},{"$f":"Список!B25","v":"2021.04.18 00:00"}]
[{"$f":"Список!C26","v":"Ocotal U20"},{"$f":"Список!D26","v":"Real Madriz U20"},{"$f":"Список!A26","v":"NICARAGUA: Liga Primera U20 - Clausura"},{"$f":"Список!B26","v":"2021.04.18 00:00"}]
[{"$f":"Список!C27","v":"Los Angeles FC"},{"$f":"Список!D27","v":"Austin FC"},{"$f":"Список!A27","v":"USA: MLS"},{"$f":"Список!B27","v":"2021.04.18 00:00"}]
[{"$f":"Список!C28","v":"Aucas"},{"$f":"Список!D28","v":"Olmedo"},{"$f":"Список!A28","v":"ECUADOR: Liga Pro - First stage"},{"$f":"Список!B28","v":"2021.04.18 00:30"}]
[{"$f":"Список!C29","v":"Wallidan"},{"$f":"Список!D29","v":"Hawks"},{"$f":"Список!A29","v":"GAMBIA: GFA League"},{"$f":"Список!B29","v":"2021.04.18 00:30"}]
[{"$f":"Список!C30","v":"Lara"},{"$f":"Список!D30","v":"Yaracuyanos"},{"$f":"Список!A30","v":"VENEZUELA: Primera Division - First stage"},{"$f":"Список!B30","v":"2021.04.18 00:30"}]
[{"$f":"Список!C31","v":"Huila"},{"$f":"Список!D31","v":"Fortaleza"},{"$f":"Список!A31","v":"COLOMBIA: Primera B - Apertura - Quadrangular"},{"$f":"Список!B31","v":"2021.04.18 00:40"}]
[{"$f":"Список!C32","v":"Bragantino"},{"$f":"Список!D32","v":"Mirassol"},{"$f":"Список!A32","v":"BRAZIL: Campeonato Paulista"},{"$f":"Список!B32","v":"2021.04.18 01:00"}]
[{"$f":"Список!C33","v":"Corinthians W"},{"$f":"Список!D33","v":"Napoli W"},{"$f":"Список!A33","v":"BRAZIL: Brasileiro Women"},{"$f":"Список!B33","v":"2021.04.18 01:00"}]
[{"$f":"Список!C34","v":"Internacional W"},{"$f":"Список!D34","v":"Santos W"},{"$f":"Список!A34","v":"BRAZIL: Brasileiro Women"},{"$f":"Список!B34","v":"2021.04.18 01:00"}]
[{"$f":"Список!C35","v":"Sao Paulo W"},{"$f":"Список!D35","v":"Gremio W"},{"$f":"Список!A35","v":"BRAZIL: Brasileiro Women"},{"$f":"Список!B35","v":"2021.04.18 01:00"}]
[{"$f":"Список!C36","v":"Zeledon"},{"$f":"Список!D36","v":"Limon"},{"$f":"Список!A36","v":"COSTA RICA: Primera Division - Clausura"},{"$f":"Список!B36","v":"2021.04.18 01:00"}]
[{"$f":"Список!C37","v":"Real de Minas"},{"$f":"Список!D37","v":"Vida"},{"$f":"Список!A37","v":"HONDURAS: Liga Nacional - Clausura - 1st Phase"},{"$f":"Список!B37","v":"2021.04.18 01:00"}]
[{"$f":"Список!C38","v":"Alianza"},{"$f":"Список!D38","v":"Herrera"},{"$f":"Список!A38","v":"PANAMA: LPF - Apertura"},{"$f":"Список!B38","v":"2021.04.18 01:00"}]
[{"$f":"Список!C39","v":"Tormenta"},{"$f":"Список!D39","v":"Fort Lauderdale"},{"$f":"Список!A39","v":"USA: USL League One"},{"$f":"Список!B39","v":"2021.04.18 01:00"}]
[{"$f":"Список!C40","v":"Newells Old Boys"},{"$f":"Список!D40","v":"Patronato"},{"$f":"Список!A40","v":"ARGENTINA: Copa de la Liga Profesional"},{"$f":"Список!B40","v":"2021.04.18 01:15"}]
[{"$f":"Список!C41","v":"Inter Nouakchott"},{"$f":"Список!D41","v":"ASAC Concorde"},{"$f":"Список!A41","v":"MAURITANIA: Ligue 1"},{"$f":"Список!B41","v":"2021.04.18 01:15"}]
[{"$f":"Список!C42","v":"Sporting San Jose"},{"$f":"Список!D42","v":"Guadalupe"},{"$f":"Список!A42","v":"COSTA RICA: Primera Division - Clausura"},{"$f":"Список!B42","v":"2021.04.18 02:00"}]
[{"$f":"Список!C43","v":"Chalatenango"},{"$f":"Список!D43","v":"Sonsonate"},{"$f":"Список!A43","v":"EL SALVADOR: Primera Division - Clausura - 2nd Phase"},{"$f":"Список!B43","v":"2021.04.18 02:00"}]
[{"$f":"Список!C44","v":"Comunicaciones"},{"$f":"Список!D44","v":"Sanarate"},{"$f":"Список!A44","v":"GUATEMALA: Liga Nacional - Clausura"},{"$f":"Список!B44","v":"2021.04.18 02:00"}]
[{"$f":"Список!C45","v":"Guadalajara Chivas"},{"$f":"Список!D45","v":"Club Tijuana"},{"$f":"Список!A45","v":"MEXICO: Liga MX - Clausura"},{"$f":"Список!B45","v":"2021.04.18 02:00"}]
[{"$f":"Список!C46","v":"Colima FC"},{"$f":"Список!D46","v":"Inter Playa Del Carmen"},{"$f":"Список!A46","v":"MEXICO: Liga Premier Serie A - Play Offs"},{"$f":"Список!B46","v":"2021.04.18 02:00"}]
[{"$f":"Список!C47","v":"River Plate"},{"$f":"Список!D47","v":"Sol de America"},{"$f":"Список!A47","v":"PARAGUAY: Primera Division - Apertura"},{"$f":"Список!B47","v":"2021.04.18 02:00"}]
[{"$f":"Список!C48","v":"DC United"},{"$f":"Список!D48","v":"New York City"},{"$f":"Список!A48","v":"USA: MLS"},{"$f":"Список!B48","v":"2021.04.18 02:00"}]
[{"$f":"Список!C49","v":"FC Dallas"},{"$f":"Список!D49","v":"Colorado Rapids"},{"$f":"Список!A49","v":"USA: MLS"},{"$f":"Список!B49","v":"2021.04.18 02:00"}]
[{"$f":"Список!C50","v":"New York Red Bulls"},{"$f":"Список!D50","v":"Sporting Kansas City"},{"$f":"Список!A50","v":"USA: MLS"},{"$f":"Список!B50","v":"2021.04.18 02:00"}]
[{"$f":"Список!C51","v":"Portuguesa RJ"},{"$f":"Список!D51","v":"Flamengo RJ"},{"$f":"Список!A51","v":"BRAZIL: Campeonato Carioca - Taca Guanabara"},{"$f":"Список!B51","v":"2021.04.18 02:05"}]
[{"$f":"Список!C52","v":"Union La Calera"},{"$f":"Список!D52","v":"A. Italiano"},{"$f":"Список!A52","v":"CHILE: Primera Division"},{"$f":"Список!B52","v":"2021.04.18 02:30"}]
[{"$f":"Список!C53","v":"Chicago Fire"},{"$f":"Список!D53","v":"New England Revolution"},{"$f":"Список!A53","v":"USA: MLS"},{"$f":"Список!B53","v":"2021.04.18 02:30"}]
[{"$f":"Список!C54","v":"Nashville SC"},{"$f":"Список!D54","v":"FC Cincinnati"},{"$f":"Список!A54","v":"USA: MLS"},{"$f":"Список!B54","v":"2021.04.18 02:30"}]
[{"$f":"Список!C55","v":"Guayaquil City"},{"$f":"Список!D55","v":"LDU Quito"},{"$f":"Список!A55","v":"ECUADOR: Liga Pro - First stage"},{"$f":"Список!B55","v":"2021.04.18 03:00"}]
[{"$f":"Список!C56","v":"Ba"},{"$f":"Список!D56","v":"Rewa"},{"$f":"Список!A56","v":"FIJI: Premier League"},{"$f":"Список!B56","v":"2021.04.18 03:00"}]
[{"$f":"Список!C57","v":"Diriangen"},{"$f":"Список!D57","v":"Ferretti"},{"$f":"Список!A57","v":"NICARAGUA: Liga Primera - Clausura"},{"$f":"Список!B57","v":"2021.04.18 03:00"}]
[{"$f":"Список!C58","v":"Ocotal"},{"$f":"Список!D58","v":"Real Madriz"},{"$f":"Список!A58","v":"NICARAGUA: Liga Primera - Clausura"},{"$f":"Список!B58","v":"2021.04.18 03:00"}]
[{"$f":"Список!C59","v":"Novorizontino"},{"$f":"Список!D59","v":"Ferroviaria"},{"$f":"Список!A59","v":"BRAZIL: Campeonato Paulista"},{"$f":"Список!B59","v":"2021.04.18 03:15"}]
[{"$f":"Список!C60","v":"Alianza FC"},{"$f":"Список!D60","v":"Jocoro"},{"$f":"Список!A60","v":"EL SALVADOR: Primera Division - Clausura - 2nd Phase"},{"$f":"Список!B60","v":"2021.04.18 03:15"}]
[{"$f":"Список!C61","v":"Metapan"},{"$f":"Список!D61","v":"Aguila"},{"$f":"Список!A61","v":"EL SALVADOR: Primera Division - Clausura - 2nd Phase"},{"$f":"Список!B61","v":"2021.04.18 03:15"}]
[{"$f":"Список!C62","v":"Honduras Progreso"},{"$f":"Список!D62","v":"Olimpia"},{"$f":"Список!A62","v":"HONDURAS: Liga Nacional - Clausura - 1st Phase"},{"$f":"Список!B62","v":"2021.04.18 03:15"}]
[{"$f":"Список!C63","v":"Herediano"},{"$f":"Список!D63","v":"Cartagines"},{"$f":"Список!A63","v":"COSTA RICA: Primera Division - Clausura"},{"$f":"Список!B63","v":"2021.04.18 04:00"}]
[{"$f":"Список!C64","v":"Puntarenas FC"},{"$f":"Список!D64","v":"Municipal San Ramon"},{"$f":"Список!A64","v":"COSTA RICA: Liga de Ascenso - Clausura - Play Offs"},{"$f":"Список!B64","v":"2021.04.18 04:00"}]
[{"$f":"Список!C65","v":"Motagua"},{"$f":"Список!D65","v":"Real Espana"},{"$f":"Список!A65","v":"HONDURAS: Liga Nacional - Clausura - 1st Phase"},{"$f":"Список!B65","v":"2021.04.18 04:00"}]
[{"$f":"Список!C66","v":"Club America"},{"$f":"Список!D66","v":"Cruz Azul"},{"$f":"Список!A66","v":"MEXICO: Liga MX - Clausura"},{"$f":"Список!B66","v":"2021.04.18 04:05"}]
[{"$f":"Список!C67","v":"Lautoka"},{"$f":"Список!D67","v":"Nadroga"},{"$f":"Список!A67","v":"FIJI: Premier League"},{"$f":"Список!B67","v":"2021.04.18 05:00"}]
[{"$f":"Список!C68","v":"Navua"},{"$f":"Список!D68","v":"Nadi"},{"$f":"Список!A68","v":"FIJI: Premier League"},{"$f":"Список!B68","v":"2021.04.18 05:00"}]
[{"$f":"Список!C69","v":"Suva"},{"$f":"Список!D69","v":"Labasa"},{"$f":"Список!A69","v":"FIJI: Premier League"},{"$f":"Список!B69","v":"2021.04.18 05:00"}]
[{"$f":"Список!C70","v":"Sagamihara"},{"$f":"Список!D70","v":"Iwata"},{"$f":"Список!A70","v":"JAPAN: J2 League"},{"$f":"Список!B70","v":"2021.04.18 06:00"}]
[{"$f":"Список!C71","v":"Harima Albion W"},{"$f":"Список!D71","v":"Ehime W"},{"$f":"Список!A71","v":"JAPAN: Nadeshiko League Women"},{"$f":"Список!B71","v":"2021.04.18 06:00"}]
[{"$f":"Список!C72","v":"Nittaidai W"},{"$f":"Список!D72","v":"C-Osaka W"},{"$f":"Список!A72","v":"JAPAN: Nadeshiko League Women"},{"$f":"Список!B72","v":"2021.04.18 06:00"}]
[{"$f":"Список!C73","v":"Broadmeadow"},{"$f":"Список!D73","v":"Weston Workers"},{"$f":"Список!A73","v":"AUSTRALIA: NPL Northern NSW"},{"$f":"Список!B73","v":"2021.04.18 06:30"}]
[{"$f":"Список!C74","v":"Wollongong Wolves"},{"$f":"Список!D74","v":"Blacktown City"},{"$f":"Список!A74","v":"AUSTRALIA: NPL NSW"},{"$f":"Список!B74","v":"2021.04.18 06:30"}]
[{"$f":"Список!C75","v":"Anyang"},{"$f":"Список!D75","v":"Asan"},{"$f":"Список!A75","v":"SOUTH KOREA: K League 2"},{"$f":"Список!B75","v":"2021.04.18 06:30"}]
[{"$f":"Список!C76","v":"Canberra Croatia"},{"$f":"Список!D76","v":"Tuggeranong Utd"},{"$f":"Список!A76","v":"AUSTRALIA: NPL ACT"},{"$f":"Список!B76","v":"2021.04.18 07:00"}]
[{"$f":"Список!C77","v":"Gungahlin"},{"$f":"Список!D77","v":"Tigers FC"},{"$f":"Список!A77","v":"AUSTRALIA: NPL ACT"},{"$f":"Список!B77","v":"2021.04.18 07:00"}]
[{"$f":"Список!C78","v":"Kawasaki Frontale"},{"$f":"Список!D78","v":"Sanfrecce Hiroshima"},{"$f":"Список!A78","v":"JAPAN: J1 League"},{"$f":"Список!B78","v":"2021.04.18 07:00"}]
[{"$f":"Список!C79","v":"NGU Nagoya W"},{"$f":"Список!D79","v":"Kunoichi W"},{"$f":"Список!A79","v":"JAPAN: Nadeshiko League Women"},{"$f":"Список!B79","v":"2021.04.18 07:00"}]
[{"$f":"Список!C80","v":"Setagaya Sfida FC W"},{"$f":"Список!D80","v":"Yokohama FC Seagulls W"},{"$f":"Список!A80","v":"JAPAN: Nadeshiko League Women"},{"$f":"Список!B80","v":"2021.04.18 07:00"}]
[{"$f":"Список!C81","v":"Suwon Bluewings"},{"$f":"Список!D81","v":"Ulsan Hyundai"},{"$f":"Список!A81","v":"SOUTH KOREA: K League 1"},{"$f":"Список!B81","v":"2021.04.18 07:00"}]
[{"$f":"Список!C82","v":"Hwaseong"},{"$f":"Список!D82","v":"Pyeongtaek Citizen"},{"$f":"Список!A82","v":"SOUTH KOREA: K3 League"},{"$f":"Список!B82","v":"2021.04.18 07:00"}]
[{"$f":"Список!C83","v":"Cerezo Osaka"},{"$f":"Список!D83","v":"Urawa Reds"},{"$f":"Список!A83","v":"JAPAN: J1 League"},{"$f":"Список!B83","v":"2021.04.18 08:00"}]
[{"$f":"Список!C84","v":"Nagoya Grampus"},{"$f":"Список!D84","v":"Sagan Tosu"},{"$f":"Список!A84","v":"JAPAN: J1 League"},{"$f":"Список!B84","v":"2021.04.18 08:00"}]
[{"$f":"Список!C85","v":"Gimhae"},{"$f":"Список!D85","v":"Paju Citizen"},{"$f":"Список!A85","v":"SOUTH KOREA: K3 League"},{"$f":"Список!B85","v":"2021.04.18 08:00"}]
[{"$f":"Список!C86","v":"Sydney FC"},{"$f":"Список!D86","v":"Adelaide United"},{"$f":"Список!A86","v":"AUSTRALIA: A-League"},{"$f":"Список!B86","v":"2021.04.18 08:05"}]
[{"$f":"Список!C87","v":"Maitland"},{"$f":"Список!D87","v":"Charlestown Azzurri"},{"$f":"Список!A87","v":"AUSTRALIA: NPL Northern NSW"},{"$f":"Список!B87","v":"2021.04.18 08:30"}]
[{"$f":"Список!C88","v":"Brisbane K."},{"$f":"Список!D88","v":"Bayside"},{"$f":"Список!A88","v":"AUSTRALIA: Brisbane Premier League"},{"$f":"Список!B88","v":"2021.04.18 09:00"}]
[{"$f":"Список!C89","v":"Gravatt"},{"$f":"Список!D89","v":"Toowong"},{"$f":"Список!A89","v":"AUSTRALIA: Brisbane Premier League"},{"$f":"Список!B89","v":"2021.04.18 09:00"}]
[{"$f":"Список!C90","v":"St. George Willawong"},{"$f":"Список!D90","v":"Centenary Stormers"},{"$f":"Список!A90","v":"AUSTRALIA: Brisbane Premier League"},{"$f":"Список!B90","v":"2021.04.18 09:00"}]
[{"$f":"Список!C91","v":"Hong Kong Rangers"},{"$f":"Список!D91","v":"Southern District"},{"$f":"Список!A91","v":"HONG KONG: Premier League"},{"$f":"Список!B91","v":"2021.04.18 09:00"}]
[{"$f":"Список!C92","v":"Jeonnam"},{"$f":"Список!D92","v":"Gimcheon Sangmu"},{"$f":"Список!A92","v":"SOUTH KOREA: K League 2"},{"$f":"Список!B92","v":"2021.04.18 09:00"}]
[{"$f":"Список!C93","v":"Kaizer Chiefs U23"},{"$f":"Список!D93","v":"Black Leopards U23"},{"$f":"Список!A93","v":"SOUTH AFRICA: Diski Challenge"},{"$f":"Список!B93","v":"2021.04.18 09:30"}]
[{"$f":"Список!C94","v":"Jeonbuk"},{"$f":"Список!D94","v":"Seongnam"},{"$f":"Список!A94","v":"SOUTH KOREA: K League 1"},{"$f":"Список!B94","v":"2021.04.18 09:30"}]
[{"$f":"Список!C95","v":"Olympic FC"},{"$f":"Список!D95","v":"Sunshine Coast Wanderers"},{"$f":"Список!A95","v":"AUSTRALIA: NPL Queensland"},{"$f":"Список!B95","v":"2021.04.18 10:00"}]
[{"$f":"Список!C96","v":"Gamba Osaka"},{"$f":"Список!D96","v":"Shimizu S-Pulse"},{"$f":"Список!A96","v":"JAPAN: J1 League"},{"$f":"Список!B96","v":"2021.04.18 10:00"}]
[{"$f":"Список!C97","v":"Ripensia Timisoara"},{"$f":"Список!D97","v":"U. Cluj"},{"$f":"Список!A97","v":"ROMANIA: Liga 2 - Relegation Group"},{"$f":"Список!B97","v":"2021.04.18 10:00"}]
[{"$f":"Список!C98","v":"Heniu Prundu Bargaului W"},{"$f":"Список!D98","v":"Piros Security W"},{"$f":"Список!A98","v":"ROMANIA: Superliga Women - Championship Group"},{"$f":"Список!B98","v":"2021.04.18 10:00"}]
[{"$f":"Список!C99","v":"Universitatea Galati W"},{"$f":"Список!D99","v":"Ol. Cluj W"},{"$f":"Список!A99","v":"ROMANIA: Superliga Women - Championship Group"},{"$f":"Список!B99","v":"2021.04.18 10:00"}]
[{"$f":"Список!C100","v":"Vasas Odorhei W"},{"$f":"Список!D100","v":"Fortuna Becicherecu Mic W"},{"$f":"Список!A100","v":"ROMANIA: Superliga Women - Championship Group"},{"$f":"Список!B100","v":"2021.04.18 10:00"}]
[{"$f":"Список!C101","v":"Banat W"},{"$f":"Список!D101","v":"Carmen Bucuresti W"},{"$f":"Список!A101","v":"ROMANIA: Superliga Women - Relegation Group"},{"$f":"Список!B101","v":"2021.04.18 10:00"}]
[{"$f":"Список!C102","v":"Fairplay Bucuresti W"},{"$f":"Список!D102","v":"Universitatea Alexandria W"},{"$f":"Список!A102","v":"ROMANIA: Superliga Women - Relegation Group"},{"$f":"Список!B102","v":"2021.04.18 10:00"}]
[{"$f":"Список!C103","v":"SN Constanta W"},{"$f":"Список!D103","v":"Baia Mare W"},{"$f":"Список!A103","v":"ROMANIA: Superliga Women - Relegation Group"},{"$f":"Список!B103","v":"2021.04.18 10:00"}]
[{"$f":"Список!C104","v":"Zvezda 2005 W"},{"$f":"Список!D104","v":"Lokomotiv Moscow W"},{"$f":"Список!A104","v":"RUSSIA: Supreme Division Women"},{"$f":"Список!B104","v":"2021.04.18 10:00"}]
[{"$f":"Список!C105","v":"Chippa Utd. U23"},{"$f":"Список!D105","v":"Amazulu U23"},{"$f":"Список!A105","v":"SOUTH AFRICA: Diski Challenge"},{"$f":"Список!B105","v":"2021.04.18 10:00"}]
[{"$f":"Список!C106","v":"CPC"},{"$f":"Список!D106","v":"NTUS"},{"$f":"Список!A106","v":"TAIWAN: Premier League"},{"$f":"Список!B106","v":"2021.04.18 10:00"}]
[{"$f":"Список!C107","v":"Hang Yuen"},{"$f":"Список!D107","v":"Taichung"},{"$f":"Список!A107","v":"TAIWAN: Premier League"},{"$f":"Список!B107","v":"2021.04.18 10:00"}]
[{"$f":"Список!C108","v":"Taipei Tatung"},{"$f":"Список!D108","v":"Taipower"},{"$f":"Список!A108","v":"TAIWAN: Premier League"},{"$f":"Список!B108","v":"2021.04.18 10:00"}]
[{"$f":"Список!C109","v":"Taiwan Steel"},{"$f":"Список!D109","v":"Red Lions"},{"$f":"Список!A109","v":"TAIWAN: Premier League"},{"$f":"Список!B109","v":"2021.04.18 10:00"}]
[{"$f":"Список!C110","v":"Macarthur FC"},{"$f":"Список!D110","v":"Newcastle Jets"},{"$f":"Список!A110","v":"AUSTRALIA: A-League"},{"$f":"Список!B110","v":"2021.04.18 10:10"}]
[{"$f":"Список!C111","v":"Brisbane U21"},{"$f":"Список!D111","v":"Capalaba FC"},{"$f":"Список!A111","v":"AUSTRALIA: NPL Queensland"},{"$f":"Список!B111","v":"2021.04.18 10:15"}]
[{"$f":"Список!C112","v":"Zizkov"},{"$f":"Список!D112","v":"Usti nad Labem"},{"$f":"Список!A112","v":"CZECH REPUBLIC: Division 2"},{"$f":"Список!B112","v":"2021.04.18 10:15"}]
[{"$f":"Список!C113","v":"Sydney FC U21"},{"$f":"Список!D113","v":"APIA Tigers"},{"$f":"Список!A113","v":"AUSTRALIA: NPL NSW"},{"$f":"Список!B113","v":"2021.04.18 10:30"}]
[{"$f":"Список!C114","v":"A. Klagenfurt"},{"$f":"Список!D114","v":"Grazer"},{"$f":"Список!A114","v":"AUSTRIA: 2. Liga"},{"$f":"Список!B114","v":"2021.04.18 10:30"}]
[{"$f":"Список!C115","v":"Empoli U19"},{"$f":"Список!D115","v":"Sampdoria U19"},{"$f":"Список!A115","v":"ITALY: Primavera 1"},{"$f":"Список!B115","v":"2021.04.18 10:30"}]
[{"$f":"Список!C116","v":"Genoa U19"},{"$f":"Список!D116","v":"Inter U19"},{"$f":"Список!A116","v":"ITALY: Primavera 1"},{"$f":"Список!B116","v":"2021.04.18 10:30"}]
[{"$f":"Список!C117","v":"Samorin"},{"$f":"Список!D117","v":"Petrzalka"},{"$f":"Список!A117","v":"SLOVAKIA: 2. liga"},{"$f":"Список!B117","v":"2021.04.18 10:30"}]
[{"$f":"Список!C118","v":"Altenmarkt W"},{"$f":"Список!D118","v":"Wacker Innsbruck W"},{"$f":"Список!A118","v":"AUSTRIA: Bundesliga Women"},{"$f":"Список!B118","v":"2021.04.18 11:00"}]
[{"$f":"Список!C119","v":"Trnje"},{"$f":"Список!D119","v":"Dugo Selo"},{"$f":"Список!A119","v":"CROATIA: 3. HNL Center"},{"$f":"Список!B119","v":"2021.04.18 11:00"}]
[{"$f":"Список!C120","v":"Zestafoni"},{"$f":"Список!D120","v":"Dusheti"},{"$f":"Список!A120","v":"GEORGIA: Georgian Cup"},{"$f":"Список!B120","v":"2021.04.18 11:00"}]
[{"$f":"Список!C121","v":"Bayern Munich 2 W"},{"$f":"Список!D121","v":"Eintracht Frankfurt 2 W"},{"$f":"Список!A121","v":"GERMANY: 2. Bundesliga Women"},{"$f":"Список!B121","v":"2021.04.18 11:00"}]
[{"$f":"Список!C122","v":"Honved II"},{"$f":"Список!D122","v":"Ferencvaros II"},{"$f":"Список!A122","v":"HUNGARY: NB III - Centre"},{"$f":"Список!B122","v":"2021.04.18 11:00"}]
[{"$f":"Список!C123","v":"Szabadkikoto"},{"$f":"Список!D123","v":"Komaromi VSE"},{"$f":"Список!A123","v":"HUNGARY: NB III - West"},{"$f":"Список!B123","v":"2021.04.18 11:00"}]
[{"$f":"Список!C124","v":"Tatabanya"},{"$f":"Список!D124","v":"Puskas Academy II"},{"$f":"Список!A124","v":"HUNGARY: NB III - West"},{"$f":"Список!B124","v":"2021.04.18 11:00"}]
[{"$f":"Список!C125","v":"Zalaegerszegi II"},{"$f":"Список!D125","v":"Papai Perutz"},{"$f":"Список!A125","v":"HUNGARY: NB III - West"},{"$f":"Список!B125","v":"2021.04.18 11:00"}]
[{"$f":"Список!C126","v":"Taraz"},{"$f":"Список!D126","v":"FK Akzhayik"},{"$f":"Список!A126","v":"KAZAKHSTAN: Premier League"},{"$f":"Список!B126","v":"2021.04.18 11:00"}]
[{"$f":"Список!C127","v":"Ural"},{"$f":"Список!D127","v":"Rubin Kazan"},{"$f":"Список!A127","v":"RUSSIA: Premier League"},{"$f":"Список!B127","v":"2021.04.18 11:00"}]
[{"$f":"Список!C128","v":"Radnicki S."},{"$f":"Список!D128","v":"Toplicanin"},{"$f":"Список!A128","v":"SERBIA: Srpska Liga - East"},{"$f":"Список!B128","v":"2021.04.18 11:00"}]
[{"$f":"Список!C129","v":"SFS Borac"},{"$f":"Список!D129","v":"Buducnost Popovac"},{"$f":"Список!A129","v":"SERBIA: Srpska Liga - East"},{"$f":"Список!B129","v":"2021.04.18 11:00"}]
[{"$f":"Список!C130","v":"Cerklje W"},{"$f":"Список!D130","v":"Olimpija W"},{"$f":"Список!A130","v":"SLOVENIA: 1. SZNL Women"},{"$f":"Список!B130","v":"2021.04.18 11:00"}]
[{"$f":"Список!C131","v":"Hue"},{"$f":"Список!D131","v":"Khanh Hoa"},{"$f":"Список!A131","v":"VIETNAM: V.League 2"},{"$f":"Список!B131","v":"2021.04.18 11:00"}]
[{"$f":"Список!C132","v":"UE Santa Coloma"},{"$f":"Список!D132","v":"Penya"},{"$f":"Список!A132","v":"ANDORRA: Primera Divisió"},{"$f":"Список!B132","v":"2021.04.18 11:30"}]
[{"$f":"Список!C133","v":"Sant Julia"},{"$f":"Список!D133","v":"Atletic Escaldes"},{"$f":"Список!A133","v":"ANDORRA: Primera Divisió - Championship Group"},{"$f":"Список!B133","v":"2021.04.18 11:30"}]
[{"$f":"Список!C134","v":"SK Rapid Vienna (Am)"},{"$f":"Список!D134","v":"Horn"},{"$f":"Список!A134","v":"AUSTRIA: 2. Liga"},{"$f":"Список!B134","v":"2021.04.18 11:30"}]
[{"$f":"Список!C135","v":"Pegasus"},{"$f":"Список!D135","v":"Resources Capital"},{"$f":"Список!A135","v":"HONG KONG: Premier League"},{"$f":"Список!B135","v":"2021.04.18 11:30"}]
[{"$f":"Список!C136","v":"Revilla"},{"$f":"Список!D136","v":"Guarnizo"},{"$f":"Список!A136","v":"SPAIN: Tercera Division - Group 3 - Relegation Group"},{"$f":"Список!B136","v":"2021.04.18 11:30"}]
[{"$f":"Список!C137","v":"Basconia"},{"$f":"Список!D137","v":"Santuxu"},{"$f":"Список!A137","v":"SPAIN: Tercera Division - Group 4 - Second stage"},{"$f":"Список!B137","v":"2021.04.18 11:30"}]
[{"$f":"Список!C138","v":"Recambios Colon"},{"$f":"Список!D138","v":"Beniganim"},{"$f":"Список!A138","v":"SPAIN: Tercera Division - Group 6 - Second stage"},{"$f":"Список!B138","v":"2021.04.18 11:30"}]
[{"$f":"Список!C139","v":"Complutense"},{"$f":"Список!D139","v":"Real Aranjuez"},{"$f":"Список!A139","v":"SPAIN: Tercera Division - Group 7 - Relegation Group"},{"$f":"Список!B139","v":"2021.04.18 11:30"}]
[{"$f":"Список!C140","v":"RSD Alcala"},{"$f":"Список!D140","v":"El Alamo"},{"$f":"Список!A140","v":"SPAIN: Tercera Division - Group 7 - Relegation Group"},{"$f":"Список!B140","v":"2021.04.18 11:30"}]
[{"$f":"Список!C141","v":"San Fernando"},{"$f":"Список!D141","v":"Atletico Pinto"},{"$f":"Список!A141","v":"SPAIN: Tercera Division - Group 7 - Relegation Group"},{"$f":"Список!B141","v":"2021.04.18 11:30"}]
[{"$f":"Список!C142","v":"AD Torrejon"},{"$f":"Список!D142","v":"Trival Valderas"},{"$f":"Список!A142","v":"SPAIN: Tercera Division - Group 7 - Second stage"},{"$f":"Список!B142","v":"2021.04.18 11:30"}]
[{"$f":"Список!C143","v":"La Union"},{"$f":"Список!D143","v":"Bullense"},{"$f":"Список!A143","v":"SPAIN: Tercera Division - Group 13 - Second stage"},{"$f":"Список!B143","v":"2021.04.18 11:30"}]
[{"$f":"Список!C144","v":"Zaragoza B"},{"$f":"Список!D144","v":"Borja"},{"$f":"Список!A144","v":"SPAIN: Tercera Division - Group 17 - Second stage"},{"$f":"Список!B144","v":"2021.04.18 11:30"}]
[{"$f":"Список!C145","v":"Almansa"},{"$f":"Список!D145","v":"Illescas"},{"$f":"Список!A145","v":"SPAIN: Tercera Division - Group 18 - Relegation Group"},{"$f":"Список!B145","v":"2021.04.18 11:30"}]
[{"$f":"Список!C146","v":"Sevilla FC W"},{"$f":"Список!D146","v":"Atl. Madrid W"},{"$f":"Список!A146","v":"SPAIN: Primera Division Women"},{"$f":"Список!B146","v":"2021.04.18 11:30"}]
[{"$f":"Список!C147","v":"Siete Villas"},{"$f":"Список!D147","v":"Escobedo"},{"$f":"Список!A147","v":"SPAIN: Tercera Division - Group 3 - Promotion Group"},{"$f":"Список!B147","v":"2021.04.18 11:45"}]
[{"$f":"Список!C148","v":"Grama"},{"$f":"Список!D148","v":"Castelldefels"},{"$f":"Список!A148","v":"SPAIN: Tercera Division - Group 5 - Second stage"},{"$f":"Список!B148","v":"2021.04.18 11:45"}]
[{"$f":"Список!C149","v":"FC Astana"},{"$f":"Список!D149","v":"Kyzylzhar"},{"$f":"Список!A149","v":"KAZAKHSTAN: Premier League"},{"$f":"Список!B149","v":"2021.04.18 12:00"}]
[{"$f":"Список!C150","v":"Korona Kielce 2"},{"$f":"Список!D150","v":"Avia Swidnik"},{"$f":"Список!A150","v":"POLAND: III Liga - Group IV"},{"$f":"Список!B150","v":"2021.04.18 12:00"}]
[{"$f":"Список!C151","v":"Sporting W"},{"$f":"Список!D151","v":"Maritimo W"},{"$f":"Список!A151","v":"PORTUGAL: Liga BPI Women - Championship Group"},{"$f":"Список!B151","v":"2021.04.18 12:00"}]
[{"$f":"Список!C152","v":"FK Strogino Moscow"},{"$f":"Список!D152","v":"Khimki 2"},{"$f":"Список!A152","v":"RUSSIA: PFL - Group 3"},{"$f":"Список!B152","v":"2021.04.18 12:00"}]
[{"$f":"Список!C153","v":"Mamelodi Sundowns U23"},{"$f":"Список!D153","v":"Swallows U23"},{"$f":"Список!A153","v":"SOUTH AFRICA: Diski Challenge"},{"$f":"Список!B153","v":"2021.04.18 12:00"}]
[{"$f":"Список!C154","v":"Celta Vigo B"},{"$f":"Список!D154","v":"Burgos CF"},{"$f":"Список!A154","v":"SPAIN: Segunda Division B - Group 1 - Promotion Group"},{"$f":"Список!B154","v":"2021.04.18 12:00"}]
[{"$f":"Список!C155","v":"Guijuelo"},{"$f":"Список!D155","v":"Gijon B"},{"$f":"Список!A155","v":"SPAIN: Segunda Division B - Group 1 - Relegation Group"},{"$f":"Список!B155","v":"2021.04.18 12:00"}]
[{"$f":"Список!C156","v":"Gimnastic"},{"$f":"Список!D156","v":"Ibiza"},{"$f":"Список!A156","v":"SPAIN: Segunda Division B - Group 3 - Promotion Group"},{"$f":"Список!B156","v":"2021.04.18 12:00"}]
[{"$f":"Список!C157","v":"Espanyol B"},{"$f":"Список!D157","v":"Pena Deportiva"},{"$f":"Список!A157","v":"SPAIN: Segunda Division B - Group 3 - Relegation Group"},{"$f":"Список!B157","v":"2021.04.18 12:00"}]
[{"$f":"Список!C158","v":"Prat"},{"$f":"Список!D158","v":"Valencia B"},{"$f":"Список!A158","v":"SPAIN: Segunda Division B - Group 3 - Relegation Group"},{"$f":"Список!B158","v":"2021.04.18 12:00"}]
[{"$f":"Список!C159","v":"Lleida"},{"$f":"Список!D159","v":"Levante B"},{"$f":"Список!A159","v":"SPAIN: Segunda Division B - Group 3 - Second stage"},{"$f":"Список!B159","v":"2021.04.18 12:00"}]
[{"$f":"Список!C160","v":"Algeciras"},{"$f":"Список!D160","v":"UCAM Murcia"},{"$f":"Список!A160","v":"SPAIN: Segunda Division B - Group 4 - Promotion Group"},{"$f":"Список!B160","v":"2021.04.18 12:00"}]
[{"$f":"Список!C161","v":"Cadiz CF B"},{"$f":"Список!D161","v":"Cordoba"},{"$f":"Список!A161","v":"SPAIN: Segunda Division B - Group 4 - Second stage"},{"$f":"Список!B161","v":"2021.04.18 12:00"}]
[{"$f":"Список!C162","v":"San Sebastian Reyes"},{"$f":"Список!D162","v":"CD Badajoz"},{"$f":"Список!A162","v":"SPAIN: Segunda Division B - Group 5 - Promotion Group"},{"$f":"Список!B162","v":"2021.04.18 12:00"}]
[{"$f":"Список!C163","v":"Atl. Madrid B"},{"$f":"Список!D163","v":"Melilla"},{"$f":"Список!A163","v":"SPAIN: Segunda Division B - Group 5 - Relegation Group"},{"$f":"Список!B163","v":"2021.04.18 12:00"}]
[{"$f":"Список!C164","v":"Getafe B"},{"$f":"Список!D164","v":"Socuellamos"},{"$f":"Список!A164","v":"SPAIN: Segunda Division B - Group 5 - Relegation Group"},{"$f":"Список!B164","v":"2021.04.18 12:00"}]
[{"$f":"Список!C165","v":"Las Rozas"},{"$f":"Список!D165","v":"Villarrubia"},{"$f":"Список!A165","v":"SPAIN: Segunda Division B - Group 5 - Relegation Group"},{"$f":"Список!B165","v":"2021.04.18 12:00"}]
[{"$f":"Список!C166","v":"Poblense"},{"$f":"Список!D166","v":"Villarrobledo"},{"$f":"Список!A166","v":"SPAIN: Segunda Division B - Group 5 - Relegation Group"},{"$f":"Список!B166","v":"2021.04.18 12:00"}]
[{"$f":"Список!C167","v":"Baleares"},{"$f":"Список!D167","v":"Merida AD"},{"$f":"Список!A167","v":"SPAIN: Segunda Division B - Group 5 - Second stage"},{"$f":"Список!B167","v":"2021.04.18 12:00"}]
[{"$f":"Список!C168","v":"Real Aviles"},{"$f":"Список!D168","v":"Llanes"},{"$f":"Список!A168","v":"SPAIN: Tercera Division - Group 2 - Promotion Group"},{"$f":"Список!B168","v":"2021.04.18 12:00"}]
[{"$f":"Список!C169","v":"Union Club Ceares"},{"$f":"Список!D169","v":"L'Entregu"},{"$f":"Список!A169","v":"SPAIN: Tercera Division - Group 2 - Promotion Group"},{"$f":"Список!B169","v":"2021.04.18 12:00"}]
[{"$f":"Список!C170","v":"Aviles Stadium"},{"$f":"Список!D170","v":"Valdesoto"},{"$f":"Список!A170","v":"SPAIN: Tercera Division - Group 2 - Relegation Group"},{"$f":"Список!B170","v":"2021.04.18 12:00"}]
[{"$f":"Список!C171","v":"SD Navarro CF"},{"$f":"Список!D171","v":"CD Colunga"},{"$f":"Список!A171","v":"SPAIN: Tercera Division - Group 2 - Relegation Group"},{"$f":"Список!B171","v":"2021.04.18 12:00"}]
[{"$f":"Список!C172","v":"Lenense"},{"$f":"Список!D172","v":"Real Titanico"},{"$f":"Список!A172","v":"SPAIN: Tercera Division - Group 2 - Second stage"},{"$f":"Список!B172","v":"2021.04.18 12:00"}]
[{"$f":"Список!C173","v":"Ariznabarra"},{"$f":"Список!D173","v":"Tolosa FC"},{"$f":"Список!A173","v":"SPAIN: Tercera Division - Group 4 - Relegation Group"},{"$f":"Список!B173","v":"2021.04.18 12:00"}]
[{"$f":"Список!C174","v":"Cerdanyola"},{"$f":"Список!D174","v":"Vilafranca"},{"$f":"Список!A174","v":"SPAIN: Tercera Division - Group 5 - Promotion Group"},{"$f":"Список!B174","v":"2021.04.18 12:00"}]
[{"$f":"Список!C175","v":"Girona B"},{"$f":"Список!D175","v":"CE Europa"},{"$f":"Список!A175","v":"SPAIN: Tercera Division - Group 5 - Promotion Group"},{"$f":"Список!B175","v":"2021.04.18 12:00"}]
[{"$f":"Список!C176","v":"Horta"},{"$f":"Список!D176","v":"Pobla Mafumet"},{"$f":"Список!A176","v":"SPAIN: Tercera Division - Group 5 - Relegation Group"},{"$f":"Список!B176","v":"2021.04.18 12:00"}]
[{"$f":"Список!C177","v":"Vilassar de Mar"},{"$f":"Список!D177","v":"San Cristobal CP"},{"$f":"Список!A177","v":"SPAIN: Tercera Division - Group 5 - Second stage"},{"$f":"Список!B177","v":"2021.04.18 12:00"}]
[{"$f":"Список!C178","v":"Torrent"},{"$f":"Список!D178","v":"Hercules B"},{"$f":"Список!A178","v":"SPAIN: Tercera Division - Group 6 - Relegation Group"},{"$f":"Список!B178","v":"2021.04.18 12:00"}]
[{"$f":"Список!C179","v":"Silla CF"},{"$f":"Список!D179","v":"Jove"},{"$f":"Список!A179","v":"SPAIN: Tercera Division - Group 6 - Second stage"},{"$f":"Список!B179","v":"2021.04.18 12:00"}]
[{"$f":"Список!C180","v":"Rayo Vallecano B"},{"$f":"Список!D180","v":"CD Mostoles"},{"$f":"Список!A180","v":"SPAIN: Tercera Division - Group 7 - Promotion Group"},{"$f":"Список!B180","v":"2021.04.18 12:00"}]
[{"$f":"Список!C181","v":"Union Adarve"},{"$f":"Список!D181","v":"Leganes B"},{"$f":"Список!A181","v":"SPAIN: Tercera Division - Group 7 - Promotion Group"},{"$f":"Список!B181","v":"2021.04.18 12:00"}]
[{"$f":"Список!C182","v":"Santa Ana"},{"$f":"Список!D182","v":"Mostoles"},{"$f":"Список!A182","v":"SPAIN: Tercera Division - Group 7 - Relegation Group"},{"$f":"Список!B182","v":"2021.04.18 12:00"}]
[{"$f":"Список!C183","v":"Pozuelo de Alarcon"},{"$f":"Список!D183","v":"Parla"},{"$f":"Список!A183","v":"SPAIN: Tercera Division - Group 7 - Second stage"},{"$f":"Список!B183","v":"2021.04.18 12:00"}]
[{"$f":"Список!C184","v":"CP Almeria"},{"$f":"Список!D184","v":"Motril"},{"$f":"Список!A184","v":"SPAIN: Tercera Division - Group 9 - Relegation Group"},{"$f":"Список!B184","v":"2021.04.18 12:00"}]
[{"$f":"Список!C185","v":"Maracena"},{"$f":"Список!D185","v":"CD Alhaurino"},{"$f":"Список!A185","v":"SPAIN: Tercera Division - Group 9 - Relegation Group"},{"$f":"Список!B185","v":"2021.04.18 12:00"}]
[{"$f":"Список!C186","v":"Huetor Vega"},{"$f":"Список!D186","v":"Malaga B"},{"$f":"Список!A186","v":"SPAIN: Tercera Division - Group 9 - Second stage"},{"$f":"Список!B186","v":"2021.04.18 12:00"}]
[{"$f":"Список!C187","v":"Ceuta"},{"$f":"Список!D187","v":"Ciudad de Lucena"},{"$f":"Список!A187","v":"SPAIN: Tercera Division - Group 10 - Promotion Group"},{"$f":"Список!B187","v":"2021.04.18 12:00"}]
[{"$f":"Список!C188","v":"Arcos CF"},{"$f":"Список!D188","v":"Sevilla FC C"},{"$f":"Список!A188","v":"SPAIN: Tercera Division - Group 10 - Relegation Group"},{"$f":"Список!B188","v":"2021.04.18 12:00"}]
[{"$f":"Список!C189","v":"Cabecense"},{"$f":"Список!D189","v":"CD Gerena"},{"$f":"Список!A189","v":"SPAIN: Tercera Division - Group 10 - Relegation Group"},{"$f":"Список!B189","v":"2021.04.18 12:00"}]
[{"$f":"Список!C190","v":"Antoniano"},{"$f":"Список!D190","v":"CD Utrera"},{"$f":"Список!A190","v":"SPAIN: Tercera Division - Group 10 - Second stage"},{"$f":"Список!B190","v":"2021.04.18 12:00"}]
[{"$f":"Список!C191","v":"Rota"},{"$f":"Список!D191","v":"Pozoblanco"},{"$f":"Список!A191","v":"SPAIN: Tercera Division - Group 10 - Second stage"},{"$f":"Список!B191","v":"2021.04.18 12:00"}]
[{"$f":"Список!C192","v":"Constancia"},{"$f":"Список!D192","v":"Platges de Calvia"},{"$f":"Список!A192","v":"SPAIN: Tercera Division - Group 11 - Promotion Group"},{"$f":"Список!B192","v":"2021.04.18 12:00"}]
[{"$f":"Список!C193","v":"Ibiza Islas Pitiusas"},{"$f":"Список!D193","v":"Formentera"},{"$f":"Список!A193","v":"SPAIN: Tercera Division - Group 11 - Promotion Group"},{"$f":"Список!B193","v":"2021.04.18 12:00"}]
[{"$f":"Список!C194","v":"Felanitx"},{"$f":"Список!D194","v":"Santa Catalina Atletico"},{"$f":"Список!A194","v":"SPAIN: Tercera Division - Group 11 - Relegation Group"},{"$f":"Список!B194","v":"2021.04.18 12:00"}]
[{"$f":"Список!C195","v":"Ferriolense"},{"$f":"Список!D195","v":"Alcudia"},{"$f":"Список!A195","v":"SPAIN: Tercera Division - Group 11 - Relegation Group"},{"$f":"Список!B195","v":"2021.04.18 12:00"}]
[{"$f":"Список!C196","v":"Montijo"},{"$f":"Список!D196","v":"Diocesano"},{"$f":"Список!A196","v":"SPAIN: Tercera Division - Group 14 - Promotion Group"},{"$f":"Список!B196","v":"2021.04.18 12:00"}]
[{"$f":"Список!C197","v":"Fuente de Cantos"},{"$f":"Список!D197","v":"Chinato"},{"$f":"Список!A197","v":"SPAIN: Tercera Division - Group 14 - Relegation Group"},{"$f":"Список!B197","v":"2021.04.18 12:00"}]
[{"$f":"Список!C198","v":"Olivenza"},{"$f":"Список!D198","v":"CD Calamonte"},{"$f":"Список!A198","v":"SPAIN: Tercera Division - Group 14 - Relegation Group"},{"$f":"Список!B198","v":"2021.04.18 12:00"}]
[{"$f":"Список!C199","v":"Azuaga"},{"$f":"Список!D199","v":"Extremadura UD B"},{"$f":"Список!A199","v":"SPAIN: Tercera Division - Group 14 - Second stage"},{"$f":"Список!B199","v":"2021.04.18 12:00"}]
[{"$f":"Список!C200","v":"Miajadas"},{"$f":"Список!D200","v":"Aceuchal"},{"$f":"Список!A200","v":"SPAIN: Tercera Division - Group 14 - Second stage"},{"$f":"Список!B200","v":"2021.04.18 12:00"}]
[{"$f":"Список!C201","v":"Varea"},{"$f":"Список!D201","v":"Logrones Promesas"},{"$f":"Список!A201","v":"SPAIN: Tercera Division - Group 16 - Promotion Group"},{"$f":"Список!B201","v":"2021.04.18 12:00"}]
[{"$f":"Список!C202","v":"Berceo"},{"$f":"Список!D202","v":"Pradejon"},{"$f":"Список!A202","v":"SPAIN: Tercera Division - Group 16 - Relegation Group"},{"$f":"Список!B202","v":"2021.04.18 12:00"}]
[{"$f":"Список!C203","v":"Vianes"},{"$f":"Список!D203","v":"Tedeon"},{"$f":"Список!A203","v":"SPAIN: Tercera Division - Group 16 - Relegation Group"},{"$f":"Список!B203","v":"2021.04.18 12:00"}]
[{"$f":"Список!C204","v":"Villegas"},{"$f":"Список!D204","v":"Calasancio"},{"$f":"Список!A204","v":"SPAIN: Tercera Division - Group 16 - Relegation Group"},{"$f":"Список!B204","v":"2021.04.18 12:00"}]
[{"$f":"Список!C205","v":"Belchite 97"},{"$f":"Список!D205","v":"Utebo FC"},{"$f":"Список!A205","v":"SPAIN: Tercera Division - Group 17 - Promotion Group"},{"$f":"Список!B205","v":"2021.04.18 12:00"}]
[{"$f":"Список!C206","v":"Huesca B"},{"$f":"Список!D206","v":"Brea"},{"$f":"Список!A206","v":"SPAIN: Tercera Division - Group 17 - Promotion Group"},{"$f":"Список!B206","v":"2021.04.18 12:00"}]
[{"$f":"Список!C207","v":"Sabinanigo"},{"$f":"Список!D207","v":"Tamarite"},{"$f":"Список!A207","v":"SPAIN: Tercera Division - Group 17 - Relegation Group"},{"$f":"Список!B207","v":"2021.04.18 12:00"}]
[{"$f":"Список!C208","v":"Manzanares"},{"$f":"Список!D208","v":"Azuqueca"},{"$f":"Список!A208","v":"SPAIN: Tercera Division - Group 18 - Relegation Group"},{"$f":"Список!B208","v":"2021.04.18 12:00"}]
[{"$f":"Список!C209","v":"La Roda"},{"$f":"Список!D209","v":"Tarancon"},{"$f":"Список!A209","v":"SPAIN: Tercera Division - Group 18 - Second stage"},{"$f":"Список!B209","v":"2021.04.18 12:00"}]
[{"$f":"Список!C210","v":"Real Madrid W"},{"$f":"Список!D210","v":"Betis W"},{"$f":"Список!A210","v":"SPAIN: Primera Division Women"},{"$f":"Список!B210","v":"2021.04.18 12:00"}]
[{"$f":"Список!C211","v":"Moron W"},{"$f":"Список!D211","v":"Alingsas FC W"},{"$f":"Список!A211","v":"SWEDEN: Elitettan Women"},{"$f":"Список!B211","v":"2021.04.18 12:00"}]
[{"$f":"Список!C212","v":"Binh Duong"},{"$f":"Список!D212","v":"Da Nang"},{"$f":"Список!A212","v":"VIETNAM: V.League 1"},{"$f":"Список!B212","v":"2021.04.18 12:00"}]
[{"$f":"Список!C213","v":"Gia Lai"},{"$f":"Список!D213","v":"Hanoi FC"},{"$f":"Список!A213","v":"VIETNAM: V.League 1"},{"$f":"Список!B213","v":"2021.04.18 12:00"}]
[{"$f":"Список!C214","v":"Long An"},{"$f":"Список!D214","v":"Ba Ria Vung Tau"},{"$f":"Список!A214","v":"VIETNAM: V.League 2"},{"$f":"Список!B214","v":"2021.04.18 12:00"}]
[{"$f":"Список!C215","v":"Bodo/Glimt"},{"$f":"Список!D215","v":"Tromso"},{"$f":"Список!A215","v":"WORLD: Club Friendly"},{"$f":"Список!B215","v":"2021.04.18 12:00"}]
[{"$f":"Список!C216","v":"Klubi 04"},{"$f":"Список!D216","v":"Honka Akatemia"},{"$f":"Список!A216","v":"WORLD: Club Friendly"},{"$f":"Список!B216","v":"2021.04.18 12:00"}]
[{"$f":"Список!C217","v":"Perth Glory"},{"$f":"Список!D217","v":"Wellington Phoenix"},{"$f":"Список!A217","v":"AUSTRALIA: A-League"},{"$f":"Список!B217","v":"2021.04.18 12:15"}]
[{"$f":"Список!C218","v":"PSV W"},{"$f":"Список!D218","v":"Ajax W"},{"$f":"Список!A218","v":"NETHERLANDS: KNVB Beker Women"},{"$f":"Список!B218","v":"2021.04.18 12:15"}]
[{"$f":"Список!C219","v":"Bydgoszcz W"},{"$f":"Список!D219","v":"UJ Krakow W"},{"$f":"Список!A219","v":"POLAND: Ekstraliga Women"},{"$f":"Список!B219","v":"2021.04.18 12:15"}]
[{"$f":"Список!C220","v":"Casa Pia"},{"$f":"Список!D220","v":"Academica"},{"$f":"Список!A220","v":"PORTUGAL: Liga Portugal 2"},{"$f":"Список!B220","v":"2021.04.18 12:15"}]
[{"$f":"Список!C221","v":"Racing Murcia"},{"$f":"Список!D221","v":"Pulpileno"},{"$f":"Список!A221","v":"SPAIN: Tercera Division - Group 13 - Promotion Group"},{"$f":"Список!B221","v":"2021.04.18 12:15"}]
[{"$f":"Список!C222","v":"AC Milan"},{"$f":"Список!D222","v":"Genoa"},{"$f":"Список!A222","v":"ITALY: Serie A"},{"$f":"Список!B222","v":"2021.04.18 12:30"}]
[{"$f":"Список!C223","v":"Casertana"},{"$f":"Список!D223","v":"Juve Stabia"},{"$f":"Список!A223","v":"ITALY: Serie C - Group C"},{"$f":"Список!B223","v":"2021.04.18 12:30"}]
[{"$f":"Список!C224","v":"Catanzaro"},{"$f":"Список!D224","v":"Catania"},{"$f":"Список!A224","v":"ITALY: Serie C - Group C"},{"$f":"Список!B224","v":"2021.04.18 12:30"}]
[{"$f":"Список!C225","v":"Cagliari U19"},{"$f":"Список!D225","v":"Fiorentina U19"},{"$f":"Список!A225","v":"ITALY: Primavera 1"},{"$f":"Список!B225","v":"2021.04.18 12:30"}]
[{"$f":"Список!C226","v":"AC Milan W"},{"$f":"Список!D226","v":"Napoli W"},{"$f":"Список!A226","v":"ITALY: Serie A Women"},{"$f":"Список!B226","v":"2021.04.18 12:30"}]
[{"$f":"Список!C227","v":"Sassuolo W"},{"$f":"Список!D227","v":"Juventus W"},{"$f":"Список!A227","v":"ITALY: Serie A Women"},{"$f":"Список!B227","v":"2021.04.18 12:30"}]
[{"$f":"Список!C228","v":"Dordoi Bishkek"},{"$f":"Список!D228","v":"Kaganat"},{"$f":"Список!A228","v":"KYRGYZSTAN: Premier Liga"},{"$f":"Список!B228","v":"2021.04.18 12:30"}]
[{"$f":"Список!C229","v":"Stal Mielec"},{"$f":"Список!D229","v":"Zaglebie"},{"$f":"Список!A229","v":"POLAND: Ekstraklasa"},{"$f":"Список!B229","v":"2021.04.18 12:30"}]
[{"$f":"Список!C230","v":"FC Arges"},{"$f":"Список!D230","v":"Poli Iasi"},{"$f":"Список!A230","v":"ROMANIA: Liga 1 - Relegation Group"},{"$f":"Список!B230","v":"2021.04.18 12:30"}]
[{"$f":"Список!C231","v":"Silva SD"},{"$f":"Список!D231","v":"CD Choco"},{"$f":"Список!A231","v":"SPAIN: Tercera Division - Group 1 - Second stage"},{"$f":"Список!B231","v":"2021.04.18 12:30"}]
[{"$f":"Список!C232","v":"Granollers"},{"$f":"Список!D232","v":"Terrassa"},{"$f":"Список!A232","v":"SPAIN: Tercera Division - Group 5 - Promotion Group"},{"$f":"Список!B232","v":"2021.04.18 12:30"}]
[{"$f":"Список!C233","v":"CAP Ciudad de Murcia"},{"$f":"Список!D233","v":"EG El Palmar CF"},{"$f":"Список!A233","v":"SPAIN: Tercera Division - Group 13 - Relegation Group"},{"$f":"Список!B233","v":"2021.04.18 12:30"}]
[{"$f":"Список!C234","v":"Eskisehirspor"},{"$f":"Список!D234","v":"Balikesirspor"},{"$f":"Список!A234","v":"TURKEY: 1. Lig"},{"$f":"Список!B234","v":"2021.04.18 12:30"}]
[{"$f":"Список!C235","v":"Odra Opole"},{"$f":"Список!D235","v":"Korona Kielce"},{"$f":"Список!A235","v":"POLAND: Division 1"},{"$f":"Список!B235","v":"2021.04.18 12:40"}]
[{"$f":"Список!C236","v":"Zaglebie Sosnowiec"},{"$f":"Список!D236","v":"GKS Belchatow"},{"$f":"Список!A236","v":"POLAND: Division 1"},{"$f":"Список!B236","v":"2021.04.18 12:40"}]
[{"$f":"Список!C237","v":"Apolonia Fier"},{"$f":"Список!D237","v":"Vllaznia"},{"$f":"Список!A237","v":"ALBANIA: Superliga"},{"$f":"Список!B237","v":"2021.04.18 13:00"}]
[{"$f":"Список!C238","v":"Egnatia Rrogozhine"},{"$f":"Список!D238","v":"Tomori Berat"},{"$f":"Список!A238","v":"ALBANIA: First Division - Promotion Group"},{"$f":"Список!B238","v":"2021.04.18 13:00"}]
[{"$f":"Список!C239","v":"Pogradeci"},{"$f":"Список!D239","v":"Besa Kavaje"},{"$f":"Список!A239","v":"ALBANIA: First Division - Promotion Group"},{"$f":"Список!B239","v":"2021.04.18 13:00"}]
[{"$f":"Список!C240","v":"Din. Minsk"},{"$f":"Список!D240","v":"FC Gomel"},{"$f":"Список!A240","v":"BELARUS: Vysshaya Liga"},{"$f":"Список!B240","v":"2021.04.18 13:00"}]
[{"$f":"Список!C241","v":"Belshina"},{"$f":"Список!D241","v":"Volna Pinsk"},{"$f":"Список!A241","v":"BELARUS: Pershaya Liga"},{"$f":"Список!B241","v":"2021.04.18 13:00"}]
[{"$f":"Список!C242","v":"Visakha"},{"$f":"Список!D242","v":"Electricite Du Cambodge"},{"$f":"Список!A242","v":"CAMBODIA: C-League"},{"$f":"Список!B242","v":"2021.04.18 13:00"}]
[{"$f":"Список!C243","v":"Thisted FC"},{"$f":"Список!D243","v":"Brabrand"},{"$f":"Список!A243","v":"DENMARK: 2nd Division - Group 1"},{"$f":"Список!B243","v":"2021.04.18 13:00"}]
[{"$f":"Список!C244","v":"AB Copenhagen"},{"$f":"Список!D244","v":"Vanlose"},{"$f":"Список!A244","v":"DENMARK: 2nd Division - Group 2"},{"$f":"Список!B244","v":"2021.04.18 13:00"}]
[{"$f":"Список!C245","v":"Naestved"},{"$f":"Список!D245","v":"FA 2000"},{"$f":"Список!A245","v":"DENMARK: 2nd Division - Group 2"},{"$f":"Список!B245","v":"2021.04.18 13:00"}]
[{"$f":"Список!C246","v":"Slagelse"},{"$f":"Список!D246","v":"Bronshoj"},{"$f":"Список!A246","v":"DENMARK: 2nd Division - Group 2"},{"$f":"Список!B246","v":"2021.04.18 13:00"}]
[{"$f":"Список!C247","v":"Rotherham"},{"$f":"Список!D247","v":"Birmingham"},{"$f":"Список!A247","v":"ENGLAND: Championship"},{"$f":"Список!B247","v":"2021.04.18 13:00"}]
[{"$f":"Список!C248","v":"Crewe U23"},{"$f":"Список!D248","v":"Watford U23"},{"$f":"Список!A248","v":"ENGLAND: Professional Development League"},{"$f":"Список!B248","v":"2021.04.18 13:00"}]
[{"$f":"Список!C249","v":"Kafa"},{"$f":"Список!D249","v":"Yevpatoriya"},{"$f":"Список!A249","v":"EUROPE: Premier League (Crimea)"},{"$f":"Список!B249","v":"2021.04.18 13:00"}]
[{"$f":"Список!C250","v":"Paris SG"},{"$f":"Список!D250","v":"St Etienne"},{"$f":"Список!A250","v":"FRANCE: Ligue 1"},{"$f":"Список!B250","v":"2021.04.18 13:00"}]
[{"$f":"Список!C251","v":"Ingolstadt"},{"$f":"Список!D251","v":"Meppen"},{"$f":"Список!A251","v":"GERMANY: 3. Liga"},{"$f":"Список!B251","v":"2021.04.18 13:00"}]
[{"$f":"Список!C252","v":"PAE Chania"},{"$f":"Список!D252","v":"Apollon Larissa"},{"$f":"Список!A252","v":"GREECE: Super League 2"},{"$f":"Список!B252","v":"2021.04.18 13:00"}]
[{"$f":"Список!C253","v":"Santorini"},{"$f":"Список!D253","v":"Aspropyrgos Enosis"},{"$f":"Список!A253","v":"GREECE: Football League"},{"$f":"Список!B253","v":"2021.04.18 13:00"}]
[{"$f":"Список!C254","v":"Metta/LU"},{"$f":"Список!D254","v":"RFS"},{"$f":"Список!A254","v":"LATVIA: Optibet Virsliga"},{"$f":"Список!B254","v":"2021.04.18 13:00"}]
[{"$f":"Список!C255","v":"Tak Chun Ka I"},{"$f":"Список!D255","v":"Chao Pak Kei"},{"$f":"Список!A255","v":"MACAO: Elite League"},{"$f":"Список!B255","v":"2021.04.18 13:00"}]
[{"$f":"Список!C256","v":"Akademija Pandev"},{"$f":"Список!D256","v":"Vardar"},{"$f":"Список!A256","v":"NORTH MACEDONIA: 1. MFL"},{"$f":"Список!B256","v":"2021.04.18 13:00"}]
[{"$f":"Список!C257","v":"Belasica"},{"$f":"Список!D257","v":"Shkendija"},{"$f":"Список!A257","v":"NORTH MACEDONIA: 1. MFL"},{"$f":"Список!B257","v":"2021.04.18 13:00"}]
[{"$f":"Список!C258","v":"Borec"},{"$f":"Список!D258","v":"Shkupi"},{"$f":"Список!A258","v":"NORTH MACEDONIA: 1. MFL"},{"$f":"Список!B258","v":"2021.04.18 13:00"}]
[{"$f":"Список!C259","v":"Rabotnicki"},{"$f":"Список!D259","v":"Makedonija GP"},{"$f":"Список!A259","v":"NORTH MACEDONIA: 1. MFL"},{"$f":"Список!B259","v":"2021.04.18 13:00"}]
[{"$f":"Список!C260","v":"Struga Trim & Lum"},{"$f":"Список!D260","v":"Pelister"},{"$f":"Список!A260","v":"NORTH MACEDONIA: 1. MFL"},{"$f":"Список!B260","v":"2021.04.18 13:00"}]
[{"$f":"Список!C261","v":"Blekitni Stargard"},{"$f":"Список!D261","v":"GKS Katowice"},{"$f":"Список!A261","v":"POLAND: Division 2"},{"$f":"Список!B261","v":"2021.04.18 13:00"}]
[{"$f":"Список!C262","v":"Slask Wroclaw 2"},{"$f":"Список!D262","v":"S. Rzeszow"},{"$f":"Список!A262","v":"POLAND: Division 2"},{"$f":"Список!B262","v":"2021.04.18 13:00"}]
[{"$f":"Список!C263","v":"Arsenal Tula"},{"$f":"Список!D263","v":"Tambov"},{"$f":"Список!A263","v":"RUSSIA: Premier League"},{"$f":"Список!B263","v":"2021.04.18 13:00"}]
[{"$f":"Список!C264","v":"Krasnyy"},{"$f":"Список!D264","v":"Khimik-Arsenal"},{"$f":"Список!A264","v":"RUSSIA: PFL - Group 3"},{"$f":"Список!B264","v":"2021.04.18 13:00"}]
[{"$f":"Список!C265","v":"Znamya Noginsk"},{"$f":"Список!D265","v":"Vidnoe"},{"$f":"Список!A265","v":"RUSSIA: PFL - Group 3"},{"$f":"Список!B265","v":"2021.04.18 13:00"}]
[{"$f":"Список!C266","v":"CSKA Moscow W"},{"$f":"Список!D266","v":"FK Yenisey W"},{"$f":"Список!A266","v":"RUSSIA: Supreme Division Women"},{"$f":"Список!B266","v":"2021.04.18 13:00"}]
[{"$f":"Список!C267","v":"Rangers W"},{"$f":"Список!D267","v":"Hibernian W"},{"$f":"Список!A267","v":"SCOTLAND: SWPL 1 Women"},{"$f":"Список!B267","v":"2021.04.18 13:00"}]
[{"$f":"Список!C268","v":"Metalac"},{"$f":"Список!D268","v":"FK Indjija"},{"$f":"Список!A268","v":"SERBIA: Super Liga"},{"$f":"Список!B268","v":"2021.04.18 13:00"}]
[{"$f":"Список!C269","v":"Novi Pazar"},{"$f":"Список!D269","v":"Cukaricki"},{"$f":"Список!A269","v":"SERBIA: Super Liga"},{"$f":"Список!B269","v":"2021.04.18 13:00"}]
[{"$f":"Список!C270","v":"Zlatibor Cajetina"},{"$f":"Список!D270","v":"Rad Beograd"},{"$f":"Список!A270","v":"SERBIA: Super Liga"},{"$f":"Список!B270","v":"2021.04.18 13:00"}]
[{"$f":"Список!C271","v":"Tamaraceite"},{"$f":"Список!D271","v":"Murcia"},{"$f":"Список!A271","v":"SPAIN: Segunda Division B - Group 4 - Second stage"},{"$f":"Список!B271","v":"2021.04.18 13:00"}]
[{"$f":"Список!C272","v":"Arucas"},{"$f":"Список!D272","v":"La Cuadra"},{"$f":"Список!A272","v":"SPAIN: Tercera Division - Group 12"},{"$f":"Список!B272","v":"2021.04.18 13:00"}]
[{"$f":"Список!C273","v":"Lanzarote"},{"$f":"Список!D273","v":"Las Palmas C"},{"$f":"Список!A273","v":"SPAIN: Tercera Division - Group 12"},{"$f":"Список!B273","v":"2021.04.18 13:00"}]
[{"$f":"Список!C274","v":"Mensajero"},{"$f":"Список!D274","v":"Union Guimar"},{"$f":"Список!A274","v":"SPAIN: Tercera Division - Group 12"},{"$f":"Список!B274","v":"2021.04.18 13:00"}]
[{"$f":"Список!C275","v":"San Fernando"},{"$f":"Список!D275","v":"Panaderia"},{"$f":"Список!A275","v":"SPAIN: Tercera Division - Group 12"},{"$f":"Список!B275","v":"2021.04.18 13:00"}]
[{"$f":"Список!C276","v":"UD Guia"},{"$f":"Список!D276","v":"Gran Tarajal"},{"$f":"Список!A276","v":"SPAIN: Tercera Division - Group 12"},{"$f":"Список!B276","v":"2021.04.18 13:00"}]
[{"$f":"Список!C277","v":"Union Viera"},{"$f":"Список!D277","v":"Villa Santa Brigida"},{"$f":"Список!A277","v":"SPAIN: Tercera Division - Group 12"},{"$f":"Список!B277","v":"2021.04.18 13:00"}]
[{"$f":"Список!C278","v":"Osters"},{"$f":"Список!D278","v":"Landskrona"},{"$f":"Список!A278","v":"SWEDEN: Superettan"},{"$f":"Список!B278","v":"2021.04.18 13:00"}]
[{"$f":"Список!C279","v":"Polisi Tanzania"},{"$f":"Список!D279","v":"Tanzania Prisons"},{"$f":"Список!A279","v":"TANZANIA: Ligi Kuu Bara"},{"$f":"Список!B279","v":"2021.04.18 13:00"}]
[{"$f":"Список!C280","v":"Inhulets"},{"$f":"Список!D280","v":"Rukh Lviv"},{"$f":"Список!A280","v":"UKRAINE: Premier League"},{"$f":"Список!B280","v":"2021.04.18 13:00"}]
[{"$f":"Список!C281","v":"Nam Dinh"},{"$f":"Список!D281","v":"Ho Chi Minh"},{"$f":"Список!A281","v":"VIETNAM: V.League 1"},{"$f":"Список!B281","v":"2021.04.18 13:00"}]
[{"$f":"Список!C282","v":"JIPPO"},{"$f":"Список!D282","v":"LehPa"},{"$f":"Список!A282","v":"WORLD: Club Friendly"},{"$f":"Список!B282","v":"2021.04.18 13:00"}]
[{"$f":"Список!C283","v":"Rovaniemi"},{"$f":"Список!D283","v":"AC Oulu"},{"$f":"Список!A283","v":"WORLD: Club Friendly"},{"$f":"Список!B283","v":"2021.04.18 13:00"}]
[{"$f":"Список!C284","v":"Sarpsborg 08"},{"$f":"Список!D284","v":"Stabaek"},{"$f":"Список!A284","v":"WORLD: Club Friendly"},{"$f":"Список!B284","v":"2021.04.18 13:00"}]
[{"$f":"Список!C285","v":"Asane W"},{"$f":"Список!D285","v":"Sandviken W"},{"$f":"Список!A285","v":"WORLD: Club Friendly Women"},{"$f":"Список!B285","v":"2021.04.18 13:00"}]
[{"$f":"Список!C286","v":"Buildcon"},{"$f":"Список!D286","v":"Kabwe"},{"$f":"Список!A286","v":"ZAMBIA: Super League"},{"$f":"Список!B286","v":"2021.04.18 13:00"}]
[{"$f":"Список!C287","v":"Stranraer"},{"$f":"Список!D287","v":"Hibernian"},{"$f":"Список!A287","v":"SCOTLAND: Scottish Cup"},{"$f":"Список!B287","v":"2021.04.18 13:15"}]
[{"$f":"Список!C288","v":"Sevan"},{"$f":"Список!D288","v":"Noravank"},{"$f":"Список!A288","v":"ARMENIA: First League"},{"$f":"Список!B288","v":"2021.04.18 13:30"}]
[{"$f":"Список!C289","v":"Birmingham W"},{"$f":"Список!D289","v":"Coventry United W"},{"$f":"Список!A289","v":"ENGLAND: Women’s FA Cup"},{"$f":"Список!B289","v":"2021.04.18 13:30"}]
[{"$f":"Список!C290","v":"Bochum"},{"$f":"Список!D290","v":"Hannover"},{"$f":"Список!A290","v":"GERMANY: 2. Bundesliga"},{"$f":"Список!B290","v":"2021.04.18 13:30"}]
[{"$f":"Список!C291","v":"Regensburg"},{"$f":"Список!D291","v":"Heidenheim"},{"$f":"Список!A291","v":"GERMANY: 2. Bundesliga"},{"$f":"Список!B291","v":"2021.04.18 13:30"}]
[{"$f":"Список!C292","v":"VfL Osnabruck"},{"$f":"Список!D292","v":"Dusseldorf"},{"$f":"Список!A292","v":"GERMANY: 2. Bundesliga"},{"$f":"Список!B292","v":"2021.04.18 13:30"}]
[{"$f":"Список!C293","v":"Rodos"},{"$f":"Список!D293","v":"PAE Egaleo"},{"$f":"Список!A293","v":"GREECE: Football League"},{"$f":"Список!B293","v":"2021.04.18 13:30"}]
[{"$f":"Список!C294","v":"Orobica W"},{"$f":"Список!D294","v":"Lazio W"},{"$f":"Список!A294","v":"ITALY: Serie B Women"},{"$f":"Список!B294","v":"2021.04.18 13:30"}]
[{"$f":"Список!C295","v":"Eskhata"},{"$f":"Список!D295","v":"Ravshan"},{"$f":"Список!A295","v":"TAJIKISTAN: Vysshaya Liga"},{"$f":"Список!B295","v":"2021.04.18 13:30"}]
[{"$f":"Список!C296","v":"Karaiskakis"},{"$f":"Список!D296","v":"Doxa Dramas"},{"$f":"Список!A296","v":"GREECE: Super League 2"},{"$f":"Список!B296","v":"2021.04.18 13:45"}]
[{"$f":"Список!C297","v":"Panachaiki"},{"$f":"Список!D297","v":"Ergotelis"},{"$f":"Список!A297","v":"GREECE: Super League 2"},{"$f":"Список!B297","v":"2021.04.18 13:45"}]
[{"$f":"Список!C298","v":"Fluminense-PI"},{"$f":"Список!D298","v":"Julho Esporte"},{"$f":"Список!A298","v":"BRAZIL: Campeonato Piauiense"},{"$f":"Список!B298","v":"2021.04.18 14:00"}]
[{"$f":"Список!C299","v":"Brno"},{"$f":"Список!D299","v":"FK Pardubice"},{"$f":"Список!A299","v":"CZECH REPUBLIC: 1. Liga"},{"$f":"Список!B299","v":"2021.04.18 14:00"}]
[{"$f":"Список!C300","v":"Zlin"},{"$f":"Список!D300","v":"Pribram"},{"$f":"Список!A300","v":"CZECH REPUBLIC: 1. Liga"},{"$f":"Список!B300","v":"2021.04.18 14:00"}]
[{"$f":"Список!C301","v":"Slovacko W"},{"$f":"Список!D301","v":"Liberec W"},{"$f":"Список!A301","v":"CZECH REPUBLIC: 1. Liga Women"},{"$f":"Список!B301","v":"2021.04.18 14:00"}]
[{"$f":"Список!C302","v":"Horsens"},{"$f":"Список!D302","v":"Lyngby"},{"$f":"Список!A302","v":"DENMARK: Superliga - Relegation Group"},{"$f":"Список!B302","v":"2021.04.18 14:00"}]
[{"$f":"Список!C303","v":"Odense"},{"$f":"Список!D303","v":"Sonderjyske"},{"$f":"Список!A303","v":"DENMARK: Superliga - Relegation Group"},{"$f":"Список!B303","v":"2021.04.18 14:00"}]
[{"$f":"Список!C304","v":"Fredericia"},{"$f":"Список!D304","v":"Helsingor"},{"$f":"Список!A304","v":"DENMARK: 1st Division - Promotion Group"},{"$f":"Список!B304","v":"2021.04.18 14:00"}]
[{"$f":"Список!C305","v":"Tottenham U23"},{"$f":"Список!D305","v":"Chelsea U23"},{"$f":"Список!A305","v":"ENGLAND: Premier League 2"},{"$f":"Список!B305","v":"2021.04.18 14:00"}]
[{"$f":"Список!C306","v":"West Ham W"},{"$f":"Список!D306","v":"Chichester City W"},{"$f":"Список!A306","v":"ENGLAND: Women’s FA Cup"},{"$f":"Список!B306","v":"2021.04.18 14:00"}]
[{"$f":"Список!C307","v":"Levadia"},{"$f":"Список!D307","v":"Paide"},{"$f":"Список!A307","v":"ESTONIA: Meistriliiga"},{"$f":"Список!B307","v":"2021.04.18 14:00"}]
[{"$f":"Список!C308","v":"Lyon W"},{"$f":"Список!D308","v":"Paris SG W"},{"$f":"Список!A308","v":"EUROPE: Champions League Women"},{"$f":"Список!B308","v":"2021.04.18 14:00"}]
[{"$f":"Список!C309","v":"Mannheim"},{"$f":"Список!D309","v":"Lubeck"},{"$f":"Список!A309","v":"GERMANY: 3. Liga"},{"$f":"Список!B309","v":"2021.04.18 14:00"}]
[{"$f":"Список!C310","v":"Oberhausen"},{"$f":"Список!D310","v":"Dortmund II"},{"$f":"Список!A310","v":"GERMANY: Regionalliga West"},{"$f":"Список!B310","v":"2021.04.18 14:00"}]
[{"$f":"Список!C311","v":"Eintracht Frankfurt W"},{"$f":"Список!D311","v":"Sand W"},{"$f":"Список!A311","v":"GERMANY: Bundesliga Women"},{"$f":"Список!B311","v":"2021.04.18 14:00"}]
[{"$f":"Список!C312","v":"Potsdam W"},{"$f":"Список!D312","v":"Duisburg W"},{"$f":"Список!A312","v":"GERMANY: Bundesliga Women"},{"$f":"Список!B312","v":"2021.04.18 14:00"}]
[{"$f":"Список!C313","v":"SGS Essen W"},{"$f":"Список!D313","v":"Meppen W"},{"$f":"Список!A313","v":"GERMANY: Bundesliga Women"},{"$f":"Список!B313","v":"2021.04.18 14:00"}]
[{"$f":"Список!C314","v":"Werder Bremen W"},{"$f":"Список!D314","v":"Bayer Leverkusen W"},{"$f":"Список!A314","v":"GERMANY: Bundesliga Women"},{"$f":"Список!B314","v":"2021.04.18 14:00"}]
[{"$f":"Список!C315","v":"Wolfsburg W"},{"$f":"Список!D315","v":"Freiburg W"},{"$f":"Список!A315","v":"GERMANY: Bundesliga Women"},{"$f":"Список!B315","v":"2021.04.18 14:00"}]
[{"$f":"Список!C316","v":"Andernach W"},{"$f":"Список!D316","v":"Koln W"},{"$f":"Список!A316","v":"GERMANY: 2. Bundesliga Women"},{"$f":"Список!B316","v":"2021.04.18 14:00"}]
[{"$f":"Список!C317","v":"B. Monchengladbach W"},{"$f":"Список!D317","v":"Berghofen W"},{"$f":"Список!A317","v":"GERMANY: 2. Bundesliga Women"},{"$f":"Список!B317","v":"2021.04.18 14:00"}]
[{"$f":"Список!C318","v":"Gutersloh W"},{"$f":"Список!D318","v":"Borussia Bocholt W"},{"$f":"Список!A318","v":"GERMANY: 2. Bundesliga Women"},{"$f":"Список!B318","v":"2021.04.18 14:00"}]
[{"$f":"Список!C319","v":"Ingolstadt W"},{"$f":"Список!D319","v":"FFC Niederkirchen W"},{"$f":"Список!A319","v":"GERMANY: 2. Bundesliga Women"},{"$f":"Список!B319","v":"2021.04.18 14:00"}]
[{"$f":"Список!C320","v":"Jena W"},{"$f":"Список!D320","v":"RB Leipzig W"},{"$f":"Список!A320","v":"GERMANY: 2. Bundesliga Women"},{"$f":"Список!B320","v":"2021.04.18 14:00"}]
[{"$f":"Список!C321","v":"Turbine Potsdam 2 W"},{"$f":"Список!D321","v":"Wolfsburg 2 W"},{"$f":"Список!A321","v":"GERMANY: 2. Bundesliga Women"},{"$f":"Список!B321","v":"2021.04.18 14:00"}]
[{"$f":"Список!C322","v":"Panathinaikos"},{"$f":"Список!D322","v":"Aris"},{"$f":"Список!A322","v":"GREECE: Super League - Championship Group"},{"$f":"Список!B322","v":"2021.04.18 14:00"}]
[{"$f":"Список!C323","v":"Almopos"},{"$f":"Список!D323","v":"Apollon Pontou"},{"$f":"Список!A323","v":"GREECE: Football League"},{"$f":"Список!B323","v":"2021.04.18 14:00"}]
[{"$f":"Список!C324","v":"Asteras Vlachioti"},{"$f":"Список!D324","v":"Kallithea"},{"$f":"Список!A324","v":"GREECE: Football League"},{"$f":"Список!B324","v":"2021.04.18 14:00"}]
[{"$f":"Список!C325","v":"Ialisos"},{"$f":"Список!D325","v":"Episkopi"},{"$f":"Список!A325","v":"GREECE: Football League"},{"$f":"Список!B325","v":"2021.04.18 14:00"}]
[{"$f":"Список!C326","v":"Kavala"},{"$f":"Список!D326","v":"Kozani"},{"$f":"Список!A326","v":"GREECE: Football League"},{"$f":"Список!B326","v":"2021.04.18 14:00"}]
[{"$f":"Список!C327","v":"O. Volos"},{"$f":"Список!D327","v":"Panserraikos"},{"$f":"Список!A327","v":"GREECE: Football League"},{"$f":"Список!B327","v":"2021.04.18 14:00"}]
[{"$f":"Список!C328","v":"Pierikos"},{"$f":"Список!D328","v":"PO Triglia"},{"$f":"Список!A328","v":"GREECE: Football League"},{"$f":"Список!B328","v":"2021.04.18 14:00"}]
[{"$f":"Список!C329","v":"Veria"},{"$f":"Список!D329","v":"Thesprotos"},{"$f":"Список!A329","v":"GREECE: Football League"},{"$f":"Список!B329","v":"2021.04.18 14:00"}]
[{"$f":"Список!C330","v":"Carbonia"},{"$f":"Список!D330","v":"Nocerina"},{"$f":"Список!A330","v":"ITALY: Serie D - Group G"},{"$f":"Список!B330","v":"2021.04.18 14:00"}]
[{"$f":"Список!C331","v":"Suduva 2"},{"$f":"Список!D331","v":"Banga 2"},{"$f":"Список!A331","v":"LITHUANIA: I Lyga"},{"$f":"Список!B331","v":"2021.04.18 14:00"}]
[{"$f":"Список!C332","v":"Leczna W"},{"$f":"Список!D332","v":"Gdansk W"},{"$f":"Список!A332","v":"POLAND: Ekstraliga Women"},{"$f":"Список!B332","v":"2021.04.18 14:00"}]
[{"$f":"Список!C333","v":"F. Voronezh 2"},{"$f":"Список!D333","v":"Saratov"},{"$f":"Список!A333","v":"RUSSIA: PFL - Group 3"},{"$f":"Список!B333","v":"2021.04.18 14:00"}]
[{"$f":"Список!C334","v":"Kaluga"},{"$f":"Список!D334","v":"Kursk"},{"$f":"Список!A334","v":"RUSSIA: PFL - Group 3"},{"$f":"Список!B334","v":"2021.04.18 14:00"}]
[{"$f":"Список!C335","v":"Salyut-Belgorod"},{"$f":"Список!D335","v":"Sakhalin"},{"$f":"Список!A335","v":"RUSSIA: PFL - Group 3"},{"$f":"Список!B335","v":"2021.04.18 14:00"}]
[{"$f":"Список!C336","v":"Krasnodar W"},{"$f":"Список!D336","v":"Chertanovo M. W"},{"$f":"Список!A336","v":"RUSSIA: Supreme Division Women"},{"$f":"Список!B336","v":"2021.04.18 14:00"}]
[{"$f":"Список!C337","v":"Hearts W"},{"$f":"Список!D337","v":"Forfar Farmington W"},{"$f":"Список!A337","v":"SCOTLAND: SWPL 1 Women"},{"$f":"Список!B337","v":"2021.04.18 14:00"}]
[{"$f":"Список!C338","v":"Osasuna"},{"$f":"Список!D338","v":"Elche"},{"$f":"Список!A338","v":"SPAIN: LaLiga"},{"$f":"Список!B338","v":"2021.04.18 14:00"}]
[{"$f":"Список!C339","v":"Real Sociedad"},{"$f":"Список!D339","v":"Sevilla"},{"$f":"Список!A339","v":"SPAIN: LaLiga"},{"$f":"Список!B339","v":"2021.04.18 14:00"}]
[{"$f":"Список!C340","v":"Albacete"},{"$f":"Список!D340","v":"Mirandes"},{"$f":"Список!A340","v":"SPAIN: LaLiga2"},{"$f":"Список!B340","v":"2021.04.18 14:00"}]
[{"$f":"Список!C341","v":"Logrones"},{"$f":"Список!D341","v":"Rayo Vallecano"},{"$f":"Список!A341","v":"SPAIN: LaLiga2"},{"$f":"Список!B341","v":"2021.04.18 14:00"}]
[{"$f":"Список!C342","v":"Hammarby W"},{"$f":"Список!D342","v":"Hacken W"},{"$f":"Список!A342","v":"SWEDEN: Allsvenskan Women"},{"$f":"Список!B342","v":"2021.04.18 14:00"}]
[{"$f":"Список!C343","v":"Vittsjo W"},{"$f":"Список!D343","v":"Pitea W"},{"$f":"Список!A343","v":"SWEDEN: Allsvenskan Women"},{"$f":"Список!B343","v":"2021.04.18 14:00"}]
[{"$f":"Список!C344","v":"Basel W"},{"$f":"Список!D344","v":"Grasshoppers W"},{"$f":"Список!A344","v":"SWITZERLAND: Nationalliga A Women"},{"$f":"Список!B344","v":"2021.04.18 14:00"}]
[{"$f":"Список!C345","v":"Balkany"},{"$f":"Список!D345","v":"Nova Kakhovka"},{"$f":"Список!A345","v":"UKRAINE: Druha Liga"},{"$f":"Список!B345","v":"2021.04.18 14:00"}]
[{"$f":"Список!C346","v":"Kryvbas"},{"$f":"Список!D346","v":"Tavriya"},{"$f":"Список!A346","v":"UKRAINE: Druha Liga"},{"$f":"Список!B346","v":"2021.04.18 14:00"}]
[{"$f":"Список!C347","v":"Stromsgodset"},{"$f":"Список!D347","v":"Lillestrom"},{"$f":"Список!A347","v":"WORLD: Club Friendly"},{"$f":"Список!B347","v":"2021.04.18 14:00"}]
[{"$f":"Список!C348","v":"Gimnasia L.P. W"},{"$f":"Список!D348","v":"Deportivo Espanol W"},{"$f":"Список!A348","v":"ARGENTINA: Primera A Women - Apertura"},{"$f":"Список!B348","v":"2021.04.18 14:30"}]
[{"$f":"Список!C349","v":"Salzburg"},{"$f":"Список!D349","v":"LASK"},{"$f":"Список!A349","v":"AUSTRIA: Tipico Bundesliga - Championship Group"},{"$f":"Список!B349","v":"2021.04.18 14:30"}]
[{"$f":"Список!C350","v":"Wolfsberger AC"},{"$f":"Список!D350","v":"Tirol"},{"$f":"Список!A350","v":"AUSTRIA: Tipico Bundesliga - Championship Group"},{"$f":"Список!B350","v":"2021.04.18 14:30"}]
[{"$f":"Список!C351","v":"Arsenal"},{"$f":"Список!D351","v":"Fulham"},{"$f":"Список!A351","v":"ENGLAND: Premier League"},{"$f":"Список!B351","v":"2021.04.18 14:30"}]
[{"$f":"Список!C352","v":"Debrecen II"},{"$f":"Список!D352","v":"Mezokovesd-Zsory II"},{"$f":"Список!A352","v":"HUNGARY: NB III - East"},{"$f":"Список!B352","v":"2021.04.18 14:30"}]
[{"$f":"Список!C353","v":"Lanusei Calcio"},{"$f":"Список!D353","v":"Gladiator"},{"$f":"Список!A353","v":"ITALY: Serie D - Group G"},{"$f":"Список!B353","v":"2021.04.18 14:30"}]
[{"$f":"Список!C354","v":"Blue Eagles"},{"$f":"Список!D354","v":"Ekwendeni Hammers"},{"$f":"Список!A354","v":"MALAWI: Super League"},{"$f":"Список!B354","v":"2021.04.18 14:30"}]
[{"$f":"Список!C355","v":"Blue Eagles"},{"$f":"Список!D355","v":"Mighty Wanderers"},{"$f":"Список!A355","v":"MALAWI: Super League"},{"$f":"Список!B355","v":"2021.04.18 14:30"}]
[{"$f":"Список!C356","v":"Chitipa United"},{"$f":"Список!D356","v":"Mighty Tigers"},{"$f":"Список!A356","v":"MALAWI: Super League"},{"$f":"Список!B356","v":"2021.04.18 14:30"}]
[{"$f":"Список!C357","v":"Mzuni"},{"$f":"Список!D357","v":"MAFCO"},{"$f":"Список!A357","v":"MALAWI: Super League"},{"$f":"Список!B357","v":"2021.04.18 14:30"}]
[{"$f":"Список!C358","v":"Ntopwa"},{"$f":"Список!D358","v":"Silver"},{"$f":"Список!A358","v":"MALAWI: Super League"},{"$f":"Список!B358","v":"2021.04.18 14:30"}]
[{"$f":"Список!C359","v":"Lion City"},{"$f":"Список!D359","v":"Balestier Khalsa"},{"$f":"Список!A359","v":"SINGAPORE: Premier League"},{"$f":"Список!B359","v":"2021.04.18 14:30"}]
[{"$f":"Список!C360","v":"Munsingen"},{"$f":"Список!D360","v":"Bavois"},{"$f":"Список!A360","v":"SWITZERLAND: Promotion League"},{"$f":"Список!B360","v":"2021.04.18 14:30"}]
[{"$f":"Список!C361","v":"Esperance Tunis"},{"$f":"Список!D361","v":"JS Kairouan"},{"$f":"Список!A361","v":"TUNISIA: Ligue Professionnelle 1"},{"$f":"Список!B361","v":"2021.04.18 14:30"}]
[{"$f":"Список!C362","v":"Sfaxien"},{"$f":"Список!D362","v":"Etoile Sahel"},{"$f":"Список!A362","v":"TUNISIA: Ligue Professionnelle 1"},{"$f":"Список!B362","v":"2021.04.18 14:30"}]
[{"$f":"Список!C363","v":"Gabes"},{"$f":"Список!D363","v":"Hamam-Sousse"},{"$f":"Список!A363","v":"TUNISIA: Ligue 2 - Promotion Group"},{"$f":"Список!B363","v":"2021.04.18 14:30"}]
[{"$f":"Список!C364","v":"Zarzis"},{"$f":"Список!D364","v":"SS Sfaxien"},{"$f":"Список!A364","v":"TUNISIA: Ligue 2 - Promotion Group"},{"$f":"Список!B364","v":"2021.04.18 14:30"}]
[{"$f":"Список!C365","v":"Rukh Brest"},{"$f":"Список!D365","v":"Smorgon"},{"$f":"Список!A365","v":"BELARUS: Vysshaya Liga"},{"$f":"Список!B365","v":"2021.04.18 15:00"}]
[{"$f":"Список!C366","v":"Krumkachy"},{"$f":"Список!D366","v":"Lokomotiv Gomel"},{"$f":"Список!A366","v":"BELARUS: Pershaya Liga"},{"$f":"Список!B366","v":"2021.04.18 15:00"}]
[{"$f":"Список!C367","v":"Olimpik Sarajevo"},{"$f":"Список!D367","v":"Zrinjski"},{"$f":"Список!A367","v":"BOSNIA AND HERZEGOVINA: Premier League"},{"$f":"Список!B367","v":"2021.04.18 15:00"}]
[{"$f":"Список!C368","v":"Acao"},{"$f":"Список!D368","v":"Uniao Rondonopolis"},{"$f":"Список!A368","v":"BRAZIL: Campeonato Matogrossense"},{"$f":"Список!B368","v":"2021.04.18 15:00"}]
[{"$f":"Список!C369","v":"Luverdense"},{"$f":"Список!D369","v":"Pocone"},{"$f":"Список!A369","v":"BRAZIL: Campeonato Matogrossense"},{"$f":"Список!B369","v":"2021.04.18 15:00"}]
[{"$f":"Список!C370","v":"Operario VG"},{"$f":"Список!D370","v":"Gremio Sorriso"},{"$f":"Список!A370","v":"BRAZIL: Campeonato Matogrossense"},{"$f":"Список!B370","v":"2021.04.18 15:00"}]
[{"$f":"Список!C371","v":"Sinop"},{"$f":"Список!D371","v":"Nova Mutum"},{"$f":"Список!A371","v":"BRAZIL: Campeonato Matogrossense"},{"$f":"Список!B371","v":"2021.04.18 15:00"}]
[{"$f":"Список!C372","v":"Uberlandia"},{"$f":"Список!D372","v":"Tombense"},{"$f":"Список!A372","v":"BRAZIL: Campeonato Mineiro"},{"$f":"Список!B372","v":"2021.04.18 15:00"}]
[{"$f":"Список!C373","v":"Bragantino"},{"$f":"Список!D373","v":"Paragominas"},{"$f":"Список!A373","v":"BRAZIL: Campeonato Paraense"},{"$f":"Список!B373","v":"2021.04.18 15:00"}]
[{"$f":"Список!C374","v":"Dobrich"},{"$f":"Список!D374","v":"Botev Novi Pazar"},{"$f":"Список!A374","v":"BULGARIA: Third League - North-East"},{"$f":"Список!B374","v":"2021.04.18 15:00"}]
[{"$f":"Список!C375","v":"Spartak"},{"$f":"Список!D375","v":"Topolite"},{"$f":"Список!A375","v":"BULGARIA: Third League - North-East"},{"$f":"Список!B375","v":"2021.04.18 15:00"}]
[{"$f":"Список!C376","v":"Sportist Toshevo"},{"$f":"Список!D376","v":"Ludogorets III"},{"$f":"Список!A376","v":"BULGARIA: Third League - North-East"},{"$f":"Список!B376","v":"2021.04.18 15:00"}]
[{"$f":"Список!C377","v":"Alki Oroklini"},{"$f":"Список!D377","v":"Thoi Lakatamias"},{"$f":"Список!A377","v":"CYPRUS: Division 2"},{"$f":"Список!B377","v":"2021.04.18 15:00"}]
[{"$f":"Список!C378","v":"Omonia Psevda"},{"$f":"Список!D378","v":"Chloraka"},{"$f":"Список!A378","v":"CYPRUS: Division 2"},{"$f":"Список!B378","v":"2021.04.18 15:00"}]
[{"$f":"Список!C379","v":"Vysehrad"},{"$f":"Список!D379","v":"Prostejov"},{"$f":"Список!A379","v":"CZECH REPUBLIC: Division 2"},{"$f":"Список!B379","v":"2021.04.18 15:00"}]
[{"$f":"Список!C380","v":"Arsenal W"},{"$f":"Список!D380","v":"Gillingham W"},{"$f":"Список!A380","v":"ENGLAND: Women’s FA Cup"},{"$f":"Список!B380","v":"2021.04.18 15:00"}]
[{"$f":"Список!C381","v":"Brighton W"},{"$f":"Список!D381","v":"Bristol City W"},{"$f":"Список!A381","v":"ENGLAND: Women’s FA Cup"},{"$f":"Список!B381","v":"2021.04.18 15:00"}]
[{"$f":"Список!C382","v":"Burnley W"},{"$f":"Список!D382","v":"Manchester Utd W"},{"$f":"Список!A382","v":"ENGLAND: Women’s FA Cup"},{"$f":"Список!B382","v":"2021.04.18 15:00"}]
[{"$f":"Список!C383","v":"Crystal Palace W"},{"$f":"Список!D383","v":"London Bees W"},{"$f":"Список!A383","v":"ENGLAND: Women’s FA Cup"},{"$f":"Список!B383","v":"2021.04.18 15:00"}]
[{"$f":"Список!C384","v":"Everton W"},{"$f":"Список!D384","v":"Durham W"},{"$f":"Список!A384","v":"ENGLAND: Women’s FA Cup"},{"$f":"Список!B384","v":"2021.04.18 15:00"}]
[{"$f":"Список!C385","v":"Huddersfield W"},{"$f":"Список!D385","v":"Derby W"},{"$f":"Список!A385","v":"ENGLAND: Women’s FA Cup"},{"$f":"Список!B385","v":"2021.04.18 15:00"}]
[{"$f":"Список!C386","v":"Leicester W"},{"$f":"Список!D386","v":"Liverpool W"},{"$f":"Список!A386","v":"ENGLAND: Women’s FA Cup"},{"$f":"Список!B386","v":"2021.04.18 15:00"}]
[{"$f":"Список!C387","v":"Lewes W"},{"$f":"Список!D387","v":"Southampton W"},{"$f":"Список!A387","v":"ENGLAND: Women’s FA Cup"},{"$f":"Список!B387","v":"2021.04.18 15:00"}]
[{"$f":"Список!C388","v":"Middlesbrough W"},{"$f":"Список!D388","v":"Sheffield Utd W"},{"$f":"Список!A388","v":"ENGLAND: Women’s FA Cup"},{"$f":"Список!B388","v":"2021.04.18 15:00"}]
[{"$f":"Список!C389","v":"Oxford Utd W"},{"$f":"Список!D389","v":"Charlton W"},{"$f":"Список!A389","v":"ENGLAND: Women’s FA Cup"},{"$f":"Список!B389","v":"2021.04.18 15:00"}]
[{"$f":"Список!C390","v":"Reading W"},{"$f":"Список!D390","v":"Tottenham W"},{"$f":"Список!A390","v":"ENGLAND: Women’s FA Cup"},{"$f":"Список!B390","v":"2021.04.18 15:00"}]
[{"$f":"Список!C391","v":"Sidama Bunna"},{"$f":"Список!D391","v":"Fasil Ketema"},{"$f":"Список!A391","v":"ETHIOPIA: Premier League"},{"$f":"Список!B391","v":"2021.04.18 15:00"}]
[{"$f":"Список!C392","v":"Gvardeyets"},{"$f":"Список!D392","v":"Kyzyltash"},{"$f":"Список!A392","v":"EUROPE: Premier League (Crimea)"},{"$f":"Список!B392","v":"2021.04.18 15:00"}]
[{"$f":"Список!C393","v":"SKCHF Sevastopol"},{"$f":"Список!D393","v":"TSK Simferopol"},{"$f":"Список!A393","v":"EUROPE: Premier League (Crimea)"},{"$f":"Список!B393","v":"2021.04.18 15:00"}]
[{"$f":"Список!C394","v":"Sandur"},{"$f":"Список!D394","v":"Undri"},{"$f":"Список!A394","v":"FAROE ISLANDS: Faroe Islands Cup"},{"$f":"Список!B394","v":"2021.04.18 15:00"}]
[{"$f":"Список!C395","v":"TB Tvoroyri"},{"$f":"Список!D395","v":"HB Torshavn"},{"$f":"Список!A395","v":"FAROE ISLANDS: Faroe Islands Cup"},{"$f":"Список!B395","v":"2021.04.18 15:00"}]
[{"$f":"Список!C396","v":"Honka W"},{"$f":"Список!D396","v":"Ilves W"},{"$f":"Список!A396","v":"FINLAND: Kansallinen Liiga Women"},{"$f":"Список!B396","v":"2021.04.18 15:00"}]
[{"$f":"Список!C397","v":"Brest"},{"$f":"Список!D397","v":"Lens"},{"$f":"Список!A397","v":"FRANCE: Ligue 1"},{"$f":"Список!B397","v":"2021.04.18 15:00"}]
[{"$f":"Список!C398","v":"Dijon"},{"$f":"Список!D398","v":"Nice"},{"$f":"Список!A398","v":"FRANCE: Ligue 1"},{"$f":"Список!B398","v":"2021.04.18 15:00"}]
[{"$f":"Список!C399","v":"Nimes"},{"$f":"Список!D399","v":"Strasbourg"},{"$f":"Список!A399","v":"FRANCE: Ligue 1"},{"$f":"Список!B399","v":"2021.04.18 15:00"}]
[{"$f":"Список!C400","v":"Reims"},{"$f":"Список!D400","v":"Metz"},{"$f":"Список!A400","v":"FRANCE: Ligue 1"},{"$f":"Список!B400","v":"2021.04.18 15:00"}]
[{"$f":"Список!C401","v":"Wehen"},{"$f":"Список!D401","v":"Unterhaching"},{"$f":"Список!A401","v":"GERMANY: 3. Liga"},{"$f":"Список!B401","v":"2021.04.18 15:00"}]
[{"$f":"Список!C402","v":"Astra Hungary W"},{"$f":"Список!D402","v":"Ferencvaros W"},{"$f":"Список!A402","v":"HUNGARY: NB I Women"},{"$f":"Список!B402","v":"2021.04.18 15:00"}]
[{"$f":"Список!C403","v":"Baghdad"},{"$f":"Список!D403","v":"Alsinaat Alkahrabaiya"},{"$f":"Список!A403","v":"IRAQ: Super League"},{"$f":"Список!B403","v":"2021.04.18 15:00"}]
[{"$f":"Список!C404","v":"Treaty Utd W"},{"$f":"Список!D404","v":"Wexford Youths Football Club W"},{"$f":"Список!A404","v":"IRELAND: National League Women"},{"$f":"Список!B404","v":"2021.04.18 15:00"}]
[{"$f":"Список!C405","v":"Atalanta"},{"$f":"Список!D405","v":"Juventus"},{"$f":"Список!A405","v":"ITALY: Serie A"},{"$f":"Список!B405","v":"2021.04.18 15:00"}]
[{"$f":"Список!C406","v":"Bologna"},{"$f":"Список!D406","v":"Spezia"},{"$f":"Список!A406","v":"ITALY: Serie A"},{"$f":"Список!B406","v":"2021.04.18 15:00"}]
[{"$f":"Список!C407","v":"Lazio"},{"$f":"Список!D407","v":"Benevento"},{"$f":"Список!A407","v":"ITALY: Serie A"},{"$f":"Список!B407","v":"2021.04.18 15:00"}]
[{"$f":"Список!C408","v":"Lecco"},{"$f":"Список!D408","v":"Olbia"},{"$f":"Список!A408","v":"ITALY: Serie C - Group A"},{"$f":"Список!B408","v":"2021.04.18 15:00"}]
[{"$f":"Список!C409","v":"Gubbio"},{"$f":"Список!D409","v":"Mantova"},{"$f":"Список!A409","v":"ITALY: Serie C - Group B"},{"$f":"Список!B409","v":"2021.04.18 15:00"}]
[{"$f":"Список!C410","v":"Legnago Salus"},{"$f":"Список!D410","v":"Arezzo"},{"$f":"Список!A410","v":"ITALY: Serie C - Group B"},{"$f":"Список!B410","v":"2021.04.18 15:00"}]
[{"$f":"Список!C411","v":"Matelica"},{"$f":"Список!D411","v":"Fano"},{"$f":"Список!A411","v":"ITALY: Serie C - Group B"},{"$f":"Список!B411","v":"2021.04.18 15:00"}]
[{"$f":"Список!C412","v":"Virtus Verona"},{"$f":"Список!D412","v":"Sambenedettese"},{"$f":"Список!A412","v":"ITALY: Serie C - Group B"},{"$f":"Список!B412","v":"2021.04.18 15:00"}]
[{"$f":"Список!C413","v":"Bari"},{"$f":"Список!D413","v":"Palermo"},{"$f":"Список!A413","v":"ITALY: Serie C - Group C"},{"$f":"Список!B413","v":"2021.04.18 15:00"}]
[{"$f":"Список!C414","v":"Foggia"},{"$f":"Список!D414","v":"Paganese"},{"$f":"Список!A414","v":"ITALY: Serie C - Group C"},{"$f":"Список!B414","v":"2021.04.18 15:00"}]
[{"$f":"Список!C415","v":"Virtus Francavilla"},{"$f":"Список!D415","v":"Viterbese"},{"$f":"Список!A415","v":"ITALY: Serie C - Group C"},{"$f":"Список!B415","v":"2021.04.18 15:00"}]
[{"$f":"Список!C416","v":"Borgosesia"},{"$f":"Список!D416","v":"Saluzzo"},{"$f":"Список!A416","v":"ITALY: Serie D - Group A"},{"$f":"Список!B416","v":"2021.04.18 15:00"}]
[{"$f":"Список!C417","v":"Bra"},{"$f":"Список!D417","v":"Castellanzese"},{"$f":"Список!A417","v":"ITALY: Serie D - Group A"},{"$f":"Список!B417","v":"2021.04.18 15:00"}]
[{"$f":"Список!C418","v":"Caronnese"},{"$f":"Список!D418","v":"Sanremese"},{"$f":"Список!A418","v":"ITALY: Serie D - Group A"},{"$f":"Список!B418","v":"2021.04.18 15:00"}]
[{"$f":"Список!C419","v":"Citta di Varese"},{"$f":"Список!D419","v":"Lavagnese"},{"$f":"Список!A419","v":"ITALY: Serie D - Group A"},{"$f":"Список!B419","v":"2021.04.18 15:00"}]
[{"$f":"Список!C420","v":"Folgore Caratese"},{"$f":"Список!D420","v":"Vado"},{"$f":"Список!A420","v":"ITALY: Serie D - Group A"},{"$f":"Список!B420","v":"2021.04.18 15:00"}]
[{"$f":"Список!C421","v":"HSL Derthona"},{"$f":"Список!D421","v":"Gozzano"},{"$f":"Список!A421","v":"ITALY: Serie D - Group A"},{"$f":"Список!B421","v":"2021.04.18 15:00"}]
[{"$f":"Список!C422","v":"Imperia"},{"$f":"Список!D422","v":"Casale"},{"$f":"Список!A422","v":"ITALY: Serie D - Group A"},{"$f":"Список!B422","v":"2021.04.18 15:00"}]
[{"$f":"Список!C423","v":"PDHA"},{"$f":"Список!D423","v":"Arconatese"},{"$f":"Список!A423","v":"ITALY: Serie D - Group A"},{"$f":"Список!B423","v":"2021.04.18 15:00"}]
[{"$f":"Список!C424","v":"Sestri Levante"},{"$f":"Список!D424","v":"Legnano"},{"$f":"Список!A424","v":"ITALY: Serie D - Group A"},{"$f":"Список!B424","v":"2021.04.18 15:00"}]
[{"$f":"Список!C425","v":"Brusaporto"},{"$f":"Список!D425","v":"Vis Nova Giussano"},{"$f":"Список!A425","v":"ITALY: Serie D - Group B"},{"$f":"Список!B425","v":"2021.04.18 15:00"}]
[{"$f":"Список!C426","v":"Calvina"},{"$f":"Список!D426","v":"Crema"},{"$f":"Список!A426","v":"ITALY: Serie D - Group B"},{"$f":"Список!B426","v":"2021.04.18 15:00"}]
[{"$f":"Список!C427","v":"Ciserano-Bergamo"},{"$f":"Список!D427","v":"Fanfulla"},{"$f":"Список!A427","v":"ITALY: Serie D - Group B"},{"$f":"Список!B427","v":"2021.04.18 15:00"}]
[{"$f":"Список!C428","v":"Franciacorta"},{"$f":"Список!D428","v":"Ponte San Pietro"},{"$f":"Список!A428","v":"ITALY: Serie D - Group B"},{"$f":"Список!B428","v":"2021.04.18 15:00"}]
[{"$f":"Список!C429","v":"Real Calepina"},{"$f":"Список!D429","v":"Breno"},{"$f":"Список!A429","v":"ITALY: Serie D - Group B"},{"$f":"Список!B429","v":"2021.04.18 15:00"}]
[{"$f":"Список!C430","v":"Scanzorosciate"},{"$f":"Список!D430","v":"NibionnOggiono"},{"$f":"Список!A430","v":"ITALY: Serie D - Group B"},{"$f":"Список!B430","v":"2021.04.18 15:00"}]
[{"$f":"Список!C431","v":"Seregno"},{"$f":"Список!D431","v":"Caravaggio"},{"$f":"Список!A431","v":"ITALY: Serie D - Group B"},{"$f":"Список!B431","v":"2021.04.18 15:00"}]
[{"$f":"Список!C432","v":"USD Casatese"},{"$f":"Список!D432","v":"Sona"},{"$f":"Список!A432","v":"ITALY: Serie D - Group B"},{"$f":"Список!B432","v":"2021.04.18 15:00"}]
[{"$f":"Список!C433","v":"Villa Alme"},{"$f":"Список!D433","v":"Tritium"},{"$f":"Список!A433","v":"ITALY: Serie D - Group B"},{"$f":"Список!B433","v":"2021.04.18 15:00"}]
[{"$f":"Список!C434","v":"Adriese"},{"$f":"Список!D434","v":"Delta Porto Tolle"},{"$f":"Список!A434","v":"ITALY: Serie D - Group C"},{"$f":"Список!B434","v":"2021.04.18 15:00"}]
[{"$f":"Список!C435","v":"Caldiero Terme"},{"$f":"Список!D435","v":"Ambrosiana"},{"$f":"Список!A435","v":"ITALY: Serie D - Group C"},{"$f":"Список!B435","v":"2021.04.18 15:00"}]
[{"$f":"Список!C436","v":"Campodarsego"},{"$f":"Список!D436","v":"ArzignanoChiampo"},{"$f":"Список!A436","v":"ITALY: Serie D - Group C"},{"$f":"Список!B436","v":"2021.04.18 15:00"}]
[{"$f":"Список!C437","v":"Cartigliano"},{"$f":"Список!D437","v":"Chions"},{"$f":"Список!A437","v":"ITALY: Serie D - Group C"},{"$f":"Список!B437","v":"2021.04.18 15:00"}]
[{"$f":"Список!C438","v":"Luparense"},{"$f":"Список!D438","v":"Belluno"},{"$f":"Список!A438","v":"ITALY: Serie D - Group C"},{"$f":"Список!B438","v":"2021.04.18 15:00"}]
[{"$f":"Список!C439","v":"Manzanese"},{"$f":"Список!D439","v":"Este"},{"$f":"Список!A439","v":"ITALY: Serie D - Group C"},{"$f":"Список!B439","v":"2021.04.18 15:00"}]
[{"$f":"Список!C440","v":"Mestre"},{"$f":"Список!D440","v":"Feltre"},{"$f":"Список!A440","v":"ITALY: Serie D - Group C"},{"$f":"Список!B440","v":"2021.04.18 15:00"}]
[{"$f":"Список!C441","v":"Montebelluna"},{"$f":"Список!D441","v":"Trento"},{"$f":"Список!A441","v":"ITALY: Serie D - Group C"},{"$f":"Список!B441","v":"2021.04.18 15:00"}]
[{"$f":"Список!C442","v":"San Giorgio-Sedico"},{"$f":"Список!D442","v":"Union Clodiense"},{"$f":"Список!A442","v":"ITALY: Serie D - Group C"},{"$f":"Список!B442","v":"2021.04.18 15:00"}]
[{"$f":"Список!C443","v":"Aglianese Calcio"},{"$f":"Список!D443","v":"SCD Progresso"},{"$f":"Список!A443","v":"ITALY: Serie D - Group D"},{"$f":"Список!B443","v":"2021.04.18 15:00"}]
[{"$f":"Список!C444","v":"Corticella"},{"$f":"Список!D444","v":"Sammaurese"},{"$f":"Список!A444","v":"ITALY: Serie D - Group D"},{"$f":"Список!B444","v":"2021.04.18 15:00"}]
[{"$f":"Список!C445","v":"Fiorenzuola"},{"$f":"Список!D445","v":"Rimini"},{"$f":"Список!A445","v":"ITALY: Serie D - Group D"},{"$f":"Список!B445","v":"2021.04.18 15:00"}]
[{"$f":"Список!C446","v":"Forli"},{"$f":"Список!D446","v":"Ghivizzano Borgo"},{"$f":"Список!A446","v":"ITALY: Serie D - Group D"},{"$f":"Список!B446","v":"2021.04.18 15:00"}]
[{"$f":"Список!C447","v":"G.S. Bagnolese"},{"$f":"Список!D447","v":"Lentigione"},{"$f":"Список!A447","v":"ITALY: Serie D - Group D"},{"$f":"Список!B447","v":"2021.04.18 15:00"}]
[{"$f":"Список!C448","v":"Marignanese"},{"$f":"Список!D448","v":"Real Forte Querceta"},{"$f":"Список!A448","v":"ITALY: Serie D - Group D"},{"$f":"Список!B448","v":"2021.04.18 15:00"}]
[{"$f":"Список!C449","v":"Prato"},{"$f":"Список!D449","v":"Sasso Marconi"},{"$f":"Список!A449","v":"ITALY: Serie D - Group D"},{"$f":"Список!B449","v":"2021.04.18 15:00"}]
[{"$f":"Список!C450","v":"Seravezza Pozzi"},{"$f":"Список!D450","v":"Correggese"},{"$f":"Список!A450","v":"ITALY: Serie D - Group D"},{"$f":"Список!B450","v":"2021.04.18 15:00"}]
[{"$f":"Список!C451","v":"ACN Siena"},{"$f":"Список!D451","v":"Lornano Badesse"},{"$f":"Список!A451","v":"ITALY: Serie D - Group E"},{"$f":"Список!B451","v":"2021.04.18 15:00"}]
[{"$f":"Список!C452","v":"Flaminia"},{"$f":"Список!D452","v":"Cannara"},{"$f":"Список!A452","v":"ITALY: Serie D - Group E"},{"$f":"Список!B452","v":"2021.04.18 15:00"}]
[{"$f":"Список!C453","v":"Foligno"},{"$f":"Список!D453","v":"Trestina"},{"$f":"Список!A453","v":"ITALY: Serie D - Group E"},{"$f":"Список!B453","v":"2021.04.18 15:00"}]
[{"$f":"Список!C454","v":"Ostia Mare"},{"$f":"Список!D454","v":"Montespaccato"},{"$f":"Список!A454","v":"ITALY: Serie D - Group E"},{"$f":"Список!B454","v":"2021.04.18 15:00"}]
[{"$f":"Список!C455","v":"Pianese"},{"$f":"Список!D455","v":"San Donato"},{"$f":"Список!A455","v":"ITALY: Serie D - Group E"},{"$f":"Список!B455","v":"2021.04.18 15:00"}]
[{"$f":"Список!C456","v":"Sangiovannese"},{"$f":"Список!D456","v":"Scandicci"},{"$f":"Список!A456","v":"ITALY: Serie D - Group E"},{"$f":"Список!B456","v":"2021.04.18 15:00"}]
[{"$f":"Список!C457","v":"Tiferno Lerchi"},{"$f":"Список!D457","v":"Grassina"},{"$f":"Список!A457","v":"ITALY: Serie D - Group E"},{"$f":"Список!B457","v":"2021.04.18 15:00"}]
[{"$f":"Список!C458","v":"Trastevere Calcio"},{"$f":"Список!D458","v":"Montevarchi Calcio"},{"$f":"Список!A458","v":"ITALY: Serie D - Group E"},{"$f":"Список!B458","v":"2021.04.18 15:00"}]
[{"$f":"Список!C459","v":"UC Sinalunghese"},{"$f":"Список!D459","v":"Follonica Gavorrano"},{"$f":"Список!A459","v":"ITALY: Serie D - Group E"},{"$f":"Список!B459","v":"2021.04.18 15:00"}]
[{"$f":"Список!C460","v":"Agnonese"},{"$f":"Список!D460","v":"Porto Sant'Elpidio"},{"$f":"Список!A460","v":"ITALY: Serie D - Group F"},{"$f":"Список!B460","v":"2021.04.18 15:00"}]
[{"$f":"Список!C461","v":"Aprilia"},{"$f":"Список!D461","v":"Recanatese"},{"$f":"Список!A461","v":"ITALY: Serie D - Group F"},{"$f":"Список!B461","v":"2021.04.18 15:00"}]
[{"$f":"Список!C462","v":"ASD Pineto Calcio"},{"$f":"Список!D462","v":"Rieti"},{"$f":"Список!A462","v":"ITALY: Serie D - Group F"},{"$f":"Список!B462","v":"2021.04.18 15:00"}]
[{"$f":"Список!C463","v":"Campobasso"},{"$f":"Список!D463","v":"Vastese"},{"$f":"Список!A463","v":"ITALY: Serie D - Group F"},{"$f":"Список!B463","v":"2021.04.18 15:00"}]
[{"$f":"Список!C464","v":"Castelnuovo Vomano"},{"$f":"Список!D464","v":"Cynthialbalonga"},{"$f":"Список!A464","v":"ITALY: Serie D - Group F"},{"$f":"Список!B464","v":"2021.04.18 15:00"}]
[{"$f":"Список!C465","v":"Fiuggi"},{"$f":"Список!D465","v":"Giulianova"},{"$f":"Список!A465","v":"ITALY: Serie D - Group F"},{"$f":"Список!B465","v":"2021.04.18 15:00"}]
[{"$f":"Список!C466","v":"Matese"},{"$f":"Список!D466","v":"S. N. Notaresco"},{"$f":"Список!A466","v":"ITALY: Serie D - Group F"},{"$f":"Список!B466","v":"2021.04.18 15:00"}]
[{"$f":"Список!C467","v":"Montegiorgio"},{"$f":"Список!D467","v":"US Tolentino"},{"$f":"Список!A467","v":"ITALY: Serie D - Group F"},{"$f":"Список!B467","v":"2021.04.18 15:00"}]
[{"$f":"Список!C468","v":"Afragolese"},{"$f":"Список!D468","v":"SS Nola 1925"},{"$f":"Список!A468","v":"ITALY: Serie D - Group G"},{"$f":"Список!B468","v":"2021.04.18 15:00"}]
[{"$f":"Список!C469","v":"Cassino"},{"$f":"Список!D469","v":"Latte Dolce"},{"$f":"Список!A469","v":"ITALY: Serie D - Group G"},{"$f":"Список!B469","v":"2021.04.18 15:00"}]
[{"$f":"Список!C470","v":"Monterosi FC"},{"$f":"Список!D470","v":"Insieme Formia"},{"$f":"Список!A470","v":"ITALY: Serie D - Group G"},{"$f":"Список!B470","v":"2021.04.18 15:00"}]
[{"$f":"Список!C471","v":"Savoia"},{"$f":"Список!D471","v":"Calcio Giugliano"},{"$f":"Список!A471","v":"ITALY: Serie D - Group G"},{"$f":"Список!B471","v":"2021.04.18 15:00"}]
[{"$f":"Список!C472","v":"Torres"},{"$f":"Список!D472","v":"Nuova Florida"},{"$f":"Список!A472","v":"ITALY: Serie D - Group G"},{"$f":"Список!B472","v":"2021.04.18 15:00"}]
[{"$f":"Список!C473","v":"A.C.D. Nardo"},{"$f":"Список!D473","v":"Portici 1906"},{"$f":"Список!A473","v":"ITALY: Serie D - Group H"},{"$f":"Список!B473","v":"2021.04.18 15:00"}]
[{"$f":"Список!C474","v":"Brindisi"},{"$f":"Список!D474","v":"Francavilla"},{"$f":"Список!A474","v":"ITALY: Serie D - Group H"},{"$f":"Список!B474","v":"2021.04.18 15:00"}]
[{"$f":"Список!C475","v":"Casarano"},{"$f":"Список!D475","v":"Molfetta Calcio"},{"$f":"Список!A475","v":"ITALY: Serie D - Group H"},{"$f":"Список!B475","v":"2021.04.18 15:00"}]
[{"$f":"Список!C476","v":"Citta di Fasano"},{"$f":"Список!D476","v":"Taranto"},{"$f":"Список!A476","v":"ITALY: Serie D - Group H"},{"$f":"Список!B476","v":"2021.04.18 15:00"}]
[{"$f":"Список!C477","v":"Gravina"},{"$f":"Список!D477","v":"Fidelis Andria"},{"$f":"Список!A477","v":"ITALY: Serie D - Group H"},{"$f":"Список!B477","v":"2021.04.18 15:00"}]
[{"$f":"Список!C478","v":"Picerno"},{"$f":"Список!D478","v":"Bitonto"},{"$f":"Список!A478","v":"ITALY: Serie D - Group H"},{"$f":"Список!B478","v":"2021.04.18 15:00"}]
[{"$f":"Список!C479","v":"Puteolana"},{"$f":"Список!D479","v":"Lavello"},{"$f":"Список!A479","v":"ITALY: Serie D - Group H"},{"$f":"Список!B479","v":"2021.04.18 15:00"}]
[{"$f":"Список!C480","v":"Real Aversa"},{"$f":"Список!D480","v":"Altamura"},{"$f":"Список!A480","v":"ITALY: Serie D - Group H"},{"$f":"Список!B480","v":"2021.04.18 15:00"}]
[{"$f":"Список!C481","v":"Sorrento"},{"$f":"Список!D481","v":"Audace Cerignola"},{"$f":"Список!A481","v":"ITALY: Serie D - Group H"},{"$f":"Список!B481","v":"2021.04.18 15:00"}]
[{"$f":"Список!C482","v":"Castrovillari"},{"$f":"Список!D482","v":"Marina di Ragusa"},{"$f":"Список!A482","v":"ITALY: Serie D - Group I"},{"$f":"Список!B482","v":"2021.04.18 15:00"}]
[{"$f":"Список!C483","v":"Dattilo"},{"$f":"Список!D483","v":"Rende"},{"$f":"Список!A483","v":"ITALY: Serie D - Group I"},{"$f":"Список!B483","v":"2021.04.18 15:00"}]
[{"$f":"Список!C484","v":"FC Messina"},{"$f":"Список!D484","v":"Biancavilla"},{"$f":"Список!A484","v":"ITALY: Serie D - Group I"},{"$f":"Список!B484","v":"2021.04.18 15:00"}]
[{"$f":"Список!C485","v":"Gelbison Cilento"},{"$f":"Список!D485","v":"Cittanovese"},{"$f":"Список!A485","v":"ITALY: Serie D - Group I"},{"$f":"Список!B485","v":"2021.04.18 15:00"}]
[{"$f":"Список!C486","v":"Paterno"},{"$f":"Список!D486","v":"ACR Messina"},{"$f":"Список!A486","v":"ITALY: Serie D - Group I"},{"$f":"Список!B486","v":"2021.04.18 15:00"}]
[{"$f":"Список!C487","v":"Roccella"},{"$f":"Список!D487","v":"S. Agata"},{"$f":"Список!A487","v":"ITALY: Serie D - Group I"},{"$f":"Список!B487","v":"2021.04.18 15:00"}]
[{"$f":"Список!C488","v":"Rotonda"},{"$f":"Список!D488","v":"AS Acireale"},{"$f":"Список!A488","v":"ITALY: Serie D - Group I"},{"$f":"Список!B488","v":"2021.04.18 15:00"}]
[{"$f":"Список!C489","v":"San Luca"},{"$f":"Список!D489","v":"Troina"},{"$f":"Список!A489","v":"ITALY: Serie D - Group I"},{"$f":"Список!B489","v":"2021.04.18 15:00"}]
[{"$f":"Список!C490","v":"Lazio U19"},{"$f":"Список!D490","v":"Sassuolo U19"},{"$f":"Список!A490","v":"ITALY: Primavera 1"},{"$f":"Список!B490","v":"2021.04.18 15:00"}]
[{"$f":"Список!C491","v":"San Marino Academy W"},{"$f":"Список!D491","v":"Verona W"},{"$f":"Список!A491","v":"ITALY: Serie A Women"},{"$f":"Список!B491","v":"2021.04.18 15:00"}]
[{"$f":"Список!C492","v":"Cesena W"},{"$f":"Список!D492","v":"Brescia W"},{"$f":"Список!A492","v":"ITALY: Serie B Women"},{"$f":"Список!B492","v":"2021.04.18 15:00"}]
[{"$f":"Список!C493","v":"Chievo Verona W"},{"$f":"Список!D493","v":"Tavagnacco W"},{"$f":"Список!A493","v":"ITALY: Serie B Women"},{"$f":"Список!B493","v":"2021.04.18 15:00"}]
[{"$f":"Список!C494","v":"Cittadella W"},{"$f":"Список!D494","v":"Pontedera W"},{"$f":"Список!A494","v":"ITALY: Serie B Women"},{"$f":"Список!B494","v":"2021.04.18 15:00"}]
[{"$f":"Список!C495","v":"Pomigliano W"},{"$f":"Список!D495","v":"Riozzese Como W"},{"$f":"Список!A495","v":"ITALY: Serie B Women"},{"$f":"Список!B495","v":"2021.04.18 15:00"}]
[{"$f":"Список!C496","v":"Ravenna W"},{"$f":"Список!D496","v":"Vicenza W"},{"$f":"Список!A496","v":"ITALY: Serie B Women"},{"$f":"Список!B496","v":"2021.04.18 15:00"}]
[{"$f":"Список!C497","v":"Roma CF W"},{"$f":"Список!D497","v":"Perugia W"},{"$f":"Список!A497","v":"ITALY: Serie B Women"},{"$f":"Список!B497","v":"2021.04.18 15:00"}]
[{"$f":"Список!C498","v":"Kaisar Kyzylorda"},{"$f":"Список!D498","v":"Atyrau"},{"$f":"Список!A498","v":"KAZAKHSTAN: Premier League"},{"$f":"Список!B498","v":"2021.04.18 15:00"}]
[{"$f":"Список!C499","v":"Feronikeli"},{"$f":"Список!D499","v":"FC Ballkani"},{"$f":"Список!A499","v":"KOSOVO: Superliga"},{"$f":"Список!B499","v":"2021.04.18 15:00"}]
[{"$f":"Список!C500","v":"Trepca 89"},{"$f":"Список!D500","v":"Drita"},{"$f":"Список!A500","v":"KOSOVO: Superliga"},{"$f":"Список!B500","v":"2021.04.18 15:00"}]
[{"$f":"Список!C501","v":"Policia"},{"$f":"Список!D501","v":"Casa de Portugal"},{"$f":"Список!A501","v":"MACAO: Elite League"},{"$f":"Список!B501","v":"2021.04.18 15:00"}]
[{"$f":"Список!C502","v":"Wisla Plock"},{"$f":"Список!D502","v":"Jagiellonia"},{"$f":"Список!A502","v":"POLAND: Ekstraklasa"},{"$f":"Список!B502","v":"2021.04.18 15:00"}]
[{"$f":"Список!C503","v":"Chelmianka Chelm"},{"$f":"Список!D503","v":"S. Wola"},{"$f":"Список!A503","v":"POLAND: III Liga - Group IV"},{"$f":"Список!B503","v":"2021.04.18 15:00"}]
[{"$f":"Список!C504","v":"Penafiel"},{"$f":"Список!D504","v":"CD Cova da Piedade"},{"$f":"Список!A504","v":"PORTUGAL: Liga Portugal 2"},{"$f":"Список!B504","v":"2021.04.18 15:00"}]
[{"$f":"Список!C505","v":"Famalicao W"},{"$f":"Список!D505","v":"Condeixa W"},{"$f":"Список!A505","v":"PORTUGAL: Liga BPI Women - Championship Group"},{"$f":"Список!B505","v":"2021.04.18 15:00"}]
[{"$f":"Список!C506","v":"Lipetsk"},{"$f":"Список!D506","v":"Kvant"},{"$f":"Список!A506","v":"RUSSIA: PFL - Group 3"},{"$f":"Список!B506","v":"2021.04.18 15:00"}]
[{"$f":"Список!C507","v":"Faetano"},{"$f":"Список!D507","v":"San Giovanni"},{"$f":"Список!A507","v":"SAN MARINO: Campionato Sammarinese"},{"$f":"Список!B507","v":"2021.04.18 15:00"}]
[{"$f":"Список!C508","v":"La Fiorita"},{"$f":"Список!D508","v":"Tre Fiori"},{"$f":"Список!A508","v":"SAN MARINO: Campionato Sammarinese"},{"$f":"Список!B508","v":"2021.04.18 15:00"}]
[{"$f":"Список!C509","v":"Libertas"},{"$f":"Список!D509","v":"Virtus"},{"$f":"Список!A509","v":"SAN MARINO: Campionato Sammarinese"},{"$f":"Список!B509","v":"2021.04.18 15:00"}]
[{"$f":"Список!C510","v":"Spartans W"},{"$f":"Список!D510","v":"Celtic W"},{"$f":"Список!A510","v":"SCOTLAND: SWPL 1 Women"},{"$f":"Список!B510","v":"2021.04.18 15:00"}]
[{"$f":"Список!C511","v":"Primorje W"},{"$f":"Список!D511","v":"Pomurje W"},{"$f":"Список!A511","v":"SLOVENIA: 1. SZNL Women"},{"$f":"Список!B511","v":"2021.04.18 15:00"}]
[{"$f":"Список!C512","v":"Polokwane"},{"$f":"Список!D512","v":"Cape Town All Stars"},{"$f":"Список!A512","v":"SOUTH AFRICA: GladAfrica Championship"},{"$f":"Список!B512","v":"2021.04.18 15:00"}]
[{"$f":"Список!C513","v":"Sekhukhune"},{"$f":"Список!D513","v":"Jomo Cosmos"},{"$f":"Список!A513","v":"SOUTH AFRICA: GladAfrica Championship"},{"$f":"Список!B513","v":"2021.04.18 15:00"}]
[{"$f":"Список!C514","v":"Mamelodi Sundowns"},{"$f":"Список!D514","v":"Tshakhuma"},{"$f":"Список!A514","v":"SOUTH AFRICA: Nedbank Cup"},{"$f":"Список!B514","v":"2021.04.18 15:00"}]
[{"$f":"Список!C515","v":"Degerfors"},{"$f":"Список!D515","v":"Kalmar"},{"$f":"Список!A515","v":"SWEDEN: Allsvenskan"},{"$f":"Список!B515","v":"2021.04.18 15:00"}]
[{"$f":"Список!C516","v":"Hacken"},{"$f":"Список!D516","v":"Malmo FF"},{"$f":"Список!A516","v":"SWEDEN: Allsvenskan"},{"$f":"Список!B516","v":"2021.04.18 15:00"}]
[{"$f":"Список!C517","v":"Ostersunds"},{"$f":"Список!D517","v":"Orebro"},{"$f":"Список!A517","v":"SWEDEN: Allsvenskan"},{"$f":"Список!B517","v":"2021.04.18 15:00"}]
[{"$f":"Список!C518","v":"Varnamo"},{"$f":"Список!D518","v":"Sundsvall"},{"$f":"Список!A518","v":"SWEDEN: Superettan"},{"$f":"Список!B518","v":"2021.04.18 15:00"}]
[{"$f":"Список!C519","v":"Eskilstuna United W"},{"$f":"Список!D519","v":"Kristianstads W"},{"$f":"Список!A519","v":"SWEDEN: Allsvenskan Women"},{"$f":"Список!B519","v":"2021.04.18 15:00"}]
[{"$f":"Список!C520","v":"Mallbackens W"},{"$f":"Список!D520","v":"IF Brommapojkarna W"},{"$f":"Список!A520","v":"SWEDEN: Elitettan Women"},{"$f":"Список!B520","v":"2021.04.18 15:00"}]
[{"$f":"Список!C521","v":"Dodoma Jiji"},{"$f":"Список!D521","v":"Namungo"},{"$f":"Список!A521","v":"TANZANIA: Ligi Kuu Bara"},{"$f":"Список!B521","v":"2021.04.18 15:00"}]
[{"$f":"Список!C522","v":"Mwadui"},{"$f":"Список!D522","v":"Simba"},{"$f":"Список!A522","v":"TANZANIA: Ligi Kuu Bara"},{"$f":"Список!B522","v":"2021.04.18 15:00"}]
[{"$f":"Список!C523","v":"Gaziantep"},{"$f":"Список!D523","v":"Kasimpasa"},{"$f":"Список!A523","v":"TURKEY: Super Lig"},{"$f":"Список!B523","v":"2021.04.18 15:00"}]
[{"$f":"Список!C524","v":"Akhisarspor"},{"$f":"Список!D524","v":"Altinordu"},{"$f":"Список!A524","v":"TURKEY: 1. Lig"},{"$f":"Список!B524","v":"2021.04.18 15:00"}]
[{"$f":"Список!C525","v":"Kampala City"},{"$f":"Список!D525","v":"Villa"},{"$f":"Список!A525","v":"UGANDA: Premier League"},{"$f":"Список!B525","v":"2021.04.18 15:00"}]
[{"$f":"Список!C526","v":"Fredrikstad"},{"$f":"Список!D526","v":"Ull/Kisa"},{"$f":"Список!A526","v":"WORLD: Club Friendly"},{"$f":"Список!B526","v":"2021.04.18 15:00"}]
[{"$f":"Список!C527","v":"Forest Rangers"},{"$f":"Список!D527","v":"Power Dynamos"},{"$f":"Список!A527","v":"ZAMBIA: Super League"},{"$f":"Список!B527","v":"2021.04.18 15:00"}]
[{"$f":"Список!C528","v":"Lumwana Radiants"},{"$f":"Список!D528","v":"Nkana"},{"$f":"Список!A528","v":"ZAMBIA: Super League"},{"$f":"Список!B528","v":"2021.04.18 15:00"}]
[{"$f":"Список!C529","v":"Nkwazi"},{"$f":"Список!D529","v":"Red Arrows"},{"$f":"Список!A529","v":"ZAMBIA: Super League"},{"$f":"Список!B529","v":"2021.04.18 15:00"}]
[{"$f":"Список!C530","v":"Al Akhaa Al Ahli"},{"$f":"Список!D530","v":"Nejmeh SC"},{"$f":"Список!A530","v":"LEBANON: Premier League - Winners stage"},{"$f":"Список!B530","v":"2021.04.18 15:05"}]
[{"$f":"Список!C531","v":"Al Ansar"},{"$f":"Список!D531","v":"Al Sahel"},{"$f":"Список!A531","v":"LEBANON: Premier League - Winners stage"},{"$f":"Список!B531","v":"2021.04.18 15:05"}]
[{"$f":"Список!C532","v":"Safa"},{"$f":"Список!D532","v":"Al Ahed"},{"$f":"Список!A532","v":"LEBANON: Premier League - Winners stage"},{"$f":"Список!B532","v":"2021.04.18 15:05"}]
[{"$f":"Список!C533","v":"Puskas Academy"},{"$f":"Список!D533","v":"MTK Budapest"},{"$f":"Список!A533","v":"HUNGARY: OTP Bank Liga"},{"$f":"Список!B533","v":"2021.04.18 15:15"}]
[{"$f":"Список!C534","v":"Dortmund"},{"$f":"Список!D534","v":"Werder Bremen"},{"$f":"Список!A534","v":"GERMANY: Bundesliga"},{"$f":"Список!B534","v":"2021.04.18 15:30"}]
[{"$f":"Список!C535","v":"Aetos Orfani"},{"$f":"Список!D535","v":"Ampelokipon"},{"$f":"Список!A535","v":"GREECE: Gamma Ethniki - Group 1"},{"$f":"Список!B535","v":"2021.04.18 15:30"}]
[{"$f":"Список!C536","v":"Alexandroypolis"},{"$f":"Список!D536","v":"Ethnikos Sochos"},{"$f":"Список!A536","v":"GREECE: Gamma Ethniki - Group 1"},{"$f":"Список!B536","v":"2021.04.18 15:30"}]
[{"$f":"Список!C537","v":"Anagennisi Thalassias"},{"$f":"Список!D537","v":"Apollon Paralimniou"},{"$f":"Список!A537","v":"GREECE: Gamma Ethniki - Group 1"},{"$f":"Список!B537","v":"2021.04.18 15:30"}]
[{"$f":"Список!C538","v":"Aris Avatou"},{"$f":"Список!D538","v":"Elpida Sapes"},{"$f":"Список!A538","v":"GREECE: Gamma Ethniki - Group 1"},{"$f":"Список!B538","v":"2021.04.18 15:30"}]
[{"$f":"Список!C539","v":"Chrisoupolis"},{"$f":"Список!D539","v":"Iraklis"},{"$f":"Список!A539","v":"GREECE: Gamma Ethniki - Group 1"},{"$f":"Список!B539","v":"2021.04.18 15:30"}]
[{"$f":"Список!C540","v":"Didymoteicho"},{"$f":"Список!D540","v":"M. Alexandros Orfaniou"},{"$f":"Список!A540","v":"GREECE: Gamma Ethniki - Group 1"},{"$f":"Список!B540","v":"2021.04.18 15:30"}]
[{"$f":"Список!C541","v":"F.C. Pandramaikos"},{"$f":"Список!D541","v":"Evosmou"},{"$f":"Список!A541","v":"GREECE: Gamma Ethniki - Group 1"},{"$f":"Список!B541","v":"2021.04.18 15:30"}]
[{"$f":"Список!C542","v":"Sidirochori"},{"$f":"Список!D542","v":"Orfeas Xanthi"},{"$f":"Список!A542","v":"GREECE: Gamma Ethniki - Group 1"},{"$f":"Список!B542","v":"2021.04.18 15:30"}]
[{"$f":"Список!C543","v":"A. Asteras"},{"$f":"Список!D543","v":"PAO Koufalion"},{"$f":"Список!A543","v":"GREECE: Gamma Ethniki - Group 2"},{"$f":"Список!B543","v":"2021.04.18 15:30"}]
[{"$f":"Список!C544","v":"AS Giannitsa"},{"$f":"Список!D544","v":"Aetos Varvaras"},{"$f":"Список!A544","v":"GREECE: Gamma Ethniki - Group 2"},{"$f":"Список!B544","v":"2021.04.18 15:30"}]
[{"$f":"Список!C545","v":"Edessaikos"},{"$f":"Список!D545","v":"Ethnikos Giannitsa"},{"$f":"Список!A545","v":"GREECE: Gamma Ethniki - Group 2"},{"$f":"Список!B545","v":"2021.04.18 15:30"}]
[{"$f":"Список!C546","v":"Niki Agkathia"},{"$f":"Список!D546","v":"M. Alexandros Trikala"},{"$f":"Список!A546","v":"GREECE: Gamma Ethniki - Group 2"},{"$f":"Список!B546","v":"2021.04.18 15:30"}]
[{"$f":"Список!C547","v":"PAOK Alexandreia"},{"$f":"Список!D547","v":"Thyella Sarakinoi"},{"$f":"Список!A547","v":"GREECE: Gamma Ethniki - Group 2"},{"$f":"Список!B547","v":"2021.04.18 15:30"}]
[{"$f":"Список!C548","v":"Plagia"},{"$f":"Список!D548","v":"Makedonikos"},{"$f":"Список!A548","v":"GREECE: Gamma Ethniki - Group 2"},{"$f":"Список!B548","v":"2021.04.18 15:30"}]
[{"$f":"Список!C549","v":"Thermaikos FC"},{"$f":"Список!D549","v":"Nea Kallikrateia"},{"$f":"Список!A549","v":"GREECE: Gamma Ethniki - Group 2"},{"$f":"Список!B549","v":"2021.04.18 15:30"}]
[{"$f":"Список!C550","v":"Aetos Makrychoriou"},{"$f":"Список!D550","v":"Makedonikos Foufas"},{"$f":"Список!A550","v":"GREECE: Gamma Ethniki - Group 3"},{"$f":"Список!B550","v":"2021.04.18 15:30"}]
[{"$f":"Список!C551","v":"Dias Diou"},{"$f":"Список!D551","v":"Karitsa"},{"$f":"Список!A551","v":"GREECE: Gamma Ethniki - Group 3"},{"$f":"Список!B551","v":"2021.04.18 15:30"}]
[{"$f":"Список!C552","v":"Elassona"},{"$f":"Список!D552","v":"Sellana"},{"$f":"Список!A552","v":"GREECE: Gamma Ethniki - Group 3"},{"$f":"Список!B552","v":"2021.04.18 15:30"}]
[{"$f":"Список!C553","v":"Fikis"},{"$f":"Список!D553","v":"Ethnikos Neou"},{"$f":"Список!A553","v":"GREECE: Gamma Ethniki - Group 3"},{"$f":"Список!B553","v":"2021.04.18 15:30"}]
[{"$f":"Список!C554","v":"Karditsa"},{"$f":"Список!D554","v":"Oikonomos"},{"$f":"Список!A554","v":"GREECE: Gamma Ethniki - Group 3"},{"$f":"Список!B554","v":"2021.04.18 15:30"}]
[{"$f":"Список!C555","v":"Kozani FC"},{"$f":"Список!D555","v":"Amyntaio"},{"$f":"Список!A555","v":"GREECE: Gamma Ethniki - Group 3"},{"$f":"Список!B555","v":"2021.04.18 15:30"}]
[{"$f":"Список!C556","v":"Meteora"},{"$f":"Список!D556","v":"Atromitos Palamas"},{"$f":"Список!A556","v":"GREECE: Gamma Ethniki - Group 3"},{"$f":"Список!B556","v":"2021.04.18 15:30"}]
[{"$f":"Список!C557","v":"Atalanti"},{"$f":"Список!D557","v":"Nea Artaki"},{"$f":"Список!A557","v":"GREECE: Gamma Ethniki - Group 4"},{"$f":"Список!B557","v":"2021.04.18 15:30"}]
[{"$f":"Список!C558","v":"GS Almyros"},{"$f":"Список!D558","v":"Fokikos FC"},{"$f":"Список!A558","v":"GREECE: Gamma Ethniki - Group 4"},{"$f":"Список!B558","v":"2021.04.18 15:30"}]
[{"$f":"Список!C559","v":"Ipato"},{"$f":"Список!D559","v":"Dia. Stefanovik"},{"$f":"Список!A559","v":"GREECE: Gamma Ethniki - Group 4"},{"$f":"Список!B559","v":"2021.04.18 15:30"}]
[{"$f":"Список!C560","v":"Thiseas Agria"},{"$f":"Список!D560","v":"Amvrysseas"},{"$f":"Список!A560","v":"GREECE: Gamma Ethniki - Group 4"},{"$f":"Список!B560","v":"2021.04.18 15:30"}]
[{"$f":"Список!C561","v":"Acheron Kanalaki"},{"$f":"Список!D561","v":"Asteras Kalirachis"},{"$f":"Список!A561","v":"GREECE: Gamma Ethniki - Group 5"},{"$f":"Список!B561","v":"2021.04.18 15:30"}]
[{"$f":"Список!C562","v":"Amvrakikos Loutrou"},{"$f":"Список!D562","v":"Panagriniakos"},{"$f":"Список!A562","v":"GREECE: Gamma Ethniki - Group 5"},{"$f":"Список!B562","v":"2021.04.18 15:30"}]
[{"$f":"Список!C563","v":"Lefkimmi"},{"$f":"Список!D563","v":"Anagennisi Arta"},{"$f":"Список!A563","v":"GREECE: Gamma Ethniki - Group 5"},{"$f":"Список!B563","v":"2021.04.18 15:30"}]
[{"$f":"Список!C564","v":"Mesolongi AE"},{"$f":"Список!D564","v":"Agios Matthaios"},{"$f":"Список!A564","v":"GREECE: Gamma Ethniki - Group 5"},{"$f":"Список!B564","v":"2021.04.18 15:30"}]
[{"$f":"Список!C565","v":"Thyella Katsikas"},{"$f":"Список!D565","v":"Preveza"},{"$f":"Список!A565","v":"GREECE: Gamma Ethniki - Group 5"},{"$f":"Список!B565","v":"2021.04.18 15:30"}]
[{"$f":"Список!C566","v":"Thyella Monastirakiou"},{"$f":"Список!D566","v":"Kerkyra"},{"$f":"Список!A566","v":"GREECE: Gamma Ethniki - Group 5"},{"$f":"Список!B566","v":"2021.04.18 15:30"}]
[{"$f":"Список!C567","v":"Tilikratis L."},{"$f":"Список!D567","v":"M. Alexandros Kastorias"},{"$f":"Список!A567","v":"GREECE: Gamma Ethniki - Group 5"},{"$f":"Список!B567","v":"2021.04.18 15:30"}]
[{"$f":"Список!C568","v":"Ethnikos Piraeus"},{"$f":"Список!D568","v":"Aittitos Spata"},{"$f":"Список!A568","v":"GREECE: Gamma Ethniki - Group 6"},{"$f":"Список!B568","v":"2021.04.18 15:30"}]
[{"$f":"Список!C569","v":"Fostiras"},{"$f":"Список!D569","v":"Pannaxiakos"},{"$f":"Список!A569","v":"GREECE: Gamma Ethniki - Group 6"},{"$f":"Список!B569","v":"2021.04.18 15:30"}]
[{"$f":"Список!C570","v":"Ilioupoli"},{"$f":"Список!D570","v":"Charavgiakos"},{"$f":"Список!A570","v":"GREECE: Gamma Ethniki - Group 6"},{"$f":"Список!B570","v":"2021.04.18 15:30"}]
[{"$f":"Список!C571","v":"Moschato"},{"$f":"Список!D571","v":"Proodeftiki"},{"$f":"Список!A571","v":"GREECE: Gamma Ethniki - Group 6"},{"$f":"Список!B571","v":"2021.04.18 15:30"}]
[{"$f":"Список!C572","v":"Panionios"},{"$f":"Список!D572","v":"Marko"},{"$f":"Список!A572","v":"GREECE: Gamma Ethniki - Group 6"},{"$f":"Список!B572","v":"2021.04.18 15:30"}]
[{"$f":"Список!C573","v":"Agios Ierotheos"},{"$f":"Список!D573","v":"Panarkadikos"},{"$f":"Список!A573","v":"GREECE: Gamma Ethniki - Group 7"},{"$f":"Список!B573","v":"2021.04.18 15:30"}]
[{"$f":"Список!C574","v":"Atromitos Chiliomodi"},{"$f":"Список!D574","v":"Nafplio"},{"$f":"Список!A574","v":"GREECE: Gamma Ethniki - Group 7"},{"$f":"Список!B574","v":"2021.04.18 15:30"}]
[{"$f":"Список!C575","v":"Ermionidas-Ermis"},{"$f":"Список!D575","v":"Rouf FC"},{"$f":"Список!A575","v":"GREECE: Gamma Ethniki - Group 7"},{"$f":"Список!B575","v":"2021.04.18 15:30"}]
[{"$f":"Список!C576","v":"Foinikas N. Epidavrou"},{"$f":"Список!D576","v":"Koronida Koiladas"},{"$f":"Список!A576","v":"GREECE: Gamma Ethniki - Group 7"},{"$f":"Список!B576","v":"2021.04.18 15:30"}]
[{"$f":"Список!C577","v":"Molaikos"},{"$f":"Список!D577","v":"Ermis Meligous"},{"$f":"Список!A577","v":"GREECE: Gamma Ethniki - Group 7"},{"$f":"Список!B577","v":"2021.04.18 15:30"}]
[{"$f":"Список!C578","v":"Aetos Loutron"},{"$f":"Список!D578","v":"Karavas"},{"$f":"Список!A578","v":"GREECE: Gamma Ethniki - Group 8"},{"$f":"Список!B578","v":"2021.04.18 15:30"}]
[{"$f":"Список!C579","v":"AO Akratitos"},{"$f":"Список!D579","v":"Mikrasiatiki"},{"$f":"Список!A579","v":"GREECE: Gamma Ethniki - Group 8"},{"$f":"Список!B579","v":"2021.04.18 15:30"}]
[{"$f":"Список!C580","v":"Panelefsiniakos"},{"$f":"Список!D580","v":"Keratsini"},{"$f":"Список!A580","v":"GREECE: Gamma Ethniki - Group 8"},{"$f":"Список!B580","v":"2021.04.18 15:30"}]
[{"$f":"Список!C581","v":"Pyliou"},{"$f":"Список!D581","v":"Aiolikos"},{"$f":"Список!A581","v":"GREECE: Gamma Ethniki - Group 8"},{"$f":"Список!B581","v":"2021.04.18 15:30"}]
[{"$f":"Список!C582","v":"Pythagoras Kontakaiikon"},{"$f":"Список!D582","v":"Aias"},{"$f":"Список!A582","v":"GREECE: Gamma Ethniki - Group 8"},{"$f":"Список!B582","v":"2021.04.18 15:30"}]
[{"$f":"Список!C583","v":"Thyella D."},{"$f":"Список!D583","v":"Kyanos A. V."},{"$f":"Список!A583","v":"GREECE: Gamma Ethniki - Group 8"},{"$f":"Список!B583","v":"2021.04.18 15:30"}]
[{"$f":"Список!C584","v":"Aias Gastounis"},{"$f":"Список!D584","v":"Ethnikos Skoulikadou"},{"$f":"Список!A584","v":"GREECE: Gamma Ethniki - Group 9"},{"$f":"Список!B584","v":"2021.04.18 15:30"}]
[{"$f":"Список!C585","v":"Diavolitsi"},{"$f":"Список!D585","v":"PAO Varda"},{"$f":"Список!A585","v":"GREECE: Gamma Ethniki - Group 9"},{"$f":"Список!B585","v":"2021.04.18 15:30"}]
[{"$f":"Список!C586","v":"Nafpaktiakos"},{"$f":"Список!D586","v":"Achaiki"},{"$f":"Список!A586","v":"GREECE: Gamma Ethniki - Group 9"},{"$f":"Список!B586","v":"2021.04.18 15:30"}]
[{"$f":"Список!C587","v":"Pallixouriakos"},{"$f":"Список!D587","v":"Panegialios FC"},{"$f":"Список!A587","v":"GREECE: Gamma Ethniki - Group 9"},{"$f":"Список!B587","v":"2021.04.18 15:30"}]
[{"$f":"Список!C588","v":"Thyella Patras"},{"$f":"Список!D588","v":"Pamisos"},{"$f":"Список!A588","v":"GREECE: Gamma Ethniki - Group 9"},{"$f":"Список!B588","v":"2021.04.18 15:30"}]
[{"$f":"Список!C589","v":"Zakynthos"},{"$f":"Список!D589","v":"AO Tsilivi"},{"$f":"Список!A589","v":"GREECE: Gamma Ethniki - Group 9"},{"$f":"Список!B589","v":"2021.04.18 15:30"}]
[{"$f":"Список!C590","v":"AEEK Inka"},{"$f":"Список!D590","v":"Poros"},{"$f":"Список!A590","v":"GREECE: Gamma Ethniki - Group 10"},{"$f":"Список!B590","v":"2021.04.18 15:30"}]
[{"$f":"Список!C591","v":"AE Neapolis"},{"$f":"Список!D591","v":"Giouchtas"},{"$f":"Список!A591","v":"GREECE: Gamma Ethniki - Group 10"},{"$f":"Список!B591","v":"2021.04.18 15:30"}]
[{"$f":"Список!C592","v":"Agios Nikolaos"},{"$f":"Список!D592","v":"Rethymniakos"},{"$f":"Список!A592","v":"GREECE: Gamma Ethniki - Group 10"},{"$f":"Список!B592","v":"2021.04.18 15:30"}]
[{"$f":"Список!C593","v":"Almyros Gaziou"},{"$f":"Список!D593","v":"Damastas"},{"$f":"Список!A593","v":"GREECE: Gamma Ethniki - Group 10"},{"$f":"Список!B593","v":"2021.04.18 15:30"}]
[{"$f":"Список!C594","v":"Aris Soudas"},{"$f":"Список!D594","v":"Ierapetra"},{"$f":"Список!A594","v":"GREECE: Gamma Ethniki - Group 10"},{"$f":"Список!B594","v":"2021.04.18 15:30"}]
[{"$f":"Список!C595","v":"Persija Jakarta"},{"$f":"Список!D595","v":"PSM Makassar"},{"$f":"Список!A595","v":"INDONESIA: Menpora Cup - Play Offs"},{"$f":"Список!B595","v":"2021.04.18 15:30"}]
[{"$f":"Список!C596","v":"Virtus Bolzano"},{"$f":"Список!D596","v":"Cjarlins Muzane"},{"$f":"Список!A596","v":"ITALY: Serie D - Group C"},{"$f":"Список!B596","v":"2021.04.18 15:30"}]
[{"$f":"Список!C597","v":"Sochi"},{"$f":"Список!D597","v":"CSKA Moscow"},{"$f":"Список!A597","v":"RUSSIA: Premier League"},{"$f":"Список!B597","v":"2021.04.18 15:30"}]
[{"$f":"Список!C598","v":"Chernihiv"},{"$f":"Список!D598","v":"Obolon 2"},{"$f":"Список!A598","v":"UKRAINE: Druha Liga"},{"$f":"Список!B598","v":"2021.04.18 15:30"}]
[{"$f":"Список!C599","v":"Laci"},{"$f":"Список!D599","v":"Bylis"},{"$f":"Список!A599","v":"ALBANIA: Superliga"},{"$f":"Список!B599","v":"2021.04.18 16:00"}]
[{"$f":"Список!C600","v":"Skenderbeu"},{"$f":"Список!D600","v":"Teuta"},{"$f":"Список!A600","v":"ALBANIA: Superliga"},{"$f":"Список!B600","v":"2021.04.18 16:00"}]
[{"$f":"Список!C601","v":"Boca Juniors W"},{"$f":"Список!D601","v":"Social Atletico Television W"},{"$f":"Список!A601","v":"ARGENTINA: Primera A Women - Apertura"},{"$f":"Список!B601","v":"2021.04.18 16:00"}]
[{"$f":"Список!C602","v":"Pouso Alegre"},{"$f":"Список!D602","v":"Cruzeiro"},{"$f":"Список!A602","v":"BRAZIL: Campeonato Mineiro"},{"$f":"Список!B602","v":"2021.04.18 16:00"}]
[{"$f":"Список!C603","v":"Parana"},{"$f":"Список!D603","v":"Londrina"},{"$f":"Список!A603","v":"BRAZIL: Campeonato Paranaense"},{"$f":"Список!B603","v":"2021.04.18 16:00"}]
[{"$f":"Список!C604","v":"Haskovo 1957"},{"$f":"Список!D604","v":"Sokol Markovo"},{"$f":"Список!A604","v":"BULGARIA: Third League - South-East"},{"$f":"Список!B604","v":"2021.04.18 16:00"}]
[{"$f":"Список!C605","v":"Akademik Svishtov"},{"$f":"Список!D605","v":"Bdin Vidin"},{"$f":"Список!A605","v":"BULGARIA: Third League - North-West"},{"$f":"Список!B605","v":"2021.04.18 16:00"}]
[{"$f":"Список!C606","v":"Botev Vratsa II"},{"$f":"Список!D606","v":"Spartak Pleven"},{"$f":"Список!A606","v":"BULGARIA: Third League - North-West"},{"$f":"Список!B606","v":"2021.04.18 16:00"}]
[{"$f":"Список!C607","v":"Drenovets"},{"$f":"Список!D607","v":"Sevlievo"},{"$f":"Список!A607","v":"BULGARIA: Third League - North-West"},{"$f":"Список!B607","v":"2021.04.18 16:00"}]
[{"$f":"Список!C608","v":"Levski Lom"},{"$f":"Список!D608","v":"Parva Atomna"},{"$f":"Список!A608","v":"BULGARIA: Third League - North-West"},{"$f":"Список!B608","v":"2021.04.18 16:00"}]
[{"$f":"Список!C609","v":"Mezdra"},{"$f":"Список!D609","v":"Lok. Dryanovo"},{"$f":"Список!A609","v":"BULGARIA: Third League - North-West"},{"$f":"Список!B609","v":"2021.04.18 16:00"}]
[{"$f":"Список!C610","v":"Partizan Cerven Brjag"},{"$f":"Список!D610","v":"Tryavna"},{"$f":"Список!A610","v":"BULGARIA: Third League - North-West"},{"$f":"Список!B610","v":"2021.04.18 16:00"}]
[{"$f":"Список!C611","v":"Pavlikeni"},{"$f":"Список!D611","v":"OFK Levski"},{"$f":"Список!A611","v":"BULGARIA: Third League - North-West"},{"$f":"Список!B611","v":"2021.04.18 16:00"}]
[{"$f":"Список!C612","v":"Peshtera Galata"},{"$f":"Список!D612","v":"Etar II"},{"$f":"Список!A612","v":"BULGARIA: Third League - North-West"},{"$f":"Список!B612","v":"2021.04.18 16:00"}]
[{"$f":"Список!C613","v":"Yantra Polski Trambesh"},{"$f":"Список!D613","v":"Vihar Slavyanovo"},{"$f":"Список!A613","v":"BULGARIA: Third League - North-West"},{"$f":"Список!B613","v":"2021.04.18 16:00"}]
[{"$f":"Список!C614","v":"AEL Limassol"},{"$f":"Список!D614","v":"Apollon"},{"$f":"Список!A614","v":"CYPRUS: First Division - Championship Group"},{"$f":"Список!B614","v":"2021.04.18 16:00"}]
[{"$f":"Список!C615","v":"Liberec"},{"$f":"Список!D615","v":"Slavia Prague"},{"$f":"Список!A615","v":"CZECH REPUBLIC: 1. Liga"},{"$f":"Список!B615","v":"2021.04.18 16:00"}]
[{"$f":"Список!C616","v":"FC Copenhagen"},{"$f":"Список!D616","v":"Nordsjaelland"},{"$f":"Список!A616","v":"DENMARK: Superliga - Championship Group"},{"$f":"Список!B616","v":"2021.04.18 16:00"}]
[{"$f":"Список!C617","v":"Coventry"},{"$f":"Список!D617","v":"Barnsley"},{"$f":"Список!A617","v":"ENGLAND: Championship"},{"$f":"Список!B617","v":"2021.04.18 16:00"}]
[{"$f":"Список!C618","v":"Wolverhampton W"},{"$f":"Список!D618","v":"Blackburn W"},{"$f":"Список!A618","v":"ENGLAND: Women’s FA Cup"},{"$f":"Список!B618","v":"2021.04.18 16:00"}]
[{"$f":"Список!C619","v":"07 Vestur Sorvagur"},{"$f":"Список!D619","v":"Hoyvik"},{"$f":"Список!A619","v":"FAROE ISLANDS: Faroe Islands Cup"},{"$f":"Список!B619","v":"2021.04.18 16:00"}]
[{"$f":"Список!C620","v":"B36 Torshavn"},{"$f":"Список!D620","v":"AB Argir"},{"$f":"Список!A620","v":"FAROE ISLANDS: Faroe Islands Cup"},{"$f":"Список!B620","v":"2021.04.18 16:00"}]
[{"$f":"Список!C621","v":"IF Fuglafjordur"},{"$f":"Список!D621","v":"FC Suduroy"},{"$f":"Список!A621","v":"FAROE ISLANDS: Faroe Islands Cup"},{"$f":"Список!B621","v":"2021.04.18 16:00"}]
[{"$f":"Список!C622","v":"Klaksvik"},{"$f":"Список!D622","v":"NSI Runavik"},{"$f":"Список!A622","v":"FAROE ISLANDS: Faroe Islands Cup"},{"$f":"Список!B622","v":"2021.04.18 16:00"}]
[{"$f":"Список!C623","v":"Toftir"},{"$f":"Список!D623","v":"Streymur"},{"$f":"Список!A623","v":"FAROE ISLANDS: Faroe Islands Cup"},{"$f":"Список!B623","v":"2021.04.18 16:00"}]
[{"$f":"Список!C624","v":"Vikingur"},{"$f":"Список!D624","v":"Skala Itrottarfelag"},{"$f":"Список!A624","v":"FAROE ISLANDS: Faroe Islands Cup"},{"$f":"Список!B624","v":"2021.04.18 16:00"}]
[{"$f":"Список!C625","v":"SC Sopron"},{"$f":"Список!D625","v":"BKV Elore"},{"$f":"Список!A625","v":"HUNGARY: NB III - West"},{"$f":"Список!B625","v":"2021.04.18 16:00"}]
[{"$f":"Список!C626","v":"M. Herzliya"},{"$f":"Список!D626","v":"Ironi Or Yehuda"},{"$f":"Список!A626","v":"ISRAEL: Liga Alef South - Relegation Group"},{"$f":"Список!B626","v":"2021.04.18 16:00"}]
[{"$f":"Список!C627","v":"Ventspils"},{"$f":"Список!D627","v":"FK Liepaja"},{"$f":"Список!A627","v":"LATVIA: Optibet Virsliga"},{"$f":"Список!B627","v":"2021.04.18 16:00"}]
[{"$f":"Список!C628","v":"NPA Anchors"},{"$f":"Список!D628","v":"Nimba"},{"$f":"Список!A628","v":"LIBERIA: LFA First Division"},{"$f":"Список!B628","v":"2021.04.18 16:00"}]
[{"$f":"Список!C629","v":"FK Panevezys 2"},{"$f":"Список!D629","v":"BFA Vilnius"},{"$f":"Список!A629","v":"LITHUANIA: I Lyga"},{"$f":"Список!B629","v":"2021.04.18 16:00"}]
[{"$f":"Список!C630","v":"Dudelange"},{"$f":"Список!D630","v":"Mondorf"},{"$f":"Список!A630","v":"LUXEMBOURG: National Division"},{"$f":"Список!B630","v":"2021.04.18 16:00"}]
[{"$f":"Список!C631","v":"Niedercorn"},{"$f":"Список!D631","v":"Fola"},{"$f":"Список!A631","v":"LUXEMBOURG: National Division"},{"$f":"Список!B631","v":"2021.04.18 16:00"}]
[{"$f":"Список!C632","v":"UNA Strassen"},{"$f":"Список!D632","v":"Ettelbruck"},{"$f":"Список!A632","v":"LUXEMBOURG: National Division"},{"$f":"Список!B632","v":"2021.04.18 16:00"}]
[{"$f":"Список!C633","v":"Union Titus Petange"},{"$f":"Список!D633","v":"Hesperange"},{"$f":"Список!A633","v":"LUXEMBOURG: National Division"},{"$f":"Список!B633","v":"2021.04.18 16:00"}]
[{"$f":"Список!C634","v":"Wiltz"},{"$f":"Список!D634","v":"Differdange"},{"$f":"Список!A634","v":"LUXEMBOURG: National Division"},{"$f":"Список!B634","v":"2021.04.18 16:00"}]
[{"$f":"Список!C635","v":"Melaka United"},{"$f":"Список!D635","v":"Selangor"},{"$f":"Список!A635","v":"MALAYSIA: Super League"},{"$f":"Список!B635","v":"2021.04.18 16:00"}]
[{"$f":"Список!C636","v":"Petaling Jaya CFC"},{"$f":"Список!D636","v":"Penang"},{"$f":"Список!A636","v":"MALAYSIA: Super League"},{"$f":"Список!B636","v":"2021.04.18 16:00"}]
[{"$f":"Список!C637","v":"Negeri Sembilan"},{"$f":"Список!D637","v":"Kelantan"},{"$f":"Список!A637","v":"MALAYSIA: Premier League"},{"$f":"Список!B637","v":"2021.04.18 16:00"}]
[{"$f":"Список!C638","v":"Selangor 2"},{"$f":"Список!D638","v":"Kuching City FC"},{"$f":"Список!A638","v":"MALAYSIA: Premier League"},{"$f":"Список!B638","v":"2021.04.18 16:00"}]
[{"$f":"Список!C639","v":"Arsenal Tivat"},{"$f":"Список!D639","v":"Ibar"},{"$f":"Список!A639","v":"MONTENEGRO: Druga Liga"},{"$f":"Список!B639","v":"2021.04.18 16:00"}]
[{"$f":"Список!C640","v":"Berane"},{"$f":"Список!D640","v":"Bokelj"},{"$f":"Список!A640","v":"MONTENEGRO: Druga Liga"},{"$f":"Список!B640","v":"2021.04.18 16:00"}]
[{"$f":"Список!C641","v":"Grbalj"},{"$f":"Список!D641","v":"Mornar Bar"},{"$f":"Список!A641","v":"MONTENEGRO: Druga Liga"},{"$f":"Список!B641","v":"2021.04.18 16:00"}]
[{"$f":"Список!C642","v":"Jedinstvo"},{"$f":"Список!D642","v":"Igalo"},{"$f":"Список!A642","v":"MONTENEGRO: Druga Liga"},{"$f":"Список!B642","v":"2021.04.18 16:00"}]
[{"$f":"Список!C643","v":"Kom Podgorica"},{"$f":"Список!D643","v":"Drezga"},{"$f":"Список!A643","v":"MONTENEGRO: Druga Liga"},{"$f":"Список!B643","v":"2021.04.18 16:00"}]
[{"$f":"Список!C644","v":"Deportivo Santani"},{"$f":"Список!D644","v":"2 de Mayo"},{"$f":"Список!A644","v":"PARAGUAY: Division Intermedia"},{"$f":"Список!B644","v":"2021.04.18 16:00"}]
[{"$f":"Список!C645","v":"San Lorenzo"},{"$f":"Список!D645","v":"Resistencia"},{"$f":"Список!A645","v":"PARAGUAY: Division Intermedia"},{"$f":"Список!B645","v":"2021.04.18 16:00"}]
[{"$f":"Список!C646","v":"Sandomierz"},{"$f":"Список!D646","v":"Wisla Pulawy"},{"$f":"Список!A646","v":"POLAND: III Liga - Group IV"},{"$f":"Список!B646","v":"2021.04.18 16:00"}]
[{"$f":"Список!C647","v":"Famalicao"},{"$f":"Список!D647","v":"Portimonense"},{"$f":"Список!A647","v":"PORTUGAL: Primeira Liga"},{"$f":"Список!B647","v":"2021.04.18 16:00"}]
[{"$f":"Список!C648","v":"FC Porto B"},{"$f":"Список!D648","v":"Estoril"},{"$f":"Список!A648","v":"PORTUGAL: Liga Portugal 2"},{"$f":"Список!B648","v":"2021.04.18 16:00"}]
[{"$f":"Список!C649","v":"Saturn Ramenskoye"},{"$f":"Список!D649","v":"Ryazan"},{"$f":"Список!A649","v":"RUSSIA: PFL - Group 3"},{"$f":"Список!B649","v":"2021.04.18 16:00"}]
[{"$f":"Список!C650","v":"Rangers"},{"$f":"Список!D650","v":"Celtic"},{"$f":"Список!A650","v":"SCOTLAND: Scottish Cup"},{"$f":"Список!B650","v":"2021.04.18 16:00"}]
[{"$f":"Список!C651","v":"Din. Vranje"},{"$f":"Список!D651","v":"Zarkovo"},{"$f":"Список!A651","v":"SERBIA: Prva Liga"},{"$f":"Список!B651","v":"2021.04.18 16:00"}]
[{"$f":"Список!C652","v":"Dubocica"},{"$f":"Список!D652","v":"Zeleznicar Pancevo"},{"$f":"Список!A652","v":"SERBIA: Prva Liga"},{"$f":"Список!B652","v":"2021.04.18 16:00"}]
[{"$f":"Список!C653","v":"Graficar Beograd"},{"$f":"Список!D653","v":"Trayal Krusevac"},{"$f":"Список!A653","v":"SERBIA: Prva Liga"},{"$f":"Список!B653","v":"2021.04.18 16:00"}]
[{"$f":"Список!C654","v":"Sremska Mitrovica"},{"$f":"Список!D654","v":"Buducnost Dobanovci"},{"$f":"Список!A654","v":"SERBIA: Prva Liga"},{"$f":"Список!B654","v":"2021.04.18 16:00"}]
[{"$f":"Список!C655","v":"Batajnica"},{"$f":"Список!D655","v":"BASK"},{"$f":"Список!A655","v":"SERBIA: Srpska Liga - Belgrade"},{"$f":"Список!B655","v":"2021.04.18 16:00"}]
[{"$f":"Список!C656","v":"Crvena Zvezda MML"},{"$f":"Список!D656","v":"Radnicki Obrenovac"},{"$f":"Список!A656","v":"SERBIA: Srpska Liga - Belgrade"},{"$f":"Список!B656","v":"2021.04.18 16:00"}]
[{"$f":"Список!C657","v":"Jedinstvo Surcin"},{"$f":"Список!D657","v":"Brodarac"},{"$f":"Список!A657","v":"SERBIA: Srpska Liga - Belgrade"},{"$f":"Список!B657","v":"2021.04.18 16:00"}]
[{"$f":"Список!C658","v":"Lestane"},{"$f":"Список!D658","v":"BSK Borca"},{"$f":"Список!A658","v":"SERBIA: Srpska Liga - Belgrade"},{"$f":"Список!B658","v":"2021.04.18 16:00"}]
[{"$f":"Список!C659","v":"Sremcica"},{"$f":"Список!D659","v":"OFK Beograd"},{"$f":"Список!A659","v":"SERBIA: Srpska Liga - Belgrade"},{"$f":"Список!B659","v":"2021.04.18 16:00"}]
[{"$f":"Список!C660","v":"Buducnost Arilje"},{"$f":"Список!D660","v":"Buducnost Krusik"},{"$f":"Список!A660","v":"SERBIA: Srpska Liga - West"},{"$f":"Список!B660","v":"2021.04.18 16:00"}]
[{"$f":"Список!C661","v":"Josanica"},{"$f":"Список!D661","v":"Mladi Radnik"},{"$f":"Список!A661","v":"SERBIA: Srpska Liga - West"},{"$f":"Список!B661","v":"2021.04.18 16:00"}]
[{"$f":"Список!C662","v":"Zeleznicar Lajkovac"},{"$f":"Список!D662","v":"Takovo"},{"$f":"Список!A662","v":"SERBIA: Srpska Liga - West"},{"$f":"Список!B662","v":"2021.04.18 16:00"}]
[{"$f":"Список!C663","v":"Z. Moravce-Vrable"},{"$f":"Список!D663","v":"Zilina"},{"$f":"Список!A663","v":"SLOVAKIA: Fortuna liga - Championship Group"},{"$f":"Список!B663","v":"2021.04.18 16:00"}]
[{"$f":"Список!C664","v":"Paracuellos Antamira"},{"$f":"Список!D664","v":"Villaverde San Andres"},{"$f":"Список!A664","v":"SPAIN: Tercera Division - Group 7 - Relegation Group"},{"$f":"Список!B664","v":"2021.04.18 16:00"}]
[{"$f":"Список!C665","v":"Assyriska FF"},{"$f":"Список!D665","v":"Karlstad"},{"$f":"Список!A665","v":"SWEDEN: Division 1 - Norra"},{"$f":"Список!B665","v":"2021.04.18 16:00"}]
[{"$f":"Список!C666","v":"Sylvia"},{"$f":"Список!D666","v":"Sollentuna"},{"$f":"Список!A666","v":"SWEDEN: Division 1 - Norra"},{"$f":"Список!B666","v":"2021.04.18 16:00"}]
[{"$f":"Список!C667","v":"Basel"},{"$f":"Список!D667","v":"Servette"},{"$f":"Список!A667","v":"SWITZERLAND: Super League"},{"$f":"Список!B667","v":"2021.04.18 16:00"}]
[{"$f":"Список!C668","v":"Lausanne"},{"$f":"Список!D668","v":"Vaduz"},{"$f":"Список!A668","v":"SWITZERLAND: Super League"},{"$f":"Список!B668","v":"2021.04.18 16:00"}]
[{"$f":"Список!C669","v":"Young Boys"},{"$f":"Список!D669","v":"Lugano"},{"$f":"Список!A669","v":"SWITZERLAND: Super League"},{"$f":"Список!B669","v":"2021.04.18 16:00"}]
[{"$f":"Список!C670","v":"Etoile-Carouge"},{"$f":"Список!D670","v":"Basel II"},{"$f":"Список!A670","v":"SWITZERLAND: Promotion League"},{"$f":"Список!B670","v":"2021.04.18 16:00"}]
[{"$f":"Список!C671","v":"Stade Nyonnais"},{"$f":"Список!D671","v":"Breitenrain"},{"$f":"Список!A671","v":"SWITZERLAND: Promotion League"},{"$f":"Список!B671","v":"2021.04.18 16:00"}]
[{"$f":"Список!C672","v":"Zurich II"},{"$f":"Список!D672","v":"Bellinzona"},{"$f":"Список!A672","v":"SWITZERLAND: Promotion League"},{"$f":"Список!B672","v":"2021.04.18 16:00"}]
[{"$f":"Список!C673","v":"ASC Kara"},{"$f":"Список!D673","v":"Semassi"},{"$f":"Список!A673","v":"TOGO: Championnat National"},{"$f":"Список!B673","v":"2021.04.18 16:00"}]
[{"$f":"Список!C674","v":"Dynamic Togolais"},{"$f":"Список!D674","v":"AS Togo-Port"},{"$f":"Список!A674","v":"TOGO: Championnat National"},{"$f":"Список!B674","v":"2021.04.18 16:00"}]
[{"$f":"Список!C675","v":"Entente II"},{"$f":"Список!D675","v":"OTR"},{"$f":"Список!A675","v":"TOGO: Championnat National"},{"$f":"Список!B675","v":"2021.04.18 16:00"}]
[{"$f":"Список!C676","v":"Gomido"},{"$f":"Список!D676","v":"Anges de Notse"},{"$f":"Список!A676","v":"TOGO: Championnat National"},{"$f":"Список!B676","v":"2021.04.18 16:00"}]
[{"$f":"Список!C677","v":"Ifodje"},{"$f":"Список!D677","v":"Kara"},{"$f":"Список!A677","v":"TOGO: Championnat National"},{"$f":"Список!B677","v":"2021.04.18 16:00"}]
[{"$f":"Список!C678","v":"Koroki Metete"},{"$f":"Список!D678","v":"Unisport"},{"$f":"Список!A678","v":"TOGO: Championnat National"},{"$f":"Список!B678","v":"2021.04.18 16:00"}]
[{"$f":"Список!C679","v":"Maranatha"},{"$f":"Список!D679","v":"Gbohloe-Su"},{"$f":"Список!A679","v":"TOGO: Championnat National"},{"$f":"Список!B679","v":"2021.04.18 16:00"}]
[{"$f":"Список!C680","v":"Mariupol"},{"$f":"Список!D680","v":"Olimpik Donetsk"},{"$f":"Список!A680","v":"UKRAINE: Premier League"},{"$f":"Список!B680","v":"2021.04.18 16:00"}]
[{"$f":"Список!C681","v":"Ham-Kam"},{"$f":"Список!D681","v":"Strommen"},{"$f":"Список!A681","v":"WORLD: Club Friendly"},{"$f":"Список!B681","v":"2021.04.18 16:00"}]
[{"$f":"Список!C682","v":"AEK Athens FC"},{"$f":"Список!D682","v":"Asteras Tripolis"},{"$f":"Список!A682","v":"GREECE: Super League - Championship Group"},{"$f":"Список!B682","v":"2021.04.18 16:15"}]
[{"$f":"Список!C683","v":"Alaves"},{"$f":"Список!D683","v":"Huesca"},{"$f":"Список!A683","v":"SPAIN: LaLiga"},{"$f":"Список!B683","v":"2021.04.18 16:15"}]
[{"$f":"Список!C684","v":"Atl. Madrid"},{"$f":"Список!D684","v":"Eibar"},{"$f":"Список!A684","v":"SPAIN: LaLiga"},{"$f":"Список!B684","v":"2021.04.18 16:15"}]
[{"$f":"Список!C685","v":"Dep. Fabril"},{"$f":"Список!D685","v":"Rapido de Bouzas"},{"$f":"Список!A685","v":"SPAIN: Tercera Division - Group 1 - Second stage"},{"$f":"Список!B685","v":"2021.04.18 16:15"}]
[{"$f":"Список!C686","v":"Pitea"},{"$f":"Список!D686","v":"Hammarby TFF"},{"$f":"Список!A686","v":"SWEDEN: Division 1 - Norra"},{"$f":"Список!B686","v":"2021.04.18 16:15"}]
[{"$f":"Список!C687","v":"FC Santa Coloma"},{"$f":"Список!D687","v":"Inter Escaldes"},{"$f":"Список!A687","v":"ANDORRA: Primera Divisió - Championship Group"},{"$f":"Список!B687","v":"2021.04.18 16:30"}]
[{"$f":"Список!C688","v":"GOSK Gabela"},{"$f":"Список!D688","v":"Banovici"},{"$f":"Список!A688","v":"BOSNIA AND HERZEGOVINA: Prva Liga - FBiH"},{"$f":"Список!B688","v":"2021.04.18 16:30"}]
[{"$f":"Список!C689","v":"Sloga Mravince"},{"$f":"Список!D689","v":"Zmaj Makarska"},{"$f":"Список!A689","v":"CROATIA: 3. HNL South"},{"$f":"Список!B689","v":"2021.04.18 16:30"}]
[{"$f":"Список!C690","v":"Urania Baska Voda"},{"$f":"Список!D690","v":"Hrvace"},{"$f":"Список!A690","v":"CROATIA: 3. HNL South"},{"$f":"Список!B690","v":"2021.04.18 16:30"}]
[{"$f":"Список!C691","v":"AS Vita Club"},{"$f":"Список!D691","v":"St Eloi Lupopo"},{"$f":"Список!A691","v":"DR CONGO: Ligue 1"},{"$f":"Список!B691","v":"2021.04.18 16:30"}]
[{"$f":"Список!C692","v":"Blessing"},{"$f":"Список!D692","v":"Mazembe"},{"$f":"Список!A692","v":"DR CONGO: Ligue 1"},{"$f":"Список!B692","v":"2021.04.18 16:30"}]
[{"$f":"Список!C693","v":"Dauphins Noirs"},{"$f":"Список!D693","v":"St Eloi Lupopo"},{"$f":"Список!A693","v":"DR CONGO: Ligue 1"},{"$f":"Список!B693","v":"2021.04.18 16:30"}]
[{"$f":"Список!C694","v":"Maniema"},{"$f":"Список!D694","v":"Simba"},{"$f":"Список!A694","v":"DR CONGO: Ligue 1"},{"$f":"Список!B694","v":"2021.04.18 16:30"}]
[{"$f":"Список!C695","v":"Mazembe"},{"$f":"Список!D695","v":"AS Vita Club"},{"$f":"Список!A695","v":"DR CONGO: Ligue 1"},{"$f":"Список!B695","v":"2021.04.18 16:30"}]
[{"$f":"Список!C696","v":"Sanga Balende"},{"$f":"Список!D696","v":"Motema Pembe"},{"$f":"Список!A696","v":"DR CONGO: Ligue 1"},{"$f":"Список!B696","v":"2021.04.18 16:30"}]
[{"$f":"Список!C697","v":"Kamsar"},{"$f":"Список!D697","v":"Satellite"},{"$f":"Список!A697","v":"GUINEA: Ligue 1"},{"$f":"Список!B697","v":"2021.04.18 16:30"}]
[{"$f":"Список!C698","v":"Wiazownica"},{"$f":"Список!D698","v":"LKS Lagow"},{"$f":"Список!A698","v":"POLAND: III Liga - Group IV"},{"$f":"Список!B698","v":"2021.04.18 16:30"}]
[{"$f":"Список!C699","v":"Borac Sakule"},{"$f":"Список!D699","v":"Stari Banovci"},{"$f":"Список!A699","v":"SERBIA: Srpska Liga - Vojvodina"},{"$f":"Список!B699","v":"2021.04.18 16:30"}]
[{"$f":"Список!C700","v":"Tisa Adorjan"},{"$f":"Список!D700","v":"Backa 1901"},{"$f":"Список!A700","v":"SERBIA: Srpska Liga - Vojvodina"},{"$f":"Список!B700","v":"2021.04.18 16:30"}]
[{"$f":"Список!C701","v":"Kablovi"},{"$f":"Список!D701","v":"Radan Lebane"},{"$f":"Список!A701","v":"SERBIA: Srpska Liga - East"},{"$f":"Список!B701","v":"2021.04.18 16:30"}]
[{"$f":"Список!C702","v":"Medosevac"},{"$f":"Список!D702","v":"Vlasina"},{"$f":"Список!A702","v":"SERBIA: Srpska Liga - East"},{"$f":"Список!B702","v":"2021.04.18 16:30"}]
[{"$f":"Список!C703","v":"Peralada"},{"$f":"Список!D703","v":"Igualada"},{"$f":"Список!A703","v":"SPAIN: Tercera Division - Group 5 - Relegation Group"},{"$f":"Список!B703","v":"2021.04.18 16:30"}]
[{"$f":"Список!C704","v":"Santa Marta Tormes"},{"$f":"Список!D704","v":"Colegios Diocesanos"},{"$f":"Список!A704","v":"SPAIN: Tercera Division - Group 8 - Relegation Group"},{"$f":"Список!B704","v":"2021.04.18 16:30"}]
[{"$f":"Список!C705","v":"Cartagena FC"},{"$f":"Список!D705","v":"UD Los Garres"},{"$f":"Список!A705","v":"SPAIN: Tercera Division - Group 13 - Second stage"},{"$f":"Список!B705","v":"2021.04.18 16:30"}]
[{"$f":"Список!C706","v":"Murchante"},{"$f":"Список!D706","v":"Burlades"},{"$f":"Список!A706","v":"SPAIN: Tercera Division - Group 15 - Second stage"},{"$f":"Список!B706","v":"2021.04.18 16:30"}]
[{"$f":"Список!C707","v":"Rapid Vienna"},{"$f":"Список!D707","v":"Sturm Graz"},{"$f":"Список!A707","v":"AUSTRIA: Tipico Bundesliga - Championship Group"},{"$f":"Список!B707","v":"2021.04.18 17:00"}]
[{"$f":"Список!C708","v":"Arsenal Dzyarzhynsk"},{"$f":"Список!D708","v":"Petrikov"},{"$f":"Список!A708","v":"BELARUS: Pershaya Liga"},{"$f":"Список!B708","v":"2021.04.18 17:00"}]
[{"$f":"Список!C709","v":"Bobruichanka W"},{"$f":"Список!D709","v":"Vitebsk W"},{"$f":"Список!A709","v":"BELARUS: Vysshaya Liga Women"},{"$f":"Список!B709","v":"2021.04.18 17:00"}]
[{"$f":"Список!C710","v":"Din. Minsk W"},{"$f":"Список!D710","v":"Neman W"},{"$f":"Список!A710","v":"BELARUS: Vysshaya Liga Women"},{"$f":"Список!B710","v":"2021.04.18 17:00"}]
[{"$f":"Список!C711","v":"AS Cotonou"},{"$f":"Список!D711","v":"Dynamo Parakou"},{"$f":"Список!A711","v":"BENIN: Ligue 1 - Championship Group"},{"$f":"Список!B711","v":"2021.04.18 17:00"}]
[{"$f":"Список!C712","v":"Ayema"},{"$f":"Список!D712","v":"FC Esae"},{"$f":"Список!A712","v":"BENIN: Ligue 1 - Championship Group"},{"$f":"Список!B712","v":"2021.04.18 17:00"}]
[{"$f":"Список!C713","v":"Bembereke"},{"$f":"Список!D713","v":"Requins"},{"$f":"Список!A713","v":"BENIN: Ligue 1 - Championship Group"},{"$f":"Список!B713","v":"2021.04.18 17:00"}]
[{"$f":"Список!C714","v":"Buffles du Borgou"},{"$f":"Список!D714","v":"Eternel"},{"$f":"Список!A714","v":"BENIN: Ligue 1 - Championship Group"},{"$f":"Список!B714","v":"2021.04.18 17:00"}]
[{"$f":"Список!C715","v":"Dragons"},{"$f":"Список!D715","v":"Damissa"},{"$f":"Список!A715","v":"BENIN: Ligue 1 - Championship Group"},{"$f":"Список!B715","v":"2021.04.18 17:00"}]
[{"$f":"Список!C716","v":"Hodio"},{"$f":"Список!D716","v":"ASOS"},{"$f":"Список!A716","v":"BENIN: Ligue 1 - Championship Group"},{"$f":"Список!B716","v":"2021.04.18 17:00"}]
[{"$f":"Список!C717","v":"Radnik Bijeljina"},{"$f":"Список!D717","v":"Zeljeznicar"},{"$f":"Список!A717","v":"BOSNIA AND HERZEGOVINA: Premier League"},{"$f":"Список!B717","v":"2021.04.18 17:00"}]
[{"$f":"Список!C718","v":"Cobresal"},{"$f":"Список!D718","v":"S. Wanderers"},{"$f":"Список!A718","v":"CHILE: Primera Division"},{"$f":"Список!B718","v":"2021.04.18 17:00"}]
[{"$f":"Список!C719","v":"Granicar Zupanja"},{"$f":"Список!D719","v":"Cepin"},{"$f":"Список!A719","v":"CROATIA: 3. HNL East"},{"$f":"Список!B719","v":"2021.04.18 17:00"}]
[{"$f":"Список!C720","v":"Hradec Kralove"},{"$f":"Список!D720","v":"Trinec"},{"$f":"Список!A720","v":"CZECH REPUBLIC: Division 2"},{"$f":"Список!B720","v":"2021.04.18 17:00"}]
[{"$f":"Список!C721","v":"Jihlava"},{"$f":"Список!D721","v":"Dukla Prague"},{"$f":"Список!A721","v":"CZECH REPUBLIC: Division 2"},{"$f":"Список!B721","v":"2021.04.18 17:00"}]
[{"$f":"Список!C722","v":"Mas Taborsko"},{"$f":"Список!D722","v":"Blansko"},{"$f":"Список!A722","v":"CZECH REPUBLIC: Division 2"},{"$f":"Список!B722","v":"2021.04.18 17:00"}]
[{"$f":"Список!C723","v":"Vlasim"},{"$f":"Список!D723","v":"Varnsdorf"},{"$f":"Список!A723","v":"CZECH REPUBLIC: Division 2"},{"$f":"Список!B723","v":"2021.04.18 17:00"}]
[{"$f":"Список!C724","v":"Manchester Utd"},{"$f":"Список!D724","v":"Burnley"},{"$f":"Список!A724","v":"ENGLAND: Premier League"},{"$f":"Список!B724","v":"2021.04.18 17:00"}]
[{"$f":"Список!C725","v":"Krymteplytsia"},{"$f":"Список!D725","v":"Ocean Kerch"},{"$f":"Список!A725","v":"EUROPE: Premier League (Crimea)"},{"$f":"Список!B725","v":"2021.04.18 17:00"}]
[{"$f":"Список!C726","v":"Bechem United"},{"$f":"Список!D726","v":"Aduana Stars"},{"$f":"Список!A726","v":"GHANA: Premier League"},{"$f":"Список!B726","v":"2021.04.18 17:00"}]
[{"$f":"Список!C727","v":"Berekum Chelsea"},{"$f":"Список!D727","v":"Ebusua"},{"$f":"Список!A727","v":"GHANA: Premier League"},{"$f":"Список!B727","v":"2021.04.18 17:00"}]
[{"$f":"Список!C728","v":"Dreams"},{"$f":"Список!D728","v":"Karela"},{"$f":"Список!A728","v":"GHANA: Premier League"},{"$f":"Список!B728","v":"2021.04.18 17:00"}]
[{"$f":"Список!C729","v":"Eleven Wonders"},{"$f":"Список!D729","v":"Liberty"},{"$f":"Список!A729","v":"GHANA: Premier League"},{"$f":"Список!B729","v":"2021.04.18 17:00"}]
[{"$f":"Список!C730","v":"Medeama"},{"$f":"Список!D730","v":"Legon Cities"},{"$f":"Список!A730","v":"GHANA: Premier League"},{"$f":"Список!B730","v":"2021.04.18 17:00"}]
[{"$f":"Список!C731","v":"Bekescsaba 1912"},{"$f":"Список!D731","v":"Haladas"},{"$f":"Список!A731","v":"HUNGARY: Merkantil Bank Liga"},{"$f":"Список!B731","v":"2021.04.18 17:00"}]
[{"$f":"Список!C732","v":"Budaorsi SC"},{"$f":"Список!D732","v":"Kazincbarcikai"},{"$f":"Список!A732","v":"HUNGARY: Merkantil Bank Liga"},{"$f":"Список!B732","v":"2021.04.18 17:00"}]
[{"$f":"Список!C733","v":"Csakvari"},{"$f":"Список!D733","v":"Szentlorinc"},{"$f":"Список!A733","v":"HUNGARY: Merkantil Bank Liga"},{"$f":"Список!B733","v":"2021.04.18 17:00"}]
[{"$f":"Список!C734","v":"Debreceni EAC"},{"$f":"Список!D734","v":"Ajka"},{"$f":"Список!A734","v":"HUNGARY: Merkantil Bank Liga"},{"$f":"Список!B734","v":"2021.04.18 17:00"}]
[{"$f":"Список!C735","v":"Dorogi"},{"$f":"Список!D735","v":"Szolnoki MAV"},{"$f":"Список!A735","v":"HUNGARY: Merkantil Bank Liga"},{"$f":"Список!B735","v":"2021.04.18 17:00"}]
[{"$f":"Список!C736","v":"Kaposvar"},{"$f":"Список!D736","v":"Vasas"},{"$f":"Список!A736","v":"HUNGARY: Merkantil Bank Liga"},{"$f":"Список!B736","v":"2021.04.18 17:00"}]
[{"$f":"Список!C737","v":"Nyiregyhaza"},{"$f":"Список!D737","v":"Siofok"},{"$f":"Список!A737","v":"HUNGARY: Merkantil Bank Liga"},{"$f":"Список!B737","v":"2021.04.18 17:00"}]
[{"$f":"Список!C738","v":"Pecsi MFC"},{"$f":"Список!D738","v":"Szeged"},{"$f":"Список!A738","v":"HUNGARY: Merkantil Bank Liga"},{"$f":"Список!B738","v":"2021.04.18 17:00"}]
[{"$f":"Список!C739","v":"Soroksar"},{"$f":"Список!D739","v":"Gyirmot"},{"$f":"Список!A739","v":"HUNGARY: Merkantil Bank Liga"},{"$f":"Список!B739","v":"2021.04.18 17:00"}]
[{"$f":"Список!C740","v":"Cegledi"},{"$f":"Список!D740","v":"Tiszakecske"},{"$f":"Список!A740","v":"HUNGARY: NB III - East"},{"$f":"Список!B740","v":"2021.04.18 17:00"}]
[{"$f":"Список!C741","v":"DVTK II"},{"$f":"Список!D741","v":"BVSC-Zuglo"},{"$f":"Список!A741","v":"HUNGARY: NB III - East"},{"$f":"Список!B741","v":"2021.04.18 17:00"}]
[{"$f":"Список!C742","v":"Fuzesgyarmati SK"},{"$f":"Список!D742","v":"Tallya"},{"$f":"Список!A742","v":"HUNGARY: NB III - East"},{"$f":"Список!B742","v":"2021.04.18 17:00"}]
[{"$f":"Список!C743","v":"Gyongyosi"},{"$f":"Список!D743","v":"Putnok"},{"$f":"Список!A743","v":"HUNGARY: NB III - East"},{"$f":"Список!B743","v":"2021.04.18 17:00"}]
[{"$f":"Список!C744","v":"Hatvan"},{"$f":"Список!D744","v":"Eger SE"},{"$f":"Список!A744","v":"HUNGARY: NB III - East"},{"$f":"Список!B744","v":"2021.04.18 17:00"}]
[{"$f":"Список!C745","v":"Jaszberenyi"},{"$f":"Список!D745","v":"Senyo Carnifex"},{"$f":"Список!A745","v":"HUNGARY: NB III - East"},{"$f":"Список!B745","v":"2021.04.18 17:00"}]
[{"$f":"Список!C746","v":"Kisvarda II"},{"$f":"Список!D746","v":"Balassagyarmat"},{"$f":"Список!A746","v":"HUNGARY: NB III - East"},{"$f":"Список!B746","v":"2021.04.18 17:00"}]
[{"$f":"Список!C747","v":"Sajobabony"},{"$f":"Список!D747","v":"Tiszafuredi"},{"$f":"Список!A747","v":"HUNGARY: NB III - East"},{"$f":"Список!B747","v":"2021.04.18 17:00"}]
[{"$f":"Список!C748","v":"Tiszaujvaros"},{"$f":"Список!D748","v":"SBTC"},{"$f":"Список!A748","v":"HUNGARY: NB III - East"},{"$f":"Список!B748","v":"2021.04.18 17:00"}]
[{"$f":"Список!C749","v":"Dunaujvaros PASE"},{"$f":"Список!D749","v":"Monori"},{"$f":"Список!A749","v":"HUNGARY: NB III - Centre"},{"$f":"Список!B749","v":"2021.04.18 17:00"}]
[{"$f":"Список!C750","v":"ESMTK Budapest"},{"$f":"Список!D750","v":"Dabas-Gyon"},{"$f":"Список!A750","v":"HUNGARY: NB III - Centre"},{"$f":"Список!B750","v":"2021.04.18 17:00"}]
[{"$f":"Список!C751","v":"FC Dabas"},{"$f":"Список!D751","v":"Kecskemeti TE"},{"$f":"Список!A751","v":"HUNGARY: NB III - Centre"},{"$f":"Список!B751","v":"2021.04.18 17:00"}]
[{"$f":"Список!C752","v":"Hodmezovasarhely FC"},{"$f":"Список!D752","v":"Taksony"},{"$f":"Список!A752","v":"HUNGARY: NB III - Centre"},{"$f":"Список!B752","v":"2021.04.18 17:00"}]
[{"$f":"Список!C753","v":"Ivancsa"},{"$f":"Список!D753","v":"Paks II"},{"$f":"Список!A753","v":"HUNGARY: NB III - Centre"},{"$f":"Список!B753","v":"2021.04.18 17:00"}]
[{"$f":"Список!C754","v":"Rakosmenti KSK"},{"$f":"Список!D754","v":"Ujpest II"},{"$f":"Список!A754","v":"HUNGARY: NB III - Centre"},{"$f":"Список!B754","v":"2021.04.18 17:00"}]
[{"$f":"Список!C755","v":"Szegedi"},{"$f":"Список!D755","v":"Majosi"},{"$f":"Список!A755","v":"HUNGARY: NB III - Centre"},{"$f":"Список!B755","v":"2021.04.18 17:00"}]
[{"$f":"Список!C756","v":"Szekszardi"},{"$f":"Список!D756","v":"Korosladany MSK"},{"$f":"Список!A756","v":"HUNGARY: NB III - Centre"},{"$f":"Список!B756","v":"2021.04.18 17:00"}]
[{"$f":"Список!C757","v":"Vac"},{"$f":"Список!D757","v":"Kozarmisleny SE"},{"$f":"Список!A757","v":"HUNGARY: NB III - Centre"},{"$f":"Список!B757","v":"2021.04.18 17:00"}]
[{"$f":"Список!C758","v":"Bicskei"},{"$f":"Список!D758","v":"MOL Fehervar II"},{"$f":"Список!A758","v":"HUNGARY: NB III - West"},{"$f":"Список!B758","v":"2021.04.18 17:00"}]
[{"$f":"Список!C759","v":"III. Keruleti TVE"},{"$f":"Список!D759","v":"Balatonfuredi"},{"$f":"Список!A759","v":"HUNGARY: NB III - West"},{"$f":"Список!B759","v":"2021.04.18 17:00"}]
[{"$f":"Список!C760","v":"Lipot"},{"$f":"Список!D760","v":"Erdi"},{"$f":"Список!A760","v":"HUNGARY: NB III - West"},{"$f":"Список!B760","v":"2021.04.18 17:00"}]
[{"$f":"Список!C761","v":"Menfocsanak"},{"$f":"Список!D761","v":"Mosonmagyarovari TE"},{"$f":"Список!A761","v":"HUNGARY: NB III - West"},{"$f":"Список!B761","v":"2021.04.18 17:00"}]
[{"$f":"Список!C762","v":"Nagyatadi"},{"$f":"Список!D762","v":"Veszprem"},{"$f":"Список!A762","v":"HUNGARY: NB III - West"},{"$f":"Список!B762","v":"2021.04.18 17:00"}]
[{"$f":"Список!C763","v":"Nagykanizsa"},{"$f":"Список!D763","v":"Gardony Varosi"},{"$f":"Список!A763","v":"HUNGARY: NB III - West"},{"$f":"Список!B763","v":"2021.04.18 17:00"}]
[{"$f":"Список!C764","v":"DMD"},{"$f":"Список!D764","v":"FC Zamfara"},{"$f":"Список!A764","v":"NIGERIA: NNL"},{"$f":"Список!B764","v":"2021.04.18 17:00"}]
[{"$f":"Список!C765","v":"Nigeria Airforce FC"},{"$f":"Список!D765","v":"Green Beret"},{"$f":"Список!A765","v":"NIGERIA: NNL"},{"$f":"Список!B765","v":"2021.04.18 17:00"}]
[{"$f":"Список!C766","v":"Oyah Sports"},{"$f":"Список!D766","v":"Gombe"},{"$f":"Список!A766","v":"NIGERIA: NNL"},{"$f":"Список!B766","v":"2021.04.18 17:00"}]
[{"$f":"Список!C767","v":"Ol. Grudziadz"},{"$f":"Список!D767","v":"Pogon Siedlce"},{"$f":"Список!A767","v":"POLAND: Division 2"},{"$f":"Список!B767","v":"2021.04.18 17:00"}]
[{"$f":"Список!C768","v":"Legionowo"},{"$f":"Список!D768","v":"Polonia Warszawa"},{"$f":"Список!A768","v":"POLAND: III Liga - Group I - Championship Group"},{"$f":"Список!B768","v":"2021.04.18 17:00"}]
[{"$f":"Список!C769","v":"Lewart Lubartow"},{"$f":"Список!D769","v":"Orleta Radzyn"},{"$f":"Список!A769","v":"POLAND: III Liga - Group IV"},{"$f":"Список!B769","v":"2021.04.18 17:00"}]
[{"$f":"Список!C770","v":"Wisloka Debica"},{"$f":"Список!D770","v":"Cracovia 2"},{"$f":"Список!A770","v":"POLAND: III Liga - Group IV"},{"$f":"Список!B770","v":"2021.04.18 17:00"}]
[{"$f":"Список!C771","v":"Albergaria/Durit W"},{"$f":"Список!D771","v":"Torreense W"},{"$f":"Список!A771","v":"PORTUGAL: Liga BPI Women - Championship Group"},{"$f":"Список!B771","v":"2021.04.18 17:00"}]
[{"$f":"Список!C772","v":"A-dos-Francos W"},{"$f":"Список!D772","v":"Damaiense W"},{"$f":"Список!A772","v":"PORTUGAL: Liga BPI Women - Relegation Group"},{"$f":"Список!B772","v":"2021.04.18 17:00"}]
[{"$f":"Список!C773","v":"Amora W"},{"$f":"Список!D773","v":"Estoril Praia W"},{"$f":"Список!A773","v":"PORTUGAL: Liga BPI Women - Relegation Group"},{"$f":"Список!B773","v":"2021.04.18 17:00"}]
[{"$f":"Список!C774","v":"Cadima W"},{"$f":"Список!D774","v":"Valadares Gaia W"},{"$f":"Список!A774","v":"PORTUGAL: Liga BPI Women - Relegation Group"},{"$f":"Список!B774","v":"2021.04.18 17:00"}]
[{"$f":"Список!C775","v":"CF Benfica W"},{"$f":"Список!D775","v":"Ouriense W"},{"$f":"Список!A775","v":"PORTUGAL: Liga BPI Women - Relegation Group"},{"$f":"Список!B775","v":"2021.04.18 17:00"}]
[{"$f":"Список!C776","v":"Gil Vicente W"},{"$f":"Список!D776","v":"Boavista W"},{"$f":"Список!A776","v":"PORTUGAL: Liga BPI Women - Relegation Group"},{"$f":"Список!B776","v":"2021.04.18 17:00"}]
[{"$f":"Список!C777","v":"Ovarense W"},{"$f":"Список!D777","v":"Fiaes SC W"},{"$f":"Список!A777","v":"PORTUGAL: Liga BPI Women - Relegation Group"},{"$f":"Список!B777","v":"2021.04.18 17:00"}]
[{"$f":"Список!C778","v":"Lokomotiv-Kazanka"},{"$f":"Список!D778","v":"Tver"},{"$f":"Список!A778","v":"RUSSIA: PFL - Group 2"},{"$f":"Список!B778","v":"2021.04.18 17:00"}]
[{"$f":"Список!C779","v":"Radomlje W"},{"$f":"Список!D779","v":"Krim W"},{"$f":"Список!A779","v":"SLOVENIA: 1. SZNL Women"},{"$f":"Список!B779","v":"2021.04.18 17:00"}]
[{"$f":"Список!C780","v":"Pontevedra"},{"$f":"Список!D780","v":"Lealtad"},{"$f":"Список!A780","v":"SPAIN: Segunda Division B - Group 1 - Relegation Group"},{"$f":"Список!B780","v":"2021.04.18 17:00"}]
[{"$f":"Список!C781","v":"Salamanca"},{"$f":"Список!D781","v":"Covadonga"},{"$f":"Список!A781","v":"SPAIN: Segunda Division B - Group 1 - Relegation Group"},{"$f":"Список!B781","v":"2021.04.18 17:00"}]
[{"$f":"Список!C782","v":"Compostela"},{"$f":"Список!D782","v":"Langreo"},{"$f":"Список!A782","v":"SPAIN: Segunda Division B - Group 1 - Second stage"},{"$f":"Список!B782","v":"2021.04.18 17:00"}]
[{"$f":"Список!C783","v":"Olot"},{"$f":"Список!D783","v":"Orihuela"},{"$f":"Список!A783","v":"SPAIN: Segunda Division B - Group 3 - Relegation Group"},{"$f":"Список!B783","v":"2021.04.18 17:00"}]
[{"$f":"Список!C784","v":"Linense"},{"$f":"Список!D784","v":"Sevilla FC B"},{"$f":"Список!A784","v":"SPAIN: Segunda Division B - Group 4 - Second stage"},{"$f":"Список!B784","v":"2021.04.18 17:00"}]
[{"$f":"Список!C785","v":"Navalcarnero"},{"$f":"Список!D785","v":"Don Benito"},{"$f":"Список!A785","v":"SPAIN: Segunda Division B - Group 5 - Second stage"},{"$f":"Список!B785","v":"2021.04.18 17:00"}]
[{"$f":"Список!C786","v":"Bergantinos"},{"$f":"Список!D786","v":"Arenteiro"},{"$f":"Список!A786","v":"SPAIN: Tercera Division - Group 1 - Promotion Group"},{"$f":"Список!B786","v":"2021.04.18 17:00"}]
[{"$f":"Список!C787","v":"Somozas"},{"$f":"Список!D787","v":"Arosa SC"},{"$f":"Список!A787","v":"SPAIN: Tercera Division - Group 1 - Promotion Group"},{"$f":"Список!B787","v":"2021.04.18 17:00"}]
[{"$f":"Список!C788","v":"Agrupacion Estudiantil"},{"$f":"Список!D788","v":"Ourense CF"},{"$f":"Список!A788","v":"SPAIN: Tercera Division - Group 1 - Relegation Group"},{"$f":"Список!B788","v":"2021.04.18 17:00"}]
[{"$f":"Список!C789","v":"Arzua"},{"$f":"Список!D789","v":"UD Ourense"},{"$f":"Список!A789","v":"SPAIN: Tercera Division - Group 1 - Relegation Group"},{"$f":"Список!B789","v":"2021.04.18 17:00"}]
[{"$f":"Список!C790","v":"Fisterra"},{"$f":"Список!D790","v":"Pontellas"},{"$f":"Список!A790","v":"SPAIN: Tercera Division - Group 1 - Relegation Group"},{"$f":"Список!B790","v":"2021.04.18 17:00"}]
[{"$f":"Список!C791","v":"Paiosaco"},{"$f":"Список!D791","v":"Atios"},{"$f":"Список!A791","v":"SPAIN: Tercera Division - Group 1 - Relegation Group"},{"$f":"Список!B791","v":"2021.04.18 17:00"}]
[{"$f":"Список!C792","v":"Mosconia"},{"$f":"Список!D792","v":"Condal"},{"$f":"Список!A792","v":"SPAIN: Tercera Division - Group 2 - Relegation Group"},{"$f":"Список!B792","v":"2021.04.18 17:00"}]
[{"$f":"Список!C793","v":"Praviano"},{"$f":"Список!D793","v":"Club Siero"},{"$f":"Список!A793","v":"SPAIN: Tercera Division - Group 2 - Relegation Group"},{"$f":"Список!B793","v":"2021.04.18 17:00"}]
[{"$f":"Список!C794","v":"CD Barquereno"},{"$f":"Список!D794","v":"Castro"},{"$f":"Список!A794","v":"SPAIN: Tercera Division - Group 3 - Relegation Group"},{"$f":"Список!B794","v":"2021.04.18 17:00"}]
[{"$f":"Список!C795","v":"Banyoles"},{"$f":"Список!D795","v":"Montanesa"},{"$f":"Список!A795","v":"SPAIN: Tercera Division - Group 5 - Relegation Group"},{"$f":"Список!B795","v":"2021.04.18 17:00"}]
[{"$f":"Список!C796","v":"Benicarlo"},{"$f":"Список!D796","v":"Villajoyosa"},{"$f":"Список!A796","v":"SPAIN: Tercera Division - Group 6 - Relegation Group"},{"$f":"Список!B796","v":"2021.04.18 17:00"}]
[{"$f":"Список!C797","v":"Flat Earth"},{"$f":"Список!D797","v":"Carabanchel"},{"$f":"Список!A797","v":"SPAIN: Tercera Division - Group 7 - Second stage"},{"$f":"Список!B797","v":"2021.04.18 17:00"}]
[{"$f":"Список!C798","v":"Cristo Atletico"},{"$f":"Список!D798","v":"G. Segoviana"},{"$f":"Список!A798","v":"SPAIN: Tercera Division - Group 8 - Promotion Group"},{"$f":"Список!B798","v":"2021.04.18 17:00"}]
[{"$f":"Список!C799","v":"Becerril"},{"$f":"Список!D799","v":"Bupolsa"},{"$f":"Список!A799","v":"SPAIN: Tercera Division - Group 8 - Relegation Group"},{"$f":"Список!B799","v":"2021.04.18 17:00"}]
[{"$f":"Список!C800","v":"Bembibre"},{"$f":"Список!D800","v":"Mirandes B"},{"$f":"Список!A800","v":"SPAIN: Tercera Division - Group 8 - Second stage"},{"$f":"Список!B800","v":"2021.04.18 17:00"}]
[{"$f":"Список!C801","v":"Cardassar"},{"$f":"Список!D801","v":"Binissalem"},{"$f":"Список!A801","v":"SPAIN: Tercera Division - Group 11 - Relegation Group"},{"$f":"Список!B801","v":"2021.04.18 17:00"}]
[{"$f":"Список!C802","v":"Soller"},{"$f":"Список!D802","v":"Esporles"},{"$f":"Список!A802","v":"SPAIN: Tercera Division - Group 11 - Relegation Group"},{"$f":"Список!B802","v":"2021.04.18 17:00"}]
[{"$f":"Список!C803","v":"Mar Menor"},{"$f":"Список!D803","v":"Aguilas FC"},{"$f":"Список!A803","v":"SPAIN: Tercera Division - Group 13 - Promotion Group"},{"$f":"Список!B803","v":"2021.04.18 17:00"}]
[{"$f":"Список!C804","v":"Deportiva Minera"},{"$f":"Список!D804","v":"EDMF Churra"},{"$f":"Список!A804","v":"SPAIN: Tercera Division - Group 13 - Relegation Group"},{"$f":"Список!B804","v":"2021.04.18 17:00"}]
[{"$f":"Список!C805","v":"Muleno"},{"$f":"Список!D805","v":"Olimpico de Totana"},{"$f":"Список!A805","v":"SPAIN: Tercera Division - Group 13 - Relegation Group"},{"$f":"Список!B805","v":"2021.04.18 17:00"}]
[{"$f":"Список!C806","v":"Mazarron CF"},{"$f":"Список!D806","v":"UCAM Murcia B"},{"$f":"Список!A806","v":"SPAIN: Tercera Division - Group 13 - Second stage"},{"$f":"Список!B806","v":"2021.04.18 17:00"}]
[{"$f":"Список!C807","v":"Cirbonero"},{"$f":"Список!D807","v":"AD San Juan"},{"$f":"Список!A807","v":"SPAIN: Tercera Division - Group 15 - Promotion Group"},{"$f":"Список!B807","v":"2021.04.18 17:00"}]
[{"$f":"Список!C808","v":"Pena Azagresa"},{"$f":"Список!D808","v":"Subiza"},{"$f":"Список!A808","v":"SPAIN: Tercera Division - Group 15 - Relegation Group"},{"$f":"Список!B808","v":"2021.04.18 17:00"}]
[{"$f":"Список!C809","v":"Alfaro"},{"$f":"Список!D809","v":"Racing Rioja"},{"$f":"Список!A809","v":"SPAIN: Tercera Division - Group 16 - Promotion Group"},{"$f":"Список!B809","v":"2021.04.18 17:00"}]
[{"$f":"Список!C810","v":"Anguiano"},{"$f":"Список!D810","v":"Naxara"},{"$f":"Список!A810","v":"SPAIN: Tercera Division - Group 16 - Promotion Group"},{"$f":"Список!B810","v":"2021.04.18 17:00"}]
[{"$f":"Список!C811","v":"CDFC Calzada"},{"$f":"Список!D811","v":"Casalarreina"},{"$f":"Список!A811","v":"SPAIN: Tercera Division - Group 16 - Second stage"},{"$f":"Список!B811","v":"2021.04.18 17:00"}]
[{"$f":"Список!C812","v":"Oyonesa"},{"$f":"Список!D812","v":"Yague"},{"$f":"Список!A812","v":"SPAIN: Tercera Division - Group 16 - Second stage"},{"$f":"Список!B812","v":"2021.04.18 17:00"}]
[{"$f":"Список!C813","v":"Teruel"},{"$f":"Список!D813","v":"Cuarte"},{"$f":"Список!A813","v":"SPAIN: Tercera Division - Group 17 - Promotion Group"},{"$f":"Список!B813","v":"2021.04.18 17:00"}]
[{"$f":"Список!C814","v":"Epila"},{"$f":"Список!D814","v":"Atletico Monzon"},{"$f":"Список!A814","v":"SPAIN: Tercera Division - Group 17 - Relegation Group"},{"$f":"Список!B814","v":"2021.04.18 17:00"}]
[{"$f":"Список!C815","v":"CF Illueca"},{"$f":"Список!D815","v":"Barbastro"},{"$f":"Список!A815","v":"SPAIN: Tercera Division - Group 17 - Second stage"},{"$f":"Список!B815","v":"2021.04.18 17:00"}]
[{"$f":"Список!C816","v":"Atl. Ibanes"},{"$f":"Список!D816","v":"Conquense"},{"$f":"Список!A816","v":"SPAIN: Tercera Division - Group 18 - Relegation Group"},{"$f":"Список!B816","v":"2021.04.18 17:00"}]
[{"$f":"Список!C817","v":"Huracan de Balazote"},{"$f":"Список!D817","v":"Villacanas"},{"$f":"Список!A817","v":"SPAIN: Tercera Division - Group 18 - Second stage"},{"$f":"Список!B817","v":"2021.04.18 17:00"}]
[{"$f":"Список!C818","v":"Linkopings W"},{"$f":"Список!D818","v":"Rosengard W"},{"$f":"Список!A818","v":"SWEDEN: Allsvenskan Women"},{"$f":"Список!B818","v":"2021.04.18 17:00"}]
[{"$f":"Список!C819","v":"Anges de Notse"},{"$f":"Список!D819","v":"OTR"},{"$f":"Список!A819","v":"TOGO: Championnat National"},{"$f":"Список!B819","v":"2021.04.18 17:00"}]
[{"$f":"Список!C820","v":"Dynamic Togolais"},{"$f":"Список!D820","v":"Maranatha"},{"$f":"Список!A820","v":"TOGO: Championnat National"},{"$f":"Список!B820","v":"2021.04.18 17:00"}]
[{"$f":"Список!C821","v":"Entente II"},{"$f":"Список!D821","v":"Gbohloe-Su"},{"$f":"Список!A821","v":"TOGO: Championnat National"},{"$f":"Список!B821","v":"2021.04.18 17:00"}]
[{"$f":"Список!C822","v":"Gomido"},{"$f":"Список!D822","v":"AS Togo-Port"},{"$f":"Список!A822","v":"TOGO: Championnat National"},{"$f":"Список!B822","v":"2021.04.18 17:00"}]
[{"$f":"Список!C823","v":"Ifodje"},{"$f":"Список!D823","v":"Unisport"},{"$f":"Список!A823","v":"TOGO: Championnat National"},{"$f":"Список!B823","v":"2021.04.18 17:00"}]
[{"$f":"Список!C824","v":"Sara Sport"},{"$f":"Список!D824","v":"Koroki Metete"},{"$f":"Список!A824","v":"TOGO: Championnat National"},{"$f":"Список!B824","v":"2021.04.18 17:00"}]
[{"$f":"Список!C825","v":"Semassi"},{"$f":"Список!D825","v":"Kara"},{"$f":"Список!A825","v":"TOGO: Championnat National"},{"$f":"Список!B825","v":"2021.04.18 17:00"}]
[{"$f":"Список!C826","v":"Bordeaux"},{"$f":"Список!D826","v":"Monaco"},{"$f":"Список!A826","v":"FRANCE: Ligue 1"},{"$f":"Список!B826","v":"2021.04.18 17:05"}]
[{"$f":"Список!C827","v":"Glasgow City W"},{"$f":"Список!D827","v":"Motherwell W"},{"$f":"Список!A827","v":"SCOTLAND: SWPL 1 Women"},{"$f":"Список!B827","v":"2021.04.18 17:10"}]
[{"$f":"Список!C828","v":"Tsarsko Selo"},{"$f":"Список!D828","v":"CSKA Sofia"},{"$f":"Список!A828","v":"BULGARIA: Parva liga"},{"$f":"Список!B828","v":"2021.04.18 17:30"}]
[{"$f":"Список!C829","v":"Honved"},{"$f":"Список!D829","v":"MOL Fehervar"},{"$f":"Список!A829","v":"HUNGARY: OTP Bank Liga"},{"$f":"Список!B829","v":"2021.04.18 17:30"}]
[{"$f":"Список!C830","v":"Grosseto"},{"$f":"Список!D830","v":"Pro Sesto"},{"$f":"Список!A830","v":"ITALY: Serie C - Group A"},{"$f":"Список!B830","v":"2021.04.18 17:30"}]
[{"$f":"Список!C831","v":"Livorno"},{"$f":"Список!D831","v":"Como"},{"$f":"Список!A831","v":"ITALY: Serie C - Group A"},{"$f":"Список!B831","v":"2021.04.18 17:30"}]
[{"$f":"Список!C832","v":"Piacenza"},{"$f":"Список!D832","v":"AlbinoLeffe"},{"$f":"Список!A832","v":"ITALY: Serie C - Group A"},{"$f":"Список!B832","v":"2021.04.18 17:30"}]
[{"$f":"Список!C833","v":"Renate"},{"$f":"Список!D833","v":"Juventus U23"},{"$f":"Список!A833","v":"ITALY: Serie C - Group A"},{"$f":"Список!B833","v":"2021.04.18 17:30"}]
[{"$f":"Список!C834","v":"FeralpiSalo"},{"$f":"Список!D834","v":"Carpi"},{"$f":"Список!A834","v":"ITALY: Serie C - Group B"},{"$f":"Список!B834","v":"2021.04.18 17:30"}]
[{"$f":"Список!C835","v":"Modena"},{"$f":"Список!D835","v":"Padova"},{"$f":"Список!A835","v":"ITALY: Serie C - Group B"},{"$f":"Список!B835","v":"2021.04.18 17:30"}]
[{"$f":"Список!C836","v":"Potenza"},{"$f":"Список!D836","v":"Monopoli"},{"$f":"Список!A836","v":"ITALY: Serie C - Group C"},{"$f":"Список!B836","v":"2021.04.18 17:30"}]
[{"$f":"Список!C837","v":"Teramo"},{"$f":"Список!D837","v":"Bisceglie"},{"$f":"Список!A837","v":"ITALY: Serie C - Group C"},{"$f":"Список!B837","v":"2021.04.18 17:30"}]
[{"$f":"Список!C838","v":"Stella Adjame"},{"$f":"Список!D838","v":"SOL"},{"$f":"Список!A838","v":"IVORY COAST: Ligue 1"},{"$f":"Список!B838","v":"2021.04.18 17:30"}]
[{"$f":"Список!C839","v":"Tanda"},{"$f":"Список!D839","v":"ASEC Mimosas"},{"$f":"Список!A839","v":"IVORY COAST: Ligue 1"},{"$f":"Список!B839","v":"2021.04.18 17:30"}]
[{"$f":"Список!C840","v":"BEA Mountain"},{"$f":"Список!D840","v":"Nimba Kwado"},{"$f":"Список!A840","v":"LIBERIA: LFA First Division"},{"$f":"Список!B840","v":"2021.04.18 17:30"}]
[{"$f":"Список!C841","v":"Small Town"},{"$f":"Список!D841","v":"Mighty Barrolle"},{"$f":"Список!A841","v":"LIBERIA: LFA First Division"},{"$f":"Список!B841","v":"2021.04.18 17:30"}]
[{"$f":"Список!C842","v":"Watanga"},{"$f":"Список!D842","v":"MC Breweries"},{"$f":"Список!A842","v":"LIBERIA: LFA First Division"},{"$f":"Список!B842","v":"2021.04.18 17:30"}]
[{"$f":"Список!C843","v":"Legia"},{"$f":"Список!D843","v":"Cracovia"},{"$f":"Список!A843","v":"POLAND: Ekstraklasa"},{"$f":"Список!B843","v":"2021.04.18 17:30"}]
[{"$f":"Список!C844","v":"CFR Cluj"},{"$f":"Список!D844","v":"Academica Clinceni"},{"$f":"Список!A844","v":"ROMANIA: Liga 1 - Championship Group"},{"$f":"Список!B844","v":"2021.04.18 17:30"}]
[{"$f":"Список!C845","v":"Pontes"},{"$f":"Список!D845","v":"Barco"},{"$f":"Список!A845","v":"SPAIN: Tercera Division - Group 1 - Relegation Group"},{"$f":"Список!B845","v":"2021.04.18 17:30"}]
[{"$f":"Список!C846","v":"Viveiro"},{"$f":"Список!D846","v":"Ribadumia"},{"$f":"Список!A846","v":"SPAIN: Tercera Division - Group 1 - Relegation Group"},{"$f":"Список!B846","v":"2021.04.18 17:30"}]
[{"$f":"Список!C847","v":"Llanera"},{"$f":"Список!D847","v":"EI San Martin"},{"$f":"Список!A847","v":"SPAIN: Tercera Division - Group 2 - Promotion Group"},{"$f":"Список!B847","v":"2021.04.18 17:30"}]
[{"$f":"Список!C848","v":"Caudal Deportivo"},{"$f":"Список!D848","v":"Tuilla"},{"$f":"Список!A848","v":"SPAIN: Tercera Division - Group 2 - Second stage"},{"$f":"Список!B848","v":"2021.04.18 17:30"}]
[{"$f":"Список!C849","v":"Gijon Industrial"},{"$f":"Список!D849","v":"Basico Urraca"},{"$f":"Список!A849","v":"SPAIN: Tercera Division - Group 2 - Second stage"},{"$f":"Список!B849","v":"2021.04.18 17:30"}]
[{"$f":"Список!C850","v":"Cayon"},{"$f":"Список!D850","v":"Torrelavega"},{"$f":"Список!A850","v":"SPAIN: Tercera Division - Group 3 - Promotion Group"},{"$f":"Список!B850","v":"2021.04.18 17:30"}]
[{"$f":"Список!C851","v":"Textil Escudo"},{"$f":"Список!D851","v":"Vimenor"},{"$f":"Список!A851","v":"SPAIN: Tercera Division - Group 3 - Second stage"},{"$f":"Список!B851","v":"2021.04.18 17:30"}]
[{"$f":"Список!C852","v":"La Baneza"},{"$f":"Список!D852","v":"Real Burgos CF"},{"$f":"Список!A852","v":"SPAIN: Tercera Division - Group 8 - Relegation Group"},{"$f":"Список!B852","v":"2021.04.18 17:30"}]
[{"$f":"Список!C853","v":"Lebrijana"},{"$f":"Список!D853","v":"La Palma"},{"$f":"Список!A853","v":"SPAIN: Tercera Division - Group 10 - Relegation Group"},{"$f":"Список!B853","v":"2021.04.18 17:30"}]
[{"$f":"Список!C854","v":"Huercal-Overa"},{"$f":"Список!D854","v":"Minerva"},{"$f":"Список!A854","v":"SPAIN: Tercera Division - Group 13 - Relegation Group"},{"$f":"Список!B854","v":"2021.04.18 17:30"}]
[{"$f":"Список!C855","v":"Arnedo"},{"$f":"Список!D855","v":"Calahorra B"},{"$f":"Список!A855","v":"SPAIN: Tercera Division - Group 16 - Second stage"},{"$f":"Список!B855","v":"2021.04.18 17:30"}]
[{"$f":"Список!C856","v":"Sarinena"},{"$f":"Список!D856","v":"Carinena"},{"$f":"Список!A856","v":"SPAIN: Tercera Division - Group 17 - Relegation Group"},{"$f":"Список!B856","v":"2021.04.18 17:30"}]
[{"$f":"Список!C857","v":"Villanueva CF"},{"$f":"Список!D857","v":"Valdefierro"},{"$f":"Список!A857","v":"SPAIN: Tercera Division - Group 17 - Relegation Group"},{"$f":"Список!B857","v":"2021.04.18 17:30"}]
[{"$f":"Список!C858","v":"Djurgarden"},{"$f":"Список!D858","v":"Norrkoping"},{"$f":"Список!A858","v":"SWEDEN: Allsvenskan"},{"$f":"Список!B858","v":"2021.04.18 17:30"}]
[{"$f":"Список!C859","v":"Sirius"},{"$f":"Список!D859","v":"Halmstad"},{"$f":"Список!A859","v":"SWEDEN: Allsvenskan"},{"$f":"Список!B859","v":"2021.04.18 17:30"}]
[{"$f":"Список!C860","v":"KKS Kalisz"},{"$f":"Список!D860","v":"Chojniczanka"},{"$f":"Список!A860","v":"POLAND: Division 2"},{"$f":"Список!B860","v":"2021.04.18 17:50"}]
[{"$f":"Список!C861","v":"Primeiro de Agosto"},{"$f":"Список!D861","v":"Wiliet"},{"$f":"Список!A861","v":"ANGOLA: Girabola"},{"$f":"Список!B861","v":"2021.04.18 18:00"}]
[{"$f":"Список!C862","v":"Club Brugge KV"},{"$f":"Список!D862","v":"Mouscron"},{"$f":"Список!A862","v":"BELGIUM: Jupiler League"},{"$f":"Список!B862","v":"2021.04.18 18:00"}]
[{"$f":"Список!C863","v":"Kortrijk"},{"$f":"Список!D863","v":"KV Mechelen"},{"$f":"Список!A863","v":"BELGIUM: Jupiler League"},{"$f":"Список!B863","v":"2021.04.18 18:00"}]
[{"$f":"Список!C864","v":"Leuven"},{"$f":"Список!D864","v":"Waasland-Beveren"},{"$f":"Список!A864","v":"BELGIUM: Jupiler League"},{"$f":"Список!B864","v":"2021.04.18 18:00"}]
[{"$f":"Список!C865","v":"Oostende"},{"$f":"Список!D865","v":"Cercle Brugge KSV"},{"$f":"Список!A865","v":"BELGIUM: Jupiler League"},{"$f":"Список!B865","v":"2021.04.18 18:00"}]
[{"$f":"Список!C866","v":"St. Liege"},{"$f":"Список!D866","v":"Beerschot VA"},{"$f":"Список!A866","v":"BELGIUM: Jupiler League"},{"$f":"Список!B866","v":"2021.04.18 18:00"}]
[{"$f":"Список!C867","v":"St. Truiden"},{"$f":"Список!D867","v":"Anderlecht"},{"$f":"Список!A867","v":"BELGIUM: Jupiler League"},{"$f":"Список!B867","v":"2021.04.18 18:00"}]
[{"$f":"Список!C868","v":"Waregem"},{"$f":"Список!D868","v":"Gent"},{"$f":"Список!A868","v":"BELGIUM: Jupiler League"},{"$f":"Список!B868","v":"2021.04.18 18:00"}]
[{"$f":"Список!C869","v":"ASF Dioulasso"},{"$f":"Список!D869","v":"Royal"},{"$f":"Список!A869","v":"BURKINA FASO: Premier League"},{"$f":"Список!B869","v":"2021.04.18 18:00"}]
[{"$f":"Список!C870","v":"Etoile Filante"},{"$f":"Список!D870","v":"ASFA Yennega"},{"$f":"Список!A870","v":"BURKINA FASO: Premier League"},{"$f":"Список!B870","v":"2021.04.18 18:00"}]
[{"$f":"Список!C871","v":"Sonabel Ouagadougou"},{"$f":"Список!D871","v":"Salitas"},{"$f":"Список!A871","v":"BURKINA FASO: Premier League"},{"$f":"Список!B871","v":"2021.04.18 18:00"}]
[{"$f":"Список!C872","v":"Vitesse"},{"$f":"Список!D872","v":"ASEC Koudougou"},{"$f":"Список!A872","v":"BURKINA FASO: Premier League"},{"$f":"Список!B872","v":"2021.04.18 18:00"}]
[{"$f":"Список!C873","v":"Lautaro"},{"$f":"Список!D873","v":"Deportes Iquique"},{"$f":"Список!A873","v":"CHILE: Primera B"},{"$f":"Список!B873","v":"2021.04.18 18:00"}]
[{"$f":"Список!C874","v":"Brondby"},{"$f":"Список!D874","v":"Aarhus"},{"$f":"Список!A874","v":"DENMARK: Superliga - Championship Group"},{"$f":"Список!B874","v":"2021.04.18 18:00"}]
[{"$f":"Список!C875","v":"Kalju"},{"$f":"Список!D875","v":"Parnu JK Vaprus"},{"$f":"Список!A875","v":"ESTONIA: Meistriliiga"},{"$f":"Список!B875","v":"2021.04.18 18:00"}]
[{"$f":"Список!C876","v":"Ethiopia Bunna"},{"$f":"Список!D876","v":"St. George"},{"$f":"Список!A876","v":"ETHIOPIA: Premier League"},{"$f":"Список!B876","v":"2021.04.18 18:00"}]
[{"$f":"Список!C877","v":"Mainz"},{"$f":"Список!D877","v":"Hertha Berlin"},{"$f":"Список!A877","v":"GERMANY: Bundesliga"},{"$f":"Список!B877","v":"2021.04.18 18:00"}]
[{"$f":"Список!C878","v":"Hapoel Hadera"},{"$f":"Список!D878","v":"Hapoel Haifa"},{"$f":"Список!A878","v":"ISRAEL: Ligat ha'Al - Relegation Group"},{"$f":"Список!B878","v":"2021.04.18 18:00"}]
[{"$f":"Список!C879","v":"Torino"},{"$f":"Список!D879","v":"AS Roma"},{"$f":"Список!A879","v":"ITALY: Serie A"},{"$f":"Список!B879","v":"2021.04.18 18:00"}]
[{"$f":"Список!C880","v":"Freeport"},{"$f":"Список!D880","v":"LPRC Oiler"},{"$f":"Список!A880","v":"LIBERIA: LFA First Division"},{"$f":"Список!B880","v":"2021.04.18 18:00"}]
[{"$f":"Список!C881","v":"Kaedi"},{"$f":"Список!D881","v":"SNIM"},{"$f":"Список!A881","v":"MAURITANIA: Ligue 1"},{"$f":"Список!B881","v":"2021.04.18 18:00"}]
[{"$f":"Список!C882","v":"Raja Beni Mellal"},{"$f":"Список!D882","v":"Union Touarga"},{"$f":"Список!A882","v":"MOROCCO: Botola 2"},{"$f":"Список!B882","v":"2021.04.18 18:00"}]
[{"$f":"Список!C883","v":"Stade Marocain"},{"$f":"Список!D883","v":"Ittihad Khemisset"},{"$f":"Список!A883","v":"MOROCCO: Botola 2"},{"$f":"Список!B883","v":"2021.04.18 18:00"}]
[{"$f":"Список!C884","v":"TAS Casablanca"},{"$f":"Список!D884","v":"Olympique Khouribga"},{"$f":"Список!A884","v":"MOROCCO: Botola 2"},{"$f":"Список!B884","v":"2021.04.18 18:00"}]
[{"$f":"Список!C885","v":"Ajax"},{"$f":"Список!D885","v":"Vitesse"},{"$f":"Список!A885","v":"NETHERLANDS: KNVB Beker"},{"$f":"Список!B885","v":"2021.04.18 18:00"}]
[{"$f":"Список!C886","v":"Oliveirense"},{"$f":"Список!D886","v":"Mafra"},{"$f":"Список!A886","v":"PORTUGAL: Liga Portugal 2"},{"$f":"Список!B886","v":"2021.04.18 18:00"}]
[{"$f":"Список!C887","v":"Spartak Moscow"},{"$f":"Список!D887","v":"Ufa"},{"$f":"Список!A887","v":"RUSSIA: Premier League"},{"$f":"Список!B887","v":"2021.04.18 18:00"}]
[{"$f":"Список!C888","v":"Zamora"},{"$f":"Список!D888","v":"Leonesa"},{"$f":"Список!A888","v":"SPAIN: Segunda Division B - Group 1 - Promotion Group"},{"$f":"Список!B888","v":"2021.04.18 18:00"}]
[{"$f":"Список!C889","v":"Barakaldo"},{"$f":"Список!D889","v":"Haro Deportivo"},{"$f":"Список!A889","v":"SPAIN: Segunda Division B - Group 2 - Relegation Group"},{"$f":"Список!B889","v":"2021.04.18 18:00"}]
[{"$f":"Список!C890","v":"Portugalete"},{"$f":"Список!D890","v":"Ejea"},{"$f":"Список!A890","v":"SPAIN: Segunda Division B - Group 2 - Relegation Group"},{"$f":"Список!B890","v":"2021.04.18 18:00"}]
[{"$f":"Список!C891","v":"Racing Santander"},{"$f":"Список!D891","v":"Osasuna B"},{"$f":"Список!A891","v":"SPAIN: Segunda Division B - Group 2 - Second stage"},{"$f":"Список!B891","v":"2021.04.18 18:00"}]
[{"$f":"Список!C892","v":"R. Union"},{"$f":"Список!D892","v":"Ebro"},{"$f":"Список!A892","v":"SPAIN: Segunda Division B - Group 2 - Second stage"},{"$f":"Список!B892","v":"2021.04.18 18:00"}]
[{"$f":"Список!C893","v":"San Fernando"},{"$f":"Список!D893","v":"Betis B"},{"$f":"Список!A893","v":"SPAIN: Segunda Division B - Group 4 - Promotion Group"},{"$f":"Список!B893","v":"2021.04.18 18:00"}]
[{"$f":"Список!C894","v":"Sanluqueno"},{"$f":"Список!D894","v":"Linares"},{"$f":"Список!A894","v":"SPAIN: Segunda Division B - Group 4 - Promotion Group"},{"$f":"Список!B894","v":"2021.04.18 18:00"}]
[{"$f":"Список!C895","v":"Recreativo Huelva"},{"$f":"Список!D895","v":"Granada CF B"},{"$f":"Список!A895","v":"SPAIN: Segunda Division B - Group 4 - Relegation Group"},{"$f":"Список!B895","v":"2021.04.18 18:00"}]
[{"$f":"Список!C896","v":"Internacional de Madrid"},{"$f":"Список!D896","v":"Extremadura UD"},{"$f":"Список!A896","v":"SPAIN: Segunda Division B - Group 5 - Promotion Group"},{"$f":"Список!B896","v":"2021.04.18 18:00"}]
[{"$f":"Список!C897","v":"Polvorin"},{"$f":"Список!D897","v":"Alondras"},{"$f":"Список!A897","v":"SPAIN: Tercera Division - Group 1 - Promotion Group"},{"$f":"Список!B897","v":"2021.04.18 18:00"}]
[{"$f":"Список!C898","v":"UE Figueres"},{"$f":"Список!D898","v":"Santfeliuenc"},{"$f":"Список!A898","v":"SPAIN: Tercera Division - Group 5 - Relegation Group"},{"$f":"Список!B898","v":"2021.04.18 18:00"}]
[{"$f":"Список!C899","v":"Sant Andreu"},{"$f":"Список!D899","v":"CE Manresa"},{"$f":"Список!A899","v":"SPAIN: Tercera Division - Group 5 - Second stage"},{"$f":"Список!B899","v":"2021.04.18 18:00"}]
[{"$f":"Список!C900","v":"Alzira"},{"$f":"Список!D900","v":"Eldense"},{"$f":"Список!A900","v":"SPAIN: Tercera Division - Group 6 - Promotion Group"},{"$f":"Список!B900","v":"2021.04.18 18:00"}]
[{"$f":"Список!C901","v":"Villarreal C"},{"$f":"Список!D901","v":"Olimpic Xativa"},{"$f":"Список!A901","v":"SPAIN: Tercera Division - Group 6 - Second stage"},{"$f":"Список!B901","v":"2021.04.18 18:00"}]
[{"$f":"Список!C902","v":"Almeria B"},{"$f":"Список!D902","v":"El Palo"},{"$f":"Список!A902","v":"SPAIN: Tercera Division - Group 9 - Promotion Group"},{"$f":"Список!B902","v":"2021.04.18 18:00"}]
[{"$f":"Список!C903","v":"Loja"},{"$f":"Список!D903","v":"Estepona"},{"$f":"Список!A903","v":"SPAIN: Tercera Division - Group 9 - Relegation Group"},{"$f":"Список!B903","v":"2021.04.18 18:00"}]
[{"$f":"Список!C904","v":"Los Barrios"},{"$f":"Список!D904","v":"Cordoba B"},{"$f":"Список!A904","v":"SPAIN: Tercera Division - Group 10 - Second stage"},{"$f":"Список!B904","v":"2021.04.18 18:00"}]
[{"$f":"Список!C905","v":"Lorca FC"},{"$f":"Список!D905","v":"Plus Ultra"},{"$f":"Список!A905","v":"SPAIN: Tercera Division - Group 13 - Relegation Group"},{"$f":"Список!B905","v":"2021.04.18 18:00"}]
[{"$f":"Список!C906","v":"CD Coria"},{"$f":"Список!D906","v":"Cacereno"},{"$f":"Список!A906","v":"SPAIN: Tercera Division - Group 14 - Promotion Group"},{"$f":"Список!B906","v":"2021.04.18 18:00"}]
[{"$f":"Список!C907","v":"Moralo"},{"$f":"Список!D907","v":"Jerez CF"},{"$f":"Список!A907","v":"SPAIN: Tercera Division - Group 14 - Promotion Group"},{"$f":"Список!B907","v":"2021.04.18 18:00"}]
[{"$f":"Список!C908","v":"Llerenense"},{"$f":"Список!D908","v":"Campanario"},{"$f":"Список!A908","v":"SPAIN: Tercera Division - Group 14 - Relegation Group"},{"$f":"Список!B908","v":"2021.04.18 18:00"}]
[{"$f":"Список!C909","v":"RCP Valverdeno"},{"$f":"Список!D909","v":"Lobon"},{"$f":"Список!A909","v":"SPAIN: Tercera Division - Group 14 - Relegation Group"},{"$f":"Список!B909","v":"2021.04.18 18:00"}]
[{"$f":"Список!C910","v":"Trujillo"},{"$f":"Список!D910","v":"Valdivia"},{"$f":"Список!A910","v":"SPAIN: Tercera Division - Group 14 - Relegation Group"},{"$f":"Список!B910","v":"2021.04.18 18:00"}]
[{"$f":"Список!C911","v":"Arroyo"},{"$f":"Список!D911","v":"UP Plasencia"},{"$f":"Список!A911","v":"SPAIN: Tercera Division - Group 14 - Second stage"},{"$f":"Список!B911","v":"2021.04.18 18:00"}]
[{"$f":"Список!C912","v":"Robres"},{"$f":"Список!D912","v":"San Juan Zaragoza"},{"$f":"Список!A912","v":"SPAIN: Tercera Division - Group 17 - Relegation Group"},{"$f":"Список!B912","v":"2021.04.18 18:00"}]
[{"$f":"Список!C913","v":"Albacete B"},{"$f":"Список!D913","v":"Marchamalo"},{"$f":"Список!A913","v":"SPAIN: Tercera Division - Group 18 - Promotion Group"},{"$f":"Список!B913","v":"2021.04.18 18:00"}]
[{"$f":"Список!C914","v":"Puertollano C.F."},{"$f":"Список!D914","v":"Torrijos"},{"$f":"Список!A914","v":"SPAIN: Tercera Division - Group 18 - Promotion Group"},{"$f":"Список!B914","v":"2021.04.18 18:00"}]
[{"$f":"Список!C915","v":"Quintanar"},{"$f":"Список!D915","v":"Toledo"},{"$f":"Список!A915","v":"SPAIN: Tercera Division - Group 18 - Promotion Group"},{"$f":"Список!B915","v":"2021.04.18 18:00"}]
[{"$f":"Список!C916","v":"Basaksehir"},{"$f":"Список!D916","v":"Fenerbahce"},{"$f":"Список!A916","v":"TURKEY: Super Lig"},{"$f":"Список!B916","v":"2021.04.18 18:00"}]
[{"$f":"Список!C917","v":"Istanbulspor AS"},{"$f":"Список!D917","v":"Menemenspor"},{"$f":"Список!A917","v":"TURKEY: 1. Lig"},{"$f":"Список!B917","v":"2021.04.18 18:00"}]
[{"$f":"Список!C918","v":"Cartagena"},{"$f":"Список!D918","v":"Tenerife"},{"$f":"Список!A918","v":"SPAIN: LaLiga2"},{"$f":"Список!B918","v":"2021.04.18 18:15"}]
[{"$f":"Список!C919","v":"Arsenal Sarandi"},{"$f":"Список!D919","v":"Racing Club"},{"$f":"Список!A919","v":"ARGENTINA: Copa de la Liga Profesional"},{"$f":"Список!B919","v":"2021.04.18 18:30"}]
[{"$f":"Список!C920","v":"Atletico Atlanta"},{"$f":"Список!D920","v":"Dep. Riestra"},{"$f":"Список!A920","v":"ARGENTINA: Primera Nacional"},{"$f":"Список!B920","v":"2021.04.18 18:30"}]
[{"$f":"Список!C921","v":"Ol. Nicosia"},{"$f":"Список!D921","v":"AEK Larnaca"},{"$f":"Список!A921","v":"CYPRUS: First Division - Championship Group"},{"$f":"Список!B921","v":"2021.04.18 18:30"}]
[{"$f":"Список!C922","v":"Sparta Prague"},{"$f":"Список!D922","v":"Slovacko"},{"$f":"Список!A922","v":"CZECH REPUBLIC: 1. Liga"},{"$f":"Список!B922","v":"2021.04.18 18:30"}]
[{"$f":"Список!C923","v":"Europa Point"},{"$f":"Список!D923","v":"College 1975 FC"},{"$f":"Список!A923","v":"GIBRALTAR: National League - Relegation Group"},{"$f":"Список!B923","v":"2021.04.18 18:30"}]
[{"$f":"Список!C924","v":"PAOK"},{"$f":"Список!D924","v":"Olympiacos Piraeus"},{"$f":"Список!A924","v":"GREECE: Super League - Championship Group"},{"$f":"Список!B924","v":"2021.04.18 18:30"}]
[{"$f":"Список!C925","v":"AS Douanes de Sikasso"},{"$f":"Список!D925","v":"LC Bamako"},{"$f":"Список!A925","v":"MALI: Premiere Division"},{"$f":"Список!B925","v":"2021.04.18 18:30"}]
[{"$f":"Список!C926","v":"CO Bamako"},{"$f":"Список!D926","v":"AS Nianan"},{"$f":"Список!A926","v":"MALI: Premiere Division"},{"$f":"Список!B926","v":"2021.04.18 18:30"}]
[{"$f":"Список!C927","v":"Sonni"},{"$f":"Список!D927","v":"Onze Createurs"},{"$f":"Список!A927","v":"MALI: Premiere Division"},{"$f":"Список!B927","v":"2021.04.18 18:30"}]
[{"$f":"Список!C928","v":"Nacional"},{"$f":"Список!D928","v":"FC Porto"},{"$f":"Список!A928","v":"PORTUGAL: Primeira Liga"},{"$f":"Список!B928","v":"2021.04.18 18:30"}]
[{"$f":"Список!C929","v":"Orlando Pirates"},{"$f":"Список!D929","v":"Maritzburg Utd"},{"$f":"Список!A929","v":"SOUTH AFRICA: Premier League"},{"$f":"Список!B929","v":"2021.04.18 18:30"}]
[{"$f":"Список!C930","v":"Betis"},{"$f":"Список!D930","v":"Valencia"},{"$f":"Список!A930","v":"SPAIN: LaLiga"},{"$f":"Список!B930","v":"2021.04.18 18:30"}]
[{"$f":"Список!C931","v":"Cadiz CF"},{"$f":"Список!D931","v":"Celta Vigo"},{"$f":"Список!A931","v":"SPAIN: LaLiga"},{"$f":"Список!B931","v":"2021.04.18 18:30"}]
[{"$f":"Список!C932","v":"Mancha"},{"$f":"Список!D932","v":"Velez"},{"$f":"Список!A932","v":"SPAIN: Tercera Division - Group 9 - Promotion Group"},{"$f":"Список!B932","v":"2021.04.18 18:30"}]
[{"$f":"Список!C933","v":"Torredonjimeno"},{"$f":"Список!D933","v":"Antequera"},{"$f":"Список!A933","v":"SPAIN: Tercera Division - Group 9 - Promotion Group"},{"$f":"Список!B933","v":"2021.04.18 18:30"}]
[{"$f":"Список!C934","v":"Huetor Tajar"},{"$f":"Список!D934","v":"Alhaurin"},{"$f":"Список!A934","v":"SPAIN: Tercera Division - Group 9 - Second stage"},{"$f":"Список!B934","v":"2021.04.18 18:30"}]
[{"$f":"Список!C935","v":"Xerez CD"},{"$f":"Список!D935","v":"Puente Genil"},{"$f":"Список!A935","v":"SPAIN: Tercera Division - Group 10 - Promotion Group"},{"$f":"Список!B935","v":"2021.04.18 18:30"}]
[{"$f":"Список!C936","v":"Xerez D.F.C."},{"$f":"Список!D936","v":"San Roque"},{"$f":"Список!A936","v":"SPAIN: Tercera Division - Group 10 - Promotion Group"},{"$f":"Список!B936","v":"2021.04.18 18:30"}]
[{"$f":"Список!C937","v":"Conil"},{"$f":"Список!D937","v":"Castilleja CF"},{"$f":"Список!A937","v":"SPAIN: Tercera Division - Group 10 - Relegation Group"},{"$f":"Список!B937","v":"2021.04.18 18:30"}]
[{"$f":"Список!C938","v":"Agoncillo"},{"$f":"Список!D938","v":"River Ebro"},{"$f":"Список!A938","v":"SPAIN: Tercera Division - Group 16 - Relegation Group"},{"$f":"Список!B938","v":"2021.04.18 18:30"}]
[{"$f":"Список!C939","v":"La Solana"},{"$f":"Список!D939","v":"Pedroneras"},{"$f":"Список!A939","v":"SPAIN: Tercera Division - Group 18 - Relegation Group"},{"$f":"Список!B939","v":"2021.04.18 18:30"}]
[{"$f":"Список!C940","v":"Kolos Kovalivka"},{"$f":"Список!D940","v":"Dnipro-1"},{"$f":"Список!A940","v":"UKRAINE: Premier League"},{"$f":"Список!B940","v":"2021.04.18 18:30"}]
[{"$f":"Список!C941","v":"Siroki Brijeg"},{"$f":"Список!D941","v":"Velez Mostar"},{"$f":"Список!A941","v":"BOSNIA AND HERZEGOVINA: Premier League"},{"$f":"Список!B941","v":"2021.04.18 19:00"}]
[{"$f":"Список!C942","v":"Valencia"},{"$f":"Список!D942","v":"Da Grande"},{"$f":"Список!A942","v":"MALDIVES: Dhivehi Premier League"},{"$f":"Список!B942","v":"2021.04.18 19:00"}]
[{"$f":"Список!C943","v":"Korofina"},{"$f":"Список!D943","v":"Black Stars"},{"$f":"Список!A943","v":"MALI: Premiere Division"},{"$f":"Список!B943","v":"2021.04.18 19:00"}]
[{"$f":"Список!C944","v":"Stade Malien"},{"$f":"Список!D944","v":"Real Bamako"},{"$f":"Список!A944","v":"MALI: Premiere Division"},{"$f":"Список!B944","v":"2021.04.18 19:00"}]
[{"$f":"Список!C945","v":"U.N.A.M.- Pumas"},{"$f":"Список!D945","v":"U.A.N.L.- Tigres"},{"$f":"Список!A945","v":"MEXICO: Liga MX - Clausura"},{"$f":"Список!B945","v":"2021.04.18 19:00"}]
[{"$f":"Список!C946","v":"Braga W"},{"$f":"Список!D946","v":"SL Benfica W"},{"$f":"Список!A946","v":"PORTUGAL: Liga BPI Women - Championship Group"},{"$f":"Список!B946","v":"2021.04.18 19:00"}]
[{"$f":"Список!C947","v":"Proleter"},{"$f":"Список!D947","v":"Mladost"},{"$f":"Список!A947","v":"SERBIA: Super Liga"},{"$f":"Список!B947","v":"2021.04.18 19:00"}]
[{"$f":"Список!C948","v":"Radnicki Nis"},{"$f":"Список!D948","v":"Javor"},{"$f":"Список!A948","v":"SERBIA: Super Liga"},{"$f":"Список!B948","v":"2021.04.18 19:00"}]
[{"$f":"Список!C949","v":"Sp. Subotica"},{"$f":"Список!D949","v":"Napredak"},{"$f":"Список!A949","v":"SERBIA: Super Liga"},{"$f":"Список!B949","v":"2021.04.18 19:00"}]
[{"$f":"Список!C950","v":"TSC Backa Topola"},{"$f":"Список!D950","v":"FK Vozdovac"},{"$f":"Список!A950","v":"SERBIA: Super Liga"},{"$f":"Список!B950","v":"2021.04.18 19:00"}]
[{"$f":"Список!C951","v":"Dep. La Coruna"},{"$f":"Список!D951","v":"Numancia"},{"$f":"Список!A951","v":"SPAIN: Segunda Division B - Group 1 - Second stage"},{"$f":"Список!B951","v":"2021.04.18 19:00"}]
[{"$f":"Список!C952","v":"R. Sociedad B"},{"$f":"Список!D952","v":"Tudelano"},{"$f":"Список!A952","v":"SPAIN: Segunda Division B - Group 2 - Promotion Group"},{"$f":"Список!B952","v":"2021.04.18 19:00"}]
[{"$f":"Список!C953","v":"Andorra"},{"$f":"Список!D953","v":"Alcoyano"},{"$f":"Список!A953","v":"SPAIN: Segunda Division B - Group 3 - Promotion Group"},{"$f":"Список!B953","v":"2021.04.18 19:00"}]
[{"$f":"Список!C954","v":"Barcelona B"},{"$f":"Список!D954","v":"Villarreal B"},{"$f":"Список!A954","v":"SPAIN: Segunda Division B - Group 3 - Promotion Group"},{"$f":"Список!B954","v":"2021.04.18 19:00"}]
[{"$f":"Список!C955","v":"UE Sants"},{"$f":"Список!D955","v":"Valls"},{"$f":"Список!A955","v":"SPAIN: Tercera Division - Group 5 - Relegation Group"},{"$f":"Список!B955","v":"2021.04.18 19:00"}]
[{"$f":"Список!C956","v":"CD Torreperogil"},{"$f":"Список!D956","v":"Juventud Torremolinos"},{"$f":"Список!A956","v":"SPAIN: Tercera Division - Group 9 - Second stage"},{"$f":"Список!B956","v":"2021.04.18 19:00"}]
[{"$f":"Список!C957","v":"D. Zagreb"},{"$f":"Список!D957","v":"Istra 1961"},{"$f":"Список!A957","v":"CROATIA: 1. HNL"},{"$f":"Список!B957","v":"2021.04.18 19:05"}]
[{"$f":"Список!C958","v":"Moratalaz"},{"$f":"Список!D958","v":"Alcorcon B"},{"$f":"Список!A958","v":"SPAIN: Tercera Division - Group 7 - Promotion Group"},{"$f":"Список!B958","v":"2021.04.18 19:15"}]
[{"$f":"Список!C959","v":"Leicester"},{"$f":"Список!D959","v":"Southampton"},{"$f":"Список!A959","v":"ENGLAND: FA Cup"},{"$f":"Список!B959","v":"2021.04.18 19:30"}]
[{"$f":"Список!C960","v":"Antigua"},{"$f":"Список!D960","v":"Municipal"},{"$f":"Список!A960","v":"GUATEMALA: Liga Nacional - Clausura"},{"$f":"Список!B960","v":"2021.04.18 19:30"}]
[{"$f":"Список!C961","v":"Maccabi Tel Aviv"},{"$f":"Список!D961","v":"Ashdod"},{"$f":"Список!A961","v":"ISRAEL: Ligat ha'Al - Championship Group"},{"$f":"Список!B961","v":"2021.04.18 19:30"}]
[{"$f":"Список!C962","v":"LISCR FC"},{"$f":"Список!D962","v":"Nimba FC"},{"$f":"Список!A962","v":"LIBERIA: LFA First Division"},{"$f":"Список!B962","v":"2021.04.18 19:30"}]
[{"$f":"Список!C963","v":"Alaves B"},{"$f":"Список!D963","v":"Mutilvera"},{"$f":"Список!A963","v":"SPAIN: Segunda Division B - Group 2 - Relegation Group"},{"$f":"Список!B963","v":"2021.04.18 19:30"}]
[{"$f":"Список!C964","v":"Cornella"},{"$f":"Список!D964","v":"Hercules"},{"$f":"Список!A964","v":"SPAIN: Segunda Division B - Group 3 - Second stage"},{"$f":"Список!B964","v":"2021.04.18 19:30"}]
[{"$f":"Список!C965","v":"Al Ahli SC"},{"$f":"Список!D965","v":"Al-Duhail"},{"$f":"Список!A965","v":"ASIA: AFC Champions League"},{"$f":"Список!B965","v":"2021.04.18 19:45"}]
[{"$f":"Список!C966","v":"Levski Sofia"},{"$f":"Список!D966","v":"Ludogorets"},{"$f":"Список!A966","v":"BULGARIA: Parva liga"},{"$f":"Список!B966","v":"2021.04.18 19:45"}]
[{"$f":"Список!C967","v":"Atl. Rafaela"},{"$f":"Список!D967","v":"Almagro"},{"$f":"Список!A967","v":"ARGENTINA: Primera Nacional"},{"$f":"Список!B967","v":"2021.04.18 20:00"}]
[{"$f":"Список!C968","v":"CA Estudiantes"},{"$f":"Список!D968","v":"Estudiantes Rio Cuarto"},{"$f":"Список!A968","v":"ARGENTINA: Primera Nacional"},{"$f":"Список!B968","v":"2021.04.18 20:00"}]
[{"$f":"Список!C969","v":"Rosario Central W"},{"$f":"Список!D969","v":"River Plate W"},{"$f":"Список!A969","v":"ARGENTINA: Primera A Women - Apertura"},{"$f":"Список!B969","v":"2021.04.18 20:00"}]
[{"$f":"Список!C970","v":"Capital"},{"$f":"Список!D970","v":"Ceilandia"},{"$f":"Список!A970","v":"BRAZIL: Campeonato Brasiliense - Second stage"},{"$f":"Список!B970","v":"2021.04.18 20:00"}]
[{"$f":"Список!C971","v":"Vilavelhense"},{"$f":"Список!D971","v":"SAO Mateus"},{"$f":"Список!A971","v":"BRAZIL: Campeonato Capixaba"},{"$f":"Список!B971","v":"2021.04.18 20:00"}]
[{"$f":"Список!C972","v":"Academica Vitoria"},{"$f":"Список!D972","v":"Central SC"},{"$f":"Список!A972","v":"BRAZIL: Campeonato Pernambucano"},{"$f":"Список!B972","v":"2021.04.18 20:00"}]
[{"$f":"Список!C973","v":"Botafogo RJ W"},{"$f":"Список!D973","v":"Bahia W"},{"$f":"Список!A973","v":"BRAZIL: Brasileiro Women"},{"$f":"Список!B973","v":"2021.04.18 20:00"}]
[{"$f":"Список!C974","v":"Flamengo W"},{"$f":"Список!D974","v":"Minas ICESP W"},{"$f":"Список!A974","v":"BRAZIL: Brasileiro Women"},{"$f":"Список!B974","v":"2021.04.18 20:00"}]
[{"$f":"Список!C975","v":"Dep. Cuenca"},{"$f":"Список!D975","v":"U. Catolica"},{"$f":"Список!A975","v":"ECUADOR: Liga Pro - First stage"},{"$f":"Список!B975","v":"2021.04.18 20:00"}]
[{"$f":"Список!C976","v":"Hearts of Oak"},{"$f":"Список!D976","v":"Inter Allies"},{"$f":"Список!A976","v":"GHANA: Premier League"},{"$f":"Список!B976","v":"2021.04.18 20:00"}]
[{"$f":"Список!C977","v":"Malacateco"},{"$f":"Список!D977","v":"Deportivo Achuapa"},{"$f":"Список!A977","v":"GUATEMALA: Liga Nacional - Clausura"},{"$f":"Список!B977","v":"2021.04.18 20:00"}]
[{"$f":"Список!C978","v":"Gyor"},{"$f":"Список!D978","v":"Debrecen"},{"$f":"Список!A978","v":"HUNGARY: Merkantil Bank Liga"},{"$f":"Список!B978","v":"2021.04.18 20:00"}]
[{"$f":"Список!C979","v":"Al Zawraa"},{"$f":"Список!D979","v":"Al Minaa"},{"$f":"Список!A979","v":"IRAQ: Super League"},{"$f":"Список!B979","v":"2021.04.18 20:00"}]
[{"$f":"Список!C980","v":"Racing d'Abidjan"},{"$f":"Список!D980","v":"Bouake"},{"$f":"Список!A980","v":"IVORY COAST: Ligue 1"},{"$f":"Список!B980","v":"2021.04.18 20:00"}]
[{"$f":"Список!C981","v":"Sporting Gagnoa"},{"$f":"Список!D981","v":"Academie de FAD"},{"$f":"Список!A981","v":"IVORY COAST: Ligue 1"},{"$f":"Список!B981","v":"2021.04.18 20:00"}]
[{"$f":"Список!C982","v":"Chinandega U20"},{"$f":"Список!D982","v":"CD Junior U20"},{"$f":"Список!A982","v":"NICARAGUA: Liga Primera U20 - Clausura"},{"$f":"Список!B982","v":"2021.04.18 20:00"}]
[{"$f":"Список!C983","v":"FCSB"},{"$f":"Список!D983","v":"FC Botosani"},{"$f":"Список!A983","v":"ROMANIA: Liga 1 - Championship Group"},{"$f":"Список!B983","v":"2021.04.18 20:00"}]
[{"$f":"Список!C984","v":"Marbella"},{"$f":"Список!D984","v":"Lorca Deportiva"},{"$f":"Список!A984","v":"SPAIN: Segunda Division B - Group 4 - Relegation Group"},{"$f":"Список!B984","v":"2021.04.18 20:00"}]
[{"$f":"Список!C985","v":"Bangu"},{"$f":"Список!D985","v":"Volta Redonda"},{"$f":"Список!A985","v":"BRAZIL: Campeonato Carioca - Taca Guanabara"},{"$f":"Список!B985","v":"2021.04.18 20:15"}]
[{"$f":"Список!C986","v":"Nova Iguacu"},{"$f":"Список!D986","v":"Resende"},{"$f":"Список!A986","v":"BRAZIL: Campeonato Carioca - Taca Guanabara"},{"$f":"Список!B986","v":"2021.04.18 20:15"}]
[{"$f":"Список!C987","v":"CDJU Gualeguaychu"},{"$f":"Список!D987","v":"Central Norte"},{"$f":"Список!A987","v":"ARGENTINA: Torneo Federal"},{"$f":"Список!B987","v":"2021.04.18 20:30"}]
[{"$f":"Список!C988","v":"Circulo Deportivo"},{"$f":"Список!D988","v":"Olimpo Bahia Blanca"},{"$f":"Список!A988","v":"ARGENTINA: Torneo Federal"},{"$f":"Список!B988","v":"2021.04.18 20:30"}]
[{"$f":"Список!C989","v":"Douglas Haig"},{"$f":"Список!D989","v":"Gimnasia E.R."},{"$f":"Список!A989","v":"ARGENTINA: Torneo Federal"},{"$f":"Список!B989","v":"2021.04.18 20:30"}]
[{"$f":"Список!C990","v":"Independiente Chivilcoy"},{"$f":"Список!D990","v":"Sportivo Estudiantes"},{"$f":"Список!A990","v":"ARGENTINA: Torneo Federal"},{"$f":"Список!B990","v":"2021.04.18 20:30"}]
[{"$f":"Список!C991","v":"Comunicaciones"},{"$f":"Список!D991","v":"Argentino de Quilmes"},{"$f":"Список!A991","v":"ARGENTINA: Primera B - Apertura"},{"$f":"Список!B991","v":"2021.04.18 20:30"}]
[{"$f":"Список!C992","v":"Defensores Unidos"},{"$f":"Список!D992","v":"Fenix"},{"$f":"Список!A992","v":"ARGENTINA: Primera B - Apertura"},{"$f":"Список!B992","v":"2021.04.18 20:30"}]
[{"$f":"Список!C993","v":"Atlas"},{"$f":"Список!D993","v":"Laferrere"},{"$f":"Список!A993","v":"ARGENTINA: Primera C - Apertura"},{"$f":"Список!B993","v":"2021.04.18 20:30"}]
[{"$f":"Список!C994","v":"Club Lujan"},{"$f":"Список!D994","v":"Ituzaingo"},{"$f":"Список!A994","v":"ARGENTINA: Primera C - Apertura"},{"$f":"Список!B994","v":"2021.04.18 20:30"}]
[{"$f":"Список!C995","v":"Deportivo Espanol"},{"$f":"Список!D995","v":"Argentino de Merlo"},{"$f":"Список!A995","v":"ARGENTINA: Primera C - Apertura"},{"$f":"Список!B995","v":"2021.04.18 20:30"}]
[{"$f":"Список!C996","v":"General Lamadrid"},{"$f":"Список!D996","v":"Real Pilar"},{"$f":"Список!A996","v":"ARGENTINA: Primera C - Apertura"},{"$f":"Список!B996","v":"2021.04.18 20:30"}]
[{"$f":"Список!C997","v":"Midland"},{"$f":"Список!D997","v":"Dock Sud"},{"$f":"Список!A997","v":"ARGENTINA: Primera C - Apertura"},{"$f":"Список!B997","v":"2021.04.18 20:30"}]
[{"$f":"Список!C998","v":"San Martin Burzaco"},{"$f":"Список!D998","v":"Excursionistas"},{"$f":"Список!A998","v":"ARGENTINA: Primera C - Apertura"},{"$f":"Список!B998","v":"2021.04.18 20:30"}]
[{"$f":"Список!C999","v":"El Porvenir W"},{"$f":"Список!D999","v":"Defensores de Belgrano W"},{"$f":"Список!A999","v":"ARGENTINA: Primera A Women - Apertura"},{"$f":"Список!B999","v":"2021.04.18 20:30"}]
[{"$f":"Список!C1000","v":"Santa Maria"},{"$f":"Список!D1000","v":"Brasiliense"},{"$f":"Список!A1000","v":"BRAZIL: Campeonato Brasiliense - Second stage"},{"$f":"Список!B1000","v":"2021.04.18 20:30"}]
[{"$f":"Список!C1001","v":"Alessandria"},{"$f":"Список!D1001","v":"Pergolettese"},{"$f":"Список!A1001","v":"ITALY: Serie C - Group A"},{"$f":"Список!B1001","v":"2021.04.18 20:30"}]

{"sheet":"Лист4","index":3,"n_rows":2500,"n_cols":2,"rows_kept":2500,"cut":false,"hidden":true,"merged":[]}
[{"$f":"Список!C2","v":"Boca Juniors"},{"$f":"Список!A2","v":"ARGENTINA: Copa de la Liga Profesional"}]
[{"$f":"Список!C3","v":"Delfines Del Este"},{"$f":"Список!A3","v":"DOMINICAN REPUBLIC: LDF"}]
[{"$f":"Список!C4","v":"Santa Lucia"},{"$f":"Список!A4","v":"GUATEMALA: Liga Nacional - Clausura"}]
[{"$f":"Список!C5","v":"Cosmopolites"},{"$f":"Список!A5","v":"HAITI: Championnat National - Serie de Cloture"}]
[{"$f":"Список!C6","v":"Cafetaleros de Chiapas 2"},{"$f":"Список!A6","v":"MEXICO: Liga Premier Serie A - Play Offs"}]
[{"$f":"Список!C7","v":"Managua FC U20"},{"$f":"Список!A7","v":"NICARAGUA: Liga Primera U20 - Clausura"}]
[{"$f":"Список!C8","v":"New England II"},{"$f":"Список!A8","v":"USA: USL League One"}]
[{"$f":"Список!C9","v":"Real Sociedad"},{"$f":"Список!A9","v":"HONDURAS: Liga Nacional - Clausura - 1st Phase"}]
[{"$f":"Список!C10","v":"Nouakchott King's"},{"$f":"Список!A10","v":"MAURITANIA: Ligue 1"}]
[{"$f":"Список!C11","v":"JSM Tiaret"},{"$f":"Список!A11","v":"ALGERIA: Ligue 2"}]
[{"$f":"Список!C12","v":"Atletico GO"},{"$f":"Список!A12","v":"BRAZIL: Campeonato Goiano"}]
[{"$f":"Список!C13","v":"Vitoria"},{"$f":"Список!A13","v":"BRAZIL: Copa do Nordeste - Play Offs"}]
[{"$f":"Список!C14","v":"Nacional Asuncion"},{"$f":"Список!A14","v":"PARAGUAY: Primera Division - Apertura"}]
[{"$f":"Список!C15","v":"Caldense"},{"$f":"Список!A15","v":"BRAZIL: Campeonato Mineiro"}]
[{"$f":"Список!C16","v":"O'Higgins"},{"$f":"Список!A16","v":"CHILE: Primera Division"}]
[{"$f":"Список!C17","v":"UPNFM"},{"$f":"Список!A17","v":"HONDURAS: Liga Nacional - Clausura - 1st Phase"}]
[{"$f":"Список!C18","v":"Atl. San Luis"},{"$f":"Список!A18","v":"MEXICO: Liga MX - Clausura"}]
[{"$f":"Список!C19","v":"Gavilanes de Matamoros"},{"$f":"Список!A19","v":"MEXICO: Liga Premier Serie A - Play Offs"}]
[{"$f":"Список!C20","v":"FUS Rabat"},{"$f":"Список!A20","v":"MOROCCO: Botola Pro"}]
[{"$f":"Список!C21","v":"Olympique de Safi"},{"$f":"Список!A21","v":"MOROCCO: Botola Pro"}]
[{"$f":"Список!C22","v":"Dcheira"},{"$f":"Список!A22","v":"MOROCCO: Botola 2"}]
[{"$f":"Список!C23","v":"Kawkab Marrakech"},{"$f":"Список!A23","v":"MOROCCO: Botola 2"}]
[{"$f":"Список!C24","v":"Wydad Fes"},{"$f":"Список!A24","v":"MOROCCO: Botola 2"}]
[{"$f":"Список!C25","v":"Diriangen U20"},{"$f":"Список!A25","v":"NICARAGUA: Liga Primera U20 - Clausura"}]
[{"$f":"Список!C26","v":"Ocotal U20"},{"$f":"Список!A26","v":"NICARAGUA: Liga Primera U20 - Clausura"}]
[{"$f":"Список!C27","v":"Los Angeles FC"},{"$f":"Список!A27","v":"USA: MLS"}]
[{"$f":"Список!C28","v":"Aucas"},{"$f":"Список!A28","v":"ECUADOR: Liga Pro - First stage"}]
[{"$f":"Список!C29","v":"Wallidan"},{"$f":"Список!A29","v":"GAMBIA: GFA League"}]
[{"$f":"Список!C30","v":"Lara"},{"$f":"Список!A30","v":"VENEZUELA: Primera Division - First stage"}]
[{"$f":"Список!C31","v":"Huila"},{"$f":"Список!A31","v":"COLOMBIA: Primera B - Apertura - Quadrangular"}]
[{"$f":"Список!C32","v":"Bragantino"},{"$f":"Список!A32","v":"BRAZIL: Campeonato Paulista"}]
[{"$f":"Список!C33","v":"Corinthians W"},{"$f":"Список!A33","v":"BRAZIL: Brasileiro Women"}]
[{"$f":"Список!C34","v":"Internacional W"},{"$f":"Список!A34","v":"BRAZIL: Brasileiro Women"}]
[{"$f":"Список!C35","v":"Sao Paulo W"},{"$f":"Список!A35","v":"BRAZIL: Brasileiro Women"}]
[{"$f":"Список!C36","v":"Zeledon"},{"$f":"Список!A36","v":"COSTA RICA: Primera Division - Clausura"}]
[{"$f":"Список!C37","v":"Real de Minas"},{"$f":"Список!A37","v":"HONDURAS: Liga Nacional - Clausura - 1st Phase"}]
[{"$f":"Список!C38","v":"Alianza"},{"$f":"Список!A38","v":"PANAMA: LPF - Apertura"}]
[{"$f":"Список!C39","v":"Tormenta"},{"$f":"Список!A39","v":"USA: USL League One"}]
[{"$f":"Список!C40","v":"Newells Old Boys"},{"$f":"Список!A40","v":"ARGENTINA: Copa de la Liga Profesional"}]
[{"$f":"Список!C41","v":"Inter Nouakchott"},{"$f":"Список!A41","v":"MAURITANIA: Ligue 1"}]
[{"$f":"Список!C42","v":"Sporting San Jose"},{"$f":"Список!A42","v":"COSTA RICA: Primera Division - Clausura"}]
[{"$f":"Список!C43","v":"Chalatenango"},{"$f":"Список!A43","v":"EL SALVADOR: Primera Division - Clausura - 2nd Phase"}]
[{"$f":"Список!C44","v":"Comunicaciones"},{"$f":"Список!A44","v":"GUATEMALA: Liga Nacional - Clausura"}]
[{"$f":"Список!C45","v":"Guadalajara Chivas"},{"$f":"Список!A45","v":"MEXICO: Liga MX - Clausura"}]
[{"$f":"Список!C46","v":"Colima FC"},{"$f":"Список!A46","v":"MEXICO: Liga Premier Serie A - Play Offs"}]
[{"$f":"Список!C47","v":"River Plate"},{"$f":"Список!A47","v":"PARAGUAY: Primera Division - Apertura"}]
[{"$f":"Список!C48","v":"DC United"},{"$f":"Список!A48","v":"USA: MLS"}]
[{"$f":"Список!C49","v":"FC Dallas"},{"$f":"Список!A49","v":"USA: MLS"}]
[{"$f":"Список!C50","v":"New York Red Bulls"},{"$f":"Список!A50","v":"USA: MLS"}]
[{"$f":"Список!C51","v":"Portuguesa RJ"},{"$f":"Список!A51","v":"BRAZIL: Campeonato Carioca - Taca Guanabara"}]
[{"$f":"Список!C52","v":"Union La Calera"},{"$f":"Список!A52","v":"CHILE: Primera Division"}]
[{"$f":"Список!C53","v":"Chicago Fire"},{"$f":"Список!A53","v":"USA: MLS"}]
[{"$f":"Список!C54","v":"Nashville SC"},{"$f":"Список!A54","v":"USA: MLS"}]
[{"$f":"Список!C55","v":"Guayaquil City"},{"$f":"Список!A55","v":"ECUADOR: Liga Pro - First stage"}]
[{"$f":"Список!C56","v":"Ba"},{"$f":"Список!A56","v":"FIJI: Premier League"}]
[{"$f":"Список!C57","v":"Diriangen"},{"$f":"Список!A57","v":"NICARAGUA: Liga Primera - Clausura"}]
[{"$f":"Список!C58","v":"Ocotal"},{"$f":"Список!A58","v":"NICARAGUA: Liga Primera - Clausura"}]
[{"$f":"Список!C59","v":"Novorizontino"},{"$f":"Список!A59","v":"BRAZIL: Campeonato Paulista"}]
[{"$f":"Список!C60","v":"Alianza FC"},{"$f":"Список!A60","v":"EL SALVADOR: Primera Division - Clausura - 2nd Phase"}]
[{"$f":"Список!C61","v":"Metapan"},{"$f":"Список!A61","v":"EL SALVADOR: Primera Division - Clausura - 2nd Phase"}]
[{"$f":"Список!C62","v":"Honduras Progreso"},{"$f":"Список!A62","v":"HONDURAS: Liga Nacional - Clausura - 1st Phase"}]
[{"$f":"Список!C63","v":"Herediano"},{"$f":"Список!A63","v":"COSTA RICA: Primera Division - Clausura"}]
[{"$f":"Список!C64","v":"Puntarenas FC"},{"$f":"Список!A64","v":"COSTA RICA: Liga de Ascenso - Clausura - Play Offs"}]
[{"$f":"Список!C65","v":"Motagua"},{"$f":"Список!A65","v":"HONDURAS: Liga Nacional - Clausura - 1st Phase"}]
[{"$f":"Список!C66","v":"Club America"},{"$f":"Список!A66","v":"MEXICO: Liga MX - Clausura"}]
[{"$f":"Список!C67","v":"Lautoka"},{"$f":"Список!A67","v":"FIJI: Premier League"}]
[{"$f":"Список!C68","v":"Navua"},{"$f":"Список!A68","v":"FIJI: Premier League"}]
[{"$f":"Список!C69","v":"Suva"},{"$f":"Список!A69","v":"FIJI: Premier League"}]
[{"$f":"Список!C70","v":"Sagamihara"},{"$f":"Список!A70","v":"JAPAN: J2 League"}]
[{"$f":"Список!C71","v":"Harima Albion W"},{"$f":"Список!A71","v":"JAPAN: Nadeshiko League Women"}]
[{"$f":"Список!C72","v":"Nittaidai W"},{"$f":"Список!A72","v":"JAPAN: Nadeshiko League Women"}]
[{"$f":"Список!C73","v":"Broadmeadow"},{"$f":"Список!A73","v":"AUSTRALIA: NPL Northern NSW"}]
[{"$f":"Список!C74","v":"Wollongong Wolves"},{"$f":"Список!A74","v":"AUSTRALIA: NPL NSW"}]
[{"$f":"Список!C75","v":"Anyang"},{"$f":"Список!A75","v":"SOUTH KOREA: K League 2"}]
[{"$f":"Список!C76","v":"Canberra Croatia"},{"$f":"Список!A76","v":"AUSTRALIA: NPL ACT"}]
[{"$f":"Список!C77","v":"Gungahlin"},{"$f":"Список!A77","v":"AUSTRALIA: NPL ACT"}]
[{"$f":"Список!C78","v":"Kawasaki Frontale"},{"$f":"Список!A78","v":"JAPAN: J1 League"}]
[{"$f":"Список!C79","v":"NGU Nagoya W"},{"$f":"Список!A79","v":"JAPAN: Nadeshiko League Women"}]
[{"$f":"Список!C80","v":"Setagaya Sfida FC W"},{"$f":"Список!A80","v":"JAPAN: Nadeshiko League Women"}]
[{"$f":"Список!C81","v":"Suwon Bluewings"},{"$f":"Список!A81","v":"SOUTH KOREA: K League 1"}]
[{"$f":"Список!C82","v":"Hwaseong"},{"$f":"Список!A82","v":"SOUTH KOREA: K3 League"}]
[{"$f":"Список!C83","v":"Cerezo Osaka"},{"$f":"Список!A83","v":"JAPAN: J1 League"}]
[{"$f":"Список!C84","v":"Nagoya Grampus"},{"$f":"Список!A84","v":"JAPAN: J1 League"}]
[{"$f":"Список!C85","v":"Gimhae"},{"$f":"Список!A85","v":"SOUTH KOREA: K3 League"}]
[{"$f":"Список!C86","v":"Sydney FC"},{"$f":"Список!A86","v":"AUSTRALIA: A-League"}]
[{"$f":"Список!C87","v":"Maitland"},{"$f":"Список!A87","v":"AUSTRALIA: NPL Northern NSW"}]
[{"$f":"Список!C88","v":"Brisbane K."},{"$f":"Список!A88","v":"AUSTRALIA: Brisbane Premier League"}]
[{"$f":"Список!C89","v":"Gravatt"},{"$f":"Список!A89","v":"AUSTRALIA: Brisbane Premier League"}]
[{"$f":"Список!C90","v":"St. George Willawong"},{"$f":"Список!A90","v":"AUSTRALIA: Brisbane Premier League"}]
[{"$f":"Список!C91","v":"Hong Kong Rangers"},{"$f":"Список!A91","v":"HONG KONG: Premier League"}]
[{"$f":"Список!C92","v":"Jeonnam"},{"$f":"Список!A92","v":"SOUTH KOREA: K League 2"}]
[{"$f":"Список!C93","v":"Kaizer Chiefs U23"},{"$f":"Список!A93","v":"SOUTH AFRICA: Diski Challenge"}]
[{"$f":"Список!C94","v":"Jeonbuk"},{"$f":"Список!A94","v":"SOUTH KOREA: K League 1"}]
[{"$f":"Список!C95","v":"Olympic FC"},{"$f":"Список!A95","v":"AUSTRALIA: NPL Queensland"}]
[{"$f":"Список!C96","v":"Gamba Osaka"},{"$f":"Список!A96","v":"JAPAN: J1 League"}]
[{"$f":"Список!C97","v":"Ripensia Timisoara"},{"$f":"Список!A97","v":"ROMANIA: Liga 2 - Relegation Group"}]
[{"$f":"Список!C98","v":"Heniu Prundu Bargaului W"},{"$f":"Список!A98","v":"ROMANIA: Superliga Women - Championship Group"}]
[{"$f":"Список!C99","v":"Universitatea Galati W"},{"$f":"Список!A99","v":"ROMANIA: Superliga Women - Championship Group"}]
[{"$f":"Список!C100","v":"Vasas Odorhei W"},{"$f":"Список!A100","v":"ROMANIA: Superliga Women - Championship Group"}]
[{"$f":"Список!C101","v":"Banat W"},{"$f":"Список!A101","v":"ROMANIA: Superliga Women - Relegation Group"}]
[{"$f":"Список!C102","v":"Fairplay Bucuresti W"},{"$f":"Список!A102","v":"ROMANIA: Superliga Women - Relegation Group"}]
[{"$f":"Список!C103","v":"SN Constanta W"},{"$f":"Список!A103","v":"ROMANIA: Superliga Women - Relegation Group"}]
[{"$f":"Список!C104","v":"Zvezda 2005 W"},{"$f":"Список!A104","v":"RUSSIA: Supreme Division Women"}]
[{"$f":"Список!C105","v":"Chippa Utd. U23"},{"$f":"Список!A105","v":"SOUTH AFRICA: Diski Challenge"}]
[{"$f":"Список!C106","v":"CPC"},{"$f":"Список!A106","v":"TAIWAN: Premier League"}]
[{"$f":"Список!C107","v":"Hang Yuen"},{"$f":"Список!A107","v":"TAIWAN: Premier League"}]
[{"$f":"Список!C108","v":"Taipei Tatung"},{"$f":"Список!A108","v":"TAIWAN: Premier League"}]
[{"$f":"Список!C109","v":"Taiwan Steel"},{"$f":"Список!A109","v":"TAIWAN: Premier League"}]
[{"$f":"Список!C110","v":"Macarthur FC"},{"$f":"Список!A110","v":"AUSTRALIA: A-League"}]
[{"$f":"Список!C111","v":"Brisbane U21"},{"$f":"Список!A111","v":"AUSTRALIA: NPL Queensland"}]
[{"$f":"Список!C112","v":"Zizkov"},{"$f":"Список!A112","v":"CZECH REPUBLIC: Division 2"}]
[{"$f":"Список!C113","v":"Sydney FC U21"},{"$f":"Список!A113","v":"AUSTRALIA: NPL NSW"}]
[{"$f":"Список!C114","v":"A. Klagenfurt"},{"$f":"Список!A114","v":"AUSTRIA: 2. Liga"}]
[{"$f":"Список!C115","v":"Empoli U19"},{"$f":"Список!A115","v":"ITALY: Primavera 1"}]
[{"$f":"Список!C116","v":"Genoa U19"},{"$f":"Список!A116","v":"ITALY: Primavera 1"}]
[{"$f":"Список!C117","v":"Samorin"},{"$f":"Список!A117","v":"SLOVAKIA: 2. liga"}]
[{"$f":"Список!C118","v":"Altenmarkt W"},{"$f":"Список!A118","v":"AUSTRIA: Bundesliga Women"}]
[{"$f":"Список!C119","v":"Trnje"},{"$f":"Список!A119","v":"CROATIA: 3. HNL Center"}]
[{"$f":"Список!C120","v":"Zestafoni"},{"$f":"Список!A120","v":"GEORGIA: Georgian Cup"}]
[{"$f":"Список!C121","v":"Bayern Munich 2 W"},{"$f":"Список!A121","v":"GERMANY: 2. Bundesliga Women"}]
[{"$f":"Список!C122","v":"Honved II"},{"$f":"Список!A122","v":"HUNGARY: NB III - Centre"}]
[{"$f":"Список!C123","v":"Szabadkikoto"},{"$f":"Список!A123","v":"HUNGARY: NB III - West"}]
[{"$f":"Список!C124","v":"Tatabanya"},{"$f":"Список!A124","v":"HUNGARY: NB III - West"}]
[{"$f":"Список!C125","v":"Zalaegerszegi II"},{"$f":"Список!A125","v":"HUNGARY: NB III - West"}]
[{"$f":"Список!C126","v":"Taraz"},{"$f":"Список!A126","v":"KAZAKHSTAN: Premier League"}]
[{"$f":"Список!C127","v":"Ural"},{"$f":"Список!A127","v":"RUSSIA: Premier League"}]
[{"$f":"Список!C128","v":"Radnicki S."},{"$f":"Список!A128","v":"SERBIA: Srpska Liga - East"}]
[{"$f":"Список!C129","v":"SFS Borac"},{"$f":"Список!A129","v":"SERBIA: Srpska Liga - East"}]
[{"$f":"Список!C130","v":"Cerklje W"},{"$f":"Список!A130","v":"SLOVENIA: 1. SZNL Women"}]
[{"$f":"Список!C131","v":"Hue"},{"$f":"Список!A131","v":"VIETNAM: V.League 2"}]
[{"$f":"Список!C132","v":"UE Santa Coloma"},{"$f":"Список!A132","v":"ANDORRA: Primera Divisió"}]
[{"$f":"Список!C133","v":"Sant Julia"},{"$f":"Список!A133","v":"ANDORRA: Primera Divisió - Championship Group"}]
[{"$f":"Список!C134","v":"SK Rapid Vienna (Am)"},{"$f":"Список!A134","v":"AUSTRIA: 2. Liga"}]
[{"$f":"Список!C135","v":"Pegasus"},{"$f":"Список!A135","v":"HONG KONG: Premier League"}]
[{"$f":"Список!C136","v":"Revilla"},{"$f":"Список!A136","v":"SPAIN: Tercera Division - Group 3 - Relegation Group"}]
[{"$f":"Список!C137","v":"Basconia"},{"$f":"Список!A137","v":"SPAIN: Tercera Division - Group 4 - Second stage"}]
[{"$f":"Список!C138","v":"Recambios Colon"},{"$f":"Список!A138","v":"SPAIN: Tercera Division - Group 6 - Second stage"}]
[{"$f":"Список!C139","v":"Complutense"},{"$f":"Список!A139","v":"SPAIN: Tercera Division - Group 7 - Relegation Group"}]
[{"$f":"Список!C140","v":"RSD Alcala"},{"$f":"Список!A140","v":"SPAIN: Tercera Division - Group 7 - Relegation Group"}]
[{"$f":"Список!C141","v":"San Fernando"},{"$f":"Список!A141","v":"SPAIN: Tercera Division - Group 7 - Relegation Group"}]
[{"$f":"Список!C142","v":"AD Torrejon"},{"$f":"Список!A142","v":"SPAIN: Tercera Division - Group 7 - Second stage"}]
[{"$f":"Список!C143","v":"La Union"},{"$f":"Список!A143","v":"SPAIN: Tercera Division - Group 13 - Second stage"}]
[{"$f":"Список!C144","v":"Zaragoza B"},{"$f":"Список!A144","v":"SPAIN: Tercera Division - Group 17 - Second stage"}]
[{"$f":"Список!C145","v":"Almansa"},{"$f":"Список!A145","v":"SPAIN: Tercera Division - Group 18 - Relegation Group"}]
[{"$f":"Список!C146","v":"Sevilla FC W"},{"$f":"Список!A146","v":"SPAIN: Primera Division Women"}]
[{"$f":"Список!C147","v":"Siete Villas"},{"$f":"Список!A147","v":"SPAIN: Tercera Division - Group 3 - Promotion Group"}]
[{"$f":"Список!C148","v":"Grama"},{"$f":"Список!A148","v":"SPAIN: Tercera Division - Group 5 - Second stage"}]
[{"$f":"Список!C149","v":"FC Astana"},{"$f":"Список!A149","v":"KAZAKHSTAN: Premier League"}]
[{"$f":"Список!C150","v":"Korona Kielce 2"},{"$f":"Список!A150","v":"POLAND: III Liga - Group IV"}]
[{"$f":"Список!C151","v":"Sporting W"},{"$f":"Список!A151","v":"PORTUGAL: Liga BPI Women - Championship Group"}]
[{"$f":"Список!C152","v":"FK Strogino Moscow"},{"$f":"Список!A152","v":"RUSSIA: PFL - Group 3"}]
[{"$f":"Список!C153","v":"Mamelodi Sundowns U23"},{"$f":"Список!A153","v":"SOUTH AFRICA: Diski Challenge"}]
[{"$f":"Список!C154","v":"Celta Vigo B"},{"$f":"Список!A154","v":"SPAIN: Segunda Division B - Group 1 - Promotion Group"}]
[{"$f":"Список!C155","v":"Guijuelo"},{"$f":"Список!A155","v":"SPAIN: Segunda Division B - Group 1 - Relegation Group"}]
[{"$f":"Список!C156","v":"Gimnastic"},{"$f":"Список!A156","v":"SPAIN: Segunda Division B - Group 3 - Promotion Group"}]
[{"$f":"Список!C157","v":"Espanyol B"},{"$f":"Список!A157","v":"SPAIN: Segunda Division B - Group 3 - Relegation Group"}]
[{"$f":"Список!C158","v":"Prat"},{"$f":"Список!A158","v":"SPAIN: Segunda Division B - Group 3 - Relegation Group"}]
[{"$f":"Список!C159","v":"Lleida"},{"$f":"Список!A159","v":"SPAIN: Segunda Division B - Group 3 - Second stage"}]
[{"$f":"Список!C160","v":"Algeciras"},{"$f":"Список!A160","v":"SPAIN: Segunda Division B - Group 4 - Promotion Group"}]
[{"$f":"Список!C161","v":"Cadiz CF B"},{"$f":"Список!A161","v":"SPAIN: Segunda Division B - Group 4 - Second stage"}]
[{"$f":"Список!C162","v":"San Sebastian Reyes"},{"$f":"Список!A162","v":"SPAIN: Segunda Division B - Group 5 - Promotion Group"}]
[{"$f":"Список!C163","v":"Atl. Madrid B"},{"$f":"Список!A163","v":"SPAIN: Segunda Division B - Group 5 - Relegation Group"}]
[{"$f":"Список!C164","v":"Getafe B"},{"$f":"Список!A164","v":"SPAIN: Segunda Division B - Group 5 - Relegation Group"}]
[{"$f":"Список!C165","v":"Las Rozas"},{"$f":"Список!A165","v":"SPAIN: Segunda Division B - Group 5 - Relegation Group"}]
[{"$f":"Список!C166","v":"Poblense"},{"$f":"Список!A166","v":"SPAIN: Segunda Division B - Group 5 - Relegation Group"}]
[{"$f":"Список!C167","v":"Baleares"},{"$f":"Список!A167","v":"SPAIN: Segunda Division B - Group 5 - Second stage"}]
[{"$f":"Список!C168","v":"Real Aviles"},{"$f":"Список!A168","v":"SPAIN: Tercera Division - Group 2 - Promotion Group"}]
[{"$f":"Список!C169","v":"Union Club Ceares"},{"$f":"Список!A169","v":"SPAIN: Tercera Division - Group 2 - Promotion Group"}]
[{"$f":"Список!C170","v":"Aviles Stadium"},{"$f":"Список!A170","v":"SPAIN: Tercera Division - Group 2 - Relegation Group"}]
[{"$f":"Список!C171","v":"SD Navarro CF"},{"$f":"Список!A171","v":"SPAIN: Tercera Division - Group 2 - Relegation Group"}]
[{"$f":"Список!C172","v":"Lenense"},{"$f":"Список!A172","v":"SPAIN: Tercera Division - Group 2 - Second stage"}]
[{"$f":"Список!C173","v":"Ariznabarra"},{"$f":"Список!A173","v":"SPAIN: Tercera Division - Group 4 - Relegation Group"}]
[{"$f":"Список!C174","v":"Cerdanyola"},{"$f":"Список!A174","v":"SPAIN: Tercera Division - Group 5 - Promotion Group"}]
[{"$f":"Список!C175","v":"Girona B"},{"$f":"Список!A175","v":"SPAIN: Tercera Division - Group 5 - Promotion Group"}]
[{"$f":"Список!C176","v":"Horta"},{"$f":"Список!A176","v":"SPAIN: Tercera Division - Group 5 - Relegation Group"}]
[{"$f":"Список!C177","v":"Vilassar de Mar"},{"$f":"Список!A177","v":"SPAIN: Tercera Division - Group 5 - Second stage"}]
[{"$f":"Список!C178","v":"Torrent"},{"$f":"Список!A178","v":"SPAIN: Tercera Division - Group 6 - Relegation Group"}]
[{"$f":"Список!C179","v":"Silla CF"},{"$f":"Список!A179","v":"SPAIN: Tercera Division - Group 6 - Second stage"}]
[{"$f":"Список!C180","v":"Rayo Vallecano B"},{"$f":"Список!A180","v":"SPAIN: Tercera Division - Group 7 - Promotion Group"}]
[{"$f":"Список!C181","v":"Union Adarve"},{"$f":"Список!A181","v":"SPAIN: Tercera Division - Group 7 - Promotion Group"}]
[{"$f":"Список!C182","v":"Santa Ana"},{"$f":"Список!A182","v":"SPAIN: Tercera Division - Group 7 - Relegation Group"}]
[{"$f":"Список!C183","v":"Pozuelo de Alarcon"},{"$f":"Список!A183","v":"SPAIN: Tercera Division - Group 7 - Second stage"}]
[{"$f":"Список!C184","v":"CP Almeria"},{"$f":"Список!A184","v":"SPAIN: Tercera Division - Group 9 - Relegation Group"}]
[{"$f":"Список!C185","v":"Maracena"},{"$f":"Список!A185","v":"SPAIN: Tercera Division - Group 9 - Relegation Group"}]
[{"$f":"Список!C186","v":"Huetor Vega"},{"$f":"Список!A186","v":"SPAIN: Tercera Division - Group 9 - Second stage"}]
[{"$f":"Список!C187","v":"Ceuta"},{"$f":"Список!A187","v":"SPAIN: Tercera Division - Group 10 - Promotion Group"}]
[{"$f":"Список!C188","v":"Arcos CF"},{"$f":"Список!A188","v":"SPAIN: Tercera Division - Group 10 - Relegation Group"}]
[{"$f":"Список!C189","v":"Cabecense"},{"$f":"Список!A189","v":"SPAIN: Tercera Division - Group 10 - Relegation Group"}]
[{"$f":"Список!C190","v":"Antoniano"},{"$f":"Список!A190","v":"SPAIN: Tercera Division - Group 10 - Second stage"}]
[{"$f":"Список!C191","v":"Rota"},{"$f":"Список!A191","v":"SPAIN: Tercera Division - Group 10 - Second stage"}]
[{"$f":"Список!C192","v":"Constancia"},{"$f":"Список!A192","v":"SPAIN: Tercera Division - Group 11 - Promotion Group"}]
[{"$f":"Список!C193","v":"Ibiza Islas Pitiusas"},{"$f":"Список!A193","v":"SPAIN: Tercera Division - Group 11 - Promotion Group"}]
[{"$f":"Список!C194","v":"Felanitx"},{"$f":"Список!A194","v":"SPAIN: Tercera Division - Group 11 - Relegation Group"}]
[{"$f":"Список!C195","v":"Ferriolense"},{"$f":"Список!A195","v":"SPAIN: Tercera Division - Group 11 - Relegation Group"}]
[{"$f":"Список!C196","v":"Montijo"},{"$f":"Список!A196","v":"SPAIN: Tercera Division - Group 14 - Promotion Group"}]
[{"$f":"Список!C197","v":"Fuente de Cantos"},{"$f":"Список!A197","v":"SPAIN: Tercera Division - Group 14 - Relegation Group"}]
[{"$f":"Список!C198","v":"Olivenza"},{"$f":"Список!A198","v":"SPAIN: Tercera Division - Group 14 - Relegation Group"}]
[{"$f":"Список!C199","v":"Azuaga"},{"$f":"Список!A199","v":"SPAIN: Tercera Division - Group 14 - Second stage"}]
[{"$f":"Список!C200","v":"Miajadas"},{"$f":"Список!A200","v":"SPAIN: Tercera Division - Group 14 - Second stage"}]
[{"$f":"Список!C201","v":"Varea"},{"$f":"Список!A201","v":"SPAIN: Tercera Division - Group 16 - Promotion Group"}]
[{"$f":"Список!C202","v":"Berceo"},{"$f":"Список!A202","v":"SPAIN: Tercera Division - Group 16 - Relegation Group"}]
[{"$f":"Список!C203","v":"Vianes"},{"$f":"Список!A203","v":"SPAIN: Tercera Division - Group 16 - Relegation Group"}]
[{"$f":"Список!C204","v":"Villegas"},{"$f":"Список!A204","v":"SPAIN: Tercera Division - Group 16 - Relegation Group"}]
[{"$f":"Список!C205","v":"Belchite 97"},{"$f":"Список!A205","v":"SPAIN: Tercera Division - Group 17 - Promotion Group"}]
[{"$f":"Список!C206","v":"Huesca B"},{"$f":"Список!A206","v":"SPAIN: Tercera Division - Group 17 - Promotion Group"}]
[{"$f":"Список!C207","v":"Sabinanigo"},{"$f":"Список!A207","v":"SPAIN: Tercera Division - Group 17 - Relegation Group"}]
[{"$f":"Список!C208","v":"Manzanares"},{"$f":"Список!A208","v":"SPAIN: Tercera Division - Group 18 - Relegation Group"}]
[{"$f":"Список!C209","v":"La Roda"},{"$f":"Список!A209","v":"SPAIN: Tercera Division - Group 18 - Second stage"}]
[{"$f":"Список!C210","v":"Real Madrid W"},{"$f":"Список!A210","v":"SPAIN: Primera Division Women"}]
[{"$f":"Список!C211","v":"Moron W"},{"$f":"Список!A211","v":"SWEDEN: Elitettan Women"}]
[{"$f":"Список!C212","v":"Binh Duong"},{"$f":"Список!A212","v":"VIETNAM: V.League 1"}]
[{"$f":"Список!C213","v":"Gia Lai"},{"$f":"Список!A213","v":"VIETNAM: V.League 1"}]
[{"$f":"Список!C214","v":"Long An"},{"$f":"Список!A214","v":"VIETNAM: V.League 2"}]
[{"$f":"Список!C215","v":"Bodo/Glimt"},{"$f":"Список!A215","v":"WORLD: Club Friendly"}]
[{"$f":"Список!C216","v":"Klubi 04"},{"$f":"Список!A216","v":"WORLD: Club Friendly"}]
[{"$f":"Список!C217","v":"Perth Glory"},{"$f":"Список!A217","v":"AUSTRALIA: A-League"}]
[{"$f":"Список!C218","v":"PSV W"},{"$f":"Список!A218","v":"NETHERLANDS: KNVB Beker Women"}]
[{"$f":"Список!C219","v":"Bydgoszcz W"},{"$f":"Список!A219","v":"POLAND: Ekstraliga Women"}]
[{"$f":"Список!C220","v":"Casa Pia"},{"$f":"Список!A220","v":"PORTUGAL: Liga Portugal 2"}]
[{"$f":"Список!C221","v":"Racing Murcia"},{"$f":"Список!A221","v":"SPAIN: Tercera Division - Group 13 - Promotion Group"}]
[{"$f":"Список!C222","v":"AC Milan"},{"$f":"Список!A222","v":"ITALY: Serie A"}]
[{"$f":"Список!C223","v":"Casertana"},{"$f":"Список!A223","v":"ITALY: Serie C - Group C"}]
[{"$f":"Список!C224","v":"Catanzaro"},{"$f":"Список!A224","v":"ITALY: Serie C - Group C"}]
[{"$f":"Список!C225","v":"Cagliari U19"},{"$f":"Список!A225","v":"ITALY: Primavera 1"}]
[{"$f":"Список!C226","v":"AC Milan W"},{"$f":"Список!A226","v":"ITALY: Serie A Women"}]
[{"$f":"Список!C227","v":"Sassuolo W"},{"$f":"Список!A227","v":"ITALY: Serie A Women"}]
[{"$f":"Список!C228","v":"Dordoi Bishkek"},{"$f":"Список!A228","v":"KYRGYZSTAN: Premier Liga"}]
[{"$f":"Список!C229","v":"Stal Mielec"},{"$f":"Список!A229","v":"POLAND: Ekstraklasa"}]
[{"$f":"Список!C230","v":"FC Arges"},{"$f":"Список!A230","v":"ROMANIA: Liga 1 - Relegation Group"}]
[{"$f":"Список!C231","v":"Silva SD"},{"$f":"Список!A231","v":"SPAIN: Tercera Division - Group 1 - Second stage"}]
[{"$f":"Список!C232","v":"Granollers"},{"$f":"Список!A232","v":"SPAIN: Tercera Division - Group 5 - Promotion Group"}]
[{"$f":"Список!C233","v":"CAP Ciudad de Murcia"},{"$f":"Список!A233","v":"SPAIN: Tercera Division - Group 13 - Relegation Group"}]
[{"$f":"Список!C234","v":"Eskisehirspor"},{"$f":"Список!A234","v":"TURKEY: 1. Lig"}]
[{"$f":"Список!C235","v":"Odra Opole"},{"$f":"Список!A235","v":"POLAND: Division 1"}]
[{"$f":"Список!C236","v":"Zaglebie Sosnowiec"},{"$f":"Список!A236","v":"POLAND: Division 1"}]
[{"$f":"Список!C237","v":"Apolonia Fier"},{"$f":"Список!A237","v":"ALBANIA: Superliga"}]
[{"$f":"Список!C238","v":"Egnatia Rrogozhine"},{"$f":"Список!A238","v":"ALBANIA: First Division - Promotion Group"}]
[{"$f":"Список!C239","v":"Pogradeci"},{"$f":"Список!A239","v":"ALBANIA: First Division - Promotion Group"}]
[{"$f":"Список!C240","v":"Din. Minsk"},{"$f":"Список!A240","v":"BELARUS: Vysshaya Liga"}]
[{"$f":"Список!C241","v":"Belshina"},{"$f":"Список!A241","v":"BELARUS: Pershaya Liga"}]
[{"$f":"Список!C242","v":"Visakha"},{"$f":"Список!A242","v":"CAMBODIA: C-League"}]
[{"$f":"Список!C243","v":"Thisted FC"},{"$f":"Список!A243","v":"DENMARK: 2nd Division - Group 1"}]
[{"$f":"Список!C244","v":"AB Copenhagen"},{"$f":"Список!A244","v":"DENMARK: 2nd Division - Group 2"}]
[{"$f":"Список!C245","v":"Naestved"},{"$f":"Список!A245","v":"DENMARK: 2nd Division - Group 2"}]
[{"$f":"Список!C246","v":"Slagelse"},{"$f":"Список!A246","v":"DENMARK: 2nd Division - Group 2"}]
[{"$f":"Список!C247","v":"Rotherham"},{"$f":"Список!A247","v":"ENGLAND: Championship"}]
[{"$f":"Список!C248","v":"Crewe U23"},{"$f":"Список!A248","v":"ENGLAND: Professional Development League"}]
[{"$f":"Список!C249","v":"Kafa"},{"$f":"Список!A249","v":"EUROPE: Premier League (Crimea)"}]
[{"$f":"Список!C250","v":"Paris SG"},{"$f":"Список!A250","v":"FRANCE: Ligue 1"}]
[{"$f":"Список!C251","v":"Ingolstadt"},{"$f":"Список!A251","v":"GERMANY: 3. Liga"}]
[{"$f":"Список!C252","v":"PAE Chania"},{"$f":"Список!A252","v":"GREECE: Super League 2"}]
[{"$f":"Список!C253","v":"Santorini"},{"$f":"Список!A253","v":"GREECE: Football League"}]
[{"$f":"Список!C254","v":"Metta/LU"},{"$f":"Список!A254","v":"LATVIA: Optibet Virsliga"}]
[{"$f":"Список!C255","v":"Tak Chun Ka I"},{"$f":"Список!A255","v":"MACAO: Elite League"}]
[{"$f":"Список!C256","v":"Akademija Pandev"},{"$f":"Список!A256","v":"NORTH MACEDONIA: 1. MFL"}]
[{"$f":"Список!C257","v":"Belasica"},{"$f":"Список!A257","v":"NORTH MACEDONIA: 1. MFL"}]
[{"$f":"Список!C258","v":"Borec"},{"$f":"Список!A258","v":"NORTH MACEDONIA: 1. MFL"}]
[{"$f":"Список!C259","v":"Rabotnicki"},{"$f":"Список!A259","v":"NORTH MACEDONIA: 1. MFL"}]
[{"$f":"Список!C260","v":"Struga Trim & Lum"},{"$f":"Список!A260","v":"NORTH MACEDONIA: 1. MFL"}]
[{"$f":"Список!C261","v":"Blekitni Stargard"},{"$f":"Список!A261","v":"POLAND: Division 2"}]
[{"$f":"Список!C262","v":"Slask Wroclaw 2"},{"$f":"Список!A262","v":"POLAND: Division 2"}]
[{"$f":"Список!C263","v":"Arsenal Tula"},{"$f":"Список!A263","v":"RUSSIA: Premier League"}]
[{"$f":"Список!C264","v":"Krasnyy"},{"$f":"Список!A264","v":"RUSSIA: PFL - Group 3"}]
[{"$f":"Список!C265","v":"Znamya Noginsk"},{"$f":"Список!A265","v":"RUSSIA: PFL - Group 3"}]
[{"$f":"Список!C266","v":"CSKA Moscow W"},{"$f":"Список!A266","v":"RUSSIA: Supreme Division Women"}]
[{"$f":"Список!C267","v":"Rangers W"},{"$f":"Список!A267","v":"SCOTLAND: SWPL 1 Women"}]
[{"$f":"Список!C268","v":"Metalac"},{"$f":"Список!A268","v":"SERBIA: Super Liga"}]
[{"$f":"Список!C269","v":"Novi Pazar"},{"$f":"Список!A269","v":"SERBIA: Super Liga"}]
[{"$f":"Список!C270","v":"Zlatibor Cajetina"},{"$f":"Список!A270","v":"SERBIA: Super Liga"}]
[{"$f":"Список!C271","v":"Tamaraceite"},{"$f":"Список!A271","v":"SPAIN: Segunda Division B - Group 4 - Second stage"}]
[{"$f":"Список!C272","v":"Arucas"},{"$f":"Список!A272","v":"SPAIN: Tercera Division - Group 12"}]
[{"$f":"Список!C273","v":"Lanzarote"},{"$f":"Список!A273","v":"SPAIN: Tercera Division - Group 12"}]
[{"$f":"Список!C274","v":"Mensajero"},{"$f":"Список!A274","v":"SPAIN: Tercera Division - Group 12"}]
[{"$f":"Список!C275","v":"San Fernando"},{"$f":"Список!A275","v":"SPAIN: Tercera Division - Group 12"}]
[{"$f":"Список!C276","v":"UD Guia"},{"$f":"Список!A276","v":"SPAIN: Tercera Division - Group 12"}]
[{"$f":"Список!C277","v":"Union Viera"},{"$f":"Список!A277","v":"SPAIN: Tercera Division - Group 12"}]
[{"$f":"Список!C278","v":"Osters"},{"$f":"Список!A278","v":"SWEDEN: Superettan"}]
[{"$f":"Список!C279","v":"Polisi Tanzania"},{"$f":"Список!A279","v":"TANZANIA: Ligi Kuu Bara"}]
[{"$f":"Список!C280","v":"Inhulets"},{"$f":"Список!A280","v":"UKRAINE: Premier League"}]
[{"$f":"Список!C281","v":"Nam Dinh"},{"$f":"Список!A281","v":"VIETNAM: V.League 1"}]
[{"$f":"Список!C282","v":"JIPPO"},{"$f":"Список!A282","v":"WORLD: Club Friendly"}]
[{"$f":"Список!C283","v":"Rovaniemi"},{"$f":"Список!A283","v":"WORLD: Club Friendly"}]
[{"$f":"Список!C284","v":"Sarpsborg 08"},{"$f":"Список!A284","v":"WORLD: Club Friendly"}]
[{"$f":"Список!C285","v":"Asane W"},{"$f":"Список!A285","v":"WORLD: Club Friendly Women"}]
[{"$f":"Список!C286","v":"Buildcon"},{"$f":"Список!A286","v":"ZAMBIA: Super League"}]
[{"$f":"Список!C287","v":"Stranraer"},{"$f":"Список!A287","v":"SCOTLAND: Scottish Cup"}]
[{"$f":"Список!C288","v":"Sevan"},{"$f":"Список!A288","v":"ARMENIA: First League"}]
[{"$f":"Список!C289","v":"Birmingham W"},{"$f":"Список!A289","v":"ENGLAND: Women’s FA Cup"}]
[{"$f":"Список!C290","v":"Bochum"},{"$f":"Список!A290","v":"GERMANY: 2. Bundesliga"}]
[{"$f":"Список!C291","v":"Regensburg"},{"$f":"Список!A291","v":"GERMANY: 2. Bundesliga"}]
[{"$f":"Список!C292","v":"VfL Osnabruck"},{"$f":"Список!A292","v":"GERMANY: 2. Bundesliga"}]
[{"$f":"Список!C293","v":"Rodos"},{"$f":"Список!A293","v":"GREECE: Football League"}]
[{"$f":"Список!C294","v":"Orobica W"},{"$f":"Список!A294","v":"ITALY: Serie B Women"}]
[{"$f":"Список!C295","v":"Eskhata"},{"$f":"Список!A295","v":"TAJIKISTAN: Vysshaya Liga"}]
[{"$f":"Список!C296","v":"Karaiskakis"},{"$f":"Список!A296","v":"GREECE: Super League 2"}]
[{"$f":"Список!C297","v":"Panachaiki"},{"$f":"Список!A297","v":"GREECE: Super League 2"}]
[{"$f":"Список!C298","v":"Fluminense-PI"},{"$f":"Список!A298","v":"BRAZIL: Campeonato Piauiense"}]
[{"$f":"Список!C299","v":"Brno"},{"$f":"Список!A299","v":"CZECH REPUBLIC: 1. Liga"}]
[{"$f":"Список!C300","v":"Zlin"},{"$f":"Список!A300","v":"CZECH REPUBLIC: 1. Liga"}]
[{"$f":"Список!C301","v":"Slovacko W"},{"$f":"Список!A301","v":"CZECH REPUBLIC: 1. Liga Women"}]
[{"$f":"Список!C302","v":"Horsens"},{"$f":"Список!A302","v":"DENMARK: Superliga - Relegation Group"}]
[{"$f":"Список!C303","v":"Odense"},{"$f":"Список!A303","v":"DENMARK: Superliga - Relegation Group"}]
[{"$f":"Список!C304","v":"Fredericia"},{"$f":"Список!A304","v":"DENMARK: 1st Division - Promotion Group"}]
[{"$f":"Список!C305","v":"Tottenham U23"},{"$f":"Список!A305","v":"ENGLAND: Premier League 2"}]
[{"$f":"Список!C306","v":"West Ham W"},{"$f":"Список!A306","v":"ENGLAND: Women’s FA Cup"}]
[{"$f":"Список!C307","v":"Levadia"},{"$f":"Список!A307","v":"ESTONIA: Meistriliiga"}]
[{"$f":"Список!C308","v":"Lyon W"},{"$f":"Список!A308","v":"EUROPE: Champions League Women"}]
[{"$f":"Список!C309","v":"Mannheim"},{"$f":"Список!A309","v":"GERMANY: 3. Liga"}]
[{"$f":"Список!C310","v":"Oberhausen"},{"$f":"Список!A310","v":"GERMANY: Regionalliga West"}]
[{"$f":"Список!C311","v":"Eintracht Frankfurt W"},{"$f":"Список!A311","v":"GERMANY: Bundesliga Women"}]
[{"$f":"Список!C312","v":"Potsdam W"},{"$f":"Список!A312","v":"GERMANY: Bundesliga Women"}]
[{"$f":"Список!C313","v":"SGS Essen W"},{"$f":"Список!A313","v":"GERMANY: Bundesliga Women"}]
[{"$f":"Список!C314","v":"Werder Bremen W"},{"$f":"Список!A314","v":"GERMANY: Bundesliga Women"}]
[{"$f":"Список!C315","v":"Wolfsburg W"},{"$f":"Список!A315","v":"GERMANY: Bundesliga Women"}]
[{"$f":"Список!C316","v":"Andernach W"},{"$f":"Список!A316","v":"GERMANY: 2. Bundesliga Women"}]
[{"$f":"Список!C317","v":"B. Monchengladbach W"},{"$f":"Список!A317","v":"GERMANY: 2. Bundesliga Women"}]
[{"$f":"Список!C318","v":"Gutersloh W"},{"$f":"Список!A318","v":"GERMANY: 2. Bundesliga Women"}]
[{"$f":"Список!C319","v":"Ingolstadt W"},{"$f":"Список!A319","v":"GERMANY: 2. Bundesliga Women"}]
[{"$f":"Список!C320","v":"Jena W"},{"$f":"Список!A320","v":"GERMANY: 2. Bundesliga Women"}]
[{"$f":"Список!C321","v":"Turbine Potsdam 2 W"},{"$f":"Список!A321","v":"GERMANY: 2. Bundesliga Women"}]
[{"$f":"Список!C322","v":"Panathinaikos"},{"$f":"Список!A322","v":"GREECE: Super League - Championship Group"}]
[{"$f":"Список!C323","v":"Almopos"},{"$f":"Список!A323","v":"GREECE: Football League"}]
[{"$f":"Список!C324","v":"Asteras Vlachioti"},{"$f":"Список!A324","v":"GREECE: Football League"}]
[{"$f":"Список!C325","v":"Ialisos"},{"$f":"Список!A325","v":"GREECE: Football League"}]
[{"$f":"Список!C326","v":"Kavala"},{"$f":"Список!A326","v":"GREECE: Football League"}]
[{"$f":"Список!C327","v":"O. Volos"},{"$f":"Список!A327","v":"GREECE: Football League"}]
[{"$f":"Список!C328","v":"Pierikos"},{"$f":"Список!A328","v":"GREECE: Football League"}]
[{"$f":"Список!C329","v":"Veria"},{"$f":"Список!A329","v":"GREECE: Football League"}]
[{"$f":"Список!C330","v":"Carbonia"},{"$f":"Список!A330","v":"ITALY: Serie D - Group G"}]
[{"$f":"Список!C331","v":"Suduva 2"},{"$f":"Список!A331","v":"LITHUANIA: I Lyga"}]
[{"$f":"Список!C332","v":"Leczna W"},{"$f":"Список!A332","v":"POLAND: Ekstraliga Women"}]
[{"$f":"Список!C333","v":"F. Voronezh 2"},{"$f":"Список!A333","v":"RUSSIA: PFL - Group 3"}]
[{"$f":"Список!C334","v":"Kaluga"},{"$f":"Список!A334","v":"RUSSIA: PFL - Group 3"}]
[{"$f":"Список!C335","v":"Salyut-Belgorod"},{"$f":"Список!A335","v":"RUSSIA: PFL - Group 3"}]
[{"$f":"Список!C336","v":"Krasnodar W"},{"$f":"Список!A336","v":"RUSSIA: Supreme Division Women"}]
[{"$f":"Список!C337","v":"Hearts W"},{"$f":"Список!A337","v":"SCOTLAND: SWPL 1 Women"}]
[{"$f":"Список!C338","v":"Osasuna"},{"$f":"Список!A338","v":"SPAIN: LaLiga"}]
[{"$f":"Список!C339","v":"Real Sociedad"},{"$f":"Список!A339","v":"SPAIN: LaLiga"}]
[{"$f":"Список!C340","v":"Albacete"},{"$f":"Список!A340","v":"SPAIN: LaLiga2"}]
[{"$f":"Список!C341","v":"Logrones"},{"$f":"Список!A341","v":"SPAIN: LaLiga2"}]
[{"$f":"Список!C342","v":"Hammarby W"},{"$f":"Список!A342","v":"SWEDEN: Allsvenskan Women"}]
[{"$f":"Список!C343","v":"Vittsjo W"},{"$f":"Список!A343","v":"SWEDEN: Allsvenskan Women"}]
[{"$f":"Список!C344","v":"Basel W"},{"$f":"Список!A344","v":"SWITZERLAND: Nationalliga A Women"}]
[{"$f":"Список!C345","v":"Balkany"},{"$f":"Список!A345","v":"UKRAINE: Druha Liga"}]
[{"$f":"Список!C346","v":"Kryvbas"},{"$f":"Список!A346","v":"UKRAINE: Druha Liga"}]
[{"$f":"Список!C347","v":"Stromsgodset"},{"$f":"Список!A347","v":"WORLD: Club Friendly"}]
[{"$f":"Список!C348","v":"Gimnasia L.P. W"},{"$f":"Список!A348","v":"ARGENTINA: Primera A Women - Apertura"}]
[{"$f":"Список!C349","v":"Salzburg"},{"$f":"Список!A349","v":"AUSTRIA: Tipico Bundesliga - Championship Group"}]
[{"$f":"Список!C350","v":"Wolfsberger AC"},{"$f":"Список!A350","v":"AUSTRIA: Tipico Bundesliga - Championship Group"}]
[{"$f":"Список!C351","v":"Arsenal"},{"$f":"Список!A351","v":"ENGLAND: Premier League"}]
[{"$f":"Список!C352","v":"Debrecen II"},{"$f":"Список!A352","v":"HUNGARY: NB III - East"}]
[{"$f":"Список!C353","v":"Lanusei Calcio"},{"$f":"Список!A353","v":"ITALY: Serie D - Group G"}]
[{"$f":"Список!C354","v":"Blue Eagles"},{"$f":"Список!A354","v":"MALAWI: Super League"}]
[{"$f":"Список!C355","v":"Blue Eagles"},{"$f":"Список!A355","v":"MALAWI: Super League"}]
[{"$f":"Список!C356","v":"Chitipa United"},{"$f":"Список!A356","v":"MALAWI: Super League"}]
[{"$f":"Список!C357","v":"Mzuni"},{"$f":"Список!A357","v":"MALAWI: Super League"}]
[{"$f":"Список!C358","v":"Ntopwa"},{"$f":"Список!A358","v":"MALAWI: Super League"}]
[{"$f":"Список!C359","v":"Lion City"},{"$f":"Список!A359","v":"SINGAPORE: Premier League"}]
[{"$f":"Список!C360","v":"Munsingen"},{"$f":"Список!A360","v":"SWITZERLAND: Promotion League"}]
[{"$f":"Список!C361","v":"Esperance Tunis"},{"$f":"Список!A361","v":"TUNISIA: Ligue Professionnelle 1"}]
[{"$f":"Список!C362","v":"Sfaxien"},{"$f":"Список!A362","v":"TUNISIA: Ligue Professionnelle 1"}]
[{"$f":"Список!C363","v":"Gabes"},{"$f":"Список!A363","v":"TUNISIA: Ligue 2 - Promotion Group"}]
[{"$f":"Список!C364","v":"Zarzis"},{"$f":"Список!A364","v":"TUNISIA: Ligue 2 - Promotion Group"}]
[{"$f":"Список!C365","v":"Rukh Brest"},{"$f":"Список!A365","v":"BELARUS: Vysshaya Liga"}]
[{"$f":"Список!C366","v":"Krumkachy"},{"$f":"Список!A366","v":"BELARUS: Pershaya Liga"}]
[{"$f":"Список!C367","v":"Olimpik Sarajevo"},{"$f":"Список!A367","v":"BOSNIA AND HERZEGOVINA: Premier League"}]
[{"$f":"Список!C368","v":"Acao"},{"$f":"Список!A368","v":"BRAZIL: Campeonato Matogrossense"}]
[{"$f":"Список!C369","v":"Luverdense"},{"$f":"Список!A369","v":"BRAZIL: Campeonato Matogrossense"}]
[{"$f":"Список!C370","v":"Operario VG"},{"$f":"Список!A370","v":"BRAZIL: Campeonato Matogrossense"}]
[{"$f":"Список!C371","v":"Sinop"},{"$f":"Список!A371","v":"BRAZIL: Campeonato Matogrossense"}]
[{"$f":"Список!C372","v":"Uberlandia"},{"$f":"Список!A372","v":"BRAZIL: Campeonato Mineiro"}]
[{"$f":"Список!C373","v":"Bragantino"},{"$f":"Список!A373","v":"BRAZIL: Campeonato Paraense"}]
[{"$f":"Список!C374","v":"Dobrich"},{"$f":"Список!A374","v":"BULGARIA: Third League - North-East"}]
[{"$f":"Список!C375","v":"Spartak"},{"$f":"Список!A375","v":"BULGARIA: Third League - North-East"}]
[{"$f":"Список!C376","v":"Sportist Toshevo"},{"$f":"Список!A376","v":"BULGARIA: Third League - North-East"}]
[{"$f":"Список!C377","v":"Alki Oroklini"},{"$f":"Список!A377","v":"CYPRUS: Division 2"}]
[{"$f":"Список!C378","v":"Omonia Psevda"},{"$f":"Список!A378","v":"CYPRUS: Division 2"}]
[{"$f":"Список!C379","v":"Vysehrad"},{"$f":"Список!A379","v":"CZECH REPUBLIC: Division 2"}]
[{"$f":"Список!C380","v":"Arsenal W"},{"$f":"Список!A380","v":"ENGLAND: Women’s FA Cup"}]
[{"$f":"Список!C381","v":"Brighton W"},{"$f":"Список!A381","v":"ENGLAND: Women’s FA Cup"}]
[{"$f":"Список!C382","v":"Burnley W"},{"$f":"Список!A382","v":"ENGLAND: Women’s FA Cup"}]
[{"$f":"Список!C383","v":"Crystal Palace W"},{"$f":"Список!A383","v":"ENGLAND: Women’s FA Cup"}]
[{"$f":"Список!C384","v":"Everton W"},{"$f":"Список!A384","v":"ENGLAND: Women’s FA Cup"}]
[{"$f":"Список!C385","v":"Huddersfield W"},{"$f":"Список!A385","v":"ENGLAND: Women’s FA Cup"}]
[{"$f":"Список!C386","v":"Leicester W"},{"$f":"Список!A386","v":"ENGLAND: Women’s FA Cup"}]
[{"$f":"Список!C387","v":"Lewes W"},{"$f":"Список!A387","v":"ENGLAND: Women’s FA Cup"}]
[{"$f":"Список!C388","v":"Middlesbrough W"},{"$f":"Список!A388","v":"ENGLAND: Women’s FA Cup"}]
[{"$f":"Список!C389","v":"Oxford Utd W"},{"$f":"Список!A389","v":"ENGLAND: Women’s FA Cup"}]
[{"$f":"Список!C390","v":"Reading W"},{"$f":"Список!A390","v":"ENGLAND: Women’s FA Cup"}]
[{"$f":"Список!C391","v":"Sidama Bunna"},{"$f":"Список!A391","v":"ETHIOPIA: Premier League"}]
[{"$f":"Список!C392","v":"Gvardeyets"},{"$f":"Список!A392","v":"EUROPE: Premier League (Crimea)"}]
[{"$f":"Список!C393","v":"SKCHF Sevastopol"},{"$f":"Список!A393","v":"EUROPE: Premier League (Crimea)"}]
[{"$f":"Список!C394","v":"Sandur"},{"$f":"Список!A394","v":"FAROE ISLANDS: Faroe Islands Cup"}]
[{"$f":"Список!C395","v":"TB Tvoroyri"},{"$f":"Список!A395","v":"FAROE ISLANDS: Faroe Islands Cup"}]
[{"$f":"Список!C396","v":"Honka W"},{"$f":"Список!A396","v":"FINLAND: Kansallinen Liiga Women"}]
[{"$f":"Список!C397","v":"Brest"},{"$f":"Список!A397","v":"FRANCE: Ligue 1"}]
[{"$f":"Список!C398","v":"Dijon"},{"$f":"Список!A398","v":"FRANCE: Ligue 1"}]
[{"$f":"Список!C399","v":"Nimes"},{"$f":"Список!A399","v":"FRANCE: Ligue 1"}]
[{"$f":"Список!C400","v":"Reims"},{"$f":"Список!A400","v":"FRANCE: Ligue 1"}]
[{"$f":"Список!C401","v":"Wehen"},{"$f":"Список!A401","v":"GERMANY: 3. Liga"}]
[{"$f":"Список!C402","v":"Astra Hungary W"},{"$f":"Список!A402","v":"HUNGARY: NB I Women"}]
[{"$f":"Список!C403","v":"Baghdad"},{"$f":"Список!A403","v":"IRAQ: Super League"}]
[{"$f":"Список!C404","v":"Treaty Utd W"},{"$f":"Список!A404","v":"IRELAND: National League Women"}]
[{"$f":"Список!C405","v":"Atalanta"},{"$f":"Список!A405","v":"ITALY: Serie A"}]
[{"$f":"Список!C406","v":"Bologna"},{"$f":"Список!A406","v":"ITALY: Serie A"}]
[{"$f":"Список!C407","v":"Lazio"},{"$f":"Список!A407","v":"ITALY: Serie A"}]
[{"$f":"Список!C408","v":"Lecco"},{"$f":"Список!A408","v":"ITALY: Serie C - Group A"}]
[{"$f":"Список!C409","v":"Gubbio"},{"$f":"Список!A409","v":"ITALY: Serie C - Group B"}]
[{"$f":"Список!C410","v":"Legnago Salus"},{"$f":"Список!A410","v":"ITALY: Serie C - Group B"}]
[{"$f":"Список!C411","v":"Matelica"},{"$f":"Список!A411","v":"ITALY: Serie C - Group B"}]
[{"$f":"Список!C412","v":"Virtus Verona"},{"$f":"Список!A412","v":"ITALY: Serie C - Group B"}]
[{"$f":"Список!C413","v":"Bari"},{"$f":"Список!A413","v":"ITALY: Serie C - Group C"}]
[{"$f":"Список!C414","v":"Foggia"},{"$f":"Список!A414","v":"ITALY: Serie C - Group C"}]
[{"$f":"Список!C415","v":"Virtus Francavilla"},{"$f":"Список!A415","v":"ITALY: Serie C - Group C"}]
[{"$f":"Список!C416","v":"Borgosesia"},{"$f":"Список!A416","v":"ITALY: Serie D - Group A"}]
[{"$f":"Список!C417","v":"Bra"},{"$f":"Список!A417","v":"ITALY: Serie D - Group A"}]
[{"$f":"Список!C418","v":"Caronnese"},{"$f":"Список!A418","v":"ITALY: Serie D - Group A"}]
[{"$f":"Список!C419","v":"Citta di Varese"},{"$f":"Список!A419","v":"ITALY: Serie D - Group A"}]
[{"$f":"Список!C420","v":"Folgore Caratese"},{"$f":"Список!A420","v":"ITALY: Serie D - Group A"}]
[{"$f":"Список!C421","v":"HSL Derthona"},{"$f":"Список!A421","v":"ITALY: Serie D - Group A"}]
[{"$f":"Список!C422","v":"Imperia"},{"$f":"Список!A422","v":"ITALY: Serie D - Group A"}]
[{"$f":"Список!C423","v":"PDHA"},{"$f":"Список!A423","v":"ITALY: Serie D - Group A"}]
[{"$f":"Список!C424","v":"Sestri Levante"},{"$f":"Список!A424","v":"ITALY: Serie D - Group A"}]
[{"$f":"Список!C425","v":"Brusaporto"},{"$f":"Список!A425","v":"ITALY: Serie D - Group B"}]
[{"$f":"Список!C426","v":"Calvina"},{"$f":"Список!A426","v":"ITALY: Serie D - Group B"}]
[{"$f":"Список!C427","v":"Ciserano-Bergamo"},{"$f":"Список!A427","v":"ITALY: Serie D - Group B"}]
[{"$f":"Список!C428","v":"Franciacorta"},{"$f":"Список!A428","v":"ITALY: Serie D - Group B"}]
[{"$f":"Список!C429","v":"Real Calepina"},{"$f":"Список!A429","v":"ITALY: Serie D - Group B"}]
[{"$f":"Список!C430","v":"Scanzorosciate"},{"$f":"Список!A430","v":"ITALY: Serie D - Group B"}]
[{"$f":"Список!C431","v":"Seregno"},{"$f":"Список!A431","v":"ITALY: Serie D - Group B"}]
[{"$f":"Список!C432","v":"USD Casatese"},{"$f":"Список!A432","v":"ITALY: Serie D - Group B"}]
[{"$f":"Список!C433","v":"Villa Alme"},{"$f":"Список!A433","v":"ITALY: Serie D - Group B"}]
[{"$f":"Список!C434","v":"Adriese"},{"$f":"Список!A434","v":"ITALY: Serie D - Group C"}]
[{"$f":"Список!C435","v":"Caldiero Terme"},{"$f":"Список!A435","v":"ITALY: Serie D - Group C"}]
[{"$f":"Список!C436","v":"Campodarsego"},{"$f":"Список!A436","v":"ITALY: Serie D - Group C"}]
[{"$f":"Список!C437","v":"Cartigliano"},{"$f":"Список!A437","v":"ITALY: Serie D - Group C"}]
[{"$f":"Список!C438","v":"Luparense"},{"$f":"Список!A438","v":"ITALY: Serie D - Group C"}]
[{"$f":"Список!C439","v":"Manzanese"},{"$f":"Список!A439","v":"ITALY: Serie D - Group C"}]
[{"$f":"Список!C440","v":"Mestre"},{"$f":"Список!A440","v":"ITALY: Serie D - Group C"}]
[{"$f":"Список!C441","v":"Montebelluna"},{"$f":"Список!A441","v":"ITALY: Serie D - Group C"}]
[{"$f":"Список!C442","v":"San Giorgio-Sedico"},{"$f":"Список!A442","v":"ITALY: Serie D - Group C"}]
[{"$f":"Список!C443","v":"Aglianese Calcio"},{"$f":"Список!A443","v":"ITALY: Serie D - Group D"}]
[{"$f":"Список!C444","v":"Corticella"},{"$f":"Список!A444","v":"ITALY: Serie D - Group D"}]
[{"$f":"Список!C445","v":"Fiorenzuola"},{"$f":"Список!A445","v":"ITALY: Serie D - Group D"}]
[{"$f":"Список!C446","v":"Forli"},{"$f":"Список!A446","v":"ITALY: Serie D - Group D"}]
[{"$f":"Список!C447","v":"G.S. Bagnolese"},{"$f":"Список!A447","v":"ITALY: Serie D - Group D"}]
[{"$f":"Список!C448","v":"Marignanese"},{"$f":"Список!A448","v":"ITALY: Serie D - Group D"}]
[{"$f":"Список!C449","v":"Prato"},{"$f":"Список!A449","v":"ITALY: Serie D - Group D"}]
[{"$f":"Список!C450","v":"Seravezza Pozzi"},{"$f":"Список!A450","v":"ITALY: Serie D - Group D"}]
[{"$f":"Список!C451","v":"ACN Siena"},{"$f":"Список!A451","v":"ITALY: Serie D - Group E"}]
[{"$f":"Список!C452","v":"Flaminia"},{"$f":"Список!A452","v":"ITALY: Serie D - Group E"}]
[{"$f":"Список!C453","v":"Foligno"},{"$f":"Список!A453","v":"ITALY: Serie D - Group E"}]
[{"$f":"Список!C454","v":"Ostia Mare"},{"$f":"Список!A454","v":"ITALY: Serie D - Group E"}]
[{"$f":"Список!C455","v":"Pianese"},{"$f":"Список!A455","v":"ITALY: Serie D - Group E"}]
[{"$f":"Список!C456","v":"Sangiovannese"},{"$f":"Список!A456","v":"ITALY: Serie D - Group E"}]
[{"$f":"Список!C457","v":"Tiferno Lerchi"},{"$f":"Список!A457","v":"ITALY: Serie D - Group E"}]
[{"$f":"Список!C458","v":"Trastevere Calcio"},{"$f":"Список!A458","v":"ITALY: Serie D - Group E"}]
[{"$f":"Список!C459","v":"UC Sinalunghese"},{"$f":"Список!A459","v":"ITALY: Serie D - Group E"}]
[{"$f":"Список!C460","v":"Agnonese"},{"$f":"Список!A460","v":"ITALY: Serie D - Group F"}]
[{"$f":"Список!C461","v":"Aprilia"},{"$f":"Список!A461","v":"ITALY: Serie D - Group F"}]
[{"$f":"Список!C462","v":"ASD Pineto Calcio"},{"$f":"Список!A462","v":"ITALY: Serie D - Group F"}]
[{"$f":"Список!C463","v":"Campobasso"},{"$f":"Список!A463","v":"ITALY: Serie D - Group F"}]
[{"$f":"Список!C464","v":"Castelnuovo Vomano"},{"$f":"Список!A464","v":"ITALY: Serie D - Group F"}]
[{"$f":"Список!C465","v":"Fiuggi"},{"$f":"Список!A465","v":"ITALY: Serie D - Group F"}]
[{"$f":"Список!C466","v":"Matese"},{"$f":"Список!A466","v":"ITALY: Serie D - Group F"}]
[{"$f":"Список!C467","v":"Montegiorgio"},{"$f":"Список!A467","v":"ITALY: Serie D - Group F"}]
[{"$f":"Список!C468","v":"Afragolese"},{"$f":"Список!A468","v":"ITALY: Serie D - Group G"}]
[{"$f":"Список!C469","v":"Cassino"},{"$f":"Список!A469","v":"ITALY: Serie D - Group G"}]
[{"$f":"Список!C470","v":"Monterosi FC"},{"$f":"Список!A470","v":"ITALY: Serie D - Group G"}]
[{"$f":"Список!C471","v":"Savoia"},{"$f":"Список!A471","v":"ITALY: Serie D - Group G"}]
[{"$f":"Список!C472","v":"Torres"},{"$f":"Список!A472","v":"ITALY: Serie D - Group G"}]
[{"$f":"Список!C473","v":"A.C.D. Nardo"},{"$f":"Список!A473","v":"ITALY: Serie D - Group H"}]
[{"$f":"Список!C474","v":"Brindisi"},{"$f":"Список!A474","v":"ITALY: Serie D - Group H"}]
[{"$f":"Список!C475","v":"Casarano"},{"$f":"Список!A475","v":"ITALY: Serie D - Group H"}]
[{"$f":"Список!C476","v":"Citta di Fasano"},{"$f":"Список!A476","v":"ITALY: Serie D - Group H"}]
[{"$f":"Список!C477","v":"Gravina"},{"$f":"Список!A477","v":"ITALY: Serie D - Group H"}]
[{"$f":"Список!C478","v":"Picerno"},{"$f":"Список!A478","v":"ITALY: Serie D - Group H"}]
[{"$f":"Список!C479","v":"Puteolana"},{"$f":"Список!A479","v":"ITALY: Serie D - Group H"}]
[{"$f":"Список!C480","v":"Real Aversa"},{"$f":"Список!A480","v":"ITALY: Serie D - Group H"}]
[{"$f":"Список!C481","v":"Sorrento"},{"$f":"Список!A481","v":"ITALY: Serie D - Group H"}]
[{"$f":"Список!C482","v":"Castrovillari"},{"$f":"Список!A482","v":"ITALY: Serie D - Group I"}]
[{"$f":"Список!C483","v":"Dattilo"},{"$f":"Список!A483","v":"ITALY: Serie D - Group I"}]
[{"$f":"Список!C484","v":"FC Messina"},{"$f":"Список!A484","v":"ITALY: Serie D - Group I"}]
[{"$f":"Список!C485","v":"Gelbison Cilento"},{"$f":"Список!A485","v":"ITALY: Serie D - Group I"}]
[{"$f":"Список!C486","v":"Paterno"},{"$f":"Список!A486","v":"ITALY: Serie D - Group I"}]
[{"$f":"Список!C487","v":"Roccella"},{"$f":"Список!A487","v":"ITALY: Serie D - Group I"}]
[{"$f":"Список!C488","v":"Rotonda"},{"$f":"Список!A488","v":"ITALY: Serie D - Group I"}]
[{"$f":"Список!C489","v":"San Luca"},{"$f":"Список!A489","v":"ITALY: Serie D - Group I"}]
[{"$f":"Список!C490","v":"Lazio U19"},{"$f":"Список!A490","v":"ITALY: Primavera 1"}]
[{"$f":"Список!C491","v":"San Marino Academy W"},{"$f":"Список!A491","v":"ITALY: Serie A Women"}]
[{"$f":"Список!C492","v":"Cesena W"},{"$f":"Список!A492","v":"ITALY: Serie B Women"}]
[{"$f":"Список!C493","v":"Chievo Verona W"},{"$f":"Список!A493","v":"ITALY: Serie B Women"}]
[{"$f":"Список!C494","v":"Cittadella W"},{"$f":"Список!A494","v":"ITALY: Serie B Women"}]
[{"$f":"Список!C495","v":"Pomigliano W"},{"$f":"Список!A495","v":"ITALY: Serie B Women"}]
[{"$f":"Список!C496","v":"Ravenna W"},{"$f":"Список!A496","v":"ITALY: Serie B Women"}]
[{"$f":"Список!C497","v":"Roma CF W"},{"$f":"Список!A497","v":"ITALY: Serie B Women"}]
[{"$f":"Список!C498","v":"Kaisar Kyzylorda"},{"$f":"Список!A498","v":"KAZAKHSTAN: Premier League"}]
[{"$f":"Список!C499","v":"Feronikeli"},{"$f":"Список!A499","v":"KOSOVO: Superliga"}]
[{"$f":"Список!C500","v":"Trepca 89"},{"$f":"Список!A500","v":"KOSOVO: Superliga"}]
[{"$f":"Список!C501","v":"Policia"},{"$f":"Список!A501","v":"MACAO: Elite League"}]
[{"$f":"Список!C502","v":"Wisla Plock"},{"$f":"Список!A502","v":"POLAND: Ekstraklasa"}]
[{"$f":"Список!C503","v":"Chelmianka Chelm"},{"$f":"Список!A503","v":"POLAND: III Liga - Group IV"}]
[{"$f":"Список!C504","v":"Penafiel"},{"$f":"Список!A504","v":"PORTUGAL: Liga Portugal 2"}]
[{"$f":"Список!C505","v":"Famalicao W"},{"$f":"Список!A505","v":"PORTUGAL: Liga BPI Women - Championship Group"}]
[{"$f":"Список!C506","v":"Lipetsk"},{"$f":"Список!A506","v":"RUSSIA: PFL - Group 3"}]
[{"$f":"Список!C507","v":"Faetano"},{"$f":"Список!A507","v":"SAN MARINO: Campionato Sammarinese"}]
[{"$f":"Список!C508","v":"La Fiorita"},{"$f":"Список!A508","v":"SAN MARINO: Campionato Sammarinese"}]
[{"$f":"Список!C509","v":"Libertas"},{"$f":"Список!A509","v":"SAN MARINO: Campionato Sammarinese"}]
[{"$f":"Список!C510","v":"Spartans W"},{"$f":"Список!A510","v":"SCOTLAND: SWPL 1 Women"}]
[{"$f":"Список!C511","v":"Primorje W"},{"$f":"Список!A511","v":"SLOVENIA: 1. SZNL Women"}]
[{"$f":"Список!C512","v":"Polokwane"},{"$f":"Список!A512","v":"SOUTH AFRICA: GladAfrica Championship"}]
[{"$f":"Список!C513","v":"Sekhukhune"},{"$f":"Список!A513","v":"SOUTH AFRICA: GladAfrica Championship"}]
[{"$f":"Список!C514","v":"Mamelodi Sundowns"},{"$f":"Список!A514","v":"SOUTH AFRICA: Nedbank Cup"}]
[{"$f":"Список!C515","v":"Degerfors"},{"$f":"Список!A515","v":"SWEDEN: Allsvenskan"}]
[{"$f":"Список!C516","v":"Hacken"},{"$f":"Список!A516","v":"SWEDEN: Allsvenskan"}]
[{"$f":"Список!C517","v":"Ostersunds"},{"$f":"Список!A517","v":"SWEDEN: Allsvenskan"}]
[{"$f":"Список!C518","v":"Varnamo"},{"$f":"Список!A518","v":"SWEDEN: Superettan"}]
[{"$f":"Список!C519","v":"Eskilstuna United W"},{"$f":"Список!A519","v":"SWEDEN: Allsvenskan Women"}]
[{"$f":"Список!C520","v":"Mallbackens W"},{"$f":"Список!A520","v":"SWEDEN: Elitettan Women"}]
[{"$f":"Список!C521","v":"Dodoma Jiji"},{"$f":"Список!A521","v":"TANZANIA: Ligi Kuu Bara"}]
[{"$f":"Список!C522","v":"Mwadui"},{"$f":"Список!A522","v":"TANZANIA: Ligi Kuu Bara"}]
[{"$f":"Список!C523","v":"Gaziantep"},{"$f":"Список!A523","v":"TURKEY: Super Lig"}]
[{"$f":"Список!C524","v":"Akhisarspor"},{"$f":"Список!A524","v":"TURKEY: 1. Lig"}]
[{"$f":"Список!C525","v":"Kampala City"},{"$f":"Список!A525","v":"UGANDA: Premier League"}]
[{"$f":"Список!C526","v":"Fredrikstad"},{"$f":"Список!A526","v":"WORLD: Club Friendly"}]
[{"$f":"Список!C527","v":"Forest Rangers"},{"$f":"Список!A527","v":"ZAMBIA: Super League"}]
[{"$f":"Список!C528","v":"Lumwana Radiants"},{"$f":"Список!A528","v":"ZAMBIA: Super League"}]
[{"$f":"Список!C529","v":"Nkwazi"},{"$f":"Список!A529","v":"ZAMBIA: Super League"}]
[{"$f":"Список!C530","v":"Al Akhaa Al Ahli"},{"$f":"Список!A530","v":"LEBANON: Premier League - Winners stage"}]
[{"$f":"Список!C531","v":"Al Ansar"},{"$f":"Список!A531","v":"LEBANON: Premier League - Winners stage"}]
[{"$f":"Список!C532","v":"Safa"},{"$f":"Список!A532","v":"LEBANON: Premier League - Winners stage"}]
[{"$f":"Список!C533","v":"Puskas Academy"},{"$f":"Список!A533","v":"HUNGARY: OTP Bank Liga"}]
[{"$f":"Список!C534","v":"Dortmund"},{"$f":"Список!A534","v":"GERMANY: Bundesliga"}]
[{"$f":"Список!C535","v":"Aetos Orfani"},{"$f":"Список!A535","v":"GREECE: Gamma Ethniki - Group 1"}]
[{"$f":"Список!C536","v":"Alexandroypolis"},{"$f":"Список!A536","v":"GREECE: Gamma Ethniki - Group 1"}]
[{"$f":"Список!C537","v":"Anagennisi Thalassias"},{"$f":"Список!A537","v":"GREECE: Gamma Ethniki - Group 1"}]
[{"$f":"Список!C538","v":"Aris Avatou"},{"$f":"Список!A538","v":"GREECE: Gamma Ethniki - Group 1"}]
[{"$f":"Список!C539","v":"Chrisoupolis"},{"$f":"Список!A539","v":"GREECE: Gamma Ethniki - Group 1"}]
[{"$f":"Список!C540","v":"Didymoteicho"},{"$f":"Список!A540","v":"GREECE: Gamma Ethniki - Group 1"}]
[{"$f":"Список!C541","v":"F.C. Pandramaikos"},{"$f":"Список!A541","v":"GREECE: Gamma Ethniki - Group 1"}]
[{"$f":"Список!C542","v":"Sidirochori"},{"$f":"Список!A542","v":"GREECE: Gamma Ethniki - Group 1"}]
[{"$f":"Список!C543","v":"A. Asteras"},{"$f":"Список!A543","v":"GREECE: Gamma Ethniki - Group 2"}]
[{"$f":"Список!C544","v":"AS Giannitsa"},{"$f":"Список!A544","v":"GREECE: Gamma Ethniki - Group 2"}]
[{"$f":"Список!C545","v":"Edessaikos"},{"$f":"Список!A545","v":"GREECE: Gamma Ethniki - Group 2"}]
[{"$f":"Список!C546","v":"Niki Agkathia"},{"$f":"Список!A546","v":"GREECE: Gamma Ethniki - Group 2"}]
[{"$f":"Список!C547","v":"PAOK Alexandreia"},{"$f":"Список!A547","v":"GREECE: Gamma Ethniki - Group 2"}]
[{"$f":"Список!C548","v":"Plagia"},{"$f":"Список!A548","v":"GREECE: Gamma Ethniki - Group 2"}]
[{"$f":"Список!C549","v":"Thermaikos FC"},{"$f":"Список!A549","v":"GREECE: Gamma Ethniki - Group 2"}]
[{"$f":"Список!C550","v":"Aetos Makrychoriou"},{"$f":"Список!A550","v":"GREECE: Gamma Ethniki - Group 3"}]
[{"$f":"Список!C551","v":"Dias Diou"},{"$f":"Список!A551","v":"GREECE: Gamma Ethniki - Group 3"}]
[{"$f":"Список!C552","v":"Elassona"},{"$f":"Список!A552","v":"GREECE: Gamma Ethniki - Group 3"}]
[{"$f":"Список!C553","v":"Fikis"},{"$f":"Список!A553","v":"GREECE: Gamma Ethniki - Group 3"}]
[{"$f":"Список!C554","v":"Karditsa"},{"$f":"Список!A554","v":"GREECE: Gamma Ethniki - Group 3"}]
[{"$f":"Список!C555","v":"Kozani FC"},{"$f":"Список!A555","v":"GREECE: Gamma Ethniki - Group 3"}]
[{"$f":"Список!C556","v":"Meteora"},{"$f":"Список!A556","v":"GREECE: Gamma Ethniki - Group 3"}]
[{"$f":"Список!C557","v":"Atalanti"},{"$f":"Список!A557","v":"GREECE: Gamma Ethniki - Group 4"}]
[{"$f":"Список!C558","v":"GS Almyros"},{"$f":"Список!A558","v":"GREECE: Gamma Ethniki - Group 4"}]
[{"$f":"Список!C559","v":"Ipato"},{"$f":"Список!A559","v":"GREECE: Gamma Ethniki - Group 4"}]
[{"$f":"Список!C560","v":"Thiseas Agria"},{"$f":"Список!A560","v":"GREECE: Gamma Ethniki - Group 4"}]
[{"$f":"Список!C561","v":"Acheron Kanalaki"},{"$f":"Список!A561","v":"GREECE: Gamma Ethniki - Group 5"}]
[{"$f":"Список!C562","v":"Amvrakikos Loutrou"},{"$f":"Список!A562","v":"GREECE: Gamma Ethniki - Group 5"}]
[{"$f":"Список!C563","v":"Lefkimmi"},{"$f":"Список!A563","v":"GREECE: Gamma Ethniki - Group 5"}]
[{"$f":"Список!C564","v":"Mesolongi AE"},{"$f":"Список!A564","v":"GREECE: Gamma Ethniki - Group 5"}]
[{"$f":"Список!C565","v":"Thyella Katsikas"},{"$f":"Список!A565","v":"GREECE: Gamma Ethniki - Group 5"}]
[{"$f":"Список!C566","v":"Thyella Monastirakiou"},{"$f":"Список!A566","v":"GREECE: Gamma Ethniki - Group 5"}]
[{"$f":"Список!C567","v":"Tilikratis L."},{"$f":"Список!A567","v":"GREECE: Gamma Ethniki - Group 5"}]
[{"$f":"Список!C568","v":"Ethnikos Piraeus"},{"$f":"Список!A568","v":"GREECE: Gamma Ethniki - Group 6"}]
[{"$f":"Список!C569","v":"Fostiras"},{"$f":"Список!A569","v":"GREECE: Gamma Ethniki - Group 6"}]
[{"$f":"Список!C570","v":"Ilioupoli"},{"$f":"Список!A570","v":"GREECE: Gamma Ethniki - Group 6"}]
[{"$f":"Список!C571","v":"Moschato"},{"$f":"Список!A571","v":"GREECE: Gamma Ethniki - Group 6"}]
[{"$f":"Список!C572","v":"Panionios"},{"$f":"Список!A572","v":"GREECE: Gamma Ethniki - Group 6"}]
[{"$f":"Список!C573","v":"Agios Ierotheos"},{"$f":"Список!A573","v":"GREECE: Gamma Ethniki - Group 7"}]
[{"$f":"Список!C574","v":"Atromitos Chiliomodi"},{"$f":"Список!A574","v":"GREECE: Gamma Ethniki - Group 7"}]
[{"$f":"Список!C575","v":"Ermionidas-Ermis"},{"$f":"Список!A575","v":"GREECE: Gamma Ethniki - Group 7"}]
[{"$f":"Список!C576","v":"Foinikas N. Epidavrou"},{"$f":"Список!A576","v":"GREECE: Gamma Ethniki - Group 7"}]
[{"$f":"Список!C577","v":"Molaikos"},{"$f":"Список!A577","v":"GREECE: Gamma Ethniki - Group 7"}]
[{"$f":"Список!C578","v":"Aetos Loutron"},{"$f":"Список!A578","v":"GREECE: Gamma Ethniki - Group 8"}]
[{"$f":"Список!C579","v":"AO Akratitos"},{"$f":"Список!A579","v":"GREECE: Gamma Ethniki - Group 8"}]
[{"$f":"Список!C580","v":"Panelefsiniakos"},{"$f":"Список!A580","v":"GREECE: Gamma Ethniki - Group 8"}]
[{"$f":"Список!C581","v":"Pyliou"},{"$f":"Список!A581","v":"GREECE: Gamma Ethniki - Group 8"}]
[{"$f":"Список!C582","v":"Pythagoras Kontakaiikon"},{"$f":"Список!A582","v":"GREECE: Gamma Ethniki - Group 8"}]
[{"$f":"Список!C583","v":"Thyella D."},{"$f":"Список!A583","v":"GREECE: Gamma Ethniki - Group 8"}]
[{"$f":"Список!C584","v":"Aias Gastounis"},{"$f":"Список!A584","v":"GREECE: Gamma Ethniki - Group 9"}]
[{"$f":"Список!C585","v":"Diavolitsi"},{"$f":"Список!A585","v":"GREECE: Gamma Ethniki - Group 9"}]
[{"$f":"Список!C586","v":"Nafpaktiakos"},{"$f":"Список!A586","v":"GREECE: Gamma Ethniki - Group 9"}]
[{"$f":"Список!C587","v":"Pallixouriakos"},{"$f":"Список!A587","v":"GREECE: Gamma Ethniki - Group 9"}]
[{"$f":"Список!C588","v":"Thyella Patras"},{"$f":"Список!A588","v":"GREECE: Gamma Ethniki - Group 9"}]
[{"$f":"Список!C589","v":"Zakynthos"},{"$f":"Список!A589","v":"GREECE: Gamma Ethniki - Group 9"}]
[{"$f":"Список!C590","v":"AEEK Inka"},{"$f":"Список!A590","v":"GREECE: Gamma Ethniki - Group 10"}]
[{"$f":"Список!C591","v":"AE Neapolis"},{"$f":"Список!A591","v":"GREECE: Gamma Ethniki - Group 10"}]
[{"$f":"Список!C592","v":"Agios Nikolaos"},{"$f":"Список!A592","v":"GREECE: Gamma Ethniki - Group 10"}]
[{"$f":"Список!C593","v":"Almyros Gaziou"},{"$f":"Список!A593","v":"GREECE: Gamma Ethniki - Group 10"}]
[{"$f":"Список!C594","v":"Aris Soudas"},{"$f":"Список!A594","v":"GREECE: Gamma Ethniki - Group 10"}]
[{"$f":"Список!C595","v":"Persija Jakarta"},{"$f":"Список!A595","v":"INDONESIA: Menpora Cup - Play Offs"}]
[{"$f":"Список!C596","v":"Virtus Bolzano"},{"$f":"Список!A596","v":"ITALY: Serie D - Group C"}]
[{"$f":"Список!C597","v":"Sochi"},{"$f":"Список!A597","v":"RUSSIA: Premier League"}]
[{"$f":"Список!C598","v":"Chernihiv"},{"$f":"Список!A598","v":"UKRAINE: Druha Liga"}]
[{"$f":"Список!C599","v":"Laci"},{"$f":"Список!A599","v":"ALBANIA: Superliga"}]
[{"$f":"Список!C600","v":"Skenderbeu"},{"$f":"Список!A600","v":"ALBANIA: Superliga"}]
[{"$f":"Список!C601","v":"Boca Juniors W"},{"$f":"Список!A601","v":"ARGENTINA: Primera A Women - Apertura"}]
[{"$f":"Список!C602","v":"Pouso Alegre"},{"$f":"Список!A602","v":"BRAZIL: Campeonato Mineiro"}]
[{"$f":"Список!C603","v":"Parana"},{"$f":"Список!A603","v":"BRAZIL: Campeonato Paranaense"}]
[{"$f":"Список!C604","v":"Haskovo 1957"},{"$f":"Список!A604","v":"BULGARIA: Third League - South-East"}]
[{"$f":"Список!C605","v":"Akademik Svishtov"},{"$f":"Список!A605","v":"BULGARIA: Third League - North-West"}]
[{"$f":"Список!C606","v":"Botev Vratsa II"},{"$f":"Список!A606","v":"BULGARIA: Third League - North-West"}]
[{"$f":"Список!C607","v":"Drenovets"},{"$f":"Список!A607","v":"BULGARIA: Third League - North-West"}]
[{"$f":"Список!C608","v":"Levski Lom"},{"$f":"Список!A608","v":"BULGARIA: Third League - North-West"}]
[{"$f":"Список!C609","v":"Mezdra"},{"$f":"Список!A609","v":"BULGARIA: Third League - North-West"}]
[{"$f":"Список!C610","v":"Partizan Cerven Brjag"},{"$f":"Список!A610","v":"BULGARIA: Third League - North-West"}]
[{"$f":"Список!C611","v":"Pavlikeni"},{"$f":"Список!A611","v":"BULGARIA: Third League - North-West"}]
[{"$f":"Список!C612","v":"Peshtera Galata"},{"$f":"Список!A612","v":"BULGARIA: Third League - North-West"}]
[{"$f":"Список!C613","v":"Yantra Polski Trambesh"},{"$f":"Список!A613","v":"BULGARIA: Third League - North-West"}]
[{"$f":"Список!C614","v":"AEL Limassol"},{"$f":"Список!A614","v":"CYPRUS: First Division - Championship Group"}]
[{"$f":"Список!C615","v":"Liberec"},{"$f":"Список!A615","v":"CZECH REPUBLIC: 1. Liga"}]
[{"$f":"Список!C616","v":"FC Copenhagen"},{"$f":"Список!A616","v":"DENMARK: Superliga - Championship Group"}]
[{"$f":"Список!C617","v":"Coventry"},{"$f":"Список!A617","v":"ENGLAND: Championship"}]
[{"$f":"Список!C618","v":"Wolverhampton W"},{"$f":"Список!A618","v":"ENGLAND: Women’s FA Cup"}]
[{"$f":"Список!C619","v":"07 Vestur Sorvagur"},{"$f":"Список!A619","v":"FAROE ISLANDS: Faroe Islands Cup"}]
[{"$f":"Список!C620","v":"B36 Torshavn"},{"$f":"Список!A620","v":"FAROE ISLANDS: Faroe Islands Cup"}]
[{"$f":"Список!C621","v":"IF Fuglafjordur"},{"$f":"Список!A621","v":"FAROE ISLANDS: Faroe Islands Cup"}]
[{"$f":"Список!C622","v":"Klaksvik"},{"$f":"Список!A622","v":"FAROE ISLANDS: Faroe Islands Cup"}]
[{"$f":"Список!C623","v":"Toftir"},{"$f":"Список!A623","v":"FAROE ISLANDS: Faroe Islands Cup"}]
[{"$f":"Список!C624","v":"Vikingur"},{"$f":"Список!A624","v":"FAROE ISLANDS: Faroe Islands Cup"}]
[{"$f":"Список!C625","v":"SC Sopron"},{"$f":"Список!A625","v":"HUNGARY: NB III - West"}]
[{"$f":"Список!C626","v":"M. Herzliya"},{"$f":"Список!A626","v":"ISRAEL: Liga Alef South - Relegation Group"}]
[{"$f":"Список!C627","v":"Ventspils"},{"$f":"Список!A627","v":"LATVIA: Optibet Virsliga"}]
[{"$f":"Список!C628","v":"NPA Anchors"},{"$f":"Список!A628","v":"LIBERIA: LFA First Division"}]
[{"$f":"Список!C629","v":"FK Panevezys 2"},{"$f":"Список!A629","v":"LITHUANIA: I Lyga"}]
[{"$f":"Список!C630","v":"Dudelange"},{"$f":"Список!A630","v":"LUXEMBOURG: National Division"}]
[{"$f":"Список!C631","v":"Niedercorn"},{"$f":"Список!A631","v":"LUXEMBOURG: National Division"}]
[{"$f":"Список!C632","v":"UNA Strassen"},{"$f":"Список!A632","v":"LUXEMBOURG: National Division"}]
[{"$f":"Список!C633","v":"Union Titus Petange"},{"$f":"Список!A633","v":"LUXEMBOURG: National Division"}]
[{"$f":"Список!C634","v":"Wiltz"},{"$f":"Список!A634","v":"LUXEMBOURG: National Division"}]
[{"$f":"Список!C635","v":"Melaka United"},{"$f":"Список!A635","v":"MALAYSIA: Super League"}]
[{"$f":"Список!C636","v":"Petaling Jaya CFC"},{"$f":"Список!A636","v":"MALAYSIA: Super League"}]
[{"$f":"Список!C637","v":"Negeri Sembilan"},{"$f":"Список!A637","v":"MALAYSIA: Premier League"}]
[{"$f":"Список!C638","v":"Selangor 2"},{"$f":"Список!A638","v":"MALAYSIA: Premier League"}]
[{"$f":"Список!C639","v":"Arsenal Tivat"},{"$f":"Список!A639","v":"MONTENEGRO: Druga Liga"}]
[{"$f":"Список!C640","v":"Berane"},{"$f":"Список!A640","v":"MONTENEGRO: Druga Liga"}]
[{"$f":"Список!C641","v":"Grbalj"},{"$f":"Список!A641","v":"MONTENEGRO: Druga Liga"}]
[{"$f":"Список!C642","v":"Jedinstvo"},{"$f":"Список!A642","v":"MONTENEGRO: Druga Liga"}]
[{"$f":"Список!C643","v":"Kom Podgorica"},{"$f":"Список!A643","v":"MONTENEGRO: Druga Liga"}]
[{"$f":"Список!C644","v":"Deportivo Santani"},{"$f":"Список!A644","v":"PARAGUAY: Division Intermedia"}]
[{"$f":"Список!C645","v":"San Lorenzo"},{"$f":"Список!A645","v":"PARAGUAY: Division Intermedia"}]
[{"$f":"Список!C646","v":"Sandomierz"},{"$f":"Список!A646","v":"POLAND: III Liga - Group IV"}]
[{"$f":"Список!C647","v":"Famalicao"},{"$f":"Список!A647","v":"PORTUGAL: Primeira Liga"}]
[{"$f":"Список!C648","v":"FC Porto B"},{"$f":"Список!A648","v":"PORTUGAL: Liga Portugal 2"}]
[{"$f":"Список!C649","v":"Saturn Ramenskoye"},{"$f":"Список!A649","v":"RUSSIA: PFL - Group 3"}]
[{"$f":"Список!C650","v":"Rangers"},{"$f":"Список!A650","v":"SCOTLAND: Scottish Cup"}]
[{"$f":"Список!C651","v":"Din. Vranje"},{"$f":"Список!A651","v":"SERBIA: Prva Liga"}]
[{"$f":"Список!C652","v":"Dubocica"},{"$f":"Список!A652","v":"SERBIA: Prva Liga"}]
[{"$f":"Список!C653","v":"Graficar Beograd"},{"$f":"Список!A653","v":"SERBIA: Prva Liga"}]
[{"$f":"Список!C654","v":"Sremska Mitrovica"},{"$f":"Список!A654","v":"SERBIA: Prva Liga"}]
[{"$f":"Список!C655","v":"Batajnica"},{"$f":"Список!A655","v":"SERBIA: Srpska Liga - Belgrade"}]
[{"$f":"Список!C656","v":"Crvena Zvezda MML"},{"$f":"Список!A656","v":"SERBIA: Srpska Liga - Belgrade"}]
[{"$f":"Список!C657","v":"Jedinstvo Surcin"},{"$f":"Список!A657","v":"SERBIA: Srpska Liga - Belgrade"}]
[{"$f":"Список!C658","v":"Lestane"},{"$f":"Список!A658","v":"SERBIA: Srpska Liga - Belgrade"}]
[{"$f":"Список!C659","v":"Sremcica"},{"$f":"Список!A659","v":"SERBIA: Srpska Liga - Belgrade"}]
[{"$f":"Список!C660","v":"Buducnost Arilje"},{"$f":"Список!A660","v":"SERBIA: Srpska Liga - West"}]
[{"$f":"Список!C661","v":"Josanica"},{"$f":"Список!A661","v":"SERBIA: Srpska Liga - West"}]
[{"$f":"Список!C662","v":"Zeleznicar Lajkovac"},{"$f":"Список!A662","v":"SERBIA: Srpska Liga - West"}]
[{"$f":"Список!C663","v":"Z. Moravce-Vrable"},{"$f":"Список!A663","v":"SLOVAKIA: Fortuna liga - Championship Group"}]
[{"$f":"Список!C664","v":"Paracuellos Antamira"},{"$f":"Список!A664","v":"SPAIN: Tercera Division - Group 7 - Relegation Group"}]
[{"$f":"Список!C665","v":"Assyriska FF"},{"$f":"Список!A665","v":"SWEDEN: Division 1 - Norra"}]
[{"$f":"Список!C666","v":"Sylvia"},{"$f":"Список!A666","v":"SWEDEN: Division 1 - Norra"}]
[{"$f":"Список!C667","v":"Basel"},{"$f":"Список!A667","v":"SWITZERLAND: Super League"}]
[{"$f":"Список!C668","v":"Lausanne"},{"$f":"Список!A668","v":"SWITZERLAND: Super League"}]
[{"$f":"Список!C669","v":"Young Boys"},{"$f":"Список!A669","v":"SWITZERLAND: Super League"}]
[{"$f":"Список!C670","v":"Etoile-Carouge"},{"$f":"Список!A670","v":"SWITZERLAND: Promotion League"}]
[{"$f":"Список!C671","v":"Stade Nyonnais"},{"$f":"Список!A671","v":"SWITZERLAND: Promotion League"}]
[{"$f":"Список!C672","v":"Zurich II"},{"$f":"Список!A672","v":"SWITZERLAND: Promotion League"}]
[{"$f":"Список!C673","v":"ASC Kara"},{"$f":"Список!A673","v":"TOGO: Championnat National"}]
[{"$f":"Список!C674","v":"Dynamic Togolais"},{"$f":"Список!A674","v":"TOGO: Championnat National"}]
[{"$f":"Список!C675","v":"Entente II"},{"$f":"Список!A675","v":"TOGO: Championnat National"}]
[{"$f":"Список!C676","v":"Gomido"},{"$f":"Список!A676","v":"TOGO: Championnat National"}]
[{"$f":"Список!C677","v":"Ifodje"},{"$f":"Список!A677","v":"TOGO: Championnat National"}]
[{"$f":"Список!C678","v":"Koroki Metete"},{"$f":"Список!A678","v":"TOGO: Championnat National"}]
[{"$f":"Список!C679","v":"Maranatha"},{"$f":"Список!A679","v":"TOGO: Championnat National"}]
[{"$f":"Список!C680","v":"Mariupol"},{"$f":"Список!A680","v":"UKRAINE: Premier League"}]
[{"$f":"Список!C681","v":"Ham-Kam"},{"$f":"Список!A681","v":"WORLD: Club Friendly"}]
[{"$f":"Список!C682","v":"AEK Athens FC"},{"$f":"Список!A682","v":"GREECE: Super League - Championship Group"}]
[{"$f":"Список!C683","v":"Alaves"},{"$f":"Список!A683","v":"SPAIN: LaLiga"}]
[{"$f":"Список!C684","v":"Atl. Madrid"},{"$f":"Список!A684","v":"SPAIN: LaLiga"}]
[{"$f":"Список!C685","v":"Dep. Fabril"},{"$f":"Список!A685","v":"SPAIN: Tercera Division - Group 1 - Second stage"}]
[{"$f":"Список!C686","v":"Pitea"},{"$f":"Список!A686","v":"SWEDEN: Division 1 - Norra"}]
[{"$f":"Список!C687","v":"FC Santa Coloma"},{"$f":"Список!A687","v":"ANDORRA: Primera Divisió - Championship Group"}]
[{"$f":"Список!C688","v":"GOSK Gabela"},{"$f":"Список!A688","v":"BOSNIA AND HERZEGOVINA: Prva Liga - FBiH"}]
[{"$f":"Список!C689","v":"Sloga Mravince"},{"$f":"Список!A689","v":"CROATIA: 3. HNL South"}]
[{"$f":"Список!C690","v":"Urania Baska Voda"},{"$f":"Список!A690","v":"CROATIA: 3. HNL South"}]
[{"$f":"Список!C691","v":"AS Vita Club"},{"$f":"Список!A691","v":"DR CONGO: Ligue 1"}]
[{"$f":"Список!C692","v":"Blessing"},{"$f":"Список!A692","v":"DR CONGO: Ligue 1"}]
[{"$f":"Список!C693","v":"Dauphins Noirs"},{"$f":"Список!A693","v":"DR CONGO: Ligue 1"}]
[{"$f":"Список!C694","v":"Maniema"},{"$f":"Список!A694","v":"DR CONGO: Ligue 1"}]
[{"$f":"Список!C695","v":"Mazembe"},{"$f":"Список!A695","v":"DR CONGO: Ligue 1"}]
[{"$f":"Список!C696","v":"Sanga Balende"},{"$f":"Список!A696","v":"DR CONGO: Ligue 1"}]
[{"$f":"Список!C697","v":"Kamsar"},{"$f":"Список!A697","v":"GUINEA: Ligue 1"}]
[{"$f":"Список!C698","v":"Wiazownica"},{"$f":"Список!A698","v":"POLAND: III Liga - Group IV"}]
[{"$f":"Список!C699","v":"Borac Sakule"},{"$f":"Список!A699","v":"SERBIA: Srpska Liga - Vojvodina"}]
[{"$f":"Список!C700","v":"Tisa Adorjan"},{"$f":"Список!A700","v":"SERBIA: Srpska Liga - Vojvodina"}]
[{"$f":"Список!C701","v":"Kablovi"},{"$f":"Список!A701","v":"SERBIA: Srpska Liga - East"}]
[{"$f":"Список!C702","v":"Medosevac"},{"$f":"Список!A702","v":"SERBIA: Srpska Liga - East"}]
[{"$f":"Список!C703","v":"Peralada"},{"$f":"Список!A703","v":"SPAIN: Tercera Division - Group 5 - Relegation Group"}]
[{"$f":"Список!C704","v":"Santa Marta Tormes"},{"$f":"Список!A704","v":"SPAIN: Tercera Division - Group 8 - Relegation Group"}]
[{"$f":"Список!C705","v":"Cartagena FC"},{"$f":"Список!A705","v":"SPAIN: Tercera Division - Group 13 - Second stage"}]
[{"$f":"Список!C706","v":"Murchante"},{"$f":"Список!A706","v":"SPAIN: Tercera Division - Group 15 - Second stage"}]
[{"$f":"Список!C707","v":"Rapid Vienna"},{"$f":"Список!A707","v":"AUSTRIA: Tipico Bundesliga - Championship Group"}]
[{"$f":"Список!C708","v":"Arsenal Dzyarzhynsk"},{"$f":"Список!A708","v":"BELARUS: Pershaya Liga"}]
[{"$f":"Список!C709","v":"Bobruichanka W"},{"$f":"Список!A709","v":"BELARUS: Vysshaya Liga Women"}]
[{"$f":"Список!C710","v":"Din. Minsk W"},{"$f":"Список!A710","v":"BELARUS: Vysshaya Liga Women"}]
[{"$f":"Список!C711","v":"AS Cotonou"},{"$f":"Список!A711","v":"BENIN: Ligue 1 - Championship Group"}]
[{"$f":"Список!C712","v":"Ayema"},{"$f":"Список!A712","v":"BENIN: Ligue 1 - Championship Group"}]
[{"$f":"Список!C713","v":"Bembereke"},{"$f":"Список!A713","v":"BENIN: Ligue 1 - Championship Group"}]
[{"$f":"Список!C714","v":"Buffles du Borgou"},{"$f":"Список!A714","v":"BENIN: Ligue 1 - Championship Group"}]
[{"$f":"Список!C715","v":"Dragons"},{"$f":"Список!A715","v":"BENIN: Ligue 1 - Championship Group"}]
[{"$f":"Список!C716","v":"Hodio"},{"$f":"Список!A716","v":"BENIN: Ligue 1 - Championship Group"}]
[{"$f":"Список!C717","v":"Radnik Bijeljina"},{"$f":"Список!A717","v":"BOSNIA AND HERZEGOVINA: Premier League"}]
[{"$f":"Список!C718","v":"Cobresal"},{"$f":"Список!A718","v":"CHILE: Primera Division"}]
[{"$f":"Список!C719","v":"Granicar Zupanja"},{"$f":"Список!A719","v":"CROATIA: 3. HNL East"}]
[{"$f":"Список!C720","v":"Hradec Kralove"},{"$f":"Список!A720","v":"CZECH REPUBLIC: Division 2"}]
[{"$f":"Список!C721","v":"Jihlava"},{"$f":"Список!A721","v":"CZECH REPUBLIC: Division 2"}]
[{"$f":"Список!C722","v":"Mas Taborsko"},{"$f":"Список!A722","v":"CZECH REPUBLIC: Division 2"}]
[{"$f":"Список!C723","v":"Vlasim"},{"$f":"Список!A723","v":"CZECH REPUBLIC: Division 2"}]
[{"$f":"Список!C724","v":"Manchester Utd"},{"$f":"Список!A724","v":"ENGLAND: Premier League"}]
[{"$f":"Список!C725","v":"Krymteplytsia"},{"$f":"Список!A725","v":"EUROPE: Premier League (Crimea)"}]
[{"$f":"Список!C726","v":"Bechem United"},{"$f":"Список!A726","v":"GHANA: Premier League"}]
[{"$f":"Список!C727","v":"Berekum Chelsea"},{"$f":"Список!A727","v":"GHANA: Premier League"}]
[{"$f":"Список!C728","v":"Dreams"},{"$f":"Список!A728","v":"GHANA: Premier League"}]
[{"$f":"Список!C729","v":"Eleven Wonders"},{"$f":"Список!A729","v":"GHANA: Premier League"}]
[{"$f":"Список!C730","v":"Medeama"},{"$f":"Список!A730","v":"GHANA: Premier League"}]
[{"$f":"Список!C731","v":"Bekescsaba 1912"},{"$f":"Список!A731","v":"HUNGARY: Merkantil Bank Liga"}]
[{"$f":"Список!C732","v":"Budaorsi SC"},{"$f":"Список!A732","v":"HUNGARY: Merkantil Bank Liga"}]
[{"$f":"Список!C733","v":"Csakvari"},{"$f":"Список!A733","v":"HUNGARY: Merkantil Bank Liga"}]
[{"$f":"Список!C734","v":"Debreceni EAC"},{"$f":"Список!A734","v":"HUNGARY: Merkantil Bank Liga"}]
[{"$f":"Список!C735","v":"Dorogi"},{"$f":"Список!A735","v":"HUNGARY: Merkantil Bank Liga"}]
[{"$f":"Список!C736","v":"Kaposvar"},{"$f":"Список!A736","v":"HUNGARY: Merkantil Bank Liga"}]
[{"$f":"Список!C737","v":"Nyiregyhaza"},{"$f":"Список!A737","v":"HUNGARY: Merkantil Bank Liga"}]
[{"$f":"Список!C738","v":"Pecsi MFC"},{"$f":"Список!A738","v":"HUNGARY: Merkantil Bank Liga"}]
[{"$f":"Список!C739","v":"Soroksar"},{"$f":"Список!A739","v":"HUNGARY: Merkantil Bank Liga"}]
[{"$f":"Список!C740","v":"Cegledi"},{"$f":"Список!A740","v":"HUNGARY: NB III - East"}]
[{"$f":"Список!C741","v":"DVTK II"},{"$f":"Список!A741","v":"HUNGARY: NB III - East"}]
[{"$f":"Список!C742","v":"Fuzesgyarmati SK"},{"$f":"Список!A742","v":"HUNGARY: NB III - East"}]
[{"$f":"Список!C743","v":"Gyongyosi"},{"$f":"Список!A743","v":"HUNGARY: NB III - East"}]
[{"$f":"Список!C744","v":"Hatvan"},{"$f":"Список!A744","v":"HUNGARY: NB III - East"}]
[{"$f":"Список!C745","v":"Jaszberenyi"},{"$f":"Список!A745","v":"HUNGARY: NB III - East"}]
[{"$f":"Список!C746","v":"Kisvarda II"},{"$f":"Список!A746","v":"HUNGARY: NB III - East"}]
[{"$f":"Список!C747","v":"Sajobabony"},{"$f":"Список!A747","v":"HUNGARY: NB III - East"}]
[{"$f":"Список!C748","v":"Tiszaujvaros"},{"$f":"Список!A748","v":"HUNGARY: NB III - East"}]
[{"$f":"Список!C749","v":"Dunaujvaros PASE"},{"$f":"Список!A749","v":"HUNGARY: NB III - Centre"}]
[{"$f":"Список!C750","v":"ESMTK Budapest"},{"$f":"Список!A750","v":"HUNGARY: NB III - Centre"}]
[{"$f":"Список!C751","v":"FC Dabas"},{"$f":"Список!A751","v":"HUNGARY: NB III - Centre"}]
[{"$f":"Список!C752","v":"Hodmezovasarhely FC"},{"$f":"Список!A752","v":"HUNGARY: NB III - Centre"}]
[{"$f":"Список!C753","v":"Ivancsa"},{"$f":"Список!A753","v":"HUNGARY: NB III - Centre"}]
[{"$f":"Список!C754","v":"Rakosmenti KSK"},{"$f":"Список!A754","v":"HUNGARY: NB III - Centre"}]
[{"$f":"Список!C755","v":"Szegedi"},{"$f":"Список!A755","v":"HUNGARY: NB III - Centre"}]
[{"$f":"Список!C756","v":"Szekszardi"},{"$f":"Список!A756","v":"HUNGARY: NB III - Centre"}]
[{"$f":"Список!C757","v":"Vac"},{"$f":"Список!A757","v":"HUNGARY: NB III - Centre"}]
[{"$f":"Список!C758","v":"Bicskei"},{"$f":"Список!A758","v":"HUNGARY: NB III - West"}]
[{"$f":"Список!C759","v":"III. Keruleti TVE"},{"$f":"Список!A759","v":"HUNGARY: NB III - West"}]
[{"$f":"Список!C760","v":"Lipot"},{"$f":"Список!A760","v":"HUNGARY: NB III - West"}]
[{"$f":"Список!C761","v":"Menfocsanak"},{"$f":"Список!A761","v":"HUNGARY: NB III - West"}]
[{"$f":"Список!C762","v":"Nagyatadi"},{"$f":"Список!A762","v":"HUNGARY: NB III - West"}]
[{"$f":"Список!C763","v":"Nagykanizsa"},{"$f":"Список!A763","v":"HUNGARY: NB III - West"}]
[{"$f":"Список!C764","v":"DMD"},{"$f":"Список!A764","v":"NIGERIA: NNL"}]
[{"$f":"Список!C765","v":"Nigeria Airforce FC"},{"$f":"Список!A765","v":"NIGERIA: NNL"}]
[{"$f":"Список!C766","v":"Oyah Sports"},{"$f":"Список!A766","v":"NIGERIA: NNL"}]
[{"$f":"Список!C767","v":"Ol. Grudziadz"},{"$f":"Список!A767","v":"POLAND: Division 2"}]
[{"$f":"Список!C768","v":"Legionowo"},{"$f":"Список!A768","v":"POLAND: III Liga - Group I - Championship Group"}]
[{"$f":"Список!C769","v":"Lewart Lubartow"},{"$f":"Список!A769","v":"POLAND: III Liga - Group IV"}]
[{"$f":"Список!C770","v":"Wisloka Debica"},{"$f":"Список!A770","v":"POLAND: III Liga - Group IV"}]
[{"$f":"Список!C771","v":"Albergaria/Durit W"},{"$f":"Список!A771","v":"PORTUGAL: Liga BPI Women - Championship Group"}]
[{"$f":"Список!C772","v":"A-dos-Francos W"},{"$f":"Список!A772","v":"PORTUGAL: Liga BPI Women - Relegation Group"}]
[{"$f":"Список!C773","v":"Amora W"},{"$f":"Список!A773","v":"PORTUGAL: Liga BPI Women - Relegation Group"}]
[{"$f":"Список!C774","v":"Cadima W"},{"$f":"Список!A774","v":"PORTUGAL: Liga BPI Women - Relegation Group"}]
[{"$f":"Список!C775","v":"CF Benfica W"},{"$f":"Список!A775","v":"PORTUGAL: Liga BPI Women - Relegation Group"}]
[{"$f":"Список!C776","v":"Gil Vicente W"},{"$f":"Список!A776","v":"PORTUGAL: Liga BPI Women - Relegation Group"}]
[{"$f":"Список!C777","v":"Ovarense W"},{"$f":"Список!A777","v":"PORTUGAL: Liga BPI Women - Relegation Group"}]
[{"$f":"Список!C778","v":"Lokomotiv-Kazanka"},{"$f":"Список!A778","v":"RUSSIA: PFL - Group 2"}]
[{"$f":"Список!C779","v":"Radomlje W"},{"$f":"Список!A779","v":"SLOVENIA: 1. SZNL Women"}]
[{"$f":"Список!C780","v":"Pontevedra"},{"$f":"Список!A780","v":"SPAIN: Segunda Division B - Group 1 - Relegation Group"}]
[{"$f":"Список!C781","v":"Salamanca"},{"$f":"Список!A781","v":"SPAIN: Segunda Division B - Group 1 - Relegation Group"}]
[{"$f":"Список!C782","v":"Compostela"},{"$f":"Список!A782","v":"SPAIN: Segunda Division B - Group 1 - Second stage"}]
[{"$f":"Список!C783","v":"Olot"},{"$f":"Список!A783","v":"SPAIN: Segunda Division B - Group 3 - Relegation Group"}]
[{"$f":"Список!C784","v":"Linense"},{"$f":"Список!A784","v":"SPAIN: Segunda Division B - Group 4 - Second stage"}]
[{"$f":"Список!C785","v":"Navalcarnero"},{"$f":"Список!A785","v":"SPAIN: Segunda Division B - Group 5 - Second stage"}]
[{"$f":"Список!C786","v":"Bergantinos"},{"$f":"Список!A786","v":"SPAIN: Tercera Division - Group 1 - Promotion Group"}]
[{"$f":"Список!C787","v":"Somozas"},{"$f":"Список!A787","v":"SPAIN: Tercera Division - Group 1 - Promotion Group"}]
[{"$f":"Список!C788","v":"Agrupacion Estudiantil"},{"$f":"Список!A788","v":"SPAIN: Tercera Division - Group 1 - Relegation Group"}]
[{"$f":"Список!C789","v":"Arzua"},{"$f":"Список!A789","v":"SPAIN: Tercera Division - Group 1 - Relegation Group"}]
[{"$f":"Список!C790","v":"Fisterra"},{"$f":"Список!A790","v":"SPAIN: Tercera Division - Group 1 - Relegation Group"}]
[{"$f":"Список!C791","v":"Paiosaco"},{"$f":"Список!A791","v":"SPAIN: Tercera Division - Group 1 - Relegation Group"}]
[{"$f":"Список!C792","v":"Mosconia"},{"$f":"Список!A792","v":"SPAIN: Tercera Division - Group 2 - Relegation Group"}]
[{"$f":"Список!C793","v":"Praviano"},{"$f":"Список!A793","v":"SPAIN: Tercera Division - Group 2 - Relegation Group"}]
[{"$f":"Список!C794","v":"CD Barquereno"},{"$f":"Список!A794","v":"SPAIN: Tercera Division - Group 3 - Relegation Group"}]
[{"$f":"Список!C795","v":"Banyoles"},{"$f":"Список!A795","v":"SPAIN: Tercera Division - Group 5 - Relegation Group"}]
[{"$f":"Список!C796","v":"Benicarlo"},{"$f":"Список!A796","v":"SPAIN: Tercera Division - Group 6 - Relegation Group"}]
[{"$f":"Список!C797","v":"Flat Earth"},{"$f":"Список!A797","v":"SPAIN: Tercera Division - Group 7 - Second stage"}]
[{"$f":"Список!C798","v":"Cristo Atletico"},{"$f":"Список!A798","v":"SPAIN: Tercera Division - Group 8 - Promotion Group"}]
[{"$f":"Список!C799","v":"Becerril"},{"$f":"Список!A799","v":"SPAIN: Tercera Division - Group 8 - Relegation Group"}]
[{"$f":"Список!C800","v":"Bembibre"},{"$f":"Список!A800","v":"SPAIN: Tercera Division - Group 8 - Second stage"}]
[{"$f":"Список!C801","v":"Cardassar"},{"$f":"Список!A801","v":"SPAIN: Tercera Division - Group 11 - Relegation Group"}]
[{"$f":"Список!C802","v":"Soller"},{"$f":"Список!A802","v":"SPAIN: Tercera Division - Group 11 - Relegation Group"}]
[{"$f":"Список!C803","v":"Mar Menor"},{"$f":"Список!A803","v":"SPAIN: Tercera Division - Group 13 - Promotion Group"}]
[{"$f":"Список!C804","v":"Deportiva Minera"},{"$f":"Список!A804","v":"SPAIN: Tercera Division - Group 13 - Relegation Group"}]
[{"$f":"Список!C805","v":"Muleno"},{"$f":"Список!A805","v":"SPAIN: Tercera Division - Group 13 - Relegation Group"}]
[{"$f":"Список!C806","v":"Mazarron CF"},{"$f":"Список!A806","v":"SPAIN: Tercera Division - Group 13 - Second stage"}]
[{"$f":"Список!C807","v":"Cirbonero"},{"$f":"Список!A807","v":"SPAIN: Tercera Division - Group 15 - Promotion Group"}]
[{"$f":"Список!C808","v":"Pena Azagresa"},{"$f":"Список!A808","v":"SPAIN: Tercera Division - Group 15 - Relegation Group"}]
[{"$f":"Список!C809","v":"Alfaro"},{"$f":"Список!A809","v":"SPAIN: Tercera Division - Group 16 - Promotion Group"}]
[{"$f":"Список!C810","v":"Anguiano"},{"$f":"Список!A810","v":"SPAIN: Tercera Division - Group 16 - Promotion Group"}]
[{"$f":"Список!C811","v":"CDFC Calzada"},{"$f":"Список!A811","v":"SPAIN: Tercera Division - Group 16 - Second stage"}]
[{"$f":"Список!C812","v":"Oyonesa"},{"$f":"Список!A812","v":"SPAIN: Tercera Division - Group 16 - Second stage"}]
[{"$f":"Список!C813","v":"Teruel"},{"$f":"Список!A813","v":"SPAIN: Tercera Division - Group 17 - Promotion Group"}]
[{"$f":"Список!C814","v":"Epila"},{"$f":"Список!A814","v":"SPAIN: Tercera Division - Group 17 - Relegation Group"}]
[{"$f":"Список!C815","v":"CF Illueca"},{"$f":"Список!A815","v":"SPAIN: Tercera Division - Group 17 - Second stage"}]
[{"$f":"Список!C816","v":"Atl. Ibanes"},{"$f":"Список!A816","v":"SPAIN: Tercera Division - Group 18 - Relegation Group"}]
[{"$f":"Список!C817","v":"Huracan de Balazote"},{"$f":"Список!A817","v":"SPAIN: Tercera Division - Group 18 - Second stage"}]
[{"$f":"Список!C818","v":"Linkopings W"},{"$f":"Список!A818","v":"SWEDEN: Allsvenskan Women"}]
[{"$f":"Список!C819","v":"Anges de Notse"},{"$f":"Список!A819","v":"TOGO: Championnat National"}]
[{"$f":"Список!C820","v":"Dynamic Togolais"},{"$f":"Список!A820","v":"TOGO: Championnat National"}]
[{"$f":"Список!C821","v":"Entente II"},{"$f":"Список!A821","v":"TOGO: Championnat National"}]
[{"$f":"Список!C822","v":"Gomido"},{"$f":"Список!A822","v":"TOGO: Championnat National"}]
[{"$f":"Список!C823","v":"Ifodje"},{"$f":"Список!A823","v":"TOGO: Championnat National"}]
[{"$f":"Список!C824","v":"Sara Sport"},{"$f":"Список!A824","v":"TOGO: Championnat National"}]
[{"$f":"Список!C825","v":"Semassi"},{"$f":"Список!A825","v":"TOGO: Championnat National"}]
[{"$f":"Список!C826","v":"Bordeaux"},{"$f":"Список!A826","v":"FRANCE: Ligue 1"}]
[{"$f":"Список!C827","v":"Glasgow City W"},{"$f":"Список!A827","v":"SCOTLAND: SWPL 1 Women"}]
[{"$f":"Список!C828","v":"Tsarsko Selo"},{"$f":"Список!A828","v":"BULGARIA: Parva liga"}]
[{"$f":"Список!C829","v":"Honved"},{"$f":"Список!A829","v":"HUNGARY: OTP Bank Liga"}]
[{"$f":"Список!C830","v":"Grosseto"},{"$f":"Список!A830","v":"ITALY: Serie C - Group A"}]
[{"$f":"Список!C831","v":"Livorno"},{"$f":"Список!A831","v":"ITALY: Serie C - Group A"}]
[{"$f":"Список!C832","v":"Piacenza"},{"$f":"Список!A832","v":"ITALY: Serie C - Group A"}]
[{"$f":"Список!C833","v":"Renate"},{"$f":"Список!A833","v":"ITALY: Serie C - Group A"}]
[{"$f":"Список!C834","v":"FeralpiSalo"},{"$f":"Список!A834","v":"ITALY: Serie C - Group B"}]
[{"$f":"Список!C835","v":"Modena"},{"$f":"Список!A835","v":"ITALY: Serie C - Group B"}]
[{"$f":"Список!C836","v":"Potenza"},{"$f":"Список!A836","v":"ITALY: Serie C - Group C"}]
[{"$f":"Список!C837","v":"Teramo"},{"$f":"Список!A837","v":"ITALY: Serie C - Group C"}]
[{"$f":"Список!C838","v":"Stella Adjame"},{"$f":"Список!A838","v":"IVORY COAST: Ligue 1"}]
[{"$f":"Список!C839","v":"Tanda"},{"$f":"Список!A839","v":"IVORY COAST: Ligue 1"}]
[{"$f":"Список!C840","v":"BEA Mountain"},{"$f":"Список!A840","v":"LIBERIA: LFA First Division"}]
[{"$f":"Список!C841","v":"Small Town"},{"$f":"Список!A841","v":"LIBERIA: LFA First Division"}]
[{"$f":"Список!C842","v":"Watanga"},{"$f":"Список!A842","v":"LIBERIA: LFA First Division"}]
[{"$f":"Список!C843","v":"Legia"},{"$f":"Список!A843","v":"POLAND: Ekstraklasa"}]
[{"$f":"Список!C844","v":"CFR Cluj"},{"$f":"Список!A844","v":"ROMANIA: Liga 1 - Championship Group"}]
[{"$f":"Список!C845","v":"Pontes"},{"$f":"Список!A845","v":"SPAIN: Tercera Division - Group 1 - Relegation Group"}]
[{"$f":"Список!C846","v":"Viveiro"},{"$f":"Список!A846","v":"SPAIN: Tercera Division - Group 1 - Relegation Group"}]
[{"$f":"Список!C847","v":"Llanera"},{"$f":"Список!A847","v":"SPAIN: Tercera Division - Group 2 - Promotion Group"}]
[{"$f":"Список!C848","v":"Caudal Deportivo"},{"$f":"Список!A848","v":"SPAIN: Tercera Division - Group 2 - Second stage"}]
[{"$f":"Список!C849","v":"Gijon Industrial"},{"$f":"Список!A849","v":"SPAIN: Tercera Division - Group 2 - Second stage"}]
[{"$f":"Список!C850","v":"Cayon"},{"$f":"Список!A850","v":"SPAIN: Tercera Division - Group 3 - Promotion Group"}]
[{"$f":"Список!C851","v":"Textil Escudo"},{"$f":"Список!A851","v":"SPAIN: Tercera Division - Group 3 - Second stage"}]
[{"$f":"Список!C852","v":"La Baneza"},{"$f":"Список!A852","v":"SPAIN: Tercera Division - Group 8 - Relegation Group"}]
[{"$f":"Список!C853","v":"Lebrijana"},{"$f":"Список!A853","v":"SPAIN: Tercera Division - Group 10 - Relegation Group"}]
[{"$f":"Список!C854","v":"Huercal-Overa"},{"$f":"Список!A854","v":"SPAIN: Tercera Division - Group 13 - Relegation Group"}]
[{"$f":"Список!C855","v":"Arnedo"},{"$f":"Список!A855","v":"SPAIN: Tercera Division - Group 16 - Second stage"}]
[{"$f":"Список!C856","v":"Sarinena"},{"$f":"Список!A856","v":"SPAIN: Tercera Division - Group 17 - Relegation Group"}]
[{"$f":"Список!C857","v":"Villanueva CF"},{"$f":"Список!A857","v":"SPAIN: Tercera Division - Group 17 - Relegation Group"}]
[{"$f":"Список!C858","v":"Djurgarden"},{"$f":"Список!A858","v":"SWEDEN: Allsvenskan"}]
[{"$f":"Список!C859","v":"Sirius"},{"$f":"Список!A859","v":"SWEDEN: Allsvenskan"}]
[{"$f":"Список!C860","v":"KKS Kalisz"},{"$f":"Список!A860","v":"POLAND: Division 2"}]
[{"$f":"Список!C861","v":"Primeiro de Agosto"},{"$f":"Список!A861","v":"ANGOLA: Girabola"}]
[{"$f":"Список!C862","v":"Club Brugge KV"},{"$f":"Список!A862","v":"BELGIUM: Jupiler League"}]
[{"$f":"Список!C863","v":"Kortrijk"},{"$f":"Список!A863","v":"BELGIUM: Jupiler League"}]
[{"$f":"Список!C864","v":"Leuven"},{"$f":"Список!A864","v":"BELGIUM: Jupiler League"}]
[{"$f":"Список!C865","v":"Oostende"},{"$f":"Список!A865","v":"BELGIUM: Jupiler League"}]
[{"$f":"Список!C866","v":"St. Liege"},{"$f":"Список!A866","v":"BELGIUM: Jupiler League"}]
[{"$f":"Список!C867","v":"St. Truiden"},{"$f":"Список!A867","v":"BELGIUM: Jupiler League"}]
[{"$f":"Список!C868","v":"Waregem"},{"$f":"Список!A868","v":"BELGIUM: Jupiler League"}]
[{"$f":"Список!C869","v":"ASF Dioulasso"},{"$f":"Список!A869","v":"BURKINA FASO: Premier League"}]
[{"$f":"Список!C870","v":"Etoile Filante"},{"$f":"Список!A870","v":"BURKINA FASO: Premier League"}]
[{"$f":"Список!C871","v":"Sonabel Ouagadougou"},{"$f":"Список!A871","v":"BURKINA FASO: Premier League"}]
[{"$f":"Список!C872","v":"Vitesse"},{"$f":"Список!A872","v":"BURKINA FASO: Premier League"}]
[{"$f":"Список!C873","v":"Lautaro"},{"$f":"Список!A873","v":"CHILE: Primera B"}]
[{"$f":"Список!C874","v":"Brondby"},{"$f":"Список!A874","v":"DENMARK: Superliga - Championship Group"}]
[{"$f":"Список!C875","v":"Kalju"},{"$f":"Список!A875","v":"ESTONIA: Meistriliiga"}]
[{"$f":"Список!C876","v":"Ethiopia Bunna"},{"$f":"Список!A876","v":"ETHIOPIA: Premier League"}]
[{"$f":"Список!C877","v":"Mainz"},{"$f":"Список!A877","v":"GERMANY: Bundesliga"}]
[{"$f":"Список!C878","v":"Hapoel Hadera"},{"$f":"Список!A878","v":"ISRAEL: Ligat ha'Al - Relegation Group"}]
[{"$f":"Список!C879","v":"Torino"},{"$f":"Список!A879","v":"ITALY: Serie A"}]
[{"$f":"Список!C880","v":"Freeport"},{"$f":"Список!A880","v":"LIBERIA: LFA First Division"}]
[{"$f":"Список!C881","v":"Kaedi"},{"$f":"Список!A881","v":"MAURITANIA: Ligue 1"}]
[{"$f":"Список!C882","v":"Raja Beni Mellal"},{"$f":"Список!A882","v":"MOROCCO: Botola 2"}]
[{"$f":"Список!C883","v":"Stade Marocain"},{"$f":"Список!A883","v":"MOROCCO: Botola 2"}]
[{"$f":"Список!C884","v":"TAS Casablanca"},{"$f":"Список!A884","v":"MOROCCO: Botola 2"}]
[{"$f":"Список!C885","v":"Ajax"},{"$f":"Список!A885","v":"NETHERLANDS: KNVB Beker"}]
[{"$f":"Список!C886","v":"Oliveirense"},{"$f":"Список!A886","v":"PORTUGAL: Liga Portugal 2"}]
[{"$f":"Список!C887","v":"Spartak Moscow"},{"$f":"Список!A887","v":"RUSSIA: Premier League"}]
[{"$f":"Список!C888","v":"Zamora"},{"$f":"Список!A888","v":"SPAIN: Segunda Division B - Group 1 - Promotion Group"}]
[{"$f":"Список!C889","v":"Barakaldo"},{"$f":"Список!A889","v":"SPAIN: Segunda Division B - Group 2 - Relegation Group"}]
[{"$f":"Список!C890","v":"Portugalete"},{"$f":"Список!A890","v":"SPAIN: Segunda Division B - Group 2 - Relegation Group"}]
[{"$f":"Список!C891","v":"Racing Santander"},{"$f":"Список!A891","v":"SPAIN: Segunda Division B - Group 2 - Second stage"}]
[{"$f":"Список!C892","v":"R. Union"},{"$f":"Список!A892","v":"SPAIN: Segunda Division B - Group 2 - Second stage"}]
[{"$f":"Список!C893","v":"San Fernando"},{"$f":"Список!A893","v":"SPAIN: Segunda Division B - Group 4 - Promotion Group"}]
[{"$f":"Список!C894","v":"Sanluqueno"},{"$f":"Список!A894","v":"SPAIN: Segunda Division B - Group 4 - Promotion Group"}]
[{"$f":"Список!C895","v":"Recreativo Huelva"},{"$f":"Список!A895","v":"SPAIN: Segunda Division B - Group 4 - Relegation Group"}]
[{"$f":"Список!C896","v":"Internacional de Madrid"},{"$f":"Список!A896","v":"SPAIN: Segunda Division B - Group 5 - Promotion Group"}]
[{"$f":"Список!C897","v":"Polvorin"},{"$f":"Список!A897","v":"SPAIN: Tercera Division - Group 1 - Promotion Group"}]
[{"$f":"Список!C898","v":"UE Figueres"},{"$f":"Список!A898","v":"SPAIN: Tercera Division - Group 5 - Relegation Group"}]
[{"$f":"Список!C899","v":"Sant Andreu"},{"$f":"Список!A899","v":"SPAIN: Tercera Division - Group 5 - Second stage"}]
[{"$f":"Список!C900","v":"Alzira"},{"$f":"Список!A900","v":"SPAIN: Tercera Division - Group 6 - Promotion Group"}]
[{"$f":"Список!C901","v":"Villarreal C"},{"$f":"Список!A901","v":"SPAIN: Tercera Division - Group 6 - Second stage"}]
[{"$f":"Список!C902","v":"Almeria B"},{"$f":"Список!A902","v":"SPAIN: Tercera Division - Group 9 - Promotion Group"}]
[{"$f":"Список!C903","v":"Loja"},{"$f":"Список!A903","v":"SPAIN: Tercera Division - Group 9 - Relegation Group"}]
[{"$f":"Список!C904","v":"Los Barrios"},{"$f":"Список!A904","v":"SPAIN: Tercera Division - Group 10 - Second stage"}]
[{"$f":"Список!C905","v":"Lorca FC"},{"$f":"Список!A905","v":"SPAIN: Tercera Division - Group 13 - Relegation Group"}]
[{"$f":"Список!C906","v":"CD Coria"},{"$f":"Список!A906","v":"SPAIN: Tercera Division - Group 14 - Promotion Group"}]
[{"$f":"Список!C907","v":"Moralo"},{"$f":"Список!A907","v":"SPAIN: Tercera Division - Group 14 - Promotion Group"}]
[{"$f":"Список!C908","v":"Llerenense"},{"$f":"Список!A908","v":"SPAIN: Tercera Division - Group 14 - Relegation Group"}]
[{"$f":"Список!C909","v":"RCP Valverdeno"},{"$f":"Список!A909","v":"SPAIN: Tercera Division - Group 14 - Relegation Group"}]
[{"$f":"Список!C910","v":"Trujillo"},{"$f":"Список!A910","v":"SPAIN: Tercera Division - Group 14 - Relegation Group"}]
[{"$f":"Список!C911","v":"Arroyo"},{"$f":"Список!A911","v":"SPAIN: Tercera Division - Group 14 - Second stage"}]
[{"$f":"Список!C912","v":"Robres"},{"$f":"Список!A912","v":"SPAIN: Tercera Division - Group 17 - Relegation Group"}]
[{"$f":"Список!C913","v":"Albacete B"},{"$f":"Список!A913","v":"SPAIN: Tercera Division - Group 18 - Promotion Group"}]
[{"$f":"Список!C914","v":"Puertollano C.F."},{"$f":"Список!A914","v":"SPAIN: Tercera Division - Group 18 - Promotion Group"}]
[{"$f":"Список!C915","v":"Quintanar"},{"$f":"Список!A915","v":"SPAIN: Tercera Division - Group 18 - Promotion Group"}]
[{"$f":"Список!C916","v":"Basaksehir"},{"$f":"Список!A916","v":"TURKEY: Super Lig"}]
[{"$f":"Список!C917","v":"Istanbulspor AS"},{"$f":"Список!A917","v":"TURKEY: 1. Lig"}]
[{"$f":"Список!C918","v":"Cartagena"},{"$f":"Список!A918","v":"SPAIN: LaLiga2"}]
[{"$f":"Список!C919","v":"Arsenal Sarandi"},{"$f":"Список!A919","v":"ARGENTINA: Copa de la Liga Profesional"}]
[{"$f":"Список!C920","v":"Atletico Atlanta"},{"$f":"Список!A920","v":"ARGENTINA: Primera Nacional"}]
[{"$f":"Список!C921","v":"Ol. Nicosia"},{"$f":"Список!A921","v":"CYPRUS: First Division - Championship Group"}]
[{"$f":"Список!C922","v":"Sparta Prague"},{"$f":"Список!A922","v":"CZECH REPUBLIC: 1. Liga"}]
[{"$f":"Список!C923","v":"Europa Point"},{"$f":"Список!A923","v":"GIBRALTAR: National League - Relegation Group"}]
[{"$f":"Список!C924","v":"PAOK"},{"$f":"Список!A924","v":"GREECE: Super League - Championship Group"}]
[{"$f":"Список!C925","v":"AS Douanes de Sikasso"},{"$f":"Список!A925","v":"MALI: Premiere Division"}]
[{"$f":"Список!C926","v":"CO Bamako"},{"$f":"Список!A926","v":"MALI: Premiere Division"}]
[{"$f":"Список!C927","v":"Sonni"},{"$f":"Список!A927","v":"MALI: Premiere Division"}]
[{"$f":"Список!C928","v":"Nacional"},{"$f":"Список!A928","v":"PORTUGAL: Primeira Liga"}]
[{"$f":"Список!C929","v":"Orlando Pirates"},{"$f":"Список!A929","v":"SOUTH AFRICA: Premier League"}]
[{"$f":"Список!C930","v":"Betis"},{"$f":"Список!A930","v":"SPAIN: LaLiga"}]
[{"$f":"Список!C931","v":"Cadiz CF"},{"$f":"Список!A931","v":"SPAIN: LaLiga"}]
[{"$f":"Список!C932","v":"Mancha"},{"$f":"Список!A932","v":"SPAIN: Tercera Division - Group 9 - Promotion Group"}]
[{"$f":"Список!C933","v":"Torredonjimeno"},{"$f":"Список!A933","v":"SPAIN: Tercera Division - Group 9 - Promotion Group"}]
[{"$f":"Список!C934","v":"Huetor Tajar"},{"$f":"Список!A934","v":"SPAIN: Tercera Division - Group 9 - Second stage"}]
[{"$f":"Список!C935","v":"Xerez CD"},{"$f":"Список!A935","v":"SPAIN: Tercera Division - Group 10 - Promotion Group"}]
[{"$f":"Список!C936","v":"Xerez D.F.C."},{"$f":"Список!A936","v":"SPAIN: Tercera Division - Group 10 - Promotion Group"}]
[{"$f":"Список!C937","v":"Conil"},{"$f":"Список!A937","v":"SPAIN: Tercera Division - Group 10 - Relegation Group"}]
[{"$f":"Список!C938","v":"Agoncillo"},{"$f":"Список!A938","v":"SPAIN: Tercera Division - Group 16 - Relegation Group"}]
[{"$f":"Список!C939","v":"La Solana"},{"$f":"Список!A939","v":"SPAIN: Tercera Division - Group 18 - Relegation Group"}]
[{"$f":"Список!C940","v":"Kolos Kovalivka"},{"$f":"Список!A940","v":"UKRAINE: Premier League"}]
[{"$f":"Список!C941","v":"Siroki Brijeg"},{"$f":"Список!A941","v":"BOSNIA AND HERZEGOVINA: Premier League"}]
[{"$f":"Список!C942","v":"Valencia"},{"$f":"Список!A942","v":"MALDIVES: Dhivehi Premier League"}]
[{"$f":"Список!C943","v":"Korofina"},{"$f":"Список!A943","v":"MALI: Premiere Division"}]
[{"$f":"Список!C944","v":"Stade Malien"},{"$f":"Список!A944","v":"MALI: Premiere Division"}]
[{"$f":"Список!C945","v":"U.N.A.M.- Pumas"},{"$f":"Список!A945","v":"MEXICO: Liga MX - Clausura"}]
[{"$f":"Список!C946","v":"Braga W"},{"$f":"Список!A946","v":"PORTUGAL: Liga BPI Women - Championship Group"}]
[{"$f":"Список!C947","v":"Proleter"},{"$f":"Список!A947","v":"SERBIA: Super Liga"}]
[{"$f":"Список!C948","v":"Radnicki Nis"},{"$f":"Список!A948","v":"SERBIA: Super Liga"}]
[{"$f":"Список!C949","v":"Sp. Subotica"},{"$f":"Список!A949","v":"SERBIA: Super Liga"}]
[{"$f":"Список!C950","v":"TSC Backa Topola"},{"$f":"Список!A950","v":"SERBIA: Super Liga"}]
[{"$f":"Список!C951","v":"Dep. La Coruna"},{"$f":"Список!A951","v":"SPAIN: Segunda Division B - Group 1 - Second stage"}]
[{"$f":"Список!C952","v":"R. Sociedad B"},{"$f":"Список!A952","v":"SPAIN: Segunda Division B - Group 2 - Promotion Group"}]
[{"$f":"Список!C953","v":"Andorra"},{"$f":"Список!A953","v":"SPAIN: Segunda Division B - Group 3 - Promotion Group"}]
[{"$f":"Список!C954","v":"Barcelona B"},{"$f":"Список!A954","v":"SPAIN: Segunda Division B - Group 3 - Promotion Group"}]
[{"$f":"Список!C955","v":"UE Sants"},{"$f":"Список!A955","v":"SPAIN: Tercera Division - Group 5 - Relegation Group"}]
[{"$f":"Список!C956","v":"CD Torreperogil"},{"$f":"Список!A956","v":"SPAIN: Tercera Division - Group 9 - Second stage"}]
[{"$f":"Список!C957","v":"D. Zagreb"},{"$f":"Список!A957","v":"CROATIA: 1. HNL"}]
[{"$f":"Список!C958","v":"Moratalaz"},{"$f":"Список!A958","v":"SPAIN: Tercera Division - Group 7 - Promotion Group"}]
[{"$f":"Список!C959","v":"Leicester"},{"$f":"Список!A959","v":"ENGLAND: FA Cup"}]
[{"$f":"Список!C960","v":"Antigua"},{"$f":"Список!A960","v":"GUATEMALA: Liga Nacional - Clausura"}]
[{"$f":"Список!C961","v":"Maccabi Tel Aviv"},{"$f":"Список!A961","v":"ISRAEL: Ligat ha'Al - Championship Group"}]
[{"$f":"Список!C962","v":"LISCR FC"},{"$f":"Список!A962","v":"LIBERIA: LFA First Division"}]
[{"$f":"Список!C963","v":"Alaves B"},{"$f":"Список!A963","v":"SPAIN: Segunda Division B - Group 2 - Relegation Group"}]
[{"$f":"Список!C964","v":"Cornella"},{"$f":"Список!A964","v":"SPAIN: Segunda Division B - Group 3 - Second stage"}]
[{"$f":"Список!C965","v":"Al Ahli SC"},{"$f":"Список!A965","v":"ASIA: AFC Champions League"}]
[{"$f":"Список!C966","v":"Levski Sofia"},{"$f":"Список!A966","v":"BULGARIA: Parva liga"}]
[{"$f":"Список!C967","v":"Atl. Rafaela"},{"$f":"Список!A967","v":"ARGENTINA: Primera Nacional"}]
[{"$f":"Список!C968","v":"CA Estudiantes"},{"$f":"Список!A968","v":"ARGENTINA: Primera Nacional"}]
[{"$f":"Список!C969","v":"Rosario Central W"},{"$f":"Список!A969","v":"ARGENTINA: Primera A Women - Apertura"}]
[{"$f":"Список!C970","v":"Capital"},{"$f":"Список!A970","v":"BRAZIL: Campeonato Brasiliense - Second stage"}]
[{"$f":"Список!C971","v":"Vilavelhense"},{"$f":"Список!A971","v":"BRAZIL: Campeonato Capixaba"}]
[{"$f":"Список!C972","v":"Academica Vitoria"},{"$f":"Список!A972","v":"BRAZIL: Campeonato Pernambucano"}]
[{"$f":"Список!C973","v":"Botafogo RJ W"},{"$f":"Список!A973","v":"BRAZIL: Brasileiro Women"}]
[{"$f":"Список!C974","v":"Flamengo W"},{"$f":"Список!A974","v":"BRAZIL: Brasileiro Women"}]
[{"$f":"Список!C975","v":"Dep. Cuenca"},{"$f":"Список!A975","v":"ECUADOR: Liga Pro - First stage"}]
[{"$f":"Список!C976","v":"Hearts of Oak"},{"$f":"Список!A976","v":"GHANA: Premier League"}]
[{"$f":"Список!C977","v":"Malacateco"},{"$f":"Список!A977","v":"GUATEMALA: Liga Nacional - Clausura"}]
[{"$f":"Список!C978","v":"Gyor"},{"$f":"Список!A978","v":"HUNGARY: Merkantil Bank Liga"}]
[{"$f":"Список!C979","v":"Al Zawraa"},{"$f":"Список!A979","v":"IRAQ: Super League"}]
[{"$f":"Список!C980","v":"Racing d'Abidjan"},{"$f":"Список!A980","v":"IVORY COAST: Ligue 1"}]
[{"$f":"Список!C981","v":"Sporting Gagnoa"},{"$f":"Список!A981","v":"IVORY COAST: Ligue 1"}]
[{"$f":"Список!C982","v":"Chinandega U20"},{"$f":"Список!A982","v":"NICARAGUA: Liga Primera U20 - Clausura"}]
[{"$f":"Список!C983","v":"FCSB"},{"$f":"Список!A983","v":"ROMANIA: Liga 1 - Championship Group"}]
[{"$f":"Список!C984","v":"Marbella"},{"$f":"Список!A984","v":"SPAIN: Segunda Division B - Group 4 - Relegation Group"}]
[{"$f":"Список!C985","v":"Bangu"},{"$f":"Список!A985","v":"BRAZIL: Campeonato Carioca - Taca Guanabara"}]
[{"$f":"Список!C986","v":"Nova Iguacu"},{"$f":"Список!A986","v":"BRAZIL: Campeonato Carioca - Taca Guanabara"}]
[{"$f":"Список!C987","v":"CDJU Gualeguaychu"},{"$f":"Список!A987","v":"ARGENTINA: Torneo Federal"}]
[{"$f":"Список!C988","v":"Circulo Deportivo"},{"$f":"Список!A988","v":"ARGENTINA: Torneo Federal"}]
[{"$f":"Список!C989","v":"Douglas Haig"},{"$f":"Список!A989","v":"ARGENTINA: Torneo Federal"}]
[{"$f":"Список!C990","v":"Independiente Chivilcoy"},{"$f":"Список!A990","v":"ARGENTINA: Torneo Federal"}]
[{"$f":"Список!C991","v":"Comunicaciones"},{"$f":"Список!A991","v":"ARGENTINA: Primera B - Apertura"}]
[{"$f":"Список!C992","v":"Defensores Unidos"},{"$f":"Список!A992","v":"ARGENTINA: Primera B - Apertura"}]
[{"$f":"Список!C993","v":"Atlas"},{"$f":"Список!A993","v":"ARGENTINA: Primera C - Apertura"}]
[{"$f":"Список!C994","v":"Club Lujan"},{"$f":"Список!A994","v":"ARGENTINA: Primera C - Apertura"}]
[{"$f":"Список!C995","v":"Deportivo Espanol"},{"$f":"Список!A995","v":"ARGENTINA: Primera C - Apertura"}]
[{"$f":"Список!C996","v":"General Lamadrid"},{"$f":"Список!A996","v":"ARGENTINA: Primera C - Apertura"}]
[{"$f":"Список!C997","v":"Midland"},{"$f":"Список!A997","v":"ARGENTINA: Primera C - Apertura"}]
[{"$f":"Список!C998","v":"San Martin Burzaco"},{"$f":"Список!A998","v":"ARGENTINA: Primera C - Apertura"}]
[{"$f":"Список!C999","v":"El Porvenir W"},{"$f":"Список!A999","v":"ARGENTINA: Primera A Women - Apertura"}]
[{"$f":"Список!C1000","v":"Santa Maria"},{"$f":"Список!A1000","v":"BRAZIL: Campeonato Brasiliense - Second stage"}]
[{"$f":"Список!C1001","v":"Alessandria"},{"$f":"Список!A1001","v":"ITALY: Serie C - Group A"}]
[{"$f":"Список!C1002","v":"Carrarese"},{"$f":"Список!A1002","v":"ITALY: Serie C - Group A"}]
[{"$f":"Список!C1003","v":"Giana Erminio"},{"$f":"Список!A1003","v":"ITALY: Serie C - Group A"}]
[{"$f":"Список!C1004","v":"Novara"},{"$f":"Список!A1004","v":"ITALY: Serie C - Group A"}]
[{"$f":"Список!C1005","v":"Cesena"},{"$f":"Список!A1005","v":"ITALY: Serie C - Group B"}]
[{"$f":"Список!C1006","v":"Vis Pesaro"},{"$f":"Список!A1006","v":"ITALY: Serie C - Group B"}]
[{"$f":"Список!C1007","v":"Estudiantes L.P."},{"$f":"Список!A1007","v":"ARGENTINA: Copa de la Liga Profesional"}]
[{"$f":"Список!C1008","v":"Napoli"},{"$f":"Список!A1008","v":"ITALY: Serie A"}]
[{"$f":"Список!C1009","v":"Guillermo Brown"},{"$f":"Список!A1009","v":"ARGENTINA: Primera Nacional"}]
[{"$f":"Список!C1010","v":"Boca Unidos"},{"$f":"Список!A1010","v":"ARGENTINA: Torneo Federal"}]
[{"$f":"Список!C1011","v":"Cipolletti"},{"$f":"Список!A1011","v":"ARGENTINA: Torneo Federal"}]
[{"$f":"Список!C1012","v":"Juventud Unida Universitario"},{"$f":"Список!A1012","v":"ARGENTINA: Torneo Federal"}]
[{"$f":"Список!C1013","v":"Sansinena"},{"$f":"Список!A1013","v":"ARGENTINA: Torneo Federal"}]
[{"$f":"Список!C1014","v":"Sportivo Belgrano"},{"$f":"Список!A1014","v":"ARGENTINA: Torneo Federal"}]
[{"$f":"Список!C1015","v":"Villa Mitre"},{"$f":"Список!A1015","v":"ARGENTINA: Torneo Federal"}]
[{"$f":"Список!C1016","v":"AGMK"},{"$f":"Список!A1016","v":"ASIA: AFC Champions League"}]
[{"$f":"Список!C1017","v":"Shabab Al-Ahli Dubai"},{"$f":"Список!A1017","v":"ASIA: AFC Champions League"}]
[{"$f":"Список!C1018","v":"Olhodaguense"},{"$f":"Список!A1018","v":"BRAZIL: Campeonato Alagoano"}]
[{"$f":"Список!C1019","v":"Alagoinhas"},{"$f":"Список!A1019","v":"BRAZIL: Campeonato Baiano"}]
[{"$f":"Список!C1020","v":"Bahia"},{"$f":"Список!A1020","v":"BRAZIL: Campeonato Baiano"}]
[{"$f":"Список!C1021","v":"Fluminense de Feira"},{"$f":"Список!A1021","v":"BRAZIL: Campeonato Baiano"}]
[{"$f":"Список!C1022","v":"Avai"},{"$f":"Список!A1022","v":"BRAZIL: Campeonato Catarinense"}]
[{"$f":"Список!C1023","v":"Concordia"},{"$f":"Список!A1023","v":"BRAZIL: Campeonato Catarinense"}]
[{"$f":"Список!C1024","v":"Joinville"},{"$f":"Список!A1024","v":"BRAZIL: Campeonato Catarinense"}]
[{"$f":"Список!C1025","v":"Marcilio Dias"},{"$f":"Список!A1025","v":"BRAZIL: Campeonato Catarinense"}]
[{"$f":"Список!C1026","v":"Metropolitano"},{"$f":"Список!A1026","v":"BRAZIL: Campeonato Catarinense"}]
[{"$f":"Список!C1027","v":"Prospera Criciuma"},{"$f":"Список!A1027","v":"BRAZIL: Campeonato Catarinense"}]
[{"$f":"Список!C1028","v":"Goianesia"},{"$f":"Список!A1028","v":"BRAZIL: Campeonato Goiano"}]
[{"$f":"Список!C1029","v":"Gremio Anapolis"},{"$f":"Список!A1029","v":"BRAZIL: Campeonato Goiano"}]
[{"$f":"Список!C1030","v":"Itumbiara"},{"$f":"Список!A1030","v":"BRAZIL: Campeonato Goiano"}]
[{"$f":"Список!C1031","v":"Vila Nova FC"},{"$f":"Список!A1031","v":"BRAZIL: Campeonato Goiano"}]
[{"$f":"Список!C1032","v":"Atletico-MG"},{"$f":"Список!A1032","v":"BRAZIL: Campeonato Mineiro"}]
[{"$f":"Список!C1033","v":"Patrocinense"},{"$f":"Список!A1033","v":"BRAZIL: Campeonato Mineiro"}]
[{"$f":"Список!C1034","v":"Aguia De Maraba"},{"$f":"Список!A1034","v":"BRAZIL: Campeonato Paraense"}]
[{"$f":"Список!C1035","v":"Sao Paulo Crystal"},{"$f":"Список!A1035","v":"BRAZIL: Campeonato Paraibano"}]
[{"$f":"Список!C1036","v":"Coritiba"},{"$f":"Список!A1036","v":"BRAZIL: Campeonato Paranaense"}]
[{"$f":"Список!C1037","v":"Afogados da Ingazeira"},{"$f":"Список!A1037","v":"BRAZIL: Campeonato Pernambucano"}]
[{"$f":"Список!C1038","v":"Nautico"},{"$f":"Список!A1038","v":"BRAZIL: Campeonato Pernambucano"}]
[{"$f":"Список!C1039","v":"Salgueiro"},{"$f":"Список!A1039","v":"BRAZIL: Campeonato Pernambucano"}]
[{"$f":"Список!C1040","v":"America RN"},{"$f":"Список!A1040","v":"BRAZIL: Campeonato Potiguar - First stage"}]
[{"$f":"Список!C1041","v":"Sergipe"},{"$f":"Список!A1041","v":"BRAZIL: Campeonato Sergipano"}]
[{"$f":"Список!C1042","v":"Chapadao"},{"$f":"Список!A1042","v":"BRAZIL: Campeonato Sul-Matogrossense - First stage"}]
[{"$f":"Список!C1043","v":"Comercial MS"},{"$f":"Список!A1043","v":"BRAZIL: Campeonato Sul-Matogrossense - First stage"}]
[{"$f":"Список!C1044","v":"Ceara"},{"$f":"Список!A1044","v":"BRAZIL: Copa do Nordeste - Play Offs"}]
[{"$f":"Список!C1045","v":"Everton"},{"$f":"Список!A1045","v":"CHILE: Primera Division"}]
[{"$f":"Список!C1046","v":"Nantes"},{"$f":"Список!A1046","v":"FRANCE: Ligue 1"}]
[{"$f":"Список!C1047","v":"Yeelen"},{"$f":"Список!A1047","v":"MALI: Premiere Division"}]
[{"$f":"Список!C1048","v":"Fulgencio Yegros"},{"$f":"Список!A1048","v":"PARAGUAY: Division Intermedia"}]
[{"$f":"Список!C1049","v":"Sportivo Iteno"},{"$f":"Список!A1049","v":"PARAGUAY: Division Intermedia"}]
[{"$f":"Список!C1050","v":"Getafe"},{"$f":"Список!A1050","v":"SPAIN: LaLiga"}]
[{"$f":"Список!C1051","v":"Levante"},{"$f":"Список!A1051","v":"SPAIN: LaLiga"}]
[{"$f":"Список!C1052","v":"Inter Miami"},{"$f":"Список!A1052","v":"USA: MLS"}]
[{"$f":"Список!C1053","v":"San Martin S.J."},{"$f":"Список!A1053","v":"ARGENTINA: Primera Nacional"}]
[{"$f":"Список!C1054","v":"Gimnasia y Tiro"},{"$f":"Список!A1054","v":"ARGENTINA: Torneo Federal"}]
[{"$f":"Список!C1055","v":"Barrio Mexico"},{"$f":"Список!A1055","v":"COSTA RICA: Liga de Ascenso - Clausura - Play Offs"}]
[{"$f":"Список!C1056","v":"Zamalek"},{"$f":"Список!A1056","v":"EGYPT: Premier League"}]
[{"$f":"Список!C1057","v":"Sahab"},{"$f":"Список!A1057","v":"JORDAN: Premier League"}]
[{"$f":"Список!C1058","v":"Chaves"},{"$f":"Список!A1058","v":"PORTUGAL: Liga Portugal 2"}]
[{"$f":"Список!C1059","v":"Ferro Gen. Pico"},{"$f":"Список!A1059","v":"ARGENTINA: Torneo Federal"}]
[{"$f":"Список!C1060","v":"Dom Bosco"},{"$f":"Список!A1060","v":"BRAZIL: Campeonato Matogrossense"}]
[{"$f":"Список!C1061","v":"Cruzeiro W"},{"$f":"Список!A1061","v":"BRAZIL: Brasileiro Women"}]
[{"$f":"Список!C1062","v":"Moca"},{"$f":"Список!A1062","v":"DOMINICAN REPUBLIC: LDF"}]
[{"$f":"Список!C1063","v":"America des Cayes"},{"$f":"Список!A1063","v":"HAITI: Championnat National - Serie de Cloture"}]
[{"$f":"Список!C1064","v":"Cavaly"},{"$f":"Список!A1064","v":"HAITI: Championnat National - Serie de Cloture"}]
[{"$f":"Список!C1065","v":"Mirebalais"},{"$f":"Список!A1065","v":"HAITI: Championnat National - Serie de Cloture"}]
[{"$f":"Список!C1066","v":"Racing des Gonaives"},{"$f":"Список!A1066","v":"HAITI: Championnat National - Serie de Cloture"}]
[{"$f":"Список!C1067","v":"Rivartibonitienne"},{"$f":"Список!A1067","v":"HAITI: Championnat National - Serie de Cloture"}]
[{"$f":"Список!C1068","v":"Carlos Stein"},{"$f":"Список!A1068","v":"PERU: Liga 1 - Apertura"}]
[{"$f":"Список!C1069","v":"Al Shorta"},{"$f":"Список!A1069","v":"ASIA: AFC Champions League"}]
[{"$f":"Список!C1070","v":"America De Cali"},{"$f":"Список!A1070","v":"COLOMBIA: Primera A - Apertura"}]
[{"$f":"Список!C1071","v":"Atl. Nacional"},{"$f":"Список!A1071","v":"COLOMBIA: Primera A - Apertura"}]
[{"$f":"Список!C1072","v":"Bucaramanga"},{"$f":"Список!A1072","v":"COLOMBIA: Primera A - Apertura"}]
[{"$f":"Список!C1073","v":"Chico"},{"$f":"Список!A1073","v":"COLOMBIA: Primera A - Apertura"}]
[{"$f":"Список!C1074","v":"La Equidad"},{"$f":"Список!A1074","v":"COLOMBIA: Primera A - Apertura"}]
[{"$f":"Список!C1075","v":"Millonarios"},{"$f":"Список!A1075","v":"COLOMBIA: Primera A - Apertura"}]
[{"$f":"Список!C1076","v":"Once Caldas"},{"$f":"Список!A1076","v":"COLOMBIA: Primera A - Apertura"}]
[{"$f":"Список!C1077","v":"Pereira"},{"$f":"Список!A1077","v":"COLOMBIA: Primera A - Apertura"}]
[{"$f":"Список!C1078","v":"Ind. del Valle"},{"$f":"Список!A1078","v":"ECUADOR: Liga Pro - First stage"}]
[{"$f":"Список!C1079","v":"Luis Angel Firpo"},{"$f":"Список!A1079","v":"EL SALVADOR: Primera Division - Clausura - 2nd Phase"}]
[{"$f":"Список!C1080","v":"Independiente"},{"$f":"Список!A1080","v":"ARGENTINA: Copa de la Liga Profesional"}]
[{"$f":"Список!C1081","v":"Sete de Setembro"},{"$f":"Список!A1081","v":"BRAZIL: Campeonato Pernambucano"}]
[{"$f":"Список!C1082","v":"San Marcos de Arica"},{"$f":"Список!A1082","v":"CHILE: Primera B"}]
[{"$f":"Список!C1083","v":"ADR Jicaral"},{"$f":"Список!A1083","v":"COSTA RICA: Primera Division - Clausura"}]
[{"$f":"Список!C1084","v":"Municipal Limeno"},{"$f":"Список!A1084","v":"EL SALVADOR: Primera Division - Clausura - 2nd Phase"}]
[{"$f":"Список!C1085","v":"Gamtel"},{"$f":"Список!A1085","v":"GAMBIA: GFA League"}]
[{"$f":"Список!C1086","v":"Racing Haitien"},{"$f":"Список!A1086","v":"HAITI: Championnat National - Serie de Cloture"}]
[{"$f":"Список!C1087","v":"Reboceros de La Piedad"},{"$f":"Список!A1087","v":"MEXICO: Liga Premier Serie A - Play Offs"}]
[{"$f":"Список!C1088","v":"Chinandega"},{"$f":"Список!A1088","v":"NICARAGUA: Liga Primera - Clausura"}]
[{"$f":"Список!C1089","v":"Gran Valencia"},{"$f":"Список!A1089","v":"VENEZUELA: Primera Division - First stage"}]
[{"$f":"Список!C1090","v":"Sarmiento Resistencia"},{"$f":"Список!A1090","v":"ARGENTINA: Torneo Federal"}]
[{"$f":"Список!C1091","v":"Armee"},{"$f":"Список!A1091","v":"MAURITANIA: Ligue 1"}]
[{"$f":"Список!C1092","v":"Boavista"},{"$f":"Список!A1092","v":"BRAZIL: Campeonato Carioca - Taca Guanabara"}]
[{"$f":"Список!C1093","v":"FAS"},{"$f":"Список!A1093","v":"EL SALVADOR: Primera Division - Clausura - 2nd Phase"}]
[{"$f":"Список!C1094","v":"Xelaju"},{"$f":"Список!A1094","v":"GUATEMALA: Liga Nacional - Clausura"}]
[{"$f":"Список!C1095","v":"Columbus Crew"},{"$f":"Список!A1095","v":"USA: MLS"}]
[{"$f":"Список!C1096","v":"Cerro Porteno"},{"$f":"Список!A1096","v":"PARAGUAY: Primera Division - Apertura"}]
[{"$f":"Список!C1097","v":"Sportivo Las Parejas"},{"$f":"Список!A1097","v":"ARGENTINA: Torneo Federal"}]
[{"$f":"Список!C1098","v":"CD Santa Cruz"},{"$f":"Список!A1098","v":"CHILE: Primera B"}]
[{"$f":"Список!C1099","v":"San Luis"},{"$f":"Список!A1099","v":"CHILE: Primera B"}]
[{"$f":"Список!C1100","v":"Saprissa"},{"$f":"Список!A1100","v":"COSTA RICA: Primera Division - Clausura"}]
[{"$f":"Список!C1101","v":"Capoise"},{"$f":"Список!A1101","v":"HAITI: Championnat National - Serie de Cloture"}]
[{"$f":"Список!C1102","v":"Tempete"},{"$f":"Список!A1102","v":"HAITI: Championnat National - Serie de Cloture"}]
[{"$f":"Список!C1103","v":"Difaa El Jadidi"},{"$f":"Список!A1103","v":"MOROCCO: Botola Pro"}]
[{"$f":"Список!C1104","v":"Maghreb Fez"},{"$f":"Список!A1104","v":"MOROCCO: Botola Pro"}]
[{"$f":"Список!C1105","v":"Youssoufia Berrechid"},{"$f":"Список!A1105","v":"MOROCCO: Botola Pro"}]
[{"$f":"Список!C1106","v":0},{"$f":"Список!A1106","v":0}]
[{"$f":"Список!C1107","v":0},{"$f":"Список!A1107","v":0}]
[{"$f":"Список!C1108","v":0},{"$f":"Список!A1108","v":0}]
[{"$f":"Список!C1109","v":0},{"$f":"Список!A1109","v":0}]
[{"$f":"Список!C1110","v":0},{"$f":"Список!A1110","v":0}]
[{"$f":"Список!C1111","v":0},{"$f":"Список!A1111","v":0}]
[{"$f":"Список!C1112","v":0},{"$f":"Список!A1112","v":0}]
[{"$f":"Список!C1113","v":0},{"$f":"Список!A1113","v":0}]
[{"$f":"Список!C1114","v":0},{"$f":"Список!A1114","v":0}]
[{"$f":"Список!C1115","v":0},{"$f":"Список!A1115","v":0}]
[{"$f":"Список!C1116","v":0},{"$f":"Список!A1116","v":0}]
[{"$f":"Список!C1117","v":0},{"$f":"Список!A1117","v":0}]
[{"$f":"Список!C1118","v":0},{"$f":"Список!A1118","v":0}]
[{"$f":"Список!C1119","v":0},{"$f":"Список!A1119","v":0}]
[{"$f":"Список!C1120","v":0},{"$f":"Список!A1120","v":0}]
[{"$f":"Список!C1121","v":0},{"$f":"Список!A1121","v":0}]
[{"$f":"Список!C1122","v":0},{"$f":"Список!A1122","v":0}]
[{"$f":"Список!C1123","v":0},{"$f":"Список!A1123","v":0}]
[{"$f":"Список!C1124","v":0},{"$f":"Список!A1124","v":0}]
[{"$f":"Список!C1125","v":0},{"$f":"Список!A1125","v":0}]
[{"$f":"Список!C1126","v":0},{"$f":"Список!A1126","v":0}]
[{"$f":"Список!C1127","v":0},{"$f":"Список!A1127","v":0}]
[{"$f":"Список!C1128","v":0},{"$f":"Список!A1128","v":0}]
[{"$f":"Список!C1129","v":0},{"$f":"Список!A1129","v":0}]
[{"$f":"Список!C1130","v":0},{"$f":"Список!A1130","v":0}]
[{"$f":"Список!C1131","v":0},{"$f":"Список!A1131","v":0}]
[{"$f":"Список!C1132","v":0},{"$f":"Список!A1132","v":0}]
[{"$f":"Список!C1133","v":0},{"$f":"Список!A1133","v":0}]
[{"$f":"Список!C1134","v":0},{"$f":"Список!A1134","v":0}]
[{"$f":"Список!C1135","v":0},{"$f":"Список!A1135","v":0}]
[{"$f":"Список!C1136","v":0},{"$f":"Список!A1136","v":0}]
[{"$f":"Список!C1137","v":0},{"$f":"Список!A1137","v":0}]
[{"$f":"Список!C1138","v":0},{"$f":"Список!A1138","v":0}]
[{"$f":"Список!C1139","v":0},{"$f":"Список!A1139","v":0}]
[{"$f":"Список!C1140","v":0},{"$f":"Список!A1140","v":0}]
[{"$f":"Список!C1141","v":0},{"$f":"Список!A1141","v":0}]
[{"$f":"Список!C1142","v":0},{"$f":"Список!A1142","v":0}]
[{"$f":"Список!C1143","v":0},{"$f":"Список!A1143","v":0}]
[{"$f":"Список!C1144","v":0},{"$f":"Список!A1144","v":0}]
[{"$f":"Список!C1145","v":0},{"$f":"Список!A1145","v":0}]
[{"$f":"Список!C1146","v":0},{"$f":"Список!A1146","v":0}]
[{"$f":"Список!C1147","v":0},{"$f":"Список!A1147","v":0}]
[{"$f":"Список!C1148","v":0},{"$f":"Список!A1148","v":0}]
[{"$f":"Список!C1149","v":0},{"$f":"Список!A1149","v":0}]
[{"$f":"Список!C1150","v":0},{"$f":"Список!A1150","v":0}]
[{"$f":"Список!C1151","v":0},{"$f":"Список!A1151","v":0}]
[{"$f":"Список!C1152","v":0},{"$f":"Список!A1152","v":0}]
[{"$f":"Список!C1153","v":0},{"$f":"Список!A1153","v":0}]
[{"$f":"Список!C1154","v":0},{"$f":"Список!A1154","v":0}]
[{"$f":"Список!C1155","v":0},{"$f":"Список!A1155","v":0}]
[{"$f":"Список!C1156","v":0},{"$f":"Список!A1156","v":0}]
[{"$f":"Список!C1157","v":0},{"$f":"Список!A1157","v":0}]
[{"$f":"Список!C1158","v":0},{"$f":"Список!A1158","v":0}]
[{"$f":"Список!C1159","v":0},{"$f":"Список!A1159","v":0}]
[{"$f":"Список!C1160","v":0},{"$f":"Список!A1160","v":0}]
[{"$f":"Список!C1161","v":0},{"$f":"Список!A1161","v":0}]
[{"$f":"Список!C1162","v":0},{"$f":"Список!A1162","v":0}]
[{"$f":"Список!C1163","v":0},{"$f":"Список!A1163","v":0}]
[{"$f":"Список!C1164","v":0},{"$f":"Список!A1164","v":0}]
[{"$f":"Список!C1165","v":0},{"$f":"Список!A1165","v":0}]
[{"$f":"Список!C1166","v":0},{"$f":"Список!A1166","v":0}]
[{"$f":"Список!C1167","v":0},{"$f":"Список!A1167","v":0}]
[{"$f":"Список!C1168","v":0},{"$f":"Список!A1168","v":0}]
[{"$f":"Список!C1169","v":0},{"$f":"Список!A1169","v":0}]
[{"$f":"Список!C1170","v":0},{"$f":"Список!A1170","v":0}]
[{"$f":"Список!C1171","v":0},{"$f":"Список!A1171","v":0}]
[{"$f":"Список!C1172","v":0},{"$f":"Список!A1172","v":0}]
[{"$f":"Список!C1173","v":0},{"$f":"Список!A1173","v":0}]
[{"$f":"Список!C1174","v":0},{"$f":"Список!A1174","v":0}]
[{"$f":"Список!C1175","v":0},{"$f":"Список!A1175","v":0}]
[{"$f":"Список!C1176","v":0},{"$f":"Список!A1176","v":0}]
[{"$f":"Список!C1177","v":0},{"$f":"Список!A1177","v":0}]
[{"$f":"Список!C1178","v":0},{"$f":"Список!A1178","v":0}]
[{"$f":"Список!C1179","v":0},{"$f":"Список!A1179","v":0}]
[{"$f":"Список!C1180","v":0},{"$f":"Список!A1180","v":0}]
[{"$f":"Список!C1181","v":0},{"$f":"Список!A1181","v":0}]
[{"$f":"Список!C1182","v":0},{"$f":"Список!A1182","v":0}]
[{"$f":"Список!C1183","v":0},{"$f":"Список!A1183","v":0}]
[{"$f":"Список!C1184","v":0},{"$f":"Список!A1184","v":0}]
[{"$f":"Список!C1185","v":0},{"$f":"Список!A1185","v":0}]
[{"$f":"Список!C1186","v":0},{"$f":"Список!A1186","v":0}]
[{"$f":"Список!C1187","v":0},{"$f":"Список!A1187","v":0}]
[{"$f":"Список!C1188","v":0},{"$f":"Список!A1188","v":0}]
[{"$f":"Список!C1189","v":0},{"$f":"Список!A1189","v":0}]
[{"$f":"Список!C1190","v":0},{"$f":"Список!A1190","v":0}]
[{"$f":"Список!C1191","v":0},{"$f":"Список!A1191","v":0}]
[{"$f":"Список!C1192","v":0},{"$f":"Список!A1192","v":0}]
[{"$f":"Список!C1193","v":0},{"$f":"Список!A1193","v":0}]
[{"$f":"Список!C1194","v":0},{"$f":"Список!A1194","v":0}]
[{"$f":"Список!C1195","v":0},{"$f":"Список!A1195","v":0}]
[{"$f":"Список!C1196","v":0},{"$f":"Список!A1196","v":0}]
[{"$f":"Список!C1197","v":0},{"$f":"Список!A1197","v":0}]
[{"$f":"Список!C1198","v":0},{"$f":"Список!A1198","v":0}]
[{"$f":"Список!C1199","v":0},{"$f":"Список!A1199","v":0}]
[{"$f":"Список!C1200","v":0},{"$f":"Список!A1200","v":0}]
[{"$f":"Список!C1201","v":0},{"$f":"Список!A1201","v":0}]
[{"$f":"Список!C1202","v":0},{"$f":"Список!A1202","v":0}]
[{"$f":"Список!C1203","v":0},{"$f":"Список!A1203","v":0}]
[{"$f":"Список!C1204","v":0},{"$f":"Список!A1204","v":0}]
[{"$f":"Список!C1205","v":0},{"$f":"Список!A1205","v":0}]
[{"$f":"Список!C1206","v":0},{"$f":"Список!A1206","v":0}]
[{"$f":"Список!C1207","v":0},{"$f":"Список!A1207","v":0}]
[{"$f":"Список!C1208","v":0},{"$f":"Список!A1208","v":0}]
[{"$f":"Список!C1209","v":0},{"$f":"Список!A1209","v":0}]
[{"$f":"Список!C1210","v":0},{"$f":"Список!A1210","v":0}]
[{"$f":"Список!C1211","v":0},{"$f":"Список!A1211","v":0}]
[{"$f":"Список!C1212","v":0},{"$f":"Список!A1212","v":0}]
[{"$f":"Список!C1213","v":0},{"$f":"Список!A1213","v":0}]
[{"$f":"Список!C1214","v":0},{"$f":"Список!A1214","v":0}]
[{"$f":"Список!C1215","v":0},{"$f":"Список!A1215","v":0}]
[{"$f":"Список!C1216","v":0},{"$f":"Список!A1216","v":0}]
[{"$f":"Список!C1217","v":0},{"$f":"Список!A1217","v":0}]
[{"$f":"Список!C1218","v":0},{"$f":"Список!A1218","v":0}]
[{"$f":"Список!C1219","v":0},{"$f":"Список!A1219","v":0}]
[{"$f":"Список!C1220","v":0},{"$f":"Список!A1220","v":0}]
[{"$f":"Список!C1221","v":0},{"$f":"Список!A1221","v":0}]
[{"$f":"Список!C1222","v":0},{"$f":"Список!A1222","v":0}]
[{"$f":"Список!C1223","v":0},{"$f":"Список!A1223","v":0}]
[{"$f":"Список!C1224","v":0},{"$f":"Список!A1224","v":0}]
[{"$f":"Список!C1225","v":0},{"$f":"Список!A1225","v":0}]
[{"$f":"Список!C1226","v":0},{"$f":"Список!A1226","v":0}]
[{"$f":"Список!C1227","v":0},{"$f":"Список!A1227","v":0}]
[{"$f":"Список!C1228","v":0},{"$f":"Список!A1228","v":0}]
[{"$f":"Список!C1229","v":0},{"$f":"Список!A1229","v":0}]
[{"$f":"Список!C1230","v":0},{"$f":"Список!A1230","v":0}]
[{"$f":"Список!C1231","v":0},{"$f":"Список!A1231","v":0}]
[{"$f":"Список!C1232","v":0},{"$f":"Список!A1232","v":0}]
[{"$f":"Список!C1233","v":0},{"$f":"Список!A1233","v":0}]
[{"$f":"Список!C1234","v":0},{"$f":"Список!A1234","v":0}]
[{"$f":"Список!C1235","v":0},{"$f":"Список!A1235","v":0}]
[{"$f":"Список!C1236","v":0},{"$f":"Список!A1236","v":0}]
[{"$f":"Список!C1237","v":0},{"$f":"Список!A1237","v":0}]
[{"$f":"Список!C1238","v":0},{"$f":"Список!A1238","v":0}]
[{"$f":"Список!C1239","v":0},{"$f":"Список!A1239","v":0}]
[{"$f":"Список!C1240","v":0},{"$f":"Список!A1240","v":0}]
[{"$f":"Список!C1241","v":0},{"$f":"Список!A1241","v":0}]
[{"$f":"Список!C1242","v":0},{"$f":"Список!A1242","v":0}]
[{"$f":"Список!C1243","v":0},{"$f":"Список!A1243","v":0}]
[{"$f":"Список!C1244","v":0},{"$f":"Список!A1244","v":0}]
[{"$f":"Список!C1245","v":0},{"$f":"Список!A1245","v":0}]
[{"$f":"Список!C1246","v":0},{"$f":"Список!A1246","v":0}]
[{"$f":"Список!C1247","v":0},{"$f":"Список!A1247","v":0}]
[{"$f":"Список!C1248","v":0},{"$f":"Список!A1248","v":0}]
[{"$f":"Список!C1249","v":0},{"$f":"Список!A1249","v":0}]
[{"$f":"Список!C1250","v":0},{"$f":"Список!A1250","v":0}]
[{"$f":"Список!C1251","v":0},{"$f":"Список!A1251","v":0}]
[{"$f":"Список!C1252","v":0},{"$f":"Список!A1252","v":0}]
[{"$f":"Список!C1253","v":0},{"$f":"Список!A1253","v":0}]
[{"$f":"Список!C1254","v":0},{"$f":"Список!A1254","v":0}]
[{"$f":"Список!C1255","v":0},{"$f":"Список!A1255","v":0}]
[{"$f":"Список!C1256","v":0},{"$f":"Список!A1256","v":0}]
[{"$f":"Список!C1257","v":0},{"$f":"Список!A1257","v":0}]
[{"$f":"Список!C1258","v":0},{"$f":"Список!A1258","v":0}]
[{"$f":"Список!C1259","v":0},{"$f":"Список!A1259","v":0}]
[{"$f":"Список!C1260","v":0},{"$f":"Список!A1260","v":0}]
[{"$f":"Список!C1261","v":0},{"$f":"Список!A1261","v":0}]
[{"$f":"Список!C1262","v":0},{"$f":"Список!A1262","v":0}]
[{"$f":"Список!C1263","v":0},{"$f":"Список!A1263","v":0}]
[{"$f":"Список!C1264","v":0},{"$f":"Список!A1264","v":0}]
[{"$f":"Список!C1265","v":0},{"$f":"Список!A1265","v":0}]
[{"$f":"Список!C1266","v":0},{"$f":"Список!A1266","v":0}]
[{"$f":"Список!C1267","v":0},{"$f":"Список!A1267","v":0}]
[{"$f":"Список!C1268","v":0},{"$f":"Список!A1268","v":0}]
[{"$f":"Список!C1269","v":0},{"$f":"Список!A1269","v":0}]
[{"$f":"Список!C1270","v":0},{"$f":"Список!A1270","v":0}]
[{"$f":"Список!C1271","v":0},{"$f":"Список!A1271","v":0}]
[{"$f":"Список!C1272","v":0},{"$f":"Список!A1272","v":0}]
[{"$f":"Список!C1273","v":0},{"$f":"Список!A1273","v":0}]
[{"$f":"Список!C1274","v":0},{"$f":"Список!A1274","v":0}]
[{"$f":"Список!C1275","v":0},{"$f":"Список!A1275","v":0}]
[{"$f":"Список!C1276","v":0},{"$f":"Список!A1276","v":0}]
[{"$f":"Список!C1277","v":0},{"$f":"Список!A1277","v":0}]
[{"$f":"Список!C1278","v":0},{"$f":"Список!A1278","v":0}]
[{"$f":"Список!C1279","v":0},{"$f":"Список!A1279","v":0}]
[{"$f":"Список!C1280","v":0},{"$f":"Список!A1280","v":0}]
[{"$f":"Список!C1281","v":0},{"$f":"Список!A1281","v":0}]
[{"$f":"Список!C1282","v":0},{"$f":"Список!A1282","v":0}]
[{"$f":"Список!C1283","v":0},{"$f":"Список!A1283","v":0}]
[{"$f":"Список!C1284","v":0},{"$f":"Список!A1284","v":0}]
[{"$f":"Список!C1285","v":0},{"$f":"Список!A1285","v":0}]
[{"$f":"Список!C1286","v":0},{"$f":"Список!A1286","v":0}]
[{"$f":"Список!C1287","v":0},{"$f":"Список!A1287","v":0}]
[{"$f":"Список!C1288","v":0},{"$f":"Список!A1288","v":0}]
[{"$f":"Список!C1289","v":0},{"$f":"Список!A1289","v":0}]
[{"$f":"Список!C1290","v":0},{"$f":"Список!A1290","v":0}]
[{"$f":"Список!C1291","v":0},{"$f":"Список!A1291","v":0}]
[{"$f":"Список!C1292","v":0},{"$f":"Список!A1292","v":0}]
[{"$f":"Список!C1293","v":0},{"$f":"Список!A1293","v":0}]
[{"$f":"Список!C1294","v":0},{"$f":"Список!A1294","v":0}]
[{"$f":"Список!C1295","v":0},{"$f":"Список!A1295","v":0}]
[{"$f":"Список!C1296","v":0},{"$f":"Список!A1296","v":0}]
[{"$f":"Список!C1297","v":0},{"$f":"Список!A1297","v":0}]
[{"$f":"Список!C1298","v":0},{"$f":"Список!A1298","v":0}]
[{"$f":"Список!C1299","v":0},{"$f":"Список!A1299","v":0}]
[{"$f":"Список!C1300","v":0},{"$f":"Список!A1300","v":0}]
[{"$f":"Список!C1301","v":0},{"$f":"Список!A1301","v":0}]
[{"$f":"Список!C1302","v":0},{"$f":"Список!A1302","v":0}]
[{"$f":"Список!C1303","v":0},{"$f":"Список!A1303","v":0}]
[{"$f":"Список!C1304","v":0},{"$f":"Список!A1304","v":0}]
[{"$f":"Список!C1305","v":0},{"$f":"Список!A1305","v":0}]
[{"$f":"Список!C1306","v":0},{"$f":"Список!A1306","v":0}]
[{"$f":"Список!C1307","v":0},{"$f":"Список!A1307","v":0}]
[{"$f":"Список!C1308","v":0},{"$f":"Список!A1308","v":0}]
[{"$f":"Список!C1309","v":0},{"$f":"Список!A1309","v":0}]
[{"$f":"Список!C1310","v":0},{"$f":"Список!A1310","v":0}]
[{"$f":"Список!C1311","v":0},{"$f":"Список!A1311","v":0}]
[{"$f":"Список!C1312","v":0},{"$f":"Список!A1312","v":0}]
[{"$f":"Список!C1313","v":0},{"$f":"Список!A1313","v":0}]
[{"$f":"Список!C1314","v":0},{"$f":"Список!A1314","v":0}]
[{"$f":"Список!C1315","v":0},{"$f":"Список!A1315","v":0}]
[{"$f":"Список!C1316","v":0},{"$f":"Список!A1316","v":0}]
[{"$f":"Список!C1317","v":0},{"$f":"Список!A1317","v":0}]
[{"$f":"Список!C1318","v":0},{"$f":"Список!A1318","v":0}]
[{"$f":"Список!C1319","v":0},{"$f":"Список!A1319","v":0}]
[{"$f":"Список!C1320","v":0},{"$f":"Список!A1320","v":0}]
[{"$f":"Список!C1321","v":0},{"$f":"Список!A1321","v":0}]
[{"$f":"Список!C1322","v":0},{"$f":"Список!A1322","v":0}]
[{"$f":"Список!C1323","v":0},{"$f":"Список!A1323","v":0}]
[{"$f":"Список!C1324","v":0},{"$f":"Список!A1324","v":0}]
[{"$f":"Список!C1325","v":0},{"$f":"Список!A1325","v":0}]
[{"$f":"Список!C1326","v":0},{"$f":"Список!A1326","v":0}]
[{"$f":"Список!C1327","v":0},{"$f":"Список!A1327","v":0}]
[{"$f":"Список!C1328","v":0},{"$f":"Список!A1328","v":0}]
[{"$f":"Список!C1329","v":0},{"$f":"Список!A1329","v":0}]
[{"$f":"Список!C1330","v":0},{"$f":"Список!A1330","v":0}]
[{"$f":"Список!C1331","v":0},{"$f":"Список!A1331","v":0}]
[{"$f":"Список!C1332","v":0},{"$f":"Список!A1332","v":0}]
[{"$f":"Список!C1333","v":0},{"$f":"Список!A1333","v":0}]
[{"$f":"Список!C1334","v":0},{"$f":"Список!A1334","v":0}]
[{"$f":"Список!C1335","v":0},{"$f":"Список!A1335","v":0}]
[{"$f":"Список!C1336","v":0},{"$f":"Список!A1336","v":0}]
[{"$f":"Список!C1337","v":0},{"$f":"Список!A1337","v":0}]
[{"$f":"Список!C1338","v":0},{"$f":"Список!A1338","v":0}]
[{"$f":"Список!C1339","v":0},{"$f":"Список!A1339","v":0}]
[{"$f":"Список!C1340","v":0},{"$f":"Список!A1340","v":0}]
[{"$f":"Список!C1341","v":0},{"$f":"Список!A1341","v":0}]
[{"$f":"Список!C1342","v":0},{"$f":"Список!A1342","v":0}]
[{"$f":"Список!C1343","v":0},{"$f":"Список!A1343","v":0}]
[{"$f":"Список!C1344","v":0},{"$f":"Список!A1344","v":0}]
[{"$f":"Список!C1345","v":0},{"$f":"Список!A1345","v":0}]
[{"$f":"Список!C1346","v":0},{"$f":"Список!A1346","v":0}]
[{"$f":"Список!C1347","v":0},{"$f":"Список!A1347","v":0}]
[{"$f":"Список!C1348","v":0},{"$f":"Список!A1348","v":0}]
[{"$f":"Список!C1349","v":0},{"$f":"Список!A1349","v":0}]
[{"$f":"Список!C1350","v":0},{"$f":"Список!A1350","v":0}]
[{"$f":"Список!C1351","v":0},{"$f":"Список!A1351","v":0}]
[{"$f":"Список!C1352","v":0},{"$f":"Список!A1352","v":0}]
[{"$f":"Список!C1353","v":0},{"$f":"Список!A1353","v":0}]
[{"$f":"Список!C1354","v":0},{"$f":"Список!A1354","v":0}]
[{"$f":"Список!C1355","v":0},{"$f":"Список!A1355","v":0}]
[{"$f":"Список!C1356","v":0},{"$f":"Список!A1356","v":0}]
[{"$f":"Список!C1357","v":0},{"$f":"Список!A1357","v":0}]
[{"$f":"Список!C1358","v":0},{"$f":"Список!A1358","v":0}]
[{"$f":"Список!C1359","v":0},{"$f":"Список!A1359","v":0}]
[{"$f":"Список!C1360","v":0},{"$f":"Список!A1360","v":0}]
[{"$f":"Список!C1361","v":0},{"$f":"Список!A1361","v":0}]
[{"$f":"Список!C1362","v":0},{"$f":"Список!A1362","v":0}]
[{"$f":"Список!C1363","v":0},{"$f":"Список!A1363","v":0}]
[{"$f":"Список!C1364","v":0},{"$f":"Список!A1364","v":0}]
[{"$f":"Список!C1365","v":0},{"$f":"Список!A1365","v":0}]
[{"$f":"Список!C1366","v":0},{"$f":"Список!A1366","v":0}]
[{"$f":"Список!C1367","v":0},{"$f":"Список!A1367","v":0}]
[{"$f":"Список!C1368","v":0},{"$f":"Список!A1368","v":0}]
[{"$f":"Список!C1369","v":0},{"$f":"Список!A1369","v":0}]
[{"$f":"Список!C1370","v":0},{"$f":"Список!A1370","v":0}]
[{"$f":"Список!C1371","v":0},{"$f":"Список!A1371","v":0}]
[{"$f":"Список!C1372","v":0},{"$f":"Список!A1372","v":0}]
[{"$f":"Список!C1373","v":0},{"$f":"Список!A1373","v":0}]
[{"$f":"Список!C1374","v":0},{"$f":"Список!A1374","v":0}]
[{"$f":"Список!C1375","v":0},{"$f":"Список!A1375","v":0}]
[{"$f":"Список!C1376","v":0},{"$f":"Список!A1376","v":0}]
[{"$f":"Список!C1377","v":0},{"$f":"Список!A1377","v":0}]
[{"$f":"Список!C1378","v":0},{"$f":"Список!A1378","v":0}]
[{"$f":"Список!C1379","v":0},{"$f":"Список!A1379","v":0}]
[{"$f":"Список!C1380","v":0},{"$f":"Список!A1380","v":0}]
[{"$f":"Список!C1381","v":0},{"$f":"Список!A1381","v":0}]
[{"$f":"Список!C1382","v":0},{"$f":"Список!A1382","v":0}]
[{"$f":"Список!C1383","v":0},{"$f":"Список!A1383","v":0}]
[{"$f":"Список!C1384","v":0},{"$f":"Список!A1384","v":0}]
[{"$f":"Список!C1385","v":0},{"$f":"Список!A1385","v":0}]
[{"$f":"Список!C1386","v":0},{"$f":"Список!A1386","v":0}]
[{"$f":"Список!C1387","v":0},{"$f":"Список!A1387","v":0}]
[{"$f":"Список!C1388","v":0},{"$f":"Список!A1388","v":0}]
[{"$f":"Список!C1389","v":0},{"$f":"Список!A1389","v":0}]
[{"$f":"Список!C1390","v":0},{"$f":"Список!A1390","v":0}]
[{"$f":"Список!C1391","v":0},{"$f":"Список!A1391","v":0}]
[{"$f":"Список!C1392","v":0},{"$f":"Список!A1392","v":0}]
[{"$f":"Список!C1393","v":0},{"$f":"Список!A1393","v":0}]
[{"$f":"Список!C1394","v":0},{"$f":"Список!A1394","v":0}]
[{"$f":"Список!C1395","v":0},{"$f":"Список!A1395","v":0}]
[{"$f":"Список!C1396","v":0},{"$f":"Список!A1396","v":0}]
[{"$f":"Список!C1397","v":0},{"$f":"Список!A1397","v":0}]
[{"$f":"Список!C1398","v":0},{"$f":"Список!A1398","v":0}]
[{"$f":"Список!C1399","v":0},{"$f":"Список!A1399","v":0}]
[{"$f":"Список!C1400","v":0},{"$f":"Список!A1400","v":0}]
[{"$f":"Список!C1401","v":0},{"$f":"Список!A1401","v":0}]
[{"$f":"Список!C1402","v":0},{"$f":"Список!A1402","v":0}]
[{"$f":"Список!C1403","v":0},{"$f":"Список!A1403","v":0}]
[{"$f":"Список!C1404","v":0},{"$f":"Список!A1404","v":0}]
[{"$f":"Список!C1405","v":0},{"$f":"Список!A1405","v":0}]
[{"$f":"Список!C1406","v":0},{"$f":"Список!A1406","v":0}]
[{"$f":"Список!C1407","v":0},{"$f":"Список!A1407","v":0}]
[{"$f":"Список!C1408","v":0},{"$f":"Список!A1408","v":0}]
[{"$f":"Список!C1409","v":0},{"$f":"Список!A1409","v":0}]
[{"$f":"Список!C1410","v":0},{"$f":"Список!A1410","v":0}]
[{"$f":"Список!C1411","v":0},{"$f":"Список!A1411","v":0}]
[{"$f":"Список!C1412","v":0},{"$f":"Список!A1412","v":0}]
[{"$f":"Список!C1413","v":0},{"$f":"Список!A1413","v":0}]
[{"$f":"Список!C1414","v":0},{"$f":"Список!A1414","v":0}]
[{"$f":"Список!C1415","v":0},{"$f":"Список!A1415","v":0}]
[{"$f":"Список!C1416","v":0},{"$f":"Список!A1416","v":0}]
[{"$f":"Список!C1417","v":0},{"$f":"Список!A1417","v":0}]
[{"$f":"Список!C1418","v":0},{"$f":"Список!A1418","v":0}]
[{"$f":"Список!C1419","v":0},{"$f":"Список!A1419","v":0}]
[{"$f":"Список!C1420","v":0},{"$f":"Список!A1420","v":0}]
[{"$f":"Список!C1421","v":0},{"$f":"Список!A1421","v":0}]
[{"$f":"Список!C1422","v":0},{"$f":"Список!A1422","v":0}]
[{"$f":"Список!C1423","v":0},{"$f":"Список!A1423","v":0}]
[{"$f":"Список!C1424","v":0},{"$f":"Список!A1424","v":0}]
[{"$f":"Список!C1425","v":0},{"$f":"Список!A1425","v":0}]
[{"$f":"Список!C1426","v":0},{"$f":"Список!A1426","v":0}]
[{"$f":"Список!C1427","v":0},{"$f":"Список!A1427","v":0}]
[{"$f":"Список!C1428","v":0},{"$f":"Список!A1428","v":0}]
[{"$f":"Список!C1429","v":0},{"$f":"Список!A1429","v":0}]
[{"$f":"Список!C1430","v":0},{"$f":"Список!A1430","v":0}]
[{"$f":"Список!C1431","v":0},{"$f":"Список!A1431","v":0}]
[{"$f":"Список!C1432","v":0},{"$f":"Список!A1432","v":0}]
[{"$f":"Список!C1433","v":0},{"$f":"Список!A1433","v":0}]
[{"$f":"Список!C1434","v":0},{"$f":"Список!A1434","v":0}]
[{"$f":"Список!C1435","v":0},{"$f":"Список!A1435","v":0}]
[{"$f":"Список!C1436","v":0},{"$f":"Список!A1436","v":0}]
[{"$f":"Список!C1437","v":0},{"$f":"Список!A1437","v":0}]
[{"$f":"Список!C1438","v":0},{"$f":"Список!A1438","v":0}]
[{"$f":"Список!C1439","v":0},{"$f":"Список!A1439","v":0}]
[{"$f":"Список!C1440","v":0},{"$f":"Список!A1440","v":0}]
[{"$f":"Список!C1441","v":0},{"$f":"Список!A1441","v":0}]
[{"$f":"Список!C1442","v":0},{"$f":"Список!A1442","v":0}]
[{"$f":"Список!C1443","v":0},{"$f":"Список!A1443","v":0}]
[{"$f":"Список!C1444","v":0},{"$f":"Список!A1444","v":0}]
[{"$f":"Список!C1445","v":0},{"$f":"Список!A1445","v":0}]
[{"$f":"Список!C1446","v":0},{"$f":"Список!A1446","v":0}]
[{"$f":"Список!C1447","v":0},{"$f":"Список!A1447","v":0}]
[{"$f":"Список!C1448","v":0},{"$f":"Список!A1448","v":0}]
[{"$f":"Список!C1449","v":0},{"$f":"Список!A1449","v":0}]
[{"$f":"Список!C1450","v":0},{"$f":"Список!A1450","v":0}]
[{"$f":"Список!C1451","v":0},{"$f":"Список!A1451","v":0}]
[{"$f":"Список!C1452","v":0},{"$f":"Список!A1452","v":0}]
[{"$f":"Список!C1453","v":0},{"$f":"Список!A1453","v":0}]
[{"$f":"Список!C1454","v":0},{"$f":"Список!A1454","v":0}]
[{"$f":"Список!C1455","v":0},{"$f":"Список!A1455","v":0}]
[{"$f":"Список!C1456","v":0},{"$f":"Список!A1456","v":0}]
[{"$f":"Список!C1457","v":0},{"$f":"Список!A1457","v":0}]
[{"$f":"Список!C1458","v":0},{"$f":"Список!A1458","v":0}]
[{"$f":"Список!C1459","v":0},{"$f":"Список!A1459","v":0}]
[{"$f":"Список!C1460","v":0},{"$f":"Список!A1460","v":0}]
[{"$f":"Список!C1461","v":0},{"$f":"Список!A1461","v":0}]
[{"$f":"Список!C1462","v":0},{"$f":"Список!A1462","v":0}]
[{"$f":"Список!C1463","v":0},{"$f":"Список!A1463","v":0}]
[{"$f":"Список!C1464","v":0},{"$f":"Список!A1464","v":0}]
[{"$f":"Список!C1465","v":0},{"$f":"Список!A1465","v":0}]
[{"$f":"Список!C1466","v":0},{"$f":"Список!A1466","v":0}]
[{"$f":"Список!C1467","v":0},{"$f":"Список!A1467","v":0}]
[{"$f":"Список!C1468","v":0},{"$f":"Список!A1468","v":0}]
[{"$f":"Список!C1469","v":0},{"$f":"Список!A1469","v":0}]
[{"$f":"Список!C1470","v":0},{"$f":"Список!A1470","v":0}]
[{"$f":"Список!C1471","v":0},{"$f":"Список!A1471","v":0}]
[{"$f":"Список!C1472","v":0},{"$f":"Список!A1472","v":0}]
[{"$f":"Список!C1473","v":0},{"$f":"Список!A1473","v":0}]
[{"$f":"Список!C1474","v":0},{"$f":"Список!A1474","v":0}]
[{"$f":"Список!C1475","v":0},{"$f":"Список!A1475","v":0}]
[{"$f":"Список!C1476","v":0},{"$f":"Список!A1476","v":0}]
[{"$f":"Список!C1477","v":0},{"$f":"Список!A1477","v":0}]
[{"$f":"Список!C1478","v":0},{"$f":"Список!A1478","v":0}]
[{"$f":"Список!C1479","v":0},{"$f":"Список!A1479","v":0}]
[{"$f":"Список!C1480","v":0},{"$f":"Список!A1480","v":0}]
[{"$f":"Список!C1481","v":0},{"$f":"Список!A1481","v":0}]
[{"$f":"Список!C1482","v":0},{"$f":"Список!A1482","v":0}]
[{"$f":"Список!C1483","v":0},{"$f":"Список!A1483","v":0}]
[{"$f":"Список!C1484","v":0},{"$f":"Список!A1484","v":0}]
[{"$f":"Список!C1485","v":0},{"$f":"Список!A1485","v":0}]
[{"$f":"Список!C1486","v":0},{"$f":"Список!A1486","v":0}]
[{"$f":"Список!C1487","v":0},{"$f":"Список!A1487","v":0}]
[{"$f":"Список!C1488","v":0},{"$f":"Список!A1488","v":0}]
[{"$f":"Список!C1489","v":0},{"$f":"Список!A1489","v":0}]
[{"$f":"Список!C1490","v":0},{"$f":"Список!A1490","v":0}]
[{"$f":"Список!C1491","v":0},{"$f":"Список!A1491","v":0}]
[{"$f":"Список!C1492","v":0},{"$f":"Список!A1492","v":0}]
[{"$f":"Список!C1493","v":0},{"$f":"Список!A1493","v":0}]
[{"$f":"Список!C1494","v":0},{"$f":"Список!A1494","v":0}]
[{"$f":"Список!C1495","v":0},{"$f":"Список!A1495","v":0}]
[{"$f":"Список!C1496","v":0},{"$f":"Список!A1496","v":0}]
[{"$f":"Список!C1497","v":0},{"$f":"Список!A1497","v":0}]
[{"$f":"Список!C1498","v":0},{"$f":"Список!A1498","v":0}]
[{"$f":"Список!C1499","v":0},{"$f":"Список!A1499","v":0}]
[{"$f":"Список!C1500","v":0},{"$f":"Список!A1500","v":0}]
[{"$f":"Список!C1501","v":0},{"$f":"Список!A1501","v":0}]
[{"$f":"Список!C1502","v":0},{"$f":"Список!A1502","v":0}]
[{"$f":"Список!C1503","v":0},{"$f":"Список!A1503","v":0}]
[{"$f":"Список!C1504","v":0},{"$f":"Список!A1504","v":0}]
[{"$f":"Список!C1505","v":0},{"$f":"Список!A1505","v":0}]
[{"$f":"Список!C1506","v":0},{"$f":"Список!A1506","v":0}]
[{"$f":"Список!C1507","v":0},{"$f":"Список!A1507","v":0}]
[{"$f":"Список!C1508","v":0},{"$f":"Список!A1508","v":0}]
[{"$f":"Список!C1509","v":0},{"$f":"Список!A1509","v":0}]
[{"$f":"Список!C1510","v":0},{"$f":"Список!A1510","v":0}]
[{"$f":"Список!C1511","v":0},{"$f":"Список!A1511","v":0}]
[{"$f":"Список!C1512","v":0},{"$f":"Список!A1512","v":0}]
[{"$f":"Список!C1513","v":0},{"$f":"Список!A1513","v":0}]
[{"$f":"Список!C1514","v":0},{"$f":"Список!A1514","v":0}]
[{"$f":"Список!C1515","v":0},{"$f":"Список!A1515","v":0}]
[{"$f":"Список!C1516","v":0},{"$f":"Список!A1516","v":0}]
[{"$f":"Список!C1517","v":0},{"$f":"Список!A1517","v":0}]
[{"$f":"Список!C1518","v":0},{"$f":"Список!A1518","v":0}]
[{"$f":"Список!C1519","v":0},{"$f":"Список!A1519","v":0}]
[{"$f":"Список!C1520","v":0},{"$f":"Список!A1520","v":0}]
[{"$f":"Список!C1521","v":0},{"$f":"Список!A1521","v":0}]
[{"$f":"Список!C1522","v":0},{"$f":"Список!A1522","v":0}]
[{"$f":"Список!C1523","v":0},{"$f":"Список!A1523","v":0}]
[{"$f":"Список!C1524","v":0},{"$f":"Список!A1524","v":0}]
[{"$f":"Список!C1525","v":0},{"$f":"Список!A1525","v":0}]
[{"$f":"Список!C1526","v":0},{"$f":"Список!A1526","v":0}]
[{"$f":"Список!C1527","v":0},{"$f":"Список!A1527","v":0}]
[{"$f":"Список!C1528","v":0},{"$f":"Список!A1528","v":0}]
[{"$f":"Список!C1529","v":0},{"$f":"Список!A1529","v":0}]
[{"$f":"Список!C1530","v":0},{"$f":"Список!A1530","v":0}]
[{"$f":"Список!C1531","v":0},{"$f":"Список!A1531","v":0}]
[{"$f":"Список!C1532","v":0},{"$f":"Список!A1532","v":0}]
[{"$f":"Список!C1533","v":0},{"$f":"Список!A1533","v":0}]
[{"$f":"Список!C1534","v":0},{"$f":"Список!A1534","v":0}]
[{"$f":"Список!C1535","v":0},{"$f":"Список!A1535","v":0}]
[{"$f":"Список!C1536","v":0},{"$f":"Список!A1536","v":0}]
[{"$f":"Список!C1537","v":0},{"$f":"Список!A1537","v":0}]
[{"$f":"Список!C1538","v":0},{"$f":"Список!A1538","v":0}]
[{"$f":"Список!C1539","v":0},{"$f":"Список!A1539","v":0}]
[{"$f":"Список!C1540","v":0},{"$f":"Список!A1540","v":0}]
[{"$f":"Список!C1541","v":0},{"$f":"Список!A1541","v":0}]
[{"$f":"Список!C1542","v":0},{"$f":"Список!A1542","v":0}]
[{"$f":"Список!C1543","v":0},{"$f":"Список!A1543","v":0}]
[{"$f":"Список!C1544","v":0},{"$f":"Список!A1544","v":0}]
[{"$f":"Список!C1545","v":0},{"$f":"Список!A1545","v":0}]
[{"$f":"Список!C1546","v":0},{"$f":"Список!A1546","v":0}]
[{"$f":"Список!C1547","v":0},{"$f":"Список!A1547","v":0}]
[{"$f":"Список!C1548","v":0},{"$f":"Список!A1548","v":0}]
[{"$f":"Список!C1549","v":0},{"$f":"Список!A1549","v":0}]
[{"$f":"Список!C1550","v":0},{"$f":"Список!A1550","v":0}]
[{"$f":"Список!C1551","v":0},{"$f":"Список!A1551","v":0}]
[{"$f":"Список!C1552","v":0},{"$f":"Список!A1552","v":0}]
[{"$f":"Список!C1553","v":0},{"$f":"Список!A1553","v":0}]
[{"$f":"Список!C1554","v":0},{"$f":"Список!A1554","v":0}]
[{"$f":"Список!C1555","v":0},{"$f":"Список!A1555","v":0}]
[{"$f":"Список!C1556","v":0},{"$f":"Список!A1556","v":0}]
[{"$f":"Список!C1557","v":0},{"$f":"Список!A1557","v":0}]
[{"$f":"Список!C1558","v":0},{"$f":"Список!A1558","v":0}]
[{"$f":"Список!C1559","v":0},{"$f":"Список!A1559","v":0}]
[{"$f":"Список!C1560","v":0},{"$f":"Список!A1560","v":0}]
[{"$f":"Список!C1561","v":0},{"$f":"Список!A1561","v":0}]
[{"$f":"Список!C1562","v":0},{"$f":"Список!A1562","v":0}]
[{"$f":"Список!C1563","v":0},{"$f":"Список!A1563","v":0}]
[{"$f":"Список!C1564","v":0},{"$f":"Список!A1564","v":0}]
[{"$f":"Список!C1565","v":0},{"$f":"Список!A1565","v":0}]
[{"$f":"Список!C1566","v":0},{"$f":"Список!A1566","v":0}]
[{"$f":"Список!C1567","v":0},{"$f":"Список!A1567","v":0}]
[{"$f":"Список!C1568","v":0},{"$f":"Список!A1568","v":0}]
[{"$f":"Список!C1569","v":0},{"$f":"Список!A1569","v":0}]
[{"$f":"Список!C1570","v":0},{"$f":"Список!A1570","v":0}]
[{"$f":"Список!C1571","v":0},{"$f":"Список!A1571","v":0}]
[{"$f":"Список!C1572","v":0},{"$f":"Список!A1572","v":0}]
[{"$f":"Список!C1573","v":0},{"$f":"Список!A1573","v":0}]
[{"$f":"Список!C1574","v":0},{"$f":"Список!A1574","v":0}]
[{"$f":"Список!C1575","v":0},{"$f":"Список!A1575","v":0}]
[{"$f":"Список!C1576","v":0},{"$f":"Список!A1576","v":0}]
[{"$f":"Список!C1577","v":0},{"$f":"Список!A1577","v":0}]
[{"$f":"Список!C1578","v":0},{"$f":"Список!A1578","v":0}]
[{"$f":"Список!C1579","v":0},{"$f":"Список!A1579","v":0}]
[{"$f":"Список!C1580","v":0},{"$f":"Список!A1580","v":0}]
[{"$f":"Список!C1581","v":0},{"$f":"Список!A1581","v":0}]
[{"$f":"Список!C1582","v":0},{"$f":"Список!A1582","v":0}]
[{"$f":"Список!C1583","v":0},{"$f":"Список!A1583","v":0}]
[{"$f":"Список!C1584","v":0},{"$f":"Список!A1584","v":0}]
[{"$f":"Список!C1585","v":0},{"$f":"Список!A1585","v":0}]
[{"$f":"Список!C1586","v":0},{"$f":"Список!A1586","v":0}]
[{"$f":"Список!C1587","v":0},{"$f":"Список!A1587","v":0}]
[{"$f":"Список!C1588","v":0},{"$f":"Список!A1588","v":0}]
[{"$f":"Список!C1589","v":0},{"$f":"Список!A1589","v":0}]
[{"$f":"Список!C1590","v":0},{"$f":"Список!A1590","v":0}]
[{"$f":"Список!C1591","v":0},{"$f":"Список!A1591","v":0}]
[{"$f":"Список!C1592","v":0},{"$f":"Список!A1592","v":0}]
[{"$f":"Список!C1593","v":0},{"$f":"Список!A1593","v":0}]
[{"$f":"Список!C1594","v":0},{"$f":"Список!A1594","v":0}]
[{"$f":"Список!C1595","v":0},{"$f":"Список!A1595","v":0}]
[{"$f":"Список!C1596","v":0},{"$f":"Список!A1596","v":0}]
[{"$f":"Список!C1597","v":0},{"$f":"Список!A1597","v":0}]
[{"$f":"Список!C1598","v":0},{"$f":"Список!A1598","v":0}]
[{"$f":"Список!C1599","v":0},{"$f":"Список!A1599","v":0}]
[{"$f":"Список!C1600","v":0},{"$f":"Список!A1600","v":0}]
[{"$f":"Список!C1601","v":0},{"$f":"Список!A1601","v":0}]
[{"$f":"Список!C1602","v":0},{"$f":"Список!A1602","v":0}]
[{"$f":"Список!C1603","v":0},{"$f":"Список!A1603","v":0}]
[{"$f":"Список!C1604","v":0},{"$f":"Список!A1604","v":0}]
[{"$f":"Список!C1605","v":0},{"$f":"Список!A1605","v":0}]
[{"$f":"Список!C1606","v":0},{"$f":"Список!A1606","v":0}]
[{"$f":"Список!C1607","v":0},{"$f":"Список!A1607","v":0}]
[{"$f":"Список!C1608","v":0},{"$f":"Список!A1608","v":0}]
[{"$f":"Список!C1609","v":0},{"$f":"Список!A1609","v":0}]
[{"$f":"Список!C1610","v":0},{"$f":"Список!A1610","v":0}]
[{"$f":"Список!C1611","v":0},{"$f":"Список!A1611","v":0}]
[{"$f":"Список!C1612","v":0},{"$f":"Список!A1612","v":0}]
[{"$f":"Список!C1613","v":0},{"$f":"Список!A1613","v":0}]
[{"$f":"Список!C1614","v":0},{"$f":"Список!A1614","v":0}]
[{"$f":"Список!C1615","v":0},{"$f":"Список!A1615","v":0}]
[{"$f":"Список!C1616","v":0},{"$f":"Список!A1616","v":0}]
[{"$f":"Список!C1617","v":0},{"$f":"Список!A1617","v":0}]
[{"$f":"Список!C1618","v":0},{"$f":"Список!A1618","v":0}]
[{"$f":"Список!C1619","v":0},{"$f":"Список!A1619","v":0}]
[{"$f":"Список!C1620","v":0},{"$f":"Список!A1620","v":0}]
[{"$f":"Список!C1621","v":0},{"$f":"Список!A1621","v":0}]
[{"$f":"Список!C1622","v":0},{"$f":"Список!A1622","v":0}]
[{"$f":"Список!C1623","v":0},{"$f":"Список!A1623","v":0}]
[{"$f":"Список!C1624","v":0},{"$f":"Список!A1624","v":0}]
[{"$f":"Список!C1625","v":0},{"$f":"Список!A1625","v":0}]
[{"$f":"Список!C1626","v":0},{"$f":"Список!A1626","v":0}]
[{"$f":"Список!C1627","v":0},{"$f":"Список!A1627","v":0}]
[{"$f":"Список!C1628","v":0},{"$f":"Список!A1628","v":0}]
[{"$f":"Список!C1629","v":0},{"$f":"Список!A1629","v":0}]
[{"$f":"Список!C1630","v":0},{"$f":"Список!A1630","v":0}]
[{"$f":"Список!C1631","v":0},{"$f":"Список!A1631","v":0}]
[{"$f":"Список!C1632","v":0},{"$f":"Список!A1632","v":0}]
[{"$f":"Список!C1633","v":0},{"$f":"Список!A1633","v":0}]
[{"$f":"Список!C1634","v":0},{"$f":"Список!A1634","v":0}]
[{"$f":"Список!C1635","v":0},{"$f":"Список!A1635","v":0}]
[{"$f":"Список!C1636","v":0},{"$f":"Список!A1636","v":0}]
[{"$f":"Список!C1637","v":0},{"$f":"Список!A1637","v":0}]
[{"$f":"Список!C1638","v":0},{"$f":"Список!A1638","v":0}]
[{"$f":"Список!C1639","v":0},{"$f":"Список!A1639","v":0}]
[{"$f":"Список!C1640","v":0},{"$f":"Список!A1640","v":0}]
[{"$f":"Список!C1641","v":0},{"$f":"Список!A1641","v":0}]
[{"$f":"Список!C1642","v":0},{"$f":"Список!A1642","v":0}]
[{"$f":"Список!C1643","v":0},{"$f":"Список!A1643","v":0}]
[{"$f":"Список!C1644","v":0},{"$f":"Список!A1644","v":0}]
[{"$f":"Список!C1645","v":0},{"$f":"Список!A1645","v":0}]
[{"$f":"Список!C1646","v":0},{"$f":"Список!A1646","v":0}]
[{"$f":"Список!C1647","v":0},{"$f":"Список!A1647","v":0}]
[{"$f":"Список!C1648","v":0},{"$f":"Список!A1648","v":0}]
[{"$f":"Список!C1649","v":0},{"$f":"Список!A1649","v":0}]
[{"$f":"Список!C1650","v":0},{"$f":"Список!A1650","v":0}]
[{"$f":"Список!C1651","v":0},{"$f":"Список!A1651","v":0}]
[{"$f":"Список!C1652","v":0},{"$f":"Список!A1652","v":0}]
[{"$f":"Список!C1653","v":0},{"$f":"Список!A1653","v":0}]
[{"$f":"Список!C1654","v":0},{"$f":"Список!A1654","v":0}]
[{"$f":"Список!C1655","v":0},{"$f":"Список!A1655","v":0}]
[{"$f":"Список!C1656","v":0},{"$f":"Список!A1656","v":0}]
[{"$f":"Список!C1657","v":0},{"$f":"Список!A1657","v":0}]
[{"$f":"Список!C1658","v":0},{"$f":"Список!A1658","v":0}]
[{"$f":"Список!C1659","v":0},{"$f":"Список!A1659","v":0}]
[{"$f":"Список!C1660","v":0},{"$f":"Список!A1660","v":0}]
[{"$f":"Список!C1661","v":0},{"$f":"Список!A1661","v":0}]
[{"$f":"Список!C1662","v":0},{"$f":"Список!A1662","v":0}]
[{"$f":"Список!C1663","v":0},{"$f":"Список!A1663","v":0}]
[{"$f":"Список!C1664","v":0},{"$f":"Список!A1664","v":0}]
[{"$f":"Список!C1665","v":0},{"$f":"Список!A1665","v":0}]
[{"$f":"Список!C1666","v":0},{"$f":"Список!A1666","v":0}]
[{"$f":"Список!C1667","v":0},{"$f":"Список!A1667","v":0}]
[{"$f":"Список!C1668","v":0},{"$f":"Список!A1668","v":0}]
[{"$f":"Список!C1669","v":0},{"$f":"Список!A1669","v":0}]
[{"$f":"Список!C1670","v":0},{"$f":"Список!A1670","v":0}]
[{"$f":"Список!C1671","v":0},{"$f":"Список!A1671","v":0}]
[{"$f":"Список!C1672","v":0},{"$f":"Список!A1672","v":0}]
[{"$f":"Список!C1673","v":0},{"$f":"Список!A1673","v":0}]
[{"$f":"Список!C1674","v":0},{"$f":"Список!A1674","v":0}]
[{"$f":"Список!C1675","v":0},{"$f":"Список!A1675","v":0}]
[{"$f":"Список!C1676","v":0},{"$f":"Список!A1676","v":0}]
[{"$f":"Список!C1677","v":0},{"$f":"Список!A1677","v":0}]
[{"$f":"Список!C1678","v":0},{"$f":"Список!A1678","v":0}]
[{"$f":"Список!C1679","v":0},{"$f":"Список!A1679","v":0}]
[{"$f":"Список!C1680","v":0},{"$f":"Список!A1680","v":0}]
[{"$f":"Список!C1681","v":0},{"$f":"Список!A1681","v":0}]
[{"$f":"Список!C1682","v":0},{"$f":"Список!A1682","v":0}]
[{"$f":"Список!C1683","v":0},{"$f":"Список!A1683","v":0}]
[{"$f":"Список!C1684","v":0},{"$f":"Список!A1684","v":0}]
[{"$f":"Список!C1685","v":0},{"$f":"Список!A1685","v":0}]
[{"$f":"Список!C1686","v":0},{"$f":"Список!A1686","v":0}]
[{"$f":"Список!C1687","v":0},{"$f":"Список!A1687","v":0}]
[{"$f":"Список!C1688","v":0},{"$f":"Список!A1688","v":0}]
[{"$f":"Список!C1689","v":0},{"$f":"Список!A1689","v":0}]
[{"$f":"Список!C1690","v":0},{"$f":"Список!A1690","v":0}]
[{"$f":"Список!C1691","v":0},{"$f":"Список!A1691","v":0}]
[{"$f":"Список!C1692","v":0},{"$f":"Список!A1692","v":0}]
[{"$f":"Список!C1693","v":0},{"$f":"Список!A1693","v":0}]
[{"$f":"Список!C1694","v":0},{"$f":"Список!A1694","v":0}]
[{"$f":"Список!C1695","v":0},{"$f":"Список!A1695","v":0}]
[{"$f":"Список!C1696","v":0},{"$f":"Список!A1696","v":0}]
[{"$f":"Список!C1697","v":0},{"$f":"Список!A1697","v":0}]
[{"$f":"Список!C1698","v":0},{"$f":"Список!A1698","v":0}]
[{"$f":"Список!C1699","v":0},{"$f":"Список!A1699","v":0}]
[{"$f":"Список!C1700","v":0},{"$f":"Список!A1700","v":0}]
[{"$f":"Список!C1701","v":0},{"$f":"Список!A1701","v":0}]
[{"$f":"Список!C1702","v":0},{"$f":"Список!A1702","v":0}]
[{"$f":"Список!C1703","v":0},{"$f":"Список!A1703","v":0}]
[{"$f":"Список!C1704","v":0},{"$f":"Список!A1704","v":0}]
[{"$f":"Список!C1705","v":0},{"$f":"Список!A1705","v":0}]
[{"$f":"Список!C1706","v":0},{"$f":"Список!A1706","v":0}]
[{"$f":"Список!C1707","v":0},{"$f":"Список!A1707","v":0}]
[{"$f":"Список!C1708","v":0},{"$f":"Список!A1708","v":0}]
[{"$f":"Список!C1709","v":0},{"$f":"Список!A1709","v":0}]
[{"$f":"Список!C1710","v":0},{"$f":"Список!A1710","v":0}]
[{"$f":"Список!C1711","v":0},{"$f":"Список!A1711","v":0}]
[{"$f":"Список!C1712","v":0},{"$f":"Список!A1712","v":0}]
[{"$f":"Список!C1713","v":0},{"$f":"Список!A1713","v":0}]
[{"$f":"Список!C1714","v":0},{"$f":"Список!A1714","v":0}]
[{"$f":"Список!C1715","v":0},{"$f":"Список!A1715","v":0}]
[{"$f":"Список!C1716","v":0},{"$f":"Список!A1716","v":0}]
[{"$f":"Список!C1717","v":0},{"$f":"Список!A1717","v":0}]
[{"$f":"Список!C1718","v":0},{"$f":"Список!A1718","v":0}]
[{"$f":"Список!C1719","v":0},{"$f":"Список!A1719","v":0}]
[{"$f":"Список!C1720","v":0},{"$f":"Список!A1720","v":0}]
[{"$f":"Список!C1721","v":0},{"$f":"Список!A1721","v":0}]
[{"$f":"Список!C1722","v":0},{"$f":"Список!A1722","v":0}]
[{"$f":"Список!C1723","v":0},{"$f":"Список!A1723","v":0}]
[{"$f":"Список!C1724","v":0},{"$f":"Список!A1724","v":0}]
[{"$f":"Список!C1725","v":0},{"$f":"Список!A1725","v":0}]
[{"$f":"Список!C1726","v":0},{"$f":"Список!A1726","v":0}]
[{"$f":"Список!C1727","v":0},{"$f":"Список!A1727","v":0}]
[{"$f":"Список!C1728","v":0},{"$f":"Список!A1728","v":0}]
[{"$f":"Список!C1729","v":0},{"$f":"Список!A1729","v":0}]
[{"$f":"Список!C1730","v":0},{"$f":"Список!A1730","v":0}]
[{"$f":"Список!C1731","v":0},{"$f":"Список!A1731","v":0}]
[{"$f":"Список!C1732","v":0},{"$f":"Список!A1732","v":0}]
[{"$f":"Список!C1733","v":0},{"$f":"Список!A1733","v":0}]
[{"$f":"Список!C1734","v":0},{"$f":"Список!A1734","v":0}]
[{"$f":"Список!C1735","v":0},{"$f":"Список!A1735","v":0}]
[{"$f":"Список!C1736","v":0},{"$f":"Список!A1736","v":0}]
[{"$f":"Список!C1737","v":0},{"$f":"Список!A1737","v":0}]
[{"$f":"Список!C1738","v":0},{"$f":"Список!A1738","v":0}]
[{"$f":"Список!C1739","v":0},{"$f":"Список!A1739","v":0}]
[{"$f":"Список!C1740","v":0},{"$f":"Список!A1740","v":0}]
[{"$f":"Список!C1741","v":0},{"$f":"Список!A1741","v":0}]
[{"$f":"Список!C1742","v":0},{"$f":"Список!A1742","v":0}]
[{"$f":"Список!C1743","v":0},{"$f":"Список!A1743","v":0}]
[{"$f":"Список!C1744","v":0},{"$f":"Список!A1744","v":0}]
[{"$f":"Список!C1745","v":0},{"$f":"Список!A1745","v":0}]
[{"$f":"Список!C1746","v":0},{"$f":"Список!A1746","v":0}]
[{"$f":"Список!C1747","v":0},{"$f":"Список!A1747","v":0}]
[{"$f":"Список!C1748","v":0},{"$f":"Список!A1748","v":0}]
[{"$f":"Список!C1749","v":0},{"$f":"Список!A1749","v":0}]
[{"$f":"Список!C1750","v":0},{"$f":"Список!A1750","v":0}]
[{"$f":"Список!C1751","v":0},{"$f":"Список!A1751","v":0}]
[{"$f":"Список!C1752","v":0},{"$f":"Список!A1752","v":0}]
[{"$f":"Список!C1753","v":0},{"$f":"Список!A1753","v":0}]
[{"$f":"Список!C1754","v":0},{"$f":"Список!A1754","v":0}]
[{"$f":"Список!C1755","v":0},{"$f":"Список!A1755","v":0}]
[{"$f":"Список!C1756","v":0},{"$f":"Список!A1756","v":0}]
[{"$f":"Список!C1757","v":0},{"$f":"Список!A1757","v":0}]
[{"$f":"Список!C1758","v":0},{"$f":"Список!A1758","v":0}]
[{"$f":"Список!C1759","v":0},{"$f":"Список!A1759","v":0}]
[{"$f":"Список!C1760","v":0},{"$f":"Список!A1760","v":0}]
[{"$f":"Список!C1761","v":0},{"$f":"Список!A1761","v":0}]
[{"$f":"Список!C1762","v":0},{"$f":"Список!A1762","v":0}]
[{"$f":"Список!C1763","v":0},{"$f":"Список!A1763","v":0}]
[{"$f":"Список!C1764","v":0},{"$f":"Список!A1764","v":0}]
[{"$f":"Список!C1765","v":0},{"$f":"Список!A1765","v":0}]
[{"$f":"Список!C1766","v":0},{"$f":"Список!A1766","v":0}]
[{"$f":"Список!C1767","v":0},{"$f":"Список!A1767","v":0}]
[{"$f":"Список!C1768","v":0},{"$f":"Список!A1768","v":0}]
[{"$f":"Список!C1769","v":0},{"$f":"Список!A1769","v":0}]
[{"$f":"Список!C1770","v":0},{"$f":"Список!A1770","v":0}]
[{"$f":"Список!C1771","v":0},{"$f":"Список!A1771","v":0}]
[{"$f":"Список!C1772","v":0},{"$f":"Список!A1772","v":0}]
[{"$f":"Список!C1773","v":0},{"$f":"Список!A1773","v":0}]
[{"$f":"Список!C1774","v":0},{"$f":"Список!A1774","v":0}]
[{"$f":"Список!C1775","v":0},{"$f":"Список!A1775","v":0}]
[{"$f":"Список!C1776","v":0},{"$f":"Список!A1776","v":0}]
[{"$f":"Список!C1777","v":0},{"$f":"Список!A1777","v":0}]
[{"$f":"Список!C1778","v":0},{"$f":"Список!A1778","v":0}]
[{"$f":"Список!C1779","v":0},{"$f":"Список!A1779","v":0}]
[{"$f":"Список!C1780","v":0},{"$f":"Список!A1780","v":0}]
[{"$f":"Список!C1781","v":0},{"$f":"Список!A1781","v":0}]
[{"$f":"Список!C1782","v":0},{"$f":"Список!A1782","v":0}]
[{"$f":"Список!C1783","v":0},{"$f":"Список!A1783","v":0}]
[{"$f":"Список!C1784","v":0},{"$f":"Список!A1784","v":0}]
[{"$f":"Список!C1785","v":0},{"$f":"Список!A1785","v":0}]
[{"$f":"Список!C1786","v":0},{"$f":"Список!A1786","v":0}]
[{"$f":"Список!C1787","v":0},{"$f":"Список!A1787","v":0}]
[{"$f":"Список!C1788","v":0},{"$f":"Список!A1788","v":0}]
[{"$f":"Список!C1789","v":0},{"$f":"Список!A1789","v":0}]
[{"$f":"Список!C1790","v":0},{"$f":"Список!A1790","v":0}]
[{"$f":"Список!C1791","v":0},{"$f":"Список!A1791","v":0}]
[{"$f":"Список!C1792","v":0},{"$f":"Список!A1792","v":0}]
[{"$f":"Список!C1793","v":0},{"$f":"Список!A1793","v":0}]
[{"$f":"Список!C1794","v":0},{"$f":"Список!A1794","v":0}]
[{"$f":"Список!C1795","v":0},{"$f":"Список!A1795","v":0}]
[{"$f":"Список!C1796","v":0},{"$f":"Список!A1796","v":0}]
[{"$f":"Список!C1797","v":0},{"$f":"Список!A1797","v":0}]
[{"$f":"Список!C1798","v":0},{"$f":"Список!A1798","v":0}]
[{"$f":"Список!C1799","v":0},{"$f":"Список!A1799","v":0}]
[{"$f":"Список!C1800","v":0},{"$f":"Список!A1800","v":0}]
[{"$f":"Список!C1801","v":0},{"$f":"Список!A1801","v":0}]
[{"$f":"Список!C1802","v":0},{"$f":"Список!A1802","v":0}]
[{"$f":"Список!C1803","v":0},{"$f":"Список!A1803","v":0}]
[{"$f":"Список!C1804","v":0},{"$f":"Список!A1804","v":0}]
[{"$f":"Список!C1805","v":0},{"$f":"Список!A1805","v":0}]
[{"$f":"Список!C1806","v":0},{"$f":"Список!A1806","v":0}]
[{"$f":"Список!C1807","v":0},{"$f":"Список!A1807","v":0}]
[{"$f":"Список!C1808","v":0},{"$f":"Список!A1808","v":0}]
[{"$f":"Список!C1809","v":0},{"$f":"Список!A1809","v":0}]
[{"$f":"Список!C1810","v":0},{"$f":"Список!A1810","v":0}]
[{"$f":"Список!C1811","v":0},{"$f":"Список!A1811","v":0}]
[{"$f":"Список!C1812","v":0},{"$f":"Список!A1812","v":0}]
[{"$f":"Список!C1813","v":0},{"$f":"Список!A1813","v":0}]
[{"$f":"Список!C1814","v":0},{"$f":"Список!A1814","v":0}]
[{"$f":"Список!C1815","v":0},{"$f":"Список!A1815","v":0}]
[{"$f":"Список!C1816","v":0},{"$f":"Список!A1816","v":0}]
[{"$f":"Список!C1817","v":0},{"$f":"Список!A1817","v":0}]
[{"$f":"Список!C1818","v":0},{"$f":"Список!A1818","v":0}]
[{"$f":"Список!C1819","v":0},{"$f":"Список!A1819","v":0}]
[{"$f":"Список!C1820","v":0},{"$f":"Список!A1820","v":0}]
[{"$f":"Список!C1821","v":0},{"$f":"Список!A1821","v":0}]
[{"$f":"Список!C1822","v":0},{"$f":"Список!A1822","v":0}]
[{"$f":"Список!C1823","v":0},{"$f":"Список!A1823","v":0}]
[{"$f":"Список!C1824","v":0},{"$f":"Список!A1824","v":0}]
[{"$f":"Список!C1825","v":0},{"$f":"Список!A1825","v":0}]
[{"$f":"Список!C1826","v":0},{"$f":"Список!A1826","v":0}]
[{"$f":"Список!C1827","v":0},{"$f":"Список!A1827","v":0}]
[{"$f":"Список!C1828","v":0},{"$f":"Список!A1828","v":0}]
[{"$f":"Список!C1829","v":0},{"$f":"Список!A1829","v":0}]
[{"$f":"Список!C1830","v":0},{"$f":"Список!A1830","v":0}]
[{"$f":"Список!C1831","v":0},{"$f":"Список!A1831","v":0}]
[{"$f":"Список!C1832","v":0},{"$f":"Список!A1832","v":0}]
[{"$f":"Список!C1833","v":0},{"$f":"Список!A1833","v":0}]
[{"$f":"Список!C1834","v":0},{"$f":"Список!A1834","v":0}]
[{"$f":"Список!C1835","v":0},{"$f":"Список!A1835","v":0}]
[{"$f":"Список!C1836","v":0},{"$f":"Список!A1836","v":0}]
[{"$f":"Список!C1837","v":0},{"$f":"Список!A1837","v":0}]
[{"$f":"Список!C1838","v":0},{"$f":"Список!A1838","v":0}]
[{"$f":"Список!C1839","v":0},{"$f":"Список!A1839","v":0}]
[{"$f":"Список!C1840","v":0},{"$f":"Список!A1840","v":0}]
[{"$f":"Список!C1841","v":0},{"$f":"Список!A1841","v":0}]
[{"$f":"Список!C1842","v":0},{"$f":"Список!A1842","v":0}]
[{"$f":"Список!C1843","v":0},{"$f":"Список!A1843","v":0}]
[{"$f":"Список!C1844","v":0},{"$f":"Список!A1844","v":0}]
[{"$f":"Список!C1845","v":0},{"$f":"Список!A1845","v":0}]
[{"$f":"Список!C1846","v":0},{"$f":"Список!A1846","v":0}]
[{"$f":"Список!C1847","v":0},{"$f":"Список!A1847","v":0}]
[{"$f":"Список!C1848","v":0},{"$f":"Список!A1848","v":0}]
[{"$f":"Список!C1849","v":0},{"$f":"Список!A1849","v":0}]
[{"$f":"Список!C1850","v":0},{"$f":"Список!A1850","v":0}]
[{"$f":"Список!C1851","v":0},{"$f":"Список!A1851","v":0}]
[{"$f":"Список!C1852","v":0},{"$f":"Список!A1852","v":0}]
[{"$f":"Список!C1853","v":0},{"$f":"Список!A1853","v":0}]
[{"$f":"Список!C1854","v":0},{"$f":"Список!A1854","v":0}]
[{"$f":"Список!C1855","v":0},{"$f":"Список!A1855","v":0}]
[{"$f":"Список!C1856","v":0},{"$f":"Список!A1856","v":0}]
[{"$f":"Список!C1857","v":0},{"$f":"Список!A1857","v":0}]
[{"$f":"Список!C1858","v":0},{"$f":"Список!A1858","v":0}]
[{"$f":"Список!C1859","v":0},{"$f":"Список!A1859","v":0}]
[{"$f":"Список!C1860","v":0},{"$f":"Список!A1860","v":0}]
[{"$f":"Список!C1861","v":0},{"$f":"Список!A1861","v":0}]
[{"$f":"Список!C1862","v":0},{"$f":"Список!A1862","v":0}]
[{"$f":"Список!C1863","v":0},{"$f":"Список!A1863","v":0}]
[{"$f":"Список!C1864","v":0},{"$f":"Список!A1864","v":0}]
[{"$f":"Список!C1865","v":0},{"$f":"Список!A1865","v":0}]
[{"$f":"Список!C1866","v":0},{"$f":"Список!A1866","v":0}]
[{"$f":"Список!C1867","v":0},{"$f":"Список!A1867","v":0}]
[{"$f":"Список!C1868","v":0},{"$f":"Список!A1868","v":0}]
[{"$f":"Список!C1869","v":0},{"$f":"Список!A1869","v":0}]
[{"$f":"Список!C1870","v":0},{"$f":"Список!A1870","v":0}]
[{"$f":"Список!C1871","v":0},{"$f":"Список!A1871","v":0}]
[{"$f":"Список!C1872","v":0},{"$f":"Список!A1872","v":0}]
[{"$f":"Список!C1873","v":0},{"$f":"Список!A1873","v":0}]
[{"$f":"Список!C1874","v":0},{"$f":"Список!A1874","v":0}]
[{"$f":"Список!C1875","v":0},{"$f":"Список!A1875","v":0}]
[{"$f":"Список!C1876","v":0},{"$f":"Список!A1876","v":0}]
[{"$f":"Список!C1877","v":0},{"$f":"Список!A1877","v":0}]
[{"$f":"Список!C1878","v":0},{"$f":"Список!A1878","v":0}]
[{"$f":"Список!C1879","v":0},{"$f":"Список!A1879","v":0}]
[{"$f":"Список!C1880","v":0},{"$f":"Список!A1880","v":0}]
[{"$f":"Список!C1881","v":0},{"$f":"Список!A1881","v":0}]
[{"$f":"Список!C1882","v":0},{"$f":"Список!A1882","v":0}]
[{"$f":"Список!C1883","v":0},{"$f":"Список!A1883","v":0}]
[{"$f":"Список!C1884","v":0},{"$f":"Список!A1884","v":0}]
[{"$f":"Список!C1885","v":0},{"$f":"Список!A1885","v":0}]
[{"$f":"Список!C1886","v":0},{"$f":"Список!A1886","v":0}]
[{"$f":"Список!C1887","v":0},{"$f":"Список!A1887","v":0}]
[{"$f":"Список!C1888","v":0},{"$f":"Список!A1888","v":0}]
[{"$f":"Список!C1889","v":0},{"$f":"Список!A1889","v":0}]
[{"$f":"Список!C1890","v":0},{"$f":"Список!A1890","v":0}]
[{"$f":"Список!C1891","v":0},{"$f":"Список!A1891","v":0}]
[{"$f":"Список!C1892","v":0},{"$f":"Список!A1892","v":0}]
[{"$f":"Список!C1893","v":0},{"$f":"Список!A1893","v":0}]
[{"$f":"Список!C1894","v":0},{"$f":"Список!A1894","v":0}]
[{"$f":"Список!C1895","v":0},{"$f":"Список!A1895","v":0}]
[{"$f":"Список!C1896","v":0},{"$f":"Список!A1896","v":0}]
[{"$f":"Список!C1897","v":0},{"$f":"Список!A1897","v":0}]
[{"$f":"Список!C1898","v":0},{"$f":"Список!A1898","v":0}]
[{"$f":"Список!C1899","v":0},{"$f":"Список!A1899","v":0}]
[{"$f":"Список!C1900","v":0},{"$f":"Список!A1900","v":0}]
[{"$f":"Список!C1901","v":0},{"$f":"Список!A1901","v":0}]
[{"$f":"Список!C1902","v":0},{"$f":"Список!A1902","v":0}]
[{"$f":"Список!C1903","v":0},{"$f":"Список!A1903","v":0}]
[{"$f":"Список!C1904","v":0},{"$f":"Список!A1904","v":0}]
[{"$f":"Список!C1905","v":0},{"$f":"Список!A1905","v":0}]
[{"$f":"Список!C1906","v":0},{"$f":"Список!A1906","v":0}]
[{"$f":"Список!C1907","v":0},{"$f":"Список!A1907","v":0}]
[{"$f":"Список!C1908","v":0},{"$f":"Список!A1908","v":0}]
[{"$f":"Список!C1909","v":0},{"$f":"Список!A1909","v":0}]
[{"$f":"Список!C1910","v":0},{"$f":"Список!A1910","v":0}]
[{"$f":"Список!C1911","v":0},{"$f":"Список!A1911","v":0}]
[{"$f":"Список!C1912","v":0},{"$f":"Список!A1912","v":0}]
[{"$f":"Список!C1913","v":0},{"$f":"Список!A1913","v":0}]
[{"$f":"Список!C1914","v":0},{"$f":"Список!A1914","v":0}]
[{"$f":"Список!C1915","v":0},{"$f":"Список!A1915","v":0}]
[{"$f":"Список!C1916","v":0},{"$f":"Список!A1916","v":0}]
[{"$f":"Список!C1917","v":0},{"$f":"Список!A1917","v":0}]
[{"$f":"Список!C1918","v":0},{"$f":"Список!A1918","v":0}]
[{"$f":"Список!C1919","v":0},{"$f":"Список!A1919","v":0}]
[{"$f":"Список!C1920","v":0},{"$f":"Список!A1920","v":0}]
[{"$f":"Список!C1921","v":0},{"$f":"Список!A1921","v":0}]
[{"$f":"Список!C1922","v":0},{"$f":"Список!A1922","v":0}]
[{"$f":"Список!C1923","v":0},{"$f":"Список!A1923","v":0}]
[{"$f":"Список!C1924","v":0},{"$f":"Список!A1924","v":0}]
[{"$f":"Список!C1925","v":0},{"$f":"Список!A1925","v":0}]
[{"$f":"Список!C1926","v":0},{"$f":"Список!A1926","v":0}]
[{"$f":"Список!C1927","v":0},{"$f":"Список!A1927","v":0}]
[{"$f":"Список!C1928","v":0},{"$f":"Список!A1928","v":0}]
[{"$f":"Список!C1929","v":0},{"$f":"Список!A1929","v":0}]
[{"$f":"Список!C1930","v":0},{"$f":"Список!A1930","v":0}]
[{"$f":"Список!C1931","v":0},{"$f":"Список!A1931","v":0}]
[{"$f":"Список!C1932","v":0},{"$f":"Список!A1932","v":0}]
[{"$f":"Список!C1933","v":0},{"$f":"Список!A1933","v":0}]
[{"$f":"Список!C1934","v":0},{"$f":"Список!A1934","v":0}]
[{"$f":"Список!C1935","v":0},{"$f":"Список!A1935","v":0}]
[{"$f":"Список!C1936","v":0},{"$f":"Список!A1936","v":0}]
[{"$f":"Список!C1937","v":0},{"$f":"Список!A1937","v":0}]
[{"$f":"Список!C1938","v":0},{"$f":"Список!A1938","v":0}]
[{"$f":"Список!C1939","v":0},{"$f":"Список!A1939","v":0}]
[{"$f":"Список!C1940","v":0},{"$f":"Список!A1940","v":0}]
[{"$f":"Список!C1941","v":0},{"$f":"Список!A1941","v":0}]
[{"$f":"Список!C1942","v":0},{"$f":"Список!A1942","v":0}]
[{"$f":"Список!C1943","v":0},{"$f":"Список!A1943","v":0}]
[{"$f":"Список!C1944","v":0},{"$f":"Список!A1944","v":0}]
[{"$f":"Список!C1945","v":0},{"$f":"Список!A1945","v":0}]
[{"$f":"Список!C1946","v":0},{"$f":"Список!A1946","v":0}]
[{"$f":"Список!C1947","v":0},{"$f":"Список!A1947","v":0}]
[{"$f":"Список!C1948","v":0},{"$f":"Список!A1948","v":0}]
[{"$f":"Список!C1949","v":0},{"$f":"Список!A1949","v":0}]
[{"$f":"Список!C1950","v":0},{"$f":"Список!A1950","v":0}]
[{"$f":"Список!C1951","v":0},{"$f":"Список!A1951","v":0}]
[{"$f":"Список!C1952","v":0},{"$f":"Список!A1952","v":0}]
[{"$f":"Список!C1953","v":0},{"$f":"Список!A1953","v":0}]
[{"$f":"Список!C1954","v":0},{"$f":"Список!A1954","v":0}]
[{"$f":"Список!C1955","v":0},{"$f":"Список!A1955","v":0}]
[{"$f":"Список!C1956","v":0},{"$f":"Список!A1956","v":0}]
[{"$f":"Список!C1957","v":0},{"$f":"Список!A1957","v":0}]
[{"$f":"Список!C1958","v":0},{"$f":"Список!A1958","v":0}]
[{"$f":"Список!C1959","v":0},{"$f":"Список!A1959","v":0}]
[{"$f":"Список!C1960","v":0},{"$f":"Список!A1960","v":0}]
[{"$f":"Список!C1961","v":0},{"$f":"Список!A1961","v":0}]
[{"$f":"Список!C1962","v":0},{"$f":"Список!A1962","v":0}]
[{"$f":"Список!C1963","v":0},{"$f":"Список!A1963","v":0}]
[{"$f":"Список!C1964","v":0},{"$f":"Список!A1964","v":0}]
[{"$f":"Список!C1965","v":0},{"$f":"Список!A1965","v":0}]
[{"$f":"Список!C1966","v":0},{"$f":"Список!A1966","v":0}]
[{"$f":"Список!C1967","v":0},{"$f":"Список!A1967","v":0}]
[{"$f":"Список!C1968","v":0},{"$f":"Список!A1968","v":0}]
[{"$f":"Список!C1969","v":0},{"$f":"Список!A1969","v":0}]
[{"$f":"Список!C1970","v":0},{"$f":"Список!A1970","v":0}]
[{"$f":"Список!C1971","v":0},{"$f":"Список!A1971","v":0}]
[{"$f":"Список!C1972","v":0},{"$f":"Список!A1972","v":0}]
[{"$f":"Список!C1973","v":0},{"$f":"Список!A1973","v":0}]
[{"$f":"Список!C1974","v":0},{"$f":"Список!A1974","v":0}]
[{"$f":"Список!C1975","v":0},{"$f":"Список!A1975","v":0}]
[{"$f":"Список!C1976","v":0},{"$f":"Список!A1976","v":0}]
[{"$f":"Список!C1977","v":0},{"$f":"Список!A1977","v":0}]
[{"$f":"Список!C1978","v":0},{"$f":"Список!A1978","v":0}]
[{"$f":"Список!C1979","v":0},{"$f":"Список!A1979","v":0}]
[{"$f":"Список!C1980","v":0},{"$f":"Список!A1980","v":0}]
[{"$f":"Список!C1981","v":0},{"$f":"Список!A1981","v":0}]
[{"$f":"Список!C1982","v":0},{"$f":"Список!A1982","v":0}]
[{"$f":"Список!C1983","v":0},{"$f":"Список!A1983","v":0}]
[{"$f":"Список!C1984","v":0},{"$f":"Список!A1984","v":0}]
[{"$f":"Список!C1985","v":0},{"$f":"Список!A1985","v":0}]
[{"$f":"Список!C1986","v":0},{"$f":"Список!A1986","v":0}]
[{"$f":"Список!C1987","v":0},{"$f":"Список!A1987","v":0}]
[{"$f":"Список!C1988","v":0},{"$f":"Список!A1988","v":0}]
[{"$f":"Список!C1989","v":0},{"$f":"Список!A1989","v":0}]
[{"$f":"Список!C1990","v":0},{"$f":"Список!A1990","v":0}]
[{"$f":"Список!C1991","v":0},{"$f":"Список!A1991","v":0}]
[{"$f":"Список!C1992","v":0},{"$f":"Список!A1992","v":0}]
[{"$f":"Список!C1993","v":0},{"$f":"Список!A1993","v":0}]
[{"$f":"Список!C1994","v":0},{"$f":"Список!A1994","v":0}]
[{"$f":"Список!C1995","v":0},{"$f":"Список!A1995","v":0}]
[{"$f":"Список!C1996","v":0},{"$f":"Список!A1996","v":0}]
[{"$f":"Список!C1997","v":0},{"$f":"Список!A1997","v":0}]
[{"$f":"Список!C1998","v":0},{"$f":"Список!A1998","v":0}]
[{"$f":"Список!C1999","v":0},{"$f":"Список!A1999","v":0}]
[{"$f":"Список!C2000","v":0},{"$f":"Список!A2000","v":0}]
[{"$f":"Список!C2001","v":0},{"$f":"Список!A2001","v":0}]
[{"$f":"Список!C2002","v":0},{"$f":"Список!A2002","v":0}]
[{"$f":"Список!C2003","v":0},{"$f":"Список!A2003","v":0}]
[{"$f":"Список!C2004","v":0},{"$f":"Список!A2004","v":0}]
[{"$f":"Список!C2005","v":0},{"$f":"Список!A2005","v":0}]
[{"$f":"Список!C2006","v":0},{"$f":"Список!A2006","v":0}]
[{"$f":"Список!C2007","v":0},{"$f":"Список!A2007","v":0}]
[{"$f":"Список!C2008","v":0},{"$f":"Список!A2008","v":0}]
[{"$f":"Список!C2009","v":0},{"$f":"Список!A2009","v":0}]
[{"$f":"Список!C2010","v":0},{"$f":"Список!A2010","v":0}]
[{"$f":"Список!C2011","v":0},{"$f":"Список!A2011","v":0}]
[{"$f":"Список!C2012","v":0},{"$f":"Список!A2012","v":0}]
[{"$f":"Список!C2013","v":0},{"$f":"Список!A2013","v":0}]
[{"$f":"Список!C2014","v":0},{"$f":"Список!A2014","v":0}]
[{"$f":"Список!C2015","v":0},{"$f":"Список!A2015","v":0}]
[{"$f":"Список!C2016","v":0},{"$f":"Список!A2016","v":0}]
[{"$f":"Список!C2017","v":0},{"$f":"Список!A2017","v":0}]
[{"$f":"Список!C2018","v":0},{"$f":"Список!A2018","v":0}]
[{"$f":"Список!C2019","v":0},{"$f":"Список!A2019","v":0}]
[{"$f":"Список!C2020","v":0},{"$f":"Список!A2020","v":0}]
[{"$f":"Список!C2021","v":0},{"$f":"Список!A2021","v":0}]
[{"$f":"Список!C2022","v":0},{"$f":"Список!A2022","v":0}]
[{"$f":"Список!C2023","v":0},{"$f":"Список!A2023","v":0}]
[{"$f":"Список!C2024","v":0},{"$f":"Список!A2024","v":0}]
[{"$f":"Список!C2025","v":0},{"$f":"Список!A2025","v":0}]
[{"$f":"Список!C2026","v":0},{"$f":"Список!A2026","v":0}]
[{"$f":"Список!C2027","v":0},{"$f":"Список!A2027","v":0}]
[{"$f":"Список!C2028","v":0},{"$f":"Список!A2028","v":0}]
[{"$f":"Список!C2029","v":0},{"$f":"Список!A2029","v":0}]
[{"$f":"Список!C2030","v":0},{"$f":"Список!A2030","v":0}]
[{"$f":"Список!C2031","v":0},{"$f":"Список!A2031","v":0}]
[{"$f":"Список!C2032","v":0},{"$f":"Список!A2032","v":0}]
[{"$f":"Список!C2033","v":0},{"$f":"Список!A2033","v":0}]
[{"$f":"Список!C2034","v":0},{"$f":"Список!A2034","v":0}]
[{"$f":"Список!C2035","v":0},{"$f":"Список!A2035","v":0}]
[{"$f":"Список!C2036","v":0},{"$f":"Список!A2036","v":0}]
[{"$f":"Список!C2037","v":0},{"$f":"Список!A2037","v":0}]
[{"$f":"Список!C2038","v":0},{"$f":"Список!A2038","v":0}]
[{"$f":"Список!C2039","v":0},{"$f":"Список!A2039","v":0}]
[{"$f":"Список!C2040","v":0},{"$f":"Список!A2040","v":0}]
[{"$f":"Список!C2041","v":0},{"$f":"Список!A2041","v":0}]
[{"$f":"Список!C2042","v":0},{"$f":"Список!A2042","v":0}]
[{"$f":"Список!C2043","v":0},{"$f":"Список!A2043","v":0}]
[{"$f":"Список!C2044","v":0},{"$f":"Список!A2044","v":0}]
[{"$f":"Список!C2045","v":0},{"$f":"Список!A2045","v":0}]
[{"$f":"Список!C2046","v":0},{"$f":"Список!A2046","v":0}]
[{"$f":"Список!C2047","v":0},{"$f":"Список!A2047","v":0}]
[{"$f":"Список!C2048","v":0},{"$f":"Список!A2048","v":0}]
[{"$f":"Список!C2049","v":0},{"$f":"Список!A2049","v":0}]
[{"$f":"Список!C2050","v":0},{"$f":"Список!A2050","v":0}]
[{"$f":"Список!C2051","v":0},{"$f":"Список!A2051","v":0}]
[{"$f":"Список!C2052","v":0},{"$f":"Список!A2052","v":0}]
[{"$f":"Список!C2053","v":0},{"$f":"Список!A2053","v":0}]
[{"$f":"Список!C2054","v":0},{"$f":"Список!A2054","v":0}]
[{"$f":"Список!C2055","v":0},{"$f":"Список!A2055","v":0}]
[{"$f":"Список!C2056","v":0},{"$f":"Список!A2056","v":0}]
[{"$f":"Список!C2057","v":0},{"$f":"Список!A2057","v":0}]
[{"$f":"Список!C2058","v":0},{"$f":"Список!A2058","v":0}]
[{"$f":"Список!C2059","v":0},{"$f":"Список!A2059","v":0}]
[{"$f":"Список!C2060","v":0},{"$f":"Список!A2060","v":0}]
[{"$f":"Список!C2061","v":0},{"$f":"Список!A2061","v":0}]
[{"$f":"Список!C2062","v":0},{"$f":"Список!A2062","v":0}]
[{"$f":"Список!C2063","v":0},{"$f":"Список!A2063","v":0}]
[{"$f":"Список!C2064","v":0},{"$f":"Список!A2064","v":0}]
[{"$f":"Список!C2065","v":0},{"$f":"Список!A2065","v":0}]
[{"$f":"Список!C2066","v":0},{"$f":"Список!A2066","v":0}]
[{"$f":"Список!C2067","v":0},{"$f":"Список!A2067","v":0}]
[{"$f":"Список!C2068","v":0},{"$f":"Список!A2068","v":0}]
[{"$f":"Список!C2069","v":0},{"$f":"Список!A2069","v":0}]
[{"$f":"Список!C2070","v":0},{"$f":"Список!A2070","v":0}]
[{"$f":"Список!C2071","v":0},{"$f":"Список!A2071","v":0}]
[{"$f":"Список!C2072","v":0},{"$f":"Список!A2072","v":0}]
[{"$f":"Список!C2073","v":0},{"$f":"Список!A2073","v":0}]
[{"$f":"Список!C2074","v":0},{"$f":"Список!A2074","v":0}]
[{"$f":"Список!C2075","v":0},{"$f":"Список!A2075","v":0}]
[{"$f":"Список!C2076","v":0},{"$f":"Список!A2076","v":0}]
[{"$f":"Список!C2077","v":0},{"$f":"Список!A2077","v":0}]
[{"$f":"Список!C2078","v":0},{"$f":"Список!A2078","v":0}]
[{"$f":"Список!C2079","v":0},{"$f":"Список!A2079","v":0}]
[{"$f":"Список!C2080","v":0},{"$f":"Список!A2080","v":0}]
[{"$f":"Список!C2081","v":0},{"$f":"Список!A2081","v":0}]
[{"$f":"Список!C2082","v":0},{"$f":"Список!A2082","v":0}]
[{"$f":"Список!C2083","v":0},{"$f":"Список!A2083","v":0}]
[{"$f":"Список!C2084","v":0},{"$f":"Список!A2084","v":0}]
[{"$f":"Список!C2085","v":0},{"$f":"Список!A2085","v":0}]
[{"$f":"Список!C2086","v":0},{"$f":"Список!A2086","v":0}]
[{"$f":"Список!C2087","v":0},{"$f":"Список!A2087","v":0}]
[{"$f":"Список!C2088","v":0},{"$f":"Список!A2088","v":0}]
[{"$f":"Список!C2089","v":0},{"$f":"Список!A2089","v":0}]
[{"$f":"Список!C2090","v":0},{"$f":"Список!A2090","v":0}]
[{"$f":"Список!C2091","v":0},{"$f":"Список!A2091","v":0}]
[{"$f":"Список!C2092","v":0},{"$f":"Список!A2092","v":0}]
[{"$f":"Список!C2093","v":0},{"$f":"Список!A2093","v":0}]
[{"$f":"Список!C2094","v":0},{"$f":"Список!A2094","v":0}]
[{"$f":"Список!C2095","v":0},{"$f":"Список!A2095","v":0}]
[{"$f":"Список!C2096","v":0},{"$f":"Список!A2096","v":0}]
[{"$f":"Список!C2097","v":0},{"$f":"Список!A2097","v":0}]
[{"$f":"Список!C2098","v":0},{"$f":"Список!A2098","v":0}]
[{"$f":"Список!C2099","v":0},{"$f":"Список!A2099","v":0}]
[{"$f":"Список!C2100","v":0},{"$f":"Список!A2100","v":0}]
[{"$f":"Список!C2101","v":0},{"$f":"Список!A2101","v":0}]
[{"$f":"Список!C2102","v":0},{"$f":"Список!A2102","v":0}]
[{"$f":"Список!C2103","v":0},{"$f":"Список!A2103","v":0}]
[{"$f":"Список!C2104","v":0},{"$f":"Список!A2104","v":0}]
[{"$f":"Список!C2105","v":0},{"$f":"Список!A2105","v":0}]
[{"$f":"Список!C2106","v":0},{"$f":"Список!A2106","v":0}]
[{"$f":"Список!C2107","v":0},{"$f":"Список!A2107","v":0}]
[{"$f":"Список!C2108","v":0},{"$f":"Список!A2108","v":0}]
[{"$f":"Список!C2109","v":0},{"$f":"Список!A2109","v":0}]
[{"$f":"Список!C2110","v":0},{"$f":"Список!A2110","v":0}]
[{"$f":"Список!C2111","v":0},{"$f":"Список!A2111","v":0}]
[{"$f":"Список!C2112","v":0},{"$f":"Список!A2112","v":0}]
[{"$f":"Список!C2113","v":0},{"$f":"Список!A2113","v":0}]
[{"$f":"Список!C2114","v":0},{"$f":"Список!A2114","v":0}]
[{"$f":"Список!C2115","v":0},{"$f":"Список!A2115","v":0}]
[{"$f":"Список!C2116","v":0},{"$f":"Список!A2116","v":0}]
[{"$f":"Список!C2117","v":0},{"$f":"Список!A2117","v":0}]
[{"$f":"Список!C2118","v":0},{"$f":"Список!A2118","v":0}]
[{"$f":"Список!C2119","v":0},{"$f":"Список!A2119","v":0}]
[{"$f":"Список!C2120","v":0},{"$f":"Список!A2120","v":0}]
[{"$f":"Список!C2121","v":0},{"$f":"Список!A2121","v":0}]
[{"$f":"Список!C2122","v":0},{"$f":"Список!A2122","v":0}]
[{"$f":"Список!C2123","v":0},{"$f":"Список!A2123","v":0}]
[{"$f":"Список!C2124","v":0},{"$f":"Список!A2124","v":0}]
[{"$f":"Список!C2125","v":0},{"$f":"Список!A2125","v":0}]
[{"$f":"Список!C2126","v":0},{"$f":"Список!A2126","v":0}]
[{"$f":"Список!C2127","v":0},{"$f":"Список!A2127","v":0}]
[{"$f":"Список!C2128","v":0},{"$f":"Список!A2128","v":0}]
[{"$f":"Список!C2129","v":0},{"$f":"Список!A2129","v":0}]
[{"$f":"Список!C2130","v":0},{"$f":"Список!A2130","v":0}]
[{"$f":"Список!C2131","v":0},{"$f":"Список!A2131","v":0}]
[{"$f":"Список!C2132","v":0},{"$f":"Список!A2132","v":0}]
[{"$f":"Список!C2133","v":0},{"$f":"Список!A2133","v":0}]
[{"$f":"Список!C2134","v":0},{"$f":"Список!A2134","v":0}]
[{"$f":"Список!C2135","v":0},{"$f":"Список!A2135","v":0}]
[{"$f":"Список!C2136","v":0},{"$f":"Список!A2136","v":0}]
[{"$f":"Список!C2137","v":0},{"$f":"Список!A2137","v":0}]
[{"$f":"Список!C2138","v":0},{"$f":"Список!A2138","v":0}]
[{"$f":"Список!C2139","v":0},{"$f":"Список!A2139","v":0}]
[{"$f":"Список!C2140","v":0},{"$f":"Список!A2140","v":0}]
[{"$f":"Список!C2141","v":0},{"$f":"Список!A2141","v":0}]
[{"$f":"Список!C2142","v":0},{"$f":"Список!A2142","v":0}]
[{"$f":"Список!C2143","v":0},{"$f":"Список!A2143","v":0}]
[{"$f":"Список!C2144","v":0},{"$f":"Список!A2144","v":0}]
[{"$f":"Список!C2145","v":0},{"$f":"Список!A2145","v":0}]
[{"$f":"Список!C2146","v":0},{"$f":"Список!A2146","v":0}]
[{"$f":"Список!C2147","v":0},{"$f":"Список!A2147","v":0}]
[{"$f":"Список!C2148","v":0},{"$f":"Список!A2148","v":0}]
[{"$f":"Список!C2149","v":0},{"$f":"Список!A2149","v":0}]
[{"$f":"Список!C2150","v":0},{"$f":"Список!A2150","v":0}]
[{"$f":"Список!C2151","v":0},{"$f":"Список!A2151","v":0}]
[{"$f":"Список!C2152","v":0},{"$f":"Список!A2152","v":0}]
[{"$f":"Список!C2153","v":0},{"$f":"Список!A2153","v":0}]
[{"$f":"Список!C2154","v":0},{"$f":"Список!A2154","v":0}]
[{"$f":"Список!C2155","v":0},{"$f":"Список!A2155","v":0}]
[{"$f":"Список!C2156","v":0},{"$f":"Список!A2156","v":0}]
[{"$f":"Список!C2157","v":0},{"$f":"Список!A2157","v":0}]
[{"$f":"Список!C2158","v":0},{"$f":"Список!A2158","v":0}]
[{"$f":"Список!C2159","v":0},{"$f":"Список!A2159","v":0}]
[{"$f":"Список!C2160","v":0},{"$f":"Список!A2160","v":0}]
[{"$f":"Список!C2161","v":0},{"$f":"Список!A2161","v":0}]
[{"$f":"Список!C2162","v":0},{"$f":"Список!A2162","v":0}]
[{"$f":"Список!C2163","v":0},{"$f":"Список!A2163","v":0}]
[{"$f":"Список!C2164","v":0},{"$f":"Список!A2164","v":0}]
[{"$f":"Список!C2165","v":0},{"$f":"Список!A2165","v":0}]
[{"$f":"Список!C2166","v":0},{"$f":"Список!A2166","v":0}]
[{"$f":"Список!C2167","v":0},{"$f":"Список!A2167","v":0}]
[{"$f":"Список!C2168","v":0},{"$f":"Список!A2168","v":0}]
[{"$f":"Список!C2169","v":0},{"$f":"Список!A2169","v":0}]
[{"$f":"Список!C2170","v":0},{"$f":"Список!A2170","v":0}]
[{"$f":"Список!C2171","v":0},{"$f":"Список!A2171","v":0}]
[{"$f":"Список!C2172","v":0},{"$f":"Список!A2172","v":0}]
[{"$f":"Список!C2173","v":0},{"$f":"Список!A2173","v":0}]
[{"$f":"Список!C2174","v":0},{"$f":"Список!A2174","v":0}]
[{"$f":"Список!C2175","v":0},{"$f":"Список!A2175","v":0}]
[{"$f":"Список!C2176","v":0},{"$f":"Список!A2176","v":0}]
[{"$f":"Список!C2177","v":0},{"$f":"Список!A2177","v":0}]
[{"$f":"Список!C2178","v":0},{"$f":"Список!A2178","v":0}]
[{"$f":"Список!C2179","v":0},{"$f":"Список!A2179","v":0}]
[{"$f":"Список!C2180","v":0},{"$f":"Список!A2180","v":0}]
[{"$f":"Список!C2181","v":0},{"$f":"Список!A2181","v":0}]
[{"$f":"Список!C2182","v":0},{"$f":"Список!A2182","v":0}]
[{"$f":"Список!C2183","v":0},{"$f":"Список!A2183","v":0}]
[{"$f":"Список!C2184","v":0},{"$f":"Список!A2184","v":0}]
[{"$f":"Список!C2185","v":0},{"$f":"Список!A2185","v":0}]
[{"$f":"Список!C2186","v":0},{"$f":"Список!A2186","v":0}]
[{"$f":"Список!C2187","v":0},{"$f":"Список!A2187","v":0}]
[{"$f":"Список!C2188","v":0},{"$f":"Список!A2188","v":0}]
[{"$f":"Список!C2189","v":0},{"$f":"Список!A2189","v":0}]
[{"$f":"Список!C2190","v":0},{"$f":"Список!A2190","v":0}]
[{"$f":"Список!C2191","v":0},{"$f":"Список!A2191","v":0}]
[{"$f":"Список!C2192","v":0},{"$f":"Список!A2192","v":0}]
[{"$f":"Список!C2193","v":0},{"$f":"Список!A2193","v":0}]
[{"$f":"Список!C2194","v":0},{"$f":"Список!A2194","v":0}]
[{"$f":"Список!C2195","v":0},{"$f":"Список!A2195","v":0}]
[{"$f":"Список!C2196","v":0},{"$f":"Список!A2196","v":0}]
[{"$f":"Список!C2197","v":0},{"$f":"Список!A2197","v":0}]
[{"$f":"Список!C2198","v":0},{"$f":"Список!A2198","v":0}]
[{"$f":"Список!C2199","v":0},{"$f":"Список!A2199","v":0}]
[{"$f":"Список!C2200","v":0},{"$f":"Список!A2200","v":0}]
[{"$f":"Список!C2201","v":0},{"$f":"Список!A2201","v":0}]
[{"$f":"Список!C2202","v":0},{"$f":"Список!A2202","v":0}]
[{"$f":"Список!C2203","v":0},{"$f":"Список!A2203","v":0}]
[{"$f":"Список!C2204","v":0},{"$f":"Список!A2204","v":0}]
[{"$f":"Список!C2205","v":0},{"$f":"Список!A2205","v":0}]
[{"$f":"Список!C2206","v":0},{"$f":"Список!A2206","v":0}]
[{"$f":"Список!C2207","v":0},{"$f":"Список!A2207","v":0}]
[{"$f":"Список!C2208","v":0},{"$f":"Список!A2208","v":0}]
[{"$f":"Список!C2209","v":0},{"$f":"Список!A2209","v":0}]
[{"$f":"Список!C2210","v":0},{"$f":"Список!A2210","v":0}]
[{"$f":"Список!C2211","v":0},{"$f":"Список!A2211","v":0}]
[{"$f":"Список!C2212","v":0},{"$f":"Список!A2212","v":0}]
[{"$f":"Список!C2213","v":0},{"$f":"Список!A2213","v":0}]
[{"$f":"Список!C2214","v":0},{"$f":"Список!A2214","v":0}]
[{"$f":"Список!C2215","v":0},{"$f":"Список!A2215","v":0}]
[{"$f":"Список!C2216","v":0},{"$f":"Список!A2216","v":0}]
[{"$f":"Список!C2217","v":0},{"$f":"Список!A2217","v":0}]
[{"$f":"Список!C2218","v":0},{"$f":"Список!A2218","v":0}]
[{"$f":"Список!C2219","v":0},{"$f":"Список!A2219","v":0}]
[{"$f":"Список!C2220","v":0},{"$f":"Список!A2220","v":0}]
[{"$f":"Список!C2221","v":0},{"$f":"Список!A2221","v":0}]
[{"$f":"Список!C2222","v":0},{"$f":"Список!A2222","v":0}]
[{"$f":"Список!C2223","v":0},{"$f":"Список!A2223","v":0}]
[{"$f":"Список!C2224","v":0},{"$f":"Список!A2224","v":0}]
[{"$f":"Список!C2225","v":0},{"$f":"Список!A2225","v":0}]
[{"$f":"Список!C2226","v":0},{"$f":"Список!A2226","v":0}]
[{"$f":"Список!C2227","v":0},{"$f":"Список!A2227","v":0}]
[{"$f":"Список!C2228","v":0},{"$f":"Список!A2228","v":0}]
[{"$f":"Список!C2229","v":0},{"$f":"Список!A2229","v":0}]
[{"$f":"Список!C2230","v":0},{"$f":"Список!A2230","v":0}]
[{"$f":"Список!C2231","v":0},{"$f":"Список!A2231","v":0}]
[{"$f":"Список!C2232","v":0},{"$f":"Список!A2232","v":0}]
[{"$f":"Список!C2233","v":0},{"$f":"Список!A2233","v":0}]
[{"$f":"Список!C2234","v":0},{"$f":"Список!A2234","v":0}]
[{"$f":"Список!C2235","v":0},{"$f":"Список!A2235","v":0}]
[{"$f":"Список!C2236","v":0},{"$f":"Список!A2236","v":0}]
[{"$f":"Список!C2237","v":0},{"$f":"Список!A2237","v":0}]
[{"$f":"Список!C2238","v":0},{"$f":"Список!A2238","v":0}]
[{"$f":"Список!C2239","v":0},{"$f":"Список!A2239","v":0}]
[{"$f":"Список!C2240","v":0},{"$f":"Список!A2240","v":0}]
[{"$f":"Список!C2241","v":0},{"$f":"Список!A2241","v":0}]
[{"$f":"Список!C2242","v":0},{"$f":"Список!A2242","v":0}]
[{"$f":"Список!C2243","v":0},{"$f":"Список!A2243","v":0}]
[{"$f":"Список!C2244","v":0},{"$f":"Список!A2244","v":0}]
[{"$f":"Список!C2245","v":0},{"$f":"Список!A2245","v":0}]
[{"$f":"Список!C2246","v":0},{"$f":"Список!A2246","v":0}]
[{"$f":"Список!C2247","v":0},{"$f":"Список!A2247","v":0}]
[{"$f":"Список!C2248","v":0},{"$f":"Список!A2248","v":0}]
[{"$f":"Список!C2249","v":0},{"$f":"Список!A2249","v":0}]
[{"$f":"Список!C2250","v":0},{"$f":"Список!A2250","v":0}]
[{"$f":"Список!C2251","v":0},{"$f":"Список!A2251","v":0}]
[{"$f":"Список!C2252","v":0},{"$f":"Список!A2252","v":0}]
[{"$f":"Список!C2253","v":0},{"$f":"Список!A2253","v":0}]
[{"$f":"Список!C2254","v":0},{"$f":"Список!A2254","v":0}]
[{"$f":"Список!C2255","v":0},{"$f":"Список!A2255","v":0}]
[{"$f":"Список!C2256","v":0},{"$f":"Список!A2256","v":0}]
[{"$f":"Список!C2257","v":0},{"$f":"Список!A2257","v":0}]
[{"$f":"Список!C2258","v":0},{"$f":"Список!A2258","v":0}]
[{"$f":"Список!C2259","v":0},{"$f":"Список!A2259","v":0}]
[{"$f":"Список!C2260","v":0},{"$f":"Список!A2260","v":0}]
[{"$f":"Список!C2261","v":0},{"$f":"Список!A2261","v":0}]
[{"$f":"Список!C2262","v":0},{"$f":"Список!A2262","v":0}]
[{"$f":"Список!C2263","v":0},{"$f":"Список!A2263","v":0}]
[{"$f":"Список!C2264","v":0},{"$f":"Список!A2264","v":0}]
[{"$f":"Список!C2265","v":0},{"$f":"Список!A2265","v":0}]
[{"$f":"Список!C2266","v":0},{"$f":"Список!A2266","v":0}]
[{"$f":"Список!C2267","v":0},{"$f":"Список!A2267","v":0}]
[{"$f":"Список!C2268","v":0},{"$f":"Список!A2268","v":0}]
[{"$f":"Список!C2269","v":0},{"$f":"Список!A2269","v":0}]
[{"$f":"Список!C2270","v":0},{"$f":"Список!A2270","v":0}]
[{"$f":"Список!C2271","v":0},{"$f":"Список!A2271","v":0}]
[{"$f":"Список!C2272","v":0},{"$f":"Список!A2272","v":0}]
[{"$f":"Список!C2273","v":0},{"$f":"Список!A2273","v":0}]
[{"$f":"Список!C2274","v":0},{"$f":"Список!A2274","v":0}]
[{"$f":"Список!C2275","v":0},{"$f":"Список!A2275","v":0}]
[{"$f":"Список!C2276","v":0},{"$f":"Список!A2276","v":0}]
[{"$f":"Список!C2277","v":0},{"$f":"Список!A2277","v":0}]
[{"$f":"Список!C2278","v":0},{"$f":"Список!A2278","v":0}]
[{"$f":"Список!C2279","v":0},{"$f":"Список!A2279","v":0}]
[{"$f":"Список!C2280","v":0},{"$f":"Список!A2280","v":0}]
[{"$f":"Список!C2281","v":0},{"$f":"Список!A2281","v":0}]
[{"$f":"Список!C2282","v":0},{"$f":"Список!A2282","v":0}]
[{"$f":"Список!C2283","v":0},{"$f":"Список!A2283","v":0}]
[{"$f":"Список!C2284","v":0},{"$f":"Список!A2284","v":0}]
[{"$f":"Список!C2285","v":0},{"$f":"Список!A2285","v":0}]
[{"$f":"Список!C2286","v":0},{"$f":"Список!A2286","v":0}]
[{"$f":"Список!C2287","v":0},{"$f":"Список!A2287","v":0}]
[{"$f":"Список!C2288","v":0},{"$f":"Список!A2288","v":0}]
[{"$f":"Список!C2289","v":0},{"$f":"Список!A2289","v":0}]
[{"$f":"Список!C2290","v":0},{"$f":"Список!A2290","v":0}]
[{"$f":"Список!C2291","v":0},{"$f":"Список!A2291","v":0}]
[{"$f":"Список!C2292","v":0},{"$f":"Список!A2292","v":0}]
[{"$f":"Список!C2293","v":0},{"$f":"Список!A2293","v":0}]
[{"$f":"Список!C2294","v":0},{"$f":"Список!A2294","v":0}]
[{"$f":"Список!C2295","v":0},{"$f":"Список!A2295","v":0}]
[{"$f":"Список!C2296","v":0},{"$f":"Список!A2296","v":0}]
[{"$f":"Список!C2297","v":0},{"$f":"Список!A2297","v":0}]
[{"$f":"Список!C2298","v":0},{"$f":"Список!A2298","v":0}]
[{"$f":"Список!C2299","v":0},{"$f":"Список!A2299","v":0}]
[{"$f":"Список!C2300","v":0},{"$f":"Список!A2300","v":0}]
[{"$f":"Список!C2301","v":0},{"$f":"Список!A2301","v":0}]
[{"$f":"Список!C2302","v":0},{"$f":"Список!A2302","v":0}]
[{"$f":"Список!C2303","v":0},{"$f":"Список!A2303","v":0}]
[{"$f":"Список!C2304","v":0},{"$f":"Список!A2304","v":0}]
[{"$f":"Список!C2305","v":0},{"$f":"Список!A2305","v":0}]
[{"$f":"Список!C2306","v":0},{"$f":"Список!A2306","v":0}]
[{"$f":"Список!C2307","v":0},{"$f":"Список!A2307","v":0}]
[{"$f":"Список!C2308","v":0},{"$f":"Список!A2308","v":0}]
[{"$f":"Список!C2309","v":0},{"$f":"Список!A2309","v":0}]
[{"$f":"Список!C2310","v":0},{"$f":"Список!A2310","v":0}]
[{"$f":"Список!C2311","v":0},{"$f":"Список!A2311","v":0}]
[{"$f":"Список!C2312","v":0},{"$f":"Список!A2312","v":0}]
[{"$f":"Список!C2313","v":0},{"$f":"Список!A2313","v":0}]
[{"$f":"Список!C2314","v":0},{"$f":"Список!A2314","v":0}]
[{"$f":"Список!C2315","v":0},{"$f":"Список!A2315","v":0}]
[{"$f":"Список!C2316","v":0},{"$f":"Список!A2316","v":0}]
[{"$f":"Список!C2317","v":0},{"$f":"Список!A2317","v":0}]
[{"$f":"Список!C2318","v":0},{"$f":"Список!A2318","v":0}]
[{"$f":"Список!C2319","v":0},{"$f":"Список!A2319","v":0}]
[{"$f":"Список!C2320","v":0},{"$f":"Список!A2320","v":0}]
[{"$f":"Список!C2321","v":0},{"$f":"Список!A2321","v":0}]
[{"$f":"Список!C2322","v":0},{"$f":"Список!A2322","v":0}]
[{"$f":"Список!C2323","v":0},{"$f":"Список!A2323","v":0}]
[{"$f":"Список!C2324","v":0},{"$f":"Список!A2324","v":0}]
[{"$f":"Список!C2325","v":0},{"$f":"Список!A2325","v":0}]
[{"$f":"Список!C2326","v":0},{"$f":"Список!A2326","v":0}]
[{"$f":"Список!C2327","v":0},{"$f":"Список!A2327","v":0}]
[{"$f":"Список!C2328","v":0},{"$f":"Список!A2328","v":0}]
[{"$f":"Список!C2329","v":0},{"$f":"Список!A2329","v":0}]
[{"$f":"Список!C2330","v":0},{"$f":"Список!A2330","v":0}]
[{"$f":"Список!C2331","v":0},{"$f":"Список!A2331","v":0}]
[{"$f":"Список!C2332","v":0},{"$f":"Список!A2332","v":0}]
[{"$f":"Список!C2333","v":0},{"$f":"Список!A2333","v":0}]
[{"$f":"Список!C2334","v":0},{"$f":"Список!A2334","v":0}]
[{"$f":"Список!C2335","v":0},{"$f":"Список!A2335","v":0}]
[{"$f":"Список!C2336","v":0},{"$f":"Список!A2336","v":0}]
[{"$f":"Список!C2337","v":0},{"$f":"Список!A2337","v":0}]
[{"$f":"Список!C2338","v":0},{"$f":"Список!A2338","v":0}]
[{"$f":"Список!C2339","v":0},{"$f":"Список!A2339","v":0}]
[{"$f":"Список!C2340","v":0},{"$f":"Список!A2340","v":0}]
[{"$f":"Список!C2341","v":0},{"$f":"Список!A2341","v":0}]
[{"$f":"Список!C2342","v":0},{"$f":"Список!A2342","v":0}]
[{"$f":"Список!C2343","v":0},{"$f":"Список!A2343","v":0}]
[{"$f":"Список!C2344","v":0},{"$f":"Список!A2344","v":0}]
[{"$f":"Список!C2345","v":0},{"$f":"Список!A2345","v":0}]
[{"$f":"Список!C2346","v":0},{"$f":"Список!A2346","v":0}]
[{"$f":"Список!C2347","v":0},{"$f":"Список!A2347","v":0}]
[{"$f":"Список!C2348","v":0},{"$f":"Список!A2348","v":0}]
[{"$f":"Список!C2349","v":0},{"$f":"Список!A2349","v":0}]
[{"$f":"Список!C2350","v":0},{"$f":"Список!A2350","v":0}]
[{"$f":"Список!C2351","v":0},{"$f":"Список!A2351","v":0}]
[{"$f":"Список!C2352","v":0},{"$f":"Список!A2352","v":0}]
[{"$f":"Список!C2353","v":0},{"$f":"Список!A2353","v":0}]
[{"$f":"Список!C2354","v":0},{"$f":"Список!A2354","v":0}]
[{"$f":"Список!C2355","v":0},{"$f":"Список!A2355","v":0}]
[{"$f":"Список!C2356","v":0},{"$f":"Список!A2356","v":0}]
[{"$f":"Список!C2357","v":0},{"$f":"Список!A2357","v":0}]
[{"$f":"Список!C2358","v":0},{"$f":"Список!A2358","v":0}]
[{"$f":"Список!C2359","v":0},{"$f":"Список!A2359","v":0}]
[{"$f":"Список!C2360","v":0},{"$f":"Список!A2360","v":0}]
[{"$f":"Список!C2361","v":0},{"$f":"Список!A2361","v":0}]
[{"$f":"Список!C2362","v":0},{"$f":"Список!A2362","v":0}]
[{"$f":"Список!C2363","v":0},{"$f":"Список!A2363","v":0}]
[{"$f":"Список!C2364","v":0},{"$f":"Список!A2364","v":0}]
[{"$f":"Список!C2365","v":0},{"$f":"Список!A2365","v":0}]
[{"$f":"Список!C2366","v":0},{"$f":"Список!A2366","v":0}]
[{"$f":"Список!C2367","v":0},{"$f":"Список!A2367","v":0}]
[{"$f":"Список!C2368","v":0},{"$f":"Список!A2368","v":0}]
[{"$f":"Список!C2369","v":0},{"$f":"Список!A2369","v":0}]
[{"$f":"Список!C2370","v":0},{"$f":"Список!A2370","v":0}]
[{"$f":"Список!C2371","v":0},{"$f":"Список!A2371","v":0}]
[{"$f":"Список!C2372","v":0},{"$f":"Список!A2372","v":0}]
[{"$f":"Список!C2373","v":0},{"$f":"Список!A2373","v":0}]
[{"$f":"Список!C2374","v":0},{"$f":"Список!A2374","v":0}]
[{"$f":"Список!C2375","v":0},{"$f":"Список!A2375","v":0}]
[{"$f":"Список!C2376","v":0},{"$f":"Список!A2376","v":0}]
[{"$f":"Список!C2377","v":0},{"$f":"Список!A2377","v":0}]
[{"$f":"Список!C2378","v":0},{"$f":"Список!A2378","v":0}]
[{"$f":"Список!C2379","v":0},{"$f":"Список!A2379","v":0}]
[{"$f":"Список!C2380","v":0},{"$f":"Список!A2380","v":0}]
[{"$f":"Список!C2381","v":0},{"$f":"Список!A2381","v":0}]
[{"$f":"Список!C2382","v":0},{"$f":"Список!A2382","v":0}]
[{"$f":"Список!C2383","v":0},{"$f":"Список!A2383","v":0}]
[{"$f":"Список!C2384","v":0},{"$f":"Список!A2384","v":0}]
[{"$f":"Список!C2385","v":0},{"$f":"Список!A2385","v":0}]
[{"$f":"Список!C2386","v":0},{"$f":"Список!A2386","v":0}]
[{"$f":"Список!C2387","v":0},{"$f":"Список!A2387","v":0}]
[{"$f":"Список!C2388","v":0},{"$f":"Список!A2388","v":0}]
[{"$f":"Список!C2389","v":0},{"$f":"Список!A2389","v":0}]
[{"$f":"Список!C2390","v":0},{"$f":"Список!A2390","v":0}]
[{"$f":"Список!C2391","v":0},{"$f":"Список!A2391","v":0}]
[{"$f":"Список!C2392","v":0},{"$f":"Список!A2392","v":0}]
[{"$f":"Список!C2393","v":0},{"$f":"Список!A2393","v":0}]
[{"$f":"Список!C2394","v":0},{"$f":"Список!A2394","v":0}]
[{"$f":"Список!C2395","v":0},{"$f":"Список!A2395","v":0}]
[{"$f":"Список!C2396","v":0},{"$f":"Список!A2396","v":0}]
[{"$f":"Список!C2397","v":0},{"$f":"Список!A2397","v":0}]
[{"$f":"Список!C2398","v":0},{"$f":"Список!A2398","v":0}]
[{"$f":"Список!C2399","v":0},{"$f":"Список!A2399","v":0}]
[{"$f":"Список!C2400","v":0},{"$f":"Список!A2400","v":0}]
[{"$f":"Список!C2401","v":0},{"$f":"Список!A2401","v":0}]
[{"$f":"Список!C2402","v":0},{"$f":"Список!A2402","v":0}]
[{"$f":"Список!C2403","v":0},{"$f":"Список!A2403","v":0}]
[{"$f":"Список!C2404","v":0},{"$f":"Список!A2404","v":0}]
[{"$f":"Список!C2405","v":0},{"$f":"Список!A2405","v":0}]
[{"$f":"Список!C2406","v":0},{"$f":"Список!A2406","v":0}]
[{"$f":"Список!C2407","v":0},{"$f":"Список!A2407","v":0}]
[{"$f":"Список!C2408","v":0},{"$f":"Список!A2408","v":0}]
[{"$f":"Список!C2409","v":0},{"$f":"Список!A2409","v":0}]
[{"$f":"Список!C2410","v":0},{"$f":"Список!A2410","v":0}]
[{"$f":"Список!C2411","v":0},{"$f":"Список!A2411","v":0}]
[{"$f":"Список!C2412","v":0},{"$f":"Список!A2412","v":0}]
[{"$f":"Список!C2413","v":0},{"$f":"Список!A2413","v":0}]
[{"$f":"Список!C2414","v":0},{"$f":"Список!A2414","v":0}]
[{"$f":"Список!C2415","v":0},{"$f":"Список!A2415","v":0}]
[{"$f":"Список!C2416","v":0},{"$f":"Список!A2416","v":0}]
[{"$f":"Список!C2417","v":0},{"$f":"Список!A2417","v":0}]
[{"$f":"Список!C2418","v":0},{"$f":"Список!A2418","v":0}]
[{"$f":"Список!C2419","v":0},{"$f":"Список!A2419","v":0}]
[{"$f":"Список!C2420","v":0},{"$f":"Список!A2420","v":0}]
[{"$f":"Список!C2421","v":0},{"$f":"Список!A2421","v":0}]
[{"$f":"Список!C2422","v":0},{"$f":"Список!A2422","v":0}]
[{"$f":"Список!C2423","v":0},{"$f":"Список!A2423","v":0}]
[{"$f":"Список!C2424","v":0},{"$f":"Список!A2424","v":0}]
[{"$f":"Список!C2425","v":0},{"$f":"Список!A2425","v":0}]
[{"$f":"Список!C2426","v":0},{"$f":"Список!A2426","v":0}]
[{"$f":"Список!C2427","v":0},{"$f":"Список!A2427","v":0}]
[{"$f":"Список!C2428","v":0},{"$f":"Список!A2428","v":0}]
[{"$f":"Список!C2429","v":0},{"$f":"Список!A2429","v":0}]
[{"$f":"Список!C2430","v":0},{"$f":"Список!A2430","v":0}]
[{"$f":"Список!C2431","v":0},{"$f":"Список!A2431","v":0}]
[{"$f":"Список!C2432","v":0},{"$f":"Список!A2432","v":0}]
[{"$f":"Список!C2433","v":0},{"$f":"Список!A2433","v":0}]
[{"$f":"Список!C2434","v":0},{"$f":"Список!A2434","v":0}]
[{"$f":"Список!C2435","v":0},{"$f":"Список!A2435","v":0}]
[{"$f":"Список!C2436","v":0},{"$f":"Список!A2436","v":0}]
[{"$f":"Список!C2437","v":0},{"$f":"Список!A2437","v":0}]
[{"$f":"Список!C2438","v":0},{"$f":"Список!A2438","v":0}]
[{"$f":"Список!C2439","v":0},{"$f":"Список!A2439","v":0}]
[{"$f":"Список!C2440","v":0},{"$f":"Список!A2440","v":0}]
[{"$f":"Список!C2441","v":0},{"$f":"Список!A2441","v":0}]
[{"$f":"Список!C2442","v":0},{"$f":"Список!A2442","v":0}]
[{"$f":"Список!C2443","v":0},{"$f":"Список!A2443","v":0}]
[{"$f":"Список!C2444","v":0},{"$f":"Список!A2444","v":0}]
[{"$f":"Список!C2445","v":0},{"$f":"Список!A2445","v":0}]
[{"$f":"Список!C2446","v":0},{"$f":"Список!A2446","v":0}]
[{"$f":"Список!C2447","v":0},{"$f":"Список!A2447","v":0}]
[{"$f":"Список!C2448","v":0},{"$f":"Список!A2448","v":0}]
[{"$f":"Список!C2449","v":0},{"$f":"Список!A2449","v":0}]
[{"$f":"Список!C2450","v":0},{"$f":"Список!A2450","v":0}]
[{"$f":"Список!C2451","v":0},{"$f":"Список!A2451","v":0}]
[{"$f":"Список!C2452","v":0},{"$f":"Список!A2452","v":0}]
[{"$f":"Список!C2453","v":0},{"$f":"Список!A2453","v":0}]
[{"$f":"Список!C2454","v":0},{"$f":"Список!A2454","v":0}]
[{"$f":"Список!C2455","v":0},{"$f":"Список!A2455","v":0}]
[{"$f":"Список!C2456","v":0},{"$f":"Список!A2456","v":0}]
[{"$f":"Список!C2457","v":0},{"$f":"Список!A2457","v":0}]
[{"$f":"Список!C2458","v":0},{"$f":"Список!A2458","v":0}]
[{"$f":"Список!C2459","v":0},{"$f":"Список!A2459","v":0}]
[{"$f":"Список!C2460","v":0},{"$f":"Список!A2460","v":0}]
[{"$f":"Список!C2461","v":0},{"$f":"Список!A2461","v":0}]
[{"$f":"Список!C2462","v":0},{"$f":"Список!A2462","v":0}]
[{"$f":"Список!C2463","v":0},{"$f":"Список!A2463","v":0}]
[{"$f":"Список!C2464","v":0},{"$f":"Список!A2464","v":0}]
[{"$f":"Список!C2465","v":0},{"$f":"Список!A2465","v":0}]
[{"$f":"Список!C2466","v":0},{"$f":"Список!A2466","v":0}]
[{"$f":"Список!C2467","v":0},{"$f":"Список!A2467","v":0}]
[{"$f":"Список!C2468","v":0},{"$f":"Список!A2468","v":0}]
[{"$f":"Список!C2469","v":0},{"$f":"Список!A2469","v":0}]
[{"$f":"Список!C2470","v":0},{"$f":"Список!A2470","v":0}]
[{"$f":"Список!C2471","v":0},{"$f":"Список!A2471","v":0}]
[{"$f":"Список!C2472","v":0},{"$f":"Список!A2472","v":0}]
[{"$f":"Список!C2473","v":0},{"$f":"Список!A2473","v":0}]
[{"$f":"Список!C2474","v":0},{"$f":"Список!A2474","v":0}]
[{"$f":"Список!C2475","v":0},{"$f":"Список!A2475","v":0}]
[{"$f":"Список!C2476","v":0},{"$f":"Список!A2476","v":0}]
[{"$f":"Список!C2477","v":0},{"$f":"Список!A2477","v":0}]
[{"$f":"Список!C2478","v":0},{"$f":"Список!A2478","v":0}]
[{"$f":"Список!C2479","v":0},{"$f":"Список!A2479","v":0}]
[{"$f":"Список!C2480","v":0},{"$f":"Список!A2480","v":0}]
[{"$f":"Список!C2481","v":0},{"$f":"Список!A2481","v":0}]
[{"$f":"Список!C2482","v":0},{"$f":"Список!A2482","v":0}]
[{"$f":"Список!C2483","v":0},{"$f":"Список!A2483","v":0}]
[{"$f":"Список!C2484","v":0},{"$f":"Список!A2484","v":0}]
[{"$f":"Список!C2485","v":0},{"$f":"Список!A2485","v":0}]
[{"$f":"Список!C2486","v":0},{"$f":"Список!A2486","v":0}]
[{"$f":"Список!C2487","v":0},{"$f":"Список!A2487","v":0}]
[{"$f":"Список!C2488","v":0},{"$f":"Список!A2488","v":0}]
[{"$f":"Список!C2489","v":0},{"$f":"Список!A2489","v":0}]
[{"$f":"Список!C2490","v":0},{"$f":"Список!A2490","v":0}]
[{"$f":"Список!C2491","v":0},{"$f":"Список!A2491","v":0}]
[{"$f":"Список!C2492","v":0},{"$f":"Список!A2492","v":0}]
[{"$f":"Список!C2493","v":0},{"$f":"Список!A2493","v":0}]
[{"$f":"Список!C2494","v":0},{"$f":"Список!A2494","v":0}]
[{"$f":"Список!C2495","v":0},{"$f":"Список!A2495","v":0}]
[{"$f":"Список!C2496","v":0},{"$f":"Список!A2496","v":0}]
[{"$f":"Список!C2497","v":0},{"$f":"Список!A2497","v":0}]
[{"$f":"Список!C2498","v":0},{"$f":"Список!A2498","v":0}]
[{"$f":"Список!C2499","v":0},{"$f":"Список!A2499","v":0}]
[{"$f":"Список!C2500","v":0},{"$f":"Список!A2500","v":0}]
[{"$f":"Список!C2501","v":0},{"$f":"Список!A2501","v":0}]

{"sheet":"Старт","index":4,"n_rows":20,"n_cols":24,"rows_kept":20,"cut":false,"hidden":false,"merged":[]}
[]
[null,null,null,null,null,null,null,null,null,null,null,null,null,null,null,null,null,null,"GMT +0",3,{"$f":"TODAY()-7","v":"2021-04-11"},8,"flashscore.com (EN)",2]
[null,null,null,null,null,null,null,null,null,null,null,null,null,null,null,null,null,null,"GMT +1",null,{"$f":"TODAY()-6","v":"2021-04-12"},null,"soccerstand.com (EN)"]
[null,null,null,null,null,null,null,null,null,null,null,null,null,null,null,null,null,null,"GMT +2",null,{"$f":"TODAY()-5","v":"2021-04-13"},null,"soccerstand.com (RU)"]
[null,null,null,null,null,null,null,null,null,null,null,null,null,null,null,null,null,null,"GMT +3",null,{"$f":"TODAY()-4","v":"2021-04-14"},null,"myscore.ru (RU)"]
[null,null,null,null,null,null,null,null,null,null,null,null,null,null,null,null,null,null,"GMT +4",null,{"$f":"TODAY()-3","v":"2021-04-15"},null,"myscore.com.ua (RU)"]
[null,null,null,null,null,null,null,null,null,null,null,null,null,null,null,null,null,null,"GMT +5",null,{"$f":"TODAY() -2","v":"2021-04-16"}]
[null,null,null,null,null,null,null,null,null,null,null,null,null,null,null,null,null,null,"GMT +6",null,"Вчера"]
[null,null,null,null,null,null,null,null,null,null,null,null,null,null,null,null,null,null,"GMT +7",null,"Сегодня"]
[null,null,null,null,null,null,null,null,null,null,null,null,null,null,null,null,null,null,"GMT +8",null,"Завтра"]
[null,null,null,null,null,null,null,null,null,null,null,null,null,null,null,null,null,null,"GMT +9",null,{"$f":"TODAY()+2","v":"2021-04-20"}]
[null,null,null,null,null,null,null,null,null,null,null,null,null,null,null,null,null,null,"GMT +10",null,{"$f":"TODAY()+3","v":"2021-04-21"}]
[null,null,null,null,null,null,null,null,null,null,null,null,null,null,null,null,null,null,"GMT +11",null,{"$f":"TODAY()+4","v":"2021-04-22"}]
[null,null,null,null,null,null,null,null,null,null,null,null,null,null,null,null,null,null,"GMT +12",null,{"$f":"TODAY()+5","v":"2021-04-23"}]
[null,null,null,null,null,null,null,null,null,null,null,null,null,null,null,null,null,null,"GMT +13",null,{"$f":"TODAY()+6","v":"2021-04-24"}]
[null,null,null,null,null,null,null,null,null,null,null,null,null,null,null,null,null,null,null,null,{"$f":"TODAY()+7","v":"2021-04-25"}]
[]
[]
[null,null,null,null,null,null,null,null,null,null,null,null,null,null,null,null,null,null,null,null,null,7]
[null,null,null,null,null,null,null,null,null,null,null,null,null,null,null,null,null,null,null,null,null,8]

{"sheet":"Список","index":5,"n_rows":1269,"n_cols":25,"rows_kept":1269,"cut":false,"hidden":false,"merged":[]}
["Чемпионат","Дата/Время","Дома","Гости","Match_ID","Country_ID","home_ID","away_ID","Загрузить","К1","К2","П1 текущий","Х текущий","П2 текущий","П1 старт","Х старт","П2 старт","П1 прогруз","Х прогруз","П2 прогруз",null,null,null,null,"riOHlhkg"]
["ARGENTINA: Copa de la Liga Profesional","2021.04.17 23:00","Boca Juniors","Atl. Tucuman","t8eC7CNi",22,null,null,"Загрузить",3,1,1.55,3.8,5.25,1.6,3.75,4.75,{"$f":"IF(L2=\"\",\"\",L2-O2)","v":-5.0000000000000044E-2},4.9999999999999822E-2,0.5]
["DOMINICAN REPUBLIC: LDF","2021.04.17 23:00","Delfines Del Este","Atl. San Francisco","zDux6ner",66,null,null,"Загрузить",5,1,1.75,3.58,4.3600000000000003,2.33,3.26,2.9,-0.58000000000000007,0.32000000000000028,1.4600000000000004]
["GUATEMALA: Liga Nacional - Clausura","2021.04.17 23:00","Santa Lucia","Coban Imperial","WA7Telwk",85,null,null,"Загрузить",1,1,2.29,2.93,3.3,2.4700000000000002,3.1,2.87,-0.18000000000000016,-0.16999999999999993,0.42999999999999972]
["HAITI: Championnat National - Serie de Cloture","2021.04.17 23:00","Cosmopolites","Fica","WOYIyJdC",89,null,null,"Загрузить",2,0,2.78,2.74,2.76,2.7,2.8,2.7,7.9999999999999627E-2,-5.9999999999999609E-2,5.9999999999999609E-2]
["MEXICO: Liga Premier Serie A - Play Offs","2021.04.17 23:00","Cafetaleros de Chiapas 2","Alacranes de Durango","AsY0zNQM",128,null,null,"Загрузить",0,0]
["NICARAGUA: Liga Primera U20 - Clausura","2021.04.17 23:00","Managua FC U20","Juventus Managua U20","SEWZ7juH",141,null,null,"Загрузить",5,1,1.6,4,4,1.8,3.75,3.4]
["USA: USL League One","2021.04.17 23:00","New England II","Richmond Kickers","8tbxmuOl",200,null,null,"Загрузить",0,3,2.59,3.28,2.52,2.5,3.2,2.5]
["HONDURAS: Liga Nacional - Clausura - 1st Phase","2021.04.17 23:15","Real Sociedad","Marathon","2N127uVM",90,null,null,"Загрузить",1,1,2.75,3.45,2.41,3.9,3.82,1.79]
["MAURITANIA: Ligue 1","2021.04.17 23:15","Nouakchott King's","Madine Trarza","6kgsrixr",126,null,null,"Загрузить",0,0,2.23,3.22,3.22,2.4,3,2.75]
["ALGERIA: Ligue 2","2021.04.17 23:30","JSM Tiaret","Remchi","j3CAK4Sl",18,null,null,"Загрузить",1,3]
["BRAZIL: Campeonato Goiano","2021.04.17 23:30","Atletico GO","CRAC","EuzadQYl",39,null,null,"Загрузить",3,1,1.36,4.33,7,1.33,4.5,7]
["BRAZIL: Copa do Nordeste - Play Offs","2021.04.17 23:30","Vitoria","AE Altos","tp55MraQ",39,null,null,"Загрузить",2,1,1.57,3.76,6.01,1.69,3.5,4.5599999999999996]
["PARAGUAY: Primera Division - Apertura","2021.04.17 23:45","Nacional Asuncion","Sp. Luqueno","E1aN35qp",151,null,null,"Загрузить",1,0,1.75,3.6,4,1.66,3.6,4.5]
["BRAZIL: Campeonato Mineiro","2021.04.18 00:00","Caldense","Athletic Club","AwKfEFl2",39,null,null,"Загрузить",0,0,1.75,3.3,4,1.83,3.25,3.8]
["CHILE: Primera Division","2021.04.18 00:00","O'Higgins","La Serena","0SIMmC4a",51,null,null,"Загрузить",0,0,1.9,3.4,4,2.1,3.2,3.2]
["HONDURAS: Liga Nacional - Clausura - 1st Phase","2021.04.18 00:00","UPNFM","Platense","bgmY1Jhp",90,null,null,"Загрузить",0,0,2.0499999999999998,3.44,3.36,2.02,3.64,3.26]
["MEXICO: Liga MX - Clausura","2021.04.18 00:00","Atl. San Luis","Puebla","CzG8lDMG",128,null,null,"Загрузить",1,4,2.8,3.1,2.5,2.7,3.3,2.37]
["MEXICO: Liga Premier Serie A - Play Offs","2021.04.18 00:00","Gavilanes de Matamoros","Cruz Azul Hidalgo","UREXU0lp",128,null,null,"Загрузить",0,0]
["MOROCCO: Botola Pro","2021.04.18 00:00","FUS Rabat","Renaissance Zemamra","jFnjS2IA",134,null,null,"Загрузить",1,2,1.65,2.9,6.5,1.61,3.2,5.5]
["MOROCCO: Botola Pro","2021.04.18 00:00","Olympique de Safi","Rapide Oued Zem","8jcoTr34",134,null,null,"Загрузить",2,1,2.0499999999999998,2.7,4,1.66,3.2,5]
["MOROCCO: Botola 2","2021.04.18 00:00","Dcheira","Salmi","z34fq1h9",134,null,null,"Загрузить",1,2]
["MOROCCO: Botola 2","2021.04.18 00:00","Kawkab Marrakech","Chabab Benguerir","8G22suNL",134,null,null,"Загрузить",1,2]
["MOROCCO: Botola 2","2021.04.18 00:00","Wydad Fes","RAC Casablanca","Eg3brL7F",134,null,null,"Загрузить",1,0,null,null,null,null,null,null,{"$f":"IF(L24=\"\",\"\",L24-O24)","v":""},{"$f":"IF(M24=\"\",\"\",M24-P24)","v":""},{"$f":"IF(N24=\"\",\"\",N24-Q24)","v":""}]
["NICARAGUA: Liga Primera U20 - Clausura","2021.04.18 00:00","Diriangen U20","Ferretti U20","dlyv7AfN",141,null,null,"Загрузить",1,1,2.15,3.6,2.75,2.15,3.6,2.7,0,0,4.9999999999999822E-2]
["NICARAGUA: Liga Primera U20 - Clausura","2021.04.18 00:00","Ocotal U20","Real Madriz U20","tMCA1lIp",141,null,null,"Загрузить",3,0,2.0499999999999998,3.75,2.8,2.0499999999999998,3.75,2.8,0,0,0]
["USA: MLS","2021.04.18 00:00","Los Angeles FC","Austin FC","QmZTSJ0P",200,null,null,"Загрузить",2,0,1.33,5.5,7.5,1.72,3.6,4.75,-0.3899999999999999,1.9,2.75]
["ECUADOR: Liga Pro - First stage","2021.04.18 00:30","Aucas","Olmedo","KnfOOQHD",68,null,null,"Загрузить",1,3,2.06,3.52,3.34,1.89,3.7,3.7,0.17000000000000015,-0.18000000000000016,-0.36000000000000032]
["GAMBIA: GFA League","2021.04.18 00:30","Wallidan","Hawks","na7XNBQd",79,null,null,"Загрузить",0,3,2.91,2.86,2.65,2.75,2.88,2.5,0.16000000000000014,-2.0000000000000018E-2,0.14999999999999991]
["VENEZUELA: Primera Division - First stage","2021.04.18 00:30","Lara","Yaracuyanos","23RWXH4s",205,null,null,"Загрузить",1,2,1.69,3.46,5.45,1.65,3.66,5.35,4.0000000000000036E-2,-0.20000000000000018,0.10000000000000053]
["COLOMBIA: Primera B - Apertura - Quadrangular","2021.04.18 00:40","Huila","Fortaleza","r7fPOC94",53,null,null,"Загрузить",3,0,1.66,3.7,4.88,1.75,3.4,4.28,-9.000000000000008E-2,0.30000000000000027,0.59999999999999964]
["BRAZIL: Campeonato Paulista","2021.04.18 01:00","Bragantino","Mirassol","WWvQjXLJ",39,null,null,"Загрузить",2,1,1.89,3.44,4.24,1.62,3.8,5.7,0.2699999999999998,-0.35999999999999988,-1.46]
["BRAZIL: Brasileiro Women","2021.04.18 01:00","Corinthians W","Napoli W","ht2a88oO",39,null,null,"Загрузить",3,0,1.03,21,37,1.04,11,20,-1.0000000000000009E-2,10,17]
["BRAZIL: Brasileiro Women","2021.04.18 01:00","Internacional W","Santos W","bJ2e9lWH",39,null,null,"Загрузить",1,1,2.72,3.76,2.2999999999999998,2.68,3.74,2.17,4.0000000000000036E-2,1.9999999999999574E-2,0.12999999999999989]
["BRAZIL: Brasileiro Women","2021.04.18 01:00","Sao Paulo W","Gremio W","pGbiAUGB",39,null,null,"Загрузить",1,1,1.57,3.9,5.64,1.61,3.74,5.2,-4.0000000000000036E-2,0.1599999999999997,0.4399999999999995]
["COSTA RICA: Primera Division - Clausura","2021.04.18 01:00","Zeledon","Limon","23u4wt3G",57,null,null,"Загрузить",3,2,1.9,3.1,3.8,2.25,3,3,-0.35000000000000009,0.10000000000000009,0.79999999999999982]
["HONDURAS: Liga Nacional - Clausura - 1st Phase","2021.04.18 01:00","Real de Minas","Vida","tE066apT",90,null,null,"Загрузить",2,2,2.69,3.21,2.59,3.3,3.1,2.12,-0.60999999999999988,0.10999999999999988,0.46999999999999975]
["PANAMA: LPF - Apertura","2021.04.18 01:00","Alianza","Herrera","6NOBw26J",149,null,null,"Загрузить",2,3,2.98,3.37,2.2799999999999998,2.65,3,2.65,0.33000000000000007,0.37000000000000011,-0.37000000000000011]
["USA: USL League One","2021.04.18 01:00","Tormenta","Fort Lauderdale","6RGunawe",200,null,null,"Загрузить",0,1,2.19,3.39,3.13,2.12,3.24,3.07,6.999999999999984E-2,0.14999999999999991,6.0000000000000053E-2]
["ARGENTINA: Copa de la Liga Profesional","2021.04.18 01:15","Newells Old Boys","Patronato","ChHblkNT",22,null,null,"Загрузить",2,0,1.72,3.6,4.2,2.0499999999999998,3.2,3.3,-0.32999999999999985,0.39999999999999991,0.90000000000000036]
["MAURITANIA: Ligue 1","2021.04.18 01:15","Inter Nouakchott","ASAC Concorde","IPdosBil",126,null,null,"Загрузить",0,0,4.08,3.24,1.82,4.08,3.24,1.82,0,0,0]
["COSTA RICA: Primera Division - Clausura","2021.04.18 02:00","Sporting San Jose","Guadalupe","IZXoVHAd",57,null,null,"Загрузить",0,3,2.5499999999999998,3.1,2.5499999999999998,2,3.2,3.3,0.54999999999999982,-0.10000000000000009,-0.75]
["EL SALVADOR: Primera Division - Clausura - 2nd Phase","2021.04.18 02:00","Chalatenango","Sonsonate","YVHCVylU",70,null,null,"Загрузить",2,1,1.71,3.5,5.3,1.72,3.54,4.5999999999999996,-1.0000000000000009E-2,-4.0000000000000036E-2,0.70000000000000018]
["GUATEMALA: Liga Nacional - Clausura","2021.04.18 02:00","Comunicaciones","Sanarate","4xLzfS71",85,null,null,"Загрузить",3,0,1.29,5.0999999999999996,9.1999999999999993,1.37,4.32,6.8,-8.0000000000000071E-2,0.77999999999999936,2.3999999999999995]
["MEXICO: Liga MX - Clausura","2021.04.18 02:00","Guadalajara Chivas","Club Tijuana","hYTxXpiq",128,null,null,"Загрузить",2,0,1.72,3.5,4.33,2.15,3.3,3.1,-0.42999999999999994,0.20000000000000018,1.23]
["MEXICO: Liga Premier Serie A - Play Offs","2021.04.18 02:00","Colima FC","Inter Playa Del Carmen","dY6Jh4ti",128,null,null,"Загрузить",2,2,null,null,null,null,null,null,"","",""]
["PARAGUAY: Primera Division - Apertura","2021.04.18 02:00","River Plate","Sol de America","dQlS2Pbj",151,null,null,"Загрузить",0,2,2.0499999999999998,3.2,3.4,2.7,3.2,2.4,-0.65000000000000036,0,1]
["USA: MLS","2021.04.18 02:00","DC United","New York City","pYF0NcOn",200,null,null,"Загрузить",2,1,4,3.75,1.83,4.5,3.75,1.72,-0.5,0,0.1100000000000001]
["USA: MLS","2021.04.18 02:00","FC Dallas","Colorado Rapids","29QeOw9t",200,null,null,"Загрузить",0,0,2.1,3.6,3.2,2.15,3.5,3.2,-4.9999999999999822E-2,0.10000000000000009,0]
["USA: MLS","2021.04.18 02:00","New York Red Bulls","Sporting Kansas City","Ygnr5G8I",200,null,null,"Загрузить",1,2,2.0499999999999998,3.75,3.2,1.95,3.6,3.6,9.9999999999999867E-2,0.14999999999999991,-0.39999999999999991]
["BRAZIL: Campeonato Carioca - Taca Guanabara","2021.04.18 02:05","Portuguesa RJ","Flamengo RJ","IZFFpLob",39,null,null,"Загрузить",2,2,6.5,4,1.44,5,3.6,1.57,1.5,0.39999999999999991,-0.13000000000000012]
["CHILE: Primera Division","2021.04.18 02:30","Union La Calera","A. Italiano","YuHUojZB",51,null,null,"Загрузить",1,1,2.0499999999999998,3.1,4,1.95,3,4,9.9999999999999867E-2,0.10000000000000009,0]
["USA: MLS","2021.04.18 02:30","Chicago Fire","New England Revolution","hbJ8Lyga",200,null,null,"Загрузить",2,2,2.4,3.6,2.7,2.5,3.4,2.7,-0.10000000000000009,0.20000000000000018,0]
["USA: MLS","2021.04.18 02:30","Nashville SC","FC Cincinnati","OOE4MHwg",200,null,null,"Загрузить",2,2,1.7,3.5,5.25,1.9,3.5,4,-0.19999999999999996,0,1.25]
["ECUADOR: Liga Pro - First stage","2021.04.18 03:00","Guayaquil City","LDU Quito","INc7S8Il",68,null,null,"Загрузить",2,2,5.5,3.6,1.57,3.75,3.2,1.9,1.75,0.39999999999999991,-0.32999999999999985]
["FIJI: Premier League","2021.04.18 03:00","Ba","Rewa","4AjZKZF3",75,null,null,"Загрузить",0,2,null,null,null,null,null,null,{"$f":"IF(L56=\"\",\"\",L56-O56)","v":""},{"$f":"IF(M56=\"\",\"\",M56-P56)","v":""},{"$f":"IF(N56=\"\",\"\",N56-Q56)","v":""}]
["NICARAGUA: Liga Primera - Clausura","2021.04.18 03:00","Diriangen","Ferretti","EDTkv62T",141,null,null,"Загрузить",1,1,1.1399999999999999,5,21,2.2000000000000002,3.1,3,-1.0600000000000003,1.9,18]
["NICARAGUA: Liga Primera - Clausura","2021.04.18 03:00","Ocotal","Real Madriz","YcAMYqQj",141,null,null,"Загрузить",1,1,1.66,3.75,4,1.66,3.75,4,0,0,0]
["BRAZIL: Campeonato Paulista","2021.04.18 03:15","Novorizontino","Ferroviaria","vPxuTTTC",39,null,null,"Загрузить",3,1,2.2000000000000002,3,3.25,2.4500000000000002,3,2.8,-0.25,0,0.45000000000000018]
["EL SALVADOR: Primera Division - Clausura - 2nd Phase","2021.04.18 03:15","Alianza FC","Jocoro","x4O3XcJH",70,null,null,"Загрузить",4,0,1.24,6.44,10.1,1.2,5.95,9.8000000000000007,4.0000000000000036E-2,0.49000000000000021,0.29999999999999893]
["EL SALVADOR: Primera Division - Clausura - 2nd Phase","2021.04.18 03:15","Metapan","Aguila","fuJ8WHYN",70,null,null,"Загрузить",1,1,2.38,3.17,2.9,2.57,3.05,2.7,-0.18999999999999995,0.12000000000000011,0.19999999999999973]
["HONDURAS: Liga Nacional - Clausura - 1st Phase","2021.04.18 03:15","Honduras Progreso","Olimpia","bqpKPMpi",90,null,null,"Загрузить",0,5,4.3600000000000003,4.58,1.39,6.8,4.74,1.39,-2.4399999999999995,-0.16000000000000014,0]
["COSTA RICA: Primera Division - Clausura","2021.04.18 04:00","Herediano","Cartagines","pMZwXwtp",57,null,null,"Загрузить",1,2,1.85,3.1,4.33,1.9,3,4,-4.9999999999999822E-2,0.10000000000000009,0.33000000000000007]
["COSTA RICA: Liga de Ascenso - Clausura - Play Offs","2021.04.18 04:00","Puntarenas FC","Municipal San Ramon","IiFoAIWq",57,null,null,"Загрузить",2,1,1.97,3.61,3.51,2.02,3.4,3.17,-5.0000000000000044E-2,0.20999999999999996,0.33999999999999986]
["HONDURAS: Liga Nacional - Clausura - 1st Phase","2021.04.18 04:00","Motagua","Real Espana","dv6y1w8j",90,null,null,"Загрузить",1,0,1.79,3.49,4.4400000000000004,1.59,4.2,4.3600000000000003,0.19999999999999996,-0.71,8.0000000000000071E-2]
["MEXICO: Liga MX - Clausura","2021.04.18 04:05","Club America","Cruz Azul","6yYtW46k",128,null,null,"Загрузить",1,1,2.62,3,2.7,2.25,3.3,2.87,0.37000000000000011,-0.29999999999999982,-0.16999999999999993]
["FIJI: Premier League","2021.04.18 05:00","Lautoka","Nadroga","fu9rbC8j",75,null,null,"Загрузить",0,2,null,null,null,null,null,null,"","",""]
["FIJI: Premier League","2021.04.18 05:00","Navua","Nadi","dpmRMeoi",75,null,null,"Загрузить",0,2,null,null,null,null,null,null,"","",""]
["FIJI: Premier League","2021.04.18 05:00","Suva","Labasa","zynVLF0c",75,null,null,"Загрузить",0,1,1.97,3.74,3.26,1.93,3.6,3.26,4.0000000000000036E-2,0.14000000000000012,0]
["JAPAN: J2 League","2021.04.18 06:00","Sagamihara","Iwata","6etO5oQ2",100,null,null,"Загрузить",1,2,6,3.8,1.5,5.25,3.4,1.65,0.75,0.39999999999999991,-0.14999999999999991]
["JAPAN: Nadeshiko League Women","2021.04.18 06:00","Harima Albion W","Ehime W","WYFGbyM8",100,null,null,"Загрузить",0,1,2.13,3.33,3.33,2.38,3.2,2.63,-0.25,0.12999999999999989,0.70000000000000018]
["JAPAN: Nadeshiko League Women","2021.04.18 06:00","Nittaidai W","C-Osaka W","hrHCaH62",100,null,null,"Загрузить",1,0,null,null,null,null,null,null,"","",""]
["AUSTRALIA: NPL Northern NSW","2021.04.18 06:30","Broadmeadow","Weston Workers","WpdJOuLH",24,null,null,"Загрузить",2,0,1.36,5.05,6.75,1.44,5.2,5.2,-7.9999999999999849E-2,-0.15000000000000036,1.5499999999999998]
["AUSTRALIA: NPL NSW","2021.04.18 06:30","Wollongong Wolves","Blacktown City","UXXekz3c",24,null,null,"Загрузить",0,5,2.52,3.66,2.57,2.12,4.2,2.5499999999999998,0.39999999999999991,-0.54,2.0000000000000018E-2]
["SOUTH KOREA: K League 2","2021.04.18 06:30","Anyang","Asan","xxncxgNr",106,null,null,"Загрузить",2,1,2.15,3.25,3.1,2.4,3.2,2.62,-0.25,4.9999999999999822E-2,0.48]
["AUSTRALIA: NPL ACT","2021.04.18 07:00","Canberra Croatia","Tuggeranong Utd","fk4onjWr",24,null,null,"Загрузить",4,1,1.03,16.7,27,1.03,14,27,0,2.6999999999999993,0]
["AUSTRALIA: NPL ACT","2021.04.18 07:00","Gungahlin","Tigers FC","htIJjWNR",24,null,null,"Загрузить",1,2,2.0299999999999998,4.0599999999999996,2.92,1.64,5,3.44,0.3899999999999999,-0.94000000000000039,-0.52]
["JAPAN: J1 League","2021.04.18 07:00","Kawasaki Frontale","Sanfrecce Hiroshima","nLWloyBg",100,null,null,"Загрузить",1,1,1.4,4.5,7.5,1.5,4,7,-0.10000000000000009,0.5,0.5]
["JAPAN: Nadeshiko League Women","2021.04.18 07:00","NGU Nagoya W","Kunoichi W","vaJOdFjL",100,null,null,"Загрузить",0,2,4.82,4.5,1.54,2.81,4.32,1.93,2.0100000000000002,0.17999999999999972,-0.3899999999999999]
["JAPAN: Nadeshiko League Women","2021.04.18 07:00","Setagaya Sfida FC W","Yokohama FC Seagulls W","QeFKceyF",100,null,null,"Загрузить",1,2,2.36,3.44,2.67,2.38,3.6,2.38,-2.0000000000000018E-2,-0.16000000000000014,0.29000000000000004]
["SOUTH KOREA: K League 1","2021.04.18 07:00","Suwon Bluewings","Ulsan Hyundai","YReiImrT",106,null,null,"Загрузить",3,0,3.2,3.25,2,3.25,3.25,2,-4.9999999999999822E-2,0,0]
["SOUTH KOREA: K3 League","2021.04.18 07:00","Hwaseong","Pyeongtaek Citizen","G6NqVdWn",106,null,null,"Загрузить",1,0,1.1499999999999999,7.5,13,1.1000000000000001,8,15,4.9999999999999822E-2,-0.5,-2]
["JAPAN: J1 League","2021.04.18 08:00","Cerezo Osaka","Urawa Reds","IoSpnHem",100,null,null,"Загрузить",1,0,2.2000000000000002,3.3,3.25,2.1,3.3,3.5,0.10000000000000009,0,-0.25]
["JAPAN: J1 League","2021.04.18 08:00","Nagoya Grampus","Sagan Tosu","QBVhpeQa",100,null,null,"Загрузить",1,2,1.9,3.3,4,1.72,3.5,5,0.17999999999999994,-0.20000000000000018,-1]
["SOUTH KOREA: K3 League","2021.04.18 08:00","Gimhae","Paju Citizen","fcMmUGog",106,null,null,"Загрузить",0,1,2.09,3.34,3.36,2.4,3.2,2.63,-0.31000000000000005,0.13999999999999968,0.73]
["AUSTRALIA: A-League","2021.04.18 08:05","Sydney FC","Adelaide United","2JX5YYFg",24,null,null,"Загрузить",2,2,1.65,4,5,1.95,3.6,3.5,-0.30000000000000004,0.39999999999999991,1.5]
["AUSTRALIA: NPL Northern NSW","2021.04.18 08:30","Maitland","Charlestown Azzurri","E9oONazO",24,null,null,"Загрузить",3,1,1.89,3.99,3.46,1.72,4.2,3.92,0.16999999999999993,-0.20999999999999996,-0.45999999999999996]
["AUSTRALIA: Brisbane Premier League","2021.04.18 09:00","Brisbane K.","Bayside","2aap5SHH",24,null,null,"Загрузить",0,1,2.94,4.0199999999999996,2.0299999999999998,3.62,4.5999999999999996,1.72,{"$f":"IF(L88=\"\",\"\",L88-O88)","v":-0.68000000000000016},{"$f":"IF(M88=\"\",\"\",M88-P88)","v":-0.58000000000000007},{"$f":"IF(N88=\"\",\"\",N88-Q88)","v":0.30999999999999983}]
["AUSTRALIA: Brisbane Premier League","2021.04.18 09:00","Gravatt","Toowong","b1godXYn",24,null,null,"Загрузить",1,5,4.66,4.5,1.55,9.3000000000000007,6.5,1.19,-4.6400000000000006,-2,0.3600000000000001]
["AUSTRALIA: Brisbane Premier League","2021.04.18 09:00","St. George Willawong","Centenary Stormers","QyBpvaD1",24,null,null,"Загрузить",4,1,1.43,4.76,5.8,1.59,4.5,4.04,-0.16000000000000014,0.25999999999999979,1.7599999999999998]
["HONG KONG: Premier League","2021.04.18 09:00","Hong Kong Rangers","Southern District","pW2yvIYa",222,null,null,"Загрузить",1,2,2.63,3.56,2.38,2.02,4,2.8,0.60999999999999988,-0.43999999999999995,-0.41999999999999993]
["SOUTH KOREA: K League 2","2021.04.18 09:00","Jeonnam","Gimcheon Sangmu","Wbo1yDxk",106,null,null,"Загрузить",2,1,2.8,3.1,2.4,2.8,3.1,2.4,0,0,0]
["SOUTH AFRICA: Diski Challenge","2021.04.18 09:30","Kaizer Chiefs U23","Black Leopards U23","zmUXnut4",175,null,null,"Загрузить",3,2,1.63,3.54,5.72,1.59,3.4,5.6,3.9999999999999813E-2,0.14000000000000012,0.12000000000000011]
["SOUTH KOREA: K League 1","2021.04.18 09:30","Jeonbuk","Seongnam","fycmJTSM",106,null,null,"Загрузить",1,0,1.75,3.4,4.75,1.5,3.6,6,0.25,-0.20000000000000018,-1.25]
["AUSTRALIA: NPL Queensland","2021.04.18 10:00","Olympic FC","Sunshine Coast Wanderers","dx5KCNEr",24,null,null,"Загрузить",0,0,1.4,5,5.5,1.53,4.5,4.2,-0.13000000000000012,0.5,1.2999999999999998]
["JAPAN: J1 League","2021.04.18 10:00","Gamba Osaka","Shimizu S-Pulse","8zLcqFu6",100,null,null,"Загрузить",0,0,2.15,3.6,3.1,2.1,3.2,3.6,4.9999999999999822E-2,0.39999999999999991,-0.5]
["ROMANIA: Liga 2 - Relegation Group","2021.04.18 10:00","Ripensia Timisoara","U. Cluj","zBGQc6G9",157,null,null,"Загрузить",2,1,3.1,3.2,2.15,3.2,3.1,2.1,-0.10000000000000009,0.10000000000000009,4.9999999999999822E-2]
["ROMANIA: Superliga Women - Championship Group","2021.04.18 10:00","Heniu Prundu Bargaului W","Piros Security W","vJBJYImQ",157,null,null,"Загрузить",3,1,1.78,4.47,3.51,2.11,3.92,2.85,-0.32999999999999985,0.54999999999999982,0.6599999999999997]
["ROMANIA: Superliga Women - Championship Group","2021.04.18 10:00","Universitatea Galati W","Ol. Cluj W","rmGvUxds",157,null,null,"Загрузить",0,0,26,21,1.02,25,13,1.03,1,8,-1.0000000000000009E-2]
["ROMANIA: Superliga Women - Championship Group","2021.04.18 10:00","Vasas Odorhei W","Fortuna Becicherecu Mic W","0SCFZbYJ",157,null,null,"Загрузить",0,0,3.9,4.3,1.69,3.86,4,1.69,4.0000000000000036E-2,0.29999999999999982,0]
["ROMANIA: Superliga Women - Relegation Group","2021.04.18 10:00","Banat W","Carmen Bucuresti W","jJrgyXQL",157,null,null,"Загрузить",2,0,null,null,null,null,null,null,"","",""]
["ROMANIA: Superliga Women - Relegation Group","2021.04.18 10:00","Fairplay Bucuresti W","Universitatea Alexandria W","U3fpwgd9",157,null,null,"Загрузить",6,4,1.81,3.36,3.96,16,10,1.08,-14.19,-6.6400000000000006,2.88]
["ROMANIA: Superliga Women - Relegation Group","2021.04.18 10:00","SN Constanta W","Baia Mare W","8fglxDBF",157,null,null,"Загрузить",1,0,null,null,null,null,null,null,"","",""]
["RUSSIA: Supreme Division Women","2021.04.18 10:00","Zvezda 2005 W","Lokomotiv Moscow W","dGiZi1Un",158,null,null,"Загрузить",0,0,5.0999999999999996,3.58,1.65,4.5999999999999996,3.6,1.64,0.5,-2.0000000000000018E-2,1.0000000000000009E-2]
["SOUTH AFRICA: Diski Challenge","2021.04.18 10:00","Chippa Utd. U23","Amazulu U23","ljYynaeA",175,null,null,"Загрузить",0,0,null,null,null,null,null,null,"","",""]
["TAIWAN: Premier League","2021.04.18 10:00","CPC","NTUS","zouuKL5I",218,null,null,"Загрузить",1,1,1.66,4.04,4.34,1.99,4.2,2.96,-0.33000000000000007,-0.16000000000000014,1.38]
["TAIWAN: Premier League","2021.04.18 10:00","Hang Yuen","Taichung","lUtXLsy6",218,null,null,"Загрузить",1,0,2.5,3.26,2.63,2.5499999999999998,3.94,2.2999999999999998,-4.9999999999999822E-2,-0.68000000000000016,0.33000000000000007]
["TAIWAN: Premier League","2021.04.18 10:00","Taipei Tatung","Taipower","SKuyL1jC",218,null,null,"Загрузить",0,1,2.21,3.5,2.91,2.6,3.94,2.25,-0.39000000000000012,-0.43999999999999995,0.66000000000000014]
["TAIWAN: Premier League","2021.04.18 10:00","Taiwan Steel","Red Lions","65iSMNLa",218,null,null,"Загрузить",3,1,1.1100000000000001,8.1,17,1.1100000000000001,7.6,17,0,0.5,0]
["AUSTRALIA: A-League","2021.04.18 10:10","Macarthur FC","Newcastle Jets","zsJfL4bQ",24,null,null,"Загрузить",2,2,2.25,3.6,3,1.8,3.6,4.2,0.44999999999999996,0,-1.2000000000000002]
["AUSTRALIA: NPL Queensland","2021.04.18 10:15","Brisbane U21","Capalaba FC","ja4OBsUl",24,null,null,"Загрузить",6,1,1.22,5.75,9,1.22,6,8,0,-0.25,1]
["CZECH REPUBLIC: Division 2","2021.04.18 10:15","Zizkov","Usti nad Labem","r5DlWedl",62,null,null,"Загрузить",1,0,1.83,3.5,3.75,1.95,3.4,3.2,-0.11999999999999988,0.10000000000000009,0.54999999999999982]
["AUSTRALIA: NPL NSW","2021.04.18 10:30","Sydney FC U21","APIA Tigers","CdN0lfI3",24,null,null,"Загрузить",2,3,2.75,3.98,2.2000000000000002,1.85,4,3.17,0.89999999999999991,-2.0000000000000018E-2,-0.96999999999999975]
["AUSTRIA: 2. Liga","2021.04.18 10:30","A. Klagenfurt","Grazer","SfYqnxGt",25,null,null,"Загрузить",3,0,1.61,3.6,5,1.72,3.5,4,-0.10999999999999988,0.10000000000000009,1]
["ITALY: Primavera 1","2021.04.18 10:30","Empoli U19","Sampdoria U19","tx31VEvj",98,null,null,"Загрузить",2,2,3.95,4.16,1.73,3.92,4.2,1.72,3.0000000000000249E-2,-4.0000000000000036E-2,1.0000000000000009E-2]
["ITALY: Primavera 1","2021.04.18 10:30","Genoa U19","Inter U19","KS15UYgd",98,null,null,"Загрузить",1,1,3.46,3.77,1.94,3.94,3.9,1.77,-0.48,-0.12999999999999989,0.16999999999999993]
["SLOVAKIA: 2. liga","2021.04.18 10:30","Samorin","Petrzalka","4Get5395",171,null,null,"Загрузить",3,1,1.83,3.66,3.84,2.2200000000000002,3.34,2.92,-0.39000000000000012,0.32000000000000028,0.91999999999999993]
["AUSTRIA: Bundesliga Women","2021.04.18 11:00","Altenmarkt W","Wacker Innsbruck W","4I2uoHyq",25,null,null,"Загрузить",1,4,4.5,4.32,1.6,2.69,3.8,2.12,1.81,0.52000000000000046,-0.52]
["CROATIA: 3. HNL Center","2021.04.18 11:00","Trnje","Dugo Selo","Sd3oenLK",59,null,null,"Загрузить",2,0,1.7,3.62,4.5599999999999996,1.64,4,4.08,6.0000000000000053E-2,-0.37999999999999989,0.47999999999999954]
["GEORGIA: Georgian Cup","2021.04.18 11:00","Zestafoni","Dusheti","x02OvskM",80,null,null,"Загрузить",1,2,null,null,null,null,null,null,{"$f":"IF(L120=\"\",\"\",L120-O120)","v":""},{"$f":"IF(M120=\"\",\"\",M120-P120)","v":""},{"$f":"IF(N120=\"\",\"\",N120-Q120)","v":""}]
["GERMANY: 2. Bundesliga Women","2021.04.18 11:00","Bayern Munich 2 W","Eintracht Frankfurt 2 W","rqjWRqBJ",81,null,null,"Загрузить",2,0,2.5,3.68,2.4,2.93,3.74,2.02,-0.43000000000000016,-6.0000000000000053E-2,0.37999999999999989]
["HUNGARY: NB III - Centre","2021.04.18 11:00","Honved II","Ferencvaros II","lIG4N8el",91,null,null,"Загрузить",2,2,2.56,3.52,2.42,2.5,3.24,2.4500000000000002,6.0000000000000053E-2,0.2799999999999998,-3.0000000000000249E-2]
["HUNGARY: NB III - West","2021.04.18 11:00","Szabadkikoto","Komaromi VSE","I1lm5h1O",91,null,null,"Загрузить",0,2,null,null,null,null,null,null,"","",""]
["HUNGARY: NB III - West","2021.04.18 11:00","Tatabanya","Puskas Academy II","8AuZ9Gng",91,null,null,"Загрузить",1,0,2.15,3.72,2.87,2.12,3.5,2.86,2.9999999999999805E-2,0.2200000000000002,1.0000000000000231E-2]
["HUNGARY: NB III - West","2021.04.18 11:00","Zalaegerszegi II","Papai Perutz","xjXk6YoI",91,null,null,"Загрузить",0,3,2.5099999999999998,2.9,2.9,2.12,2.75,3.7,0.38999999999999968,0.14999999999999991,-0.80000000000000027]
["KAZAKHSTAN: Premier League","2021.04.18 11:00","Taraz","FK Akzhayik","nmL31nI0",102,null,null,"Загрузить",1,0,1.7,3.5,5.15,1.79,3.3,4.9400000000000004,-9.000000000000008E-2,0.20000000000000018,0.20999999999999996]
["RUSSIA: Premier League","2021.04.18 11:00","Ural","Rubin Kazan","xlbtKFQj",158,null,null,"Загрузить",0,1,4.5,3.75,1.75,3.4,3.25,2.15,1.1000000000000001,0.5,-0.39999999999999991]
["SERBIA: Srpska Liga - East","2021.04.18 11:00","Radnicki S.","Toplicanin","hd0St1xq",167,null,null,"Загрузить",2,1,null,null,null,null,null,null,"","",""]
["SERBIA: Srpska Liga - East","2021.04.18 11:00","SFS Borac","Buducnost Popovac","zLkXuLik",167,null,null,"Загрузить",2,1,null,null,null,null,null,null,"","",""]
["SLOVENIA: 1. SZNL Women","2021.04.18 11:00","Cerklje W","Olimpija W","z93tFFvk",172,null,null,"Загрузить",0,6,null,null,null,null,null,null,"","",""]
["VIETNAM: V.League 2","2021.04.18 11:00","Hue","Khanh Hoa","rP7Rpvlo",206,null,null,"Загрузить",1,1,4.17,3.65,1.8,4.16,3.34,1.85,9.9999999999997868E-3,0.31000000000000005,-5.0000000000000044E-2]
["ANDORRA: Primera Divisió","2021.04.18 11:30","UE Santa Coloma","Penya","4Y0GNmj7",19,null,null,"Загрузить",7,0,null,null,null,null,null,null,"","",""]
["ANDORRA: Primera Divisió - Championship Group","2021.04.18 11:30","Sant Julia","Atletic Escaldes","WABrNIFa",19,null,null,"Загрузить",2,2,null,null,null,null,null,null,"","",""]
["AUSTRIA: 2. Liga","2021.04.18 11:30","SK Rapid Vienna (Am)","Horn","pbswP5Ep",25,null,null,"Загрузить",1,0,2.2000000000000002,3.5,2.8,2.25,3.5,2.6,-4.9999999999999822E-2,0,0.19999999999999973]
["HONG KONG: Premier League","2021.04.18 11:30","Pegasus","Resources Capital","QuBqxd3C",222,null,null,"Загрузить",3,2,1.39,4.74,6.75,1.26,5.5,7.8,0.12999999999999989,-0.75999999999999979,-1.0499999999999998]
["SPAIN: Tercera Division - Group 3 - Relegation Group","2021.04.18 11:30","Revilla","Guarnizo","8AwgZc8T",176,null,null,"Загрузить",0,2,3.1,3.3,2.1,3.46,3.4,1.93,-0.35999999999999988,-0.10000000000000009,0.17000000000000015]
["SPAIN: Tercera Division - Group 4 - Second stage","2021.04.18 11:30","Basconia","Santuxu","lI2x4KWm",176,null,null,"Загрузить",0,1,1.69,3.4,4.5999999999999996,1.69,3.4,4.5999999999999996,0,0,0]
["SPAIN: Tercera Division - Group 6 - Second stage","2021.04.18 11:30","Recambios Colon","Beniganim","Q5xmCO92",176,null,null,"Загрузить",2,1,1.69,3.6,4.28,1.69,3.6,4.28,0,0,0]
["SPAIN: Tercera Division - Group 7 - Relegation Group","2021.04.18 11:30","Complutense","Real Aranjuez","xAJKxPNG",176,null,null,"Загрузить",2,1,null,null,null,null,null,null,"","",""]
["SPAIN: Tercera Division - Group 7 - Relegation Group","2021.04.18 11:30","RSD Alcala","El Alamo","KY8PyqwN",176,null,null,"Загрузить",2,0,1.62,3.6,4.82,1.64,3.6,4.68,-1.9999999999999796E-2,0,0.14000000000000057]
["SPAIN: Tercera Division - Group 7 - Relegation Group","2021.04.18 11:30","San Fernando","Atletico Pinto","llaeWM0p",176,null,null,"Загрузить",0,1,null,null,null,null,null,null,"","",""]
["SPAIN: Tercera Division - Group 7 - Second stage","2021.04.18 11:30","AD Torrejon","Trival Valderas","rgciGAAn",176,null,null,"Загрузить",1,0,1.72,3.6,4.24,1.69,3.6,4.28]
["SPAIN: Tercera Division - Group 13 - Second stage","2021.04.18 11:30","La Union","Bullense","8QDoyR42",176,null,null,"Загрузить",4,1]
["SPAIN: Tercera Division - Group 17 - Second stage","2021.04.18 11:30","Zaragoza B","Borja","SQfrPvIQ",176,null,null,"Загрузить",1,0,1.51,3.74,5.7,1.75,3.5,4.08]
["SPAIN: Tercera Division - Group 18 - Relegation Group","2021.04.18 11:30","Almansa","Illescas","lWg4059m",176,null,null,"Загрузить",2,0]
["SPAIN: Primera Division Women","2021.04.18 11:30","Sevilla FC W","Atl. Madrid W","Eu4hFXlh",176,null,null,"Загрузить",3,2,6,3.94,1.51,4.12,3.7,1.73]
["SPAIN: Tercera Division - Group 3 - Promotion Group","2021.04.18 11:45","Siete Villas","Escobedo","hpE8Q8O5",176,null,null,"Загрузить",3,1]
["SPAIN: Tercera Division - Group 5 - Second stage","2021.04.18 11:45","Grama","Castelldefels","802OOaUd",176,null,null,"Загрузить",1,0,1.87,3.21,4.49,2.2200000000000002,3.24,2.93]
["KAZAKHSTAN: Premier League","2021.04.18 12:00","FC Astana","Kyzylzhar","rFECaQnD",102,null,null,"Загрузить",3,1,1.28,5.0999999999999996,9.6,1.34,4.74,9.1999999999999993]
["POLAND: III Liga - Group IV","2021.04.18 12:00","Korona Kielce 2","Avia Swidnik","jJ4QubPh",154,null,null,"Загрузить",0,3,3.44,3.82,1.89,3.36,3.74,1.85]
["PORTUGAL: Liga BPI Women - Championship Group","2021.04.18 12:00","Sporting W","Maritimo W","vmFgxqOg",155,null,null,"Загрузить",2,0,1.23,5.95,10,1.27,5.45,9.1]
["RUSSIA: PFL - Group 3","2021.04.18 12:00","FK Strogino Moscow","Khimki 2","WC25k9KE",158,null,null,"Загрузить",2,1,1.64,4.12,4.42,1.58,3.98,5.0999999999999996]
["SOUTH AFRICA: Diski Challenge","2021.04.18 12:00","Mamelodi Sundowns U23","Swallows U23","rDXuoJAG",175,null,null,"Загрузить",4,0]
["SPAIN: Segunda Division B - Group 1 - Promotion Group","2021.04.18 12:00","Celta Vigo B","Burgos CF","Mgu9Xt5l",176,null,null,"Загрузить",1,1,3.41,2.97,2.27,2.5,3.2,2.5]
["SPAIN: Segunda Division B - Group 1 - Relegation Group","2021.04.18 12:00","Guijuelo","Gijon B","h0pQNFUg",176,null,null,"Загрузить",1,0,2.2799999999999998,2.83,3.28,2.5,2.75,2.88]
["SPAIN: Segunda Division B - Group 3 - Promotion Group","2021.04.18 12:00","Gimnastic","Ibiza","APIV9aEP",176,null,null,"Загрузить",0,1,2.5499999999999998,3.12,2.81,2.3199999999999998,3,2.97]
["SPAIN: Segunda Division B - Group 3 - Relegation Group","2021.04.18 12:00","Espanyol B","Pena Deportiva","QDbe49lK",176,null,null,"Загрузить",null,null,2.34,2.86,3.15,1.93,3,3.98]
["SPAIN: Segunda Division B - Group 3 - Relegation Group","2021.04.18 12:00","Prat","Valencia B","ddkRbmCs",176,null,null,"Загрузить",1,0,2.14,3.13,3.55,2.3199999999999998,3,2.97]
["SPAIN: Segunda Division B - Group 3 - Second stage","2021.04.18 12:00","Lleida","Levante B","OEuGFO1o",176,null,null,"Загрузить",0,0,1.92,3.12,4.37,1.64,3.2,5.6]
["SPAIN: Segunda Division B - Group 4 - Promotion Group","2021.04.18 12:00","Algeciras","UCAM Murcia","KW1p23zl",176,null,null,"Загрузить",1,1,3.5,2.67,2.44,2.63,2.9,2.6]
["SPAIN: Segunda Division B - Group 4 - Second stage","2021.04.18 12:00","Cadiz CF B","Cordoba","SExbHZuh",176,null,null,"Загрузить",2,0,3.66,3.03,2.14,2.94,2.88,2.42]
["SPAIN: Segunda Division B - Group 5 - Promotion Group","2021.04.18 12:00","San Sebastian Reyes","CD Badajoz","pWhbG8Dl",176,null,null,"Загрузить",0,4,3.86,3.09,2.06,2.94,2.88,2.42]
["SPAIN: Segunda Division B - Group 5 - Relegation Group","2021.04.18 12:00","Atl. Madrid B","Melilla","A77LmEEO",176,null,null,"Загрузить",null,null,2.39,2.8,3.16,2.4,2.8,3.07]
["SPAIN: Segunda Division B - Group 5 - Relegation Group","2021.04.18 12:00","Getafe B","Socuellamos","2s4DkzpC",176,null,null,"Загрузить",0,0,2.8,2.8,2.5,2.8,2.8,2.5]
["SPAIN: Segunda Division B - Group 5 - Relegation Group","2021.04.18 12:00","Las Rozas","Villarrubia","WG8HlfaI",176,null,null,"Загрузить",1,1,1.69,3.18,5.15,2.4,3,2.75]
["SPAIN: Segunda Division B - Group 5 - Relegation Group","2021.04.18 12:00","Poblense","Villarrobledo","CCo4CciP",176,null,null,"Загрузить",4,0,1.64,2.99,5.95,1.69,3,5.6]
["SPAIN: Segunda Division B - Group 5 - Second stage","2021.04.18 12:00","Baleares","Merida AD","MVrBrRds",176,null,null,"Загрузить",2,1,1.84,3.16,4.74,1.93,3,3.98]
["SPAIN: Tercera Division - Group 2 - Promotion Group","2021.04.18 12:00","Real Aviles","Llanes","v9AnYGS2",176,null,null,"Загрузить"]
["SPAIN: Tercera Division - Group 2 - Promotion Group","2021.04.18 12:00","Union Club Ceares","L'Entregu","Ia9jXzr9",176,null,null,"Загрузить",1,0]
["SPAIN: Tercera Division - Group 2 - Relegation Group","2021.04.18 12:00","Aviles Stadium","Valdesoto","dACk3BoJ",176,null,null,"Загрузить",2,0,1.77,3.76,4.17,1.62,3.74,4.58]
["SPAIN: Tercera Division - Group 2 - Relegation Group","2021.04.18 12:00","SD Navarro CF","CD Colunga","IJDo4iWC",176,null,null,"Загрузить",0,0,2.25,3,3.16,2.25,3,3.16]
["SPAIN: Tercera Division - Group 2 - Second stage","2021.04.18 12:00","Lenense","Real Titanico","AwrtW6KT",176,null,null,"Загрузить",3,1]
["SPAIN: Tercera Division - Group 4 - Relegation Group","2021.04.18 12:00","Ariznabarra","Tolosa FC","EsidEEmP",176,null,null,"Загрузить",1,2,2.92,3.44,2.29,2.86,3.3,2.2200000000000002]
["SPAIN: Tercera Division - Group 5 - Promotion Group","2021.04.18 12:00","Cerdanyola","Vilafranca","C0XehSgI",176,null,null,"Загрузить",1,1,2.85,3.21,2.46,2.17,3.2,3.06]
["SPAIN: Tercera Division - Group 5 - Promotion Group","2021.04.18 12:00","Girona B","CE Europa","fPxig8vC",176,null,null,"Загрузить",0,1]
["SPAIN: Tercera Division - Group 5 - Relegation Group","2021.04.18 12:00","Horta","Pobla Mafumet","A7gimzDE",176,null,null,"Загрузить",1,1,3.39,3.39,2.09,3.56,3.3,1.93]
["SPAIN: Tercera Division - Group 5 - Second stage","2021.04.18 12:00","Vilassar de Mar","San Cristobal CP","ni1SNJq3",176,null,null,"Загрузить",3,3,2.61,3.14,2.72,2.2200000000000002,3.1,3.06]
["SPAIN: Tercera Division - Group 6 - Relegation Group","2021.04.18 12:00","Torrent","Hercules B","hKKWS7jB",176,null,null,"Загрузить",2,0,2.6,3.33,2.6,2.5,3.2,2.5]
["SPAIN: Tercera Division - Group 6 - Second stage","2021.04.18 12:00","Silla CF","Jove","nLQeA2vF",176,null,null,"Загрузить",1,0,2.0699999999999998,2.9,4.1399999999999997,1.93,3.3,3.56]
["SPAIN: Tercera Division - Group 7 - Promotion Group","2021.04.18 12:00","Rayo Vallecano B","CD Mostoles","zoq4PgW2",176,null,null,"Загрузить",1,0,2.63,3.19,2.4,2.6,3.2,2.4]
["SPAIN: Tercera Division - Group 7 - Promotion Group","2021.04.18 12:00","Union Adarve","Leganes B","Eyr8ODo9",176,null,null,"Загрузить",3,2,2.13,3.06,3.32,2.17,3.1,3.17]
["SPAIN: Tercera Division - Group 7 - Relegation Group","2021.04.18 12:00","Santa Ana","Mostoles","SvbaVtGj",176,null,null,"Загрузить",0,2,5.65,3.54,1.56,3.56,3.3,1.93]
["SPAIN: Tercera Division - Group 7 - Second stage","2021.04.18 12:00","Pozuelo de Alarcon","Parla","dd1eFUPh",176,null,null,"Загрузить",1,1,2,3.17,3.5,2.02,3.24,3.36]
["SPAIN: Tercera Division - Group 9 - Relegation Group","2021.04.18 12:00","CP Almeria","Motril","h4xGSHlE",176,null,null,"Загрузить",0,0]
["SPAIN: Tercera Division - Group 9 - Relegation Group","2021.04.18 12:00","Maracena","CD Alhaurino","O4EnA9Yn",176,null,null,"Загрузить",1,1,1.94,3.06,3.82,1.69,3.74,4.08]
["SPAIN: Tercera Division - Group 9 - Second stage","2021.04.18 12:00","Huetor Vega","Malaga B","St97bIYs",176,null,null,"Загрузить",2,1,3.24,3.55,2.09,3.17,3.4,2.02]
["SPAIN: Tercera Division - Group 10 - Promotion Group","2021.04.18 12:00","Ceuta","Ciudad de Lucena","n3RSnegC",176,null,null,"Загрузить",2,3]
["SPAIN: Tercera Division - Group 10 - Relegation Group","2021.04.18 12:00","Arcos CF","Sevilla FC C","jcyrJJZ7",176,null,null,"Загрузить",0,0]
["SPAIN: Tercera Division - Group 10 - Relegation Group","2021.04.18 12:00","Cabecense","CD Gerena","C6xvKaK1",176,null,null,"Загрузить",2,2,2.1800000000000002,3.18,3.07,2.12,3.2,3.17]
["SPAIN: Tercera Division - Group 10 - Second stage","2021.04.18 12:00","Antoniano","CD Utrera","2gGqEXiB",176,null,null,"Загрузить",2,3,3.58,2.85,2.11,2.2200000000000002,3.24,2.93]
["SPAIN: Tercera Division - Group 10 - Second stage","2021.04.18 12:00","Rota","Pozoblanco","8hrHePyp",176,null,null,"Загрузить",1,4,2.13,3.23,3.44,2.12,3.2,3.17,{"$f":"IF(L191=\"\",\"\",L191-O191)","v":9.9999999999997868E-3},2.9999999999999805E-2,0.27]
["SPAIN: Tercera Division - Group 11 - Promotion Group","2021.04.18 12:00","Constancia","Platges de Calvia","WITbiO7B",176,null,null,"Загрузить",2,1,null,null,null,null,null,null,"","",""]
["SPAIN: Tercera Division - Group 11 - Promotion Group","2021.04.18 12:00","Ibiza Islas Pitiusas","Formentera","A3ujgpwa",176,null,null,"Загрузить",1,1,1.77,3.44,4.68,1.51,3.74,5.7,0.26,-0.30000000000000027,-1.0200000000000005]
["SPAIN: Tercera Division - Group 11 - Relegation Group","2021.04.18 12:00","Felanitx","Santa Catalina Atletico","I31S3ehA",176,null,null,"Загрузить",3,0,1.52,3.98,6.28,1.75,3.5,4.08]
["SPAIN: Tercera Division - Group 11 - Relegation Group","2021.04.18 12:00","Ferriolense","Alcudia","CQ0W2F7G",176,null,null,"Загрузить",0,0,2.4500000000000002,3.41,2.71,2.81,3.3,2.27]
["SPAIN: Tercera Division - Group 14 - Promotion Group","2021.04.18 12:00","Montijo","Diocesano","WlYfYCVK",176,null,null,"Загрузить",2,2,1.71,3.32,5.44,1.59,3.74,4.82]
["SPAIN: Tercera Division - Group 14 - Relegation Group","2021.04.18 12:00","Fuente de Cantos","Chinato","0MPDK8JB",176,null,null,"Загрузить",3,2,2.0699999999999998,3.41,3.41,2.3199999999999998,3.2,2.81]
["SPAIN: Tercera Division - Group 14 - Relegation Group","2021.04.18 12:00","Olivenza","CD Calamonte","6aQ9Ll45",176,null,null,"Загрузить",1,1,2.2799999999999998,3.37,2.98,2.2200000000000002,3.24,2.93]
["SPAIN: Tercera Division - Group 14 - Second stage","2021.04.18 12:00","Azuaga","Extremadura UD B","f5Aut1Tb",176,null,null,"Загрузить",1,1]
["SPAIN: Tercera Division - Group 14 - Second stage","2021.04.18 12:00","Miajadas","Aceuchal","jX3lvubB",176,null,null,"Загрузить",2,0,1.88,3.55,3.91,1.93,3.4,3.46]
["SPAIN: Tercera Division - Group 16 - Promotion Group","2021.04.18 12:00","Varea","Logrones Promesas","MDctq8G8",176,null,null,"Загрузить",2,2,2.0299999999999998,3.64,3.32,1.69,3.74,4.08]
["SPAIN: Tercera Division - Group 16 - Relegation Group","2021.04.18 12:00","Berceo","Pradejon","MmWgFWd4",176,null,null,"Загрузить",0,2]
["SPAIN: Tercera Division - Group 16 - Relegation Group","2021.04.18 12:00","Vianes","Tedeon","4CLbEjCA",176,null,null,"Загрузить",2,2]
["SPAIN: Tercera Division - Group 16 - Relegation Group","2021.04.18 12:00","Villegas","Calasancio","CxP6CUtN",176,null,null,"Загрузить",2,2]
["SPAIN: Tercera Division - Group 17 - Promotion Group","2021.04.18 12:00","Belchite 97","Utebo FC","CWZPAlcG",176,null,null,"Загрузить",1,2,2.21,2.95,3.6,1.62,3.8,4.5599999999999996]
["SPAIN: Tercera Division - Group 17 - Promotion Group","2021.04.18 12:00","Huesca B","Brea","U7pLBUsA",176,null,null,"Загрузить",0,0]
["SPAIN: Tercera Division - Group 17 - Relegation Group","2021.04.18 12:00","Sabinanigo","Tamarite","AsOJbcMB",176,null,null,"Загрузить",2,4]
["SPAIN: Tercera Division - Group 18 - Relegation Group","2021.04.18 12:00","Manzanares","Azuqueca","Wfq9aPOg",176,null,null,"Загрузить",1,2,2.5299999999999998,3.31,2.69,2.93,3.24,2.2200000000000002]
["SPAIN: Tercera Division - Group 18 - Second stage","2021.04.18 12:00","La Roda","Tarancon","OEmUCubH",176,null,null,"Загрузить",1,0,2.63,3.31,2.58,2.81,3.2,2.3199999999999998]
["SPAIN: Primera Division Women","2021.04.18 12:00","Real Madrid W","Betis W","ng20DBJ4",176,null,null,"Загрузить",1,1,1.23,5.9,10,1.1200000000000001,7.2,17]
["SWEDEN: Elitettan Women","2021.04.18 12:00","Moron W","Alingsas FC W","d0yDDOsn",181,null,null,"Загрузить",4,1]
["VIETNAM: V.League 1","2021.04.18 12:00","Binh Duong","Da Nang","CSXp6uOM",206,null,null,"Загрузить",1,0,2.48,3.11,2.9,1.98,3.24,3.8]
["VIETNAM: V.League 1","2021.04.18 12:00","Gia Lai","Hanoi FC","fiNk5awT",206,null,null,"Загрузить",1,0,2.41,3.46,2.64,2.4,3,2.86]
["VIETNAM: V.League 2","2021.04.18 12:00","Long An","Ba Ria Vung Tau","pUoA9NQo",206,null,null,"Загрузить",0,1,3.7,3.15,2.0299999999999998,3.17,3,2.2200000000000002]
["WORLD: Club Friendly","2021.04.18 12:00","Bodo/Glimt","Tromso","AXv6rUt0",8,null,null,"Загрузить",1,1,1.28,4.75,8.5,1.53,4,4.75]
["WORLD: Club Friendly","2021.04.18 12:00","Klubi 04","Honka Akatemia","l22mp8Bs",8,null,null,"Загрузить"]
["AUSTRALIA: A-League","2021.04.18 12:15","Perth Glory","Wellington Phoenix","h2mIaQWr",24,null,null,"Загрузить",1,3,2.2999999999999998,4,2.7,2.2000000000000002,3.4,3.2]
["NETHERLANDS: KNVB Beker Women","2021.04.18 12:15","PSV W","Ajax W","WC42cqCS",139,null,null,"Загрузить",1,0,2.16,3.5,2.94,2.2000000000000002,3.64,2.91]
["POLAND: Ekstraliga Women","2021.04.18 12:15","Bydgoszcz W","UJ Krakow W","fk4JDXEd",154,null,null,"Загрузить",1,5,3.74,3.92,1.79,2.8,4,2.02]
["PORTUGAL: Liga Portugal 2","2021.04.18 12:15","Casa Pia","Academica","pOfXeQsP",155,null,null,"Загрузить",0,3,2.5499999999999998,3,2.8,2.62,3.1,2.6]
["SPAIN: Tercera Division - Group 13 - Promotion Group","2021.04.18 12:15","Racing Murcia","Pulpileno","C0BzRLPc",176,null,null,"Загрузить",1,1,2.33,3.18,2.81,2.3199999999999998,3.2,2.81]
["ITALY: Serie A","2021.04.18 12:30","AC Milan","Genoa","fuDcO0va",98,null,null,"Загрузить",2,1,1.4,4.75,8,1.44,4.33,7]
["ITALY: Serie C - Group C","2021.04.18 12:30","Casertana","Juve Stabia","WUPMOVzQ",98,null,null,"Загрузить",2,3,3.5,3.1,2,3.3,3.2,2.1]
["ITALY: Serie C - Group C","2021.04.18 12:30","Catanzaro","Catania","KfMIPBLJ",98,null,null,"Загрузить",2,0,2.87,3,2.37,2.5,3,2.8]
["ITALY: Primavera 1","2021.04.18 12:30","Cagliari U19","Fiorentina U19","nF3cWfPq",98,null,null,"Загрузить",5,1,2.4700000000000002,3.38,2.71,2.4500000000000002,3.4,2.65]
["ITALY: Serie A Women","2021.04.18 12:30","AC Milan W","Napoli W","lxuokNKE",98,null,null,"Загрузить",4,0,1.22,6.56,10.3,1.1399999999999999,7.5,10]
["ITALY: Serie A Women","2021.04.18 12:30","Sassuolo W","Juventus W","Aotsj358",98,null,null,"Загрузить",0,3,6,4.18,1.51,5.2,4,1.51]
["KYRGYZSTAN: Premier Liga","2021.04.18 12:30","Dordoi Bishkek","Kaganat","ddeo7qgK",108,null,null,"Загрузить",2,2]
["POLAND: Ekstraklasa","2021.04.18 12:30","Stal Mielec","Zaglebie","vghn7I67",154,null,null,"Загрузить",0,2,2.4,3.3,2.87,2.8,3.3,2.5]
["ROMANIA: Liga 1 - Relegation Group","2021.04.18 12:30","FC Arges","Poli Iasi","YHdEhTqp",157,null,null,"Загрузить",0,0,1.8,3.3,4.33,2.15,3.1,3.2]
["SPAIN: Tercera Division - Group 1 - Second stage","2021.04.18 12:30","Silva SD","CD Choco","0fPwiIh3",176,null,null,"Загрузить",1,4,2.86,3.32,2.39,2.81,3.2,2.3199999999999998]
["SPAIN: Tercera Division - Group 5 - Promotion Group","2021.04.18 12:30","Granollers","Terrassa","GYwmflP5",176,null,null,"Загрузить",0,3,2.6,3.33,2.6,2.5,3.2,2.5]
["SPAIN: Tercera Division - Group 13 - Relegation Group","2021.04.18 12:30","CAP Ciudad de Murcia","EG El Palmar CF","Gh8MgWGb",176,null,null,"Загрузить",1,0,1.98,3.54,3.54,1.93,3.4,3.46]
["TURKEY: 1. Lig","2021.04.18 12:30","Eskisehirspor","Balikesirspor","GhdTD3KB",191,null,null,"Загрузить",0,3,6.5,3.8,1.44,6.5,4,1.4]
["POLAND: Division 1","2021.04.18 12:40","Odra Opole","Korona Kielce","EX5E1QUi",154,null,null,"Загрузить",1,0,2.8,3.1,2.5,2.4,3.1,2.8]
["POLAND: Division 1","2021.04.18 12:40","Zaglebie Sosnowiec","GKS Belchatow","KGH1r3UT",154,null,null,"Загрузить",1,1,1.65,3.5,5,1.7,3.4,4.75]
["ALBANIA: Superliga","2021.04.18 13:00","Apolonia Fier","Vllaznia","6N0bPpyS",17,null,null,"Загрузить",0,6]
["ALBANIA: First Division - Promotion Group","2021.04.18 13:00","Egnatia Rrogozhine","Tomori Berat","hjPSq85L",17,null,null,"Загрузить",2,1]
["ALBANIA: First Division - Promotion Group","2021.04.18 13:00","Pogradeci","Besa Kavaje","zFEXrSKR",17,null,null,"Загрузить",1,3,1.82,3.4,3.86,1.82,3.4,3.86]
["BELARUS: Vysshaya Liga","2021.04.18 13:00","Din. Minsk","FC Gomel","4KqzNjml",31,null,null,"Загрузить",1,2,1.8,3.4,4,1.66,3.6,4.2]
["BELARUS: Pershaya Liga","2021.04.18 13:00","Belshina","Volna Pinsk","6N468CJg",31,null,null,"Загрузить",0,2,1.76,3.96,3.62,2.12,3.74,2.75]
["CAMBODIA: C-League","2021.04.18 13:00","Visakha","Electricite Du Cambodge","6HRWph1O",45,null,null,"Загрузить"]
["DENMARK: 2nd Division - Group 1","2021.04.18 13:00","Thisted FC","Brabrand","nLSNJXKD",63,null,null,"Загрузить",0,2,1.9,3.5,3.5,2,3.5,3.25]
["DENMARK: 2nd Division - Group 2","2021.04.18 13:00","AB Copenhagen","Vanlose","zXHpsyxL",63,null,null,"Загрузить",2,1,1.7,3.6,4.5,1.55,3.8,5.5]
["DENMARK: 2nd Division - Group 2","2021.04.18 13:00","Naestved","FA 2000","S6ItrHME",63,null,null,"Загрузить",0,0,1.53,4,5,1.6,4,4.5]
["DENMARK: 2nd Division - Group 2","2021.04.18 13:00","Slagelse","Bronshoj","ENGlteiR",63,null,null,"Загрузить",2,1,2.7,3.3,2.4,2.25,3.3,2.9]
["ENGLAND: Championship","2021.04.18 13:00","Rotherham","Birmingham","d83Eozeq",198,null,null,"Загрузить",0,1,2.6,3.1,2.87,2.62,3.3,2.62]
["ENGLAND: Professional Development League","2021.04.18 13:00","Crewe U23","Watford U23","tUM64lCI",198,null,null,"Загрузить",1,5,2.86,4.0999999999999996,2.06,3.17,4,1.85]
["EUROPE: Premier League (Crimea)","2021.04.18 13:00","Kafa","Yevpatoriya","jgex6eAi",6,null,null,"Загрузить",2,2]
["FRANCE: Ligue 1","2021.04.18 13:00","Paris SG","St Etienne","UqzIZo5f",77,null,null,"Загрузить",3,2,1.28,5.75,9.5,1.25,6,10]
["GERMANY: 3. Liga","2021.04.18 13:00","Ingolstadt","Meppen","fmVnn5Or",81,null,null,"Загрузить",0,0,1.5,4.2,6.5,1.5,4.2,6.5]
["GREECE: Super League 2","2021.04.18 13:00","PAE Chania","Apollon Larissa","QThED6o3",83,null,null,"Загрузить",2,1,1.62,3.61,5.68,1.59,3.5,5.3]
["GREECE: Football League","2021.04.18 13:00","Santorini","Aspropyrgos Enosis","2BNiqJ4k",83,null,null,"Загрузить",0,0]
["LATVIA: Optibet Virsliga","2021.04.18 13:00","Metta/LU","RFS","jmhcZmOo",110,null,null,"Загрузить",3,3,12,7,1.1399999999999999,9,7,1.1599999999999999]
["MACAO: Elite League","2021.04.18 13:00","Tak Chun Ka I","Chao Pak Kei","2y7iKKBC",233,null,null,"Загрузить",2,7]
["NORTH MACEDONIA: 1. MFL","2021.04.18 13:00","Akademija Pandev","Vardar","bDLVCNpd",118,null,null,"Загрузить",3,0,1.69,3.77,4.71,1.64,3.6,4.5999999999999996]
["NORTH MACEDONIA: 1. MFL","2021.04.18 13:00","Belasica","Shkendija","KMMRD3Vk",118,null,null,"Загрузить",0,3,19,8,1.1000000000000001,25,12,1.04]
["NORTH MACEDONIA: 1. MFL","2021.04.18 13:00","Borec","Shkupi","2oSMEqGq",118,null,null,"Загрузить",0,1,6.55,3.54,1.54,2.94,3.2,2.2200000000000002]
["NORTH MACEDONIA: 1. MFL","2021.04.18 13:00","Rabotnicki","Makedonija GP","0xteJP7S",118,null,null,"Загрузить",2,2,2.5099999999999998,3.14,2.72,2.38,3.2,2.6]
["NORTH MACEDONIA: 1. MFL","2021.04.18 13:00","Struga Trim & Lum","Pelister","6FtiK5hM",118,null,null,"Загрузить",3,0,1.82,3.43,4.37,1.85,3.3,3.82]
["POLAND: Division 2","2021.04.18 13:00","Blekitni Stargard","GKS Katowice","GKOYzdBq",154,null,null,"Загрузить"]
["POLAND: Division 2","2021.04.18 13:00","Slask Wroclaw 2","S. Rzeszow","Sd7dfpC4",154,null,null,"Загрузить",3,4,2.75,3.2,2.4,2.6,3.2,2.4]
["RUSSIA: Premier League","2021.04.18 13:00","Arsenal Tula","Tambov","YL2APy3T",158,null,null,"Загрузить",4,0,1.08,8,15,1.3,5,9]
["RUSSIA: PFL - Group 3","2021.04.18 13:00","Krasnyy","Khimik-Arsenal","hSjEmmkR",158,null,null,"Загрузить",0,0,2.1800000000000002,3.44,3.01,2.23,3.36,2.99]
["RUSSIA: PFL - Group 3","2021.04.18 13:00","Znamya Noginsk","Vidnoe","bTVht5s1",158,null,null,"Загрузить",3,1,1.25,5.45,10,1.38,4.4400000000000004,7.6]
["RUSSIA: Supreme Division Women","2021.04.18 13:00","CSKA Moscow W","FK Yenisey W","Ei2UhsFt",158,null,null,"Загрузить",3,0,1.1399999999999999,6.95,16,1.21,5.5,10.5]
["SCOTLAND: SWPL 1 Women","2021.04.18 13:00","Rangers W","Hibernian W","IF7N4rGc",199,null,null,"Загрузить",1,0]
["SERBIA: Super Liga","2021.04.18 13:00","Metalac","FK Indjija","lCqWjdLu",167,null,null,"Загрузить",0,0,1.9,3.2,3.6,2.25,3.1,2.87]
["SERBIA: Super Liga","2021.04.18 13:00","Novi Pazar","Cukaricki","8hS0yHLh",167,null,null,"Загрузить",1,3,4,3.2,1.8,3.1,3.2,2.1]
["SERBIA: Super Liga","2021.04.18 13:00","Zlatibor Cajetina","Rad Beograd","pvwukzjh",167,null,null,"Загрузить",1,2,6.5,4.33,1.4,4.33,3.3,1.72]
["SPAIN: Segunda Division B - Group 4 - Second stage","2021.04.18 13:00","Tamaraceite","Murcia","0Sz6FDA4",176,null,null,"Загрузить",1,0,2.63,2.5499999999999998,3.17,2.2200000000000002,2.8,3.38]
["SPAIN: Tercera Division - Group 12","2021.04.18 13:00","Arucas","La Cuadra","SMpsLi6K",176,null,null,"Загрузить",1,2,2.2599999999999998,3.36,3.04,3.36,3.24,2.02]
["SPAIN: Tercera Division - Group 12","2021.04.18 13:00","Lanzarote","Las Palmas C","MPgibUb7",176,null,null,"Загрузить",1,0,1.98,3.32,3.64,2.27,3.2,2.86]
["SPAIN: Tercera Division - Group 12","2021.04.18 13:00","Mensajero","Union Guimar","SbKUAsI0",176,null,null,"Загрузить",1,0]
["SPAIN: Tercera Division - Group 12","2021.04.18 13:00","San Fernando","Panaderia","lWowMXjE",176,null,null,"Загрузить",1,1]
["SPAIN: Tercera Division - Group 12","2021.04.18 13:00","UD Guia","Gran Tarajal","8Y1vKBLQ",176,null,null,"Загрузить",0,0]
["SPAIN: Tercera Division - Group 12","2021.04.18 13:00","Union Viera","Villa Santa Brigida","zTceclED",176,null,null,"Загрузить",1,0]
["SWEDEN: Superettan","2021.04.18 13:00","Osters","Landskrona","YVi1r1AM",181,null,null,"Загрузить",1,1,1.75,3.3,5,1.75,3.4,4.75]
["TANZANIA: Ligi Kuu Bara","2021.04.18 13:00","Polisi Tanzania","Tanzania Prisons","vqmjktAk",185,null,null,"Загрузить",1,2,2.5,2.86,3.12,2.4700000000000002,2.85,3.13]
["UKRAINE: Premier League","2021.04.18 13:00","Inhulets","Rukh Lviv","tleeYZ7A",195,null,null,"Загрузить",0,0,3,3.1,2.25,2.4,3.6,2.5]
["VIETNAM: V.League 1","2021.04.18 13:00","Nam Dinh","Ho Chi Minh","42Ux81gA",206,null,null,"Загрузить",3,2,2.36,3.35,2.88,2.38,3.2,2.63]
["WORLD: Club Friendly","2021.04.18 13:00","JIPPO","LehPa","KAWZNc51",8,null,null,"Загрузить",10,0]
["WORLD: Club Friendly","2021.04.18 13:00","Rovaniemi","AC Oulu","fFwkjCxc",8,null,null,"Загрузить",1,2,5.75,4.75,1.36,5.5,5,1.36]
["WORLD: Club Friendly","2021.04.18 13:00","Sarpsborg 08","Stabaek","hdUAsld6",8,null,null,"Загрузить",2,2,2.4,3.6,2.37,1.85,3.75,3.2]
["WORLD: Club Friendly Women","2021.04.18 13:00","Asane W","Sandviken W","6PwyVAC0",8,null,null,"Загрузить",1,3]
["ZAMBIA: Super League","2021.04.18 13:00","Buildcon","Kabwe","O0rRCXJR",209,null,null,"Загрузить",2,0]
["SCOTLAND: Scottish Cup","2021.04.18 13:15","Stranraer","Hibernian","2y17HNm5",199,null,null,"Загрузить",0,4,17,8,1.1200000000000001,19,7,1.1200000000000001]
["ARMENIA: First League","2021.04.18 13:30","Sevan","Noravank","l2SwKYSi",23,null,null,"Загрузить",2,1]
["ENGLAND: Women’s FA Cup","2021.04.18 13:30","Birmingham W","Coventry United W","YwbNl2Ne",198,null,null,"Загрузить",5,1,1.05,11.5,22,1.18,7,9.3000000000000007]
["GERMANY: 2. Bundesliga","2021.04.18 13:30","Bochum","Hannover","feTT8hNf",81,null,null,"Загрузить",4,3,1.83,3.6,4,1.72,3.75,4.5]
["GERMANY: 2. Bundesliga","2021.04.18 13:30","Regensburg","Heidenheim","GAHx7Wi7",81,null,null,"Загрузить",0,3,3.2,3.2,2.37,2.62,3.2,2.7]
["GERMANY: 2. Bundesliga","2021.04.18 13:30","VfL Osnabruck","Dusseldorf","UDLt6j7D",81,null,null,"Загрузить",0,3,4.2,3.5,1.8,3.4,3.4,2.1]
["GREECE: Football League","2021.04.18 13:30","Rodos","PAE Egaleo","hxYHkLRL",83,null,null,"Загрузить",1,0,1.95,3.1,3.6,2.25,3,3]
["ITALY: Serie B Women","2021.04.18 13:30","Orobica W","Lazio W","Q7yYxF6r",98,null,null,"Загрузить",0,3]
["TAJIKISTAN: Vysshaya Liga","2021.04.18 13:30","Eskhata","Ravshan","Wf58LAYf",184,null,null,"Загрузить",1,1,2.15,3.25,3,2.1,3.25,3]
["GREECE: Super League 2","2021.04.18 13:45","Karaiskakis","Doxa Dramas","vLpRiPOq",83,null,null,"Загрузить",1,1,3.04,3.15,2.36,2.5,3,2.63]
["GREECE: Super League 2","2021.04.18 13:45","Panachaiki","Ergotelis","8hrJCQ09",83,null,null,"Загрузить",1,1,2.25,3.03,3.4,2.02,3,3.68]
["BRAZIL: Campeonato Piauiense","2021.04.18 14:00","Fluminense-PI","Julho Esporte","Cz4plpf1",39,null,null,"Загрузить",0,0,3,3.44,2.2400000000000002,2.96,3.3,2.17]
["CZECH REPUBLIC: 1. Liga","2021.04.18 14:00","Brno","FK Pardubice","zBtvq3T1",62,null,null,"Загрузить",1,2,2,3,3.8,2.25,3,3]
["CZECH REPUBLIC: 1. Liga","2021.04.18 14:00","Zlin","Pribram","xGKM7n62",62,null,null,"Загрузить",0,1,1.33,4.33,10,1.57,3.6,5]
["CZECH REPUBLIC: 1. Liga Women","2021.04.18 14:00","Slovacko W","Liberec W","S89FSlP3",62,null,null,"Загрузить",1,0,1.37,5.43,6.52,1.39,4.9400000000000004,5.55]
["DENMARK: Superliga - Relegation Group","2021.04.18 14:00","Horsens","Lyngby","KlDhVcf6",63,null,null,"Загрузить",1,3,2.9,3.6,2.2000000000000002,2.8,3.5,2.4]
["DENMARK: Superliga - Relegation Group","2021.04.18 14:00","Odense","Sonderjyske","YiHdUH9C",63,null,null,"Загрузить",1,1,2.1,3.1,3.75,2.0499999999999998,3.4,3.6]
["DENMARK: 1st Division - Promotion Group","2021.04.18 14:00","Fredericia","Helsingor","COPQob3k",63,null,null,"Загрузить",2,0,2.62,3.5,2.37,2.25,3.5,2.75]
["ENGLAND: Premier League 2","2021.04.18 14:00","Tottenham U23","Chelsea U23","KOm0EtL3",198,null,null,"Загрузить",1,4,2.62,3.72,2.3199999999999998,2.12,4,2.65]
["ENGLAND: Women’s FA Cup","2021.04.18 14:00","West Ham W","Chichester City W","MajToxZS",198,null,null,"Загрузить",11,0]
["ESTONIA: Meistriliiga","2021.04.18 14:00","Levadia","Paide","KUYhY9DT",73,null,null,"Загрузить",0,4,1.67,3.86,4.58,2.6,3.5,2.25]
["EUROPE: Champions League Women","2021.04.18 14:00","Lyon W","Paris SG W","CKofQwIJ",6,null,null,"Загрузить",1,2,2.87,3.2,2.44,2.17,3.3,2.8]
["GERMANY: 3. Liga","2021.04.18 14:00","Mannheim","Lubeck","xCKioPwk",81,null,null,"Загрузить",3,2,1.9,3.6,4,2.1,3.5,3.25]
["GERMANY: Regionalliga West","2021.04.18 14:00","Oberhausen","Dortmund II","EaCwbhc4",81,null,null,"Загрузить",0,1,3.3,3.6,1.9,4.75,3.75,1.57]
["GERMANY: Bundesliga Women","2021.04.18 14:00","Eintracht Frankfurt W","Sand W","8AVCoTlA",81,null,null,"Загрузить",4,0,1.33,5.2,7.6,1.34,4.74,6.75]
["GERMANY: Bundesliga Women","2021.04.18 14:00","Potsdam W","Duisburg W","0pS4mkKc",81,null,null,"Загрузить",1,0,1.1499999999999999,7.2,14.5,1.08,9,19]
["GERMANY: Bundesliga Women","2021.04.18 14:00","SGS Essen W","Meppen W","zi8QPoSj",81,null,null,"Загрузить",3,1,1.56,3.84,5.7,1.45,4.32,5.4]
["GERMANY: Bundesliga Women","2021.04.18 14:00","Werder Bremen W","Bayer Leverkusen W","d09MQRCp",81,null,null,"Загрузить",2,1,3.98,3.7,1.8,5.7,4.2,1.45]
["GERMANY: Bundesliga Women","2021.04.18 14:00","Wolfsburg W","Freiburg W","f7R8n9Z3",81,null,null,"Загрузить",3,2,1.02,13.5,41,1.01,15,43]
["GERMANY: 2. Bundesliga Women","2021.04.18 14:00","Andernach W","Koln W","MZlzR3QP",81,null,null,"Загрузить",1,3,3.43,4.22,1.85,3.66,4.2,1.69]
["GERMANY: 2. Bundesliga Women","2021.04.18 14:00","B. Monchengladbach W","Berghofen W","nHx08XQc",81,null,null,"Загрузить",null,null,1.64,4.16,4.32,2.2999999999999998,3.74,2.4]
["GERMANY: 2. Bundesliga Women","2021.04.18 14:00","Gutersloh W","Borussia Bocholt W","hfwd9DBi",81,null,null,"Загрузить",3,1,1.38,5.15,6.15,1.59,4.5,4.04]
["GERMANY: 2. Bundesliga Women","2021.04.18 14:00","Ingolstadt W","FFC Niederkirchen W","vFy2MNYt",81,null,null,"Загрузить",null,null,1.17,7.1,11,1.18,7,9.3000000000000007]
["GERMANY: 2. Bundesliga Women","2021.04.18 14:00","Jena W","RB Leipzig W","f9KhAgdo",81,null,null,"Загрузить",3,1,2.15,3.82,2.82,2.15,4,2.5]
["GERMANY: 2. Bundesliga Women","2021.04.18 14:00","Turbine Potsdam 2 W","Wolfsburg 2 W","rqW86BeA",81,null,null,"Загрузить",null,null,1.81,4,3.58,1.75,4.2,3.44]
["GREECE: Super League - Championship Group","2021.04.18 14:00","Panathinaikos","Aris","z7phWz5d",83,null,null,"Загрузить",1,2,2.7,3.1,2.75,2.4,3.1,2.8]
["GREECE: Football League","2021.04.18 14:00","Almopos","Apollon Pontou","rZ2KugHt",83,null,null,"Загрузить",4,1,1.66,3.4,4.5,2,3,3.6]
["GREECE: Football League","2021.04.18 14:00","Asteras Vlachioti","Kallithea","OKOmpakq",83,null,null,"Загрузить",1,2,2.4,2.9,2.75,2.6,2.9,2.6]
["GREECE: Football League","2021.04.18 14:00","Ialisos","Episkopi","6uxMlusS",83,null,null,"Загрузить",1,0]
["GREECE: Football League","2021.04.18 14:00","Kavala","Kozani","v3m5ZHf7",83,null,null,"Загрузить",5,1,1.4,3.6,8.5,1.4,3.6,8]
["GREECE: Football League","2021.04.18 14:00","O. Volos","Panserraikos","h6i9YyAD",83,null,null,"Загрузить",0,1,2.7,3.2,2.37,2.37,3.2,2.62]
["GREECE: Football League","2021.04.18 14:00","Pierikos","PO Triglia","69uicLnE",83,null,null,"Загрузить",2,0,2.2000000000000002,3,3.1,2.2000000000000002,3,3.1]
["GREECE: Football League","2021.04.18 14:00","Veria","Thesprotos","dvb0zbu1",83,null,null,"Загрузить",3,1,1.33,4.33,8,1.33,4.33,7.5]
["ITALY: Serie D - Group G","2021.04.18 14:00","Carbonia","Nocerina","rNzRyyKn",98,null,null,"Загрузить",1,2,2.3199999999999998,3.64,2.72,2.37,3.5,2.76]
["LITHUANIA: I Lyga","2021.04.18 14:00","Suduva 2","Banga 2","Umzo55mA",116,null,null,"Загрузить",0,2,2.35,3.32,2.82,2.2999999999999998,3.8,2.38]
["POLAND: Ekstraliga Women","2021.04.18 14:00","Leczna W","Gdansk W","2iPvLFMM",154,null,null,"Загрузить",7,0,1.03,13,30,1.05,10,25]
["RUSSIA: PFL - Group 3","2021.04.18 14:00","F. Voronezh 2","Saratov","EyhAlTZK",158,null,null,"Загрузить",1,1,11,6.2,1.2,5.6,3.78,1.57]
["RUSSIA: PFL - Group 3","2021.04.18 14:00","Kaluga","Kursk","21xprRCl",158,null,null,"Загрузить",2,0,2.52,2.57,3.4,2.33,3.26,2.9]
["RUSSIA: PFL - Group 3","2021.04.18 14:00","Salyut-Belgorod","Sakhalin","pQRlsoSf",158,null,null,"Загрузить",2,1,1.17,6.5,14.5,1.37,4.5999999999999996,7.4]
["RUSSIA: Supreme Division Women","2021.04.18 14:00","Krasnodar W","Chertanovo M. W","pxOGZJEI",158,null,null,"Загрузить",1,1,1.59,4.32,4.54,1.41,4.2,6.25]
["SCOTLAND: SWPL 1 Women","2021.04.18 14:00","Hearts W","Forfar Farmington W","27PzsuOj",199,null,null,"Загрузить",1,1]
["SPAIN: LaLiga","2021.04.18 14:00","Osasuna","Elche","ARwTtGgP",176,null,null,"Загрузить",2,0,1.95,3.2,4.33,2,3.2,4]
["SPAIN: LaLiga","2021.04.18 14:00","Real Sociedad","Sevilla","CzQfxz2t",176,null,null,"Загрузить",1,2,2.6,3.25,2.75,2.75,3.2,2.6]
["SPAIN: LaLiga2","2021.04.18 14:00","Albacete","Mirandes","K6YtTUo2",176,null,null,"Загрузить",1,0,2.62,2.9,2.8,2.75,2.9,2.8]
["SPAIN: LaLiga2","2021.04.18 14:00","Logrones","Rayo Vallecano","KOqHUsN6",176,null,null,"Загрузить",0,0,3.8,3.2,2.0499999999999998,3.25,3.2,2.25]
["SWEDEN: Allsvenskan Women","2021.04.18 14:00","Hammarby W","Hacken W","ClRbyHYB",181,null,null,"Загрузить",0,1,10,5.5,1.2,7,5,1.3]
["SWEDEN: Allsvenskan Women","2021.04.18 14:00","Vittsjo W","Pitea W","IRRfxcJ5",181,null,null,"Загрузить",2,1,1.44,4.2,6,1.57,3.8,4.8]
["SWITZERLAND: Nationalliga A Women","2021.04.18 14:00","Basel W","Grasshoppers W","46WKvvAP",182,null,null,"Загрузить",0,0,1.8,4,3.62,1.82,3.74,3.46]
["UKRAINE: Druha Liga","2021.04.18 14:00","Balkany","Nova Kakhovka","tfzVOzun",195,null,null,"Загрузить",1,0]
["UKRAINE: Druha Liga","2021.04.18 14:00","Kryvbas","Tavriya","lKwwNE9b",195,null,null,"Загрузить",5,0,1.57,4.12,4.4800000000000004,1.69,3.74,4.08]
["WORLD: Club Friendly","2021.04.18 14:00","Stromsgodset","Lillestrom","4WXEt8BC",8,null,null,"Загрузить",2,3,2.44,3.64,2.5099999999999998,2.2999999999999998,3.4,2.6]
["ARGENTINA: Primera A Women - Apertura","2021.04.18 14:30","Gimnasia L.P. W","Deportivo Espanol W","4EYwyn61",22,null,null,"Загрузить",3,2]
["AUSTRIA: Tipico Bundesliga - Championship Group","2021.04.18 14:30","Salzburg","LASK","vsUS3i8a",25,null,null,"Загрузить",2,0,1.5,4.33,6,1.55,4.33,5]
["AUSTRIA: Tipico Bundesliga - Championship Group","2021.04.18 14:30","Wolfsberger AC","Tirol","IXSW2BN5",25,null,null,"Загрузить",2,0,1.95,3.8,3.6,2,3.75,3.4]
["ENGLAND: Premier League","2021.04.18 14:30","Arsenal","Fulham","WtlyVCx5",198,null,null,"Загрузить",1,1,1.8,3.75,4.33,1.66,3.6,5.25]
["HUNGARY: NB III - East","2021.04.18 14:30","Debrecen II","Mezokovesd-Zsory II","WS6i5vMb",91,null,null,"Загрузить",5,1]
["ITALY: Serie D - Group G","2021.04.18 14:30","Lanusei Calcio","Gladiator","4xPZZEla",98,null,null,"Загрузить",0,2,1.67,3.3,5.3,1.67,3.7,4.8600000000000003]
["MALAWI: Super League","2021.04.18 14:30","Blue Eagles","Ekwendeni Hammers","fZVr7mhP",120,null,null,"Загрузить"]
["MALAWI: Super League","2021.04.18 14:30","Blue Eagles","Mighty Wanderers","xrJpU7e7",120,null,null,"Загрузить",2,2]
["MALAWI: Super League","2021.04.18 14:30","Chitipa United","Mighty Tigers","88CLqgf1",120,null,null,"Загрузить",2,2]
["MALAWI: Super League","2021.04.18 14:30","Mzuni","MAFCO","EJCF1RFn",120,null,null,"Загрузить",2,2]
["MALAWI: Super League","2021.04.18 14:30","Ntopwa","Silver","hj1XiBmE",120,null,null,"Загрузить",2,2]
["SINGAPORE: Premier League","2021.04.18 14:30","Lion City","Balestier Khalsa","fF7fsc0l",170,null,null,"Загрузить",4,1,1.33,5,6,1.4,4.5,5.5]
["SWITZERLAND: Promotion League","2021.04.18 14:30","Munsingen","Bavois","StymqoUh",182,null,null,"Загрузить"]
["TUNISIA: Ligue Professionnelle 1","2021.04.18 14:30","Esperance Tunis","JS Kairouan","Klell38T",190,null,null,"Загрузить",3,1]
["TUNISIA: Ligue Professionnelle 1","2021.04.18 14:30","Sfaxien","Etoile Sahel","QVXGqNGp",190,null,null,"Загрузить",1,2,9.1,4.5199999999999996,1.34,2.27,2.88,3.18]
["TUNISIA: Ligue 2 - Promotion Group","2021.04.18 14:30","Gabes","Hamam-Sousse","zybNUHrC",190,null,null,"Загрузить",0,1,2.16,3.22,3.26,2.2200000000000002,2.8,3.38]
["TUNISIA: Ligue 2 - Promotion Group","2021.04.18 14:30","Zarzis","SS Sfaxien","UccRTybI",190,null,null,"Загрузить",2,0,1.69,3.6,4.72,1.82,3,4.46,{"$f":"IF(L364=\"\",\"\",L364-O364)","v":-0.13000000000000012},{"$f":"IF(M364=\"\",\"\",M364-P364)","v":0.60000000000000009},{"$f":"IF(N364=\"\",\"\",N364-Q364)","v":0.25999999999999979}]
["BELARUS: Vysshaya Liga","2021.04.18 15:00","Rukh Brest","Smorgon","8C4aThAK",31,null,null,"Загрузить",5,0,1.22,5.5,8.5,1.28,4.5,9,-6.0000000000000053E-2,1,-0.5]
["BELARUS: Pershaya Liga","2021.04.18 15:00","Krumkachy","Lokomotiv Gomel","z3dN4UII",31,null,null,"Загрузить",1,0,1.18,5.6,15,1.82,4,3.3,-0.64000000000000012,1.5999999999999996,11.7]
["BOSNIA AND HERZEGOVINA: Premier League","2021.04.18 15:00","Olimpik Sarajevo","Zrinjski","lrE86Sij",37,null,null,"Загрузить",0,3,4.33,3.4,1.75,3.5,3.3,1.9,0.83000000000000007,0.10000000000000009,-0.14999999999999991]
["BRAZIL: Campeonato Matogrossense","2021.04.18 15:00","Acao","Uniao Rondonopolis","2uobAjjD",39,null,null,"Загрузить",3,0,3.02,3.12,2.39,3.02,3.1,2.37,0,2.0000000000000018E-2,2.0000000000000018E-2]
["BRAZIL: Campeonato Matogrossense","2021.04.18 15:00","Luverdense","Pocone","URnjCCL0",39,null,null,"Загрузить",0,0,null,null,null,null,null,null,"","",""]
["BRAZIL: Campeonato Matogrossense","2021.04.18 15:00","Operario VG","Gremio Sorriso","OlnfBWz7",39,null,null,"Загрузить",2,1,1.8,3.43,4.51,1.87,3.44,3.96,-7.0000000000000062E-2,-9.9999999999997868E-3,0.54999999999999982]
["BRAZIL: Campeonato Matogrossense","2021.04.18 15:00","Sinop","Nova Mutum","YagsEYjl",39,null,null,"Загрузить",1,2,null,null,null,null,null,null,"","",""]
["BRAZIL: Campeonato Mineiro","2021.04.18 15:00","Uberlandia","Tombense","WnLjFeZe",39,null,null,"Загрузить",1,1,2.9,3.2,2.25,3,3.2,2.15,-0.10000000000000009,0,0.10000000000000009]
["BRAZIL: Campeonato Paraense","2021.04.18 15:00","Bragantino","Paragominas","fqqvuHQt",39,null,null,"Загрузить",4,4,1.72,3.68,4.4000000000000004,1.93,3.3,3.56,-0.20999999999999996,0.38000000000000034,0.8400000000000003]
["BULGARIA: Third League - North-East","2021.04.18 15:00","Dobrich","Botev Novi Pazar","h2DQtrWA",41,null,null,"Загрузить",0,1,null,null,null,null,null,null,"","",""]
["BULGARIA: Third League - North-East","2021.04.18 15:00","Spartak","Topolite","WnPHr41b",41,null,null,"Загрузить",3,0,null,null,null,null,null,null,"","",""]
["BULGARIA: Third League - North-East","2021.04.18 15:00","Sportist Toshevo","Ludogorets III","EBEMsOG4",41,null,null,"Загрузить",3,3,null,null,null,null,null,null,"","",""]
["CYPRUS: Division 2","2021.04.18 15:00","Alki Oroklini","Thoi Lakatamias","lfl51qh5",61,null,null,"Загрузить",3,0,1.3,5,7.7,1.3,5,7.7,0,0,0]
["CYPRUS: Division 2","2021.04.18 15:00","Omonia Psevda","Chloraka","hnoMc1iU",61,null,null,"Загрузить",2,3,4.24,3.66,1.72,2.3199999999999998,3.24,2.76,1.9200000000000004,0.41999999999999993,-1.0399999999999998]
["CZECH REPUBLIC: Division 2","2021.04.18 15:00","Vysehrad","Prostejov","xSChVFBf",62,null,null,"Загрузить",0,1,5.5,4.5,1.44,9,5.5,1.22,-3.5,-1,0.21999999999999997]
["ENGLAND: Women’s FA Cup","2021.04.18 15:00","Arsenal W","Gillingham W","fiXIla67",198,null,null,"Загрузить",10,0,null,null,null,null,null,null,"","",""]
["ENGLAND: Women’s FA Cup","2021.04.18 15:00","Brighton W","Bristol City W","IRXQ8NER",198,null,null,"Загрузить",1,0,1.69,3.72,4.54,1.26,5.5,7.8,0.42999999999999994,-1.7799999999999998,-3.26]
["ENGLAND: Women’s FA Cup","2021.04.18 15:00","Burnley W","Manchester Utd W","G0YEkui1",198,null,null,"Загрузить",0,6,null,null,null,null,null,null,"","",""]
["ENGLAND: Women’s FA Cup","2021.04.18 15:00","Crystal Palace W","London Bees W","z3rM93aL",198,null,null,"Загрузить",3,0,1.45,4.5,5.9,1.41,6,4.4400000000000004,4.0000000000000036E-2,-1.5,1.46]
["ENGLAND: Women’s FA Cup","2021.04.18 15:00","Everton W","Durham W","CUdRmMx2",198,null,null,"Загрузить",2,1,1.1299999999999999,7.4,16,1.34,5.5,5.65,-0.21000000000000019,1.9000000000000004,10.35]
["ENGLAND: Women’s FA Cup","2021.04.18 15:00","Huddersfield W","Derby W","GdIDAtTQ",198,null,null,"Загрузить",3,2,null,null,null,null,null,null,"","",""]
["ENGLAND: Women’s FA Cup","2021.04.18 15:00","Leicester W","Liverpool W","vHbJkr8k",198,null,null,"Загрузить",1,0,1.71,4.0999999999999996,3.98,1.51,5,4.12,0.19999999999999996,-0.90000000000000036,-0.14000000000000012]
["ENGLAND: Women’s FA Cup","2021.04.18 15:00","Lewes W","Southampton W","zqhLmb4G",198,null,null,"Загрузить",1,2,1.21,6.55,10,1.21,6.45,8.1999999999999993,0,9.9999999999999645E-2,1.8000000000000007]
["ENGLAND: Women’s FA Cup","2021.04.18 15:00","Middlesbrough W","Sheffield Utd W","4ME9BMDK",198,null,null,"Загрузить",0,9,null,null,null,null,null,null,"","",""]
["ENGLAND: Women’s FA Cup","2021.04.18 15:00","Oxford Utd W","Charlton W","hK2GlvkA",198,null,null,"Загрузить",1,1,null,null,null,null,null,null,"","",""]
["ENGLAND: Women’s FA Cup","2021.04.18 15:00","Reading W","Tottenham W","SxuEBPU8",198,null,null,"Загрузить",2,2,2.08,3.76,2.99,2.25,4.5,2.25,-0.16999999999999993,-0.74000000000000021,0.74000000000000021]
["ETHIOPIA: Premier League","2021.04.18 15:00","Sidama Bunna","Fasil Ketema","z1sfqdZ7",74,null,null,"Загрузить",1,2,9.3000000000000007,4.5199999999999996,1.3,10,4.5,1.31,-0.69999999999999929,1.9999999999999574E-2,-1.0000000000000009E-2]
["EUROPE: Premier League (Crimea)","2021.04.18 15:00","Gvardeyets","Kyzyltash","xj7fsCXj",6,null,null,"Загрузить",1,0,null,null,null,null,null,null,"","",""]
["EUROPE: Premier League (Crimea)","2021.04.18 15:00","SKCHF Sevastopol","TSK Simferopol","I5QNnY9T",6,null,null,"Загрузить",1,1,null,null,null,null,null,null,"","",""]
["FAROE ISLANDS: Faroe Islands Cup","2021.04.18 15:00","Sandur","Undri","rapVx8yk",231,null,null,"Загрузить",2,1,null,null,null,null,null,null,"","",""]
["FAROE ISLANDS: Faroe Islands Cup","2021.04.18 15:00","TB Tvoroyri","HB Torshavn","vyZD0Y9k",231,null,null,"Загрузить",0,2,null,null,null,null,null,null,"","",""]
["FINLAND: Kansallinen Liiga Women","2021.04.18 15:00","Honka W","Ilves W","8CA8Kdgd",76,null,null,"Загрузить",2,2,1.1299999999999999,6.45,15,1.1100000000000001,7.2,16,1.9999999999999796E-2,-0.75,-1]
["FRANCE: Ligue 1","2021.04.18 15:00","Brest","Lens","EXyUWqkD",77,null,null,"Загрузить",1,1,2.8,3.5,2.4,3.1,3.25,2.2999999999999998,-0.30000000000000027,0.25,0.10000000000000009]
["FRANCE: Ligue 1","2021.04.18 15:00","Dijon","Nice","jkLCeTRD",77,null,null,"Загрузить",2,0,4.75,3.8,1.7,3.75,3.4,2,1,0.39999999999999991,-0.30000000000000004]
["FRANCE: Ligue 1","2021.04.18 15:00","Nimes","Strasbourg","rm0iloKm",77,null,null,"Загрузить",1,1,3.6,3.5,2,3.75,3.4,2,-0.14999999999999991,0.10000000000000009,0]
["FRANCE: Ligue 1","2021.04.18 15:00","Reims","Metz","Mwaem5Zg",77,null,null,"Загрузить",0,0,2.5499999999999998,3.1,2.9,2.2999999999999998,3.1,3.25,0.25,0,-0.35000000000000009]
["GERMANY: 3. Liga","2021.04.18 15:00","Wehen","Unterhaching","roTGqC2p",81,null,null,"Загрузить",1,0,1.8,4,4,1.72,4,4.2,8.0000000000000071E-2,0,-0.20000000000000018]
["HUNGARY: NB I Women","2021.04.18 15:00","Astra Hungary W","Ferencvaros W","dMzHQh9K",91,null,null,"Загрузить",1,5,11.5,6.3,1.2,9.3000000000000007,7,1.18,2.1999999999999993,-0.70000000000000018,2.0000000000000018E-2]
["IRAQ: Super League","2021.04.18 15:00","Baghdad","Alsinaat Alkahrabaiya","nXKjH0Ed",95,null,null,"Загрузить",2,1,null,null,null,null,null,null,"","",""]
["IRELAND: National League Women","2021.04.18 15:00","Treaty Utd W","Wexford Youths Football Club W","rNr7XXgj",96,null,null,"Загрузить",1,7,16,8,1.1200000000000001,7.5,4.2,1.34,8.5,3.8,-0.21999999999999997]
["ITALY: Serie A","2021.04.18 15:00","Atalanta","Juventus","0hrbMv9B",98,null,null,"Загрузить",1,0,2.2000000000000002,3.6,3.1,2.62,3.4,2.6,-0.41999999999999993,0.20000000000000018,0.5]
["ITALY: Serie A","2021.04.18 15:00","Bologna","Spezia","pr9Z2j8j",98,null,null,"Загрузить",4,1,1.9,3.8,3.8,2.1,3.5,3.3,-0.20000000000000018,0.29999999999999982,0.5]
["ITALY: Serie A","2021.04.18 15:00","Lazio","Benevento","nF9kQM9n",98,null,null,"Загрузить",5,3,1.33,5.25,9,1.44,4.33,7,-0.10999999999999988,0.91999999999999993,2]
["ITALY: Serie C - Group A","2021.04.18 15:00","Lecco","Olbia","tvEiCgsC",98,null,null,"Загрузить",1,1,1.95,3,3.75,1.8,3.1,4.2,0.14999999999999991,-0.10000000000000009,-0.45000000000000018]
["ITALY: Serie C - Group B","2021.04.18 15:00","Gubbio","Mantova","UyEVCUsi",98,null,null,"Загрузить",0,0,2.5,3.1,2.7,2.25,3,3,0.25,0.10000000000000009,-0.29999999999999982]
["ITALY: Serie C - Group B","2021.04.18 15:00","Legnago Salus","Arezzo","YFVDfmSM",98,null,null,"Загрузить",1,1,2.5499999999999998,3,2.7,2.25,3,3,0.29999999999999982,0,-0.29999999999999982]
["ITALY: Serie C - Group B","2021.04.18 15:00","Matelica","Fano","4tR9eTCG",98,null,null,"Загрузить",0,0,2.0499999999999998,3.2,3.4,1.8,3.25,4,0.24999999999999978,-4.9999999999999822E-2,-0.60000000000000009]
["ITALY: Serie C - Group B","2021.04.18 15:00","Virtus Verona","Sambenedettese","4f6rASR9",98,null,null,"Загрузить",0,1,2,3.4,3.4,2.5,3,2.6,-0.5,0.39999999999999991,0.79999999999999982]
["ITALY: Serie C - Group C","2021.04.18 15:00","Bari","Palermo","G21gJ9bm",98,null,null,"Загрузить",2,2,1.75,3.3,4.5,2,3.2,3.5,-0.25,9.9999999999999645E-2,1]
["ITALY: Serie C - Group C","2021.04.18 15:00","Foggia","Paganese","6ZrMZgNF",98,null,null,"Загрузить",0,1,1.9,3.1,4.2,1.8,3.2,4.5,9.9999999999999867E-2,-0.10000000000000009,-0.29999999999999982]
["ITALY: Serie C - Group C","2021.04.18 15:00","Virtus Francavilla","Viterbese","6if6G7r6",98,null,null,"Загрузить",0,0,2.62,2.62,3,2.6,2.87,2.75,2.0000000000000018E-2,-0.25,0.25]
["ITALY: Serie D - Group A","2021.04.18 15:00","Borgosesia","Saluzzo","M1NITyYn",98,null,null,"Загрузить",1,1,2.56,3.2,2.6,2.3199999999999998,3.1,2.86,0.24000000000000021,0.10000000000000009,-0.25999999999999979]
["ITALY: Serie D - Group A","2021.04.18 15:00","Bra","Castellanzese","SvOEUHIt",98,null,null,"Загрузить",4,0,1.96,3.48,3.69,2.31,3.32,2.89,-0.35000000000000009,0.16000000000000014,0.79999999999999982]
["ITALY: Serie D - Group A","2021.04.18 15:00","Caronnese","Sanremese","ITGRRF2a",98,null,null,"Загрузить",3,1,2.2999999999999998,3.04,3.16,2.27,3,3.07,2.9999999999999805E-2,4.0000000000000036E-2,9.0000000000000302E-2]
["ITALY: Serie D - Group A","2021.04.18 15:00","Citta di Varese","Lavagnese","dKFVQZH5",98,null,null,"Загрузить",2,2,2.35,2.75,3.34,2.3199999999999998,3,3.26,3.0000000000000249E-2,-0.25,8.0000000000000071E-2]
["ITALY: Serie D - Group A","2021.04.18 15:00","Folgore Caratese","Vado","4pFZPgXB",98,null,null,"Загрузить",1,2,1.58,3.94,5.15,1.75,3.5,3.9,-0.16999999999999993,0.43999999999999995,1.2500000000000004]
["ITALY: Serie D - Group A","2021.04.18 15:00","HSL Derthona","Gozzano","ryEwPDnI",98,null,null,"Загрузить",null,null,3.58,3.24,2.0299999999999998,2.82,3.1,2.3199999999999998,0.76000000000000023,0.14000000000000012,-0.29000000000000004]
["ITALY: Serie D - Group A","2021.04.18 15:00","Imperia","Casale","Qa3rOX1O",98,null,null,"Загрузить",null,null,null,null,null,null,null,null,"","",""]
["ITALY: Serie D - Group A","2021.04.18 15:00","PDHA","Arconatese","v37nNiHU",98,null,null,"Загрузить",2,0,1.66,3.3,5,1.69,3.24,4.9000000000000004,-3.0000000000000027E-2,5.9999999999999609E-2,9.9999999999999645E-2]
["ITALY: Serie D - Group A","2021.04.18 15:00","Sestri Levante","Legnano","GOrhrymt",98,null,null,"Загрузить",0,2,1.69,3.5,4.42,1.69,3.5,4.42,0,0,0]
["ITALY: Serie D - Group B","2021.04.18 15:00","Brusaporto","Vis Nova Giussano","GSSMhmHq",98,null,null,"Загрузить",1,0,1.85,3.3,3.7,1.85,3.3,3.7,0,0,0]
["ITALY: Serie D - Group B","2021.04.18 15:00","Calvina","Crema","biIRi7Wk",98,null,null,"Загрузить",2,1,3.08,2.61,2.5299999999999998,2.94,3.1,2.27,0.14000000000000012,-0.49000000000000021,0.25999999999999979]
["ITALY: Serie D - Group B","2021.04.18 15:00","Ciserano-Bergamo","Fanfulla","YTdUBSNL",98,null,null,"Загрузить",2,3,2.96,3.34,2.2599999999999998,2.87,3.64,2.2000000000000002,8.9999999999999858E-2,-0.30000000000000027,5.9999999999999609E-2]
["ITALY: Serie D - Group B","2021.04.18 15:00","Franciacorta","Ponte San Pietro","Q3gMDlg9",98,null,null,"Загрузить",0,1,null,null,null,null,null,null,{"$f":"IF(L428=\"\",\"\",L428-O428)","v":""},{"$f":"IF(M428=\"\",\"\",M428-P428)","v":""},{"$f":"IF(N428=\"\",\"\",N428-Q428)","v":""}]
["ITALY: Serie D - Group B","2021.04.18 15:00","Real Calepina","Breno","4l5DFAOd",98,null,null,"Загрузить",1,0,2.88,2.97,2.48,2.3199999999999998,2.88,3.08,0.56000000000000005,9.0000000000000302E-2,-0.60000000000000009]
["ITALY: Serie D - Group B","2021.04.18 15:00","Scanzorosciate","NibionnOggiono","ru4HEUw3",98,null,null,"Загрузить",0,1,3.19,3.1,2.12,3.18,3.1,2.12,9.9999999999997868E-3,0,0]
["ITALY: Serie D - Group B","2021.04.18 15:00","Seregno","Caravaggio","CKeYAnwS",98,null,null,"Загрузить",2,0,1.48,4.0999999999999996,6.3,1.31,4.5,8.4,0.16999999999999993,-0.40000000000000036,-2.1000000000000005]
["ITALY: Serie D - Group B","2021.04.18 15:00","USD Casatese","Sona","xrHVjRod",98,null,null,"Загрузить",2,3,1.77,3.22,4.32,1.62,3.5,4.9000000000000004,0.14999999999999991,-0.2799999999999998,-0.58000000000000007]
["ITALY: Serie D - Group B","2021.04.18 15:00","Villa Alme","Tritium","v7cQC88F",98,null,null,"Загрузить",null,null,2.39,3.28,2.8,2.12,3.1,3.18,0.27,0.17999999999999972,-0.38000000000000034]
["ITALY: Serie D - Group C","2021.04.18 15:00","Adriese","Delta Porto Tolle","4ApitvLo",98,null,null,"Загрузить",3,2,2.63,2.63,2.6,2.63,2.63,2.7,0,0,-0.10000000000000009]
["ITALY: Serie D - Group C","2021.04.18 15:00","Caldiero Terme","Ambrosiana","r1qeubzh",98,null,null,"Загрузить",0,0,2.4,2.88,2.89,2.17,2.88,3.34,0.22999999999999998,0,-0.44999999999999973]
["ITALY: Serie D - Group C","2021.04.18 15:00","Campodarsego","ArzignanoChiampo","vTx4wx54",98,null,null,"Загрузить",null,null,3.18,2.88,2.27,3.18,2.88,2.27,0,0,0]
["ITALY: Serie D - Group C","2021.04.18 15:00","Cartigliano","Chions","Ykx8xdKA",98,null,null,"Загрузить",null,null,1.82,3.24,4.08,1.82,3.24,4.08,0,0,0]
["ITALY: Serie D - Group C","2021.04.18 15:00","Luparense","Belluno","CtyCyGZG",98,null,null,"Загрузить",1,0,2.3199999999999998,2.88,3.08,2.3199999999999998,2.88,3.08,0,0,0]
["ITALY: Serie D - Group C","2021.04.18 15:00","Manzanese","Este","UHVGzzkN",98,null,null,"Загрузить",2,0,2.2599999999999998,3.42,2.9,1.97,3.1,3.58,0.28999999999999981,0.31999999999999984,-0.68000000000000016]
["ITALY: Serie D - Group C","2021.04.18 15:00","Mestre","Feltre","88UKZg4T",98,null,null,"Загрузить",0,0,1.78,3.42,4.42,2.02,3.1,3.4,-0.24,0.31999999999999984,1.02]
["ITALY: Serie D - Group C","2021.04.18 15:00","Montebelluna","Trento","QPYavIkb",98,null,null,"Загрузить",0,1,4.5999999999999996,3.68,1.69,4.4400000000000004,3.3,1.72,0.15999999999999925,0.38000000000000034,-3.0000000000000027E-2]
["ITALY: Serie D - Group C","2021.04.18 15:00","San Giorgio-Sedico","Union Clodiense","QmHnVDCp",98,null,null,"Загрузить",1,2,2.5,3.2,2.75,2.5,3.2,2.75,0,0,0]
["ITALY: Serie D - Group D","2021.04.18 15:00","Aglianese Calcio","SCD Progresso","8CKbPAeE",98,null,null,"Загрузить",4,2,1.64,3.78,4.84,1.75,3.5,4.08,-0.1100000000000001,0.2799999999999998,0.75999999999999979]
["ITALY: Serie D - Group D","2021.04.18 15:00","Corticella","Sammaurese","E9N6NlQQ",98,null,null,"Загрузить",2,3,3.36,3.14,2.15,2.94,3.1,2.27,0.41999999999999993,4.0000000000000036E-2,-0.12000000000000011]
["ITALY: Serie D - Group D","2021.04.18 15:00","Fiorenzuola","Rimini","Kj0ZI8Ys",98,null,null,"Загрузить",3,2,1.72,3.5,4.0999999999999996,1.72,3.5,4.0999999999999996,0,0,0]
["ITALY: Serie D - Group D","2021.04.18 15:00","Forli","Ghivizzano Borgo","bsawISml",98,null,null,"Загрузить",2,3,2.04,3.25,3.67,2.12,3.1,3.18,-8.0000000000000071E-2,0.14999999999999991,0.48999999999999977]
["ITALY: Serie D - Group D","2021.04.18 15:00","G.S. Bagnolese","Lentigione","2ZJ2OUAK",98,null,null,"Загрузить",0,0,4.88,3.5,1.61,3.58,3.24,1.93,1.2999999999999998,0.25999999999999979,-0.31999999999999984]
["ITALY: Serie D - Group D","2021.04.18 15:00","Marignanese","Real Forte Querceta","SG3sHn3f",98,null,null,"Загрузить",2,3,2.3199999999999998,3,2.94,2.3199999999999998,3,2.94,0,0,0]
["ITALY: Serie D - Group D","2021.04.18 15:00","Prato","Sasso Marconi","672oG6I0",98,null,null,"Загрузить",2,2,1.54,3.94,5.6,1.45,3.74,6.75,9.000000000000008E-2,0.19999999999999973,-1.1500000000000004]
["ITALY: Serie D - Group D","2021.04.18 15:00","Seravezza Pozzi","Correggese","2ZefEpmD",98,null,null,"Загрузить",0,0,1.91,3.5,3.86,1.93,3.3,3.56,-2.0000000000000018E-2,0.20000000000000018,0.29999999999999982]
["ITALY: Serie D - Group E","2021.04.18 15:00","ACN Siena","Lornano Badesse","WINQ3tN0",98,null,null,"Загрузить",2,2,1.85,3.54,3.86,1.75,3.3,4.1399999999999997,0.10000000000000009,0.24000000000000021,-0.2799999999999998]
["ITALY: Serie D - Group E","2021.04.18 15:00","Flaminia","Cannara","0UqrC4FK",98,null,null,"Загрузить",1,1,2.61,2.5,3.11,2.42,2.88,2.94,0.18999999999999995,-0.37999999999999989,0.16999999999999993]
["ITALY: Serie D - Group E","2021.04.18 15:00","Foligno","Trestina","vLrnBOUQ",98,null,null,"Загрузить",1,2,2.5,2.75,2.75,2.5,2.75,2.75,0,0,0]
["ITALY: Serie D - Group E","2021.04.18 15:00","Ostia Mare","Montespaccato","d0VD6rwr",98,null,null,"Загрузить",3,1,1.81,3.2,4.66,2.5,2.75,2.88,-0.69,0.45000000000000018,1.7800000000000002]
["ITALY: Serie D - Group E","2021.04.18 15:00","Pianese","San Donato","A3ZH52hl",98,null,null,"Загрузить",3,2,1.87,3.1,3.9,1.87,3.1,3.92,0,0,-2.0000000000000018E-2]
["ITALY: Serie D - Group E","2021.04.18 15:00","Sangiovannese","Scandicci","hSOM4M7f",98,null,null,"Загрузить",2,1,2.0099999999999998,3.13,3.8,1.82,3.24,4.08,0.18999999999999972,-0.11000000000000032,-0.28000000000000025]
["ITALY: Serie D - Group E","2021.04.18 15:00","Tiferno Lerchi","Grassina","4pyY1KiD",98,null,null,"Загрузить",1,2,null,null,null,null,null,null,"","",""]
["ITALY: Serie D - Group E","2021.04.18 15:00","Trastevere Calcio","Montevarchi Calcio","6kFGQ3UD",98,null,null,"Загрузить",2,2,2.2599999999999998,3.01,3.24,2.3199999999999998,3.1,2.82,-6.0000000000000053E-2,-9.0000000000000302E-2,0.42000000000000037]
["ITALY: Serie D - Group E","2021.04.18 15:00","UC Sinalunghese","Follonica Gavorrano","QgxU20x7",98,null,null,"Загрузить",1,1,null,null,null,null,null,null,"","",""]
["ITALY: Serie D - Group F","2021.04.18 15:00","Agnonese","Porto Sant'Elpidio","bBYfc5h0",98,null,null,"Загрузить",null,null,null,null,null,null,null,null,"","",""]
["ITALY: Serie D - Group F","2021.04.18 15:00","Aprilia","Recanatese","Ob7PsQhD",98,null,null,"Загрузить",0,5,2.04,3.04,3.98,2.27,3,2.96,-0.22999999999999998,4.0000000000000036E-2,1.02]
["ITALY: Serie D - Group F","2021.04.18 15:00","ASD Pineto Calcio","Rieti","x2XbdP76",98,null,null,"Загрузить",2,0,1.77,3.3,4.7,2.17,2.88,3.34,-0.39999999999999991,0.41999999999999993,1.3600000000000003]
["ITALY: Serie D - Group F","2021.04.18 15:00","Campobasso","Vastese","8Mur078s",98,null,null,"Загрузить",0,0,1.37,4.16,7.1,1.3,4.5,8.5,7.0000000000000062E-2,-0.33999999999999986,-1.4000000000000004]
["ITALY: Serie D - Group F","2021.04.18 15:00","Castelnuovo Vomano","Cynthialbalonga","YTlG4m0Q",98,null,null,"Загрузить",3,3,2.2999999999999998,3.32,2.9,2.3199999999999998,3,2.94,-2.0000000000000018E-2,0.31999999999999984,-4.0000000000000036E-2]
["ITALY: Serie D - Group F","2021.04.18 15:00","Fiuggi","Giulianova","CE0769VD",98,null,null,"Загрузить",0,2,1.68,3.42,4.4800000000000004,2.12,3,3.32,-0.44000000000000017,0.41999999999999993,1.1600000000000006]
["ITALY: Serie D - Group F","2021.04.18 15:00","Matese","S. N. Notaresco","2qunaRNm",98,null,null,"Загрузить",1,1,3.36,3.1,2.0699999999999998,3.36,3.1,2.0699999999999998,0,0,0]
["ITALY: Serie D - Group F","2021.04.18 15:00","Montegiorgio","US Tolentino","tzvjbowf",98,null,null,"Загрузить",2,1,2.1800000000000002,3.4,2.81,1.93,3.1,3.7,0.25000000000000022,0.29999999999999982,-0.89000000000000012]
["ITALY: Serie D - Group G","2021.04.18 15:00","Afragolese","SS Nola 1925","EmWMxH4t",98,null,null,"Загрузить",0,1,2.2200000000000002,3.24,3.13,2.2200000000000002,3.3,3.12,0,-5.9999999999999609E-2,9.9999999999997868E-3]
["ITALY: Serie D - Group G","2021.04.18 15:00","Cassino","Latte Dolce","MDZUzeZh",98,null,null,"Загрузить",1,0,2.38,2.61,3.64,2.77,2.4,3.42,-0.39000000000000012,0.20999999999999996,0.2200000000000002]
["ITALY: Serie D - Group G","2021.04.18 15:00","Monterosi FC","Insieme Formia","C2SsYhJB",98,null,null,"Загрузить",0,0,1.67,3.78,4.5999999999999996,1.45,4,6.2,0.21999999999999997,-0.2200000000000002,-1.6000000000000005]
["ITALY: Serie D - Group G","2021.04.18 15:00","Savoia","Calcio Giugliano","W4rqWWmO",98,null,null,"Загрузить",2,0,1.4,4.3,7.5,1.34,4.2,8.3000000000000007,5.9999999999999831E-2,9.9999999999999645E-2,-0.80000000000000071]
["ITALY: Serie D - Group G","2021.04.18 15:00","Torres","Nuova Florida","jgRoXCYH",98,null,null,"Загрузить",0,1,2.3199999999999998,2.5499999999999998,3.94,2.67,2.4,3.58,-0.35000000000000009,0.14999999999999991,0.35999999999999988]
["ITALY: Serie D - Group H","2021.04.18 15:00","A.C.D. Nardo","Portici 1906","2eHuvAwt",98,null,null,"Загрузить",3,0,1.43,4.24,6.85,1.41,4.32,6.2,2.0000000000000018E-2,-8.0000000000000071E-2,0.64999999999999947]
["ITALY: Serie D - Group H","2021.04.18 15:00","Brindisi","Francavilla","G4rNLSNB",98,null,null,"Загрузить",1,2,2.21,3.19,3.29,2.17,3,3.19,4.0000000000000036E-2,0.18999999999999995,0.10000000000000009]
["ITALY: Serie D - Group H","2021.04.18 15:00","Casarano","Molfetta Calcio","U7nRKnwI",98,null,null,"Загрузить",1,1,1.54,3.52,5.65,1.55,3.5,5.6,-1.0000000000000009E-2,2.0000000000000018E-2,5.0000000000000711E-2]
["ITALY: Serie D - Group H","2021.04.18 15:00","Citta di Fasano","Taranto","OUoVJ6hO",98,null,null,"Загрузить",1,2,3.58,3.24,1.93,3.58,3.24,1.93,0,0,0]
["ITALY: Serie D - Group H","2021.04.18 15:00","Gravina","Fidelis Andria","2LpZIQ7U",98,null,null,"Загрузить",0,2,2.9,2.95,2.35,3.6,2.8,2.1,-0.70000000000000018,0.15000000000000036,0.25]
["ITALY: Serie D - Group H","2021.04.18 15:00","Picerno","Bitonto","YugIM885",98,null,null,"Загрузить",2,1,2.27,3.1,2.94,2.27,3.1,2.94,0,0,0]
["ITALY: Serie D - Group H","2021.04.18 15:00","Puteolana","Lavello","tnGqwUhn",98,null,null,"Загрузить",1,1,5.35,3.88,1.57,5.5,3.74,1.6,-0.15000000000000036,0.13999999999999968,-3.0000000000000027E-2]
["ITALY: Serie D - Group H","2021.04.18 15:00","Real Aversa","Altamura","z9Fmxl8h",98,null,null,"Загрузить",1,1,null,null,null,null,null,null,"","",""]
["ITALY: Serie D - Group H","2021.04.18 15:00","Sorrento","Audace Cerignola","YgYjy8Nb",98,null,null,"Загрузить",2,0,3.11,3.7,2.0699999999999998,3.17,3.44,2.12,-6.0000000000000053E-2,0.26000000000000023,-5.0000000000000266E-2]
["ITALY: Serie D - Group I","2021.04.18 15:00","Castrovillari","Marina di Ragusa","QugjGnde",98,null,null,"Загрузить",3,1,1.8,3.2,4.0999999999999996,1.8,3.2,4.0999999999999996,0,0,0]
["ITALY: Serie D - Group I","2021.04.18 15:00","Dattilo","Rende","h2PnF6B1",98,null,null,"Загрузить",2,1,1.94,3.4,3.7,1.94,3.4,3.7,0,0,0]
["ITALY: Serie D - Group I","2021.04.18 15:00","FC Messina","Biancavilla","WhOjEQQ7",98,null,null,"Загрузить",3,1,1.49,4.04,6.1,1.62,3.4,5.6,-0.13000000000000012,0.64000000000000012,0.5]
["ITALY: Serie D - Group I","2021.04.18 15:00","Gelbison Cilento","Cittanovese","pdCYxA38",98,null,null,"Загрузить",2,1,1.8,3.5,4.28,1.8,3.5,4.28,0,0,0]
["ITALY: Serie D - Group I","2021.04.18 15:00","Paterno","ACR Messina","baGxxUIE",98,null,null,"Загрузить",1,2,4.78,3.5,1.72,4.96,3.44,1.72,-0.17999999999999972,6.0000000000000053E-2,0]
["ITALY: Serie D - Group I","2021.04.18 15:00","Roccella","S. Agata","ImTAJL2m",98,null,null,"Загрузить",2,2,null,null,null,null,null,null,"","",""]
["ITALY: Serie D - Group I","2021.04.18 15:00","Rotonda","AS Acireale","nNXEIuIg",98,null,null,"Загрузить",null,null,2.37,2.95,3.13,2.37,2.95,3.13,0,0,0]
["ITALY: Serie D - Group I","2021.04.18 15:00","San Luca","Troina","QDWIHaXa",98,null,null,"Загрузить",3,1,1.82,2.75,6.15,1.87,2.65,5.9,-5.0000000000000044E-2,0.10000000000000009,0.25]
["ITALY: Primavera 1","2021.04.18 15:00","Lazio U19","Sassuolo U19","zyphhxn3",98,null,null,"Загрузить",3,3,3.28,3.54,2.02,3.3,3.64,1.99,-2.0000000000000018E-2,-0.10000000000000009,3.0000000000000027E-2]
["ITALY: Serie A Women","2021.04.18 15:00","San Marino Academy W","Verona W","ruleSaD1",98,null,null,"Загрузить",0,2,null,null,null,null,null,null,"","",""]
["ITALY: Serie B Women","2021.04.18 15:00","Cesena W","Brescia W","Obk6sebR",98,null,null,"Загрузить",2,0,null,null,null,null,null,null,{"$f":"IF(L492=\"\",\"\",L492-O492)","v":""},{"$f":"IF(M492=\"\",\"\",M492-P492)","v":""},{"$f":"IF(N492=\"\",\"\",N492-Q492)","v":""}]
["ITALY: Serie B Women","2021.04.18 15:00","Chievo Verona W","Tavagnacco W","UaYlZW57",98,null,null,"Загрузить",3,1,null,null,null,null,null,null,"","",""]
["ITALY: Serie B Women","2021.04.18 15:00","Cittadella W","Pontedera W","YXvtygye",98,null,null,"Загрузить",1,0,null,null,null,null,null,null,"","",""]
["ITALY: Serie B Women","2021.04.18 15:00","Pomigliano W","Riozzese Como W","GdUpzDj1",98,null,null,"Загрузить",1,0,null,null,null,null,null,null,"","",""]
["ITALY: Serie B Women","2021.04.18 15:00","Ravenna W","Vicenza W","r3MWcGr8",98,null,null,"Загрузить",1,1,null,null,null,null,null,null,"","",""]
["ITALY: Serie B Women","2021.04.18 15:00","Roma CF W","Perugia W","fstxxZLl",98,null,null,"Загрузить",4,0,null,null,null,null,null,null,"","",""]
["KAZAKHSTAN: Premier League","2021.04.18 15:00","Kaisar Kyzylorda","Atyrau","z91bNTvK",102,null,null,"Загрузить",1,1,2.2000000000000002,3.26,3.28,2.2000000000000002,3.09,3.5,0,0.16999999999999993,-0.2200000000000002]
["KOSOVO: Superliga","2021.04.18 15:00","Feronikeli","FC Ballkani","IF9YHDhH",212,null,null,"Загрузить",0,2,9.1999999999999993,4.6399999999999997,1.32,2.94,3.2,2.2200000000000002,6.26,1.4399999999999995,-0.90000000000000013]
["KOSOVO: Superliga","2021.04.18 15:00","Trepca 89","Drita","lzIHLegh",212,null,null,"Загрузить",0,1,7,4.0999999999999996,1.44,5.05,3.6,1.59,1.9500000000000002,0.49999999999999956,-0.15000000000000013]
["MACAO: Elite League","2021.04.18 15:00","Policia","Casa de Portugal","WABeJvRI",233,null,null,"Загрузить",0,0,null,null,null,null,null,null,"","",""]
["POLAND: Ekstraklasa","2021.04.18 15:00","Wisla Plock","Jagiellonia","hdtUV1q8",154,null,null,"Загрузить",2,2,1.95,3.4,4,2.2000000000000002,3.3,3.3,-0.25000000000000022,0.10000000000000009,0.70000000000000018]
["POLAND: III Liga - Group IV","2021.04.18 15:00","Chelmianka Chelm","S. Wola","bqU3gHgh",154,null,null,"Загрузить",0,1,null,null,null,null,null,null,"","",""]
["PORTUGAL: Liga Portugal 2","2021.04.18 15:00","Penafiel","CD Cova da Piedade","G6o3j45n",155,null,null,"Загрузить",2,2,2.2000000000000002,3.2,3.1,2,3.2,3.5,0.20000000000000018,0,-0.39999999999999991]
["PORTUGAL: Liga BPI Women - Championship Group","2021.04.18 15:00","Famalicao W","Condeixa W","WAcsKx5i",155,null,null,"Загрузить",2,1,1.05,12,23,1.1000000000000001,9,14.5,-5.0000000000000044E-2,3,8.5]
["RUSSIA: PFL - Group 3","2021.04.18 15:00","Lipetsk","Kvant","OAwtq7cr",158,null,null,"Загрузить",5,0,1.0900000000000001,8.6999999999999993,20,1.35,4.84,7.4,-0.26,3.8599999999999994,12.6]
["SAN MARINO: Campionato Sammarinese","2021.04.18 15:00","Faetano","San Giovanni","jwHe9IEt",163,null,null,"Загрузить",1,1,null,null,null,null,null,null,"","",""]
["SAN MARINO: Campionato Sammarinese","2021.04.18 15:00","La Fiorita","Tre Fiori","n5A47dqg",163,null,null,"Загрузить",1,0,null,null,null,null,null,null,"","",""]
["SAN MARINO: Campionato Sammarinese","2021.04.18 15:00","Libertas","Virtus","8EB08xUn",163,null,null,"Загрузить",1,0,null,null,null,null,null,null,"","",""]
["SCOTLAND: SWPL 1 Women","2021.04.18 15:00","Spartans W","Celtic W","4C3J5O0i",199,null,null,"Загрузить",1,5,null,null,null,null,null,null,"","",""]
["SLOVENIA: 1. SZNL Women","2021.04.18 15:00","Primorje W","Pomurje W","Ea2pEZge",172,null,null,"Загрузить",0,18,null,null,null,null,null,null,"","",""]
["SOUTH AFRICA: GladAfrica Championship","2021.04.18 15:00","Polokwane","Cape Town All Stars","KUQCeo7P",175,null,null,"Загрузить",1,1,null,null,null,null,null,null,"","",""]
["SOUTH AFRICA: GladAfrica Championship","2021.04.18 15:00","Sekhukhune","Jomo Cosmos","MwDvi5Ft",175,null,null,"Загрузить",0,1,1.9,3.3,3.92,1.82,3.24,4.08,7.9999999999999849E-2,5.9999999999999609E-2,-0.16000000000000014]
["SOUTH AFRICA: Nedbank Cup","2021.04.18 15:00","Mamelodi Sundowns","Tshakhuma","rJjXzNfs",175,null,null,"Загрузить",0,0,1.4,4.74,7.1,1.39,3.86,8.1999999999999993,1.0000000000000009E-2,0.88000000000000034,-1.0999999999999996]
["SWEDEN: Allsvenskan","2021.04.18 15:00","Degerfors","Kalmar","rFA2ZMYK",181,null,null,"Загрузить",0,1,2.15,3.3,3.3,2.15,3.5,3.25,0,-0.20000000000000018,4.9999999999999822E-2]
["SWEDEN: Allsvenskan","2021.04.18 15:00","Hacken","Malmo FF","0jLcz3JE",181,null,null,"Загрузить",1,2,3.5,3.5,2,3.4,3.2,2.2000000000000002,0.10000000000000009,0.29999999999999982,-0.20000000000000018]
["SWEDEN: Allsvenskan","2021.04.18 15:00","Ostersunds","Orebro","SK7lQIe7",181,null,null,"Загрузить",5,0,2.5499999999999998,3.25,2.75,2.62,3.5,2.5,-7.0000000000000284E-2,-0.25,0.25]
["SWEDEN: Superettan","2021.04.18 15:00","Varnamo","Sundsvall","fugcqseG",181,null,null,"Загрузить",2,1,3.75,3.4,2,3.4,3.3,2.1,0.35000000000000009,0.10000000000000009,-0.10000000000000009]
["SWEDEN: Allsvenskan Women","2021.04.18 15:00","Eskilstuna United W","Kristianstads W","MaYovJlg",181,null,null,"Загрузить",1,1,3.2,3.75,1.9,2.87,3.75,2,0.33000000000000007,0,-0.10000000000000009]
["SWEDEN: Elitettan Women","2021.04.18 15:00","Mallbackens W","IF Brommapojkarna W","I9x9E4Su",181,null,null,"Загрузить",0,1,3.96,4,1.73,2.2000000000000002,3.3,3.04,1.7599999999999998,0.70000000000000018,-1.31]
["TANZANIA: Ligi Kuu Bara","2021.04.18 15:00","Dodoma Jiji","Namungo","rD1Kf2nS",185,null,null,"Загрузить",0,1,2.02,2.91,3.84,1.82,3,4.46,0.19999999999999996,-8.9999999999999858E-2,-0.62000000000000011]
["TANZANIA: Ligi Kuu Bara","2021.04.18 15:00","Mwadui","Simba","no8BdOHF",185,null,null,"Загрузить",0,1,8.09,4.3099999999999996,1.4,6.75,3.74,1.45,1.3399999999999999,0.5699999999999994,-5.0000000000000044E-2]
["TURKEY: Super Lig","2021.04.18 15:00","Gaziantep","Kasimpasa","6yIU7Eto",191,null,null,"Загрузить",2,2,2.37,3.2,3,1.75,3.6,4.75,0.62000000000000011,-0.39999999999999991,-1.75]
["TURKEY: 1. Lig","2021.04.18 15:00","Akhisarspor","Altinordu","Iw08IR5t",191,null,null,"Загрузить",1,1,3.4,3.6,1.9,3.5,3.25,1.9,-0.10000000000000009,0.35000000000000009,0]
["UGANDA: Premier League","2021.04.18 15:00","Kampala City","Villa","0l4pkSM7",194,null,null,"Загрузить",1,0,1.69,3.2,5.0999999999999996,1.69,3.2,5.0999999999999996,0,0,0]
["WORLD: Club Friendly","2021.04.18 15:00","Fredrikstad","Ull/Kisa","bgXIuSQI",8,null,null,"Загрузить",4,1,2.02,3.4,3.17,2.02,3.4,3.17,0,0,0]
["ZAMBIA: Super League","2021.04.18 15:00","Forest Rangers","Power Dynamos","2ofIEgkF",209,null,null,"Загрузить",2,0,2.3199999999999998,2.62,3.36,2.37,2.63,3.32,-5.0000000000000266E-2,-9.9999999999997868E-3,4.0000000000000036E-2]
["ZAMBIA: Super League","2021.04.18 15:00","Lumwana Radiants","Nkana","QegatKap",209,null,null,"Загрузить",1,0,2.2200000000000002,2.75,3.48,2.4300000000000002,2.92,2.97,-0.20999999999999996,-0.16999999999999993,0.50999999999999979]
["ZAMBIA: Super League","2021.04.18 15:00","Nkwazi","Red Arrows","GxzChpvR",209,null,null,"Загрузить",2,0,2.66,2.6,3,2.65,2.6,3,1.0000000000000231E-2,0,0]
["LEBANON: Premier League - Winners stage","2021.04.18 15:05","Al Akhaa Al Ahli","Nejmeh SC","WI3Bs6fC",111,null,null,"Загрузить",0,0,null,null,null,null,null,null,"","",""]
["LEBANON: Premier League - Winners stage","2021.04.18 15:05","Al Ansar","Al Sahel","IFa7rnu6",111,null,null,"Загрузить",2,0,1.57,3.7,5.75,1.69,3.4,4.5999999999999996,-0.11999999999999988,0.30000000000000027,1.1500000000000004]
["LEBANON: Premier League - Winners stage","2021.04.18 15:05","Safa","Al Ahed","EsgGtQ9I",111,null,null,"Загрузить",3,3,null,null,null,null,null,null,"","",""]
["HUNGARY: OTP Bank Liga","2021.04.18 15:15","Puskas Academy","MTK Budapest","YPU8LsVQ",91,null,null,"Загрузить",3,0,1.7,3.75,4.5,1.83,3.5,3.75,-0.13000000000000012,0.25,0.75]
["GERMANY: Bundesliga","2021.04.18 15:30","Dortmund","Werder Bremen","ETLMU8ir",81,null,null,"Загрузить",4,1,1.3,5.5,9.5,1.4,5,6.5,-9.9999999999999867E-2,0.5,3]
["GREECE: Gamma Ethniki - Group 1","2021.04.18 15:30","Aetos Orfani","Ampelokipon","xtQlMdSi",83,null,null,"Загрузить",3,1,null,null,null,null,null,null,"","",""]
["GREECE: Gamma Ethniki - Group 1","2021.04.18 15:30","Alexandroypolis","Ethnikos Sochos","SUI1JfCA",83,null,null,"Загрузить",3,1,null,null,null,null,null,null,"","",""]
["GREECE: Gamma Ethniki - Group 1","2021.04.18 15:30","Anagennisi Thalassias","Apollon Paralimniou","Q5MpNxDo",83,null,null,"Загрузить",3,1,null,null,null,null,null,null,"","",""]
["GREECE: Gamma Ethniki - Group 1","2021.04.18 15:30","Aris Avatou","Elpida Sapes","6LH5IERG",83,null,null,"Загрузить",0,0,null,null,null,null,null,null,"","",""]
["GREECE: Gamma Ethniki - Group 1","2021.04.18 15:30","Chrisoupolis","Iraklis","W2PhLGsb",83,null,null,"Загрузить",0,0,null,null,null,null,null,null,"","",""]
["GREECE: Gamma Ethniki - Group 1","2021.04.18 15:30","Didymoteicho","M. Alexandros Orfaniou","EoLDGhdT",83,null,null,"Загрузить",2,0,null,null,null,null,null,null,"","",""]
["GREECE: Gamma Ethniki - Group 1","2021.04.18 15:30","F.C. Pandramaikos","Evosmou","0rH9HYtN",83,null,null,"Загрузить",2,0,null,null,null,null,null,null,"","",""]
["GREECE: Gamma Ethniki - Group 1","2021.04.18 15:30","Sidirochori","Orfeas Xanthi","AgOdKzc4",83,null,null,"Загрузить",null,null,null,null,null,null,null,null,"","",""]
["GREECE: Gamma Ethniki - Group 2","2021.04.18 15:30","A. Asteras","PAO Koufalion","xSlJLmQs",83,null,null,"Загрузить",1,2,null,null,null,null,null,null,"","",""]
["GREECE: Gamma Ethniki - Group 2","2021.04.18 15:30","AS Giannitsa","Aetos Varvaras","lWVvHPvD",83,null,null,"Загрузить",1,2,null,null,null,null,null,null,"","",""]
["GREECE: Gamma Ethniki - Group 2","2021.04.18 15:30","Edessaikos","Ethnikos Giannitsa","SGsWIoA0",83,null,null,"Загрузить",1,2,null,null,null,null,null,null,"","",""]
["GREECE: Gamma Ethniki - Group 2","2021.04.18 15:30","Niki Agkathia","M. Alexandros Trikala","bswSJRff",83,null,null,"Загрузить",1,2,null,null,null,null,null,null,"","",""]
["GREECE: Gamma Ethniki - Group 2","2021.04.18 15:30","PAOK Alexandreia","Thyella Sarakinoi","67tzI5P6",83,null,null,"Загрузить",1,2,null,null,null,null,null,null,"","",""]
["GREECE: Gamma Ethniki - Group 2","2021.04.18 15:30","Plagia","Makedonikos","KjvOK7ul",83,null,null,"Загрузить",0,0,null,null,null,null,null,null,"","",""]
["GREECE: Gamma Ethniki - Group 2","2021.04.18 15:30","Thermaikos FC","Nea Kallikrateia","2ZZrGqfJ",83,null,null,"Загрузить",0,0,null,null,null,null,null,null,"","",""]
["GREECE: Gamma Ethniki - Group 3","2021.04.18 15:30","Aetos Makrychoriou","Makedonikos Foufas","f7J4GHaM",83,null,null,"Загрузить",0,0,null,null,null,null,null,null,"","",""]
["GREECE: Gamma Ethniki - Group 3","2021.04.18 15:30","Dias Diou","Karitsa","8EauAFxj",83,null,null,"Загрузить",0,0,null,null,null,null,null,null,"","",""]
["GREECE: Gamma Ethniki - Group 3","2021.04.18 15:30","Elassona","Sellana","n5bq9Zid",83,null,null,"Загрузить",0,1,null,null,null,null,null,null,"","",""]
["GREECE: Gamma Ethniki - Group 3","2021.04.18 15:30","Fikis","Ethnikos Neou","08nRXIUd",83,null,null,"Загрузить",0,1,null,null,null,null,null,null,"","",""]
["GREECE: Gamma Ethniki - Group 3","2021.04.18 15:30","Karditsa","Oikonomos","jw5zBeNq",83,null,null,"Загрузить",0,1,1.46,3.74,6.3,1.46,3.74,6.3,0,0,0]
["GREECE: Gamma Ethniki - Group 3","2021.04.18 15:30","Kozani FC","Amyntaio","lUI8FyFS",83,null,null,"Загрузить",0,1,null,null,null,null,null,null,"","",""]
["GREECE: Gamma Ethniki - Group 3","2021.04.18 15:30","Meteora","Atromitos Palamas","dM01HcpG",83,null,null,"Загрузить",0,1,null,null,null,null,null,null,{"$f":"IF(L556=\"\",\"\",L556-O556)","v":""},{"$f":"IF(M556=\"\",\"\",M556-P556)","v":""},{"$f":"IF(N556=\"\",\"\",N556-Q556)","v":""}]
["GREECE: Gamma Ethniki - Group 4","2021.04.18 15:30","Atalanti","Nea Artaki","CtRh9OTS",83,null,null,"Загрузить",0,1,null,null,null,null,null,null,"","",""]
["GREECE: Gamma Ethniki - Group 4","2021.04.18 15:30","GS Almyros","Fokikos FC","r1ZyD6U3",83,null,null,"Загрузить",0,1,null,null,null,null,null,null,"","",""]
["GREECE: Gamma Ethniki - Group 4","2021.04.18 15:30","Ipato","Dia. Stefanovik","IJRlA4EM",83,null,null,"Загрузить",0,1,null,null,null,null,null,null,"","",""]
["GREECE: Gamma Ethniki - Group 4","2021.04.18 15:30","Thiseas Agria","Amvrysseas","MiYuCQqA",83,null,null,"Загрузить",0,1,null,null,null,null,null,null,"","",""]
["GREECE: Gamma Ethniki - Group 5","2021.04.18 15:30","Acheron Kanalaki","Asteras Kalirachis","UqjClLNI",83,null,null,"Загрузить",0,1,null,null,null,null,null,null,"","",""]
["GREECE: Gamma Ethniki - Group 5","2021.04.18 15:30","Amvrakikos Loutrou","Panagriniakos","djrbCOFP",83,null,null,"Загрузить",0,1,null,null,null,null,null,null,"","",""]
["GREECE: Gamma Ethniki - Group 5","2021.04.18 15:30","Lefkimmi","Anagennisi Arta","baUP7rOt",83,null,null,"Загрузить",0,1,null,null,null,null,null,null,"","",""]
["GREECE: Gamma Ethniki - Group 5","2021.04.18 15:30","Mesolongi AE","Agios Matthaios","8zkGmuwP",83,null,null,"Загрузить",0,1,null,null,null,null,null,null,"","",""]
["GREECE: Gamma Ethniki - Group 5","2021.04.18 15:30","Thyella Katsikas","Preveza","nL07k18C",83,null,null,"Загрузить",0,1,null,null,null,null,null,null,"","",""]
["GREECE: Gamma Ethniki - Group 5","2021.04.18 15:30","Thyella Monastirakiou","Kerkyra","jHV6KvQE",83,null,null,"Загрузить",null,null,null,null,null,null,null,null,"","",""]
["GREECE: Gamma Ethniki - Group 5","2021.04.18 15:30","Tilikratis L.","M. Alexandros Kastorias","tOJU62wm",83,null,null,"Загрузить",0,1,null,null,null,null,null,null,"","",""]
["GREECE: Gamma Ethniki - Group 6","2021.04.18 15:30","Ethnikos Piraeus","Aittitos Spata","SffvowjG",83,null,null,"Загрузить",0,0,2.27,3,3.07,2.27,3,3.07,0,0,0]
["GREECE: Gamma Ethniki - Group 6","2021.04.18 15:30","Fostiras","Pannaxiakos","xnVERlke",83,null,null,"Загрузить",0,0,null,null,null,null,null,null,"","",""]
["GREECE: Gamma Ethniki - Group 6","2021.04.18 15:30","Ilioupoli","Charavgiakos","4KH7TAKr",83,null,null,"Загрузить",0,0,null,null,null,null,null,null,"","",""]
["GREECE: Gamma Ethniki - Group 6","2021.04.18 15:30","Moschato","Proodeftiki","beWASUZl",83,null,null,"Загрузить",0,0,null,null,null,null,null,null,"","",""]
["GREECE: Gamma Ethniki - Group 6","2021.04.18 15:30","Panionios","Marko","jqrsVknB",83,null,null,"Загрузить",0,0,null,null,null,null,null,null,"","",""]
["GREECE: Gamma Ethniki - Group 7","2021.04.18 15:30","Agios Ierotheos","Panarkadikos","6LkA5Jkj",83,null,null,"Загрузить",0,0,1.93,3.2,3.68,1.93,3.2,3.68,0,0,0]
["GREECE: Gamma Ethniki - Group 7","2021.04.18 15:30","Atromitos Chiliomodi","Nafplio","MmEwBuSS",83,null,null,"Загрузить",0,0,null,null,null,null,null,null,"","",""]
["GREECE: Gamma Ethniki - Group 7","2021.04.18 15:30","Ermionidas-Ermis","Rouf FC","Od056azp",83,null,null,"Загрузить",0,0,null,null,null,null,null,null,"","",""]
["GREECE: Gamma Ethniki - Group 7","2021.04.18 15:30","Foinikas N. Epidavrou","Koronida Koiladas","CIt0Stc3",83,null,null,"Загрузить",0,0,null,null,null,null,null,null,"","",""]
["GREECE: Gamma Ethniki - Group 7","2021.04.18 15:30","Molaikos","Ermis Meligous","YRsdTMsc",83,null,null,"Загрузить",0,0,null,null,null,null,null,null,"","",""]
["GREECE: Gamma Ethniki - Group 8","2021.04.18 15:30","Aetos Loutron","Karavas","dbdJdJsa",83,null,null,"Загрузить",0,0,null,null,null,null,null,null,"","",""]
["GREECE: Gamma Ethniki - Group 8","2021.04.18 15:30","AO Akratitos","Mikrasiatiki","tnbVgHRH",83,null,null,"Загрузить",0,0,null,null,null,null,null,null,"","",""]
["GREECE: Gamma Ethniki - Group 8","2021.04.18 15:30","Panelefsiniakos","Keratsini","8YaNewc5",83,null,null,"Загрузить",3,0,3.84,3.24,1.85,3.84,3.24,1.85,0,0,0]
["GREECE: Gamma Ethniki - Group 8","2021.04.18 15:30","Pyliou","Aiolikos","2eaRfcCB",83,null,null,"Загрузить",1,0,null,null,null,null,null,null,"","",""]
["GREECE: Gamma Ethniki - Group 8","2021.04.18 15:30","Pythagoras Kontakaiikon","Aias","zq8AbuDn",83,null,null,"Загрузить",1,0,null,null,null,null,null,null,"","",""]
["GREECE: Gamma Ethniki - Group 8","2021.04.18 15:30","Thyella D.","Kyanos A. V.","EZ6EcaSh",83,null,null,"Загрузить",1,0,2.5,3,2.63,2.5,3,2.63,0,0,0]
["GREECE: Gamma Ethniki - Group 9","2021.04.18 15:30","Aias Gastounis","Ethnikos Skoulikadou","8l0BuzQj",83,null,null,"Загрузить",1,0,null,null,null,null,null,null,"","",""]
["GREECE: Gamma Ethniki - Group 9","2021.04.18 15:30","Diavolitsi","PAO Varda","dAt61HnA",83,null,null,"Загрузить",1,0,null,null,null,null,null,null,"","",""]
["GREECE: Gamma Ethniki - Group 9","2021.04.18 15:30","Nafpaktiakos","Achaiki","IJs22cX3",83,null,null,"Загрузить",1,0,null,null,null,null,null,null,"","",""]
["GREECE: Gamma Ethniki - Group 9","2021.04.18 15:30","Pallixouriakos","Panegialios FC","dEd7tGAp",83,null,null,"Загрузить",0,2,null,null,null,null,null,null,"","",""]
["GREECE: Gamma Ethniki - Group 9","2021.04.18 15:30","Thyella Patras","Pamisos","Milg4J2i",83,null,null,"Загрузить",0,0,null,null,null,null,null,null,"","",""]
["GREECE: Gamma Ethniki - Group 9","2021.04.18 15:30","Zakynthos","AO Tsilivi","0rmc3wIc",83,null,null,"Загрузить",0,0,null,null,null,null,null,null,"","",""]
["GREECE: Gamma Ethniki - Group 10","2021.04.18 15:30","AEEK Inka","Poros","nTEPyMad",83,null,null,"Загрузить",0,0,null,null,null,null,null,null,"","",""]
["GREECE: Gamma Ethniki - Group 10","2021.04.18 15:30","AE Neapolis","Giouchtas","zgBLx2pj",83,null,null,"Загрузить",0,0,null,null,null,null,null,null,"","",""]
["GREECE: Gamma Ethniki - Group 10","2021.04.18 15:30","Agios Nikolaos","Rethymniakos","vN1BaPi3",83,null,null,"Загрузить",0,0,null,null,null,null,null,null,"","",""]
["GREECE: Gamma Ethniki - Group 10","2021.04.18 15:30","Almyros Gaziou","Damastas","0W2705xc",83,null,null,"Загрузить",0,0,2.12,3,3.36,2.12,3,3.36,0,0,0]
["GREECE: Gamma Ethniki - Group 10","2021.04.18 15:30","Aris Soudas","Ierapetra","UBfOdNyM",83,null,null,"Загрузить",3,0,2.25,3.5,2.63,2.25,3.5,2.63,0,0,0]
["INDONESIA: Menpora Cup - Play Offs","2021.04.18 15:30","Persija Jakarta","PSM Makassar","KCwTOciE",228,null,null,"Загрузить",0,0,1.65,3.46,5.35,2.5,3.2,2.5,-0.85000000000000009,0.25999999999999979,2.8499999999999996]
["ITALY: Serie D - Group C","2021.04.18 15:30","Virtus Bolzano","Cjarlins Muzane","xOKjUXRj",98,null,null,"Загрузить",2,4,2.04,3.56,3,1.85,3.24,3.84,0.18999999999999995,0.31999999999999984,-0.83999999999999986]
["RUSSIA: Premier League","2021.04.18 15:30","Sochi","CSKA Moscow","fV36QHmN",158,null,null,"Загрузить",2,1,2.87,3.3,2.4,3.4,3.4,2.1,-0.5299999999999998,-0.10000000000000009,0.29999999999999982]
["UKRAINE: Druha Liga","2021.04.18 15:30","Chernihiv","Obolon 2","h23jyyfS",195,null,null,"Загрузить",1,1,2.2000000000000002,3.22,2.98,2.2200000000000002,3.2,2.96,-2.0000000000000018E-2,2.0000000000000018E-2,2.0000000000000018E-2]
["ALBANIA: Superliga","2021.04.18 16:00","Laci","Bylis","C4wRK4qq",17,null,null,"Загрузить",2,1,null,null,null,null,null,null,"","",""]
["ALBANIA: Superliga","2021.04.18 16:00","Skenderbeu","Teuta","SW1fQQLL",17,null,null,"Загрузить",0,1,null,null,null,null,null,null,"","",""]
["ARGENTINA: Primera A Women - Apertura","2021.04.18 16:00","Boca Juniors W","Social Atletico Television W","WKQPbkb8",22,null,null,"Загрузить",5,1,1.02,13,24,1.03,14,24,-1.0000000000000009E-2,-1,0]
["BRAZIL: Campeonato Mineiro","2021.04.18 16:00","Pouso Alegre","Cruzeiro","CrbwwaR2",39,null,null,"Загрузить",1,0,6.5,3.4,1.53,6,3.4,1.53,0.5,0,0]
["BRAZIL: Campeonato Paranaense","2021.04.18 16:00","Parana","Londrina","tUGSTs9d",39,null,null,"Загрузить",1,1,2.1,3.1,3.3,2.25,3,3,-0.14999999999999991,0.10000000000000009,0.29999999999999982]
["BULGARIA: Third League - South-East","2021.04.18 16:00","Haskovo 1957","Sokol Markovo","AT8Penhi",41,null,null,"Загрузить",1,0,null,null,null,null,null,null,"","",""]
["BULGARIA: Third League - North-West","2021.04.18 16:00","Akademik Svishtov","Bdin Vidin","fumzSvH8",41,null,null,"Загрузить",0,0,null,null,null,null,null,null,"","",""]
["BULGARIA: Third League - North-West","2021.04.18 16:00","Botev Vratsa II","Spartak Pleven","nwSEKd9r",41,null,null,"Загрузить",1,5,null,null,null,null,null,null,"","",""]
["BULGARIA: Third League - North-West","2021.04.18 16:00","Drenovets","Sevlievo","t0RIJGOl",41,null,null,"Загрузить",1,0,null,null,null,null,null,null,"","",""]
["BULGARIA: Third League - North-West","2021.04.18 16:00","Levski Lom","Parva Atomna","l2nvRbWE",41,null,null,"Загрузить",1,0,null,null,null,null,null,null,"","",""]
["BULGARIA: Third League - North-West","2021.04.18 16:00","Mezdra","Lok. Dryanovo","zaKRHfg1",41,null,null,"Загрузить",1,5,null,null,null,null,null,null,"","",""]
["BULGARIA: Third League - North-West","2021.04.18 16:00","Partizan Cerven Brjag","Tryavna","pUumPx1R",41,null,null,"Загрузить",3,1,null,null,null,null,null,null,"","",""]
["BULGARIA: Third League - North-West","2021.04.18 16:00","Pavlikeni","OFK Levski","ShorQIoL",41,null,null,"Загрузить",3,1,null,null,null,null,null,null,"","",""]
["BULGARIA: Third League - North-West","2021.04.18 16:00","Peshtera Galata","Etar II","hzVMIzve",41,null,null,"Загрузить",3,1,null,null,null,null,null,null,"","",""]
["BULGARIA: Third League - North-West","2021.04.18 16:00","Yantra Polski Trambesh","Vihar Slavyanovo","EkJVGE87",41,null,null,"Загрузить",3,1,null,null,null,null,null,null,"","",""]
["CYPRUS: First Division - Championship Group","2021.04.18 16:00","AEL Limassol","Apollon","hx0LFf6I",61,null,null,"Загрузить",1,2,3.1,3,2.25,2.75,3,2.5,0.35000000000000009,0,-0.25]
["CZECH REPUBLIC: 1. Liga","2021.04.18 16:00","Liberec","Slavia Prague","ptOU5QzF",62,null,null,"Загрузить",0,1,4,3.3,1.8,4.2,3.4,1.72,-0.20000000000000018,-0.10000000000000009,8.0000000000000071E-2]
["DENMARK: Superliga - Championship Group","2021.04.18 16:00","FC Copenhagen","Nordsjaelland","4AOk3WiU",63,null,null,"Загрузить",2,2,1.44,4.5,7.5,1.62,4,5,-0.18000000000000016,0.5,2.5]
["ENGLAND: Championship","2021.04.18 16:00","Coventry","Barnsley","zyKVgbm3",198,null,null,"Загрузить",2,0,3.4,3.1,2.2999999999999998,3.5,3.4,2.0499999999999998,-0.10000000000000009,-0.29999999999999982,0.25]
["ENGLAND: Women’s FA Cup","2021.04.18 16:00","Wolverhampton W","Blackburn W","McP4C2bE",198,null,null,"Загрузить",2,5,4.58,6.08,1.46,4.4400000000000004,6,1.41,0.13999999999999968,8.0000000000000071E-2,5.0000000000000044E-2]
["FAROE ISLANDS: Faroe Islands Cup","2021.04.18 16:00","07 Vestur Sorvagur","Hoyvik","OMDb9nS7",231,null,null,"Загрузить",3,0,null,null,null,null,null,null,"","",""]
["FAROE ISLANDS: Faroe Islands Cup","2021.04.18 16:00","B36 Torshavn","AB Argir","z3SMbCv2",231,null,null,"Загрузить",6,0,1.5,4.37,5.72,1.45,4.2,5.7,{"$f":"IF(L620=\"\",\"\",L620-O620)","v":5.0000000000000044E-2},{"$f":"IF(M620=\"\",\"\",M620-P620)","v":0.16999999999999993},{"$f":"IF(N620=\"\",\"\",N620-Q620)","v":1.9999999999999574E-2}]
["FAROE ISLANDS: Faroe Islands Cup","2021.04.18 16:00","IF Fuglafjordur","FC Suduroy","MaOIahPe",231,null,null,"Загрузить",3,0,null,null,null,null,null,null,"","",""]
["FAROE ISLANDS: Faroe Islands Cup","2021.04.18 16:00","Klaksvik","NSI Runavik","0pzA1Efq",231,null,null,"Загрузить",null,null,null,null,null,null,null,null,"","",""]
["FAROE ISLANDS: Faroe Islands Cup","2021.04.18 16:00","Toftir","Streymur","l6G4NeH2",231,null,null,"Загрузить",1,2,null,null,null,null,null,null,"","",""]
["FAROE ISLANDS: Faroe Islands Cup","2021.04.18 16:00","Vikingur","Skala Itrottarfelag","riYr6fnS",231,null,null,"Загрузить",2,0,null,null,null,null,null,null,"","",""]
["HUNGARY: NB III - West","2021.04.18 16:00","SC Sopron","BKV Elore","0pxRBxIt",91,null,null,"Загрузить",1,1,2.04,3.48,3.3,2.0699999999999998,3,3.48,-2.9999999999999805E-2,0.48,-0.18000000000000016]
["ISRAEL: Liga Alef South - Relegation Group","2021.04.18 16:00","M. Herzliya","Ironi Or Yehuda","hKM9mcUA",97,null,null,"Загрузить",3,1,1.87,3.54,3.95,1.82,3.4,3.82,5.0000000000000044E-2,0.14000000000000012,0.13000000000000034]
["LATVIA: Optibet Virsliga","2021.04.18 16:00","Ventspils","FK Liepaja","dQWNKl9h",110,null,null,"Загрузить",0,1,4.75,3.3,1.65,3.2,3.1,2.1,1.5499999999999998,0.19999999999999973,-0.45000000000000018]
["LIBERIA: LFA First Division","2021.04.18 16:00","NPA Anchors","Nimba","fkAYcDT5",113,null,null,"Загрузить",null,null,2.57,2.74,3.08,2.57,2.74,3.08,0,0,0]
["LITHUANIA: I Lyga","2021.04.18 16:00","FK Panevezys 2","BFA Vilnius","bNvk4P2G",116,null,null,"Загрузить",6,3,1.18,6.5,10,1.23,5.5,9.3000000000000007,-5.0000000000000044E-2,1,0.69999999999999929]
["LUXEMBOURG: National Division","2021.04.18 16:00","Dudelange","Mondorf","rZEGRnJf",117,null,null,"Загрузить",3,0,null,null,null,null,null,null,"","",""]
["LUXEMBOURG: National Division","2021.04.18 16:00","Niedercorn","Fola","UkHSOp3D",117,null,null,"Загрузить",1,1,3.94,3.89,1.79,3.84,4.04,1.75,0.10000000000000009,-0.14999999999999991,4.0000000000000036E-2]
["LUXEMBOURG: National Division","2021.04.18 16:00","UNA Strassen","Ettelbruck","0APBSS3l",117,null,null,"Загрузить",1,1,1.48,4.54,5.4,1.53,4.4400000000000004,4.9400000000000004,-5.0000000000000044E-2,9.9999999999999645E-2,0.45999999999999996]
["LUXEMBOURG: National Division","2021.04.18 16:00","Union Titus Petange","Hesperange","jaIOPQm7",117,null,null,"Загрузить",0,1,8.1,4.5999999999999996,1.35,4.66,4.1399999999999997,1.6,3.4399999999999995,0.45999999999999996,-0.25]
["LUXEMBOURG: National Division","2021.04.18 16:00","Wiltz","Differdange","6gLxZUQK",117,null,null,"Загрузить",null,null,2.4,3.38,2.5,2.4,3.4,2.5,0,-2.0000000000000018E-2,0]
["MALAYSIA: Super League","2021.04.18 16:00","Melaka United","Selangor","vyXt57JL",121,null,null,"Загрузить",2,3,2.44,3.32,2.66,2.27,3.4,2.75,0.16999999999999993,-8.0000000000000071E-2,-8.9999999999999858E-2]
["MALAYSIA: Super League","2021.04.18 16:00","Petaling Jaya CFC","Penang","IRVp4RYR",121,null,null,"Загрузить",1,1,2.71,3.3,2.4,2.4,3.6,2.4,0.31000000000000005,-0.30000000000000027,0]
["MALAYSIA: Premier League","2021.04.18 16:00","Negeri Sembilan","Kelantan","W4WGO7Y1",121,null,null,"Загрузить",2,1,2.11,3.58,3.16,2.12,3.4,2.94,-1.0000000000000231E-2,0.18000000000000016,0.2200000000000002]
["MALAYSIA: Premier League","2021.04.18 16:00","Selangor 2","Kuching City FC","dnv4R9lq",121,null,null,"Загрузить",1,1,1.76,3.87,4.13,1.82,3.6,3.66,-6.0000000000000053E-2,0.27,0.46999999999999975]
["MONTENEGRO: Druga Liga","2021.04.18 16:00","Arsenal Tivat","Ibar","8fgLyYDa",133,null,null,"Загрузить",1,0,6.6,4.04,1.43,5.75,4.74,1.37,0.84999999999999964,-0.70000000000000018,5.9999999999999831E-2]
["MONTENEGRO: Druga Liga","2021.04.18 16:00","Berane","Bokelj","bqnYYVcI",133,null,null,"Загрузить",1,1,null,null,null,null,null,null,"","",""]
["MONTENEGRO: Druga Liga","2021.04.18 16:00","Grbalj","Mornar Bar","U9sUZBrC",133,null,null,"Загрузить",1,2,6.08,4.58,1.46,5.7,4.5,1.41,0.37999999999999989,8.0000000000000071E-2,5.0000000000000044E-2]
["MONTENEGRO: Druga Liga","2021.04.18 16:00","Jedinstvo","Igalo","fikHxEbg",133,null,null,"Загрузить",3,1,3.22,3.32,2.1800000000000002,3.17,3.2,2.12,5.0000000000000266E-2,0.11999999999999966,6.0000000000000053E-2]
["MONTENEGRO: Druga Liga","2021.04.18 16:00","Kom Podgorica","Drezga","jJrQzhT5",133,null,null,"Загрузить",1,2,1.27,5.81,8.85,1.26,5.5,7.8,1.0000000000000009E-2,0.30999999999999961,1.0499999999999998]
["PARAGUAY: Division Intermedia","2021.04.18 16:00","Deportivo Santani","2 de Mayo","M1cGZKCA",151,null,null,"Загрузить",0,0,null,null,null,null,null,null,"","",""]
["PARAGUAY: Division Intermedia","2021.04.18 16:00","San Lorenzo","Resistencia","0hdKYvSG",151,null,null,"Загрузить",1,1,null,null,null,null,null,null,"","",""]
["POLAND: III Liga - Group IV","2021.04.18 16:00","Sandomierz","Wisla Pulawy","n50oyzvO",154,null,null,"Загрузить",1,4,null,null,null,null,null,null,"","",""]
["PORTUGAL: Primeira Liga","2021.04.18 16:00","Famalicao","Portimonense","EkPcIhoQ",155,null,null,"Загрузить",0,1,2.25,3.2,3.25,2.25,3.1,3.4,0,0.10000000000000009,-0.14999999999999991]
["PORTUGAL: Liga Portugal 2","2021.04.18 16:00","FC Porto B","Estoril","z914lrza",155,null,null,"Загрузить",2,2,3,3.2,2.4,2.8,3.1,2.4,0.20000000000000018,0.10000000000000009,0]
["RUSSIA: PFL - Group 3","2021.04.18 16:00","Saturn Ramenskoye","Ryazan","I9b1jk58",158,null,null,"Загрузить",0,0,2.2599999999999998,3.54,2.8,1.63,3.84,4.82,0.62999999999999989,-0.29999999999999982,-2.0200000000000005]
["SCOTLAND: Scottish Cup","2021.04.18 16:00","Rangers","Celtic","pddqHGb6",199,null,null,"Загрузить",2,0,2.4,3.4,2.8,2.4,3.25,2.75,0,0.14999999999999991,4.9999999999999822E-2]
["SERBIA: Prva Liga","2021.04.18 16:00","Din. Vranje","Zarkovo","jL5gMrB4",167,null,null,"Загрузить",2,0,null,null,null,null,null,null,"","",""]
["SERBIA: Prva Liga","2021.04.18 16:00","Dubocica","Zeleznicar Pancevo","URhLzrQc",167,null,null,"Загрузить",2,1,null,null,null,null,null,null,"","",""]
["SERBIA: Prva Liga","2021.04.18 16:00","Graficar Beograd","Trayal Krusevac","OU1VDKIp",167,null,null,"Загрузить",4,1,null,null,null,null,null,null,"","",""]
["SERBIA: Prva Liga","2021.04.18 16:00","Sremska Mitrovica","Buducnost Dobanovci","2L0ZCvYj",167,null,null,"Загрузить",2,1,null,null,null,null,null,null,"","",""]
["SERBIA: Srpska Liga - Belgrade","2021.04.18 16:00","Batajnica","BASK","IsAch9XF",167,null,null,"Загрузить",0,1,null,null,null,null,null,null,"","",""]
["SERBIA: Srpska Liga - Belgrade","2021.04.18 16:00","Crvena Zvezda MML","Radnicki Obrenovac","4v6ggkI9",167,null,null,"Загрузить",1,0,null,null,null,null,null,null,"","",""]
["SERBIA: Srpska Liga - Belgrade","2021.04.18 16:00","Jedinstvo Surcin","Brodarac","pCtS7lX2",167,null,null,"Загрузить",2,1,null,null,null,null,null,null,"","",""]
["SERBIA: Srpska Liga - Belgrade","2021.04.18 16:00","Lestane","BSK Borca","dj0Xo7Aq",167,null,null,"Загрузить",5,2,null,null,null,null,null,null,"","",""]
["SERBIA: Srpska Liga - Belgrade","2021.04.18 16:00","Sremcica","OFK Beograd","06a2iTnM",167,null,null,"Загрузить",3,2,null,null,null,null,null,null,"","",""]
["SERBIA: Srpska Liga - West","2021.04.18 16:00","Buducnost Arilje","Buducnost Krusik","t0yEYVWk",167,null,null,"Загрузить",3,2,null,null,null,null,null,null,"","",""]
["SERBIA: Srpska Liga - West","2021.04.18 16:00","Josanica","Mladi Radnik","ShewuYgM",167,null,null,"Загрузить",3,2,null,null,null,null,null,null,"","",""]
["SERBIA: Srpska Liga - West","2021.04.18 16:00","Zeleznicar Lajkovac","Takovo","86TadZOd",167,null,null,"Загрузить",0,0,null,null,null,null,null,null,"","",""]
["SLOVAKIA: Fortuna liga - Championship Group","2021.04.18 16:00","Z. Moravce-Vrable","Zilina","Y9Yj57CL",171,null,null,"Загрузить",1,0,2.9,3.6,2.1,2.9,3.6,2.1,0,0,0]
["SPAIN: Tercera Division - Group 7 - Relegation Group","2021.04.18 16:00","Paracuellos Antamira","Villaverde San Andres","W8CTz3hT",176,null,null,"Загрузить",null,null,1.85,3.3,3.86,1.85,3.3,3.86,0,0,0]
["SWEDEN: Division 1 - Norra","2021.04.18 16:00","Assyriska FF","Karlstad","2JPBPB8M",181,null,null,"Загрузить",1,3,9,5.75,1.22,8,5.25,1.28,1,0.5,-6.0000000000000053E-2]
["SWEDEN: Division 1 - Norra","2021.04.18 16:00","Sylvia","Sollentuna","GQ5nJ9oj",181,null,null,"Загрузить",1,0,2.75,3.6,2.2000000000000002,2.2999999999999998,3.6,2.62,0.45000000000000018,0,-0.41999999999999993]
["SWITZERLAND: Super League","2021.04.18 16:00","Basel","Servette","6oPrGt4I",182,null,null,"Загрузить",5,0,2.2000000000000002,3.75,2.87,2.7,3.6,2.4,-0.5,0.14999999999999991,0.4700000000000002]
["SWITZERLAND: Super League","2021.04.18 16:00","Lausanne","Vaduz","Kjtok70e",182,null,null,"Загрузить",2,1,1.7,3.8,4.75,1.66,3.6,5.25,4.0000000000000036E-2,0.19999999999999973,-0.5]
["SWITZERLAND: Super League","2021.04.18 16:00","Young Boys","Lugano","COPvHMlC",182,null,null,"Загрузить",3,0,1.36,4.75,8,1.44,4,8,-7.9999999999999849E-2,0.75,0]
["SWITZERLAND: Promotion League","2021.04.18 16:00","Etoile-Carouge","Basel II","xYq1vNrO",182,null,null,"Загрузить",null,null,null,null,null,null,null,null,"","",""]
["SWITZERLAND: Promotion League","2021.04.18 16:00","Stade Nyonnais","Breitenrain","IVTatqEB",182,null,null,"Загрузить",null,null,null,null,null,null,null,null,"","",""]
["SWITZERLAND: Promotion League","2021.04.18 16:00","Zurich II","Bellinzona","A5Qir5qa",182,null,null,"Загрузить",null,null,null,null,null,null,null,null,"","",""]
["TOGO: Championnat National","2021.04.18 16:00","ASC Kara","Semassi","8UNz02rb",187,null,null,"Загрузить",null,null,null,null,null,null,null,null,"","",""]
["TOGO: Championnat National","2021.04.18 16:00","Dynamic Togolais","AS Togo-Port","zsFidKsN",187,null,null,"Загрузить",null,null,null,null,null,null,null,null,"","",""]
["TOGO: Championnat National","2021.04.18 16:00","Entente II","OTR","EXDeevcT",187,null,null,"Загрузить",null,null,null,null,null,null,null,null,"","",""]
["TOGO: Championnat National","2021.04.18 16:00","Gomido","Anges de Notse","tKFmc0SG",187,null,null,"Загрузить",null,null,null,null,null,null,null,null,"","",""]
["TOGO: Championnat National","2021.04.18 16:00","Ifodje","Kara","nLMvaMc4",187,null,null,"Загрузить",null,null,null,null,null,null,null,null,"","",""]
["TOGO: Championnat National","2021.04.18 16:00","Koroki Metete","Unisport","UqCqbtDA",187,null,null,"Загрузить",null,null,null,null,null,null,null,null,"","",""]
["TOGO: Championnat National","2021.04.18 16:00","Maranatha","Gbohloe-Su","fReOjb5p",187,null,null,"Загрузить",null,null,null,null,null,null,null,null,"","",""]
["UKRAINE: Premier League","2021.04.18 16:00","Mariupol","Olimpik Donetsk","KvfaXgNG",195,null,null,"Загрузить",1,1,2.15,3.3,3.1,2.2999999999999998,3.25,2.8,-0.14999999999999991,4.9999999999999822E-2,0.30000000000000027]
["WORLD: Club Friendly","2021.04.18 16:00","Ham-Kam","Strommen","zJfnOaeo",8,null,null,"Загрузить",2,0,1.46,4.0199999999999996,5.55,1.45,4,5.75,1.0000000000000009E-2,1.9999999999999574E-2,-0.20000000000000018]
["GREECE: Super League - Championship Group","2021.04.18 16:15","AEK Athens FC","Asteras Tripolis","M3tlXGkj",83,null,null,"Загрузить",3,1,1.5,3.8,7,1.5,4,5.5,0,-0.20000000000000018,1.5]
["SPAIN: LaLiga","2021.04.18 16:15","Alaves","Huesca","Kt1HOGXt",176,null,null,"Загрузить",1,0,2.7,3,2.8,2.25,3.2,3.2,0.45000000000000018,-0.20000000000000018,-0.40000000000000036]
["SPAIN: LaLiga","2021.04.18 16:15","Atl. Madrid","Eibar","G8fQMf2g",176,null,null,"Загрузить",5,0,1.4,4.2,9.5,1.4,4.5,7.5,{"$f":"IF(L684=\"\",\"\",L684-O684)","v":0},{"$f":"IF(M684=\"\",\"\",M684-P684)","v":-0.29999999999999982},{"$f":"IF(N684=\"\",\"\",N684-Q684)","v":2}]
["SPAIN: Tercera Division - Group 1 - Second stage","2021.04.18 16:15","Dep. Fabril","Rapido de Bouzas","dMInkdNF",176,null,null,"Загрузить",1,1,2.0699999999999998,3.28,3.34,2.3199999999999998,3.2,2.81,-0.25,7.9999999999999627E-2,0.5299999999999998]
["SWEDEN: Division 1 - Norra","2021.04.18 16:15","Pitea","Hammarby TFF","M36rKkWq",181,null,null,"Загрузить",2,2,2.5499999999999998,3.6,2.4500000000000002,2.87,3.6,2.15,-0.32000000000000028,0,0.30000000000000027]
["ANDORRA: Primera Divisió - Championship Group","2021.04.18 16:30","FC Santa Coloma","Inter Escaldes","QXAnMxV5",19,null,null,"Загрузить",1,2,null,null,null,null,null,null,"","",""]
["BOSNIA AND HERZEGOVINA: Prva Liga - FBiH","2021.04.18 16:30","GOSK Gabela","Banovici","WKO4hjHi",37,null,null,"Загрузить",0,1,1.77,3.2,4.76,1.85,3.24,3.88,-8.0000000000000071E-2,-4.0000000000000036E-2,0.87999999999999989]
["CROATIA: 3. HNL South","2021.04.18 16:30","Sloga Mravince","Zmaj Makarska","Qaexi5IL",59,null,null,"Загрузить",null,null,2.8,3.4,2.2200000000000002,2.81,3.4,2.2200000000000002,-1.0000000000000231E-2,0,0]
["CROATIA: 3. HNL South","2021.04.18 16:30","Urania Baska Voda","Hrvace","hnwuneFd",59,null,null,"Загрузить",0,1,2.02,3.5,3.16,2.4,3.4,2.5,-0.37999999999999989,0.10000000000000009,0.66000000000000014]
["DR CONGO: Ligue 1","2021.04.18 16:30","AS Vita Club","St Eloi Lupopo","0CKxAq7T",55,null,null,"Загрузить",null,null,null,null,null,null,null,null,"","",""]
["DR CONGO: Ligue 1","2021.04.18 16:30","Blessing","Mazembe","ARsRipoo",55,null,null,"Загрузить",0,0,null,null,null,null,null,null,"","",""]
["DR CONGO: Ligue 1","2021.04.18 16:30","Dauphins Noirs","St Eloi Lupopo","EazwsNRl",55,null,null,"Загрузить",null,null,null,null,null,null,null,null,"","",""]
["DR CONGO: Ligue 1","2021.04.18 16:30","Maniema","Simba","MLLYAPiN",55,null,null,"Загрузить",2,0,null,null,null,null,null,null,"","",""]
["DR CONGO: Ligue 1","2021.04.18 16:30","Mazembe","AS Vita Club","8z7j7fzn",55,null,null,"Загрузить",null,null,null,null,null,null,null,null,"","",""]
["DR CONGO: Ligue 1","2021.04.18 16:30","Sanga Balende","Motema Pembe","jade6Ekh",55,null,null,"Загрузить",2,0,null,null,null,null,null,null,"","",""]
["GUINEA: Ligue 1","2021.04.18 16:30","Kamsar","Satellite","Quuqhbbb",86,null,null,"Загрузить",null,null,null,null,null,null,null,null,"","",""]
["POLAND: III Liga - Group IV","2021.04.18 16:30","Wiazownica","LKS Lagow","hr1sxGOH",154,null,null,"Загрузить",0,2,2.4700000000000002,3.6,2.4700000000000002,2.4,3.6,2.4,7.0000000000000284E-2,0,7.0000000000000284E-2]
["SERBIA: Srpska Liga - Vojvodina","2021.04.18 16:30","Borac Sakule","Stari Banovci","rJOjOHzG",167,null,null,"Загрузить",3,1,null,null,null,null,null,null,"","",""]
["SERBIA: Srpska Liga - Vojvodina","2021.04.18 16:30","Tisa Adorjan","Backa 1901","niVsQw63",167,null,null,"Загрузить",0,1,null,null,null,null,null,null,"","",""]
["SERBIA: Srpska Liga - East","2021.04.18 16:30","Kablovi","Radan Lebane","f1Y1Quh2",167,null,null,"Загрузить",1,7,null,null,null,null,null,null,"","",""]
["SERBIA: Srpska Liga - East","2021.04.18 16:30","Medosevac","Vlasina","bZvgS1Nk",167,null,null,"Загрузить",1,3,null,null,null,null,null,null,"","",""]
["SPAIN: Tercera Division - Group 5 - Relegation Group","2021.04.18 16:30","Peralada","Igualada","bVATToCg",176,null,null,"Загрузить",2,0,null,null,null,null,null,null,"","",""]
["SPAIN: Tercera Division - Group 8 - Relegation Group","2021.04.18 16:30","Santa Marta Tormes","Colegios Diocesanos","UXNhbQL0",176,null,null,"Загрузить",1,0,null,null,null,null,null,null,"","",""]
["SPAIN: Tercera Division - Group 13 - Second stage","2021.04.18 16:30","Cartagena FC","UD Los Garres","dx70DNCe",176,null,null,"Загрузить",3,1,null,null,null,null,null,null,"","",""]
["SPAIN: Tercera Division - Group 15 - Second stage","2021.04.18 16:30","Murchante","Burlades","jZGz5CsN",176,null,null,"Загрузить",1,2,null,null,null,null,null,null,"","",""]
["AUSTRIA: Tipico Bundesliga - Championship Group","2021.04.18 17:00","Rapid Vienna","Sturm Graz","0dIy2VxC",25,null,null,"Загрузить",0,0,1.85,4,3.75,1.7,4,4.33,0.15000000000000013,0,-0.58000000000000007]
["BELARUS: Pershaya Liga","2021.04.18 17:00","Arsenal Dzyarzhynsk","Petrikov","nw0R3lYO",31,null,null,"Загрузить",2,0,1.79,4,3.52,1.55,4.32,4.38,0.24,-0.32000000000000028,-0.85999999999999988]
["BELARUS: Vysshaya Liga Women","2021.04.18 17:00","Bobruichanka W","Vitebsk W","MNQXcGqC",31,null,null,"Загрузить",3,2,1.07,10.5,20,1.06,11,19,1.0000000000000009E-2,-0.5,1]
["BELARUS: Vysshaya Liga Women","2021.04.18 17:00","Din. Minsk W","Neman W","GpQyczaI",31,null,null,"Загрузить",2,0,1.1200000000000001,7.9,17,1.07,10,19,5.0000000000000044E-2,-2.0999999999999996,-2]
["BENIN: Ligue 1 - Championship Group","2021.04.18 17:00","AS Cotonou","Dynamo Parakou","xAiMO6hB",34,null,null,"Загрузить",null,null,null,null,null,null,null,null,"","",""]
["BENIN: Ligue 1 - Championship Group","2021.04.18 17:00","Ayema","FC Esae","8dEg6bxp",34,null,null,"Загрузить",null,null,null,null,null,null,null,null,"","",""]
["BENIN: Ligue 1 - Championship Group","2021.04.18 17:00","Bembereke","Requins","O6mIPnw5",34,null,null,"Загрузить",null,null,null,null,null,null,null,null,"","",""]
["BENIN: Ligue 1 - Championship Group","2021.04.18 17:00","Buffles du Borgou","Eternel","trbDQSNb",34,null,null,"Загрузить",null,null,null,null,null,null,null,null,"","",""]
["BENIN: Ligue 1 - Championship Group","2021.04.18 17:00","Dragons","Damissa","WWjQNQ7H",34,null,null,"Загрузить",null,null,null,null,null,null,null,null,"","",""]
["BENIN: Ligue 1 - Championship Group","2021.04.18 17:00","Hodio","ASOS","QX8b5Iij",34,null,null,"Загрузить",null,null,null,null,null,null,null,null,"","",""]
["BOSNIA AND HERZEGOVINA: Premier League","2021.04.18 17:00","Radnik Bijeljina","Zeljeznicar","2oIC5n7d",37,null,null,"Загрузить",1,1,4,3.6,1.75,2.9,3.2,2.2000000000000002,1.1000000000000001,0.39999999999999991,-0.45000000000000018]
["CHILE: Primera Division","2021.04.18 17:00","Cobresal","S. Wanderers","vJHQnWJ5",51,null,null,"Загрузить",2,1,1.6,4,5.5,1.85,3.3,3.8,-0.25,0.70000000000000018,1.7000000000000002]
["CROATIA: 3. HNL East","2021.04.18 17:00","Granicar Zupanja","Cepin","nFTEjtQj",59,null,null,"Загрузить",0,1,null,null,null,null,null,null,"","",""]
["CZECH REPUBLIC: Division 2","2021.04.18 17:00","Hradec Kralove","Trinec","jVGdUZQ0",62,null,null,"Загрузить",1,0,1.33,4.75,7,1.33,4.75,6.5,0,0,0.5]
["CZECH REPUBLIC: Division 2","2021.04.18 17:00","Jihlava","Dukla Prague","4h7jjHmK",62,null,null,"Загрузить",0,1,2.8,3.2,2.2999999999999998,2.5,3.2,2.5,0.29999999999999982,0,-0.20000000000000018]
["CZECH REPUBLIC: Division 2","2021.04.18 17:00","Mas Taborsko","Blansko","Yg61Tgt7",62,null,null,"Загрузить",1,0,1.83,3.3,4,2,3.2,3.3,-0.16999999999999993,9.9999999999999645E-2,0.70000000000000018]
["CZECH REPUBLIC: Division 2","2021.04.18 17:00","Vlasim","Varnsdorf","Q18nicYD",62,null,null,"Загрузить",0,0,1.85,3.3,3.6,1.9,3.3,3.5,-4.9999999999999822E-2,0,0.10000000000000009]
["ENGLAND: Premier League","2021.04.18 17:00","Manchester Utd","Burnley","4hi3Yoqc",198,null,null,"Загрузить",3,1,1.33,5.25,9,1.36,5,7.5,-3.0000000000000027E-2,0.25,1.5]
["EUROPE: Premier League (Crimea)","2021.04.18 17:00","Krymteplytsia","Ocean Kerch","ba8jrhIp",6,null,null,"Загрузить",0,3,null,null,null,null,null,null,"","",""]
["GHANA: Premier League","2021.04.18 17:00","Bechem United","Aduana Stars","tY0fUy0n",82,null,null,"Загрузить",4,0,null,null,null,null,null,null,"","",""]
["GHANA: Premier League","2021.04.18 17:00","Berekum Chelsea","Ebusua","zsLPEd0a",82,null,null,"Загрузить",2,1,1.63,3.4,5.8,1.82,3,4.5999999999999996,-0.19000000000000017,0.39999999999999991,1.2000000000000002]
["GHANA: Premier League","2021.04.18 17:00","Dreams","Karela","GjTXCzVB",82,null,null,"Загрузить",null,null,2,3.09,3.88,1.93,2.8,4.4400000000000004,7.0000000000000062E-2,0.29000000000000004,-0.5600000000000005]
["GHANA: Premier League","2021.04.18 17:00","Eleven Wonders","Liberty","ze0bTeFh",82,null,null,"Загрузить",0,1,1.77,3.16,5,1.75,3,5.0999999999999996,2.0000000000000018E-2,0.16000000000000014,-9.9999999999999645E-2]
["GHANA: Premier League","2021.04.18 17:00","Medeama","Legon Cities","OGWuBEaO",82,null,null,"Загрузить",2,1,1.57,3.58,6.1,1.59,3.1,6.65,-2.0000000000000018E-2,0.48,-0.55000000000000071]
["HUNGARY: Merkantil Bank Liga","2021.04.18 17:00","Bekescsaba 1912","Haladas","voxx7G5N",91,null,null,"Загрузить",1,2,2.95,3.19,2.2200000000000002,2.5,3.2,2.5,0.45000000000000018,-1.0000000000000231E-2,-0.2799999999999998]
["HUNGARY: Merkantil Bank Liga","2021.04.18 17:00","Budaorsi SC","Kazincbarcikai","SAYX7djH",91,null,null,"Загрузить",3,2,1.87,3.54,3.78,1.82,3.6,3.66,5.0000000000000044E-2,-6.0000000000000053E-2,0.11999999999999966]
["HUNGARY: Merkantil Bank Liga","2021.04.18 17:00","Csakvari","Szentlorinc","Y7yt6zLT",91,null,null,"Загрузить",1,2,1.95,3.5,3.54,1.93,3.3,3.56,2.0000000000000018E-2,0.20000000000000018,-2.0000000000000018E-2]
["HUNGARY: Merkantil Bank Liga","2021.04.18 17:00","Debreceni EAC","Ajka","QsC2hHjU",91,null,null,"Загрузить",0,1,4.58,3.92,1.65,4.28,3.6,1.69,0.29999999999999982,0.31999999999999984,-4.0000000000000036E-2]
["HUNGARY: Merkantil Bank Liga","2021.04.18 17:00","Dorogi","Szolnoki MAV","xMuLAb6b",91,null,null,"Загрузить",1,1,2.2200000000000002,3.12,3.22,2.27,3.3,2.81,-4.9999999999999822E-2,-0.17999999999999972,0.41000000000000014]
["HUNGARY: Merkantil Bank Liga","2021.04.18 17:00","Kaposvar","Vasas","23m8D0Mu",91,null,null,"Загрузить",1,2,5.94,4.34,1.49,5.7,4.2,1.45,0.24000000000000021,0.13999999999999968,4.0000000000000036E-2]
["HUNGARY: Merkantil Bank Liga","2021.04.18 17:00","Nyiregyhaza","Siofok","6epP9IL4",91,null,null,"Загрузить",1,2,1.5,3.76,5.75,1.51,3.74,5.7,-1.0000000000000009E-2,1.9999999999999574E-2,4.9999999999999822E-2]
["HUNGARY: Merkantil Bank Liga","2021.04.18 17:00","Pecsi MFC","Szeged","G6iCCKyn",91,null,null,"Загрузить",1,1,1.59,3.8,5.25,1.51,3.74,5.7,8.0000000000000071E-2,5.9999999999999609E-2,-0.45000000000000018]
["HUNGARY: Merkantil Bank Liga","2021.04.18 17:00","Soroksar","Gyirmot","bVtHBvih",91,null,null,"Загрузить",0,1,3.12,3.43,2.1800000000000002,3.06,3.3,2.12,6.0000000000000053E-2,0.13000000000000034,6.0000000000000053E-2]
["HUNGARY: NB III - East","2021.04.18 17:00","Cegledi","Tiszakecske","zL381dLN",91,null,null,"Загрузить",2,1,null,null,null,null,null,null,"","",""]
["HUNGARY: NB III - East","2021.04.18 17:00","DVTK II","BVSC-Zuglo","QkSQJwyh",91,null,null,"Загрузить",1,0,3.44,3.76,1.91,3.86,4,1.69,-0.41999999999999993,-0.24000000000000021,0.21999999999999997]
["HUNGARY: NB III - East","2021.04.18 17:00","Fuzesgyarmati SK","Tallya","IqgD0GzU",91,null,null,"Загрузить",1,1,null,null,null,null,null,null,"","",""]
["HUNGARY: NB III - East","2021.04.18 17:00","Gyongyosi","Putnok","Khuudzqo",91,null,null,"Загрузить",2,2,null,null,null,null,null,null,"","",""]
["HUNGARY: NB III - East","2021.04.18 17:00","Hatvan","Eger SE","8EHVIcjb",91,null,null,"Загрузить",2,1,null,null,null,null,null,null,"","",""]
["HUNGARY: NB III - East","2021.04.18 17:00","Jaszberenyi","Senyo Carnifex","naTMKJLo",91,null,null,"Загрузить",1,2,null,null,null,null,null,null,"","",""]
["HUNGARY: NB III - East","2021.04.18 17:00","Kisvarda II","Balassagyarmat","MHa42x6H",91,null,null,"Загрузить",1,2,null,null,null,null,null,null,"","",""]
["HUNGARY: NB III - East","2021.04.18 17:00","Sajobabony","Tiszafuredi","Sf003IjB",91,null,null,"Загрузить",1,1,null,null,null,null,null,null,"","",""]
["HUNGARY: NB III - East","2021.04.18 17:00","Tiszaujvaros","SBTC","l41d4by5",91,null,null,"Загрузить",1,1,null,null,null,null,null,null,{"$f":"IF(L748=\"\",\"\",L748-O748)","v":""},{"$f":"IF(M748=\"\",\"\",M748-P748)","v":""},{"$f":"IF(N748=\"\",\"\",N748-Q748)","v":""}]
["HUNGARY: NB III - Centre","2021.04.18 17:00","Dunaujvaros PASE","Monori","W0d3rAXD",91,null,null,"Загрузить",2,2,null,null,null,null,null,null,"","",""]
["HUNGARY: NB III - Centre","2021.04.18 17:00","ESMTK Budapest","Dabas-Gyon","Ic8LJQfD",91,null,null,"Загрузить",0,1,null,null,null,null,null,null,"","",""]
["HUNGARY: NB III - Centre","2021.04.18 17:00","FC Dabas","Kecskemeti TE","drtrySPm",91,null,null,"Загрузить",0,0,null,null,null,null,null,null,"","",""]
["HUNGARY: NB III - Centre","2021.04.18 17:00","Hodmezovasarhely FC","Taksony","MVECLnQ0",91,null,null,"Загрузить",2,1,null,null,null,null,null,null,"","",""]
["HUNGARY: NB III - Centre","2021.04.18 17:00","Ivancsa","Paks II","S8yvx8As",91,null,null,"Загрузить",4,1,null,null,null,null,null,null,"","",""]
["HUNGARY: NB III - Centre","2021.04.18 17:00","Rakosmenti KSK","Ujpest II","QakCtl2Q",91,null,null,"Загрузить",1,0,null,null,null,null,null,null,"","",""]
["HUNGARY: NB III - Centre","2021.04.18 17:00","Szegedi","Majosi","ry07sUnK",91,null,null,"Загрузить",3,2]
["HUNGARY: NB III - Centre","2021.04.18 17:00","Szekszardi","Korosladany MSK","v79HK6u7",91,null,null,"Загрузить",2,0]
["HUNGARY: NB III - Centre","2021.04.18 17:00","Vac","Kozarmisleny SE","ruG8MSAf",91,null,null,"Загрузить",2,0,2.46,3.1,2.79,2.38,3,2.75]
["HUNGARY: NB III - West","2021.04.18 17:00","Bicskei","MOL Fehervar II","4xZs8fH5",91,null,null,"Загрузить"]
["HUNGARY: NB III - West","2021.04.18 17:00","III. Keruleti TVE","Balatonfuredi","UJtVAdXn",91,null,null,"Загрузить",2,1]
["HUNGARY: NB III - West","2021.04.18 17:00","Lipot","Erdi","byjaGI9P",91,null,null,"Загрузить",3,1]
["HUNGARY: NB III - West","2021.04.18 17:00","Menfocsanak","Mosonmagyarovari TE","baYo7EWB",91,null,null,"Загрузить",0,1]
["HUNGARY: NB III - West","2021.04.18 17:00","Nagyatadi","Veszprem","jZUw9z2a",91,null,null,"Загрузить"]
["HUNGARY: NB III - West","2021.04.18 17:00","Nagykanizsa","Gardony Varosi","dhmi4CGU",91,null,null,"Загрузить",5,1]
["NIGERIA: NNL","2021.04.18 17:00","DMD","FC Zamfara","YDCDxtbi",143,null,null,"Загрузить"]
["NIGERIA: NNL","2021.04.18 17:00","Nigeria Airforce FC","Green Beret","h0OpYBlF",143,null,null,"Загрузить"]
["NIGERIA: NNL","2021.04.18 17:00","Oyah Sports","Gombe","bwPtZiZ8",143,null,null,"Загрузить"]
["POLAND: Division 2","2021.04.18 17:00","Ol. Grudziadz","Pogon Siedlce","nJupYge2",154,null,null,"Загрузить",1,2,2.33,3.44,2.77,2.81,3.4,2.2200000000000002]
["POLAND: III Liga - Group I - Championship Group","2021.04.18 17:00","Legionowo","Polonia Warszawa","prsjWYIb",154,null,null,"Загрузить",3,3,2.2599999999999998,3.44,2.86,1.93,3.5,3.36]
["POLAND: III Liga - Group IV","2021.04.18 17:00","Lewart Lubartow","Orleta Radzyn","QVVeewPu",154,null,null,"Загрузить",3,0,2.08,3.9,3.01,2.02,3.74,2.93]
["POLAND: III Liga - Group IV","2021.04.18 17:00","Wisloka Debica","Cracovia 2","4MUafcvn",154,null,null,"Загрузить",3,1,1.69,3.78,4.4800000000000004,1.75,3.74,3.8]
["PORTUGAL: Liga BPI Women - Championship Group","2021.04.18 17:00","Albergaria/Durit W","Torreense W","WM7KTByi",155,null,null,"Загрузить",2,1,1.29,5.55,7.9,1.21,6.5,8.1999999999999993]
["PORTUGAL: Liga BPI Women - Relegation Group","2021.04.18 17:00","A-dos-Francos W","Damaiense W","GWUMdOPG",155,null,null,"Загрузить",0,2,9.7799999999999994,5.47,1.27,4.08,4,1.64]
["PORTUGAL: Liga BPI Women - Relegation Group","2021.04.18 17:00","Amora W","Estoril Praia W","G4WVhSyU",155,null,null,"Загрузить",0,1,1.4,5.16,6.19,1.26,6,7.2]
["PORTUGAL: Liga BPI Women - Relegation Group","2021.04.18 17:00","Cadima W","Valadares Gaia W","OEZMMQ1T",155,null,null,"Загрузить",2,1,9.32,6.31,1.24,7.2,6,1.26]
["PORTUGAL: Liga BPI Women - Relegation Group","2021.04.18 17:00","CF Benfica W","Ouriense W","AgUQeruN",155,null,null,"Загрузить",2,1,1.62,4.18,4.7,1.64,4,4.08]
["PORTUGAL: Liga BPI Women - Relegation Group","2021.04.18 17:00","Gil Vicente W","Boavista W","UeCkIpAp",155,null,null,"Загрузить",2,1,2.2599999999999998,3.78,2.76,2.4,3.6,2.4]
["PORTUGAL: Liga BPI Women - Relegation Group","2021.04.18 17:00","Ovarense W","Fiaes SC W","CvWIN6nN",155,null,null,"Загрузить",6,0,1.21,5.75,9.4,1.26,6,7.2]
["RUSSIA: PFL - Group 2","2021.04.18 17:00","Lokomotiv-Kazanka","Tver","URC8U9jl",158,null,null,"Загрузить",1,2,6.06,4,1.53,3.03,3.24,2.27]
["SLOVENIA: 1. SZNL Women","2021.04.18 17:00","Radomlje W","Krim W","IX8yGePr",172,null,null,"Загрузить",1,2,7.77,6.39,1.27,5.65,5.5,1.34]
["SPAIN: Segunda Division B - Group 1 - Relegation Group","2021.04.18 17:00","Pontevedra","Lealtad","nNqUMZq0",176,null,null,"Загрузить",0,0,1.83,2.86,5.0999999999999996,2.3199999999999998,3.2,2.81]
["SPAIN: Segunda Division B - Group 1 - Relegation Group","2021.04.18 17:00","Salamanca","Covadonga","rkwwLDEC",176,null,null,"Загрузить",1,0,1.58,3.83,5.62,1.97,3.24,3.46]
["SPAIN: Segunda Division B - Group 1 - Second stage","2021.04.18 17:00","Compostela","Langreo","Cb4N35op",176,null,null,"Загрузить",1,1,2,2.97,4.3,2.42,2.75,3.08]
["SPAIN: Segunda Division B - Group 3 - Relegation Group","2021.04.18 17:00","Olot","Orihuela","nNai5kZD",176,null,null,"Загрузить",1,3,2,3.18,3.9,2.27,3,3.07]
["SPAIN: Segunda Division B - Group 4 - Second stage","2021.04.18 17:00","Linense","Sevilla FC B","Myx2Ggeb",176,null,null,"Загрузить",3,1,2.09,2.93,3.98,2.02,3,3.68]
["SPAIN: Segunda Division B - Group 5 - Second stage","2021.04.18 17:00","Navalcarnero","Don Benito","fqsJt5Rg",176,null,null,"Загрузить",0,0,2.4,3,3.13,2.42,2.88,2.94]
["SPAIN: Tercera Division - Group 1 - Promotion Group","2021.04.18 17:00","Bergantinos","Arenteiro","vN3Pynma",176,null,null,"Загрузить",3,2]
["SPAIN: Tercera Division - Group 1 - Promotion Group","2021.04.18 17:00","Somozas","Arosa SC","p04LxSXh",176,null,null,"Загрузить",null,null,null,null,null,null,null,null,{"$f":"IF(L787=\"\",\"\",L787-O787)","v":""},{"$f":"IF(M787=\"\",\"\",M787-P787)","v":""},{"$f":"IF(N787=\"\",\"\",N787-Q787)","v":""}]
["SPAIN: Tercera Division - Group 1 - Relegation Group","2021.04.18 17:00","Agrupacion Estudiantil","Ourense CF","UXBn6lb7",176,null,null,"Загрузить",1,2,null,null,null,null,null,null,"","",""]
["SPAIN: Tercera Division - Group 1 - Relegation Group","2021.04.18 17:00","Arzua","UD Ourense","M78v8ATf",176,null,null,"Загрузить",2,0,null,null,null,null,null,null,"","",""]
["SPAIN: Tercera Division - Group 1 - Relegation Group","2021.04.18 17:00","Fisterra","Pontellas","ptfZTijE",176,null,null,"Загрузить",2,0,null,null,null,null,null,null,"","",""]
["SPAIN: Tercera Division - Group 1 - Relegation Group","2021.04.18 17:00","Paiosaco","Atios","vqJZ8jEl",176,null,null,"Загрузить",3,2,2.69,3.31,2.5299999999999998,2.6,3.2,2.4,8.9999999999999858E-2,0.10999999999999988,0.12999999999999989]
["SPAIN: Tercera Division - Group 2 - Relegation Group","2021.04.18 17:00","Mosconia","Condal","Orar5XG6",176,null,null,"Загрузить",2,1,1.93,3.23,4.16,2.27,3.2,2.86,-0.34000000000000008,2.9999999999999805E-2,1.3000000000000003]
["SPAIN: Tercera Division - Group 2 - Relegation Group","2021.04.18 17:00","Praviano","Club Siero","bFjYRfOJ",176,null,null,"Загрузить",1,0,1.55,3.21,8.8000000000000007,1.37,4.2,7.3,0.17999999999999994,-0.99000000000000021,1.5000000000000009]
["SPAIN: Tercera Division - Group 3 - Relegation Group","2021.04.18 17:00","CD Barquereno","Castro","0pzoyKwH",176,null,null,"Загрузить",2,1,2.2799999999999998,3.36,3,2.2200000000000002,3.24,2.93,5.9999999999999609E-2,0.11999999999999966,6.999999999999984E-2]
["SPAIN: Tercera Division - Group 5 - Relegation Group","2021.04.18 17:00","Banyoles","Montanesa","WGfmlGc8",176,null,null,"Загрузить",null,null,null,null,null,null,null,null,"","",""]
["SPAIN: Tercera Division - Group 6 - Relegation Group","2021.04.18 17:00","Benicarlo","Villajoyosa","0pOvRoLN",176,null,null,"Загрузить",0,0,1.95,3.37,3.83,1.75,3.4,4.28,0.19999999999999996,-2.9999999999999805E-2,-0.45000000000000018]
["SPAIN: Tercera Division - Group 7 - Second stage","2021.04.18 17:00","Flat Earth","Carabanchel","jJ0aElua",176,null,null,"Загрузить",2,2,2.2599999999999998,3.19,3.19,2.17,3.1,3.17,8.9999999999999858E-2,8.9999999999999858E-2,2.0000000000000018E-2]
["SPAIN: Tercera Division - Group 8 - Promotion Group","2021.04.18 17:00","Cristo Atletico","G. Segoviana","vkn1qrgr",176,null,null,"Загрузить",0,3,2.87,2.81,2.74,2.5,3.2,2.5,0.37000000000000011,-0.39000000000000012,0.24000000000000021]
["SPAIN: Tercera Division - Group 8 - Relegation Group","2021.04.18 17:00","Becerril","Bupolsa","xbR0d4jD",176,null,null,"Загрузить",0,0,2.2799999999999998,3.22,3.11,2.2200000000000002,3.1,3.06,5.9999999999999609E-2,0.12000000000000011,4.9999999999999822E-2]
["SPAIN: Tercera Division - Group 8 - Second stage","2021.04.18 17:00","Bembibre","Mirandes B","nDvWhASN",176,null,null,"Загрузить",1,2,2.64,3.21,2.64,3.36,3.24,2.02,-0.71999999999999975,-3.0000000000000249E-2,0.62000000000000011]
["SPAIN: Tercera Division - Group 11 - Relegation Group","2021.04.18 17:00","Cardassar","Binissalem","vD2O4yw4",176,null,null,"Загрузить",0,0,null,null,null,null,null,null,"","",""]
["SPAIN: Tercera Division - Group 11 - Relegation Group","2021.04.18 17:00","Soller","Esporles","b1oR5HNc",176,null,null,"Загрузить",1,0,1.4,4.76,6.88,1.3,5,7.7,9.9999999999999867E-2,-0.24000000000000021,-0.82000000000000028]
["SPAIN: Tercera Division - Group 13 - Promotion Group","2021.04.18 17:00","Mar Menor","Aguilas FC","0Q7WR1Ai",176,null,null,"Загрузить",1,0,2.23,3.12,3.32,2.5,3.2,2.5,-0.27,-8.0000000000000071E-2,0.81999999999999984]
["SPAIN: Tercera Division - Group 13 - Relegation Group","2021.04.18 17:00","Deportiva Minera","EDMF Churra","4Ev4yk1U",176,null,null,"Загрузить",2,0,1.5,4.37,5.72,1.45,4.2,5.7,5.0000000000000044E-2,0.16999999999999993,1.9999999999999574E-2]
["SPAIN: Tercera Division - Group 13 - Relegation Group","2021.04.18 17:00","Muleno","Olimpico de Totana","x29IfC1h",176,null,null,"Загрузить",0,1,2.23,3.32,3.12,2.17,3.2,3.06,6.0000000000000053E-2,0.11999999999999966,6.0000000000000053E-2]
["SPAIN: Tercera Division - Group 13 - Second stage","2021.04.18 17:00","Mazarron CF","UCAM Murcia B","4h7fZ4ZE",176,null,null,"Загрузить",2,1,null,null,null,null,null,null,"","",""]
["SPAIN: Tercera Division - Group 15 - Promotion Group","2021.04.18 17:00","Cirbonero","AD San Juan","IikWxfbU",176,null,null,"Загрузить",null,null,null,null,null,null,null,null,"","",""]
["SPAIN: Tercera Division - Group 15 - Relegation Group","2021.04.18 17:00","Pena Azagresa","Subiza","EZbKZNnE",176,null,null,"Загрузить",null,null,null,null,null,null,null,null,"","",""]
["SPAIN: Tercera Division - Group 16 - Promotion Group","2021.04.18 17:00","Alfaro","Racing Rioja","GzcprSVE",176,null,null,"Загрузить",3,4,2.61,3.48,2.5099999999999998,2.2200000000000002,3.4,2.81,0.38999999999999968,8.0000000000000071E-2,-0.30000000000000027]
["SPAIN: Tercera Division - Group 16 - Promotion Group","2021.04.18 17:00","Anguiano","Naxara","SA0lsnoL",176,null,null,"Загрузить",2,3,null,null,null,null,null,null,"","",""]
["SPAIN: Tercera Division - Group 16 - Second stage","2021.04.18 17:00","CDFC Calzada","Casalarreina","QJuNixat",176,null,null,"Загрузить",1,2,null,null,null,null,null,null,"","",""]
["SPAIN: Tercera Division - Group 16 - Second stage","2021.04.18 17:00","Oyonesa","Yague","E5ZApLiD",176,null,null,"Загрузить",0,3,1.96,3.48,3.69,2.27,3.3,2.81,-0.31000000000000005,0.18000000000000016,0.87999999999999989]
["SPAIN: Tercera Division - Group 17 - Promotion Group","2021.04.18 17:00","Teruel","Cuarte","G4tHCAS3",176,null,null,"Загрузить",2,0,1.45,4.53,6.28,1.41,4.32,6.2,4.0000000000000036E-2,0.20999999999999996,8.0000000000000071E-2]
["SPAIN: Tercera Division - Group 17 - Relegation Group","2021.04.18 17:00","Epila","Atletico Monzon","MLixHvxt",176,null,null,"Загрузить",2,1,null,null,null,null,null,null,"","",""]
["SPAIN: Tercera Division - Group 17 - Second stage","2021.04.18 17:00","CF Illueca","Barbastro","UZtAKbQs",176,null,null,"Загрузить",0,3,null,null,null,null,null,null,"","",""]
["SPAIN: Tercera Division - Group 18 - Relegation Group","2021.04.18 17:00","Atl. Ibanes","Conquense","Aue01ofs",176,null,null,"Загрузить",1,1,null,null,null,null,null,null,"","",""]
["SPAIN: Tercera Division - Group 18 - Second stage","2021.04.18 17:00","Huracan de Balazote","Villacanas","2aaLE1T4",176,null,null,"Загрузить",2,1,2.1800000000000002,3.32,3.22,2.12,3.2,3.17,6.0000000000000053E-2,0.11999999999999966,5.0000000000000266E-2]
["SWEDEN: Allsvenskan Women","2021.04.18 17:00","Linkopings W","Rosengard W","lnzvtuKt",181,null,null,"Загрузить",0,1,5.75,4.33,1.44,4,4,1.61,1.75,0.33000000000000007,-0.17000000000000015]
["TOGO: Championnat National","2021.04.18 17:00","Anges de Notse","OTR","0rqhkoUu",187,null,null,"Загрузить",null,null,2.72,3,2.72,2.6,2.88,2.6,0.12000000000000011,0.12000000000000011,0.12000000000000011]
["TOGO: Championnat National","2021.04.18 17:00","Dynamic Togolais","Maranatha","vZsdl5qn",187,null,null,"Загрузить",null,null,1.75,3,5.0999999999999996,1.75,3,5.0999999999999996,0,0,0]
["TOGO: Championnat National","2021.04.18 17:00","Entente II","Gbohloe-Su","McX0mPbh",187,null,null,"Загрузить",null,null,null,null,null,null,null,null,"","",""]
["TOGO: Championnat National","2021.04.18 17:00","Gomido","AS Togo-Port","lA2nU1bU",187,null,null,"Загрузить",null,null,null,null,null,null,null,null,"","",""]
["TOGO: Championnat National","2021.04.18 17:00","Ifodje","Unisport","AJ3rVsqO",187,null,null,"Загрузить",null,null,null,null,null,null,null,null,"","",""]
["TOGO: Championnat National","2021.04.18 17:00","Sara Sport","Koroki Metete","SfEwWNTH",187,null,null,"Загрузить",null,null,null,null,null,null,null,null,"","",""]
["TOGO: Championnat National","2021.04.18 17:00","Semassi","Kara","U9ezX3EB",187,null,null,"Загрузить",null,null,null,null,null,null,null,null,"","",""]
["FRANCE: Ligue 1","2021.04.18 17:05","Bordeaux","Monaco","zswQXPZ6",77,null,null,"Загрузить",0,3,6,4,1.55,5,3.5,1.72,1,0.5,-0.16999999999999993]
["SCOTLAND: SWPL 1 Women","2021.04.18 17:10","Glasgow City W","Motherwell W","OGQWsL8p",199,null,null,"Загрузить",8,0,1.01,17.7,43,1.01,21,49,0,-3.3000000000000007,-6]
["BULGARIA: Parva liga","2021.04.18 17:30","Tsarsko Selo","CSKA Sofia","b5LGLzWm",41,null,null,"Загрузить",2,1,7,3.6,1.55,5.75,3.5,1.57,1.25,0.10000000000000009,-2.0000000000000018E-2]
["HUNGARY: OTP Bank Liga","2021.04.18 17:30","Honved","MOL Fehervar","Kp9iDJx7",91,null,null,"Загрузить",2,3,3.75,3.5,1.85,3.75,3.5,1.83,0,0,2.0000000000000018E-2]
["ITALY: Serie C - Group A","2021.04.18 17:30","Grosseto","Pro Sesto","hIsAUzct",98,null,null,"Загрузить",2,1,2.37,2.8,3,2,2.9,3.75,0.37000000000000011,-0.10000000000000009,-0.75]
["ITALY: Serie C - Group A","2021.04.18 17:30","Livorno","Como","6LLvFecg",98,null,null,"Загрузить",1,2,2.9,2.9,2.37,3.75,3,1.95,-0.85000000000000009,-0.10000000000000009,0.42000000000000015]
["ITALY: Serie C - Group A","2021.04.18 17:30","Piacenza","AlbinoLeffe","CbMzGyrm",98,null,null,"Загрузить",1,3,2.2999999999999998,2.62,3.4,2.7,2.6,2.75,-0.40000000000000036,2.0000000000000018E-2,0.64999999999999991]
["ITALY: Serie C - Group A","2021.04.18 17:30","Renate","Juventus U23","pCKrEFCa",98,null,null,"Загрузить",2,1,1.83,3,4,2,3,3.5,-0.16999999999999993,0,0.5]
["ITALY: Serie C - Group B","2021.04.18 17:30","FeralpiSalo","Carpi","C6UHg7sT",98,null,null,"Загрузить",6,1,2.0499999999999998,2.9,3.8,1.72,3,5,0.32999999999999985,-0.10000000000000009,-1.2000000000000002]
["ITALY: Serie C - Group B","2021.04.18 17:30","Modena","Padova","8SCZBlcc",98,null,null,"Загрузить",3,0,2.87,2.9,2.37,2.6,2.9,2.6,0.27,0,-0.22999999999999998]
["ITALY: Serie C - Group C","2021.04.18 17:30","Potenza","Monopoli","xC2kKkqs",98,null,null,"Загрузить",2,1,2.9,2.6,2.75,2.75,3,2.5,0.14999999999999991,-0.39999999999999991,0.25]
["ITALY: Serie C - Group C","2021.04.18 17:30","Teramo","Bisceglie","vgnoz3UP",98,null,null,"Загрузить",2,0,1.57,3.6,4.75,1.9,3.4,3.4,-0.32999999999999985,0.20000000000000018,1.35]
["IVORY COAST: Ligue 1","2021.04.18 17:30","Stella Adjame","SOL","2VHZGnVD",58,null,null,"Загрузить",null,null,null,null,null,null,null,null,"","",""]
["IVORY COAST: Ligue 1","2021.04.18 17:30","Tanda","ASEC Mimosas","GYLwG6pK",58,null,null,"Загрузить",0,1,2.91,2.88,2.37,2.8,2.8,2.5,0.11000000000000032,8.0000000000000071E-2,-0.12999999999999989]
["LIBERIA: LFA First Division","2021.04.18 17:30","BEA Mountain","Nimba Kwado","088I1eUt",113,null,null,"Загрузить",null,null,null,null,null,null,null,null,"","",""]
["LIBERIA: LFA First Division","2021.04.18 17:30","Small Town","Mighty Barrolle","CQKTbgEa",113,null,null,"Загрузить",null,null,null,null,null,null,null,null,"","",""]
["LIBERIA: LFA First Division","2021.04.18 17:30","Watanga","MC Breweries","8hExcXrC",113,null,null,"Загрузить",null,null,2.1800000000000002,3.22,3.32,2.2200000000000002,3.14,3.2,-4.0000000000000036E-2,8.0000000000000071E-2,0.11999999999999966]
["POLAND: Ekstraklasa","2021.04.18 17:30","Legia","Cracovia","4z0Z9KMl",154,null,null,"Загрузить",0,0,1.45,3.8,7.5,1.5,3.75,7.5,-5.0000000000000044E-2,4.9999999999999822E-2,0]
["ROMANIA: Liga 1 - Championship Group","2021.04.18 17:30","CFR Cluj","Academica Clinceni","252kY4U3",157,null,null,"Загрузить",3,0,1.36,4.2,10,1.53,3.5,6,-0.16999999999999993,0.70000000000000018,4]
["SPAIN: Tercera Division - Group 1 - Relegation Group","2021.04.18 17:30","Pontes","Barco","8OAj58DD",176,null,null,"Загрузить",null,null,null,null,null,null,null,null,"","",""]
["SPAIN: Tercera Division - Group 1 - Relegation Group","2021.04.18 17:30","Viveiro","Ribadumia","zBCr7Ur1",176,null,null,"Загрузить",1,0,null,null,null,null,null,null,"","",""]
["SPAIN: Tercera Division - Group 2 - Promotion Group","2021.04.18 17:30","Llanera","EI San Martin","2iR39Xk2",176,null,null,"Загрузить",null,null,null,null,null,null,null,null,"","",""]
["SPAIN: Tercera Division - Group 2 - Second stage","2021.04.18 17:30","Caudal Deportivo","Tuilla","GGrxXn5N",176,null,null,"Загрузить",1,2,1.73,3.12,4.88,2.3199999999999998,3.2,2.81,-0.58999999999999986,-8.0000000000000071E-2,2.0699999999999998]
["SPAIN: Tercera Division - Group 2 - Second stage","2021.04.18 17:30","Gijon Industrial","Basico Urraca","naZ7RQSp",176,null,null,"Загрузить",0,2,2.17,3.2,3.15,2.12,3.2,3.17,4.9999999999999822E-2,0,-2.0000000000000018E-2]
["SPAIN: Tercera Division - Group 3 - Promotion Group","2021.04.18 17:30","Cayon","Torrelavega","Ea2HOngI",176,null,null,"Загрузить",2,0,1.79,3.36,4.0199999999999996,1.64,3.74,4.42,0.15000000000000013,-0.38000000000000034,-0.40000000000000036]
["SPAIN: Tercera Division - Group 3 - Second stage","2021.04.18 17:30","Textil Escudo","Vimenor","vwpSOklf",176,null,null,"Загрузить",0,2,2.93,3.2,2.27,2.81,3.2,2.3199999999999998,{"$f":"IF(L851=\"\",\"\",L851-O851)","v":0.12000000000000011},{"$f":"IF(M851=\"\",\"\",M851-P851)","v":0},{"$f":"IF(N851=\"\",\"\",N851-Q851)","v":-4.9999999999999822E-2}]
["SPAIN: Tercera Division - Group 8 - Relegation Group","2021.04.18 17:30","La Baneza","Real Burgos CF","Ig4mK7rK",176,null,null,"Загрузить",4,1,null,null,null,null,null,null,"","",""]
["SPAIN: Tercera Division - Group 10 - Relegation Group","2021.04.18 17:30","Lebrijana","La Palma","GvqVLLkk",176,null,null,"Загрузить",0,2,1.81,3.28,4.12,2.02,3.24,3.36,-0.20999999999999996,3.9999999999999591E-2,0.76000000000000023]
["SPAIN: Tercera Division - Group 13 - Relegation Group","2021.04.18 17:30","Huercal-Overa","Minerva","8S4Eehnn",176,null,null,"Загрузить",null,null,null,null,null,null,null,null,"","",""]
["SPAIN: Tercera Division - Group 16 - Second stage","2021.04.18 17:30","Arnedo","Calahorra B","GADg94UD",176,null,null,"Загрузить",null,null,null,null,null,null,null,null,"","",""]
["SPAIN: Tercera Division - Group 17 - Relegation Group","2021.04.18 17:30","Sarinena","Carinena","0CjtGbin",176,null,null,"Загрузить",3,0,1.85,3.4,3.68,1.82,3.4,3.82,3.0000000000000027E-2,0,-0.13999999999999968]
["SPAIN: Tercera Division - Group 17 - Relegation Group","2021.04.18 17:30","Villanueva CF","Valdefierro","lYMNcHyI",176,null,null,"Загрузить",null,null,1.77,3.4,4.08,1.82,3.4,3.82,-5.0000000000000044E-2,0,0.26000000000000023]
["SWEDEN: Allsvenskan","2021.04.18 17:30","Djurgarden","Norrkoping","M596YtlR",181,null,null,"Загрузить",1,0,2,3.6,3.5,2.0499999999999998,3.5,3.5,-4.9999999999999822E-2,0.10000000000000009,0]
["SWEDEN: Allsvenskan","2021.04.18 17:30","Sirius","Halmstad","zDksSvRf",181,null,null,"Загрузить",1,0,2.5499999999999998,3.25,2.7,2.25,3.4,3.1,0.29999999999999982,-0.14999999999999991,-0.39999999999999991]
["POLAND: Division 2","2021.04.18 17:50","KKS Kalisz","Chojniczanka","Eg3heQdb",154,null,null,"Загрузить",0,2,2.2999999999999998,3.25,2.7,3.4,3.4,1.9,-1.1000000000000001,-0.14999999999999991,0.80000000000000027]
["ANGOLA: Girabola","2021.04.18 18:00","Primeiro de Agosto","Wiliet","xCthB34I",20,null,null,"Загрузить",2,2,1.5,3.53,8.32,1.45,3.4,8.4,5.0000000000000044E-2,0.12999999999999989,-8.0000000000000071E-2]
["BELGIUM: Jupiler League","2021.04.18 18:00","Club Brugge KV","Mouscron","bX5CPjE4",32,null,null,"Загрузить",4,2,1.18,6,13,1.2,6.5,12,-2.0000000000000018E-2,-0.5,1]
["BELGIUM: Jupiler League","2021.04.18 18:00","Kortrijk","KV Mechelen","S8BK6x8P",32,null,null,"Загрузить",1,4,3.8,4.5,1.72,3.2,3.6,2.1,0.59999999999999964,0.89999999999999991,-0.38000000000000012]
["BELGIUM: Jupiler League","2021.04.18 18:00","Leuven","Waasland-Beveren","l6nKbRD0",32,null,null,"Загрузить",1,2,1.75,4,4,1.85,4,3.6,-0.10000000000000009,0,0.39999999999999991]
["BELGIUM: Jupiler League","2021.04.18 18:00","Oostende","Cercle Brugge KSV","UyACrQys",32,null,null,"Загрузить",1,1,1.61,3.8,5.5,1.83,3.75,4,-0.21999999999999997,4.9999999999999822E-2,1.5]
["BELGIUM: Jupiler League","2021.04.18 18:00","St. Liege","Beerschot VA","67O1TrIb",32,null,null,"Загрузить",3,0,1.5,4.2,6.5,1.61,4,5,-0.1100000000000001,0.20000000000000018,1.5]
["BELGIUM: Jupiler League","2021.04.18 18:00","St. Truiden","Anderlecht","0EyLAgTe",32,null,null,"Загрузить",0,1,5.75,3.8,1.45,5.5,3.4,1.57,0.25,0.39999999999999991,-0.12000000000000011]
["BELGIUM: Jupiler League","2021.04.18 18:00","Waregem","Gent","6gHXXTOE",32,null,null,"Загрузить",2,7,6.5,4.75,1.5,3.4,3.4,1.9,3.1,1.35,-0.39999999999999991]
["BURKINA FASO: Premier League","2021.04.18 18:00","ASF Dioulasso","Royal","pj1B0Lu8",42,null,null,"Загрузить",1,0,3.07,2.98,2.39,3.32,2.75,2.27,-0.25,0.22999999999999998,0.12000000000000011]
["BURKINA FASO: Premier League","2021.04.18 18:00","Etoile Filante","ASFA Yennega","Ot0FaueE",42,null,null,"Загрузить",1,1,2.54,2.75,3.1,2.42,2.75,3.08,0.12000000000000011,0,2.0000000000000018E-2]
["BURKINA FASO: Premier League","2021.04.18 18:00","Sonabel Ouagadougou","Salitas","Usufhcml",42,null,null,"Загрузить",null,null,null,null,null,null,null,null,"","",""]
["BURKINA FASO: Premier League","2021.04.18 18:00","Vitesse","ASEC Koudougou","GvyjgwYs",42,null,null,"Загрузить",2,0,null,null,null,null,null,null,"","",""]
["CHILE: Primera B","2021.04.18 18:00","Lautaro","Deportes Iquique","xlYgfkMc",51,null,null,"Загрузить",null,null,2.97,3.44,2.2799999999999998,3.19,3.08,2.21,-0.21999999999999975,0.35999999999999988,6.999999999999984E-2]
["DENMARK: Superliga - Championship Group","2021.04.18 18:00","Brondby","Aarhus","6BGhNZxn",63,null,null,"Загрузить",2,2,2.1,3.5,3.3,2.1,3.5,3.25,0,0,4.9999999999999822E-2]
["ESTONIA: Meistriliiga","2021.04.18 18:00","Kalju","Parnu JK Vaprus","xALKTTLp",73,null,null,"Загрузить",0,1,1.1299999999999999,7.3,17,1.3,5.5,6.7,-0.17000000000000015,1.7999999999999998,10.3]
["ETHIOPIA: Premier League","2021.04.18 18:00","Ethiopia Bunna","St. George","dArjpxK1",74,null,null,"Загрузить",0,1,2.27,3.1,2.94,2.3199999999999998,3.2,3.02,-4.9999999999999822E-2,-0.10000000000000009,-8.0000000000000071E-2]
["GERMANY: Bundesliga","2021.04.18 18:00","Mainz","Hertha Berlin","zufUmlbK",81,null,null,"Загрузить",null,null,2.2000000000000002,3.4,3.2,2.5,3.3,2.75,-0.29999999999999982,0.10000000000000009,0.45000000000000018]
["ISRAEL: Ligat ha'Al - Relegation Group","2021.04.18 18:00","Hapoel Hadera","Hapoel Haifa","IgSkqcr0",97,null,null,"Загрузить",3,0,3.3,2.8,2.2999999999999998,2.75,2.87,2.62,0.54999999999999982,-7.0000000000000284E-2,-0.32000000000000028]
["ITALY: Serie A","2021.04.18 18:00","Torino","AS Roma","Wv5V3Whp",98,null,null,"Загрузить",3,1,2.8,3.5,2.4500000000000002,4.5,3.8,1.72,-1.7000000000000002,-0.29999999999999982,0.7300000000000002]
["LIBERIA: LFA First Division","2021.04.18 18:00","Freeport","LPRC Oiler","va7M0Fqm",113,null,null,"Загрузить",2,2,3.7,3.15,2.0299999999999998,3.7,3.15,2.0299999999999998,0,0,0]
["MAURITANIA: Ligue 1","2021.04.18 18:00","Kaedi","SNIM","8Ekbv9y7",126,null,null,"Загрузить",null,null,null,null,null,null,null,null,"","",""]
["MOROCCO: Botola 2","2021.04.18 18:00","Raja Beni Mellal","Union Touarga","6irwyw0k",134,null,null,"Загрузить",0,1,null,null,null,null,null,null,"","",""]
["MOROCCO: Botola 2","2021.04.18 18:00","Stade Marocain","Ittihad Khemisset","S0qZyJpq",134,null,null,"Загрузить",0,1,null,null,null,null,null,null,"","",""]
["MOROCCO: Botola 2","2021.04.18 18:00","TAS Casablanca","Olympique Khouribga","MJ66taxS",134,null,null,"Загрузить",2,1,null,null,null,null,null,null,"","",""]
["NETHERLANDS: KNVB Beker","2021.04.18 18:00","Ajax","Vitesse","rVWngZrk",139,null,null,"Загрузить",2,1,1.4,4.75,6.5,1.44,4.5,6.5,-4.0000000000000036E-2,0.25,0]
["PORTUGAL: Liga Portugal 2","2021.04.18 18:00","Oliveirense","Mafra","fcp7kOKh",155,null,null,"Загрузить",0,0,2.8,3,2.6,2.8,3.1,2.4,0,-0.10000000000000009,0.20000000000000018]
["RUSSIA: Premier League","2021.04.18 18:00","Spartak Moscow","Ufa","jw7kUalb",158,null,null,"Загрузить",0,3,1.45,4.2,7.5,1.36,4.75,8,8.9999999999999858E-2,-0.54999999999999982,-0.5]
["SPAIN: Segunda Division B - Group 1 - Promotion Group","2021.04.18 18:00","Zamora","Leonesa","r3t5YMkr",176,null,null,"Загрузить",3,2,3.62,2.9,2.09,2.5,3,2.63,1.1200000000000001,-0.10000000000000009,-0.54]
["SPAIN: Segunda Division B - Group 2 - Relegation Group","2021.04.18 18:00","Barakaldo","Haro Deportivo","2aVsMYFM",176,null,null,"Загрузить",2,2,2.02,3.09,3.58,2.5,3.2,2.5,-0.48,-0.11000000000000032,1.08]
["SPAIN: Segunda Division B - Group 2 - Relegation Group","2021.04.18 18:00","Portugalete","Ejea","UoXZNfoA",176,null,null,"Загрузить",null,null,2.0299999999999998,3.06,3.8,2.27,3,3.07,-0.24000000000000021,6.0000000000000053E-2,0.73]
["SPAIN: Segunda Division B - Group 2 - Second stage","2021.04.18 18:00","Racing Santander","Osasuna B","AXv2w55O",176,null,null,"Загрузить",null,null,2,2.9,4.0599999999999996,1.64,3.4,5.0999999999999996,0.3600000000000001,-0.5,-1.04]
["SPAIN: Segunda Division B - Group 2 - Second stage","2021.04.18 18:00","R. Union","Ebro","lOw6xPKU",176,null,null,"Загрузить",3,0,1.97,3.19,3.56,1.93,3.2,3.68,4.0000000000000036E-2,-1.0000000000000231E-2,-0.12000000000000011]
["SPAIN: Segunda Division B - Group 4 - Promotion Group","2021.04.18 18:00","San Fernando","Betis B","bN0l1Nkf",176,null,null,"Загрузить",2,1,2.4500000000000002,3,2.8,2.5,2.9,2.7,-4.9999999999999822E-2,0.10000000000000009,9.9999999999999645E-2]
["SPAIN: Segunda Division B - Group 4 - Promotion Group","2021.04.18 18:00","Sanluqueno","Linares","x8Cu3qLs",176,null,null,"Загрузить",0,2,3.06,2.6,2.62,2.63,2.9,2.6,0.43000000000000016,-0.29999999999999982,2.0000000000000018E-2]
["SPAIN: Segunda Division B - Group 4 - Relegation Group","2021.04.18 18:00","Recreativo Huelva","Granada CF B","AesLOx5F",176,null,null,"Загрузить",0,1,2.02,2.9,3.72,2.02,3.24,3.32,0,-0.3400000000000003,0.40000000000000036]
["SPAIN: Segunda Division B - Group 5 - Promotion Group","2021.04.18 18:00","Internacional de Madrid","Extremadura UD","Sfr3FSSf",176,null,null,"Загрузить",1,0,3.38,2.38,2.5499999999999998,2.6,2.9,2.63,0.7799999999999998,-0.52,-8.0000000000000071E-2]
["SPAIN: Tercera Division - Group 1 - Promotion Group","2021.04.18 18:00","Polvorin","Alondras","hQ7Tz625",176,null,null,"Загрузить",null,null,1.75,3.5,4.08,1.82,3.4,3.82,-7.0000000000000062E-2,0.10000000000000009,0.26000000000000023]
["SPAIN: Tercera Division - Group 5 - Relegation Group","2021.04.18 18:00","UE Figueres","Santfeliuenc","j57LV7ss",176,null,null,"Загрузить",null,null,null,null,null,null,null,null,"","",""]
["SPAIN: Tercera Division - Group 5 - Second stage","2021.04.18 18:00","Sant Andreu","CE Manresa","4SeXMwa9",176,null,null,"Загрузить",null,null,1.85,3.24,3.88,1.93,3.3,3.56,-7.9999999999999849E-2,-5.9999999999999609E-2,0.31999999999999984]
["SPAIN: Tercera Division - Group 6 - Promotion Group","2021.04.18 18:00","Alzira","Eldense","hOArp6Q9",176,null,null,"Загрузить",null,null,3.16,2.56,2.61,2.3199999999999998,3.2,2.81,0.8400000000000003,-0.64000000000000012,-0.20000000000000018]
["SPAIN: Tercera Division - Group 6 - Second stage","2021.04.18 18:00","Villarreal C","Olimpic Xativa","4dyiBrP8",176,null,null,"Загрузить",null,null,1.72,3.38,4.78,1.55,3.6,5.55,0.16999999999999993,-0.2200000000000002,-0.76999999999999957]
["SPAIN: Tercera Division - Group 9 - Promotion Group","2021.04.18 18:00","Almeria B","El Palo","GjqqLWoC",176,null,null,"Загрузить",null,null,null,null,null,null,null,null,"","",""]
["SPAIN: Tercera Division - Group 9 - Relegation Group","2021.04.18 18:00","Loja","Estepona","UTaqBkJt",176,null,null,"Загрузить",null,null,null,null,null,null,null,null,"","",""]
["SPAIN: Tercera Division - Group 10 - Second stage","2021.04.18 18:00","Los Barrios","Cordoba B","WSKmDi7H",176,null,null,"Загрузить",null,null,null,null,null,null,null,null,"","",""]
["SPAIN: Tercera Division - Group 13 - Relegation Group","2021.04.18 18:00","Lorca FC","Plus Ultra","Uy6AdYWu",176,null,null,"Загрузить",null,null,null,null,null,null,null,null,"","",""]
["SPAIN: Tercera Division - Group 14 - Promotion Group","2021.04.18 18:00","CD Coria","Cacereno","AuXbXWpR",176,null,null,"Загрузить",null,null,null,null,null,null,null,null,"","",""]
["SPAIN: Tercera Division - Group 14 - Promotion Group","2021.04.18 18:00","Moralo","Jerez CF","E9yKSjgr",176,null,null,"Загрузить",null,null,null,null,null,null,null,null,"","",""]
["SPAIN: Tercera Division - Group 14 - Relegation Group","2021.04.18 18:00","Llerenense","Campanario","vDOHJSYH",176,null,null,"Загрузить",null,null,1.59,3.6,5.05,1.93,3.3,3.56,-0.33999999999999986,0.30000000000000027,1.4899999999999998]
["SPAIN: Tercera Division - Group 14 - Relegation Group","2021.04.18 18:00","RCP Valverdeno","Lobon","fPM5MUla",176,null,null,"Загрузить",null,null,1.93,3.48,3.46,2.86,3.3,2.2200000000000002,-0.92999999999999994,0.18000000000000016,1.2399999999999998]
["SPAIN: Tercera Division - Group 14 - Relegation Group","2021.04.18 18:00","Trujillo","Valdivia","C0X0NAZh",176,null,null,"Загрузить",null,null,1.34,4.18,9.1999999999999993,1.37,4.2,7.3,-3.0000000000000027E-2,-2.0000000000000462E-2,1.8999999999999995]
["SPAIN: Tercera Division - Group 14 - Second stage","2021.04.18 18:00","Arroyo","UP Plasencia","xUapuLr5",176,null,null,"Загрузить",1,2,3.17,3.2,2.12,3.06,3.2,2.17,0.10999999999999988,0,-4.9999999999999822E-2]
["SPAIN: Tercera Division - Group 17 - Relegation Group","2021.04.18 18:00","Robres","San Juan Zaragoza","dbQVee6U",176,null,null,"Загрузить",null,null,null,null,null,null,null,null,"","",""]
["SPAIN: Tercera Division - Group 18 - Promotion Group","2021.04.18 18:00","Albacete B","Marchamalo","E1a9nqpC",176,null,null,"Загрузить",null,null,2.41,2.79,3.07,2.12,3.2,3.17,0.29000000000000004,-0.41000000000000014,-0.10000000000000009]
["SPAIN: Tercera Division - Group 18 - Promotion Group","2021.04.18 18:00","Puertollano C.F.","Torrijos","8ObDo3aI",176,null,null,"Загрузить",null,null,1.51,3.74,5.75,2.02,3.24,3.36,-0.51,0.5,2.39]
["SPAIN: Tercera Division - Group 18 - Promotion Group","2021.04.18 18:00","Quintanar","Toledo","zB05mPU5",176,null,null,"Загрузить",null,null,null,null,null,null,null,null,{"$f":"IF(L915=\"\",\"\",L915-O915)","v":""},{"$f":"IF(M915=\"\",\"\",M915-P915)","v":""},{"$f":"IF(N915=\"\",\"\",N915-Q915)","v":""}]
["TURKEY: Super Lig","2021.04.18 18:00","Basaksehir","Fenerbahce","rJjxRgmN",191,null,null,"Загрузить",1,2,3.5,3.6,2,3.6,3.6,1.95,-0.10000000000000009,0,5.0000000000000044E-2]
["TURKEY: 1. Lig","2021.04.18 18:00","Istanbulspor AS","Menemenspor","nJiPEq55",191,null,null,"Загрузить",4,0,1.57,3.75,5.5,1.57,3.4,5.5,0,0.35000000000000009,0]
["SPAIN: LaLiga2","2021.04.18 18:15","Cartagena","Tenerife","C0LSjYw9",176,null,null,"Загрузить",0,0,2.62,2.8,3,2.7,2.87,2.9,-8.0000000000000071E-2,-7.0000000000000284E-2,0.10000000000000009]
["ARGENTINA: Copa de la Liga Profesional","2021.04.18 18:30","Arsenal Sarandi","Racing Club","UTRgkV7N",22,null,null,"Загрузить",2,1,3.6,3.25,1.95,3.2,3.2,2.1,0.39999999999999991,4.9999999999999822E-2,-0.15000000000000013]
["ARGENTINA: Primera Nacional","2021.04.18 18:30","Atletico Atlanta","Dep. Riestra","YcbTjb2p",22,null,null,"Загрузить",null,null,1.95,3,4,1.9,3,4,5.0000000000000044E-2,0,0]
["CYPRUS: First Division - Championship Group","2021.04.18 18:30","Ol. Nicosia","AEK Larnaca","G4rPMBDo",61,null,null,"Загрузить",2,1,5.5,3.75,1.55,3.8,3.4,1.85,1.7000000000000002,0.35000000000000009,-0.30000000000000004]
["CZECH REPUBLIC: 1. Liga","2021.04.18 18:30","Sparta Prague","Slovacko","dKszpqEe",62,null,null,"Загрузить",1,0,1.55,3.75,5.5,1.57,3.6,5,-2.0000000000000018E-2,0.14999999999999991,0.5]
["GIBRALTAR: National League - Relegation Group","2021.04.18 18:30","Europa Point","College 1975 FC","dvYdm5K0",304,null,null,"Загрузить",null,null,1.34,4.74,5.95,1.19,6,9.5,0.15000000000000013,-1.2599999999999998,-3.55]
["GREECE: Super League - Championship Group","2021.04.18 18:30","PAOK","Olympiacos Piraeus","lAYZfKsc",83,null,null,"Загрузить",2,0,2.0499999999999998,3.3,3.6,2.4500000000000002,3.1,2.75,-0.40000000000000036,0.19999999999999973,0.85000000000000009]
["MALI: Premiere Division","2021.04.18 18:30","AS Douanes de Sikasso","LC Bamako","YsAO40yc",123,null,null,"Загрузить",null,null,null,null,null,null,null,null,"","",""]
["MALI: Premiere Division","2021.04.18 18:30","CO Bamako","AS Nianan","OrBFQ9ja",123,null,null,"Загрузить",null,null,null,null,null,null,null,null,"","",""]
["MALI: Premiere Division","2021.04.18 18:30","Sonni","Onze Createurs","rufXtpgd",123,null,null,"Загрузить",null,null,null,null,null,null,null,null,"","",""]
["PORTUGAL: Primeira Liga","2021.04.18 18:30","Nacional","FC Porto","zaQgJYVJ",155,null,null,"Загрузить",null,null,13,6.5,1.2,11,5,1.3,2,1.5,-0.10000000000000009]
["SOUTH AFRICA: Premier League","2021.04.18 18:30","Orlando Pirates","Maritzburg Utd","EkDnJLmk",175,null,null,"Загрузить",2,0,1.66,3,5.5,1.57,3.4,5.5,8.9999999999999858E-2,-0.39999999999999991,0]
["SPAIN: LaLiga","2021.04.18 18:30","Betis","Valencia","OYcYKYW5",176,null,null,"Загрузить",2,2,1.75,3.8,4.33,1.9,3.6,3.75,-0.14999999999999991,0.19999999999999973,0.58000000000000007]
["SPAIN: LaLiga","2021.04.18 18:30","Cadiz CF","Celta Vigo","plnsJC1I",176,null,null,"Загрузить",0,0,3.6,3.5,2,2.8,3.2,2.5,0.80000000000000027,0.29999999999999982,-0.5]
["SPAIN: Tercera Division - Group 9 - Promotion Group","2021.04.18 18:30","Mancha","Velez","x0puMCW5",176,null,null,"Загрузить",null,null,null,null,null,null,null,null,"","",""]
["SPAIN: Tercera Division - Group 9 - Promotion Group","2021.04.18 18:30","Torredonjimeno","Antequera","rwoyNhHa",176,null,null,"Загрузить",null,null,2.41,2.87,2.98,1.93,3.4,3.46,0.4800000000000002,-0.5299999999999998,-0.48]
["SPAIN: Tercera Division - Group 9 - Second stage","2021.04.18 18:30","Huetor Tajar","Alhaurin","0f7Fdd3f",176,null,null,"Загрузить",null,null,null,null,null,null,null,null,"","",""]
["SPAIN: Tercera Division - Group 10 - Promotion Group","2021.04.18 18:30","Xerez CD","Puente Genil","rVKyoZNO",176,null,null,"Загрузить",null,null,null,null,null,null,null,null,"","",""]
["SPAIN: Tercera Division - Group 10 - Promotion Group","2021.04.18 18:30","Xerez D.F.C.","San Roque","4vMXoF8I",176,null,null,"Загрузить",null,null,null,null,null,null,null,null,"","",""]
["SPAIN: Tercera Division - Group 10 - Relegation Group","2021.04.18 18:30","Conil","Castilleja CF","UsmZKu5e",176,null,null,"Загрузить",null,null,null,null,null,null,null,null,"","",""]
["SPAIN: Tercera Division - Group 16 - Relegation Group","2021.04.18 18:30","Agoncillo","River Ebro","IFP2DARG",176,null,null,"Загрузить",null,null,2.1800000000000002,3.4,2.85,2.2200000000000002,3.4,2.81,-4.0000000000000036E-2,0,4.0000000000000036E-2]
["SPAIN: Tercera Division - Group 18 - Relegation Group","2021.04.18 18:30","La Solana","Pedroneras","pbmDbqv0",176,null,null,"Загрузить",null,null,null,null,null,null,null,null,"","",""]
["UKRAINE: Premier League","2021.04.18 18:30","Kolos Kovalivka","Dnipro-1","EuCXEo7k",195,null,null,"Загрузить",1,1,2.4500000000000002,3.2,2.75,2.1,3.25,3.25,0.35000000000000009,-4.9999999999999822E-2,-0.5]
["BOSNIA AND HERZEGOVINA: Premier League","2021.04.18 19:00","Siroki Brijeg","Velez Mostar","fu5bTka3",37,null,null,"Загрузить",null,null,2.62,3.1,2.62,1.9,3.3,3.5,0.7200000000000002,-0.19999999999999973,-0.87999999999999989]
["MALDIVES: Dhivehi Premier League","2021.04.18 19:00","Valencia","Da Grande","GnsxDnI2",122,null,null,"Загрузить",null,null,1.45,4.53,6.28,1.51,4,5.2,-6.0000000000000053E-2,0.53000000000000025,1.08]
["MALI: Premiere Division","2021.04.18 19:00","Korofina","Black Stars","2yHv1IzM",123,null,null,"Загрузить",null,null,null,null,null,null,null,null,"","",""]
["MALI: Premiere Division","2021.04.18 19:00","Stade Malien","Real Bamako","noES3Kj3",123,null,null,"Загрузить",null,null,2.11,2.92,3.78,2.2999999999999998,2.89,3.32,-0.18999999999999995,2.9999999999999805E-2,0.45999999999999996]
["MEXICO: Liga MX - Clausura","2021.04.18 19:00","U.N.A.M.- Pumas","U.A.N.L.- Tigres","0bXpVOLe",128,null,null,"Загрузить",null,null,3.25,3.2,2.15,2.9,3.25,2.25,0.35000000000000009,-4.9999999999999822E-2,-0.10000000000000009]
["PORTUGAL: Liga BPI Women - Championship Group","2021.04.18 19:00","Braga W","SL Benfica W","U5JbegSj",155,null,null,"Загрузить",null,null,3.76,3.8,1.81,4.08,3.74,1.69,-0.32000000000000028,5.9999999999999609E-2,0.12000000000000011]
["SERBIA: Super Liga","2021.04.18 19:00","Proleter","Mladost","U7G9Zfj5",167,null,null,"Загрузить",null,null,3.2,2.5,2.5,2.87,2.87,2.4,0.33000000000000007,-0.37000000000000011,0.10000000000000009]
["SERBIA: Super Liga","2021.04.18 19:00","Radnicki Nis","Javor","bm4MWhzO",167,null,null,"Загрузить",null,null,1.65,3.5,4.75,1.66,3.6,4.2,-1.0000000000000009E-2,-0.10000000000000009,0.54999999999999982]
["SERBIA: Super Liga","2021.04.18 19:00","Sp. Subotica","Napredak","xYFDYE5B",167,null,null,"Загрузить",null,null,7.5,3.6,1.45,2.2000000000000002,3.25,2.87,5.3,0.35000000000000009,-1.4200000000000002]
["SERBIA: Super Liga","2021.04.18 19:00","TSC Backa Topola","FK Vozdovac","jHH5zyya",167,null,null,"Загрузить",null,null,1.66,3.3,4.75,1.9,3.2,3.6,-0.24,9.9999999999999645E-2,1.1499999999999999]
["SPAIN: Segunda Division B - Group 1 - Second stage","2021.04.18 19:00","Dep. La Coruna","Numancia","KO3R2P0j",176,null,null,"Загрузить",null,null,2.2799999999999998,2.86,3.38,2.4,2.88,2.95,-0.12000000000000011,-2.0000000000000018E-2,0.42999999999999972]
["SPAIN: Segunda Division B - Group 2 - Promotion Group","2021.04.18 19:00","R. Sociedad B","Tudelano","dlcBU9Mg",176,null,null,"Загрузить",null,null,1.77,3.18,4.88,1.93,3.6,3.26,-0.15999999999999992,-0.41999999999999993,1.62]
["SPAIN: Segunda Division B - Group 3 - Promotion Group","2021.04.18 19:00","Andorra","Alcoyano","dvMY2oIu",176,null,null,"Загрузить",null,null,1.89,2.97,4.9000000000000004,2.3199999999999998,3,2.97,-0.42999999999999994,-2.9999999999999805E-2,1.9300000000000002]
["SPAIN: Segunda Division B - Group 3 - Promotion Group","2021.04.18 19:00","Barcelona B","Villarreal B","CY4c5JMt",176,null,null,"Загрузить",null,null,2.06,3,3.8,2.02,3,3.68,4.0000000000000036E-2,0,0.11999999999999966]
["SPAIN: Tercera Division - Group 5 - Relegation Group","2021.04.18 19:00","UE Sants","Valls","48BPURdm",176,null,null,"Загрузить",null,null,2.02,3.3,3.34,1.87,3.3,3.82,0.14999999999999991,0,-0.48]
["SPAIN: Tercera Division - Group 9 - Second stage","2021.04.18 19:00","CD Torreperogil","Juventud Torremolinos","6X7Bcxll",176,null,null,"Загрузить",null,null,2.81,3.2,2.3199999999999998,2.63,3.2,2.4,0.18000000000000016,0,-8.0000000000000071E-2]
["CROATIA: 1. HNL","2021.04.18 19:05","D. Zagreb","Istra 1961","pzy1GbU7",59,null,null,"Загрузить",null,null,1.3,4.75,12,1.2,6,11,0.10000000000000009,-1.25,1]
["SPAIN: Tercera Division - Group 7 - Promotion Group","2021.04.18 19:15","Moratalaz","Alcorcon B","fma5NX0F",176,null,null,"Загрузить",null,null,1.93,3.04,4.1399999999999997,2.02,3.24,3.36,-9.000000000000008E-2,-0.20000000000000018,0.7799999999999998]
["ENGLAND: FA Cup","2021.04.18 19:30","Leicester","Southampton","Uq6OWYdp",198,null,null,"Загрузить",null,null,1.95,3.6,3.75,2.1,3.4,3.4,-0.15000000000000013,0.20000000000000018,0.35000000000000009]
["GUATEMALA: Liga Nacional - Clausura","2021.04.18 19:30","Antigua","Municipal","rTJvgnN7",85,null,null,"Загрузить",null,null,2.4700000000000002,3.13,2.76,3.82,3.3,1.85,-1.3499999999999996,-0.16999999999999993,0.9099999999999997]
["ISRAEL: Ligat ha'Al - Championship Group","2021.04.18 19:30","Maccabi Tel Aviv","Ashdod","MmAnR35H",97,null,null,"Загрузить",null,null,1.3,4.75,8,1.5,3.7,6.5,-0.19999999999999996,1.0499999999999998,1.5]
["LIBERIA: LFA First Division","2021.04.18 19:30","LISCR FC","Nimba FC","YZLPaZbg",113,null,null,"Загрузить",null,null,1.23,5.25,12.5,1.23,5.25,13,0,0,-0.5]
["SPAIN: Segunda Division B - Group 2 - Relegation Group","2021.04.18 19:30","Alaves B","Mutilvera","O8WwNE0G",176,null,null,"Загрузить",null,null,2.4,2.94,2.78,2.38,3.24,2.63,2.0000000000000018E-2,-0.30000000000000027,0.14999999999999991]
["SPAIN: Segunda Division B - Group 3 - Second stage","2021.04.18 19:30","Cornella","Hercules","zkqKErHi",176,null,null,"Загрузить",null,null,2.17,3,3.44,2.27,3,3.07,-0.10000000000000009,0,0.37000000000000011]
["ASIA: AFC Champions League","2021.04.18 19:45","Al Ahli SC","Al-Duhail","dz44w8fa",5,null,null,"Загрузить",null,null,4.6100000000000003,3.4,1.92,3.18,3.6,2.1800000000000002,1.4300000000000002,-0.20000000000000018,-0.26000000000000023]
["BULGARIA: Parva liga","2021.04.18 19:45","Levski Sofia","Ludogorets","2ZZpRd8Q",41,null,null,"Загрузить",null,null,4.33,4,1.7,3.8,3.6,1.8,0.53000000000000025,0.39999999999999991,-0.10000000000000009]
["ARGENTINA: Primera Nacional","2021.04.18 20:00","Atl. Rafaela","Almagro","n7ZKE5lE",22,null,null,"Загрузить",null,null,2,2.9,3.75,2.2000000000000002,2.9,3.2,-0.20000000000000018,0,0.54999999999999982]
["ARGENTINA: Primera Nacional","2021.04.18 20:00","CA Estudiantes","Estudiantes Rio Cuarto","QioFE1fi",22,null,null,"Загрузить",null,null,2.2999999999999998,3.1,2.8,2.2999999999999998,3.1,2.8,0,0,0]
["ARGENTINA: Primera A Women - Apertura","2021.04.18 20:00","Rosario Central W","River Plate W","ABPTc9DE",22,null,null,"Загрузить",null,null,19,10.5,1.07,16,11,1.07,3,-0.5,0]
["BRAZIL: Campeonato Brasiliense - Second stage","2021.04.18 20:00","Capital","Ceilandia","Gll4v9lg",39,null,null,"Загрузить",null,null,1.64,3.64,5.05,1.69,3.5,4.5599999999999996,-5.0000000000000044E-2,0.14000000000000012,0.49000000000000021]
["BRAZIL: Campeonato Capixaba","2021.04.18 20:00","Vilavelhense","SAO Mateus","j9TXF3s0",39,null,null,"Загрузить",null,null,null,null,null,null,null,null,"","",""]
["BRAZIL: Campeonato Pernambucano","2021.04.18 20:00","Academica Vitoria","Central SC","6i4hoBDN",39,null,null,"Загрузить",null,null,2.9,3,2.25,2.62,3,2.5,0.2799999999999998,0,-0.25]
["BRAZIL: Brasileiro Women","2021.04.18 20:00","Botafogo RJ W","Bahia W","O0ArCjna",39,null,null,"Загрузить",null,null,1.82,3.6,3.92,2.02,3.4,3.17,-0.19999999999999996,0.20000000000000018,0.75]
["BRAZIL: Brasileiro Women","2021.04.18 20:00","Flamengo W","Minas ICESP W","YXh6RVon",39,null,null,"Загрузить",null,null,1.65,4.16,4.24,1.37,4.74,6.2,0.2799999999999998,-0.58000000000000007,-1.96]
["ECUADOR: Liga Pro - First stage","2021.04.18 20:00","Dep. Cuenca","U. Catolica","zahCRSXf",68,null,null,"Загрузить",null,null,3.4,3.3,2.0499999999999998,2.8,3.2,2.2999999999999998,0.60000000000000009,9.9999999999999645E-2,-0.25]
["GHANA: Premier League","2021.04.18 20:00","Hearts of Oak","Inter Allies","27VqAYEU",82,null,null,"Загрузить",null,null,1.45,3.66,9.41,1.41,3.5,9.5,4.0000000000000036E-2,0.16000000000000014,-8.9999999999999858E-2]
["GUATEMALA: Liga Nacional - Clausura","2021.04.18 20:00","Malacateco","Deportivo Achuapa","pYcNHVa8",85,null,null,"Загрузить",null,null,1.72,3.38,5.21,1.93,3.1,3.82,-0.20999999999999996,0.2799999999999998,1.3900000000000001]
["HUNGARY: Merkantil Bank Liga","2021.04.18 20:00","Gyor","Debrecen","pnqT8xyB",91,null,null,"Загрузить",null,null,3.45,3.81,1.93,3.17,3.4,2.02,0.28000000000000025,0.41000000000000014,-9.000000000000008E-2]
["IRAQ: Super League","2021.04.18 20:00","Al Zawraa","Al Minaa","bLRyu463",95,null,null,"Загрузить",null,null,null,null,null,null,null,null,{"$f":"IF(L979=\"\",\"\",L979-O979)","v":""},{"$f":"IF(M979=\"\",\"\",M979-P979)","v":""},{"$f":"IF(N979=\"\",\"\",N979-Q979)","v":""}]
["IVORY COAST: Ligue 1","2021.04.18 20:00","Racing d'Abidjan","Bouake","AeLsFQaQ",58,null,null,"Загрузить",null,null,1.56,3.43,7.28,1.51,3.3,7.3,5.0000000000000044E-2,0.13000000000000034,-1.9999999999999574E-2]
["IVORY COAST: Ligue 1","2021.04.18 20:00","Sporting Gagnoa","Academie de FAD","0Qwih3hD",58,null,null,"Загрузить",null,null,2.8,2.8,2.5,2.8,2.8,2.5,0,0,0]
["NICARAGUA: Liga Primera U20 - Clausura","2021.04.18 20:00","Chinandega U20","CD Junior U20","zuzr6U9T",141,null,null,"Загрузить",null,null,null,null,null,null,null,null,"","",""]
["ROMANIA: Liga 1 - Championship Group","2021.04.18 20:00","FCSB","FC Botosani","8UmnZpFc",157,null,null,"Загрузить",null,null,1.65,3.75,5,1.6,3.6,5,4.9999999999999822E-2,0.14999999999999991,0]
["SPAIN: Segunda Division B - Group 4 - Relegation Group","2021.04.18 20:00","Marbella","Lorca Deportiva","hKWPNdKL",176,null,null,"Загрузить",null,null,1.58,3.62,6.2,1.69,3.3,4.84,-0.10999999999999988,0.32000000000000028,1.3600000000000003]
["BRAZIL: Campeonato Carioca - Taca Guanabara","2021.04.18 20:15","Bangu","Volta Redonda","dQEJqu14",39,null,null,"Загрузить",null,null,8.5,4.2,1.36,5,3.4,1.61,3.5,0.80000000000000027,-0.25]
["BRAZIL: Campeonato Carioca - Taca Guanabara","2021.04.18 20:15","Nova Iguacu","Resende","rupIX6Zn",39,null,null,"Загрузить",null,null,1.7,3.4,4.33,2.2000000000000002,3.2,2.9,-0.50000000000000022,0.19999999999999973,1.4300000000000002]
["ARGENTINA: Torneo Federal","2021.04.18 20:30","CDJU Gualeguaychu","Central Norte","vcpNQVH0",22,null,null,"Загрузить",null,null,2.91,3.1,2.42,2.8,3.13,2.44,0.11000000000000032,-2.9999999999999805E-2,-2.0000000000000018E-2]
["ARGENTINA: Torneo Federal","2021.04.18 20:30","Circulo Deportivo","Olimpo Bahia Blanca","r3roWFVC",22,null,null,"Загрузить",null,null,2.57,2.76,2.97,2.42,2.88,2.94,0.14999999999999991,-0.12000000000000011,3.0000000000000249E-2]
["ARGENTINA: Torneo Federal","2021.04.18 20:30","Douglas Haig","Gimnasia E.R.","lSRDmgPD",22,null,null,"Загрузить",null,null,2.04,3.12,3.7,2.04,3.13,3.7,0,-9.9999999999997868E-3,0]
["ARGENTINA: Torneo Federal","2021.04.18 20:30","Independiente Chivilcoy","Sportivo Estudiantes","rguXgJNJ",22,null,null,"Загрузить",null,null,2.4700000000000002,2.95,2.97,2.4,2.9,2.94,7.0000000000000284E-2,5.0000000000000266E-2,3.0000000000000249E-2]
["ARGENTINA: Primera B - Apertura","2021.04.18 20:30","Comunicaciones","Argentino de Quilmes","rJUnYszL",22,null,null,"Загрузить",null,null,2.2599999999999998,3.24,3.08,1.85,3.3,3.82,0.4099999999999997,-5.9999999999999609E-2,-0.73999999999999977]
["ARGENTINA: Primera B - Apertura","2021.04.18 20:30","Defensores Unidos","Fenix","WrFMRuDl",22,null,null,"Загрузить",null,null,2.1,3.2,3.46,1.85,3.1,4.0999999999999996,0.25,0.10000000000000009,-0.63999999999999968]
["ARGENTINA: Primera C - Apertura","2021.04.18 20:30","Atlas","Laferrere","p2HY1mU5",22,null,null,"Загрузить",null,null,2.5099999999999998,2.93,2.95,2.42,2.88,2.94,8.9999999999999858E-2,5.0000000000000266E-2,1.0000000000000231E-2]
["ARGENTINA: Primera C - Apertura","2021.04.18 20:30","Club Lujan","Ituzaingo","lzOP39ag",22,null,null,"Загрузить",null,null,2.66,3.03,2.63,2.4,3,2.75,0.26000000000000023,2.9999999999999805E-2,-0.12000000000000011]
["ARGENTINA: Primera C - Apertura","2021.04.18 20:30","Deportivo Espanol","Argentino de Merlo","fDOL4kpm",22,null,null,"Загрузить",null,null,3.03,3.26,2.25,3.24,3.32,2.12,-0.21000000000000041,-6.0000000000000053E-2,0.12999999999999989]
["ARGENTINA: Primera C - Apertura","2021.04.18 20:30","General Lamadrid","Real Pilar","WIFt0RbI",22,null,null,"Загрузить",null,null,3.36,2.99,2.2200000000000002,3.34,3.02,2.2200000000000002,2.0000000000000018E-2,-2.9999999999999805E-2,0]
["ARGENTINA: Primera C - Apertura","2021.04.18 20:30","Midland","Dock Sud","2wST2TEa",22,null,null,"Загрузить",null,null,2.65,3.05,2.62,2.65,3.22,2.5099999999999998,0,-0.17000000000000037,0.11000000000000032]
["ARGENTINA: Primera C - Apertura","2021.04.18 20:30","San Martin Burzaco","Excursionistas","dxqoBi7J",22,null,null,"Загрузить",null,null,2.2999999999999998,3.09,3.12,2.2200000000000002,3,3.17,7.9999999999999627E-2,8.9999999999999858E-2,-4.9999999999999822E-2]
["ARGENTINA: Primera A Women - Apertura","2021.04.18 20:30","El Porvenir W","Defensores de Belgrano W","IHxrz6L7",22,null,null,"Загрузить",null,null,1.81,4.16,3.46,1.82,4,3.3,-1.0000000000000009E-2,0.16000000000000014,0.16000000000000014]
["BRAZIL: Campeonato Brasiliense - Second stage","2021.04.18 20:30","Santa Maria","Brasiliense","bDw9wT3a",39,null,null,"Загрузить",null,null,11,5.6,1.23,9.3000000000000007,6,1.21,1.6999999999999993,-0.40000000000000036,2.0000000000000018E-2]
["ITALY: Serie C - Group A","2021.04.18 20:30","Alessandria","Pergolettese","z1DeBDdI",98,null,null,"Загрузить",null,null,1.36,4.2,8,1.5,3.75,5.5,-0.1399999999999999,0.45000000000000018,2.5]
["ITALY: Serie C - Group A","2021.04.18 20:30","Carrarese","Lucchese","2mFmDZR5",98,null,null,"Загрузить",null,null,1.53,3.4,7,1.83,3,4.2,-0.30000000000000004,0.39999999999999991,2.8]
["ITALY: Serie C - Group A","2021.04.18 20:30","Giana Erminio","Pro Patria","j9erZGlP",98,null,null,"Загрузить",null,null,2.9,2.87,2.5,2.5,2.87,2.7,0.39999999999999991,0,-0.20000000000000018]
["ITALY: Serie C - Group A","2021.04.18 20:30","Novara","Pistoiese","l4HaAXBO",98,null,null,"Загрузить",null,null,1.9,3.1,4.2,1.72,3.2,4.5,0.17999999999999994,-0.10000000000000009,-0.29999999999999982]
["ITALY: Serie C - Group B","2021.04.18 20:30","Cesena","Imolese","GYPmlo5j",98,null,null,"Загрузить",null,null,1.8,3.4,4.5,1.72,3.4,4.2,8.0000000000000071E-2,0,0.29999999999999982]
["ITALY: Serie C - Group B","2021.04.18 20:30","Vis Pesaro","Fermana","Im7pkRkp",98,null,null,"Загрузить",null,null,2.4,2.6,3.4,2.5,2.5,3.2,-0.10000000000000009,0.10000000000000009,0.19999999999999973]
["ARGENTINA: Copa de la Liga Profesional","2021.04.18 20:45","Estudiantes L.P.","Gimnasia L.P.","WdlP4A7A",22,null,null,"Загрузить",null,null,2.0499999999999998,3.1,3.6,2.37,3,2.87,-0.32000000000000028,0.10000000000000009,0.73]
["ITALY: Serie A","2021.04.18 20:45","Napoli","Inter","YVB1NKg5",98,null,null,"Загрузить",null,null,2.9,3.4,2.4,3,3.4,2.2999999999999998,-0.10000000000000009,0,0.10000000000000009]
["ARGENTINA: Primera Nacional","2021.04.18 21:00","Guillermo Brown","Santamarina","E7OXdAch",22,null,null,"Загрузить",null,null,2.37,2.75,3.1,2.62,2.75,2.7,-0.25,0,0.39999999999999991]
["ARGENTINA: Torneo Federal","2021.04.18 21:00","Boca Unidos","Chaco For Ever","MLZRPkX6",22,null,null,"Загрузить",null,null,2.86,3.19,2.4,2.77,3.22,2.41,8.9999999999999858E-2,-3.0000000000000249E-2,-1.0000000000000231E-2]
["ARGENTINA: Torneo Federal","2021.04.18 21:00","Cipolletti","Club Sportivo Penarol","tl1lVZpJ",22,null,null,"Загрузить",null,null,2.3199999999999998,2.92,3.26,2.29,3,3.22,2.9999999999999805E-2,-8.0000000000000071E-2,3.9999999999999591E-2]
["ARGENTINA: Torneo Federal","2021.04.18 21:00","Juventud Unida Universitario","Ciudad Bolivar","K0iQzvHs",22,null,null,"Загрузить",null,null,2.23,2.89,3.48,2.17,2.93,3.58,6.0000000000000053E-2,-4.0000000000000036E-2,-0.10000000000000009]
["ARGENTINA: Torneo Federal","2021.04.18 21:00","Sansinena","Camioneros Buenos Aires","ENjUZcWm",22,null,null,"Загрузить",null,null,null,null,null,null,null,null,"","",""]
["ARGENTINA: Torneo Federal","2021.04.18 21:00","Sportivo Belgrano","Defensores Belgrano VR","f9rBTXXs",22,null,null,"Загрузить",null,null,2.52,2.87,2.98,2.4,2.88,2.95,0.12000000000000011,-9.9999999999997868E-3,2.9999999999999805E-2]
["ARGENTINA: Torneo Federal","2021.04.18 21:00","Villa Mitre","Sol de Mayo","AkpwYy10",22,null,null,"Загрузить",null,null,1.78,3.24,4.78,1.79,3.26,4.66,-1.0000000000000009E-2,-1.9999999999999574E-2,0.12000000000000011]
["ASIA: AFC Champions League","2021.04.18 21:00","AGMK","Istiqlol Dushanbe","8htM4B65",5,null,null,"Загрузить",null,null,1.57,3.6,5,1.72,3.5,4,-0.14999999999999991,0.10000000000000009,1]
["ASIA: AFC Champions League","2021.04.18 21:00","Shabab Al-Ahli Dubai","Al-Hilal","6sckOyke",5,null,null,"Загрузить",null,null,5.75,4,1.44,7,4.2,1.36,-1.25,-0.20000000000000018,7.9999999999999849E-2]
["BRAZIL: Campeonato Alagoano","2021.04.18 21:00","Olhodaguense","ASA","27JVwV6A",39,null,null,"Загрузить",null,null,6.25,3.74,1.53,5.6,3.2,1.64,0.65000000000000036,0.54,-0.10999999999999988]
["BRAZIL: Campeonato Baiano","2021.04.18 21:00","Alagoinhas","Jacuipense","OKljnKjh",39,null,null,"Загрузить",null,null,2.7,3.1,2.4,2,3.1,3.4,0.70000000000000018,0,-1]
["BRAZIL: Campeonato Baiano","2021.04.18 21:00","Bahia","Bahia De Feira","xOhfov6b",39,null,null,"Загрузить",null,null,2.2999999999999998,3.1,2.8,2.1,3.2,3.1,0.19999999999999973,-0.10000000000000009,-0.30000000000000027]
["BRAZIL: Campeonato Baiano","2021.04.18 21:00","Fluminense de Feira","Doce Mel","WphbpbL4",39,null,null,"Загрузить",null,null,2.37,3.2,2.62,2,3.25,3.25,0.37000000000000011,-4.9999999999999822E-2,-0.62999999999999989]
["BRAZIL: Campeonato Catarinense","2021.04.18 21:00","Avai","Hercilio Luz","4GkSr0B2",39,null,null,"Загрузить",null,null,1.33,4,8,1.53,3.6,5.5,-0.19999999999999996,0.39999999999999991,2.5]
["BRAZIL: Campeonato Catarinense","2021.04.18 21:00","Concordia","Criciuma","02BMhyuR",39,null,null,"Загрузить",null,null,3.1,3.1,2.2000000000000002,2.5499999999999998,3,2.6,0.55000000000000027,0.10000000000000009,-0.39999999999999991]
["BRAZIL: Campeonato Catarinense","2021.04.18 21:00","Joinville","Brusque","I100ogX0",39,null,null,"Загрузить",null,null,3.1,3.1,2.15,3.2,3.2,2.0499999999999998,-0.10000000000000009,-0.10000000000000009,0.10000000000000009]
["BRAZIL: Campeonato Catarinense","2021.04.18 21:00","Marcilio Dias","Chapecoense-SC","xUPRWgI7",39,null,null,"Загрузить",null,null,3.1,3,2.2000000000000002,3,3,2.25,0.10000000000000009,0,-4.9999999999999822E-2]
["BRAZIL: Campeonato Catarinense","2021.04.18 21:00","Metropolitano","Gremio Juventus","8SvWICit",39,null,null,"Загрузить",null,null,2.75,3.1,2.37,2.9,3.1,2.25,-0.14999999999999991,0,0.12000000000000011]
["BRAZIL: Campeonato Catarinense","2021.04.18 21:00","Prospera Criciuma","Figueirense","88nquIAR",39,null,null,"Загрузить",null,null,2.9,3,2.2999999999999998,3.2,3.1,2.1,-0.30000000000000027,-0.10000000000000009,0.19999999999999973]
["BRAZIL: Campeonato Goiano","2021.04.18 21:00","Goianesia","Goias","hWY2eple",39,null,null,"Загрузить",null,null,4.2,3.1,1.83,2.62,3,2.5,1.58,0.10000000000000009,-0.66999999999999993]
["BRAZIL: Campeonato Goiano","2021.04.18 21:00","Gremio Anapolis","Jataiense","M5w7f431",39,null,null,"Загрузить",null,null,1.53,3.4,6,1.53,3.4,6,0,0,0]
["BRAZIL: Campeonato Goiano","2021.04.18 21:00","Itumbiara","Anapolis","WGpfc6Jr",39,null,null,"Загрузить",null,null,2.37,3,2.8,2.4500000000000002,3,2.7,-8.0000000000000071E-2,0,9.9999999999999645E-2]
["BRAZIL: Campeonato Goiano","2021.04.18 21:00","Vila Nova FC","Aparecidense","QHIMFEZ9",39,null,null,"Загрузить",null,null,1.85,3.1,3.8,2.25,3,3,-0.39999999999999991,0.10000000000000009,0.79999999999999982]
["BRAZIL: Campeonato Mineiro","2021.04.18 21:00","Atletico-MG","Boa","K81oywdF",39,null,null,"Загрузить",null,null,1.1599999999999999,5.5,13,1.25,5,9,-9.000000000000008E-2,0.5,4]
["BRAZIL: Campeonato Mineiro","2021.04.18 21:00","Patrocinense","URT","Qo2sxJt9",39,null,null,"Загрузить",null,null,2.15,3.1,3.2,2.2999999999999998,3,2.9,-0.14999999999999991,0.10000000000000009,0.30000000000000027]
["BRAZIL: Campeonato Paraense","2021.04.18 21:00","Aguia De Maraba","Remo","AJHhF4pf",39,null,null,"Загрузить",null,null,4.68,3.74,1.66,5.2,4,1.51,-0.52000000000000046,-0.25999999999999979,0.14999999999999991]
["BRAZIL: Campeonato Paraibano","2021.04.18 21:00","Sao Paulo Crystal","Campinense","6FKpfTv7",39,null,null,"Загрузить",null,null,4.8,3.7,1.66,4.84,3.5,1.64,-4.0000000000000036E-2,0.20000000000000018,2.0000000000000018E-2]
["BRAZIL: Campeonato Paranaense","2021.04.18 21:00","Coritiba","Toledo","OljWm30S",39,null,null,"Загрузить",null,null,1.28,4.5,11,1.28,4.5,9,0,0,2]
["BRAZIL: Campeonato Pernambucano","2021.04.18 21:00","Afogados da Ingazeira","Vera Cruz","S05lnibH",39,null,null,"Загрузить",null,null,1.9,3.2,3.6,1.66,3.5,4.5,0.24,-0.29999999999999982,-0.89999999999999991]
["BRAZIL: Campeonato Pernambucano","2021.04.18 21:00","Nautico","Santa Cruz","hOAPieUu",39,null,null,"Загрузить",null,null,1.75,3.25,4.2,1.95,3.25,3.4,-0.19999999999999996,0,0.80000000000000027]
["BRAZIL: Campeonato Pernambucano","2021.04.18 21:00","Salgueiro","Retro","0S40E9sA",39,null,null,"Загрузить",null,null,3.1,3.4,2,2.5,3.25,2.4500000000000002,0.60000000000000009,0.14999999999999991,-0.45000000000000018]
["BRAZIL: Campeonato Potiguar - First stage","2021.04.18 21:00","America RN","ABC","hzqxoLPC",39,null,null,"Загрузить",null,null,2.68,2.97,2.65,2.4,3.2,2.6,0.28000000000000025,-0.22999999999999998,4.9999999999999822E-2]
["BRAZIL: Campeonato Sergipano","2021.04.18 21:00","Sergipe","Dorense","t41WoJTR",39,null,null,"Загрузить",null,null,1.49,4.0999999999999996,6,1.59,3.6,5.05,-0.10000000000000009,0.49999999999999956,0.95000000000000018]
["BRAZIL: Campeonato Sul-Matogrossense - First stage","2021.04.18 21:00","Chapadao","Uniao","KESbxScg",39,null,null,"Загрузить",null,null,null,null,null,null,null,null,"","",""]
["BRAZIL: Campeonato Sul-Matogrossense - First stage","2021.04.18 21:00","Comercial MS","Tres Lagoas","QiTfw8rm",39,null,null,"Загрузить",null,null,null,null,null,null,null,null,{"$f":"IF(L1043=\"\",\"\",L1043-O1043)","v":""},{"$f":"IF(M1043=\"\",\"\",M1043-P1043)","v":""},{"$f":"IF(N1043=\"\",\"\",N1043-Q1043)","v":""}]
["BRAZIL: Copa do Nordeste - Play Offs","2021.04.18 21:00","Ceara","Sampaio Correa","rgiXH27s",39,null,null,"Загрузить",null,null,1.42,4.22,8.1,1.55,3.6,5.55,-0.13000000000000012,0.61999999999999966,2.5499999999999998]
["CHILE: Primera Division","2021.04.18 21:00","Everton","Colo Colo","riOHlhkg",51,null,null,"Загрузить",null,null,2.2999999999999998,3.2,2.9,2.37,3.2,2.7,-7.0000000000000284E-2,0,0.19999999999999973]
["FRANCE: Ligue 1","2021.04.18 21:00","Nantes","Lyon","0OAnkR4s",77,null,null,"Загрузить",null,null,7,4.75,1.44,5.75,4,1.57,1.25,0.75,-0.13000000000000012]
["MALI: Premiere Division","2021.04.18 21:00","Yeelen","USFAS Bamako","U93X2v69",123,null,null,"Загрузить",null,null,1.75,3.4,4.6399999999999997,1.71,3.44,4.84,4.0000000000000036E-2,-4.0000000000000036E-2,-0.20000000000000018]
["PARAGUAY: Division Intermedia","2021.04.18 21:00","Fulgencio Yegros","Ameliano","8IaSWIdT",151,null,null,"Загрузить",null,null,null,null,null,null,null,null,"","",""]
["PARAGUAY: Division Intermedia","2021.04.18 21:00","Sportivo Iteno","Atyra","fFeOXbsN",151,null,null,"Загрузить",null,null,null,null,null,null,null,null,"","",""]
["SPAIN: LaLiga","2021.04.18 21:00","Getafe","Real Madrid","2PdxKhnC",176,null,null,"Загрузить",null,null,4.33,3.4,1.9,4.75,3.5,1.75,-0.41999999999999993,-0.10000000000000009,0.14999999999999991]
["SPAIN: LaLiga","2021.04.18 21:00","Levante","Villarreal","dOkoIWGO",176,null,null,"Загрузить",null,null,5,3.8,1.7,3.4,3.4,2.1,1.6,0.39999999999999991,-0.40000000000000013]
["USA: MLS","2021.04.18 21:00","Inter Miami","Los Angeles Galaxy","WlICKe85",200,null,null,"Загрузить",null,null,1.57,4.33,5,1.9,3.6,3.75,-0.32999999999999985,0.73,1.25]
["ARGENTINA: Primera Nacional","2021.04.18 21:30","San Martin S.J.","San Telmo","6BdYj2d7",22,null,null,"Загрузить",null,null,2.15,2.9,3.3,2.15,2.9,3.3,0,0,0]
["ARGENTINA: Torneo Federal","2021.04.18 21:30","Gimnasia y Tiro","Crucero del Norte","SMtJRB2f",22,null,null,"Загрузить",null,null,1.7,3.44,4.96,2.96,3.08,2.4,-1.26,0.35999999999999988,2.56]
["COSTA RICA: Liga de Ascenso - Clausura - Play Offs","2021.04.18 21:30","Barrio Mexico","Cofutpa","QHIg8d1d",57,null,null,"Загрузить",null,null,1.61,4.18,4.5199999999999996,1.64,4,4.08,-2.9999999999999805E-2,0.17999999999999972,0.4399999999999995]
["EGYPT: Premier League","2021.04.18 21:30","Zamalek","Al Ahly","Ay3rUrym",69,null,null,"Загрузить",null,null,2.75,3,2.4500000000000002,3,3,2.25,-0.25,0,0.20000000000000018]
["JORDAN: Premier League","2021.04.18 21:30","Sahab","Maan","IRNdb6PM",101,null,null,"Загрузить",null,null,2.25,3.1,2.87,2.5499999999999998,3.1,2.5,-0.29999999999999982,0,0.37000000000000011]
["PORTUGAL: Liga Portugal 2","2021.04.18 21:30","Chaves","Academico Viseu","Mqnaipjt",155,null,null,"Загрузить",null,null,1.53,3.8,6.5,1.66,3.5,4.75,-0.12999999999999989,0.29999999999999982,1.75]
["ARGENTINA: Torneo Federal","2021.04.18 22:00","Ferro Gen. Pico","Deportivo Madryn","ltqsXeG6",22,null,null,"Загрузить",null,null,2.56,2.86,2.88,2.5299999999999998,2.88,2.9,3.0000000000000249E-2,-2.0000000000000018E-2,-2.0000000000000018E-2]
["BRAZIL: Campeonato Matogrossense","2021.04.18 22:00","Dom Bosco","Cuiaba Esporte","GOrnDh6f",39,null,null,"Загрузить",null,null,9.1999999999999993,5.05,1.29,9.4,4.5,1.3,-0.20000000000000107,0.54999999999999982,-1.0000000000000009E-2]
["BRAZIL: Brasileiro Women","2021.04.18 22:00","Cruzeiro W","Real Brasilia W","2i9nBA15",39,null,null,"Загрузить",null,null,1.82,3.7,3.82,1.85,3.6,3.46,-3.0000000000000027E-2,0.10000000000000009,0.35999999999999988]
["DOMINICAN REPUBLIC: LDF","2021.04.18 22:00","Moca","San Cristobal","tArp4QPf",66,null,null,"Загрузить",null,null,null,null,null,null,null,null,"","",""]
["HAITI: Championnat National - Serie de Cloture","2021.04.18 22:00","America des Cayes","Don Bosco","Cx7ugKRn",89,null,null,"Загрузить",null,null,null,null,null,null,null,null,"","",""]
["HAITI: Championnat National - Serie de Cloture","2021.04.18 22:00","Cavaly","Real du Cap","tfG9bt4P",89,null,null,"Загрузить",null,null,null,null,null,null,null,null,"","",""]
["HAITI: Championnat National - Serie de Cloture","2021.04.18 22:00","Mirebalais","Violette","vkxRZdRO",89,null,null,"Загрузить",null,null,null,null,null,null,null,null,"","",""]
["HAITI: Championnat National - Serie de Cloture","2021.04.18 22:00","Racing des Gonaives","Arcahaie","0bwNzwCI",89,null,null,"Загрузить",null,null,null,null,null,null,null,null,"","",""]
["HAITI: Championnat National - Serie de Cloture","2021.04.18 22:00","Rivartibonitienne","Triomphe Liancourt","IF7yf0Ct",89,null,null,"Загрузить",null,null,null,null,null,null,null,null,"","",""]
["PERU: Liga 1 - Apertura","2021.04.18 22:00","Carlos Stein","Cesar Vallejo","KCs93eQM",152,null,null,"Загрузить",null,null,null,null,null,null,null,null,"","",""]
["ASIA: AFC Champions League","2021.04.18 22:15","Al Shorta","Esteghlal F.C.","l4yHYq9U",5,null,null,"Загрузить",null,null,5.25,3.6,1.57,4.5,3.4,1.66,0.75,0.20000000000000018,-8.9999999999999858E-2]
["COLOMBIA: Primera A - Apertura","2021.04.18 22:30","America De Cali","Deportes Tolima","C6zUsQZF",53,null,null,"Загрузить",null,null,1.55,3.6,7,1.95,3.1,3.75,-0.39999999999999991,0.5,3.25]
["COLOMBIA: Primera A - Apertura","2021.04.18 22:30","Atl. Nacional","Patriotas","GvsLqn53",53,null,null,"Загрузить",null,null,1.57,4,5.5,1.3,4.75,8.5,0.27,-0.75,-3]
["COLOMBIA: Primera A - Apertura","2021.04.18 22:30","Bucaramanga","Aguilas","Uo1QN4rp",53,null,null,"Загрузить",null,null,2.0099999999999998,3.13,3.9,2.13,2.87,3.66,-0.12000000000000011,0.25999999999999979,0.23999999999999977]
["COLOMBIA: Primera A - Apertura","2021.04.18 22:30","Chico","Jaguares de Cordoba","YFyQr6K9",53,null,null,"Загрузить",null,null,1.53,3.5,6.5,2,3,3.75,-0.47,0.5,2.75]
["COLOMBIA: Primera A - Apertura","2021.04.18 22:30","La Equidad","Santa Fe","xlrHpSkc",53,null,null,"Загрузить",null,null,3.25,2.87,2.4,2.8,2.75,2.62,0.45000000000000018,0.12000000000000011,-0.2200000000000002]
["COLOMBIA: Primera A - Apertura","2021.04.18 22:30","Millonarios","Dep. Cali","6TZXtpkM",53,null,null,"Загрузить",null,null,1.9,2.9,5,2.2000000000000002,2.75,3.5,-0.30000000000000027,0.14999999999999991,1.5]
["COLOMBIA: Primera A - Apertura","2021.04.18 22:30","Once Caldas","Ind. Medellin","CAjVMOcj",53,null,null,"Загрузить",null,null,3.75,3,1.95,3.4,3,2.1,0.35000000000000009,0,-0.15000000000000013]
["COLOMBIA: Primera A - Apertura","2021.04.18 22:30","Pereira","Dep. Pasto","OpfZLrDd",53,null,null,"Загрузить",null,null,1.75,3.3,4.75,2.0499999999999998,3.1,3.4,-0.29999999999999982,0.19999999999999973,1.35]
["ECUADOR: Liga Pro - First stage","2021.04.18 22:30","Ind. del Valle","Nueve de Octubre","vXb3Tl3r",68,null,null,"Загрузить",null,null,1.33,4.5,6.5,1.53,3.75,5.5,-0.19999999999999996,0.75,1]
["EL SALVADOR: Primera Division - Clausura - 2nd Phase","2021.04.18 22:30","Luis Angel Firpo","11 Deportivo","bDPaYw4B",70,null,null,"Загрузить",null,null,2.23,2.97,3.38,2.4,3,2.86,-0.16999999999999993,-2.9999999999999805E-2,0.52]
["ARGENTINA: Copa de la Liga Profesional","2021.04.18 23:00","Independiente","Defensa y Justicia","xzkL5jh4",22,null,null,"Загрузить",null,null,2.4,3.2,2.7,2.4,3.2,2.7,0,0,0]
["BRAZIL: Campeonato Pernambucano","2021.04.18 23:00","Sete de Setembro","Sport Recife","M32tlDT4",39,null,null,"Загрузить",null,null,15,5,1.2,9,4.5,1.28,6,0.5,-8.0000000000000071E-2]
["CHILE: Primera B","2021.04.18 23:00","San Marcos de Arica","Cobreloa","WAXcg9y4",51,null,null,"Загрузить",null,null,2.4500000000000002,3.28,2.84,2.57,3.26,2.4700000000000002,-0.11999999999999966,2.0000000000000018E-2,0.36999999999999966]
["COSTA RICA: Primera Division - Clausura","2021.04.18 23:00","ADR Jicaral","Grecia","tfv8x0IM",57,null,null,"Загрузить",null,null,1.95,3.1,3.5,1.85,3.1,4,9.9999999999999867E-2,0,-0.5]
["EL SALVADOR: Primera Division - Clausura - 2nd Phase","2021.04.18 23:00","Municipal Limeno","Santa Tecla","AigIjLJu",70,null,null,"Загрузить",null,null,2.34,3.1,3.03,2.2200000000000002,3.2,2.94,0.11999999999999966,-0.10000000000000009,8.9999999999999858E-2]
["GAMBIA: GFA League","2021.04.18 23:00","Gamtel","Tallinding United","Wn9qL9AF",79,null,null,"Загрузить",null,null,2.67,2.57,3.16,2.42,2.63,3.26,0.25,-6.0000000000000053E-2,-9.9999999999999645E-2]
["HAITI: Championnat National - Serie de Cloture","2021.04.18 23:00","Racing Haitien","Ouanaminthe","jT5qhvsg",89,null,null,"Загрузить",null,null,null,null,null,null,null,null,"","",""]
["MEXICO: Liga Premier Serie A - Play Offs","2021.04.18 23:00","Reboceros de La Piedad","Irapuato","ImeSjrB3",128,null,null,"Загрузить",null,null,2.8,3.66,2.2200000000000002,2.86,3.4,2.17,-6.0000000000000053E-2,0.26000000000000023,5.0000000000000266E-2]
["NICARAGUA: Liga Primera - Clausura","2021.04.18 23:00","Chinandega","CD Junior","Kf6IZPAp",141,null,null,"Загрузить",null,null,2.25,3.4,2.6,2.25,3.4,2.62,0,0,-2.0000000000000018E-2]
["VENEZUELA: Primera Division - First stage","2021.04.18 23:00","Gran Valencia","Carabobo","0fu5xbdQ",205,null,null,"Загрузить",null,null,2.33,3.2,3.08,2.12,3.1,3.26,0.20999999999999996,0.10000000000000009,-0.17999999999999972]
["ARGENTINA: Torneo Federal","2021.04.18 23:15","Sarmiento Resistencia","Union Sunchales","YasFSiml",22,null,null,"Загрузить",null,null,2.4,2.96,3.07,2.42,2.98,3.01,-2.0000000000000018E-2,-2.0000000000000018E-2,6.0000000000000053E-2]
["MAURITANIA: Ligue 1","2021.04.18 23:15","Armee","Sahel","0lnjtV6f",126,null,null,"Загрузить",null,null,2.5,3,2.6,2.5,3,2.6,0,0,0]
["BRAZIL: Campeonato Carioca - Taca Guanabara","2021.04.18 23:30","Boavista","Vasco","4jENraGA",39,null,null,"Загрузить",null,null,5.5,3.8,1.55,4,3.5,1.72,1.5,0.29999999999999982,-0.16999999999999993]
["EL SALVADOR: Primera Division - Clausura - 2nd Phase","2021.04.18 23:30","FAS","Atletico Marte","4jQeZJl5",70,null,null,"Загрузить",null,null,1.46,4.32,6,1.64,3.5,4.84,-0.17999999999999994,0.82000000000000028,1.1600000000000001]
["GUATEMALA: Liga Nacional - Clausura","2021.04.18 23:30","Xelaju","Guastatoya","lnIOdUNr",85,null,null,"Загрузить",null,null,2.27,3.16,3.09,2.5,3,2.63,-0.22999999999999998,0.16000000000000014,0.45999999999999996]
["USA: MLS","2021.04.18 23:30","Columbus Crew","Philadelphia Union","ED7HJFNB",200,null,null,"Загрузить",null,null,1.9,3.6,3.75,1.9,3.4,4,0,0.20000000000000018,-0.25]
["PARAGUAY: Primera Division - Apertura","2021.04.18 23:45","Cerro Porteno","Libertad Asuncion","ChDe8oyT",151,null,null,"Загрузить",null,null,3,3,2.4,2.4,3.1,2.7,0.60000000000000009,-0.10000000000000009,-0.30000000000000027]
["ARGENTINA: Torneo Federal","2021.04.19 00:00","Sportivo Las Parejas","Racing Cordoba","0CYVO9nD",22,null,null,"Загрузить",null,null,2.4900000000000002,3.17,2.7,2.27,3,3.07,0.2200000000000002,0.16999999999999993,-0.36999999999999966]
["CHILE: Primera B","2021.04.19 00:00","CD Santa Cruz","U. De Concepcion","YZTEkRzT",51,null,null,"Загрузить",null,null,3.26,3.38,2.16,3.14,2.99,2.2799999999999998,0.11999999999999966,0.38999999999999968,-0.11999999999999966]
["CHILE: Primera B","2021.04.19 00:00","San Luis","Rangers","40PAj7LM",51,null,null,"Загрузить",null,null,2.56,3.32,2.65,2.4700000000000002,3.26,2.57,8.9999999999999858E-2,6.0000000000000053E-2,8.0000000000000071E-2]
["COSTA RICA: Primera Division - Clausura","2021.04.19 00:00","Saprissa","Alajuelense","vqZsWcej",57,null,null,"Загрузить",null,null,3,3,2.25,2.4,3,2.75,0.60000000000000009,0,-0.5]
["HAITI: Championnat National - Serie de Cloture","2021.04.19 00:00","Capoise","Baltimore","WvNtibda",89,null,null,"Загрузить",null,null,null,null,null,null,null,null,"","",""]
["HAITI: Championnat National - Serie de Cloture","2021.04.19 00:00","Tempete","Juventus","AVLpjIB5",89,null,null,"Загрузить",null,null,null,null,null,null,null,null,"","",""]
["MOROCCO: Botola Pro","2021.04.19 00:00","Difaa El Jadidi","IR Tanger","xWl2P02T",134,null,null,"Загрузить",null,null,2.2999999999999998,2.7,3.25,3,2.75,2.37,-0.70000000000000018,-4.9999999999999822E-2,0.87999999999999989]
["MOROCCO: Botola Pro","2021.04.19 00:00","Maghreb Fez","Chabab Mohammedia","bujbQtmN",134,null,null,"Загрузить",null,null,2.2999999999999998,2.4500000000000002,3.75,2.4,2.7,3.1,-0.10000000000000009,-0.25,0.64999999999999991]
["MOROCCO: Botola Pro","2021.04.19 00:00","Youssoufia Berrechid","FAR Rabat","U5ofRMXG",134,null,null,"Загрузить",null,null,4.2,2.75,2,3.3,2.75,2.25,0.90000000000000036,0,-0.25]
[null,null,null,null,null,null,null,null,null,null,null,null,null,null,null,null,null,"","",""]
[null,null,null,null,null,null,null,null,null,null,null,null,null,null,null,null,null,{"$f":"IF(L1107=\"\",\"\",L1107-O1107)","v":""},{"$f":"IF(M1107=\"\",\"\",M1107-P1107)","v":""},{"$f":"IF(N1107=\"\",\"\",N1107-Q1107)","v":""}]
[null,null,null,null,null,null,null,null,null,null,null,null,null,null,null,null,null,"","",""]
[null,null,null,null,null,null,null,null,null,null,null,null,null,null,null,null,null,"","",""]
[null,null,null,null,null,null,null,null,null,null,null,null,null,null,null,null,null,"","",""]
[null,null,null,null,null,null,null,null,null,null,null,null,null,null,null,null,null,"","",""]
[null,null,null,null,null,null,null,null,null,null,null,null,null,null,null,null,null,"","",""]
[null,null,null,null,null,null,null,null,null,null,null,null,null,null,null,null,null,"","",""]
[null,null,null,null,null,null,null,null,null,null,null,null,null,null,null,null,null,"","",""]
[null,null,null,null,null,null,null,null,null,null,null,null,null,null,null,null,null,"","",""]
[null,null,null,null,null,null,null,null,null,null,null,null,null,null,null,null,null,"","",""]
[null,null,null,null,null,null,null,null,null,null,null,null,null,null,null,null,null,"","",""]
[null,null,null,null,null,null,null,null,null,null,null,null,null,null,null,null,null,"","",""]
[null,null,null,null,null,null,null,null,null,null,null,null,null,null,null,null,null,"","",""]
[null,null,null,null,null,null,null,null,null,null,null,null,null,null,null,null,null,"","",""]
[null,null,null,null,null,null,null,null,null,null,null,null,null,null,null,null,null,"","",""]
[null,null,null,null,null,null,null,null,null,null,null,null,null,null,null,null,null,"","",""]
[null,null,null,null,null,null,null,null,null,null,null,null,null,null,null,null,null,"","",""]
[null,null,null,null,null,null,null,null,null,null,null,null,null,null,null,null,null,"","",""]
[null,null,null,null,null,null,null,null,null,null,null,null,null,null,null,null,null,"","",""]
[null,null,null,null,null,null,null,null,null,null,null,null,null,null,null,null,null,"","",""]
[null,null,null,null,null,null,null,null,null,null,null,null,null,null,null,null,null,"","",""]
[null,null,null,null,null,null,null,null,null,null,null,null,null,null,null,null,null,"","",""]
[null,null,null,null,null,null,null,null,null,null,null,null,null,null,null,null,null,"","",""]
[null,null,null,null,null,null,null,null,null,null,null,null,null,null,null,null,null,"","",""]
[null,null,null,null,null,null,null,null,null,null,null,null,null,null,null,null,null,"","",""]
[null,null,null,null,null,null,null,null,null,null,null,null,null,null,null,null,null,"","",""]
[null,null,null,null,null,null,null,null,null,null,null,null,null,null,null,null,null,"","",""]
[null,null,null,null,null,null,null,null,null,null,null,null,null,null,null,null,null,"","",""]
[null,null,null,null,null,null,null,null,null,null,null,null,null,null,null,null,null,"","",""]
[null,null,null,null,null,null,null,null,null,null,null,null,null,null,null,null,null,"","",""]
[null,null,null,null,null,null,null,null,null,null,null,null,null,null,null,null,null,"","",""]
[null,null,null,null,null,null,null,null,null,null,null,null,null,null,null,null,null,"","",""]
[null,null,null,null,null,null,null,null,null,null,null,null,null,null,null,null,null,"","",""]
[null,null,null,null,null,null,null,null,null,null,null,null,null,null,null,null,null,"","",""]
[null,null,null,null,null,null,null,null,null,null,null,null,null,null,null,null,null,"","",""]
[null,null,null,null,null,null,null,null,null,null,null,null,null,null,null,null,null,"","",""]
[null,null,null,null,null,null,null,null,null,null,null,null,null,null,null,null,null,"","",""]
[null,null,null,null,null,null,null,null,null,null,null,null,null,null,null,null,null,"","",""]
[null,null,null,null,null,null,null,null,null,null,null,null,null,null,null,null,null,"","",""]
[null,null,null,null,null,null,null,null,null,null,null,null,null,null,null,null,null,"","",""]
[null,null,null,null,null,null,null,null,null,null,null,null,null,null,null,null,null,"","",""]
[null,null,null,null,null,null,null,null,null,null,null,null,null,null,null,null,null,"","",""]
[null,null,null,null,null,null,null,null,null,null,null,null,null,null,null,null,null,"","",""]
[null,null,null,null,null,null,null,null,null,null,null,null,null,null,null,null,null,"","",""]
[null,null,null,null,null,null,null,null,null,null,null,null,null,null,null,null,null,"","",""]
[null,null,null,null,null,null,null,null,null,null,null,null,null,null,null,null,null,"","",""]
[null,null,null,null,null,null,null,null,null,null,null,null,null,null,null,null,null,"","",""]
[null,null,null,null,null,null,null,null,null,null,null,null,null,null,null,null,null,"","",""]
[null,null,null,null,null,null,null,null,null,null,null,null,null,null,null,null,null,"","",""]
[null,null,null,null,null,null,null,null,null,null,null,null,null,null,null,null,null,"","",""]
[null,null,null,null,null,null,null,null,null,null,null,null,null,null,null,null,null,"","",""]
[null,null,null,null,null,null,null,null,null,null,null,null,null,null,null,null,null,"","",""]
[null,null,null,null,null,null,null,null,null,null,null,null,null,null,null,null,null,"","",""]
[null,null,null,null,null,null,null,null,null,null,null,null,null,null,null,null,null,"","",""]
[null,null,null,null,null,null,null,null,null,null,null,null,null,null,null,null,null,"","",""]
[null,null,null,null,null,null,null,null,null,null,null,null,null,null,null,null,null,"","",""]
[null,null,null,null,null,null,null,null,null,null,null,null,null,null,null,null,null,"","",""]
[null,null,null,null,null,null,null,null,null,null,null,null,null,null,null,null,null,"","",""]
[null,null,null,null,null,null,null,null,null,null,null,null,null,null,null,null,null,"","",""]
[null,null,null,null,null,null,null,null,null,null,null,null,null,null,null,null,null,"","",""]
[null,null,null,null,null,null,null,null,null,null,null,null,null,null,null,null,null,"","",""]
[null,null,null,null,null,null,null,null,null,null,null,null,null,null,null,null,null,"","",""]
[null,null,null,null,null,null,null,null,null,null,null,null,null,null,null,null,null,"","",""]
[null,null,null,null,null,null,null,null,null,null,null,null,null,null,null,null,null,"","",""]
[null,null,null,null,null,null,null,null,null,null,null,null,null,null,null,null,null,{"$f":"IF(L1171=\"\",\"\",L1171-O1171)","v":""},{"$f":"IF(M1171=\"\",\"\",M1171-P1171)","v":""},{"$f":"IF(N1171=\"\",\"\",N1171-Q1171)","v":""}]
[null,null,null,null,null,null,null,null,null,null,null,null,null,null,null,null,null,"","",""]
[null,null,null,null,null,null,null,null,null,null,null,null,null,null,null,null,null,"","",""]
[null,null,null,null,null,null,null,null,null,null,null,null,null,null,null,null,null,"","",""]
[null,null,null,null,null,null,null,null,null,null,null,null,null,null,null,null,null,"","",""]
[null,null,null,null,null,null,null,null,null,null,null,null,null,null,null,null,null,"","",""]
[null,null,null,null,null,null,null,null,null,null,null,null,null,null,null,null,null,"","",""]
[null,null,null,null,null,null,null,null,null,null,null,null,null,null,null,null,null,"","",""]
[null,null,null,null,null,null,null,null,null,null,null,null,null,null,null,null,null,"","",""]
[null,null,null,null,null,null,null,null,null,null,null,null,null,null,null,null,null,"","",""]
[null,null,null,null,null,null,null,null,null,null,null,null,null,null,null,null,null,"","",""]
[null,null,null,null,null,null,null,null,null,null,null,null,null,null,null,null,null,"","",""]
[null,null,null,null,null,null,null,null,null,null,null,null,null,null,null,null,null,"","",""]
[null,null,null,null,null,null,null,null,null,null,null,null,null,null,null,null,null,"","",""]
[null,null,null,null,null,null,null,null,null,null,null,null,null,null,null,null,null,"","",""]
[null,null,null,null,null,null,null,null,null,null,null,null,null,null,null,null,null,"","",""]
[null,null,null,null,null,null,null,null,null,null,null,null,null,null,null,null,null,"","",""]
[null,null,null,null,null,null,null,null,null,null,null,null,null,null,null,null,null,"","",""]
[null,null,null,null,null,null,null,null,null,null,null,null,null,null,null,null,null,"","",""]
[null,null,null,null,null,null,null,null,null,null,null,null,null,null,null,null,null,"","",""]
[null,null,null,null,null,null,null,null,null,null,null,null,null,null,null,null,null,"","",""]
[null,null,null,null,null,null,null,null,null,null,null,null,null,null,null,null,null,"","",""]
[null,null,null,null,null,null,null,null,null,null,null,null,null,null,null,null,null,"","",""]
[null,null,null,null,null,null,null,null,null,null,null,null,null,null,null,null,null,"","",""]
[null,null,null,null,null,null,null,null,null,null,null,null,null,null,null,null,null,"","",""]
[null,null,null,null,null,null,null,null,null,null,null,null,null,null,null,null,null,"","",""]
[null,null,null,null,null,null,null,null,null,null,null,null,null,null,null,null,null,"","",""]
[null,null,null,null,null,null,null,null,null,null,null,null,null,null,null,null,null,"","",""]
[null,null,null,null,null,null,null,null,null,null,null,null,null,null,null,null,null,"","",""]
[null,null,null,null,null,null,null,null,null,null,null,null,null,null,null,null,null,"","",""]
[null,null,null,null,null,null,null,null,null,null,null,null,null,null,null,null,null,"","",""]
[null,null,null,null,null,null,null,null,null,null,null,null,null,null,null,null,null,"","",""]
[null,null,null,null,null,null,null,null,null,null,null,null,null,null,null,null,null,"","",""]
[null,null,null,null,null,null,null,null,null,null,null,null,null,null,null,null,null,"","",""]
[null,null,null,null,null,null,null,null,null,null,null,null,null,null,null,null,null,"","",""]
[null,null,null,null,null,null,null,null,null,null,null,null,null,null,null,null,null,"","",""]
[null,null,null,null,null,null,null,null,null,null,null,null,null,null,null,null,null,"","",""]
[null,null,null,null,null,null,null,null,null,null,null,null,null,null,null,null,null,"","",""]
[null,null,null,null,null,null,null,null,null,null,null,null,null,null,null,null,null,"","",""]
[null,null,null,null,null,null,null,null,null,null,null,null,null,null,null,null,null,"","",""]
[null,null,null,null,null,null,null,null,null,null,null,null,null,null,null,null,null,"","",""]
[null,null,null,null,null,null,null,null,null,null,null,null,null,null,null,null,null,"","",""]
[null,null,null,null,null,null,null,null,null,null,null,null,null,null,null,null,null,"","",""]
[null,null,null,null,null,null,null,null,null,null,null,null,null,null,null,null,null,"","",""]
[null,null,null,null,null,null,null,null,null,null,null,null,null,null,null,null,null,"","",""]
[null,null,null,null,null,null,null,null,null,null,null,null,null,null,null,null,null,"","",""]
[null,null,null,null,null,null,null,null,null,null,null,null,null,null,null,null,null,"","",""]
[null,null,null,null,null,null,null,null,null,null,null,null,null,null,null,null,null,"","",""]
[null,null,null,null,null,null,null,null,null,null,null,null,null,null,null,null,null,"","",""]
[null,null,null,null,null,null,null,null,null,null,null,null,null,null,null,null,null,"","",""]
[null,null,null,null,null,null,null,null,null,null,null,null,null,null,null,null,null,"","",""]
[null,null,null,null,null,null,null,null,null,null,null,null,null,null,null,null,null,"","",""]
[null,null,null,null,null,null,null,null,null,null,null,null,null,null,null,null,null,"","",""]
[null,null,null,null,null,null,null,null,null,null,null,null,null,null,null,null,null,"","",""]
[null,null,null,null,null,null,null,null,null,null,null,null,null,null,null,null,null,"","",""]
[null,null,null,null,null,null,null,null,null,null,null,null,null,null,null,null,null,"","",""]
[null,null,null,null,null,null,null,null,null,null,null,null,null,null,null,null,null,"","",""]
[null,null,null,null,null,null,null,null,null,null,null,null,null,null,null,null,null,"","",""]
[null,null,null,null,null,null,null,null,null,null,null,null,null,null,null,null,null,"","",""]
[null,null,null,null,null,null,null,null,null,null,null,null,null,null,null,null,null,"","",""]
[null,null,null,null,null,null,null,null,null,null,null,null,null,null,null,null,null,"","",""]
[null,null,null,null,null,null,null,null,null,null,null,null,null,null,null,null,null,"","",""]
[null,null,null,null,null,null,null,null,null,null,null,null,null,null,null,null,null,"","",""]
[null,null,null,null,null,null,null,null,null,null,null,null,null,null,null,null,null,"","",""]
[null,null,null,null,null,null,null,null,null,null,null,null,null,null,null,null,null,{"$f":"IF(L1235=\"\",\"\",L1235-O1235)","v":""},{"$f":"IF(M1235=\"\",\"\",M1235-P1235)","v":""},{"$f":"IF(N1235=\"\",\"\",N1235-Q1235)","v":""}]
[null,null,null,null,null,null,null,null,null,null,null,null,null,null,null,null,null,"","",""]
[null,null,null,null,null,null,null,null,null,null,null,null,null,null,null,null,null,"","",""]
[null,null,null,null,null,null,null,null,null,null,null,null,null,null,null,null,null,"","",""]
[null,null,null,null,null,null,null,null,null,null,null,null,null,null,null,null,null,"","",""]
[null,null,null,null,null,null,null,null,null,null,null,null,null,null,null,null,null,"","",""]
[null,null,null,null,null,null,null,null,null,null,null,null,null,null,null,null,null,"","",""]
[null,null,null,null,null,null,null,null,null,null,null,null,null,null,null,null,null,"","",""]
[null,null,null,null,null,null,null,null,null,null,null,null,null,null,null,null,null,"","",""]
[null,null,null,null,null,null,null,null,null,null,null,null,null,null,null,null,null,"","",""]
[null,null,null,null,null,null,null,null,null,null,null,null,null,null,null,null,null,"","",""]
[null,null,null,null,null,null,null,null,null,null,null,null,null,null,null,null,null,"","",""]
[null,null,null,null,null,null,null,null,null,null,null,null,null,null,null,null,null,"","",""]
[null,null,null,null,null,null,null,null,null,null,null,null,null,null,null,null,null,"","",""]
[null,null,null,null,null,null,null,null,null,null,null,null,null,null,null,null,null,"","",""]
[null,null,null,null,null,null,null,null,null,null,null,null,null,null,null,null,null,"","",""]
[null,null,null,null,null,null,null,null,null,null,null,null,null,null,null,null,null,"","",""]
[null,null,null,null,null,null,null,null,null,null,null,null,null,null,null,null,null,"","",""]
[null,null,null,null,null,null,null,null,null,null,null,null,null,null,null,null,null,"","",""]
[null,null,null,null,null,null,null,null,null,null,null,null,null,null,null,null,null,"","",""]
[null,null,null,null,null,null,null,null,null,null,null,null,null,null,null,null,null,"","",""]
[null,null,null,null,null,null,null,null,null,null,null,null,null,null,null,null,null,"","",""]
[null,null,null,null,null,null,null,null,null,null,null,null,null,null,null,null,null,"","",""]
[null,null,null,null,null,null,null,null,null,null,null,null,null,null,null,null,null,"","",""]
[null,null,null,null,null,null,null,null,null,null,null,null,null,null,null,null,null,"","",""]
[null,null,null,null,null,null,null,null,null,null,null,null,null,null,null,null,null,"","",""]
[null,null,null,null,null,null,null,null,null,null,null,null,null,null,null,null,null,"","",""]
[null,null,null,null,null,null,null,null,null,null,null,null,null,null,null,null,null,"","",""]
[null,null,null,null,null,null,null,null,null,null,null,null,null,null,null,null,null,"","",""]
[null,null,null,null,null,null,null,null,null,null,null,null,null,null,null,null,null,"","",""]
[null,null,null,null,null,null,null,null,null,null,null,null,null,null,null,null,null,"","",""]
[null,null,null,null,null,null,null,null,null,null,null,null,null,null,null,null,null,"","",""]
[null,null,null,null,null,null,null,null,null,null,null,null,null,null,null,null,null,"","",""]
[null,null,null,null,null,null,null,null,null,null,null,null,null,null,null,null,null,"","",""]
[null,null,null,null,null,null,null,null,null,null,null,null,null,null,null,null,null,"","",""]

{"sheet":"АнализУПР","index":6,"n_rows":38,"n_cols":92,"rows_kept":38,"cut":false,"hidden":false,"merged":[[41,73,42,76],[41,67,42,71],[41,78,42,82],[40,69,40,80],[32,62,33,88],[34,62,35,67],[36,62,37,65],[36,66,37,70],[36,71,37,74],[38,62,39,65],[38,66,39,70],[38,71,39,74],[34,69,35,74],[36,75,37,78],[36,85,37,88],[36,79,37,84],[34,75,35,88],[38,75,39,78],[38,85,39,88],[38,79,39,84],[23,64,24,70],[25,64,26,70],[27,64,28,70],[21,73,23,75],[21,76,23,88],[29,71,31,74],[26,75,28,78],[26,79,28,82],[26,83,28,86],[29,75,31,78],[29,79,31,82],[29,83,31,86],[69,21,70,23],[63,21,64,23],[65,21,66,23],[61,21,62,23],[6,35,9,38],[6,30,9,33],[12,76,14,88],[9,76,11,88],[12,73,14,75],[6,73,8,75],[9,73,11,75],[15,61,16,63],[17,61,18,63],[5,17,6,24],[5,25,6,27],[4,30,5,38],[15,25,16,27],[17,25,18,27],[15,17,16,24],[17,17,18,24],[20,34,21,39],[6,34,9,34],[35,49,36,54],[20,26,22,32],[0,0,2,20],[0,23,3,42],[6,13,8,15],[9,13,11,15],[0,46,3,65],[21,13,23,15],[12,13,14,15],[15,13,17,15],[18,13,20,15],[21,0,23,12],[7,17,8,24],[11,17,12,24],[13,17,14,24],[7,25,8,27],[11,25,12,27],[13,25,14,27],[23,26,25,32],[9,17,10,24],[9,64,10,71],[9,25,10,27],[20,41,21,47],[23,41,24,47],[20,49,21,54],[20,62,22,63],[66,13,67,13],[55,21,56,23],[67,21,68,23],[24,0,26,12],[24,13,26,15],[4,50,5,58],[6,50,9,53],[6,55,9,58],[15,64,16,71],[17,64,18,71],[6,0,8,12],[9,0,11,12],[12,0,14,12],[15,0,17,12],[18,0,20,12],[31,34,32,39],[31,49,32,54],[23,34,24,39],[23,49,24,54],[29,24,31,25],[3,0,5,15],[6,54,9,54],[35,34,36,39],[35,41,36,46],[6,76,8,88],[5,61,6,63],[7,61,8,63],[11,61,12,63],[13,61,14,63],[5,64,6,71],[7,64,8,71],[4,41,10,47],[11,64,12,71],[13,64,14,71],[9,61,10,63],[35,0,36,5],[35,6,36,11],[35,12,36,15],[37,0,38,5],[37,6,38,11],[37,12,38,15],[27,0,28,15],[29,0,30,5],[29,6,30,11],[29,12,30,15],[31,0,32,5],[31,6,32,11],[31,12,32,15],[33,0,34,5],[33,6,34,11],[15,73,17,75],[17,33,19,55],[15,76,17,88],[18,73,20,75],[18,76,20,88],[23,62,25,63],[26,62,28,63],[29,62,31,63],[20,64,22,70],[20,56,22,61],[23,56,25,61],[26,56,28,61],[29,56,31,61],[26,34,27,54],[28,34,29,39],[26,71,28,74],[24,71,25,94],[26,91,28,94],[29,91,31,94],[28,41,29,47],[31,41,32,47],[28,49,29,54],[26,87,28,90],[29,87,31,90],[12,30,15,33],[12,35,15,38],[12,40,15,44],[12,34,15,34],[12,46,15,58],[33,12,34,15],[20,24,22,25],[23,24,25,25],[26,24,28,25],[26,26,28,32],[29,26,31,32],[33,34,34,54]]}
[{"$f":"IFERROR(Расчеты!C126,\"R\")","v":"CHILE: Primera Division"},null,null,null,null,null,null,null,null,null,null,null,null,null,null,null,null,null,null,null,null,null,null,{"$f":"SVOD!A1","v":"Everton"},null,null,null,null,null,null,null,null,null,null,null,null,null,null,null,null,null,null,null,null,null,null,{"$f":"SVOD!A7","v":"Colo Colo"}]
[]
[]
[{"$f":"Расчеты!D126","v":"2021.04.18 21:00"}]
[null,null,null,null,null,null,null,null,null,null,null,null,null,null,null,null,null,null,null,null,null,null,null,null,null,null,null,null,null,null,"Nx",null,null,null,null,null,null,null,null,null,null,{"$f":"IFERROR(DATA!P26,\"ND\")","v":2.262423714036617},null,null,null,null,null,null,null,null,"POISSON"]
[null,null,null,null,null,null,null,null,null,null,null,null,null,null,null,null,null,"A",null,null,null,null,null,null,null,{"$f":"IFERROR(DATA!P23,\"ND\")","v":0.84658187599364065},null,null,null,null,null,null,null,null,null,null,null,null,null,null,null,null,null,null,null,null,null,null,null,null,null,null,null,null,null,null,null,null,null,null,null,{"$f":"IFERROR(DATA!Q23,\"ND\")","v":1.8500948766603416},null,null,"A"]
["МЕСТО ВСЕГО",null,null,null,null,null,null,null,null,null,null,null,null,{"$f":"IFERROR(SVOD!I2,\"ND\")","v":6},null,null,null,null,null,null,null,null,null,null,null,null,null,null,null,null,{"$f":"IFERROR(DATA!P9,\"ND\")","v":0.81081081081081074},null,null,null,":",{"$f":"IFERROR(DATA!Q9,\"ND\")","v":2.1774193548387095},null,null,null,null,null,null,null,null,null,null,null,null,null,null,{"$f":"DATA!J15","v":1.5},null,null,null,":",{"$f":"DATA!J16","v":1},null,null,null,null,null,null,null,null,null,null,null,null,null,null,null,null,null,{"$f":"IFERROR(SVOD!I8,\"ND\")","v":9},null,null,"МЕСТО ВСЕГО"]
[null,null,null,null,null,null,null,null,null,null,null,null,null,null,null,null,null,"D",null,null,null,null,null,null,null,{"$f":"IFERROR(DATA!P24,\"ND\")","v":0.92504743833017078},null,null,null,null,null,null,null,null,null,null,null,null,null,null,null,null,null,null,null,null,null,null,null,null,null,null,null,null,null,null,null,null,null,null,null,{"$f":"IFERROR(DATA!Q24,\"ND\")","v":0.84658187599364065},null,null,"D"]
[]
["ОЧКИ ВСЕГО",null,null,null,null,null,null,null,null,null,null,null,null,{"$f":"IFERROR(SVOD!H2,\"ND\")","v":5},null,null,null,"XG 90",null,null,null,null,null,null,null,{"$f":"IFERROR(DATA!P31,\"ND\")","v":1.054915209326974},null,null,null,null,null,null,null,null,null,null,null,null,null,null,null,null,null,null,null,null,null,null,null,null,null,null,null,null,null,null,null,null,null,null,null,{"$f":"IFERROR(DATA!Q31,\"ND\")","v":1.8149641577060933},null,null,"XG 90",null,null,null,null,null,null,null,null,{"$f":"IFERROR(SVOD!H8,\"ND\")","v":4},null,null,"ОЧКИ ВСЕГО"]
[]
[null,null,null,null,null,null,null,null,null,null,null,null,null,null,null,null,null,"Coef",null,null,null,null,null,null,null,{"$f":"IFERROR(DATA!P25,\"ND\")","v":0.91891891891891886},null,null,null,null,null,null,null,null,null,null,null,null,null,null,null,null,null,null,null,null,null,null,null,null,null,null,null,null,null,null,null,null,null,null,null,{"$f":"IFERROR(DATA!Q25,\"ND\")","v":2.193548387096774},null,null,"Coef"]
["МЕСТО ДОМА",null,null,null,null,null,null,null,null,null,null,null,null,{"$f":"IFERROR(SVOD!I6,\"ND\")","v":11},null,null,null,null,null,null,null,null,null,null,null,null,null,null,null,null,{"$f":"Лист3!J1","v":1.0857142857142859},null,null,null,":",{"$f":"Лист3!K1","v":1.3142857142857143},null,null,null,null,{"$f":"Лист3!L1","v":2.4},null,null,null,null,null,{"$f":"Лист3!AE19","v":0.39999999999999991},null,null,null,null,null,null,null,null,null,null,null,null,null,null,null,null,null,null,null,null,null,null,null,null,null,null,{"$f":"IFERROR(SVOD!I12,\"ND\")","v":5},null,null,"МЕСТО В ГОСТЯХ"]
[null,null,null,null,null,null,null,null,null,null,null,null,null,null,null,null,null,"GD-xGD",null,null,null,null,null,null,null,{"$f":"IFERROR(SVOD!AA57,\"ND\")","v":0.19999999999999996},null,null,null,null,null,null,null,null,null,null,null,null,null,null,null,null,null,null,null,null,null,null,null,null,null,null,null,null,null,null,null,null,null,null,null,{"$f":"IFERROR(SVOD!AC57,\"ND\")","v":0.25},null,null,"GD-xGD"]
[]
["ОЧКИ ДОМА",null,null,null,null,null,null,null,null,null,null,null,null,{"$f":"IFERROR(SVOD!H6,\"ND\")","v":7},null,null,null,"IPPM",null,null,null,null,null,null,null,{"$f":"IFERROR(SVOD!S63,\"ND\")","v":-1.1862745098039218},null,null,null,null,null,null,null,null,null,null,null,null,null,null,null,null,null,null,null,null,null,null,null,null,null,null,null,null,null,null,null,null,null,null,null,{"$f":"IFERROR(SVOD!U63,\"ND\")","v":1.1862745098039218},null,null,"IPPM",null,null,null,null,null,null,null,null,{"$f":"IFERROR(SVOD!H12,\"ND\")","v":5},null,null,"ОЧКИ В ГОСТЯХ"]
[]
[null,null,null,null,null,null,null,null,null,null,null,null,null,null,null,null,null,"PPM",null,null,null,null,null,null,null,{"$f":"IFERROR(SVOD!C52,\"ND\")","v":1.5},null,null,null,null,null,null,null,"Nx & POISSON",null,null,null,null,null,null,null,null,null,null,null,null,null,null,null,null,null,null,null,null,null,null,null,null,null,null,null,{"$f":"IFERROR(SVOD!D52,\"ND\")","v":2},null,null,"PPM"]
["ФОРМА ДОМА",null,null,null,null,null,null,null,null,null,null,null,null,{"$f":"IFERROR(SVOD!J6,\"ND\")","v":1.75},null,null,null,null,null,null,null,null,null,null,null,null,null,null,null,null,null,null,null,null,null,null,null,null,null,null,null,null,null,null,null,null,null,null,null,null,null,null,null,null,null,null,null,null,null,null,null,null,null,null,null,null,null,null,null,null,null,null,null,{"$f":"IFERROR(SVOD!J12,\"ND\")","v":1.25},null,null,"ФОРМА В ГОСТЯХ"]
[]
[null,null,null,null,null,null,null,null,null,null,null,null,null,null,null,null,null,null,null,null,null,null,null,null,{"$f":"IFERROR(IF(AND(AE7>AJ7,AI32<2),\"ДА\",\"\"),\"ND\")","v":""},null,{"$f":"IFERROR(IF(AND(AE7>AJ7,AI32<2),\"Ф(0)\",\"\"),\"ND\")","v":""},null,null,null,null,null,null,null,{"$f":"IFERROR(SVOD!C44,\"ND\")","v":0.28447712418300652},null,null,null,null,null,null,{"$f":"IFERROR(SVOD!C47,\"ND\")","v":0.16078431372549018},null,null,null,null,null,null,null,{"$f":"IFERROR(SVOD!D44,\"ND\")","v":0.5547385620915033},null,null,null,null,null,null,{"$f":"IFERROR(IF(AND(AJ7>AE7,AX32<1.7),\"Ф(0)\",\"\"),\"ND\")","v":""},null,null,null,null,null,{"$f":"IFERROR(IF(AND(AJ7>AE7,AX32<1.7),\"ДА\",\"\"),\"ND\")","v":""},null,"ОБЕ ЗАБЬЮТ"]
["МОТИВАЦИЯ",null,null,null,null,null,null,null,null,null,null,null,null,{"$f":"IFERROR(Расчеты!I121,\"ND\")","v":2},null,null,null,null,null,null,null,null,null,null,null,null,null,null,null,null,null,null,null,null,null,null,null,null,null,null,null,null,null,null,null,null,null,null,null,null,null,null,null,null,null,null,null,null,null,null,null,null,null,null,null,null,null,null,null,null,null,null,null,{"$f":"IFERROR(Расчеты!J121,\"ND\")","v":0},null,null,"МОТИВАЦИЯ"]
[]
[null,null,null,null,null,null,null,null,null,null,null,null,null,null,null,null,null,null,null,null,null,null,null,null,{"$f":"IFERROR(IF(AND(AE7>AJ7,AI32<1.7,DATA!P29>0.99),\"ДА\",\"\"),\"ND\")","v":""},null,{"$f":"IFERROR(IF(AND(AE7>AJ7,AI29<1.7,DATA!P29>0.99),\"П1\",\"\"),\"ND\")","v":""},null,null,null,null,null,null,null,{"$f":"IFERROR(Poisson!B13,\"ND\")","v":0.48794158581562763},null,null,null,null,null,null,{"$f":"IFERROR(Poisson!C13,\"ND\")","v":0.25984737425739302},null,null,null,null,null,null,null,{"$f":"IFERROR(Poisson!D13,\"ND\")","v":0.25221103992697935},null,null,null,null,null,null,{"$f":"IFERROR(IF(AND(AJ7>AE7,AX29<1.7,DATA!P30>1),\"П2\",\"\"),\"ND\")","v":""},null,null,null,null,null,{"$f":"IFERROR(IF(AND(AJ7>AE7,X48<1.7,DATA!P30>1),\"ДА\",\"\"),\"ND\")","v":""},null,{"$f":"DATA!J28","v":"НЕТ"}]
["РЕЙТИНГ",null,null,null,null,null,null,null,null,null,null,null,null,{"$f":"IFERROR(DATA!P28,\"ND\")","v":4},null,null,null,null,null,null,null,null,null,null,null,null,null,null,null,null,null,null,null,null,null,null,null,null,null,null,null,null,null,null,null,null,null,null,null,null,null,null,null,null,null,null,null,null,null,null,null,null,null,null,null,null,null,null,null,null,null,"ОЖИДАЕМЫЙ ТОТАЛ"]
[null,null,null,null,null,null,null,null,null,null,null,null,null,null,null,null,null,null,null,null,null,null,null,null,null,null,null,null,null,null,null,null,null,null,null,null,null,null,null,null,null,null,null,null,null,null,null,null,null,null,null,null,null,null,null,null,null,null,null,null,null,null,null,null,{"$f":"DATA!J33","v":"НЕТ"}]
[null,null,null,null,null,null,null,null,null,null,null,null,null,null,null,null,null,null,null,null,null,null,null,null,{"$f":"IFERROR(IF(AND(AE7>AJ7,AE7>=(AJ7+2.09),AND(AI32<1.9)),\"ДА\",\"\"),\"BD\")","v":""},null,{"$f":"IFERROR(IF(AND(AE7>AJ7,AE7>=(AJ7+2.09),AND(AI29<1.9),N25>3),\"ИТ1>1,5\",\"\"),\"ND\")","v":""},null,null,null,null,null,null,null,"КОФФИЦИЕНТЫ 1Х2",null,null,null,null,null,null,null,null,null,null,null,null,null,null,null,null,null,null,null,null,null,{"$f":"IFERROR(IF(AND(AJ7>AE7,AJ7>=(AE7+2.09),AND(AX29<1.9,N25<0)),\"ИТ2>1,5\",\"\"),\"ND\")","v":""},null,null,null,null,null,{"$f":"IFERROR(IF(AND(AJ7>AE7,AJ7>=(AE7+2.09),AND(AX32<1.9,)),\"ДА\",\"\"),\"ND\")","v":""},null,null,null,null,null,null,null,null,{"$f":"IFERROR(IF(AND((AE7+AJ7)>2.7,Z6+BJ6>1.6),\">1,5\",\"\"),\"ND\")","v":">1,5"},null,null,null,{"$f":"IFERROR(DATA!I29,\"\")","v":"НЕТ"},null,null,null,{"$f":"IFERROR(IF(AND((AE7+AJ7)>3.2,(Z10+BJ10)>2.9,AP5>2.59,(Z6+BJ6)>2.29),\">2,5\",\"НЕТ\"),\"ND\")","v":"НЕТ"},null,null,null,{"$f":"IFERROR(IF(AND((AE7+AJ7)>3.2,(Z10+BJ10)>2.9,AP5>2.59,(Z6+BJ6)>2.29,AU13>2.15),\">3,5\",\"НЕТ\"),\"ND\")","v":"НЕТ"},null,null,null,{"$f":"IFERROR(IF(AND((AE7+AJ7)>3.2,(Z10+BJ10)>2.9,AP5>2.59,(Z6+BJ6)>2.29,AU13>2.2),\">4,5\",\"НЕТ\"),\"ND\")","v":"НЕТ"}]
["ПОСЛЕДНИЕ 5 ОЧНЫХ ВСТРЕЧ",null,null,null,null,null,null,null,null,null,null,null,null,null,null,null,null,null,null,null,null,null,null,null,null,null,null,null,null,null,null,null,null,null,null,null,null,null,null,null,null,null,null,null,null,null,null,null,null,null,null,null,null,null,null,null,null,null,null,null,null,null,null,null,{"$f":"IFERROR(IF(AND(Z6>1.09,BJ6>1.09,Z12>1,BJ12>1),\"ДА\",\"НЕТ\"),\"ND\")","v":"НЕТ"}]
[null,null,null,null,null,null,null,null,null,null,null,null,null,null,null,null,null,null,null,null,null,null,null,null,null,null,null,null,null,null,null,null,null,null,{"$f":"IFERROR(SVOD!S42,\"-\")","v":2.37},null,null,null,null,null,null,{"$f":"IFERROR(SVOD!T42,\"-\")","v":3.2},null,null,null,null,null,null,null,{"$f":"IFERROR(SVOD!U42,\"-\")","v":2.7}]
[{"$f":"Результат!D85","v":"Colo Colo"},null,null,null,null,null,{"$f":"Результат!E85","v":"Everton"},null,null,null,null,null,{"$f":"Результат!F85","v":"1 : 0"},null,null,null,null,null,null,null,null,null,null,null,{"$f":"IFERROR(IF(AND(AE7>AJ7,AE7>=(AJ7+2.09),AND(AI32<1.9,DATA!J12>DATA!J13)),\"ДА\",\"\"),\"BD\")","v":""},null,{"$f":"IFERROR(IF(AND(AE7>AJ7,AE7>=(AJ7+2.09),AND(AI29<1.9,DATA!J12>DATA!J13,N25>10.9)),\"Ф-1,5\",\"\"),\"ND\")","v":""},null,null,null,null,null,null,null,null,null,null,null,null,null,null,null,null,null,null,null,null,null,null,null,null,null,null,null,null,null,{"$f":"IFERROR(IF(AND(AJ7>AE7,AJ7>=(AE7+2.09),AND(AX29<1.9,DATA!J13>DATA!J12,N25<0)),\"Ф-1,5\",\"\"),\"ND\")","v":""},null,null,null,null,null,{"$f":"IFERROR(IF(AND(AJ7>AE7,AJ7>=(AE7+2.09),AND(AX32<1.9,DATA!J13>DATA!J12)),\"ДА\",\"\"),\"ND\")","v":""},null,null,null,null,null,null,null,null,{"$f":"IF(BT27=\">1,5\",\"ДА\",\"НЕТ\")","v":"ДА"},null,null,null,{"$f":"IF(BX27=\">2\",\"ДА\",\"НЕТ\")","v":"НЕТ"},null,null,null,{"$f":"IF(CB27=\">2,5\",\"ДА\",\"НЕТ\")","v":"НЕТ"},null,null,null,{"$f":"IF(CF27=\">3,5\",\"ДА\",\"НЕТ\")","v":"НЕТ"},null,null,null,{"$f":"IF(CJ27=\">4,5\",\"ДА\",\"НЕТ\")","v":"НЕТ"},null,null,null,{"$f":"IF(CN27=\"ТМ3,5\",\"ДА\",\"НЕТ\")","v":"НЕТ"}]
[]
[{"$f":"Результат!D86","v":"Everton"},null,null,null,null,null,{"$f":"Результат!E86","v":"Colo Colo"},null,null,null,null,null,{"$f":"Результат!F86","v":"1 : 1"},null,null,null,null,null,null,null,null,null,null,null,null,null,null,null,null,null,null,null,null,null,{"$f":"IFERROR(SVOD!S47,\"-\")","v":2.2999999999999998},null,null,null,null,null,null,{"$f":"IFERROR(SVOD!T47,\"-\")","v":3.2},null,null,null,null,null,null,null,{"$f":"IFERROR(SVOD!U47,\"-\")","v":2.9}]
[]
[{"$f":"Результат!D87","v":"Everton"},null,null,null,null,null,{"$f":"Результат!E87","v":"Colo Colo"},null,null,null,null,null,{"$f":"Результат!F87","v":"1 : 2"},null,null,null,null,null,null,null,null,null,null,null,null,null,null,{"$f":"IFERROR(IF(AND(AE7>AJ7,AE7>=(AJ7+2.09),AND(AI32<1.9)),\"ДА\",\"\"),\"R\")","v":""},null,null,null,null,null,null,"КОФФИЦИЕНТЫ > 2,5"]
[]
[{"$f":"Результат!D88","v":"Colo Colo"},null,null,null,null,null,{"$f":"Результат!E88","v":"Everton"},null,null,null,null,null,{"$f":"Результат!F88","v":"2 : 1"},null,null,null,null,null,null,null,null,null,null,null,null,null,null,null,null,null,null,null,null,null,{"$f":"SVOD!P42","v":2},null,null,null,null,null,null,null,null,null,null,null,null,null,null,{"$f":"SVOD!R42","v":2.25}]
[null,null,null,null,null,null,null,null,null,null,null,null,null,null,null,null,null,null,null,null,null,null,null,null,null,null,null,{"$f":"IFERROR(IF(AND(AE7>AJ7,AE7>=(AJ7+2.09),AND(AI32<1.9,DATA!J12>DATA!J13)),\"ДА\",\"\"),\"R\")","v":""}]
[{"$f":"Результат!D89","v":"Colo Colo"},null,null,null,null,null,{"$f":"Результат!E89","v":"Everton"},null,null,null,null,null,{"$f":"Результат!F89","v":"0 : 0"}]

{"sheet":"Таблица","index":7,"n_rows":18,"n_cols":29,"rows_kept":18,"cut":false,"hidden":true,"merged":[]}
["Место","Команда","Игр","Выиграно","Ничьих","Проиграно","Забито","Пропущено","Очков",null,"Место","Команда","Игр","Выиграно","Ничьих","Проиграно","Забито","Пропущено","Очков",null,"Место","Команда","Игр","Выиграно","Ничьих","Проиграно","Забито","Пропущено","Очков"]
[1,"U. Catolica",4,3,0,1,5,3,9,null,1,"U. Catolica",2,2,0,0,4,2,6,null,1,"Antofagasta",2,1,1,0,5,3,4]
[2,"A. Italiano",4,2,2,0,4,2,8,null,2,"A. Italiano",2,2,0,0,3,1,6,null,2,"Everton",2,1,1,0,3,2,4]
[3,"Union La Calera",4,2,2,0,4,2,8,null,3,"Huachipato",2,1,1,0,5,3,4,null,3,"O'Higgins",2,1,1,0,3,2,4]
[4,"O'Higgins",4,1,3,0,3,2,6,null,4,"Curico Unido",2,1,1,0,3,1,4,null,4,"Union La Calera",2,1,1,0,2,1,4]
[5,"Huachipato",3,1,2,0,6,4,5,null,5,"La Serena",2,1,1,0,2,0,4,null,5,"Colo Colo",1,1,0,0,2,1,3]
[6,"Everton",3,1,2,0,4,3,5,null,6,"Union La Calera",2,1,1,0,2,1,4,null,6,"Melipilla",2,1,0,1,2,2,3]
[7,"La Serena",4,1,2,1,3,2,5,null,7,"Nublense",2,1,0,1,3,2,3,null,7,"Palestino",2,1,0,1,2,2,3]
[8,"Antofagasta",3,1,1,1,6,5,4,null,8,"Cobresal",2,1,0,1,3,3,3,null,8,"U. Catolica",2,1,0,1,1,1,3]
[9,"Colo Colo",3,1,1,1,3,3,4,null,9,"U. Espanola",2,1,0,1,3,3,3,null,9,"A. Italiano",2,0,2,0,1,1,2]
[10,"Nublense",4,1,1,2,7,8,4,null,10,"O'Higgins",2,0,2,0,0,0,2,null,10,"Huachipato",1,0,1,0,1,1,1]
[11,"Curico Unido",4,1,1,2,4,5,4,null,11,"Everton",1,0,1,0,1,1,1,null,11,"U. De Chile",1,0,1,0,0,0,1]
[12,"Melipilla",4,1,1,2,3,4,4,null,12,"U. De Chile",1,0,1,0,1,1,1,null,12,"La Serena",2,0,1,1,1,2,1]
[13,"Palestino",4,1,1,2,5,7,4,null,13,"Colo Colo",2,0,1,1,1,2,1,null,13,"Nublense",2,0,1,1,4,6,1]
[14,"Cobresal",4,1,1,2,4,6,4,null,14,"Melipilla",2,0,1,1,1,2,1,null,14,"Cobresal",2,0,1,1,1,3,1]
[15,"U. Espanola",3,1,0,2,3,4,3,null,15,"Palestino",2,0,1,1,3,5,1,null,15,"U. Espanola",1,0,0,1,0,1,0]
[16,"U. De Chile",2,0,2,0,1,1,2,null,16,"Antofagasta",1,0,0,1,1,2,0,null,16,"S. Wanderers",2,0,0,2,2,5,0]
[17,"S. Wanderers",3,0,0,3,3,7,0,null,17,"S. Wanderers",1,0,0,1,1,2,0,null,17,"Curico Unido",2,0,0,2,1,4,0]

{"sheet":"Форма","index":8,"n_rows":1279,"n_cols":81,"rows_kept":1279,"cut":false,"hidden":true,"merged":[]}
["Место","Команда","Игр","Выиграно","Ничьих","Проиграно","Забито","Пропущено","Очков",null,"Место","Команда","Игр","Выиграно","Ничьих","Проиграно","Забито","Пропущено","Очков",null,"Место","Команда","Игр","Выиграно","Ничьих","Проиграно","Забито","Пропущено","Очков",null,null,null,null,null,null,null,null,null,null,null,null,null,null,null,null,null,null,null,null,null,null,null,"Место","Форма общая","Игр","Выиграно","Ничьих","Проиграно","Забито","Пропущено","Очков",null,"Место","ФОРМА ДОМАШНЯЯ","Игр","Выиграно","Ничьих","Проиграно","Забито","Пропущено","Очков",null,"Место","ФОРМА ВЫЕЗДНАЯ","Игр","Выиграно","Ничьих","Проиграно","Забито","Пропущено","Очков"]
[1,"U. Catolica",4,3,0,1,5,3,9,null,1,"U. Catolica",2,2,0,0,2,4,6,null,1,"Antofagasta",2,1,1,0,5,3,4,null,null,null,null,null,null,null,null,null,null,null,null,null,null,null,null,null,null,null,null,null,null,null,{"$f":"A2","v":1},{"$f":"B2&C2","v":"U. Catolica4"},{"$f":"C2","v":4},{"$f":"D2","v":3},0,1,5,3,9,null,{"$f":"K2","v":1},{"$f":"L2&M2","v":"U. Catolica2"},{"$f":"M2","v":2},{"$f":"N2","v":2},0,0,2,4,6,null,{"$f":"U2","v":1},{"$f":"V2&W2","v":"Antofagasta2"},{"$f":"W2","v":2},{"$f":"X2","v":1},1,0,5,3,4]
[2,"A. Italiano",4,2,2,0,4,2,8,null,2,"A. Italiano",2,2,0,0,1,3,6,null,2,"Everton",2,1,1,0,3,2,4,null,null,null,null,null,null,null,null,null,null,null,null,null,null,null,null,null,null,null,null,null,null,null,{"$f":"A3","v":2},{"$f":"B3&C3","v":"A. Italiano4"},{"$f":"C3","v":4},{"$f":"D3","v":2},{"$f":"E3","v":2},{"$f":"F3","v":0},{"$f":"G3","v":4},{"$f":"H3","v":2},{"$f":"I3","v":8},null,{"$f":"K3","v":2},{"$f":"L3&M3","v":"A. Italiano2"},{"$f":"M3","v":2},2,0,0,1,3,6,null,{"$f":"U3","v":2},{"$f":"V3&W3","v":"Everton2"},{"$f":"W3","v":2},1,1,0,3,2,4]
[3,"Union La Calera",4,2,2,0,4,2,8,null,3,"Huachipato",2,1,1,0,3,5,4,null,3,"O'Higgins",2,1,1,0,3,2,4,null,null,null,null,null,null,null,null,null,null,null,null,null,null,null,null,null,null,null,null,null,null,null,3,"Union La Calera4",4,2,2,0,4,2,8,null,3,"Huachipato2",2,1,1,0,3,5,4,null,3,"O'Higgins2",2,1,1,0,3,2,4]
[4,"O'Higgins",4,1,3,0,3,2,6,null,4,"Curico Unido",2,1,1,0,1,3,4,null,4,"Union La Calera",2,1,1,0,2,1,4,null,null,null,null,null,null,null,null,null,null,null,null,null,null,null,null,null,null,null,null,null,null,null,4,"O'Higgins4",4,1,3,0,3,2,6,null,4,"Curico Unido2",2,1,1,0,1,3,4,null,4,"Union La Calera2",2,1,1,0,2,1,4]
[5,"Huachipato",3,1,2,0,6,4,5,null,5,"La Serena",2,1,1,0,0,2,4,null,5,"Colo Colo",1,1,0,0,2,1,3,null,null,null,null,null,null,null,null,null,null,null,null,null,null,null,null,null,null,null,null,null,null,null,5,"Huachipato3",3,1,2,0,6,4,5,null,5,"La Serena2",2,1,1,0,0,2,4,null,5,"Colo Colo1",1,1,0,0,2,1,3]
[6,"Everton",3,1,2,0,4,3,5,null,6,"Union La Calera",2,1,1,0,1,2,4,null,6,"Melipilla",2,1,0,1,2,2,3,null,null,null,null,null,null,null,null,null,null,null,null,null,null,null,null,null,null,null,null,null,null,null,6,"Everton3",3,1,2,0,4,3,5,null,6,"Union La Calera2",2,1,1,0,1,2,4,null,6,"Melipilla2",2,1,0,1,2,2,3]
[7,"La Serena",4,1,2,1,3,2,5,null,7,"Nublense",2,1,0,1,2,3,3,null,7,"Palestino",2,1,0,1,2,2,3,null,null,null,null,null,null,null,null,null,null,null,null,null,null,null,null,null,null,null,null,null,null,null,7,"La Serena4",4,1,2,1,3,2,5,null,7,"Nublense2",2,1,0,1,2,3,3,null,7,"Palestino2",2,1,0,1,2,2,3]
[8,"Antofagasta",3,1,1,1,6,5,4,null,8,"Cobresal",2,1,0,1,3,3,3,null,8,"U. Catolica",2,1,0,1,1,1,3,null,null,null,null,null,null,null,null,null,null,null,null,null,null,null,null,null,null,null,null,null,null,null,8,"Antofagasta3",3,1,1,1,6,5,4,null,8,"Cobresal2",2,1,0,1,3,3,3,null,8,"U. Catolica2",2,1,0,1,1,1,3]
[9,"Colo Colo",3,1,1,1,3,3,4,null,9,"U. Espanola",2,1,0,1,3,3,3,null,9,"A. Italiano",2,0,2,0,1,1,2,null,null,null,null,null,null,null,null,null,null,null,null,null,null,null,null,null,null,null,null,null,null,null,9,"Colo Colo3",3,1,1,1,3,3,4,null,9,"U. Espanola2",2,1,0,1,3,3,3,null,9,"A. Italiano2",2,0,2,0,1,1,2]
[10,"Nublense",4,1,1,2,7,8,4,null,10,"O'Higgins",2,0,2,0,0,0,2,null,10,"Huachipato",1,0,1,0,1,1,1,null,null,null,null,null,null,null,null,null,null,null,null,null,null,null,null,null,null,null,null,null,null,null,10,"Nublense4",4,1,1,2,7,8,4,null,10,"O'Higgins2",2,0,2,0,0,0,2,null,10,"Huachipato1",1,0,1,0,1,1,1]
[11,"Curico Unido",4,1,1,2,4,5,4,null,11,"Everton",1,0,1,0,1,1,1,null,11,"U. De Chile",1,0,1,0,0,0,1,null,null,null,null,null,null,null,null,null,null,null,null,null,null,null,null,null,null,null,null,null,null,null,11,"Curico Unido4",4,1,1,2,4,5,4,null,11,"Everton1",1,0,1,0,1,1,1,null,11,"U. De Chile1",1,0,1,0,0,0,1]
[12,"Melipilla",4,1,1,2,3,4,4,null,12,"U. De Chile",1,0,1,0,1,1,1,null,12,"La Serena",2,0,1,1,1,2,1,null,null,null,null,null,null,null,null,null,null,null,null,null,null,null,null,null,null,null,null,null,null,null,12,"Melipilla4",4,1,1,2,3,4,4,null,12,"U. De Chile1",1,0,1,0,1,1,1,null,12,"La Serena2",2,0,1,1,1,2,1]
[13,"Palestino",4,1,1,2,5,7,4,null,13,"Colo Colo",2,0,1,1,2,1,1,null,13,"Nublense",2,0,1,1,4,6,1,null,null,null,null,null,null,null,null,null,null,null,null,null,null,null,null,null,null,null,null,null,null,null,{"$f":"A14","v":13},{"$f":"B14&C14","v":"Palestino4"},{"$f":"C14","v":4},{"$f":"D14","v":1},{"$f":"E14","v":1},{"$f":"F14","v":2},{"$f":"G14","v":5},{"$f":"H14","v":7},{"$f":"I14","v":4},null,{"$f":"K14","v":13},"Colo Colo2",{"$f":"M14","v":2},{"$f":"N14","v":0},{"$f":"O14","v":1},{"$f":"P14","v":1},{"$f":"Q14","v":2},{"$f":"R14","v":1},{"$f":"S14","v":1},null,{"$f":"U14","v":13},"Nublense2",{"$f":"W14","v":2},{"$f":"X14","v":0},{"$f":"Y14","v":1},{"$f":"Z14","v":1},{"$f":"AA14","v":4},{"$f":"AB14","v":6},{"$f":"AC14","v":1}]
[14,"Cobresal",4,1,1,2,4,6,4,null,14,"Melipilla",2,0,1,1,2,1,1,null,14,"Cobresal",2,0,1,1,1,3,1,null,null,null,null,null,null,null,null,null,null,null,null,null,null,null,null,null,null,null,null,null,null,null,14,"Cobresal4",4,1,1,2,4,6,4,null,14,"Melipilla2",2,0,1,1,2,1,1,null,14,"Cobresal2",2,0,1,1,1,3,1]
[15,"U. Espanola",3,1,0,2,3,4,3,null,15,"Palestino",2,0,1,1,5,3,1,null,15,"U. Espanola",1,0,0,1,0,1,0,null,null,null,null,null,null,null,null,null,null,null,null,null,null,null,null,null,null,null,null,null,null,null,15,"U. Espanola3",3,1,0,2,3,4,3,null,15,"Palestino2",2,0,1,1,5,3,1,null,15,"U. Espanola1",1,0,0,1,0,1,0]
[16,"U. De Chile",2,0,2,0,1,1,2,null,16,"Antofagasta",1,0,0,1,2,1,0,null,16,"S. Wanderers",2,0,0,2,2,5,0,null,null,null,null,null,null,null,null,null,null,null,null,null,null,null,null,null,null,null,null,null,null,null,16,"U. De Chile2",2,0,2,0,1,1,2,null,16,"Antofagasta1",1,0,0,1,2,1,0,null,16,"S. Wanderers2",2,0,0,2,2,5,0]
[17,"S. Wanderers",3,0,0,3,3,7,0,null,17,"S. Wanderers",1,0,0,1,2,1,0,null,17,"Curico Unido",2,0,0,2,1,4,0,null,null,null,null,null,null,null,null,null,null,null,null,null,null,null,null,null,null,null,null,null,null,null,17,"S. Wanderers3",3,0,0,3,3,7,0,null,17,"S. Wanderers1",1,0,0,1,2,1,0,null,17,"Curico Unido2",2,0,0,2,1,4,0]
[null,null,null,null,null,null,null,null,null,null,null,null,null,null,null,null,null,null,null,null,null,null,null,null,null,null,null,null,null,null,null,null,null,null,null,null,null,null,null,null,null,null,null,null,null,null,null,null,null,null,null,null,0,"",0,0,0,0,0,0,0,null,0,"",0,0,0,0,0,0,0,null,0,"",0,0,0,0,0,0,0]
[null,null,null,null,null,null,null,null,null,null,null,null,null,null,null,null,null,null,null,null,null,null,null,null,null,null,null,null,null,null,null,null,null,null,null,null,null,null,null,null,null,null,null,null,null,null,null,null,null,null,null,null,0,"",0,0,0,0,0,0,0,null,0,"",0,0,0,0,0,0,0,null,0,"",0,0,0,0,0,0,0]
[null,null,null,null,null,null,null,null,null,null,null,null,null,null,null,null,null,null,null,null,null,null,null,null,null,null,null,null,null,null,null,null,null,null,null,null,null,null,null,null,null,null,null,null,null,null,null,null,null,null,null,null,0,"",0,0,0,0,0,0,0,null,0,"",0,0,0,0,0,0,0,null,0,"",0,0,0,0,0,0,0]
[null,null,null,null,null,null,null,null,null,null,null,null,null,null,null,null,null,null,null,null,null,null,null,null,null,null,null,null,null,null,null,null,null,null,null,null,null,null,null,null,null,null,null,null,null,null,null,null,null,null,null,null,0,"",0,0,0,0,0,0,0,null,0,"",0,0,0,0,0,0,0,null,0,"",0,0,0,0,0,0,0]
[null,null,null,null,null,null,null,null,null,null,null,null,null,null,null,null,null,null,null,null,null,null,null,null,null,null,null,null,null,null,null,null,null,null,null,null,null,null,null,null,null,null,null,null,null,null,null,null,null,null,null,null,0,"",0,0,0,0,0,0,0,null,0,"",0,0,0,0,0,0,0,null,0,"",0,0,0,0,0,0,0]
[null,null,null,null,null,null,null,null,null,null,null,null,null,null,null,null,null,null,null,null,null,null,null,null,null,null,null,null,null,null,null,null,null,null,null,null,null,null,null,null,null,null,null,null,null,null,null,null,null,null,null,null,{"$f":"A24","v":0},{"$f":"B24&C24","v":""},{"$f":"C24","v":0},{"$f":"D24","v":0},{"$f":"E24","v":0},{"$f":"F24","v":0},{"$f":"G24","v":0},{"$f":"H24","v":0},{"$f":"I24","v":0},null,0,"",0,0,0,0,0,0,0,null,0,"",0,0,0,0,0,0,0]
[null,null,null,null,null,null,null,null,null,null,null,null,null,null,null,null,null,null,null,null,null,null,null,null,null,null,null,null,null,null,null,null,null,null,null,null,null,null,null,null,null,null,null,null,null,null,null,null,null,null,null,null,0,"",0,0,0,0,0,0,0,null,0,"",0,0,0,0,0,0,0,null,0,"",0,0,0,0,0,0,0]
[null,null,null,null,null,null,null,null,null,null,null,null,null,null,null,null,null,null,null,null,null,null,null,null,null,null,null,null,null,null,null,null,null,null,null,null,null,null,null,null,null,null,null,null,null,null,null,null,null,null,null,null,0,"",0,0,0,0,0,0,0,null,0,"",0,0,0,0,0,0,0,null,0,"",0,0,0,0,0,0,0]
[null,null,null,null,null,null,null,null,null,null,null,null,null,null,null,null,null,null,null,null,null,null,null,null,null,null,null,null,null,null,null,null,null,null,null,null,null,null,null,null,null,null,null,null,null,null,null,null,null,null,null,null,0,"",0,0,0,0,0,0,0,null,0,"",0,0,0,0,0,0,0,null,0,"",0,0,0,0,0,0,0]
[null,null,null,null,null,null,null,null,null,null,null,null,null,null,null,null,null,null,null,null,null,null,null,null,null,null,null,null,null,null,null,null,null,null,null,null,null,null,null,null,null,null,null,null,null,null,null,null,null,null,null,null,0,"",0,0,0,0,0,0,0,null,0,"",0,0,0,0,0,0,0,null,0,"",0,0,0,0,0,0,0]
[null,null,null,null,null,null,null,null,null,null,null,null,null,null,null,null,null,null,null,null,null,null,null,null,null,null,null,null,null,null,null,null,null,null,null,null,null,null,null,null,null,null,null,null,null,null,null,null,null,null,null,null,0,"",0,0,0,0,0,0,0,null,0,"",0,0,0,0,0,0,0,null,0,"",0,0,0,0,0,0,0]
[null,null,null,null,null,null,null,null,null,null,null,null,null,null,null,null,null,null,null,null,null,null,null,null,null,null,null,null,null,null,null,null,null,null,null,null,null,null,null,null,null,null,null,null,null,null,null,null,null,null,null,null,0,"",0,0,0,0,0,0,0,null,0,"",0,0,0,0,0,0,0,null,0,"",0,0,0,0,0,0,0]
[null,null,null,null,null,null,null,null,null,null,null,null,null,null,null,null,null,null,null,null,null,null,null,null,null,null,null,null,null,null,null,null,null,null,null,null,null,null,null,null,null,null,null,null,null,null,null,null,null,null,null,null,0,"",0,0,0,0,0,0,0,null,0,"",0,0,0,0,0,0,0,null,0,"",0,0,0,0,0,0,0]
[null,null,null,null,null,null,null,null,null,null,null,null,null,null,null,null,null,null,null,null,null,null,null,null,null,null,null,null,null,null,null,null,null,null,null,null,null,null,null,null,null,null,null,null,null,null,null,null,null,null,null,null,0,"",0,0,0,0,0,0,0,null,0,"",0,0,0,0,0,0,0,null,0,"",0,0,0,0,0,0,0]
[null,null,null,null,null,null,null,null,null,null,null,null,null,null,null,null,null,null,null,null,null,null,null,null,null,null,null,null,null,null,null,null,null,null,null,null,null,null,null,null,null,null,null,null,null,null,null,null,null,null,null,null,0,"",0,0,0,0,0,0,0,null,0,"",0,0,0,0,0,0,0,null,0,"",0,0,0,0,0,0,0]
[null,null,null,null,null,null,null,null,null,null,null,null,null,null,null,null,null,null,null,null,null,null,null,null,null,null,null,null,null,null,null,null,null,null,null,null,null,null,null,null,null,null,null,null,null,null,null,null,null,null,null,null,0,"",0,0,0,0,0,0,0,null,0,"",0,0,0,0,0,0,0,null,0,"",0,0,0,0,0,0,0]
[null,null,null,null,null,null,null,null,null,null,null,null,null,null,null,null,null,null,null,null,null,null,null,null,null,null,null,null,null,null,null,null,null,null,null,null,null,null,null,null,null,null,null,null,null,null,null,null,null,null,null,null,0,"",0,0,0,0,0,0,0,null,0,"",0,0,0,0,0,0,0,null,0,"",0,0,0,0,0,0,0]
[null,null,null,null,null,null,null,null,null,null,null,null,null,null,null,null,null,null,null,null,null,null,null,null,null,null,null,null,null,null,null,null,null,null,null,null,null,null,null,null,null,null,null,null,null,null,null,null,null,null,null,null,0,"",0,0,0,0,0,0,0,null,0,"",0,0,0,0,0,0,0,null,0,"",0,0,0,0,0,0,0]
[null,null,null,null,null,null,null,null,null,null,null,null,null,null,null,null,null,null,null,null,null,null,null,null,null,null,null,null,null,null,null,null,null,null,null,null,null,null,null,null,null,null,null,null,null,null,null,null,null,null,null,null,0,"",0,0,0,0,0,0,0,null,0,"",0,0,0,0,0,0,0,null,0,"",0,0,0,0,0,0,0]
[null,null,null,null,null,null,null,null,null,null,null,null,null,null,null,null,null,null,null,null,null,null,null,null,null,null,null,null,null,null,null,null,null,null,null,null,null,null,null,null,null,null,null,null,null,null,null,null,null,null,null,null,0,"",0,0,0,0,0,0,0,null,0,"",0,0,0,0,0,0,0,null,0,"",0,0,0,0,0,0,0]
[null,null,null,null,null,null,null,null,null,null,null,null,null,null,null,null,null,null,null,null,null,null,null,null,null,null,null,null,null,null,null,null,null,null,null,null,null,null,null,null,null,null,null,null,null,null,null,null,null,null,null,null,0,"",0,0,0,0,0,0,0,null,0,"",0,0,0,0,0,0,0,null,0,"",0,0,0,0,0,0,0]
[null,null,null,null,null,null,null,null,null,null,null,null,null,null,null,null,null,null,null,null,null,null,null,null,null,null,null,null,null,null,null,null,null,null,null,null,null,null,null,null,null,null,null,null,null,null,null,null,null,null,null,null,0,"",0,0,0,0,0,0,0,null,0,"",0,0,0,0,0,0,0,null,0,"",0,0,0,0,0,0,0]
[null,null,null,null,null,null,null,null,null,null,null,null,null,null,null,null,null,null,null,null,null,null,null,null,null,null,null,null,null,null,null,null,null,null,null,null,null,null,null,null,null,null,null,null,null,null,null,null,null,null,null,null,0,"",0,0,0,0,0,0,0,null,0,"",0,0,0,0,0,0,0,null,0,"",0,0,0,0,0,0,0]
[null,null,null,null,null,null,null,null,null,null,null,null,null,null,null,null,null,null,null,null,null,null,null,null,null,null,null,null,null,null,null,null,null,null,null,null,null,null,null,null,null,null,null,null,null,null,null,null,null,null,null,null,0,"",0,0,0,0,0,0,0,null,0,"",0,0,0,0,0,0,0,null,0,"",0,0,0,0,0,0,0]
[null,null,null,null,null,null,null,null,null,null,null,null,null,null,null,null,null,null,null,null,null,null,null,null,null,null,null,null,null,null,null,null,null,null,null,null,null,null,null,null,null,null,null,null,null,null,null,null,null,null,null,null,0,"",0,0,0,0,0,0,0,null,0,"",0,0,0,0,0,0,0,null,0,"",0,0,0,0,0,0,0]
[null,null,null,null,null,null,null,null,null,null,null,null,null,null,null,null,null,null,null,null,null,null,null,null,null,null,null,null,null,null,null,null,null,null,null,null,null,null,null,null,null,null,null,null,null,null,null,null,null,null,null,null,0,"",0,0,0,0,0,0,0,null,0,"",0,0,0,0,0,0,0,null,0,"",0,0,0,0,0,0,0]
[null,null,null,null,null,null,null,null,null,null,null,null,null,null,null,null,null,null,null,null,null,null,null,null,null,null,null,null,null,null,null,null,null,null,null,null,null,null,null,null,null,null,null,null,null,null,null,null,null,null,null,null,0,"",0,0,0,0,0,0,0,null,0,"",0,0,0,0,0,0,0,null,0,"",0,0,0,0,0,0,0]
[null,null,null,null,null,null,null,null,null,null,null,null,null,null,null,null,null,null,null,null,null,null,null,null,null,null,null,null,null,null,null,null,null,null,null,null,null,null,null,null,null,null,null,null,null,null,null,null,null,null,null,null,0,"",0,0,0,0,0,0,0,null,0,"",0,0,0,0,0,0,0,null,0,"",0,0,0,0,0,0,0]
[null,null,null,null,null,null,null,null,null,null,null,null,null,null,null,null,null,null,null,null,null,null,null,null,null,null,null,null,null,null,null,null,null,null,null,null,null,null,null,null,null,null,null,null,null,null,null,null,null,null,null,null,0,"",0,0,0,0,0,0,0,null,0,"",0,0,0,0,0,0,0,null,0,"",0,0,0,0,0,0,0]
[null,null,null,null,null,null,null,null,null,null,null,null,null,null,null,null,null,null,null,null,null,null,null,null,null,null,null,null,null,null,null,null,null,null,null,null,null,null,null,null,null,null,null,null,null,null,null,null,null,null,null,null,0,"",0,0,0,0,0,0,0,null,0,"",0,0,0,0,0,0,0,null,0,"",0,0,0,0,0,0,0]
[null,null,null,null,null,null,null,null,null,null,null,null,null,null,null,null,null,null,null,null,null,null,null,null,null,null,null,null,null,null,null,null,null,null,null,null,null,null,null,null,null,null,null,null,null,null,null,null,null,null,null,null,0,"",0,0,0,0,0,0,0,null,0,"",0,0,0,0,0,0,0,null,0,"",0,0,0,0,0,0,0]
[null,null,null,null,null,null,null,null,null,null,null,null,null,null,null,null,null,null,null,null,null,null,null,null,null,null,null,null,null,null,null,null,null,null,null,null,null,null,null,null,null,null,null,null,null,null,null,null,null,null,null,null,0,"",0,0,0,0,0,0,0,null,0,"",0,0,0,0,0,0,0,null,0,"",0,0,0,0,0,0,0]
[null,null,null,null,null,null,null,null,null,null,null,null,null,null,null,null,null,null,null,null,null,null,null,null,null,null,null,null,null,null,null,null,null,null,null,null,null,null,null,null,null,null,null,null,null,null,null,null,null,null,null,null,0,"",0,0,0,0,0,0,0,null,0,"",0,0,0,0,0,0,0,null,0,"",0,0,0,0,0,0,0]
[null,null,null,null,null,null,null,null,null,null,null,null,null,null,null,null,null,null,null,null,null,null,null,null,null,null,null,null,null,null,null,null,null,null,null,null,null,null,null,null,null,null,null,null,null,null,null,null,null,null,null,null,0,"",0,0,0,0,0,0,0,null,0,"",0,0,0,0,0,0,0,null,0,"",0,0,0,0,0,0,0]
[null,null,null,null,null,null,null,null,null,null,null,null,null,null,null,null,null,null,null,null,null,null,null,null,null,null,null,null,null,null,null,null,null,null,null,null,null,null,null,null,null,null,null,null,null,null,null,null,null,null,null,null,0,"",0,0,0,0,0,0,0,null,0,"",0,0,0,0,0,0,0,null,0,"",0,0,0,0,0,0,0]
[null,null,null,null,null,null,null,null,null,null,null,null,null,null,null,null,null,null,null,null,null,null,null,null,null,null,null,null,null,null,null,null,null,null,null,null,null,null,null,null,null,null,null,null,null,null,null,null,null,null,null,null,0,"",0,0,0,0,0,0,0,null,0,"",0,0,0,0,0,0,0,null,0,"",0,0,0,0,0,0,0]
[null,null,null,null,null,null,null,null,null,null,null,null,null,null,null,null,null,null,null,null,null,null,null,null,null,null,null,null,null,null,null,null,null,null,null,null,null,null,null,null,null,null,null,null,null,null,null,null,null,null,null,null,0,"",0,0,0,0,0,0,0,null,0,"",0,0,0,0,0,0,0,null,0,"",0,0,0,0,0,0,0]
[null,null,null,null,null,null,null,null,null,null,null,null,null,null,null,null,null,null,null,null,null,null,null,null,null,null,null,null,null,null,null,null,null,null,null,null,null,null,null,null,null,null,null,null,null,null,null,null,null,null,null,null,0,"",0,0,0,0,0,0,0,null,0,"",0,0,0,0,0,0,0,null,0,"",0,0,0,0,0,0,0]
[null,null,null,null,null,null,null,null,null,null,null,null,null,null,null,null,null,null,null,null,null,null,null,null,null,null,null,null,null,null,null,null,null,null,null,null,null,null,null,null,null,null,null,null,null,null,null,null,null,null,null,null,0,"",0,0,0,0,0,0,0,null,0,"",0,0,0,0,0,0,0,null,0,"",0,0,0,0,0,0,0]
[null,null,null,null,null,null,null,null,null,null,null,null,null,null,null,null,null,null,null,null,null,null,null,null,null,null,null,null,null,null,null,null,null,null,null,null,null,null,null,null,null,null,null,null,null,null,null,null,null,null,null,null,0,"",0,0,0,0,0,0,0,null,0,"",0,0,0,0,0,0,0,null,0,"",0,0,0,0,0,0,0]
[null,null,null,null,null,null,null,null,null,null,null,null,null,null,null,null,null,null,null,null,null,null,null,null,null,null,null,null,null,null,null,null,null,null,null,null,null,null,null,null,null,null,null,null,null,null,null,null,null,null,null,null,0,"",0,0,0,0,0,0,0,null,0,"",0,0,0,0,0,0,0,null,0,"",0,0,0,0,0,0,0]
[null,null,null,null,null,null,null,null,null,null,null,null,null,null,null,null,null,null,null,null,null,null,null,null,null,null,null,null,null,null,null,null,null,null,null,null,null,null,null,null,null,null,null,null,null,null,null,null,null,null,null,null,0,"",0,0,0,0,0,0,0,null,0,"",0,0,0,0,0,0,0,null,0,"",0,0,0,0,0,0,0]
[null,null,null,null,null,null,null,null,null,null,null,null,null,null,null,null,null,null,null,null,null,null,null,null,null,null,null,null,null,null,null,null,null,null,null,null,null,null,null,null,null,null,null,null,null,null,null,null,null,null,null,null,0,"",0,0,0,0,0,0,0,null,0,"",0,0,0,0,0,0,0,null,0,"",0,0,0,0,0,0,0]
[null,null,null,null,null,null,null,null,null,null,null,null,null,null,null,null,null,null,null,null,null,null,null,null,null,null,null,null,null,null,null,null,null,null,null,null,null,null,null,null,null,null,null,null,null,null,null,null,null,null,null,null,0,"",0,0,0,0,0,0,0,null,0,"",0,0,0,0,0,0,0,null,0,"",0,0,0,0,0,0,0]
[null,null,null,null,null,null,null,null,null,null,null,null,null,null,null,null,null,null,null,null,null,null,null,null,null,null,null,null,null,null,null,null,null,null,null,null,null,null,null,null,null,null,null,null,null,null,null,null,null,null,null,null,0,"",0,0,0,0,0,0,0,null,0,"",0,0,0,0,0,0,0,null,0,"",0,0,0,0,0,0,0]
[null,null,null,null,null,null,null,null,null,null,null,null,null,null,null,null,null,null,null,null,null,null,null,null,null,null,null,null,null,null,null,null,null,null,null,null,null,null,null,null,null,null,null,null,null,null,null,null,null,null,null,null,0,"",0,0,0,0,0,0,0,null,0,"",0,0,0,0,0,0,0,null,0,"",0,0,0,0,0,0,0]
[null,null,null,null,null,null,null,null,null,null,null,null,null,null,null,null,null,null,null,null,null,null,null,null,null,null,null,null,null,null,null,null,null,null,null,null,null,null,null,null,null,null,null,null,null,null,null,null,null,null,null,null,0,"",0,0,0,0,0,0,0,null,0,"",0,0,0,0,0,0,0,null,0,"",0,0,0,0,0,0,0]
[null,null,null,null,null,null,null,null,null,null,null,null,null,null,null,null,null,null,null,null,null,null,null,null,null,null,null,null,null,null,null,null,null,null,null,null,null,null,null,null,null,null,null,null,null,null,null,null,null,null,null,null,0,"",0,0,0,0,0,0,0,null,0,"",0,0,0,0,0,0,0,null,0,"",0,0,0,0,0,0,0]
[null,null,null,null,null,null,null,null,null,null,null,null,null,null,null,null,null,null,null,null,null,null,null,null,null,null,null,null,null,null,null,null,null,null,null,null,null,null,null,null,null,null,null,null,null,null,null,null,null,null,null,null,0,"",0,0,0,0,0,0,0,null,0,{"$f":"L67&M67","v":""},0,0,0,0,0,0,0,null,0,{"$f":"V67&W67","v":""},0,0,0,0,0,0,0]
[null,null,null,null,null,null,null,null,null,null,null,null,null,null,null,null,null,null,null,null,null,null,null,null,null,null,null,null,null,null,null,null,null,null,null,null,null,null,null,null,null,null,null,null,null,null,null,null,null,null,null,null,0,"",0,0,0,0,0,0,0,null,0,"",0,0,0,0,0,0,0,null,0,"",0,0,0,0,0,0,0]
[null,null,null,null,null,null,null,null,null,null,null,null,null,null,null,null,null,null,null,null,null,null,null,null,null,null,null,null,null,null,null,null,null,null,null,null,null,null,null,null,null,null,null,null,null,null,null,null,null,null,null,null,0,"",0,0,0,0,0,0,0,null,0,"",0,0,0,0,0,0,0,null,0,"",0,0,0,0,0,0,0]
[null,null,null,null,null,null,null,null,null,null,null,null,null,null,null,null,null,null,null,null,null,null,null,null,null,null,null,null,null,null,null,null,null,null,null,null,null,null,null,null,null,null,null,null,null,null,null,null,null,null,null,null,0,"",0,0,0,0,0,0,0,null,0,"",0,0,0,0,0,0,0,null,0,"",0,0,0,0,0,0,0]
[null,null,null,null,null,null,null,null,null,null,null,null,null,null,null,null,null,null,null,null,null,null,null,null,null,null,null,null,null,null,null,null,null,null,null,null,null,null,null,null,null,null,null,null,null,null,null,null,null,null,null,null,0,"",0,0,0,0,0,0,0,null,0,"",0,0,0,0,0,0,0,null,0,"",0,0,0,0,0,0,0]
[null,null,null,null,null,null,null,null,null,null,null,null,null,null,null,null,null,null,null,null,null,null,null,null,null,null,null,null,null,null,null,null,null,null,null,null,null,null,null,null,null,null,null,null,null,null,null,null,null,null,null,null,0,"",0,0,0,0,0,0,0,null,0,"",0,0,0,0,0,0,0,null,0,"",0,0,0,0,0,0,0]
[null,null,null,null,null,null,null,null,null,null,null,null,null,null,null,null,null,null,null,null,null,null,null,null,null,null,null,null,null,null,null,null,null,null,null,null,null,null,null,null,null,null,null,null,null,null,null,null,null,null,null,null,0,"",0,0,0,0,0,0,0,null,0,"",0,0,0,0,0,0,0,null,0,"",0,0,0,0,0,0,0]
[null,null,null,null,null,null,null,null,null,null,null,null,null,null,null,null,null,null,null,null,null,null,null,null,null,null,null,null,null,null,null,null,null,null,null,null,null,null,null,null,null,null,null,null,null,null,null,null,null,null,null,null,0,"",0,0,0,0,0,0,0,null,0,"",0,0,0,0,0,0,0,null,0,"",0,0,0,0,0,0,0]
[null,null,null,null,null,null,null,null,null,null,null,null,null,null,null,null,null,null,null,null,null,null,null,null,null,null,null,null,null,null,null,null,null,null,null,null,null,null,null,null,null,null,null,null,null,null,null,null,null,null,null,null,0,"",0,0,0,0,0,0,0,null,0,"",0,0,0,0,0,0,0,null,0,"",0,0,0,0,0,0,0]
[null,null,null,null,null,null,null,null,null,null,null,null,null,null,null,null,null,null,null,null,null,null,null,null,null,null,null,null,null,null,null,null,null,null,null,null,null,null,null,null,null,null,null,null,null,null,null,null,null,null,null,null,0,"",0,0,0,0,0,0,0,null,0,"",0,0,0,0,0,0,0,null,0,"",0,0,0,0,0,0,0]
[null,null,null,null,null,null,null,null,null,null,null,null,null,null,null,null,null,null,null,null,null,null,null,null,null,null,null,null,null,null,null,null,null,null,null,null,null,null,null,null,null,null,null,null,null,null,null,null,null,null,null,null,0,"",0,0,0,0,0,0,0,null,0,"",0,0,0,0,0,0,0,null,0,"",0,0,0,0,0,0,0]
[null,null,null,null,null,null,null,null,null,null,null,null,null,null,null,null,null,null,null,null,null,null,null,null,null,null,null,null,null,null,null,null,null,null,null,null,null,null,null,null,null,null,null,null,null,null,null,null,null,null,null,null,0,"",0,0,0,0,0,0,0,null,{"$f":"K78","v":0},"",{"$f":"M78","v":0},{"$f":"N78","v":0},{"$f":"O78","v":0},{"$f":"P78","v":0},{"$f":"Q78","v":0},{"$f":"R78","v":0},{"$f":"S78","v":0},null,{"$f":"U78","v":0},"",{"$f":"W78","v":0},{"$f":"X78","v":0},{"$f":"Y78","v":0},{"$f":"Z78","v":0},{"$f":"AA78","v":0},{"$f":"AB78","v":0},{"$f":"AC78","v":0}]
[null,null,null,null,null,null,null,null,null,null,null,null,null,null,null,null,null,null,null,null,null,null,null,null,null,null,null,null,null,null,null,null,null,null,null,null,null,null,null,null,null,null,null,null,null,null,null,null,null,null,null,null,0,"",0,0,0,0,0,0,0,null,0,"",0,0,0,0,0,0,0,null,0,"",0,0,0,0,0,0,0]
[null,null,null,null,null,null,null,null,null,null,null,null,null,null,null,null,null,null,null,null,null,null,null,null,null,null,null,null,null,null,null,null,null,null,null,null,null,null,null,null,null,null,null,null,null,null,null,null,null,null,null,null,0,"",0,0,0,0,0,0,0,null,0,"",0,0,0,0,0,0,0,null,0,"",0,0,0,0,0,0,0]
[null,null,null,null,null,null,null,null,null,null,null,null,null,null,null,null,null,null,null,null,null,null,null,null,null,null,null,null,null,null,null,null,null,null,null,null,null,null,null,null,null,null,null,null,null,null,null,null,null,null,null,null,0,"",0,0,0,0,0,0,0,null,0,"",0,0,0,0,0,0,0,null,0,"",0,0,0,0,0,0,0]
[null,null,null,null,null,null,null,null,null,null,null,null,null,null,null,null,null,null,null,null,null,null,null,null,null,null,null,null,null,null,null,null,null,null,null,null,null,null,null,null,null,null,null,null,null,null,null,null,null,null,null,null,0,"",0,0,0,0,0,0,0,null,0,"",0,0,0,0,0,0,0,null,0,"",0,0,0,0,0,0,0]
[null,null,null,null,null,null,null,null,null,null,null,null,null,null,null,null,null,null,null,null,null,null,null,null,null,null,null,null,null,null,null,null,null,null,null,null,null,null,null,null,null,null,null,null,null,null,null,null,null,null,null,null,0,"",0,0,0,0,0,0,0,null,0,"",0,0,0,0,0,0,0,null,0,"",0,0,0,0,0,0,0]
[null,null,null,null,null,null,null,null,null,null,null,null,null,null,null,null,null,null,null,null,null,null,null,null,null,null,null,null,null,null,null,null,null,null,null,null,null,null,null,null,null,null,null,null,null,null,null,null,null,null,null,null,0,"",0,0,0,0,0,0,0,null,0,"",0,0,0,0,0,0,0,null,0,"",0,0,0,0,0,0,0]
[null,null,null,null,null,null,null,null,null,null,null,null,null,null,null,null,null,null,null,null,null,null,null,null,null,null,null,null,null,null,null,null,null,null,null,null,null,null,null,null,null,null,null,null,null,null,null,null,null,null,null,null,0,"",0,0,0,0,0,0,0,null,0,"",0,0,0,0,0,0,0,null,0,"",0,0,0,0,0,0,0]
[null,null,null,null,null,null,null,null,null,null,null,null,null,null,null,null,null,null,null,null,null,null,null,null,null,null,null,null,null,null,null,null,null,null,null,null,null,null,null,null,null,null,null,null,null,null,null,null,null,null,null,null,0,"",0,0,0,0,0,0,0,null,0,"",0,0,0,0,0,0,0,null,0,"",0,0,0,0,0,0,0]
[null,null,null,null,null,null,null,null,null,null,null,null,null,null,null,null,null,null,null,null,null,null,null,null,null,null,null,null,null,null,null,null,null,null,null,null,null,null,null,null,null,null,null,null,null,null,null,null,null,null,null,null,0,"",0,0,0,0,0,0,0,null,0,"",0,0,0,0,0,0,0,null,0,"",0,0,0,0,0,0,0]
[null,null,null,null,null,null,null,null,null,null,null,null,null,null,null,null,null,null,null,null,null,null,null,null,null,null,null,null,null,null,null,null,null,null,null,null,null,null,null,null,null,null,null,null,null,null,null,null,null,null,null,null,{"$f":"A88","v":0},{"$f":"B88&C88","v":""},{"$f":"C88","v":0},{"$f":"D88","v":0},{"$f":"E88","v":0},{"$f":"F88","v":0},{"$f":"G88","v":0},{"$f":"H88","v":0},{"$f":"I88","v":0},null,0,"",0,0,0,0,0,0,0,null,0,"",0,0,0,0,0,0,0]
[null,null,null,null,null,null,null,null,null,null,null,null,null,null,null,null,null,null,null,null,null,null,null,null,null,null,null,null,null,null,null,null,null,null,null,null,null,null,null,null,null,null,null,null,null,null,null,null,null,null,null,null,0,"",0,0,0,0,0,0,0,null,0,"",0,0,0,0,0,0,0,null,0,"",0,0,0,0,0,0,0]
[null,null,null,null,null,null,null,null,null,null,null,null,null,null,null,null,null,null,null,null,null,null,null,null,null,null,null,null,null,null,null,null,null,null,null,null,null,null,null,null,null,null,null,null,null,null,null,null,null,null,null,null,0,"",0,0,0,0,0,0,0,null,0,"",0,0,0,0,0,0,0,null,0,"",0,0,0,0,0,0,0]
[null,null,null,null,null,null,null,null,null,null,null,null,null,null,null,null,null,null,null,null,null,null,null,null,null,null,null,null,null,null,null,null,null,null,null,null,null,null,null,null,null,null,null,null,null,null,null,null,null,null,null,null,0,"",0,0,0,0,0,0,0,null,0,"",0,0,0,0,0,0,0,null,0,"",0,0,0,0,0,0,0]
[null,null,null,null,null,null,null,null,null,null,null,null,null,null,null,null,null,null,null,null,null,null,null,null,null,null,null,null,null,null,null,null,null,null,null,null,null,null,null,null,null,null,null,null,null,null,null,null,null,null,null,null,0,"",0,0,0,0,0,0,0,null,0,"",0,0,0,0,0,0,0,null,0,"",0,0,0,0,0,0,0]
[null,null,null,null,null,null,null,null,null,null,null,null,null,null,null,null,null,null,null,null,null,null,null,null,null,null,null,null,null,null,null,null,null,null,null,null,null,null,null,null,null,null,null,null,null,null,null,null,null,null,null,null,0,"",0,0,0,0,0,0,0,null,0,"",0,0,0,0,0,0,0,null,0,"",0,0,0,0,0,0,0]
[null,null,null,null,null,null,null,null,null,null,null,null,null,null,null,null,null,null,null,null,null,null,null,null,null,null,null,null,null,null,null,null,null,null,null,null,null,null,null,null,null,null,null,null,null,null,null,null,null,null,null,null,0,"",0,0,0,0,0,0,0,null,0,"",0,0,0,0,0,0,0,null,0,"",0,0,0,0,0,0,0]
[null,null,null,null,null,null,null,null,null,null,null,null,null,null,null,null,null,null,null,null,null,null,null,null,null,null,null,null,null,null,null,null,null,null,null,null,null,null,null,null,null,null,null,null,null,null,null,null,null,null,null,null,0,"",0,0,0,0,0,0,0,null,0,"",0,0,0,0,0,0,0,null,0,"",0,0,0,0,0,0,0]
[null,null,null,null,null,null,null,null,null,null,null,null,null,null,null,null,null,null,null,null,null,null,null,null,null,null,null,null,null,null,null,null,null,null,null,null,null,null,null,null,null,null,null,null,null,null,null,null,null,null,null,null,0,"",0,0,0,0,0,0,0,null,0,"",0,0,0,0,0,0,0,null,0,"",0,0,0,0,0,0,0]
[null,null,null,null,null,null,null,null,null,null,null,null,null,null,null,null,null,null,null,null,null,null,null,null,null,null,null,null,null,null,null,null,null,null,null,null,null,null,null,null,null,null,null,null,null,null,null,null,null,null,null,null,0,"",0,0,0,0,0,0,0,null,0,"",0,0,0,0,0,0,0,null,0,"",0,0,0,0,0,0,0]
[null,null,null,null,null,null,null,null,null,null,null,null,null,null,null,null,null,null,null,null,null,null,null,null,null,null,null,null,null,null,null,null,null,null,null,null,null,null,null,null,null,null,null,null,null,null,null,null,null,null,null,null,0,"",0,0,0,0,0,0,0,null,0,"",0,0,0,0,0,0,0,null,0,"",0,0,0,0,0,0,0]
[null,null,null,null,null,null,null,null,null,null,null,null,null,null,null,null,null,null,null,null,null,null,null,null,null,null,null,null,null,null,null,null,null,null,null,null,null,null,null,null,null,null,null,null,null,null,null,null,null,null,null,null,0,"",0,0,0,0,0,0,0,null,0,"",0,0,0,0,0,0,0,null,0,"",0,0,0,0,0,0,0]
[null,null,null,null,null,null,null,null,null,null,null,null,null,null,null,null,null,null,null,null,null,null,null,null,null,null,null,null,null,null,null,null,null,null,null,null,null,null,null,null,null,null,null,null,null,null,null,null,null,null,null,null,0,"",0,0,0,0,0,0,0,null,0,"",0,0,0,0,0,0,0,null,0,"",0,0,0,0,0,0,0]
[null,null,null,null,null,null,null,null,null,null,null,null,null,null,null,null,null,null,null,null,null,null,null,null,null,null,null,null,null,null,null,null,null,null,null,null,null,null,null,null,null,null,null,null,null,null,null,null,null,null,null,null,0,"",0,0,0,0,0,0,0,null,0,"",0,0,0,0,0,0,0,null,0,"",0,0,0,0,0,0,0]
[null,null,null,null,null,null,null,null,null,null,null,null,null,null,null,null,null,null,null,null,null,null,null,null,null,null,null,null,null,null,null,null,null,null,null,null,null,null,null,null,null,null,null,null,null,null,null,null,null,null,null,null,0,"",0,0,0,0,0,0,0,null,0,"",0,0,0,0,0,0,0,null,0,"",0,0,0,0,0,0,0]
[null,null,null,null,null,null,null,null,null,null,null,null,null,null,null,null,null,null,null,null,null,null,null,null,null,null,null,null,null,null,null,null,null,null,null,null,null,null,null,null,null,null,null,null,null,null,null,null,null,null,null,null,0,"",0,0,0,0,0,0,0,null,0,"",0,0,0,0,0,0,0,null,0,"",0,0,0,0,0,0,0]
[null,null,null,null,null,null,null,null,null,null,null,null,null,null,null,null,null,null,null,null,null,null,null,null,null,null,null,null,null,null,null,null,null,null,null,null,null,null,null,null,null,null,null,null,null,null,null,null,null,null,null,null,0,"",0,0,0,0,0,0,0,null,0,"",0,0,0,0,0,0,0,null,0,"",0,0,0,0,0,0,0]
[null,null,null,null,null,null,null,null,null,null,null,null,null,null,null,null,null,null,null,null,null,null,null,null,null,null,null,null,null,null,null,null,null,null,null,null,null,null,null,null,null,null,null,null,null,null,null,null,null,null,null,null,0,"",0,0,0,0,0,0,0,null,0,"",0,0,0,0,0,0,0,null,0,"",0,0,0,0,0,0,0]
[null,null,null,null,null,null,null,null,null,null,null,null,null,null,null,null,null,null,null,null,null,null,null,null,null,null,null,null,null,null,null,null,null,null,null,null,null,null,null,null,null,null,null,null,null,null,null,null,null,null,null,null,0,"",0,0,0,0,0,0,0,null,0,"",0,0,0,0,0,0,0,null,0,"",0,0,0,0,0,0,0]
[null,null,null,null,null,null,null,null,null,null,null,null,null,null,null,null,null,null,null,null,null,null,null,null,null,null,null,null,null,null,null,null,null,null,null,null,null,null,null,null,null,null,null,null,null,null,null,null,null,null,null,null,0,"",0,0,0,0,0,0,0,null,0,"",0,0,0,0,0,0,0,null,0,"",0,0,0,0,0,0,0]
[null,null,null,null,null,null,null,null,null,null,null,null,null,null,null,null,null,null,null,null,null,null,null,null,null,null,null,null,null,null,null,null,null,null,null,null,null,null,null,null,null,null,null,null,null,null,null,null,null,null,null,null,0,"",0,0,0,0,0,0,0,null,0,"",0,0,0,0,0,0,0,null,0,"",0,0,0,0,0,0,0]
[null,null,null,null,null,null,null,null,null,null,null,null,null,null,null,null,null,null,null,null,null,null,null,null,null,null,null,null,null,null,null,null,null,null,null,null,null,null,null,null,null,null,null,null,null,null,null,null,null,null,null,null,0,"",0,0,0,0,0,0,0,null,0,"",0,0,0,0,0,0,0,null,0,"",0,0,0,0,0,0,0]
[null,null,null,null,null,null,null,null,null,null,null,null,null,null,null,null,null,null,null,null,null,null,null,null,null,null,null,null,null,null,null,null,null,null,null,null,null,null,null,null,null,null,null,null,null,null,null,null,null,null,null,null,0,"",0,0,0,0,0,0,0,null,0,"",0,0,0,0,0,0,0,null,0,"",0,0,0,0,0,0,0]
[null,null,null,null,null,null,null,null,null,null,null,null,null,null,null,null,null,null,null,null,null,null,null,null,null,null,null,null,null,null,null,null,null,null,null,null,null,null,null,null,null,null,null,null,null,null,null,null,null,null,null,null,0,"",0,0,0,0,0,0,0,null,0,"",0,0,0,0,0,0,0,null,0,"",0,0,0,0,0,0,0]
[null,null,null,null,null,null,null,null,null,null,null,null,null,null,null,null,null,null,null,null,null,null,null,null,null,null,null,null,null,null,null,null,null,null,null,null,null,null,null,null,null,null,null,null,null,null,null,null,null,null,null,null,0,"",0,0,0,0,0,0,0,null,0,"",0,0,0,0,0,0,0,null,0,"",0,0,0,0,0,0,0]
[null,null,null,null,null,null,null,null,null,null,null,null,null,null,null,null,null,null,null,null,null,null,null,null,null,null,null,null,null,null,null,null,null,null,null,null,null,null,null,null,null,null,null,null,null,null,null,null,null,null,null,null,0,"",0,0,0,0,0,0,0,null,0,"",0,0,0,0,0,0,0,null,0,"",0,0,0,0,0,0,0]
[null,null,null,null,null,null,null,null,null,null,null,null,null,null,null,null,null,null,null,null,null,null,null,null,null,null,null,null,null,null,null,null,null,null,null,null,null,null,null,null,null,null,null,null,null,null,null,null,null,null,null,null,0,"",0,0,0,0,0,0,0,null,0,"",0,0,0,0,0,0,0,null,0,"",0,0,0,0,0,0,0]
[null,null,null,null,null,null,null,null,null,null,null,null,null,null,null,null,null,null,null,null,null,null,null,null,null,null,null,null,null,null,null,null,null,null,null,null,null,null,null,null,null,null,null,null,null,null,null,null,null,null,null,null,0,"",0,0,0,0,0,0,0,null,0,"",0,0,0,0,0,0,0,null,0,"",0,0,0,0,0,0,0]
[null,null,null,null,null,null,null,null,null,null,null,null,null,null,null,null,null,null,null,null,null,null,null,null,null,null,null,null,null,null,null,null,null,null,null,null,null,null,null,null,null,null,null,null,null,null,null,null,null,null,null,null,0,"",0,0,0,0,0,0,0,null,0,"",0,0,0,0,0,0,0,null,0,"",0,0,0,0,0,0,0]
[null,null,null,null,null,null,null,null,null,null,null,null,null,null,null,null,null,null,null,null,null,null,null,null,null,null,null,null,null,null,null,null,null,null,null,null,null,null,null,null,null,null,null,null,null,null,null,null,null,null,null,null,0,"",0,0,0,0,0,0,0,null,0,"",0,0,0,0,0,0,0,null,0,"",0,0,0,0,0,0,0]
[null,null,null,null,null,null,null,null,null,null,null,null,null,null,null,null,null,null,null,null,null,null,null,null,null,null,null,null,null,null,null,null,null,null,null,null,null,null,null,null,null,null,null,null,null,null,null,null,null,null,null,null,0,"",0,0,0,0,0,0,0,null,0,"",0,0,0,0,0,0,0,null,0,"",0,0,0,0,0,0,0]
[null,null,null,null,null,null,null,null,null,null,null,null,null,null,null,null,null,null,null,null,null,null,null,null,null,null,null,null,null,null,null,null,null,null,null,null,null,null,null,null,null,null,null,null,null,null,null,null,null,null,null,null,0,"",0,0,0,0,0,0,0,null,0,"",0,0,0,0,0,0,0,null,0,"",0,0,0,0,0,0,0]
[null,null,null,null,null,null,null,null,null,null,null,null,null,null,null,null,null,null,null,null,null,null,null,null,null,null,null,null,null,null,null,null,null,null,null,null,null,null,null,null,null,null,null,null,null,null,null,null,null,null,null,null,0,"",0,0,0,0,0,0,0,null,0,"",0,0,0,0,0,0,0,null,0,"",0,0,0,0,0,0,0]
[null,null,null,null,null,null,null,null,null,null,null,null,null,null,null,null,null,null,null,null,null,null,null,null,null,null,null,null,null,null,null,null,null,null,null,null,null,null,null,null,null,null,null,null,null,null,null,null,null,null,null,null,0,"",0,0,0,0,0,0,0,null,0,"",0,0,0,0,0,0,0,null,0,"",0,0,0,0,0,0,0]
[null,null,null,null,null,null,null,null,null,null,null,null,null,null,null,null,null,null,null,null,null,null,null,null,null,null,null,null,null,null,null,null,null,null,null,null,null,null,null,null,null,null,null,null,null,null,null,null,null,null,null,null,0,"",0,0,0,0,0,0,0,null,0,"",0,0,0,0,0,0,0,null,0,"",0,0,0,0,0,0,0]
[null,null,null,null,null,null,null,null,null,null,null,null,null,null,null,null,null,null,null,null,null,null,null,null,null,null,null,null,null,null,null,null,null,null,null,null,null,null,null,null,null,null,null,null,null,null,null,null,null,null,null,null,0,"",0,0,0,0,0,0,0,null,0,"",0,0,0,0,0,0,0,null,0,"",0,0,0,0,0,0,0]
[null,null,null,null,null,null,null,null,null,null,null,null,null,null,null,null,null,null,null,null,null,null,null,null,null,null,null,null,null,null,null,null,null,null,null,null,null,null,null,null,null,null,null,null,null,null,null,null,null,null,null,null,0,"",0,0,0,0,0,0,0,null,0,"",0,0,0,0,0,0,0,null,0,"",0,0,0,0,0,0,0]
[null,null,null,null,null,null,null,null,null,null,null,null,null,null,null,null,null,null,null,null,null,null,null,null,null,null,null,null,null,null,null,null,null,null,null,null,null,null,null,null,null,null,null,null,null,null,null,null,null,null,null,null,0,"",0,0,0,0,0,0,0,null,0,"",0,0,0,0,0,0,0,null,0,"",0,0,0,0,0,0,0]
[null,null,null,null,null,null,null,null,null,null,null,null,null,null,null,null,null,null,null,null,null,null,null,null,null,null,null,null,null,null,null,null,null,null,null,null,null,null,null,null,null,null,null,null,null,null,null,null,null,null,null,null,0,"",0,0,0,0,0,0,0,null,0,"",0,0,0,0,0,0,0,null,0,"",0,0,0,0,0,0,0]
[null,null,null,null,null,null,null,null,null,null,null,null,null,null,null,null,null,null,null,null,null,null,null,null,null,null,null,null,null,null,null,null,null,null,null,null,null,null,null,null,null,null,null,null,null,null,null,null,null,null,null,null,0,"",0,0,0,0,0,0,0,null,0,"",0,0,0,0,0,0,0,null,0,"",0,0,0,0,0,0,0]
[null,null,null,null,null,null,null,null,null,null,null,null,null,null,null,null,null,null,null,null,null,null,null,null,null,null,null,null,null,null,null,null,null,null,null,null,null,null,null,null,null,null,null,null,null,null,null,null,null,null,null,null,0,"",0,0,0,0,0,0,0,null,0,"",0,0,0,0,0,0,0,null,0,"",0,0,0,0,0,0,0]
[null,null,null,null,null,null,null,null,null,null,null,null,null,null,null,null,null,null,null,null,null,null,null,null,null,null,null,null,null,null,null,null,null,null,null,null,null,null,null,null,null,null,null,null,null,null,null,null,null,null,null,null,0,"",0,0,0,0,0,0,0,null,0,"",0,0,0,0,0,0,0,null,0,"",0,0,0,0,0,0,0]
[null,null,null,null,null,null,null,null,null,null,null,null,null,null,null,null,null,null,null,null,null,null,null,null,null,null,null,null,null,null,null,null,null,null,null,null,null,null,null,null,null,null,null,null,null,null,null,null,null,null,null,null,0,"",0,0,0,0,0,0,0,null,0,"",0,0,0,0,0,0,0,null,0,"",0,0,0,0,0,0,0]
[null,null,null,null,null,null,null,null,null,null,null,null,null,null,null,null,null,null,null,null,null,null,null,null,null,null,null,null,null,null,null,null,null,null,null,null,null,null,null,null,null,null,null,null,null,null,null,null,null,null,null,null,0,"",0,0,0,0,0,0,0,null,0,{"$f":"L131&M131","v":""},0,0,0,0,0,0,0,null,0,{"$f":"V131&W131","v":""},0,0,0,0,0,0,0]
[null,null,null,null,null,null,null,null,null,null,null,null,null,null,null,null,null,null,null,null,null,null,null,null,null,null,null,null,null,null,null,null,null,null,null,null,null,null,null,null,null,null,null,null,null,null,null,null,null,null,null,null,0,"",0,0,0,0,0,0,0,null,0,"",0,0,0,0,0,0,0,null,0,"",0,0,0,0,0,0,0]
[null,null,null,null,null,null,null,null,null,null,null,null,null,null,null,null,null,null,null,null,null,null,null,null,null,null,null,null,null,null,null,null,null,null,null,null,null,null,null,null,null,null,null,null,null,null,null,null,null,null,null,null,0,"",0,0,0,0,0,0,0,null,0,"",0,0,0,0,0,0,0,null,0,"",0,0,0,0,0,0,0]
[null,null,null,null,null,null,null,null,null,null,null,null,null,null,null,null,null,null,null,null,null,null,null,null,null,null,null,null,null,null,null,null,null,null,null,null,null,null,null,null,null,null,null,null,null,null,null,null,null,null,null,null,0,"",0,0,0,0,0,0,0,null,0,"",0,0,0,0,0,0,0,null,0,"",0,0,0,0,0,0,0]
[null,null,null,null,null,null,null,null,null,null,null,null,null,null,null,null,null,null,null,null,null,null,null,null,null,null,null,null,null,null,null,null,null,null,null,null,null,null,null,null,null,null,null,null,null,null,null,null,null,null,null,null,0,"",0,0,0,0,0,0,0,null,0,"",0,0,0,0,0,0,0,null,0,"",0,0,0,0,0,0,0]
[null,null,null,null,null,null,null,null,null,null,null,null,null,null,null,null,null,null,null,null,null,null,null,null,null,null,null,null,null,null,null,null,null,null,null,null,null,null,null,null,null,null,null,null,null,null,null,null,null,null,null,null,0,"",0,0,0,0,0,0,0,null,0,"",0,0,0,0,0,0,0,null,0,"",0,0,0,0,0,0,0]
[null,null,null,null,null,null,null,null,null,null,null,null,null,null,null,null,null,null,null,null,null,null,null,null,null,null,null,null,null,null,null,null,null,null,null,null,null,null,null,null,null,null,null,null,null,null,null,null,null,null,null,null,0,"",0,0,0,0,0,0,0,null,0,"",0,0,0,0,0,0,0,null,0,"",0,0,0,0,0,0,0]
[null,null,null,null,null,null,null,null,null,null,null,null,null,null,null,null,null,null,null,null,null,null,null,null,null,null,null,null,null,null,null,null,null,null,null,null,null,null,null,null,null,null,null,null,null,null,null,null,null,null,null,null,0,"",0,0,0,0,0,0,0,null,0,"",0,0,0,0,0,0,0,null,0,"",0,0,0,0,0,0,0]
[null,null,null,null,null,null,null,null,null,null,null,null,null,null,null,null,null,null,null,null,null,null,null,null,null,null,null,null,null,null,null,null,null,null,null,null,null,null,null,null,null,null,null,null,null,null,null,null,null,null,null,null,0,"",0,0,0,0,0,0,0,null,0,"",0,0,0,0,0,0,0,null,0,"",0,0,0,0,0,0,0]
[null,null,null,null,null,null,null,null,null,null,null,null,null,null,null,null,null,null,null,null,null,null,null,null,null,null,null,null,null,null,null,null,null,null,null,null,null,null,null,null,null,null,null,null,null,null,null,null,null,null,null,null,0,"",0,0,0,0,0,0,0,null,0,"",0,0,0,0,0,0,0,null,0,"",0,0,0,0,0,0,0]
[null,null,null,null,null,null,null,null,null,null,null,null,null,null,null,null,null,null,null,null,null,null,null,null,null,null,null,null,null,null,null,null,null,null,null,null,null,null,null,null,null,null,null,null,null,null,null,null,null,null,null,null,0,"",0,0,0,0,0,0,0,null,0,"",0,0,0,0,0,0,0,null,0,"",0,0,0,0,0,0,0]
[null,null,null,null,null,null,null,null,null,null,null,null,null,null,null,null,null,null,null,null,null,null,null,null,null,null,null,null,null,null,null,null,null,null,null,null,null,null,null,null,null,null,null,null,null,null,null,null,null,null,null,null,0,"",0,0,0,0,0,0,0,null,{"$f":"K142","v":0},"",{"$f":"M142","v":0},{"$f":"N142","v":0},{"$f":"O142","v":0},{"$f":"P142","v":0},{"$f":"Q142","v":0},{"$f":"R142","v":0},{"$f":"S142","v":0},null,{"$f":"U142","v":0},"",{"$f":"W142","v":0},{"$f":"X142","v":0},{"$f":"Y142","v":0},{"$f":"Z142","v":0},{"$f":"AA142","v":0},{"$f":"AB142","v":0},{"$f":"AC142","v":0}]
[null,null,null,null,null,null,null,null,null,null,null,null,null,null,null,null,null,null,null,null,null,null,null,null,null,null,null,null,null,null,null,null,null,null,null,null,null,null,null,null,null,null,null,null,null,null,null,null,null,null,null,null,0,"",0,0,0,0,0,0,0,null,0,"",0,0,0,0,0,0,0,null,0,"",0,0,0,0,0,0,0]
[null,null,null,null,null,null,null,null,null,null,null,null,null,null,null,null,null,null,null,null,null,null,null,null,null,null,null,null,null,null,null,null,null,null,null,null,null,null,null,null,null,null,null,null,null,null,null,null,null,null,null,null,0,"",0,0,0,0,0,0,0,null,0,"",0,0,0,0,0,0,0,null,0,"",0,0,0,0,0,0,0]
[null,null,null,null,null,null,null,null,null,null,null,null,null,null,null,null,null,null,null,null,null,null,null,null,null,null,null,null,null,null,null,null,null,null,null,null,null,null,null,null,null,null,null,null,null,null,null,null,null,null,null,null,0,"",0,0,0,0,0,0,0,null,0,"",0,0,0,0,0,0,0,null,0,"",0,0,0,0,0,0,0]
[null,null,null,null,null,null,null,null,null,null,null,null,null,null,null,null,null,null,null,null,null,null,null,null,null,null,null,null,null,null,null,null,null,null,null,null,null,null,null,null,null,null,null,null,null,null,null,null,null,null,null,null,0,"",0,0,0,0,0,0,0,null,0,"",0,0,0,0,0,0,0,null,0,"",0,0,0,0,0,0,0]
[null,null,null,null,null,null,null,null,null,null,null,null,null,null,null,null,null,null,null,null,null,null,null,null,null,null,null,null,null,null,null,null,null,null,null,null,null,null,null,null,null,null,null,null,null,null,null,null,null,null,null,null,0,"",0,0,0,0,0,0,0,null,0,"",0,0,0,0,0,0,0,null,0,"",0,0,0,0,0,0,0]
[null,null,null,null,null,null,null,null,null,null,null,null,null,null,null,null,null,null,null,null,null,null,null,null,null,null,null,null,null,null,null,null,null,null,null,null,null,null,null,null,null,null,null,null,null,null,null,null,null,null,null,null,0,"",0,0,0,0,0,0,0,null,0,"",0,0,0,0,0,0,0,null,0,"",0,0,0,0,0,0,0]
[null,null,null,null,null,null,null,null,null,null,null,null,null,null,null,null,null,null,null,null,null,null,null,null,null,null,null,null,null,null,null,null,null,null,null,null,null,null,null,null,null,null,null,null,null,null,null,null,null,null,null,null,0,"",0,0,0,0,0,0,0,null,0,"",0,0,0,0,0,0,0,null,0,"",0,0,0,0,0,0,0]
[null,null,null,null,null,null,null,null,null,null,null,null,null,null,null,null,null,null,null,null,null,null,null,null,null,null,null,null,null,null,null,null,null,null,null,null,null,null,null,null,null,null,null,null,null,null,null,null,null,null,null,null,0,"",0,0,0,0,0,0,0,null,0,"",0,0,0,0,0,0,0,null,0,"",0,0,0,0,0,0,0]
[null,null,null,null,null,null,null,null,null,null,null,null,null,null,null,null,null,null,null,null,null,null,null,null,null,null,null,null,null,null,null,null,null,null,null,null,null,null,null,null,null,null,null,null,null,null,null,null,null,null,null,null,0,"",0,0,0,0,0,0,0,null,0,"",0,0,0,0,0,0,0,null,0,"",0,0,0,0,0,0,0]
[null,null,null,null,null,null,null,null,null,null,null,null,null,null,null,null,null,null,null,null,null,null,null,null,null,null,null,null,null,null,null,null,null,null,null,null,null,null,null,null,null,null,null,null,null,null,null,null,null,null,null,null,{"$f":"A152","v":0},{"$f":"B152&C152","v":""},{"$f":"C152","v":0},{"$f":"D152","v":0},{"$f":"E152","v":0},{"$f":"F152","v":0},{"$f":"G152","v":0},{"$f":"H152","v":0},{"$f":"I152","v":0},null,0,"",0,0,0,0,0,0,0,null,0,"",0,0,0,0,0,0,0]
[null,null,null,null,null,null,null,null,null,null,null,null,null,null,null,null,null,null,null,null,null,null,null,null,null,null,null,null,null,null,null,null,null,null,null,null,null,null,null,null,null,null,null,null,null,null,null,null,null,null,null,null,0,"",0,0,0,0,0,0,0,null,0,"",0,0,0,0,0,0,0,null,0,"",0,0,0,0,0,0,0]
[null,null,null,null,null,null,null,null,null,null,null,null,null,null,null,null,null,null,null,null,null,null,null,null,null,null,null,null,null,null,null,null,null,null,null,null,null,null,null,null,null,null,null,null,null,null,null,null,null,null,null,null,0,"",0,0,0,0,0,0,0,null,0,"",0,0,0,0,0,0,0,null,0,"",0,0,0,0,0,0,0]
[null,null,null,null,null,null,null,null,null,null,null,null,null,null,null,null,null,null,null,null,null,null,null,null,null,null,null,null,null,null,null,null,null,null,null,null,null,null,null,null,null,null,null,null,null,null,null,null,null,null,null,null,0,"",0,0,0,0,0,0,0,null,0,"",0,0,0,0,0,0,0,null,0,"",0,0,0,0,0,0,0]
[null,null,null,null,null,null,null,null,null,null,null,null,null,null,null,null,null,null,null,null,null,null,null,null,null,null,null,null,null,null,null,null,null,null,null,null,null,null,null,null,null,null,null,null,null,null,null,null,null,null,null,null,0,"",0,0,0,0,0,0,0,null,0,"",0,0,0,0,0,0,0,null,0,"",0,0,0,0,0,0,0]
[null,null,null,null,null,null,null,null,null,null,null,null,null,null,null,null,null,null,null,null,null,null,null,null,null,null,null,null,null,null,null,null,null,null,null,null,null,null,null,null,null,null,null,null,null,null,null,null,null,null,null,null,0,"",0,0,0,0,0,0,0,null,0,"",0,0,0,0,0,0,0,null,0,"",0,0,0,0,0,0,0]
[null,null,null,null,null,null,null,null,null,null,null,null,null,null,null,null,null,null,null,null,null,null,null,null,null,null,null,null,null,null,null,null,null,null,null,null,null,null,null,null,null,null,null,null,null,null,null,null,null,null,null,null,0,"",0,0,0,0,0,0,0,null,0,"",0,0,0,0,0,0,0,null,0,"",0,0,0,0,0,0,0]
[null,null,null,null,null,null,null,null,null,null,null,null,null,null,null,null,null,null,null,null,null,null,null,null,null,null,null,null,null,null,null,null,null,null,null,null,null,null,null,null,null,null,null,null,null,null,null,null,null,null,null,null,0,"",0,0,0,0,0,0,0,null,0,"",0,0,0,0,0,0,0,null,0,"",0,0,0,0,0,0,0]
[null,null,null,null,null,null,null,null,null,null,null,null,null,null,null,null,null,null,null,null,null,null,null,null,null,null,null,null,null,null,null,null,null,null,null,null,null,null,null,null,null,null,null,null,null,null,null,null,null,null,null,null,0,"",0,0,0,0,0,0,0,null,0,"",0,0,0,0,0,0,0,null,0,"",0,0,0,0,0,0,0]
[null,null,null,null,null,null,null,null,null,null,null,null,null,null,null,null,null,null,null,null,null,null,null,null,null,null,null,null,null,null,null,null,null,null,null,null,null,null,null,null,null,null,null,null,null,null,null,null,null,null,null,null,0,"",0,0,0,0,0,0,0,null,0,"",0,0,0,0,0,0,0,null,0,"",0,0,0,0,0,0,0]
[null,null,null,null,null,null,null,null,null,null,null,null,null,null,null,null,null,null,null,null,null,null,null,null,null,null,null,null,null,null,null,null,null,null,null,null,null,null,null,null,null,null,null,null,null,null,null,null,null,null,null,null,0,"",0,0,0,0,0,0,0,null,0,"",0,0,0,0,0,0,0,null,0,"",0,0,0,0,0,0,0]
[null,null,null,null,null,null,null,null,null,null,null,null,null,null,null,null,null,null,null,null,null,null,null,null,null,null,null,null,null,null,null,null,null,null,null,null,null,null,null,null,null,null,null,null,null,null,null,null,null,null,null,null,0,"",0,0,0,0,0,0,0,null,0,"",0,0,0,0,0,0,0,null,0,"",0,0,0,0,0,0,0]
[null,null,null,null,null,null,null,null,null,null,null,null,null,null,null,null,null,null,null,null,null,null,null,null,null,null,null,null,null,null,null,null,null,null,null,null,null,null,null,null,null,null,null,null,null,null,null,null,null,null,null,null,0,"",0,0,0,0,0,0,0,null,0,"",0,0,0,0,0,0,0,null,0,"",0,0,0,0,0,0,0]
[null,null,null,null,null,null,null,null,null,null,null,null,null,null,null,null,null,null,null,null,null,null,null,null,null,null,null,null,null,null,null,null,null,null,null,null,null,null,null,null,null,null,null,null,null,null,null,null,null,null,null,null,0,"",0,0,0,0,0,0,0,null,0,"",0,0,0,0,0,0,0,null,0,"",0,0,0,0,0,0,0]
[null,null,null,null,null,null,null,null,null,null,null,null,null,null,null,null,null,null,null,null,null,null,null,null,null,null,null,null,null,null,null,null,null,null,null,null,null,null,null,null,null,null,null,null,null,null,null,null,null,null,null,null,0,"",0,0,0,0,0,0,0,null,0,"",0,0,0,0,0,0,0,null,0,"",0,0,0,0,0,0,0]
[null,null,null,null,null,null,null,null,null,null,null,null,null,null,null,null,null,null,null,null,null,null,null,null,null,null,null,null,null,null,null,null,null,null,null,null,null,null,null,null,null,null,null,null,null,null,null,null,null,null,null,null,0,"",0,0,0,0,0,0,0,null,0,"",0,0,0,0,0,0,0,null,0,"",0,0,0,0,0,0,0]
[null,null,null,null,null,null,null,null,null,null,null,null,null,null,null,null,null,null,null,null,null,null,null,null,null,null,null,null,null,null,null,null,null,null,null,null,null,null,null,null,null,null,null,null,null,null,null,null,null,null,null,null,0,"",0,0,0,0,0,0,0,null,0,"",0,0,0,0,0,0,0,null,0,"",0,0,0,0,0,0,0]
[null,null,null,null,null,null,null,null,null,null,null,null,null,null,null,null,null,null,null,null,null,null,null,null,null,null,null,null,null,null,null,null,null,null,null,null,null,null,null,null,null,null,null,null,null,null,null,null,null,null,null,null,0,"",0,0,0,0,0,0,0,null,0,"",0,0,0,0,0,0,0,null,0,"",0,0,0,0,0,0,0]
[null,null,null,null,null,null,null,null,null,null,null,null,null,null,null,null,null,null,null,null,null,null,null,null,null,null,null,null,null,null,null,null,null,null,null,null,null,null,null,null,null,null,null,null,null,null,null,null,null,null,null,null,0,"",0,0,0,0,0,0,0,null,0,"",0,0,0,0,0,0,0,null,0,"",0,0,0,0,0,0,0]
[null,null,null,null,null,null,null,null,null,null,null,null,null,null,null,null,null,null,null,null,null,null,null,null,null,null,null,null,null,null,null,null,null,null,null,null,null,null,null,null,null,null,null,null,null,null,null,null,null,null,null,null,0,"",0,0,0,0,0,0,0,null,0,"",0,0,0,0,0,0,0,null,0,"",0,0,0,0,0,0,0]
[null,null,null,null,null,null,null,null,null,null,null,null,null,null,null,null,null,null,null,null,null,null,null,null,null,null,null,null,null,null,null,null,null,null,null,null,null,null,null,null,null,null,null,null,null,null,null,null,null,null,null,null,0,"",0,0,0,0,0,0,0,null,0,"",0,0,0,0,0,0,0,null,0,"",0,0,0,0,0,0,0]
[null,null,null,null,null,null,null,null,null,null,null,null,null,null,null,null,null,null,null,null,null,null,null,null,null,null,null,null,null,null,null,null,null,null,null,null,null,null,null,null,null,null,null,null,null,null,null,null,null,null,null,null,0,"",0,0,0,0,0,0,0,null,0,"",0,0,0,0,0,0,0,null,0,"",0,0,0,0,0,0,0]
[null,null,null,null,null,null,null,null,null,null,null,null,null,null,null,null,null,null,null,null,null,null,null,null,null,null,null,null,null,null,null,null,null,null,null,null,null,null,null,null,null,null,null,null,null,null,null,null,null,null,null,null,0,"",0,0,0,0,0,0,0,null,0,"",0,0,0,0,0,0,0,null,0,"",0,0,0,0,0,0,0]
[null,null,null,null,null,null,null,null,null,null,null,null,null,null,null,null,null,null,null,null,null,null,null,null,null,null,null,null,null,null,null,null,null,null,null,null,null,null,null,null,null,null,null,null,null,null,null,null,null,null,null,null,0,"",0,0,0,0,0,0,0,null,0,"",0,0,0,0,0,0,0,null,0,"",0,0,0,0,0,0,0]
[null,null,null,null,null,null,null,null,null,null,null,null,null,null,null,null,null,null,null,null,null,null,null,null,null,null,null,null,null,null,null,null,null,null,null,null,null,null,null,null,null,null,null,null,null,null,null,null,null,null,null,null,0,"",0,0,0,0,0,0,0,null,0,"",0,0,0,0,0,0,0,null,0,"",0,0,0,0,0,0,0]
[null,null,null,null,null,null,null,null,null,null,null,null,null,null,null,null,null,null,null,null,null,null,null,null,null,null,null,null,null,null,null,null,null,null,null,null,null,null,null,null,null,null,null,null,null,null,null,null,null,null,null,null,0,"",0,0,0,0,0,0,0,null,0,"",0,0,0,0,0,0,0,null,0,"",0,0,0,0,0,0,0]
[null,null,null,null,null,null,null,null,null,null,null,null,null,null,null,null,null,null,null,null,null,null,null,null,null,null,null,null,null,null,null,null,null,null,null,null,null,null,null,null,null,null,null,null,null,null,null,null,null,null,null,null,0,"",0,0,0,0,0,0,0,null,0,"",0,0,0,0,0,0,0,null,0,"",0,0,0,0,0,0,0]
[null,null,null,null,null,null,null,null,null,null,null,null,null,null,null,null,null,null,null,null,null,null,null,null,null,null,null,null,null,null,null,null,null,null,null,null,null,null,null,null,null,null,null,null,null,null,null,null,null,null,null,null,0,"",0,0,0,0,0,0,0,null,0,"",0,0,0,0,0,0,0,null,0,"",0,0,0,0,0,0,0]
[null,null,null,null,null,null,null,null,null,null,null,null,null,null,null,null,null,null,null,null,null,null,null,null,null,null,null,null,null,null,null,null,null,null,null,null,null,null,null,null,null,null,null,null,null,null,null,null,null,null,null,null,0,"",0,0,0,0,0,0,0,null,0,"",0,0,0,0,0,0,0,null,0,"",0,0,0,0,0,0,0]
[null,null,null,null,null,null,null,null,null,null,null,null,null,null,null,null,null,null,null,null,null,null,null,null,null,null,null,null,null,null,null,null,null,null,null,null,null,null,null,null,null,null,null,null,null,null,null,null,null,null,null,null,0,"",0,0,0,0,0,0,0,null,0,"",0,0,0,0,0,0,0,null,0,"",0,0,0,0,0,0,0]
[null,null,null,null,null,null,null,null,null,null,null,null,null,null,null,null,null,null,null,null,null,null,null,null,null,null,null,null,null,null,null,null,null,null,null,null,null,null,null,null,null,null,null,null,null,null,null,null,null,null,null,null,0,"",0,0,0,0,0,0,0,null,0,"",0,0,0,0,0,0,0,null,0,"",0,0,0,0,0,0,0]
[null,null,null,null,null,null,null,null,null,null,null,null,null,null,null,null,null,null,null,null,null,null,null,null,null,null,null,null,null,null,null,null,null,null,null,null,null,null,null,null,null,null,null,null,null,null,null,null,null,null,null,null,0,"",0,0,0,0,0,0,0,null,0,"",0,0,0,0,0,0,0,null,0,"",0,0,0,0,0,0,0]
[null,null,null,null,null,null,null,null,null,null,null,null,null,null,null,null,null,null,null,null,null,null,null,null,null,null,null,null,null,null,null,null,null,null,null,null,null,null,null,null,null,null,null,null,null,null,null,null,null,null,null,null,0,"",0,0,0,0,0,0,0,null,0,"",0,0,0,0,0,0,0,null,0,"",0,0,0,0,0,0,0]
[null,null,null,null,null,null,null,null,null,null,null,null,null,null,null,null,null,null,null,null,null,null,null,null,null,null,null,null,null,null,null,null,null,null,null,null,null,null,null,null,null,null,null,null,null,null,null,null,null,null,null,null,0,"",0,0,0,0,0,0,0,null,0,"",0,0,0,0,0,0,0,null,0,"",0,0,0,0,0,0,0]
[null,null,null,null,null,null,null,null,null,null,null,null,null,null,null,null,null,null,null,null,null,null,null,null,null,null,null,null,null,null,null,null,null,null,null,null,null,null,null,null,null,null,null,null,null,null,null,null,null,null,null,null,0,"",0,0,0,0,0,0,0,null,0,"",0,0,0,0,0,0,0,null,0,"",0,0,0,0,0,0,0]
[null,null,null,null,null,null,null,null,null,null,null,null,null,null,null,null,null,null,null,null,null,null,null,null,null,null,null,null,null,null,null,null,null,null,null,null,null,null,null,null,null,null,null,null,null,null,null,null,null,null,null,null,0,"",0,0,0,0,0,0,0,null,0,"",0,0,0,0,0,0,0,null,0,"",0,0,0,0,0,0,0]
[null,null,null,null,null,null,null,null,null,null,null,null,null,null,null,null,null,null,null,null,null,null,null,null,null,null,null,null,null,null,null,null,null,null,null,null,null,null,null,null,null,null,null,null,null,null,null,null,null,null,null,null,0,"",0,0,0,0,0,0,0,null,0,"",0,0,0,0,0,0,0,null,0,"",0,0,0,0,0,0,0]
[null,null,null,null,null,null,null,null,null,null,null,null,null,null,null,null,null,null,null,null,null,null,null,null,null,null,null,null,null,null,null,null,null,null,null,null,null,null,null,null,null,null,null,null,null,null,null,null,null,null,null,null,0,"",0,0,0,0,0,0,0,null,0,"",0,0,0,0,0,0,0,null,0,"",0,0,0,0,0,0,0]
[null,null,null,null,null,null,null,null,null,null,null,null,null,null,null,null,null,null,null,null,null,null,null,null,null,null,null,null,null,null,null,null,null,null,null,null,null,null,null,null,null,null,null,null,null,null,null,null,null,null,null,null,0,"",0,0,0,0,0,0,0,null,0,"",0,0,0,0,0,0,0,null,0,"",0,0,0,0,0,0,0]
[null,null,null,null,null,null,null,null,null,null,null,null,null,null,null,null,null,null,null,null,null,null,null,null,null,null,null,null,null,null,null,null,null,null,null,null,null,null,null,null,null,null,null,null,null,null,null,null,null,null,null,null,0,"",0,0,0,0,0,0,0,null,0,"",0,0,0,0,0,0,0,null,0,"",0,0,0,0,0,0,0]
[null,null,null,null,null,null,null,null,null,null,null,null,null,null,null,null,null,null,null,null,null,null,null,null,null,null,null,null,null,null,null,null,null,null,null,null,null,null,null,null,null,null,null,null,null,null,null,null,null,null,null,null,0,"",0,0,0,0,0,0,0,null,0,"",0,0,0,0,0,0,0,null,0,"",0,0,0,0,0,0,0]
[null,null,null,null,null,null,null,null,null,null,null,null,null,null,null,null,null,null,null,null,null,null,null,null,null,null,null,null,null,null,null,null,null,null,null,null,null,null,null,null,null,null,null,null,null,null,null,null,null,null,null,null,0,"",0,0,0,0,0,0,0,null,0,"",0,0,0,0,0,0,0,null,0,"",0,0,0,0,0,0,0]
[null,null,null,null,null,null,null,null,null,null,null,null,null,null,null,null,null,null,null,null,null,null,null,null,null,null,null,null,null,null,null,null,null,null,null,null,null,null,null,null,null,null,null,null,null,null,null,null,null,null,null,null,0,"",0,0,0,0,0,0,0,null,0,"",0,0,0,0,0,0,0,null,0,"",0,0,0,0,0,0,0]
[null,null,null,null,null,null,null,null,null,null,null,null,null,null,null,null,null,null,null,null,null,null,null,null,null,null,null,null,null,null,null,null,null,null,null,null,null,null,null,null,null,null,null,null,null,null,null,null,null,null,null,null,0,"",0,0,0,0,0,0,0,null,0,{"$f":"L195&M195","v":""},0,0,0,0,0,0,0,null,0,{"$f":"V195&W195","v":""},0,0,0,0,0,0,0]
[null,null,null,null,null,null,null,null,null,null,null,null,null,null,null,null,null,null,null,null,null,null,null,null,null,null,null,null,null,null,null,null,null,null,null,null,null,null,null,null,null,null,null,null,null,null,null,null,null,null,null,null,0,"",0,0,0,0,0,0,0,null,0,"",0,0,0,0,0,0,0,null,0,"",0,0,0,0,0,0,0]
[null,null,null,null,null,null,null,null,null,null,null,null,null,null,null,null,null,null,null,null,null,null,null,null,null,null,null,null,null,null,null,null,null,null,null,null,null,null,null,null,null,null,null,null,null,null,null,null,null,null,null,null,0,"",0,0,0,0,0,0,0,null,0,"",0,0,0,0,0,0,0,null,0,"",0,0,0,0,0,0,0]
[null,null,null,null,null,null,null,null,null,null,null,null,null,null,null,null,null,null,null,null,null,null,null,null,null,null,null,null,null,null,null,null,null,null,null,null,null,null,null,null,null,null,null,null,null,null,null,null,null,null,null,null,0,"",0,0,0,0,0,0,0,null,0,"",0,0,0,0,0,0,0,null,0,"",0,0,0,0,0,0,0]
[null,null,null,null,null,null,null,null,null,null,null,null,null,null,null,null,null,null,null,null,null,null,null,null,null,null,null,null,null,null,null,null,null,null,null,null,null,null,null,null,null,null,null,null,null,null,null,null,null,null,null,null,0,"",0,0,0,0,0,0,0,null,0,"",0,0,0,0,0,0,0,null,0,"",0,0,0,0,0,0,0]
[null,null,null,null,null,null,null,null,null,null,null,null,null,null,null,null,null,null,null,null,null,null,null,null,null,null,null,null,null,null,null,null,null,null,null,null,null,null,null,null,null,null,null,null,null,null,null,null,null,null,null,null,0,"",0,0,0,0,0,0,0,null,0,"",0,0,0,0,0,0,0,null,0,"",0,0,0,0,0,0,0]
[null,null,null,null,null,null,null,null,null,null,null,null,null,null,null,null,null,null,null,null,null,null,null,null,null,null,null,null,null,null,null,null,null,null,null,null,null,null,null,null,null,null,null,null,null,null,null,null,null,null,null,null,0,"",0,0,0,0,0,0,0,null,0,"",0,0,0,0,0,0,0,null,0,"",0,0,0,0,0,0,0]
[null,null,null,null,null,null,null,null,null,null,null,null,null,null,null,null,null,null,null,null,null,null,null,null,null,null,null,null,null,null,null,null,null,null,null,null,null,null,null,null,null,null,null,null,null,null,null,null,null,null,null,null,0,"",0,0,0,0,0,0,0,null,0,"",0,0,0,0,0,0,0,null,0,"",0,0,0,0,0,0,0]
[null,null,null,null,null,null,null,null,null,null,null,null,null,null,null,null,null,null,null,null,null,null,null,null,null,null,null,null,null,null,null,null,null,null,null,null,null,null,null,null,null,null,null,null,null,null,null,null,null,null,null,null,0,"",0,0,0,0,0,0,0,null,0,"",0,0,0,0,0,0,0,null,0,"",0,0,0,0,0,0,0]
[null,null,null,null,null,null,null,null,null,null,null,null,null,null,null,null,null,null,null,null,null,null,null,null,null,null,null,null,null,null,null,null,null,null,null,null,null,null,null,null,null,null,null,null,null,null,null,null,null,null,null,null,0,"",0,0,0,0,0,0,0,null,0,"",0,0,0,0,0,0,0,null,0,"",0,0,0,0,0,0,0]
[null,null,null,null,null,null,null,null,null,null,null,null,null,null,null,null,null,null,null,null,null,null,null,null,null,null,null,null,null,null,null,null,null,null,null,null,null,null,null,null,null,null,null,null,null,null,null,null,null,null,null,null,0,"",0,0,0,0,0,0,0,null,0,"",0,0,0,0,0,0,0,null,0,"",0,0,0,0,0,0,0]
[null,null,null,null,null,null,null,null,null,null,null,null,null,null,null,null,null,null,null,null,null,null,null,null,null,null,null,null,null,null,null,null,null,null,null,null,null,null,null,null,null,null,null,null,null,null,null,null,null,null,null,null,0,"",0,0,0,0,0,0,0,null,{"$f":"K206","v":0},"",{"$f":"M206","v":0},{"$f":"N206","v":0},{"$f":"O206","v":0},{"$f":"P206","v":0},{"$f":"Q206","v":0},{"$f":"R206","v":0},{"$f":"S206","v":0},null,{"$f":"U206","v":0},"",{"$f":"W206","v":0},{"$f":"X206","v":0},{"$f":"Y206","v":0},{"$f":"Z206","v":0},{"$f":"AA206","v":0},{"$f":"AB206","v":0},{"$f":"AC206","v":0}]
[null,null,null,null,null,null,null,null,null,null,null,null,null,null,null,null,null,null,null,null,null,null,null,null,null,null,null,null,null,null,null,null,null,null,null,null,null,null,null,null,null,null,null,null,null,null,null,null,null,null,null,null,0,"",0,0,0,0,0,0,0,null,0,"",0,0,0,0,0,0,0,null,0,"",0,0,0,0,0,0,0]
[null,null,null,null,null,null,null,null,null,null,null,null,null,null,null,null,null,null,null,null,null,null,null,null,null,null,null,null,null,null,null,null,null,null,null,null,null,null,null,null,null,null,null,null,null,null,null,null,null,null,null,null,0,"",0,0,0,0,0,0,0,null,0,"",0,0,0,0,0,0,0,null,0,"",0,0,0,0,0,0,0]
[null,null,null,null,null,null,null,null,null,null,null,null,null,null,null,null,null,null,null,null,null,null,null,null,null,null,null,null,null,null,null,null,null,null,null,null,null,null,null,null,null,null,null,null,null,null,null,null,null,null,null,null,0,"",0,0,0,0,0,0,0,null,0,"",0,0,0,0,0,0,0,null,0,"",0,0,0,0,0,0,0]
[null,null,null,null,null,null,null,null,null,null,null,null,null,null,null,null,null,null,null,null,null,null,null,null,null,null,null,null,null,null,null,null,null,null,null,null,null,null,null,null,null,null,null,null,null,null,null,null,null,null,null,null,0,"",0,0,0,0,0,0,0,null,0,"",0,0,0,0,0,0,0,null,0,"",0,0,0,0,0,0,0]
[null,null,null,null,null,null,null,null,null,null,null,null,null,null,null,null,null,null,null,null,null,null,null,null,null,null,null,null,null,null,null,null,null,null,null,null,null,null,null,null,null,null,null,null,null,null,null,null,null,null,null,null,0,"",0,0,0,0,0,0,0,null,0,"",0,0,0,0,0,0,0,null,0,"",0,0,0,0,0,0,0]
[null,null,null,null,null,null,null,null,null,null,null,null,null,null,null,null,null,null,null,null,null,null,null,null,null,null,null,null,null,null,null,null,null,null,null,null,null,null,null,null,null,null,null,null,null,null,null,null,null,null,null,null,0,"",0,0,0,0,0,0,0,null,0,"",0,0,0,0,0,0,0,null,0,"",0,0,0,0,0,0,0]
[null,null,null,null,null,null,null,null,null,null,null,null,null,null,null,null,null,null,null,null,null,null,null,null,null,null,null,null,null,null,null,null,null,null,null,null,null,null,null,null,null,null,null,null,null,null,null,null,null,null,null,null,0,"",0,0,0,0,0,0,0,null,0,"",0,0,0,0,0,0,0,null,0,"",0,0,0,0,0,0,0]
[null,null,null,null,null,null,null,null,null,null,null,null,null,null,null,null,null,null,null,null,null,null,null,null,null,null,null,null,null,null,null,null,null,null,null,null,null,null,null,null,null,null,null,null,null,null,null,null,null,null,null,null,0,"",0,0,0,0,0,0,0,null,0,"",0,0,0,0,0,0,0,null,0,"",0,0,0,0,0,0,0]
[null,null,null,null,null,null,null,null,null,null,null,null,null,null,null,null,null,null,null,null,null,null,null,null,null,null,null,null,null,null,null,null,null,null,null,null,null,null,null,null,null,null,null,null,null,null,null,null,null,null,null,null,0,"",0,0,0,0,0,0,0,null,0,"",0,0,0,0,0,0,0,null,0,"",0,0,0,0,0,0,0]
[null,null,null,null,null,null,null,null,null,null,null,null,null,null,null,null,null,null,null,null,null,null,null,null,null,null,null,null,null,null,null,null,null,null,null,null,null,null,null,null,null,null,null,null,null,null,null,null,null,null,null,null,{"$f":"A216","v":0},{"$f":"B216&C216","v":""},{"$f":"C216","v":0},{"$f":"D216","v":0},{"$f":"E216","v":0},{"$f":"F216","v":0},{"$f":"G216","v":0},{"$f":"H216","v":0},{"$f":"I216","v":0},null,0,"",0,0,0,0,0,0,0,null,0,"",0,0,0,0,0,0,0]
[null,null,null,null,null,null,null,null,null,null,null,null,null,null,null,null,null,null,null,null,null,null,null,null,null,null,null,null,null,null,null,null,null,null,null,null,null,null,null,null,null,null,null,null,null,null,null,null,null,null,null,null,0,"",0,0,0,0,0,0,0,null,0,"",0,0,0,0,0,0,0,null,0,"",0,0,0,0,0,0,0]
[null,null,null,null,null,null,null,null,null,null,null,null,null,null,null,null,null,null,null,null,null,null,null,null,null,null,null,null,null,null,null,null,null,null,null,null,null,null,null,null,null,null,null,null,null,null,null,null,null,null,null,null,0,"",0,0,0,0,0,0,0,null,0,"",0,0,0,0,0,0,0,null,0,"",0,0,0,0,0,0,0]
[null,null,null,null,null,null,null,null,null,null,null,null,null,null,null,null,null,null,null,null,null,null,null,null,null,null,null,null,null,null,null,null,null,null,null,null,null,null,null,null,null,null,null,null,null,null,null,null,null,null,null,null,0,"",0,0,0,0,0,0,0,null,0,"",0,0,0,0,0,0,0,null,0,"",0,0,0,0,0,0,0]
[null,null,null,null,null,null,null,null,null,null,null,null,null,null,null,null,null,null,null,null,null,null,null,null,null,null,null,null,null,null,null,null,null,null,null,null,null,null,null,null,null,null,null,null,null,null,null,null,null,null,null,null,0,"",0,0,0,0,0,0,0,null,0,"",0,0,0,0,0,0,0,null,0,"",0,0,0,0,0,0,0]
[null,null,null,null,null,null,null,null,null,null,null,null,null,null,null,null,null,null,null,null,null,null,null,null,null,null,null,null,null,null,null,null,null,null,null,null,null,null,null,null,null,null,null,null,null,null,null,null,null,null,null,null,0,"",0,0,0,0,0,0,0,null,0,"",0,0,0,0,0,0,0,null,0,"",0,0,0,0,0,0,0]
[null,null,null,null,null,null,null,null,null,null,null,null,null,null,null,null,null,null,null,null,null,null,null,null,null,null,null,null,null,null,null,null,null,null,null,null,null,null,null,null,null,null,null,null,null,null,null,null,null,null,null,null,0,"",0,0,0,0,0,0,0,null,0,"",0,0,0,0,0,0,0,null,0,"",0,0,0,0,0,0,0]
[null,null,null,null,null,null,null,null,null,null,null,null,null,null,null,null,null,null,null,null,null,null,null,null,null,null,null,null,null,null,null,null,null,null,null,null,null,null,null,null,null,null,null,null,null,null,null,null,null,null,null,null,0,"",0,0,0,0,0,0,0,null,0,"",0,0,0,0,0,0,0,null,0,"",0,0,0,0,0,0,0]
[null,null,null,null,null,null,null,null,null,null,null,null,null,null,null,null,null,null,null,null,null,null,null,null,null,null,null,null,null,null,null,null,null,null,null,null,null,null,null,null,null,null,null,null,null,null,null,null,null,null,null,null,0,"",0,0,0,0,0,0,0,null,0,"",0,0,0,0,0,0,0,null,0,"",0,0,0,0,0,0,0]
[null,null,null,null,null,null,null,null,null,null,null,null,null,null,null,null,null,null,null,null,null,null,null,null,null,null,null,null,null,null,null,null,null,null,null,null,null,null,null,null,null,null,null,null,null,null,null,null,null,null,null,null,0,"",0,0,0,0,0,0,0,null,0,"",0,0,0,0,0,0,0,null,0,"",0,0,0,0,0,0,0]
[null,null,null,null,null,null,null,null,null,null,null,null,null,null,null,null,null,null,null,null,null,null,null,null,null,null,null,null,null,null,null,null,null,null,null,null,null,null,null,null,null,null,null,null,null,null,null,null,null,null,null,null,0,"",0,0,0,0,0,0,0,null,0,"",0,0,0,0,0,0,0,null,0,"",0,0,0,0,0,0,0]
[null,null,null,null,null,null,null,null,null,null,null,null,null,null,null,null,null,null,null,null,null,null,null,null,null,null,null,null,null,null,null,null,null,null,null,null,null,null,null,null,null,null,null,null,null,null,null,null,null,null,null,null,0,"",0,0,0,0,0,0,0,null,0,"",0,0,0,0,0,0,0,null,0,"",0,0,0,0,0,0,0]
[null,null,null,null,null,null,null,null,null,null,null,null,null,null,null,null,null,null,null,null,null,null,null,null,null,null,null,null,null,null,null,null,null,null,null,null,null,null,null,null,null,null,null,null,null,null,null,null,null,null,null,null,0,"",0,0,0,0,0,0,0,null,0,"",0,0,0,0,0,0,0,null,0,"",0,0,0,0,0,0,0]
[null,null,null,null,null,null,null,null,null,null,null,null,null,null,null,null,null,null,null,null,null,null,null,null,null,null,null,null,null,null,null,null,null,null,null,null,null,null,null,null,null,null,null,null,null,null,null,null,null,null,null,null,0,"",0,0,0,0,0,0,0,null,0,"",0,0,0,0,0,0,0,null,0,"",0,0,0,0,0,0,0]
[null,null,null,null,null,null,null,null,null,null,null,null,null,null,null,null,null,null,null,null,null,null,null,null,null,null,null,null,null,null,null,null,null,null,null,null,null,null,null,null,null,null,null,null,null,null,null,null,null,null,null,null,0,"",0,0,0,0,0,0,0,null,0,"",0,0,0,0,0,0,0,null,0,"",0,0,0,0,0,0,0]
[null,null,null,null,null,null,null,null,null,null,null,null,null,null,null,null,null,null,null,null,null,null,null,null,null,null,null,null,null,null,null,null,null,null,null,null,null,null,null,null,null,null,null,null,null,null,null,null,null,null,null,null,0,"",0,0,0,0,0,0,0,null,0,"",0,0,0,0,0,0,0,null,0,"",0,0,0,0,0,0,0]
[null,null,null,null,null,null,null,null,null,null,null,null,null,null,null,null,null,null,null,null,null,null,null,null,null,null,null,null,null,null,null,null,null,null,null,null,null,null,null,null,null,null,null,null,null,null,null,null,null,null,null,null,0,"",0,0,0,0,0,0,0,null,0,"",0,0,0,0,0,0,0,null,0,"",0,0,0,0,0,0,0]
[null,null,null,null,null,null,null,null,null,null,null,null,null,null,null,null,null,null,null,null,null,null,null,null,null,null,null,null,null,null,null,null,null,null,null,null,null,null,null,null,null,null,null,null,null,null,null,null,null,null,null,null,0,"",0,0,0,0,0,0,0,null,0,"",0,0,0,0,0,0,0,null,0,"",0,0,0,0,0,0,0]
[null,null,null,null,null,null,null,null,null,null,null,null,null,null,null,null,null,null,null,null,null,null,null,null,null,null,null,null,null,null,null,null,null,null,null,null,null,null,null,null,null,null,null,null,null,null,null,null,null,null,null,null,0,"",0,0,0,0,0,0,0,null,0,"",0,0,0,0,0,0,0,null,0,"",0,0,0,0,0,0,0]
[null,null,null,null,null,null,null,null,null,null,null,null,null,null,null,null,null,null,null,null,null,null,null,null,null,null,null,null,null,null,null,null,null,null,null,null,null,null,null,null,null,null,null,null,null,null,null,null,null,null,null,null,0,"",0,0,0,0,0,0,0,null,0,"",0,0,0,0,0,0,0,null,0,"",0,0,0,0,0,0,0]
[null,null,null,null,null,null,null,null,null,null,null,null,null,null,null,null,null,null,null,null,null,null,null,null,null,null,null,null,null,null,null,null,null,null,null,null,null,null,null,null,null,null,null,null,null,null,null,null,null,null,null,null,0,"",0,0,0,0,0,0,0,null,0,"",0,0,0,0,0,0,0,null,0,"",0,0,0,0,0,0,0]
[null,null,null,null,null,null,null,null,null,null,null,null,null,null,null,null,null,null,null,null,null,null,null,null,null,null,null,null,null,null,null,null,null,null,null,null,null,null,null,null,null,null,null,null,null,null,null,null,null,null,null,null,0,"",0,0,0,0,0,0,0,null,0,"",0,0,0,0,0,0,0,null,0,"",0,0,0,0,0,0,0]
[null,null,null,null,null,null,null,null,null,null,null,null,null,null,null,null,null,null,null,null,null,null,null,null,null,null,null,null,null,null,null,null,null,null,null,null,null,null,null,null,null,null,null,null,null,null,null,null,null,null,null,null,0,"",0,0,0,0,0,0,0,null,0,"",0,0,0,0,0,0,0,null,0,"",0,0,0,0,0,0,0]
[null,null,null,null,null,null,null,null,null,null,null,null,null,null,null,null,null,null,null,null,null,null,null,null,null,null,null,null,null,null,null,null,null,null,null,null,null,null,null,null,null,null,null,null,null,null,null,null,null,null,null,null,0,"",0,0,0,0,0,0,0,null,0,"",0,0,0,0,0,0,0,null,0,"",0,0,0,0,0,0,0]
[null,null,null,null,null,null,null,null,null,null,null,null,null,null,null,null,null,null,null,null,null,null,null,null,null,null,null,null,null,null,null,null,null,null,null,null,null,null,null,null,null,null,null,null,null,null,null,null,null,null,null,null,0,"",0,0,0,0,0,0,0,null,0,"",0,0,0,0,0,0,0,null,0,"",0,0,0,0,0,0,0]
[null,null,null,null,null,null,null,null,null,null,null,null,null,null,null,null,null,null,null,null,null,null,null,null,null,null,null,null,null,null,null,null,null,null,null,null,null,null,null,null,null,null,null,null,null,null,null,null,null,null,null,null,0,"",0,0,0,0,0,0,0,null,0,"",0,0,0,0,0,0,0,null,0,"",0,0,0,0,0,0,0]
[null,null,null,null,null,null,null,null,null,null,null,null,null,null,null,null,null,null,null,null,null,null,null,null,null,null,null,null,null,null,null,null,null,null,null,null,null,null,null,null,null,null,null,null,null,null,null,null,null,null,null,null,0,"",0,0,0,0,0,0,0,null,0,"",0,0,0,0,0,0,0,null,0,"",0,0,0,0,0,0,0]
[null,null,null,null,null,null,null,null,null,null,null,null,null,null,null,null,null,null,null,null,null,null,null,null,null,null,null,null,null,null,null,null,null,null,null,null,null,null,null,null,null,null,null,null,null,null,null,null,null,null,null,null,0,"",0,0,0,0,0,0,0,null,0,"",0,0,0,0,0,0,0,null,0,"",0,0,0,0,0,0,0]
[null,null,null,null,null,null,null,null,null,null,null,null,null,null,null,null,null,null,null,null,null,null,null,null,null,null,null,null,null,null,null,null,null,null,null,null,null,null,null,null,null,null,null,null,null,null,null,null,null,null,null,null,0,"",0,0,0,0,0,0,0,null,0,"",0,0,0,0,0,0,0,null,0,"",0,0,0,0,0,0,0]
[null,null,null,null,null,null,null,null,null,null,null,null,null,null,null,null,null,null,null,null,null,null,null,null,null,null,null,null,null,null,null,null,null,null,null,null,null,null,null,null,null,null,null,null,null,null,null,null,null,null,null,null,0,"",0,0,0,0,0,0,0,null,0,"",0,0,0,0,0,0,0,null,0,"",0,0,0,0,0,0,0]
[null,null,null,null,null,null,null,null,null,null,null,null,null,null,null,null,null,null,null,null,null,null,null,null,null,null,null,null,null,null,null,null,null,null,null,null,null,null,null,null,null,null,null,null,null,null,null,null,null,null,null,null,0,"",0,0,0,0,0,0,0,null,0,"",0,0,0,0,0,0,0,null,0,"",0,0,0,0,0,0,0]
[null,null,null,null,null,null,null,null,null,null,null,null,null,null,null,null,null,null,null,null,null,null,null,null,null,null,null,null,null,null,null,null,null,null,null,null,null,null,null,null,null,null,null,null,null,null,null,null,null,null,null,null,0,"",0,0,0,0,0,0,0,null,0,"",0,0,0,0,0,0,0,null,0,"",0,0,0,0,0,0,0]
[null,null,null,null,null,null,null,null,null,null,null,null,null,null,null,null,null,null,null,null,null,null,null,null,null,null,null,null,null,null,null,null,null,null,null,null,null,null,null,null,null,null,null,null,null,null,null,null,null,null,null,null,0,"",0,0,0,0,0,0,0,null,0,"",0,0,0,0,0,0,0,null,0,"",0,0,0,0,0,0,0]
[null,null,null,null,null,null,null,null,null,null,null,null,null,null,null,null,null,null,null,null,null,null,null,null,null,null,null,null,null,null,null,null,null,null,null,null,null,null,null,null,null,null,null,null,null,null,null,null,null,null,null,null,0,"",0,0,0,0,0,0,0,null,0,"",0,0,0,0,0,0,0,null,0,"",0,0,0,0,0,0,0]
[null,null,null,null,null,null,null,null,null,null,null,null,null,null,null,null,null,null,null,null,null,null,null,null,null,null,null,null,null,null,null,null,null,null,null,null,null,null,null,null,null,null,null,null,null,null,null,null,null,null,null,null,0,"",0,0,0,0,0,0,0,null,0,"",0,0,0,0,0,0,0,null,0,"",0,0,0,0,0,0,0]
[null,null,null,null,null,null,null,null,null,null,null,null,null,null,null,null,null,null,null,null,null,null,null,null,null,null,null,null,null,null,null,null,null,null,null,null,null,null,null,null,null,null,null,null,null,null,null,null,null,null,null,null,0,"",0,0,0,0,0,0,0,null,0,"",0,0,0,0,0,0,0,null,0,"",0,0,0,0,0,0,0]
[null,null,null,null,null,null,null,null,null,null,null,null,null,null,null,null,null,null,null,null,null,null,null,null,null,null,null,null,null,null,null,null,null,null,null,null,null,null,null,null,null,null,null,null,null,null,null,null,null,null,null,null,0,"",0,0,0,0,0,0,0,null,0,"",0,0,0,0,0,0,0,null,0,"",0,0,0,0,0,0,0]
[null,null,null,null,null,null,null,null,null,null,null,null,null,null,null,null,null,null,null,null,null,null,null,null,null,null,null,null,null,null,null,null,null,null,null,null,null,null,null,null,null,null,null,null,null,null,null,null,null,null,null,null,0,"",0,0,0,0,0,0,0,null,0,"",0,0,0,0,0,0,0,null,0,"",0,0,0,0,0,0,0]
[null,null,null,null,null,null,null,null,null,null,null,null,null,null,null,null,null,null,null,null,null,null,null,null,null,null,null,null,null,null,null,null,null,null,null,null,null,null,null,null,null,null,null,null,null,null,null,null,null,null,null,null,0,"",0,0,0,0,0,0,0,null,0,"",0,0,0,0,0,0,0,null,0,"",0,0,0,0,0,0,0]
[null,null,null,null,null,null,null,null,null,null,null,null,null,null,null,null,null,null,null,null,null,null,null,null,null,null,null,null,null,null,null,null,null,null,null,null,null,null,null,null,null,null,null,null,null,null,null,null,null,null,null,null,0,"",0,0,0,0,0,0,0,null,0,"",0,0,0,0,0,0,0,null,0,"",0,0,0,0,0,0,0]
[null,null,null,null,null,null,null,null,null,null,null,null,null,null,null,null,null,null,null,null,null,null,null,null,null,null,null,null,null,null,null,null,null,null,null,null,null,null,null,null,null,null,null,null,null,null,null,null,null,null,null,null,0,"",0,0,0,0,0,0,0,null,0,"",0,0,0,0,0,0,0,null,0,"",0,0,0,0,0,0,0]
[null,null,null,null,null,null,null,null,null,null,null,null,null,null,null,null,null,null,null,null,null,null,null,null,null,null,null,null,null,null,null,null,null,null,null,null,null,null,null,null,null,null,null,null,null,null,null,null,null,null,null,null,0,"",0,0,0,0,0,0,0,null,0,"",0,0,0,0,0,0,0,null,0,"",0,0,0,0,0,0,0]
[null,null,null,null,null,null,null,null,null,null,null,null,null,null,null,null,null,null,null,null,null,null,null,null,null,null,null,null,null,null,null,null,null,null,null,null,null,null,null,null,null,null,null,null,null,null,null,null,null,null,null,null,0,"",0,0,0,0,0,0,0,null,0,"",0,0,0,0,0,0,0,null,0,"",0,0,0,0,0,0,0]
[null,null,null,null,null,null,null,null,null,null,null,null,null,null,null,null,null,null,null,null,null,null,null,null,null,null,null,null,null,null,null,null,null,null,null,null,null,null,null,null,null,null,null,null,null,null,null,null,null,null,null,null,0,"",0,0,0,0,0,0,0,null,0,{"$f":"L259&M259","v":""},0,0,0,0,0,0,0,null,0,{"$f":"V259&W259","v":""},0,0,0,0,0,0,0]
[null,null,null,null,null,null,null,null,null,null,null,null,null,null,null,null,null,null,null,null,null,null,null,null,null,null,null,null,null,null,null,null,null,null,null,null,null,null,null,null,null,null,null,null,null,null,null,null,null,null,null,null,0,"",0,0,0,0,0,0,0,null,0,"",0,0,0,0,0,0,0,null,0,"",0,0,0,0,0,0,0]
[null,null,null,null,null,null,null,null,null,null,null,null,null,null,null,null,null,null,null,null,null,null,null,null,null,null,null,null,null,null,null,null,null,null,null,null,null,null,null,null,null,null,null,null,null,null,null,null,null,null,null,null,0,"",0,0,0,0,0,0,0,null,0,"",0,0,0,0,0,0,0,null,0,"",0,0,0,0,0,0,0]
[null,null,null,null,null,null,null,null,null,null,null,null,null,null,null,null,null,null,null,null,null,null,null,null,null,null,null,null,null,null,null,null,null,null,null,null,null,null,null,null,null,null,null,null,null,null,null,null,null,null,null,null,0,"",0,0,0,0,0,0,0,null,0,"",0,0,0,0,0,0,0,null,0,"",0,0,0,0,0,0,0]
[null,null,null,null,null,null,null,null,null,null,null,null,null,null,null,null,null,null,null,null,null,null,null,null,null,null,null,null,null,null,null,null,null,null,null,null,null,null,null,null,null,null,null,null,null,null,null,null,null,null,null,null,0,"",0,0,0,0,0,0,0,null,0,"",0,0,0,0,0,0,0,null,0,"",0,0,0,0,0,0,0]
[null,null,null,null,null,null,null,null,null,null,null,null,null,null,null,null,null,null,null,null,null,null,null,null,null,null,null,null,null,null,null,null,null,null,null,null,null,null,null,null,null,null,null,null,null,null,null,null,null,null,null,null,0,"",0,0,0,0,0,0,0,null,0,"",0,0,0,0,0,0,0,null,0,"",0,0,0,0,0,0,0]
[null,null,null,null,null,null,null,null,null,null,null,null,null,null,null,null,null,null,null,null,null,null,null,null,null,null,null,null,null,null,null,null,null,null,null,null,null,null,null,null,null,null,null,null,null,null,null,null,null,null,null,null,0,"",0,0,0,0,0,0,0,null,0,"",0,0,0,0,0,0,0,null,0,"",0,0,0,0,0,0,0]
[null,null,null,null,null,null,null,null,null,null,null,null,null,null,null,null,null,null,null,null,null,null,null,null,null,null,null,null,null,null,null,null,null,null,null,null,null,null,null,null,null,null,null,null,null,null,null,null,null,null,null,null,0,"",0,0,0,0,0,0,0,null,0,"",0,0,0,0,0,0,0,null,0,"",0,0,0,0,0,0,0]
[null,null,null,null,null,null,null,null,null,null,null,null,null,null,null,null,null,null,null,null,null,null,null,null,null,null,null,null,null,null,null,null,null,null,null,null,null,null,null,null,null,null,null,null,null,null,null,null,null,null,null,null,0,"",0,0,0,0,0,0,0,null,0,"",0,0,0,0,0,0,0,null,0,"",0,0,0,0,0,0,0]
[null,null,null,null,null,null,null,null,null,null,null,null,null,null,null,null,null,null,null,null,null,null,null,null,null,null,null,null,null,null,null,null,null,null,null,null,null,null,null,null,null,null,null,null,null,null,null,null,null,null,null,null,0,"",0,0,0,0,0,0,0,null,0,"",0,0,0,0,0,0,0,null,0,"",0,0,0,0,0,0,0]
[null,null,null,null,null,null,null,null,null,null,null,null,null,null,null,null,null,null,null,null,null,null,null,null,null,null,null,null,null,null,null,null,null,null,null,null,null,null,null,null,null,null,null,null,null,null,null,null,null,null,null,null,0,"",0,0,0,0,0,0,0,null,0,"",0,0,0,0,0,0,0,null,0,"",0,0,0,0,0,0,0]
[null,null,null,null,null,null,null,null,null,null,null,null,null,null,null,null,null,null,null,null,null,null,null,null,null,null,null,null,null,null,null,null,null,null,null,null,null,null,null,null,null,null,null,null,null,null,null,null,null,null,null,null,0,"",0,0,0,0,0,0,0,null,{"$f":"K270","v":0},"",{"$f":"M270","v":0},{"$f":"N270","v":0},{"$f":"O270","v":0},{"$f":"P270","v":0},{"$f":"Q270","v":0},{"$f":"R270","v":0},{"$f":"S270","v":0},null,{"$f":"U270","v":0},"",{"$f":"W270","v":0},{"$f":"X270","v":0},{"$f":"Y270","v":0},{"$f":"Z270","v":0},{"$f":"AA270","v":0},{"$f":"AB270","v":0},{"$f":"AC270","v":0}]
[null,null,null,null,null,null,null,null,null,null,null,null,null,null,null,null,null,null,null,null,null,null,null,null,null,null,null,null,null,null,null,null,null,null,null,null,null,null,null,null,null,null,null,null,null,null,null,null,null,null,null,null,0,"",0,0,0,0,0,0,0,null,0,"",0,0,0,0,0,0,0,null,0,"",0,0,0,0,0,0,0]
[null,null,null,null,null,null,null,null,null,null,null,null,null,null,null,null,null,null,null,null,null,null,null,null,null,null,null,null,null,null,null,null,null,null,null,null,null,null,null,null,null,null,null,null,null,null,null,null,null,null,null,null,0,"",0,0,0,0,0,0,0,null,0,"",0,0,0,0,0,0,0,null,0,"",0,0,0,0,0,0,0]
[null,null,null,null,null,null,null,null,null,null,null,null,null,null,null,null,null,null,null,null,null,null,null,null,null,null,null,null,null,null,null,null,null,null,null,null,null,null,null,null,null,null,null,null,null,null,null,null,null,null,null,null,0,"",0,0,0,0,0,0,0,null,0,"",0,0,0,0,0,0,0,null,0,"",0,0,0,0,0,0,0]
[null,null,null,null,null,null,null,null,null,null,null,null,null,null,null,null,null,null,null,null,null,null,null,null,null,null,null,null,null,null,null,null,null,null,null,null,null,null,null,null,null,null,null,null,null,null,null,null,null,null,null,null,0,"",0,0,0,0,0,0,0,null,0,"",0,0,0,0,0,0,0,null,0,"",0,0,0,0,0,0,0]
[null,null,null,null,null,null,null,null,null,null,null,null,null,null,null,null,null,null,null,null,null,null,null,null,null,null,null,null,null,null,null,null,null,null,null,null,null,null,null,null,null,null,null,null,null,null,null,null,null,null,null,null,0,"",0,0,0,0,0,0,0,null,0,"",0,0,0,0,0,0,0,null,0,"",0,0,0,0,0,0,0]
[null,null,null,null,null,null,null,null,null,null,null,null,null,null,null,null,null,null,null,null,null,null,null,null,null,null,null,null,null,null,null,null,null,null,null,null,null,null,null,null,null,null,null,null,null,null,null,null,null,null,null,null,0,"",0,0,0,0,0,0,0,null,0,"",0,0,0,0,0,0,0,null,0,"",0,0,0,0,0,0,0]
[null,null,null,null,null,null,null,null,null,null,null,null,null,null,null,null,null,null,null,null,null,null,null,null,null,null,null,null,null,null,null,null,null,null,null,null,null,null,null,null,null,null,null,null,null,null,null,null,null,null,null,null,0,"",0,0,0,0,0,0,0,null,0,"",0,0,0,0,0,0,0,null,0,"",0,0,0,0,0,0,0]
[null,null,null,null,null,null,null,null,null,null,null,null,null,null,null,null,null,null,null,null,null,null,null,null,null,null,null,null,null,null,null,null,null,null,null,null,null,null,null,null,null,null,null,null,null,null,null,null,null,null,null,null,0,"",0,0,0,0,0,0,0,null,0,"",0,0,0,0,0,0,0,null,0,"",0,0,0,0,0,0,0]
[null,null,null,null,null,null,null,null,null,null,null,null,null,null,null,null,null,null,null,null,null,null,null,null,null,null,null,null,null,null,null,null,null,null,null,null,null,null,null,null,null,null,null,null,null,null,null,null,null,null,null,null,0,"",0,0,0,0,0,0,0,null,0,"",0,0,0,0,0,0,0,null,0,"",0,0,0,0,0,0,0]
[null,null,null,null,null,null,null,null,null,null,null,null,null,null,null,null,null,null,null,null,null,null,null,null,null,null,null,null,null,null,null,null,null,null,null,null,null,null,null,null,null,null,null,null,null,null,null,null,null,null,null,null,{"$f":"A280","v":0},{"$f":"B280&C280","v":""},{"$f":"C280","v":0},{"$f":"D280","v":0},{"$f":"E280","v":0},{"$f":"F280","v":0},{"$f":"G280","v":0},{"$f":"H280","v":0},{"$f":"I280","v":0},null,0,"",0,0,0,0,0,0,0,null,0,"",0,0,0,0,0,0,0]
[null,null,null,null,null,null,null,null,null,null,null,null,null,null,null,null,null,null,null,null,null,null,null,null,null,null,null,null,null,null,null,null,null,null,null,null,null,null,null,null,null,null,null,null,null,null,null,null,null,null,null,null,0,"",0,0,0,0,0,0,0,null,0,"",0,0,0,0,0,0,0,null,0,"",0,0,0,0,0,0,0]
[null,null,null,null,null,null,null,null,null,null,null,null,null,null,null,null,null,null,null,null,null,null,null,null,null,null,null,null,null,null,null,null,null,null,null,null,null,null,null,null,null,null,null,null,null,null,null,null,null,null,null,null,0,"",0,0,0,0,0,0,0,null,0,"",0,0,0,0,0,0,0,null,0,"",0,0,0,0,0,0,0]
[null,null,null,null,null,null,null,null,null,null,null,null,null,null,null,null,null,null,null,null,null,null,null,null,null,null,null,null,null,null,null,null,null,null,null,null,null,null,null,null,null,null,null,null,null,null,null,null,null,null,null,null,0,"",0,0,0,0,0,0,0,null,0,"",0,0,0,0,0,0,0,null,0,"",0,0,0,0,0,0,0]
[null,null,null,null,null,null,null,null,null,null,null,null,null,null,null,null,null,null,null,null,null,null,null,null,null,null,null,null,null,null,null,null,null,null,null,null,null,null,null,null,null,null,null,null,null,null,null,null,null,null,null,null,0,"",0,0,0,0,0,0,0,null,0,"",0,0,0,0,0,0,0,null,0,"",0,0,0,0,0,0,0]
[null,null,null,null,null,null,null,null,null,null,null,null,null,null,null,null,null,null,null,null,null,null,null,null,null,null,null,null,null,null,null,null,null,null,null,null,null,null,null,null,null,null,null,null,null,null,null,null,null,null,null,null,0,"",0,0,0,0,0,0,0,null,0,"",0,0,0,0,0,0,0,null,0,"",0,0,0,0,0,0,0]
[null,null,null,null,null,null,null,null,null,null,null,null,null,null,null,null,null,null,null,null,null,null,null,null,null,null,null,null,null,null,null,null,null,null,null,null,null,null,null,null,null,null,null,null,null,null,null,null,null,null,null,null,0,"",0,0,0,0,0,0,0,null,0,"",0,0,0,0,0,0,0,null,0,"",0,0,0,0,0,0,0]
[null,null,null,null,null,null,null,null,null,null,null,null,null,null,null,null,null,null,null,null,null,null,null,null,null,null,null,null,null,null,null,null,null,null,null,null,null,null,null,null,null,null,null,null,null,null,null,null,null,null,null,null,0,"",0,0,0,0,0,0,0,null,0,"",0,0,0,0,0,0,0,null,0,"",0,0,0,0,0,0,0]
[null,null,null,null,null,null,null,null,null,null,null,null,null,null,null,null,null,null,null,null,null,null,null,null,null,null,null,null,null,null,null,null,null,null,null,null,null,null,null,null,null,null,null,null,null,null,null,null,null,null,null,null,0,"",0,0,0,0,0,0,0,null,0,"",0,0,0,0,0,0,0,null,0,"",0,0,0,0,0,0,0]
[null,null,null,null,null,null,null,null,null,null,null,null,null,null,null,null,null,null,null,null,null,null,null,null,null,null,null,null,null,null,null,null,null,null,null,null,null,null,null,null,null,null,null,null,null,null,null,null,null,null,null,null,0,"",0,0,0,0,0,0,0,null,0,"",0,0,0,0,0,0,0,null,0,"",0,0,0,0,0,0,0]
[null,null,null,null,null,null,null,null,null,null,null,null,null,null,null,null,null,null,null,null,null,null,null,null,null,null,null,null,null,null,null,null,null,null,null,null,null,null,null,null,null,null,null,null,null,null,null,null,null,null,null,null,0,"",0,0,0,0,0,0,0,null,0,"",0,0,0,0,0,0,0,null,0,"",0,0,0,0,0,0,0]
[null,null,null,null,null,null,null,null,null,null,null,null,null,null,null,null,null,null,null,null,null,null,null,null,null,null,null,null,null,null,null,null,null,null,null,null,null,null,null,null,null,null,null,null,null,null,null,null,null,null,null,null,0,"",0,0,0,0,0,0,0,null,0,"",0,0,0,0,0,0,0,null,0,"",0,0,0,0,0,0,0]
[null,null,null,null,null,null,null,null,null,null,null,null,null,null,null,null,null,null,null,null,null,null,null,null,null,null,null,null,null,null,null,null,null,null,null,null,null,null,null,null,null,null,null,null,null,null,null,null,null,null,null,null,0,"",0,0,0,0,0,0,0,null,0,"",0,0,0,0,0,0,0,null,0,"",0,0,0,0,0,0,0]
[null,null,null,null,null,null,null,null,null,null,null,null,null,null,null,null,null,null,null,null,null,null,null,null,null,null,null,null,null,null,null,null,null,null,null,null,null,null,null,null,null,null,null,null,null,null,null,null,null,null,null,null,0,"",0,0,0,0,0,0,0,null,0,"",0,0,0,0,0,0,0,null,0,"",0,0,0,0,0,0,0]
[null,null,null,null,null,null,null,null,null,null,null,null,null,null,null,null,null,null,null,null,null,null,null,null,null,null,null,null,null,null,null,null,null,null,null,null,null,null,null,null,null,null,null,null,null,null,null,null,null,null,null,null,0,"",0,0,0,0,0,0,0,null,0,"",0,0,0,0,0,0,0,null,0,"",0,0,0,0,0,0,0]
[null,null,null,null,null,null,null,null,null,null,null,null,null,null,null,null,null,null,null,null,null,null,null,null,null,null,null,null,null,null,null,null,null,null,null,null,null,null,null,null,null,null,null,null,null,null,null,null,null,null,null,null,0,"",0,0,0,0,0,0,0,null,0,"",0,0,0,0,0,0,0,null,0,"",0,0,0,0,0,0,0]
[null,null,null,null,null,null,null,null,null,null,null,null,null,null,null,null,null,null,null,null,null,null,null,null,null,null,null,null,null,null,null,null,null,null,null,null,null,null,null,null,null,null,null,null,null,null,null,null,null,null,null,null,0,"",0,0,0,0,0,0,0,null,0,"",0,0,0,0,0,0,0,null,0,"",0,0,0,0,0,0,0]
[null,null,null,null,null,null,null,null,null,null,null,null,null,null,null,null,null,null,null,null,null,null,null,null,null,null,null,null,null,null,null,null,null,null,null,null,null,null,null,null,null,null,null,null,null,null,null,null,null,null,null,null,0,"",0,0,0,0,0,0,0,null,0,"",0,0,0,0,0,0,0,null,0,"",0,0,0,0,0,0,0]
[null,null,null,null,null,null,null,null,null,null,null,null,null,null,null,null,null,null,null,null,null,null,null,null,null,null,null,null,null,null,null,null,null,null,null,null,null,null,null,null,null,null,null,null,null,null,null,null,null,null,null,null,0,"",0,0,0,0,0,0,0,null,0,"",0,0,0,0,0,0,0,null,0,"",0,0,0,0,0,0,0]
[null,null,null,null,null,null,null,null,null,null,null,null,null,null,null,null,null,null,null,null,null,null,null,null,null,null,null,null,null,null,null,null,null,null,null,null,null,null,null,null,null,null,null,null,null,null,null,null,null,null,null,null,0,"",0,0,0,0,0,0,0,null,0,"",0,0,0,0,0,0,0,null,0,"",0,0,0,0,0,0,0]
[null,null,null,null,null,null,null,null,null,null,null,null,null,null,null,null,null,null,null,null,null,null,null,null,null,null,null,null,null,null,null,null,null,null,null,null,null,null,null,null,null,null,null,null,null,null,null,null,null,null,null,null,0,"",0,0,0,0,0,0,0,null,0,"",0,0,0,0,0,0,0,null,0,"",0,0,0,0,0,0,0]
[null,null,null,null,null,null,null,null,null,null,null,null,null,null,null,null,null,null,null,null,null,null,null,null,null,null,null,null,null,null,null,null,null,null,null,null,null,null,null,null,null,null,null,null,null,null,null,null,null,null,null,null,0,"",0,0,0,0,0,0,0,null,0,"",0,0,0,0,0,0,0,null,0,"",0,0,0,0,0,0,0]
[null,null,null,null,null,null,null,null,null,null,null,null,null,null,null,null,null,null,null,null,null,null,null,null,null,null,null,null,null,null,null,null,null,null,null,null,null,null,null,null,null,null,null,null,null,null,null,null,null,null,null,null,0,"",0,0,0,0,0,0,0,null,0,"",0,0,0,0,0,0,0,null,0,"",0,0,0,0,0,0,0]
[null,null,null,null,null,null,null,null,null,null,null,null,null,null,null,null,null,null,null,null,null,null,null,null,null,null,null,null,null,null,null,null,null,null,null,null,null,null,null,null,null,null,null,null,null,null,null,null,null,null,null,null,0,"",0,0,0,0,0,0,0,null,0,"",0,0,0,0,0,0,0,null,0,"",0,0,0,0,0,0,0]
[null,null,null,null,null,null,null,null,null,null,null,null,null,null,null,null,null,null,null,null,null,null,null,null,null,null,null,null,null,null,null,null,null,null,null,null,null,null,null,null,null,null,null,null,null,null,null,null,null,null,null,null,0,"",0,0,0,0,0,0,0,null,0,"",0,0,0,0,0,0,0,null,0,"",0,0,0,0,0,0,0]
[null,null,null,null,null,null,null,null,null,null,null,null,null,null,null,null,null,null,null,null,null,null,null,null,null,null,null,null,null,null,null,null,null,null,null,null,null,null,null,null,null,null,null,null,null,null,null,null,null,null,null,null,0,"",0,0,0,0,0,0,0,null,0,"",0,0,0,0,0,0,0,null,0,"",0,0,0,0,0,0,0]
[null,null,null,null,null,null,null,null,null,null,null,null,null,null,null,null,null,null,null,null,null,null,null,null,null,null,null,null,null,null,null,null,null,null,null,null,null,null,null,null,null,null,null,null,null,null,null,null,null,null,null,null,0,"",0,0,0,0,0,0,0,null,0,"",0,0,0,0,0,0,0,null,0,"",0,0,0,0,0,0,0]
[null,null,null,null,null,null,null,null,null,null,null,null,null,null,null,null,null,null,null,null,null,null,null,null,null,null,null,null,null,null,null,null,null,null,null,null,null,null,null,null,null,null,null,null,null,null,null,null,null,null,null,null,0,"",0,0,0,0,0,0,0,null,0,"",0,0,0,0,0,0,0,null,0,"",0,0,0,0,0,0,0]
[null,null,null,null,null,null,null,null,null,null,null,null,null,null,null,null,null,null,null,null,null,null,null,null,null,null,null,null,null,null,null,null,null,null,null,null,null,null,null,null,null,null,null,null,null,null,null,null,null,null,null,null,0,"",0,0,0,0,0,0,0,null,0,"",0,0,0,0,0,0,0,null,0,"",0,0,0,0,0,0,0]
[null,null,null,null,null,null,null,null,null,null,null,null,null,null,null,null,null,null,null,null,null,null,null,null,null,null,null,null,null,null,null,null,null,null,null,null,null,null,null,null,null,null,null,null,null,null,null,null,null,null,null,null,0,"",0,0,0,0,0,0,0,null,0,"",0,0,0,0,0,0,0,null,0,"",0,0,0,0,0,0,0]
[null,null,null,null,null,null,null,null,null,null,null,null,null,null,null,null,null,null,null,null,null,null,null,null,null,null,null,null,null,null,null,null,null,null,null,null,null,null,null,null,null,null,null,null,null,null,null,null,null,null,null,null,0,"",0,0,0,0,0,0,0,null,0,"",0,0,0,0,0,0,0,null,0,"",0,0,0,0,0,0,0]
[null,null,null,null,null,null,null,null,null,null,null,null,null,null,null,null,null,null,null,null,null,null,null,null,null,null,null,null,null,null,null,null,null,null,null,null,null,null,null,null,null,null,null,null,null,null,null,null,null,null,null,null,0,"",0,0,0,0,0,0,0,null,0,"",0,0,0,0,0,0,0,null,0,"",0,0,0,0,0,0,0]
[null,null,null,null,null,null,null,null,null,null,null,null,null,null,null,null,null,null,null,null,null,null,null,null,null,null,null,null,null,null,null,null,null,null,null,null,null,null,null,null,null,null,null,null,null,null,null,null,null,null,null,null,0,"",0,0,0,0,0,0,0,null,0,"",0,0,0,0,0,0,0,null,0,"",0,0,0,0,0,0,0]
[null,null,null,null,null,null,null,null,null,null,null,null,null,null,null,null,null,null,null,null,null,null,null,null,null,null,null,null,null,null,null,null,null,null,null,null,null,null,null,null,null,null,null,null,null,null,null,null,null,null,null,null,0,"",0,0,0,0,0,0,0,null,0,"",0,0,0,0,0,0,0,null,0,"",0,0,0,0,0,0,0]
[null,null,null,null,null,null,null,null,null,null,null,null,null,null,null,null,null,null,null,null,null,null,null,null,null,null,null,null,null,null,null,null,null,null,null,null,null,null,null,null,null,null,null,null,null,null,null,null,null,null,null,null,0,"",0,0,0,0,0,0,0,null,0,"",0,0,0,0,0,0,0,null,0,"",0,0,0,0,0,0,0]
[null,null,null,null,null,null,null,null,null,null,null,null,null,null,null,null,null,null,null,null,null,null,null,null,null,null,null,null,null,null,null,null,null,null,null,null,null,null,null,null,null,null,null,null,null,null,null,null,null,null,null,null,0,"",0,0,0,0,0,0,0,null,0,"",0,0,0,0,0,0,0,null,0,"",0,0,0,0,0,0,0]
[null,null,null,null,null,null,null,null,null,null,null,null,null,null,null,null,null,null,null,null,null,null,null,null,null,null,null,null,null,null,null,null,null,null,null,null,null,null,null,null,null,null,null,null,null,null,null,null,null,null,null,null,0,"",0,0,0,0,0,0,0,null,0,"",0,0,0,0,0,0,0,null,0,"",0,0,0,0,0,0,0]
[null,null,null,null,null,null,null,null,null,null,null,null,null,null,null,null,null,null,null,null,null,null,null,null,null,null,null,null,null,null,null,null,null,null,null,null,null,null,null,null,null,null,null,null,null,null,null,null,null,null,null,null,0,"",0,0,0,0,0,0,0,null,0,"",0,0,0,0,0,0,0,null,0,"",0,0,0,0,0,0,0]
[null,null,null,null,null,null,null,null,null,null,null,null,null,null,null,null,null,null,null,null,null,null,null,null,null,null,null,null,null,null,null,null,null,null,null,null,null,null,null,null,null,null,null,null,null,null,null,null,null,null,null,null,0,"",0,0,0,0,0,0,0,null,0,"",0,0,0,0,0,0,0,null,0,"",0,0,0,0,0,0,0]
[null,null,null,null,null,null,null,null,null,null,null,null,null,null,null,null,null,null,null,null,null,null,null,null,null,null,null,null,null,null,null,null,null,null,null,null,null,null,null,null,null,null,null,null,null,null,null,null,null,null,null,null,0,"",0,0,0,0,0,0,0,null,0,"",0,0,0,0,0,0,0,null,0,"",0,0,0,0,0,0,0]
[null,null,null,null,null,null,null,null,null,null,null,null,null,null,null,null,null,null,null,null,null,null,null,null,null,null,null,null,null,null,null,null,null,null,null,null,null,null,null,null,null,null,null,null,null,null,null,null,null,null,null,null,0,"",0,0,0,0,0,0,0,null,0,"",0,0,0,0,0,0,0,null,0,"",0,0,0,0,0,0,0]
[null,null,null,null,null,null,null,null,null,null,null,null,null,null,null,null,null,null,null,null,null,null,null,null,null,null,null,null,null,null,null,null,null,null,null,null,null,null,null,null,null,null,null,null,null,null,null,null,null,null,null,null,0,"",0,0,0,0,0,0,0,null,0,"",0,0,0,0,0,0,0,null,0,"",0,0,0,0,0,0,0]
[null,null,null,null,null,null,null,null,null,null,null,null,null,null,null,null,null,null,null,null,null,null,null,null,null,null,null,null,null,null,null,null,null,null,null,null,null,null,null,null,null,null,null,null,null,null,null,null,null,null,null,null,0,"",0,0,0,0,0,0,0,null,0,"",0,0,0,0,0,0,0,null,0,"",0,0,0,0,0,0,0]
[null,null,null,null,null,null,null,null,null,null,null,null,null,null,null,null,null,null,null,null,null,null,null,null,null,null,null,null,null,null,null,null,null,null,null,null,null,null,null,null,null,null,null,null,null,null,null,null,null,null,null,null,0,"",0,0,0,0,0,0,0,null,0,{"$f":"L323&M323","v":""},0,0,0,0,0,0,0,null,0,{"$f":"V323&W323","v":""},0,0,0,0,0,0,0]
[null,null,null,null,null,null,null,null,null,null,null,null,null,null,null,null,null,null,null,null,null,null,null,null,null,null,null,null,null,null,null,null,null,null,null,null,null,null,null,null,null,null,null,null,null,null,null,null,null,null,null,null,0,"",0,0,0,0,0,0,0,null,0,"",0,0,0,0,0,0,0,null,0,"",0,0,0,0,0,0,0]
[null,null,null,null,null,null,null,null,null,null,null,null,null,null,null,null,null,null,null,null,null,null,null,null,null,null,null,null,null,null,null,null,null,null,null,null,null,null,null,null,null,null,null,null,null,null,null,null,null,null,null,null,0,"",0,0,0,0,0,0,0,null,0,"",0,0,0,0,0,0,0,null,0,"",0,0,0,0,0,0,0]
[null,null,null,null,null,null,null,null,null,null,null,null,null,null,null,null,null,null,null,null,null,null,null,null,null,null,null,null,null,null,null,null,null,null,null,null,null,null,null,null,null,null,null,null,null,null,null,null,null,null,null,null,0,"",0,0,0,0,0,0,0,null,0,"",0,0,0,0,0,0,0,null,0,"",0,0,0,0,0,0,0]
[null,null,null,null,null,null,null,null,null,null,null,null,null,null,null,null,null,null,null,null,null,null,null,null,null,null,null,null,null,null,null,null,null,null,null,null,null,null,null,null,null,null,null,null,null,null,null,null,null,null,null,null,0,"",0,0,0,0,0,0,0,null,0,"",0,0,0,0,0,0,0,null,0,"",0,0,0,0,0,0,0]
[null,null,null,null,null,null,null,null,null,null,null,null,null,null,null,null,null,null,null,null,null,null,null,null,null,null,null,null,null,null,null,null,null,null,null,null,null,null,null,null,null,null,null,null,null,null,null,null,null,null,null,null,0,"",0,0,0,0,0,0,0,null,0,"",0,0,0,0,0,0,0,null,0,"",0,0,0,0,0,0,0]
[null,null,null,null,null,null,null,null,null,null,null,null,null,null,null,null,null,null,null,null,null,null,null,null,null,null,null,null,null,null,null,null,null,null,null,null,null,null,null,null,null,null,null,null,null,null,null,null,null,null,null,null,0,"",0,0,0,0,0,0,0,null,0,"",0,0,0,0,0,0,0,null,0,"",0,0,0,0,0,0,0]
[null,null,null,null,null,null,null,null,null,null,null,null,null,null,null,null,null,null,null,null,null,null,null,null,null,null,null,null,null,null,null,null,null,null,null,null,null,null,null,null,null,null,null,null,null,null,null,null,null,null,null,null,0,"",0,0,0,0,0,0,0,null,0,"",0,0,0,0,0,0,0,null,0,"",0,0,0,0,0,0,0]
[null,null,null,null,null,null,null,null,null,null,null,null,null,null,null,null,null,null,null,null,null,null,null,null,null,null,null,null,null,null,null,null,null,null,null,null,null,null,null,null,null,null,null,null,null,null,null,null,null,null,null,null,0,"",0,0,0,0,0,0,0,null,0,"",0,0,0,0,0,0,0,null,0,"",0,0,0,0,0,0,0]
[null,null,null,null,null,null,null,null,null,null,null,null,null,null,null,null,null,null,null,null,null,null,null,null,null,null,null,null,null,null,null,null,null,null,null,null,null,null,null,null,null,null,null,null,null,null,null,null,null,null,null,null,0,"",0,0,0,0,0,0,0,null,0,"",0,0,0,0,0,0,0,null,0,"",0,0,0,0,0,0,0]
[null,null,null,null,null,null,null,null,null,null,null,null,null,null,null,null,null,null,null,null,null,null,null,null,null,null,null,null,null,null,null,null,null,null,null,null,null,null,null,null,null,null,null,null,null,null,null,null,null,null,null,null,0,"",0,0,0,0,0,0,0,null,0,"",0,0,0,0,0,0,0,null,0,"",0,0,0,0,0,0,0]
[null,null,null,null,null,null,null,null,null,null,null,null,null,null,null,null,null,null,null,null,null,null,null,null,null,null,null,null,null,null,null,null,null,null,null,null,null,null,null,null,null,null,null,null,null,null,null,null,null,null,null,null,0,"",0,0,0,0,0,0,0,null,{"$f":"K334","v":0},"",{"$f":"M334","v":0},{"$f":"N334","v":0},{"$f":"O334","v":0},{"$f":"P334","v":0},{"$f":"Q334","v":0},{"$f":"R334","v":0},{"$f":"S334","v":0},null,{"$f":"U334","v":0},"",{"$f":"W334","v":0},{"$f":"X334","v":0},{"$f":"Y334","v":0},{"$f":"Z334","v":0},{"$f":"AA334","v":0},{"$f":"AB334","v":0},{"$f":"AC334","v":0}]
[null,null,null,null,null,null,null,null,null,null,null,null,null,null,null,null,null,null,null,null,null,null,null,null,null,null,null,null,null,null,null,null,null,null,null,null,null,null,null,null,null,null,null,null,null,null,null,null,null,null,null,null,0,"",0,0,0,0,0,0,0,null,0,"",0,0,0,0,0,0,0,null,0,"",0,0,0,0,0,0,0]
[null,null,null,null,null,null,null,null,null,null,null,null,null,null,null,null,null,null,null,null,null,null,null,null,null,null,null,null,null,null,null,null,null,null,null,null,null,null,null,null,null,null,null,null,null,null,null,null,null,null,null,null,0,"",0,0,0,0,0,0,0,null,0,"",0,0,0,0,0,0,0,null,0,"",0,0,0,0,0,0,0]
[null,null,null,null,null,null,null,null,null,null,null,null,null,null,null,null,null,null,null,null,null,null,null,null,null,null,null,null,null,null,null,null,null,null,null,null,null,null,null,null,null,null,null,null,null,null,null,null,null,null,null,null,0,"",0,0,0,0,0,0,0,null,0,"",0,0,0,0,0,0,0,null,0,"",0,0,0,0,0,0,0]
[null,null,null,null,null,null,null,null,null,null,null,null,null,null,null,null,null,null,null,null,null,null,null,null,null,null,null,null,null,null,null,null,null,null,null,null,null,null,null,null,null,null,null,null,null,null,null,null,null,null,null,null,0,"",0,0,0,0,0,0,0,null,0,"",0,0,0,0,0,0,0,null,0,"",0,0,0,0,0,0,0]
[null,null,null,null,null,null,null,null,null,null,null,null,null,null,null,null,null,null,null,null,null,null,null,null,null,null,null,null,null,null,null,null,null,null,null,null,null,null,null,null,null,null,null,null,null,null,null,null,null,null,null,null,0,"",0,0,0,0,0,0,0,null,0,"",0,0,0,0,0,0,0,null,0,"",0,0,0,0,0,0,0]
[null,null,null,null,null,null,null,null,null,null,null,null,null,null,null,null,null,null,null,null,null,null,null,null,null,null,null,null,null,null,null,null,null,null,null,null,null,null,null,null,null,null,null,null,null,null,null,null,null,null,null,null,0,"",0,0,0,0,0,0,0,null,0,"",0,0,0,0,0,0,0,null,0,"",0,0,0,0,0,0,0]
[null,null,null,null,null,null,null,null,null,null,null,null,null,null,null,null,null,null,null,null,null,null,null,null,null,null,null,null,null,null,null,null,null,null,null,null,null,null,null,null,null,null,null,null,null,null,null,null,null,null,null,null,0,"",0,0,0,0,0,0,0,null,0,"",0,0,0,0,0,0,0,null,0,"",0,0,0,0,0,0,0]
[null,null,null,null,null,null,null,null,null,null,null,null,null,null,null,null,null,null,null,null,null,null,null,null,null,null,null,null,null,null,null,null,null,null,null,null,null,null,null,null,null,null,null,null,null,null,null,null,null,null,null,null,0,"",0,0,0,0,0,0,0,null,0,"",0,0,0,0,0,0,0,null,0,"",0,0,0,0,0,0,0]
[null,null,null,null,null,null,null,null,null,null,null,null,null,null,null,null,null,null,null,null,null,null,null,null,null,null,null,null,null,null,null,null,null,null,null,null,null,null,null,null,null,null,null,null,null,null,null,null,null,null,null,null,0,"",0,0,0,0,0,0,0,null,0,"",0,0,0,0,0,0,0,null,0,"",0,0,0,0,0,0,0]
[null,null,null,null,null,null,null,null,null,null,null,null,null,null,null,null,null,null,null,null,null,null,null,null,null,null,null,null,null,null,null,null,null,null,null,null,null,null,null,null,null,null,null,null,null,null,null,null,null,null,null,null,{"$f":"A344","v":0},{"$f":"B344&C344","v":""},{"$f":"C344","v":0},{"$f":"D344","v":0},{"$f":"E344","v":0},{"$f":"F344","v":0},{"$f":"G344","v":0},{"$f":"H344","v":0},{"$f":"I344","v":0},null,0,"",0,0,0,0,0,0,0,null,0,"",0,0,0,0,0,0,0]
[null,null,null,null,null,null,null,null,null,null,null,null,null,null,null,null,null,null,null,null,null,null,null,null,null,null,null,null,null,null,null,null,null,null,null,null,null,null,null,null,null,null,null,null,null,null,null,null,null,null,null,null,0,"",0,0,0,0,0,0,0,null,0,"",0,0,0,0,0,0,0,null,0,"",0,0,0,0,0,0,0]
[null,null,null,null,null,null,null,null,null,null,null,null,null,null,null,null,null,null,null,null,null,null,null,null,null,null,null,null,null,null,null,null,null,null,null,null,null,null,null,null,null,null,null,null,null,null,null,null,null,null,null,null,0,"",0,0,0,0,0,0,0,null,0,"",0,0,0,0,0,0,0,null,0,"",0,0,0,0,0,0,0]
[null,null,null,null,null,null,null,null,null,null,null,null,null,null,null,null,null,null,null,null,null,null,null,null,null,null,null,null,null,null,null,null,null,null,null,null,null,null,null,null,null,null,null,null,null,null,null,null,null,null,null,null,0,"",0,0,0,0,0,0,0,null,0,"",0,0,0,0,0,0,0,null,0,"",0,0,0,0,0,0,0]
[null,null,null,null,null,null,null,null,null,null,null,null,null,null,null,null,null,null,null,null,null,null,null,null,null,null,null,null,null,null,null,null,null,null,null,null,null,null,null,null,null,null,null,null,null,null,null,null,null,null,null,null,0,"",0,0,0,0,0,0,0,null,0,"",0,0,0,0,0,0,0,null,0,"",0,0,0,0,0,0,0]
[null,null,null,null,null,null,null,null,null,null,null,null,null,null,null,null,null,null,null,null,null,null,null,null,null,null,null,null,null,null,null,null,null,null,null,null,null,null,null,null,null,null,null,null,null,null,null,null,null,null,null,null,0,"",0,0,0,0,0,0,0,null,0,"",0,0,0,0,0,0,0,null,0,"",0,0,0,0,0,0,0]
[null,null,null,null,null,null,null,null,null,null,null,null,null,null,null,null,null,null,null,null,null,null,null,null,null,null,null,null,null,null,null,null,null,null,null,null,null,null,null,null,null,null,null,null,null,null,null,null,null,null,null,null,0,"",0,0,0,0,0,0,0,null,0,"",0,0,0,0,0,0,0,null,0,"",0,0,0,0,0,0,0]
[null,null,null,null,null,null,null,null,null,null,null,null,null,null,null,null,null,null,null,null,null,null,null,null,null,null,null,null,null,null,null,null,null,null,null,null,null,null,null,null,null,null,null,null,null,null,null,null,null,null,null,null,0,"",0,0,0,0,0,0,0,null,0,"",0,0,0,0,0,0,0,null,0,"",0,0,0,0,0,0,0]
[null,null,null,null,null,null,null,null,null,null,null,null,null,null,null,null,null,null,null,null,null,null,null,null,null,null,null,null,null,null,null,null,null,null,null,null,null,null,null,null,null,null,null,null,null,null,null,null,null,null,null,null,0,"",0,0,0,0,0,0,0,null,0,"",0,0,0,0,0,0,0,null,0,"",0,0,0,0,0,0,0]
[null,null,null,null,null,null,null,null,null,null,null,null,null,null,null,null,null,null,null,null,null,null,null,null,null,null,null,null,null,null,null,null,null,null,null,null,null,null,null,null,null,null,null,null,null,null,null,null,null,null,null,null,0,"",0,0,0,0,0,0,0,null,0,"",0,0,0,0,0,0,0,null,0,"",0,0,0,0,0,0,0]
[null,null,null,null,null,null,null,null,null,null,null,null,null,null,null,null,null,null,null,null,null,null,null,null,null,null,null,null,null,null,null,null,null,null,null,null,null,null,null,null,null,null,null,null,null,null,null,null,null,null,null,null,0,"",0,0,0,0,0,0,0,null,0,"",0,0,0,0,0,0,0,null,0,"",0,0,0,0,0,0,0]
[null,null,null,null,null,null,null,null,null,null,null,null,null,null,null,null,null,null,null,null,null,null,null,null,null,null,null,null,null,null,null,null,null,null,null,null,null,null,null,null,null,null,null,null,null,null,null,null,null,null,null,null,0,"",0,0,0,0,0,0,0,null,0,"",0,0,0,0,0,0,0,null,0,"",0,0,0,0,0,0,0]
[null,null,null,null,null,null,null,null,null,null,null,null,null,null,null,null,null,null,null,null,null,null,null,null,null,null,null,null,null,null,null,null,null,null,null,null,null,null,null,null,null,null,null,null,null,null,null,null,null,null,null,null,0,"",0,0,0,0,0,0,0,null,0,"",0,0,0,0,0,0,0,null,0,"",0,0,0,0,0,0,0]
[null,null,null,null,null,null,null,null,null,null,null,null,null,null,null,null,null,null,null,null,null,null,null,null,null,null,null,null,null,null,null,null,null,null,null,null,null,null,null,null,null,null,null,null,null,null,null,null,null,null,null,null,0,"",0,0,0,0,0,0,0,null,0,"",0,0,0,0,0,0,0,null,0,"",0,0,0,0,0,0,0]
[null,null,null,null,null,null,null,null,null,null,null,null,null,null,null,null,null,null,null,null,null,null,null,null,null,null,null,null,null,null,null,null,null,null,null,null,null,null,null,null,null,null,null,null,null,null,null,null,null,null,null,null,0,"",0,0,0,0,0,0,0,null,0,"",0,0,0,0,0,0,0,null,0,"",0,0,0,0,0,0,0]
[null,null,null,null,null,null,null,null,null,null,null,null,null,null,null,null,null,null,null,null,null,null,null,null,null,null,null,null,null,null,null,null,null,null,null,null,null,null,null,null,null,null,null,null,null,null,null,null,null,null,null,null,0,"",0,0,0,0,0,0,0,null,0,"",0,0,0,0,0,0,0,null,0,"",0,0,0,0,0,0,0]
[null,null,null,null,null,null,null,null,null,null,null,null,null,null,null,null,null,null,null,null,null,null,null,null,null,null,null,null,null,null,null,null,null,null,null,null,null,null,null,null,null,null,null,null,null,null,null,null,null,null,null,null,0,"",0,0,0,0,0,0,0,null,0,"",0,0,0,0,0,0,0,null,0,"",0,0,0,0,0,0,0]
[null,null,null,null,null,null,null,null,null,null,null,null,null,null,null,null,null,null,null,null,null,null,null,null,null,null,null,null,null,null,null,null,null,null,null,null,null,null,null,null,null,null,null,null,null,null,null,null,null,null,null,null,0,"",0,0,0,0,0,0,0,null,0,"",0,0,0,0,0,0,0,null,0,"",0,0,0,0,0,0,0]
[null,null,null,null,null,null,null,null,null,null,null,null,null,null,null,null,null,null,null,null,null,null,null,null,null,null,null,null,null,null,null,null,null,null,null,null,null,null,null,null,null,null,null,null,null,null,null,null,null,null,null,null,0,"",0,0,0,0,0,0,0,null,0,"",0,0,0,0,0,0,0,null,0,"",0,0,0,0,0,0,0]
[null,null,null,null,null,null,null,null,null,null,null,null,null,null,null,null,null,null,null,null,null,null,null,null,null,null,null,null,null,null,null,null,null,null,null,null,null,null,null,null,null,null,null,null,null,null,null,null,null,null,null,null,0,"",0,0,0,0,0,0,0,null,0,"",0,0,0,0,0,0,0,null,0,"",0,0,0,0,0,0,0]
[null,null,null,null,null,null,null,null,null,null,null,null,null,null,null,null,null,null,null,null,null,null,null,null,null,null,null,null,null,null,null,null,null,null,null,null,null,null,null,null,null,null,null,null,null,null,null,null,null,null,null,null,0,"",0,0,0,0,0,0,0,null,0,"",0,0,0,0,0,0,0,null,0,"",0,0,0,0,0,0,0]
[null,null,null,null,null,null,null,null,null,null,null,null,null,null,null,null,null,null,null,null,null,null,null,null,null,null,null,null,null,null,null,null,null,null,null,null,null,null,null,null,null,null,null,null,null,null,null,null,null,null,null,null,0,"",0,0,0,0,0,0,0,null,0,"",0,0,0,0,0,0,0,null,0,"",0,0,0,0,0,0,0]
[null,null,null,null,null,null,null,null,null,null,null,null,null,null,null,null,null,null,null,null,null,null,null,null,null,null,null,null,null,null,null,null,null,null,null,null,null,null,null,null,null,null,null,null,null,null,null,null,null,null,null,null,0,"",0,0,0,0,0,0,0,null,0,"",0,0,0,0,0,0,0,null,0,"",0,0,0,0,0,0,0]
[null,null,null,null,null,null,null,null,null,null,null,null,null,null,null,null,null,null,null,null,null,null,null,null,null,null,null,null,null,null,null,null,null,null,null,null,null,null,null,null,null,null,null,null,null,null,null,null,null,null,null,null,0,"",0,0,0,0,0,0,0,null,0,"",0,0,0,0,0,0,0,null,0,"",0,0,0,0,0,0,0]
[null,null,null,null,null,null,null,null,null,null,null,null,null,null,null,null,null,null,null,null,null,null,null,null,null,null,null,null,null,null,null,null,null,null,null,null,null,null,null,null,null,null,null,null,null,null,null,null,null,null,null,null,0,"",0,0,0,0,0,0,0,null,0,"",0,0,0,0,0,0,0,null,0,"",0,0,0,0,0,0,0]
[null,null,null,null,null,null,null,null,null,null,null,null,null,null,null,null,null,null,null,null,null,null,null,null,null,null,null,null,null,null,null,null,null,null,null,null,null,null,null,null,null,null,null,null,null,null,null,null,null,null,null,null,0,"",0,0,0,0,0,0,0,null,0,"",0,0,0,0,0,0,0,null,0,"",0,0,0,0,0,0,0]
[null,null,null,null,null,null,null,null,null,null,null,null,null,null,null,null,null,null,null,null,null,null,null,null,null,null,null,null,null,null,null,null,null,null,null,null,null,null,null,null,null,null,null,null,null,null,null,null,null,null,null,null,0,"",0,0,0,0,0,0,0,null,0,"",0,0,0,0,0,0,0,null,0,"",0,0,0,0,0,0,0]
[null,null,null,null,null,null,null,null,null,null,null,null,null,null,null,null,null,null,null,null,null,null,null,null,null,null,null,null,null,null,null,null,null,null,null,null,null,null,null,null,null,null,null,null,null,null,null,null,null,null,null,null,0,"",0,0,0,0,0,0,0,null,0,"",0,0,0,0,0,0,0,null,0,"",0,0,0,0,0,0,0]
[null,null,null,null,null,null,null,null,null,null,null,null,null,null,null,null,null,null,null,null,null,null,null,null,null,null,null,null,null,null,null,null,null,null,null,null,null,null,null,null,null,null,null,null,null,null,null,null,null,null,null,null,0,"",0,0,0,0,0,0,0,null,0,"",0,0,0,0,0,0,0,null,0,"",0,0,0,0,0,0,0]
[null,null,null,null,null,null,null,null,null,null,null,null,null,null,null,null,null,null,null,null,null,null,null,null,null,null,null,null,null,null,null,null,null,null,null,null,null,null,null,null,null,null,null,null,null,null,null,null,null,null,null,null,0,"",0,0,0,0,0,0,0,null,0,"",0,0,0,0,0,0,0,null,0,"",0,0,0,0,0,0,0]
[null,null,null,null,null,null,null,null,null,null,null,null,null,null,null,null,null,null,null,null,null,null,null,null,null,null,null,null,null,null,null,null,null,null,null,null,null,null,null,null,null,null,null,null,null,null,null,null,null,null,null,null,0,"",0,0,0,0,0,0,0,null,0,"",0,0,0,0,0,0,0,null,0,"",0,0,0,0,0,0,0]
[null,null,null,null,null,null,null,null,null,null,null,null,null,null,null,null,null,null,null,null,null,null,null,null,null,null,null,null,null,null,null,null,null,null,null,null,null,null,null,null,null,null,null,null,null,null,null,null,null,null,null,null,0,"",0,0,0,0,0,0,0,null,0,"",0,0,0,0,0,0,0,null,0,"",0,0,0,0,0,0,0]
[null,null,null,null,null,null,null,null,null,null,null,null,null,null,null,null,null,null,null,null,null,null,null,null,null,null,null,null,null,null,null,null,null,null,null,null,null,null,null,null,null,null,null,null,null,null,null,null,null,null,null,null,0,"",0,0,0,0,0,0,0,null,0,"",0,0,0,0,0,0,0,null,0,"",0,0,0,0,0,0,0]
[null,null,null,null,null,null,null,null,null,null,null,null,null,null,null,null,null,null,null,null,null,null,null,null,null,null,null,null,null,null,null,null,null,null,null,null,null,null,null,null,null,null,null,null,null,null,null,null,null,null,null,null,0,"",0,0,0,0,0,0,0,null,0,"",0,0,0,0,0,0,0,null,0,"",0,0,0,0,0,0,0]
[null,null,null,null,null,null,null,null,null,null,null,null,null,null,null,null,null,null,null,null,null,null,null,null,null,null,null,null,null,null,null,null,null,null,null,null,null,null,null,null,null,null,null,null,null,null,null,null,null,null,null,null,0,"",0,0,0,0,0,0,0,null,0,"",0,0,0,0,0,0,0,null,0,"",0,0,0,0,0,0,0]
[null,null,null,null,null,null,null,null,null,null,null,null,null,null,null,null,null,null,null,null,null,null,null,null,null,null,null,null,null,null,null,null,null,null,null,null,null,null,null,null,null,null,null,null,null,null,null,null,null,null,null,null,0,"",0,0,0,0,0,0,0,null,0,"",0,0,0,0,0,0,0,null,0,"",0,0,0,0,0,0,0]
[null,null,null,null,null,null,null,null,null,null,null,null,null,null,null,null,null,null,null,null,null,null,null,null,null,null,null,null,null,null,null,null,null,null,null,null,null,null,null,null,null,null,null,null,null,null,null,null,null,null,null,null,0,"",0,0,0,0,0,0,0,null,0,"",0,0,0,0,0,0,0,null,0,"",0,0,0,0,0,0,0]
[null,null,null,null,null,null,null,null,null,null,null,null,null,null,null,null,null,null,null,null,null,null,null,null,null,null,null,null,null,null,null,null,null,null,null,null,null,null,null,null,null,null,null,null,null,null,null,null,null,null,null,null,0,"",0,0,0,0,0,0,0,null,0,"",0,0,0,0,0,0,0,null,0,"",0,0,0,0,0,0,0]
[null,null,null,null,null,null,null,null,null,null,null,null,null,null,null,null,null,null,null,null,null,null,null,null,null,null,null,null,null,null,null,null,null,null,null,null,null,null,null,null,null,null,null,null,null,null,null,null,null,null,null,null,0,"",0,0,0,0,0,0,0,null,0,"",0,0,0,0,0,0,0,null,0,"",0,0,0,0,0,0,0]
[null,null,null,null,null,null,null,null,null,null,null,null,null,null,null,null,null,null,null,null,null,null,null,null,null,null,null,null,null,null,null,null,null,null,null,null,null,null,null,null,null,null,null,null,null,null,null,null,null,null,null,null,0,"",0,0,0,0,0,0,0,null,0,"",0,0,0,0,0,0,0,null,0,"",0,0,0,0,0,0,0]
[null,null,null,null,null,null,null,null,null,null,null,null,null,null,null,null,null,null,null,null,null,null,null,null,null,null,null,null,null,null,null,null,null,null,null,null,null,null,null,null,null,null,null,null,null,null,null,null,null,null,null,null,0,"",0,0,0,0,0,0,0,null,0,"",0,0,0,0,0,0,0,null,0,"",0,0,0,0,0,0,0]
[null,null,null,null,null,null,null,null,null,null,null,null,null,null,null,null,null,null,null,null,null,null,null,null,null,null,null,null,null,null,null,null,null,null,null,null,null,null,null,null,null,null,null,null,null,null,null,null,null,null,null,null,0,"",0,0,0,0,0,0,0,null,0,"",0,0,0,0,0,0,0,null,0,"",0,0,0,0,0,0,0]
[null,null,null,null,null,null,null,null,null,null,null,null,null,null,null,null,null,null,null,null,null,null,null,null,null,null,null,null,null,null,null,null,null,null,null,null,null,null,null,null,null,null,null,null,null,null,null,null,null,null,null,null,0,"",0,0,0,0,0,0,0,null,0,"",0,0,0,0,0,0,0,null,0,"",0,0,0,0,0,0,0]
[null,null,null,null,null,null,null,null,null,null,null,null,null,null,null,null,null,null,null,null,null,null,null,null,null,null,null,null,null,null,null,null,null,null,null,null,null,null,null,null,null,null,null,null,null,null,null,null,null,null,null,null,0,"",0,0,0,0,0,0,0,null,0,{"$f":"L387&M387","v":""},0,0,0,0,0,0,0,null,0,{"$f":"V387&W387","v":""},0,0,0,0,0,0,0]
[null,null,null,null,null,null,null,null,null,null,null,null,null,null,null,null,null,null,null,null,null,null,null,null,null,null,null,null,null,null,null,null,null,null,null,null,null,null,null,null,null,null,null,null,null,null,null,null,null,null,null,null,0,"",0,0,0,0,0,0,0,null,0,"",0,0,0,0,0,0,0,null,0,"",0,0,0,0,0,0,0]
[null,null,null,null,null,null,null,null,null,null,null,null,null,null,null,null,null,null,null,null,null,null,null,null,null,null,null,null,null,null,null,null,null,null,null,null,null,null,null,null,null,null,null,null,null,null,null,null,null,null,null,null,0,"",0,0,0,0,0,0,0,null,0,"",0,0,0,0,0,0,0,null,0,"",0,0,0,0,0,0,0]
[null,null,null,null,null,null,null,null,null,null,null,null,null,null,null,null,null,null,null,null,null,null,null,null,null,null,null,null,null,null,null,null,null,null,null,null,null,null,null,null,null,null,null,null,null,null,null,null,null,null,null,null,0,"",0,0,0,0,0,0,0,null,0,"",0,0,0,0,0,0,0,null,0,"",0,0,0,0,0,0,0]
[null,null,null,null,null,null,null,null,null,null,null,null,null,null,null,null,null,null,null,null,null,null,null,null,null,null,null,null,null,null,null,null,null,null,null,null,null,null,null,null,null,null,null,null,null,null,null,null,null,null,null,null,0,"",0,0,0,0,0,0,0,null,0,"",0,0,0,0,0,0,0,null,0,"",0,0,0,0,0,0,0]
[null,null,null,null,null,null,null,null,null,null,null,null,null,null,null,null,null,null,null,null,null,null,null,null,null,null,null,null,null,null,null,null,null,null,null,null,null,null,null,null,null,null,null,null,null,null,null,null,null,null,null,null,0,"",0,0,0,0,0,0,0,null,0,"",0,0,0,0,0,0,0,null,0,"",0,0,0,0,0,0,0]
[null,null,null,null,null,null,null,null,null,null,null,null,null,null,null,null,null,null,null,null,null,null,null,null,null,null,null,null,null,null,null,null,null,null,null,null,null,null,null,null,null,null,null,null,null,null,null,null,null,null,null,null,0,"",0,0,0,0,0,0,0,null,0,"",0,0,0,0,0,0,0,null,0,"",0,0,0,0,0,0,0]
[null,null,null,null,null,null,null,null,null,null,null,null,null,null,null,null,null,null,null,null,null,null,null,null,null,null,null,null,null,null,null,null,null,null,null,null,null,null,null,null,null,null,null,null,null,null,null,null,null,null,null,null,0,"",0,0,0,0,0,0,0,null,0,"",0,0,0,0,0,0,0,null,0,"",0,0,0,0,0,0,0]
[null,null,null,null,null,null,null,null,null,null,null,null,null,null,null,null,null,null,null,null,null,null,null,null,null,null,null,null,null,null,null,null,null,null,null,null,null,null,null,null,null,null,null,null,null,null,null,null,null,null,null,null,0,"",0,0,0,0,0,0,0,null,0,"",0,0,0,0,0,0,0,null,0,"",0,0,0,0,0,0,0]
[null,null,null,null,null,null,null,null,null,null,null,null,null,null,null,null,null,null,null,null,null,null,null,null,null,null,null,null,null,null,null,null,null,null,null,null,null,null,null,null,null,null,null,null,null,null,null,null,null,null,null,null,0,"",0,0,0,0,0,0,0,null,0,"",0,0,0,0,0,0,0,null,0,"",0,0,0,0,0,0,0]
[null,null,null,null,null,null,null,null,null,null,null,null,null,null,null,null,null,null,null,null,null,null,null,null,null,null,null,null,null,null,null,null,null,null,null,null,null,null,null,null,null,null,null,null,null,null,null,null,null,null,null,null,0,"",0,0,0,0,0,0,0,null,0,"",0,0,0,0,0,0,0,null,0,"",0,0,0,0,0,0,0]
[null,null,null,null,null,null,null,null,null,null,null,null,null,null,null,null,null,null,null,null,null,null,null,null,null,null,null,null,null,null,null,null,null,null,null,null,null,null,null,null,null,null,null,null,null,null,null,null,null,null,null,null,0,"",0,0,0,0,0,0,0,null,{"$f":"K398","v":0},"",{"$f":"M398","v":0},{"$f":"N398","v":0},{"$f":"O398","v":0},{"$f":"P398","v":0},{"$f":"Q398","v":0},{"$f":"R398","v":0},{"$f":"S398","v":0},null,{"$f":"U398","v":0},"",{"$f":"W398","v":0},{"$f":"X398","v":0},{"$f":"Y398","v":0},{"$f":"Z398","v":0},{"$f":"AA398","v":0},{"$f":"AB398","v":0},{"$f":"AC398","v":0}]
[null,null,null,null,null,null,null,null,null,null,null,null,null,null,null,null,null,null,null,null,null,null,null,null,null,null,null,null,null,null,null,null,null,null,null,null,null,null,null,null,null,null,null,null,null,null,null,null,null,null,null,null,0,"",0,0,0,0,0,0,0,null,0,"",0,0,0,0,0,0,0,null,0,"",0,0,0,0,0,0,0]
[null,null,null,null,null,null,null,null,null,null,null,null,null,null,null,null,null,null,null,null,null,null,null,null,null,null,null,null,null,null,null,null,null,null,null,null,null,null,null,null,null,null,null,null,null,null,null,null,null,null,null,null,0,"",0,0,0,0,0,0,0,null,0,"",0,0,0,0,0,0,0,null,0,"",0,0,0,0,0,0,0]
[null,null,null,null,null,null,null,null,null,null,null,null,null,null,null,null,null,null,null,null,null,null,null,null,null,null,null,null,null,null,null,null,null,null,null,null,null,null,null,null,null,null,null,null,null,null,null,null,null,null,null,null,0,"",0,0,0,0,0,0,0,null,0,"",0,0,0,0,0,0,0,null,0,"",0,0,0,0,0,0,0]
[null,null,null,null,null,null,null,null,null,null,null,null,null,null,null,null,null,null,null,null,null,null,null,null,null,null,null,null,null,null,null,null,null,null,null,null,null,null,null,null,null,null,null,null,null,null,null,null,null,null,null,null,0,"",0,0,0,0,0,0,0,null,0,"",0,0,0,0,0,0,0,null,0,"",0,0,0,0,0,0,0]
[null,null,null,null,null,null,null,null,null,null,null,null,null,null,null,null,null,null,null,null,null,null,null,null,null,null,null,null,null,null,null,null,null,null,null,null,null,null,null,null,null,null,null,null,null,null,null,null,null,null,null,null,0,"",0,0,0,0,0,0,0,null,0,"",0,0,0,0,0,0,0,null,0,"",0,0,0,0,0,0,0]
[null,null,null,null,null,null,null,null,null,null,null,null,null,null,null,null,null,null,null,null,null,null,null,null,null,null,null,null,null,null,null,null,null,null,null,null,null,null,null,null,null,null,null,null,null,null,null,null,null,null,null,null,0,"",0,0,0,0,0,0,0,null,0,"",0,0,0,0,0,0,0,null,0,"",0,0,0,0,0,0,0]
[null,null,null,null,null,null,null,null,null,null,null,null,null,null,null,null,null,null,null,null,null,null,null,null,null,null,null,null,null,null,null,null,null,null,null,null,null,null,null,null,null,null,null,null,null,null,null,null,null,null,null,null,0,"",0,0,0,0,0,0,0,null,0,"",0,0,0,0,0,0,0,null,0,"",0,0,0,0,0,0,0]
[null,null,null,null,null,null,null,null,null,null,null,null,null,null,null,null,null,null,null,null,null,null,null,null,null,null,null,null,null,null,null,null,null,null,null,null,null,null,null,null,null,null,null,null,null,null,null,null,null,null,null,null,0,"",0,0,0,0,0,0,0,null,0,"",0,0,0,0,0,0,0,null,0,"",0,0,0,0,0,0,0]
[null,null,null,null,null,null,null,null,null,null,null,null,null,null,null,null,null,null,null,null,null,null,null,null,null,null,null,null,null,null,null,null,null,null,null,null,null,null,null,null,null,null,null,null,null,null,null,null,null,null,null,null,0,"",0,0,0,0,0,0,0,null,0,"",0,0,0,0,0,0,0,null,0,"",0,0,0,0,0,0,0]
[null,null,null,null,null,null,null,null,null,null,null,null,null,null,null,null,null,null,null,null,null,null,null,null,null,null,null,null,null,null,null,null,null,null,null,null,null,null,null,null,null,null,null,null,null,null,null,null,null,null,null,null,{"$f":"A408","v":0},{"$f":"B408&C408","v":""},{"$f":"C408","v":0},{"$f":"D408","v":0},{"$f":"E408","v":0},{"$f":"F408","v":0},{"$f":"G408","v":0},{"$f":"H408","v":0},{"$f":"I408","v":0},null,0,"",0,0,0,0,0,0,0,null,0,"",0,0,0,0,0,0,0]
[null,null,null,null,null,null,null,null,null,null,null,null,null,null,null,null,null,null,null,null,null,null,null,null,null,null,null,null,null,null,null,null,null,null,null,null,null,null,null,null,null,null,null,null,null,null,null,null,null,null,null,null,0,"",0,0,0,0,0,0,0,null,0,"",0,0,0,0,0,0,0,null,0,"",0,0,0,0,0,0,0]
[null,null,null,null,null,null,null,null,null,null,null,null,null,null,null,null,null,null,null,null,null,null,null,null,null,null,null,null,null,null,null,null,null,null,null,null,null,null,null,null,null,null,null,null,null,null,null,null,null,null,null,null,0,"",0,0,0,0,0,0,0,null,0,"",0,0,0,0,0,0,0,null,0,"",0,0,0,0,0,0,0]
[null,null,null,null,null,null,null,null,null,null,null,null,null,null,null,null,null,null,null,null,null,null,null,null,null,null,null,null,null,null,null,null,null,null,null,null,null,null,null,null,null,null,null,null,null,null,null,null,null,null,null,null,0,"",0,0,0,0,0,0,0,null,0,"",0,0,0,0,0,0,0,null,0,"",0,0,0,0,0,0,0]
[null,null,null,null,null,null,null,null,null,null,null,null,null,null,null,null,null,null,null,null,null,null,null,null,null,null,null,null,null,null,null,null,null,null,null,null,null,null,null,null,null,null,null,null,null,null,null,null,null,null,null,null,0,"",0,0,0,0,0,0,0,null,0,"",0,0,0,0,0,0,0,null,0,"",0,0,0,0,0,0,0]
[null,null,null,null,null,null,null,null,null,null,null,null,null,null,null,null,null,null,null,null,null,null,null,null,null,null,null,null,null,null,null,null,null,null,null,null,null,null,null,null,null,null,null,null,null,null,null,null,null,null,null,null,0,"",0,0,0,0,0,0,0,null,0,"",0,0,0,0,0,0,0,null,0,"",0,0,0,0,0,0,0]
[null,null,null,null,null,null,null,null,null,null,null,null,null,null,null,null,null,null,null,null,null,null,null,null,null,null,null,null,null,null,null,null,null,null,null,null,null,null,null,null,null,null,null,null,null,null,null,null,null,null,null,null,0,"",0,0,0,0,0,0,0,null,0,"",0,0,0,0,0,0,0,null,0,"",0,0,0,0,0,0,0]
[null,null,null,null,null,null,null,null,null,null,null,null,null,null,null,null,null,null,null,null,null,null,null,null,null,null,null,null,null,null,null,null,null,null,null,null,null,null,null,null,null,null,null,null,null,null,null,null,null,null,null,null,0,"",0,0,0,0,0,0,0,null,0,"",0,0,0,0,0,0,0,null,0,"",0,0,0,0,0,0,0]
[null,null,null,null,null,null,null,null,null,null,null,null,null,null,null,null,null,null,null,null,null,null,null,null,null,null,null,null,null,null,null,null,null,null,null,null,null,null,null,null,null,null,null,null,null,null,null,null,null,null,null,null,0,"",0,0,0,0,0,0,0,null,0,"",0,0,0,0,0,0,0,null,0,"",0,0,0,0,0,0,0]
[null,null,null,null,null,null,null,null,null,null,null,null,null,null,null,null,null,null,null,null,null,null,null,null,null,null,null,null,null,null,null,null,null,null,null,null,null,null,null,null,null,null,null,null,null,null,null,null,null,null,null,null,0,"",0,0,0,0,0,0,0,null,0,"",0,0,0,0,0,0,0,null,0,"",0,0,0,0,0,0,0]
[null,null,null,null,null,null,null,null,null,null,null,null,null,null,null,null,null,null,null,null,null,null,null,null,null,null,null,null,null,null,null,null,null,null,null,null,null,null,null,null,null,null,null,null,null,null,null,null,null,null,null,null,0,"",0,0,0,0,0,0,0,null,0,"",0,0,0,0,0,0,0,null,0,"",0,0,0,0,0,0,0]
[null,null,null,null,null,null,null,null,null,null,null,null,null,null,null,null,null,null,null,null,null,null,null,null,null,null,null,null,null,null,null,null,null,null,null,null,null,null,null,null,null,null,null,null,null,null,null,null,null,null,null,null,0,"",0,0,0,0,0,0,0,null,0,"",0,0,0,0,0,0,0,null,0,"",0,0,0,0,0,0,0]
[null,null,null,null,null,null,null,null,null,null,null,null,null,null,null,null,null,null,null,null,null,null,null,null,null,null,null,null,null,null,null,null,null,null,null,null,null,null,null,null,null,null,null,null,null,null,null,null,null,null,null,null,0,"",0,0,0,0,0,0,0,null,0,"",0,0,0,0,0,0,0,null,0,"",0,0,0,0,0,0,0]
[null,null,null,null,null,null,null,null,null,null,null,null,null,null,null,null,null,null,null,null,null,null,null,null,null,null,null,null,null,null,null,null,null,null,null,null,null,null,null,null,null,null,null,null,null,null,null,null,null,null,null,null,0,"",0,0,0,0,0,0,0,null,0,"",0,0,0,0,0,0,0,null,0,"",0,0,0,0,0,0,0]
[null,null,null,null,null,null,null,null,null,null,null,null,null,null,null,null,null,null,null,null,null,null,null,null,null,null,null,null,null,null,null,null,null,null,null,null,null,null,null,null,null,null,null,null,null,null,null,null,null,null,null,null,0,"",0,0,0,0,0,0,0,null,0,"",0,0,0,0,0,0,0,null,0,"",0,0,0,0,0,0,0]
[null,null,null,null,null,null,null,null,null,null,null,null,null,null,null,null,null,null,null,null,null,null,null,null,null,null,null,null,null,null,null,null,null,null,null,null,null,null,null,null,null,null,null,null,null,null,null,null,null,null,null,null,0,"",0,0,0,0,0,0,0,null,0,"",0,0,0,0,0,0,0,null,0,"",0,0,0,0,0,0,0]
[null,null,null,null,null,null,null,null,null,null,null,null,null,null,null,null,null,null,null,null,null,null,null,null,null,null,null,null,null,null,null,null,null,null,null,null,null,null,null,null,null,null,null,null,null,null,null,null,null,null,null,null,0,"",0,0,0,0,0,0,0,null,0,"",0,0,0,0,0,0,0,null,0,"",0,0,0,0,0,0,0]
[null,null,null,null,null,null,null,null,null,null,null,null,null,null,null,null,null,null,null,null,null,null,null,null,null,null,null,null,null,null,null,null,null,null,null,null,null,null,null,null,null,null,null,null,null,null,null,null,null,null,null,null,0,"",0,0,0,0,0,0,0,null,0,"",0,0,0,0,0,0,0,null,0,"",0,0,0,0,0,0,0]
[null,null,null,null,null,null,null,null,null,null,null,null,null,null,null,null,null,null,null,null,null,null,null,null,null,null,null,null,null,null,null,null,null,null,null,null,null,null,null,null,null,null,null,null,null,null,null,null,null,null,null,null,0,"",0,0,0,0,0,0,0,null,0,"",0,0,0,0,0,0,0,null,0,"",0,0,0,0,0,0,0]
[null,null,null,null,null,null,null,null,null,null,null,null,null,null,null,null,null,null,null,null,null,null,null,null,null,null,null,null,null,null,null,null,null,null,null,null,null,null,null,null,null,null,null,null,null,null,null,null,null,null,null,null,0,"",0,0,0,0,0,0,0,null,0,"",0,0,0,0,0,0,0,null,0,"",0,0,0,0,0,0,0]
[null,null,null,null,null,null,null,null,null,null,null,null,null,null,null,null,null,null,null,null,null,null,null,null,null,null,null,null,null,null,null,null,null,null,null,null,null,null,null,null,null,null,null,null,null,null,null,null,null,null,null,null,0,"",0,0,0,0,0,0,0,null,0,"",0,0,0,0,0,0,0,null,0,"",0,0,0,0,0,0,0]
[null,null,null,null,null,null,null,null,null,null,null,null,null,null,null,null,null,null,null,null,null,null,null,null,null,null,null,null,null,null,null,null,null,null,null,null,null,null,null,null,null,null,null,null,null,null,null,null,null,null,null,null,0,"",0,0,0,0,0,0,0,null,0,"",0,0,0,0,0,0,0,null,0,"",0,0,0,0,0,0,0]
[null,null,null,null,null,null,null,null,null,null,null,null,null,null,null,null,null,null,null,null,null,null,null,null,null,null,null,null,null,null,null,null,null,null,null,null,null,null,null,null,null,null,null,null,null,null,null,null,null,null,null,null,0,"",0,0,0,0,0,0,0,null,0,"",0,0,0,0,0,0,0,null,0,"",0,0,0,0,0,0,0]
[null,null,null,null,null,null,null,null,null,null,null,null,null,null,null,null,null,null,null,null,null,null,null,null,null,null,null,null,null,null,null,null,null,null,null,null,null,null,null,null,null,null,null,null,null,null,null,null,null,null,null,null,0,"",0,0,0,0,0,0,0,null,0,"",0,0,0,0,0,0,0,null,0,"",0,0,0,0,0,0,0]
[null,null,null,null,null,null,null,null,null,null,null,null,null,null,null,null,null,null,null,null,null,null,null,null,null,null,null,null,null,null,null,null,null,null,null,null,null,null,null,null,null,null,null,null,null,null,null,null,null,null,null,null,0,"",0,0,0,0,0,0,0,null,0,"",0,0,0,0,0,0,0,null,0,"",0,0,0,0,0,0,0]
[null,null,null,null,null,null,null,null,null,null,null,null,null,null,null,null,null,null,null,null,null,null,null,null,null,null,null,null,null,null,null,null,null,null,null,null,null,null,null,null,null,null,null,null,null,null,null,null,null,null,null,null,0,"",0,0,0,0,0,0,0,null,0,"",0,0,0,0,0,0,0,null,0,"",0,0,0,0,0,0,0]
[null,null,null,null,null,null,null,null,null,null,null,null,null,null,null,null,null,null,null,null,null,null,null,null,null,null,null,null,null,null,null,null,null,null,null,null,null,null,null,null,null,null,null,null,null,null,null,null,null,null,null,null,0,"",0,0,0,0,0,0,0,null,0,"",0,0,0,0,0,0,0,null,0,"",0,0,0,0,0,0,0]
[null,null,null,null,null,null,null,null,null,null,null,null,null,null,null,null,null,null,null,null,null,null,null,null,null,null,null,null,null,null,null,null,null,null,null,null,null,null,null,null,null,null,null,null,null,null,null,null,null,null,null,null,0,"",0,0,0,0,0,0,0,null,0,"",0,0,0,0,0,0,0,null,0,"",0,0,0,0,0,0,0]
[null,null,null,null,null,null,null,null,null,null,null,null,null,null,null,null,null,null,null,null,null,null,null,null,null,null,null,null,null,null,null,null,null,null,null,null,null,null,null,null,null,null,null,null,null,null,null,null,null,null,null,null,0,"",0,0,0,0,0,0,0,null,0,"",0,0,0,0,0,0,0,null,0,"",0,0,0,0,0,0,0]
[null,null,null,null,null,null,null,null,null,null,null,null,null,null,null,null,null,null,null,null,null,null,null,null,null,null,null,null,null,null,null,null,null,null,null,null,null,null,null,null,null,null,null,null,null,null,null,null,null,null,null,null,0,"",0,0,0,0,0,0,0,null,0,"",0,0,0,0,0,0,0,null,0,"",0,0,0,0,0,0,0]
[null,null,null,null,null,null,null,null,null,null,null,null,null,null,null,null,null,null,null,null,null,null,null,null,null,null,null,null,null,null,null,null,null,null,null,null,null,null,null,null,null,null,null,null,null,null,null,null,null,null,null,null,0,"",0,0,0,0,0,0,0,null,0,"",0,0,0,0,0,0,0,null,0,"",0,0,0,0,0,0,0]
[null,null,null,null,null,null,null,null,null,null,null,null,null,null,null,null,null,null,null,null,null,null,null,null,null,null,null,null,null,null,null,null,null,null,null,null,null,null,null,null,null,null,null,null,null,null,null,null,null,null,null,null,0,"",0,0,0,0,0,0,0,null,0,"",0,0,0,0,0,0,0,null,0,"",0,0,0,0,0,0,0]
[null,null,null,null,null,null,null,null,null,null,null,null,null,null,null,null,null,null,null,null,null,null,null,null,null,null,null,null,null,null,null,null,null,null,null,null,null,null,null,null,null,null,null,null,null,null,null,null,null,null,null,null,0,"",0,0,0,0,0,0,0,null,0,"",0,0,0,0,0,0,0,null,0,"",0,0,0,0,0,0,0]
[null,null,null,null,null,null,null,null,null,null,null,null,null,null,null,null,null,null,null,null,null,null,null,null,null,null,null,null,null,null,null,null,null,null,null,null,null,null,null,null,null,null,null,null,null,null,null,null,null,null,null,null,0,"",0,0,0,0,0,0,0,null,0,"",0,0,0,0,0,0,0,null,0,"",0,0,0,0,0,0,0]
[null,null,null,null,null,null,null,null,null,null,null,null,null,null,null,null,null,null,null,null,null,null,null,null,null,null,null,null,null,null,null,null,null,null,null,null,null,null,null,null,null,null,null,null,null,null,null,null,null,null,null,null,0,"",0,0,0,0,0,0,0,null,0,"",0,0,0,0,0,0,0,null,0,"",0,0,0,0,0,0,0]
[null,null,null,null,null,null,null,null,null,null,null,null,null,null,null,null,null,null,null,null,null,null,null,null,null,null,null,null,null,null,null,null,null,null,null,null,null,null,null,null,null,null,null,null,null,null,null,null,null,null,null,null,0,"",0,0,0,0,0,0,0,null,0,"",0,0,0,0,0,0,0,null,0,"",0,0,0,0,0,0,0]
[null,null,null,null,null,null,null,null,null,null,null,null,null,null,null,null,null,null,null,null,null,null,null,null,null,null,null,null,null,null,null,null,null,null,null,null,null,null,null,null,null,null,null,null,null,null,null,null,null,null,null,null,0,"",0,0,0,0,0,0,0,null,0,"",0,0,0,0,0,0,0,null,0,"",0,0,0,0,0,0,0]
[null,null,null,null,null,null,null,null,null,null,null,null,null,null,null,null,null,null,null,null,null,null,null,null,null,null,null,null,null,null,null,null,null,null,null,null,null,null,null,null,null,null,null,null,null,null,null,null,null,null,null,null,0,"",0,0,0,0,0,0,0,null,0,"",0,0,0,0,0,0,0,null,0,"",0,0,0,0,0,0,0]
[null,null,null,null,null,null,null,null,null,null,null,null,null,null,null,null,null,null,null,null,null,null,null,null,null,null,null,null,null,null,null,null,null,null,null,null,null,null,null,null,null,null,null,null,null,null,null,null,null,null,null,null,0,"",0,0,0,0,0,0,0,null,0,"",0,0,0,0,0,0,0,null,0,"",0,0,0,0,0,0,0]
[null,null,null,null,null,null,null,null,null,null,null,null,null,null,null,null,null,null,null,null,null,null,null,null,null,null,null,null,null,null,null,null,null,null,null,null,null,null,null,null,null,null,null,null,null,null,null,null,null,null,null,null,0,"",0,0,0,0,0,0,0,null,0,"",0,0,0,0,0,0,0,null,0,"",0,0,0,0,0,0,0]
[null,null,null,null,null,null,null,null,null,null,null,null,null,null,null,null,null,null,null,null,null,null,null,null,null,null,null,null,null,null,null,null,null,null,null,null,null,null,null,null,null,null,null,null,null,null,null,null,null,null,null,null,0,"",0,0,0,0,0,0,0,null,0,"",0,0,0,0,0,0,0,null,0,"",0,0,0,0,0,0,0]
[null,null,null,null,null,null,null,null,null,null,null,null,null,null,null,null,null,null,null,null,null,null,null,null,null,null,null,null,null,null,null,null,null,null,null,null,null,null,null,null,null,null,null,null,null,null,null,null,null,null,null,null,0,"",0,0,0,0,0,0,0,null,0,"",0,0,0,0,0,0,0,null,0,"",0,0,0,0,0,0,0]
[null,null,null,null,null,null,null,null,null,null,null,null,null,null,null,null,null,null,null,null,null,null,null,null,null,null,null,null,null,null,null,null,null,null,null,null,null,null,null,null,null,null,null,null,null,null,null,null,null,null,null,null,0,"",0,0,0,0,0,0,0,null,0,"",0,0,0,0,0,0,0,null,0,"",0,0,0,0,0,0,0]
[null,null,null,null,null,null,null,null,null,null,null,null,null,null,null,null,null,null,null,null,null,null,null,null,null,null,null,null,null,null,null,null,null,null,null,null,null,null,null,null,null,null,null,null,null,null,null,null,null,null,null,null,0,"",0,0,0,0,0,0,0,null,0,{"$f":"L451&M451","v":""},0,0,0,0,0,0,0,null,0,{"$f":"V451&W451","v":""},0,0,0,0,0,0,0]
[null,null,null,null,null,null,null,null,null,null,null,null,null,null,null,null,null,null,null,null,null,null,null,null,null,null,null,null,null,null,null,null,null,null,null,null,null,null,null,null,null,null,null,null,null,null,null,null,null,null,null,null,0,"",0,0,0,0,0,0,0,null,0,"",0,0,0,0,0,0,0,null,0,"",0,0,0,0,0,0,0]
[null,null,null,null,null,null,null,null,null,null,null,null,null,null,null,null,null,null,null,null,null,null,null,null,null,null,null,null,null,null,null,null,null,null,null,null,null,null,null,null,null,null,null,null,null,null,null,null,null,null,null,null,0,"",0,0,0,0,0,0,0,null,0,"",0,0,0,0,0,0,0,null,0,"",0,0,0,0,0,0,0]
[null,null,null,null,null,null,null,null,null,null,null,null,null,null,null,null,null,null,null,null,null,null,null,null,null,null,null,null,null,null,null,null,null,null,null,null,null,null,null,null,null,null,null,null,null,null,null,null,null,null,null,null,0,"",0,0,0,0,0,0,0,null,0,"",0,0,0,0,0,0,0,null,0,"",0,0,0,0,0,0,0]
[null,null,null,null,null,null,null,null,null,null,null,null,null,null,null,null,null,null,null,null,null,null,null,null,null,null,null,null,null,null,null,null,null,null,null,null,null,null,null,null,null,null,null,null,null,null,null,null,null,null,null,null,0,"",0,0,0,0,0,0,0,null,0,"",0,0,0,0,0,0,0,null,0,"",0,0,0,0,0,0,0]
[null,null,null,null,null,null,null,null,null,null,null,null,null,null,null,null,null,null,null,null,null,null,null,null,null,null,null,null,null,null,null,null,null,null,null,null,null,null,null,null,null,null,null,null,null,null,null,null,null,null,null,null,0,"",0,0,0,0,0,0,0,null,0,"",0,0,0,0,0,0,0,null,0,"",0,0,0,0,0,0,0]
[null,null,null,null,null,null,null,null,null,null,null,null,null,null,null,null,null,null,null,null,null,null,null,null,null,null,null,null,null,null,null,null,null,null,null,null,null,null,null,null,null,null,null,null,null,null,null,null,null,null,null,null,0,"",0,0,0,0,0,0,0,null,0,"",0,0,0,0,0,0,0,null,0,"",0,0,0,0,0,0,0]
[null,null,null,null,null,null,null,null,null,null,null,null,null,null,null,null,null,null,null,null,null,null,null,null,null,null,null,null,null,null,null,null,null,null,null,null,null,null,null,null,null,null,null,null,null,null,null,null,null,null,null,null,0,"",0,0,0,0,0,0,0,null,0,"",0,0,0,0,0,0,0,null,0,"",0,0,0,0,0,0,0]
[null,null,null,null,null,null,null,null,null,null,null,null,null,null,null,null,null,null,null,null,null,null,null,null,null,null,null,null,null,null,null,null,null,null,null,null,null,null,null,null,null,null,null,null,null,null,null,null,null,null,null,null,0,"",0,0,0,0,0,0,0,null,0,"",0,0,0,0,0,0,0,null,0,"",0,0,0,0,0,0,0]
[null,null,null,null,null,null,null,null,null,null,null,null,null,null,null,null,null,null,null,null,null,null,null,null,null,null,null,null,null,null,null,null,null,null,null,null,null,null,null,null,null,null,null,null,null,null,null,null,null,null,null,null,0,"",0,0,0,0,0,0,0,null,0,"",0,0,0,0,0,0,0,null,0,"",0,0,0,0,0,0,0]
[null,null,null,null,null,null,null,null,null,null,null,null,null,null,null,null,null,null,null,null,null,null,null,null,null,null,null,null,null,null,null,null,null,null,null,null,null,null,null,null,null,null,null,null,null,null,null,null,null,null,null,null,0,"",0,0,0,0,0,0,0,null,0,"",0,0,0,0,0,0,0,null,0,"",0,0,0,0,0,0,0]
[null,null,null,null,null,null,null,null,null,null,null,null,null,null,null,null,null,null,null,null,null,null,null,null,null,null,null,null,null,null,null,null,null,null,null,null,null,null,null,null,null,null,null,null,null,null,null,null,null,null,null,null,0,"",0,0,0,0,0,0,0,null,{"$f":"K462","v":0},"",{"$f":"M462","v":0},{"$f":"N462","v":0},{"$f":"O462","v":0},{"$f":"P462","v":0},{"$f":"Q462","v":0},{"$f":"R462","v":0},{"$f":"S462","v":0},null,{"$f":"U462","v":0},"",{"$f":"W462","v":0},{"$f":"X462","v":0},{"$f":"Y462","v":0},{"$f":"Z462","v":0},{"$f":"AA462","v":0},{"$f":"AB462","v":0},{"$f":"AC462","v":0}]
[null,null,null,null,null,null,null,null,null,null,null,null,null,null,null,null,null,null,null,null,null,null,null,null,null,null,null,null,null,null,null,null,null,null,null,null,null,null,null,null,null,null,null,null,null,null,null,null,null,null,null,null,0,"",0,0,0,0,0,0,0,null,0,"",0,0,0,0,0,0,0,null,0,"",0,0,0,0,0,0,0]
[null,null,null,null,null,null,null,null,null,null,null,null,null,null,null,null,null,null,null,null,null,null,null,null,null,null,null,null,null,null,null,null,null,null,null,null,null,null,null,null,null,null,null,null,null,null,null,null,null,null,null,null,0,"",0,0,0,0,0,0,0,null,0,"",0,0,0,0,0,0,0,null,0,"",0,0,0,0,0,0,0]
[null,null,null,null,null,null,null,null,null,null,null,null,null,null,null,null,null,null,null,null,null,null,null,null,null,null,null,null,null,null,null,null,null,null,null,null,null,null,null,null,null,null,null,null,null,null,null,null,null,null,null,null,0,"",0,0,0,0,0,0,0,null,0,"",0,0,0,0,0,0,0,null,0,"",0,0,0,0,0,0,0]
[null,null,null,null,null,null,null,null,null,null,null,null,null,null,null,null,null,null,null,null,null,null,null,null,null,null,null,null,null,null,null,null,null,null,null,null,null,null,null,null,null,null,null,null,null,null,null,null,null,null,null,null,0,"",0,0,0,0,0,0,0,null,0,"",0,0,0,0,0,0,0,null,0,"",0,0,0,0,0,0,0]
[null,null,null,null,null,null,null,null,null,null,null,null,null,null,null,null,null,null,null,null,null,null,null,null,null,null,null,null,null,null,null,null,null,null,null,null,null,null,null,null,null,null,null,null,null,null,null,null,null,null,null,null,0,"",0,0,0,0,0,0,0,null,0,"",0,0,0,0,0,0,0,null,0,"",0,0,0,0,0,0,0]
[null,null,null,null,null,null,null,null,null,null,null,null,null,null,null,null,null,null,null,null,null,null,null,null,null,null,null,null,null,null,null,null,null,null,null,null,null,null,null,null,null,null,null,null,null,null,null,null,null,null,null,null,0,"",0,0,0,0,0,0,0,null,0,"",0,0,0,0,0,0,0,null,0,"",0,0,0,0,0,0,0]
[null,null,null,null,null,null,null,null,null,null,null,null,null,null,null,null,null,null,null,null,null,null,null,null,null,null,null,null,null,null,null,null,null,null,null,null,null,null,null,null,null,null,null,null,null,null,null,null,null,null,null,null,0,"",0,0,0,0,0,0,0,null,0,"",0,0,0,0,0,0,0,null,0,"",0,0,0,0,0,0,0]
[null,null,null,null,null,null,null,null,null,null,null,null,null,null,null,null,null,null,null,null,null,null,null,null,null,null,null,null,null,null,null,null,null,null,null,null,null,null,null,null,null,null,null,null,null,null,null,null,null,null,null,null,0,"",0,0,0,0,0,0,0,null,0,"",0,0,0,0,0,0,0,null,0,"",0,0,0,0,0,0,0]
[null,null,null,null,null,null,null,null,null,null,null,null,null,null,null,null,null,null,null,null,null,null,null,null,null,null,null,null,null,null,null,null,null,null,null,null,null,null,null,null,null,null,null,null,null,null,null,null,null,null,null,null,0,"",0,0,0,0,0,0,0,null,0,"",0,0,0,0,0,0,0,null,0,"",0,0,0,0,0,0,0]
[null,null,null,null,null,null,null,null,null,null,null,null,null,null,null,null,null,null,null,null,null,null,null,null,null,null,null,null,null,null,null,null,null,null,null,null,null,null,null,null,null,null,null,null,null,null,null,null,null,null,null,null,{"$f":"A472","v":0},{"$f":"B472&C472","v":""},{"$f":"C472","v":0},{"$f":"D472","v":0},{"$f":"E472","v":0},{"$f":"F472","v":0},{"$f":"G472","v":0},{"$f":"H472","v":0},{"$f":"I472","v":0},null,0,"",0,0,0,0,0,0,0,null,0,"",0,0,0,0,0,0,0]
[null,null,null,null,null,null,null,null,null,null,null,null,null,null,null,null,null,null,null,null,null,null,null,null,null,null,null,null,null,null,null,null,null,null,null,null,null,null,null,null,null,null,null,null,null,null,null,null,null,null,null,null,0,"",0,0,0,0,0,0,0,null,0,"",0,0,0,0,0,0,0,null,0,"",0,0,0,0,0,0,0]
[null,null,null,null,null,null,null,null,null,null,null,null,null,null,null,null,null,null,null,null,null,null,null,null,null,null,null,null,null,null,null,null,null,null,null,null,null,null,null,null,null,null,null,null,null,null,null,null,null,null,null,null,0,"",0,0,0,0,0,0,0,null,0,"",0,0,0,0,0,0,0,null,0,"",0,0,0,0,0,0,0]
[null,null,null,null,null,null,null,null,null,null,null,null,null,null,null,null,null,null,null,null,null,null,null,null,null,null,null,null,null,null,null,null,null,null,null,null,null,null,null,null,null,null,null,null,null,null,null,null,null,null,null,null,0,"",0,0,0,0,0,0,0,null,0,"",0,0,0,0,0,0,0,null,0,"",0,0,0,0,0,0,0]
[null,null,null,null,null,null,null,null,null,null,null,null,null,null,null,null,null,null,null,null,null,null,null,null,null,null,null,null,null,null,null,null,null,null,null,null,null,null,null,null,null,null,null,null,null,null,null,null,null,null,null,null,0,"",0,0,0,0,0,0,0,null,0,"",0,0,0,0,0,0,0,null,0,"",0,0,0,0,0,0,0]
[null,null,null,null,null,null,null,null,null,null,null,null,null,null,null,null,null,null,null,null,null,null,null,null,null,null,null,null,null,null,null,null,null,null,null,null,null,null,null,null,null,null,null,null,null,null,null,null,null,null,null,null,0,"",0,0,0,0,0,0,0,null,0,"",0,0,0,0,0,0,0,null,0,"",0,0,0,0,0,0,0]
[null,null,null,null,null,null,null,null,null,null,null,null,null,null,null,null,null,null,null,null,null,null,null,null,null,null,null,null,null,null,null,null,null,null,null,null,null,null,null,null,null,null,null,null,null,null,null,null,null,null,null,null,0,"",0,0,0,0,0,0,0,null,0,"",0,0,0,0,0,0,0,null,0,"",0,0,0,0,0,0,0]
[null,null,null,null,null,null,null,null,null,null,null,null,null,null,null,null,null,null,null,null,null,null,null,null,null,null,null,null,null,null,null,null,null,null,null,null,null,null,null,null,null,null,null,null,null,null,null,null,null,null,null,null,0,"",0,0,0,0,0,0,0,null,0,"",0,0,0,0,0,0,0,null,0,"",0,0,0,0,0,0,0]
[null,null,null,null,null,null,null,null,null,null,null,null,null,null,null,null,null,null,null,null,null,null,null,null,null,null,null,null,null,null,null,null,null,null,null,null,null,null,null,null,null,null,null,null,null,null,null,null,null,null,null,null,0,"",0,0,0,0,0,0,0,null,0,"",0,0,0,0,0,0,0,null,0,"",0,0,0,0,0,0,0]
[null,null,null,null,null,null,null,null,null,null,null,null,null,null,null,null,null,null,null,null,null,null,null,null,null,null,null,null,null,null,null,null,null,null,null,null,null,null,null,null,null,null,null,null,null,null,null,null,null,null,null,null,0,"",0,0,0,0,0,0,0,null,0,"",0,0,0,0,0,0,0,null,0,"",0,0,0,0,0,0,0]
[null,null,null,null,null,null,null,null,null,null,null,null,null,null,null,null,null,null,null,null,null,null,null,null,null,null,null,null,null,null,null,null,null,null,null,null,null,null,null,null,null,null,null,null,null,null,null,null,null,null,null,null,0,"",0,0,0,0,0,0,0,null,0,"",0,0,0,0,0,0,0,null,0,"",0,0,0,0,0,0,0]
[null,null,null,null,null,null,null,null,null,null,null,null,null,null,null,null,null,null,null,null,null,null,null,null,null,null,null,null,null,null,null,null,null,null,null,null,null,null,null,null,null,null,null,null,null,null,null,null,null,null,null,null,0,"",0,0,0,0,0,0,0,null,0,"",0,0,0,0,0,0,0,null,0,"",0,0,0,0,0,0,0]
[null,null,null,null,null,null,null,null,null,null,null,null,null,null,null,null,null,null,null,null,null,null,null,null,null,null,null,null,null,null,null,null,null,null,null,null,null,null,null,null,null,null,null,null,null,null,null,null,null,null,null,null,0,"",0,0,0,0,0,0,0,null,0,"",0,0,0,0,0,0,0,null,0,"",0,0,0,0,0,0,0]
[null,null,null,null,null,null,null,null,null,null,null,null,null,null,null,null,null,null,null,null,null,null,null,null,null,null,null,null,null,null,null,null,null,null,null,null,null,null,null,null,null,null,null,null,null,null,null,null,null,null,null,null,0,"",0,0,0,0,0,0,0,null,0,"",0,0,0,0,0,0,0,null,0,"",0,0,0,0,0,0,0]
[null,null,null,null,null,null,null,null,null,null,null,null,null,null,null,null,null,null,null,null,null,null,null,null,null,null,null,null,null,null,null,null,null,null,null,null,null,null,null,null,null,null,null,null,null,null,null,null,null,null,null,null,0,"",0,0,0,0,0,0,0,null,0,"",0,0,0,0,0,0,0,null,0,"",0,0,0,0,0,0,0]
[null,null,null,null,null,null,null,null,null,null,null,null,null,null,null,null,null,null,null,null,null,null,null,null,null,null,null,null,null,null,null,null,null,null,null,null,null,null,null,null,null,null,null,null,null,null,null,null,null,null,null,null,0,"",0,0,0,0,0,0,0,null,0,"",0,0,0,0,0,0,0,null,0,"",0,0,0,0,0,0,0]
[null,null,null,null,null,null,null,null,null,null,null,null,null,null,null,null,null,null,null,null,null,null,null,null,null,null,null,null,null,null,null,null,null,null,null,null,null,null,null,null,null,null,null,null,null,null,null,null,null,null,null,null,0,"",0,0,0,0,0,0,0,null,0,"",0,0,0,0,0,0,0,null,0,"",0,0,0,0,0,0,0]
[null,null,null,null,null,null,null,null,null,null,null,null,null,null,null,null,null,null,null,null,null,null,null,null,null,null,null,null,null,null,null,null,null,null,null,null,null,null,null,null,null,null,null,null,null,null,null,null,null,null,null,null,0,"",0,0,0,0,0,0,0,null,0,"",0,0,0,0,0,0,0,null,0,"",0,0,0,0,0,0,0]
[null,null,null,null,null,null,null,null,null,null,null,null,null,null,null,null,null,null,null,null,null,null,null,null,null,null,null,null,null,null,null,null,null,null,null,null,null,null,null,null,null,null,null,null,null,null,null,null,null,null,null,null,0,"",0,0,0,0,0,0,0,null,0,"",0,0,0,0,0,0,0,null,0,"",0,0,0,0,0,0,0]
[null,null,null,null,null,null,null,null,null,null,null,null,null,null,null,null,null,null,null,null,null,null,null,null,null,null,null,null,null,null,null,null,null,null,null,null,null,null,null,null,null,null,null,null,null,null,null,null,null,null,null,null,0,"",0,0,0,0,0,0,0,null,0,"",0,0,0,0,0,0,0,null,0,"",0,0,0,0,0,0,0]
[null,null,null,null,null,null,null,null,null,null,null,null,null,null,null,null,null,null,null,null,null,null,null,null,null,null,null,null,null,null,null,null,null,null,null,null,null,null,null,null,null,null,null,null,null,null,null,null,null,null,null,null,0,"",0,0,0,0,0,0,0,null,0,"",0,0,0,0,0,0,0,null,0,"",0,0,0,0,0,0,0]
[null,null,null,null,null,null,null,null,null,null,null,null,null,null,null,null,null,null,null,null,null,null,null,null,null,null,null,null,null,null,null,null,null,null,null,null,null,null,null,null,null,null,null,null,null,null,null,null,null,null,null,null,0,"",0,0,0,0,0,0,0,null,0,"",0,0,0,0,0,0,0,null,0,"",0,0,0,0,0,0,0]
[null,null,null,null,null,null,null,null,null,null,null,null,null,null,null,null,null,null,null,null,null,null,null,null,null,null,null,null,null,null,null,null,null,null,null,null,null,null,null,null,null,null,null,null,null,null,null,null,null,null,null,null,0,"",0,0,0,0,0,0,0,null,0,"",0,0,0,0,0,0,0,null,0,"",0,0,0,0,0,0,0]
[null,null,null,null,null,null,null,null,null,null,null,null,null,null,null,null,null,null,null,null,null,null,null,null,null,null,null,null,null,null,null,null,null,null,null,null,null,null,null,null,null,null,null,null,null,null,null,null,null,null,null,null,0,"",0,0,0,0,0,0,0,null,0,"",0,0,0,0,0,0,0,null,0,"",0,0,0,0,0,0,0]
[null,null,null,null,null,null,null,null,null,null,null,null,null,null,null,null,null,null,null,null,null,null,null,null,null,null,null,null,null,null,null,null,null,null,null,null,null,null,null,null,null,null,null,null,null,null,null,null,null,null,null,null,0,"",0,0,0,0,0,0,0,null,0,"",0,0,0,0,0,0,0,null,0,"",0,0,0,0,0,0,0]
[null,null,null,null,null,null,null,null,null,null,null,null,null,null,null,null,null,null,null,null,null,null,null,null,null,null,null,null,null,null,null,null,null,null,null,null,null,null,null,null,null,null,null,null,null,null,null,null,null,null,null,null,0,"",0,0,0,0,0,0,0,null,0,"",0,0,0,0,0,0,0,null,0,"",0,0,0,0,0,0,0]
[null,null,null,null,null,null,null,null,null,null,null,null,null,null,null,null,null,null,null,null,null,null,null,null,null,null,null,null,null,null,null,null,null,null,null,null,null,null,null,null,null,null,null,null,null,null,null,null,null,null,null,null,0,"",0,0,0,0,0,0,0,null,0,"",0,0,0,0,0,0,0,null,0,"",0,0,0,0,0,0,0]
[null,null,null,null,null,null,null,null,null,null,null,null,null,null,null,null,null,null,null,null,null,null,null,null,null,null,null,null,null,null,null,null,null,null,null,null,null,null,null,null,null,null,null,null,null,null,null,null,null,null,null,null,0,"",0,0,0,0,0,0,0,null,0,"",0,0,0,0,0,0,0,null,0,"",0,0,0,0,0,0,0]
[null,null,null,null,null,null,null,null,null,null,null,null,null,null,null,null,null,null,null,null,null,null,null,null,null,null,null,null,null,null,null,null,null,null,null,null,null,null,null,null,null,null,null,null,null,null,null,null,null,null,null,null,0,"",0,0,0,0,0,0,0,null,0,"",0,0,0,0,0,0,0,null,0,"",0,0,0,0,0,0,0]
[null,null,null,null,null,null,null,null,null,null,null,null,null,null,null,null,null,null,null,null,null,null,null,null,null,null,null,null,null,null,null,null,null,null,null,null,null,null,null,null,null,null,null,null,null,null,null,null,null,null,null,null,0,"",0,0,0,0,0,0,0,null,0,"",0,0,0,0,0,0,0,null,0,"",0,0,0,0,0,0,0]
[null,null,null,null,null,null,null,null,null,null,null,null,null,null,null,null,null,null,null,null,null,null,null,null,null,null,null,null,null,null,null,null,null,null,null,null,null,null,null,null,null,null,null,null,null,null,null,null,null,null,null,null,0,"",0,0,0,0,0,0,0,null,0,"",0,0,0,0,0,0,0,null,0,"",0,0,0,0,0,0,0]
[null,null,null,null,null,null,null,null,null,null,null,null,null,null,null,null,null,null,null,null,null,null,null,null,null,null,null,null,null,null,null,null,null,null,null,null,null,null,null,null,null,null,null,null,null,null,null,null,null,null,null,null,0,"",0,0,0,0,0,0,0,null,0,"",0,0,0,0,0,0,0,null,0,"",0,0,0,0,0,0,0]
[null,null,null,null,null,null,null,null,null,null,null,null,null,null,null,null,null,null,null,null,null,null,null,null,null,null,null,null,null,null,null,null,null,null,null,null,null,null,null,null,null,null,null,null,null,null,null,null,null,null,null,null,0,"",0,0,0,0,0,0,0,null,0,"",0,0,0,0,0,0,0,null,0,"",0,0,0,0,0,0,0]
[null,null,null,null,null,null,null,null,null,null,null,null,null,null,null,null,null,null,null,null,null,null,null,null,null,null,null,null,null,null,null,null,null,null,null,null,null,null,null,null,null,null,null,null,null,null,null,null,null,null,null,null,0,"",0,0,0,0,0,0,0,null,0,"",0,0,0,0,0,0,0,null,0,"",0,0,0,0,0,0,0]
[null,null,null,null,null,null,null,null,null,null,null,null,null,null,null,null,null,null,null,null,null,null,null,null,null,null,null,null,null,null,null,null,null,null,null,null,null,null,null,null,null,null,null,null,null,null,null,null,null,null,null,null,0,"",0,0,0,0,0,0,0,null,0,"",0,0,0,0,0,0,0,null,0,"",0,0,0,0,0,0,0]
[null,null,null,null,null,null,null,null,null,null,null,null,null,null,null,null,null,null,null,null,null,null,null,null,null,null,null,null,null,null,null,null,null,null,null,null,null,null,null,null,null,null,null,null,null,null,null,null,null,null,null,null,0,"",0,0,0,0,0,0,0,null,0,"",0,0,0,0,0,0,0,null,0,"",0,0,0,0,0,0,0]
[null,null,null,null,null,null,null,null,null,null,null,null,null,null,null,null,null,null,null,null,null,null,null,null,null,null,null,null,null,null,null,null,null,null,null,null,null,null,null,null,null,null,null,null,null,null,null,null,null,null,null,null,0,"",0,0,0,0,0,0,0,null,0,"",0,0,0,0,0,0,0,null,0,"",0,0,0,0,0,0,0]
[null,null,null,null,null,null,null,null,null,null,null,null,null,null,null,null,null,null,null,null,null,null,null,null,null,null,null,null,null,null,null,null,null,null,null,null,null,null,null,null,null,null,null,null,null,null,null,null,null,null,null,null,0,"",0,0,0,0,0,0,0,null,0,"",0,0,0,0,0,0,0,null,0,"",0,0,0,0,0,0,0]
[null,null,null,null,null,null,null,null,null,null,null,null,null,null,null,null,null,null,null,null,null,null,null,null,null,null,null,null,null,null,null,null,null,null,null,null,null,null,null,null,null,null,null,null,null,null,null,null,null,null,null,null,0,"",0,0,0,0,0,0,0,null,0,"",0,0,0,0,0,0,0,null,0,"",0,0,0,0,0,0,0]
[null,null,null,null,null,null,null,null,null,null,null,null,null,null,null,null,null,null,null,null,null,null,null,null,null,null,null,null,null,null,null,null,null,null,null,null,null,null,null,null,null,null,null,null,null,null,null,null,null,null,null,null,0,"",0,0,0,0,0,0,0,null,0,"",0,0,0,0,0,0,0,null,0,"",0,0,0,0,0,0,0]
[null,null,null,null,null,null,null,null,null,null,null,null,null,null,null,null,null,null,null,null,null,null,null,null,null,null,null,null,null,null,null,null,null,null,null,null,null,null,null,null,null,null,null,null,null,null,null,null,null,null,null,null,0,"",0,0,0,0,0,0,0,null,0,"",0,0,0,0,0,0,0,null,0,"",0,0,0,0,0,0,0]
[null,null,null,null,null,null,null,null,null,null,null,null,null,null,null,null,null,null,null,null,null,null,null,null,null,null,null,null,null,null,null,null,null,null,null,null,null,null,null,null,null,null,null,null,null,null,null,null,null,null,null,null,0,"",0,0,0,0,0,0,0,null,0,"",0,0,0,0,0,0,0,null,0,"",0,0,0,0,0,0,0]
[null,null,null,null,null,null,null,null,null,null,null,null,null,null,null,null,null,null,null,null,null,null,null,null,null,null,null,null,null,null,null,null,null,null,null,null,null,null,null,null,null,null,null,null,null,null,null,null,null,null,null,null,0,"",0,0,0,0,0,0,0,null,0,"",0,0,0,0,0,0,0,null,0,"",0,0,0,0,0,0,0]
[null,null,null,null,null,null,null,null,null,null,null,null,null,null,null,null,null,null,null,null,null,null,null,null,null,null,null,null,null,null,null,null,null,null,null,null,null,null,null,null,null,null,null,null,null,null,null,null,null,null,null,null,0,"",0,0,0,0,0,0,0,null,0,{"$f":"L515&M515","v":""},0,0,0,0,0,0,0,null,0,{"$f":"V515&W515","v":""},0,0,0,0,0,0,0]
[null,null,null,null,null,null,null,null,null,null,null,null,null,null,null,null,null,null,null,null,null,null,null,null,null,null,null,null,null,null,null,null,null,null,null,null,null,null,null,null,null,null,null,null,null,null,null,null,null,null,null,null,0,"",0,0,0,0,0,0,0,null,0,"",0,0,0,0,0,0,0,null,0,"",0,0,0,0,0,0,0]
[null,null,null,null,null,null,null,null,null,null,null,null,null,null,null,null,null,null,null,null,null,null,null,null,null,null,null,null,null,null,null,null,null,null,null,null,null,null,null,null,null,null,null,null,null,null,null,null,null,null,null,null,0,"",0,0,0,0,0,0,0,null,0,"",0,0,0,0,0,0,0,null,0,"",0,0,0,0,0,0,0]
[null,null,null,null,null,null,null,null,null,null,null,null,null,null,null,null,null,null,null,null,null,null,null,null,null,null,null,null,null,null,null,null,null,null,null,null,null,null,null,null,null,null,null,null,null,null,null,null,null,null,null,null,0,"",0,0,0,0,0,0,0,null,0,"",0,0,0,0,0,0,0,null,0,"",0,0,0,0,0,0,0]
[null,null,null,null,null,null,null,null,null,null,null,null,null,null,null,null,null,null,null,null,null,null,null,null,null,null,null,null,null,null,null,null,null,null,null,null,null,null,null,null,null,null,null,null,null,null,null,null,null,null,null,null,0,"",0,0,0,0,0,0,0,null,0,"",0,0,0,0,0,0,0,null,0,"",0,0,0,0,0,0,0]
[null,null,null,null,null,null,null,null,null,null,null,null,null,null,null,null,null,null,null,null,null,null,null,null,null,null,null,null,null,null,null,null,null,null,null,null,null,null,null,null,null,null,null,null,null,null,null,null,null,null,null,null,0,"",0,0,0,0,0,0,0,null,0,"",0,0,0,0,0,0,0,null,0,"",0,0,0,0,0,0,0]
[null,null,null,null,null,null,null,null,null,null,null,null,null,null,null,null,null,null,null,null,null,null,null,null,null,null,null,null,null,null,null,null,null,null,null,null,null,null,null,null,null,null,null,null,null,null,null,null,null,null,null,null,0,"",0,0,0,0,0,0,0,null,0,"",0,0,0,0,0,0,0,null,0,"",0,0,0,0,0,0,0]
[null,null,null,null,null,null,null,null,null,null,null,null,null,null,null,null,null,null,null,null,null,null,null,null,null,null,null,null,null,null,null,null,null,null,null,null,null,null,null,null,null,null,null,null,null,null,null,null,null,null,null,null,0,"",0,0,0,0,0,0,0,null,0,"",0,0,0,0,0,0,0,null,0,"",0,0,0,0,0,0,0]
[null,null,null,null,null,null,null,null,null,null,null,null,null,null,null,null,null,null,null,null,null,null,null,null,null,null,null,null,null,null,null,null,null,null,null,null,null,null,null,null,null,null,null,null,null,null,null,null,null,null,null,null,0,"",0,0,0,0,0,0,0,null,0,"",0,0,0,0,0,0,0,null,0,"",0,0,0,0,0,0,0]
[null,null,null,null,null,null,null,null,null,null,null,null,null,null,null,null,null,null,null,null,null,null,null,null,null,null,null,null,null,null,null,null,null,null,null,null,null,null,null,null,null,null,null,null,null,null,null,null,null,null,null,null,0,"",0,0,0,0,0,0,0,null,0,"",0,0,0,0,0,0,0,null,0,"",0,0,0,0,0,0,0]
[null,null,null,null,null,null,null,null,null,null,null,null,null,null,null,null,null,null,null,null,null,null,null,null,null,null,null,null,null,null,null,null,null,null,null,null,null,null,null,null,null,null,null,null,null,null,null,null,null,null,null,null,0,"",0,0,0,0,0,0,0,null,0,"",0,0,0,0,0,0,0,null,0,"",0,0,0,0,0,0,0]
[null,null,null,null,null,null,null,null,null,null,null,null,null,null,null,null,null,null,null,null,null,null,null,null,null,null,null,null,null,null,null,null,null,null,null,null,null,null,null,null,null,null,null,null,null,null,null,null,null,null,null,null,0,"",0,0,0,0,0,0,0,null,{"$f":"K526","v":0},"",{"$f":"M526","v":0},{"$f":"N526","v":0},{"$f":"O526","v":0},{"$f":"P526","v":0},{"$f":"Q526","v":0},{"$f":"R526","v":0},{"$f":"S526","v":0},null,{"$f":"U526","v":0},"",{"$f":"W526","v":0},{"$f":"X526","v":0},{"$f":"Y526","v":0},{"$f":"Z526","v":0},{"$f":"AA526","v":0},{"$f":"AB526","v":0},{"$f":"AC526","v":0}]
[null,null,null,null,null,null,null,null,null,null,null,null,null,null,null,null,null,null,null,null,null,null,null,null,null,null,null,null,null,null,null,null,null,null,null,null,null,null,null,null,null,null,null,null,null,null,null,null,null,null,null,null,0,"",0,0,0,0,0,0,0,null,0,"",0,0,0,0,0,0,0,null,0,"",0,0,0,0,0,0,0]
[null,null,null,null,null,null,null,null,null,null,null,null,null,null,null,null,null,null,null,null,null,null,null,null,null,null,null,null,null,null,null,null,null,null,null,null,null,null,null,null,null,null,null,null,null,null,null,null,null,null,null,null,0,"",0,0,0,0,0,0,0,null,0,"",0,0,0,0,0,0,0,null,0,"",0,0,0,0,0,0,0]
[null,null,null,null,null,null,null,null,null,null,null,null,null,null,null,null,null,null,null,null,null,null,null,null,null,null,null,null,null,null,null,null,null,null,null,null,null,null,null,null,null,null,null,null,null,null,null,null,null,null,null,null,0,"",0,0,0,0,0,0,0,null,0,"",0,0,0,0,0,0,0,null,0,"",0,0,0,0,0,0,0]
[null,null,null,null,null,null,null,null,null,null,null,null,null,null,null,null,null,null,null,null,null,null,null,null,null,null,null,null,null,null,null,null,null,null,null,null,null,null,null,null,null,null,null,null,null,null,null,null,null,null,null,null,0,"",0,0,0,0,0,0,0,null,0,"",0,0,0,0,0,0,0,null,0,"",0,0,0,0,0,0,0]
[null,null,null,null,null,null,null,null,null,null,null,null,null,null,null,null,null,null,null,null,null,null,null,null,null,null,null,null,null,null,null,null,null,null,null,null,null,null,null,null,null,null,null,null,null,null,null,null,null,null,null,null,0,"",0,0,0,0,0,0,0,null,0,"",0,0,0,0,0,0,0,null,0,"",0,0,0,0,0,0,0]
[null,null,null,null,null,null,null,null,null,null,null,null,null,null,null,null,null,null,null,null,null,null,null,null,null,null,null,null,null,null,null,null,null,null,null,null,null,null,null,null,null,null,null,null,null,null,null,null,null,null,null,null,0,"",0,0,0,0,0,0,0,null,0,"",0,0,0,0,0,0,0,null,0,"",0,0,0,0,0,0,0]
[null,null,null,null,null,null,null,null,null,null,null,null,null,null,null,null,null,null,null,null,null,null,null,null,null,null,null,null,null,null,null,null,null,null,null,null,null,null,null,null,null,null,null,null,null,null,null,null,null,null,null,null,0,"",0,0,0,0,0,0,0,null,0,"",0,0,0,0,0,0,0,null,0,"",0,0,0,0,0,0,0]
[null,null,null,null,null,null,null,null,null,null,null,null,null,null,null,null,null,null,null,null,null,null,null,null,null,null,null,null,null,null,null,null,null,null,null,null,null,null,null,null,null,null,null,null,null,null,null,null,null,null,null,null,0,"",0,0,0,0,0,0,0,null,0,"",0,0,0,0,0,0,0,null,0,"",0,0,0,0,0,0,0]
[null,null,null,null,null,null,null,null,null,null,null,null,null,null,null,null,null,null,null,null,null,null,null,null,null,null,null,null,null,null,null,null,null,null,null,null,null,null,null,null,null,null,null,null,null,null,null,null,null,null,null,null,0,"",0,0,0,0,0,0,0,null,0,"",0,0,0,0,0,0,0,null,0,"",0,0,0,0,0,0,0]
[null,null,null,null,null,null,null,null,null,null,null,null,null,null,null,null,null,null,null,null,null,null,null,null,null,null,null,null,null,null,null,null,null,null,null,null,null,null,null,null,null,null,null,null,null,null,null,null,null,null,null,null,{"$f":"A536","v":0},{"$f":"B536&C536","v":""},{"$f":"C536","v":0},{"$f":"D536","v":0},{"$f":"E536","v":0},{"$f":"F536","v":0},{"$f":"G536","v":0},{"$f":"H536","v":0},{"$f":"I536","v":0},null,0,"",0,0,0,0,0,0,0,null,0,"",0,0,0,0,0,0,0]
[null,null,null,null,null,null,null,null,null,null,null,null,null,null,null,null,null,null,null,null,null,null,null,null,null,null,null,null,null,null,null,null,null,null,null,null,null,null,null,null,null,null,null,null,null,null,null,null,null,null,null,null,0,"",0,0,0,0,0,0,0,null,0,"",0,0,0,0,0,0,0,null,0,"",0,0,0,0,0,0,0]
[null,null,null,null,null,null,null,null,null,null,null,null,null,null,null,null,null,null,null,null,null,null,null,null,null,null,null,null,null,null,null,null,null,null,null,null,null,null,null,null,null,null,null,null,null,null,null,null,null,null,null,null,0,"",0,0,0,0,0,0,0,null,0,"",0,0,0,0,0,0,0,null,0,"",0,0,0,0,0,0,0]
[null,null,null,null,null,null,null,null,null,null,null,null,null,null,null,null,null,null,null,null,null,null,null,null,null,null,null,null,null,null,null,null,null,null,null,null,null,null,null,null,null,null,null,null,null,null,null,null,null,null,null,null,0,"",0,0,0,0,0,0,0,null,0,"",0,0,0,0,0,0,0,null,0,"",0,0,0,0,0,0,0]
[null,null,null,null,null,null,null,null,null,null,null,null,null,null,null,null,null,null,null,null,null,null,null,null,null,null,null,null,null,null,null,null,null,null,null,null,null,null,null,null,null,null,null,null,null,null,null,null,null,null,null,null,0,"",0,0,0,0,0,0,0,null,0,"",0,0,0,0,0,0,0,null,0,"",0,0,0,0,0,0,0]
[null,null,null,null,null,null,null,null,null,null,null,null,null,null,null,null,null,null,null,null,null,null,null,null,null,null,null,null,null,null,null,null,null,null,null,null,null,null,null,null,null,null,null,null,null,null,null,null,null,null,null,null,0,"",0,0,0,0,0,0,0,null,0,"",0,0,0,0,0,0,0,null,0,"",0,0,0,0,0,0,0]
[null,null,null,null,null,null,null,null,null,null,null,null,null,null,null,null,null,null,null,null,null,null,null,null,null,null,null,null,null,null,null,null,null,null,null,null,null,null,null,null,null,null,null,null,null,null,null,null,null,null,null,null,0,"",0,0,0,0,0,0,0,null,0,"",0,0,0,0,0,0,0,null,0,"",0,0,0,0,0,0,0]
[null,null,null,null,null,null,null,null,null,null,null,null,null,null,null,null,null,null,null,null,null,null,null,null,null,null,null,null,null,null,null,null,null,null,null,null,null,null,null,null,null,null,null,null,null,null,null,null,null,null,null,null,0,"",0,0,0,0,0,0,0,null,0,"",0,0,0,0,0,0,0,null,0,"",0,0,0,0,0,0,0]
[null,null,null,null,null,null,null,null,null,null,null,null,null,null,null,null,null,null,null,null,null,null,null,null,null,null,null,null,null,null,null,null,null,null,null,null,null,null,null,null,null,null,null,null,null,null,null,null,null,null,null,null,0,"",0,0,0,0,0,0,0,null,0,"",0,0,0,0,0,0,0,null,0,"",0,0,0,0,0,0,0]
[null,null,null,null,null,null,null,null,null,null,null,null,null,null,null,null,null,null,null,null,null,null,null,null,null,null,null,null,null,null,null,null,null,null,null,null,null,null,null,null,null,null,null,null,null,null,null,null,null,null,null,null,0,"",0,0,0,0,0,0,0,null,0,"",0,0,0,0,0,0,0,null,0,"",0,0,0,0,0,0,0]
[null,null,null,null,null,null,null,null,null,null,null,null,null,null,null,null,null,null,null,null,null,null,null,null,null,null,null,null,null,null,null,null,null,null,null,null,null,null,null,null,null,null,null,null,null,null,null,null,null,null,null,null,0,"",0,0,0,0,0,0,0,null,0,"",0,0,0,0,0,0,0,null,0,"",0,0,0,0,0,0,0]
[null,null,null,null,null,null,null,null,null,null,null,null,null,null,null,null,null,null,null,null,null,null,null,null,null,null,null,null,null,null,null,null,null,null,null,null,null,null,null,null,null,null,null,null,null,null,null,null,null,null,null,null,0,"",0,0,0,0,0,0,0,null,0,"",0,0,0,0,0,0,0,null,0,"",0,0,0,0,0,0,0]
[null,null,null,null,null,null,null,null,null,null,null,null,null,null,null,null,null,null,null,null,null,null,null,null,null,null,null,null,null,null,null,null,null,null,null,null,null,null,null,null,null,null,null,null,null,null,null,null,null,null,null,null,0,"",0,0,0,0,0,0,0,null,0,"",0,0,0,0,0,0,0,null,0,"",0,0,0,0,0,0,0]
[null,null,null,null,null,null,null,null,null,null,null,null,null,null,null,null,null,null,null,null,null,null,null,null,null,null,null,null,null,null,null,null,null,null,null,null,null,null,null,null,null,null,null,null,null,null,null,null,null,null,null,null,0,"",0,0,0,0,0,0,0,null,0,"",0,0,0,0,0,0,0,null,0,"",0,0,0,0,0,0,0]
[null,null,null,null,null,null,null,null,null,null,null,null,null,null,null,null,null,null,null,null,null,null,null,null,null,null,null,null,null,null,null,null,null,null,null,null,null,null,null,null,null,null,null,null,null,null,null,null,null,null,null,null,0,"",0,0,0,0,0,0,0,null,0,"",0,0,0,0,0,0,0,null,0,"",0,0,0,0,0,0,0]
[null,null,null,null,null,null,null,null,null,null,null,null,null,null,null,null,null,null,null,null,null,null,null,null,null,null,null,null,null,null,null,null,null,null,null,null,null,null,null,null,null,null,null,null,null,null,null,null,null,null,null,null,0,"",0,0,0,0,0,0,0,null,0,"",0,0,0,0,0,0,0,null,0,"",0,0,0,0,0,0,0]
[null,null,null,null,null,null,null,null,null,null,null,null,null,null,null,null,null,null,null,null,null,null,null,null,null,null,null,null,null,null,null,null,null,null,null,null,null,null,null,null,null,null,null,null,null,null,null,null,null,null,null,null,0,"",0,0,0,0,0,0,0,null,0,"",0,0,0,0,0,0,0,null,0,"",0,0,0,0,0,0,0]
[null,null,null,null,null,null,null,null,null,null,null,null,null,null,null,null,null,null,null,null,null,null,null,null,null,null,null,null,null,null,null,null,null,null,null,null,null,null,null,null,null,null,null,null,null,null,null,null,null,null,null,null,0,"",0,0,0,0,0,0,0,null,0,"",0,0,0,0,0,0,0,null,0,"",0,0,0,0,0,0,0]
[null,null,null,null,null,null,null,null,null,null,null,null,null,null,null,null,null,null,null,null,null,null,null,null,null,null,null,null,null,null,null,null,null,null,null,null,null,null,null,null,null,null,null,null,null,null,null,null,null,null,null,null,0,"",0,0,0,0,0,0,0,null,0,"",0,0,0,0,0,0,0,null,0,"",0,0,0,0,0,0,0]
[null,null,null,null,null,null,null,null,null,null,null,null,null,null,null,null,null,null,null,null,null,null,null,null,null,null,null,null,null,null,null,null,null,null,null,null,null,null,null,null,null,null,null,null,null,null,null,null,null,null,null,null,0,"",0,0,0,0,0,0,0,null,0,"",0,0,0,0,0,0,0,null,0,"",0,0,0,0,0,0,0]
[null,null,null,null,null,null,null,null,null,null,null,null,null,null,null,null,null,null,null,null,null,null,null,null,null,null,null,null,null,null,null,null,null,null,null,null,null,null,null,null,null,null,null,null,null,null,null,null,null,null,null,null,0,"",0,0,0,0,0,0,0,null,0,"",0,0,0,0,0,0,0,null,0,"",0,0,0,0,0,0,0]
[null,null,null,null,null,null,null,null,null,null,null,null,null,null,null,null,null,null,null,null,null,null,null,null,null,null,null,null,null,null,null,null,null,null,null,null,null,null,null,null,null,null,null,null,null,null,null,null,null,null,null,null,0,"",0,0,0,0,0,0,0,null,0,"",0,0,0,0,0,0,0,null,0,"",0,0,0,0,0,0,0]
[null,null,null,null,null,null,null,null,null,null,null,null,null,null,null,null,null,null,null,null,null,null,null,null,null,null,null,null,null,null,null,null,null,null,null,null,null,null,null,null,null,null,null,null,null,null,null,null,null,null,null,null,0,"",0,0,0,0,0,0,0,null,0,"",0,0,0,0,0,0,0,null,0,"",0,0,0,0,0,0,0]
[null,null,null,null,null,null,null,null,null,null,null,null,null,null,null,null,null,null,null,null,null,null,null,null,null,null,null,null,null,null,null,null,null,null,null,null,null,null,null,null,null,null,null,null,null,null,null,null,null,null,null,null,0,"",0,0,0,0,0,0,0,null,0,"",0,0,0,0,0,0,0,null,0,"",0,0,0,0,0,0,0]
[null,null,null,null,null,null,null,null,null,null,null,null,null,null,null,null,null,null,null,null,null,null,null,null,null,null,null,null,null,null,null,null,null,null,null,null,null,null,null,null,null,null,null,null,null,null,null,null,null,null,null,null,0,"",0,0,0,0,0,0,0,null,0,"",0,0,0,0,0,0,0,null,0,"",0,0,0,0,0,0,0]
[null,null,null,null,null,null,null,null,null,null,null,null,null,null,null,null,null,null,null,null,null,null,null,null,null,null,null,null,null,null,null,null,null,null,null,null,null,null,null,null,null,null,null,null,null,null,null,null,null,null,null,null,0,"",0,0,0,0,0,0,0,null,0,"",0,0,0,0,0,0,0,null,0,"",0,0,0,0,0,0,0]
[null,null,null,null,null,null,null,null,null,null,null,null,null,null,null,null,null,null,null,null,null,null,null,null,null,null,null,null,null,null,null,null,null,null,null,null,null,null,null,null,null,null,null,null,null,null,null,null,null,null,null,null,0,"",0,0,0,0,0,0,0,null,0,"",0,0,0,0,0,0,0,null,0,"",0,0,0,0,0,0,0]
[null,null,null,null,null,null,null,null,null,null,null,null,null,null,null,null,null,null,null,null,null,null,null,null,null,null,null,null,null,null,null,null,null,null,null,null,null,null,null,null,null,null,null,null,null,null,null,null,null,null,null,null,0,"",0,0,0,0,0,0,0,null,0,"",0,0,0,0,0,0,0,null,0,"",0,0,0,0,0,0,0]
[null,null,null,null,null,null,null,null,null,null,null,null,null,null,null,null,null,null,null,null,null,null,null,null,null,null,null,null,null,null,null,null,null,null,null,null,null,null,null,null,null,null,null,null,null,null,null,null,null,null,null,null,0,"",0,0,0,0,0,0,0,null,0,"",0,0,0,0,0,0,0,null,0,"",0,0,0,0,0,0,0]
[null,null,null,null,null,null,null,null,null,null,null,null,null,null,null,null,null,null,null,null,null,null,null,null,null,null,null,null,null,null,null,null,null,null,null,null,null,null,null,null,null,null,null,null,null,null,null,null,null,null,null,null,0,"",0,0,0,0,0,0,0,null,0,"",0,0,0,0,0,0,0,null,0,"",0,0,0,0,0,0,0]
[null,null,null,null,null,null,null,null,null,null,null,null,null,null,null,null,null,null,null,null,null,null,null,null,null,null,null,null,null,null,null,null,null,null,null,null,null,null,null,null,null,null,null,null,null,null,null,null,null,null,null,null,0,"",0,0,0,0,0,0,0,null,0,"",0,0,0,0,0,0,0,null,0,"",0,0,0,0,0,0,0]
[null,null,null,null,null,null,null,null,null,null,null,null,null,null,null,null,null,null,null,null,null,null,null,null,null,null,null,null,null,null,null,null,null,null,null,null,null,null,null,null,null,null,null,null,null,null,null,null,null,null,null,null,0,"",0,0,0,0,0,0,0,null,0,"",0,0,0,0,0,0,0,null,0,"",0,0,0,0,0,0,0]
[null,null,null,null,null,null,null,null,null,null,null,null,null,null,null,null,null,null,null,null,null,null,null,null,null,null,null,null,null,null,null,null,null,null,null,null,null,null,null,null,null,null,null,null,null,null,null,null,null,null,null,null,0,"",0,0,0,0,0,0,0,null,0,"",0,0,0,0,0,0,0,null,0,"",0,0,0,0,0,0,0]
[null,null,null,null,null,null,null,null,null,null,null,null,null,null,null,null,null,null,null,null,null,null,null,null,null,null,null,null,null,null,null,null,null,null,null,null,null,null,null,null,null,null,null,null,null,null,null,null,null,null,null,null,0,"",0,0,0,0,0,0,0,null,0,"",0,0,0,0,0,0,0,null,0,"",0,0,0,0,0,0,0]
[null,null,null,null,null,null,null,null,null,null,null,null,null,null,null,null,null,null,null,null,null,null,null,null,null,null,null,null,null,null,null,null,null,null,null,null,null,null,null,null,null,null,null,null,null,null,null,null,null,null,null,null,0,"",0,0,0,0,0,0,0,null,0,"",0,0,0,0,0,0,0,null,0,"",0,0,0,0,0,0,0]
[null,null,null,null,null,null,null,null,null,null,null,null,null,null,null,null,null,null,null,null,null,null,null,null,null,null,null,null,null,null,null,null,null,null,null,null,null,null,null,null,null,null,null,null,null,null,null,null,null,null,null,null,0,"",0,0,0,0,0,0,0,null,0,"",0,0,0,0,0,0,0,null,0,"",0,0,0,0,0,0,0]
[null,null,null,null,null,null,null,null,null,null,null,null,null,null,null,null,null,null,null,null,null,null,null,null,null,null,null,null,null,null,null,null,null,null,null,null,null,null,null,null,null,null,null,null,null,null,null,null,null,null,null,null,0,"",0,0,0,0,0,0,0,null,0,"",0,0,0,0,0,0,0,null,0,"",0,0,0,0,0,0,0]
[null,null,null,null,null,null,null,null,null,null,null,null,null,null,null,null,null,null,null,null,null,null,null,null,null,null,null,null,null,null,null,null,null,null,null,null,null,null,null,null,null,null,null,null,null,null,null,null,null,null,null,null,0,"",0,0,0,0,0,0,0,null,0,"",0,0,0,0,0,0,0,null,0,"",0,0,0,0,0,0,0]
[null,null,null,null,null,null,null,null,null,null,null,null,null,null,null,null,null,null,null,null,null,null,null,null,null,null,null,null,null,null,null,null,null,null,null,null,null,null,null,null,null,null,null,null,null,null,null,null,null,null,null,null,0,"",0,0,0,0,0,0,0,null,0,"",0,0,0,0,0,0,0,null,0,"",0,0,0,0,0,0,0]
[null,null,null,null,null,null,null,null,null,null,null,null,null,null,null,null,null,null,null,null,null,null,null,null,null,null,null,null,null,null,null,null,null,null,null,null,null,null,null,null,null,null,null,null,null,null,null,null,null,null,null,null,0,"",0,0,0,0,0,0,0,null,0,"",0,0,0,0,0,0,0,null,0,"",0,0,0,0,0,0,0]
[null,null,null,null,null,null,null,null,null,null,null,null,null,null,null,null,null,null,null,null,null,null,null,null,null,null,null,null,null,null,null,null,null,null,null,null,null,null,null,null,null,null,null,null,null,null,null,null,null,null,null,null,0,"",0,0,0,0,0,0,0,null,0,"",0,0,0,0,0,0,0,null,0,"",0,0,0,0,0,0,0]
[null,null,null,null,null,null,null,null,null,null,null,null,null,null,null,null,null,null,null,null,null,null,null,null,null,null,null,null,null,null,null,null,null,null,null,null,null,null,null,null,null,null,null,null,null,null,null,null,null,null,null,null,0,"",0,0,0,0,0,0,0,null,0,"",0,0,0,0,0,0,0,null,0,"",0,0,0,0,0,0,0]
[null,null,null,null,null,null,null,null,null,null,null,null,null,null,null,null,null,null,null,null,null,null,null,null,null,null,null,null,null,null,null,null,null,null,null,null,null,null,null,null,null,null,null,null,null,null,null,null,null,null,null,null,0,"",0,0,0,0,0,0,0,null,0,"",0,0,0,0,0,0,0,null,0,"",0,0,0,0,0,0,0]
[null,null,null,null,null,null,null,null,null,null,null,null,null,null,null,null,null,null,null,null,null,null,null,null,null,null,null,null,null,null,null,null,null,null,null,null,null,null,null,null,null,null,null,null,null,null,null,null,null,null,null,null,0,"",0,0,0,0,0,0,0,null,0,{"$f":"L579&M579","v":""},0,0,0,0,0,0,0,null,0,{"$f":"V579&W579","v":""},0,0,0,0,0,0,0]
[null,null,null,null,null,null,null,null,null,null,null,null,null,null,null,null,null,null,null,null,null,null,null,null,null,null,null,null,null,null,null,null,null,null,null,null,null,null,null,null,null,null,null,null,null,null,null,null,null,null,null,null,0,"",0,0,0,0,0,0,0,null,0,{"$f":"L580&M580","v":""},0,0,0,0,0,0,0,null,0,{"$f":"V580&W580","v":""},0,0,0,0,0,0,0]
[null,null,null,null,null,null,null,null,null,null,null,null,null,null,null,null,null,null,null,null,null,null,null,null,null,null,null,null,null,null,null,null,null,null,null,null,null,null,null,null,null,null,null,null,null,null,null,null,null,null,null,null,0,"",0,0,0,0,0,0,0,null,0,{"$f":"L581&M581","v":""},0,0,0,0,0,0,0,null,0,{"$f":"V581&W581","v":""},0,0,0,0,0,0,0]
[null,null,null,null,null,null,null,null,null,null,null,null,null,null,null,null,null,null,null,null,null,null,null,null,null,null,null,null,null,null,null,null,null,null,null,null,null,null,null,null,null,null,null,null,null,null,null,null,null,null,null,null,0,"",0,0,0,0,0,0,0,null,0,{"$f":"L582&M582","v":""},0,0,0,0,0,0,0,null,0,{"$f":"V582&W582","v":""},0,0,0,0,0,0,0]
[null,null,null,null,null,null,null,null,null,null,null,null,null,null,null,null,null,null,null,null,null,null,null,null,null,null,null,null,null,null,null,null,null,null,null,null,null,null,null,null,null,null,null,null,null,null,null,null,null,null,null,null,0,"",0,0,0,0,0,0,0,null,0,{"$f":"L583&M583","v":""},0,0,0,0,0,0,0,null,0,{"$f":"V583&W583","v":""},0,0,0,0,0,0,0]
[null,null,null,null,null,null,null,null,null,null,null,null,null,null,null,null,null,null,null,null,null,null,null,null,null,null,null,null,null,null,null,null,null,null,null,null,null,null,null,null,null,null,null,null,null,null,null,null,null,null,null,null,0,"",0,0,0,0,0,0,0]
[null,null,null,null,null,null,null,null,null,null,null,null,null,null,null,null,null,null,null,null,null,null,null,null,null,null,null,null,null,null,null,null,null,null,null,null,null,null,null,null,null,null,null,null,null,null,null,null,null,null,null,null,0,"",0,0,0,0,0,0,0]
[null,null,null,null,null,null,null,null,null,null,null,null,null,null,null,null,null,null,null,null,null,null,null,null,null,null,null,null,null,null,null,null,null,null,null,null,null,null,null,null,null,null,null,null,null,null,null,null,null,null,null,null,0,"",0,0,0,0,0,0,0]
[null,null,null,null,null,null,null,null,null,null,null,null,null,null,null,null,null,null,null,null,null,null,null,null,null,null,null,null,null,null,null,null,null,null,null,null,null,null,null,null,null,null,null,null,null,null,null,null,null,null,null,null,0,"",0,0,0,0,0,0,0]
[null,null,null,null,null,null,null,null,null,null,null,null,null,null,null,null,null,null,null,null,null,null,null,null,null,null,null,null,null,null,null,null,null,null,null,null,null,null,null,null,null,null,null,null,null,null,null,null,null,null,null,null,0,"",0,0,0,0,0,0,0]
[null,null,null,null,null,null,null,null,null,null,null,null,null,null,null,null,null,null,null,null,null,null,null,null,null,null,null,null,null,null,null,null,null,null,null,null,null,null,null,null,null,null,null,null,null,null,null,null,null,null,null,null,0,"",0,0,0,0,0,0,0]
[null,null,null,null,null,null,null,null,null,null,null,null,null,null,null,null,null,null,null,null,null,null,null,null,null,null,null,null,null,null,null,null,null,null,null,null,null,null,null,null,null,null,null,null,null,null,null,null,null,null,null,null,0,"",0,0,0,0,0,0,0]
[null,null,null,null,null,null,null,null,null,null,null,null,null,null,null,null,null,null,null,null,null,null,null,null,null,null,null,null,null,null,null,null,null,null,null,null,null,null,null,null,null,null,null,null,null,null,null,null,null,null,null,null,0,"",0,0,0,0,0,0,0]
[null,null,null,null,null,null,null,null,null,null,null,null,null,null,null,null,null,null,null,null,null,null,null,null,null,null,null,null,null,null,null,null,null,null,null,null,null,null,null,null,null,null,null,null,null,null,null,null,null,null,null,null,0,"",0,0,0,0,0,0,0]
[null,null,null,null,null,null,null,null,null,null,null,null,null,null,null,null,null,null,null,null,null,null,null,null,null,null,null,null,null,null,null,null,null,null,null,null,null,null,null,null,null,null,null,null,null,null,null,null,null,null,null,null,0,"",0,0,0,0,0,0,0]
[null,null,null,null,null,null,null,null,null,null,null,null,null,null,null,null,null,null,null,null,null,null,null,null,null,null,null,null,null,null,null,null,null,null,null,null,null,null,null,null,null,null,null,null,null,null,null,null,null,null,null,null,0,"",0,0,0,0,0,0,0]
[null,null,null,null,null,null,null,null,null,null,null,null,null,null,null,null,null,null,null,null,null,null,null,null,null,null,null,null,null,null,null,null,null,null,null,null,null,null,null,null,null,null,null,null,null,null,null,null,null,null,null,null,0,"",0,0,0,0,0,0,0]
[null,null,null,null,null,null,null,null,null,null,null,null,null,null,null,null,null,null,null,null,null,null,null,null,null,null,null,null,null,null,null,null,null,null,null,null,null,null,null,null,null,null,null,null,null,null,null,null,null,null,null,null,0,"",0,0,0,0,0,0,0]
[null,null,null,null,null,null,null,null,null,null,null,null,null,null,null,null,null,null,null,null,null,null,null,null,null,null,null,null,null,null,null,null,null,null,null,null,null,null,null,null,null,null,null,null,null,null,null,null,null,null,null,null,0,"",0,0,0,0,0,0,0]
[null,null,null,null,null,null,null,null,null,null,null,null,null,null,null,null,null,null,null,null,null,null,null,null,null,null,null,null,null,null,null,null,null,null,null,null,null,null,null,null,null,null,null,null,null,null,null,null,null,null,null,null,0,"",0,0,0,0,0,0,0]
[null,null,null,null,null,null,null,null,null,null,null,null,null,null,null,null,null,null,null,null,null,null,null,null,null,null,null,null,null,null,null,null,null,null,null,null,null,null,null,null,null,null,null,null,null,null,null,null,null,null,null,null,0,"",0,0,0,0,0,0,0]
[null,null,null,null,null,null,null,null,null,null,null,null,null,null,null,null,null,null,null,null,null,null,null,null,null,null,null,null,null,null,null,null,null,null,null,null,null,null,null,null,null,null,null,null,null,null,null,null,null,null,null,null,{"$f":"A600","v":0},{"$f":"B600&C600","v":""},{"$f":"C600","v":0},{"$f":"D600","v":0},{"$f":"E600","v":0},{"$f":"F600","v":0},{"$f":"G600","v":0},{"$f":"H600","v":0},{"$f":"I600","v":0}]
[null,null,null,null,null,null,null,null,null,null,null,null,null,null,null,null,null,null,null,null,null,null,null,null,null,null,null,null,null,null,null,null,null,null,null,null,null,null,null,null,null,null,null,null,null,null,null,null,null,null,null,null,0,"",0,0,0,0,0,0,0]
[null,null,null,null,null,null,null,null,null,null,null,null,null,null,null,null,null,null,null,null,null,null,null,null,null,null,null,null,null,null,null,null,null,null,null,null,null,null,null,null,null,null,null,null,null,null,null,null,null,null,null,null,0,"",0,0,0,0,0,0,0]
[null,null,null,null,null,null,null,null,null,null,null,null,null,null,null,null,null,null,null,null,null,null,null,null,null,null,null,null,null,null,null,null,null,null,null,null,null,null,null,null,null,null,null,null,null,null,null,null,null,null,null,null,0,"",0,0,0,0,0,0,0]
[null,null,null,null,null,null,null,null,null,null,null,null,null,null,null,null,null,null,null,null,null,null,null,null,null,null,null,null,null,null,null,null,null,null,null,null,null,null,null,null,null,null,null,null,null,null,null,null,null,null,null,null,0,"",0,0,0,0,0,0,0]
[null,null,null,null,null,null,null,null,null,null,null,null,null,null,null,null,null,null,null,null,null,null,null,null,null,null,null,null,null,null,null,null,null,null,null,null,null,null,null,null,null,null,null,null,null,null,null,null,null,null,null,null,0,"",0,0,0,0,0,0,0]
[null,null,null,null,null,null,null,null,null,null,null,null,null,null,null,null,null,null,null,null,null,null,null,null,null,null,null,null,null,null,null,null,null,null,null,null,null,null,null,null,null,null,null,null,null,null,null,null,null,null,null,null,0,"",0,0,0,0,0,0,0]
[null,null,null,null,null,null,null,null,null,null,null,null,null,null,null,null,null,null,null,null,null,null,null,null,null,null,null,null,null,null,null,null,null,null,null,null,null,null,null,null,null,null,null,null,null,null,null,null,null,null,null,null,0,"",0,0,0,0,0,0,0]
[null,null,null,null,null,null,null,null,null,null,null,null,null,null,null,null,null,null,null,null,null,null,null,null,null,null,null,null,null,null,null,null,null,null,null,null,null,null,null,null,null,null,null,null,null,null,null,null,null,null,null,null,0,"",0,0,0,0,0,0,0]
[null,null,null,null,null,null,null,null,null,null,null,null,null,null,null,null,null,null,null,null,null,null,null,null,null,null,null,null,null,null,null,null,null,null,null,null,null,null,null,null,null,null,null,null,null,null,null,null,null,null,null,null,0,"",0,0,0,0,0,0,0]
[null,null,null,null,null,null,null,null,null,null,null,null,null,null,null,null,null,null,null,null,null,null,null,null,null,null,null,null,null,null,null,null,null,null,null,null,null,null,null,null,null,null,null,null,null,null,null,null,null,null,null,null,0,"",0,0,0,0,0,0,0]
[null,null,null,null,null,null,null,null,null,null,null,null,null,null,null,null,null,null,null,null,null,null,null,null,null,null,null,null,null,null,null,null,null,null,null,null,null,null,null,null,null,null,null,null,null,null,null,null,null,null,null,null,0,"",0,0,0,0,0,0,0]
[null,null,null,null,null,null,null,null,null,null,null,null,null,null,null,null,null,null,null,null,null,null,null,null,null,null,null,null,null,null,null,null,null,null,null,null,null,null,null,null,null,null,null,null,null,null,null,null,null,null,null,null,0,"",0,0,0,0,0,0,0]
[null,null,null,null,null,null,null,null,null,null,null,null,null,null,null,null,null,null,null,null,null,null,null,null,null,null,null,null,null,null,null,null,null,null,null,null,null,null,null,null,null,null,null,null,null,null,null,null,null,null,null,null,0,"",0,0,0,0,0,0,0]
[null,null,null,null,null,null,null,null,null,null,null,null,null,null,null,null,null,null,null,null,null,null,null,null,null,null,null,null,null,null,null,null,null,null,null,null,null,null,null,null,null,null,null,null,null,null,null,null,null,null,null,null,0,"",0,0,0,0,0,0,0]
[null,null,null,null,null,null,null,null,null,null,null,null,null,null,null,null,null,null,null,null,null,null,null,null,null,null,null,null,null,null,null,null,null,null,null,null,null,null,null,null,null,null,null,null,null,null,null,null,null,null,null,null,0,"",0,0,0,0,0,0,0]
[null,null,null,null,null,null,null,null,null,null,null,null,null,null,null,null,null,null,null,null,null,null,null,null,null,null,null,null,null,null,null,null,null,null,null,null,null,null,null,null,null,null,null,null,null,null,null,null,null,null,null,null,0,"",0,0,0,0,0,0,0]
[null,null,null,null,null,null,null,null,null,null,null,null,null,null,null,null,null,null,null,null,null,null,null,null,null,null,null,null,null,null,null,null,null,null,null,null,null,null,null,null,null,null,null,null,null,null,null,null,null,null,null,null,0,"",0,0,0,0,0,0,0]
[null,null,null,null,null,null,null,null,null,null,null,null,null,null,null,null,null,null,null,null,null,null,null,null,null,null,null,null,null,null,null,null,null,null,null,null,null,null,null,null,null,null,null,null,null,null,null,null,null,null,null,null,0,"",0,0,0,0,0,0,0]
[null,null,null,null,null,null,null,null,null,null,null,null,null,null,null,null,null,null,null,null,null,null,null,null,null,null,null,null,null,null,null,null,null,null,null,null,null,null,null,null,null,null,null,null,null,null,null,null,null,null,null,null,0,"",0,0,0,0,0,0,0]
[null,null,null,null,null,null,null,null,null,null,null,null,null,null,null,null,null,null,null,null,null,null,null,null,null,null,null,null,null,null,null,null,null,null,null,null,null,null,null,null,null,null,null,null,null,null,null,null,null,null,null,null,0,"",0,0,0,0,0,0,0]
[null,null,null,null,null,null,null,null,null,null,null,null,null,null,null,null,null,null,null,null,null,null,null,null,null,null,null,null,null,null,null,null,null,null,null,null,null,null,null,null,null,null,null,null,null,null,null,null,null,null,null,null,0,"",0,0,0,0,0,0,0]
[null,null,null,null,null,null,null,null,null,null,null,null,null,null,null,null,null,null,null,null,null,null,null,null,null,null,null,null,null,null,null,null,null,null,null,null,null,null,null,null,null,null,null,null,null,null,null,null,null,null,null,null,0,"",0,0,0,0,0,0,0]
[null,null,null,null,null,null,null,null,null,null,null,null,null,null,null,null,null,null,null,null,null,null,null,null,null,null,null,null,null,null,null,null,null,null,null,null,null,null,null,null,null,null,null,null,null,null,null,null,null,null,null,null,0,"",0,0,0,0,0,0,0]
[null,null,null,null,null,null,null,null,null,null,null,null,null,null,null,null,null,null,null,null,null,null,null,null,null,null,null,null,null,null,null,null,null,null,null,null,null,null,null,null,null,null,null,null,null,null,null,null,null,null,null,null,0,"",0,0,0,0,0,0,0]
[null,null,null,null,null,null,null,null,null,null,null,null,null,null,null,null,null,null,null,null,null,null,null,null,null,null,null,null,null,null,null,null,null,null,null,null,null,null,null,null,null,null,null,null,null,null,null,null,null,null,null,null,0,"",0,0,0,0,0,0,0]
[null,null,null,null,null,null,null,null,null,null,null,null,null,null,null,null,null,null,null,null,null,null,null,null,null,null,null,null,null,null,null,null,null,null,null,null,null,null,null,null,null,null,null,null,null,null,null,null,null,null,null,null,0,"",0,0,0,0,0,0,0]
[null,null,null,null,null,null,null,null,null,null,null,null,null,null,null,null,null,null,null,null,null,null,null,null,null,null,null,null,null,null,null,null,null,null,null,null,null,null,null,null,null,null,null,null,null,null,null,null,null,null,null,null,0,"",0,0,0,0,0,0,0]
[null,null,null,null,null,null,null,null,null,null,null,null,null,null,null,null,null,null,null,null,null,null,null,null,null,null,null,null,null,null,null,null,null,null,null,null,null,null,null,null,null,null,null,null,null,null,null,null,null,null,null,null,0,"",0,0,0,0,0,0,0]
[null,null,null,null,null,null,null,null,null,null,null,null,null,null,null,null,null,null,null,null,null,null,null,null,null,null,null,null,null,null,null,null,null,null,null,null,null,null,null,null,null,null,null,null,null,null,null,null,null,null,null,null,0,"",0,0,0,0,0,0,0]
[null,null,null,null,null,null,null,null,null,null,null,null,null,null,null,null,null,null,null,null,null,null,null,null,null,null,null,null,null,null,null,null,null,null,null,null,null,null,null,null,null,null,null,null,null,null,null,null,null,null,null,null,0,"",0,0,0,0,0,0,0]
[null,null,null,null,null,null,null,null,null,null,null,null,null,null,null,null,null,null,null,null,null,null,null,null,null,null,null,null,null,null,null,null,null,null,null,null,null,null,null,null,null,null,null,null,null,null,null,null,null,null,null,null,0,"",0,0,0,0,0,0,0]
[null,null,null,null,null,null,null,null,null,null,null,null,null,null,null,null,null,null,null,null,null,null,null,null,null,null,null,null,null,null,null,null,null,null,null,null,null,null,null,null,null,null,null,null,null,null,null,null,null,null,null,null,0,"",0,0,0,0,0,0,0]
[null,null,null,null,null,null,null,null,null,null,null,null,null,null,null,null,null,null,null,null,null,null,null,null,null,null,null,null,null,null,null,null,null,null,null,null,null,null,null,null,null,null,null,null,null,null,null,null,null,null,null,null,0,"",0,0,0,0,0,0,0]
[null,null,null,null,null,null,null,null,null,null,null,null,null,null,null,null,null,null,null,null,null,null,null,null,null,null,null,null,null,null,null,null,null,null,null,null,null,null,null,null,null,null,null,null,null,null,null,null,null,null,null,null,0,"",0,0,0,0,0,0,0]
[null,null,null,null,null,null,null,null,null,null,null,null,null,null,null,null,null,null,null,null,null,null,null,null,null,null,null,null,null,null,null,null,null,null,null,null,null,null,null,null,null,null,null,null,null,null,null,null,null,null,null,null,0,"",0,0,0,0,0,0,0]
[null,null,null,null,null,null,null,null,null,null,null,null,null,null,null,null,null,null,null,null,null,null,null,null,null,null,null,null,null,null,null,null,null,null,null,null,null,null,null,null,null,null,null,null,null,null,null,null,null,null,null,null,0,"",0,0,0,0,0,0,0]
[null,null,null,null,null,null,null,null,null,null,null,null,null,null,null,null,null,null,null,null,null,null,null,null,null,null,null,null,null,null,null,null,null,null,null,null,null,null,null,null,null,null,null,null,null,null,null,null,null,null,null,null,0,"",0,0,0,0,0,0,0]
[null,null,null,null,null,null,null,null,null,null,null,null,null,null,null,null,null,null,null,null,null,null,null,null,null,null,null,null,null,null,null,null,null,null,null,null,null,null,null,null,null,null,null,null,null,null,null,null,null,null,null,null,0,"",0,0,0,0,0,0,0]
[null,null,null,null,null,null,null,null,null,null,null,null,null,null,null,null,null,null,null,null,null,null,null,null,null,null,null,null,null,null,null,null,null,null,null,null,null,null,null,null,null,null,null,null,null,null,null,null,null,null,null,null,0,"",0,0,0,0,0,0,0]
[null,null,null,null,null,null,null,null,null,null,null,null,null,null,null,null,null,null,null,null,null,null,null,null,null,null,null,null,null,null,null,null,null,null,null,null,null,null,null,null,null,null,null,null,null,null,null,null,null,null,null,null,0,"",0,0,0,0,0,0,0]
[null,null,null,null,null,null,null,null,null,null,null,null,null,null,null,null,null,null,null,null,null,null,null,null,null,null,null,null,null,null,null,null,null,null,null,null,null,null,null,null,null,null,null,null,null,null,null,null,null,null,null,null,0,"",0,0,0,0,0,0,0]
[null,null,null,null,null,null,null,null,null,null,null,null,null,null,null,null,null,null,null,null,null,null,null,null,null,null,null,null,null,null,null,null,null,null,null,null,null,null,null,null,null,null,null,null,null,null,null,null,null,null,null,null,0,"",0,0,0,0,0,0,0]
[null,null,null,null,null,null,null,null,null,null,null,null,null,null,null,null,null,null,null,null,null,null,null,null,null,null,null,null,null,null,null,null,null,null,null,null,null,null,null,null,null,null,null,null,null,null,null,null,null,null,null,null,0,"",0,0,0,0,0,0,0]
[null,null,null,null,null,null,null,null,null,null,null,null,null,null,null,null,null,null,null,null,null,null,null,null,null,null,null,null,null,null,null,null,null,null,null,null,null,null,null,null,null,null,null,null,null,null,null,null,null,null,null,null,0,"",0,0,0,0,0,0,0]
[null,null,null,null,null,null,null,null,null,null,null,null,null,null,null,null,null,null,null,null,null,null,null,null,null,null,null,null,null,null,null,null,null,null,null,null,null,null,null,null,null,null,null,null,null,null,null,null,null,null,null,null,0,"",0,0,0,0,0,0,0]
[null,null,null,null,null,null,null,null,null,null,null,null,null,null,null,null,null,null,null,null,null,null,null,null,null,null,null,null,null,null,null,null,null,null,null,null,null,null,null,null,null,null,null,null,null,null,null,null,null,null,null,null,0,"",0,0,0,0,0,0,0]
[null,null,null,null,null,null,null,null,null,null,null,null,null,null,null,null,null,null,null,null,null,null,null,null,null,null,null,null,null,null,null,null,null,null,null,null,null,null,null,null,null,null,null,null,null,null,null,null,null,null,null,null,0,"",0,0,0,0,0,0,0]
[null,null,null,null,null,null,null,null,null,null,null,null,null,null,null,null,null,null,null,null,null,null,null,null,null,null,null,null,null,null,null,null,null,null,null,null,null,null,null,null,null,null,null,null,null,null,null,null,null,null,null,null,0,"",0,0,0,0,0,0,0]
[null,null,null,null,null,null,null,null,null,null,null,null,null,null,null,null,null,null,null,null,null,null,null,null,null,null,null,null,null,null,null,null,null,null,null,null,null,null,null,null,null,null,null,null,null,null,null,null,null,null,null,null,0,"",0,0,0,0,0,0,0]
[null,null,null,null,null,null,null,null,null,null,null,null,null,null,null,null,null,null,null,null,null,null,null,null,null,null,null,null,null,null,null,null,null,null,null,null,null,null,null,null,null,null,null,null,null,null,null,null,null,null,null,null,0,"",0,0,0,0,0,0,0]
[null,null,null,null,null,null,null,null,null,null,null,null,null,null,null,null,null,null,null,null,null,null,null,null,null,null,null,null,null,null,null,null,null,null,null,null,null,null,null,null,null,null,null,null,null,null,null,null,null,null,null,null,0,"",0,0,0,0,0,0,0]
[null,null,null,null,null,null,null,null,null,null,null,null,null,null,null,null,null,null,null,null,null,null,null,null,null,null,null,null,null,null,null,null,null,null,null,null,null,null,null,null,null,null,null,null,null,null,null,null,null,null,null,null,0,"",0,0,0,0,0,0,0]
[null,null,null,null,null,null,null,null,null,null,null,null,null,null,null,null,null,null,null,null,null,null,null,null,null,null,null,null,null,null,null,null,null,null,null,null,null,null,null,null,null,null,null,null,null,null,null,null,null,null,null,null,0,"",0,0,0,0,0,0,0]
[null,null,null,null,null,null,null,null,null,null,null,null,null,null,null,null,null,null,null,null,null,null,null,null,null,null,null,null,null,null,null,null,null,null,null,null,null,null,null,null,null,null,null,null,null,null,null,null,null,null,null,null,0,"",0,0,0,0,0,0,0]
[null,null,null,null,null,null,null,null,null,null,null,null,null,null,null,null,null,null,null,null,null,null,null,null,null,null,null,null,null,null,null,null,null,null,null,null,null,null,null,null,null,null,null,null,null,null,null,null,null,null,null,null,0,"",0,0,0,0,0,0,0]
[null,null,null,null,null,null,null,null,null,null,null,null,null,null,null,null,null,null,null,null,null,null,null,null,null,null,null,null,null,null,null,null,null,null,null,null,null,null,null,null,null,null,null,null,null,null,null,null,null,null,null,null,0,"",0,0,0,0,0,0,0]
[null,null,null,null,null,null,null,null,null,null,null,null,null,null,null,null,null,null,null,null,null,null,null,null,null,null,null,null,null,null,null,null,null,null,null,null,null,null,null,null,null,null,null,null,null,null,null,null,null,null,null,null,0,"",0,0,0,0,0,0,0]
[null,null,null,null,null,null,null,null,null,null,null,null,null,null,null,null,null,null,null,null,null,null,null,null,null,null,null,null,null,null,null,null,null,null,null,null,null,null,null,null,null,null,null,null,null,null,null,null,null,null,null,null,0,"",0,0,0,0,0,0,0]
[null,null,null,null,null,null,null,null,null,null,null,null,null,null,null,null,null,null,null,null,null,null,null,null,null,null,null,null,null,null,null,null,null,null,null,null,null,null,null,null,null,null,null,null,null,null,null,null,null,null,null,null,0,"",0,0,0,0,0,0,0]
[null,null,null,null,null,null,null,null,null,null,null,null,null,null,null,null,null,null,null,null,null,null,null,null,null,null,null,null,null,null,null,null,null,null,null,null,null,null,null,null,null,null,null,null,null,null,null,null,null,null,null,null,0,"",0,0,0,0,0,0,0]
[null,null,null,null,null,null,null,null,null,null,null,null,null,null,null,null,null,null,null,null,null,null,null,null,null,null,null,null,null,null,null,null,null,null,null,null,null,null,null,null,null,null,null,null,null,null,null,null,null,null,null,null,0,"",0,0,0,0,0,0,0]
[null,null,null,null,null,null,null,null,null,null,null,null,null,null,null,null,null,null,null,null,null,null,null,null,null,null,null,null,null,null,null,null,null,null,null,null,null,null,null,null,null,null,null,null,null,null,null,null,null,null,null,null,0,"",0,0,0,0,0,0,0]
[null,null,null,null,null,null,null,null,null,null,null,null,null,null,null,null,null,null,null,null,null,null,null,null,null,null,null,null,null,null,null,null,null,null,null,null,null,null,null,null,null,null,null,null,null,null,null,null,null,null,null,null,0,"",0,0,0,0,0,0,0]
[null,null,null,null,null,null,null,null,null,null,null,null,null,null,null,null,null,null,null,null,null,null,null,null,null,null,null,null,null,null,null,null,null,null,null,null,null,null,null,null,null,null,null,null,null,null,null,null,null,null,null,null,{"$f":"A664","v":0},{"$f":"B664&C664","v":""},{"$f":"C664","v":0},{"$f":"D664","v":0},{"$f":"E664","v":0},{"$f":"F664","v":0},{"$f":"G664","v":0},{"$f":"H664","v":0},{"$f":"I664","v":0}]
[null,null,null,null,null,null,null,null,null,null,null,null,null,null,null,null,null,null,null,null,null,null,null,null,null,null,null,null,null,null,null,null,null,null,null,null,null,null,null,null,null,null,null,null,null,null,null,null,null,null,null,null,0,"",0,0,0,0,0,0,0]
[null,null,null,null,null,null,null,null,null,null,null,null,null,null,null,null,null,null,null,null,null,null,null,null,null,null,null,null,null,null,null,null,null,null,null,null,null,null,null,null,null,null,null,null,null,null,null,null,null,null,null,null,0,"",0,0,0,0,0,0,0]
[null,null,null,null,null,null,null,null,null,null,null,null,null,null,null,null,null,null,null,null,null,null,null,null,null,null,null,null,null,null,null,null,null,null,null,null,null,null,null,null,null,null,null,null,null,null,null,null,null,null,null,null,0,"",0,0,0,0,0,0,0]
[null,null,null,null,null,null,null,null,null,null,null,null,null,null,null,null,null,null,null,null,null,null,null,null,null,null,null,null,null,null,null,null,null,null,null,null,null,null,null,null,null,null,null,null,null,null,null,null,null,null,null,null,0,"",0,0,0,0,0,0,0]
[null,null,null,null,null,null,null,null,null,null,null,null,null,null,null,null,null,null,null,null,null,null,null,null,null,null,null,null,null,null,null,null,null,null,null,null,null,null,null,null,null,null,null,null,null,null,null,null,null,null,null,null,0,"",0,0,0,0,0,0,0]
[null,null,null,null,null,null,null,null,null,null,null,null,null,null,null,null,null,null,null,null,null,null,null,null,null,null,null,null,null,null,null,null,null,null,null,null,null,null,null,null,null,null,null,null,null,null,null,null,null,null,null,null,0,"",0,0,0,0,0,0,0]
[null,null,null,null,null,null,null,null,null,null,null,null,null,null,null,null,null,null,null,null,null,null,null,null,null,null,null,null,null,null,null,null,null,null,null,null,null,null,null,null,null,null,null,null,null,null,null,null,null,null,null,null,0,"",0,0,0,0,0,0,0]
[null,null,null,null,null,null,null,null,null,null,null,null,null,null,null,null,null,null,null,null,null,null,null,null,null,null,null,null,null,null,null,null,null,null,null,null,null,null,null,null,null,null,null,null,null,null,null,null,null,null,null,null,0,"",0,0,0,0,0,0,0]
[null,null,null,null,null,null,null,null,null,null,null,null,null,null,null,null,null,null,null,null,null,null,null,null,null,null,null,null,null,null,null,null,null,null,null,null,null,null,null,null,null,null,null,null,null,null,null,null,null,null,null,null,0,"",0,0,0,0,0,0,0]
[null,null,null,null,null,null,null,null,null,null,null,null,null,null,null,null,null,null,null,null,null,null,null,null,null,null,null,null,null,null,null,null,null,null,null,null,null,null,null,null,null,null,null,null,null,null,null,null,null,null,null,null,0,"",0,0,0,0,0,0,0]
[null,null,null,null,null,null,null,null,null,null,null,null,null,null,null,null,null,null,null,null,null,null,null,null,null,null,null,null,null,null,null,null,null,null,null,null,null,null,null,null,null,null,null,null,null,null,null,null,null,null,null,null,0,"",0,0,0,0,0,0,0]
[null,null,null,null,null,null,null,null,null,null,null,null,null,null,null,null,null,null,null,null,null,null,null,null,null,null,null,null,null,null,null,null,null,null,null,null,null,null,null,null,null,null,null,null,null,null,null,null,null,null,null,null,0,"",0,0,0,0,0,0,0]
[null,null,null,null,null,null,null,null,null,null,null,null,null,null,null,null,null,null,null,null,null,null,null,null,null,null,null,null,null,null,null,null,null,null,null,null,null,null,null,null,null,null,null,null,null,null,null,null,null,null,null,null,0,"",0,0,0,0,0,0,0]
[null,null,null,null,null,null,null,null,null,null,null,null,null,null,null,null,null,null,null,null,null,null,null,null,null,null,null,null,null,null,null,null,null,null,null,null,null,null,null,null,null,null,null,null,null,null,null,null,null,null,null,null,0,"",0,0,0,0,0,0,0]
[null,null,null,null,null,null,null,null,null,null,null,null,null,null,null,null,null,null,null,null,null,null,null,null,null,null,null,null,null,null,null,null,null,null,null,null,null,null,null,null,null,null,null,null,null,null,null,null,null,null,null,null,0,"",0,0,0,0,0,0,0]
[null,null,null,null,null,null,null,null,null,null,null,null,null,null,null,null,null,null,null,null,null,null,null,null,null,null,null,null,null,null,null,null,null,null,null,null,null,null,null,null,null,null,null,null,null,null,null,null,null,null,null,null,0,"",0,0,0,0,0,0,0]
[null,null,null,null,null,null,null,null,null,null,null,null,null,null,null,null,null,null,null,null,null,null,null,null,null,null,null,null,null,null,null,null,null,null,null,null,null,null,null,null,null,null,null,null,null,null,null,null,null,null,null,null,0,"",0,0,0,0,0,0,0]
[null,null,null,null,null,null,null,null,null,null,null,null,null,null,null,null,null,null,null,null,null,null,null,null,null,null,null,null,null,null,null,null,null,null,null,null,null,null,null,null,null,null,null,null,null,null,null,null,null,null,null,null,0,"",0,0,0,0,0,0,0]
[null,null,null,null,null,null,null,null,null,null,null,null,null,null,null,null,null,null,null,null,null,null,null,null,null,null,null,null,null,null,null,null,null,null,null,null,null,null,null,null,null,null,null,null,null,null,null,null,null,null,null,null,0,"",0,0,0,0,0,0,0]
[null,null,null,null,null,null,null,null,null,null,null,null,null,null,null,null,null,null,null,null,null,null,null,null,null,null,null,null,null,null,null,null,null,null,null,null,null,null,null,null,null,null,null,null,null,null,null,null,null,null,null,null,0,"",0,0,0,0,0,0,0]
[null,null,null,null,null,null,null,null,null,null,null,null,null,null,null,null,null,null,null,null,null,null,null,null,null,null,null,null,null,null,null,null,null,null,null,null,null,null,null,null,null,null,null,null,null,null,null,null,null,null,null,null,0,"",0,0,0,0,0,0,0]
[null,null,null,null,null,null,null,null,null,null,null,null,null,null,null,null,null,null,null,null,null,null,null,null,null,null,null,null,null,null,null,null,null,null,null,null,null,null,null,null,null,null,null,null,null,null,null,null,null,null,null,null,0,"",0,0,0,0,0,0,0]
[null,null,null,null,null,null,null,null,null,null,null,null,null,null,null,null,null,null,null,null,null,null,null,null,null,null,null,null,null,null,null,null,null,null,null,null,null,null,null,null,null,null,null,null,null,null,null,null,null,null,null,null,0,"",0,0,0,0,0,0,0]
[null,null,null,null,null,null,null,null,null,null,null,null,null,null,null,null,null,null,null,null,null,null,null,null,null,null,null,null,null,null,null,null,null,null,null,null,null,null,null,null,null,null,null,null,null,null,null,null,null,null,null,null,0,"",0,0,0,0,0,0,0]
[null,null,null,null,null,null,null,null,null,null,null,null,null,null,null,null,null,null,null,null,null,null,null,null,null,null,null,null,null,null,null,null,null,null,null,null,null,null,null,null,null,null,null,null,null,null,null,null,null,null,null,null,0,"",0,0,0,0,0,0,0]
[null,null,null,null,null,null,null,null,null,null,null,null,null,null,null,null,null,null,null,null,null,null,null,null,null,null,null,null,null,null,null,null,null,null,null,null,null,null,null,null,null,null,null,null,null,null,null,null,null,null,null,null,0,"",0,0,0,0,0,0,0]
[null,null,null,null,null,null,null,null,null,null,null,null,null,null,null,null,null,null,null,null,null,null,null,null,null,null,null,null,null,null,null,null,null,null,null,null,null,null,null,null,null,null,null,null,null,null,null,null,null,null,null,null,0,"",0,0,0,0,0,0,0]
[null,null,null,null,null,null,null,null,null,null,null,null,null,null,null,null,null,null,null,null,null,null,null,null,null,null,null,null,null,null,null,null,null,null,null,null,null,null,null,null,null,null,null,null,null,null,null,null,null,null,null,null,0,"",0,0,0,0,0,0,0]
[null,null,null,null,null,null,null,null,null,null,null,null,null,null,null,null,null,null,null,null,null,null,null,null,null,null,null,null,null,null,null,null,null,null,null,null,null,null,null,null,null,null,null,null,null,null,null,null,null,null,null,null,0,"",0,0,0,0,0,0,0]
[null,null,null,null,null,null,null,null,null,null,null,null,null,null,null,null,null,null,null,null,null,null,null,null,null,null,null,null,null,null,null,null,null,null,null,null,null,null,null,null,null,null,null,null,null,null,null,null,null,null,null,null,0,"",0,0,0,0,0,0,0]
[null,null,null,null,null,null,null,null,null,null,null,null,null,null,null,null,null,null,null,null,null,null,null,null,null,null,null,null,null,null,null,null,null,null,null,null,null,null,null,null,null,null,null,null,null,null,null,null,null,null,null,null,0,"",0,0,0,0,0,0,0]
[null,null,null,null,null,null,null,null,null,null,null,null,null,null,null,null,null,null,null,null,null,null,null,null,null,null,null,null,null,null,null,null,null,null,null,null,null,null,null,null,null,null,null,null,null,null,null,null,null,null,null,null,0,"",0,0,0,0,0,0,0]
[null,null,null,null,null,null,null,null,null,null,null,null,null,null,null,null,null,null,null,null,null,null,null,null,null,null,null,null,null,null,null,null,null,null,null,null,null,null,null,null,null,null,null,null,null,null,null,null,null,null,null,null,0,"",0,0,0,0,0,0,0]
[null,null,null,null,null,null,null,null,null,null,null,null,null,null,null,null,null,null,null,null,null,null,null,null,null,null,null,null,null,null,null,null,null,null,null,null,null,null,null,null,null,null,null,null,null,null,null,null,null,null,null,null,0,"",0,0,0,0,0,0,0]
[null,null,null,null,null,null,null,null,null,null,null,null,null,null,null,null,null,null,null,null,null,null,null,null,null,null,null,null,null,null,null,null,null,null,null,null,null,null,null,null,null,null,null,null,null,null,null,null,null,null,null,null,0,"",0,0,0,0,0,0,0]
[null,null,null,null,null,null,null,null,null,null,null,null,null,null,null,null,null,null,null,null,null,null,null,null,null,null,null,null,null,null,null,null,null,null,null,null,null,null,null,null,null,null,null,null,null,null,null,null,null,null,null,null,0,"",0,0,0,0,0,0,0]
[null,null,null,null,null,null,null,null,null,null,null,null,null,null,null,null,null,null,null,null,null,null,null,null,null,null,null,null,null,null,null,null,null,null,null,null,null,null,null,null,null,null,null,null,null,null,null,null,null,null,null,null,0,"",0,0,0,0,0,0,0]
[null,null,null,null,null,null,null,null,null,null,null,null,null,null,null,null,null,null,null,null,null,null,null,null,null,null,null,null,null,null,null,null,null,null,null,null,null,null,null,null,null,null,null,null,null,null,null,null,null,null,null,null,0,"",0,0,0,0,0,0,0]
[null,null,null,null,null,null,null,null,null,null,null,null,null,null,null,null,null,null,null,null,null,null,null,null,null,null,null,null,null,null,null,null,null,null,null,null,null,null,null,null,null,null,null,null,null,null,null,null,null,null,null,null,0,"",0,0,0,0,0,0,0]
[null,null,null,null,null,null,null,null,null,null,null,null,null,null,null,null,null,null,null,null,null,null,null,null,null,null,null,null,null,null,null,null,null,null,null,null,null,null,null,null,null,null,null,null,null,null,null,null,null,null,null,null,0,"",0,0,0,0,0,0,0]
[null,null,null,null,null,null,null,null,null,null,null,null,null,null,null,null,null,null,null,null,null,null,null,null,null,null,null,null,null,null,null,null,null,null,null,null,null,null,null,null,null,null,null,null,null,null,null,null,null,null,null,null,0,"",0,0,0,0,0,0,0]
[null,null,null,null,null,null,null,null,null,null,null,null,null,null,null,null,null,null,null,null,null,null,null,null,null,null,null,null,null,null,null,null,null,null,null,null,null,null,null,null,null,null,null,null,null,null,null,null,null,null,null,null,0,"",0,0,0,0,0,0,0]
[null,null,null,null,null,null,null,null,null,null,null,null,null,null,null,null,null,null,null,null,null,null,null,null,null,null,null,null,null,null,null,null,null,null,null,null,null,null,null,null,null,null,null,null,null,null,null,null,null,null,null,null,0,"",0,0,0,0,0,0,0]
[null,null,null,null,null,null,null,null,null,null,null,null,null,null,null,null,null,null,null,null,null,null,null,null,null,null,null,null,null,null,null,null,null,null,null,null,null,null,null,null,null,null,null,null,null,null,null,null,null,null,null,null,0,"",0,0,0,0,0,0,0]
[null,null,null,null,null,null,null,null,null,null,null,null,null,null,null,null,null,null,null,null,null,null,null,null,null,null,null,null,null,null,null,null,null,null,null,null,null,null,null,null,null,null,null,null,null,null,null,null,null,null,null,null,0,"",0,0,0,0,0,0,0]
[null,null,null,null,null,null,null,null,null,null,null,null,null,null,null,null,null,null,null,null,null,null,null,null,null,null,null,null,null,null,null,null,null,null,null,null,null,null,null,null,null,null,null,null,null,null,null,null,null,null,null,null,0,"",0,0,0,0,0,0,0]
[null,null,null,null,null,null,null,null,null,null,null,null,null,null,null,null,null,null,null,null,null,null,null,null,null,null,null,null,null,null,null,null,null,null,null,null,null,null,null,null,null,null,null,null,null,null,null,null,null,null,null,null,0,"",0,0,0,0,0,0,0]
[null,null,null,null,null,null,null,null,null,null,null,null,null,null,null,null,null,null,null,null,null,null,null,null,null,null,null,null,null,null,null,null,null,null,null,null,null,null,null,null,null,null,null,null,null,null,null,null,null,null,null,null,0,"",0,0,0,0,0,0,0]
[null,null,null,null,null,null,null,null,null,null,null,null,null,null,null,null,null,null,null,null,null,null,null,null,null,null,null,null,null,null,null,null,null,null,null,null,null,null,null,null,null,null,null,null,null,null,null,null,null,null,null,null,0,"",0,0,0,0,0,0,0]
[null,null,null,null,null,null,null,null,null,null,null,null,null,null,null,null,null,null,null,null,null,null,null,null,null,null,null,null,null,null,null,null,null,null,null,null,null,null,null,null,null,null,null,null,null,null,null,null,null,null,null,null,0,"",0,0,0,0,0,0,0]
[null,null,null,null,null,null,null,null,null,null,null,null,null,null,null,null,null,null,null,null,null,null,null,null,null,null,null,null,null,null,null,null,null,null,null,null,null,null,null,null,null,null,null,null,null,null,null,null,null,null,null,null,0,"",0,0,0,0,0,0,0]
[null,null,null,null,null,null,null,null,null,null,null,null,null,null,null,null,null,null,null,null,null,null,null,null,null,null,null,null,null,null,null,null,null,null,null,null,null,null,null,null,null,null,null,null,null,null,null,null,null,null,null,null,0,"",0,0,0,0,0,0,0]
[null,null,null,null,null,null,null,null,null,null,null,null,null,null,null,null,null,null,null,null,null,null,null,null,null,null,null,null,null,null,null,null,null,null,null,null,null,null,null,null,null,null,null,null,null,null,null,null,null,null,null,null,0,"",0,0,0,0,0,0,0]
[null,null,null,null,null,null,null,null,null,null,null,null,null,null,null,null,null,null,null,null,null,null,null,null,null,null,null,null,null,null,null,null,null,null,null,null,null,null,null,null,null,null,null,null,null,null,null,null,null,null,null,null,0,"",0,0,0,0,0,0,0]
[null,null,null,null,null,null,null,null,null,null,null,null,null,null,null,null,null,null,null,null,null,null,null,null,null,null,null,null,null,null,null,null,null,null,null,null,null,null,null,null,null,null,null,null,null,null,null,null,null,null,null,null,0,"",0,0,0,0,0,0,0]
[null,null,null,null,null,null,null,null,null,null,null,null,null,null,null,null,null,null,null,null,null,null,null,null,null,null,null,null,null,null,null,null,null,null,null,null,null,null,null,null,null,null,null,null,null,null,null,null,null,null,null,null,0,"",0,0,0,0,0,0,0]
[null,null,null,null,null,null,null,null,null,null,null,null,null,null,null,null,null,null,null,null,null,null,null,null,null,null,null,null,null,null,null,null,null,null,null,null,null,null,null,null,null,null,null,null,null,null,null,null,null,null,null,null,0,"",0,0,0,0,0,0,0]
[null,null,null,null,null,null,null,null,null,null,null,null,null,null,null,null,null,null,null,null,null,null,null,null,null,null,null,null,null,null,null,null,null,null,null,null,null,null,null,null,null,null,null,null,null,null,null,null,null,null,null,null,0,"",0,0,0,0,0,0,0]
[null,null,null,null,null,null,null,null,null,null,null,null,null,null,null,null,null,null,null,null,null,null,null,null,null,null,null,null,null,null,null,null,null,null,null,null,null,null,null,null,null,null,null,null,null,null,null,null,null,null,null,null,0,"",0,0,0,0,0,0,0]
[null,null,null,null,null,null,null,null,null,null,null,null,null,null,null,null,null,null,null,null,null,null,null,null,null,null,null,null,null,null,null,null,null,null,null,null,null,null,null,null,null,null,null,null,null,null,null,null,null,null,null,null,0,"",0,0,0,0,0,0,0]
[null,null,null,null,null,null,null,null,null,null,null,null,null,null,null,null,null,null,null,null,null,null,null,null,null,null,null,null,null,null,null,null,null,null,null,null,null,null,null,null,null,null,null,null,null,null,null,null,null,null,null,null,0,"",0,0,0,0,0,0,0]
[null,null,null,null,null,null,null,null,null,null,null,null,null,null,null,null,null,null,null,null,null,null,null,null,null,null,null,null,null,null,null,null,null,null,null,null,null,null,null,null,null,null,null,null,null,null,null,null,null,null,null,null,0,"",0,0,0,0,0,0,0]
[null,null,null,null,null,null,null,null,null,null,null,null,null,null,null,null,null,null,null,null,null,null,null,null,null,null,null,null,null,null,null,null,null,null,null,null,null,null,null,null,null,null,null,null,null,null,null,null,null,null,null,null,0,"",0,0,0,0,0,0,0]
[null,null,null,null,null,null,null,null,null,null,null,null,null,null,null,null,null,null,null,null,null,null,null,null,null,null,null,null,null,null,null,null,null,null,null,null,null,null,null,null,null,null,null,null,null,null,null,null,null,null,null,null,{"$f":"A728","v":0},{"$f":"B728&C728","v":""},{"$f":"C728","v":0},{"$f":"D728","v":0},{"$f":"E728","v":0},{"$f":"F728","v":0},{"$f":"G728","v":0},{"$f":"H728","v":0},{"$f":"I728","v":0}]
[null,null,null,null,null,null,null,null,null,null,null,null,null,null,null,null,null,null,null,null,null,null,null,null,null,null,null,null,null,null,null,null,null,null,null,null,null,null,null,null,null,null,null,null,null,null,null,null,null,null,null,null,0,"",0,0,0,0,0,0,0]
[null,null,null,null,null,null,null,null,null,null,null,null,null,null,null,null,null,null,null,null,null,null,null,null,null,null,null,null,null,null,null,null,null,null,null,null,null,null,null,null,null,null,null,null,null,null,null,null,null,null,null,null,0,"",0,0,0,0,0,0,0]
[null,null,null,null,null,null,null,null,null,null,null,null,null,null,null,null,null,null,null,null,null,null,null,null,null,null,null,null,null,null,null,null,null,null,null,null,null,null,null,null,null,null,null,null,null,null,null,null,null,null,null,null,0,"",0,0,0,0,0,0,0]
[null,null,null,null,null,null,null,null,null,null,null,null,null,null,null,null,null,null,null,null,null,null,null,null,null,null,null,null,null,null,null,null,null,null,null,null,null,null,null,null,null,null,null,null,null,null,null,null,null,null,null,null,0,"",0,0,0,0,0,0,0]
[null,null,null,null,null,null,null,null,null,null,null,null,null,null,null,null,null,null,null,null,null,null,null,null,null,null,null,null,null,null,null,null,null,null,null,null,null,null,null,null,null,null,null,null,null,null,null,null,null,null,null,null,0,"",0,0,0,0,0,0,0]
[null,null,null,null,null,null,null,null,null,null,null,null,null,null,null,null,null,null,null,null,null,null,null,null,null,null,null,null,null,null,null,null,null,null,null,null,null,null,null,null,null,null,null,null,null,null,null,null,null,null,null,null,0,"",0,0,0,0,0,0,0]
[null,null,null,null,null,null,null,null,null,null,null,null,null,null,null,null,null,null,null,null,null,null,null,null,null,null,null,null,null,null,null,null,null,null,null,null,null,null,null,null,null,null,null,null,null,null,null,null,null,null,null,null,0,"",0,0,0,0,0,0,0]
[null,null,null,null,null,null,null,null,null,null,null,null,null,null,null,null,null,null,null,null,null,null,null,null,null,null,null,null,null,null,null,null,null,null,null,null,null,null,null,null,null,null,null,null,null,null,null,null,null,null,null,null,0,"",0,0,0,0,0,0,0]
[null,null,null,null,null,null,null,null,null,null,null,null,null,null,null,null,null,null,null,null,null,null,null,null,null,null,null,null,null,null,null,null,null,null,null,null,null,null,null,null,null,null,null,null,null,null,null,null,null,null,null,null,0,"",0,0,0,0,0,0,0]
[null,null,null,null,null,null,null,null,null,null,null,null,null,null,null,null,null,null,null,null,null,null,null,null,null,null,null,null,null,null,null,null,null,null,null,null,null,null,null,null,null,null,null,null,null,null,null,null,null,null,null,null,0,"",0,0,0,0,0,0,0]
[null,null,null,null,null,null,null,null,null,null,null,null,null,null,null,null,null,null,null,null,null,null,null,null,null,null,null,null,null,null,null,null,null,null,null,null,null,null,null,null,null,null,null,null,null,null,null,null,null,null,null,null,0,"",0,0,0,0,0,0,0]
[null,null,null,null,null,null,null,null,null,null,null,null,null,null,null,null,null,null,null,null,null,null,null,null,null,null,null,null,null,null,null,null,null,null,null,null,null,null,null,null,null,null,null,null,null,null,null,null,null,null,null,null,0,"",0,0,0,0,0,0,0]
[null,null,null,null,null,null,null,null,null,null,null,null,null,null,null,null,null,null,null,null,null,null,null,null,null,null,null,null,null,null,null,null,null,null,null,null,null,null,null,null,null,null,null,null,null,null,null,null,null,null,null,null,0,"",0,0,0,0,0,0,0]
[null,null,null,null,null,null,null,null,null,null,null,null,null,null,null,null,null,null,null,null,null,null,null,null,null,null,null,null,null,null,null,null,null,null,null,null,null,null,null,null,null,null,null,null,null,null,null,null,null,null,null,null,0,"",0,0,0,0,0,0,0]
[null,null,null,null,null,null,null,null,null,null,null,null,null,null,null,null,null,null,null,null,null,null,null,null,null,null,null,null,null,null,null,null,null,null,null,null,null,null,null,null,null,null,null,null,null,null,null,null,null,null,null,null,0,"",0,0,0,0,0,0,0]
[null,null,null,null,null,null,null,null,null,null,null,null,null,null,null,null,null,null,null,null,null,null,null,null,null,null,null,null,null,null,null,null,null,null,null,null,null,null,null,null,null,null,null,null,null,null,null,null,null,null,null,null,0,"",0,0,0,0,0,0,0]
[null,null,null,null,null,null,null,null,null,null,null,null,null,null,null,null,null,null,null,null,null,null,null,null,null,null,null,null,null,null,null,null,null,null,null,null,null,null,null,null,null,null,null,null,null,null,null,null,null,null,null,null,0,"",0,0,0,0,0,0,0]
[null,null,null,null,null,null,null,null,null,null,null,null,null,null,null,null,null,null,null,null,null,null,null,null,null,null,null,null,null,null,null,null,null,null,null,null,null,null,null,null,null,null,null,null,null,null,null,null,null,null,null,null,0,"",0,0,0,0,0,0,0]
[null,null,null,null,null,null,null,null,null,null,null,null,null,null,null,null,null,null,null,null,null,null,null,null,null,null,null,null,null,null,null,null,null,null,null,null,null,null,null,null,null,null,null,null,null,null,null,null,null,null,null,null,0,"",0,0,0,0,0,0,0]
[null,null,null,null,null,null,null,null,null,null,null,null,null,null,null,null,null,null,null,null,null,null,null,null,null,null,null,null,null,null,null,null,null,null,null,null,null,null,null,null,null,null,null,null,null,null,null,null,null,null,null,null,0,"",0,0,0,0,0,0,0]
[null,null,null,null,null,null,null,null,null,null,null,null,null,null,null,null,null,null,null,null,null,null,null,null,null,null,null,null,null,null,null,null,null,null,null,null,null,null,null,null,null,null,null,null,null,null,null,null,null,null,null,null,0,"",0,0,0,0,0,0,0]
[null,null,null,null,null,null,null,null,null,null,null,null,null,null,null,null,null,null,null,null,null,null,null,null,null,null,null,null,null,null,null,null,null,null,null,null,null,null,null,null,null,null,null,null,null,null,null,null,null,null,null,null,0,"",0,0,0,0,0,0,0]
[null,null,null,null,null,null,null,null,null,null,null,null,null,null,null,null,null,null,null,null,null,null,null,null,null,null,null,null,null,null,null,null,null,null,null,null,null,null,null,null,null,null,null,null,null,null,null,null,null,null,null,null,0,"",0,0,0,0,0,0,0]
[null,null,null,null,null,null,null,null,null,null,null,null,null,null,null,null,null,null,null,null,null,null,null,null,null,null,null,null,null,null,null,null,null,null,null,null,null,null,null,null,null,null,null,null,null,null,null,null,null,null,null,null,0,"",0,0,0,0,0,0,0]
[null,null,null,null,null,null,null,null,null,null,null,null,null,null,null,null,null,null,null,null,null,null,null,null,null,null,null,null,null,null,null,null,null,null,null,null,null,null,null,null,null,null,null,null,null,null,null,null,null,null,null,null,0,"",0,0,0,0,0,0,0]
[null,null,null,null,null,null,null,null,null,null,null,null,null,null,null,null,null,null,null,null,null,null,null,null,null,null,null,null,null,null,null,null,null,null,null,null,null,null,null,null,null,null,null,null,null,null,null,null,null,null,null,null,0,"",0,0,0,0,0,0,0]
[null,null,null,null,null,null,null,null,null,null,null,null,null,null,null,null,null,null,null,null,null,null,null,null,null,null,null,null,null,null,null,null,null,null,null,null,null,null,null,null,null,null,null,null,null,null,null,null,null,null,null,null,0,"",0,0,0,0,0,0,0]
[null,null,null,null,null,null,null,null,null,null,null,null,null,null,null,null,null,null,null,null,null,null,null,null,null,null,null,null,null,null,null,null,null,null,null,null,null,null,null,null,null,null,null,null,null,null,null,null,null,null,null,null,0,"",0,0,0,0,0,0,0]
[null,null,null,null,null,null,null,null,null,null,null,null,null,null,null,null,null,null,null,null,null,null,null,null,null,null,null,null,null,null,null,null,null,null,null,null,null,null,null,null,null,null,null,null,null,null,null,null,null,null,null,null,0,"",0,0,0,0,0,0,0]
[null,null,null,null,null,null,null,null,null,null,null,null,null,null,null,null,null,null,null,null,null,null,null,null,null,null,null,null,null,null,null,null,null,null,null,null,null,null,null,null,null,null,null,null,null,null,null,null,null,null,null,null,0,"",0,0,0,0,0,0,0]
[null,null,null,null,null,null,null,null,null,null,null,null,null,null,null,null,null,null,null,null,null,null,null,null,null,null,null,null,null,null,null,null,null,null,null,null,null,null,null,null,null,null,null,null,null,null,null,null,null,null,null,null,0,"",0,0,0,0,0,0,0]
[null,null,null,null,null,null,null,null,null,null,null,null,null,null,null,null,null,null,null,null,null,null,null,null,null,null,null,null,null,null,null,null,null,null,null,null,null,null,null,null,null,null,null,null,null,null,null,null,null,null,null,null,0,"",0,0,0,0,0,0,0]
[null,null,null,null,null,null,null,null,null,null,null,null,null,null,null,null,null,null,null,null,null,null,null,null,null,null,null,null,null,null,null,null,null,null,null,null,null,null,null,null,null,null,null,null,null,null,null,null,null,null,null,null,0,"",0,0,0,0,0,0,0]
[null,null,null,null,null,null,null,null,null,null,null,null,null,null,null,null,null,null,null,null,null,null,null,null,null,null,null,null,null,null,null,null,null,null,null,null,null,null,null,null,null,null,null,null,null,null,null,null,null,null,null,null,0,"",0,0,0,0,0,0,0]
[null,null,null,null,null,null,null,null,null,null,null,null,null,null,null,null,null,null,null,null,null,null,null,null,null,null,null,null,null,null,null,null,null,null,null,null,null,null,null,null,null,null,null,null,null,null,null,null,null,null,null,null,0,"",0,0,0,0,0,0,0]
[null,null,null,null,null,null,null,null,null,null,null,null,null,null,null,null,null,null,null,null,null,null,null,null,null,null,null,null,null,null,null,null,null,null,null,null,null,null,null,null,null,null,null,null,null,null,null,null,null,null,null,null,0,"",0,0,0,0,0,0,0]
[null,null,null,null,null,null,null,null,null,null,null,null,null,null,null,null,null,null,null,null,null,null,null,null,null,null,null,null,null,null,null,null,null,null,null,null,null,null,null,null,null,null,null,null,null,null,null,null,null,null,null,null,0,"",0,0,0,0,0,0,0]
[null,null,null,null,null,null,null,null,null,null,null,null,null,null,null,null,null,null,null,null,null,null,null,null,null,null,null,null,null,null,null,null,null,null,null,null,null,null,null,null,null,null,null,null,null,null,null,null,null,null,null,null,0,"",0,0,0,0,0,0,0]
[null,null,null,null,null,null,null,null,null,null,null,null,null,null,null,null,null,null,null,null,null,null,null,null,null,null,null,null,null,null,null,null,null,null,null,null,null,null,null,null,null,null,null,null,null,null,null,null,null,null,null,null,0,"",0,0,0,0,0,0,0]
[null,null,null,null,null,null,null,null,null,null,null,null,null,null,null,null,null,null,null,null,null,null,null,null,null,null,null,null,null,null,null,null,null,null,null,null,null,null,null,null,null,null,null,null,null,null,null,null,null,null,null,null,0,"",0,0,0,0,0,0,0]
[null,null,null,null,null,null,null,null,null,null,null,null,null,null,null,null,null,null,null,null,null,null,null,null,null,null,null,null,null,null,null,null,null,null,null,null,null,null,null,null,null,null,null,null,null,null,null,null,null,null,null,null,0,"",0,0,0,0,0,0,0]
[null,null,null,null,null,null,null,null,null,null,null,null,null,null,null,null,null,null,null,null,null,null,null,null,null,null,null,null,null,null,null,null,null,null,null,null,null,null,null,null,null,null,null,null,null,null,null,null,null,null,null,null,0,"",0,0,0,0,0,0,0]
[null,null,null,null,null,null,null,null,null,null,null,null,null,null,null,null,null,null,null,null,null,null,null,null,null,null,null,null,null,null,null,null,null,null,null,null,null,null,null,null,null,null,null,null,null,null,null,null,null,null,null,null,0,"",0,0,0,0,0,0,0]
[null,null,null,null,null,null,null,null,null,null,null,null,null,null,null,null,null,null,null,null,null,null,null,null,null,null,null,null,null,null,null,null,null,null,null,null,null,null,null,null,null,null,null,null,null,null,null,null,null,null,null,null,0,"",0,0,0,0,0,0,0]
[null,null,null,null,null,null,null,null,null,null,null,null,null,null,null,null,null,null,null,null,null,null,null,null,null,null,null,null,null,null,null,null,null,null,null,null,null,null,null,null,null,null,null,null,null,null,null,null,null,null,null,null,0,"",0,0,0,0,0,0,0]
[null,null,null,null,null,null,null,null,null,null,null,null,null,null,null,null,null,null,null,null,null,null,null,null,null,null,null,null,null,null,null,null,null,null,null,null,null,null,null,null,null,null,null,null,null,null,null,null,null,null,null,null,0,"",0,0,0,0,0,0,0]
[null,null,null,null,null,null,null,null,null,null,null,null,null,null,null,null,null,null,null,null,null,null,null,null,null,null,null,null,null,null,null,null,null,null,null,null,null,null,null,null,null,null,null,null,null,null,null,null,null,null,null,null,0,"",0,0,0,0,0,0,0]
[null,null,null,null,null,null,null,null,null,null,null,null,null,null,null,null,null,null,null,null,null,null,null,null,null,null,null,null,null,null,null,null,null,null,null,null,null,null,null,null,null,null,null,null,null,null,null,null,null,null,null,null,0,"",0,0,0,0,0,0,0]
[null,null,null,null,null,null,null,null,null,null,null,null,null,null,null,null,null,null,null,null,null,null,null,null,null,null,null,null,null,null,null,null,null,null,null,null,null,null,null,null,null,null,null,null,null,null,null,null,null,null,null,null,0,"",0,0,0,0,0,0,0]
[null,null,null,null,null,null,null,null,null,null,null,null,null,null,null,null,null,null,null,null,null,null,null,null,null,null,null,null,null,null,null,null,null,null,null,null,null,null,null,null,null,null,null,null,null,null,null,null,null,null,null,null,0,"",0,0,0,0,0,0,0]
[null,null,null,null,null,null,null,null,null,null,null,null,null,null,null,null,null,null,null,null,null,null,null,null,null,null,null,null,null,null,null,null,null,null,null,null,null,null,null,null,null,null,null,null,null,null,null,null,null,null,null,null,0,"",0,0,0,0,0,0,0]
[null,null,null,null,null,null,null,null,null,null,null,null,null,null,null,null,null,null,null,null,null,null,null,null,null,null,null,null,null,null,null,null,null,null,null,null,null,null,null,null,null,null,null,null,null,null,null,null,null,null,null,null,0,"",0,0,0,0,0,0,0]
[null,null,null,null,null,null,null,null,null,null,null,null,null,null,null,null,null,null,null,null,null,null,null,null,null,null,null,null,null,null,null,null,null,null,null,null,null,null,null,null,null,null,null,null,null,null,null,null,null,null,null,null,0,"",0,0,0,0,0,0,0]
[null,null,null,null,null,null,null,null,null,null,null,null,null,null,null,null,null,null,null,null,null,null,null,null,null,null,null,null,null,null,null,null,null,null,null,null,null,null,null,null,null,null,null,null,null,null,null,null,null,null,null,null,0,"",0,0,0,0,0,0,0]
[null,null,null,null,null,null,null,null,null,null,null,null,null,null,null,null,null,null,null,null,null,null,null,null,null,null,null,null,null,null,null,null,null,null,null,null,null,null,null,null,null,null,null,null,null,null,null,null,null,null,null,null,0,"",0,0,0,0,0,0,0]
[null,null,null,null,null,null,null,null,null,null,null,null,null,null,null,null,null,null,null,null,null,null,null,null,null,null,null,null,null,null,null,null,null,null,null,null,null,null,null,null,null,null,null,null,null,null,null,null,null,null,null,null,0,"",0,0,0,0,0,0,0]
[null,null,null,null,null,null,null,null,null,null,null,null,null,null,null,null,null,null,null,null,null,null,null,null,null,null,null,null,null,null,null,null,null,null,null,null,null,null,null,null,null,null,null,null,null,null,null,null,null,null,null,null,0,"",0,0,0,0,0,0,0]
[null,null,null,null,null,null,null,null,null,null,null,null,null,null,null,null,null,null,null,null,null,null,null,null,null,null,null,null,null,null,null,null,null,null,null,null,null,null,null,null,null,null,null,null,null,null,null,null,null,null,null,null,0,"",0,0,0,0,0,0,0]
[null,null,null,null,null,null,null,null,null,null,null,null,null,null,null,null,null,null,null,null,null,null,null,null,null,null,null,null,null,null,null,null,null,null,null,null,null,null,null,null,null,null,null,null,null,null,null,null,null,null,null,null,0,"",0,0,0,0,0,0,0]
[null,null,null,null,null,null,null,null,null,null,null,null,null,null,null,null,null,null,null,null,null,null,null,null,null,null,null,null,null,null,null,null,null,null,null,null,null,null,null,null,null,null,null,null,null,null,null,null,null,null,null,null,0,"",0,0,0,0,0,0,0]
[null,null,null,null,null,null,null,null,null,null,null,null,null,null,null,null,null,null,null,null,null,null,null,null,null,null,null,null,null,null,null,null,null,null,null,null,null,null,null,null,null,null,null,null,null,null,null,null,null,null,null,null,0,"",0,0,0,0,0,0,0]
[null,null,null,null,null,null,null,null,null,null,null,null,null,null,null,null,null,null,null,null,null,null,null,null,null,null,null,null,null,null,null,null,null,null,null,null,null,null,null,null,null,null,null,null,null,null,null,null,null,null,null,null,0,"",0,0,0,0,0,0,0]
[null,null,null,null,null,null,null,null,null,null,null,null,null,null,null,null,null,null,null,null,null,null,null,null,null,null,null,null,null,null,null,null,null,null,null,null,null,null,null,null,null,null,null,null,null,null,null,null,null,null,null,null,0,"",0,0,0,0,0,0,0]
[null,null,null,null,null,null,null,null,null,null,null,null,null,null,null,null,null,null,null,null,null,null,null,null,null,null,null,null,null,null,null,null,null,null,null,null,null,null,null,null,null,null,null,null,null,null,null,null,null,null,null,null,{"$f":"A792","v":0},{"$f":"B792&C792","v":""},{"$f":"C792","v":0},{"$f":"D792","v":0},{"$f":"E792","v":0},{"$f":"F792","v":0},{"$f":"G792","v":0},{"$f":"H792","v":0},{"$f":"I792","v":0}]
[null,null,null,null,null,null,null,null,null,null,null,null,null,null,null,null,null,null,null,null,null,null,null,null,null,null,null,null,null,null,null,null,null,null,null,null,null,null,null,null,null,null,null,null,null,null,null,null,null,null,null,null,0,"",0,0,0,0,0,0,0]
[null,null,null,null,null,null,null,null,null,null,null,null,null,null,null,null,null,null,null,null,null,null,null,null,null,null,null,null,null,null,null,null,null,null,null,null,null,null,null,null,null,null,null,null,null,null,null,null,null,null,null,null,0,"",0,0,0,0,0,0,0]
[null,null,null,null,null,null,null,null,null,null,null,null,null,null,null,null,null,null,null,null,null,null,null,null,null,null,null,null,null,null,null,null,null,null,null,null,null,null,null,null,null,null,null,null,null,null,null,null,null,null,null,null,0,"",0,0,0,0,0,0,0]
[null,null,null,null,null,null,null,null,null,null,null,null,null,null,null,null,null,null,null,null,null,null,null,null,null,null,null,null,null,null,null,null,null,null,null,null,null,null,null,null,null,null,null,null,null,null,null,null,null,null,null,null,0,"",0,0,0,0,0,0,0]
[null,null,null,null,null,null,null,null,null,null,null,null,null,null,null,null,null,null,null,null,null,null,null,null,null,null,null,null,null,null,null,null,null,null,null,null,null,null,null,null,null,null,null,null,null,null,null,null,null,null,null,null,0,"",0,0,0,0,0,0,0]
[null,null,null,null,null,null,null,null,null,null,null,null,null,null,null,null,null,null,null,null,null,null,null,null,null,null,null,null,null,null,null,null,null,null,null,null,null,null,null,null,null,null,null,null,null,null,null,null,null,null,null,null,0,"",0,0,0,0,0,0,0]
[null,null,null,null,null,null,null,null,null,null,null,null,null,null,null,null,null,null,null,null,null,null,null,null,null,null,null,null,null,null,null,null,null,null,null,null,null,null,null,null,null,null,null,null,null,null,null,null,null,null,null,null,0,"",0,0,0,0,0,0,0]
[null,null,null,null,null,null,null,null,null,null,null,null,null,null,null,null,null,null,null,null,null,null,null,null,null,null,null,null,null,null,null,null,null,null,null,null,null,null,null,null,null,null,null,null,null,null,null,null,null,null,null,null,0,"",0,0,0,0,0,0,0]
[null,null,null,null,null,null,null,null,null,null,null,null,null,null,null,null,null,null,null,null,null,null,null,null,null,null,null,null,null,null,null,null,null,null,null,null,null,null,null,null,null,null,null,null,null,null,null,null,null,null,null,null,0,"",0,0,0,0,0,0,0]
[null,null,null,null,null,null,null,null,null,null,null,null,null,null,null,null,null,null,null,null,null,null,null,null,null,null,null,null,null,null,null,null,null,null,null,null,null,null,null,null,null,null,null,null,null,null,null,null,null,null,null,null,0,"",0,0,0,0,0,0,0]
[null,null,null,null,null,null,null,null,null,null,null,null,null,null,null,null,null,null,null,null,null,null,null,null,null,null,null,null,null,null,null,null,null,null,null,null,null,null,null,null,null,null,null,null,null,null,null,null,null,null,null,null,0,"",0,0,0,0,0,0,0]
[null,null,null,null,null,null,null,null,null,null,null,null,null,null,null,null,null,null,null,null,null,null,null,null,null,null,null,null,null,null,null,null,null,null,null,null,null,null,null,null,null,null,null,null,null,null,null,null,null,null,null,null,0,"",0,0,0,0,0,0,0]
[null,null,null,null,null,null,null,null,null,null,null,null,null,null,null,null,null,null,null,null,null,null,null,null,null,null,null,null,null,null,null,null,null,null,null,null,null,null,null,null,null,null,null,null,null,null,null,null,null,null,null,null,0,"",0,0,0,0,0,0,0]
[null,null,null,null,null,null,null,null,null,null,null,null,null,null,null,null,null,null,null,null,null,null,null,null,null,null,null,null,null,null,null,null,null,null,null,null,null,null,null,null,null,null,null,null,null,null,null,null,null,null,null,null,0,"",0,0,0,0,0,0,0]
[null,null,null,null,null,null,null,null,null,null,null,null,null,null,null,null,null,null,null,null,null,null,null,null,null,null,null,null,null,null,null,null,null,null,null,null,null,null,null,null,null,null,null,null,null,null,null,null,null,null,null,null,0,"",0,0,0,0,0,0,0]
[null,null,null,null,null,null,null,null,null,null,null,null,null,null,null,null,null,null,null,null,null,null,null,null,null,null,null,null,null,null,null,null,null,null,null,null,null,null,null,null,null,null,null,null,null,null,null,null,null,null,null,null,0,"",0,0,0,0,0,0,0]
[null,null,null,null,null,null,null,null,null,null,null,null,null,null,null,null,null,null,null,null,null,null,null,null,null,null,null,null,null,null,null,null,null,null,null,null,null,null,null,null,null,null,null,null,null,null,null,null,null,null,null,null,0,"",0,0,0,0,0,0,0]
[null,null,null,null,null,null,null,null,null,null,null,null,null,null,null,null,null,null,null,null,null,null,null,null,null,null,null,null,null,null,null,null,null,null,null,null,null,null,null,null,null,null,null,null,null,null,null,null,null,null,null,null,0,"",0,0,0,0,0,0,0]
[null,null,null,null,null,null,null,null,null,null,null,null,null,null,null,null,null,null,null,null,null,null,null,null,null,null,null,null,null,null,null,null,null,null,null,null,null,null,null,null,null,null,null,null,null,null,null,null,null,null,null,null,0,"",0,0,0,0,0,0,0]
[null,null,null,null,null,null,null,null,null,null,null,null,null,null,null,null,null,null,null,null,null,null,null,null,null,null,null,null,null,null,null,null,null,null,null,null,null,null,null,null,null,null,null,null,null,null,null,null,null,null,null,null,0,"",0,0,0,0,0,0,0]
[null,null,null,null,null,null,null,null,null,null,null,null,null,null,null,null,null,null,null,null,null,null,null,null,null,null,null,null,null,null,null,null,null,null,null,null,null,null,null,null,null,null,null,null,null,null,null,null,null,null,null,null,0,"",0,0,0,0,0,0,0]
[null,null,null,null,null,null,null,null,null,null,null,null,null,null,null,null,null,null,null,null,null,null,null,null,null,null,null,null,null,null,null,null,null,null,null,null,null,null,null,null,null,null,null,null,null,null,null,null,null,null,null,null,0,"",0,0,0,0,0,0,0]
[null,null,null,null,null,null,null,null,null,null,null,null,null,null,null,null,null,null,null,null,null,null,null,null,null,null,null,null,null,null,null,null,null,null,null,null,null,null,null,null,null,null,null,null,null,null,null,null,null,null,null,null,0,"",0,0,0,0,0,0,0]
[null,null,null,null,null,null,null,null,null,null,null,null,null,null,null,null,null,null,null,null,null,null,null,null,null,null,null,null,null,null,null,null,null,null,null,null,null,null,null,null,null,null,null,null,null,null,null,null,null,null,null,null,0,"",0,0,0,0,0,0,0]
[null,null,null,null,null,null,null,null,null,null,null,null,null,null,null,null,null,null,null,null,null,null,null,null,null,null,null,null,null,null,null,null,null,null,null,null,null,null,null,null,null,null,null,null,null,null,null,null,null,null,null,null,0,"",0,0,0,0,0,0,0]
[null,null,null,null,null,null,null,null,null,null,null,null,null,null,null,null,null,null,null,null,null,null,null,null,null,null,null,null,null,null,null,null,null,null,null,null,null,null,null,null,null,null,null,null,null,null,null,null,null,null,null,null,0,"",0,0,0,0,0,0,0]
[null,null,null,null,null,null,null,null,null,null,null,null,null,null,null,null,null,null,null,null,null,null,null,null,null,null,null,null,null,null,null,null,null,null,null,null,null,null,null,null,null,null,null,null,null,null,null,null,null,null,null,null,0,"",0,0,0,0,0,0,0]
[null,null,null,null,null,null,null,null,null,null,null,null,null,null,null,null,null,null,null,null,null,null,null,null,null,null,null,null,null,null,null,null,null,null,null,null,null,null,null,null,null,null,null,null,null,null,null,null,null,null,null,null,0,"",0,0,0,0,0,0,0]
[null,null,null,null,null,null,null,null,null,null,null,null,null,null,null,null,null,null,null,null,null,null,null,null,null,null,null,null,null,null,null,null,null,null,null,null,null,null,null,null,null,null,null,null,null,null,null,null,null,null,null,null,0,"",0,0,0,0,0,0,0]
[null,null,null,null,null,null,null,null,null,null,null,null,null,null,null,null,null,null,null,null,null,null,null,null,null,null,null,null,null,null,null,null,null,null,null,null,null,null,null,null,null,null,null,null,null,null,null,null,null,null,null,null,0,"",0,0,0,0,0,0,0]
[null,null,null,null,null,null,null,null,null,null,null,null,null,null,null,null,null,null,null,null,null,null,null,null,null,null,null,null,null,null,null,null,null,null,null,null,null,null,null,null,null,null,null,null,null,null,null,null,null,null,null,null,0,"",0,0,0,0,0,0,0]
[null,null,null,null,null,null,null,null,null,null,null,null,null,null,null,null,null,null,null,null,null,null,null,null,null,null,null,null,null,null,null,null,null,null,null,null,null,null,null,null,null,null,null,null,null,null,null,null,null,null,null,null,0,"",0,0,0,0,0,0,0]
[null,null,null,null,null,null,null,null,null,null,null,null,null,null,null,null,null,null,null,null,null,null,null,null,null,null,null,null,null,null,null,null,null,null,null,null,null,null,null,null,null,null,null,null,null,null,null,null,null,null,null,null,0,"",0,0,0,0,0,0,0]
[null,null,null,null,null,null,null,null,null,null,null,null,null,null,null,null,null,null,null,null,null,null,null,null,null,null,null,null,null,null,null,null,null,null,null,null,null,null,null,null,null,null,null,null,null,null,null,null,null,null,null,null,0,"",0,0,0,0,0,0,0]
[null,null,null,null,null,null,null,null,null,null,null,null,null,null,null,null,null,null,null,null,null,null,null,null,null,null,null,null,null,null,null,null,null,null,null,null,null,null,null,null,null,null,null,null,null,null,null,null,null,null,null,null,0,"",0,0,0,0,0,0,0]
[null,null,null,null,null,null,null,null,null,null,null,null,null,null,null,null,null,null,null,null,null,null,null,null,null,null,null,null,null,null,null,null,null,null,null,null,null,null,null,null,null,null,null,null,null,null,null,null,null,null,null,null,0,"",0,0,0,0,0,0,0]
[null,null,null,null,null,null,null,null,null,null,null,null,null,null,null,null,null,null,null,null,null,null,null,null,null,null,null,null,null,null,null,null,null,null,null,null,null,null,null,null,null,null,null,null,null,null,null,null,null,null,null,null,0,"",0,0,0,0,0,0,0]
[null,null,null,null,null,null,null,null,null,null,null,null,null,null,null,null,null,null,null,null,null,null,null,null,null,null,null,null,null,null,null,null,null,null,null,null,null,null,null,null,null,null,null,null,null,null,null,null,null,null,null,null,0,"",0,0,0,0,0,0,0]
[null,null,null,null,null,null,null,null,null,null,null,null,null,null,null,null,null,null,null,null,null,null,null,null,null,null,null,null,null,null,null,null,null,null,null,null,null,null,null,null,null,null,null,null,null,null,null,null,null,null,null,null,0,"",0,0,0,0,0,0,0]
[null,null,null,null,null,null,null,null,null,null,null,null,null,null,null,null,null,null,null,null,null,null,null,null,null,null,null,null,null,null,null,null,null,null,null,null,null,null,null,null,null,null,null,null,null,null,null,null,null,null,null,null,0,"",0,0,0,0,0,0,0]
[null,null,null,null,null,null,null,null,null,null,null,null,null,null,null,null,null,null,null,null,null,null,null,null,null,null,null,null,null,null,null,null,null,null,null,null,null,null,null,null,null,null,null,null,null,null,null,null,null,null,null,null,0,"",0,0,0,0,0,0,0]
[null,null,null,null,null,null,null,null,null,null,null,null,null,null,null,null,null,null,null,null,null,null,null,null,null,null,null,null,null,null,null,null,null,null,null,null,null,null,null,null,null,null,null,null,null,null,null,null,null,null,null,null,0,"",0,0,0,0,0,0,0]
[null,null,null,null,null,null,null,null,null,null,null,null,null,null,null,null,null,null,null,null,null,null,null,null,null,null,null,null,null,null,null,null,null,null,null,null,null,null,null,null,null,null,null,null,null,null,null,null,null,null,null,null,0,"",0,0,0,0,0,0,0]
[null,null,null,null,null,null,null,null,null,null,null,null,null,null,null,null,null,null,null,null,null,null,null,null,null,null,null,null,null,null,null,null,null,null,null,null,null,null,null,null,null,null,null,null,null,null,null,null,null,null,null,null,0,"",0,0,0,0,0,0,0]
[null,null,null,null,null,null,null,null,null,null,null,null,null,null,null,null,null,null,null,null,null,null,null,null,null,null,null,null,null,null,null,null,null,null,null,null,null,null,null,null,null,null,null,null,null,null,null,null,null,null,null,null,0,"",0,0,0,0,0,0,0]
[null,null,null,null,null,null,null,null,null,null,null,null,null,null,null,null,null,null,null,null,null,null,null,null,null,null,null,null,null,null,null,null,null,null,null,null,null,null,null,null,null,null,null,null,null,null,null,null,null,null,null,null,0,"",0,0,0,0,0,0,0]
[null,null,null,null,null,null,null,null,null,null,null,null,null,null,null,null,null,null,null,null,null,null,null,null,null,null,null,null,null,null,null,null,null,null,null,null,null,null,null,null,null,null,null,null,null,null,null,null,null,null,null,null,0,"",0,0,0,0,0,0,0]
[null,null,null,null,null,null,null,null,null,null,null,null,null,null,null,null,null,null,null,null,null,null,null,null,null,null,null,null,null,null,null,null,null,null,null,null,null,null,null,null,null,null,null,null,null,null,null,null,null,null,null,null,0,"",0,0,0,0,0,0,0]
[null,null,null,null,null,null,null,null,null,null,null,null,null,null,null,null,null,null,null,null,null,null,null,null,null,null,null,null,null,null,null,null,null,null,null,null,null,null,null,null,null,null,null,null,null,null,null,null,null,null,null,null,0,"",0,0,0,0,0,0,0]
[null,null,null,null,null,null,null,null,null,null,null,null,null,null,null,null,null,null,null,null,null,null,null,null,null,null,null,null,null,null,null,null,null,null,null,null,null,null,null,null,null,null,null,null,null,null,null,null,null,null,null,null,0,"",0,0,0,0,0,0,0]
[null,null,null,null,null,null,null,null,null,null,null,null,null,null,null,null,null,null,null,null,null,null,null,null,null,null,null,null,null,null,null,null,null,null,null,null,null,null,null,null,null,null,null,null,null,null,null,null,null,null,null,null,0,"",0,0,0,0,0,0,0]
[null,null,null,null,null,null,null,null,null,null,null,null,null,null,null,null,null,null,null,null,null,null,null,null,null,null,null,null,null,null,null,null,null,null,null,null,null,null,null,null,null,null,null,null,null,null,null,null,null,null,null,null,0,"",0,0,0,0,0,0,0]
[null,null,null,null,null,null,null,null,null,null,null,null,null,null,null,null,null,null,null,null,null,null,null,null,null,null,null,null,null,null,null,null,null,null,null,null,null,null,null,null,null,null,null,null,null,null,null,null,null,null,null,null,0,"",0,0,0,0,0,0,0]
[null,null,null,null,null,null,null,null,null,null,null,null,null,null,null,null,null,null,null,null,null,null,null,null,null,null,null,null,null,null,null,null,null,null,null,null,null,null,null,null,null,null,null,null,null,null,null,null,null,null,null,null,0,"",0,0,0,0,0,0,0]
[null,null,null,null,null,null,null,null,null,null,null,null,null,null,null,null,null,null,null,null,null,null,null,null,null,null,null,null,null,null,null,null,null,null,null,null,null,null,null,null,null,null,null,null,null,null,null,null,null,null,null,null,0,"",0,0,0,0,0,0,0]
[null,null,null,null,null,null,null,null,null,null,null,null,null,null,null,null,null,null,null,null,null,null,null,null,null,null,null,null,null,null,null,null,null,null,null,null,null,null,null,null,null,null,null,null,null,null,null,null,null,null,null,null,0,"",0,0,0,0,0,0,0]
[null,null,null,null,null,null,null,null,null,null,null,null,null,null,null,null,null,null,null,null,null,null,null,null,null,null,null,null,null,null,null,null,null,null,null,null,null,null,null,null,null,null,null,null,null,null,null,null,null,null,null,null,0,"",0,0,0,0,0,0,0]
[null,null,null,null,null,null,null,null,null,null,null,null,null,null,null,null,null,null,null,null,null,null,null,null,null,null,null,null,null,null,null,null,null,null,null,null,null,null,null,null,null,null,null,null,null,null,null,null,null,null,null,null,0,"",0,0,0,0,0,0,0]
[null,null,null,null,null,null,null,null,null,null,null,null,null,null,null,null,null,null,null,null,null,null,null,null,null,null,null,null,null,null,null,null,null,null,null,null,null,null,null,null,null,null,null,null,null,null,null,null,null,null,null,null,0,"",0,0,0,0,0,0,0]
[null,null,null,null,null,null,null,null,null,null,null,null,null,null,null,null,null,null,null,null,null,null,null,null,null,null,null,null,null,null,null,null,null,null,null,null,null,null,null,null,null,null,null,null,null,null,null,null,null,null,null,null,0,"",0,0,0,0,0,0,0]
[null,null,null,null,null,null,null,null,null,null,null,null,null,null,null,null,null,null,null,null,null,null,null,null,null,null,null,null,null,null,null,null,null,null,null,null,null,null,null,null,null,null,null,null,null,null,null,null,null,null,null,null,0,"",0,0,0,0,0,0,0]
[null,null,null,null,null,null,null,null,null,null,null,null,null,null,null,null,null,null,null,null,null,null,null,null,null,null,null,null,null,null,null,null,null,null,null,null,null,null,null,null,null,null,null,null,null,null,null,null,null,null,null,null,0,"",0,0,0,0,0,0,0]
[null,null,null,null,null,null,null,null,null,null,null,null,null,null,null,null,null,null,null,null,null,null,null,null,null,null,null,null,null,null,null,null,null,null,null,null,null,null,null,null,null,null,null,null,null,null,null,null,null,null,null,null,0,"",0,0,0,0,0,0,0]
[null,null,null,null,null,null,null,null,null,null,null,null,null,null,null,null,null,null,null,null,null,null,null,null,null,null,null,null,null,null,null,null,null,null,null,null,null,null,null,null,null,null,null,null,null,null,null,null,null,null,null,null,{"$f":"A856","v":0},{"$f":"B856&C856","v":""},{"$f":"C856","v":0},{"$f":"D856","v":0},{"$f":"E856","v":0},{"$f":"F856","v":0},{"$f":"G856","v":0},{"$f":"H856","v":0},{"$f":"I856","v":0}]
[null,null,null,null,null,null,null,null,null,null,null,null,null,null,null,null,null,null,null,null,null,null,null,null,null,null,null,null,null,null,null,null,null,null,null,null,null,null,null,null,null,null,null,null,null,null,null,null,null,null,null,null,0,"",0,0,0,0,0,0,0]
[null,null,null,null,null,null,null,null,null,null,null,null,null,null,null,null,null,null,null,null,null,null,null,null,null,null,null,null,null,null,null,null,null,null,null,null,null,null,null,null,null,null,null,null,null,null,null,null,null,null,null,null,0,"",0,0,0,0,0,0,0]
[null,null,null,null,null,null,null,null,null,null,null,null,null,null,null,null,null,null,null,null,null,null,null,null,null,null,null,null,null,null,null,null,null,null,null,null,null,null,null,null,null,null,null,null,null,null,null,null,null,null,null,null,0,"",0,0,0,0,0,0,0]
[null,null,null,null,null,null,null,null,null,null,null,null,null,null,null,null,null,null,null,null,null,null,null,null,null,null,null,null,null,null,null,null,null,null,null,null,null,null,null,null,null,null,null,null,null,null,null,null,null,null,null,null,0,"",0,0,0,0,0,0,0]
[null,null,null,null,null,null,null,null,null,null,null,null,null,null,null,null,null,null,null,null,null,null,null,null,null,null,null,null,null,null,null,null,null,null,null,null,null,null,null,null,null,null,null,null,null,null,null,null,null,null,null,null,0,"",0,0,0,0,0,0,0]
[null,null,null,null,null,null,null,null,null,null,null,null,null,null,null,null,null,null,null,null,null,null,null,null,null,null,null,null,null,null,null,null,null,null,null,null,null,null,null,null,null,null,null,null,null,null,null,null,null,null,null,null,0,"",0,0,0,0,0,0,0]
[null,null,null,null,null,null,null,null,null,null,null,null,null,null,null,null,null,null,null,null,null,null,null,null,null,null,null,null,null,null,null,null,null,null,null,null,null,null,null,null,null,null,null,null,null,null,null,null,null,null,null,null,0,"",0,0,0,0,0,0,0]
[null,null,null,null,null,null,null,null,null,null,null,null,null,null,null,null,null,null,null,null,null,null,null,null,null,null,null,null,null,null,null,null,null,null,null,null,null,null,null,null,null,null,null,null,null,null,null,null,null,null,null,null,0,"",0,0,0,0,0,0,0]
[null,null,null,null,null,null,null,null,null,null,null,null,null,null,null,null,null,null,null,null,null,null,null,null,null,null,null,null,null,null,null,null,null,null,null,null,null,null,null,null,null,null,null,null,null,null,null,null,null,null,null,null,0,"",0,0,0,0,0,0,0]
[null,null,null,null,null,null,null,null,null,null,null,null,null,null,null,null,null,null,null,null,null,null,null,null,null,null,null,null,null,null,null,null,null,null,null,null,null,null,null,null,null,null,null,null,null,null,null,null,null,null,null,null,0,"",0,0,0,0,0,0,0]
[null,null,null,null,null,null,null,null,null,null,null,null,null,null,null,null,null,null,null,null,null,null,null,null,null,null,null,null,null,null,null,null,null,null,null,null,null,null,null,null,null,null,null,null,null,null,null,null,null,null,null,null,0,"",0,0,0,0,0,0,0]
[null,null,null,null,null,null,null,null,null,null,null,null,null,null,null,null,null,null,null,null,null,null,null,null,null,null,null,null,null,null,null,null,null,null,null,null,null,null,null,null,null,null,null,null,null,null,null,null,null,null,null,null,0,"",0,0,0,0,0,0,0]
[null,null,null,null,null,null,null,null,null,null,null,null,null,null,null,null,null,null,null,null,null,null,null,null,null,null,null,null,null,null,null,null,null,null,null,null,null,null,null,null,null,null,null,null,null,null,null,null,null,null,null,null,0,"",0,0,0,0,0,0,0]
[null,null,null,null,null,null,null,null,null,null,null,null,null,null,null,null,null,null,null,null,null,null,null,null,null,null,null,null,null,null,null,null,null,null,null,null,null,null,null,null,null,null,null,null,null,null,null,null,null,null,null,null,0,"",0,0,0,0,0,0,0]
[null,null,null,null,null,null,null,null,null,null,null,null,null,null,null,null,null,null,null,null,null,null,null,null,null,null,null,null,null,null,null,null,null,null,null,null,null,null,null,null,null,null,null,null,null,null,null,null,null,null,null,null,0,"",0,0,0,0,0,0,0]
[null,null,null,null,null,null,null,null,null,null,null,null,null,null,null,null,null,null,null,null,null,null,null,null,null,null,null,null,null,null,null,null,null,null,null,null,null,null,null,null,null,null,null,null,null,null,null,null,null,null,null,null,0,"",0,0,0,0,0,0,0]
[null,null,null,null,null,null,null,null,null,null,null,null,null,null,null,null,null,null,null,null,null,null,null,null,null,null,null,null,null,null,null,null,null,null,null,null,null,null,null,null,null,null,null,null,null,null,null,null,null,null,null,null,0,"",0,0,0,0,0,0,0]
[null,null,null,null,null,null,null,null,null,null,null,null,null,null,null,null,null,null,null,null,null,null,null,null,null,null,null,null,null,null,null,null,null,null,null,null,null,null,null,null,null,null,null,null,null,null,null,null,null,null,null,null,0,"",0,0,0,0,0,0,0]
[null,null,null,null,null,null,null,null,null,null,null,null,null,null,null,null,null,null,null,null,null,null,null,null,null,null,null,null,null,null,null,null,null,null,null,null,null,null,null,null,null,null,null,null,null,null,null,null,null,null,null,null,0,"",0,0,0,0,0,0,0]
[null,null,null,null,null,null,null,null,null,null,null,null,null,null,null,null,null,null,null,null,null,null,null,null,null,null,null,null,null,null,null,null,null,null,null,null,null,null,null,null,null,null,null,null,null,null,null,null,null,null,null,null,0,"",0,0,0,0,0,0,0]
[null,null,null,null,null,null,null,null,null,null,null,null,null,null,null,null,null,null,null,null,null,null,null,null,null,null,null,null,null,null,null,null,null,null,null,null,null,null,null,null,null,null,null,null,null,null,null,null,null,null,null,null,0,"",0,0,0,0,0,0,0]
[null,null,null,null,null,null,null,null,null,null,null,null,null,null,null,null,null,null,null,null,null,null,null,null,null,null,null,null,null,null,null,null,null,null,null,null,null,null,null,null,null,null,null,null,null,null,null,null,null,null,null,null,0,"",0,0,0,0,0,0,0]
[null,null,null,null,null,null,null,null,null,null,null,null,null,null,null,null,null,null,null,null,null,null,null,null,null,null,null,null,null,null,null,null,null,null,null,null,null,null,null,null,null,null,null,null,null,null,null,null,null,null,null,null,0,"",0,0,0,0,0,0,0]
[null,null,null,null,null,null,null,null,null,null,null,null,null,null,null,null,null,null,null,null,null,null,null,null,null,null,null,null,null,null,null,null,null,null,null,null,null,null,null,null,null,null,null,null,null,null,null,null,null,null,null,null,0,"",0,0,0,0,0,0,0]
[null,null,null,null,null,null,null,null,null,null,null,null,null,null,null,null,null,null,null,null,null,null,null,null,null,null,null,null,null,null,null,null,null,null,null,null,null,null,null,null,null,null,null,null,null,null,null,null,null,null,null,null,0,"",0,0,0,0,0,0,0]
[null,null,null,null,null,null,null,null,null,null,null,null,null,null,null,null,null,null,null,null,null,null,null,null,null,null,null,null,null,null,null,null,null,null,null,null,null,null,null,null,null,null,null,null,null,null,null,null,null,null,null,null,0,"",0,0,0,0,0,0,0]
[null,null,null,null,null,null,null,null,null,null,null,null,null,null,null,null,null,null,null,null,null,null,null,null,null,null,null,null,null,null,null,null,null,null,null,null,null,null,null,null,null,null,null,null,null,null,null,null,null,null,null,null,0,"",0,0,0,0,0,0,0]
[null,null,null,null,null,null,null,null,null,null,null,null,null,null,null,null,null,null,null,null,null,null,null,null,null,null,null,null,null,null,null,null,null,null,null,null,null,null,null,null,null,null,null,null,null,null,null,null,null,null,null,null,0,"",0,0,0,0,0,0,0]
[null,null,null,null,null,null,null,null,null,null,null,null,null,null,null,null,null,null,null,null,null,null,null,null,null,null,null,null,null,null,null,null,null,null,null,null,null,null,null,null,null,null,null,null,null,null,null,null,null,null,null,null,0,"",0,0,0,0,0,0,0]
[null,null,null,null,null,null,null,null,null,null,null,null,null,null,null,null,null,null,null,null,null,null,null,null,null,null,null,null,null,null,null,null,null,null,null,null,null,null,null,null,null,null,null,null,null,null,null,null,null,null,null,null,0,"",0,0,0,0,0,0,0]
[null,null,null,null,null,null,null,null,null,null,null,null,null,null,null,null,null,null,null,null,null,null,null,null,null,null,null,null,null,null,null,null,null,null,null,null,null,null,null,null,null,null,null,null,null,null,null,null,null,null,null,null,0,"",0,0,0,0,0,0,0]
[null,null,null,null,null,null,null,null,null,null,null,null,null,null,null,null,null,null,null,null,null,null,null,null,null,null,null,null,null,null,null,null,null,null,null,null,null,null,null,null,null,null,null,null,null,null,null,null,null,null,null,null,0,"",0,0,0,0,0,0,0]
[null,null,null,null,null,null,null,null,null,null,null,null,null,null,null,null,null,null,null,null,null,null,null,null,null,null,null,null,null,null,null,null,null,null,null,null,null,null,null,null,null,null,null,null,null,null,null,null,null,null,null,null,0,"",0,0,0,0,0,0,0]
[null,null,null,null,null,null,null,null,null,null,null,null,null,null,null,null,null,null,null,null,null,null,null,null,null,null,null,null,null,null,null,null,null,null,null,null,null,null,null,null,null,null,null,null,null,null,null,null,null,null,null,null,0,"",0,0,0,0,0,0,0]
[null,null,null,null,null,null,null,null,null,null,null,null,null,null,null,null,null,null,null,null,null,null,null,null,null,null,null,null,null,null,null,null,null,null,null,null,null,null,null,null,null,null,null,null,null,null,null,null,null,null,null,null,0,"",0,0,0,0,0,0,0]
[null,null,null,null,null,null,null,null,null,null,null,null,null,null,null,null,null,null,null,null,null,null,null,null,null,null,null,null,null,null,null,null,null,null,null,null,null,null,null,null,null,null,null,null,null,null,null,null,null,null,null,null,0,"",0,0,0,0,0,0,0]
[null,null,null,null,null,null,null,null,null,null,null,null,null,null,null,null,null,null,null,null,null,null,null,null,null,null,null,null,null,null,null,null,null,null,null,null,null,null,null,null,null,null,null,null,null,null,null,null,null,null,null,null,0,"",0,0,0,0,0,0,0]
[null,null,null,null,null,null,null,null,null,null,null,null,null,null,null,null,null,null,null,null,null,null,null,null,null,null,null,null,null,null,null,null,null,null,null,null,null,null,null,null,null,null,null,null,null,null,null,null,null,null,null,null,0,"",0,0,0,0,0,0,0]
[null,null,null,null,null,null,null,null,null,null,null,null,null,null,null,null,null,null,null,null,null,null,null,null,null,null,null,null,null,null,null,null,null,null,null,null,null,null,null,null,null,null,null,null,null,null,null,null,null,null,null,null,0,"",0,0,0,0,0,0,0]
[null,null,null,null,null,null,null,null,null,null,null,null,null,null,null,null,null,null,null,null,null,null,null,null,null,null,null,null,null,null,null,null,null,null,null,null,null,null,null,null,null,null,null,null,null,null,null,null,null,null,null,null,0,"",0,0,0,0,0,0,0]
[null,null,null,null,null,null,null,null,null,null,null,null,null,null,null,null,null,null,null,null,null,null,null,null,null,null,null,null,null,null,null,null,null,null,null,null,null,null,null,null,null,null,null,null,null,null,null,null,null,null,null,null,0,"",0,0,0,0,0,0,0]
[null,null,null,null,null,null,null,null,null,null,null,null,null,null,null,null,null,null,null,null,null,null,null,null,null,null,null,null,null,null,null,null,null,null,null,null,null,null,null,null,null,null,null,null,null,null,null,null,null,null,null,null,0,"",0,0,0,0,0,0,0]
[null,null,null,null,null,null,null,null,null,null,null,null,null,null,null,null,null,null,null,null,null,null,null,null,null,null,null,null,null,null,null,null,null,null,null,null,null,null,null,null,null,null,null,null,null,null,null,null,null,null,null,null,0,"",0,0,0,0,0,0,0]
[null,null,null,null,null,null,null,null,null,null,null,null,null,null,null,null,null,null,null,null,null,null,null,null,null,null,null,null,null,null,null,null,null,null,null,null,null,null,null,null,null,null,null,null,null,null,null,null,null,null,null,null,0,"",0,0,0,0,0,0,0]
[null,null,null,null,null,null,null,null,null,null,null,null,null,null,null,null,null,null,null,null,null,null,null,null,null,null,null,null,null,null,null,null,null,null,null,null,null,null,null,null,null,null,null,null,null,null,null,null,null,null,null,null,0,"",0,0,0,0,0,0,0]
[null,null,null,null,null,null,null,null,null,null,null,null,null,null,null,null,null,null,null,null,null,null,null,null,null,null,null,null,null,null,null,null,null,null,null,null,null,null,null,null,null,null,null,null,null,null,null,null,null,null,null,null,0,"",0,0,0,0,0,0,0]
[null,null,null,null,null,null,null,null,null,null,null,null,null,null,null,null,null,null,null,null,null,null,null,null,null,null,null,null,null,null,null,null,null,null,null,null,null,null,null,null,null,null,null,null,null,null,null,null,null,null,null,null,0,"",0,0,0,0,0,0,0]
[null,null,null,null,null,null,null,null,null,null,null,null,null,null,null,null,null,null,null,null,null,null,null,null,null,null,null,null,null,null,null,null,null,null,null,null,null,null,null,null,null,null,null,null,null,null,null,null,null,null,null,null,0,"",0,0,0,0,0,0,0]
[null,null,null,null,null,null,null,null,null,null,null,null,null,null,null,null,null,null,null,null,null,null,null,null,null,null,null,null,null,null,null,null,null,null,null,null,null,null,null,null,null,null,null,null,null,null,null,null,null,null,null,null,0,"",0,0,0,0,0,0,0]
[null,null,null,null,null,null,null,null,null,null,null,null,null,null,null,null,null,null,null,null,null,null,null,null,null,null,null,null,null,null,null,null,null,null,null,null,null,null,null,null,null,null,null,null,null,null,null,null,null,null,null,null,0,"",0,0,0,0,0,0,0]
[null,null,null,null,null,null,null,null,null,null,null,null,null,null,null,null,null,null,null,null,null,null,null,null,null,null,null,null,null,null,null,null,null,null,null,null,null,null,null,null,null,null,null,null,null,null,null,null,null,null,null,null,0,"",0,0,0,0,0,0,0]
[null,null,null,null,null,null,null,null,null,null,null,null,null,null,null,null,null,null,null,null,null,null,null,null,null,null,null,null,null,null,null,null,null,null,null,null,null,null,null,null,null,null,null,null,null,null,null,null,null,null,null,null,0,"",0,0,0,0,0,0,0]
[null,null,null,null,null,null,null,null,null,null,null,null,null,null,null,null,null,null,null,null,null,null,null,null,null,null,null,null,null,null,null,null,null,null,null,null,null,null,null,null,null,null,null,null,null,null,null,null,null,null,null,null,0,"",0,0,0,0,0,0,0]
[null,null,null,null,null,null,null,null,null,null,null,null,null,null,null,null,null,null,null,null,null,null,null,null,null,null,null,null,null,null,null,null,null,null,null,null,null,null,null,null,null,null,null,null,null,null,null,null,null,null,null,null,0,"",0,0,0,0,0,0,0]
[null,null,null,null,null,null,null,null,null,null,null,null,null,null,null,null,null,null,null,null,null,null,null,null,null,null,null,null,null,null,null,null,null,null,null,null,null,null,null,null,null,null,null,null,null,null,null,null,null,null,null,null,0,"",0,0,0,0,0,0,0]
[null,null,null,null,null,null,null,null,null,null,null,null,null,null,null,null,null,null,null,null,null,null,null,null,null,null,null,null,null,null,null,null,null,null,null,null,null,null,null,null,null,null,null,null,null,null,null,null,null,null,null,null,0,"",0,0,0,0,0,0,0]
[null,null,null,null,null,null,null,null,null,null,null,null,null,null,null,null,null,null,null,null,null,null,null,null,null,null,null,null,null,null,null,null,null,null,null,null,null,null,null,null,null,null,null,null,null,null,null,null,null,null,null,null,0,"",0,0,0,0,0,0,0]
[null,null,null,null,null,null,null,null,null,null,null,null,null,null,null,null,null,null,null,null,null,null,null,null,null,null,null,null,null,null,null,null,null,null,null,null,null,null,null,null,null,null,null,null,null,null,null,null,null,null,null,null,0,"",0,0,0,0,0,0,0]
[null,null,null,null,null,null,null,null,null,null,null,null,null,null,null,null,null,null,null,null,null,null,null,null,null,null,null,null,null,null,null,null,null,null,null,null,null,null,null,null,null,null,null,null,null,null,null,null,null,null,null,null,0,"",0,0,0,0,0,0,0]
[null,null,null,null,null,null,null,null,null,null,null,null,null,null,null,null,null,null,null,null,null,null,null,null,null,null,null,null,null,null,null,null,null,null,null,null,null,null,null,null,null,null,null,null,null,null,null,null,null,null,null,null,0,"",0,0,0,0,0,0,0]
[null,null,null,null,null,null,null,null,null,null,null,null,null,null,null,null,null,null,null,null,null,null,null,null,null,null,null,null,null,null,null,null,null,null,null,null,null,null,null,null,null,null,null,null,null,null,null,null,null,null,null,null,0,"",0,0,0,0,0,0,0]
[null,null,null,null,null,null,null,null,null,null,null,null,null,null,null,null,null,null,null,null,null,null,null,null,null,null,null,null,null,null,null,null,null,null,null,null,null,null,null,null,null,null,null,null,null,null,null,null,null,null,null,null,0,"",0,0,0,0,0,0,0]
[null,null,null,null,null,null,null,null,null,null,null,null,null,null,null,null,null,null,null,null,null,null,null,null,null,null,null,null,null,null,null,null,null,null,null,null,null,null,null,null,null,null,null,null,null,null,null,null,null,null,null,null,0,"",0,0,0,0,0,0,0]
[null,null,null,null,null,null,null,null,null,null,null,null,null,null,null,null,null,null,null,null,null,null,null,null,null,null,null,null,null,null,null,null,null,null,null,null,null,null,null,null,null,null,null,null,null,null,null,null,null,null,null,null,{"$f":"A920","v":0},{"$f":"B920&C920","v":""},{"$f":"C920","v":0},{"$f":"D920","v":0},{"$f":"E920","v":0},{"$f":"F920","v":0},{"$f":"G920","v":0},{"$f":"H920","v":0},{"$f":"I920","v":0}]
[null,null,null,null,null,null,null,null,null,null,null,null,null,null,null,null,null,null,null,null,null,null,null,null,null,null,null,null,null,null,null,null,null,null,null,null,null,null,null,null,null,null,null,null,null,null,null,null,null,null,null,null,0,"",0,0,0,0,0,0,0]
[null,null,null,null,null,null,null,null,null,null,null,null,null,null,null,null,null,null,null,null,null,null,null,null,null,null,null,null,null,null,null,null,null,null,null,null,null,null,null,null,null,null,null,null,null,null,null,null,null,null,null,null,0,"",0,0,0,0,0,0,0]
[null,null,null,null,null,null,null,null,null,null,null,null,null,null,null,null,null,null,null,null,null,null,null,null,null,null,null,null,null,null,null,null,null,null,null,null,null,null,null,null,null,null,null,null,null,null,null,null,null,null,null,null,0,"",0,0,0,0,0,0,0]
[null,null,null,null,null,null,null,null,null,null,null,null,null,null,null,null,null,null,null,null,null,null,null,null,null,null,null,null,null,null,null,null,null,null,null,null,null,null,null,null,null,null,null,null,null,null,null,null,null,null,null,null,0,"",0,0,0,0,0,0,0]
[null,null,null,null,null,null,null,null,null,null,null,null,null,null,null,null,null,null,null,null,null,null,null,null,null,null,null,null,null,null,null,null,null,null,null,null,null,null,null,null,null,null,null,null,null,null,null,null,null,null,null,null,0,"",0,0,0,0,0,0,0]
[null,null,null,null,null,null,null,null,null,null,null,null,null,null,null,null,null,null,null,null,null,null,null,null,null,null,null,null,null,null,null,null,null,null,null,null,null,null,null,null,null,null,null,null,null,null,null,null,null,null,null,null,0,"",0,0,0,0,0,0,0]
[null,null,null,null,null,null,null,null,null,null,null,null,null,null,null,null,null,null,null,null,null,null,null,null,null,null,null,null,null,null,null,null,null,null,null,null,null,null,null,null,null,null,null,null,null,null,null,null,null,null,null,null,0,"",0,0,0,0,0,0,0]
[null,null,null,null,null,null,null,null,null,null,null,null,null,null,null,null,null,null,null,null,null,null,null,null,null,null,null,null,null,null,null,null,null,null,null,null,null,null,null,null,null,null,null,null,null,null,null,null,null,null,null,null,0,"",0,0,0,0,0,0,0]
[null,null,null,null,null,null,null,null,null,null,null,null,null,null,null,null,null,null,null,null,null,null,null,null,null,null,null,null,null,null,null,null,null,null,null,null,null,null,null,null,null,null,null,null,null,null,null,null,null,null,null,null,0,"",0,0,0,0,0,0,0]
[null,null,null,null,null,null,null,null,null,null,null,null,null,null,null,null,null,null,null,null,null,null,null,null,null,null,null,null,null,null,null,null,null,null,null,null,null,null,null,null,null,null,null,null,null,null,null,null,null,null,null,null,0,"",0,0,0,0,0,0,0]
[null,null,null,null,null,null,null,null,null,null,null,null,null,null,null,null,null,null,null,null,null,null,null,null,null,null,null,null,null,null,null,null,null,null,null,null,null,null,null,null,null,null,null,null,null,null,null,null,null,null,null,null,0,"",0,0,0,0,0,0,0]
[null,null,null,null,null,null,null,null,null,null,null,null,null,null,null,null,null,null,null,null,null,null,null,null,null,null,null,null,null,null,null,null,null,null,null,null,null,null,null,null,null,null,null,null,null,null,null,null,null,null,null,null,0,"",0,0,0,0,0,0,0]
[null,null,null,null,null,null,null,null,null,null,null,null,null,null,null,null,null,null,null,null,null,null,null,null,null,null,null,null,null,null,null,null,null,null,null,null,null,null,null,null,null,null,null,null,null,null,null,null,null,null,null,null,0,"",0,0,0,0,0,0,0]
[null,null,null,null,null,null,null,null,null,null,null,null,null,null,null,null,null,null,null,null,null,null,null,null,null,null,null,null,null,null,null,null,null,null,null,null,null,null,null,null,null,null,null,null,null,null,null,null,null,null,null,null,0,"",0,0,0,0,0,0,0]
[null,null,null,null,null,null,null,null,null,null,null,null,null,null,null,null,null,null,null,null,null,null,null,null,null,null,null,null,null,null,null,null,null,null,null,null,null,null,null,null,null,null,null,null,null,null,null,null,null,null,null,null,0,"",0,0,0,0,0,0,0]
[null,null,null,null,null,null,null,null,null,null,null,null,null,null,null,null,null,null,null,null,null,null,null,null,null,null,null,null,null,null,null,null,null,null,null,null,null,null,null,null,null,null,null,null,null,null,null,null,null,null,null,null,0,"",0,0,0,0,0,0,0]
[null,null,null,null,null,null,null,null,null,null,null,null,null,null,null,null,null,null,null,null,null,null,null,null,null,null,null,null,null,null,null,null,null,null,null,null,null,null,null,null,null,null,null,null,null,null,null,null,null,null,null,null,0,"",0,0,0,0,0,0,0]
[null,null,null,null,null,null,null,null,null,null,null,null,null,null,null,null,null,null,null,null,null,null,null,null,null,null,null,null,null,null,null,null,null,null,null,null,null,null,null,null,null,null,null,null,null,null,null,null,null,null,null,null,0,"",0,0,0,0,0,0,0]
[null,null,null,null,null,null,null,null,null,null,null,null,null,null,null,null,null,null,null,null,null,null,null,null,null,null,null,null,null,null,null,null,null,null,null,null,null,null,null,null,null,null,null,null,null,null,null,null,null,null,null,null,0,"",0,0,0,0,0,0,0]
[null,null,null,null,null,null,null,null,null,null,null,null,null,null,null,null,null,null,null,null,null,null,null,null,null,null,null,null,null,null,null,null,null,null,null,null,null,null,null,null,null,null,null,null,null,null,null,null,null,null,null,null,0,"",0,0,0,0,0,0,0]
[null,null,null,null,null,null,null,null,null,null,null,null,null,null,null,null,null,null,null,null,null,null,null,null,null,null,null,null,null,null,null,null,null,null,null,null,null,null,null,null,null,null,null,null,null,null,null,null,null,null,null,null,0,"",0,0,0,0,0,0,0]
[null,null,null,null,null,null,null,null,null,null,null,null,null,null,null,null,null,null,null,null,null,null,null,null,null,null,null,null,null,null,null,null,null,null,null,null,null,null,null,null,null,null,null,null,null,null,null,null,null,null,null,null,0,"",0,0,0,0,0,0,0]
[null,null,null,null,null,null,null,null,null,null,null,null,null,null,null,null,null,null,null,null,null,null,null,null,null,null,null,null,null,null,null,null,null,null,null,null,null,null,null,null,null,null,null,null,null,null,null,null,null,null,null,null,0,"",0,0,0,0,0,0,0]
[null,null,null,null,null,null,null,null,null,null,null,null,null,null,null,null,null,null,null,null,null,null,null,null,null,null,null,null,null,null,null,null,null,null,null,null,null,null,null,null,null,null,null,null,null,null,null,null,null,null,null,null,0,"",0,0,0,0,0,0,0]
[null,null,null,null,null,null,null,null,null,null,null,null,null,null,null,null,null,null,null,null,null,null,null,null,null,null,null,null,null,null,null,null,null,null,null,null,null,null,null,null,null,null,null,null,null,null,null,null,null,null,null,null,0,"",0,0,0,0,0,0,0]
[null,null,null,null,null,null,null,null,null,null,null,null,null,null,null,null,null,null,null,null,null,null,null,null,null,null,null,null,null,null,null,null,null,null,null,null,null,null,null,null,null,null,null,null,null,null,null,null,null,null,null,null,0,"",0,0,0,0,0,0,0]
[null,null,null,null,null,null,null,null,null,null,null,null,null,null,null,null,null,null,null,null,null,null,null,null,null,null,null,null,null,null,null,null,null,null,null,null,null,null,null,null,null,null,null,null,null,null,null,null,null,null,null,null,0,"",0,0,0,0,0,0,0]
[null,null,null,null,null,null,null,null,null,null,null,null,null,null,null,null,null,null,null,null,null,null,null,null,null,null,null,null,null,null,null,null,null,null,null,null,null,null,null,null,null,null,null,null,null,null,null,null,null,null,null,null,0,"",0,0,0,0,0,0,0]
[null,null,null,null,null,null,null,null,null,null,null,null,null,null,null,null,null,null,null,null,null,null,null,null,null,null,null,null,null,null,null,null,null,null,null,null,null,null,null,null,null,null,null,null,null,null,null,null,null,null,null,null,0,"",0,0,0,0,0,0,0]
[null,null,null,null,null,null,null,null,null,null,null,null,null,null,null,null,null,null,null,null,null,null,null,null,null,null,null,null,null,null,null,null,null,null,null,null,null,null,null,null,null,null,null,null,null,null,null,null,null,null,null,null,0,"",0,0,0,0,0,0,0]
[null,null,null,null,null,null,null,null,null,null,null,null,null,null,null,null,null,null,null,null,null,null,null,null,null,null,null,null,null,null,null,null,null,null,null,null,null,null,null,null,null,null,null,null,null,null,null,null,null,null,null,null,0,"",0,0,0,0,0,0,0]
[null,null,null,null,null,null,null,null,null,null,null,null,null,null,null,null,null,null,null,null,null,null,null,null,null,null,null,null,null,null,null,null,null,null,null,null,null,null,null,null,null,null,null,null,null,null,null,null,null,null,null,null,0,"",0,0,0,0,0,0,0]
[null,null,null,null,null,null,null,null,null,null,null,null,null,null,null,null,null,null,null,null,null,null,null,null,null,null,null,null,null,null,null,null,null,null,null,null,null,null,null,null,null,null,null,null,null,null,null,null,null,null,null,null,0,"",0,0,0,0,0,0,0]
[null,null,null,null,null,null,null,null,null,null,null,null,null,null,null,null,null,null,null,null,null,null,null,null,null,null,null,null,null,null,null,null,null,null,null,null,null,null,null,null,null,null,null,null,null,null,null,null,null,null,null,null,0,"",0,0,0,0,0,0,0]
[null,null,null,null,null,null,null,null,null,null,null,null,null,null,null,null,null,null,null,null,null,null,null,null,null,null,null,null,null,null,null,null,null,null,null,null,null,null,null,null,null,null,null,null,null,null,null,null,null,null,null,null,0,"",0,0,0,0,0,0,0]
[null,null,null,null,null,null,null,null,null,null,null,null,null,null,null,null,null,null,null,null,null,null,null,null,null,null,null,null,null,null,null,null,null,null,null,null,null,null,null,null,null,null,null,null,null,null,null,null,null,null,null,null,0,"",0,0,0,0,0,0,0]
[null,null,null,null,null,null,null,null,null,null,null,null,null,null,null,null,null,null,null,null,null,null,null,null,null,null,null,null,null,null,null,null,null,null,null,null,null,null,null,null,null,null,null,null,null,null,null,null,null,null,null,null,0,"",0,0,0,0,0,0,0]
[null,null,null,null,null,null,null,null,null,null,null,null,null,null,null,null,null,null,null,null,null,null,null,null,null,null,null,null,null,null,null,null,null,null,null,null,null,null,null,null,null,null,null,null,null,null,null,null,null,null,null,null,0,"",0,0,0,0,0,0,0]
[null,null,null,null,null,null,null,null,null,null,null,null,null,null,null,null,null,null,null,null,null,null,null,null,null,null,null,null,null,null,null,null,null,null,null,null,null,null,null,null,null,null,null,null,null,null,null,null,null,null,null,null,0,"",0,0,0,0,0,0,0]
[null,null,null,null,null,null,null,null,null,null,null,null,null,null,null,null,null,null,null,null,null,null,null,null,null,null,null,null,null,null,null,null,null,null,null,null,null,null,null,null,null,null,null,null,null,null,null,null,null,null,null,null,0,"",0,0,0,0,0,0,0]
[null,null,null,null,null,null,null,null,null,null,null,null,null,null,null,null,null,null,null,null,null,null,null,null,null,null,null,null,null,null,null,null,null,null,null,null,null,null,null,null,null,null,null,null,null,null,null,null,null,null,null,null,0,"",0,0,0,0,0,0,0]
[null,null,null,null,null,null,null,null,null,null,null,null,null,null,null,null,null,null,null,null,null,null,null,null,null,null,null,null,null,null,null,null,null,null,null,null,null,null,null,null,null,null,null,null,null,null,null,null,null,null,null,null,0,"",0,0,0,0,0,0,0]
[null,null,null,null,null,null,null,null,null,null,null,null,null,null,null,null,null,null,null,null,null,null,null,null,null,null,null,null,null,null,null,null,null,null,null,null,null,null,null,null,null,null,null,null,null,null,null,null,null,null,null,null,0,"",0,0,0,0,0,0,0]
[null,null,null,null,null,null,null,null,null,null,null,null,null,null,null,null,null,null,null,null,null,null,null,null,null,null,null,null,null,null,null,null,null,null,null,null,null,null,null,null,null,null,null,null,null,null,null,null,null,null,null,null,0,"",0,0,0,0,0,0,0]
[null,null,null,null,null,null,null,null,null,null,null,null,null,null,null,null,null,null,null,null,null,null,null,null,null,null,null,null,null,null,null,null,null,null,null,null,null,null,null,null,null,null,null,null,null,null,null,null,null,null,null,null,0,"",0,0,0,0,0,0,0]
[null,null,null,null,null,null,null,null,null,null,null,null,null,null,null,null,null,null,null,null,null,null,null,null,null,null,null,null,null,null,null,null,null,null,null,null,null,null,null,null,null,null,null,null,null,null,null,null,null,null,null,null,0,"",0,0,0,0,0,0,0]
[null,null,null,null,null,null,null,null,null,null,null,null,null,null,null,null,null,null,null,null,null,null,null,null,null,null,null,null,null,null,null,null,null,null,null,null,null,null,null,null,null,null,null,null,null,null,null,null,null,null,null,null,0,"",0,0,0,0,0,0,0]
[null,null,null,null,null,null,null,null,null,null,null,null,null,null,null,null,null,null,null,null,null,null,null,null,null,null,null,null,null,null,null,null,null,null,null,null,null,null,null,null,null,null,null,null,null,null,null,null,null,null,null,null,0,"",0,0,0,0,0,0,0]
[null,null,null,null,null,null,null,null,null,null,null,null,null,null,null,null,null,null,null,null,null,null,null,null,null,null,null,null,null,null,null,null,null,null,null,null,null,null,null,null,null,null,null,null,null,null,null,null,null,null,null,null,0,"",0,0,0,0,0,0,0]
[null,null,null,null,null,null,null,null,null,null,null,null,null,null,null,null,null,null,null,null,null,null,null,null,null,null,null,null,null,null,null,null,null,null,null,null,null,null,null,null,null,null,null,null,null,null,null,null,null,null,null,null,0,"",0,0,0,0,0,0,0]
[null,null,null,null,null,null,null,null,null,null,null,null,null,null,null,null,null,null,null,null,null,null,null,null,null,null,null,null,null,null,null,null,null,null,null,null,null,null,null,null,null,null,null,null,null,null,null,null,null,null,null,null,0,"",0,0,0,0,0,0,0]
[null,null,null,null,null,null,null,null,null,null,null,null,null,null,null,null,null,null,null,null,null,null,null,null,null,null,null,null,null,null,null,null,null,null,null,null,null,null,null,null,null,null,null,null,null,null,null,null,null,null,null,null,0,"",0,0,0,0,0,0,0]
[null,null,null,null,null,null,null,null,null,null,null,null,null,null,null,null,null,null,null,null,null,null,null,null,null,null,null,null,null,null,null,null,null,null,null,null,null,null,null,null,null,null,null,null,null,null,null,null,null,null,null,null,0,"",0,0,0,0,0,0,0]
[null,null,null,null,null,null,null,null,null,null,null,null,null,null,null,null,null,null,null,null,null,null,null,null,null,null,null,null,null,null,null,null,null,null,null,null,null,null,null,null,null,null,null,null,null,null,null,null,null,null,null,null,0,"",0,0,0,0,0,0,0]
[null,null,null,null,null,null,null,null,null,null,null,null,null,null,null,null,null,null,null,null,null,null,null,null,null,null,null,null,null,null,null,null,null,null,null,null,null,null,null,null,null,null,null,null,null,null,null,null,null,null,null,null,0,"",0,0,0,0,0,0,0]
[null,null,null,null,null,null,null,null,null,null,null,null,null,null,null,null,null,null,null,null,null,null,null,null,null,null,null,null,null,null,null,null,null,null,null,null,null,null,null,null,null,null,null,null,null,null,null,null,null,null,null,null,0,"",0,0,0,0,0,0,0]
[null,null,null,null,null,null,null,null,null,null,null,null,null,null,null,null,null,null,null,null,null,null,null,null,null,null,null,null,null,null,null,null,null,null,null,null,null,null,null,null,null,null,null,null,null,null,null,null,null,null,null,null,0,"",0,0,0,0,0,0,0]
[null,null,null,null,null,null,null,null,null,null,null,null,null,null,null,null,null,null,null,null,null,null,null,null,null,null,null,null,null,null,null,null,null,null,null,null,null,null,null,null,null,null,null,null,null,null,null,null,null,null,null,null,0,"",0,0,0,0,0,0,0]
[null,null,null,null,null,null,null,null,null,null,null,null,null,null,null,null,null,null,null,null,null,null,null,null,null,null,null,null,null,null,null,null,null,null,null,null,null,null,null,null,null,null,null,null,null,null,null,null,null,null,null,null,0,"",0,0,0,0,0,0,0]
[null,null,null,null,null,null,null,null,null,null,null,null,null,null,null,null,null,null,null,null,null,null,null,null,null,null,null,null,null,null,null,null,null,null,null,null,null,null,null,null,null,null,null,null,null,null,null,null,null,null,null,null,0,"",0,0,0,0,0,0,0]
[null,null,null,null,null,null,null,null,null,null,null,null,null,null,null,null,null,null,null,null,null,null,null,null,null,null,null,null,null,null,null,null,null,null,null,null,null,null,null,null,null,null,null,null,null,null,null,null,null,null,null,null,0,"",0,0,0,0,0,0,0]
[null,null,null,null,null,null,null,null,null,null,null,null,null,null,null,null,null,null,null,null,null,null,null,null,null,null,null,null,null,null,null,null,null,null,null,null,null,null,null,null,null,null,null,null,null,null,null,null,null,null,null,null,0,"",0,0,0,0,0,0,0]
[null,null,null,null,null,null,null,null,null,null,null,null,null,null,null,null,null,null,null,null,null,null,null,null,null,null,null,null,null,null,null,null,null,null,null,null,null,null,null,null,null,null,null,null,null,null,null,null,null,null,null,null,0,"",0,0,0,0,0,0,0]
[null,null,null,null,null,null,null,null,null,null,null,null,null,null,null,null,null,null,null,null,null,null,null,null,null,null,null,null,null,null,null,null,null,null,null,null,null,null,null,null,null,null,null,null,null,null,null,null,null,null,null,null,{"$f":"A984","v":0},{"$f":"B984&C984","v":""},{"$f":"C984","v":0},{"$f":"D984","v":0},{"$f":"E984","v":0},{"$f":"F984","v":0},{"$f":"G984","v":0},{"$f":"H984","v":0},{"$f":"I984","v":0}]
[null,null,null,null,null,null,null,null,null,null,null,null,null,null,null,null,null,null,null,null,null,null,null,null,null,null,null,null,null,null,null,null,null,null,null,null,null,null,null,null,null,null,null,null,null,null,null,null,null,null,null,null,0,"",0,0,0,0,0,0,0]
[null,null,null,null,null,null,null,null,null,null,null,null,null,null,null,null,null,null,null,null,null,null,null,null,null,null,null,null,null,null,null,null,null,null,null,null,null,null,null,null,null,null,null,null,null,null,null,null,null,null,null,null,0,"",0,0,0,0,0,0,0]
[null,null,null,null,null,null,null,null,null,null,null,null,null,null,null,null,null,null,null,null,null,null,null,null,null,null,null,null,null,null,null,null,null,null,null,null,null,null,null,null,null,null,null,null,null,null,null,null,null,null,null,null,0,"",0,0,0,0,0,0,0]
[null,null,null,null,null,null,null,null,null,null,null,null,null,null,null,null,null,null,null,null,null,null,null,null,null,null,null,null,null,null,null,null,null,null,null,null,null,null,null,null,null,null,null,null,null,null,null,null,null,null,null,null,0,"",0,0,0,0,0,0,0]
[null,null,null,null,null,null,null,null,null,null,null,null,null,null,null,null,null,null,null,null,null,null,null,null,null,null,null,null,null,null,null,null,null,null,null,null,null,null,null,null,null,null,null,null,null,null,null,null,null,null,null,null,0,"",0,0,0,0,0,0,0]
[null,null,null,null,null,null,null,null,null,null,null,null,null,null,null,null,null,null,null,null,null,null,null,null,null,null,null,null,null,null,null,null,null,null,null,null,null,null,null,null,null,null,null,null,null,null,null,null,null,null,null,null,0,"",0,0,0,0,0,0,0]
[null,null,null,null,null,null,null,null,null,null,null,null,null,null,null,null,null,null,null,null,null,null,null,null,null,null,null,null,null,null,null,null,null,null,null,null,null,null,null,null,null,null,null,null,null,null,null,null,null,null,null,null,0,"",0,0,0,0,0,0,0]
[null,null,null,null,null,null,null,null,null,null,null,null,null,null,null,null,null,null,null,null,null,null,null,null,null,null,null,null,null,null,null,null,null,null,null,null,null,null,null,null,null,null,null,null,null,null,null,null,null,null,null,null,0,"",0,0,0,0,0,0,0]
[null,null,null,null,null,null,null,null,null,null,null,null,null,null,null,null,null,null,null,null,null,null,null,null,null,null,null,null,null,null,null,null,null,null,null,null,null,null,null,null,null,null,null,null,null,null,null,null,null,null,null,null,0,"",0,0,0,0,0,0,0]
[null,null,null,null,null,null,null,null,null,null,null,null,null,null,null,null,null,null,null,null,null,null,null,null,null,null,null,null,null,null,null,null,null,null,null,null,null,null,null,null,null,null,null,null,null,null,null,null,null,null,null,null,0,"",0,0,0,0,0,0,0]
[null,null,null,null,null,null,null,null,null,null,null,null,null,null,null,null,null,null,null,null,null,null,null,null,null,null,null,null,null,null,null,null,null,null,null,null,null,null,null,null,null,null,null,null,null,null,null,null,null,null,null,null,0,"",0,0,0,0,0,0,0]
[null,null,null,null,null,null,null,null,null,null,null,null,null,null,null,null,null,null,null,null,null,null,null,null,null,null,null,null,null,null,null,null,null,null,null,null,null,null,null,null,null,null,null,null,null,null,null,null,null,null,null,null,0,"",0,0,0,0,0,0,0]
[null,null,null,null,null,null,null,null,null,null,null,null,null,null,null,null,null,null,null,null,null,null,null,null,null,null,null,null,null,null,null,null,null,null,null,null,null,null,null,null,null,null,null,null,null,null,null,null,null,null,null,null,0,"",0,0,0,0,0,0,0]
[null,null,null,null,null,null,null,null,null,null,null,null,null,null,null,null,null,null,null,null,null,null,null,null,null,null,null,null,null,null,null,null,null,null,null,null,null,null,null,null,null,null,null,null,null,null,null,null,null,null,null,null,0,"",0,0,0,0,0,0,0]
[null,null,null,null,null,null,null,null,null,null,null,null,null,null,null,null,null,null,null,null,null,null,null,null,null,null,null,null,null,null,null,null,null,null,null,null,null,null,null,null,null,null,null,null,null,null,null,null,null,null,null,null,0,"",0,0,0,0,0,0,0]
[null,null,null,null,null,null,null,null,null,null,null,null,null,null,null,null,null,null,null,null,null,null,null,null,null,null,null,null,null,null,null,null,null,null,null,null,null,null,null,null,null,null,null,null,null,null,null,null,null,null,null,null,0,"",0,0,0,0,0,0,0]
[null,null,null,null,null,null,null,null,null,null,null,null,null,null,null,null,null,null,null,null,null,null,null,null,null,null,null,null,null,null,null,null,null,null,null,null,null,null,null,null,null,null,null,null,null,null,null,null,null,null,null,null,0,"",0,0,0,0,0,0,0]
[null,null,null,null,null,null,null,null,null,null,null,null,null,null,null,null,null,null,null,null,null,null,null,null,null,null,null,null,null,null,null,null,null,null,null,null,null,null,null,null,null,null,null,null,null,null,null,null,null,null,null,null,0,"",0,0,0,0,0,0,0]
[null,null,null,null,null,null,null,null,null,null,null,null,null,null,null,null,null,null,null,null,null,null,null,null,null,null,null,null,null,null,null,null,null,null,null,null,null,null,null,null,null,null,null,null,null,null,null,null,null,null,null,null,0,"",0,0,0,0,0,0,0]
[null,null,null,null,null,null,null,null,null,null,null,null,null,null,null,null,null,null,null,null,null,null,null,null,null,null,null,null,null,null,null,null,null,null,null,null,null,null,null,null,null,null,null,null,null,null,null,null,null,null,null,null,0,"",0,0,0,0,0,0,0]
[null,null,null,null,null,null,null,null,null,null,null,null,null,null,null,null,null,null,null,null,null,null,null,null,null,null,null,null,null,null,null,null,null,null,null,null,null,null,null,null,null,null,null,null,null,null,null,null,null,null,null,null,0,"",0,0,0,0,0,0,0]
[null,null,null,null,null,null,null,null,null,null,null,null,null,null,null,null,null,null,null,null,null,null,null,null,null,null,null,null,null,null,null,null,null,null,null,null,null,null,null,null,null,null,null,null,null,null,null,null,null,null,null,null,0,"",0,0,0,0,0,0,0]
[null,null,null,null,null,null,null,null,null,null,null,null,null,null,null,null,null,null,null,null,null,null,null,null,null,null,null,null,null,null,null,null,null,null,null,null,null,null,null,null,null,null,null,null,null,null,null,null,null,null,null,null,0,"",0,0,0,0,0,0,0]
[null,null,null,null,null,null,null,null,null,null,null,null,null,null,null,null,null,null,null,null,null,null,null,null,null,null,null,null,null,null,null,null,null,null,null,null,null,null,null,null,null,null,null,null,null,null,null,null,null,null,null,null,0,"",0,0,0,0,0,0,0]
[null,null,null,null,null,null,null,null,null,null,null,null,null,null,null,null,null,null,null,null,null,null,null,null,null,null,null,null,null,null,null,null,null,null,null,null,null,null,null,null,null,null,null,null,null,null,null,null,null,null,null,null,0,"",0,0,0,0,0,0,0]
[null,null,null,null,null,null,null,null,null,null,null,null,null,null,null,null,null,null,null,null,null,null,null,null,null,null,null,null,null,null,null,null,null,null,null,null,null,null,null,null,null,null,null,null,null,null,null,null,null,null,null,null,0,"",0,0,0,0,0,0,0]
[null,null,null,null,null,null,null,null,null,null,null,null,null,null,null,null,null,null,null,null,null,null,null,null,null,null,null,null,null,null,null,null,null,null,null,null,null,null,null,null,null,null,null,null,null,null,null,null,null,null,null,null,0,"",0,0,0,0,0,0,0]
[null,null,null,null,null,null,null,null,null,null,null,null,null,null,null,null,null,null,null,null,null,null,null,null,null,null,null,null,null,null,null,null,null,null,null,null,null,null,null,null,null,null,null,null,null,null,null,null,null,null,null,null,0,"",0,0,0,0,0,0,0]
[null,null,null,null,null,null,null,null,null,null,null,null,null,null,null,null,null,null,null,null,null,null,null,null,null,null,null,null,null,null,null,null,null,null,null,null,null,null,null,null,null,null,null,null,null,null,null,null,null,null,null,null,0,"",0,0,0,0,0,0,0]
[null,null,null,null,null,null,null,null,null,null,null,null,null,null,null,null,null,null,null,null,null,null,null,null,null,null,null,null,null,null,null,null,null,null,null,null,null,null,null,null,null,null,null,null,null,null,null,null,null,null,null,null,0,"",0,0,0,0,0,0,0]
[null,null,null,null,null,null,null,null,null,null,null,null,null,null,null,null,null,null,null,null,null,null,null,null,null,null,null,null,null,null,null,null,null,null,null,null,null,null,null,null,null,null,null,null,null,null,null,null,null,null,null,null,0,"",0,0,0,0,0,0,0]
[null,null,null,null,null,null,null,null,null,null,null,null,null,null,null,null,null,null,null,null,null,null,null,null,null,null,null,null,null,null,null,null,null,null,null,null,null,null,null,null,null,null,null,null,null,null,null,null,null,null,null,null,0,"",0,0,0,0,0,0,0]
[null,null,null,null,null,null,null,null,null,null,null,null,null,null,null,null,null,null,null,null,null,null,null,null,null,null,null,null,null,null,null,null,null,null,null,null,null,null,null,null,null,null,null,null,null,null,null,null,null,null,null,null,0,"",0,0,0,0,0,0,0]
[null,null,null,null,null,null,null,null,null,null,null,null,null,null,null,null,null,null,null,null,null,null,null,null,null,null,null,null,null,null,null,null,null,null,null,null,null,null,null,null,null,null,null,null,null,null,null,null,null,null,null,null,0,"",0,0,0,0,0,0,0]
[null,null,null,null,null,null,null,null,null,null,null,null,null,null,null,null,null,null,null,null,null,null,null,null,null,null,null,null,null,null,null,null,null,null,null,null,null,null,null,null,null,null,null,null,null,null,null,null,null,null,null,null,0,"",0,0,0,0,0,0,0]
[null,null,null,null,null,null,null,null,null,null,null,null,null,null,null,null,null,null,null,null,null,null,null,null,null,null,null,null,null,null,null,null,null,null,null,null,null,null,null,null,null,null,null,null,null,null,null,null,null,null,null,null,0,"",0,0,0,0,0,0,0]
[null,null,null,null,null,null,null,null,null,null,null,null,null,null,null,null,null,null,null,null,null,null,null,null,null,null,null,null,null,null,null,null,null,null,null,null,null,null,null,null,null,null,null,null,null,null,null,null,null,null,null,null,0,"",0,0,0,0,0,0,0]
[null,null,null,null,null,null,null,null,null,null,null,null,null,null,null,null,null,null,null,null,null,null,null,null,null,null,null,null,null,null,null,null,null,null,null,null,null,null,null,null,null,null,null,null,null,null,null,null,null,null,null,null,0,"",0,0,0,0,0,0,0]
[null,null,null,null,null,null,null,null,null,null,null,null,null,null,null,null,null,null,null,null,null,null,null,null,null,null,null,null,null,null,null,null,null,null,null,null,null,null,null,null,null,null,null,null,null,null,null,null,null,null,null,null,0,"",0,0,0,0,0,0,0]
[null,null,null,null,null,null,null,null,null,null,null,null,null,null,null,null,null,null,null,null,null,null,null,null,null,null,null,null,null,null,null,null,null,null,null,null,null,null,null,null,null,null,null,null,null,null,null,null,null,null,null,null,0,"",0,0,0,0,0,0,0]
[null,null,null,null,null,null,null,null,null,null,null,null,null,null,null,null,null,null,null,null,null,null,null,null,null,null,null,null,null,null,null,null,null,null,null,null,null,null,null,null,null,null,null,null,null,null,null,null,null,null,null,null,0,"",0,0,0,0,0,0,0]
[null,null,null,null,null,null,null,null,null,null,null,null,null,null,null,null,null,null,null,null,null,null,null,null,null,null,null,null,null,null,null,null,null,null,null,null,null,null,null,null,null,null,null,null,null,null,null,null,null,null,null,null,0,"",0,0,0,0,0,0,0]
[null,null,null,null,null,null,null,null,null,null,null,null,null,null,null,null,null,null,null,null,null,null,null,null,null,null,null,null,null,null,null,null,null,null,null,null,null,null,null,null,null,null,null,null,null,null,null,null,null,null,null,null,0,"",0,0,0,0,0,0,0]
[null,null,null,null,null,null,null,null,null,null,null,null,null,null,null,null,null,null,null,null,null,null,null,null,null,null,null,null,null,null,null,null,null,null,null,null,null,null,null,null,null,null,null,null,null,null,null,null,null,null,null,null,0,"",0,0,0,0,0,0,0]
[null,null,null,null,null,null,null,null,null,null,null,null,null,null,null,null,null,null,null,null,null,null,null,null,null,null,null,null,null,null,null,null,null,null,null,null,null,null,null,null,null,null,null,null,null,null,null,null,null,null,null,null,0,"",0,0,0,0,0,0,0]
[null,null,null,null,null,null,null,null,null,null,null,null,null,null,null,null,null,null,null,null,null,null,null,null,null,null,null,null,null,null,null,null,null,null,null,null,null,null,null,null,null,null,null,null,null,null,null,null,null,null,null,null,0,"",0,0,0,0,0,0,0]
[null,null,null,null,null,null,null,null,null,null,null,null,null,null,null,null,null,null,null,null,null,null,null,null,null,null,null,null,null,null,null,null,null,null,null,null,null,null,null,null,null,null,null,null,null,null,null,null,null,null,null,null,0,"",0,0,0,0,0,0,0]
[null,null,null,null,null,null,null,null,null,null,null,null,null,null,null,null,null,null,null,null,null,null,null,null,null,null,null,null,null,null,null,null,null,null,null,null,null,null,null,null,null,null,null,null,null,null,null,null,null,null,null,null,0,"",0,0,0,0,0,0,0]
[null,null,null,null,null,null,null,null,null,null,null,null,null,null,null,null,null,null,null,null,null,null,null,null,null,null,null,null,null,null,null,null,null,null,null,null,null,null,null,null,null,null,null,null,null,null,null,null,null,null,null,null,0,"",0,0,0,0,0,0,0]
[null,null,null,null,null,null,null,null,null,null,null,null,null,null,null,null,null,null,null,null,null,null,null,null,null,null,null,null,null,null,null,null,null,null,null,null,null,null,null,null,null,null,null,null,null,null,null,null,null,null,null,null,0,"",0,0,0,0,0,0,0]
[null,null,null,null,null,null,null,null,null,null,null,null,null,null,null,null,null,null,null,null,null,null,null,null,null,null,null,null,null,null,null,null,null,null,null,null,null,null,null,null,null,null,null,null,null,null,null,null,null,null,null,null,0,"",0,0,0,0,0,0,0]
[null,null,null,null,null,null,null,null,null,null,null,null,null,null,null,null,null,null,null,null,null,null,null,null,null,null,null,null,null,null,null,null,null,null,null,null,null,null,null,null,null,null,null,null,null,null,null,null,null,null,null,null,0,"",0,0,0,0,0,0,0]
[null,null,null,null,null,null,null,null,null,null,null,null,null,null,null,null,null,null,null,null,null,null,null,null,null,null,null,null,null,null,null,null,null,null,null,null,null,null,null,null,null,null,null,null,null,null,null,null,null,null,null,null,0,"",0,0,0,0,0,0,0]
[null,null,null,null,null,null,null,null,null,null,null,null,null,null,null,null,null,null,null,null,null,null,null,null,null,null,null,null,null,null,null,null,null,null,null,null,null,null,null,null,null,null,null,null,null,null,null,null,null,null,null,null,0,"",0,0,0,0,0,0,0]
[null,null,null,null,null,null,null,null,null,null,null,null,null,null,null,null,null,null,null,null,null,null,null,null,null,null,null,null,null,null,null,null,null,null,null,null,null,null,null,null,null,null,null,null,null,null,null,null,null,null,null,null,0,"",0,0,0,0,0,0,0]
[null,null,null,null,null,null,null,null,null,null,null,null,null,null,null,null,null,null,null,null,null,null,null,null,null,null,null,null,null,null,null,null,null,null,null,null,null,null,null,null,null,null,null,null,null,null,null,null,null,null,null,null,0,"",0,0,0,0,0,0,0]
[null,null,null,null,null,null,null,null,null,null,null,null,null,null,null,null,null,null,null,null,null,null,null,null,null,null,null,null,null,null,null,null,null,null,null,null,null,null,null,null,null,null,null,null,null,null,null,null,null,null,null,null,0,"",0,0,0,0,0,0,0]
[null,null,null,null,null,null,null,null,null,null,null,null,null,null,null,null,null,null,null,null,null,null,null,null,null,null,null,null,null,null,null,null,null,null,null,null,null,null,null,null,null,null,null,null,null,null,null,null,null,null,null,null,0,"",0,0,0,0,0,0,0]
[null,null,null,null,null,null,null,null,null,null,null,null,null,null,null,null,null,null,null,null,null,null,null,null,null,null,null,null,null,null,null,null,null,null,null,null,null,null,null,null,null,null,null,null,null,null,null,null,null,null,null,null,0,"",0,0,0,0,0,0,0]
[null,null,null,null,null,null,null,null,null,null,null,null,null,null,null,null,null,null,null,null,null,null,null,null,null,null,null,null,null,null,null,null,null,null,null,null,null,null,null,null,null,null,null,null,null,null,null,null,null,null,null,null,0,"",0,0,0,0,0,0,0]
[null,null,null,null,null,null,null,null,null,null,null,null,null,null,null,null,null,null,null,null,null,null,null,null,null,null,null,null,null,null,null,null,null,null,null,null,null,null,null,null,null,null,null,null,null,null,null,null,null,null,null,null,0,"",0,0,0,0,0,0,0]
[null,null,null,null,null,null,null,null,null,null,null,null,null,null,null,null,null,null,null,null,null,null,null,null,null,null,null,null,null,null,null,null,null,null,null,null,null,null,null,null,null,null,null,null,null,null,null,null,null,null,null,null,0,"",0,0,0,0,0,0,0]
[null,null,null,null,null,null,null,null,null,null,null,null,null,null,null,null,null,null,null,null,null,null,null,null,null,null,null,null,null,null,null,null,null,null,null,null,null,null,null,null,null,null,null,null,null,null,null,null,null,null,null,null,0,"",0,0,0,0,0,0,0]
[null,null,null,null,null,null,null,null,null,null,null,null,null,null,null,null,null,null,null,null,null,null,null,null,null,null,null,null,null,null,null,null,null,null,null,null,null,null,null,null,null,null,null,null,null,null,null,null,null,null,null,null,{"$f":"A1048","v":0},{"$f":"B1048&C1048","v":""},{"$f":"C1048","v":0},{"$f":"D1048","v":0},{"$f":"E1048","v":0},{"$f":"F1048","v":0},{"$f":"G1048","v":0},{"$f":"H1048","v":0},{"$f":"I1048","v":0}]
[null,null,null,null,null,null,null,null,null,null,null,null,null,null,null,null,null,null,null,null,null,null,null,null,null,null,null,null,null,null,null,null,null,null,null,null,null,null,null,null,null,null,null,null,null,null,null,null,null,null,null,null,0,"",0,0,0,0,0,0,0]
[null,null,null,null,null,null,null,null,null,null,null,null,null,null,null,null,null,null,null,null,null,null,null,null,null,null,null,null,null,null,null,null,null,null,null,null,null,null,null,null,null,null,null,null,null,null,null,null,null,null,null,null,0,"",0,0,0,0,0,0,0]
[null,null,null,null,null,null,null,null,null,null,null,null,null,null,null,null,null,null,null,null,null,null,null,null,null,null,null,null,null,null,null,null,null,null,null,null,null,null,null,null,null,null,null,null,null,null,null,null,null,null,null,null,0,"",0,0,0,0,0,0,0]
[null,null,null,null,null,null,null,null,null,null,null,null,null,null,null,null,null,null,null,null,null,null,null,null,null,null,null,null,null,null,null,null,null,null,null,null,null,null,null,null,null,null,null,null,null,null,null,null,null,null,null,null,0,"",0,0,0,0,0,0,0]
[null,null,null,null,null,null,null,null,null,null,null,null,null,null,null,null,null,null,null,null,null,null,null,null,null,null,null,null,null,null,null,null,null,null,null,null,null,null,null,null,null,null,null,null,null,null,null,null,null,null,null,null,0,"",0,0,0,0,0,0,0]
[null,null,null,null,null,null,null,null,null,null,null,null,null,null,null,null,null,null,null,null,null,null,null,null,null,null,null,null,null,null,null,null,null,null,null,null,null,null,null,null,null,null,null,null,null,null,null,null,null,null,null,null,0,"",0,0,0,0,0,0,0]
[null,null,null,null,null,null,null,null,null,null,null,null,null,null,null,null,null,null,null,null,null,null,null,null,null,null,null,null,null,null,null,null,null,null,null,null,null,null,null,null,null,null,null,null,null,null,null,null,null,null,null,null,0,"",0,0,0,0,0,0,0]
[null,null,null,null,null,null,null,null,null,null,null,null,null,null,null,null,null,null,null,null,null,null,null,null,null,null,null,null,null,null,null,null,null,null,null,null,null,null,null,null,null,null,null,null,null,null,null,null,null,null,null,null,0,"",0,0,0,0,0,0,0]
[null,null,null,null,null,null,null,null,null,null,null,null,null,null,null,null,null,null,null,null,null,null,null,null,null,null,null,null,null,null,null,null,null,null,null,null,null,null,null,null,null,null,null,null,null,null,null,null,null,null,null,null,0,"",0,0,0,0,0,0,0]
[null,null,null,null,null,null,null,null,null,null,null,null,null,null,null,null,null,null,null,null,null,null,null,null,null,null,null,null,null,null,null,null,null,null,null,null,null,null,null,null,null,null,null,null,null,null,null,null,null,null,null,null,0,"",0,0,0,0,0,0,0]
[null,null,null,null,null,null,null,null,null,null,null,null,null,null,null,null,null,null,null,null,null,null,null,null,null,null,null,null,null,null,null,null,null,null,null,null,null,null,null,null,null,null,null,null,null,null,null,null,null,null,null,null,0,"",0,0,0,0,0,0,0]
[null,null,null,null,null,null,null,null,null,null,null,null,null,null,null,null,null,null,null,null,null,null,null,null,null,null,null,null,null,null,null,null,null,null,null,null,null,null,null,null,null,null,null,null,null,null,null,null,null,null,null,null,0,"",0,0,0,0,0,0,0]
[null,null,null,null,null,null,null,null,null,null,null,null,null,null,null,null,null,null,null,null,null,null,null,null,null,null,null,null,null,null,null,null,null,null,null,null,null,null,null,null,null,null,null,null,null,null,null,null,null,null,null,null,0,"",0,0,0,0,0,0,0]
[null,null,null,null,null,null,null,null,null,null,null,null,null,null,null,null,null,null,null,null,null,null,null,null,null,null,null,null,null,null,null,null,null,null,null,null,null,null,null,null,null,null,null,null,null,null,null,null,null,null,null,null,0,"",0,0,0,0,0,0,0]
[null,null,null,null,null,null,null,null,null,null,null,null,null,null,null,null,null,null,null,null,null,null,null,null,null,null,null,null,null,null,null,null,null,null,null,null,null,null,null,null,null,null,null,null,null,null,null,null,null,null,null,null,0,"",0,0,0,0,0,0,0]
[null,null,null,null,null,null,null,null,null,null,null,null,null,null,null,null,null,null,null,null,null,null,null,null,null,null,null,null,null,null,null,null,null,null,null,null,null,null,null,null,null,null,null,null,null,null,null,null,null,null,null,null,0,"",0,0,0,0,0,0,0]
[null,null,null,null,null,null,null,null,null,null,null,null,null,null,null,null,null,null,null,null,null,null,null,null,null,null,null,null,null,null,null,null,null,null,null,null,null,null,null,null,null,null,null,null,null,null,null,null,null,null,null,null,0,"",0,0,0,0,0,0,0]
[null,null,null,null,null,null,null,null,null,null,null,null,null,null,null,null,null,null,null,null,null,null,null,null,null,null,null,null,null,null,null,null,null,null,null,null,null,null,null,null,null,null,null,null,null,null,null,null,null,null,null,null,0,"",0,0,0,0,0,0,0]
[null,null,null,null,null,null,null,null,null,null,null,null,null,null,null,null,null,null,null,null,null,null,null,null,null,null,null,null,null,null,null,null,null,null,null,null,null,null,null,null,null,null,null,null,null,null,null,null,null,null,null,null,0,"",0,0,0,0,0,0,0]
[null,null,null,null,null,null,null,null,null,null,null,null,null,null,null,null,null,null,null,null,null,null,null,null,null,null,null,null,null,null,null,null,null,null,null,null,null,null,null,null,null,null,null,null,null,null,null,null,null,null,null,null,0,"",0,0,0,0,0,0,0]
[null,null,null,null,null,null,null,null,null,null,null,null,null,null,null,null,null,null,null,null,null,null,null,null,null,null,null,null,null,null,null,null,null,null,null,null,null,null,null,null,null,null,null,null,null,null,null,null,null,null,null,null,0,"",0,0,0,0,0,0,0]
[null,null,null,null,null,null,null,null,null,null,null,null,null,null,null,null,null,null,null,null,null,null,null,null,null,null,null,null,null,null,null,null,null,null,null,null,null,null,null,null,null,null,null,null,null,null,null,null,null,null,null,null,0,"",0,0,0,0,0,0,0]
[null,null,null,null,null,null,null,null,null,null,null,null,null,null,null,null,null,null,null,null,null,null,null,null,null,null,null,null,null,null,null,null,null,null,null,null,null,null,null,null,null,null,null,null,null,null,null,null,null,null,null,null,0,"",0,0,0,0,0,0,0]
[null,null,null,null,null,null,null,null,null,null,null,null,null,null,null,null,null,null,null,null,null,null,null,null,null,null,null,null,null,null,null,null,null,null,null,null,null,null,null,null,null,null,null,null,null,null,null,null,null,null,null,null,0,"",0,0,0,0,0,0,0]
[null,null,null,null,null,null,null,null,null,null,null,null,null,null,null,null,null,null,null,null,null,null,null,null,null,null,null,null,null,null,null,null,null,null,null,null,null,null,null,null,null,null,null,null,null,null,null,null,null,null,null,null,0,"",0,0,0,0,0,0,0]
[null,null,null,null,null,null,null,null,null,null,null,null,null,null,null,null,null,null,null,null,null,null,null,null,null,null,null,null,null,null,null,null,null,null,null,null,null,null,null,null,null,null,null,null,null,null,null,null,null,null,null,null,0,"",0,0,0,0,0,0,0]
[null,null,null,null,null,null,null,null,null,null,null,null,null,null,null,null,null,null,null,null,null,null,null,null,null,null,null,null,null,null,null,null,null,null,null,null,null,null,null,null,null,null,null,null,null,null,null,null,null,null,null,null,0,"",0,0,0,0,0,0,0]
[null,null,null,null,null,null,null,null,null,null,null,null,null,null,null,null,null,null,null,null,null,null,null,null,null,null,null,null,null,null,null,null,null,null,null,null,null,null,null,null,null,null,null,null,null,null,null,null,null,null,null,null,0,"",0,0,0,0,0,0,0]
[null,null,null,null,null,null,null,null,null,null,null,null,null,null,null,null,null,null,null,null,null,null,null,null,null,null,null,null,null,null,null,null,null,null,null,null,null,null,null,null,null,null,null,null,null,null,null,null,null,null,null,null,0,"",0,0,0,0,0,0,0]
[null,null,null,null,null,null,null,null,null,null,null,null,null,null,null,null,null,null,null,null,null,null,null,null,null,null,null,null,null,null,null,null,null,null,null,null,null,null,null,null,null,null,null,null,null,null,null,null,null,null,null,null,0,"",0,0,0,0,0,0,0]
[null,null,null,null,null,null,null,null,null,null,null,null,null,null,null,null,null,null,null,null,null,null,null,null,null,null,null,null,null,null,null,null,null,null,null,null,null,null,null,null,null,null,null,null,null,null,null,null,null,null,null,null,0,"",0,0,0,0,0,0,0]
[null,null,null,null,null,null,null,null,null,null,null,null,null,null,null,null,null,null,null,null,null,null,null,null,null,null,null,null,null,null,null,null,null,null,null,null,null,null,null,null,null,null,null,null,null,null,null,null,null,null,null,null,0,"",0,0,0,0,0,0,0]
[null,null,null,null,null,null,null,null,null,null,null,null,null,null,null,null,null,null,null,null,null,null,null,null,null,null,null,null,null,null,null,null,null,null,null,null,null,null,null,null,null,null,null,null,null,null,null,null,null,null,null,null,0,"",0,0,0,0,0,0,0]
[null,null,null,null,null,null,null,null,null,null,null,null,null,null,null,null,null,null,null,null,null,null,null,null,null,null,null,null,null,null,null,null,null,null,null,null,null,null,null,null,null,null,null,null,null,null,null,null,null,null,null,null,0,"",0,0,0,0,0,0,0]
[null,null,null,null,null,null,null,null,null,null,null,null,null,null,null,null,null,null,null,null,null,null,null,null,null,null,null,null,null,null,null,null,null,null,null,null,null,null,null,null,null,null,null,null,null,null,null,null,null,null,null,null,0,"",0,0,0,0,0,0,0]
[null,null,null,null,null,null,null,null,null,null,null,null,null,null,null,null,null,null,null,null,null,null,null,null,null,null,null,null,null,null,null,null,null,null,null,null,null,null,null,null,null,null,null,null,null,null,null,null,null,null,null,null,0,"",0,0,0,0,0,0,0]
[null,null,null,null,null,null,null,null,null,null,null,null,null,null,null,null,null,null,null,null,null,null,null,null,null,null,null,null,null,null,null,null,null,null,null,null,null,null,null,null,null,null,null,null,null,null,null,null,null,null,null,null,0,"",0,0,0,0,0,0,0]
[null,null,null,null,null,null,null,null,null,null,null,null,null,null,null,null,null,null,null,null,null,null,null,null,null,null,null,null,null,null,null,null,null,null,null,null,null,null,null,null,null,null,null,null,null,null,null,null,null,null,null,null,0,"",0,0,0,0,0,0,0]
[null,null,null,null,null,null,null,null,null,null,null,null,null,null,null,null,null,null,null,null,null,null,null,null,null,null,null,null,null,null,null,null,null,null,null,null,null,null,null,null,null,null,null,null,null,null,null,null,null,null,null,null,0,"",0,0,0,0,0,0,0]
[null,null,null,null,null,null,null,null,null,null,null,null,null,null,null,null,null,null,null,null,null,null,null,null,null,null,null,null,null,null,null,null,null,null,null,null,null,null,null,null,null,null,null,null,null,null,null,null,null,null,null,null,0,"",0,0,0,0,0,0,0]
[null,null,null,null,null,null,null,null,null,null,null,null,null,null,null,null,null,null,null,null,null,null,null,null,null,null,null,null,null,null,null,null,null,null,null,null,null,null,null,null,null,null,null,null,null,null,null,null,null,null,null,null,0,"",0,0,0,0,0,0,0]
[null,null,null,null,null,null,null,null,null,null,null,null,null,null,null,null,null,null,null,null,null,null,null,null,null,null,null,null,null,null,null,null,null,null,null,null,null,null,null,null,null,null,null,null,null,null,null,null,null,null,null,null,0,"",0,0,0,0,0,0,0]
[null,null,null,null,null,null,null,null,null,null,null,null,null,null,null,null,null,null,null,null,null,null,null,null,null,null,null,null,null,null,null,null,null,null,null,null,null,null,null,null,null,null,null,null,null,null,null,null,null,null,null,null,0,"",0,0,0,0,0,0,0]
[null,null,null,null,null,null,null,null,null,null,null,null,null,null,null,null,null,null,null,null,null,null,null,null,null,null,null,null,null,null,null,null,null,null,null,null,null,null,null,null,null,null,null,null,null,null,null,null,null,null,null,null,0,"",0,0,0,0,0,0,0]
[null,null,null,null,null,null,null,null,null,null,null,null,null,null,null,null,null,null,null,null,null,null,null,null,null,null,null,null,null,null,null,null,null,null,null,null,null,null,null,null,null,null,null,null,null,null,null,null,null,null,null,null,0,"",0,0,0,0,0,0,0]
[null,null,null,null,null,null,null,null,null,null,null,null,null,null,null,null,null,null,null,null,null,null,null,null,null,null,null,null,null,null,null,null,null,null,null,null,null,null,null,null,null,null,null,null,null,null,null,null,null,null,null,null,0,"",0,0,0,0,0,0,0]
[null,null,null,null,null,null,null,null,null,null,null,null,null,null,null,null,null,null,null,null,null,null,null,null,null,null,null,null,null,null,null,null,null,null,null,null,null,null,null,null,null,null,null,null,null,null,null,null,null,null,null,null,0,"",0,0,0,0,0,0,0]
[null,null,null,null,null,null,null,null,null,null,null,null,null,null,null,null,null,null,null,null,null,null,null,null,null,null,null,null,null,null,null,null,null,null,null,null,null,null,null,null,null,null,null,null,null,null,null,null,null,null,null,null,0,"",0,0,0,0,0,0,0]
[null,null,null,null,null,null,null,null,null,null,null,null,null,null,null,null,null,null,null,null,null,null,null,null,null,null,null,null,null,null,null,null,null,null,null,null,null,null,null,null,null,null,null,null,null,null,null,null,null,null,null,null,0,"",0,0,0,0,0,0,0]
[null,null,null,null,null,null,null,null,null,null,null,null,null,null,null,null,null,null,null,null,null,null,null,null,null,null,null,null,null,null,null,null,null,null,null,null,null,null,null,null,null,null,null,null,null,null,null,null,null,null,null,null,0,"",0,0,0,0,0,0,0]
[null,null,null,null,null,null,null,null,null,null,null,null,null,null,null,null,null,null,null,null,null,null,null,null,null,null,null,null,null,null,null,null,null,null,null,null,null,null,null,null,null,null,null,null,null,null,null,null,null,null,null,null,0,"",0,0,0,0,0,0,0]
[null,null,null,null,null,null,null,null,null,null,null,null,null,null,null,null,null,null,null,null,null,null,null,null,null,null,null,null,null,null,null,null,null,null,null,null,null,null,null,null,null,null,null,null,null,null,null,null,null,null,null,null,0,"",0,0,0,0,0,0,0]
[null,null,null,null,null,null,null,null,null,null,null,null,null,null,null,null,null,null,null,null,null,null,null,null,null,null,null,null,null,null,null,null,null,null,null,null,null,null,null,null,null,null,null,null,null,null,null,null,null,null,null,null,0,"",0,0,0,0,0,0,0]
[null,null,null,null,null,null,null,null,null,null,null,null,null,null,null,null,null,null,null,null,null,null,null,null,null,null,null,null,null,null,null,null,null,null,null,null,null,null,null,null,null,null,null,null,null,null,null,null,null,null,null,null,0,"",0,0,0,0,0,0,0]
[null,null,null,null,null,null,null,null,null,null,null,null,null,null,null,null,null,null,null,null,null,null,null,null,null,null,null,null,null,null,null,null,null,null,null,null,null,null,null,null,null,null,null,null,null,null,null,null,null,null,null,null,0,"",0,0,0,0,0,0,0]
[null,null,null,null,null,null,null,null,null,null,null,null,null,null,null,null,null,null,null,null,null,null,null,null,null,null,null,null,null,null,null,null,null,null,null,null,null,null,null,null,null,null,null,null,null,null,null,null,null,null,null,null,0,"",0,0,0,0,0,0,0]
[null,null,null,null,null,null,null,null,null,null,null,null,null,null,null,null,null,null,null,null,null,null,null,null,null,null,null,null,null,null,null,null,null,null,null,null,null,null,null,null,null,null,null,null,null,null,null,null,null,null,null,null,0,"",0,0,0,0,0,0,0]
[null,null,null,null,null,null,null,null,null,null,null,null,null,null,null,null,null,null,null,null,null,null,null,null,null,null,null,null,null,null,null,null,null,null,null,null,null,null,null,null,null,null,null,null,null,null,null,null,null,null,null,null,0,"",0,0,0,0,0,0,0]
[null,null,null,null,null,null,null,null,null,null,null,null,null,null,null,null,null,null,null,null,null,null,null,null,null,null,null,null,null,null,null,null,null,null,null,null,null,null,null,null,null,null,null,null,null,null,null,null,null,null,null,null,0,"",0,0,0,0,0,0,0]
[null,null,null,null,null,null,null,null,null,null,null,null,null,null,null,null,null,null,null,null,null,null,null,null,null,null,null,null,null,null,null,null,null,null,null,null,null,null,null,null,null,null,null,null,null,null,null,null,null,null,null,null,0,"",0,0,0,0,0,0,0]
[null,null,null,null,null,null,null,null,null,null,null,null,null,null,null,null,null,null,null,null,null,null,null,null,null,null,null,null,null,null,null,null,null,null,null,null,null,null,null,null,null,null,null,null,null,null,null,null,null,null,null,null,0,"",0,0,0,0,0,0,0]
[null,null,null,null,null,null,null,null,null,null,null,null,null,null,null,null,null,null,null,null,null,null,null,null,null,null,null,null,null,null,null,null,null,null,null,null,null,null,null,null,null,null,null,null,null,null,null,null,null,null,null,null,0,"",0,0,0,0,0,0,0]
[null,null,null,null,null,null,null,null,null,null,null,null,null,null,null,null,null,null,null,null,null,null,null,null,null,null,null,null,null,null,null,null,null,null,null,null,null,null,null,null,null,null,null,null,null,null,null,null,null,null,null,null,0,"",0,0,0,0,0,0,0]
[null,null,null,null,null,null,null,null,null,null,null,null,null,null,null,null,null,null,null,null,null,null,null,null,null,null,null,null,null,null,null,null,null,null,null,null,null,null,null,null,null,null,null,null,null,null,null,null,null,null,null,null,{"$f":"A1112","v":0},{"$f":"B1112&C1112","v":""},{"$f":"C1112","v":0},{"$f":"D1112","v":0},{"$f":"E1112","v":0},{"$f":"F1112","v":0},{"$f":"G1112","v":0},{"$f":"H1112","v":0},{"$f":"I1112","v":0}]
[null,null,null,null,null,null,null,null,null,null,null,null,null,null,null,null,null,null,null,null,null,null,null,null,null,null,null,null,null,null,null,null,null,null,null,null,null,null,null,null,null,null,null,null,null,null,null,null,null,null,null,null,0,"",0,0,0,0,0,0,0]
[null,null,null,null,null,null,null,null,null,null,null,null,null,null,null,null,null,null,null,null,null,null,null,null,null,null,null,null,null,null,null,null,null,null,null,null,null,null,null,null,null,null,null,null,null,null,null,null,null,null,null,null,0,"",0,0,0,0,0,0,0]
[null,null,null,null,null,null,null,null,null,null,null,null,null,null,null,null,null,null,null,null,null,null,null,null,null,null,null,null,null,null,null,null,null,null,null,null,null,null,null,null,null,null,null,null,null,null,null,null,null,null,null,null,0,"",0,0,0,0,0,0,0]
[null,null,null,null,null,null,null,null,null,null,null,null,null,null,null,null,null,null,null,null,null,null,null,null,null,null,null,null,null,null,null,null,null,null,null,null,null,null,null,null,null,null,null,null,null,null,null,null,null,null,null,null,0,"",0,0,0,0,0,0,0]
[null,null,null,null,null,null,null,null,null,null,null,null,null,null,null,null,null,null,null,null,null,null,null,null,null,null,null,null,null,null,null,null,null,null,null,null,null,null,null,null,null,null,null,null,null,null,null,null,null,null,null,null,0,"",0,0,0,0,0,0,0]
[null,null,null,null,null,null,null,null,null,null,null,null,null,null,null,null,null,null,null,null,null,null,null,null,null,null,null,null,null,null,null,null,null,null,null,null,null,null,null,null,null,null,null,null,null,null,null,null,null,null,null,null,0,"",0,0,0,0,0,0,0]
[null,null,null,null,null,null,null,null,null,null,null,null,null,null,null,null,null,null,null,null,null,null,null,null,null,null,null,null,null,null,null,null,null,null,null,null,null,null,null,null,null,null,null,null,null,null,null,null,null,null,null,null,0,"",0,0,0,0,0,0,0]
[null,null,null,null,null,null,null,null,null,null,null,null,null,null,null,null,null,null,null,null,null,null,null,null,null,null,null,null,null,null,null,null,null,null,null,null,null,null,null,null,null,null,null,null,null,null,null,null,null,null,null,null,0,"",0,0,0,0,0,0,0]
[null,null,null,null,null,null,null,null,null,null,null,null,null,null,null,null,null,null,null,null,null,null,null,null,null,null,null,null,null,null,null,null,null,null,null,null,null,null,null,null,null,null,null,null,null,null,null,null,null,null,null,null,0,"",0,0,0,0,0,0,0]
[null,null,null,null,null,null,null,null,null,null,null,null,null,null,null,null,null,null,null,null,null,null,null,null,null,null,null,null,null,null,null,null,null,null,null,null,null,null,null,null,null,null,null,null,null,null,null,null,null,null,null,null,0,"",0,0,0,0,0,0,0]
[null,null,null,null,null,null,null,null,null,null,null,null,null,null,null,null,null,null,null,null,null,null,null,null,null,null,null,null,null,null,null,null,null,null,null,null,null,null,null,null,null,null,null,null,null,null,null,null,null,null,null,null,0,"",0,0,0,0,0,0,0]
[null,null,null,null,null,null,null,null,null,null,null,null,null,null,null,null,null,null,null,null,null,null,null,null,null,null,null,null,null,null,null,null,null,null,null,null,null,null,null,null,null,null,null,null,null,null,null,null,null,null,null,null,0,"",0,0,0,0,0,0,0]
[null,null,null,null,null,null,null,null,null,null,null,null,null,null,null,null,null,null,null,null,null,null,null,null,null,null,null,null,null,null,null,null,null,null,null,null,null,null,null,null,null,null,null,null,null,null,null,null,null,null,null,null,0,"",0,0,0,0,0,0,0]
[null,null,null,null,null,null,null,null,null,null,null,null,null,null,null,null,null,null,null,null,null,null,null,null,null,null,null,null,null,null,null,null,null,null,null,null,null,null,null,null,null,null,null,null,null,null,null,null,null,null,null,null,0,"",0,0,0,0,0,0,0]
[null,null,null,null,null,null,null,null,null,null,null,null,null,null,null,null,null,null,null,null,null,null,null,null,null,null,null,null,null,null,null,null,null,null,null,null,null,null,null,null,null,null,null,null,null,null,null,null,null,null,null,null,0,"",0,0,0,0,0,0,0]
[null,null,null,null,null,null,null,null,null,null,null,null,null,null,null,null,null,null,null,null,null,null,null,null,null,null,null,null,null,null,null,null,null,null,null,null,null,null,null,null,null,null,null,null,null,null,null,null,null,null,null,null,0,"",0,0,0,0,0,0,0]
[null,null,null,null,null,null,null,null,null,null,null,null,null,null,null,null,null,null,null,null,null,null,null,null,null,null,null,null,null,null,null,null,null,null,null,null,null,null,null,null,null,null,null,null,null,null,null,null,null,null,null,null,0,"",0,0,0,0,0,0,0]
[null,null,null,null,null,null,null,null,null,null,null,null,null,null,null,null,null,null,null,null,null,null,null,null,null,null,null,null,null,null,null,null,null,null,null,null,null,null,null,null,null,null,null,null,null,null,null,null,null,null,null,null,0,"",0,0,0,0,0,0,0]
[null,null,null,null,null,null,null,null,null,null,null,null,null,null,null,null,null,null,null,null,null,null,null,null,null,null,null,null,null,null,null,null,null,null,null,null,null,null,null,null,null,null,null,null,null,null,null,null,null,null,null,null,0,"",0,0,0,0,0,0,0]
[null,null,null,null,null,null,null,null,null,null,null,null,null,null,null,null,null,null,null,null,null,null,null,null,null,null,null,null,null,null,null,null,null,null,null,null,null,null,null,null,null,null,null,null,null,null,null,null,null,null,null,null,0,"",0,0,0,0,0,0,0]
[null,null,null,null,null,null,null,null,null,null,null,null,null,null,null,null,null,null,null,null,null,null,null,null,null,null,null,null,null,null,null,null,null,null,null,null,null,null,null,null,null,null,null,null,null,null,null,null,null,null,null,null,0,"",0,0,0,0,0,0,0]
[null,null,null,null,null,null,null,null,null,null,null,null,null,null,null,null,null,null,null,null,null,null,null,null,null,null,null,null,null,null,null,null,null,null,null,null,null,null,null,null,null,null,null,null,null,null,null,null,null,null,null,null,0,"",0,0,0,0,0,0,0]
[null,null,null,null,null,null,null,null,null,null,null,null,null,null,null,null,null,null,null,null,null,null,null,null,null,null,null,null,null,null,null,null,null,null,null,null,null,null,null,null,null,null,null,null,null,null,null,null,null,null,null,null,0,"",0,0,0,0,0,0,0]
[null,null,null,null,null,null,null,null,null,null,null,null,null,null,null,null,null,null,null,null,null,null,null,null,null,null,null,null,null,null,null,null,null,null,null,null,null,null,null,null,null,null,null,null,null,null,null,null,null,null,null,null,0,"",0,0,0,0,0,0,0]
[null,null,null,null,null,null,null,null,null,null,null,null,null,null,null,null,null,null,null,null,null,null,null,null,null,null,null,null,null,null,null,null,null,null,null,null,null,null,null,null,null,null,null,null,null,null,null,null,null,null,null,null,0,"",0,0,0,0,0,0,0]
[null,null,null,null,null,null,null,null,null,null,null,null,null,null,null,null,null,null,null,null,null,null,null,null,null,null,null,null,null,null,null,null,null,null,null,null,null,null,null,null,null,null,null,null,null,null,null,null,null,null,null,null,0,"",0,0,0,0,0,0,0]
[null,null,null,null,null,null,null,null,null,null,null,null,null,null,null,null,null,null,null,null,null,null,null,null,null,null,null,null,null,null,null,null,null,null,null,null,null,null,null,null,null,null,null,null,null,null,null,null,null,null,null,null,0,"",0,0,0,0,0,0,0]
[null,null,null,null,null,null,null,null,null,null,null,null,null,null,null,null,null,null,null,null,null,null,null,null,null,null,null,null,null,null,null,null,null,null,null,null,null,null,null,null,null,null,null,null,null,null,null,null,null,null,null,null,0,"",0,0,0,0,0,0,0]
[null,null,null,null,null,null,null,null,null,null,null,null,null,null,null,null,null,null,null,null,null,null,null,null,null,null,null,null,null,null,null,null,null,null,null,null,null,null,null,null,null,null,null,null,null,null,null,null,null,null,null,null,0,"",0,0,0,0,0,0,0]
[null,null,null,null,null,null,null,null,null,null,null,null,null,null,null,null,null,null,null,null,null,null,null,null,null,null,null,null,null,null,null,null,null,null,null,null,null,null,null,null,null,null,null,null,null,null,null,null,null,null,null,null,0,"",0,0,0,0,0,0,0]
[null,null,null,null,null,null,null,null,null,null,null,null,null,null,null,null,null,null,null,null,null,null,null,null,null,null,null,null,null,null,null,null,null,null,null,null,null,null,null,null,null,null,null,null,null,null,null,null,null,null,null,null,0,"",0,0,0,0,0,0,0]
[null,null,null,null,null,null,null,null,null,null,null,null,null,null,null,null,null,null,null,null,null,null,null,null,null,null,null,null,null,null,null,null,null,null,null,null,null,null,null,null,null,null,null,null,null,null,null,null,null,null,null,null,0,"",0,0,0,0,0,0,0]
[null,null,null,null,null,null,null,null,null,null,null,null,null,null,null,null,null,null,null,null,null,null,null,null,null,null,null,null,null,null,null,null,null,null,null,null,null,null,null,null,null,null,null,null,null,null,null,null,null,null,null,null,0,"",0,0,0,0,0,0,0]
[null,null,null,null,null,null,null,null,null,null,null,null,null,null,null,null,null,null,null,null,null,null,null,null,null,null,null,null,null,null,null,null,null,null,null,null,null,null,null,null,null,null,null,null,null,null,null,null,null,null,null,null,0,"",0,0,0,0,0,0,0]
[null,null,null,null,null,null,null,null,null,null,null,null,null,null,null,null,null,null,null,null,null,null,null,null,null,null,null,null,null,null,null,null,null,null,null,null,null,null,null,null,null,null,null,null,null,null,null,null,null,null,null,null,0,"",0,0,0,0,0,0,0]
[null,null,null,null,null,null,null,null,null,null,null,null,null,null,null,null,null,null,null,null,null,null,null,null,null,null,null,null,null,null,null,null,null,null,null,null,null,null,null,null,null,null,null,null,null,null,null,null,null,null,null,null,0,"",0,0,0,0,0,0,0]
[null,null,null,null,null,null,null,null,null,null,null,null,null,null,null,null,null,null,null,null,null,null,null,null,null,null,null,null,null,null,null,null,null,null,null,null,null,null,null,null,null,null,null,null,null,null,null,null,null,null,null,null,0,"",0,0,0,0,0,0,0]
[null,null,null,null,null,null,null,null,null,null,null,null,null,null,null,null,null,null,null,null,null,null,null,null,null,null,null,null,null,null,null,null,null,null,null,null,null,null,null,null,null,null,null,null,null,null,null,null,null,null,null,null,0,"",0,0,0,0,0,0,0]
[null,null,null,null,null,null,null,null,null,null,null,null,null,null,null,null,null,null,null,null,null,null,null,null,null,null,null,null,null,null,null,null,null,null,null,null,null,null,null,null,null,null,null,null,null,null,null,null,null,null,null,null,0,"",0,0,0,0,0,0,0]
[null,null,null,null,null,null,null,null,null,null,null,null,null,null,null,null,null,null,null,null,null,null,null,null,null,null,null,null,null,null,null,null,null,null,null,null,null,null,null,null,null,null,null,null,null,null,null,null,null,null,null,null,0,"",0,0,0,0,0,0,0]
[null,null,null,null,null,null,null,null,null,null,null,null,null,null,null,null,null,null,null,null,null,null,null,null,null,null,null,null,null,null,null,null,null,null,null,null,null,null,null,null,null,null,null,null,null,null,null,null,null,null,null,null,0,"",0,0,0,0,0,0,0]
[null,null,null,null,null,null,null,null,null,null,null,null,null,null,null,null,null,null,null,null,null,null,null,null,null,null,null,null,null,null,null,null,null,null,null,null,null,null,null,null,null,null,null,null,null,null,null,null,null,null,null,null,0,"",0,0,0,0,0,0,0]
[null,null,null,null,null,null,null,null,null,null,null,null,null,null,null,null,null,null,null,null,null,null,null,null,null,null,null,null,null,null,null,null,null,null,null,null,null,null,null,null,null,null,null,null,null,null,null,null,null,null,null,null,0,"",0,0,0,0,0,0,0]
[null,null,null,null,null,null,null,null,null,null,null,null,null,null,null,null,null,null,null,null,null,null,null,null,null,null,null,null,null,null,null,null,null,null,null,null,null,null,null,null,null,null,null,null,null,null,null,null,null,null,null,null,0,"",0,0,0,0,0,0,0]
[null,null,null,null,null,null,null,null,null,null,null,null,null,null,null,null,null,null,null,null,null,null,null,null,null,null,null,null,null,null,null,null,null,null,null,null,null,null,null,null,null,null,null,null,null,null,null,null,null,null,null,null,0,"",0,0,0,0,0,0,0]
[null,null,null,null,null,null,null,null,null,null,null,null,null,null,null,null,null,null,null,null,null,null,null,null,null,null,null,null,null,null,null,null,null,null,null,null,null,null,null,null,null,null,null,null,null,null,null,null,null,null,null,null,0,"",0,0,0,0,0,0,0]
[null,null,null,null,null,null,null,null,null,null,null,null,null,null,null,null,null,null,null,null,null,null,null,null,null,null,null,null,null,null,null,null,null,null,null,null,null,null,null,null,null,null,null,null,null,null,null,null,null,null,null,null,0,"",0,0,0,0,0,0,0]
[null,null,null,null,null,null,null,null,null,null,null,null,null,null,null,null,null,null,null,null,null,null,null,null,null,null,null,null,null,null,null,null,null,null,null,null,null,null,null,null,null,null,null,null,null,null,null,null,null,null,null,null,0,"",0,0,0,0,0,0,0]
[null,null,null,null,null,null,null,null,null,null,null,null,null,null,null,null,null,null,null,null,null,null,null,null,null,null,null,null,null,null,null,null,null,null,null,null,null,null,null,null,null,null,null,null,null,null,null,null,null,null,null,null,0,"",0,0,0,0,0,0,0]
[null,null,null,null,null,null,null,null,null,null,null,null,null,null,null,null,null,null,null,null,null,null,null,null,null,null,null,null,null,null,null,null,null,null,null,null,null,null,null,null,null,null,null,null,null,null,null,null,null,null,null,null,0,"",0,0,0,0,0,0,0]
[null,null,null,null,null,null,null,null,null,null,null,null,null,null,null,null,null,null,null,null,null,null,null,null,null,null,null,null,null,null,null,null,null,null,null,null,null,null,null,null,null,null,null,null,null,null,null,null,null,null,null,null,0,"",0,0,0,0,0,0,0]
[null,null,null,null,null,null,null,null,null,null,null,null,null,null,null,null,null,null,null,null,null,null,null,null,null,null,null,null,null,null,null,null,null,null,null,null,null,null,null,null,null,null,null,null,null,null,null,null,null,null,null,null,0,"",0,0,0,0,0,0,0]
[null,null,null,null,null,null,null,null,null,null,null,null,null,null,null,null,null,null,null,null,null,null,null,null,null,null,null,null,null,null,null,null,null,null,null,null,null,null,null,null,null,null,null,null,null,null,null,null,null,null,null,null,0,"",0,0,0,0,0,0,0]
[null,null,null,null,null,null,null,null,null,null,null,null,null,null,null,null,null,null,null,null,null,null,null,null,null,null,null,null,null,null,null,null,null,null,null,null,null,null,null,null,null,null,null,null,null,null,null,null,null,null,null,null,0,"",0,0,0,0,0,0,0]
[null,null,null,null,null,null,null,null,null,null,null,null,null,null,null,null,null,null,null,null,null,null,null,null,null,null,null,null,null,null,null,null,null,null,null,null,null,null,null,null,null,null,null,null,null,null,null,null,null,null,null,null,0,"",0,0,0,0,0,0,0]
[null,null,null,null,null,null,null,null,null,null,null,null,null,null,null,null,null,null,null,null,null,null,null,null,null,null,null,null,null,null,null,null,null,null,null,null,null,null,null,null,null,null,null,null,null,null,null,null,null,null,null,null,0,"",0,0,0,0,0,0,0]
[null,null,null,null,null,null,null,null,null,null,null,null,null,null,null,null,null,null,null,null,null,null,null,null,null,null,null,null,null,null,null,null,null,null,null,null,null,null,null,null,null,null,null,null,null,null,null,null,null,null,null,null,0,"",0,0,0,0,0,0,0]
[null,null,null,null,null,null,null,null,null,null,null,null,null,null,null,null,null,null,null,null,null,null,null,null,null,null,null,null,null,null,null,null,null,null,null,null,null,null,null,null,null,null,null,null,null,null,null,null,null,null,null,null,0,"",0,0,0,0,0,0,0]
[null,null,null,null,null,null,null,null,null,null,null,null,null,null,null,null,null,null,null,null,null,null,null,null,null,null,null,null,null,null,null,null,null,null,null,null,null,null,null,null,null,null,null,null,null,null,null,null,null,null,null,null,0,"",0,0,0,0,0,0,0]
[null,null,null,null,null,null,null,null,null,null,null,null,null,null,null,null,null,null,null,null,null,null,null,null,null,null,null,null,null,null,null,null,null,null,null,null,null,null,null,null,null,null,null,null,null,null,null,null,null,null,null,null,0,"",0,0,0,0,0,0,0]
[null,null,null,null,null,null,null,null,null,null,null,null,null,null,null,null,null,null,null,null,null,null,null,null,null,null,null,null,null,null,null,null,null,null,null,null,null,null,null,null,null,null,null,null,null,null,null,null,null,null,null,null,0,"",0,0,0,0,0,0,0]
[null,null,null,null,null,null,null,null,null,null,null,null,null,null,null,null,null,null,null,null,null,null,null,null,null,null,null,null,null,null,null,null,null,null,null,null,null,null,null,null,null,null,null,null,null,null,null,null,null,null,null,null,0,"",0,0,0,0,0,0,0]
[null,null,null,null,null,null,null,null,null,null,null,null,null,null,null,null,null,null,null,null,null,null,null,null,null,null,null,null,null,null,null,null,null,null,null,null,null,null,null,null,null,null,null,null,null,null,null,null,null,null,null,null,0,"",0,0,0,0,0,0,0]
[null,null,null,null,null,null,null,null,null,null,null,null,null,null,null,null,null,null,null,null,null,null,null,null,null,null,null,null,null,null,null,null,null,null,null,null,null,null,null,null,null,null,null,null,null,null,null,null,null,null,null,null,{"$f":"A1176","v":0},{"$f":"B1176&C1176","v":""},{"$f":"C1176","v":0},{"$f":"D1176","v":0},{"$f":"E1176","v":0},{"$f":"F1176","v":0},{"$f":"G1176","v":0},{"$f":"H1176","v":0},{"$f":"I1176","v":0}]
[null,null,null,null,null,null,null,null,null,null,null,null,null,null,null,null,null,null,null,null,null,null,null,null,null,null,null,null,null,null,null,null,null,null,null,null,null,null,null,null,null,null,null,null,null,null,null,null,null,null,null,null,0,"",0,0,0,0,0,0,0]
[null,null,null,null,null,null,null,null,null,null,null,null,null,null,null,null,null,null,null,null,null,null,null,null,null,null,null,null,null,null,null,null,null,null,null,null,null,null,null,null,null,null,null,null,null,null,null,null,null,null,null,null,0,"",0,0,0,0,0,0,0]
[null,null,null,null,null,null,null,null,null,null,null,null,null,null,null,null,null,null,null,null,null,null,null,null,null,null,null,null,null,null,null,null,null,null,null,null,null,null,null,null,null,null,null,null,null,null,null,null,null,null,null,null,0,"",0,0,0,0,0,0,0]
[null,null,null,null,null,null,null,null,null,null,null,null,null,null,null,null,null,null,null,null,null,null,null,null,null,null,null,null,null,null,null,null,null,null,null,null,null,null,null,null,null,null,null,null,null,null,null,null,null,null,null,null,0,"",0,0,0,0,0,0,0]
[null,null,null,null,null,null,null,null,null,null,null,null,null,null,null,null,null,null,null,null,null,null,null,null,null,null,null,null,null,null,null,null,null,null,null,null,null,null,null,null,null,null,null,null,null,null,null,null,null,null,null,null,0,"",0,0,0,0,0,0,0]
[null,null,null,null,null,null,null,null,null,null,null,null,null,null,null,null,null,null,null,null,null,null,null,null,null,null,null,null,null,null,null,null,null,null,null,null,null,null,null,null,null,null,null,null,null,null,null,null,null,null,null,null,0,"",0,0,0,0,0,0,0]
[null,null,null,null,null,null,null,null,null,null,null,null,null,null,null,null,null,null,null,null,null,null,null,null,null,null,null,null,null,null,null,null,null,null,null,null,null,null,null,null,null,null,null,null,null,null,null,null,null,null,null,null,0,"",0,0,0,0,0,0,0]
[null,null,null,null,null,null,null,null,null,null,null,null,null,null,null,null,null,null,null,null,null,null,null,null,null,null,null,null,null,null,null,null,null,null,null,null,null,null,null,null,null,null,null,null,null,null,null,null,null,null,null,null,0,"",0,0,0,0,0,0,0]
[null,null,null,null,null,null,null,null,null,null,null,null,null,null,null,null,null,null,null,null,null,null,null,null,null,null,null,null,null,null,null,null,null,null,null,null,null,null,null,null,null,null,null,null,null,null,null,null,null,null,null,null,0,"",0,0,0,0,0,0,0]
[null,null,null,null,null,null,null,null,null,null,null,null,null,null,null,null,null,null,null,null,null,null,null,null,null,null,null,null,null,null,null,null,null,null,null,null,null,null,null,null,null,null,null,null,null,null,null,null,null,null,null,null,0,"",0,0,0,0,0,0,0]
[null,null,null,null,null,null,null,null,null,null,null,null,null,null,null,null,null,null,null,null,null,null,null,null,null,null,null,null,null,null,null,null,null,null,null,null,null,null,null,null,null,null,null,null,null,null,null,null,null,null,null,null,0,"",0,0,0,0,0,0,0]
[null,null,null,null,null,null,null,null,null,null,null,null,null,null,null,null,null,null,null,null,null,null,null,null,null,null,null,null,null,null,null,null,null,null,null,null,null,null,null,null,null,null,null,null,null,null,null,null,null,null,null,null,0,"",0,0,0,0,0,0,0]
[null,null,null,null,null,null,null,null,null,null,null,null,null,null,null,null,null,null,null,null,null,null,null,null,null,null,null,null,null,null,null,null,null,null,null,null,null,null,null,null,null,null,null,null,null,null,null,null,null,null,null,null,0,"",0,0,0,0,0,0,0]
[null,null,null,null,null,null,null,null,null,null,null,null,null,null,null,null,null,null,null,null,null,null,null,null,null,null,null,null,null,null,null,null,null,null,null,null,null,null,null,null,null,null,null,null,null,null,null,null,null,null,null,null,0,"",0,0,0,0,0,0,0]
[null,null,null,null,null,null,null,null,null,null,null,null,null,null,null,null,null,null,null,null,null,null,null,null,null,null,null,null,null,null,null,null,null,null,null,null,null,null,null,null,null,null,null,null,null,null,null,null,null,null,null,null,0,"",0,0,0,0,0,0,0]
[null,null,null,null,null,null,null,null,null,null,null,null,null,null,null,null,null,null,null,null,null,null,null,null,null,null,null,null,null,null,null,null,null,null,null,null,null,null,null,null,null,null,null,null,null,null,null,null,null,null,null,null,0,"",0,0,0,0,0,0,0]
[null,null,null,null,null,null,null,null,null,null,null,null,null,null,null,null,null,null,null,null,null,null,null,null,null,null,null,null,null,null,null,null,null,null,null,null,null,null,null,null,null,null,null,null,null,null,null,null,null,null,null,null,0,"",0,0,0,0,0,0,0]
[null,null,null,null,null,null,null,null,null,null,null,null,null,null,null,null,null,null,null,null,null,null,null,null,null,null,null,null,null,null,null,null,null,null,null,null,null,null,null,null,null,null,null,null,null,null,null,null,null,null,null,null,0,"",0,0,0,0,0,0,0]
[null,null,null,null,null,null,null,null,null,null,null,null,null,null,null,null,null,null,null,null,null,null,null,null,null,null,null,null,null,null,null,null,null,null,null,null,null,null,null,null,null,null,null,null,null,null,null,null,null,null,null,null,0,"",0,0,0,0,0,0,0]
[null,null,null,null,null,null,null,null,null,null,null,null,null,null,null,null,null,null,null,null,null,null,null,null,null,null,null,null,null,null,null,null,null,null,null,null,null,null,null,null,null,null,null,null,null,null,null,null,null,null,null,null,0,"",0,0,0,0,0,0,0]
[null,null,null,null,null,null,null,null,null,null,null,null,null,null,null,null,null,null,null,null,null,null,null,null,null,null,null,null,null,null,null,null,null,null,null,null,null,null,null,null,null,null,null,null,null,null,null,null,null,null,null,null,0,"",0,0,0,0,0,0,0]
[null,null,null,null,null,null,null,null,null,null,null,null,null,null,null,null,null,null,null,null,null,null,null,null,null,null,null,null,null,null,null,null,null,null,null,null,null,null,null,null,null,null,null,null,null,null,null,null,null,null,null,null,0,"",0,0,0,0,0,0,0]
[null,null,null,null,null,null,null,null,null,null,null,null,null,null,null,null,null,null,null,null,null,null,null,null,null,null,null,null,null,null,null,null,null,null,null,null,null,null,null,null,null,null,null,null,null,null,null,null,null,null,null,null,0,"",0,0,0,0,0,0,0]
[null,null,null,null,null,null,null,null,null,null,null,null,null,null,null,null,null,null,null,null,null,null,null,null,null,null,null,null,null,null,null,null,null,null,null,null,null,null,null,null,null,null,null,null,null,null,null,null,null,null,null,null,0,"",0,0,0,0,0,0,0]
[null,null,null,null,null,null,null,null,null,null,null,null,null,null,null,null,null,null,null,null,null,null,null,null,null,null,null,null,null,null,null,null,null,null,null,null,null,null,null,null,null,null,null,null,null,null,null,null,null,null,null,null,0,"",0,0,0,0,0,0,0]
[null,null,null,null,null,null,null,null,null,null,null,null,null,null,null,null,null,null,null,null,null,null,null,null,null,null,null,null,null,null,null,null,null,null,null,null,null,null,null,null,null,null,null,null,null,null,null,null,null,null,null,null,0,"",0,0,0,0,0,0,0]
[null,null,null,null,null,null,null,null,null,null,null,null,null,null,null,null,null,null,null,null,null,null,null,null,null,null,null,null,null,null,null,null,null,null,null,null,null,null,null,null,null,null,null,null,null,null,null,null,null,null,null,null,0,"",0,0,0,0,0,0,0]
[null,null,null,null,null,null,null,null,null,null,null,null,null,null,null,null,null,null,null,null,null,null,null,null,null,null,null,null,null,null,null,null,null,null,null,null,null,null,null,null,null,null,null,null,null,null,null,null,null,null,null,null,0,"",0,0,0,0,0,0,0]
[null,null,null,null,null,null,null,null,null,null,null,null,null,null,null,null,null,null,null,null,null,null,null,null,null,null,null,null,null,null,null,null,null,null,null,null,null,null,null,null,null,null,null,null,null,null,null,null,null,null,null,null,0,"",0,0,0,0,0,0,0]
[null,null,null,null,null,null,null,null,null,null,null,null,null,null,null,null,null,null,null,null,null,null,null,null,null,null,null,null,null,null,null,null,null,null,null,null,null,null,null,null,null,null,null,null,null,null,null,null,null,null,null,null,0,"",0,0,0,0,0,0,0]
[null,null,null,null,null,null,null,null,null,null,null,null,null,null,null,null,null,null,null,null,null,null,null,null,null,null,null,null,null,null,null,null,null,null,null,null,null,null,null,null,null,null,null,null,null,null,null,null,null,null,null,null,0,"",0,0,0,0,0,0,0]
[null,null,null,null,null,null,null,null,null,null,null,null,null,null,null,null,null,null,null,null,null,null,null,null,null,null,null,null,null,null,null,null,null,null,null,null,null,null,null,null,null,null,null,null,null,null,null,null,null,null,null,null,0,"",0,0,0,0,0,0,0]
[null,null,null,null,null,null,null,null,null,null,null,null,null,null,null,null,null,null,null,null,null,null,null,null,null,null,null,null,null,null,null,null,null,null,null,null,null,null,null,null,null,null,null,null,null,null,null,null,null,null,null,null,0,"",0,0,0,0,0,0,0]
[null,null,null,null,null,null,null,null,null,null,null,null,null,null,null,null,null,null,null,null,null,null,null,null,null,null,null,null,null,null,null,null,null,null,null,null,null,null,null,null,null,null,null,null,null,null,null,null,null,null,null,null,0,"",0,0,0,0,0,0,0]
[null,null,null,null,null,null,null,null,null,null,null,null,null,null,null,null,null,null,null,null,null,null,null,null,null,null,null,null,null,null,null,null,null,null,null,null,null,null,null,null,null,null,null,null,null,null,null,null,null,null,null,null,0,"",0,0,0,0,0,0,0]
[null,null,null,null,null,null,null,null,null,null,null,null,null,null,null,null,null,null,null,null,null,null,null,null,null,null,null,null,null,null,null,null,null,null,null,null,null,null,null,null,null,null,null,null,null,null,null,null,null,null,null,null,0,"",0,0,0,0,0,0,0]
[null,null,null,null,null,null,null,null,null,null,null,null,null,null,null,null,null,null,null,null,null,null,null,null,null,null,null,null,null,null,null,null,null,null,null,null,null,null,null,null,null,null,null,null,null,null,null,null,null,null,null,null,0,"",0,0,0,0,0,0,0]
[null,null,null,null,null,null,null,null,null,null,null,null,null,null,null,null,null,null,null,null,null,null,null,null,null,null,null,null,null,null,null,null,null,null,null,null,null,null,null,null,null,null,null,null,null,null,null,null,null,null,null,null,0,"",0,0,0,0,0,0,0]
[null,null,null,null,null,null,null,null,null,null,null,null,null,null,null,null,null,null,null,null,null,null,null,null,null,null,null,null,null,null,null,null,null,null,null,null,null,null,null,null,null,null,null,null,null,null,null,null,null,null,null,null,0,"",0,0,0,0,0,0,0]
[null,null,null,null,null,null,null,null,null,null,null,null,null,null,null,null,null,null,null,null,null,null,null,null,null,null,null,null,null,null,null,null,null,null,null,null,null,null,null,null,null,null,null,null,null,null,null,null,null,null,null,null,0,"",0,0,0,0,0,0,0]
[null,null,null,null,null,null,null,null,null,null,null,null,null,null,null,null,null,null,null,null,null,null,null,null,null,null,null,null,null,null,null,null,null,null,null,null,null,null,null,null,null,null,null,null,null,null,null,null,null,null,null,null,0,"",0,0,0,0,0,0,0]
[null,null,null,null,null,null,null,null,null,null,null,null,null,null,null,null,null,null,null,null,null,null,null,null,null,null,null,null,null,null,null,null,null,null,null,null,null,null,null,null,null,null,null,null,null,null,null,null,null,null,null,null,0,"",0,0,0,0,0,0,0]
[null,null,null,null,null,null,null,null,null,null,null,null,null,null,null,null,null,null,null,null,null,null,null,null,null,null,null,null,null,null,null,null,null,null,null,null,null,null,null,null,null,null,null,null,null,null,null,null,null,null,null,null,0,"",0,0,0,0,0,0,0]
[null,null,null,null,null,null,null,null,null,null,null,null,null,null,null,null,null,null,null,null,null,null,null,null,null,null,null,null,null,null,null,null,null,null,null,null,null,null,null,null,null,null,null,null,null,null,null,null,null,null,null,null,0,"",0,0,0,0,0,0,0]
[null,null,null,null,null,null,null,null,null,null,null,null,null,null,null,null,null,null,null,null,null,null,null,null,null,null,null,null,null,null,null,null,null,null,null,null,null,null,null,null,null,null,null,null,null,null,null,null,null,null,null,null,0,"",0,0,0,0,0,0,0]
[null,null,null,null,null,null,null,null,null,null,null,null,null,null,null,null,null,null,null,null,null,null,null,null,null,null,null,null,null,null,null,null,null,null,null,null,null,null,null,null,null,null,null,null,null,null,null,null,null,null,null,null,0,"",0,0,0,0,0,0,0]
[null,null,null,null,null,null,null,null,null,null,null,null,null,null,null,null,null,null,null,null,null,null,null,null,null,null,null,null,null,null,null,null,null,null,null,null,null,null,null,null,null,null,null,null,null,null,null,null,null,null,null,null,0,"",0,0,0,0,0,0,0]
[null,null,null,null,null,null,null,null,null,null,null,null,null,null,null,null,null,null,null,null,null,null,null,null,null,null,null,null,null,null,null,null,null,null,null,null,null,null,null,null,null,null,null,null,null,null,null,null,null,null,null,null,0,"",0,0,0,0,0,0,0]
[null,null,null,null,null,null,null,null,null,null,null,null,null,null,null,null,null,null,null,null,null,null,null,null,null,null,null,null,null,null,null,null,null,null,null,null,null,null,null,null,null,null,null,null,null,null,null,null,null,null,null,null,0,"",0,0,0,0,0,0,0]
[null,null,null,null,null,null,null,null,null,null,null,null,null,null,null,null,null,null,null,null,null,null,null,null,null,null,null,null,null,null,null,null,null,null,null,null,null,null,null,null,null,null,null,null,null,null,null,null,null,null,null,null,0,"",0,0,0,0,0,0,0]
[null,null,null,null,null,null,null,null,null,null,null,null,null,null,null,null,null,null,null,null,null,null,null,null,null,null,null,null,null,null,null,null,null,null,null,null,null,null,null,null,null,null,null,null,null,null,null,null,null,null,null,null,0,"",0,0,0,0,0,0,0]
[null,null,null,null,null,null,null,null,null,null,null,null,null,null,null,null,null,null,null,null,null,null,null,null,null,null,null,null,null,null,null,null,null,null,null,null,null,null,null,null,null,null,null,null,null,null,null,null,null,null,null,null,0,"",0,0,0,0,0,0,0]
[null,null,null,null,null,null,null,null,null,null,null,null,null,null,null,null,null,null,null,null,null,null,null,null,null,null,null,null,null,null,null,null,null,null,null,null,null,null,null,null,null,null,null,null,null,null,null,null,null,null,null,null,0,"",0,0,0,0,0,0,0]
[null,null,null,null,null,null,null,null,null,null,null,null,null,null,null,null,null,null,null,null,null,null,null,null,null,null,null,null,null,null,null,null,null,null,null,null,null,null,null,null,null,null,null,null,null,null,null,null,null,null,null,null,0,"",0,0,0,0,0,0,0]
[null,null,null,null,null,null,null,null,null,null,null,null,null,null,null,null,null,null,null,null,null,null,null,null,null,null,null,null,null,null,null,null,null,null,null,null,null,null,null,null,null,null,null,null,null,null,null,null,null,null,null,null,0,"",0,0,0,0,0,0,0]
[null,null,null,null,null,null,null,null,null,null,null,null,null,null,null,null,null,null,null,null,null,null,null,null,null,null,null,null,null,null,null,null,null,null,null,null,null,null,null,null,null,null,null,null,null,null,null,null,null,null,null,null,0,"",0,0,0,0,0,0,0]
[null,null,null,null,null,null,null,null,null,null,null,null,null,null,null,null,null,null,null,null,null,null,null,null,null,null,null,null,null,null,null,null,null,null,null,null,null,null,null,null,null,null,null,null,null,null,null,null,null,null,null,null,0,"",0,0,0,0,0,0,0]
[null,null,null,null,null,null,null,null,null,null,null,null,null,null,null,null,null,null,null,null,null,null,null,null,null,null,null,null,null,null,null,null,null,null,null,null,null,null,null,null,null,null,null,null,null,null,null,null,null,null,null,null,0,"",0,0,0,0,0,0,0]
[null,null,null,null,null,null,null,null,null,null,null,null,null,null,null,null,null,null,null,null,null,null,null,null,null,null,null,null,null,null,null,null,null,null,null,null,null,null,null,null,null,null,null,null,null,null,null,null,null,null,null,null,0,"",0,0,0,0,0,0,0]
[null,null,null,null,null,null,null,null,null,null,null,null,null,null,null,null,null,null,null,null,null,null,null,null,null,null,null,null,null,null,null,null,null,null,null,null,null,null,null,null,null,null,null,null,null,null,null,null,null,null,null,null,0,"",0,0,0,0,0,0,0]
[null,null,null,null,null,null,null,null,null,null,null,null,null,null,null,null,null,null,null,null,null,null,null,null,null,null,null,null,null,null,null,null,null,null,null,null,null,null,null,null,null,null,null,null,null,null,null,null,null,null,null,null,0,"",0,0,0,0,0,0,0]
[null,null,null,null,null,null,null,null,null,null,null,null,null,null,null,null,null,null,null,null,null,null,null,null,null,null,null,null,null,null,null,null,null,null,null,null,null,null,null,null,null,null,null,null,null,null,null,null,null,null,null,null,0,"",0,0,0,0,0,0,0]
[null,null,null,null,null,null,null,null,null,null,null,null,null,null,null,null,null,null,null,null,null,null,null,null,null,null,null,null,null,null,null,null,null,null,null,null,null,null,null,null,null,null,null,null,null,null,null,null,null,null,null,null,0,"",0,0,0,0,0,0,0]
[null,null,null,null,null,null,null,null,null,null,null,null,null,null,null,null,null,null,null,null,null,null,null,null,null,null,null,null,null,null,null,null,null,null,null,null,null,null,null,null,null,null,null,null,null,null,null,null,null,null,null,null,{"$f":"A1240","v":0},{"$f":"B1240&C1240","v":""},{"$f":"C1240","v":0},{"$f":"D1240","v":0},{"$f":"E1240","v":0},{"$f":"F1240","v":0},{"$f":"G1240","v":0},{"$f":"H1240","v":0},{"$f":"I1240","v":0}]
[null,null,null,null,null,null,null,null,null,null,null,null,null,null,null,null,null,null,null,null,null,null,null,null,null,null,null,null,null,null,null,null,null,null,null,null,null,null,null,null,null,null,null,null,null,null,null,null,null,null,null,null,0,"",0,0,0,0,0,0,0]
[null,null,null,null,null,null,null,null,null,null,null,null,null,null,null,null,null,null,null,null,null,null,null,null,null,null,null,null,null,null,null,null,null,null,null,null,null,null,null,null,null,null,null,null,null,null,null,null,null,null,null,null,0,"",0,0,0,0,0,0,0]
[null,null,null,null,null,null,null,null,null,null,null,null,null,null,null,null,null,null,null,null,null,null,null,null,null,null,null,null,null,null,null,null,null,null,null,null,null,null,null,null,null,null,null,null,null,null,null,null,null,null,null,null,0,"",0,0,0,0,0,0,0]
[null,null,null,null,null,null,null,null,null,null,null,null,null,null,null,null,null,null,null,null,null,null,null,null,null,null,null,null,null,null,null,null,null,null,null,null,null,null,null,null,null,null,null,null,null,null,null,null,null,null,null,null,0,"",0,0,0,0,0,0,0]
[null,null,null,null,null,null,null,null,null,null,null,null,null,null,null,null,null,null,null,null,null,null,null,null,null,null,null,null,null,null,null,null,null,null,null,null,null,null,null,null,null,null,null,null,null,null,null,null,null,null,null,null,0,"",0,0,0,0,0,0,0]
[null,null,null,null,null,null,null,null,null,null,null,null,null,null,null,null,null,null,null,null,null,null,null,null,null,null,null,null,null,null,null,null,null,null,null,null,null,null,null,null,null,null,null,null,null,null,null,null,null,null,null,null,0,"",0,0,0,0,0,0,0]
[null,null,null,null,null,null,null,null,null,null,null,null,null,null,null,null,null,null,null,null,null,null,null,null,null,null,null,null,null,null,null,null,null,null,null,null,null,null,null,null,null,null,null,null,null,null,null,null,null,null,null,null,0,"",0,0,0,0,0,0,0]
[null,null,null,null,null,null,null,null,null,null,null,null,null,null,null,null,null,null,null,null,null,null,null,null,null,null,null,null,null,null,null,null,null,null,null,null,null,null,null,null,null,null,null,null,null,null,null,null,null,null,null,null,0,"",0,0,0,0,0,0,0]
[null,null,null,null,null,null,null,null,null,null,null,null,null,null,null,null,null,null,null,null,null,null,null,null,null,null,null,null,null,null,null,null,null,null,null,null,null,null,null,null,null,null,null,null,null,null,null,null,null,null,null,null,0,"",0,0,0,0,0,0,0]
[null,null,null,null,null,null,null,null,null,null,null,null,null,null,null,null,null,null,null,null,null,null,null,null,null,null,null,null,null,null,null,null,null,null,null,null,null,null,null,null,null,null,null,null,null,null,null,null,null,null,null,null,0,"",0,0,0,0,0,0,0]
[null,null,null,null,null,null,null,null,null,null,null,null,null,null,null,null,null,null,null,null,null,null,null,null,null,null,null,null,null,null,null,null,null,null,null,null,null,null,null,null,null,null,null,null,null,null,null,null,null,null,null,null,0,"",0,0,0,0,0,0,0]
[null,null,null,null,null,null,null,null,null,null,null,null,null,null,null,null,null,null,null,null,null,null,null,null,null,null,null,null,null,null,null,null,null,null,null,null,null,null,null,null,null,null,null,null,null,null,null,null,null,null,null,null,0,"",0,0,0,0,0,0,0]
[null,null,null,null,null,null,null,null,null,null,null,null,null,null,null,null,null,null,null,null,null,null,null,null,null,null,null,null,null,null,null,null,null,null,null,null,null,null,null,null,null,null,null,null,null,null,null,null,null,null,null,null,0,"",0,0,0,0,0,0,0]
[null,null,null,null,null,null,null,null,null,null,null,null,null,null,null,null,null,null,null,null,null,null,null,null,null,null,null,null,null,null,null,null,null,null,null,null,null,null,null,null,null,null,null,null,null,null,null,null,null,null,null,null,0,"",0,0,0,0,0,0,0]
[null,null,null,null,null,null,null,null,null,null,null,null,null,null,null,null,null,null,null,null,null,null,null,null,null,null,null,null,null,null,null,null,null,null,null,null,null,null,null,null,null,null,null,null,null,null,null,null,null,null,null,null,0,"",0,0,0,0,0,0,0]
[null,null,null,null,null,null,null,null,null,null,null,null,null,null,null,null,null,null,null,null,null,null,null,null,null,null,null,null,null,null,null,null,null,null,null,null,null,null,null,null,null,null,null,null,null,null,null,null,null,null,null,null,0,"",0,0,0,0,0,0,0]
[null,null,null,null,null,null,null,null,null,null,null,null,null,null,null,null,null,null,null,null,null,null,null,null,null,null,null,null,null,null,null,null,null,null,null,null,null,null,null,null,null,null,null,null,null,null,null,null,null,null,null,null,0,"",0,0,0,0,0,0,0]
[null,null,null,null,null,null,null,null,null,null,null,null,null,null,null,null,null,null,null,null,null,null,null,null,null,null,null,null,null,null,null,null,null,null,null,null,null,null,null,null,null,null,null,null,null,null,null,null,null,null,null,null,0,"",0,0,0,0,0,0,0]
[null,null,null,null,null,null,null,null,null,null,null,null,null,null,null,null,null,null,null,null,null,null,null,null,null,null,null,null,null,null,null,null,null,null,null,null,null,null,null,null,null,null,null,null,null,null,null,null,null,null,null,null,0,"",0,0,0,0,0,0,0]
[null,null,null,null,null,null,null,null,null,null,null,null,null,null,null,null,null,null,null,null,null,null,null,null,null,null,null,null,null,null,null,null,null,null,null,null,null,null,null,null,null,null,null,null,null,null,null,null,null,null,null,null,0,"",0,0,0,0,0,0,0]
[null,null,null,null,null,null,null,null,null,null,null,null,null,null,null,null,null,null,null,null,null,null,null,null,null,null,null,null,null,null,null,null,null,null,null,null,null,null,null,null,null,null,null,null,null,null,null,null,null,null,null,null,0,"",0,0,0,0,0,0,0]
[null,null,null,null,null,null,null,null,null,null,null,null,null,null,null,null,null,null,null,null,null,null,null,null,null,null,null,null,null,null,null,null,null,null,null,null,null,null,null,null,null,null,null,null,null,null,null,null,null,null,null,null,0,"",0,0,0,0,0,0,0]
[null,null,null,null,null,null,null,null,null,null,null,null,null,null,null,null,null,null,null,null,null,null,null,null,null,null,null,null,null,null,null,null,null,null,null,null,null,null,null,null,null,null,null,null,null,null,null,null,null,null,null,null,0,"",0,0,0,0,0,0,0]
[null,null,null,null,null,null,null,null,null,null,null,null,null,null,null,null,null,null,null,null,null,null,null,null,null,null,null,null,null,null,null,null,null,null,null,null,null,null,null,null,null,null,null,null,null,null,null,null,null,null,null,null,0,"",0,0,0,0,0,0,0]
[null,null,null,null,null,null,null,null,null,null,null,null,null,null,null,null,null,null,null,null,null,null,null,null,null,null,null,null,null,null,null,null,null,null,null,null,null,null,null,null,null,null,null,null,null,null,null,null,null,null,null,null,0,"",0,0,0,0,0,0,0]
[null,null,null,null,null,null,null,null,null,null,null,null,null,null,null,null,null,null,null,null,null,null,null,null,null,null,null,null,null,null,null,null,null,null,null,null,null,null,null,null,null,null,null,null,null,null,null,null,null,null,null,null,0,"",0,0,0,0,0,0,0]
[null,null,null,null,null,null,null,null,null,null,null,null,null,null,null,null,null,null,null,null,null,null,null,null,null,null,null,null,null,null,null,null,null,null,null,null,null,null,null,null,null,null,null,null,null,null,null,null,null,null,null,null,0,"",0,0,0,0,0,0,0]
[null,null,null,null,null,null,null,null,null,null,null,null,null,null,null,null,null,null,null,null,null,null,null,null,null,null,null,null,null,null,null,null,null,null,null,null,null,null,null,null,null,null,null,null,null,null,null,null,null,null,null,null,0,"",0,0,0,0,0,0,0]
[null,null,null,null,null,null,null,null,null,null,null,null,null,null,null,null,null,null,null,null,null,null,null,null,null,null,null,null,null,null,null,null,null,null,null,null,null,null,null,null,null,null,null,null,null,null,null,null,null,null,null,null,0,"",0,0,0,0,0,0,0]
[null,null,null,null,null,null,null,null,null,null,null,null,null,null,null,null,null,null,null,null,null,null,null,null,null,null,null,null,null,null,null,null,null,null,null,null,null,null,null,null,null,null,null,null,null,null,null,null,null,null,null,null,0,"",0,0,0,0,0,0,0]
[null,null,null,null,null,null,null,null,null,null,null,null,null,null,null,null,null,null,null,null,null,null,null,null,null,null,null,null,null,null,null,null,null,null,null,null,null,null,null,null,null,null,null,null,null,null,null,null,null,null,null,null,0,"",0,0,0,0,0,0,0]
[null,null,null,null,null,null,null,null,null,null,null,null,null,null,null,null,null,null,null,null,null,null,null,null,null,null,null,null,null,null,null,null,null,null,null,null,null,null,null,null,null,null,null,null,null,null,null,null,null,null,null,null,0,"",0,0,0,0,0,0,0]
[null,null,null,null,null,null,null,null,null,null,null,null,null,null,null,null,null,null,null,null,null,null,null,null,null,null,null,null,null,null,null,null,null,null,null,null,null,null,null,null,null,null,null,null,null,null,null,null,null,null,null,null,0,"",0,0,0,0,0,0,0]
[null,null,null,null,null,null,null,null,null,null,null,null,null,null,null,null,null,null,null,null,null,null,null,null,null,null,null,null,null,null,null,null,null,null,null,null,null,null,null,null,null,null,null,null,null,null,null,null,null,null,null,null,0,"",0,0,0,0,0,0,0]
[null,null,null,null,null,null,null,null,null,null,null,null,null,null,null,null,null,null,null,null,null,null,null,null,null,null,null,null,null,null,null,null,null,null,null,null,null,null,null,null,null,null,null,null,null,null,null,null,null,null,null,null,0,"",0,0,0,0,0,0,0]
[null,null,null,null,null,null,null,null,null,null,null,null,null,null,null,null,null,null,null,null,null,null,null,null,null,null,null,null,null,null,null,null,null,null,null,null,null,null,null,null,null,null,null,null,null,null,null,null,null,null,null,null,0,"",0,0,0,0,0,0,0]
[null,null,null,null,null,null,null,null,null,null,null,null,null,null,null,null,null,null,null,null,null,null,null,null,null,null,null,null,null,null,null,null,null,null,null,null,null,null,null,null,null,null,null,null,null,null,null,null,null,null,null,null,0,"",0,0,0,0,0,0,0]
[null,null,null,null,null,null,null,null,null,null,null,null,null,null,null,null,null,null,null,null,null,null,null,null,null,null,null,null,null,null,null,null,null,null,null,null,null,null,null,null,null,null,null,null,null,null,null,null,null,null,null,null,0,"",0,0,0,0,0,0,0]
[null,null,null,null,null,null,null,null,null,null,null,null,null,null,null,null,null,null,null,null,null,null,null,null,null,null,null,null,null,null,null,null,null,null,null,null,null,null,null,null,null,null,null,null,null,null,null,null,null,null,null,null,0,"",0,0,0,0,0,0,0]

{"sheet":"Результат","index":9,"n_rows":106,"n_cols":156,"rows_kept":106,"cut":false,"hidden":true,"merged":[[3,9,3,10],[3,16,3,17],[3,95,3,97],[0,9,1,15],[0,16,1,22],[0,26,0,27],[0,28,0,29],[0,30,0,31],[1,24,1,25],[1,95,2,95],[1,96,2,96],[1,97,2,97],[2,9,2,10],[2,16,2,17],[4,9,4,10],[4,16,4,17],[6,32,7,33],[6,34,7,34],[6,35,7,35],[6,37,7,37],[6,38,7,38],[7,13,7,18],[8,9,9,22],[10,9,11,15],[10,16,11,22],[6,36,7,36],[23,10,24,13],[23,14,24,17],[23,18,24,21],[12,10,13,14],[12,17,13,21],[14,10,15,14],[14,17,15,21],[16,10,17,14],[16,17,17,21],[18,10,19,14],[18,17,19,21],[20,10,21,14],[20,17,21,21],[22,12,22,19],[80,67,80,71],[25,12,25,19],[26,15,26,16],[27,15,27,16],[28,14,29,17],[58,49,58,50],[58,63,58,65],[83,2,83,5],[59,49,59,50],[59,63,59,65],[60,49,60,50],[60,63,60,65],[80,52,80,56]]}
[null,null,null,{"$f":"IF(COUNTIF(D2:D16,D2)>COUNTIF(E2:E16,E2),D2,E2)","v":"Everton"},null,null,null,null,null,{"$f":"D1","v":"Everton"},null,null,null,null,null,null,{"$f":"D17","v":"Colo Colo"},null,null,null,null,null,null,null,null,null,"Дома/Гости",null,"Общие",null,"Очные",null,null,null,null,null,null,null,null,null,null,null,null,null,null,null,null,null,null,null,null,null,null,null,null,null,null,{"$f":"VLOOKUP(J11,Лист4!A:B,2,FALSE)","v":"CHILE: Primera Division"},null,null,null,null,null,null,null,null,null,null,null,null,null,null,null,null,null,"п","н","в",null,null,null,"-","ср","+",null,{"$f":"ROUND(CH2,0)","v":1},null,null,null,null,null,null,null,null,null,null,null,null,null,null,null,null,null,null,null,null,null,null,null,null,null,null,null,"Забивает","Пропускает",null,"ТОТАЛ",null,null,null,null,{"$f":"DS1","v":1},{"$f":"ROUND(DS2,0)","v":1},null,"-","ср","+",null,{"$f":"ROUND(DY2,0)","v":1},null,null,null,"Очки"]
[null,{"$f":"IF(ДомаДома!B2=\"\",\"\",ДомаДома!B2)","v":"2021.03.27 21:00"},{"$f":"IF(ДомаДома!A2=\"\",\"\",ДомаДома!A2)","v":"CHILE: Primera Division"},{"$f":"IF(ДомаДома!C2=\"\",\"\",ДомаДома!C2)","v":"Everton"},{"$f":"IF(ДомаДома!D2=\"\",\"\",ДомаДома!D2)","v":"O'Higgins"},{"$f":"IF(ДомаДома!N2=\"\",\"\",CONCATENATE(ДомаДома!L2,\" : \",ДомаДома!M2))","v":"1 : 1"},{"$f":"VALUE(LEFT(F2,FIND(\":\",F2,1)-1))","v":1},{"$f":"VALUE(LEFT(RIGHT(F2,LEN(F2)-FIND(\":\",F2,1)),4))","v":1},null,null,null,null,null,null,null,null,null,null,null,null,null,null,null,null,"ЛИНИЯ БК",null,"ТБ","ТМ","ТБ","ТМ","ТБ","ТМ",null,null,null,null,null,null,null,null,null,null,null,null,null,null,null,null,null,null,null,null,null,null,null,null,null,null,null,null,null,null,null,null,null,null,null,null,null,null,null,null,null,null,null,null,null,null,null,null,{"$f":"AVEDEV(DB2:DB6)","v":0.31999999999999995},{"$f":"CE2-CC2","v":0.88},{"$f":"AVERAGE(DB2:DB6)","v":1.2},{"$f":"CE2+CC2","v":1.52},{"$f":"DB2","v":1},{"$f":"SUM(CG2:CG12)/11","v":1.3636363636363635},1,{"$f":"CG12","v":1},null,null,null,null,null,null,null,null,null,null,null,null,null,null,null,null,null,{"$f":"IF(D2=$D$1,G2,H2)","v":1},{"$f":"IF($Z$3<DB2,1,\"\")","v":""},null,{"$f":"G2+H2","v":2},{"$f":"IF($Z$6<DE2,1,\"\")","v":""},{"$f":"G30+H30","v":3},{"$f":"IF($Z$6<DG2,1,\"\")","v":""},"15матчей",{"$f":"IF(D2=$D$1,G2,H2)","v":1},{"$f":"IF(D2=$D$1,H2,G2)","v":1},"15матчей",{"$f":"DJ2+DJ30","v":2},null,{"$f":"DM17","v":3},{"$f":"DJ17","v":1},null,{"$f":"DK2","v":1},{"$f":"SUM(DR2:DR16)/15","v":1},{"$f":"AVEDEV(DR2:DR6)","v":0.8},{"$f":"DV2-DT2","v":0.19999999999999996},{"$f":"AVERAGE(DR2:DR6)","v":1},{"$f":"DV2+DT2","v":1.8},{"$f":"DR2","v":1},{"$f":"SUM(DX2:DX12)/11","v":1},1,{"$f":"DX12","v":1},null,{"$f":"IF(OR(DJ2=\"\",DK2=\"\"),\"\",IF(DJ2>DK2,2,IF(DJ2<DK2,0,1)))","v":1},{"$f":"IF(EC2=\"\",\"\",IF(EC2=1,\"Н\",IF(EC2=0,\"П\",IF(EC2=2,\"В\"))))","v":"Н"},1,{"$f":"TREND(DJ2:DJ16,EE2:EE16,EE17)","v":0.86666666666666659},null,{"$f":"TREND(DK2:DK16,EE2:EE16,EE17)","v":0.88571428571428579}]
[null,{"$f":"IF(ДомаДома!B3=\"\",\"\",ДомаДома!B3)","v":"2021.02.14 15:30"},{"$f":"IF(ДомаДома!A3=\"\",\"\",ДомаДома!A3)","v":"CHILE: Primera Division"},{"$f":"IF(ДомаДома!C3=\"\",\"\",ДомаДома!C3)","v":"Everton"},{"$f":"IF(ДомаДома!D3=\"\",\"\",ДомаДома!D3)","v":"Huachipato"},{"$f":"IF(ДомаДома!N3=\"\",\"\",CONCATENATE(ДомаДома!L3,\" : \",ДомаДома!M3))","v":"1 : 0"},{"$f":"VALUE(LEFT(F3,FIND(\":\",F3,1)-1))","v":1},{"$f":"VALUE(LEFT(RIGHT(F3,LEN(F3)-FIND(\":\",F3,1)),4))","v":0},null,"Дома",null,{"$f":"ED2","v":"Н"},{"$f":"ED3","v":"В"},{"$f":"ED4","v":"П"},{"$f":"ED5","v":"В"},{"$f":"ED6","v":"В"},"В Гостях",null,{"$f":"ED30","v":"П"},{"$f":"ED31","v":"В"},{"$f":"ED32","v":"Н"},{"$f":"ED33","v":"Н"},{"$f":"ED34","v":"Н"},null,"ИТ1",1,{"$f":"COUNTIF(DC2:DC16,1)/15","v":0.33333333333333331},{"$f":"1-AA3","v":0.66666666666666674},{"$f":"COUNTIF(DC53:DC67,1)/15","v":0.26666666666666666},{"$f":"1-AC3","v":0.73333333333333339},{"$f":"COUNTIF(DE85:DE99,1)/15","v":0.33333333333333331},{"$f":"1-AE3","v":0.66666666666666674},null,null,null,null,null,null,null,null,null,null,null,null,null,null,null,null,null,null,null,null,null,null,null,null,null,{"$f":"O27&\"/\"&R27","v":"1/-2"},null,{"$f":"O28&\"/\"&R28","v":"1/-2"},null,null,null,null,null,null,null,null,null,null,null,null,null,null,null,null,null,null,null,null,{"$f":"AVEDEV(DB3:DB7)","v":0.72},{"$f":"CE3-CC3","v":0.88000000000000012},{"$f":"AVERAGE(DB3:DB7)","v":1.6},{"$f":"CE3+CC3","v":2.3200000000000003},{"$f":"DB3","v":1},null,2,{"$f":"CG11","v":0},null,null,null,null,null,null,null,null,null,null,null,null,null,null,null,null,null,{"$f":"IF(D3=$D$1,G3,H3)","v":1},"",null,1,"",6,1,"СРЗаб",{"$f":"IF(D3=$D$1,G3,H3)","v":1},0,"СрПроп",{"$f":"DJ3+DJ31","v":5},null,{"$f":"DM2","v":2},{"$f":"DJ2","v":1},null,{"$f":"DK3","v":0},null,{"$f":"AVEDEV(DR3:DR7)","v":0.96},{"$f":"DV3-DT3","v":-0.15999999999999992},{"$f":"AVERAGE(DR3:DR7)","v":0.8},{"$f":"DV3+DT3","v":1.76},{"$f":"DR3","v":0},null,2,{"$f":"DX11","v":1},null,{"$f":"IF(OR(DJ3=\"\",DK3=\"\"),\"\",IF(DJ3>DK3,2,IF(DJ3<DK3,0,1)))","v":2},{"$f":"IF(EC3=\"\",\"\",IF(EC3=1,\"Н\",IF(EC3=0,\"П\",IF(EC3=2,\"В\"))))","v":"В"},2,{"$f":"ROUND(EF2,0)","v":1},null,{"$f":"ROUND(EH2,0)","v":1}]
[null,{"$f":"IF(ДомаДома!B4=\"\",\"\",ДомаДома!B4)","v":"2021.02.06 22:00"},{"$f":"IF(ДомаДома!A4=\"\",\"\",ДомаДома!A4)","v":"CHILE: Primera Division"},{"$f":"IF(ДомаДома!C4=\"\",\"\",ДомаДома!C4)","v":"Everton"},{"$f":"IF(ДомаДома!D4=\"\",\"\",ДомаДома!D4)","v":"Palestino"},{"$f":"IF(ДомаДома!N4=\"\",\"\",CONCATENATE(ДомаДома!L4,\" : \",ДомаДома!M4))","v":"1 : 3"},1,3,null,"Общие",null,{"$f":"ED53","v":"Н"},{"$f":"ED54","v":"П"},{"$f":"ED55","v":"Н"},{"$f":"ED56","v":"В"},{"$f":"ED57","v":"В"},"Общие",null,{"$f":"ED69","v":"П"},{"$f":"ED70","v":"П"},{"$f":"ED71","v":"Н"},{"$f":"ED72","v":"В"},{"$f":"ED73","v":"В"},null,"ИТ2",1,{"$f":"COUNTIF(DC30:DC44,1)/15","v":0.46666666666666667},{"$f":"1-AA4","v":0.53333333333333333},{"$f":"COUNTIF(DC69:DC83,1)/15","v":0.26666666666666666},{"$f":"1-AC4","v":0.73333333333333339},{"$f":"COUNTIF(DG85:DG99,1)/15","v":0.73333333333333328},{"$f":"1-AE4","v":0.26666666666666672},null,null,null,null,null,null,null,null,null,null,null,null,null,null,null,null,null,null,null,null,null,null,null,null,null,null,null,null,null,null,null,null,null,null,null,null,null,null,null,null,null,null,null,null,null,null,null,null,0.72,0.88000000000000012,1.6,2.3200000000000003,{"$f":"DB4","v":1},null,3,{"$f":"CG10","v":1},null,null,null,null,null,null,null,null,null,null,null,null,null,null,{"$f":"$Z$3","v":1},{"$f":"$Z$4","v":1},{"$f":"$Z$6","v":3},1,"",null,4,1,2,"",{"$f":"SUM(DJ2:DJ16)/15","v":1.2666666666666666},{"$f":"IF(D4=$D$1,G4,H4)","v":1},3,{"$f":"SUM(DK2:DK16)/15","v":1},2,null,{"$f":"DM3","v":5},{"$f":"DJ3","v":1},null,3,null,1.04,0.15999999999999992,{"$f":"AVERAGE(DR4:DR8)","v":1.2},2.2400000000000002,3,null,3,{"$f":"DX10","v":1},null,0,"П",3]
[null,{"$f":"IF(ДомаДома!B5=\"\",\"\",ДомаДома!B5)","v":"2021.01.14 22:00"},{"$f":"IF(ДомаДома!A5=\"\",\"\",ДомаДома!A5)","v":"CHILE: Primera Division"},{"$f":"IF(ДомаДома!C5=\"\",\"\",ДомаДома!C5)","v":"Everton"},{"$f":"IF(ДомаДома!D5=\"\",\"\",ДомаДома!D5)","v":"A. Italiano"},{"$f":"IF(ДомаДома!N5=\"\",\"\",CONCATENATE(ДомаДома!L5,\" : \",ДомаДома!M5))","v":"2 : 1"},2,1,null,"Очные",null,{"$f":"EX85","v":"П"},{"$f":"EX86","v":"Н"},{"$f":"EX87","v":"П"},{"$f":"EX88","v":"П"},{"$f":"EX89","v":"Н"},"Очные",null,{"$f":"EZ85","v":"В"},{"$f":"EZ86","v":"Н"},{"$f":"EZ87","v":"В"},{"$f":"EZ88","v":"В"},{"$f":"EZ89","v":"Н"},null,null,null,null,null,null,null,null,null,null,null,null,null,null,null,null,null,null,null,null,null,null,null,null,null,null,null,null,null,null,null,null,null,null,{"$f":"Лист3!Q23","v":"0-3"},{"$f":"Лист3!W23","v":"0-3"},{"$f":"Лист3!I21","v":1.0428571428571429},{"$f":"Лист3!K21","v":1.157142857142857},{"$f":"Лист3!M21","v":2.2000000000000002},null,null,null,null,null,null,null,null,null,null,null,null,null,null,null,null,null,null,0.8,1.2,2,2.8,2,null,4,{"$f":"CG9","v":3},null,null,null,null,null,null,null,null,null,null,null,null,null,null,1,1,3,2,1,null,3,"",0,"","5матчей",2,1,"5матчей",2,null,2,1,null,1,null,0.64,0.16000000000000003,{"$f":"AVERAGE(DR5:DR9)","v":0.8},1.44,1,null,4,{"$f":"DX9","v":1},null,2,"В",4]
[null,{"$f":"IF(ДомаДома!B6=\"\",\"\",ДомаДома!B6)","v":"2021.01.02 22:00"},{"$f":"IF(ДомаДома!A6=\"\",\"\",ДомаДома!A6)","v":"CHILE: Primera Division"},{"$f":"IF(ДомаДома!C6=\"\",\"\",ДомаДома!C6)","v":"Everton"},{"$f":"IF(ДомаДома!D6=\"\",\"\",ДомаДома!D6)","v":"Deportes Iquique"},{"$f":"IF(ДомаДома!N6=\"\",\"\",CONCATENATE(ДомаДома!L6,\" : \",ДомаДома!M6))","v":"1 : 0"},1,0,null,null,null,null,null,null,null,null,null,null,null,null,null,null,null,null,"TOTAL",3,{"$f":"(COUNTIF(DF2:DF16,1)+COUNTIF(DH2:DH16,1))/30","v":0.26666666666666666},{"$f":"1-AA6","v":0.73333333333333339},{"$f":"(COUNTIF(DF53:DF67,1)+COUNTIF(DH53:DH67,1))/30","v":6.6666666666666666E-2},{"$f":"1-AC6","v":0.93333333333333335},{"$f":"COUNTIF(DI85:DI99,1)/15","v":0.46666666666666667},{"$f":"1-AE6","v":0.53333333333333333},null,null,null,null,null,null,null,null,null,null,null,null,null,null,null,null,null,null,null,null,null,null,null,null,null,null,null,null,null,null,null,null,null,null,null,null,null,null,null,null,null,null,null,null,null,null,null,null,0.96,0.84000000000000008,1.8,2.76,1,null,5,{"$f":"CG8","v":1},null,null,null,null,null,null,null,null,null,null,null,null,null,null,1,1,3,1,"",null,1,"",2,"","СРЗаб",1,0,"СрПроп",2,null,2,2,null,0,null,0.64,0.16000000000000003,0.8,1.44,0,null,5,{"$f":"DX8","v":2},null,2,"В",5]
[null,{"$f":"IF(ДомаДома!B7=\"\",\"\",ДомаДома!B7)","v":"2020.12.22 15:30"},{"$f":"IF(ДомаДома!A7=\"\",\"\",ДомаДома!A7)","v":"CHILE: Primera Division"},{"$f":"IF(ДомаДома!C7=\"\",\"\",ДомаДома!C7)","v":"Everton"},{"$f":"IF(ДомаДома!D7=\"\",\"\",ДомаДома!D7)","v":"Cobresal"},{"$f":"IF(ДомаДома!N7=\"\",\"\",CONCATENATE(ДомаДома!L7,\" : \",ДомаДома!M7))","v":"3 : 0"},3,0,null,null,null,null,null,null,null,null,null,null,null,null,null,null,null,null,null,null,null,null,null,null,null,null,null,null,null,null,null,null,null,null,null,null,null,null,null,null,null,null,null,null,null,null,null,null,null,null,null,{"$f":"IF(AZ44=BO44,AZ44,\"-\")","v":"К1"},null,null,null,null,null,null,null,null,null,null,null,null,null,null,null,null,null,null,null,null,null,null,1.1199999999999999,0.4800000000000002,1.6,2.7199999999999998,3,null,6,{"$f":"CG7","v":3},null,null,null,null,null,null,null,null,null,null,null,null,null,null,1,1,3,3,1,null,3,"",3,"",{"$f":"SUM(DJ2:DJ6)/5","v":1.2},3,0,{"$f":"SUM(DK2:DK6)/5","v":1},6,null,2,1,null,0,null,0.4,0.6,1,1.4,0,null,6,{"$f":"DX7","v":0},null,2,"В",6]
[null,{"$f":"IF(ДомаДома!B8=\"\",\"\",ДомаДома!B8)","v":"2020.12.17 01:30"},{"$f":"IF(ДомаДома!A8=\"\",\"\",ДомаДома!A8)","v":"CHILE: Primera Division"},{"$f":"IF(ДомаДома!C8=\"\",\"\",ДомаДома!C8)","v":"Everton"},{"$f":"IF(ДомаДома!D8=\"\",\"\",ДомаДома!D8)","v":"U. Espanola"},{"$f":"IF(ДомаДома!N8=\"\",\"\",CONCATENATE(ДомаДома!L8,\" : \",ДомаДома!M8))","v":"1 : 2"},1,2,null,null,null,null,null,{"$f":"Расчеты!D126","v":"2021.04.18 21:00"},null,null,null,null,null,null,null,null,null,null,null,null,null,null,null,null,null,null,null,null,null,null,null,null,null,null,null,null,null,null,null,null,null,null,null,null,null,null,null,null,null,null,null,{"$f":"Лист3!S24","v":"0-6"},null,null,null,null,null,null,null,null,null,null,null,null,null,null,null,null,null,null,null,null,null,null,0.72000000000000008,0.47999999999999987,1.2,1.92,1,null,7,{"$f":"CG6","v":1},null,null,null,null,null,null,null,null,null,null,null,null,null,null,1,1,3,1,"",null,3,"",1,"",null,1,2,null,1,null,6,3,null,2,null,0.31999999999999995,0.88,1.2,1.52,2,null,7,{"$f":"DX6","v":0},null,0,"П",7]
[null,{"$f":"IF(ДомаДома!B9=\"\",\"\",ДомаДома!B9)","v":"2020.12.11 02:30"},{"$f":"IF(ДомаДома!A9=\"\",\"\",ДомаДома!A9)","v":"CHILE: Primera Division"},{"$f":"IF(ДомаДома!C9=\"\",\"\",ДомаДома!C9)","v":"Everton"},{"$f":"IF(ДомаДома!D9=\"\",\"\",ДомаДома!D9)","v":"Curico Unido"},{"$f":"IF(ДомаДома!N9=\"\",\"\",CONCATENATE(ДомаДома!L9,\" : \",ДомаДома!M9))","v":"3 : 1"},3,1,null,{"$f":"Расчеты!C126","v":"CHILE: Primera Division"},null,null,null,null,null,null,null,null,null,null,null,null,null,null,null,null,null,null,null,null,null,null,null,null,null,null,null,null,null,null,null,null,null,null,null,null,null,null,null,null,null,null,null,null,null,null,null,null,null,null,null,null,null,null,null,null,null,null,null,null,null,null,null,null,null,null,null,null,null,null,0.88000000000000012,0.5199999999999998,1.4,2.2800000000000002,3,null,8,{"$f":"CG5","v":2},null,null,null,null,null,null,null,null,null,null,null,null,null,null,1,1,3,3,1,null,4,1,0,"",null,3,1,null,3,null,1,1,null,1,null,0.31999999999999995,0.88,1.2,1.52,1,null,8,{"$f":"DX5","v":1},null,2,"В",8]
[null,{"$f":"IF(ДомаДома!B10=\"\",\"\",ДомаДома!B10)","v":"2020.11.23 00:15"},{"$f":"IF(ДомаДома!A10=\"\",\"\",ДомаДома!A10)","v":"CHILE: Primera Division"},{"$f":"IF(ДомаДома!C10=\"\",\"\",ДомаДома!C10)","v":"Everton"},{"$f":"IF(ДомаДома!D10=\"\",\"\",ДомаДома!D10)","v":"U. De Chile"},{"$f":"IF(ДомаДома!N10=\"\",\"\",CONCATENATE(ДомаДома!L10,\" : \",ДомаДома!M10))","v":"1 : 1"},1,1,null,null,null,null,null,null,null,null,null,null,null,null,null,null,null,null,null,null,null,null,null,null,null,null,null,null,null,null,null,null,null,null,null,null,null,null,null,null,null,null,null,null,null,null,null,null,null,null,null,null,null,null,null,null,null,null,null,null,null,null,null,null,null,null,null,null,null,null,null,null,null,null,0.64,0.55999999999999994,1.2,1.8399999999999999,1,null,9,{"$f":"CG4","v":1},null,null,null,null,null,null,null,null,null,null,null,null,null,null,1,1,3,1,"",null,2,"",3,"",null,1,1,null,2,null,3,3,null,1,null,0.48,0.91999999999999993,1.4,1.88,1,null,9,{"$f":"DX4","v":3},null,1,"Н",9]
[null,{"$f":"IF(ДомаДома!B11=\"\",\"\",ДомаДома!B11)","v":"2020.11.13 18:30"},{"$f":"IF(ДомаДома!A11=\"\",\"\",ДомаДома!A11)","v":"CHILE: Primera Division"},{"$f":"IF(ДомаДома!C11=\"\",\"\",ДомаДома!C11)","v":"Everton"},{"$f":"IF(ДомаДома!D11=\"\",\"\",ДомаДома!D11)","v":"O'Higgins"},{"$f":"IF(ДомаДома!N11=\"\",\"\",CONCATENATE(ДомаДома!L11,\" : \",ДомаДома!M11))","v":"0 : 1"},0,1,null,{"$f":"AX60","v":"Everton"},null,null,null,null,null,null,{"$f":"AX61","v":"Colo Colo"},null,null,null,null,null,null,null,null,null,null,null,null,null,null,null,null,null,null,null,null,null,null,null,null,null,null,null,null,null,null,null,null,null,null,null,null,null,null,null,null,null,null,null,null,null,null,null,null,null,null,null,null,null,null,null,null,null,null,null,null,null,null,null,0.8,0.19999999999999996,1,1.8,0,null,10,{"$f":"CG3","v":1},null,null,null,null,null,null,null,null,null,null,null,null,null,null,1,1,3,0,"",null,1,"",4,1,null,0,1,null,2,null,2,1,null,1,null,0.64,0.55999999999999994,1.2,1.8399999999999999,1,null,10,{"$f":"DX3","v":0},null,0,"П",10]
[null,{"$f":"IF(ДомаДома!B12=\"\",\"\",ДомаДома!B12)","v":"2020.10.28 21:00"},{"$f":"IF(ДомаДома!A12=\"\",\"\",ДомаДома!A12)","v":"CHILE: Primera Division"},{"$f":"IF(ДомаДома!C12=\"\",\"\",ДомаДома!C12)","v":"Everton"},{"$f":"IF(ДомаДома!D12=\"\",\"\",ДомаДома!D12)","v":"Colo Colo"},{"$f":"IF(ДомаДома!N12=\"\",\"\",CONCATENATE(ДомаДома!L12,\" : \",ДомаДома!M12))","v":"1 : 1"},1,1,null,null,null,null,null,null,null,null,null,null,null,null,null,null,null,null,null,null,null,null,null,null,null,null,null,null,null,null,null,null,null,null,null,null,null,null,null,null,null,null,null,null,null,null,null,null,null,null,null,null,null,null,null,null,null,null,null,null,null,null,null,null,null,null,null,null,null,null,null,null,null,null,0.8,{"$f":"CE12-CC12","v":0.19999999999999996},1,{"$f":"CE12+CC12","v":1.8},1,{"$f":"CH13","v":1.4727272727272724},11,{"$f":"CG2","v":1},null,null,null,null,null,null,null,null,null,null,null,null,null,null,1,1,3,1,"",null,2,"",4,1,null,1,1,null,4,null,2,0,null,1,null,0.8,{"$f":"DV12-DT12","v":0.19999999999999996},1,{"$f":"DV12+DT12","v":1.8},1,{"$f":"DY13","v":1},11,{"$f":"DX2","v":1},null,1,"Н",11]
[null,{"$f":"IF(ДомаДома!B13=\"\",\"\",ДомаДома!B13)","v":"2020.10.10 21:00"},{"$f":"IF(ДомаДома!A13=\"\",\"\",ДомаДома!A13)","v":"CHILE: Primera Division"},{"$f":"IF(ДомаДома!C13=\"\",\"\",ДомаДома!C13)","v":"Everton"},{"$f":"IF(ДомаДома!D13=\"\",\"\",ДомаДома!D13)","v":"S. Wanderers"},{"$f":"IF(ДомаДома!N13=\"\",\"\",CONCATENATE(ДомаДома!L13,\" : \",ДомаДома!M13))","v":"2 : 2"},2,2,null,null,{"$f":"IFERROR(BI69,\"\")","v":0.63044482068647067},null,null,null,null,null,null,{"$f":"IFERROR(BJ69,\"\")","v":0.36955517931352944},null,null,null,null,null,null,null,null,null,null,null,null,null,null,null,null,null,null,null,null,null,null,null,null,null,null,null,null,null,null,null,null,null,null,null,null,null,null,null,null,null,null,null,null,null,null,null,null,null,null,null,null,null,null,null,null,null,null,null,null,null,null,null,{"$f":"AVERAGE(CD2:CD12)","v":0.64727272727272733},{"$f":"AVERAGE(CE2:CE12)","v":1.4181818181818182},{"$f":"AVERAGE(CF2:CF12)","v":2.1890909090909094},null,{"$f":"TREND(CJ2:CJ12,CI2:CI12,CI13)","v":1.4727272727272724},12,null,null,null,null,null,null,null,null,null,null,null,null,null,null,null,1,1,3,2,1,null,4,1,2,"",null,2,2,null,3,null,4,1,null,2,null,null,{"$f":"AVERAGE(DU2:DU12)","v":0.41454545454545449},{"$f":"AVERAGE(DV2:DV12)","v":1.0545454545454545},{"$f":"AVERAGE(DW2:DW12)","v":1.6945454545454546},null,{"$f":"TREND(EA2:EA12,DZ2:DZ12,DZ13)","v":1},12,null,null,1,"Н",12]
[null,{"$f":"IF(ДомаДома!B14=\"\",\"\",ДомаДома!B14)","v":"2020.09.26 21:00"},{"$f":"IF(ДомаДома!A14=\"\",\"\",ДомаДома!A14)","v":"CHILE: Primera Division"},{"$f":"IF(ДомаДома!C14=\"\",\"\",ДомаДома!C14)","v":"Everton"},{"$f":"IF(ДомаДома!D14=\"\",\"\",ДомаДома!D14)","v":"U. Catolica"},{"$f":"IF(ДомаДома!N14=\"\",\"\",CONCATENATE(ДомаДома!L14,\" : \",ДомаДома!M14))","v":"2 : 2"},2,2,null,null,null,null,null,null,null,null,null,null,null,null,null,null,null,null,null,null,null,null,null,null,null,null,null,null,null,null,null,null,null,null,null,null,null,null,null,null,null,null,null,null,null,null,null,null,null,null,null,null,null,null,null,null,null,null,null,null,null,null,null,null,null,null,null,null,null,null,null,null,null,null,null,null,null,null,null,null,null,null,null,null,null,null,null,null,null,null,null,null,null,null,null,null,1,1,3,2,1,null,4,1,4,1,null,2,2,null,4,null,3,2,null,2,null,null,null,null,null,null,null,null,null,null,1,"Н",13]
[null,{"$f":"IF(ДомаДома!B15=\"\",\"\",ДомаДома!B15)","v":"2020.09.10 23:30"},{"$f":"IF(ДомаДома!A15=\"\",\"\",ДомаДома!A15)","v":"CHILE: Primera Division"},{"$f":"IF(ДомаДома!C15=\"\",\"\",ДомаДома!C15)","v":"Everton"},{"$f":"IF(ДомаДома!D15=\"\",\"\",ДомаДома!D15)","v":"Antofagasta"},{"$f":"IF(ДомаДома!N15=\"\",\"\",CONCATENATE(ДомаДома!L15,\" : \",ДомаДома!M15))","v":"0 : 0"},0,0,null,null,{"$f":"IFERROR(AY74,\"\")","v":0.25},null,null,null,null,null,null,{"$f":"AY75","v":-33.333333333333329},null,null,null,null,null,null,null,null,null,null,null,null,null,null,null,null,null,null,null,null,null,null,null,null,null,null,null,null,null,null,null,null,null,null,null,null,null,null,null,null,null,null,null,null,null,null,null,null,null,null,null,null,null,null,null,null,null,null,null,null,null,null,null,null,null,null,null,null,null,null,null,null,null,null,null,null,null,null,null,null,null,null,null,null,1,1,3,0,"",null,0,"",3,"",null,0,0,null,3,null,4,2,null,0,null,null,null,null,null,null,null,null,null,null,1,"Н",14]
[null,{"$f":"IF(ДомаДома!B16=\"\",\"\",ДомаДома!B16)","v":"2020.03.15 01:00"},{"$f":"IF(ДомаДома!A16=\"\",\"\",ДомаДома!A16)","v":"CHILE: Primera Division"},{"$f":"IF(ДомаДома!C16=\"\",\"\",ДомаДома!C16)","v":"Everton"},{"$f":"IF(ДомаДома!D16=\"\",\"\",ДомаДома!D16)","v":"La Serena"},{"$f":"IF(ДомаДома!N16=\"\",\"\",CONCATENATE(ДомаДома!L16,\" : \",ДомаДома!M16))","v":"0 : 0"},0,0,null,null,null,null,null,null,null,null,null,null,null,null,null,null,null,null,null,null,null,null,null,null,null,null,null,null,null,null,null,null,null,null,null,null,null,null,null,null,null,null,null,null,null,null,null,null,null,null,null,null,null,null,null,null,null,null,null,null,null,null,null,null,null,null,null,null,null,null,null,null,null,null,null,null,null,null,null,null,null,null,null,null,null,null,null,null,null,null,null,null,null,null,null,null,1,1,3,0,"",null,0,"",2,"",{"$f":"SUM(DJ2:DJ16)/15","v":1.2666666666666666},0,0,{"$f":"SUM(DK2:DK16)/15","v":1},2,{"$f":"SUM(DM2:DM16)/15","v":2.8666666666666667},3,0,null,0,null,null,null,null,null,null,null,null,null,null,1,"Н",15]
[null,null,null,{"$f":"IF(COUNTIF(D18:D44,D30)>COUNTIF(E18:E44,E30),D30,E30)","v":"Colo Colo"},null,null,null,null,null,null,{"$f":"IFERROR(BN74,\"\")","v":0.25},null,null,null,null,null,null,{"$f":"IFERROR(BN75,\"\")","v":-33.333333333333329},null,null,null,null,null,null,null,null,null,null,null,null,null,null,null,null,null,null,null,null,null,null,null,null,null,null,null,null,null,null,null,null,null,null,null,null,null,null,null,null,null,null,null,null,null,null,null,null,null,null,null,null,null,null,null,null,null,null,null,null,null,null,null,"-",null,"+",null,{"$f":"ROUND(CG30,0)","v":1},null,null,null,null,null,null,null,null,null,null,null,null,null,null,null,null,1,1,3,null,null,null,null,null,null,null,null,{"$f":"ROUND(DI16,0)","v":1},{"$f":"ROUND(DL16,0)","v":1},null,{"$f":"ROUND(DN16,0)","v":3},null,2,0,null,{"$f":"DS30","v":1},null,null,null,null,null,null,null,null,null,null,"Очки",null,16]
[null,null,null,null,null,null,null,null,null,null,null,null,null,null,null,null,null,null,null,null,null,null,null,null,null,null,null,null,null,null,null,null,null,null,null,null,null,null,null,null,null,null,null,null,null,null,null,null,null,null,null,null,null,null,null,null,null,null,null,null,null,null,null,null,null,null,null,null,null,null,null,null,null,null,null,null,null,null,null,null,null,null,null,null,null,null,null,null,null,null,null,null,null,null,null,null,null,null,null,null,null,null,1,1,3]
[null,null,null,null,null,null,null,null,null,null,"ТБ",null,null,null,null,null,null,"ТМ",null,null,null,null,null,null,null,null,null,null,null,null,null,null,null,null,null,null,null,null,null,null,null,null,null,null,null,null,null,null,null,null,null,null,null,null,null,null,null,null,null,null,null,null,null,null,null,null,null,null,null,null,null,null,null,null,null,null,null,null,null,null,null,null,null,null,null,null,null,null,null,null,null,null,null,null,null,null,null,null,null,null,null,null,1,1,3]
[null,null,null,null,null,null,null,null,null,null,null,null,null,null,null,null,null,null,null,null,null,null,null,null,null,null,null,null,null,null,null,null,null,null,null,null,null,null,null,null,null,null,null,null,null,null,null,null,null,null,null,null,null,null,null,null,null,null,null,null,null,null,null,null,null,null,null,null,null,null,null,null,null,null,null,null,null,null,null,null,null,null,null,null,null,null,null,null,null,null,null,null,null,null,null,null,null,null,null,null,null,null,1,1,3]
[null,null,null,null,null,null,null,null,null,null,{"$f":"IFERROR(BL69,\"\")","v":-0.5},null,null,null,null,null,null,{"$f":"IFERROR(BM69,\"\")","v":4.5},null,null,null,null,null,null,null,null,null,null,null,null,null,null,null,null,null,null,null,null,null,null,null,null,null,null,null,null,null,null,null,null,null,null,null,null,null,null,null,null,null,null,null,null,null,null,null,null,null,null,null,null,null,null,null,null,null,null,null,null,null,null,null,null,null,null,null,null,null,null,null,null,null,null,null,null,null,null,null,null,null,null,null,null,1,1,3]
[null,null,null,null,null,null,null,null,null,null,null,null,null,null,null,null,null,null,null,null,null,null,null,null,null,null,null,null,null,null,null,null,null,null,null,null,null,null,null,null,null,null,null,null,null,null,null,null,null,null,null,null,null,null,null,null,null,null,null,null,null,null,null,null,null,null,null,null,null,null,null,null,null,null,null,null,null,null,null,null,null,null,null,null,null,null,null,null,null,null,null,null,null,null,null,null,null,null,null,null,null,null,1,1,3]
[null,null,null,null,null,null,null,null,null,null,null,null,"Средний тотал",null,null,null,null,null,null,null,null,null,null,null,null,null,null,null,null,null,null,null,null,null,null,null,null,null,null,null,null,null,null,null,null,null,null,null,null,null,null,null,null,null,null,null,null,null,null,null,null,null,null,null,null,null,null,null,null,null,null,null,null,null,null,null,null,null,null,null,null,null,null,null,null,null,null,null,null,null,null,null,null,null,null,null,null,null,null,null,null,null,1,1,3]
[null,null,null,null,null,null,null,null,null,null,{"$f":"Лист3!Q23","v":"0-3"},null,null,null,{"$f":"BL71","v":2},null,null,null,{"$f":"Лист3!W23","v":"0-3"},null,null,null,null,null,null,null,null,null,null,null,null,null,null,null,null,null,null,null,null,null,null,null,null,null,null,null,null,null,null,null,null,null,null,null,null,null,null,null,null,null,null,null,null,null,null,null,null,null,null,null,null,null,null,null,null,null,null,null,null,null,null,null,null,null,null,null,null,null,null,null,null,null,null,null,null,null,null,null,null,null,null,null,1,1,3]
[null,null,null,null,null,null,null,null,null,null,null,null,null,null,null,null,null,null,null,null,null,null,null,null,null,null,null,null,null,null,null,null,null,null,null,null,null,null,null,null,null,null,null,null,null,null,null,null,null,null,null,null,null,null,null,null,null,null,null,null,null,null,null,null,null,null,null,null,null,null,null,null,null,null,null,null,null,null,null,null,null,null,null,null,null,null,null,null,null,null,null,null,null,null,null,null,null,null,null,null,null,null,1,1,3]
[null,null,null,null,null,null,null,null,null,null,null,null,"Мотивация",null,null,null,null,null,null,null,null,null,null,null,null,null,null,null,null,null,null,null,null,null,null,null,null,null,null,null,null,null,null,null,null,null,null,null,null,null,null,null,null,null,null,null,null,null,null,null,null,null,null,null,null,null,null,null,null,null,null,null,null,null,null,null,null,null,null,null,null,null,null,null,null,null,null,null,null,null,null,null,null,null,null,null,null,null,null,null,null,null,1,1,3]
[null,null,null,null,null,null,null,null,null,null,null,null,null,null,{"$f":"BD84","v":1},"Общее",null,{"$f":"BE84","v":-2},null,null,null,null,null,null,null,null,null,null,null,null,null,null,null,null,null,null,null,null,null,null,null,null,null,null,null,null,null,null,null,null,null,null,null,null,null,null,null,null,null,null,null,null,null,null,null,null,null,null,null,null,null,null,null,null,null,null,null,null,null,null,null,null,null,null,null,null,null,null,null,null,null,null,null,null,null,null,null,null,null,null,null,null,1,1,3]
[null,null,null,null,null,null,null,null,null,null,null,null,null,null,{"$f":"BS84","v":1},"Форма",null,{"$f":"BT84","v":-2},null,null,null,null,null,null,null,null,null,null,null,null,null,null,null,null,null,null,null,null,null,null,null,null,null,null,null,null,null,null,null,null,null,null,null,null,null,null,null,null,null,null,null,null,null,null,null,null,null,null,null,null,null,null,null,null,null,null,null,null,null,null,null,null,null,null,null,null,null,null,null,null,null,null,null,null,null,null,null,null,null,null,null,null,1,1,3]
[null,null,null,null,null,null,null,null,null,null,null,null,null,null,{"$f":"BF7","v":"К1"},null,null,null,null,null,null,null,null,null,null,null,null,null,null,null,null,null,null,null,null,null,null,null,null,null,null,null,null,null,null,null,null,null,null,null,null,null,null,null,null,null,null,null,null,null,null,null,null,null,null,null,null,null,null,null,null,null,null,null,null,null,null,null,null,null,null,null,null,null,null,null,null,null,null,null,null,null,null,null,null,null,null,null,null,null,null,null,1,1,3]
[null,{"$f":"IF(ГостиГости!B2=\"\",\"\",ГостиГости!B2)","v":"2021.04.04 01:30"},{"$f":"IF(ГостиГости!A2=\"\",\"\",ГостиГости!A2)","v":"CHILE: Primera Division"},{"$f":"IF(ГостиГости!C2=\"\",\"\",ГостиГости!C2)","v":"Cobresal"},{"$f":"IF(ГостиГости!D2=\"\",\"\",ГостиГости!D2)","v":"Colo Colo"},{"$f":"IF(ГостиГости!N2=\"\",\"\",CONCATENATE(ГостиГости!L2,\" : \",ГостиГости!M2))","v":"2 : 1"},{"$f":"VALUE(LEFT(F30,FIND(\":\",F30,1)-1))","v":2},{"$f":"VALUE(LEFT(RIGHT(F30,LEN(F30)-FIND(\":\",F30,1)),4))","v":1},null,null,null,null,null,null,null,null,null,null,null,null,null,null,null,null,null,null,null,null,null,null,null,null,null,null,null,null,null,null,null,null,null,null,null,null,null,null,null,null,null,null,null,null,null,null,null,null,null,null,null,null,null,null,null,null,null,null,null,null,null,null,null,null,null,null,null,null,null,null,null,null,{"$f":"AVEDEV(DB30:DB34)","v":1.0399999999999998},{"$f":"CE30-CC30","v":0.3600000000000001},{"$f":"AVERAGE(DB30:DB34)","v":1.4},{"$f":"CE30+CC30","v":2.4399999999999995},{"$f":"SUM(CH30:CH40)/11","v":1.4545454545454546},{"$f":"DB30","v":1},1,{"$f":"CH40","v":3},null,null,null,null,null,null,null,null,null,null,null,{"$f":"ROUND(CW31,0)","v":2},null,null,1,1,3,{"$f":"IF(D30=$D$17,G30,H30)","v":1},{"$f":"IF($Z$4<DB30,1,\"\")","v":""},null,null,null,null,null,"15матчей",{"$f":"IF(D30=$D$17,G30,H30)","v":1},{"$f":"IF(D30=$D$17,H30,G30)","v":2},"15матчей",{"$f":"DJ30+DK30","v":3},null,null,{"$f":"DJ52","v":2},null,{"$f":"DK30","v":2},{"$f":"ROUND(DS31,0)","v":1},null,"-","ср","+",null,{"$f":"ROUND(DY31,0)","v":1},null,null,null,{"$f":"IF(OR(DJ30=\"\",DK30=\"\"),\"\",IF(DJ30>DK30,2,IF(DJ30<DK30,0,1)))","v":0},{"$f":"IF(EC30=\"\",\"\",IF(EC30=1,\"Н\",IF(EC30=0,\"П\",IF(EC30=2,\"В\"))))","v":"П"}]
[null,{"$f":"IF(ГостиГости!B3=\"\",\"\",ГостиГости!B3)","v":"2021.03.21 23:00"},{"$f":"IF(ГостиГости!A3=\"\",\"\",ГостиГости!A3)","v":"CHILE: Super Cup"},{"$f":"IF(ГостиГости!C3=\"\",\"\",ГостиГости!C3)","v":"U. Catolica"},{"$f":"IF(ГостиГости!D3=\"\",\"\",ГостиГости!D3)","v":"Colo Colo"},{"$f":"IF(ГостиГости!N3=\"\",\"\",CONCATENATE(ГостиГости!L3,\" : \",ГостиГости!M3))","v":"2 : 4"},{"$f":"VALUE(LEFT(F31,FIND(\":\",F31,1)-1))","v":2},{"$f":"VALUE(LEFT(RIGHT(F31,LEN(F31)-FIND(\":\",F31,1)),4))","v":4},null,null,null,null,null,null,null,null,null,null,null,null,null,null,null,null,null,null,null,null,null,null,null,null,null,null,null,null,null,null,null,null,null,null,null,null,null,null,null,null,null,null,null,null,null,null,null,null,null,null,null,null,null,null,null,null,null,null,null,null,null,null,null,null,null,null,null,null,null,null,null,null,{"$f":"AVEDEV(DB31:DB35)","v":1.3599999999999999},{"$f":"CE31-CC31","v":0.44000000000000017},1.8,{"$f":"CE31+CC31","v":3.16},null,4,2,{"$f":"CH39","v":2},null,null,null,null,null,null,null,{"$f":"AVEDEV(G2:H6,G30:H34)","v":0.69999999999999984},{"$f":"CT31-CR31","v":1.7000000000000006},{"$f":"AVERAGE(G2:H6)+AVERAGE(G30:H34)","v":2.4000000000000004},{"$f":"CT31+CR31","v":3.1},{"$f":"AVERAGE(G2:H2)+AVERAGE(G30:H30)","v":2.5},{"$f":"SUM(CV31:CV41)/11","v":2.4545454545454546},null,1,1,3,4,1,null,null,null,null,null,"СРЗаб",4,2,"СрПроп",{"$f":"DJ31+DK31","v":6},null,null,{"$f":"DJ30","v":1},null,{"$f":"DK31","v":2},{"$f":"SUM(DR30:DR44)/15","v":1},{"$f":"AVEDEV(DR30:DR34)","v":0.64},{"$f":"DV31-DT31","v":0.55999999999999994},{"$f":"AVERAGE(DR30:DR34)","v":1.2},{"$f":"DV31+DT31","v":1.8399999999999999},{"$f":"DR30","v":2},{"$f":"SUM(DX31:DX41)/11","v":1.0909090909090908},1,{"$f":"DX41","v":1},null,{"$f":"IF(OR(DJ31=\"\",DK31=\"\"),\"\",IF(DJ31>DK31,2,IF(DJ31<DK31,0,1)))","v":2},{"$f":"IF(EC31=\"\",\"\",IF(EC31=1,\"Н\",IF(EC31=0,\"П\",IF(EC31=2,\"В\"))))","v":"В"},null,{"$f":"TREND(DJ30:DJ44,EE2:EE16,EE17)","v":2.0285714285714285},null,{"$f":"TREND(DK30:DK44,EE2:EE16,EE17)","v":0.65714285714285703}]
[null,{"$f":"IF(ГостиГости!B4=\"\",\"\",ГостиГости!B4)","v":"2021.02.14 23:00"},{"$f":"IF(ГостиГости!A4=\"\",\"\",ГостиГости!A4)","v":"CHILE: Primera Division"},{"$f":"IF(ГостиГости!C4=\"\",\"\",ГостиГости!C4)","v":"O'Higgins"},{"$f":"IF(ГостиГости!D4=\"\",\"\",ГостиГости!D4)","v":"Colo Colo"},{"$f":"IF(ГостиГости!N4=\"\",\"\",CONCATENATE(ГостиГости!L4,\" : \",ГостиГости!M4))","v":"1 : 1"},1,1,null,null,null,null,null,null,null,null,null,null,null,null,null,null,null,null,null,null,null,null,null,null,null,null,null,null,null,null,null,null,null,null,null,null,null,null,null,null,null,null,null,null,null,null,null,null,null,null,null,null,null,null,null,null,null,null,null,null,null,null,null,null,null,null,null,null,null,null,null,null,null,null,0.8,0.19999999999999996,1,1.8,null,1,3,{"$f":"CH38","v":1},null,null,null,null,null,null,null,{"$f":"AVEDEV(G3:H7,G31:H35)","v":0.95},1.55,2.5,3.45,3.5,null,null,1,1,3,1,"",null,null,null,null,null,{"$f":"SUM(DJ30:DJ44)/15","v":1.6},1,1,{"$f":"SUM(DK30:DK44)/15","v":1},2,null,null,4,null,1,null,{"$f":"AVEDEV(DR31:DR35)","v":0.64},{"$f":"DV32-DT32","v":0.16000000000000003},{"$f":"AVERAGE(DR31:DR35)","v":0.8},{"$f":"DV32+DT32","v":1.44},{"$f":"DR31","v":2},null,2,{"$f":"DX40","v":2},null,1,"Н",null,{"$f":"ROUND(EF31,0)","v":2},null,{"$f":"ROUND(EH31,0)","v":1}]
[null,{"$f":"IF(ГостиГости!B5=\"\",\"\",ГостиГости!B5)","v":"2021.02.07 02:30"},{"$f":"IF(ГостиГости!A5=\"\",\"\",ГостиГости!A5)","v":"CHILE: Primera Division"},{"$f":"IF(ГостиГости!C5=\"\",\"\",ГостиГости!C5)","v":"Deportes Iquique"},{"$f":"IF(ГостиГости!D5=\"\",\"\",ГостиГости!D5)","v":"Colo Colo"},{"$f":"IF(ГостиГости!N5=\"\",\"\",CONCATENATE(ГостиГости!L5,\" : \",ГостиГости!M5))","v":"0 : 0"},0,0,null,null,null,null,null,null,null,null,null,null,null,null,null,null,null,null,null,null,null,null,null,null,null,null,null,null,null,null,null,null,null,null,null,null,null,null,null,null,null,null,null,null,null,null,null,null,null,null,null,null,null,null,null,null,null,null,null,null,null,null,null,null,null,null,null,null,null,null,null,null,null,null,0.96,-0.15999999999999992,0.8,1.76,null,0,4,{"$f":"CH37","v":0},null,null,null,null,null,null,null,0.74999999999999978,1.4500000000000004,2.2000000000000002,2.95,3,null,null,null,null,null,0,"",null,null,null,null,null,"5матчей",0,0,"5матчей",0,null,null,1,null,0,null,0.48,0.12,0.6,1.08,1,null,3,{"$f":"DX39","v":2},null,1,"Н"]
[null,{"$f":"IF(ГостиГости!B6=\"\",\"\",ГостиГости!B6)","v":"2021.01.13 22:00"},{"$f":"IF(ГостиГости!A6=\"\",\"\",ГостиГости!A6)","v":"CHILE: Primera Division"},{"$f":"IF(ГостиГости!C6=\"\",\"\",ГостиГости!C6)","v":"U. De Concepcion"},{"$f":"IF(ГостиГости!D6=\"\",\"\",ГостиГости!D6)","v":"Colo Colo"},{"$f":"IF(ГостиГости!N6=\"\",\"\",CONCATENATE(ГостиГости!L6,\" : \",ГостиГости!M6))","v":"1 : 1"},1,1,null,null,null,null,null,null,null,null,null,null,null,null,null,null,null,null,null,null,null,null,null,null,null,null,null,null,null,null,null,null,null,null,null,null,null,null,null,null,null,null,null,null,null,null,null,null,null,null,null,null,null,null,null,null,null,null,null,null,null,null,null,null,null,null,null,null,null,null,null,null,null,null,0.8,0.19999999999999996,1,1.8,null,1,5,{"$f":"CH36","v":0},null,null,null,null,null,null,null,0.8,1.2,2,2.8,1.5,null,null,null,null,null,1,"",null,null,null,null,null,"СРЗаб",1,1,"СрПроп",2,null,null,0,null,1,null,0.48,-7.999999999999996E-2,0.4,0.88,0,null,4,{"$f":"DX38","v":0},null,1,"Н"]
[null,{"$f":"IF(ГостиГости!B7=\"\",\"\",ГостиГости!B7)","v":"2021.01.06 15:30"},{"$f":"IF(ГостиГости!A7=\"\",\"\",ГостиГости!A7)","v":"CHILE: Primera Division"},{"$f":"IF(ГостиГости!C7=\"\",\"\",ГостиГости!C7)","v":"S. Wanderers"},{"$f":"IF(ГостиГости!D7=\"\",\"\",ГостиГости!D7)","v":"Colo Colo"},{"$f":"IF(ГостиГости!N7=\"\",\"\",CONCATENATE(ГостиГости!L7,\" : \",ГостиГости!M7))","v":"0 : 3"},0,3,null,null,null,null,null,null,null,null,null,null,null,null,null,null,null,null,null,null,null,null,null,null,null,null,null,null,null,null,null,null,null,null,null,null,null,null,null,null,null,null,null,null,null,null,null,null,null,null,null,null,null,null,null,null,null,null,null,null,null,null,null,null,null,null,null,null,null,null,null,null,null,null,1.04,0.15999999999999992,1.2,2.2400000000000002,null,3,6,{"$f":"CH35","v":3},null,null,null,null,null,null,null,0.74999999999999989,1.4500000000000002,2.2000000000000002,2.95,1.5,null,null,null,null,null,3,1,null,null,null,null,null,{"$f":"SUM(DJ30:DJ34)/5","v":1.4},3,0,{"$f":"SUM(DK30:DK34)/5","v":1.2},3,null,null,1,null,0,null,0.64,0.16000000000000003,0.8,1.44,1,null,5,{"$f":"DX37","v":1},null,2,"В"]
[null,{"$f":"IF(ГостиГости!B8=\"\",\"\",ГостиГости!B8)","v":"2021.01.03 15:30"},{"$f":"IF(ГостиГости!A8=\"\",\"\",ГостиГости!A8)","v":"CHILE: Primera Division"},{"$f":"IF(ГостиГости!C8=\"\",\"\",ГостиГости!C8)","v":"Antofagasta"},{"$f":"IF(ГостиГости!D8=\"\",\"\",ГостиГости!D8)","v":"Colo Colo"},{"$f":"IF(ГостиГости!N8=\"\",\"\",CONCATENATE(ГостиГости!L8,\" : \",ГостиГости!M8))","v":"1 : 0"},1,0,null,null,null,null,null,null,null,null,null,null,null,null,null,null,null,null,null,null,null,null,null,null,null,null,null,null,null,null,null,null,null,null,null,null,null,null,null,null,null,null,null,null,null,null,null,null,null,null,null,null,null,null,null,null,null,null,null,null,null,null,null,null,null,null,null,null,null,null,null,null,null,null,1.0399999999999998,0.16000000000000014,1.2,2.2399999999999998,null,0,7,{"$f":"CH34","v":1},null,null,null,null,null,null,null,0.86,1.5400000000000005,2.4000000000000004,3.2600000000000002,3,null,null,null,null,null,0,"",null,null,null,null,null,null,0,1,null,1,null,null,3,null,1,null,0.8,0.19999999999999996,1,1.8,0,null,6,{"$f":"DX36","v":0},null,0,"П"]
[null,{"$f":"IF(ГостиГости!B9=\"\",\"\",ГостиГости!B9)","v":"2020.12.19 23:00"},{"$f":"IF(ГостиГости!A9=\"\",\"\",ГостиГости!A9)","v":"CHILE: Primera Division"},{"$f":"IF(ГостиГости!C9=\"\",\"\",ГостиГости!C9)","v":"U. Catolica"},{"$f":"IF(ГостиГости!D9=\"\",\"\",ГостиГости!D9)","v":"Colo Colo"},{"$f":"IF(ГостиГости!N9=\"\",\"\",CONCATENATE(ГостиГости!L9,\" : \",ГостиГости!M9))","v":"0 : 0"},0,0,null,null,null,null,null,null,null,null,null,null,null,null,null,null,null,null,null,null,null,null,null,null,null,null,null,null,null,null,null,null,null,null,null,null,null,null,null,null,null,null,null,null,null,null,null,null,null,null,null,null,null,null,null,null,null,null,null,null,null,null,null,null,null,null,null,null,null,null,null,null,null,null,0.88000000000000012,0.5199999999999998,1.4,2.2800000000000002,null,0,8,{"$f":"CH33","v":0},null,null,null,null,null,null,null,0.68000000000000016,1.7199999999999998,2.4,3.08,2,null,null,null,null,null,0,"",null,null,null,null,null,null,0,0,null,0,null,null,0,null,0,null,0.64,0.55999999999999994,1.2,1.8399999999999999,1,null,7,{"$f":"DX35","v":1},null,1,"Н"]
[null,{"$f":"IF(ГостиГости!B10=\"\",\"\",ГостиГости!B10)","v":"2020.12.12 23:00"},{"$f":"IF(ГостиГости!A10=\"\",\"\",ГостиГости!A10)","v":"CHILE: Primera Division"},{"$f":"IF(ГостиГости!C10=\"\",\"\",ГостиГости!C10)","v":"U. Espanola"},{"$f":"IF(ГостиГости!D10=\"\",\"\",ГостиГости!D10)","v":"Colo Colo"},{"$f":"IF(ГостиГости!N10=\"\",\"\",CONCATENATE(ГостиГости!L10,\" : \",ГостиГости!M10))","v":"2 : 1"},2,1,null,null,null,null,null,null,null,null,null,null,null,null,null,null,null,null,null,null,null,null,null,null,null,null,null,null,null,null,null,null,null,null,null,null,null,null,null,null,null,null,null,null,null,null,null,null,null,null,null,null,null,null,null,null,null,null,null,null,null,null,null,null,null,null,null,null,null,null,null,null,null,null,0.64,1.1600000000000001,1.8,2.44,null,1,9,{"$f":"CH32","v":1},null,null,null,null,null,null,null,0.69,1.9100000000000001,2.6,3.29,2,null,null,null,null,null,1,"",null,null,null,null,null,null,1,2,null,3,null,null,0,null,2,null,0.64,0.55999999999999994,1.2,1.8399999999999999,0,null,8,{"$f":"DX34","v":0},null,0,"П"]
[null,{"$f":"IF(ГостиГости!B11=\"\",\"\",ГостиГости!B11)","v":"2020.12.05 22:00"},{"$f":"IF(ГостиГости!A11=\"\",\"\",ГостиГости!A11)","v":"CHILE: Primera Division"},{"$f":"IF(ГостиГости!C11=\"\",\"\",ГостиГости!C11)","v":"Huachipato"},{"$f":"IF(ГостиГости!D11=\"\",\"\",ГостиГости!D11)","v":"Colo Colo"},{"$f":"IF(ГостиГости!N11=\"\",\"\",CONCATENATE(ГостиГости!L11,\" : \",ГостиГости!M11))","v":"2 : 2"},2,2,null,null,null,null,null,null,null,null,null,null,null,null,null,null,null,null,null,null,null,null,null,null,null,null,null,null,null,null,null,null,null,null,null,null,null,null,null,null,null,null,null,null,null,null,null,null,null,null,null,null,null,null,null,null,null,null,null,null,null,null,null,null,null,null,null,null,null,null,null,null,null,null,0.64,1.56,2.2000000000000002,2.8400000000000003,null,2,10,{"$f":"CH31","v":4},null,null,null,null,null,null,null,0.6,2.4,3,3.6,2.5,null,null,null,null,null,2,1,null,null,null,null,null,null,2,2,null,4,null,null,1,null,2,null,0.48,1.1200000000000001,1.6,2.08,2,null,9,{"$f":"DX33","v":1},null,1,"Н"]
[null,{"$f":"IF(ГостиГости!B12=\"\",\"\",ГостиГости!B12)","v":"2020.11.14 16:00"},{"$f":"IF(ГостиГости!A12=\"\",\"\",ГостиГости!A12)","v":"CHILE: Primera Division"},{"$f":"IF(ГостиГости!C12=\"\",\"\",ГостиГости!C12)","v":"Palestino"},{"$f":"IF(ГостиГости!D12=\"\",\"\",ГостиГости!D12)","v":"Colo Colo"},{"$f":"IF(ГостиГости!N12=\"\",\"\",CONCATENATE(ГостиГости!L12,\" : \",ГостиГости!M12))","v":"1 : 3"},1,3,null,null,null,null,null,null,null,null,null,null,null,null,null,null,null,null,null,null,null,null,null,null,null,null,null,null,null,null,null,null,null,null,null,null,null,null,null,null,null,null,null,null,null,null,null,null,null,null,null,null,null,null,null,null,null,null,null,null,null,null,null,null,null,null,null,null,null,null,null,null,null,null,0.64,1.56,2.2000000000000002,2.8400000000000003,null,3,11,{"$f":"CH30","v":1},null,null,null,null,null,null,null,0.8,1.9999999999999998,2.8,3.5999999999999996,2.5,null,null,null,null,null,3,1,null,null,null,null,null,null,3,1,null,4,null,null,2,null,1,null,0.64,0.55999999999999994,1.2,1.8399999999999999,2,null,10,{"$f":"DX32","v":2},null,2,"В"]
[null,{"$f":"IF(ГостиГости!B13=\"\",\"\",ГостиГости!B13)","v":"2020.10.28 21:00"},{"$f":"IF(ГостиГости!A13=\"\",\"\",ГостиГости!A13)","v":"CHILE: Primera Division"},{"$f":"IF(ГостиГости!C13=\"\",\"\",ГостиГости!C13)","v":"Everton"},{"$f":"IF(ГостиГости!D13=\"\",\"\",ГостиГости!D13)","v":"Colo Colo"},{"$f":"IF(ГостиГости!N13=\"\",\"\",CONCATENATE(ГостиГости!L13,\" : \",ГостиГости!M13))","v":"1 : 1"},1,1,null,null,null,null,null,null,null,null,null,null,null,null,null,null,null,null,null,null,null,null,null,null,null,null,null,null,null,null,null,null,null,null,null,null,null,null,null,null,null,null,null,null,null,null,null,null,null,null,null,null,null,null,null,null,null,null,null,null,null,null,null,null,null,null,null,null,null,null,null,null,null,null,null,{"$f":"AVERAGE(CD30:CD40)","v":0.56000000000000005},{"$f":"AVERAGE(CE30:CE40)","v":1.4545454545454546},{"$f":"AVERAGE(CF30:CF40)","v":2.3490909090909096},{"$f":"CH41","v":1.4},{"$f":"TREND(CJ30:CJ40,CI30:CI40,CI41)","v":1.4},12,null,null,null,null,null,null,null,null,0.875,1.625,2.5,3.375,3,null,null,null,null,null,1,"",null,null,null,null,null,null,1,1,null,2,null,null,3,null,1,null,0.64,{"$f":"DV41-DT41","v":0.16000000000000003},0.8,{"$f":"DV41+DT41","v":1.44},1,{"$f":"DY42","v":1.1999999999999997},11,{"$f":"DX31","v":2},null,1,"Н"]
[null,{"$f":"IF(ГостиГости!B14=\"\",\"\",ГостиГости!B14)","v":"2020.10.09 23:00"},{"$f":"IF(ГостиГости!A14=\"\",\"\",ГостиГости!A14)","v":"CHILE: Primera Division"},{"$f":"IF(ГостиГости!C14=\"\",\"\",ГостиГости!C14)","v":"Coquimbo"},{"$f":"IF(ГостиГости!D14=\"\",\"\",ГостиГости!D14)","v":"Colo Colo"},{"$f":"IF(ГостиГости!N14=\"\",\"\",CONCATENATE(ГостиГости!L14,\" : \",ГостиГости!M14))","v":"2 : 2"},2,2,null,null,null,null,null,null,null,null,null,null,null,null,null,null,null,null,null,null,null,null,null,null,null,null,null,null,null,null,null,null,null,null,null,null,null,null,null,null,null,null,null,null,null,{"$f":"AZ60-AZ61*BA60/BA61","v":1},{"$f":"AZ61-AZ60*BA61/BA60","v":-1},null,null,null,null,null,null,null,null,null,null,null,null,null,{"$f":"BO60-BO61*BP60/BP61","v":1},{"$f":"BO61-BO60*BP61/BP60","v":-1},null,null,null,null,null,null,null,null,null,null,null,null,null,null,null,null,null,{"$f":"CH13+CH41","v":2.8727272727272721},null,null,null,null,null,null,null,null,null,null,{"$f":"AVERAGE(CS31:CS41)","v":1.685909090909091},{"$f":"AVERAGE(CT31:CT41)","v":2.454545454545455},{"$f":"AVERAGE(CU31:CU41)","v":3.2231818181818186},null,null,null,null,null,null,2,1,null,null,null,null,null,null,2,2,null,4,null,null,1,null,2,null,null,{"$f":"AVERAGE(DU31:DU41)","v":0.37090909090909091},{"$f":"AVERAGE(DV31:DV41)","v":0.98181818181818192},{"$f":"AVERAGE(DW31:DW41)","v":1.5927272727272728},null,{"$f":"TREND(EA31:EA41,DZ31:DZ41,DZ42)","v":1.1999999999999997},12,null,null,1,"Н"]
[null,{"$f":"IF(ГостиГости!B15=\"\",\"\",ГостиГости!B15)","v":"2020.09.30 00:15"},{"$f":"IF(ГостиГости!A15=\"\",\"\",ГостиГости!A15)","v":"SOUTH AMERICA: Copa Libertadores"},{"$f":"IF(ГостиГости!C15=\"\",\"\",ГостиГости!C15)","v":"Penarol"},{"$f":"IF(ГостиГости!D15=\"\",\"\",ГостиГости!D15)","v":"Colo Colo"},{"$f":"IF(ГостиГости!N15=\"\",\"\",CONCATENATE(ГостиГости!L15,\" : \",ГостиГости!M15))","v":"0 : 3"},0,3,null,null,null,null,null,null,null,null,null,null,null,null,null,null,null,null,null,null,null,null,null,null,null,null,null,null,null,null,null,null,null,null,null,null,null,null,null,null,null,null,null,null,null,null,null,null,null,null,null,null,null,null,null,null,null,null,null,null,null,null,null,null,null,null,null,null,null,null,null,null,null,null,null,null,null,null,null,null,null,null,null,null,null,null,null,null,null,null,null,null,null,null,null,null,null,null,null,3,1,null,null,null,null,null,null,3,0,null,3,null,null,2,null,0,null,null,null,null,null,null,null,null,null,null,2,"В"]
[null,{"$f":"IF(ГостиГости!B16=\"\",\"\",ГостиГости!B16)","v":"2020.09.24 00:15"},{"$f":"IF(ГостиГости!A16=\"\",\"\",ГостиГости!A16)","v":"SOUTH AMERICA: Copa Libertadores"},{"$f":"IF(ГостиГости!C16=\"\",\"\",ГостиГости!C16)","v":"Athletico-PR"},{"$f":"IF(ГостиГости!D16=\"\",\"\",ГостиГости!D16)","v":"Colo Colo"},{"$f":"IF(ГостиГости!N16=\"\",\"\",CONCATENATE(ГостиГости!L16,\" : \",ГостиГости!M16))","v":"0 : 2"},0,2,null,null,null,null,null,null,null,null,null,null,null,null,null,null,null,null,null,null,null,null,null,null,null,null,null,null,null,null,null,null,null,null,null,null,null,null,null,null,null,null,null,null,null,{"$f":"IF(AND(AZ42>0,AZ42>BA42),\"К1\",IF(AND(BA42>0,BA42>AZ42),\"К2\",\"-\"))","v":"К1"},null,null,null,null,null,null,null,null,null,null,null,null,null,null,{"$f":"IF(AND(BO42>0,BO42>BP42),\"К1\",IF(AND(BP42>0,BP42>BO42),\"К2\",\"-\"))","v":"К1"},null,null,null,null,null,null,null,null,null,null,null,null,null,null,null,null,null,null,null,null,null,null,null,null,null,null,null,null,null,null,null,null,null,null,null,null,null,null,2,1,null,null,null,null,null,{"$f":"SUM(DJ30:DJ44)/15","v":1.6},2,0,{"$f":"SUM(DK30:DK44)/15","v":1},2,{"$f":"SUM(DM30:DM44)/15","v":2.6},null,3,null,0,null,null,null,null,null,null,null,null,null,null,2,"В"]
[null,null,null,null,null,null,null,null,null,null,null,null,null,null,null,null,null,null,null,null,null,null,null,null,null,null,null,null,null,null,null,null,null,null,null,null,null,null,null,null,null,null,null,null,null,null,null,null,null,null,null,null,null,null,null,null,null,null,null,null,null,null,null,null,null,null,null,null,null,null,null,null,null,null,null,null,null,null,null,null,null,null,null,null,null,null,null,null,null,null,null,null,null,null,null,null,null,null,null,null,null,null,null,null,null,null,null,null,null,null,null,null,null,null,0,null,null,null,null,2]
[null,null,null,null,null,null,null,null,null,null,null,null,null,null,null,null,null,null,null,null,null,null,null,null,null,null,null,null,null,null,null,null,null,null,null,null,null,null,null,null,null,null,null,null,null,null,null,null,null,null,null,null,null,null,null,null,null,null,null,null,null,null,null,null,null,null,null,null,null,null,null,null,null,null,null,null,null,null,null,null,null,null,null,null,null,null,null,null,null,null,null,null,null,null,null,null,null,null,null,null,null,null,null,null,null,null,null,null,null,null,null,null,null,null,0,null,null,null,null,0]
[null,null,null,null,null,null,null,null,null,null,null,null,null,null,null,null,null,null,null,null,null,null,null,null,null,null,null,null,null,null,null,null,null,null,null,null,null,null,null,null,null,null,null,null,null,null,null,null,null,null,null,null,null,null,null,null,null,null,null,null,null,null,null,null,null,null,null,null,null,null,null,null,null,null,null,null,null,null,null,null,null,null,null,null,null,null,null,null,null,null,null,null,null,null,null,null,null,null,null,null,null,null,null,null,null,null,null,null,null,null,null,null,null,null,0,null,null,null,null,0]
[null,null,null,null,null,null,null,null,null,null,null,null,null,null,null,null,null,null,null,null,null,null,null,null,null,null,null,null,null,null,null,null,null,null,null,null,null,null,null,null,null,null,null,null,null,null,null,null,null,null,null,null,null,null,null,null,null,null,null,null,null,null,null,null,null,null,null,null,null,null,null,null,null,null,null,null,null,null,null,null,null,null,null,null,null,null,null,null,null,null,null,null,null,null,null,null,null,null,null,null,null,null,null,null,null,null,null,null,null,null,null,null,null,null,0,null,null,null,null,0]
[null,null,null,null,null,null,null,null,null,null,null,null,null,null,null,null,null,null,null,null,null,null,null,null,null,null,null,null,null,null,null,null,null,null,null,null,null,null,null,null,null,null,null,null,null,null,null,null,null,null,null,null,null,null,null,null,null,null,null,null,null,null,null,null,null,null,null,null,null,null,null,null,null,null,null,null,null,null,null,null,null,null,null,null,null,null,null,null,null,null,null,null,null,null,null,null,null,null,null,null,null,null,null,null,null,null,null,null,null,null,null,null,null,null,0,null,null,null,null,0]
[null,null,null,null,null,null,null,null,null,null,null,null,null,null,null,null,null,null,null,null,null,null,null,null,null,null,null,null,null,null,null,null,null,null,null,null,null,null,null,null,null,null,null,null,null,null,null,null,null,null,null,null,null,null,null,null,null,null,null,null,null,null,null,null,null,null,null,null,null,null,null,null,null,null,null,null,null,null,null,null,null,null,null,null,null,null,null,null,null,null,null,null,null,null,null,null,null,null,null,null,null,null,null,null,null,null,null,null,null,null,null,null,null,null,0,null,null,null,null,0]
[null,null,null,null,null,null,null,null,null,null,null,null,null,null,null,null,null,null,null,null,null,null,null,null,null,null,null,null,null,null,null,null,null,null,null,null,null,null,null,null,null,null,null,null,null,null,null,null,null,null,null,null,null,null,null,null,null,null,null,null,null,null,null,null,null,null,null,null,null,null,null,null,null,null,null,null,null,null,null,null,null,null,null,null,null,null,null,null,null,null,null,null,null,null,null,null,null,null,null,null,null,null,null,null,null,null,null,null,null,null,null,null,null,null,0,null,null,null,null,0]
[null,null,null,{"$f":"IF(COUNTIF(D53:D67,D53)>COUNTIF(E53:E67,E53),D53,E53)","v":"Everton"},null,null,null,null,null,null,null,null,null,null,null,null,null,null,null,null,null,null,null,null,null,null,null,null,null,null,null,null,null,null,null,null,null,null,null,null,null,null,null,null,null,null,null,null,null,null,null,null,null,null,null,null,null,null,null,null,null,null,null,null,null,null,null,null,null,null,null,null,null,null,null,null,null,null,null,null,null,"-","ср","+",{"$f":"ROUND(CH52,0)","v":1},{"$f":"SUM(CG53:CG63)/11","v":1.2727272727272727},null,null,null,null,null,null,null,null,null,null,"-","ср","+",{"$f":"ROUND(CW53,0)","v":2},null,null,null,null,null,null,null,null,null,null,null,null,null,{"$f":"ROUND(DI44,0)","v":2},{"$f":"ROUND(DL44,0)","v":1},null,{"$f":"ROUND(DN44,0)","v":3},null,null,{"$f":"DJ44","v":2},null,{"$f":"DS53","v":1},null,null,"-","ср","+",null,{"$f":"ROUND(DY53,0)","v":1},null,null,null,"Очки"]
[null,{"$f":"IF(Дома!B2=\"\",\"\",Дома!B2)","v":"2021.04.12 21:00"},{"$f":"IF(Дома!A2=\"\",\"\",Дома!A2)","v":"CHILE: Primera Division"},{"$f":"IF(Дома!C2=\"\",\"\",Дома!C2)","v":"Palestino"},{"$f":"IF(Дома!D2=\"\",\"\",Дома!D2)","v":"Everton"},{"$f":"IF(Дома!N2=\"\",\"\",CONCATENATE(Дома!L2,\" : \",Дома!M2))","v":"1 : 1"},{"$f":"VALUE(LEFT(F53,FIND(\":\",F53,1)-1))","v":1},{"$f":"VALUE(LEFT(RIGHT(F53,LEN(F53)-FIND(\":\",F53,1)),4))","v":1},null,null,null,null,null,null,null,null,null,null,null,null,null,null,null,null,null,null,null,null,null,null,null,null,null,null,null,null,null,null,null,null,null,null,null,null,null,null,null,null,null,null,null,null,null,null,null,null,null,null,null,null,null,null,null,null,null,null,null,null,null,null,null,null,null,null,null,null,null,{"$f":"IF(D53=$D$52,\"Дома\",\"В гостях\")","v":"В гостях"},{"$f":"IFERROR(IF(BZ53=\"Дома\",G53,H53),\"\")","v":1},{"$f":"IFERROR(IF(BZ53=\"Дома\",H53,G53),\"\")","v":1},{"$f":"AVEDEV(CA53:CA57)","v":0.6399999999999999},{"$f":"CE53-CC53","v":0.76},{"$f":"AVERAGE(CA53:CA57)","v":1.4},{"$f":"CE53+CC53","v":2.04},{"$f":"DB53","v":1},1,{"$f":"CG63","v":1},null,null,null,null,null,null,null,null,{"$f":"AVEDEV(CA53:CB57,CA69:CB73)","v":0.77999999999999992},{"$f":"CT53-CR53","v":1.6200000000000006},{"$f":"AVERAGE(CA53:CB57)+AVERAGE(CA69:CB73)","v":2.4000000000000004},{"$f":"CT53+CR53","v":3.18},{"$f":"AVERAGE(CA53:CB53)+AVERAGE(CA69:CB69)","v":2.5},{"$f":"SUM(CV53:CV63)/11","v":2.0454545454545454},null,null,null,null,{"$f":"CA53","v":1},{"$f":"IF($Z$3<DB53,1,\"\")","v":""},null,{"$f":"CA53+CB53","v":2},{"$f":"IF($Z$6<DE53,1,\"\")","v":""},{"$f":"CA69+CB69","v":3},{"$f":"IF($Z$6<DG53,1,\"\")","v":""},"15матчей",{"$f":"CA53","v":1},1,"15матчей",{"$f":"DJ53+DJ69","v":2},null,{"$f":"DM68","v":2},{"$f":"DJ68","v":1},null,{"$f":"DK53","v":1},{"$f":"ROUND(DS54,0)","v":1},{"$f":"AVEDEV(DR53:DR57)","v":0.64},{"$f":"DV53-DT53","v":0.16000000000000003},{"$f":"AVERAGE(DR53:DR57)","v":0.8},{"$f":"DV53+DT53","v":1.44},{"$f":"DR53","v":1},{"$f":"SUM(DX53:DX63)/11","v":0.90909090909090906},1,{"$f":"DX63","v":0},null,{"$f":"IF(OR(DJ53=\"\",DK53=\"\"),\"\",IF(DJ53>DK53,2,IF(DJ53<DK53,0,1)))","v":1},{"$f":"IF(EC53=\"\",\"\",IF(EC53=1,\"Н\",IF(EC53=0,\"П\",IF(EC53=2,\"В\"))))","v":"Н"},null,{"$f":"TREND(DJ53:DJ67,EE2:EE16,EE17)","v":1.5333333333333332},null,{"$f":"TREND(DK53:DK67,EE2:EE16,EE17)","v":0.58095238095238122}]
[null,{"$f":"IF(Дома!B3=\"\",\"\",Дома!B3)","v":"2021.04.02 21:00"},{"$f":"IF(Дома!A3=\"\",\"\",Дома!A3)","v":"CHILE: Primera Division"},{"$f":"IF(Дома!C3=\"\",\"\",Дома!C3)","v":"Antofagasta"},{"$f":"IF(Дома!D3=\"\",\"\",Дома!D3)","v":"Everton"},{"$f":"IF(Дома!N3=\"\",\"\",CONCATENATE(Дома!L3,\" : \",Дома!M3))","v":"2 : 1"},{"$f":"VALUE(LEFT(F54,FIND(\":\",F54,1)-1))","v":2},{"$f":"VALUE(LEFT(RIGHT(F54,LEN(F54)-FIND(\":\",F54,1)),4))","v":1},null,null,null,null,null,null,null,null,null,null,null,null,null,null,null,null,null,null,null,null,null,null,null,null,null,null,null,null,null,null,null,null,null,null,null,null,null,null,null,null,null,null,null,null,null,null,null,null,null,null,null,null,null,null,null,null,null,null,null,null,null,null,null,null,null,null,null,null,null,"В гостях",1,2,0.6399999999999999,0.76,1.4,2.04,1,2,{"$f":"CG62","v":1},null,null,null,null,null,null,null,null,0.85,{"$f":"CT54-CR54","v":1.65},2.5,{"$f":"CT54+CR54","v":3.35},3,null,null,null,null,null,1,"",null,3,"",3,"","СРЗаб",1,2,"СрПроп",{"$f":"DJ54+DJ70","v":2},null,{"$f":"DM53","v":2},{"$f":"DJ53","v":1},null,{"$f":"DK54","v":2},{"$f":"SUM(DR53:DR67)/15","v":0.8666666666666667},{"$f":"AVEDEV(DR54:DR58)","v":1.04},{"$f":"DV54-DT54","v":0.15999999999999992},{"$f":"AVERAGE(DR54:DR58)","v":1.2},{"$f":"DV54+DT54","v":2.2400000000000002},{"$f":"DR54","v":2},null,2,{"$f":"DX62","v":1},null,{"$f":"IF(OR(DJ54=\"\",DK54=\"\"),\"\",IF(DJ54>DK54,2,IF(DJ54<DK54,0,1)))","v":0},{"$f":"IF(EC54=\"\",\"\",IF(EC54=1,\"Н\",IF(EC54=0,\"П\",IF(EC54=2,\"В\"))))","v":"П"},null,{"$f":"ROUND(EF53,0)","v":2},null,{"$f":"ROUND(EH53,0)","v":1}]
[null,{"$f":"IF(Дома!B4=\"\",\"\",Дома!B4)","v":"2021.03.27 21:00"},{"$f":"IF(Дома!A4=\"\",\"\",Дома!A4)","v":"CHILE: Primera Division"},{"$f":"IF(Дома!C4=\"\",\"\",Дома!C4)","v":"Everton"},{"$f":"IF(Дома!D4=\"\",\"\",Дома!D4)","v":"O'Higgins"},{"$f":"IF(Дома!N4=\"\",\"\",CONCATENATE(Дома!L4,\" : \",Дома!M4))","v":"1 : 1"},1,1,null,null,null,null,null,null,null,null,null,null,null,null,null,null,null,null,null,null,null,null,null,null,null,null,null,null,null,null,null,null,null,null,null,null,null,null,null,null,null,null,null,null,null,null,null,null,null,null,null,null,null,null,null,null,null,null,null,null,null,null,null,null,null,null,null,null,null,null,null,"Дома",1,1,0.6399999999999999,0.76,1.4,2.04,1,3,{"$f":"CG61","v":1},null,null,null,null,null,null,null,null,0.78000000000000025,1.3199999999999998,2.1,2.8800000000000003,1,null,null,null,null,null,1,"",null,2,"",0,"",{"$f":"SUM(DJ53:DJ67)/15","v":1.3333333333333333},1,1,{"$f":"SUM(DK53:DK67)/15","v":0.8666666666666667},1,null,{"$f":"DM54","v":2},{"$f":"DJ54","v":1},null,1,null,0.8,0.19999999999999996,1,1.8,1,null,3,{"$f":"DX61","v":0},null,1,"Н"]
[null,{"$f":"IF(Дома!B5=\"\",\"\",Дома!B5)","v":"2021.02.14 15:30"},{"$f":"IF(Дома!A5=\"\",\"\",Дома!A5)","v":"CHILE: Primera Division"},{"$f":"IF(Дома!C5=\"\",\"\",Дома!C5)","v":"Everton"},{"$f":"IF(Дома!D5=\"\",\"\",Дома!D5)","v":"Huachipato"},{"$f":"IF(Дома!N5=\"\",\"\",CONCATENATE(Дома!L5,\" : \",Дома!M5))","v":"1 : 0"},1,0,null,null,null,null,null,null,null,null,null,null,null,null,null,null,null,null,null,null,null,null,null,null,null,null,null,null,null,null,null,null,null,null,null,null,null,null,null,null,null,null,null,null,null,null,null,null,null,null,null,null,null,null,null,null,null,null,null,null,null,null,null,null,null,null,null,null,null,null,null,"Дома",1,0,0.72,0.88000000000000012,1.6,2.3200000000000003,1,4,{"$f":"CG60","v":2},null,null,null,null,null,null,null,null,0.85,1.35,2.2000000000000002,3.0500000000000003,3.5,null,null,null,null,null,1,"",null,1,"",6,1,"5матчей",1,0,"5матчей",5,null,1,1,null,0,null,0.8,0.19999999999999996,1,1.8,0,null,4,{"$f":"DX60","v":1},null,2,"В"]
[null,{"$f":"IF(Дома!B6=\"\",\"\",Дома!B6)","v":"2021.02.11 23:30"},{"$f":"IF(Дома!A6=\"\",\"\",Дома!A6)","v":"CHILE: Primera Division"},{"$f":"IF(Дома!C6=\"\",\"\",Дома!C6)","v":"Coquimbo"},{"$f":"IF(Дома!D6=\"\",\"\",Дома!D6)","v":"Everton"},{"$f":"IF(Дома!N6=\"\",\"\",CONCATENATE(Дома!L6,\" : \",Дома!M6))","v":"0 : 3"},0,3,null,null,null,null,null,null,null,null,null,null,null,null,null,null,null,null,null,null,null,null,null,null,null,null,null,null,null,null,null,null,null,null,null,null,null,null,null,null,null,null,null,null,null,{"$f":"VLOOKUP(AX60,Таблица!B2:I80,6,FALSE)","v":4},{"$f":"VLOOKUP(AX60,Таблица!B2:I80,7,FALSE)","v":3},null,null,null,null,null,null,null,null,null,null,null,null,null,{"$f":"VLOOKUP(BL60,Форма!B2:I41,6,FALSE)","v":4},{"$f":"VLOOKUP(BL60,Форма!B2:I41,7,FALSE)","v":3},null,null,null,null,null,null,null,null,null,"В гостях",3,0,0.72,0.88000000000000012,1.6,2.3200000000000003,3,5,{"$f":"CG59","v":1},null,null,null,null,null,null,null,null,0.66499999999999992,1.2349999999999999,1.9,2.5649999999999999,2,null,null,null,null,null,3,1,null,3,"",1,"","СРЗаб",3,0,"СрПроп",4,null,5,1,null,0,null,0.8,0.19999999999999996,1,1.8,0,null,5,{"$f":"DX59","v":1},null,2,"В"]
[null,{"$f":"IF(Дома!B7=\"\",\"\",Дома!B7)","v":"2021.02.06 22:00"},{"$f":"IF(Дома!A7=\"\",\"\",Дома!A7)","v":"CHILE: Primera Division"},{"$f":"IF(Дома!C7=\"\",\"\",Дома!C7)","v":"Everton"},{"$f":"IF(Дома!D7=\"\",\"\",Дома!D7)","v":"Palestino"},{"$f":"IF(Дома!N7=\"\",\"\",CONCATENATE(Дома!L7,\" : \",Дома!M7))","v":"1 : 3"},1,3,null,null,null,null,null,null,null,null,null,null,null,null,null,null,null,null,null,null,null,null,null,null,null,null,null,null,null,null,null,null,null,null,null,null,null,null,null,null,null,null,null,null,null,{"$f":"VLOOKUP(AX61,Таблица!B2:I80,6,FALSE)","v":3},{"$f":"VLOOKUP(AX61,Таблица!B2:I80,7,FALSE)","v":3},null,null,null,null,null,null,null,null,null,null,null,null,null,{"$f":"VLOOKUP(BL61,Форма!B2:I41,6,FALSE)","v":3},{"$f":"VLOOKUP(BL61,Форма!B2:I41,7,FALSE)","v":3},null,null,null,null,null,null,null,null,null,"Дома",1,3,0.31999999999999995,0.88,1.2,1.52,1,6,{"$f":"CG58","v":1},null,null,null,null,null,null,null,null,0.5,1.5,2,2.5,3,null,null,null,null,null,1,"",null,4,1,2,"",{"$f":"SUM(DJ53:DJ57)/5","v":1.4},1,3,{"$f":"SUM(DK53:DK57)/5","v":0.8},2,null,4,3,null,3,null,0.72000000000000008,0.47999999999999987,1.2,1.92,3,null,6,{"$f":"DX58","v":3},null,0,"П"]
[null,{"$f":"IF(Дома!B8=\"\",\"\",Дома!B8)","v":"2021.01.20 00:15"},{"$f":"IF(Дома!A8=\"\",\"\",Дома!A8)","v":"CHILE: Primera Division"},{"$f":"IF(Дома!C8=\"\",\"\",Дома!C8)","v":"U. Catolica"},{"$f":"IF(Дома!D8=\"\",\"\",Дома!D8)","v":"Everton"},{"$f":"IF(Дома!N8=\"\",\"\",CONCATENATE(Дома!L8,\" : \",Дома!M8))","v":"1 : 1"},1,1,null,null,null,null,null,null,null,null,null,null,null,null,null,null,null,null,null,null,null,null,null,null,null,null,null,null,null,null,null,null,null,null,null,null,null,null,null,null,null,null,null,"команда",null,"з","пр","%%",null,"Игр","поб","пр",null,null,null,null,null,"команда",null,null,"з","пр","%%",null,null,"поб","пр",null,null,null,null,"В гостях",1,1,0.31999999999999995,0.88,1.2,1.52,1,7,{"$f":"CG57","v":3},null,null,null,null,null,null,null,null,0.6,0.9,1.5,2.1,1,null,null,null,null,null,1,"",null,2,"",0,"",null,1,1,null,1,null,2,1,null,1,null,0.48,0.12,0.6,1.08,1,null,7,{"$f":"DX57","v":0},null,1,"Н"]
[null,{"$f":"IF(Дома!B9=\"\",\"\",Дома!B9)","v":"2021.01.14 22:00"},{"$f":"IF(Дома!A9=\"\",\"\",Дома!A9)","v":"CHILE: Primera Division"},{"$f":"IF(Дома!C9=\"\",\"\",Дома!C9)","v":"Everton"},{"$f":"IF(Дома!D9=\"\",\"\",Дома!D9)","v":"A. Italiano"},{"$f":"IF(Дома!N9=\"\",\"\",CONCATENATE(Дома!L9,\" : \",Дома!M9))","v":"2 : 1"},2,1,null,null,null,null,null,null,null,null,null,null,null,null,null,null,null,null,null,null,null,null,null,null,null,null,null,null,null,null,null,null,null,null,null,null,null,null,null,null,null,null,null,{"$f":"SVOD!A1","v":"Everton"},null,{"$f":"AZ57","v":4},{"$f":"BA57","v":3},{"$f":"VLOOKUP(AX60,Таблица!B2:I80,8,FALSE)","v":5},{"$f":"IF(BB60=0,0.001,BB60)","v":5},{"$f":"VLOOKUP(AX60,Таблица!B2:I80,2,FALSE)","v":3},{"$f":"VLOOKUP(AX60,Таблица!B2:I80,3,FALSE)","v":1},{"$f":"VLOOKUP(AX60,Таблица!B2:I80,4,FALSE)","v":2},{"$f":"BE60*1","v":1},{"$f":"BF60*1.5","v":3},null,null,null,{"$f":"AX60","v":"Everton"},null,null,{"$f":"BO57","v":4},{"$f":"BP57","v":3},{"$f":"VLOOKUP(AX60,Форма!B2:I31,8,FALSE)","v":5},{"$f":"IF(BQ60=0,0.001,BQ60)","v":5},{"$f":"VLOOKUP(AX60,Форма!B2:I31,2,FALSE)","v":3},{"$f":"VLOOKUP(AX60,Форма!B2:I31,3,FALSE)","v":1},{"$f":"VLOOKUP(AX60,Форма!B2:I31,4,FALSE)","v":2},{"$f":"BT60*1","v":1},{"$f":"BU60*1.5","v":3},null,null,"Дома",2,1,0.4,0.6,1,1.4,2,8,{"$f":"CG56","v":1},null,null,null,null,null,null,null,null,0.6,0.9,1.5,2.1,1.5,null,null,null,null,null,2,1,null,3,"",0,"",null,2,1,null,2,null,1,1,null,1,null,0.48,-7.999999999999996E-2,0.4,0.88,1,null,8,{"$f":"DX56","v":0},null,2,"В"]
[null,{"$f":"IF(Дома!B10=\"\",\"\",Дома!B10)","v":"2021.01.10 23:30"},{"$f":"IF(Дома!A10=\"\",\"\",Дома!A10)","v":"CHILE: Primera Division"},{"$f":"IF(Дома!C10=\"\",\"\",Дома!C10)","v":"Colo Colo"},{"$f":"IF(Дома!D10=\"\",\"\",Дома!D10)","v":"Everton"},{"$f":"IF(Дома!N10=\"\",\"\",CONCATENATE(Дома!L10,\" : \",Дома!M10))","v":"0 : 1"},0,1,null,null,null,null,null,null,null,null,null,null,null,null,null,null,null,null,null,null,null,null,null,null,null,null,null,null,null,null,null,null,null,null,null,null,null,null,null,null,null,null,null,{"$f":"SVOD!A7","v":"Colo Colo"},null,{"$f":"AZ58","v":3},{"$f":"BA58","v":3},{"$f":"VLOOKUP(AX61,Таблица!B2:I80,8,FALSE)","v":4},{"$f":"IF(BB61=0,0.001,BB61)","v":4},{"$f":"VLOOKUP(AX61,Таблица!B2:I80,2,FALSE)","v":3},{"$f":"VLOOKUP(AX61,Таблица!B2:I80,3,FALSE)","v":1},{"$f":"VLOOKUP(AX61,Таблица!B2:I80,4,FALSE)","v":1},{"$f":"BE61*1","v":1},{"$f":"BF61*1.5","v":1.5},null,null,null,{"$f":"AX61","v":"Colo Colo"},null,null,{"$f":"BO58","v":3},{"$f":"BP58","v":3},{"$error":"#N/A"},{"$f":"IF(BQ61=0,0.001,BQ61)","v":{"$error":"#N/A"}},{"$f":"VLOOKUP(AX61,Форма!B2:I31,2,FALSE)","v":3},{"$f":"VLOOKUP(AX61,Форма!B2:I31,3,FALSE)","v":1},{"$f":"VLOOKUP(AX61,Форма!B2:I31,4,FALSE)","v":1},{"$f":"BT61*1","v":1},{"$f":"BU61*1.5","v":1.5},null,null,"В гостях",1,0,0.72,0.48,1.2,1.92,1,9,{"$f":"CG55","v":1},null,null,null,null,null,null,null,null,0.6399999999999999,0.96000000000000019,1.6,2.2400000000000002,2,null,null,null,null,null,1,"",null,1,"",3,"",null,1,0,null,3,null,2,2,null,0,null,0.31999999999999995,-0.11999999999999994,0.2,0.52,0,null,9,{"$f":"DX55","v":1},null,2,"В"]
[null,{"$f":"IF(Дома!B11=\"\",\"\",Дома!B11)","v":"2021.01.06 22:00"},{"$f":"IF(Дома!A11=\"\",\"\",Дома!A11)","v":"CHILE: Primera Division"},{"$f":"IF(Дома!C11=\"\",\"\",Дома!C11)","v":"La Serena"},{"$f":"IF(Дома!D11=\"\",\"\",Дома!D11)","v":"Everton"},{"$f":"IF(Дома!N11=\"\",\"\",CONCATENATE(Дома!L11,\" : \",Дома!M11))","v":"1 : 1"},1,1,null,null,null,null,null,null,null,null,null,null,null,null,null,null,null,null,null,null,null,null,null,null,null,null,null,null,null,null,null,null,null,null,null,null,null,null,null,null,null,null,null,null,null,null,null,null,null,null,null,null,null,null,null,null,null,null,null,5,null,null,null,null,null,null,null,null,null,null,null,"В гостях",1,1,0.72,0.48,1.2,1.92,1,10,{"$f":"CG54","v":1},null,null,null,null,null,null,null,null,0.72,1.08,1.8,2.52,2.5,null,null,null,null,null,1,"",null,2,"",3,"",null,1,1,null,3,null,3,1,null,1,null,0.72,-0.12,0.6,1.3199999999999998,1,null,10,{"$f":"DX54","v":2},null,1,"Н"]
[null,{"$f":"IF(Дома!B12=\"\",\"\",Дома!B12)","v":"2021.01.02 22:00"},{"$f":"IF(Дома!A12=\"\",\"\",Дома!A12)","v":"CHILE: Primera Division"},{"$f":"IF(Дома!C12=\"\",\"\",Дома!C12)","v":"Everton"},{"$f":"IF(Дома!D12=\"\",\"\",Дома!D12)","v":"Deportes Iquique"},{"$f":"IF(Дома!N12=\"\",\"\",CONCATENATE(Дома!L12,\" : \",Дома!M12))","v":"1 : 0"},1,0,null,null,null,null,null,null,null,null,null,null,null,null,null,null,null,null,null,null,null,null,null,null,null,null,null,null,null,null,null,null,null,null,null,null,null,null,null,null,null,null,null,null,null,null,null,null,null,null,null,null,null,null,null,null,null,null,null,null,null,null,null,null,null,null,null,null,null,null,null,"Дома",1,0,0.88000000000000012,0.5199999999999998,1.4,2.2800000000000002,1,11,{"$f":"CG53","v":1},null,null,null,null,null,null,null,null,0.76500000000000001,0.93499999999999994,1.7,2.4649999999999999,0.5,null,null,null,null,null,1,"",null,1,"",0,"",null,1,0,null,1,null,3,1,null,0,null,0.72,{"$f":"DV63-DT63","v":-0.12},0.6,{"$f":"DV63+DT63","v":1.3199999999999998},0,{"$f":"DY64","v":1.4},11,{"$f":"DX53","v":1},null,2,"В"]
[null,{"$f":"IF(Дома!B13=\"\",\"\",Дома!B13)","v":"2020.12.29 00:30"},{"$f":"IF(Дома!A13=\"\",\"\",Дома!A13)","v":"CHILE: Primera Division"},{"$f":"IF(Дома!C13=\"\",\"\",Дома!C13)","v":"U. De Concepcion"},{"$f":"IF(Дома!D13=\"\",\"\",Дома!D13)","v":"Everton"},{"$f":"IF(Дома!N13=\"\",\"\",CONCATENATE(Дома!L13,\" : \",Дома!M13))","v":"0 : 0"},0,0,null,null,null,null,null,null,null,null,null,null,null,null,null,null,null,null,null,null,null,null,null,null,null,null,null,null,null,null,null,null,null,null,null,null,null,null,null,null,null,null,null,null,null,{"$f":"AZ60/BD60","v":1.3333333333333333},{"$f":"BA60/BD60","v":1},null,{"$f":"AZ60/(AZ60+BA60)","v":0.5714285714285714},{"$f":"AZ61/(AZ61+BA61)","v":0.5},null,null,null,null,null,null,null,null,null,null,{"$f":"BO60/BS60","v":1.3333333333333333},{"$f":"BP60/BS60","v":1},null,{"$f":"BO60/(BO60+BP60)","v":0.5714285714285714},{"$f":"BO61/(BO61+BP61)","v":0.5},null,null,null,null,null,null,"В гостях",0,0,null,{"$f":"AVERAGE(CD53:CD63)","v":0.71636363636363631},{"$f":"AVERAGE(CE53:CE63)","v":1.3272727272727269},{"$f":"AVERAGE(CF53:CF63)","v":1.9381818181818182},{"$f":"TREND(CI53:CI63,CH53:CH63,CH64)","v":1.2727272727272727},12,null,null,null,null,null,null,null,null,null,null,{"$f":"AVERAGE(CS53:CS63)","v":1.2227272727272729},{"$f":"AVERAGE(CT53:CT63)","v":1.9272727272727275},{"$f":"AVERAGE(CU53:CU63)","v":2.6318181818181823},null,null,null,null,null,null,0,"",null,0,"",2,"",null,0,0,null,1,null,1,1,null,0,null,null,{"$f":"AVERAGE(DU53:DU63)","v":9.8181818181818148E-2},{"$f":"AVERAGE(DV53:DV63)","v":0.78181818181818175},{"$f":"AVERAGE(DW53:DW63)","v":1.4654545454545456},null,{"$f":"TREND(EA53:EA63,DZ53:DZ63,DZ64)","v":1.4},12,null,null,1,"Н"]
[null,{"$f":"IF(Дома!B14=\"\",\"\",Дома!B14)","v":"2020.12.22 15:30"},{"$f":"IF(Дома!A14=\"\",\"\",Дома!A14)","v":"CHILE: Primera Division"},{"$f":"IF(Дома!C14=\"\",\"\",Дома!C14)","v":"Everton"},{"$f":"IF(Дома!D14=\"\",\"\",Дома!D14)","v":"Cobresal"},{"$f":"IF(Дома!N14=\"\",\"\",CONCATENATE(Дома!L14,\" : \",Дома!M14))","v":"3 : 0"},3,0,null,null,null,null,null,null,null,null,null,null,null,null,null,null,null,null,null,null,null,null,null,null,null,null,null,null,null,null,null,null,null,null,null,null,null,null,null,null,null,null,null,null,null,{"$f":"AZ61/BD61","v":1},{"$f":"BA61/BD61","v":1},null,{"$f":"BC64*BC64","v":0.32653061224489793},{"$f":"BD64*BD64","v":0.25},null,null,null,null,null,null,null,null,null,null,{"$f":"BO61/BS61","v":1},{"$f":"BP61/BS61","v":1},null,{"$f":"BR64*BR64","v":0.32653061224489793},{"$f":"BS64*BS64","v":0.25},null,null,null,null,null,null,"Дома",3,0,null,null,null,null,{"$f":"CG64","v":1.2727272727272727},null,null,null,null,null,null,null,null,null,null,null,null,null,null,null,null,null,null,null,null,3,1,null,3,"",1,"",null,3,0,null,4,null,1,0,null,0,null,null,null,null,null,null,null,null,null,null,2,"В"]
[null,{"$f":"IF(Дома!B15=\"\",\"\",Дома!B15)","v":"2020.12.17 01:30"},{"$f":"IF(Дома!A15=\"\",\"\",Дома!A15)","v":"CHILE: Primera Division"},{"$f":"IF(Дома!C15=\"\",\"\",Дома!C15)","v":"Everton"},{"$f":"IF(Дома!D15=\"\",\"\",Дома!D15)","v":"U. Espanola"},{"$f":"IF(Дома!N15=\"\",\"\",CONCATENATE(Дома!L15,\" : \",Дома!M15))","v":"1 : 2"},1,2,null,null,null,null,null,null,null,null,null,null,null,null,null,null,null,null,null,null,null,null,null,null,null,null,null,null,null,null,null,null,null,null,null,null,null,null,null,null,null,null,null,null,null,null,null,null,{"$f":"BC65/(BC65+BD65)","v":0.5663716814159292},{"$f":"BD65/(BD65+BC65)","v":0.43362831858407086},null,null,null,null,null,null,null,null,null,null,null,null,null,{"$f":"BR65/(BR65+BS65)","v":0.5663716814159292},{"$f":"BS65/(BS65+BR65)","v":0.43362831858407086},null,null,null,null,null,null,"Дома",1,2,null,null,null,null,null,null,null,null,null,null,null,null,null,null,null,null,null,null,null,null,null,null,null,null,null,1,"",null,3,"",3,"",null,1,2,null,4,null,4,3,null,2,null,null,null,null,null,null,null,null,null,null,0,"П"]
[null,{"$f":"IF(Дома!B16=\"\",\"\",Дома!B16)","v":"2020.12.14 00:15"},{"$f":"IF(Дома!A16=\"\",\"\",Дома!A16)","v":"CHILE: Primera Division"},{"$f":"IF(Дома!C16=\"\",\"\",Дома!C16)","v":"S. Wanderers"},{"$f":"IF(Дома!D16=\"\",\"\",Дома!D16)","v":"Everton"},{"$f":"IF(Дома!N16=\"\",\"\",CONCATENATE(Дома!L16,\" : \",Дома!M16))","v":"1 : 2"},1,2,null,null,null,null,null,null,null,null,null,null,null,null,null,null,null,null,null,null,null,null,null,null,null,null,null,null,null,null,null,null,null,null,null,null,null,null,null,null,null,null,null,null,null,{"$f":"AZ64+BA65","v":2.333333333333333},{"$f":"AZ65+BA64","v":2},null,null,null,null,null,{"$f":"AVERAGE(AY74,BN74)","v":0.25},null,{"$f":"(BC66+BR66)","v":1.1327433628318584},{"$f":"(BD66+BS66)","v":0.86725663716814172},null,{"$f":"MIN(AZ69:BA69,BO69:BP69)","v":2},{"$f":"MAX(AZ69:BA69,BO69:BP69)","v":2},null,{"$f":"BO64+BP65","v":2.333333333333333},{"$f":"BO65+BP64","v":2},null,null,null,null,null,null,null,null,null,"В гостях",2,1,null,null,null,null,null,null,null,null,null,null,null,null,null,null,null,null,null,null,null,null,null,null,null,null,null,2,1,null,3,"",1,"",{"$f":"SUM(DJ53:DJ67)/15","v":1.3333333333333333},2,1,{"$f":"SUM(DK53:DK67)/15","v":0.8666666666666667},2,{"$f":"SUM(DM53:DM67)/15","v":2.4666666666666668},4,1,null,1,null,null,null,null,null,null,null,null,null,null,2,"В"]
[null,null,null,{"$f":"IF(COUNTIF(D69:D83,D69)>COUNTIF(E69:E83,E69),D69,E69)","v":"Colo Colo"},null,null,null,null,null,null,null,null,null,null,null,null,null,null,null,null,null,null,null,null,null,null,null,null,null,null,null,null,null,null,null,null,null,null,null,null,null,null,null,null,null,null,null,null,null,null,null,{"$f":"AZ67/2","v":1.1666666666666665},{"$f":"BA67/2","v":1},null,null,null,null,null,{"$f":"AVERAGE(AY75,BN75)","v":-33.333333333333329},null,{"$f":"BI67*BI67","v":1.2831075260396272},{"$f":"BJ67*BJ67","v":0.75213407471219385},null,{"$f":"_xlfn.FLOOR.MATH(BL67,1)","v":2},{"$f":"_xlfn.CEILING.MATH(BM67,1)","v":2},null,{"$f":"BO67/2","v":1.1666666666666665},{"$f":"BP67/2","v":1},null,null,null,null,null,null,null,null,null,null,null,null,null,"-","ср","+",{"$f":"ROUND(CH68,0)","v":1},{"$f":"SUM(CG69:CG79)/11","v":1.0909090909090908},null,null,null,null,null,null,null,null,null,null,null,null,null,null,null,null,null,null,null,null,null,null,null,null,null,null,null,{"$f":"ROUND(DI67,0)","v":1},{"$f":"ROUND(DL67,0)","v":1},null,{"$f":"ROUND(DN67,0)","v":2},null,2,2,null,{"$f":"DS69","v":1},null,null,"-","ср","+",null,{"$f":"ROUND(DY69,0)","v":1},null,null,null,"Очки"]
[null,{"$f":"IF(Гости!B2=\"\",\"\",Гости!B2)","v":"2021.04.12 02:00"},{"$f":"IF(Гости!A2=\"\",\"\",Гости!A2)","v":"CHILE: Primera Division"},{"$f":"IF(Гости!C2=\"\",\"\",Гости!C2)","v":"Colo Colo"},{"$f":"IF(Гости!D2=\"\",\"\",Гости!D2)","v":"O'Higgins"},{"$f":"IF(Гости!N2=\"\",\"\",CONCATENATE(Гости!L2,\" : \",Гости!M2))","v":"1 : 2"},{"$f":"VALUE(LEFT(F69,FIND(\":\",F69,1)-1))","v":1},{"$f":"VALUE(LEFT(RIGHT(F69,LEN(F69)-FIND(\":\",F69,1)),4))","v":2},null,null,null,null,null,null,null,null,null,null,null,null,null,null,null,null,null,null,null,null,null,null,null,null,null,null,null,null,null,null,null,null,null,null,null,null,null,null,null,null,null,null,null,{"$f":"_xlfn.FLOOR.MATH(AZ67)","v":2},{"$f":"_xlfn.FLOOR.MATH(BA67)","v":2},null,null,null,null,null,null,null,{"$f":"BI68/(BI68+BJ68)","v":0.63044482068647067},{"$f":"BJ68/(BJ68+BI68)","v":0.36955517931352944},null,{"$f":"BL68-2.5","v":-0.5},{"$f":"BM68+2.5","v":4.5},null,{"$f":"_xlfn.FLOOR.MATH(BO67)","v":2},{"$f":"_xlfn.FLOOR.MATH(BP67)","v":2},null,null,null,null,null,null,null,null,null,{"$f":"IF(D69=$D$68,\"Дома\",\"В гостях\")","v":"Дома"},{"$f":"IFERROR(IF(BZ69=\"Дома\",G69,H69),\"\")","v":1},{"$f":"IFERROR(IF(BZ69=\"Дома\",H69,G69),\"\")","v":2},{"$f":"AVEDEV(CA69:CA73)","v":1.0399999999999998},{"$f":"CE69-CC69","v":0.3600000000000001},{"$f":"AVERAGE(CA69:CA73)","v":1.4},{"$f":"CE69+CC69","v":2.4399999999999995},{"$f":"DB69","v":1},1,{"$f":"CG79","v":0},null,null,null,null,null,null,null,null,null,null,null,null,null,null,null,null,null,null,{"$f":"CA69","v":1},{"$f":"IF($Z$4<DB69,1,\"\")","v":""},null,null,null,null,null,"15матчей",{"$f":"CA69","v":1},2,"15матчей",{"$f":"DJ69+DK69","v":3},null,{"$f":"DJ84","v":1},null,null,{"$f":"DK69","v":2},{"$f":"ROUND(DS70,0)","v":1},{"$f":"AVEDEV(DR69:DR73)","v":0.96},{"$f":"DV69-DT69","v":0.24},{"$f":"AVERAGE(DR69:DR73)","v":1.2},{"$f":"DV69+DT69","v":2.16},{"$f":"DR69","v":2},{"$f":"SUM(DX69:DX79)/11","v":0.81818181818181823},1,{"$f":"DX79","v":0},null,{"$f":"IF(OR(DJ69=\"\",DK69=\"\"),\"\",IF(DJ69>DK69,2,IF(DJ69<DK69,0,1)))","v":0},{"$f":"IF(EC69=\"\",\"\",IF(EC69=1,\"Н\",IF(EC69=0,\"П\",IF(EC69=2,\"В\"))))","v":"П"},null,{"$f":"TREND(DJ69:DJ83,EE2:EE16,EE17)","v":1.1047619047619048},null,{"$f":"TREND(DK69:DK83,EE2:EE16,EE17)","v":0.10476190476190483}]
[null,{"$f":"IF(Гости!B3=\"\",\"\",Гости!B3)","v":"2021.04.04 01:30"},{"$f":"IF(Гости!A3=\"\",\"\",Гости!A3)","v":"CHILE: Primera Division"},{"$f":"IF(Гости!C3=\"\",\"\",Гости!C3)","v":"Cobresal"},{"$f":"IF(Гости!D3=\"\",\"\",Гости!D3)","v":"Colo Colo"},{"$f":"IF(Гости!N3=\"\",\"\",CONCATENATE(Гости!L3,\" : \",Гости!M3))","v":"2 : 1"},{"$f":"VALUE(LEFT(F70,FIND(\":\",F70,1)-1))","v":2},{"$f":"VALUE(LEFT(RIGHT(F70,LEN(F70)-FIND(\":\",F70,1)),4))","v":1},null,null,null,null,null,null,null,null,null,null,null,null,null,null,null,null,null,null,null,null,null,null,null,null,null,null,null,null,null,null,null,null,null,null,null,null,null,null,null,null,null,null,null,null,null,null,null,null,null,null,null,null,null,null,null,null,null,null,null,null,null,null,null,null,null,null,null,null,null,"В гостях",1,2,{"$f":"AVEDEV(CA70:CA74)","v":1.0400000000000003},{"$f":"CE70-CC70","v":0.35999999999999965},{"$f":"AVERAGE(CA70:CA74)","v":1.4},{"$f":"CE70+CC70","v":2.4400000000000004},1,2,{"$f":"CG78","v":2},null,null,null,null,null,null,null,null,null,null,null,null,null,null,null,null,null,null,1,"",null,null,null,null,null,"СРЗаб",1,2,"СрПроп",{"$f":"DJ70+DK70","v":3},null,{"$f":"DJ69","v":1},null,null,{"$f":"DK70","v":2},{"$f":"SUM(DR69:DR83)/15","v":0.73333333333333328},{"$f":"AVEDEV(DR70:DR74)","v":0.8},{"$f":"DV70-DT70","v":0.19999999999999996},{"$f":"AVERAGE(DR70:DR74)","v":1},{"$f":"DV70+DT70","v":1.8},{"$f":"DR70","v":2},null,2,{"$f":"DX78","v":1},null,{"$f":"IF(OR(DJ70=\"\",DK70=\"\"),\"\",IF(DJ70>DK70,2,IF(DJ70<DK70,0,1)))","v":0},{"$f":"IF(EC70=\"\",\"\",IF(EC70=1,\"Н\",IF(EC70=0,\"П\",IF(EC70=2,\"В\"))))","v":"П"},null,{"$f":"ROUND(EF69,0)","v":1},null,{"$f":"ROUND(EH69,0)","v":0}]
[null,{"$f":"IF(Гости!B4=\"\",\"\",Гости!B4)","v":"2021.03.27 23:30"},{"$f":"IF(Гости!A4=\"\",\"\",Гости!A4)","v":"CHILE: Primera Division"},{"$f":"IF(Гости!C4=\"\",\"\",Гости!C4)","v":"Colo Colo"},{"$f":"IF(Гости!D4=\"\",\"\",Гости!D4)","v":"Union La Calera"},{"$f":"IF(Гости!N4=\"\",\"\",CONCATENATE(Гости!L4,\" : \",Гости!M4))","v":"0 : 0"},0,0,null,null,null,null,null,null,null,null,null,null,null,null,null,null,null,null,null,null,null,null,null,null,null,null,null,null,null,null,null,null,null,null,null,null,null,null,null,null,null,null,null,null,null,null,null,null,null,null,null,null,null,null,null,null,null,{"$f":"AVERAGE(BL69:BM69)","v":2},null,null,null,null,null,null,null,null,null,null,null,null,null,"Дома",0,0,1.1200000000000001,7.9999999999999849E-2,1.2,2.3200000000000003,0,3,{"$f":"CG77","v":2},null,null,null,null,null,null,null,null,null,null,null,null,null,null,null,null,null,null,0,"",null,null,null,null,null,{"$f":"SUM(DJ69:DJ83)/15","v":1.1333333333333333},0,0,{"$f":"SUM(DK69:DK83)/15","v":0.73333333333333328},0,null,{"$f":"DJ70","v":1},null,null,0,null,0.72,-0.12,0.6,1.3199999999999998,0,null,3,{"$f":"DX77","v":1},null,1,"Н"]
[null,{"$f":"IF(Гости!B5=\"\",\"\",Гости!B5)","v":"2021.03.21 23:00"},{"$f":"IF(Гости!A5=\"\",\"\",Гости!A5)","v":"CHILE: Super Cup"},{"$f":"IF(Гости!C5=\"\",\"\",Гости!C5)","v":"U. Catolica"},{"$f":"IF(Гости!D5=\"\",\"\",Гости!D5)","v":"Colo Colo"},{"$f":"IF(Гости!N5=\"\",\"\",CONCATENATE(Гости!L5,\" : \",Гости!M5))","v":"2 : 4"},2,4,null,null,null,null,null,null,null,null,null,null,null,null,null,null,null,null,null,null,null,null,null,null,null,null,null,null,null,null,null,null,null,null,null,null,null,null,null,null,null,null,null,null,null,null,null,null,null,null,null,null,null,null,null,null,null,null,null,null,null,null,null,null,null,null,null,null,null,null,null,"В гостях",4,2,1.1200000000000001,7.9999999999999849E-2,1.2,2.3200000000000003,4,4,{"$f":"CG76","v":0},null,null,null,null,null,null,null,null,null,null,null,null,null,null,null,null,null,null,4,1,null,null,null,null,null,"5матчей",4,2,"5матчей",6,null,0,null,null,2,null,0.72,-0.12,0.6,1.3199999999999998,2,null,4,{"$f":"DX76","v":0},null,2,"В"]
[null,{"$f":"IF(Гости!B6=\"\",\"\",Гости!B6)","v":"2021.02.17 23:00"},{"$f":"IF(Гости!A6=\"\",\"\",Гости!A6)","v":"CHILE: Primera Division - Relegation - Play Offs"},{"$f":"IF(Гости!C6=\"\",\"\",Гости!C6)","v":"Colo Colo"},{"$f":"IF(Гости!D6=\"\",\"\",Гости!D6)","v":"U. De Concepcion"},{"$f":"IF(Гости!N6=\"\",\"\",CONCATENATE(Гости!L6,\" : \",Гости!M6))","v":"1 : 0"},1,0,null,null,null,null,null,null,null,null,null,null,null,null,null,null,null,null,null,null,null,null,null,null,null,null,null,null,null,null,null,null,null,null,null,null,null,null,null,null,null,null,null,null,null,null,null,null,null,null,null,null,null,null,null,null,null,null,null,null,null,null,null,null,null,null,null,null,null,null,null,"Дома",1,0,0.64,0.16000000000000003,0.8,1.44,1,5,{"$f":"CG75","v":0},null,null,null,null,null,null,null,null,null,null,null,null,null,null,null,null,null,null,1,"",null,null,null,null,null,"СРЗаб",1,0,"СрПроп",1,null,4,null,null,0,null,0.48,-7.999999999999996E-2,0.4,0.88,0,null,5,{"$f":"DX75","v":0},null,2,"В"]
[null,{"$f":"IF(Гости!B7=\"\",\"\",Гости!B7)","v":"2021.02.14 23:00"},{"$f":"IF(Гости!A7=\"\",\"\",Гости!A7)","v":"CHILE: Primera Division"},{"$f":"IF(Гости!C7=\"\",\"\",Гости!C7)","v":"O'Higgins"},{"$f":"IF(Гости!D7=\"\",\"\",Гости!D7)","v":"Colo Colo"},{"$f":"IF(Гости!N7=\"\",\"\",CONCATENATE(Гости!L7,\" : \",Гости!M7))","v":"1 : 1"},1,1,null,null,null,null,null,null,null,null,null,null,null,null,null,null,null,null,null,null,null,null,null,null,null,null,null,null,null,null,null,null,null,null,null,null,null,null,null,null,null,null,null,null,{"$f":"(AZ60-BA60)/AZ60+(BA61-AZ61)/BA61*100","v":0.25},null,null,null,null,null,null,null,null,null,null,null,null,null,null,{"$f":"(BO60-BP60)/BO60+(BP61-BO61)/BP61*100","v":0.25},null,null,null,null,null,null,null,null,null,null,null,"В гостях",1,1,0.8,0.19999999999999996,1,1.8,1,6,{"$f":"CG74","v":1},null,null,null,null,null,null,null,null,null,null,null,null,null,null,null,null,null,null,1,"",null,null,null,null,null,{"$f":"SUM(DJ69:DJ73)/5","v":1.4},1,1,{"$f":"SUM(DK69:DK73)/5","v":1.2},2,null,1,null,null,1,null,0.48,0.12,0.6,1.08,1,null,6,{"$f":"DX74","v":1},null,1,"Н"]
[null,{"$f":"IF(Гости!B8=\"\",\"\",Гости!B8)","v":"2021.02.11 23:30"},{"$f":"IF(Гости!A8=\"\",\"\",Гости!A8)","v":"CHILE: Primera Division"},{"$f":"IF(Гости!C8=\"\",\"\",Гости!C8)","v":"Colo Colo"},{"$f":"IF(Гости!D8=\"\",\"\",Гости!D8)","v":"Cobresal"},{"$f":"IF(Гости!N8=\"\",\"\",CONCATENATE(Гости!L8,\" : \",Гости!M8))","v":"0 : 0"},0,0,null,null,null,null,null,null,null,null,null,null,null,null,null,null,null,null,null,null,null,null,null,null,null,null,null,null,null,null,null,null,null,null,null,null,null,null,null,null,null,null,null,null,{"$f":"(AZ61-BA61)/AZ61+(BA60-AZ60)/BA60*100","v":-33.333333333333329},null,null,null,null,null,null,null,null,null,null,null,null,null,null,{"$f":"(BO61-BP61)/BO61+(BP60-BO60)/BP60*100","v":-33.333333333333329},null,null,null,null,null,null,null,null,null,null,null,"Дома",0,0,0.96,-0.15999999999999992,0.8,1.76,0,7,{"$f":"CG73","v":1},null,null,null,null,null,null,null,null,null,null,null,null,null,null,null,null,null,null,0,"",null,null,null,null,null,null,0,0,null,0,null,1,null,null,0,null,0.48,-7.999999999999996E-2,0.4,0.88,0,null,7,{"$f":"DX73","v":0},null,1,"Н"]
[null,{"$f":"IF(Гости!B9=\"\",\"\",Гости!B9)","v":"2021.02.07 02:30"},{"$f":"IF(Гости!A9=\"\",\"\",Гости!A9)","v":"CHILE: Primera Division"},{"$f":"IF(Гости!C9=\"\",\"\",Гости!C9)","v":"Deportes Iquique"},{"$f":"IF(Гости!D9=\"\",\"\",Гости!D9)","v":"Colo Colo"},{"$f":"IF(Гости!N9=\"\",\"\",CONCATENATE(Гости!L9,\" : \",Гости!M9))","v":"0 : 0"},0,0,null,null,null,null,null,null,null,null,null,null,null,null,null,null,null,null,null,null,null,null,null,null,null,null,null,null,null,null,null,null,null,null,null,null,null,null,null,null,null,null,null,null,null,null,null,null,null,null,null,null,null,null,null,null,null,null,null,null,null,null,null,null,null,null,null,null,null,null,null,"В гостях",0,0,0.8,0.19999999999999996,1,1.8,0,8,{"$f":"CG72","v":4},null,null,null,null,null,null,null,null,null,null,null,null,null,null,null,null,null,null,0,"",null,null,null,null,null,null,0,0,null,0,null,0,null,null,0,null,0.48,0.12,0.6,1.08,0,null,8,{"$f":"DX72","v":2},null,1,"Н"]
[null,{"$f":"IF(Гости!B10=\"\",\"\",Гости!B10)","v":"2021.01.31 23:30"},{"$f":"IF(Гости!A10=\"\",\"\",Гости!A10)","v":"CHILE: Primera Division"},{"$f":"IF(Гости!C10=\"\",\"\",Гости!C10)","v":"Colo Colo"},{"$f":"IF(Гости!D10=\"\",\"\",Гости!D10)","v":"Union La Calera"},{"$f":"IF(Гости!N10=\"\",\"\",CONCATENATE(Гости!L10,\" : \",Гости!M10))","v":"2 : 1"},2,1,null,null,null,null,null,null,null,null,null,null,null,null,null,null,null,null,null,null,null,null,null,null,null,null,null,null,null,null,null,null,null,null,null,null,null,null,null,null,null,null,null,null,null,null,null,null,null,null,null,null,null,null,null,null,null,null,null,null,null,null,null,null,null,null,null,null,null,null,null,"Дома",2,1,0.64,0.55999999999999994,1.2,1.8399999999999999,2,9,{"$f":"CG71","v":0},null,null,null,null,null,null,null,null,null,null,null,null,null,null,null,null,null,null,2,1,null,null,null,null,null,null,2,1,null,3,null,0,null,null,1,null,0.48,0.12,0.6,1.08,1,null,9,{"$f":"DX71","v":0},null,2,"В"]
[null,{"$f":"IF(Гости!B11=\"\",\"\",Гости!B11)","v":"2021.01.23 23:00"},{"$f":"IF(Гости!A11=\"\",\"\",Гости!A11)","v":"CHILE: Primera Division"},{"$f":"IF(Гости!C11=\"\",\"\",Гости!C11)","v":"Colo Colo"},{"$f":"IF(Гости!D11=\"\",\"\",Гости!D11)","v":"Coquimbo"},{"$f":"IF(Гости!N11=\"\",\"\",CONCATENATE(Гости!L11,\" : \",Гости!M11))","v":"2 : 1"},2,1,null,null,null,null,null,null,null,null,null,null,null,null,null,null,null,null,null,null,null,null,null,null,null,null,null,null,null,null,null,null,null,null,null,null,null,null,null,null,null,null,null,null,null,null,null,null,null,null,null,null,null,null,null,null,null,null,null,null,null,null,null,null,null,null,null,null,null,null,null,"Дома",2,1,0.88000000000000012,0.5199999999999998,1.4,2.2800000000000002,2,10,{"$f":"CG70","v":1},null,null,null,null,null,null,null,null,null,null,null,null,null,null,null,null,null,null,2,1,null,null,null,null,null,null,2,1,null,3,null,2,null,null,1,null,0.48,-7.999999999999996E-2,0.4,0.88,1,null,10,{"$f":"DX70","v":2},null,2,"В"]
[null,{"$f":"IF(Гости!B12=\"\",\"\",Гости!B12)","v":"2021.01.17 23:00"},{"$f":"IF(Гости!A12=\"\",\"\",Гости!A12)","v":"CHILE: Primera Division"},{"$f":"IF(Гости!C12=\"\",\"\",Гости!C12)","v":"Colo Colo"},{"$f":"IF(Гости!D12=\"\",\"\",Гости!D12)","v":"U. De Chile"},{"$f":"IF(Гости!N12=\"\",\"\",CONCATENATE(Гости!L12,\" : \",Гости!M12))","v":"0 : 0"},0,0,null,null,null,null,null,null,null,null,null,null,null,null,null,null,null,null,null,null,null,null,null,null,null,null,null,null,null,null,null,null,null,null,null,null,null,null,null,null,null,null,null,null,null,null,null,null,null,null,null,null,null,null,null,null,null,null,null,null,null,null,null,null,null,null,null,null,null,null,null,"Дома",0,0,0.8,0.19999999999999996,1,1.8,0,11,{"$f":"CG69","v":1},null,null,null,null,null,null,null,null,null,null,null,null,null,null,null,null,null,null,0,"",null,null,null,null,null,null,0,0,null,0,null,2,null,null,0,null,0.48,{"$f":"DV79-DT79","v":-7.999999999999996E-2},0.4,{"$f":"DV79+DT79","v":0.88},0,{"$f":"DY80","v":1.6363636363636367},11,{"$f":"DX69","v":2},null,1,"Н"]
[null,{"$f":"IF(Гости!B13=\"\",\"\",Гости!B13)","v":"2021.01.13 22:00"},{"$f":"IF(Гости!A13=\"\",\"\",Гости!A13)","v":"CHILE: Primera Division"},{"$f":"IF(Гости!C13=\"\",\"\",Гости!C13)","v":"U. De Concepcion"},{"$f":"IF(Гости!D13=\"\",\"\",Гости!D13)","v":"Colo Colo"},{"$f":"IF(Гости!N13=\"\",\"\",CONCATENATE(Гости!L13,\" : \",Гости!M13))","v":"1 : 1"},1,1,null,null,null,null,null,null,null,null,null,null,null,null,null,null,null,null,null,null,null,null,null,null,null,null,null,null,null,null,null,null,null,null,null,null,null,null,null,null,null,null,null,null,null,null,null,null,null,null,null,null,null,null,null,null,null,null,null,null,null,null,null,null,null,null,null,null,null,null,null,"В гостях",1,1,null,{"$f":"AVERAGE(CD69:CD79)","v":0.2327272727272727},{"$f":"AVERAGE(CE69:CE79)","v":1.1272727272727272},{"$f":"AVERAGE(CF69:CF79)","v":2.021818181818182},{"$f":"TREND(CI69:CI79,CH69:CH79,CH80)","v":1.3090909090909091},12,null,null,null,null,null,null,null,null,null,null,null,null,null,null,null,null,null,null,null,1,"",null,null,null,null,null,null,1,1,null,2,null,0,null,null,1,null,null,{"$f":"AVERAGE(DU69:DU79)","v":2.1818181818181827E-2},{"$f":"AVERAGE(DV69:DV79)","v":0.61818181818181828},{"$f":"AVERAGE(DW69:DW79)","v":1.2145454545454546},null,{"$f":"TREND(EA69:EA79,DZ69:DZ79,DZ80)","v":1.6363636363636367},12,null,null,1,"Н"]
[null,{"$f":"IF(Гости!B14=\"\",\"\",Гости!B14)","v":"2021.01.10 23:30"},{"$f":"IF(Гости!A14=\"\",\"\",Гости!A14)","v":"CHILE: Primera Division"},{"$f":"IF(Гости!C14=\"\",\"\",Гости!C14)","v":"Colo Colo"},{"$f":"IF(Гости!D14=\"\",\"\",Гости!D14)","v":"Everton"},{"$f":"IF(Гости!N14=\"\",\"\",CONCATENATE(Гости!L14,\" : \",Гости!M14))","v":"1 : 0"},1,0,null,null,null,null,null,null,null,null,null,null,null,null,null,null,null,null,null,null,null,null,null,null,null,null,null,null,null,null,null,null,null,null,null,null,null,null,null,null,null,null,null,null,null,null,"Мотивация",null,null,null,null,null,null,null,null,null,null,null,null,null,null,"Мотивация",null,null,null,null,null,null,null,null,null,"Дома",1,0,null,null,null,null,{"$f":"CG80","v":1.3090909090909091},null,{"$f":"CG64+CG80","v":2.581818181818182},null,null,null,null,null,null,null,null,null,null,null,null,null,null,null,null,null,null,1,"",null,null,null,null,null,null,1,0,null,1,null,1,null,null,0,null,null,null,null,null,null,null,null,null,null,2,"В"]
[null,{"$f":"IF(Гости!B15=\"\",\"\",Гости!B15)","v":"2021.01.06 15:30"},{"$f":"IF(Гости!A15=\"\",\"\",Гости!A15)","v":"CHILE: Primera Division"},{"$f":"IF(Гости!C15=\"\",\"\",Гости!C15)","v":"S. Wanderers"},{"$f":"IF(Гости!D15=\"\",\"\",Гости!D15)","v":"Colo Colo"},{"$f":"IF(Гости!N15=\"\",\"\",CONCATENATE(Гости!L15,\" : \",Гости!M15))","v":"0 : 3"},0,3,null,null,null,null,null,null,null,null,null,null,null,null,null,null,null,null,null,null,null,null,null,null,null,null,null,null,null,null,null,null,null,null,null,null,null,null,null,null,null,null,null,null,null,null,"общ 6",{"$f":"AZ60","v":4},{"$f":"BA60","v":3},{"$f":"AZ61","v":3},{"$f":"BA61","v":3},null,null,null,null,null,null,null,null,null,null,"общ 6",{"$f":"BO60","v":4},{"$f":"BP60","v":3},{"$f":"BO61","v":3},{"$f":"BP61","v":3},null,null,null,null,null,"В гостях",3,0,null,null,null,null,null,null,null,null,null,null,null,null,null,null,null,null,null,null,null,null,null,null,null,null,null,3,1,null,null,null,null,null,null,3,0,null,3,null,1,null,null,0,null,null,null,null,null,null,null,null,null,null,2,"В"]
[null,{"$f":"IF(Гости!B16=\"\",\"\",Гости!B16)","v":"2021.01.03 15:30"},{"$f":"IF(Гости!A16=\"\",\"\",Гости!A16)","v":"CHILE: Primera Division"},{"$f":"IF(Гости!C16=\"\",\"\",Гости!C16)","v":"Antofagasta"},{"$f":"IF(Гости!D16=\"\",\"\",Гости!D16)","v":"Colo Colo"},{"$f":"IF(Гости!N16=\"\",\"\",CONCATENATE(Гости!L16,\" : \",Гости!M16))","v":"1 : 0"},1,0,null,null,null,null,null,null,null,null,null,null,null,null,null,null,null,null,null,null,null,null,null,null,null,null,null,null,null,null,null,null,null,null,null,null,null,null,null,null,null,null,null,null,null,null,null,null,null,null,null,null,null,null,null,null,null,null,null,null,null,null,null,null,null,null,null,null,null,null,null,"В гостях",0,1,null,null,null,null,null,null,null,null,null,null,null,null,null,null,null,null,null,null,null,null,null,null,null,null,null,0,"",null,null,null,null,null,{"$f":"SUM(DJ69:DJ83)/15","v":1.1333333333333333},0,1,{"$f":"SUM(DK69:DK83)/15","v":0.73333333333333328},1,{"$f":"SUM(DM69:DM83)/15","v":1.8666666666666667},3,null,null,1,null,null,null,null,null,null,null,null,null,null,0,"П"]
[null,null,{"$f":"CONCATENATE(D1,\" - \",D17)","v":"Everton - Colo Colo"},null,null,null,null,null,null,null,null,null,null,null,null,null,null,null,null,null,null,null,null,null,null,null,null,null,null,null,null,null,null,null,null,null,null,null,null,null,null,null,null,null,null,null,null,null,null,null,null,null,null,null,null,{"$f":"(BB82-BD82)+(BC82-BD82)","v":1},{"$f":"(BD82-BB82)+(BE82-BB82)","v":-2},null,null,null,null,null,null,null,null,null,null,null,null,null,{"$f":"(BQ82-BS82)+(BR82-BS82)","v":1},{"$f":"(BS82-BQ82)+(BT82-BQ82)","v":-2},null,null,null,null,null,null,null,null,null,"-","ср","+",{"$f":"ROUND(CH84,0)","v":1},{"$f":"SUM(CG85:CG95)/11","v":1.3636363636363635},null,null,null,null,null,null,"-","ср","+",{"$f":"ROUND(CS84,0)","v":2},{"$f":"SUM(CR85:CR95)/11","v":2.0909090909090908},null,null,null,"-","ср","+",{"$f":"ROUND(DA84,0)","v":3},{"$f":"SUM(CZ85:CZ95)/11","v":3.4545454545454546},null,null,null,null,null,null,null,null,{"$f":"ROUND(DI83,0)","v":1},{"$f":"ROUND(DL83,0)","v":1},null,{"$f":"ROUND(DN83,0)","v":2},null,0,{"$f":"DQ85","v":2},null,{"$f":"DS85","v":1},null,null,"-","ср","+",null,{"$f":"ROUND(DY85,0)","v":2},null,null,null,null,"-","ср","+",null,{"$f":"ROUND(EH85,0)","v":1},null,null,null,{"$f":"EM85","v":3},null,null,"-","ср","+",null,{"$f":"ROUND(ES85,0)","v":3},null,null,null,"Очки",null,"Очки"]
[null,{"$f":"IF(Очные!B2=\"\",\"\",Очные!B2)","v":"2021.01.10"},{"$f":"IF(Очные!A2=\"\",\"\",Очные!A2)","v":"Primera Division (Chile)"},{"$f":"IF(Очные!C2=\"\",\"\",Очные!C2)","v":"Colo Colo"},{"$f":"IF(Очные!D2=\"\",\"\",Очные!D2)","v":"Everton"},{"$f":"IF(Очные!E2=\"\",\"\",CONCATENATE(Очные!E2,\" : \",Очные!F2))","v":"1 : 0"},{"$f":"VALUE(LEFT(F85,FIND(\":\",F85,1)-1))","v":1},{"$f":"VALUE(LEFT(RIGHT(F85,LEN(F85)-FIND(\":\",F85,1)),4))","v":0},null,null,null,null,null,null,null,null,null,null,null,null,null,null,null,null,null,null,null,null,null,null,null,null,null,null,null,null,null,null,null,null,null,null,null,null,null,null,null,null,null,null,null,null,null,null,null,null,null,null,null,null,null,null,null,null,null,null,null,null,null,null,null,null,null,null,null,null,null,{"$f":"IF(D85=$D$1,\"Дома\",\"В гостях\")","v":"В гостях"},{"$f":"IFERROR(IF(BZ85=\"Дома\",G85,H85),\"\")","v":0},{"$f":"IFERROR(IF(BZ85=\"Дома\",H85,G85),\"\")","v":1},{"$f":"AVEDEV(CA85:CA89)","v":0.48},{"$f":"CE85-CC85","v":0.12},{"$f":"AVERAGE(CA85:CA89)","v":0.6},{"$f":"CE85+CC85","v":1.08},{"$f":"CA85","v":0},1,{"$f":"CG95","v":0},null,null,null,null,{"$f":"AVEDEV(CB85:CB89)","v":0.64},{"$f":"CP85-CN85","v":0.55999999999999994},{"$f":"AVERAGE(CB85:CB89)","v":1.2},{"$f":"CP85+CN85","v":1.8399999999999999},{"$f":"CB85","v":1},1,{"$f":"CR95","v":4},null,{"$f":"AVEDEV(CA85:CA89)+AVEDEV(CB85:CB89)","v":1.1200000000000001},{"$f":"CX85-CV85","v":0.67999999999999972},{"$f":"AVERAGE(CA85:CA89)+AVERAGE(CB85:CB89)","v":1.7999999999999998},{"$f":"CX85+CV85","v":2.92},{"$f":"CA85+CB85","v":1},1,{"$f":"CZ95","v":4},null,{"$f":"CA85","v":0},{"$f":"IF($Z$3<DD85,1,\"\")","v":""},{"$f":"CB85","v":1},{"$f":"IF($Z$4<DF85,1,\"\")","v":""},{"$f":"CA85+CB85","v":1},{"$f":"IF($Z$6<DH85,1,\"\")","v":""},{"$f":"CA85","v":0},1,null,null,null,null,{"$f":"DK85","v":1},{"$f":"ROUND(DQ86,0)","v":2},{"$f":"DJ85","v":0},{"$f":"ROUND(DS86,0)","v":1},{"$f":"AVEDEV(DP85:DP89)","v":0.64},{"$f":"DV85-DT85","v":0.55999999999999994},{"$f":"AVERAGE(DP85:DP89)","v":1.2},{"$f":"DV85+DT85","v":1.8399999999999999},{"$f":"DP85","v":1},{"$f":"SUM(DX85:DX95)/11","v":2.0909090909090908},1,{"$f":"DX95","v":4},null,{"$f":"AVEDEV(DR85:DR89)","v":0.48},{"$f":"EE85-EC85","v":0.12},{"$f":"AVERAGE(DR85:DR89)","v":0.6},{"$f":"EE85+EC85","v":1.08},{"$f":"DR85","v":0},{"$f":"SUM(EG85:EG95)/11","v":1.3636363636363635},1,{"$f":"EG95","v":0},null,{"$f":"DP85+DR85","v":1},{"$f":"ROUND(EM86,0)","v":3},{"$f":"AVEDEV(EL85:EL89)","v":1.04},{"$f":"EP85-EN85","v":0.76},{"$f":"AVERAGE(EL85:EL89)","v":1.8},{"$f":"EP85+EN85","v":2.84},{"$f":"EL85","v":1},{"$f":"SUM(ER85:ER95)/11","v":3.4545454545454546},1,{"$f":"ER95","v":4},null,{"$f":"IF(OR(DJ85=\"\",DK85=\"\"),\"\",IF(DJ85>DK85,2,IF(DJ85<DK85,0,1)))","v":0},{"$f":"IF(EW85=\"\",\"\",IF(EW85=1,\"Н\",IF(EW85=0,\"П\",IF(EW85=2,\"В\"))))","v":"П"},{"$f":"IF(OR(DK85=\"\",DK85=\"\"),\"\",IF(DK85>DJ85,2,IF(DK85<DJ85,0,1)))","v":2},{"$f":"IF(EY85=\"\",\"\",IF(EY85=1,\"Н\",IF(EY85=0,\"П\",IF(EY85=2,\"В\"))))","v":"В"}]
[null,{"$f":"IF(Очные!B3=\"\",\"\",Очные!B3)","v":"2020.10.28"},{"$f":"IF(Очные!A3=\"\",\"\",Очные!A3)","v":"Primera Division (Chile)"},{"$f":"IF(Очные!C3=\"\",\"\",Очные!C3)","v":"Everton"},{"$f":"IF(Очные!D3=\"\",\"\",Очные!D3)","v":"Colo Colo"},{"$f":"IF(Очные!E3=\"\",\"\",CONCATENATE(Очные!E3,\" : \",Очные!F3))","v":"1 : 1"},1,1,null,null,null,null,null,null,null,null,null,null,null,null,null,null,null,null,null,null,null,null,null,null,null,null,null,null,null,null,null,null,null,null,null,null,null,null,null,null,null,null,null,null,null,null,null,null,null,null,null,null,null,null,null,null,null,null,null,null,null,null,null,null,null,null,null,null,null,null,null,"Дома",1,1,{"$f":"AVEDEV(CA86:CA90)","v":0.72},{"$f":"CE86-CC86","v":0.48},{"$f":"AVERAGE(CA86:CA90)","v":1.2},{"$f":"CE86+CC86","v":1.92},{"$f":"CA86","v":1},2,{"$f":"CG94","v":2},null,null,null,null,0.72,{"$f":"CP86-CN86","v":0.67999999999999994},1.4,{"$f":"CP86+CN86","v":2.12},1,2,{"$f":"CR94","v":3},null,1.44,{"$f":"CX86-CV86","v":1.1599999999999997},2.5999999999999996,{"$f":"CX86+CV86","v":4.0399999999999991},2,2,{"$f":"CZ94","v":5},null,1,"",1,"",2,"",1,1,null,null,null,null,{"$f":"DK86","v":1},{"$f":"SUM(DP85:DP99)/15","v":2.1333333333333333},{"$f":"DJ86","v":1},{"$f":"SUM(DR85:DR99)/15","v":1.2},{"$f":"AVEDEV(DP86:DP90)","v":0.72},{"$f":"DV86-DT86","v":0.67999999999999994},{"$f":"AVERAGE(DP86:DP90)","v":1.4},{"$f":"DV86+DT86","v":2.12},{"$f":"DP86","v":1},null,2,{"$f":"DX94","v":3},null,{"$f":"AVEDEV(DR86:DR90)","v":0.72},{"$f":"EE86-EC86","v":0.48},{"$f":"AVERAGE(DR86:DR90)","v":1.2},{"$f":"EE86+EC86","v":1.92},{"$f":"DR86","v":1},null,2,{"$f":"EG94","v":2},null,{"$f":"DP86+DR86","v":2},{"$f":"SUM(EL85:EL99)/15","v":3.3333333333333335},{"$f":"AVEDEV(EL86:EL90)","v":1.28},{"$f":"EP86-EN86","v":1.32},{"$f":"AVERAGE(EL86:EL90)","v":2.6},{"$f":"EP86+EN86","v":3.88},{"$f":"EL86","v":2},null,2,{"$f":"ER94","v":5},null,{"$f":"IF(OR(DJ86=\"\",DK86=\"\"),\"\",IF(DJ86>DK86,2,IF(DJ86<DK86,0,1)))","v":1},{"$f":"IF(EW86=\"\",\"\",IF(EW86=1,\"Н\",IF(EW86=0,\"П\",IF(EW86=2,\"В\"))))","v":"Н"},{"$f":"IF(OR(DK86=\"\",DK86=\"\"),\"\",IF(DK86>DJ86,2,IF(DK86<DJ86,0,1)))","v":1},{"$f":"IF(EY86=\"\",\"\",IF(EY86=1,\"Н\",IF(EY86=0,\"П\",IF(EY86=2,\"В\"))))","v":"Н"}]
[null,{"$f":"IF(Очные!B4=\"\",\"\",Очные!B4)","v":"2019.10.12"},{"$f":"IF(Очные!A4=\"\",\"\",Очные!A4)","v":"Chilean Cup (Chile)"},{"$f":"IF(Очные!C4=\"\",\"\",Очные!C4)","v":"Everton"},{"$f":"IF(Очные!D4=\"\",\"\",Очные!D4)","v":"Colo Colo"},{"$f":"IF(Очные!E4=\"\",\"\",CONCATENATE(Очные!E4,\" : \",Очные!F4))","v":"1 : 2"},1,2,null,null,null,null,null,null,null,null,null,null,null,null,null,null,null,null,null,null,null,null,null,null,null,null,null,null,null,null,null,null,null,null,null,null,null,null,null,null,null,null,null,null,null,null,null,null,null,null,null,null,null,null,null,null,null,null,null,null,null,null,null,null,null,null,null,null,null,null,null,"Дома",1,2,1.36,0.43999999999999995,1.8,3.16,1,3,{"$f":"CG93","v":2},null,null,null,null,0.6399999999999999,0.96000000000000019,1.6,2.2400000000000002,2,3,{"$f":"CR93","v":3},null,2,1.4000000000000004,3.4000000000000004,5.4,3,3,{"$f":"CZ93","v":5},null,1,"",2,1,3,"",1,2,null,null,null,null,2,null,1,null,0.6399999999999999,0.96000000000000019,1.6,2.2400000000000002,2,null,3,{"$f":"DX93","v":3},null,1.36,0.43999999999999995,1.8,3.16,1,null,3,{"$f":"EG93","v":2},null,3,null,1.6799999999999997,1.7200000000000002,3.4,5.08,3,null,3,{"$f":"ER93","v":5},null,0,"П",2,"В"]
[null,{"$f":"IF(Очные!B5=\"\",\"\",Очные!B5)","v":"2019.09.07"},{"$f":"IF(Очные!A5=\"\",\"\",Очные!A5)","v":"Chilean Cup (Chile)"},{"$f":"IF(Очные!C5=\"\",\"\",Очные!C5)","v":"Colo Colo"},{"$f":"IF(Очные!D5=\"\",\"\",Очные!D5)","v":"Everton"},{"$f":"IF(Очные!E5=\"\",\"\",CONCATENATE(Очные!E5,\" : \",Очные!F5))","v":"2 : 1"},2,1,null,null,null,null,null,null,null,null,null,null,null,null,null,null,null,null,null,null,null,null,null,null,null,null,null,null,null,null,null,null,null,null,null,null,null,null,null,null,null,null,null,null,null,null,null,null,null,null,null,null,null,null,null,null,null,null,null,null,null,null,null,null,null,null,null,null,null,null,null,"В гостях",1,2,1.3599999999999999,0.44000000000000017,1.8,3.16,1,4,{"$f":"CG92","v":1},null,null,null,null,0.72000000000000008,1.08,1.8,2.52,2,4,{"$f":"CR92","v":3},null,2.08,1.52,3.6,5.68,3,4,{"$f":"CZ92","v":4},null,1,"",2,1,3,"",1,2,null,null,null,null,2,null,1,null,0.72000000000000008,1.08,1.8,2.52,2,null,4,{"$f":"DX92","v":3},null,1.3599999999999999,0.44000000000000017,1.8,3.16,1,null,4,{"$f":"EG92","v":1},null,3,null,1.6800000000000002,1.92,3.6,5.28,3,null,4,{"$f":"ER92","v":4},null,0,"П",2,"В"]
[null,{"$f":"IF(Очные!B6=\"\",\"\",Очные!B6)","v":"2019.07.28"},{"$f":"IF(Очные!A6=\"\",\"\",Очные!A6)","v":"Primera Division (Chile)"},{"$f":"IF(Очные!C6=\"\",\"\",Очные!C6)","v":"Colo Colo"},{"$f":"IF(Очные!D6=\"\",\"\",Очные!D6)","v":"Everton"},{"$f":"IF(Очные!E6=\"\",\"\",CONCATENATE(Очные!E6,\" : \",Очные!F6))","v":"0 : 0"},0,0,null,null,null,null,null,null,null,null,null,null,null,null,null,null,null,null,null,null,null,null,null,null,null,null,null,null,null,null,null,null,null,null,null,null,null,null,null,null,null,null,null,null,null,null,null,null,null,null,null,null,null,null,null,null,null,null,null,null,null,null,null,null,null,null,null,null,null,null,null,"В гостях",0,0,1.2,0.8,2,3.2,0,5,{"$f":"CG91","v":4},null,null,null,null,0.8,1.2,2,2.8,0,5,{"$f":"CR91","v":2},null,2,2,4,6,0,5,{"$f":"CZ91","v":6},null,0,"",0,"",0,"",0,0,null,null,null,null,0,null,0,null,0.8,1.2,2,2.8,0,null,5,{"$f":"DX91","v":2},null,1.2,0.8,2,3.2,0,null,5,{"$f":"EG91","v":4},null,0,null,1.6,2.4,4,5.6,0,null,5,{"$f":"ER91","v":6},null,1,"Н",1,"Н"]
[null,{"$f":"IF(Очные!B7=\"\",\"\",Очные!B7)","v":"2019.01.30"},{"$f":"IF(Очные!A7=\"\",\"\",Очные!A7)","v":"Club Friendly (World)"},{"$f":"IF(Очные!C7=\"\",\"\",Очные!C7)","v":"Everton"},{"$f":"IF(Очные!D7=\"\",\"\",Очные!D7)","v":"Colo Colo"},{"$f":"IF(Очные!E7=\"\",\"\",CONCATENATE(Очные!E7,\" : \",Очные!F7))","v":"3 : 2"},3,2,null,null,null,null,null,null,null,null,null,null,null,null,null,null,null,null,null,null,null,null,null,null,null,null,null,null,null,null,null,null,null,null,null,null,null,null,null,null,null,null,null,null,null,null,null,null,null,null,null,null,null,null,null,null,null,null,null,null,null,null,null,null,null,null,null,null,null,null,null,"Дома",3,2,0.88000000000000012,1.5199999999999998,2.4,3.2800000000000002,3,6,{"$f":"CG90","v":3},null,null,null,null,0.48,2.12,2.6,3.08,2,6,{"$f":"CR90","v":2},null,1.36,3.6399999999999997,5,6.36,5,6,{"$f":"CZ90","v":5},null,3,1,2,1,5,1,3,2,null,null,null,null,2,null,3,null,0.48,2.12,2.6,3.08,2,null,6,{"$f":"DX90","v":2},null,0.88000000000000012,1.5199999999999998,2.4,3.2800000000000002,3,null,6,{"$f":"EG90","v":3},null,5,null,0.4,4.5999999999999996,5,5.4,5,null,6,{"$f":"ER90","v":5},null,2,"В",0,"П"]
[null,{"$f":"IF(Очные!B8=\"\",\"\",Очные!B8)","v":"2018.09.02"},{"$f":"IF(Очные!A8=\"\",\"\",Очные!A8)","v":"Primera Division (Chile)"},{"$f":"IF(Очные!C8=\"\",\"\",Очные!C8)","v":"Everton"},{"$f":"IF(Очные!D8=\"\",\"\",Очные!D8)","v":"Colo Colo"},{"$f":"IF(Очные!E8=\"\",\"\",CONCATENATE(Очные!E8,\" : \",Очные!F8))","v":"4 : 2"},4,2,null,null,null,null,null,null,null,null,null,null,null,null,null,null,null,null,null,null,null,null,null,null,null,null,null,null,null,null,null,null,null,null,null,null,null,null,null,null,null,null,null,null,null,null,null,null,null,null,null,null,null,null,null,null,null,null,null,null,null,null,null,null,null,null,null,null,null,null,null,"Дома",4,2,1.04,0.76,1.8,2.84,4,7,{"$f":"CG89","v":0},null,null,null,null,0.4,2.6,3,3.4,2,7,{"$f":"CR89","v":0},null,1.44,3.36,4.8,6.24,6,7,{"$f":"CZ89","v":0},null,4,1,2,1,6,1,4,2,null,null,null,null,2,null,4,null,0.4,2.6,3,3.4,2,null,7,{"$f":"DX89","v":0},null,1.04,0.76,1.8,2.84,4,null,7,{"$f":"EG89","v":0},null,6,null,0.64,4.16,4.8,5.4399999999999995,6,null,7,{"$f":"ER89","v":0},null,2,"В",0,"П"]
[null,{"$f":"IF(Очные!B9=\"\",\"\",Очные!B9)","v":"2018.05.06"},{"$f":"IF(Очные!A9=\"\",\"\",Очные!A9)","v":"Primera Division (Chile)"},{"$f":"IF(Очные!C9=\"\",\"\",Очные!C9)","v":"Colo Colo"},{"$f":"IF(Очные!D9=\"\",\"\",Очные!D9)","v":"Everton"},{"$f":"IF(Очные!E9=\"\",\"\",CONCATENATE(Очные!E9,\" : \",Очные!F9))","v":"3 : 1"},3,1,null,null,null,null,null,null,null,null,null,null,null,null,null,null,null,null,null,null,null,null,null,null,null,null,null,null,null,null,null,null,null,null,null,null,null,null,null,null,null,null,null,null,null,null,null,null,null,null,null,null,null,null,null,null,null,null,null,null,null,null,null,null,null,null,null,null,null,null,null,"В гостях",1,3,0.72,0.67999999999999994,1.4,2.12,1,8,{"$f":"CG88","v":1},null,null,null,null,0.48,2.92,3.4,3.88,3,8,{"$f":"CR88","v":2},null,1.2,3.5999999999999996,4.8,6,4,8,{"$f":"CZ88","v":3},null,1,"",3,1,4,1,1,3,null,null,null,null,3,null,1,null,0.48,2.92,3.4,3.88,3,null,8,{"$f":"DX88","v":2},null,0.72,0.67999999999999994,1.4,2.12,1,null,8,{"$f":"EG88","v":1},null,4,null,0.64,4.16,4.8,5.4399999999999995,4,null,8,{"$f":"ER88","v":3},null,0,"П",2,"В"]
[null,{"$f":"IF(Очные!B10=\"\",\"\",Очные!B10)","v":"2017.11.26"},{"$f":"IF(Очные!A10=\"\",\"\",Очные!A10)","v":"Primera Division (Chile)"},{"$f":"IF(Очные!C10=\"\",\"\",Очные!C10)","v":"Everton"},{"$f":"IF(Очные!D10=\"\",\"\",Очные!D10)","v":"Colo Colo"},{"$f":"IF(Очные!E10=\"\",\"\",CONCATENATE(Очные!E10,\" : \",Очные!F10))","v":"2 : 3"},2,3,null,null,null,null,null,null,null,null,null,null,null,null,null,null,null,null,null,null,null,null,null,null,null,null,null,null,null,null,null,null,null,null,null,null,null,null,null,null,null,null,null,null,null,null,null,null,null,null,null,null,null,null,null,null,null,null,null,null,null,null,null,null,null,null,null,null,null,null,null,"Дома",2,3,0.96,0.24,1.2,2.16,2,9,{"$f":"CG87","v":1},null,null,null,null,0.64,2.56,3.2,3.8400000000000003,3,9,{"$f":"CR87","v":2},null,1.6,2.8000000000000003,4.4000000000000004,6,5,9,{"$f":"CZ87","v":3},null,2,1,3,1,5,1,2,3,null,null,null,null,3,null,2,null,0.64,2.56,3.2,3.8400000000000003,3,null,9,{"$f":"DX87","v":2},null,0.96,0.24,1.2,2.16,2,null,9,{"$f":"EG87","v":1},null,5,null,1.1199999999999999,3.2800000000000002,4.4000000000000004,5.5200000000000005,5,null,9,{"$f":"ER87","v":3},null,0,"П",2,"В"]
[null,{"$f":"IF(Очные!B11=\"\",\"\",Очные!B11)","v":"2017.05.07"},{"$f":"IF(Очные!A11=\"\",\"\",Очные!A11)","v":"Primera Division (Chile)"},{"$f":"IF(Очные!C11=\"\",\"\",Очные!C11)","v":"Everton"},{"$f":"IF(Очные!D11=\"\",\"\",Очные!D11)","v":"Colo Colo"},{"$f":"IF(Очные!E11=\"\",\"\",CONCATENATE(Очные!E11,\" : \",Очные!F11))","v":"2 : 3"},2,3,null,null,null,null,null,null,null,null,null,null,null,null,null,null,null,null,null,null,null,null,null,null,null,null,null,null,null,null,null,null,null,null,null,null,null,null,null,null,null,null,null,null,null,null,null,null,null,null,null,null,null,null,null,null,null,null,null,null,null,null,null,null,null,null,null,null,null,null,null,"Дома",2,3,0.8,0.19999999999999996,1,1.8,2,10,{"$f":"CG86","v":1},null,null,null,null,1.28,1.32,2.6,3.88,3,10,{"$f":"CR86","v":1},null,2.08,1.52,3.6,5.68,5,10,{"$f":"CZ86","v":2},null,2,1,3,1,5,1,2,3,null,null,null,null,3,null,2,null,1.28,1.32,2.6,3.88,3,null,10,{"$f":"DX86","v":1},null,0.8,0.19999999999999996,1,1.8,2,null,10,{"$f":"EG86","v":1},null,5,null,1.6799999999999997,1.9200000000000004,3.6,5.2799999999999994,5,null,10,{"$f":"ER86","v":2},null,0,"П",2,"В"]
[null,{"$f":"IF(Очные!B12=\"\",\"\",Очные!B12)","v":"2016.12.14"},{"$f":"IF(Очные!A12=\"\",\"\",Очные!A12)","v":"Chilean Cup (Chile)"},{"$f":"IF(Очные!C12=\"\",\"\",Очные!C12)","v":"Colo Colo"},{"$f":"IF(Очные!D12=\"\",\"\",Очные!D12)","v":"Everton"},{"$f":"IF(Очные!E12=\"\",\"\",CONCATENATE(Очные!E12,\" : \",Очные!F12))","v":"4 : 0"},4,0,null,null,null,null,null,null,null,null,null,null,null,null,null,null,null,null,null,null,null,null,null,null,null,null,null,null,null,null,null,null,null,null,null,null,null,null,null,null,null,null,null,null,null,null,null,null,null,null,null,null,null,null,null,null,null,null,null,null,null,null,null,null,null,null,null,null,null,null,null,"В гостях",0,4,0.72,-0.12,0.6,1.3199999999999998,0,11,{"$f":"CG85","v":0},null,null,null,null,1.28,1.32,2.6,3.88,4,11,{"$f":"CR85","v":1},null,2,1.2000000000000002,3.2,5.2,4,11,{"$f":"CZ85","v":1},null,0,"",4,1,4,1,0,4,null,null,null,null,4,null,0,null,1.28,{"$f":"DV95-DT95","v":1.32},2.6,{"$f":"DV95+DT95","v":3.88},4,{"$f":"DY96","v":0.45454545454545414},11,{"$f":"DX85","v":1},null,0.72,{"$f":"EE95-EC95","v":-0.12},0.6,{"$f":"EE95+EC95","v":1.3199999999999998},0,{"$f":"EH96","v":0.76363636363636345},11,{"$f":"EG85","v":0},null,4,null,1.44,{"$f":"EP95-EN95","v":1.7600000000000002},3.2,{"$f":"EP95+EN95","v":4.6400000000000006},4,{"$f":"ES96","v":1.2181818181818187},11,{"$f":"ER85","v":1},null,0,"П",2,"В"]
[null,{"$f":"IF(Очные!B13=\"\",\"\",Очные!B13)","v":"2016.12.04"},{"$f":"IF(Очные!A13=\"\",\"\",Очные!A13)","v":"Primera Division (Chile)"},{"$f":"IF(Очные!C13=\"\",\"\",Очные!C13)","v":"Colo Colo"},{"$f":"IF(Очные!D13=\"\",\"\",Очные!D13)","v":"Everton"},{"$f":"IF(Очные!E13=\"\",\"\",CONCATENATE(Очные!E13,\" : \",Очные!F13))","v":"4 : 2"},4,2,null,null,null,null,null,null,null,null,null,null,null,null,null,null,null,null,null,null,null,null,null,null,null,null,null,null,null,null,null,null,null,null,null,null,null,null,null,null,null,null,null,null,null,null,null,null,null,null,null,null,null,null,null,null,null,null,null,null,null,null,null,null,null,null,null,null,null,null,null,"В гостях",2,4,null,{"$f":"AVERAGE(CD85:CD95)","v":0.50545454545454538},{"$f":"AVERAGE(CE85:CE95)","v":1.4363636363636363},{"$f":"AVERAGE(CF85:CF95)","v":2.3672727272727276},{"$f":"TREND(CI85:CI95,CH85:CH95,CH96)","v":0.76363636363636345},12,null,null,null,null,null,null,{"$f":"AVERAGE(CO85:CO95)","v":1.5745454545454545},{"$f":"AVERAGE(CP85:CP95)","v":2.3090909090909091},{"$f":"AVERAGE(CQ85:CQ95)","v":3.0436363636363635},{"$f":"TREND(CT85:CT95,CS85:CS95,CS96)","v":0.45454545454545414},12,null,null,null,{"$f":"AVERAGE(CW85:CW95)","v":2.08},{"$f":"AVERAGE(CX85:CX95)","v":3.7454545454545456},{"$f":"AVERAGE(CY85:CY95)","v":5.4109090909090911},{"$f":"TREND(DB85:DB95,DA85:DA95,DA96)","v":1.2181818181818187},12,null,null,2,1,4,1,6,1,2,4,null,null,null,null,4,null,2,null,null,{"$f":"AVERAGE(DU85:DU95)","v":1.5745454545454545},{"$f":"AVERAGE(DV85:DV95)","v":2.3090909090909091},{"$f":"AVERAGE(DW85:DW95)","v":3.0436363636363635},null,{"$f":"TREND(EA85:EA95,DZ85:DZ95,DZ96)","v":0.45454545454545414},12,null,null,null,{"$f":"AVERAGE(ED85:ED95)","v":0.50545454545454538},{"$f":"AVERAGE(EE85:EE95)","v":1.4363636363636363},{"$f":"AVERAGE(EF85:EF95)","v":2.3672727272727276},null,{"$f":"TREND(EJ85:EJ95,EI85:EI95,EI96)","v":0.76363636363636345},12,null,null,6,null,null,{"$f":"AVERAGE(EO85:EO95)","v":2.5454545454545463},{"$f":"AVERAGE(EP85:EP95)","v":3.7454545454545456},{"$f":"AVERAGE(EQ85:EQ95)","v":4.9454545454545453},null,{"$f":"TREND(EU85:EU95,ET85:ET95,ET96)","v":1.2181818181818187},12,null,null,0,"П",2,"В"]
[null,{"$f":"IF(Очные!B14=\"\",\"\",Очные!B14)","v":"2014.01.12"},{"$f":"IF(Очные!A14=\"\",\"\",Очные!A14)","v":"Primera Division (Chile)"},{"$f":"IF(Очные!C14=\"\",\"\",Очные!C14)","v":"Everton"},{"$f":"IF(Очные!D14=\"\",\"\",Очные!D14)","v":"Colo Colo"},{"$f":"IF(Очные!E14=\"\",\"\",CONCATENATE(Очные!E14,\" : \",Очные!F14))","v":"0 : 2"},0,2,null,null,null,null,null,null,null,null,null,null,null,null,null,null,null,null,null,null,null,null,null,null,null,null,null,null,null,null,null,null,null,null,null,null,null,null,null,null,null,null,null,null,null,null,null,null,null,null,null,null,null,null,null,null,null,null,null,null,null,null,null,null,null,null,null,null,null,null,null,"Дома",0,2,null,null,null,null,{"$f":"CG96","v":0.76363636363636345},null,null,null,null,null,null,null,null,null,null,{"$f":"CR96","v":0.45454545454545414},null,null,null,null,null,null,null,{"$f":"CZ96","v":1.2181818181818187},null,null,null,0,"",2,1,2,"",0,2,null,null,null,null,2,null,0,null,null,null,null,null,null,null,null,null,null,null,null,null,null,null,null,null,null,null,2,null,null,null,null,null,null,null,null,null,null,0,"П",2,"В"]
[null,{"$f":"IF(Очные!B15=\"\",\"\",Очные!B15)","v":"2013.08.04"},{"$f":"IF(Очные!A15=\"\",\"\",Очные!A15)","v":"Primera Division (Chile)"},{"$f":"IF(Очные!C15=\"\",\"\",Очные!C15)","v":"Colo Colo"},{"$f":"IF(Очные!D15=\"\",\"\",Очные!D15)","v":"Everton"},{"$f":"IF(Очные!E15=\"\",\"\",CONCATENATE(Очные!E15,\" : \",Очные!F15))","v":"0 : 1"},0,1,null,null,null,null,null,null,null,null,null,null,null,null,null,null,null,null,null,null,null,null,null,null,null,null,null,null,null,null,null,null,null,null,null,null,null,null,null,null,null,null,null,null,null,null,null,null,null,null,null,null,null,null,null,null,null,null,null,null,null,null,null,null,null,null,null,null,null,null,null,"В гостях",1,0,null,null,null,null,null,null,null,null,null,null,null,null,null,null,null,null,null,null,null,null,null,null,null,null,null,null,null,1,"",0,"",1,"",1,0,null,null,null,null,0,null,1,null,null,null,null,null,null,null,null,null,null,null,null,null,null,null,null,null,null,null,1,null,null,null,null,null,null,null,null,null,null,2,"В",0,"П"]
[null,{"$f":"IF(Очные!B16=\"\",\"\",Очные!B16)","v":"2013.04.07"},{"$f":"IF(Очные!A16=\"\",\"\",Очные!A16)","v":"Primera Division (Chile)"},{"$f":"IF(Очные!C16=\"\",\"\",Очные!C16)","v":"Colo Colo"},{"$f":"IF(Очные!D16=\"\",\"\",Очные!D16)","v":"Everton"},{"$f":"IF(Очные!E16=\"\",\"\",CONCATENATE(Очные!E16,\" : \",Очные!F16))","v":"3 : 0"},3,0,null,null,null,null,null,null,null,null,null,null,null,null,null,null,null,null,null,null,null,null,null,null,null,null,null,null,null,null,null,null,null,null,null,null,null,null,null,null,null,null,null,null,null,null,null,null,null,null,null,null,null,null,null,null,null,null,null,null,null,null,null,null,null,null,null,null,null,null,null,"В гостях",0,3,null,null,null,null,null,null,null,null,null,null,null,null,null,null,null,null,null,null,null,null,null,null,null,null,null,null,null,0,"",3,1,3,"",0,3,null,null,null,null,3,null,0,null,null,null,null,null,null,null,null,null,null,null,null,null,null,null,null,null,null,null,3,null,null,null,null,null,null,null,null,null,null,0,"П",2,"В"]
[null,null,null,null,null,null,null,null,null,null,null,null,null,null,null,null,null,null,null,null,null,null,null,null,null,null,null,null,null,null,null,null,null,null,null,null,null,null,null,null,null,null,null,null,null,null,null,null,null,null,null,null,null,null,null,null,null,null,null,null,null,null,null,null,null,null,null,null,null,null,null,null,null,null,null,null,null,null,null,null,null,null,null,null,null,null,null,null,null,null,null,null,null,null,null,null,null,null,null,null,null,null,null,null,null,null,null,null,null,null,null,null,null,null,null,null,null,null,null,null,null,null,null,null,null,null,null,null,null,null,null,null,null,null,null,{"$f":"TREND(DJ85:DJ99,EE2:EE16,EE17)","v":1.0571428571428572},null,{"$f":"TREND(DK85:DK99,EE2:EE16,EE17)","v":3.019047619047619}]
[null,null,null,null,null,null,null,null,null,null,null,null,null,null,null,null,null,null,null,null,null,null,null,null,null,null,null,null,null,null,null,null,null,null,null,null,null,null,null,null,null,null,null,null,null,null,null,null,null,null,null,null,null,null,null,null,null,null,null,null,null,null,null,null,null,null,null,null,null,null,null,null,null,null,null,null,null,null,null,null,null,null,null,null,null,null,null,null,null,null,null,null,null,null,null,null,null,null,null,null,null,null,null,null,null,null,null,null,null,null,null,null,"15матчей",null,null,"15матчей",null,null,null,null,null,null,null,null,null,null,null,null,null,null,null,null,null,null,null,{"$f":"ROUND(EF100,0)","v":1},null,{"$f":"ROUND(EH100,0)","v":3}]
[null,null,null,null,null,null,null,null,null,null,null,null,null,null,null,null,null,null,null,null,null,null,null,null,null,null,null,null,null,null,null,null,null,null,null,null,null,null,null,null,null,null,null,null,null,null,null,null,null,null,null,null,null,null,null,null,null,null,null,null,null,null,null,null,null,null,null,null,null,null,null,null,null,null,null,null,null,null,null,null,null,null,null,null,null,null,null,null,null,null,null,null,null,null,null,null,null,null,null,null,null,null,null,null,null,null,null,null,null,null,null,null,"СРЗаб",null,null,"СрПроп"]
[null,null,null,null,null,null,null,null,null,null,null,null,null,null,null,null,null,null,null,null,null,null,null,null,null,null,null,null,null,null,null,null,null,null,null,null,null,null,null,null,null,null,null,null,null,null,null,null,null,null,null,null,null,null,null,null,null,null,null,null,null,null,null,null,null,null,null,null,null,null,null,null,null,null,null,null,null,null,null,null,null,null,null,null,null,null,null,null,null,null,null,null,null,null,null,null,null,null,null,null,null,null,null,null,null,null,null,null,null,null,null,null,{"$f":"SUM(DJ85:DJ99)/15","v":1.2},null,null,{"$f":"SUM(DK85:DK99)/15","v":2.1333333333333333}]
[null,null,null,null,null,null,null,null,null,null,null,null,null,null,null,null,null,null,null,null,null,null,null,null,null,null,null,null,null,null,null,null,null,null,null,null,null,null,null,null,null,null,null,null,null,null,null,null,null,null,null,null,null,null,null,null,null,null,null,null,null,null,null,null,null,null,null,null,null,null,null,null,null,null,null,null,null,null,null,null,null,null,null,null,null,null,null,null,null,null,null,null,null,null,null,null,null,null,null,null,null,null,null,null,null,null,null,null,null,null,null,null,"5матчей",null,null,"5матчей"]
[null,null,null,null,null,null,null,null,null,null,null,null,null,null,null,null,null,null,null,null,null,null,null,null,null,null,null,null,null,null,null,null,null,null,null,null,null,null,null,null,null,null,null,null,null,null,null,null,null,null,null,null,null,null,null,null,null,null,null,null,null,null,null,null,null,null,null,null,null,null,null,null,null,null,null,null,null,null,null,null,null,null,null,null,null,null,null,null,null,null,null,null,null,null,null,null,null,null,null,null,null,null,null,null,null,null,null,null,null,null,null,null,"СРЗаб",null,null,"СрПроп"]
[null,null,null,null,null,null,null,null,null,null,null,null,null,null,null,null,null,null,null,null,null,null,null,null,null,null,null,null,null,null,null,null,null,null,null,null,null,null,null,null,null,null,null,null,null,null,null,null,null,null,null,null,null,null,null,null,null,null,null,null,null,null,null,null,null,null,null,null,null,null,null,null,null,null,null,null,null,null,null,null,null,null,null,null,null,null,null,null,null,null,null,null,null,null,null,null,null,null,null,null,null,null,null,null,null,null,null,null,null,null,null,null,{"$f":"SUM(DJ85:DJ89)/5","v":0.6},null,null,{"$f":"SUM(DK85:DK89)/5","v":1.2}]

{"sheet":"АрхивУПР","index":10,"n_rows":6,"n_cols":149,"rows_kept":6,"cut":false,"hidden":false,"merged":[[0,64,2,64],[0,50,3,50],[0,51,3,51],[0,52,3,52],[0,49,3,49],[0,12,2,15],[0,9,2,11],[0,47,3,47],[0,54,3,54],[0,48,3,48],[0,44,3,44],[0,46,3,46],[0,45,3,45],[0,31,3,31],[0,39,3,39],[0,35,3,35],[0,36,3,36],[0,37,3,37],[0,38,3,38],[2,108,3,108],[0,69,3,69],[2,90,3,90],[2,92,3,92],[2,79,3,79],[2,81,3,81],[2,83,2,85],[2,105,3,105],[1,71,3,71],[1,77,3,77],[1,72,3,72],[1,73,3,73],[1,74,3,74],[1,75,3,75],[1,70,3,70],[2,96,3,96],[0,79,1,81],[2,95,3,95],[0,67,2,67],[0,78,3,78],[2,93,3,93],[2,91,3,91],[2,94,3,94],[0,138,3,138],[0,144,3,144],[0,74,0,77],[1,101,1,106],[1,107,1,111],[2,109,3,109],[2,110,3,110],[2,111,3,111],[2,113,2,114],[0,119,3,119],[2,106,3,106],[2,107,3,107],[0,112,3,112],[3,103,3,104],[3,101,3,102],[2,101,2,104],[0,0,2,3],[0,5,3,5],[0,43,3,43],[0,32,3,32],[0,33,3,33],[0,34,3,34],[0,27,3,27],[0,28,1,30],[2,28,2,30],[0,23,3,23],[0,24,1,26],[2,24,2,26],[0,42,3,42],[0,40,3,40],[0,41,3,41],[3,16,3,17],[0,8,3,8],[0,6,2,7],[0,120,0,137],[2,120,2,128],[2,129,2,137],[0,53,3,53],[2,117,2,118],[2,115,2,116],[0,66,2,66],[2,97,3,97],[2,100,3,100],[2,87,2,89],[0,70,0,73],[0,55,2,63],[1,76,3,76],[2,80,3,80]]}
[null,null,null,null,null,"СЧЕТ","Nx",null,"тотал","POISSON",null,null,"БОЛЛИНЖЕР",null,null,null,null,null,null,null,null,null,null,"ВЕРОЯТНОСТИ","POISSON",null,null,null,"Nx",null,null,"РЕЙТИНГ","Индикатор ТБ 3","X1-X2","X2-X1","ХОЗЯЕВА XG","A","D","XG 90","Coef","GD-xGD","iPPM","PPM","ХОЗЯЕВА ФОРМА","МОТИВАЦИЯ","ГОСТИ XG","A","D","XG 90","Coef","GD-xGD","iPPM","PPM","ГОСТИ ФОРМА","МОТИВАЦИЯ",null,null,null,null,null,null,null,null,null,null,null,null,null,null,"СПРАВОЧНО","ХОЗЯЕВА",null,null,null,"ГОСТИ",null,null,null,"Nx ПРОГНОЗ","ОБЕ ЗАБЬЮТ",null,null,null,null,null,null,null,null,null,null,null,null,null,null,null,null,null,null,null,null,null,null,null,null,null,null,null,null,null,null,null,null,"БОЛЛИНЖЕР",null,null,null,null,null,null,"КОФФИЦИЕНТЫ","КОФФИЦИЕНТЫ",null,null,null,null,null,null,null,null,null,null,null,null,null,null,null,null,null,"Ставка",null,null,null,null,null,"Прогнозов =>>>"]
[null,null,null,null,null,null,null,null,null,null,null,null,null,null,null,null,null,null,null,null,null,null,null,null,null,null,null,null,null,null,null,null,null,null,null,null,null,null,null,null,null,null,null,null,null,null,null,null,null,null,null,null,null,null,null,null,null,null,null,null,null,null,null,null,null,null,null,null,null,null,"Место всего","Очки всего","Место дома","Очки дома","Место всего","Очки всего","Место гости","Очки гости"]
[null,null,null,null,null,null,null,null,null,null,null,null,null,null,null,null,null,null,null,null,null,null,null,null,null,null,null,null,null,null,null,null,null,null,null,null,null,null,null,null,null,null,null,null,null,null,null,null,null,null,null,null,null,null,null,null,null,null,null,null,null,null,null,null,null,null,null,null,null,null,null,null,null,null,null,null,null,null,null,"ОЗ ФИЛЬТР 1","ОЗ ФИЛЬТР 2","ОЗ ФИЛЬТР 3",null,null,null,null,null,null,null,null,"ТБ 1,5","ТБ 2,0","ТБ 2,5","ТБ 3,5","ТБ 4,5","ТМ 2,5","ТМ 3,5",null,null,null,null,"ТОЧНЫЙ СЧЕТ",null,null,null,"ИТ1","ИТ2","ТБ 1,5","ТБ 2,5","ТБ 3,5","ОЗ ДА","ОЗ НЕТ",null,null,null,null,null,null,null,null,"СТАРТОВЫЕ",null,null,null,null,null,null,null,null,"АКТУАЛЬНЫЕ"]
["ДАТА","ЛИГА","ХОЗЯЕВА","ГОСТИ","matchID",null,"Т","С",null,null,1,2,1,2,"Тренд","тотал",null,null,null,null,null,null,null,null,1,"X",2,null,1,"X",2,null,null,null,null,null,null,null,null,null,null,null,null,null,null,null,null,null,null,null,null,null,null,null,null,null,null,null,null,null,null,null,null,null,null,null,null,null,null,null,null,null,null,null,null,null,null,null,null,null,null,null,"Ф1(0)","П1","ИТБ1>1,5","Ф1(-1,5)","Ф2(0)","П2","ИТБ2>1,5","Ф2(-1,5)",null,null,null,null,null,null,null,null,null,null,null,"ТС 1",null,"ТС 2",null,null,null,null,null,null,null,null,null,null,null,null,null,null,null,null,"П1","Х","П2","ТМ2,5","ТБ2,5","ТБ 3,5","ТБ 4,5","ОЗДа","ОЗ Нет","П1","Х","П2","ТМ2,5","ТБ2,5","ТБ 3,5","ТБ 4,5","ОЗДа","ОЗ Нет",null,"+/-","+",{"$f":"ER4/EP4","v":{"$error":"#DIV/0!"}},"-",{"$f":"ES4/EP4","v":{"$error":"#DIV/0!"}},null,{"$f":"ER4+ES4","v":0},null,{"$f":"COUNTIF(EJ$6:EJ$1048576,\"+\")","v":0},{"$f":"COUNTIF(EJ$6:EJ$1048576,\"-\")","v":0}]
[]
["2019.07.25 19:00","ЭСТОНИЯ: Вторая лига","Раквере","JK Jarve","tj4BWzWH","2 : 2",1.0306372549019609,1.5306122448979593,1.7311924769907963,null,1.125,2.875,1.0714285714285714,2.6428571428571428,1.7142857142857144,3.7142857142857144,null,null,null,null,null,null,null,null,0.12004242805685456,0.14664376100738219,0.73331381093576331,null,0.25,0.25,0.5,-14,-9,-0.25,0.25,null,0.58299815652756837,1.0000581429152859,0.96029411764705896,0.59145220588235292,-1.0900000000000001,-0.59999999999999964,0.6,0.75,14,null,0.87505087505087498,0.95399698340874817,2.1202380952380953,0.92857142857142849,-0.19999999999999996,0.59999999999999964,1.1499999999999999,1,5,null,null,null,null,null,null,null,null,null,null,null,null,null,null,null,9,17,7,3,4,32,9,4,null,"НЕТ","НЕТ","НЕТ","","","","","ДА","","","","НЕТ","НЕТ","НЕТ",null,null,null,null,null,null,null,null,null,null,null,null,null,null,null,null,null,null,null,null,null,null,null,null,null,null,null,3.8,4,1.67,2.8,1.38,null,null,1.4,2.75,3.8,4,1.67,2.8,1.38,null,null,1.4,2.75]

{"sheet":"Beta8","index":11,"n_rows":57,"n_cols":25,"rows_kept":57,"cut":false,"hidden":false,"merged":[[25,18,25,21],[23,18,24,21],[21,18,22,21],[15,18,15,19],[16,18,16,19],[17,18,17,19],[1,12,2,24],[20,18,20,21],[3,20,4,22],[3,23,4,24],[7,12,8,14],[7,15,8,17],[8,18,9,19],[8,23,9,24],[19,15,20,17],[3,12,4,14],[3,15,4,17],[3,18,4,19],[11,12,12,14],[11,15,12,17],[13,18,14,19],[15,12,16,14],[18,18,19,21],[15,15,16,17],[17,15,18,17],[13,23,14,24],[18,23,19,24],[43,2,43,5],[43,1,44,1],[43,6,43,13],[1,10,2,11],[3,10,4,11],[5,10,6,11],[7,10,8,10],[9,10,10,10],[7,11,8,11],[23,10,24,11],[25,10,25,11],[26,10,26,11],[15,11,16,11],[9,11,10,11],[11,11,12,11],[13,11,14,11],[11,10,12,10],[13,10,14,10],[15,10,16,10],[29,10,30,17],[17,10,18,11],[24,8,24,9],[26,8,26,9],[25,8,25,9],[27,8,27,9],[40,1,40,2],[35,10,35,11],[36,10,36,11],[31,10,32,10],[39,10,39,12],[40,10,40,12],[37,10,38,17],[32,11,33,11],[32,12,33,12],[32,13,33,13],[32,14,33,14],[32,15,33,16],[35,17,36,17],[31,11,31,12],[31,13,31,14],[31,15,31,16],[41,1,42,1],[41,2,42,2],[33,10,34,10],[33,17,34,17],[41,10,41,12],[42,10,42,12],[19,7,20,7],[19,8,20,9],[36,3,36,9],[30,1,31,1],[30,2,31,2],[19,1,19,6],[22,1,22,2],[22,3,22,4],[22,5,22,6],[29,3,29,4],[29,5,29,6],[21,7,22,9],[28,7,29,9],[21,15,22,17],[31,17,32,17],[21,10,22,11],[30,7,31,9],[23,8,23,9],[15,7,16,7],[15,8,16,8],[15,9,16,9],[17,7,18,7],[17,8,18,8],[17,9,18,9],[15,1,15,4],[15,5,16,5],[15,6,16,6],[3,1,4,1],[3,2,4,3],[3,4,4,5],[3,6,4,6],[13,1,14,2],[13,3,14,3],[13,4,14,5],[13,6,14,6],[1,1,2,6],[9,1,10,3],[9,4,10,6],[11,2,12,3],[11,4,12,6],[5,1,6,2],[5,3,6,4],[5,5,6,6],[7,1,8,1],[7,2,8,2],[7,3,8,3],[7,4,8,4],[7,5,8,5],[7,6,8,6],[1,7,2,9],[3,7,4,7],[3,8,4,8],[3,9,4,9],[5,7,6,9],[13,7,14,9],[7,7,8,7],[7,8,8,8],[7,9,8,9],[9,7,10,9],[11,7,12,9]]}
[]
[null,"MyBet_MySkore_v10_11_1",null,null,null,null,null,"Wanga-Bet_v1_010_2",null,null,"\"Динамика\"",null,"Altadar"]
[]
[null,{"$f":"CONCATENATE(Расчеты!E14,\" / \",Расчеты!H14)","v":"6 / 17"},{"$f":"Расчеты!F14","v":"Everton"},null,{"$f":"Расчеты!I14","v":"Colo Colo"},null,{"$f":"CONCATENATE(Расчеты!K14,\" / \",Расчеты!H14)","v":"9 / 17"},{"$f":"C4","v":"Everton"},"-",{"$f":"E4","v":"Colo Colo"},{"$f":"Расчеты!Z50","v":"Ф2(+1)"},null,"ИСХОДЫ №1",null,null,"ДИ №1",null,null,"ТОТАЛЫ №1",null,"ТС",null,null,"ИТБ №1"]
[]
[null,"Точный Счет \"Програмный\"",null,"Точный Счет по Миллеру",null,"Точный Счет на ТМ (2А,ЗА)",null,"Точный Счет Матча",null,null,"\"Теория Лиги\"",null,"П1","Х","П2","1Х",12,"Х2","ТБ","ТМ","ТС №1",{"$f":"Расчеты!G118","v":1},{"$f":"Расчеты!H118","v":1},"ИТБ1","ИТБ2"]
[null,null,null,null,null,null,null,null,null,null,null,null,{"$f":"Расчеты!C104","v":0.34426229508196721},{"$f":"Расчеты!D104","v":0.36065573770491804},{"$f":"Расчеты!E104","v":0.29508196721311475},{"$f":"Расчеты!C107","v":0.35245901639344263},{"$f":"Расчеты!D107","v":0.31967213114754101},{"$f":"Расчеты!E107","v":0.32786885245901642},{"$f":"Расчеты!C110","v":1.9000000000000001},{"$f":"Расчеты!D110","v":2.0833333333333335},"ТС №2",{"$f":"Расчеты!G119","v":0},{"$f":"Расчеты!H119","v":0},{"$f":"Расчеты!C114","v":0.95000000000000007},{"$f":"Расчеты!D114","v":1.7916666666666667}]
[null,{"$f":"CONCATENATE(Расчеты!F12,\" - \",Расчеты!F13)","v":"1 - 1"},{"$f":"CONCATENATE(Расчеты!G12,\" - \",Расчеты!G13)","v":"1 - 1"},{"$f":"CONCATENATE(Расчеты!N18,\" - \",Расчеты!N20)","v":"1 - 1"},{"$f":"CONCATENATE(Расчеты!O18,\" - \",Расчеты!O20)","v":"1 - 1"},{"$f":"CONCATENATE(Расчеты!H12,\" - \",Расчеты!H13)","v":"1 - 0"},{"$f":"CONCATENATE(Расчеты!I12,\" - \",Расчеты!I13)","v":"1 - 1"},{"$f":"Расчеты!AE57","v":1},":",{"$f":"Расчеты!AG57","v":0},"П1",{"$f":"Расчеты!T67/100","v":0.6947368421052631},"ИСХОДЫ №2",null,null,"ДИ №2",null,null,{"$f":"Расчеты!C111","v":0.52301255230125521},{"$f":"Расчеты!D111","v":0.47698744769874479},"ТС №3",{"$f":"Расчеты!G120","v":0},{"$f":"Расчеты!H120","v":0},{"$f":"Расчеты!C115","v":0.65349544072948329},{"$f":"Расчеты!D115","v":0.34650455927051677}]
[null,null,null,null,null,null,null,null,null,null,null,null,null,null,null,null,null,null,"ТОТАЛЫ №2",null,"ТС №4",{"$f":"Расчеты!G121","v":1},{"$f":"Расчеты!H121","v":1},"ИТБ №2"]
[null,"Первый гол забьёт:",null,null,"Если условие слабое то 1 гол забьет:",null,null,"Первый Гол Забьёт:",null,null,"Х",{"$f":"Расчеты!U67/100","v":-0.34736842105263177},"П1","Х","П2","1Х",12,"Х2",null,null,"ТС №5",{"$f":"Расчеты!G122","v":0},{"$f":"Расчеты!H122","v":0}]
[null,null,null,null,null,null,null,null,null,null,null,null,{"$f":"Расчеты!F103","v":0.2857142857142857},{"$f":"Расчеты!G103","v":0.4285714285714286},{"$f":"Расчеты!H103","v":0.2857142857142857},{"$f":"Расчеты!F107","v":0.35714285714285715},{"$f":"Расчеты!G107","v":0.2857142857142857},{"$f":"Расчеты!H107","v":0.35714285714285715},"ТБ","ТМ","ТС №6",{"$f":"Расчеты!G123","v":2},{"$f":"Расчеты!H123","v":2},"ИТБ1","ИТБ2"]
[null,{"$f":"Расчеты!J12","v":0.76923076923076927},{"$f":"IF(Расчеты!K12=\"К1\",\"Команда 1\",\"Команда 2\")","v":"Команда 2"},null,{"$f":"IF(Расчеты!K13=\"К1\",\"Команда 1\",\"Команда 2\")","v":"Команда 2"},null,null,{"$f":"Расчеты!G87","v":"2 команда"},null,null,"П2",{"$f":"Расчеты!V67/100","v":0.65263157894736845},"ИСХОДЫ №3",null,null,"ДИ №3",null,null,{"$f":"Расчеты!E110","v":2.6},{"$f":"Расчеты!F110","v":2.2000000000000002},null,null,null,{"$f":"Расчеты!E114","v":1.3},{"$f":"Расчеты!F114","v":0.88000000000000012}]
[null,{"$f":"Расчеты!J13","v":1.1000000000000001},null,null,null,null,null,null,null,null,null,null,null,null,null,null,null,null,{"$f":"Расчеты!E111","v":0.45833333333333331},{"$f":"Расчеты!F111","v":0.54166666666666663},null,null,null,{"$f":"Расчеты!E115","v":0.59633027522935778},{"$f":"Расчеты!F115","v":0.40366972477064222}]
[null,"Обе забьют? ",null,{"$f":"Расчеты!L14","v":"Да"},"Индикатор ТБ 2,5",null,{"$f":"Расчеты!C28","v":"Нет ставки"},"Вероятность забитого гола:",null,null,"ТБ 2,5",{"$f":"Расчеты!X67/100","v":0.71967213114754092},"П1","Х","П2","1Х",12,"Х2","ТОТАЛЫ №3",null,null,null,null,"ИТМ №1"]
[null,null,null,null,null,null,null,null,null,null,null,null,{"$f":"Расчеты!I104","v":0.25},{"$f":"Расчеты!J104","v":0.5},{"$f":"Расчеты!K104","v":0.25},{"$f":"Расчеты!I107","v":0.375},{"$f":"Расчеты!J107","v":0.25},{"$f":"Расчеты!K107","v":0.375}]
[null,"Средние показатели команд за 5 домашних и  гостевых матчей",null,null,null,"Возможный Тотал матча",{"$f":"Расчеты!D14","v":2.4750000000000001},"Команда 1",null,"Команда 2","ТМ 2,5",{"$f":"Расчеты!W67/100","v":0.28032786885245914},"ИСХОДЫ №4",null,null,"ДИ №4",null,null,{"$f":"\"Тотал №1 \"&Расчеты!G110","v":"Тотал №1 ТМ(2.46)"},null,null,null,null,"ИТМ1","ИТМ2"]
[null,"Команды:","Тотал","Забито","Пропущено",null,null,null,null,null,null,null,null,null,null,null,null,null,{"$f":"\"Тотал №2 \"&Расчеты!H110","v":"Тотал №2 ТМ(3.46)"},null,null,null,null,{"$f":"Расчеты!G114","v":1.2458333333333333},{"$f":"Расчеты!H114","v":1.2250000000000001}]
[null,{"$f":"C4","v":"Everton"},{"$f":"Расчеты!J25","v":2.2000000000000002},{"$f":"Расчеты!K25","v":1.2},{"$f":"Расчеты!L25","v":1},"% прохода ТБ 2,5",{"$f":"Расчеты!M12","v":0.70714285714285718},{"$f":"Расчеты!R97","v":"НЕТ"},null,{"$f":"Расчеты!S97","v":"ДА"},"Теория \"0 голов\"",null,"П1","П2",null,{"$f":"Расчеты!L107","v":"Х2"},null,null,{"$f":"\"Тотал №3 \"&Расчеты!I110","v":"Тотал №3 ТМ(1.46)"},null,null,null,null,{"$f":"Расчеты!G115","v":0.49578414839797647},{"$f":"Расчеты!H115","v":0.50421585160202365}]
[null,{"$f":"E4","v":"Colo Colo"},{"$f":"Расчеты!J26","v":2.6},{"$f":"Расчеты!K26","v":1.2},{"$f":"Расчеты!L26","v":1.4},"Ставка на тотал",{"$f":"Расчеты!M13","v":"Нет"},null,null,null,null,null,{"$f":"Расчеты!L104","v":0.49180327868852458},{"$f":"Расчеты!M104","v":0.50819672131147542},null,null,null,null,"ДОП. ИНФО. ПО ГОЛАХ",null,null,null,null,"ИТМ №2"]
[null,"EW-легкая победа, W-победа простая, D-ничья, L-проигрыш, HL-позорный проигрыш",null,null,null,null,null,"Обе забьют?",{"$f":"Расчеты!T97","v":"НЕТ"},null,{"$f":"Расчеты!AB82","v":0},{"$f":"Расчеты!AC82","v":0},null,null,null,"ФОРА (ИСХОД)"]
[null,{"$f":"C4","v":"Everton"},{"$f":"Расчеты!Q20","v":"D"},{"$f":"Расчеты!R20","v":"W"},{"$f":"Расчеты!S20","v":"D"},{"$f":"Расчеты!T20","v":"W"},{"$f":"Расчеты!U20","v":"HL"},null,null,null,{"$f":"Расчеты!AB83","v":0.3652340257781434},{"$f":"Расчеты!AC83","v":0.47236655274101469},null,null,null,null,null,null,{"$f":"\"В матче будет забито: \"&Расчеты!I117&\", \"&Расчеты!J117&\" гола\"","v":"В матче будет забито: 2, 3 гола"},null,null,null,null,"ИТМ1","ИТМ2"]
[null,{"$f":"E4","v":"Colo Colo"},{"$f":"Расчеты!V20","v":"HL"},{"$f":"Расчеты!W20","v":"W"},{"$f":"Расчеты!X20","v":"D"},{"$f":"Расчеты!Y20","v":"HL"},{"$f":"Расчеты!Z20","v":"W"},"Теория \"Синдиката\"",null,null,{"$f":"Расчеты!Z75","v":"П1"},null,null,null,null,{"$f":"Расчеты!M107","v":"Ф2(0)"},null,null,{"$f":"\"ОЗ: \"&Расчеты!I119&\"/\"&Расчеты!J119","v":"ОЗ: НЕТ/НЕТ"},null,null,null,null,{"$f":"Расчеты!I114","v":0.94000000000000006},{"$f":"Расчеты!J114","v":1.1499999999999999}]
[null,"ВСЕГО",null,"ДОМА",null,"ВЫЕЗД",null,null,null,null,null,null,null,null,null,null,null,null,null,null,null,null,null,{"$f":"Расчеты!I115","v":0.34650455927051677},{"$f":"Расчеты!J115","v":0.65349544072948329}]
[null,"W/D/L","Забито/Проп.","W/D/L","Забито/Проп.","W/D/L","Забито/Проп.","Тест № 1",{"$f":"Расчеты!D76","v":"П2"},null,"Теория \"П/Т\"",null,null,null,null,null,null,null,"ДИСТАНЦИЯ"]
[null,{"$f":"Расчеты!H8","v":"3/4/3"},{"$f":"Расчеты!I8","v":"10/13"},{"$f":"Расчеты!O8","v":"2/1/1"},{"$f":"Расчеты!P8","v":"5/5"},{"$f":"Расчеты!V8","v":"1/3/2"},{"$f":"Расчеты!W8","v":"5/8"},"Тест № 2",{"$f":"Расчеты!D77","v":"X2"}]
[null,{"$f":"Расчеты!H9","v":"4/4/2"},{"$f":"Расчеты!I9","v":"11/10"},{"$f":"Расчеты!O9","v":"3/2/1"},{"$f":"Расчеты!P9","v":"6/4"},{"$f":"Расчеты!V9","v":"1/2/1"},{"$f":"Расчеты!W9","v":"5/6"},"Тест № 3",{"$f":"Расчеты!D78","v":"П2"},null,"Обе забьют?",null,null,null,null,null,null,null,{"$f":"\"Больше мотивации в \"& Расчеты!I123","v":"Больше мотивации в Команда 1"}]
[null,"Команды:","Сила атаки","Сила обороны","Серии","ТБ 2,5","Рейтинг","Тест № 4",{"$f":"Расчеты!D79","v":"П1"},null,{"$f":"Расчеты!AM46","v":"Нет"}]
[null,{"$f":"C4","v":"Everton"},{"$f":"Расчеты!Q25","v":1.0434782608695652},{"$f":"Расчеты!R25","v":1.0454545454545452},{"$f":"Расчеты!N12","v":"НВНВП"},{"$f":"Расчеты!O12","v":"-+--+"},{"$f":"Расчеты!P12","v":0.18320105820105823},"Тотал",{"$f":"Расчеты!D80","v":"ТМ 2,5"},null,"1 команда",{"$f":"Расчеты!AF47","v":"Гол!"}]
[null,{"$f":"E4","v":"Colo Colo"},{"$f":"Расчеты!Q26","v":0.95652173913043492},{"$f":"Расчеты!R26","v":0.95833333333333326},{"$f":"Расчеты!N13","v":"ПВНПВ"},{"$f":"Расчеты!O13","v":"++-+-"},{"$f":"Расчеты!P13","v":0.26587301587301587},"Счет матча",null,null,"2 команда",{"$f":"Расчеты!AG47","v":"Нет"}]
[null,"Исход матча","ТБ 2,5","Мощь",null,"Вероятность гола",null,null,null,null,"New Total Bomb 2016"]
[null,{"$f":"Расчеты!W26","v":"1Х"},{"$f":"Расчеты!P14","v":0},"1 команда","2 команда","1 команда","2 команда",{"$f":"CONCATENATE(Расчеты!Q66,\" - \",Расчеты!Q67)","v":"1 - 2"}]
[null,null,null,{"$f":"Расчеты!Q12","v":-0.15000000000000002},{"$f":"Расчеты!Q13","v":-0.27500000000000002},{"$f":"Расчеты!R12","v":"Да"},{"$f":"Расчеты!R13","v":"Да"},null,null,null,"К1","Результат 1",null,"Результат 2",null,"ПРОГНОЗ",null,"К2"]
[null,"Линия БК bet365","П1","Х","П2","ТБ 2,5","ТМ 2,5","ОЗ \"Да\"","ОЗ \"Нет\"","Маржа (%) ТБ:",null,{"$f":"Расчеты!V112","v":0},{"$f":"Расчеты!W112","v":1},{"$f":"Расчеты!X112","v":1},{"$f":"Расчеты!Y112","v":2},{"$f":"Расчеты!Z112","v":2}]
[null,"Коэффициенты:",{"$f":"Расчеты!E33","v":2.37},{"$f":"Расчеты!F33","v":3.2},{"$f":"Расчеты!G33","v":2.7},{"$f":"Расчеты!J33","v":2},{"$f":"Расчеты!K33","v":1.8},{"$f":"Расчеты!N33","v":1.72},{"$f":"Расчеты!O33","v":2},{"$f":"Расчеты!K31","v":5.555555555555558E-2},{"$f":"Расчеты!V120","v":0.71428571428571419},null,null,null,null,null,null,{"$f":"Расчеты!W120","v":1.7857142857142858}]
[null,"Вероятность %:",{"$f":"Расчеты!E34","v":0.38191221323431901},{"$f":"Расчеты!F34","v":0.28285373292666754},{"$f":"Расчеты!G34","v":0.33523405383901334},{"$f":"Расчеты!J34","v":0.47368421052631576},{"$f":"Расчеты!K34","v":0.52631578947368418},{"$f":"Расчеты!N34","v":0.5376344086021505},{"$f":"Расчеты!O34","v":0.46236559139784938},"Маржа (%) ОЗ:",null,null,1,"X",2,"ТБ2,5","ТМ2,5"]
[null,"Валуйность %:",{"$f":"C35-C39","v":3.5602243970262737E-2},{"$f":"D35-D39","v":1.1442013150742114E-2},{"$f":"E35-E39","v":-4.6951037461642808E-2},{"$f":"F35-I42","v":2.3926060267937643E-2},{"$f":"G35-I39","v":-2.3926060267937754E-2},{"$f":"H35-D42","v":3.4069325410303941E-2},{"$f":"I35-E42","v":-3.4069325410304052E-2},{"$f":"Расчеты!O31","v":8.1395348837209447E-2},"%",null,{"$f":"Расчеты!X116","v":14.437798125797467},{"$f":"Расчеты!Y116","v":22.530061715896995},{"$f":"Расчеты!Z116","v":62.978708058985582},{"$f":"Расчеты!AB116","v":45.618688411667051},{"$f":"Расчеты!AA116","v":54.381311588332949}]
[null,"Маржа (%) 1х2:",{"$f":"Расчеты!G31","v":0.10481129864041261},"Вероятность событий и распределение коэффициентов в соответсвии с распределением Пуассона",null,null,null,null,null,null,"Кф",null,{"$f":"Расчеты!X117","v":6.9262639031723214},{"$f":"Расчеты!Y117","v":4.4385142509148547},{"$f":"Расчеты!Z117","v":1.5878382247273228},{"$f":"Расчеты!AB117","v":2.192084066459588},{"$f":"Расчеты!AA117","v":1.8388670129363736}]
[null,"Исход","П1","Х","П2","1К забьет \"Да\"","2К забьет \"Да\"","ТМ 1,5","ТМ 2,5","ТМ 3,5"]
[null,"Вероятность в %:",{"$f":"Расчеты!AD17/100","v":0.34630996926405627},{"$f":"Расчеты!AD18/100","v":0.27141171977592543},{"$f":"Расчеты!AD19/100","v":0.38218509130065614},{"$f":"Расчеты!AD26/100","v":0.69882272811508073},{"$f":"Расчеты!AD28/100","v":0.7205793648194555},{"$f":"Расчеты!AD21/100","v":0.29246639114415346},{"$f":"Расчеты!AD23/100","v":0.55024184974162194},{"$f":"Расчеты!AD25/100","v":0.7629066030845334}]
[null,"Коэффициенты:",{"$f":"Расчеты!AE17","v":2.8875865229207842},{"$f":"Расчеты!AE18","v":3.6844392748610453},{"$f":"Расчеты!AE19","v":2.6165332525054548},{"$f":"Расчеты!AE26","v":1.4309780717883607},{"$f":"Расчеты!AE28","v":1.3877721855809106},{"$f":"Расчеты!AE21","v":3.4191962915393961},{"$f":"Расчеты!AE23","v":1.8173826663122259},{"$f":"Расчеты!AE25","v":1.310776438369869},"МОЖНО СТАВИТЬ",null,null,{"$f":"Расчеты!Y118","v":"OK"},{"$f":"Расчеты!Z118","v":"OK"},{"$f":"Расчеты!AA118","v":"NO"},{"$f":"Расчеты!AB118","v":"NO"},{"$f":"Расчеты!AC118","v":"NO"}]
[null,"Вероятный счет",null,"Обе забьют \"Да\"","Обе забьют \"Нет\"","1К забьет \"Нет\"","2К забьет \"Нет\"","ТБ 1,5","ТБ 2,5","ТБ 3,5","%",null,null,{"$f":"Расчеты!Y119","v":91.791500137610115},{"$f":"Расчеты!Z119","v":71.270250481635429},{"$f":"Расчеты!AA119","v":45.618688411667051},{"$f":"Расчеты!AB119","v":24.242386686693408},{"$f":"Расчеты!AC119","v":14.448995642348947}]
[null,{"$f":"Расчеты!S12","v":1},{"$f":"Расчеты!S13","v":1},{"$f":"Расчеты!AD30/100","v":0.50356508319184656},{"$f":"Расчеты!AD31/100","v":0.49643491680815344},{"$f":"Расчеты!AD27/100","v":0.30117727188491922},{"$f":"Расчеты!AD29/100","v":0.27942063518054455},{"$f":"Расчеты!AD20/100","v":0.7075336088558466},{"$f":"Расчеты!AD22/100","v":0.44975815025837812},{"$f":"Расчеты!AD24/100","v":0.2370933969154666},"БОЛЬШЕ",null,null,0.5,1.5,2.5,3.5,4.5]
[null,null,null,{"$f":"Расчеты!AE30","v":1.9858406259256529},{"$f":"Расчеты!AE31","v":2.0143627415040362},{"$f":"Расчеты!AE27","v":3.3203036661481651},{"$f":"Расчеты!AE29","v":3.578833751322128},{"$f":"Расчеты!AE20","v":1.4133604220117559},{"$f":"Расчеты!AE22","v":2.2234171841589032},{"$f":"Расчеты!AE24","v":4.2177471536946278},"Кф",null,null,{"$f":"Расчеты!Y121","v":1.089425489833852},{"$f":"Расчеты!Z121","v":1.403109983818108},{"$f":"Расчеты!AA121","v":2.192084066459588},{"$f":"Расчеты!AB121","v":4.1250063903522243},{"$f":"Расчеты!AC121","v":6.9208962667901517}]
[null,"Tyresyas","Показатели",null,null,null,"Прогноз"]
[null,null,"Дома","Гости","Тотал","Дельта","К1 Заб","2К Заб","ОЗ","Тотал1","Тотал2","1X2","ОНЗ","Чет/нечет"]
[null,"Вариант1",{"$f":"Расчеты!AK66","v":0.8},{"$f":"Расчеты!AL66","v":1.4499999999999997},{"$f":"Расчеты!AM66","v":2.25},{"$f":"Расчеты!AN66","v":-0.64999999999999969},{"$f":"Расчеты!AO66","v":"-"},{"$f":"Расчеты!AP66","v":"-"},{"$f":"Расчеты!AQ66","v":"-"},{"$f":"Расчеты!AR66","v":"-"},{"$f":"Расчеты!AS66","v":"-"},{"$f":"Расчеты!AT66","v":"-"},{"$f":"Расчеты!AU66","v":"-"},{"$f":"Расчеты!AV66","v":"Чет"}]
[null,"Вариант2",{"$f":"Расчеты!AK67","v":1.0424242424242425},{"$f":"Расчеты!AL67","v":1.1757575757575758},{"$f":"Расчеты!AM67","v":2.2181818181818183},{"$f":"Расчеты!AN67","v":-0.1333333333333333},{"$f":"Расчеты!AO67","v":"-"},{"$f":"Расчеты!AP67","v":"-"},{"$f":"Расчеты!AQ67","v":"-"},{"$f":"Расчеты!AR67","v":"ТМ2"},{"$f":"Расчеты!AS67","v":"-"},{"$f":"Расчеты!AT67","v":"-"},{"$f":"Расчеты!AU67","v":"-"},{"$f":"Расчеты!AV67","v":"Чет"}]
[null,"Вариант3",{"$f":"Расчеты!AK68","v":1.4666666666666668},{"$f":"Расчеты!AL68","v":1.4333333333333333},{"$f":"Расчеты!AM68","v":2.9000000000000004},{"$f":"Расчеты!AN68","v":3.3333333333333437E-2},{"$f":"Расчеты!AO68","v":"-"},{"$f":"Расчеты!AP68","v":"-"},{"$f":"Расчеты!AQ68","v":"-"},{"$f":"Расчеты!AR68","v":"ТБ1.5"},{"$f":"Расчеты!AS68","v":"-"},{"$f":"Расчеты!AT68","v":"-"},{"$f":"Расчеты!AU68","v":"-"},{"$f":"Расчеты!AV68","v":"Нечет"}]
[null,"Вариант4",{"$f":"Расчеты!AK69","v":2.4499999999999997},{"$f":"Расчеты!AL69","v":0.10000000000000026},{"$f":"Расчеты!AM69","v":2.5499999999999998},{"$f":"Расчеты!AN69","v":2.3499999999999996},{"$f":"Расчеты!AO69","v":"Да"},{"$f":"Расчеты!AP69","v":"-"},{"$f":"Расчеты!AQ69","v":"-"},{"$f":"Расчеты!AR69","v":"ТБ1.5"},{"$f":"Расчеты!AS69","v":"-"},{"$f":"Расчеты!AT69","v":"П1"},{"$f":"Расчеты!AU69","v":"-"},{"$f":"Расчеты!AV69","v":"Нечет"}]
[null,"Вариант5",{"$f":"Расчеты!AK70","v":1.3727272727272726},{"$f":"Расчеты!AL70","v":1.0545454545454547},{"$f":"Расчеты!AM70","v":2.4272727272727272},{"$f":"Расчеты!AN70","v":0.3181818181818179},{"$f":"Расчеты!AO70","v":"-"},{"$f":"Расчеты!AP70","v":"-"},{"$f":"Расчеты!AQ70","v":"-"},{"$f":"Расчеты!AR70","v":"ТМ2"},{"$f":"Расчеты!AS70","v":"-"},{"$f":"Расчеты!AT70","v":"-"},{"$f":"Расчеты!AU70","v":"-"},{"$f":"Расчеты!AV70","v":"Чет"}]
[null,"Вариант6",{"$f":"Расчеты!AK71","v":1.6},{"$f":"Расчеты!AL71","v":1.1000000000000001},{"$f":"Расчеты!AM71","v":2.7},{"$f":"Расчеты!AN71","v":0.5},{"$f":"Расчеты!AO71","v":"Да"},{"$f":"Расчеты!AP71","v":"-"},{"$f":"Расчеты!AQ71","v":"-"},{"$f":"Расчеты!AR71","v":"ТБ1.5"},{"$f":"Расчеты!AS71","v":"-"},{"$f":"Расчеты!AT71","v":"-"},{"$f":"Расчеты!AU71","v":"-"},{"$f":"Расчеты!AV71","v":"Нечет"}]
[null,"Вариант7",{"$f":"Расчеты!AK89","v":0.59999999999999987},{"$f":"Расчеты!AL89","v":1.6},{"$f":"Расчеты!AM89","v":2.2000000000000002},{"$f":"Расчеты!AN89","v":-1.0000000000000002},{"$f":"Расчеты!AO89","v":"-"},{"$f":"Расчеты!AP89","v":"Да"},{"$f":"Расчеты!AQ89","v":"-"},{"$f":"Расчеты!AR89","v":"-"},{"$f":"Расчеты!AS89","v":"-"},{"$f":"Расчеты!AT89","v":"-"},{"$f":"Расчеты!AU89","v":"-"},{"$f":"Расчеты!AV89","v":"Чет"}]
[null,"Вариант8",{"$f":"Расчеты!AK90","v":0.95757575757575752},{"$f":"Расчеты!AL90","v":1.1242424242424243},{"$f":"Расчеты!AM90","v":2.081818181818182},{"$f":"Расчеты!AN90","v":-0.16666666666666674},{"$f":"Расчеты!AO90","v":"-"},{"$f":"Расчеты!AP90","v":"-"},{"$f":"Расчеты!AQ90","v":"-"},{"$f":"Расчеты!AR90","v":"ТМ2"},{"$f":"Расчеты!AS90","v":"-"},{"$f":"Расчеты!AT90","v":"-"},{"$f":"Расчеты!AU90","v":"-"},{"$f":"Расчеты!AV90","v":"Чет"}]
[null,"Вариант9",{"$f":"Расчеты!AK91","v":0.53333333333333321},{"$f":"Расчеты!AL91","v":0.86666666666666681},{"$f":"Расчеты!AM91","v":1.4},{"$f":"Расчеты!AN91","v":-0.33333333333333359},{"$f":"Расчеты!AO91","v":"-"},{"$f":"Расчеты!AP91","v":"-"},{"$f":"Расчеты!AQ91","v":"-"},{"$f":"Расчеты!AR91","v":"ТМ3.5"},{"$f":"Расчеты!AS91","v":"-"},{"$f":"Расчеты!AT91","v":"-"},{"$f":"Расчеты!AU91","v":"-"},{"$f":"Расчеты!AV91","v":"Чет"}]
[null,"Вариант10",{"$f":"Расчеты!AK92","v":0.85000000000000009},{"$f":"Расчеты!AL92","v":0.3500000000000002},{"$f":"Расчеты!AM92","v":1.2000000000000002},{"$f":"Расчеты!AN92","v":0.49999999999999989},{"$f":"Расчеты!AO92","v":"-"},{"$f":"Расчеты!AP92","v":"-"},{"$f":"Расчеты!AQ92","v":"-"},{"$f":"Расчеты!AR92","v":"ТМ3.5"},{"$f":"Расчеты!AS92","v":"-"},{"$f":"Расчеты!AT92","v":"-"},{"$f":"Расчеты!AU92","v":"-"},{"$f":"Расчеты!AV92","v":"Чет"}]
[null,"Вариант11",{"$f":"Расчеты!AK93","v":1.3272727272727272},{"$f":"Расчеты!AL93","v":1.0454545454545454},{"$f":"Расчеты!AM93","v":2.3727272727272726},{"$f":"Расчеты!AN93","v":0.28181818181818175},{"$f":"Расчеты!AO93","v":"-"},{"$f":"Расчеты!AP93","v":"-"},{"$f":"Расчеты!AQ93","v":"-"},{"$f":"Расчеты!AR93","v":"ТМ2"},{"$f":"Расчеты!AS93","v":"-"},{"$f":"Расчеты!AT93","v":"-"},{"$f":"Расчеты!AU93","v":"-"},{"$f":"Расчеты!AV93","v":"Нечет"}]
[null,"Вариант12",{"$f":"Расчеты!AK94","v":1.0999999999999994},{"$f":"Расчеты!AL94","v":1},{"$f":"Расчеты!AM94","v":2.0999999999999996},{"$f":"Расчеты!AN94","v":9.9999999999999423E-2},{"$f":"Расчеты!AO94","v":"-"},{"$f":"Расчеты!AP94","v":"-"},{"$f":"Расчеты!AQ94","v":"-"},{"$f":"Расчеты!AR94","v":"-"},{"$f":"Расчеты!AS94","v":"-"},{"$f":"Расчеты!AT94","v":"-"},{"$f":"Расчеты!AU94","v":"-"},{"$f":"Расчеты!AV94","v":"Нечет"}]

{"sheet":"расчет банка","index":12,"n_rows":1004,"n_cols":24,"rows_kept":1004,"cut":false,"hidden":false,"merged":[[51,11,51,12],[12,11,12,12],[44,11,44,12],[45,11,45,12],[47,11,47,12],[49,11,49,12],[50,11,50,12],[11,11,11,12],[1,0,2,0],[1,1,2,1],[1,2,2,2],[1,3,2,3],[1,4,2,4],[1,5,2,5],[1,7,2,7],[1,8,2,8],[1,9,2,9],[2,11,2,12],[10,11,10,12]]}
[null,null,"Начальный депозит",10000,null,null,"ЯНВАРЬ",null,null,null,null,"Текущий банк",{"$f":"D1+M2","v":10000},null,null,null,null,null,null,null,null,null,null,"мах"]
["№ п/п","Дата","Событие  (необязат)","ставка (необязат)","ставка *","кэф","Доступно","итог","доход","Текущий банк",null,"Доход от депо",{"$f":"SUM(I:I)","v":0},{"$f":"M2/D1","v":0},null,null,null,null,null,null,null,"кэф","ставки",{"$f":"MAX(B:B)","v":5}]
[null,null,null,null,null,null,"для вывода",null,null,null,null,"Доход, от % с оборота **",null,{"$f":"M2/W1004","v":{"$error":"#DIV/0!"}},null,null,null,null,null,null,null,"с рез-ми","с рез-ми"]
[1,1,null,null,1000,2.04,null,null,null,null,null,null,null,null,null,null,"дата","Доход, руб","Доход, %","Депозит",null,{"$f":"IF(H4=\"\",\"\",F4)","v":""},{"$f":"IF(H4=\"\",\"\",E4)","v":""},"янв"]
[2,1,null,null,null,null,null,null,null,null,null,"Проходимость ставок ***",null,null,null,null,0,null,"от текущ.",{"$f":"D1","v":10000},null,"",{"$f":"IF(H5=\"\",\"\",E5)","v":""},"февр"]
[3,1,null,null,null,null,null,null,null,null,null,"плюс",{"$f":"COUNTIF(H:H,\"+\")","v":0},{"$f":"IF(M7=0,\"\",M6/(M6+M7))","v":""},{"$f":"M6/M$9","v":{"$error":"#DIV/0!"}},null,1,{"$f":"IF(COUNTIF(B:B,Q6)=0,\"\",SUMIF(B:B,Q6,I:I))","v":0},{"$f":"IF(R6=\"\",\"\",R6/T5)","v":0},{"$f":"IF(R6=\"\",D1,R6+D1)","v":10000},null,"","","март"]
[4,1,null,null,null,null,null,null,null,null,null,"минус",{"$f":"COUNTIF(H:H,\"-\")","v":0},null,{"$f":"M7/M$9","v":{"$error":"#DIV/0!"}},null,2,{"$f":"IF(COUNTIF(B:B,Q7)=0,\"\",SUMIF(B:B,Q7,I:I))","v":0},{"$f":"IF(R7=\"\",\"\",R7/T6)","v":0},{"$f":"IF(R7=\"\",T6,T6+R7)","v":10000},null,"","","апр"]
[5,2,null,null,null,null,null,null,null,null,null,"ничья",{"$f":"COUNTIF(H:H,\"н\")","v":0},null,{"$f":"M8/M$9","v":{"$error":"#DIV/0!"}},null,3,0,0,{"$f":"IF(R8=\"\",T7,T7+R8)","v":10000},null,{"$f":"IF(H8=\"\",\"\",F8)","v":""},"","май"]
[6,2,null,null,null,null,null,null,null,null,null,"всех",{"$f":"SUM(M6:M8)","v":0},null,null,null,4,0,0,10000,null,"","","июнь"]
[7,2,null,null,null,null,{"$f":"IF(OR(E10=\"\",H9=\"\",J9=\"\",J9=\"Приплыли!\"),\"\",J9-E10)","v":""},null,{"$f":"IF(OR(E10=\"\",F10=\"\",H10=\"\",G10=\"\",G10<0),\"\",IF(H10=\"+\",E10*(F10-1),IF(H10=\"н\",0,-E10)))","v":""},{"$f":"IF(G10<0,\"Приплыли!\",IF(I10=\"\",\"\",J9+I10))","v":""},null,null,null,null,null,null,5,0,0,10000,null,"","","июль"]
[8,3,null,null,null,null,"",null,"","",null,"Средний кэф \"+\" ставок",null,{"$f":"IF(M6=0,\"\",SUMIF(H:H,\"+\",F:F)/M6)","v":""},null,null,6,"","",10000,null,"","","авг"]
[9,3,null,null,null,null,"",null,"","",null,"Средний кэф \"-\" ставок",null,{"$f":"IF(M7=0,\"\",SUMIF(H:H,\"-\",F:F)/M7)","v":""},null,null,7,"","",10000,null,"","","сент"]
[10,3,null,null,null,null,"",null,"","",null,"Средн кэф всех ставок",null,{"$f":"IF(M9=0,\"\",SUM(V:V)/M9)","v":""},null,null,8,"","",10000,null,"","","окт"]
[11,3,null,null,null,null,"",null,"","",null,null,null,null,null,null,9,"","",10000,null,"","","нбр"]
[12,4,null,null,null,null,"",null,"","",null,null,null,null,null,null,10,"","",10000,null,"","","дек"]
[13,4,null,null,null,null,"",null,"","",null,null,null,null,null,null,11,"","",10000,null,"",""]
[14,4,null,null,null,null,"",null,"","",null,null,null,null,null,null,12,"","",10000,null,"","",1]
[15,5,null,null,null,null,"",null,"","",null,null,null,null,null,null,13,"","",10000,null,"","",2]
[16,5,null,null,null,null,"",null,"","",null,null,null,null,null,null,14,"","",10000,null,"","",3]
[17,5,null,null,null,null,"",null,"","",null,null,null,null,null,null,15,"","",10000,null,"","",4]
[18,5,null,null,null,null,"",null,"","",null,null,null,null,null,null,16,"","",10000,null,"","",5]
[19,5,null,null,null,null,"",null,"","",null,null,null,null,null,null,17,"","",10000,null,"","",6]
[20,5,null,null,null,null,null,null,"","",null,null,null,null,null,null,18,"","",10000,null,"","",7]
[21,5,null,null,null,null,null,null,"","",null,null,null,null,null,null,19,"","",10000,null,"","",8]
[22,5,null,null,null,null,null,null,"","",null,null,null,null,null,null,20,"","",10000,null,"","",9]
[23,null,null,null,null,null,null,null,"","",null,null,null,null,null,null,21,"","",10000,null,"","",10]
[24,null,null,null,null,null,null,null,"","",null,null,null,null,null,null,22,"","",10000,null,"","",11]
[25,null,null,null,null,null,null,null,"","",null,null,null,null,null,null,23,"","",10000,null,"","",12]
[26,null,null,null,null,null,null,null,"","",null,null,null,null,null,null,24,"","",10000,null,"","",13]
[27,null,null,null,null,null,null,null,"","",null,null,null,null,null,null,25,"","",10000,null,"","",14]
[28,null,null,null,null,null,"",null,"","",null,"* - ставка не может быть больше банка!",null,null,null,null,26,"","",10000,null,"","",15]
[29,null,null,null,null,null,"",null,"","",null,"** - деление дохода на общую сумму ставок",null,null,null,null,27,"","",10000,null,"","",16]
[30,null,null,null,null,null,"",null,"","",null,"*** - при подсчёте плюса в %, ничья не учитывается!",null,null,null,null,28,"","",10000,null,"","",17]
[31,null,null,null,null,null,"",null,"","",null,null,null,null,null,null,29,"","",10000,null,"","",18]
[32,null,null,null,null,null,"",null,"","",null,null,null,null,null,null,30,"","",10000,null,"","",19]
[33,null,null,null,null,null,"",null,"","",null,null,null,null,null,null,31,"","",10000,null,"","",20]
[34,null,null,null,null,null,"",null,"","",null,null,null,null,null,null,null,null,null,null,null,"","",21]
[35,null,null,null,null,null,"",null,"","",null,null,null,null,null,null,null,null,null,null,null,"","",22]
[36,null,null,null,null,null,"",null,"","",null,null,null,null,null,null,null,null,null,null,null,"","",23]
[37,null,null,null,null,null,"",null,"","",null,null,null,null,null,null,null,null,null,null,null,"","",24]
[38,null,null,null,null,null,"",null,"","",null,null,null,null,null,null,null,null,null,null,null,"","",25]
[39,null,null,null,null,null,"",null,"","",null,null,null,null,null,null,null,null,null,null,null,"","",26]
[40,null,null,null,null,null,"",null,"","",null,null,null,null,null,null,null,null,null,null,null,"","",27]
[41,null,null,null,null,null,"",null,"","",null,null,null,null,null,null,null,null,null,null,null,"","",28]
[42,null,null,null,null,null,"",null,"","",null,null,null,null,null,null,null,null,null,null,null,"","",29]
[43,null,null,null,null,null,"",null,"","",null,null,null,null,null,null,null,null,null,null,null,"","",30]
[44,null,null,null,null,null,"",null,"","",null,null,null,null,null,null,null,null,null,null,null,"","",31]
[45,null,null,null,null,null,"",null,"","",null,null,null,null,null,null,null,null,null,null,null,"",""]
[46,null,null,null,null,null,"",null,"",{"$f":"IF(G49<0,\"Приплыли!\",IF(I49=\"\",\"\",J48+I49))","v":""},null,null,null,null,null,null,null,null,null,null,null,"",""]
[47,null,null,null,null,null,"",null,"",{"$f":"IF(G50<0,\"Приплыли!\",IF(I50=\"\",\"\",J49+I50))","v":""},null,null,null,null,null,null,null,null,null,null,null,"",""]
[48,null,null,null,null,null,"",null,"",{"$f":"IF(G51<0,\"Приплыли!\",IF(I51=\"\",\"\",J50+I51))","v":""},null,null,null,null,null,null,null,null,null,null,null,"",""]
[49,null,null,null,null,null,"",null,"",{"$f":"IF(G52<0,\"Приплыли!\",IF(I52=\"\",\"\",J51+I52))","v":""},null,null,null,null,null,null,null,null,null,null,null,"",""]
[50,null,null,null,null,null,"",null,"","",null,null,null,null,null,null,null,null,null,null,null,"",""]
[51,null,null,null,null,null,"",null,"","",null,null,null,null,null,null,null,null,null,null,null,"",""]
[52,null,null,null,null,null,"",null,"","",null,null,null,null,null,null,null,null,null,null,null,"",""]
[53,null,null,null,null,null,"",null,"","",null,null,null,null,null,null,null,null,null,null,null,"",""]
[54,null,null,null,null,null,"",null,"","",null,null,null,null,null,null,null,null,null,null,null,"",""]
[55,null,null,null,null,null,"",null,"","",null,null,null,null,null,null,null,null,null,null,null,"",""]
[56,null,null,null,null,null,"",null,"","",null,null,null,null,null,null,null,null,null,null,null,"",""]
[57,null,null,null,null,null,"",null,"","",null,null,null,null,null,null,null,null,null,null,null,"",""]
[58,null,null,null,null,null,"",null,"","",null,null,null,null,null,null,null,null,null,null,null,"",""]
[59,null,null,null,null,null,"",null,"","",null,null,null,null,null,null,null,null,null,null,null,"",""]
[60,null,null,null,null,null,"",null,"","",null,null,null,null,null,null,null,null,null,null,null,"",""]
[61,null,null,null,null,null,"",null,"","",null,null,null,null,null,null,null,null,null,null,null,"",""]
[62,null,null,null,null,null,"",null,"","",null,null,null,null,null,null,null,null,null,null,null,"",""]
[63,null,null,null,null,null,"",null,"","",null,null,null,null,null,null,null,null,null,null,null,"",""]
[64,null,null,null,null,null,"",null,"","",null,null,null,null,null,null,null,null,null,null,null,"",""]
[65,null,null,null,null,null,"",null,"","",null,null,null,null,null,null,null,null,null,null,null,{"$f":"IF(H68=\"\",\"\",F68)","v":""},""]
[66,null,null,null,null,null,{"$f":"IF(OR(E69=\"\",H68=\"\",J68=\"\",J68=\"Приплыли!\"),\"\",J68-E69)","v":""},null,"","",null,null,null,null,null,null,null,null,null,null,null,"",{"$f":"IF(H69=\"\",\"\",E69)","v":""}]
[67,null,null,null,null,null,"",null,{"$f":"IF(OR(E70=\"\",F70=\"\",H70=\"\",G70=\"\",G70<0),\"\",IF(H70=\"+\",E70*(F70-1),IF(H70=\"н\",0,-E70)))","v":""},"",null,null,null,null,null,null,null,null,null,null,null,"",""]
[68,null,null,null,null,null,"",null,"","",null,null,null,null,null,null,null,null,null,null,null,"",""]
[69,null,null,null,null,null,"",null,"","",null,null,null,null,null,null,null,null,null,null,null,"",""]
[70,null,null,null,null,null,"",null,"","",null,null,null,null,null,null,null,null,null,null,null,"",""]
[71,null,null,null,null,null,"",null,"","",null,null,null,null,null,null,null,null,null,null,null,"",""]
[72,null,null,null,null,null,"",null,"","",null,null,null,null,null,null,null,null,null,null,null,"",""]
[73,null,null,null,null,null,"",null,"","",null,"40р",null,null,null,null,null,null,null,null,null,"",""]
[74,null,null,null,null,null,"",null,"","",null,null,null,null,null,null,null,null,null,null,null,"",""]
[75,null,null,null,null,null,"",null,"","",null,null,null,null,null,null,null,null,null,null,null,"",""]
[76,null,null,null,null,null,"",null,"","",null,null,null,null,null,null,null,null,null,null,null,"",""]
[77,null,null,null,null,null,"",null,"","",null,null,null,null,null,null,null,null,null,null,null,"",""]
[78,null,null,null,null,null,"",null,"","",null,null,null,null,null,null,null,null,null,null,null,"",""]
[79,null,null,null,null,null,"",null,"","",null,null,null,null,null,null,null,null,null,null,null,"",""]
[80,null,null,null,null,null,"",null,"","",null,null,null,null,null,null,null,null,null,null,null,"",""]
[81,null,null,null,null,null,"",null,"","",null,null,null,null,null,null,null,null,null,null,null,"",""]
[82,null,null,null,null,null,"",null,"","",null,null,null,null,null,null,null,null,null,null,null,"",""]
[83,null,null,null,null,null,"",null,"","",null,null,null,null,null,null,null,null,null,null,null,"",""]
[84,null,null,null,null,null,"",null,"","",null,null,null,null,null,null,null,null,null,null,null,"",""]
[85,null,null,null,null,null,"",null,"","",null,null,null,null,null,null,null,null,null,null,null,"",""]
[86,null,null,null,null,null,"",null,"","",null,null,null,null,null,null,null,null,null,null,null,"",""]
[87,null,null,null,null,null,"",null,"","",null,null,null,null,null,null,null,null,null,null,null,"",""]
[88,null,null,null,null,null,"",null,"","",null,null,null,null,null,null,null,null,null,null,null,"",""]
[89,null,null,null,null,null,"",null,"","",null,null,null,null,null,null,null,null,null,null,null,"",""]
[90,null,null,null,null,null,"",null,"","",null,null,null,null,null,null,null,null,null,null,null,"",""]
[91,null,null,null,null,null,"",null,"","",null,null,null,null,null,null,null,null,null,null,null,"",""]
[92,null,null,null,null,null,"",null,"","",null,null,null,null,null,null,null,null,null,null,null,"",""]
[93,null,null,null,null,null,"",null,"","",null,null,null,null,null,null,null,null,null,null,null,"",""]
[94,null,null,null,null,null,"",null,"","",null,null,null,null,null,null,null,null,null,null,null,"",""]
[95,null,null,null,null,null,"",null,"","",null,null,null,null,null,null,null,null,null,null,null,"",""]
[96,null,null,null,null,null,"",null,"","",null,null,null,null,null,null,null,null,null,null,null,"",""]
[97,null,null,null,null,null,"",null,"","",null,null,null,null,null,null,null,null,null,null,null,"",""]
[98,null,null,null,null,null,"",null,"","",null,null,null,null,null,null,null,null,null,null,null,"",""]
[99,null,null,null,null,null,"",null,"","",null,null,null,null,null,null,null,null,null,null,null,"",""]
[100,null,null,null,null,null,"",null,"","",null,null,null,null,null,null,null,null,null,null,null,"",""]
[101,null,null,null,null,null,"",null,"","",null,null,null,null,null,null,null,null,null,null,null,"",""]
[102,null,null,null,null,null,"",null,"","",null,null,null,null,null,null,null,null,null,null,null,"",""]
[103,null,null,null,null,null,"",null,"","",null,null,null,null,null,null,null,null,null,null,null,"",""]
[104,null,null,null,null,null,"",null,"","",null,null,null,null,null,null,null,null,null,null,null,"",""]
[105,null,null,null,null,null,"",null,"","",null,null,null,null,null,null,null,null,null,null,null,"",""]
[106,null,null,null,null,null,"",null,"","",null,null,null,null,null,null,null,null,null,null,null,"",""]
[107,null,null,null,null,null,"",null,"","",null,null,null,null,null,null,null,null,null,null,null,"",""]
[108,null,null,null,null,null,"",null,"","",null,null,null,null,null,null,null,null,null,null,null,"",""]
[109,null,null,null,null,null,"",null,"","",null,null,null,null,null,null,null,null,null,null,null,"",""]
[110,null,null,null,null,null,"",null,"","",null,null,null,null,null,null,null,null,null,null,null,"",""]
[111,null,null,null,null,null,"",null,"","",null,null,null,null,null,null,null,null,null,null,null,"",""]
[112,null,null,null,null,null,"",null,"","",null,null,null,null,null,null,null,null,null,null,null,"",""]
[113,null,null,null,null,null,"",null,"",{"$f":"IF(G116<0,\"Приплыли!\",IF(I116=\"\",\"\",J115+I116))","v":""},null,null,null,null,null,null,null,null,null,null,null,"",""]
[114,null,null,null,null,null,"",null,"","",null,null,null,null,null,null,null,null,null,null,null,"",""]
[115,null,null,null,null,null,"",null,"","",null,null,null,null,null,null,null,null,null,null,null,"",""]
[116,null,null,null,null,null,"",null,"","",null,null,null,null,null,null,null,null,null,null,null,"",""]
[117,null,null,null,null,null,"",null,"","",null,null,null,null,null,null,null,null,null,null,null,"",""]
[118,null,null,null,null,null,"",null,"","",null,null,null,null,null,null,null,null,null,null,null,"",""]
[119,null,null,null,null,null,"",null,"","",null,null,null,null,null,null,null,null,null,null,null,"",""]
[120,null,null,null,null,null,"",null,"","",null,null,null,null,null,null,null,null,null,null,null,"",""]
[121,null,null,null,null,null,"",null,"","",null,null,null,null,null,null,null,null,null,null,null,"",""]
[122,null,null,null,null,null,"",null,"","",null,null,null,null,null,null,null,null,null,null,null,"",""]
[123,null,null,null,null,null,"",null,"","",null,null,null,null,null,null,null,null,null,null,null,"",""]
[124,null,null,null,null,null,"",null,"","",null,null,null,null,null,null,null,null,null,null,null,"",""]
[125,null,null,null,null,null,"",null,"","",null,null,null,null,null,null,null,null,null,null,null,"",""]
[126,null,null,null,null,null,"",null,"","",null,null,null,null,null,null,null,null,null,null,null,"",""]
[127,null,null,null,null,null,"",null,"","",null,null,null,null,null,null,null,null,null,null,null,"",""]
[128,null,null,null,null,null,"",null,"","",null,null,null,null,null,null,null,null,null,null,null,"",""]
[129,null,null,null,null,null,"",null,"","",null,null,null,null,null,null,null,null,null,null,null,{"$f":"IF(H132=\"\",\"\",F132)","v":""},""]
[130,null,null,null,null,null,{"$f":"IF(OR(E133=\"\",H132=\"\",J132=\"\",J132=\"Приплыли!\"),\"\",J132-E133)","v":""},null,"","",null,null,null,null,null,null,null,null,null,null,null,"",{"$f":"IF(H133=\"\",\"\",E133)","v":""}]
[131,null,null,null,null,null,"",null,{"$f":"IF(OR(E134=\"\",F134=\"\",H134=\"\",G134=\"\",G134<0),\"\",IF(H134=\"+\",E134*(F134-1),IF(H134=\"н\",0,-E134)))","v":""},"",null,null,null,null,null,null,null,null,null,null,null,"",""]
[132,null,null,null,null,null,"",null,"","",null,null,null,null,null,null,null,null,null,null,null,"",""]
[133,null,null,null,null,null,"",null,"","",null,null,null,null,null,null,null,null,null,null,null,"",""]
[134,null,null,null,null,null,"",null,"","",null,null,null,null,null,null,null,null,null,null,null,"",""]
[135,null,null,null,null,null,"",null,"","",null,null,null,null,null,null,null,null,null,null,null,"",""]
[136,null,null,null,null,null,"",null,"","",null,null,null,null,null,null,null,null,null,null,null,"",""]
[137,null,null,null,null,null,"",null,"","",null,null,null,null,null,null,null,null,null,null,null,"",""]
[138,null,null,null,null,null,"",null,"","",null,null,null,null,null,null,null,null,null,null,null,"",""]
[139,null,null,null,null,null,"",null,"","",null,null,null,null,null,null,null,null,null,null,null,"",""]
[140,null,null,null,null,null,"",null,"","",null,null,null,null,null,null,null,null,null,null,null,"",""]
[141,null,null,null,null,null,"",null,"","",null,null,null,null,null,null,null,null,null,null,null,"",""]
[142,null,null,null,null,null,"",null,"","",null,null,null,null,null,null,null,null,null,null,null,"",""]
[143,null,null,null,null,null,"",null,"","",null,null,null,null,null,null,null,null,null,null,null,"",""]
[144,null,null,null,null,null,"",null,"","",null,null,null,null,null,null,null,null,null,null,null,"",""]
[145,null,null,null,null,null,"",null,"","",null,null,null,null,null,null,null,null,null,null,null,"",""]
[146,null,null,null,null,null,"",null,"","",null,null,null,null,null,null,null,null,null,null,null,"",""]
[147,null,null,null,null,null,"",null,"","",null,null,null,null,null,null,null,null,null,null,null,"",""]
[148,null,null,null,null,null,"",null,"","",null,null,null,null,null,null,null,null,null,null,null,"",""]
[149,null,null,null,null,null,"",null,"","",null,null,null,null,null,null,null,null,null,null,null,"",""]
[150,null,null,null,null,null,"",null,"","",null,null,null,null,null,null,null,null,null,null,null,"",""]
[151,null,null,null,null,null,"",null,"","",null,null,null,null,null,null,null,null,null,null,null,"",""]
[152,null,null,null,null,null,"",null,"","",null,null,null,null,null,null,null,null,null,null,null,"",""]
[153,null,null,null,null,null,"",null,"","",null,null,null,null,null,null,null,null,null,null,null,"",""]
[154,null,null,null,null,null,"",null,"","",null,null,null,null,null,null,null,null,null,null,null,"",""]
[155,null,null,null,null,null,"",null,"","",null,null,null,null,null,null,null,null,null,null,null,"",""]
[156,null,null,null,null,null,"",null,"","",null,null,null,null,null,null,null,null,null,null,null,"",""]
[157,null,null,null,null,null,"",null,"","",null,null,null,null,null,null,null,null,null,null,null,"",""]
[158,null,null,null,null,null,"",null,"","",null,null,null,null,null,null,null,null,null,null,null,"",""]
[159,null,null,null,null,null,"",null,"","",null,null,null,null,null,null,null,null,null,null,null,"",""]
[160,null,null,null,null,null,"",null,"","",null,null,null,null,null,null,null,null,null,null,null,"",""]
[161,null,null,null,null,null,"",null,"","",null,null,null,null,null,null,null,null,null,null,null,"",""]
[162,null,null,null,null,null,"",null,"","",null,null,null,null,null,null,null,null,null,null,null,"",""]
[163,null,null,null,null,null,"",null,"","",null,null,null,null,null,null,null,null,null,null,null,"",""]
[164,null,null,null,null,null,"",null,"","",null,null,null,null,null,null,null,null,null,null,null,"",""]
[165,null,null,null,null,null,"",null,"","",null,null,null,null,null,null,null,null,null,null,null,"",""]
[166,null,null,null,null,null,"",null,"","",null,null,null,null,null,null,null,null,null,null,null,"",""]
[167,null,null,null,null,null,"",null,"","",null,null,null,null,null,null,null,null,null,null,null,"",""]
[168,null,null,null,null,null,"",null,"","",null,null,null,null,null,null,null,null,null,null,null,"",""]
[169,null,null,null,null,null,"",null,"","",null,null,null,null,null,null,null,null,null,null,null,"",""]
[170,null,null,null,null,null,"",null,"","",null,null,null,null,null,null,null,null,null,null,null,"",""]
[171,null,null,null,null,null,"",null,"","",null,null,null,null,null,null,null,null,null,null,null,"",""]
[172,null,null,null,null,null,"",null,"","",null,null,null,null,null,null,null,null,null,null,null,"",""]
[173,null,null,null,null,null,"",null,"","",null,null,null,null,null,null,null,null,null,null,null,"",""]
[174,null,null,null,null,null,"",null,"","",null,null,null,null,null,null,null,null,null,null,null,"",""]
[175,null,null,null,null,null,"",null,"","",null,null,null,null,null,null,null,null,null,null,null,"",""]
[176,null,null,null,null,null,"",null,"","",null,null,null,null,null,null,null,null,null,null,null,"",""]
[177,null,null,null,null,null,"",null,"",{"$f":"IF(G180<0,\"Приплыли!\",IF(I180=\"\",\"\",J179+I180))","v":""},null,null,null,null,null,null,null,null,null,null,null,"",""]
[178,null,null,null,null,null,"",null,"","",null,null,null,null,null,null,null,null,null,null,null,"",""]
[179,null,null,null,null,null,"",null,"","",null,null,null,null,null,null,null,null,null,null,null,"",""]
[180,null,null,null,null,null,"",null,"","",null,null,null,null,null,null,null,null,null,null,null,"",""]
[181,null,null,null,null,null,"",null,"","",null,null,null,null,null,null,null,null,null,null,null,"",""]
[182,null,null,null,null,null,"",null,"","",null,null,null,null,null,null,null,null,null,null,null,"",""]
[183,null,null,null,null,null,"",null,"","",null,null,null,null,null,null,null,null,null,null,null,"",""]
[184,null,null,null,null,null,"",null,"","",null,null,null,null,null,null,null,null,null,null,null,"",""]
[185,null,null,null,null,null,"",null,"","",null,null,null,null,null,null,null,null,null,null,null,"",""]
[186,null,null,null,null,null,"",null,"","",null,null,null,null,null,null,null,null,null,null,null,"",""]
[187,null,null,null,null,null,"",null,"","",null,null,null,null,null,null,null,null,null,null,null,"",""]
[188,null,null,null,null,null,"",null,"","",null,null,null,null,null,null,null,null,null,null,null,"",""]
[189,null,null,null,null,null,"",null,"","",null,null,null,null,null,null,null,null,null,null,null,"",""]
[190,null,null,null,null,null,"",null,"","",null,null,null,null,null,null,null,null,null,null,null,"",""]
[191,null,null,null,null,null,"",null,"","",null,null,null,null,null,null,null,null,null,null,null,"",""]
[192,null,null,null,null,null,"",null,"","",null,null,null,null,null,null,null,null,null,null,null,"",""]
[193,null,null,null,null,null,"",null,"","",null,null,null,null,null,null,null,null,null,null,null,{"$f":"IF(H196=\"\",\"\",F196)","v":""},""]
[194,null,null,null,null,null,{"$f":"IF(OR(E197=\"\",H196=\"\",J196=\"\",J196=\"Приплыли!\"),\"\",J196-E197)","v":""},null,"","",null,null,null,null,null,null,null,null,null,null,null,"",{"$f":"IF(H197=\"\",\"\",E197)","v":""}]
[195,null,null,null,null,null,"",null,{"$f":"IF(OR(E198=\"\",F198=\"\",H198=\"\",G198=\"\",G198<0),\"\",IF(H198=\"+\",E198*(F198-1),IF(H198=\"н\",0,-E198)))","v":""},"",null,null,null,null,null,null,null,null,null,null,null,"",""]
[196,null,null,null,null,null,"",null,"","",null,null,null,null,null,null,null,null,null,null,null,"",""]
[197,null,null,null,null,null,"",null,"","",null,null,null,null,null,null,null,null,null,null,null,"",""]
[198,null,null,null,null,null,"",null,"","",null,null,null,null,null,null,null,null,null,null,null,"",""]
[199,null,null,null,null,null,"",null,"","",null,null,null,null,null,null,null,null,null,null,null,"",""]
[200,null,null,null,null,null,"",null,"","",null,null,null,null,null,null,null,null,null,null,null,"",""]
[201,null,null,null,null,null,"",null,"","",null,null,null,null,null,null,null,null,null,null,null,"",""]
[202,null,null,null,null,null,"",null,"","",null,null,null,null,null,null,null,null,null,null,null,"",""]
[203,null,null,null,null,null,"",null,"","",null,null,null,null,null,null,null,null,null,null,null,"",""]
[204,null,null,null,null,null,"",null,"","",null,null,null,null,null,null,null,null,null,null,null,"",""]
[205,null,null,null,null,null,"",null,"","",null,null,null,null,null,null,null,null,null,null,null,"",""]
[206,null,null,null,null,null,"",null,"","",null,null,null,null,null,null,null,null,null,null,null,"",""]
[207,null,null,null,null,null,"",null,"","",null,null,null,null,null,null,null,null,null,null,null,"",""]
[208,null,null,null,null,null,"",null,"","",null,null,null,null,null,null,null,null,null,null,null,"",""]
[209,null,null,null,null,null,"",null,"","",null,null,null,null,null,null,null,null,null,null,null,"",""]
[210,null,null,null,null,null,"",null,"","",null,null,null,null,null,null,null,null,null,null,null,"",""]
[211,null,null,null,null,null,"",null,"","",null,null,null,null,null,null,null,null,null,null,null,"",""]
[212,null,null,null,null,null,"",null,"","",null,null,null,null,null,null,null,null,null,null,null,"",""]
[213,null,null,null,null,null,"",null,"","",null,null,null,null,null,null,null,null,null,null,null,"",""]
[214,null,null,null,null,null,"",null,"","",null,null,null,null,null,null,null,null,null,null,null,"",""]
[215,null,null,null,null,null,"",null,"","",null,null,null,null,null,null,null,null,null,null,null,"",""]
[216,null,null,null,null,null,"",null,"","",null,null,null,null,null,null,null,null,null,null,null,"",""]
[217,null,null,null,null,null,"",null,"","",null,null,null,null,null,null,null,null,null,null,null,"",""]
[218,null,null,null,null,null,"",null,"","",null,null,null,null,null,null,null,null,null,null,null,"",""]
[219,null,null,null,null,null,"",null,"","",null,null,null,null,null,null,null,null,null,null,null,"",""]
[220,null,null,null,null,null,"",null,"","",null,null,null,null,null,null,null,null,null,null,null,"",""]
[221,null,null,null,null,null,"",null,"","",null,null,null,null,null,null,null,null,null,null,null,"",""]
[222,null,null,null,null,null,"",null,"","",null,null,null,null,null,null,null,null,null,null,null,"",""]
[223,null,null,null,null,null,"",null,"","",null,null,null,null,null,null,null,null,null,null,null,"",""]
[224,null,null,null,null,null,"",null,"","",null,null,null,null,null,null,null,null,null,null,null,"",""]
[225,null,null,null,null,null,"",null,"","",null,null,null,null,null,null,null,null,null,null,null,"",""]
[226,null,null,null,null,null,"",null,"","",null,null,null,null,null,null,null,null,null,null,null,"",""]
[227,null,null,null,null,null,"",null,"","",null,null,null,null,null,null,null,null,null,null,null,"",""]
[228,null,null,null,null,null,"",null,"","",null,null,null,null,null,null,null,null,null,null,null,"",""]
[229,null,null,null,null,null,"",null,"","",null,null,null,null,null,null,null,null,null,null,null,"",""]
[230,null,null,null,null,null,"",null,"","",null,null,null,null,null,null,null,null,null,null,null,"",""]
[231,null,null,null,null,null,"",null,"","",null,null,null,null,null,null,null,null,null,null,null,"",""]
[232,null,null,null,null,null,"",null,"","",null,null,null,null,null,null,null,null,null,null,null,"",""]
[233,null,null,null,null,null,"",null,"","",null,null,null,null,null,null,null,null,null,null,null,"",""]
[234,null,null,null,null,null,"",null,"","",null,null,null,null,null,null,null,null,null,null,null,"",""]
[235,null,null,null,null,null,"",null,"","",null,null,null,null,null,null,null,null,null,null,null,"",""]
[236,null,null,null,null,null,"",null,"","",null,null,null,null,null,null,null,null,null,null,null,"",""]
[237,null,null,null,null,null,"",null,"","",null,null,null,null,null,null,null,null,null,null,null,"",""]
[238,null,null,null,null,null,"",null,"","",null,null,null,null,null,null,null,null,null,null,null,"",""]
[239,null,null,null,null,null,"",null,"","",null,null,null,null,null,null,null,null,null,null,null,"",""]
[240,null,null,null,null,null,"",null,"","",null,null,null,null,null,null,null,null,null,null,null,"",""]
[241,null,null,null,null,null,"",null,"",{"$f":"IF(G244<0,\"Приплыли!\",IF(I244=\"\",\"\",J243+I244))","v":""},null,null,null,null,null,null,null,null,null,null,null,"",""]
[242,null,null,null,null,null,"",null,"","",null,null,null,null,null,null,null,null,null,null,null,"",""]
[243,null,null,null,null,null,"",null,"","",null,null,null,null,null,null,null,null,null,null,null,"",""]
[244,null,null,null,null,null,"",null,"","",null,null,null,null,null,null,null,null,null,null,null,"",""]
[245,null,null,null,null,null,"",null,"","",null,null,null,null,null,null,null,null,null,null,null,"",""]
[246,null,null,null,null,null,"",null,"","",null,null,null,null,null,null,null,null,null,null,null,"",""]
[247,null,null,null,null,null,"",null,"","",null,null,null,null,null,null,null,null,null,null,null,"",""]
[248,null,null,null,null,null,"",null,"","",null,null,null,null,null,null,null,null,null,null,null,"",""]
[249,null,null,null,null,null,"",null,"","",null,null,null,null,null,null,null,null,null,null,null,"",""]
[250,null,null,null,null,null,"",null,"","",null,null,null,null,null,null,null,null,null,null,null,"",""]
[251,null,null,null,null,null,"",null,"","",null,null,null,null,null,null,null,null,null,null,null,"",""]
[252,null,null,null,null,null,"",null,"","",null,null,null,null,null,null,null,null,null,null,null,"",""]
[253,null,null,null,null,null,"",null,"","",null,null,null,null,null,null,null,null,null,null,null,"",""]
[254,null,null,null,null,null,"",null,"","",null,null,null,null,null,null,null,null,null,null,null,"",""]
[255,null,null,null,null,null,"",null,"","",null,null,null,null,null,null,null,null,null,null,null,"",""]
[256,null,null,null,null,null,"",null,"","",null,null,null,null,null,null,null,null,null,null,null,"",""]
[257,null,null,null,null,null,"",null,"","",null,null,null,null,null,null,null,null,null,null,null,{"$f":"IF(H260=\"\",\"\",F260)","v":""},""]
[258,null,null,null,null,null,{"$f":"IF(OR(E261=\"\",H260=\"\",J260=\"\",J260=\"Приплыли!\"),\"\",J260-E261)","v":""},null,"","",null,null,null,null,null,null,null,null,null,null,null,"",{"$f":"IF(H261=\"\",\"\",E261)","v":""}]
[259,null,null,null,null,null,"",null,{"$f":"IF(OR(E262=\"\",F262=\"\",H262=\"\",G262=\"\",G262<0),\"\",IF(H262=\"+\",E262*(F262-1),IF(H262=\"н\",0,-E262)))","v":""},"",null,null,null,null,null,null,null,null,null,null,null,"",""]
[260,null,null,null,null,null,"",null,"","",null,null,null,null,null,null,null,null,null,null,null,"",""]
[261,null,null,null,null,null,"",null,"","",null,null,null,null,null,null,null,null,null,null,null,"",""]
[262,null,null,null,null,null,"",null,"","",null,null,null,null,null,null,null,null,null,null,null,"",""]
[263,null,null,null,null,null,"",null,"","",null,null,null,null,null,null,null,null,null,null,null,"",""]
[264,null,null,null,null,null,"",null,"","",null,null,null,null,null,null,null,null,null,null,null,"",""]
[265,null,null,null,null,null,"",null,"","",null,null,null,null,null,null,null,null,null,null,null,"",""]
[266,null,null,null,null,null,"",null,"","",null,null,null,null,null,null,null,null,null,null,null,"",""]
[267,null,null,null,null,null,"",null,"","",null,null,null,null,null,null,null,null,null,null,null,"",""]
[268,null,null,null,null,null,"",null,"","",null,null,null,null,null,null,null,null,null,null,null,"",""]
[269,null,null,null,null,null,"",null,"","",null,null,null,null,null,null,null,null,null,null,null,"",""]
[270,null,null,null,null,null,"",null,"","",null,null,null,null,null,null,null,null,null,null,null,"",""]
[271,null,null,null,null,null,"",null,"","",null,null,null,null,null,null,null,null,null,null,null,"",""]
[272,null,null,null,null,null,"",null,"","",null,null,null,null,null,null,null,null,null,null,null,"",""]
[273,null,null,null,null,null,"",null,"","",null,null,null,null,null,null,null,null,null,null,null,"",""]
[274,null,null,null,null,null,"",null,"","",null,null,null,null,null,null,null,null,null,null,null,"",""]
[275,null,null,null,null,null,"",null,"","",null,null,null,null,null,null,null,null,null,null,null,"",""]
[276,null,null,null,null,null,"",null,"","",null,null,null,null,null,null,null,null,null,null,null,"",""]
[277,null,null,null,null,null,"",null,"","",null,null,null,null,null,null,null,null,null,null,null,"",""]
[278,null,null,null,null,null,"",null,"","",null,null,null,null,null,null,null,null,null,null,null,"",""]
[279,null,null,null,null,null,"",null,"","",null,null,null,null,null,null,null,null,null,null,null,"",""]
[280,null,null,null,null,null,"",null,"","",null,null,null,null,null,null,null,null,null,null,null,"",""]
[281,null,null,null,null,null,"",null,"","",null,null,null,null,null,null,null,null,null,null,null,"",""]
[282,null,null,null,null,null,"",null,"","",null,null,null,null,null,null,null,null,null,null,null,"",""]
[283,null,null,null,null,null,"",null,"","",null,null,null,null,null,null,null,null,null,null,null,"",""]
[284,null,null,null,null,null,"",null,"","",null,null,null,null,null,null,null,null,null,null,null,"",""]
[285,null,null,null,null,null,"",null,"","",null,null,null,null,null,null,null,null,null,null,null,"",""]
[286,null,null,null,null,null,"",null,"","",null,null,null,null,null,null,null,null,null,null,null,"",""]
[287,null,null,null,null,null,"",null,"","",null,null,null,null,null,null,null,null,null,null,null,"",""]
[288,null,null,null,null,null,"",null,"","",null,null,null,null,null,null,null,null,null,null,null,"",""]
[289,null,null,null,null,null,"",null,"","",null,null,null,null,null,null,null,null,null,null,null,"",""]
[290,null,null,null,null,null,"",null,"","",null,null,null,null,null,null,null,null,null,null,null,"",""]
[291,null,null,null,null,null,"",null,"","",null,null,null,null,null,null,null,null,null,null,null,"",""]
[292,null,null,null,null,null,"",null,"","",null,null,null,null,null,null,null,null,null,null,null,"",""]
[293,null,null,null,null,null,"",null,"","",null,null,null,null,null,null,null,null,null,null,null,"",""]
[294,null,null,null,null,null,"",null,"","",null,null,null,null,null,null,null,null,null,null,null,"",""]
[295,null,null,null,null,null,"",null,"","",null,null,null,null,null,null,null,null,null,null,null,"",""]
[296,null,null,null,null,null,"",null,"","",null,null,null,null,null,null,null,null,null,null,null,"",""]
[297,null,null,null,null,null,"",null,"","",null,null,null,null,null,null,null,null,null,null,null,"",""]
[298,null,null,null,null,null,"",null,"","",null,null,null,null,null,null,null,null,null,null,null,"",""]
[299,null,null,null,null,null,"",null,"","",null,null,null,null,null,null,null,null,null,null,null,"",""]
[300,null,null,null,null,null,"",null,"","",null,null,null,null,null,null,null,null,null,null,null,"",""]
[301,null,null,null,null,null,"",null,"","",null,null,null,null,null,null,null,null,null,null,null,"",""]
[302,null,null,null,null,null,"",null,"","",null,null,null,null,null,null,null,null,null,null,null,"",""]
[303,null,null,null,null,null,"",null,"","",null,null,null,null,null,null,null,null,null,null,null,"",""]
[304,null,null,null,null,null,"",null,"","",null,null,null,null,null,null,null,null,null,null,null,"",""]
[305,null,null,null,null,null,"",null,"",{"$f":"IF(G308<0,\"Приплыли!\",IF(I308=\"\",\"\",J307+I308))","v":""},null,null,null,null,null,null,null,null,null,null,null,"",""]
[306,null,null,null,null,null,"",null,"","",null,null,null,null,null,null,null,null,null,null,null,"",""]
[307,null,null,null,null,null,"",null,"","",null,null,null,null,null,null,null,null,null,null,null,"",""]
[308,null,null,null,null,null,"",null,"","",null,null,null,null,null,null,null,null,null,null,null,"",""]
[309,null,null,null,null,null,"",null,"","",null,null,null,null,null,null,null,null,null,null,null,"",""]
[310,null,null,null,null,null,"",null,"","",null,null,null,null,null,null,null,null,null,null,null,"",""]
[311,null,null,null,null,null,"",null,"","",null,null,null,null,null,null,null,null,null,null,null,"",""]
[312,null,null,null,null,null,"",null,"","",null,null,null,null,null,null,null,null,null,null,null,"",""]
[313,null,null,null,null,null,"",null,"","",null,null,null,null,null,null,null,null,null,null,null,"",""]
[314,null,null,null,null,null,"",null,"","",null,null,null,null,null,null,null,null,null,null,null,"",""]
[315,null,null,null,null,null,"",null,"","",null,null,null,null,null,null,null,null,null,null,null,"",""]
[316,null,null,null,null,null,"",null,"","",null,null,null,null,null,null,null,null,null,null,null,"",""]
[317,null,null,null,null,null,"",null,"","",null,null,null,null,null,null,null,null,null,null,null,"",""]
[318,null,null,null,null,null,"",null,"","",null,null,null,null,null,null,null,null,null,null,null,"",""]
[319,null,null,null,null,null,"",null,"","",null,null,null,null,null,null,null,null,null,null,null,"",""]
[320,null,null,null,null,null,"",null,"","",null,null,null,null,null,null,null,null,null,null,null,"",""]
[321,null,null,null,null,null,"",null,"","",null,null,null,null,null,null,null,null,null,null,null,{"$f":"IF(H324=\"\",\"\",F324)","v":""},""]
[322,null,null,null,null,null,{"$f":"IF(OR(E325=\"\",H324=\"\",J324=\"\",J324=\"Приплыли!\"),\"\",J324-E325)","v":""},null,"","",null,null,null,null,null,null,null,null,null,null,null,"",{"$f":"IF(H325=\"\",\"\",E325)","v":""}]
[323,null,null,null,null,null,"",null,{"$f":"IF(OR(E326=\"\",F326=\"\",H326=\"\",G326=\"\",G326<0),\"\",IF(H326=\"+\",E326*(F326-1),IF(H326=\"н\",0,-E326)))","v":""},"",null,null,null,null,null,null,null,null,null,null,null,"",""]
[324,null,null,null,null,null,"",null,"","",null,null,null,null,null,null,null,null,null,null,null,"",""]
[325,null,null,null,null,null,"",null,"","",null,null,null,null,null,null,null,null,null,null,null,"",""]
[326,null,null,null,null,null,"",null,"","",null,null,null,null,null,null,null,null,null,null,null,"",""]
[327,null,null,null,null,null,"",null,"","",null,null,null,null,null,null,null,null,null,null,null,"",""]
[328,null,null,null,null,null,"",null,"","",null,null,null,null,null,null,null,null,null,null,null,"",""]
[329,null,null,null,null,null,"",null,"","",null,null,null,null,null,null,null,null,null,null,null,"",""]
[330,null,null,null,null,null,"",null,"","",null,null,null,null,null,null,null,null,null,null,null,"",""]
[331,null,null,null,null,null,"",null,"","",null,null,null,null,null,null,null,null,null,null,null,"",""]
[332,null,null,null,null,null,"",null,"","",null,null,null,null,null,null,null,null,null,null,null,"",""]
[333,null,null,null,null,null,"",null,"","",null,null,null,null,null,null,null,null,null,null,null,"",""]
[334,null,null,null,null,null,"",null,"","",null,null,null,null,null,null,null,null,null,null,null,"",""]
[335,null,null,null,null,null,"",null,"","",null,null,null,null,null,null,null,null,null,null,null,"",""]
[336,null,null,null,null,null,"",null,"","",null,null,null,null,null,null,null,null,null,null,null,"",""]
[337,null,null,null,null,null,"",null,"","",null,null,null,null,null,null,null,null,null,null,null,"",""]
[338,null,null,null,null,null,"",null,"","",null,null,null,null,null,null,null,null,null,null,null,"",""]
[339,null,null,null,null,null,"",null,"","",null,null,null,null,null,null,null,null,null,null,null,"",""]
[340,null,null,null,null,null,"",null,"","",null,null,null,null,null,null,null,null,null,null,null,"",""]
[341,null,null,null,null,null,"",null,"","",null,null,null,null,null,null,null,null,null,null,null,"",""]
[342,null,null,null,null,null,"",null,"","",null,null,null,null,null,null,null,null,null,null,null,"",""]
[343,null,null,null,null,null,"",null,"","",null,null,null,null,null,null,null,null,null,null,null,"",""]
[344,null,null,null,null,null,"",null,"","",null,null,null,null,null,null,null,null,null,null,null,"",""]
[345,null,null,null,null,null,"",null,"","",null,null,null,null,null,null,null,null,null,null,null,"",""]
[346,null,null,null,null,null,"",null,"","",null,null,null,null,null,null,null,null,null,null,null,"",""]
[347,null,null,null,null,null,"",null,"","",null,null,null,null,null,null,null,null,null,null,null,"",""]
[348,null,null,null,null,null,"",null,"","",null,null,null,null,null,null,null,null,null,null,null,"",""]
[349,null,null,null,null,null,"",null,"","",null,null,null,null,null,null,null,null,null,null,null,"",""]
[350,null,null,null,null,null,"",null,"","",null,null,null,null,null,null,null,null,null,null,null,"",""]
[351,null,null,null,null,null,"",null,"","",null,null,null,null,null,null,null,null,null,null,null,"",""]
[352,null,null,null,null,null,"",null,"","",null,null,null,null,null,null,null,null,null,null,null,"",""]
[353,null,null,null,null,null,"",null,"","",null,null,null,null,null,null,null,null,null,null,null,"",""]
[354,null,null,null,null,null,"",null,"","",null,null,null,null,null,null,null,null,null,null,null,"",""]
[355,null,null,null,null,null,"",null,"","",null,null,null,null,null,null,null,null,null,null,null,"",""]
[356,null,null,null,null,null,"",null,"","",null,null,null,null,null,null,null,null,null,null,null,"",""]
[357,null,null,null,null,null,"",null,"","",null,null,null,null,null,null,null,null,null,null,null,"",""]
[358,null,null,null,null,null,"",null,"","",null,null,null,null,null,null,null,null,null,null,null,"",""]
[359,null,null,null,null,null,"",null,"","",null,null,null,null,null,null,null,null,null,null,null,"",""]
[360,null,null,null,null,null,"",null,"","",null,null,null,null,null,null,null,null,null,null,null,"",""]
[361,null,null,null,null,null,"",null,"","",null,null,null,null,null,null,null,null,null,null,null,"",""]
[362,null,null,null,null,null,"",null,"","",null,null,null,null,null,null,null,null,null,null,null,"",""]
[363,null,null,null,null,null,"",null,"","",null,null,null,null,null,null,null,null,null,null,null,"",""]
[364,null,null,null,null,null,"",null,"","",null,null,null,null,null,null,null,null,null,null,null,"",""]
[365,null,null,null,null,null,"",null,"","",null,null,null,null,null,null,null,null,null,null,null,"",""]
[366,null,null,null,null,null,"",null,"","",null,null,null,null,null,null,null,null,null,null,null,"",""]
[367,null,null,null,null,null,"",null,"","",null,null,null,null,null,null,null,null,null,null,null,"",""]
[368,null,null,null,null,null,"",null,"","",null,null,null,null,null,null,null,null,null,null,null,"",""]
[369,null,null,null,null,null,"",null,"",{"$f":"IF(G372<0,\"Приплыли!\",IF(I372=\"\",\"\",J371+I372))","v":""},null,null,null,null,null,null,null,null,null,null,null,"",""]
[370,null,null,null,null,null,"",null,"","",null,null,null,null,null,null,null,null,null,null,null,"",""]
[371,null,null,null,null,null,"",null,"","",null,null,null,null,null,null,null,null,null,null,null,"",""]
[372,null,null,null,null,null,"",null,"","",null,null,null,null,null,null,null,null,null,null,null,"",""]
[373,null,null,null,null,null,"",null,"","",null,null,null,null,null,null,null,null,null,null,null,"",""]
[374,null,null,null,null,null,"",null,"","",null,null,null,null,null,null,null,null,null,null,null,"",""]
[375,null,null,null,null,null,"",null,"","",null,null,null,null,null,null,null,null,null,null,null,"",""]
[376,null,null,null,null,null,"",null,"","",null,null,null,null,null,null,null,null,null,null,null,"",""]
[377,null,null,null,null,null,"",null,"","",null,null,null,null,null,null,null,null,null,null,null,"",""]
[378,null,null,null,null,null,"",null,"","",null,null,null,null,null,null,null,null,null,null,null,"",""]
[379,null,null,null,null,null,"",null,"","",null,null,null,null,null,null,null,null,null,null,null,"",""]
[380,null,null,null,null,null,"",null,"","",null,null,null,null,null,null,null,null,null,null,null,"",""]
[381,null,null,null,null,null,"",null,"","",null,null,null,null,null,null,null,null,null,null,null,"",""]
[382,null,null,null,null,null,"",null,"","",null,null,null,null,null,null,null,null,null,null,null,"",""]
[383,null,null,null,null,null,"",null,"","",null,null,null,null,null,null,null,null,null,null,null,"",""]
[384,null,null,null,null,null,"",null,"","",null,null,null,null,null,null,null,null,null,null,null,"",""]
[385,null,null,null,null,null,"",null,"","",null,null,null,null,null,null,null,null,null,null,null,{"$f":"IF(H388=\"\",\"\",F388)","v":""},""]
[386,null,null,null,null,null,{"$f":"IF(OR(E389=\"\",H388=\"\",J388=\"\",J388=\"Приплыли!\"),\"\",J388-E389)","v":""},null,"","",null,null,null,null,null,null,null,null,null,null,null,"",{"$f":"IF(H389=\"\",\"\",E389)","v":""}]
[387,null,null,null,null,null,"",null,{"$f":"IF(OR(E390=\"\",F390=\"\",H390=\"\",G390=\"\",G390<0),\"\",IF(H390=\"+\",E390*(F390-1),IF(H390=\"н\",0,-E390)))","v":""},"",null,null,null,null,null,null,null,null,null,null,null,"",""]
[388,null,null,null,null,null,"",null,"","",null,null,null,null,null,null,null,null,null,null,null,"",""]
[389,null,null,null,null,null,"",null,"","",null,null,null,null,null,null,null,null,null,null,null,"",""]
[390,null,null,null,null,null,"",null,"","",null,null,null,null,null,null,null,null,null,null,null,"",""]
[391,null,null,null,null,null,"",null,"","",null,null,null,null,null,null,null,null,null,null,null,"",""]
[392,null,null,null,null,null,"",null,"","",null,null,null,null,null,null,null,null,null,null,null,"",""]
[393,null,null,null,null,null,"",null,"","",null,null,null,null,null,null,null,null,null,null,null,"",""]
[394,null,null,null,null,null,"",null,"","",null,null,null,null,null,null,null,null,null,null,null,"",""]
[395,null,null,null,null,null,"",null,"","",null,null,null,null,null,null,null,null,null,null,null,"",""]
[396,null,null,null,null,null,"",null,"","",null,null,null,null,null,null,null,null,null,null,null,"",""]
[397,null,null,null,null,null,"",null,"","",null,null,null,null,null,null,null,null,null,null,null,"",""]
[398,null,null,null,null,null,"",null,"","",null,null,null,null,null,null,null,null,null,null,null,"",""]
[399,null,null,null,null,null,"",null,"","",null,null,null,null,null,null,null,null,null,null,null,"",""]
[400,null,null,null,null,null,"",null,"","",null,null,null,null,null,null,null,null,null,null,null,"",""]
[401,null,null,null,null,null,"",null,"","",null,null,null,null,null,null,null,null,null,null,null,"",""]
[402,null,null,null,null,null,"",null,"","",null,null,null,null,null,null,null,null,null,null,null,"",""]
[403,null,null,null,null,null,"",null,"","",null,null,null,null,null,null,null,null,null,null,null,"",""]
[404,null,null,null,null,null,"",null,"","",null,null,null,null,null,null,null,null,null,null,null,"",""]
[405,null,null,null,null,null,"",null,"","",null,null,null,null,null,null,null,null,null,null,null,"",""]
[406,null,null,null,null,null,"",null,"","",null,null,null,null,null,null,null,null,null,null,null,"",""]
[407,null,null,null,null,null,"",null,"","",null,null,null,null,null,null,null,null,null,null,null,"",""]
[408,null,null,null,null,null,"",null,"","",null,null,null,null,null,null,null,null,null,null,null,"",""]
[409,null,null,null,null,null,"",null,"","",null,null,null,null,null,null,null,null,null,null,null,"",""]
[410,null,null,null,null,null,"",null,"","",null,null,null,null,null,null,null,null,null,null,null,"",""]
[411,null,null,null,null,null,"",null,"","",null,null,null,null,null,null,null,null,null,null,null,"",""]
[412,null,null,null,null,null,"",null,"","",null,null,null,null,null,null,null,null,null,null,null,"",""]
[413,null,null,null,null,null,"",null,"","",null,null,null,null,null,null,null,null,null,null,null,"",""]
[414,null,null,null,null,null,"",null,"","",null,null,null,null,null,null,null,null,null,null,null,"",""]
[415,null,null,null,null,null,"",null,"","",null,null,null,null,null,null,null,null,null,null,null,"",""]
[416,null,null,null,null,null,"",null,"","",null,null,null,null,null,null,null,null,null,null,null,"",""]
[417,null,null,null,null,null,"",null,"","",null,null,null,null,null,null,null,null,null,null,null,"",""]
[418,null,null,null,null,null,"",null,"","",null,null,null,null,null,null,null,null,null,null,null,"",""]
[419,null,null,null,null,null,"",null,"","",null,null,null,null,null,null,null,null,null,null,null,"",""]
[420,null,null,null,null,null,"",null,"","",null,null,null,null,null,null,null,null,null,null,null,"",""]
[421,null,null,null,null,null,"",null,"","",null,null,null,null,null,null,null,null,null,null,null,"",""]
[422,null,null,null,null,null,"",null,"","",null,null,null,null,null,null,null,null,null,null,null,"",""]
[423,null,null,null,null,null,"",null,"","",null,null,null,null,null,null,null,null,null,null,null,"",""]
[424,null,null,null,null,null,"",null,"","",null,null,null,null,null,null,null,null,null,null,null,"",""]
[425,null,null,null,null,null,"",null,"","",null,null,null,null,null,null,null,null,null,null,null,"",""]
[426,null,null,null,null,null,"",null,"","",null,null,null,null,null,null,null,null,null,null,null,"",""]
[427,null,null,null,null,null,"",null,"","",null,null,null,null,null,null,null,null,null,null,null,"",""]
[428,null,null,null,null,null,"",null,"","",null,null,null,null,null,null,null,null,null,null,null,"",""]
[429,null,null,null,null,null,"",null,"","",null,null,null,null,null,null,null,null,null,null,null,"",""]
[430,null,null,null,null,null,"",null,"","",null,null,null,null,null,null,null,null,null,null,null,"",""]
[431,null,null,null,null,null,"",null,"","",null,null,null,null,null,null,null,null,null,null,null,"",""]
[432,null,null,null,null,null,"",null,"","",null,null,null,null,null,null,null,null,null,null,null,"",""]
[433,null,null,null,null,null,"",null,"",{"$f":"IF(G436<0,\"Приплыли!\",IF(I436=\"\",\"\",J435+I436))","v":""},null,null,null,null,null,null,null,null,null,null,null,"",""]
[434,null,null,null,null,null,"",null,"","",null,null,null,null,null,null,null,null,null,null,null,"",""]
[435,null,null,null,null,null,"",null,"","",null,null,null,null,null,null,null,null,null,null,null,"",""]
[436,null,null,null,null,null,"",null,"","",null,null,null,null,null,null,null,null,null,null,null,"",""]
[437,null,null,null,null,null,"",null,"","",null,null,null,null,null,null,null,null,null,null,null,"",""]
[438,null,null,null,null,null,"",null,"","",null,null,null,null,null,null,null,null,null,null,null,"",""]
[439,null,null,null,null,null,"",null,"","",null,null,null,null,null,null,null,null,null,null,null,"",""]
[440,null,null,null,null,null,"",null,"","",null,null,null,null,null,null,null,null,null,null,null,"",""]
[441,null,null,null,null,null,"",null,"","",null,null,null,null,null,null,null,null,null,null,null,"",""]
[442,null,null,null,null,null,"",null,"","",null,null,null,null,null,null,null,null,null,null,null,"",""]
[443,null,null,null,null,null,"",null,"","",null,null,null,null,null,null,null,null,null,null,null,"",""]
[444,null,null,null,null,null,"",null,"","",null,null,null,null,null,null,null,null,null,null,null,"",""]
[445,null,null,null,null,null,"",null,"","",null,null,null,null,null,null,null,null,null,null,null,"",""]
[446,null,null,null,null,null,"",null,"","",null,null,null,null,null,null,null,null,null,null,null,"",""]
[447,null,null,null,null,null,"",null,"","",null,null,null,null,null,null,null,null,null,null,null,"",""]
[448,null,null,null,null,null,"",null,"","",null,null,null,null,null,null,null,null,null,null,null,"",""]
[449,null,null,null,null,null,"",null,"","",null,null,null,null,null,null,null,null,null,null,null,{"$f":"IF(H452=\"\",\"\",F452)","v":""},""]
[450,null,null,null,null,null,{"$f":"IF(OR(E453=\"\",H452=\"\",J452=\"\",J452=\"Приплыли!\"),\"\",J452-E453)","v":""},null,"","",null,null,null,null,null,null,null,null,null,null,null,"",{"$f":"IF(H453=\"\",\"\",E453)","v":""}]
[451,null,null,null,null,null,"",null,{"$f":"IF(OR(E454=\"\",F454=\"\",H454=\"\",G454=\"\",G454<0),\"\",IF(H454=\"+\",E454*(F454-1),IF(H454=\"н\",0,-E454)))","v":""},"",null,null,null,null,null,null,null,null,null,null,null,"",""]
[452,null,null,null,null,null,"",null,"","",null,null,null,null,null,null,null,null,null,null,null,"",""]
[453,null,null,null,null,null,"",null,"","",null,null,null,null,null,null,null,null,null,null,null,"",""]
[454,null,null,null,null,null,"",null,"","",null,null,null,null,null,null,null,null,null,null,null,"",""]
[455,null,null,null,null,null,"",null,"","",null,null,null,null,null,null,null,null,null,null,null,"",""]
[456,null,null,null,null,null,"",null,"","",null,null,null,null,null,null,null,null,null,null,null,"",""]
[457,null,null,null,null,null,"",null,"","",null,null,null,null,null,null,null,null,null,null,null,"",""]
[458,null,null,null,null,null,"",null,"","",null,null,null,null,null,null,null,null,null,null,null,"",""]
[459,null,null,null,null,null,"",null,"","",null,null,null,null,null,null,null,null,null,null,null,"",""]
[460,null,null,null,null,null,"",null,"","",null,null,null,null,null,null,null,null,null,null,null,"",""]
[461,null,null,null,null,null,"",null,"","",null,null,null,null,null,null,null,null,null,null,null,"",""]
[462,null,null,null,null,null,"",null,"","",null,null,null,null,null,null,null,null,null,null,null,"",""]
[463,null,null,null,null,null,"",null,"","",null,null,null,null,null,null,null,null,null,null,null,"",""]
[464,null,null,null,null,null,"",null,"","",null,null,null,null,null,null,null,null,null,null,null,"",""]
[465,null,null,null,null,null,"",null,"","",null,null,null,null,null,null,null,null,null,null,null,"",""]
[466,null,null,null,null,null,"",null,"","",null,null,null,null,null,null,null,null,null,null,null,"",""]
[467,null,null,null,null,null,"",null,"","",null,null,null,null,null,null,null,null,null,null,null,"",""]
[468,null,null,null,null,null,"",null,"","",null,null,null,null,null,null,null,null,null,null,null,"",""]
[469,null,null,null,null,null,"",null,"","",null,null,null,null,null,null,null,null,null,null,null,"",""]
[470,null,null,null,null,null,"",null,"","",null,null,null,null,null,null,null,null,null,null,null,"",""]
[471,null,null,null,null,null,"",null,"","",null,null,null,null,null,null,null,null,null,null,null,"",""]
[472,null,null,null,null,null,"",null,"","",null,null,null,null,null,null,null,null,null,null,null,"",""]
[473,null,null,null,null,null,"",null,"","",null,null,null,null,null,null,null,null,null,null,null,"",""]
[474,null,null,null,null,null,"",null,"","",null,null,null,null,null,null,null,null,null,null,null,"",""]
[475,null,null,null,null,null,"",null,"","",null,null,null,null,null,null,null,null,null,null,null,"",""]
[476,null,null,null,null,null,"",null,"","",null,null,null,null,null,null,null,null,null,null,null,"",""]
[477,null,null,null,null,null,"",null,"","",null,null,null,null,null,null,null,null,null,null,null,"",""]
[478,null,null,null,null,null,"",null,"","",null,null,null,null,null,null,null,null,null,null,null,"",""]
[479,null,null,null,null,null,"",null,"","",null,null,null,null,null,null,null,null,null,null,null,"",""]
[480,null,null,null,null,null,"",null,"","",null,null,null,null,null,null,null,null,null,null,null,"",""]
[481,null,null,null,null,null,"",null,"","",null,null,null,null,null,null,null,null,null,null,null,"",""]
[482,null,null,null,null,null,"",null,"","",null,null,null,null,null,null,null,null,null,null,null,"",""]
[483,null,null,null,null,null,"",null,"","",null,null,null,null,null,null,null,null,null,null,null,"",""]
[484,null,null,null,null,null,"",null,"","",null,null,null,null,null,null,null,null,null,null,null,"",""]
[485,null,null,null,null,null,"",null,"","",null,null,null,null,null,null,null,null,null,null,null,"",""]
[486,null,null,null,null,null,"",null,"","",null,null,null,null,null,null,null,null,null,null,null,"",""]
[487,null,null,null,null,null,"",null,"","",null,null,null,null,null,null,null,null,null,null,null,"",""]
[488,null,null,null,null,null,"",null,"","",null,null,null,null,null,null,null,null,null,null,null,"",""]
[489,null,null,null,null,null,"",null,"","",null,null,null,null,null,null,null,null,null,null,null,"",""]
[490,null,null,null,null,null,"",null,"","",null,null,null,null,null,null,null,null,null,null,null,"",""]
[491,null,null,null,null,null,"",null,"","",null,null,null,null,null,null,null,null,null,null,null,"",""]
[492,null,null,null,null,null,"",null,"","",null,null,null,null,null,null,null,null,null,null,null,"",""]
[493,null,null,null,null,null,"",null,"","",null,null,null,null,null,null,null,null,null,null,null,"",""]
[494,null,null,null,null,null,"",null,"","",null,null,null,null,null,null,null,null,null,null,null,"",""]
[495,null,null,null,null,null,"",null,"","",null,null,null,null,null,null,null,null,null,null,null,"",""]
[496,null,null,null,null,null,"",null,"","",null,null,null,null,null,null,null,null,null,null,null,"",""]
[497,null,null,null,null,null,"",null,"",{"$f":"IF(G500<0,\"Приплыли!\",IF(I500=\"\",\"\",J499+I500))","v":""},null,null,null,null,null,null,null,null,null,null,null,"",""]
[498,null,null,null,null,null,"",null,"","",null,null,null,null,null,null,null,null,null,null,null,"",""]
[499,null,null,null,null,null,"",null,"","",null,null,null,null,null,null,null,null,null,null,null,"",""]
[500,null,null,null,null,null,"",null,"","",null,null,null,null,null,null,null,null,null,null,null,"",""]
[501,null,null,null,null,null,"",null,"","",null,null,null,null,null,null,null,null,null,null,null,"",""]
[502,null,null,null,null,null,"",null,"","",null,null,null,null,null,null,null,null,null,null,null,"",""]
[503,null,null,null,null,null,"",null,"","",null,null,null,null,null,null,null,null,null,null,null,"",""]
[504,null,null,null,null,null,"",null,"","",null,null,null,null,null,null,null,null,null,null,null,"",""]
[505,null,null,null,null,null,"",null,"","",null,null,null,null,null,null,null,null,null,null,null,"",""]
[506,null,null,null,null,null,"",null,"","",null,null,null,null,null,null,null,null,null,null,null,"",""]
[507,null,null,null,null,null,"",null,"","",null,null,null,null,null,null,null,null,null,null,null,"",""]
[508,null,null,null,null,null,"",null,"","",null,null,null,null,null,null,null,null,null,null,null,"",""]
[509,null,null,null,null,null,"",null,"","",null,null,null,null,null,null,null,null,null,null,null,"",""]
[510,null,null,null,null,null,"",null,"","",null,null,null,null,null,null,null,null,null,null,null,"",""]
[511,null,null,null,null,null,"",null,"","",null,null,null,null,null,null,null,null,null,null,null,"",""]
[512,null,null,null,null,null,"",null,"","",null,null,null,null,null,null,null,null,null,null,null,"",""]
[513,null,null,null,null,null,"",null,"","",null,null,null,null,null,null,null,null,null,null,null,{"$f":"IF(H516=\"\",\"\",F516)","v":""},""]
[514,null,null,null,null,null,{"$f":"IF(OR(E517=\"\",H516=\"\",J516=\"\",J516=\"Приплыли!\"),\"\",J516-E517)","v":""},null,"","",null,null,null,null,null,null,null,null,null,null,null,"",{"$f":"IF(H517=\"\",\"\",E517)","v":""}]
[515,null,null,null,null,null,"",null,{"$f":"IF(OR(E518=\"\",F518=\"\",H518=\"\",G518=\"\",G518<0),\"\",IF(H518=\"+\",E518*(F518-1),IF(H518=\"н\",0,-E518)))","v":""},"",null,null,null,null,null,null,null,null,null,null,null,"",""]
[516,null,null,null,null,null,"",null,"","",null,null,null,null,null,null,null,null,null,null,null,"",""]
[517,null,null,null,null,null,"",null,"","",null,null,null,null,null,null,null,null,null,null,null,"",""]
[518,null,null,null,null,null,"",null,"","",null,null,null,null,null,null,null,null,null,null,null,"",""]
[519,null,null,null,null,null,"",null,"","",null,null,null,null,null,null,null,null,null,null,null,"",""]
[520,null,null,null,null,null,"",null,"","",null,null,null,null,null,null,null,null,null,null,null,"",""]
[521,null,null,null,null,null,"",null,"","",null,null,null,null,null,null,null,null,null,null,null,"",""]
[522,null,null,null,null,null,"",null,"","",null,null,null,null,null,null,null,null,null,null,null,"",""]
[523,null,null,null,null,null,"",null,"","",null,null,null,null,null,null,null,null,null,null,null,"",""]
[524,null,null,null,null,null,"",null,"","",null,null,null,null,null,null,null,null,null,null,null,"",""]
[525,null,null,null,null,null,"",null,"","",null,null,null,null,null,null,null,null,null,null,null,"",""]
[526,null,null,null,null,null,"",null,"","",null,null,null,null,null,null,null,null,null,null,null,"",""]
[527,null,null,null,null,null,"",null,"","",null,null,null,null,null,null,null,null,null,null,null,"",""]
[528,null,null,null,null,null,"",null,"","",null,null,null,null,null,null,null,null,null,null,null,"",""]
[529,null,null,null,null,null,"",null,"","",null,null,null,null,null,null,null,null,null,null,null,"",""]
[530,null,null,null,null,null,"",null,"","",null,null,null,null,null,null,null,null,null,null,null,"",""]
[531,null,null,null,null,null,"",null,"","",null,null,null,null,null,null,null,null,null,null,null,"",""]
[532,null,null,null,null,null,"",null,"","",null,null,null,null,null,null,null,null,null,null,null,"",""]
[533,null,null,null,null,null,"",null,"","",null,null,null,null,null,null,null,null,null,null,null,"",""]
[534,null,null,null,null,null,"",null,"","",null,null,null,null,null,null,null,null,null,null,null,"",""]
[535,null,null,null,null,null,"",null,"","",null,null,null,null,null,null,null,null,null,null,null,"",""]
[536,null,null,null,null,null,"",null,"","",null,null,null,null,null,null,null,null,null,null,null,"",""]
[537,null,null,null,null,null,"",null,"","",null,null,null,null,null,null,null,null,null,null,null,"",""]
[538,null,null,null,null,null,"",null,"","",null,null,null,null,null,null,null,null,null,null,null,"",""]
[539,null,null,null,null,null,"",null,"","",null,null,null,null,null,null,null,null,null,null,null,"",""]
[540,null,null,null,null,null,"",null,"","",null,null,null,null,null,null,null,null,null,null,null,"",""]
[541,null,null,null,null,null,"",null,"","",null,null,null,null,null,null,null,null,null,null,null,"",""]
[542,null,null,null,null,null,"",null,"","",null,null,null,null,null,null,null,null,null,null,null,"",""]
[543,null,null,null,null,null,"",null,"","",null,null,null,null,null,null,null,null,null,null,null,"",""]
[544,null,null,null,null,null,"",null,"","",null,null,null,null,null,null,null,null,null,null,null,"",""]
[545,null,null,null,null,null,"",null,"","",null,null,null,null,null,null,null,null,null,null,null,"",""]
[546,null,null,null,null,null,"",null,"","",null,null,null,null,null,null,null,null,null,null,null,"",""]
[547,null,null,null,null,null,"",null,"","",null,null,null,null,null,null,null,null,null,null,null,"",""]
[548,null,null,null,null,null,"",null,"","",null,null,null,null,null,null,null,null,null,null,null,"",""]
[549,null,null,null,null,null,"",null,"","",null,null,null,null,null,null,null,null,null,null,null,"",""]
[550,null,null,null,null,null,"",null,"","",null,null,null,null,null,null,null,null,null,null,null,"",""]
[551,null,null,null,null,null,"",null,"","",null,null,null,null,null,null,null,null,null,null,null,"",""]
[552,null,null,null,null,null,"",null,"","",null,null,null,null,null,null,null,null,null,null,null,"",""]
[553,null,null,null,null,null,"",null,"","",null,null,null,null,null,null,null,null,null,null,null,"",""]
[554,null,null,null,null,null,"",null,"","",null,null,null,null,null,null,null,null,null,null,null,"",""]
[555,null,null,null,null,null,"",null,"","",null,null,null,null,null,null,null,null,null,null,null,"",""]
[556,null,null,null,null,null,"",null,"","",null,null,null,null,null,null,null,null,null,null,null,"",""]
[557,null,null,null,null,null,"",null,"","",null,null,null,null,null,null,null,null,null,null,null,"",""]
[558,null,null,null,null,null,"",null,"","",null,null,null,null,null,null,null,null,null,null,null,"",""]
[559,null,null,null,null,null,"",null,"","",null,null,null,null,null,null,null,null,null,null,null,"",""]
[560,null,null,null,null,null,"",null,"","",null,null,null,null,null,null,null,null,null,null,null,"",""]
[561,null,null,null,null,null,"",null,"",{"$f":"IF(G564<0,\"Приплыли!\",IF(I564=\"\",\"\",J563+I564))","v":""},null,null,null,null,null,null,null,null,null,null,null,"",""]
[562,null,null,null,null,null,"",null,"","",null,null,null,null,null,null,null,null,null,null,null,"",""]
[563,null,null,null,null,null,"",null,"","",null,null,null,null,null,null,null,null,null,null,null,"",""]
[564,null,null,null,null,null,"",null,"","",null,null,null,null,null,null,null,null,null,null,null,"",""]
[565,null,null,null,null,null,"",null,"","",null,null,null,null,null,null,null,null,null,null,null,"",""]
[566,null,null,null,null,null,"",null,"","",null,null,null,null,null,null,null,null,null,null,null,"",""]
[567,null,null,null,null,null,"",null,"","",null,null,null,null,null,null,null,null,null,null,null,"",""]
[568,null,null,null,null,null,"",null,"","",null,null,null,null,null,null,null,null,null,null,null,"",""]
[569,null,null,null,null,null,"",null,"","",null,null,null,null,null,null,null,null,null,null,null,"",""]
[570,null,null,null,null,null,"",null,"","",null,null,null,null,null,null,null,null,null,null,null,"",""]
[571,null,null,null,null,null,"",null,"","",null,null,null,null,null,null,null,null,null,null,null,"",""]
[572,null,null,null,null,null,"",null,"","",null,null,null,null,null,null,null,null,null,null,null,"",""]
[573,null,null,null,null,null,"",null,"","",null,null,null,null,null,null,null,null,null,null,null,"",""]
[574,null,null,null,null,null,"",null,"","",null,null,null,null,null,null,null,null,null,null,null,"",""]
[575,null,null,null,null,null,"",null,"","",null,null,null,null,null,null,null,null,null,null,null,"",""]
[576,null,null,null,null,null,"",null,"","",null,null,null,null,null,null,null,null,null,null,null,"",""]
[577,null,null,null,null,null,"",null,"","",null,null,null,null,null,null,null,null,null,null,null,{"$f":"IF(H580=\"\",\"\",F580)","v":""},""]
[578,null,null,null,null,null,{"$f":"IF(OR(E581=\"\",H580=\"\",J580=\"\",J580=\"Приплыли!\"),\"\",J580-E581)","v":""},null,"","",null,null,null,null,null,null,null,null,null,null,null,"",{"$f":"IF(H581=\"\",\"\",E581)","v":""}]
[579,null,null,null,null,null,"",null,{"$f":"IF(OR(E582=\"\",F582=\"\",H582=\"\",G582=\"\",G582<0),\"\",IF(H582=\"+\",E582*(F582-1),IF(H582=\"н\",0,-E582)))","v":""},"",null,null,null,null,null,null,null,null,null,null,null,"",""]
[580,null,null,null,null,null,"",null,"","",null,null,null,null,null,null,null,null,null,null,null,"",""]
[581,null,null,null,null,null,"",null,"","",null,null,null,null,null,null,null,null,null,null,null,"",""]
[582,null,null,null,null,null,"",null,"","",null,null,null,null,null,null,null,null,null,null,null,"",""]
[583,null,null,null,null,null,"",null,"","",null,null,null,null,null,null,null,null,null,null,null,"",""]
[584,null,null,null,null,null,"",null,"","",null,null,null,null,null,null,null,null,null,null,null,"",""]
[585,null,null,null,null,null,"",null,"","",null,null,null,null,null,null,null,null,null,null,null,"",""]
[586,null,null,null,null,null,"",null,"","",null,null,null,null,null,null,null,null,null,null,null,"",""]
[587,null,null,null,null,null,"",null,"","",null,null,null,null,null,null,null,null,null,null,null,"",""]
[588,null,null,null,null,null,"",null,"","",null,null,null,null,null,null,null,null,null,null,null,"",""]
[589,null,null,null,null,null,"",null,"","",null,null,null,null,null,null,null,null,null,null,null,"",""]
[590,null,null,null,null,null,"",null,"","",null,null,null,null,null,null,null,null,null,null,null,"",""]
[591,null,null,null,null,null,"",null,"","",null,null,null,null,null,null,null,null,null,null,null,"",""]
[592,null,null,null,null,null,"",null,"","",null,null,null,null,null,null,null,null,null,null,null,"",""]
[593,null,null,null,null,null,"",null,"","",null,null,null,null,null,null,null,null,null,null,null,"",""]
[594,null,null,null,null,null,"",null,"","",null,null,null,null,null,null,null,null,null,null,null,"",""]
[595,null,null,null,null,null,"",null,"","",null,null,null,null,null,null,null,null,null,null,null,"",""]
[596,null,null,null,null,null,"",null,"","",null,null,null,null,null,null,null,null,null,null,null,"",""]
[597,null,null,null,null,null,"",null,"","",null,null,null,null,null,null,null,null,null,null,null,"",""]
[598,null,null,null,null,null,"",null,"","",null,null,null,null,null,null,null,null,null,null,null,"",""]
[599,null,null,null,null,null,"",null,"","",null,null,null,null,null,null,null,null,null,null,null,"",""]
[600,null,null,null,null,null,"",null,"","",null,null,null,null,null,null,null,null,null,null,null,"",""]
[601,null,null,null,null,null,"",null,"","",null,null,null,null,null,null,null,null,null,null,null,"",""]
[602,null,null,null,null,null,"",null,"","",null,null,null,null,null,null,null,null,null,null,null,"",""]
[603,null,null,null,null,null,"",null,"","",null,null,null,null,null,null,null,null,null,null,null,"",""]
[604,null,null,null,null,null,"",null,"","",null,null,null,null,null,null,null,null,null,null,null,"",""]
[605,null,null,null,null,null,"",null,"","",null,null,null,null,null,null,null,null,null,null,null,"",""]
[606,null,null,null,null,null,"",null,"","",null,null,null,null,null,null,null,null,null,null,null,"",""]
[607,null,null,null,null,null,"",null,"","",null,null,null,null,null,null,null,null,null,null,null,"",""]
[608,null,null,null,null,null,"",null,"","",null,null,null,null,null,null,null,null,null,null,null,"",""]
[609,null,null,null,null,null,"",null,"","",null,null,null,null,null,null,null,null,null,null,null,"",""]
[610,null,null,null,null,null,"",null,"","",null,null,null,null,null,null,null,null,null,null,null,"",""]
[611,null,null,null,null,null,"",null,"","",null,null,null,null,null,null,null,null,null,null,null,"",""]
[612,null,null,null,null,null,"",null,"","",null,null,null,null,null,null,null,null,null,null,null,"",""]
[613,null,null,null,null,null,"",null,"","",null,null,null,null,null,null,null,null,null,null,null,"",""]
[614,null,null,null,null,null,"",null,"","",null,null,null,null,null,null,null,null,null,null,null,"",""]
[615,null,null,null,null,null,"",null,"","",null,null,null,null,null,null,null,null,null,null,null,"",""]
[616,null,null,null,null,null,"",null,"","",null,null,null,null,null,null,null,null,null,null,null,"",""]
[617,null,null,null,null,null,"",null,"","",null,null,null,null,null,null,null,null,null,null,null,"",""]
[618,null,null,null,null,null,"",null,"","",null,null,null,null,null,null,null,null,null,null,null,"",""]
[619,null,null,null,null,null,"",null,"","",null,null,null,null,null,null,null,null,null,null,null,"",""]
[620,null,null,null,null,null,"",null,"","",null,null,null,null,null,null,null,null,null,null,null,"",""]
[621,null,null,null,null,null,"",null,"","",null,null,null,null,null,null,null,null,null,null,null,"",""]
[622,null,null,null,null,null,"",null,"","",null,null,null,null,null,null,null,null,null,null,null,"",""]
[623,null,null,null,null,null,"",null,"","",null,null,null,null,null,null,null,null,null,null,null,"",""]
[624,null,null,null,null,null,"",null,"","",null,null,null,null,null,null,null,null,null,null,null,"",""]
[625,null,null,null,null,null,"",null,"",{"$f":"IF(G628<0,\"Приплыли!\",IF(I628=\"\",\"\",J627+I628))","v":""},null,null,null,null,null,null,null,null,null,null,null,"",""]
[626,null,null,null,null,null,"",null,"","",null,null,null,null,null,null,null,null,null,null,null,"",""]
[627,null,null,null,null,null,"",null,"","",null,null,null,null,null,null,null,null,null,null,null,"",""]
[628,null,null,null,null,null,"",null,"","",null,null,null,null,null,null,null,null,null,null,null,"",""]
[629,null,null,null,null,null,"",null,"","",null,null,null,null,null,null,null,null,null,null,null,"",""]
[630,null,null,null,null,null,"",null,"","",null,null,null,null,null,null,null,null,null,null,null,"",""]
[631,null,null,null,null,null,"",null,"","",null,null,null,null,null,null,null,null,null,null,null,"",""]
[632,null,null,null,null,null,"",null,"","",null,null,null,null,null,null,null,null,null,null,null,"",""]
[633,null,null,null,null,null,"",null,"","",null,null,null,null,null,null,null,null,null,null,null,"",""]
[634,null,null,null,null,null,"",null,"","",null,null,null,null,null,null,null,null,null,null,null,"",""]
[635,null,null,null,null,null,"",null,"","",null,null,null,null,null,null,null,null,null,null,null,"",""]
[636,null,null,null,null,null,"",null,"","",null,null,null,null,null,null,null,null,null,null,null,"",""]
[637,null,null,null,null,null,"",null,"","",null,null,null,null,null,null,null,null,null,null,null,"",""]
[638,null,null,null,null,null,"",null,"","",null,null,null,null,null,null,null,null,null,null,null,"",""]
[639,null,null,null,null,null,"",null,"","",null,null,null,null,null,null,null,null,null,null,null,"",""]
[640,null,null,null,null,null,"",null,"","",null,null,null,null,null,null,null,null,null,null,null,"",""]
[641,null,null,null,null,null,"",null,"","",null,null,null,null,null,null,null,null,null,null,null,{"$f":"IF(H644=\"\",\"\",F644)","v":""},""]
[642,null,null,null,null,null,{"$f":"IF(OR(E645=\"\",H644=\"\",J644=\"\",J644=\"Приплыли!\"),\"\",J644-E645)","v":""},null,"","",null,null,null,null,null,null,null,null,null,null,null,"",{"$f":"IF(H645=\"\",\"\",E645)","v":""}]
[643,null,null,null,null,null,"",null,{"$f":"IF(OR(E646=\"\",F646=\"\",H646=\"\",G646=\"\",G646<0),\"\",IF(H646=\"+\",E646*(F646-1),IF(H646=\"н\",0,-E646)))","v":""},"",null,null,null,null,null,null,null,null,null,null,null,"",""]
[644,null,null,null,null,null,"",null,"","",null,null,null,null,null,null,null,null,null,null,null,"",""]
[645,null,null,null,null,null,"",null,"","",null,null,null,null,null,null,null,null,null,null,null,"",""]
[646,null,null,null,null,null,"",null,"","",null,null,null,null,null,null,null,null,null,null,null,"",""]
[647,null,null,null,null,null,"",null,"","",null,null,null,null,null,null,null,null,null,null,null,"",""]
[648,null,null,null,null,null,"",null,"","",null,null,null,null,null,null,null,null,null,null,null,"",""]
[649,null,null,null,null,null,"",null,"","",null,null,null,null,null,null,null,null,null,null,null,"",""]
[650,null,null,null,null,null,"",null,"","",null,null,null,null,null,null,null,null,null,null,null,"",""]
[651,null,null,null,null,null,"",null,"","",null,null,null,null,null,null,null,null,null,null,null,"",""]
[652,null,null,null,null,null,"",null,"","",null,null,null,null,null,null,null,null,null,null,null,"",""]
[653,null,null,null,null,null,"",null,"","",null,null,null,null,null,null,null,null,null,null,null,"",""]
[654,null,null,null,null,null,"",null,"","",null,null,null,null,null,null,null,null,null,null,null,"",""]
[655,null,null,null,null,null,"",null,"","",null,null,null,null,null,null,null,null,null,null,null,"",""]
[656,null,null,null,null,null,"",null,"","",null,null,null,null,null,null,null,null,null,null,null,"",""]
[657,null,null,null,null,null,"",null,"","",null,null,null,null,null,null,null,null,null,null,null,"",""]
[658,null,null,null,null,null,"",null,"","",null,null,null,null,null,null,null,null,null,null,null,"",""]
[659,null,null,null,null,null,"",null,"","",null,null,null,null,null,null,null,null,null,null,null,"",""]
[660,null,null,null,null,null,"",null,"","",null,null,null,null,null,null,null,null,null,null,null,"",""]
[661,null,null,null,null,null,"",null,"","",null,null,null,null,null,null,null,null,null,null,null,"",""]
[662,null,null,null,null,null,"",null,"","",null,null,null,null,null,null,null,null,null,null,null,"",""]
[663,null,null,null,null,null,"",null,"","",null,null,null,null,null,null,null,null,null,null,null,"",""]
[664,null,null,null,null,null,"",null,"","",null,null,null,null,null,null,null,null,null,null,null,"",""]
[665,null,null,null,null,null,"",null,"","",null,null,null,null,null,null,null,null,null,null,null,"",""]
[666,null,null,null,null,null,"",null,"","",null,null,null,null,null,null,null,null,null,null,null,"",""]
[667,null,null,null,null,null,"",null,"","",null,null,null,null,null,null,null,null,null,null,null,"",""]
[668,null,null,null,null,null,"",null,"","",null,null,null,null,null,null,null,null,null,null,null,"",""]
[669,null,null,null,null,null,"",null,"","",null,null,null,null,null,null,null,null,null,null,null,"",""]
[670,null,null,null,null,null,"",null,"","",null,null,null,null,null,null,null,null,null,null,null,"",""]
[671,null,null,null,null,null,"",null,"","",null,null,null,null,null,null,null,null,null,null,null,"",""]
[672,null,null,null,null,null,"",null,"","",null,null,null,null,null,null,null,null,null,null,null,"",""]
[673,null,null,null,null,null,"",null,"","",null,null,null,null,null,null,null,null,null,null,null,"",""]
[674,null,null,null,null,null,"",null,"","",null,null,null,null,null,null,null,null,null,null,null,"",""]
[675,null,null,null,null,null,"",null,"","",null,null,null,null,null,null,null,null,null,null,null,"",""]
[676,null,null,null,null,null,"",null,"","",null,null,null,null,null,null,null,null,null,null,null,"",""]
[677,null,null,null,null,null,"",null,"","",null,null,null,null,null,null,null,null,null,null,null,"",""]
[678,null,null,null,null,null,"",null,"","",null,null,null,null,null,null,null,null,null,null,null,"",""]
[679,null,null,null,null,null,"",null,"","",null,null,null,null,null,null,null,null,null,null,null,"",""]
[680,null,null,null,null,null,"",null,"","",null,null,null,null,null,null,null,null,null,null,null,"",""]
[681,null,null,null,null,null,"",null,"","",null,null,null,null,null,null,null,null,null,null,null,"",""]
[682,null,null,null,null,null,"",null,"","",null,null,null,null,null,null,null,null,null,null,null,"",""]
[683,null,null,null,null,null,"",null,"","",null,null,null,null,null,null,null,null,null,null,null,"",""]
[684,null,null,null,null,null,"",null,"","",null,null,null,null,null,null,null,null,null,null,null,"",""]
[685,null,null,null,null,null,"",null,"","",null,null,null,null,null,null,null,null,null,null,null,"",""]
[686,null,null,null,null,null,"",null,"","",null,null,null,null,null,null,null,null,null,null,null,"",""]
[687,null,null,null,null,null,"",null,"","",null,null,null,null,null,null,null,null,null,null,null,"",""]
[688,null,null,null,null,null,"",null,"","",null,null,null,null,null,null,null,null,null,null,null,"",""]
[689,null,null,null,null,null,"",null,"",{"$f":"IF(G692<0,\"Приплыли!\",IF(I692=\"\",\"\",J691+I692))","v":""},null,null,null,null,null,null,null,null,null,null,null,"",""]
[690,null,null,null,null,null,"",null,"","",null,null,null,null,null,null,null,null,null,null,null,"",""]
[691,null,null,null,null,null,"",null,"","",null,null,null,null,null,null,null,null,null,null,null,"",""]
[692,null,null,null,null,null,"",null,"","",null,null,null,null,null,null,null,null,null,null,null,"",""]
[693,null,null,null,null,null,"",null,"","",null,null,null,null,null,null,null,null,null,null,null,"",""]
[694,null,null,null,null,null,"",null,"","",null,null,null,null,null,null,null,null,null,null,null,"",""]
[695,null,null,null,null,null,"",null,"","",null,null,null,null,null,null,null,null,null,null,null,"",""]
[696,null,null,null,null,null,"",null,"","",null,null,null,null,null,null,null,null,null,null,null,"",""]
[697,null,null,null,null,null,"",null,"","",null,null,null,null,null,null,null,null,null,null,null,"",""]
[698,null,null,null,null,null,"",null,"","",null,null,null,null,null,null,null,null,null,null,null,"",""]
[699,null,null,null,null,null,"",null,"","",null,null,null,null,null,null,null,null,null,null,null,"",""]
[700,null,null,null,null,null,"",null,"","",null,null,null,null,null,null,null,null,null,null,null,"",""]
[701,null,null,null,null,null,"",null,"","",null,null,null,null,null,null,null,null,null,null,null,"",""]
[702,null,null,null,null,null,"",null,"","",null,null,null,null,null,null,null,null,null,null,null,"",""]
[703,null,null,null,null,null,"",null,"","",null,null,null,null,null,null,null,null,null,null,null,"",""]
[704,null,null,null,null,null,"",null,"","",null,null,null,null,null,null,null,null,null,null,null,"",""]
[705,null,null,null,null,null,"",null,"","",null,null,null,null,null,null,null,null,null,null,null,{"$f":"IF(H708=\"\",\"\",F708)","v":""},""]
[706,null,null,null,null,null,{"$f":"IF(OR(E709=\"\",H708=\"\",J708=\"\",J708=\"Приплыли!\"),\"\",J708-E709)","v":""},null,"","",null,null,null,null,null,null,null,null,null,null,null,"",{"$f":"IF(H709=\"\",\"\",E709)","v":""}]
[707,null,null,null,null,null,"",null,{"$f":"IF(OR(E710=\"\",F710=\"\",H710=\"\",G710=\"\",G710<0),\"\",IF(H710=\"+\",E710*(F710-1),IF(H710=\"н\",0,-E710)))","v":""},"",null,null,null,null,null,null,null,null,null,null,null,"",""]
[708,null,null,null,null,null,"",null,"","",null,null,null,null,null,null,null,null,null,null,null,"",""]
[709,null,null,null,null,null,"",null,"","",null,null,null,null,null,null,null,null,null,null,null,"",""]
[710,null,null,null,null,null,"",null,"","",null,null,null,null,null,null,null,null,null,null,null,"",""]
[711,null,null,null,null,null,"",null,"","",null,null,null,null,null,null,null,null,null,null,null,"",""]
[712,null,null,null,null,null,"",null,"","",null,null,null,null,null,null,null,null,null,null,null,"",""]
[713,null,null,null,null,null,"",null,"","",null,null,null,null,null,null,null,null,null,null,null,"",""]
[714,null,null,null,null,null,"",null,"","",null,null,null,null,null,null,null,null,null,null,null,"",""]
[715,null,null,null,null,null,"",null,"","",null,null,null,null,null,null,null,null,null,null,null,"",""]
[716,null,null,null,null,null,"",null,"","",null,null,null,null,null,null,null,null,null,null,null,"",""]
[717,null,null,null,null,null,"",null,"","",null,null,null,null,null,null,null,null,null,null,null,"",""]
[718,null,null,null,null,null,"",null,"","",null,null,null,null,null,null,null,null,null,null,null,"",""]
[719,null,null,null,null,null,"",null,"","",null,null,null,null,null,null,null,null,null,null,null,"",""]
[720,null,null,null,null,null,"",null,"","",null,null,null,null,null,null,null,null,null,null,null,"",""]
[721,null,null,null,null,null,"",null,"","",null,null,null,null,null,null,null,null,null,null,null,"",""]
[722,null,null,null,null,null,"",null,"","",null,null,null,null,null,null,null,null,null,null,null,"",""]
[723,null,null,null,null,null,"",null,"","",null,null,null,null,null,null,null,null,null,null,null,"",""]
[724,null,null,null,null,null,"",null,"","",null,null,null,null,null,null,null,null,null,null,null,"",""]
[725,null,null,null,null,null,"",null,"","",null,null,null,null,null,null,null,null,null,null,null,"",""]
[726,null,null,null,null,null,"",null,"","",null,null,null,null,null,null,null,null,null,null,null,"",""]
[727,null,null,null,null,null,"",null,"","",null,null,null,null,null,null,null,null,null,null,null,"",""]
[728,null,null,null,null,null,"",null,"","",null,null,null,null,null,null,null,null,null,null,null,"",""]
[729,null,null,null,null,null,"",null,"","",null,null,null,null,null,null,null,null,null,null,null,"",""]
[730,null,null,null,null,null,"",null,"","",null,null,null,null,null,null,null,null,null,null,null,"",""]
[731,null,null,null,null,null,"",null,"","",null,null,null,null,null,null,null,null,null,null,null,"",""]
[732,null,null,null,null,null,"",null,"","",null,null,null,null,null,null,null,null,null,null,null,"",""]
[733,null,null,null,null,null,"",null,"","",null,null,null,null,null,null,null,null,null,null,null,"",""]
[734,null,null,null,null,null,"",null,"","",null,null,null,null,null,null,null,null,null,null,null,"",""]
[735,null,null,null,null,null,"",null,"","",null,null,null,null,null,null,null,null,null,null,null,"",""]
[736,null,null,null,null,null,"",null,"","",null,null,null,null,null,null,null,null,null,null,null,"",""]
[737,null,null,null,null,null,"",null,"","",null,null,null,null,null,null,null,null,null,null,null,"",""]
[738,null,null,null,null,null,"",null,"","",null,null,null,null,null,null,null,null,null,null,null,"",""]
[739,null,null,null,null,null,"",null,"","",null,null,null,null,null,null,null,null,null,null,null,"",""]
[740,null,null,null,null,null,"",null,"","",null,null,null,null,null,null,null,null,null,null,null,"",""]
[741,null,null,null,null,null,"",null,"","",null,null,null,null,null,null,null,null,null,null,null,"",""]
[742,null,null,null,null,null,"",null,"","",null,null,null,null,null,null,null,null,null,null,null,"",""]
[743,null,null,null,null,null,"",null,"","",null,null,null,null,null,null,null,null,null,null,null,"",""]
[744,null,null,null,null,null,"",null,"","",null,null,null,null,null,null,null,null,null,null,null,"",""]
[745,null,null,null,null,null,"",null,"","",null,null,null,null,null,null,null,null,null,null,null,"",""]
[746,null,null,null,null,null,"",null,"","",null,null,null,null,null,null,null,null,null,null,null,"",""]
[747,null,null,null,null,null,"",null,"","",null,null,null,null,null,null,null,null,null,null,null,"",""]
[748,null,null,null,null,null,"",null,"","",null,null,null,null,null,null,null,null,null,null,null,"",""]
[749,null,null,null,null,null,"",null,"","",null,null,null,null,null,null,null,null,null,null,null,"",""]
[750,null,null,null,null,null,"",null,"","",null,null,null,null,null,null,null,null,null,null,null,"",""]
[751,null,null,null,null,null,"",null,"","",null,null,null,null,null,null,null,null,null,null,null,"",""]
[752,null,null,null,null,null,"",null,"","",null,null,null,null,null,null,null,null,null,null,null,"",""]
[753,null,null,null,null,null,"",null,"",{"$f":"IF(G756<0,\"Приплыли!\",IF(I756=\"\",\"\",J755+I756))","v":""},null,null,null,null,null,null,null,null,null,null,null,"",""]
[754,null,null,null,null,null,"",null,"","",null,null,null,null,null,null,null,null,null,null,null,"",""]
[755,null,null,null,null,null,"",null,"","",null,null,null,null,null,null,null,null,null,null,null,"",""]
[756,null,null,null,null,null,"",null,"","",null,null,null,null,null,null,null,null,null,null,null,"",""]
[757,null,null,null,null,null,"",null,"","",null,null,null,null,null,null,null,null,null,null,null,"",""]
[758,null,null,null,null,null,"",null,"","",null,null,null,null,null,null,null,null,null,null,null,"",""]
[759,null,null,null,null,null,"",null,"","",null,null,null,null,null,null,null,null,null,null,null,"",""]
[760,null,null,null,null,null,"",null,"","",null,null,null,null,null,null,null,null,null,null,null,"",""]
[761,null,null,null,null,null,"",null,"","",null,null,null,null,null,null,null,null,null,null,null,"",""]
[762,null,null,null,null,null,"",null,"","",null,null,null,null,null,null,null,null,null,null,null,"",""]
[763,null,null,null,null,null,"",null,"","",null,null,null,null,null,null,null,null,null,null,null,"",""]
[764,null,null,null,null,null,"",null,"","",null,null,null,null,null,null,null,null,null,null,null,"",""]
[765,null,null,null,null,null,"",null,"","",null,null,null,null,null,null,null,null,null,null,null,"",""]
[766,null,null,null,null,null,"",null,"","",null,null,null,null,null,null,null,null,null,null,null,"",""]
[767,null,null,null,null,null,"",null,"","",null,null,null,null,null,null,null,null,null,null,null,"",""]
[768,null,null,null,null,null,"",null,"","",null,null,null,null,null,null,null,null,null,null,null,"",""]
[769,null,null,null,null,null,"",null,"","",null,null,null,null,null,null,null,null,null,null,null,{"$f":"IF(H772=\"\",\"\",F772)","v":""},""]
[770,null,null,null,null,null,{"$f":"IF(OR(E773=\"\",H772=\"\",J772=\"\",J772=\"Приплыли!\"),\"\",J772-E773)","v":""},null,"","",null,null,null,null,null,null,null,null,null,null,null,"",{"$f":"IF(H773=\"\",\"\",E773)","v":""}]
[771,null,null,null,null,null,"",null,{"$f":"IF(OR(E774=\"\",F774=\"\",H774=\"\",G774=\"\",G774<0),\"\",IF(H774=\"+\",E774*(F774-1),IF(H774=\"н\",0,-E774)))","v":""},"",null,null,null,null,null,null,null,null,null,null,null,"",""]
[772,null,null,null,null,null,"",null,"","",null,null,null,null,null,null,null,null,null,null,null,"",""]
[773,null,null,null,null,null,"",null,"","",null,null,null,null,null,null,null,null,null,null,null,"",""]
[774,null,null,null,null,null,"",null,"","",null,null,null,null,null,null,null,null,null,null,null,"",""]
[775,null,null,null,null,null,"",null,"","",null,null,null,null,null,null,null,null,null,null,null,"",""]
[776,null,null,null,null,null,"",null,"","",null,null,null,null,null,null,null,null,null,null,null,"",""]
[777,null,null,null,null,null,"",null,"","",null,null,null,null,null,null,null,null,null,null,null,"",""]
[778,null,null,null,null,null,"",null,"","",null,null,null,null,null,null,null,null,null,null,null,"",""]
[779,null,null,null,null,null,"",null,"","",null,null,null,null,null,null,null,null,null,null,null,"",""]
[780,null,null,null,null,null,"",null,"","",null,null,null,null,null,null,null,null,null,null,null,"",""]
[781,null,null,null,null,null,"",null,"","",null,null,null,null,null,null,null,null,null,null,null,"",""]
[782,null,null,null,null,null,"",null,"","",null,null,null,null,null,null,null,null,null,null,null,"",""]
[783,null,null,null,null,null,"",null,"","",null,null,null,null,null,null,null,null,null,null,null,"",""]
[784,null,null,null,null,null,"",null,"","",null,null,null,null,null,null,null,null,null,null,null,"",""]
[785,null,null,null,null,null,"",null,"","",null,null,null,null,null,null,null,null,null,null,null,"",""]
[786,null,null,null,null,null,"",null,"","",null,null,null,null,null,null,null,null,null,null,null,"",""]
[787,null,null,null,null,null,"",null,"","",null,null,null,null,null,null,null,null,null,null,null,"",""]
[788,null,null,null,null,null,"",null,"","",null,null,null,null,null,null,null,null,null,null,null,"",""]
[789,null,null,null,null,null,"",null,"","",null,null,null,null,null,null,null,null,null,null,null,"",""]
[790,null,null,null,null,null,"",null,"","",null,null,null,null,null,null,null,null,null,null,null,"",""]
[791,null,null,null,null,null,"",null,"","",null,null,null,null,null,null,null,null,null,null,null,"",""]
[792,null,null,null,null,null,"",null,"","",null,null,null,null,null,null,null,null,null,null,null,"",""]
[793,null,null,null,null,null,"",null,"","",null,null,null,null,null,null,null,null,null,null,null,"",""]
[794,null,null,null,null,null,"",null,"","",null,null,null,null,null,null,null,null,null,null,null,"",""]
[795,null,null,null,null,null,"",null,"","",null,null,null,null,null,null,null,null,null,null,null,"",""]
[796,null,null,null,null,null,"",null,"","",null,null,null,null,null,null,null,null,null,null,null,"",""]
[797,null,null,null,null,null,"",null,"","",null,null,null,null,null,null,null,null,null,null,null,"",""]
[798,null,null,null,null,null,"",null,"","",null,null,null,null,null,null,null,null,null,null,null,"",""]
[799,null,null,null,null,null,"",null,"","",null,null,null,null,null,null,null,null,null,null,null,"",""]
[800,null,null,null,null,null,"",null,"","",null,null,null,null,null,null,null,null,null,null,null,"",""]
[801,null,null,null,null,null,"",null,"","",null,null,null,null,null,null,null,null,null,null,null,"",""]
[802,null,null,null,null,null,"",null,"","",null,null,null,null,null,null,null,null,null,null,null,"",""]
[803,null,null,null,null,null,"",null,"","",null,null,null,null,null,null,null,null,null,null,null,"",""]
[804,null,null,null,null,null,"",null,"","",null,null,null,null,null,null,null,null,null,null,null,"",""]
[805,null,null,null,null,null,"",null,"","",null,null,null,null,null,null,null,null,null,null,null,"",""]
[806,null,null,null,null,null,"",null,"","",null,null,null,null,null,null,null,null,null,null,null,"",""]
[807,null,null,null,null,null,"",null,"","",null,null,null,null,null,null,null,null,null,null,null,"",""]
[808,null,null,null,null,null,"",null,"","",null,null,null,null,null,null,null,null,null,null,null,"",""]
[809,null,null,null,null,null,"",null,"","",null,null,null,null,null,null,null,null,null,null,null,"",""]
[810,null,null,null,null,null,"",null,"","",null,null,null,null,null,null,null,null,null,null,null,"",""]
[811,null,null,null,null,null,"",null,"","",null,null,null,null,null,null,null,null,null,null,null,"",""]
[812,null,null,null,null,null,"",null,"","",null,null,null,null,null,null,null,null,null,null,null,"",""]
[813,null,null,null,null,null,"",null,"","",null,null,null,null,null,null,null,null,null,null,null,"",""]
[814,null,null,null,null,null,"",null,"","",null,null,null,null,null,null,null,null,null,null,null,"",""]
[815,null,null,null,null,null,"",null,"","",null,null,null,null,null,null,null,null,null,null,null,"",""]
[816,null,null,null,null,null,"",null,"","",null,null,null,null,null,null,null,null,null,null,null,"",""]
[817,null,null,null,null,null,"",null,"",{"$f":"IF(G820<0,\"Приплыли!\",IF(I820=\"\",\"\",J819+I820))","v":""},null,null,null,null,null,null,null,null,null,null,null,"",""]
[818,null,null,null,null,null,"",null,"","",null,null,null,null,null,null,null,null,null,null,null,"",""]
[819,null,null,null,null,null,"",null,"","",null,null,null,null,null,null,null,null,null,null,null,"",""]
[820,null,null,null,null,null,"",null,"","",null,null,null,null,null,null,null,null,null,null,null,"",""]
[821,null,null,null,null,null,"",null,"","",null,null,null,null,null,null,null,null,null,null,null,"",""]
[822,null,null,null,null,null,"",null,"","",null,null,null,null,null,null,null,null,null,null,null,"",""]
[823,null,null,null,null,null,"",null,"","",null,null,null,null,null,null,null,null,null,null,null,"",""]
[824,null,null,null,null,null,"",null,"","",null,null,null,null,null,null,null,null,null,null,null,"",""]
[825,null,null,null,null,null,"",null,"","",null,null,null,null,null,null,null,null,null,null,null,"",""]
[826,null,null,null,null,null,"",null,"","",null,null,null,null,null,null,null,null,null,null,null,"",""]
[827,null,null,null,null,null,"",null,"","",null,null,null,null,null,null,null,null,null,null,null,"",""]
[828,null,null,null,null,null,"",null,"","",null,null,null,null,null,null,null,null,null,null,null,"",""]
[829,null,null,null,null,null,"",null,"","",null,null,null,null,null,null,null,null,null,null,null,"",""]
[830,null,null,null,null,null,"",null,"","",null,null,null,null,null,null,null,null,null,null,null,"",""]
[831,null,null,null,null,null,"",null,"","",null,null,null,null,null,null,null,null,null,null,null,"",""]
[832,null,null,null,null,null,"",null,"","",null,null,null,null,null,null,null,null,null,null,null,"",""]
[833,null,null,null,null,null,"",null,"","",null,null,null,null,null,null,null,null,null,null,null,{"$f":"IF(H836=\"\",\"\",F836)","v":""},""]
[834,null,null,null,null,null,{"$f":"IF(OR(E837=\"\",H836=\"\",J836=\"\",J836=\"Приплыли!\"),\"\",J836-E837)","v":""},null,"","",null,null,null,null,null,null,null,null,null,null,null,"",{"$f":"IF(H837=\"\",\"\",E837)","v":""}]
[835,null,null,null,null,null,"",null,{"$f":"IF(OR(E838=\"\",F838=\"\",H838=\"\",G838=\"\",G838<0),\"\",IF(H838=\"+\",E838*(F838-1),IF(H838=\"н\",0,-E838)))","v":""},"",null,null,null,null,null,null,null,null,null,null,null,"",""]
[836,null,null,null,null,null,"",null,"","",null,null,null,null,null,null,null,null,null,null,null,"",""]
[837,null,null,null,null,null,"",null,"","",null,null,null,null,null,null,null,null,null,null,null,"",""]
[838,null,null,null,null,null,"",null,"","",null,null,null,null,null,null,null,null,null,null,null,"",""]
[839,null,null,null,null,null,"",null,"","",null,null,null,null,null,null,null,null,null,null,null,"",""]
[840,null,null,null,null,null,"",null,"","",null,null,null,null,null,null,null,null,null,null,null,"",""]
[841,null,null,null,null,null,"",null,"","",null,null,null,null,null,null,null,null,null,null,null,"",""]
[842,null,null,null,null,null,"",null,"","",null,null,null,null,null,null,null,null,null,null,null,"",""]
[843,null,null,null,null,null,"",null,"","",null,null,null,null,null,null,null,null,null,null,null,"",""]
[844,null,null,null,null,null,"",null,"","",null,null,null,null,null,null,null,null,null,null,null,"",""]
[845,null,null,null,null,null,"",null,"","",null,null,null,null,null,null,null,null,null,null,null,"",""]
[846,null,null,null,null,null,"",null,"","",null,null,null,null,null,null,null,null,null,null,null,"",""]
[847,null,null,null,null,null,"",null,"","",null,null,null,null,null,null,null,null,null,null,null,"",""]
[848,null,null,null,null,null,"",null,"","",null,null,null,null,null,null,null,null,null,null,null,"",""]
[849,null,null,null,null,null,"",null,"","",null,null,null,null,null,null,null,null,null,null,null,"",""]
[850,null,null,null,null,null,"",null,"","",null,null,null,null,null,null,null,null,null,null,null,"",""]
[851,null,null,null,null,null,"",null,"","",null,null,null,null,null,null,null,null,null,null,null,"",""]
[852,null,null,null,null,null,"",null,"","",null,null,null,null,null,null,null,null,null,null,null,"",""]
[853,null,null,null,null,null,"",null,"","",null,null,null,null,null,null,null,null,null,null,null,"",""]
[854,null,null,null,null,null,"",null,"","",null,null,null,null,null,null,null,null,null,null,null,"",""]
[855,null,null,null,null,null,"",null,"","",null,null,null,null,null,null,null,null,null,null,null,"",""]
[856,null,null,null,null,null,"",null,"","",null,null,null,null,null,null,null,null,null,null,null,"",""]
[857,null,null,null,null,null,"",null,"","",null,null,null,null,null,null,null,null,null,null,null,"",""]
[858,null,null,null,null,null,"",null,"","",null,null,null,null,null,null,null,null,null,null,null,"",""]
[859,null,null,null,null,null,"",null,"","",null,null,null,null,null,null,null,null,null,null,null,"",""]
[860,null,null,null,null,null,"",null,"","",null,null,null,null,null,null,null,null,null,null,null,"",""]
[861,null,null,null,null,null,"",null,"","",null,null,null,null,null,null,null,null,null,null,null,"",""]
[862,null,null,null,null,null,"",null,"","",null,null,null,null,null,null,null,null,null,null,null,"",""]
[863,null,null,null,null,null,"",null,"","",null,null,null,null,null,null,null,null,null,null,null,"",""]
[864,null,null,null,null,null,"",null,"","",null,null,null,null,null,null,null,null,null,null,null,"",""]
[865,null,null,null,null,null,"",null,"","",null,null,null,null,null,null,null,null,null,null,null,"",""]
[866,null,null,null,null,null,"",null,"","",null,null,null,null,null,null,null,null,null,null,null,"",""]
[867,null,null,null,null,null,"",null,"","",null,null,null,null,null,null,null,null,null,null,null,"",""]
[868,null,null,null,null,null,"",null,"","",null,null,null,null,null,null,null,null,null,null,null,"",""]
[869,null,null,null,null,null,"",null,"","",null,null,null,null,null,null,null,null,null,null,null,"",""]
[870,null,null,null,null,null,"",null,"","",null,null,null,null,null,null,null,null,null,null,null,"",""]
[871,null,null,null,null,null,"",null,"","",null,null,null,null,null,null,null,null,null,null,null,"",""]
[872,null,null,null,null,null,"",null,"","",null,null,null,null,null,null,null,null,null,null,null,"",""]
[873,null,null,null,null,null,"",null,"","",null,null,null,null,null,null,null,null,null,null,null,"",""]
[874,null,null,null,null,null,"",null,"","",null,null,null,null,null,null,null,null,null,null,null,"",""]
[875,null,null,null,null,null,"",null,"","",null,null,null,null,null,null,null,null,null,null,null,"",""]
[876,null,null,null,null,null,"",null,"","",null,null,null,null,null,null,null,null,null,null,null,"",""]
[877,null,null,null,null,null,"",null,"","",null,null,null,null,null,null,null,null,null,null,null,"",""]
[878,null,null,null,null,null,"",null,"","",null,null,null,null,null,null,null,null,null,null,null,"",""]
[879,null,null,null,null,null,"",null,"","",null,null,null,null,null,null,null,null,null,null,null,"",""]
[880,null,null,null,null,null,"",null,"","",null,null,null,null,null,null,null,null,null,null,null,"",""]
[881,null,null,null,null,null,"",null,"",{"$f":"IF(G884<0,\"Приплыли!\",IF(I884=\"\",\"\",J883+I884))","v":""},null,null,null,null,null,null,null,null,null,null,null,"",""]
[882,null,null,null,null,null,"",null,"","",null,null,null,null,null,null,null,null,null,null,null,"",""]
[883,null,null,null,null,null,"",null,"","",null,null,null,null,null,null,null,null,null,null,null,"",""]
[884,null,null,null,null,null,"",null,"","",null,null,null,null,null,null,null,null,null,null,null,"",""]
[885,null,null,null,null,null,"",null,"","",null,null,null,null,null,null,null,null,null,null,null,"",""]
[886,null,null,null,null,null,"",null,"","",null,null,null,null,null,null,null,null,null,null,null,"",""]
[887,null,null,null,null,null,"",null,"","",null,null,null,null,null,null,null,null,null,null,null,"",""]
[888,null,null,null,null,null,"",null,"","",null,null,null,null,null,null,null,null,null,null,null,"",""]
[889,null,null,null,null,null,"",null,"","",null,null,null,null,null,null,null,null,null,null,null,"",""]
[890,null,null,null,null,null,"",null,"","",null,null,null,null,null,null,null,null,null,null,null,"",""]
[891,null,null,null,null,null,"",null,"","",null,null,null,null,null,null,null,null,null,null,null,"",""]
[892,null,null,null,null,null,"",null,"","",null,null,null,null,null,null,null,null,null,null,null,"",""]
[893,null,null,null,null,null,"",null,"","",null,null,null,null,null,null,null,null,null,null,null,"",""]
[894,null,null,null,null,null,"",null,"","",null,null,null,null,null,null,null,null,null,null,null,"",""]
[895,null,null,null,null,null,"",null,"","",null,null,null,null,null,null,null,null,null,null,null,"",""]
[896,null,null,null,null,null,"",null,"","",null,null,null,null,null,null,null,null,null,null,null,"",""]
[897,null,null,null,null,null,"",null,"","",null,null,null,null,null,null,null,null,null,null,null,{"$f":"IF(H900=\"\",\"\",F900)","v":""},""]
[898,null,null,null,null,null,{"$f":"IF(OR(E901=\"\",H900=\"\",J900=\"\",J900=\"Приплыли!\"),\"\",J900-E901)","v":""},null,"","",null,null,null,null,null,null,null,null,null,null,null,"",{"$f":"IF(H901=\"\",\"\",E901)","v":""}]
[899,null,null,null,null,null,"",null,{"$f":"IF(OR(E902=\"\",F902=\"\",H902=\"\",G902=\"\",G902<0),\"\",IF(H902=\"+\",E902*(F902-1),IF(H902=\"н\",0,-E902)))","v":""},"",null,null,null,null,null,null,null,null,null,null,null,"",""]
[900,null,null,null,null,null,"",null,"","",null,null,null,null,null,null,null,null,null,null,null,"",""]
[901,null,null,null,null,null,"",null,"","",null,null,null,null,null,null,null,null,null,null,null,"",""]
[902,null,null,null,null,null,"",null,"","",null,null,null,null,null,null,null,null,null,null,null,"",""]
[903,null,null,null,null,null,"",null,"","",null,null,null,null,null,null,null,null,null,null,null,"",""]
[904,null,null,null,null,null,"",null,"","",null,null,null,null,null,null,null,null,null,null,null,"",""]
[905,null,null,null,null,null,"",null,"","",null,null,null,null,null,null,null,null,null,null,null,"",""]
[906,null,null,null,null,null,"",null,"","",null,null,null,null,null,null,null,null,null,null,null,"",""]
[907,null,null,null,null,null,"",null,"","",null,null,null,null,null,null,null,null,null,null,null,"",""]
[908,null,null,null,null,null,"",null,"","",null,null,null,null,null,null,null,null,null,null,null,"",""]
[909,null,null,null,null,null,"",null,"","",null,null,null,null,null,null,null,null,null,null,null,"",""]
[910,null,null,null,null,null,"",null,"","",null,null,null,null,null,null,null,null,null,null,null,"",""]
[911,null,null,null,null,null,"",null,"","",null,null,null,null,null,null,null,null,null,null,null,"",""]
[912,null,null,null,null,null,"",null,"","",null,null,null,null,null,null,null,null,null,null,null,"",""]
[913,null,null,null,null,null,"",null,"","",null,null,null,null,null,null,null,null,null,null,null,"",""]
[914,null,null,null,null,null,"",null,"","",null,null,null,null,null,null,null,null,null,null,null,"",""]
[915,null,null,null,null,null,"",null,"","",null,null,null,null,null,null,null,null,null,null,null,"",""]
[916,null,null,null,null,null,"",null,"","",null,null,null,null,null,null,null,null,null,null,null,"",""]
[917,null,null,null,null,null,"",null,"","",null,null,null,null,null,null,null,null,null,null,null,"",""]
[918,null,null,null,null,null,"",null,"","",null,null,null,null,null,null,null,null,null,null,null,"",""]
[919,null,null,null,null,null,"",null,"","",null,null,null,null,null,null,null,null,null,null,null,"",""]
[920,null,null,null,null,null,"",null,"","",null,null,null,null,null,null,null,null,null,null,null,"",""]
[921,null,null,null,null,null,"",null,"","",null,null,null,null,null,null,null,null,null,null,null,"",""]
[922,null,null,null,null,null,"",null,"","",null,null,null,null,null,null,null,null,null,null,null,"",""]
[923,null,null,null,null,null,"",null,"","",null,null,null,null,null,null,null,null,null,null,null,"",""]
[924,null,null,null,null,null,"",null,"","",null,null,null,null,null,null,null,null,null,null,null,"",""]
[925,null,null,null,null,null,"",null,"","",null,null,null,null,null,null,null,null,null,null,null,"",""]
[926,null,null,null,null,null,"",null,"","",null,null,null,null,null,null,null,null,null,null,null,"",""]
[927,null,null,null,null,null,"",null,"","",null,null,null,null,null,null,null,null,null,null,null,"",""]
[928,null,null,null,null,null,"",null,"","",null,null,null,null,null,null,null,null,null,null,null,"",""]
[929,null,null,null,null,null,"",null,"","",null,null,null,null,null,null,null,null,null,null,null,"",""]
[930,null,null,null,null,null,"",null,"","",null,null,null,null,null,null,null,null,null,null,null,"",""]
[931,null,null,null,null,null,"",null,"","",null,null,null,null,null,null,null,null,null,null,null,"",""]
[932,null,null,null,null,null,"",null,"","",null,null,null,null,null,null,null,null,null,null,null,"",""]
[933,null,null,null,null,null,"",null,"","",null,null,null,null,null,null,null,null,null,null,null,"",""]
[934,null,null,null,null,null,"",null,"","",null,null,null,null,null,null,null,null,null,null,null,"",""]
[935,null,null,null,null,null,"",null,"","",null,null,null,null,null,null,null,null,null,null,null,"",""]
[936,null,null,null,null,null,"",null,"","",null,null,null,null,null,null,null,null,null,null,null,"",""]
[937,null,null,null,null,null,"",null,"","",null,null,null,null,null,null,null,null,null,null,null,"",""]
[938,null,null,null,null,null,"",null,"","",null,null,null,null,null,null,null,null,null,null,null,"",""]
[939,null,null,null,null,null,"",null,"","",null,null,null,null,null,null,null,null,null,null,null,"",""]
[940,null,null,null,null,null,"",null,"","",null,null,null,null,null,null,null,null,null,null,null,"",""]
[941,null,null,null,null,null,"",null,"","",null,null,null,null,null,null,null,null,null,null,null,"",""]
[942,null,null,null,null,null,"",null,"","",null,null,null,null,null,null,null,null,null,null,null,"",""]
[943,null,null,null,null,null,"",null,"","",null,null,null,null,null,null,null,null,null,null,null,"",""]
[944,null,null,null,null,null,"",null,"","",null,null,null,null,null,null,null,null,null,null,null,"",""]
[945,null,null,null,null,null,"",null,"",{"$f":"IF(G948<0,\"Приплыли!\",IF(I948=\"\",\"\",J947+I948))","v":""},null,null,null,null,null,null,null,null,null,null,null,"",""]
[946,null,null,null,null,null,"",null,"","",null,null,null,null,null,null,null,null,null,null,null,"",""]
[947,null,null,null,null,null,"",null,"","",null,null,null,null,null,null,null,null,null,null,null,"",""]
[948,null,null,null,null,null,"",null,"","",null,null,null,null,null,null,null,null,null,null,null,"",""]
[949,null,null,null,null,null,"",null,"","",null,null,null,null,null,null,null,null,null,null,null,"",""]
[950,null,null,null,null,null,"",null,"","",null,null,null,null,null,null,null,null,null,null,null,"",""]
[951,null,null,null,null,null,"",null,"","",null,null,null,null,null,null,null,null,null,null,null,"",""]
[952,null,null,null,null,null,"",null,"","",null,null,null,null,null,null,null,null,null,null,null,"",""]
[953,null,null,null,null,null,"",null,"","",null,null,null,null,null,null,null,null,null,null,null,"",""]
[954,null,null,null,null,null,"",null,"","",null,null,null,null,null,null,null,null,null,null,null,"",""]
[955,null,null,null,null,null,"",null,"","",null,null,null,null,null,null,null,null,null,null,null,"",""]
[956,null,null,null,null,null,"",null,"","",null,null,null,null,null,null,null,null,null,null,null,"",""]
[957,null,null,null,null,null,"",null,"","",null,null,null,null,null,null,null,null,null,null,null,"",""]
[958,null,null,null,null,null,"",null,"","",null,null,null,null,null,null,null,null,null,null,null,"",""]
[959,null,null,null,null,null,"",null,"","",null,null,null,null,null,null,null,null,null,null,null,"",""]
[960,null,null,null,null,null,"",null,"","",null,null,null,null,null,null,null,null,null,null,null,"",""]
[961,null,null,null,null,null,"",null,"","",null,null,null,null,null,null,null,null,null,null,null,{"$f":"IF(H964=\"\",\"\",F964)","v":""},""]
[962,null,null,null,null,null,{"$f":"IF(OR(E965=\"\",H964=\"\",J964=\"\",J964=\"Приплыли!\"),\"\",J964-E965)","v":""},null,"","",null,null,null,null,null,null,null,null,null,null,null,"",{"$f":"IF(H965=\"\",\"\",E965)","v":""}]
[963,null,null,null,null,null,"",null,{"$f":"IF(OR(E966=\"\",F966=\"\",H966=\"\",G966=\"\",G966<0),\"\",IF(H966=\"+\",E966*(F966-1),IF(H966=\"н\",0,-E966)))","v":""},"",null,null,null,null,null,null,null,null,null,null,null,"",""]
[964,null,null,null,null,null,"",null,"","",null,null,null,null,null,null,null,null,null,null,null,"",""]
[965,null,null,null,null,null,"",null,"","",null,null,null,null,null,null,null,null,null,null,null,"",""]
[966,null,null,null,null,null,"",null,"","",null,null,null,null,null,null,null,null,null,null,null,"",""]
[967,null,null,null,null,null,"",null,"","",null,null,null,null,null,null,null,null,null,null,null,"",""]
[968,null,null,null,null,null,"",null,"","",null,null,null,null,null,null,null,null,null,null,null,"",""]
[969,null,null,null,null,null,"",null,"","",null,null,null,null,null,null,null,null,null,null,null,"",""]
[970,null,null,null,null,null,"",null,"","",null,null,null,null,null,null,null,null,null,null,null,"",""]
[971,null,null,null,null,null,"",null,"","",null,null,null,null,null,null,null,null,null,null,null,"",""]
[972,null,null,null,null,null,"",null,"","",null,null,null,null,null,null,null,null,null,null,null,"",""]
[973,null,null,null,null,null,"",null,"","",null,null,null,null,null,null,null,null,null,null,null,"",""]
[974,null,null,null,null,null,"",null,"","",null,null,null,null,null,null,null,null,null,null,null,"",""]
[975,null,null,null,null,null,"",null,"","",null,null,null,null,null,null,null,null,null,null,null,"",""]
[976,null,null,null,null,null,"",null,"","",null,null,null,null,null,null,null,null,null,null,null,"",""]
[977,null,null,null,null,null,"",null,"","",null,null,null,null,null,null,null,null,null,null,null,"",""]
[978,null,null,null,null,null,"",null,"","",null,null,null,null,null,null,null,null,null,null,null,"",""]
[979,null,null,null,null,null,"",null,"","",null,null,null,null,null,null,null,null,null,null,null,"",""]
[980,null,null,null,null,null,"",null,"","",null,null,null,null,null,null,null,null,null,null,null,"",""]
[981,null,null,null,null,null,"",null,"","",null,null,null,null,null,null,null,null,null,null,null,"",""]
[982,null,null,null,null,null,"",null,"","",null,null,null,null,null,null,null,null,null,null,null,"",""]
[983,null,null,null,null,null,"",null,"","",null,null,null,null,null,null,null,null,null,null,null,"",""]
[984,null,null,null,null,null,"",null,"","",null,null,null,null,null,null,null,null,null,null,null,"",""]
[985,null,null,null,null,null,"",null,"","",null,null,null,null,null,null,null,null,null,null,null,"",""]
[986,null,null,null,null,null,"",null,"","",null,null,null,null,null,null,null,null,null,null,null,"",""]
[987,null,null,null,null,null,"",null,"","",null,null,null,null,null,null,null,null,null,null,null,"",""]
[988,null,null,null,null,null,"",null,"","",null,null,null,null,null,null,null,null,null,null,null,"",""]
[989,null,null,null,null,null,"",null,"","",null,null,null,null,null,null,null,null,null,null,null,"",""]
[990,null,null,null,null,null,"",null,"","",null,null,null,null,null,null,null,null,null,null,null,"",""]
[991,null,null,null,null,null,"",null,"","",null,null,null,null,null,null,null,null,null,null,null,"",""]
[992,null,null,null,null,null,"",null,"","",null,null,null,null,null,null,null,null,null,null,null,"",""]
[993,null,null,null,null,null,"",null,"","",null,null,null,null,null,null,null,null,null,null,null,"",""]
[994,null,null,null,null,null,"",null,"","",null,null,null,null,null,null,null,null,null,null,null,"",""]
[995,null,null,null,null,null,"",null,"","",null,null,null,null,null,null,null,null,null,null,null,"",""]
[996,null,null,null,null,null,"",null,"","",null,null,null,null,null,null,null,null,null,null,null,"",""]
[997,null,null,null,null,null,"",null,"","",null,null,null,null,null,null,null,null,null,null,null,"",""]
[998,null,null,null,null,null,"",null,"","",null,null,null,null,null,null,null,null,null,null,null,"",""]
[999,null,null,null,null,null,"",null,"","",null,null,null,null,null,null,null,null,null,null,null,"",""]
[1000,null,null,null,null,null,"",null,"","",null,null,null,null,null,null,null,null,null,null,null,"",""]
[null,null,null,null,null,null,null,null,null,null,null,null,null,null,null,null,null,null,null,null,null,null,{"$f":"SUM(W4:W1003)","v":0}]

{"sheet":"SVOD","index":13,"n_rows":96,"n_cols":32,"rows_kept":96,"cut":false,"hidden":true,"merged":[[89,8,89,9],[89,6,89,7],[81,10,81,11],[85,10,85,11],[53,1,53,2],[53,3,53,4],[85,1,85,2],[85,3,85,4],[86,2,86,3],[80,6,80,9],[82,6,82,9],[66,6,66,9],[65,6,65,9],[66,10,66,11],[67,10,67,11],[67,6,67,9],[68,6,68,9],[83,6,83,9],[84,6,84,9],[92,2,92,3],[88,1,88,2],[88,3,88,4],[89,2,89,3],[91,1,91,2],[91,3,91,4],[53,6,53,7],[53,11,53,12],[69,6,69,9],[70,6,70,9],[71,6,71,9],[77,6,77,9],[81,6,81,9],[64,6,64,9],[82,10,82,11],[83,10,83,11],[84,10,84,11],[72,6,72,9],[73,6,73,9],[74,6,74,9],[75,6,75,9],[76,6,76,9],[78,6,78,9],[79,6,79,9],[27,11,27,12],[28,11,28,12],[29,11,29,12],[36,11,36,12],[37,11,37,12],[38,11,38,12],[32,11,32,12],[33,11,33,12],[63,21,63,24],[53,14,53,17],[54,14,54,17],[55,14,55,17],[34,11,34,12],[39,15,39,17],[39,18,39,20],[39,22,39,24],[44,18,44,20],[44,22,44,24],[26,6,26,7],[36,6,36,7],[37,6,37,7],[28,6,28,7],[29,6,29,7],[27,6,27,7],[32,6,32,7],[33,6,33,7],[34,6,34,7],[21,11,21,12],[22,11,22,12],[23,11,23,12],[25,11,25,12],[24,11,24,12],[15,6,15,7],[16,6,16,7],[17,6,17,7],[18,6,18,7],[19,6,19,7],[20,6,20,7],[21,6,21,7],[22,6,22,7],[23,6,23,7],[24,6,24,7],[44,6,44,7],[44,11,44,12],[50,6,50,7],[50,11,50,12],[56,14,56,17],[57,6,57,7],[44,15,44,17],[57,14,57,17],[51,14,51,17],[52,14,52,17],[51,6,51,7],[54,6,54,7],[56,6,56,7],[47,6,47,7],[48,6,48,7],[48,11,48,12],[45,11,45,12],[45,6,45,7],[47,11,47,12],[38,6,38,7],[40,6,40,7],[41,6,41,7],[42,6,42,7],[11,27,11,28],[14,1,14,2],[14,3,14,4],[3,18,3,20],[3,22,3,24],[10,19,10,20],[11,19,11,20],[10,18,11,18],[12,18,12,21],[14,6,14,7],[14,11,14,12],[3,26,3,28],[15,11,15,12],[26,11,26,12],[16,11,16,12],[17,11,17,12],[18,11,18,12],[19,11,19,12],[20,11,20,12],[25,6,25,7],[68,18,68,19],[72,10,72,11],[73,10,73,11],[74,10,74,11],[75,10,75,11],[76,10,76,11],[78,10,78,11],[79,10,79,11],[80,10,80,11],[77,10,77,11],[72,14,72,15],[73,14,73,15],[74,14,74,15],[75,14,75,15],[76,14,76,15],[77,14,77,15],[68,10,68,11],[69,10,69,11],[70,10,70,11],[71,10,71,11],[72,12,72,13],[73,12,73,13],[74,12,74,13],[75,12,75,13],[40,31,42,31],[43,31,44,31],[49,31,51,31],[52,31,53,31],[56,11,56,12],[57,11,57,12],[54,11,54,12],[51,11,51,12],[67,18,67,19],[58,14,58,17],[59,14,59,17],[60,14,60,17],[61,14,61,17],[62,14,62,17],[63,14,63,17],[40,11,40,12],[41,11,41,12],[42,11,42,12],[66,16,66,17],[40,27,42,27],[43,27,44,27],[49,27,51,27],[52,27,53,27],[65,10,65,11],[65,12,65,13],[65,14,65,15],[65,16,65,17],[66,12,66,13],[67,12,67,13],[68,12,68,13],[69,12,69,13],[70,12,70,13],[71,12,71,13],[76,12,76,13],[77,12,77,13],[78,12,78,13],[66,14,66,15],[67,14,67,15],[68,14,68,15],[69,14,69,15],[70,14,70,15],[71,14,71,15],[88,12,88,14],[89,11,89,12],[89,13,89,14],[93,12,93,14],[84,12,84,13],[78,14,78,15],[79,14,79,15],[80,14,80,15],[81,14,81,15],[82,14,82,15],[83,14,83,15],[84,14,84,15],[79,12,79,13],[83,12,83,13],[80,12,80,13]]}
[{"$f":"Очные!A1","v":"Everton"},"Игр ХОЗЯЕВ","В","Н","П","Заб","Проп","Очки","Место",null,"ОЧНЫЕ  ХОЗЯЕВ","В","Н","П","Заб","Проп"]
["Общая",{"$f":"IF($I$2=\"\",\"\",VLOOKUP($A$1,Таблица!$B:$I,COLUMN(),FALSE))","v":3},{"$f":"IF($I$2=\"\",\"\",VLOOKUP($A$1,Таблица!$B:$I,COLUMN(),FALSE))","v":1},{"$f":"IF($I$2=\"\",\"\",VLOOKUP($A$1,Таблица!$B:$I,COLUMN(),FALSE))","v":2},{"$f":"IF($I$2=\"\",\"\",VLOOKUP($A$1,Таблица!$B:$I,COLUMN(),FALSE))","v":0},{"$f":"IF($I$2=\"\",\"\",VLOOKUP($A$1,Таблица!$B:$I,COLUMN(),FALSE))","v":4},{"$f":"IF($I$2=\"\",\"\",VLOOKUP($A$1,Таблица!$B:$I,COLUMN(),FALSE))","v":3},{"$f":"IF($I$2=\"\",\"\",VLOOKUP($A$1,Таблица!$B:$I,COLUMN(),FALSE))","v":5},{"$f":"IFERROR(MATCH(A1,Таблица!B:B,0)-1,\"\")","v":6},"Общая",{"$f":"K3+K4","v":35},{"$f":"COUNTIFS(Очные!G:G,\"В\")","v":8},{"$f":"COUNTIFS(Очные!G:G,\"Н\")","v":5},{"$f":"COUNTIFS(Очные!G:G,\"П\")","v":22},{"$f":"MAXA(Очные!H:H)","v":46},{"$f":"MAXA(Очные!I:I)","v":76}]
["Дом",{"$f":"IF($I$3=\"\",\"\",VLOOKUP($A$1,Таблица!$L:$S,COLUMN(),FALSE))","v":1},{"$f":"IF($I$3=\"\",\"\",VLOOKUP($A$1,Таблица!$L:$S,COLUMN(),FALSE))","v":0},{"$f":"IF($I$3=\"\",\"\",VLOOKUP($A$1,Таблица!$L:$S,COLUMN(),FALSE))","v":1},{"$f":"IF($I$3=\"\",\"\",VLOOKUP($A$1,Таблица!$L:$S,COLUMN(),FALSE))","v":0},{"$f":"IF($I$3=\"\",\"\",VLOOKUP($A$1,Таблица!$L:$S,COLUMN(),FALSE))","v":1},{"$f":"IF($I$3=\"\",\"\",VLOOKUP($A$1,Таблица!$L:$S,COLUMN(),FALSE))","v":1},{"$f":"IF($I$3=\"\",\"\",VLOOKUP($A$1,Таблица!$L:$S,COLUMN(),FALSE))","v":1},{"$f":"IFERROR(MATCH(A1,Таблица!L:L,0)-1,\"\")","v":11},"Дома",{"$f":"COUNTIF(Очные!S:S,\"Дома\")","v":17},{"$f":"COUNTIFS(Очные!T:T,\"В\")","v":6},{"$f":"COUNTIFS(Очные!T:T,\"Н\")","v":1},{"$f":"COUNTIFS(Очные!T:T,\"П\")","v":10},{"$f":"SUM(Очные!U:U)","v":28},{"$f":"SUM(Очные!V:V)","v":33},null,null,"Тотал",{"$f":"(E45+E46+O45+O46)/2","v":2.829520697167756}]
["Гости",{"$f":"IF($I$4=\"\",\"\",VLOOKUP($A$1,Таблица!$V:$AC,COLUMN(),FALSE))","v":2},{"$f":"IF($I$4=\"\",\"\",VLOOKUP($A$1,Таблица!$V:$AC,COLUMN(),FALSE))","v":1},{"$f":"IF($I$4=\"\",\"\",VLOOKUP($A$1,Таблица!$V:$AC,COLUMN(),FALSE))","v":1},{"$f":"IF($I$4=\"\",\"\",VLOOKUP($A$1,Таблица!$V:$AC,COLUMN(),FALSE))","v":0},{"$f":"IF($I$4=\"\",\"\",VLOOKUP($A$1,Таблица!$V:$AC,COLUMN(),FALSE))","v":3},{"$f":"IF($I$4=\"\",\"\",VLOOKUP($A$1,Таблица!$V:$AC,COLUMN(),FALSE))","v":2},{"$f":"IF($I$4=\"\",\"\",VLOOKUP($A$1,Таблица!$V:$AC,COLUMN(),FALSE))","v":4},{"$f":"IFERROR(MATCH(A1,Таблица!V:V,0)-1,\"\")","v":2},"В Гостях",{"$f":"COUNTIF(Очные!S:S,\"В Гостях\")","v":18},{"$f":"COUNTIFS(Очные!W:W,\"В\")","v":2},{"$f":"COUNTIFS(Очные!W:W,\"Н\")","v":4},{"$f":"COUNTIFS(Очные!W:W,\"П\")","v":12},{"$f":"SUM(Очные!X:X)","v":18},{"$f":"SUM(Очные!Y:Y)","v":43},null,null,"Прогноз 1",null,null,null,"Прогноз 2",null,null,null,"Прогноз 3"]
["Форма 4 Общ",{"$f":"Дома!O5","v":4},{"$f":"Дома!P5","v":2},{"$f":"Дома!Q5","v":2},{"$f":"Дома!R5","v":0},{"$f":"Дома!S5","v":5},{"$f":"Дома!T5","v":3},{"$f":"Дома!U5","v":8},{"$f":"IFERROR(MATCH(A1,Форма!B:B,0)-1,\"\")","v":6},{"$f":"C5/B5","v":0.5},{"$f":"J5/100","v":5.0000000000000001E-3},null,null,null,null,null,null,null,1,"Х",2,null,1,"Х",2,null,1,"Х",2]
["Форма 4 дом",{"$f":"ДомаДома!O5","v":4},{"$f":"ДомаДома!P5","v":2},{"$f":"ДомаДома!Q5","v":1},{"$f":"ДомаДома!R5","v":1},{"$f":"ДомаДома!S5","v":5},{"$f":"ДомаДома!T5","v":5},{"$f":"ДомаДома!U5","v":7},{"$f":"IFERROR(MATCH(A1,Форма!L:L,0)-1,\"\")","v":11},{"$f":"H6/B6","v":1.75},null,null,null,null,null,null,null,null,{"$f":"T32+T34","v":0.18547453703703703},{"$f":"U32+T34","v":0.3530092592592593},{"$f":"V32+T34","v":0.46151620370370372},{"$f":"SUM(S6:U6)","v":1},{"$f":"W13+Z11","v":0.2478213507625272},{"$f":"X13+Z11","v":0.28213507625272333},{"$f":"Y13+Z11","v":0.47004357298474947},{"$f":"SUM(W6:Y6)","v":1},{"$f":"AB32","v":0.5},{"$f":"AB34","v":-0.5},{"$f":"AB33","v":1}]
[{"$f":"Очные!B1","v":"Colo Colo"},"Игр ГОСТЕЙ","В","Н","П","Заб","Проп","Очки","Место",null,"ОЧНЫЕ  ГОСТЕЙ","В","Н","П","Заб","Проп"]
["Общая",{"$f":"IF($I$8=\"\",\"\",VLOOKUP($A$7,Таблица!$B:$I,COLUMN(),FALSE))","v":3},{"$f":"IF($I$8=\"\",\"\",VLOOKUP($A$7,Таблица!$B:$I,COLUMN(),FALSE))","v":1},{"$f":"IF($I$8=\"\",\"\",VLOOKUP($A$7,Таблица!$B:$I,COLUMN(),FALSE))","v":1},{"$f":"IF($I$8=\"\",\"\",VLOOKUP($A$7,Таблица!$B:$I,COLUMN(),FALSE))","v":1},{"$f":"IF($I$8=\"\",\"\",VLOOKUP($A$7,Таблица!$B:$I,COLUMN(),FALSE))","v":3},{"$f":"IF($I$8=\"\",\"\",VLOOKUP($A$7,Таблица!$B:$I,COLUMN(),FALSE))","v":3},{"$f":"IF($I$8=\"\",\"\",VLOOKUP($A$7,Таблица!$B:$I,COLUMN(),FALSE))","v":4},{"$f":"IFERROR(MATCH(A7,Таблица!B:B,0)-1,\"\")","v":9},"Общая",{"$f":"K9+K10","v":35},{"$f":"COUNTIFS(Очные!M:M,\"В\")","v":22},{"$f":"COUNTIFS(Очные!M:M,\"Н\")","v":5},{"$f":"COUNTIFS(Очные!M:M,\"П\")","v":8},{"$f":"MAXA(Очные!N:N)","v":76},{"$f":"MAXA(Очные!O:O)","v":46},null,null,"1К","ТС","2К",null,{"$f":"G16*G20+G24*G28+G33*G37+G41*G28/8","v":0.33761671335200744},{"$f":"L16*L20+L24*L28+L33*L37+L41*L28/8","v":0.71105859010270778},null,null,null,{"$f":"((F5+G5)/2)/B5","v":1},{"$f":"AB8+AB9","v":2.5}]
["Дом",{"$f":"IF($I$9=\"\",\"\",VLOOKUP($A$7,Таблица!$L:$S,COLUMN(),FALSE))","v":2},{"$f":"IF($I$9=\"\",\"\",VLOOKUP($A$7,Таблица!$L:$S,COLUMN(),FALSE))","v":0},{"$f":"IF($I$9=\"\",\"\",VLOOKUP($A$7,Таблица!$L:$S,COLUMN(),FALSE))","v":1},{"$f":"IF($I$9=\"\",\"\",VLOOKUP($A$7,Таблица!$L:$S,COLUMN(),FALSE))","v":1},{"$f":"IF($I$9=\"\",\"\",VLOOKUP($A$7,Таблица!$L:$S,COLUMN(),FALSE))","v":1},{"$f":"IF($I$9=\"\",\"\",VLOOKUP($A$7,Таблица!$L:$S,COLUMN(),FALSE))","v":2},{"$f":"IF($I$9=\"\",\"\",VLOOKUP($A$7,Таблица!$L:$S,COLUMN(),FALSE))","v":1},{"$f":"IFERROR(MATCH(A7,Таблица!L:L,0)-1,\"\")","v":13},"Дома",{"$f":"COUNTIF(Очные!S:S,\"Дома\")","v":17},{"$f":"COUNTIFS(Очные!AA:AA,\"В\")","v":12},{"$f":"COUNTIFS(Очные!AA:AA,\"Н\")","v":4},{"$f":"COUNTIFS(Очные!AA:AA,\"П\")","v":2},{"$f":"SUM(Очные!AB:AB)","v":43},{"$f":"SUM(Очные!AC:AC)","v":18},null,null,{"$f":"E45","v":1.2990196078431373},null,{"$f":"O45","v":1.6944444444444444},null,{"$f":"G17*G21+G25*G29","v":0.91666666666666663},{"$f":"L17*L21+L25*L29","v":0.16666666666666666},null,null,null,{"$f":"((F11+G11)/2)/B11","v":1.5},{"$f":"IF(AB12>=2,\"ДА\",\"НЕТ\")","v":"НЕТ"}]
["Гости",{"$f":"IF($I$10=\"\",\"\",VLOOKUP($A$7,Таблица!$V:$AC,COLUMN(),FALSE))","v":1},{"$f":"IF($I$10=\"\",\"\",VLOOKUP($A$7,Таблица!$V:$AC,COLUMN(),FALSE))","v":1},{"$f":"IF($I$10=\"\",\"\",VLOOKUP($A$7,Таблица!$V:$AC,COLUMN(),FALSE))","v":0},{"$f":"IF($I$10=\"\",\"\",VLOOKUP($A$7,Таблица!$V:$AC,COLUMN(),FALSE))","v":0},{"$f":"IF($I$10=\"\",\"\",VLOOKUP($A$7,Таблица!$V:$AC,COLUMN(),FALSE))","v":2},{"$f":"IF($I$10=\"\",\"\",VLOOKUP($A$7,Таблица!$V:$AC,COLUMN(),FALSE))","v":1},{"$f":"IF($I$10=\"\",\"\",VLOOKUP($A$7,Таблица!$V:$AC,COLUMN(),FALSE))","v":3},{"$f":"IFERROR(MATCH(A7,Таблица!V:V,0)-1,\"\")","v":5},"В Гостях",{"$f":"COUNTIF(Очные!S:S,\"В Гостях\")","v":18},{"$f":"COUNTIFS(Очные!AD:AD,\"В\")","v":10},{"$f":"COUNTIFS(Очные!AD:AD,\"Н\")","v":1},{"$f":"COUNTIFS(Очные!AD:AD,\"П\")","v":6},{"$f":"SUM(Очные!AE:AE)","v":33},{"$f":"SUM(Очные!AF:AF)","v":28},null,null,null,null,null,null,{"$f":"G18*G22+G26*G30","v":0},{"$f":"L18*L22+L26*L30","v":0.16666666666666666},null,null,null,{"$f":"IF(AB8>=1.7,\"1\",\"0\")","v":"0"},{"$f":"IF(AB9>=1.8,\"1\",\"0\")","v":"0"}]
["Форма 4 Общ",{"$f":"Гости!O5","v":4},{"$f":"Гости!P5","v":1},{"$f":"Гости!Q5","v":1},{"$f":"Гости!R5","v":2},{"$f":"Гости!S5","v":5},{"$f":"Гости!T5","v":7},{"$f":"Гости!U5","v":4},{"$f":"IFERROR(MATCH(A7,Форма!B:B,0)-1,\"\")","v":9},{"$f":"C11/B11","v":0.25},{"$f":"J11/100","v":2.5000000000000001E-3},null,null,null,null,null,null,null,"Pa(B1)=","P(B1)*PB1(A)",null,null,null,null,null,{"$f":"Z12/3","v":-8.5511982570806097E-2},null,{"$f":"AB10","v":"0"},{"$f":"AC10","v":"0"}]
["Форма4  гости",{"$f":"ГостиГости!O5","v":4},{"$f":"ГостиГости!P5","v":1},{"$f":"ГостиГости!Q5","v":2},{"$f":"ГостиГости!R5","v":1},{"$f":"ГостиГости!S5","v":5},{"$f":"ГостиГости!T5","v":6},{"$f":"ГостиГости!U5","v":5},{"$f":"IFERROR(MATCH(A7,Форма!V:V,0)-1,\"\")","v":5},{"$f":"H12/B12","v":1.25},null,null,null,null,null,null,null,null,null,"P(A)",null,null,{"$f":"MEDIAN(G17,G21,G25,G29,G34,G38,G42)","v":0.5},null,{"$f":"MEDIAN(L17,L21,L25,L29,L34,L38,L42)","v":0.23529411764705882},{"$f":"100%-Z13","v":-0.25653594771241828},null,{"$f":"AB11+AC11","v":0}]
[null,null,null,null,null,null,null,null,null,null,null,null,null,null,null,null,null,null,"P(A)=P(B1)*PB1(A)+P(B2)*PB2(A)",null,null,null,{"$f":"MEDIAN(G16,G20,G24,G28,G33,G37,G41)","v":0.33333333333333331},{"$f":"(W12+Y12)/2","v":0.36764705882352944},{"$f":"MEDIAN(L16,L20,L24,L28,L33,L37,L41)","v":0.55555555555555558},{"$f":"SUM(W13:Y13)","v":1.2565359477124183}]
[null,null,null,null,null,null,{"$f":"AVERAGE(G28:H29,G24:H25,G20:H21,G16:H17)","v":0.5},{"$f":"AVERAGE(G30,G26,G22,G18)","v":0},null,null,null,{"$f":"AVERAGE(L28:M29,L24:M25,L20:M21,L16:M17)","v":0.33333333333333337},{"$f":"AVERAGE(L30,L26,L22,L18)","v":0.33333333333333331}]
[null,"1 Команда",null,"2 Команда",null,null,{"$f":"A1","v":"Everton"},null,null,{"$f":"A2","v":"Общая"},null,{"$f":"A7","v":"Colo Colo"},null,null,{"$f":"J15","v":"Общая"},1,"Х",2,null,1,"Х",2]
[10,10,{"$f":"B16*G16/100","v":3.3333333333333333E-2},{"$f":"E16*L16/100","v":3.3333333333333333E-2},10,10,{"$f":"C2/B2","v":0.33333333333333331},null,null,"Побед",null,{"$f":"C8/B8","v":0.33333333333333331},null,null,null,{"$f":"(G16+G20+G24+G28)/4","v":0.33333333333333331},{"$f":"(G17+G21+G25+G29+L29+L25+L21+L17)/8","v":0.46875},{"$f":"(L16+L20+L24+L28)/4","v":0.39583333333333331},null,{"$f":"(P16+P20+P24+P28)/4","v":0.33333333333333331},{"$f":"(Q16+Q20+Q24+Q28)/4","v":0.4609375},{"$f":"(R16+R20+R24+R28)/4","v":0.41145833333333331},{"$f":"SUM(T16:V16)","v":1.2057291666666665}]
[null,null,null,null,null,null,{"$f":"D2/B2","v":0.66666666666666663},null,null,"Ничья",null,{"$f":"D8/B8","v":0.33333333333333331},null,null,null,null,null,null,null,null,null,null,null,null,{"$f":"S6*100","v":18.547453703703702},{"$f":"T6*100","v":35.300925925925931},{"$f":"U6*100","v":46.151620370370374}]
[null,null,null,null,null,null,{"$f":"E2/B2","v":0},null,null,"Проигрыш",null,{"$f":"E8/B8","v":0.33333333333333331},null,null,null,null,null,null,null,null,null,null,null,null,{"$f":"100/Y17","v":5.3915756630265212},{"$f":"100/Z17","v":2.8327868852459011},{"$f":"100/AA17","v":2.166771159874608}]
[null,null,null,null,null,null,null,null,null,"Дом",null,null,null,null,{"$f":"J19","v":"Дом"},1,"Х",2]
[30,30,{"$f":"B20*G20/100","v":0},{"$f":"E20*L20/100","v":0},5,5,{"$f":"C3/B3","v":0},null,null,"Побед",null,{"$f":"C9/B9","v":0},null,null,null,{"$f":"G20","v":0},{"$f":"(G21+L21)/2","v":0.75},{"$f":"L20","v":0},null,1,"Х",2,null,null,{"$f":"W6*100","v":24.782135076252722},{"$f":"X6*100","v":28.213507625272332},{"$f":"Y6*100","v":47.00435729847495}]
[null,null,null,null,null,null,{"$f":"D3/B3","v":1},null,null,"Ничья",null,{"$f":"D9/B9","v":0.5},null,null,null,null,null,null,null,{"$f":"P20","v":0},{"$f":"(Q20+Q24)/2","v":0.5},{"$f":"R24","v":1},{"$f":"SUM(T21:V21)","v":1.5},null,{"$f":"100/Y20","v":4.035164835164835},{"$f":"100/Z20","v":3.5444015444015444},{"$f":"100/AA20","v":2.1274623406720741}]
[null,null,null,null,null,null,{"$f":"E3/B3","v":0},null,null,"Проигрыш",null,{"$f":"E9/B9","v":0.5}]
[null,null,null,null,null,null,null,null,null,"Гости",null,null,null,null,{"$f":"J23","v":"Гости"},1,"Х",2,null,null,null,null,null,null,"Win","X","Lose"]
[5,5,{"$f":"B24*G24/100","v":2.5000000000000001E-2},{"$f":"E24*L24/100","v":0.3},30,30,{"$f":"C4/B4","v":0.5},null,null,"Побед",null,{"$f":"C10/B10","v":1},null,null,null,{"$f":"G24","v":0.5},{"$f":"(G25+L25)/2","v":0.25},{"$f":"L24","v":1}]
[null,null,null,null,null,null,{"$f":"D4/B4","v":0.5},null,null,"Ничья",null,{"$f":"D10/B10","v":0},null,null,null,null,null,null,null,null,null,null,null,null,{"$f":"(C5+C11)/B11","v":0.75},{"$f":"(D5+D11)/B11","v":0.75}]
[null,null,null,null,null,null,{"$f":"E4/B4","v":0},null,null,"Проигрыш",null,{"$f":"E10/B10","v":0}]
[null,null,null,null,null,null,null,null,null,"Форма",null,null,null,null,{"$f":"J27","v":"Форма"},1,"Х",2,null,1,"Х",2]
[30,30,{"$f":"B28*G28/100","v":0.15},{"$f":"E28*L28/100","v":7.4999999999999997E-2},30,0,{"$f":"C5/B5","v":0.5},null,null,"Побед",null,{"$f":"C11/B11","v":0.25},null,null,null,{"$f":"G28","v":0.5},{"$f":"(G29+L29)/2","v":0.375},{"$f":"L28","v":0.25},null,{"$f":"P28","v":0.5},{"$f":"Q28","v":0.375},{"$f":"R28","v":0.25},{"$f":"SUM(T28:V28)","v":1.125}]
[null,null,null,null,null,null,{"$f":"D5/B5","v":0.5},null,null,"Ничья",null,{"$f":"D11/B11","v":0.25}]
[null,null,null,null,null,null,{"$f":"E5/B5","v":0},null,null,"Проигрыш",null,{"$f":"E11/B11","v":0.5}]
[null,null,null,null,null,null,null,null,null,"Очные",null,null,null,null,null,null,null,null,null,1,"Х",2,{"$f":"(W16+W21+W28)/3","v":1.2769097222222221}]
[null,null,null,null,null,null,null,null,null,"Общая",null,null,null,null,null,null,"Атака","Защита",null,{"$f":"(T16+T21+T28)/3","v":0.27777777777777773},{"$f":"(U16+U21+U28)/3","v":0.4453125},{"$f":"(V16+V21+V28)/3","v":0.55381944444444442},{"$f":"SUM(T32:V32)","v":1.2769097222222221},null,null,{"$f":"C3/B3","v":0},{"$f":"(D3/B3)/2","v":0.5},{"$f":"SUM(Z32:AA32)","v":0.5}]
[null,null,null,null,null,null,{"$f":"L2/K2","v":0.22857142857142856},null,null,"Побед",null,{"$f":"L8/K8","v":0.62857142857142856},null,null,{"$f":"A1","v":"Everton"},null,{"$f":"F6/(F6+F12)","v":0.5},{"$f":"G6/(G12+G6)","v":0.45454545454545453},{"$f":"Q33/R34","v":0.91666666666666674},null,null,null,null,null,null,{"$f":"C10/B10","v":1},{"$f":"(D10/B10)/2","v":0},{"$f":"SUM(Z33:AA33)","v":1}]
[null,null,null,null,null,null,{"$f":"M2/K2","v":0.14285714285714285},null,null,"Ничья",null,{"$f":"M8/K8","v":0.14285714285714285},null,null,{"$f":"A7","v":"Colo Colo"},null,{"$f":"F12/(F6+F12)","v":0.5},{"$f":"G12/(G6+G12)","v":0.54545454545454541},{"$f":"Q34/R33","v":1.1000000000000001},{"$f":"(100%-W31)/3","v":-9.23032407407407E-2},null,null,null,null,null,null,null,{"$f":"100%-AB33-AB32","v":-0.5}]
[null,null,null,null,null,null,{"$f":"N2/K2","v":0.62857142857142856},null,null,"Проигрыш",null,{"$f":"N8/K8","v":0.22857142857142856},null,null,null,null,"Атака","Защита"]
[null,null,null,null,null,null,null,null,null,"Дом",null,null,null,null,{"$f":"A1","v":"Everton"},null,{"$f":"M71","v":0.46153846153846156},{"$f":"M76","v":0.5},{"$f":"Q36/R37","v":0.92307692307692313}]
[20,20,{"$f":"B37*G37/100","v":7.058823529411766E-2},{"$f":"E37*L37/100","v":3.529411764705883E-2},5,5,{"$f":"IFERROR(L3/K3,0)","v":0.35294117647058826},null,null,"Побед",null,{"$f":"IFERROR(L9/K9,0)","v":0.70588235294117652},null,null,{"$f":"A7","v":"Colo Colo"},null,{"$f":"M81","v":0.53846153846153855},{"$f":"M85","v":0.5},{"$f":"Q37/R36","v":1.0769230769230771}]
[null,null,null,null,null,null,{"$f":"IFERROR(M3/K3,0)","v":5.8823529411764705E-2},null,null,"Ничья",null,{"$f":"IFERROR(M9/K9,0)","v":0.23529411764705882},null,null,{"$f":"O36","v":"Everton"},null,{"$f":"AVERAGE(Q33,Q36)","v":0.48076923076923078},0.47727272727272729,0.91987179487179493,"Среднее"]
[null,null,null,null,null,null,{"$f":"IFERROR(N3/K3,0)","v":0.58823529411764708},null,null,"Проигрыш",null,{"$f":"IFERROR(N9/K9,0)","v":0.11764705882352941},null,null,{"$f":"O37","v":"Colo Colo"},null,0.51923076923076927,0.52272727272727271,1.0884615384615386,"Среднее"]
[null,null,null,null,null,null,null,null,null,"Гости",null,null,null,null,"тб",null,null,null,"Кофициэнт букмекера стартовый",null,null,null,"Кофициэнт анализа 1",null,null,null,{"$f":"A1","v":"Everton"},null,{"$f":"A7","v":"Colo Colo"}]
[5,5,{"$f":"B41*G41/100","v":5.5555555555555558E-3},{"$f":"E41*L41/100","v":0.1111111111111111},20,20,{"$f":"L4/K4","v":0.1111111111111111},null,null,"Побед",null,{"$f":"L10/K10","v":0.55555555555555558},null,null,null,"старт","Х","финиш",1,"Х",2,null,1,"Х",2,"в ср. пропущ. Дома",{"$f":"G3/B3","v":1},"по статистике  матчей Дома/в Гостях",{"$f":"G10/B10","v":1},"в ср. пропущ. в Гостях",null,"по статистике Гостевых матчей"]
[null,null,null,null,null,null,{"$f":"M4/K4","v":0.22222222222222221},null,null,"Ничья",null,{"$f":"M10/K10","v":5.5555555555555552E-2},null,null,null,{"$f":"Коэффициенты!B5","v":2},null,{"$f":"Коэффициенты!C5","v":2.25},{"$f":"Коэффициенты!B2","v":2.37},{"$f":"Коэффициенты!B3","v":3.2},{"$f":"Коэффициенты!B4","v":2.7},null,{"$f":"Y18","v":5.3915756630265212},{"$f":"Z18","v":2.8327868852459011},{"$f":"AA18","v":2.166771159874608},"в ср. Поражен Дома",{"$f":"E3/B3","v":0},null,{"$f":"E10/B10","v":0},"в ср. Поражен в Гостях"]
[null,null,null,null,null,null,{"$f":"N4/K4","v":0.66666666666666663},null,null,"Проигрыш",null,{"$f":"N10/K10","v":0.33333333333333331},null,null,null,{"$f":"1/P42","v":0.5},null,{"$f":"1/R42","v":0.44444444444444442},{"$f":"1/S42","v":0.42194092827004215},{"$f":"1/T42","v":0.3125},{"$f":"1/U42","v":0.37037037037037035},null,{"$f":"S6","v":0.18547453703703703},{"$f":"T6","v":0.3530092592592593},{"$f":"U6","v":0.46151620370370372},"в ср. очков Дома",{"$f":"H3/B3","v":1},null,{"$f":"H10/B10","v":3},"в ср. очков в Гостях"]
[null,{"$f":"C44+H91+H93+H92","v":0.30397712418300654},{"$f":"SUM(C16:C43)","v":0.28447712418300652},{"$f":"SUM(D16:D43)","v":0.5547385620915033},{"$f":"D44+J91+J93+J92","v":0.57123856209150325},null,null,null,null,"Общая",null,null,null,null,null,null,null,null,null,null,null,null,null,null,null,"в ср. Пропущено Хозяевами",{"$f":"G5/B5","v":0.75},"по Форме5",{"$f":"G11/B11","v":1.75},"в ср. Пропущено Гостями",null,"по Форме5"]
[null,null,{"$f":"(G48+G54+G57)/3","v":1.2990196078431373},{"$f":"(L51+L54+L57)/3","v":1.6944444444444444},{"$f":"(G48+G54+G57)/3","v":1.2990196078431373},null,{"$f":"F2/B2","v":1.3333333333333333},null,null,"Забили",null,{"$f":"F8/B8","v":1},null,null,{"$f":"(L51+L54+L57)/3","v":1.6944444444444444},null,null,null,"Кофициэнт букмекера актуальный",null,null,null,"Кофициэнт анализа 2",null,null,"в ср. Поражен Хозяев",{"$f":"E5/B5","v":0},null,{"$f":"E11/B11","v":0.5},"в ср. Поражен Гостей"]
[null,null,null,null,{"$f":"(G49+G55+G58)/3","v":1.2303921568627452},null,{"$f":"G2/B2","v":1},null,null,"Пропустили",null,{"$f":"G8/B8","v":1},null,null,{"$f":"(L52+L55+L58)/3","v":1.4351851851851851},null,null,null,1,"Х",2,null,1,"Х",2,null,{"$f":"(AA41+AA42+AA43+AA44+AA45)/5","v":0.55000000000000004},"Проиграет",{"$f":"(AC41+AC42+AC43+AC44+AC45)/5","v":1.25}]
[null,null,{"$f":"100%-C44-D44","v":0.16078431372549018},null,{"$f":"(E45+O46)/2","v":1.3671023965141611},null,null,null,null,"Дом",null,null,null,null,{"$f":"(O45+E46)/2","v":1.4624183006535949},null,null,null,{"$f":"Коэффициенты!C2","v":2.2999999999999998},{"$f":"Коэффициенты!C3","v":3.2},{"$f":"Коэффициенты!C4","v":2.9},null,{"$f":"Y21","v":4.035164835164835},{"$f":"Z21","v":3.5444015444015444},{"$f":"AA21","v":2.1274623406720741}]
[null,null,{"$f":"100%-B44-E44","v":0.12478431372549026},null,null,null,{"$f":"F3/B3","v":1},null,{"$f":"G48","v":1},"Забили",null,{"$f":"F9/B9","v":0.5},null,null,null,null,null,null,{"$f":"1/S47","v":0.43478260869565222},{"$f":"1/T47","v":0.3125},{"$f":"1/U47","v":0.34482758620689657},null,{"$f":"W6","v":0.2478213507625272},{"$f":"X6","v":0.28213507625272333},{"$f":"Y6","v":0.47004357298474947}]
[null,null,null,null,null,null,{"$f":"G3/B3","v":1},null,{"$f":"G49","v":1},"Пропустили",null,{"$f":"G9/B9","v":1},null,null,null,null,null,null,null,null,null,null,null,null,null,null,{"$f":"A1","v":"Everton"},null,{"$f":"A7","v":"Colo Colo"}]
[null,null,{"$f":"H3/B3","v":1},{"$f":"H10/B10","v":3},null,null,null,null,null,"Гости",null,null,null,null,null,null,null,null,null,null,null,null,null,null,"в ср. забито Дома",null,{"$f":"F3/B3","v":1},"по статистике  матчей Дома/в Гостях",{"$f":"F10/B10","v":2},"в ср. забито в Гостях"]
[null,null,{"$f":"H5/B5","v":2},{"$f":"H11/B11","v":1},null,null,{"$f":"F4/B4","v":1.5},null,null,"Забили",{"$f":"L51","v":2},{"$f":"F10/B10","v":2},null,null,null,null,null,null,null,null,null,null,null,null,"в ср. Побед Дома",null,{"$f":"C3/B3","v":0},null,{"$f":"C10/B10","v":1},"в ср. Побед в Гостях"]
[null,null,{"$f":"(C50+C51)/2","v":1.5},{"$f":"(D50+D51)/2","v":2},null,null,{"$f":"G4/B4","v":1},null,null,"Пропустили",{"$f":"L52","v":1},{"$f":"G10/B10","v":1},null,null,"В среднем набрано очков в матчах ДОМА",null,null,null,{"$f":"H3/B3","v":1},null,{"$f":"H10/B10","v":3},"В среднем набрано очков в матчах ДОМА",null,null,"в ср. очков Дома",null,{"$f":"H3/B3","v":1},null,{"$f":"H10/B10","v":3},"в ср. очков в Гостях"]
[null,null,null,null,null,null,null,null,null,"Форма",null,null,null,null,"В среднем набрано очков за 5 матчей",null,null,null,{"$f":"H5/B5","v":2},null,{"$f":"H11/B11","v":1},"В среднем набрано очков за 5 матчей",null,null,"в ср. забито Хозяевами ",null,{"$f":"F5/B5","v":1.25},"по Форме5",{"$f":"F11/B11","v":1.25},"в ср. забито Гостями"]
[null,"1 Команда",null,"2 Команда",null,null,{"$f":"F5/B5","v":1.25},null,null,"Забили",null,{"$f":"F11/B11","v":1.25},null,null,"В среднем забито голов  в личных встечах ДОМА",null,null,null,{"$f":"O3/K3","v":1.6470588235294117},null,{"$f":"O9/K9","v":2.5294117647058822},"В среднем забито голов  в личных встечах ДОМА",null,null,"в ср. Побед Хозяев",null,{"$f":"C5/B5","v":0.5},null,{"$f":"C11/B11","v":0.25},"в ср. Побед Гостей"]
[null,10,{"$f":"B55*G18/100","v":0},{"$f":"E55*L18/100","v":3.3333333333333333E-2},10,null,{"$f":"G5/B5","v":0.75},null,null,"Пропустили",null,{"$f":"G11/B11","v":1.75},null,null,"СУММА ТРЕХ ПРЕДЫДУЩИХ ЗНАЧЕНИЙ (Х)",null,null,null,{"$f":"SUM(S52:S54)","v":4.6470588235294112},null,{"$f":"SUM(U52:U54)","v":6.5294117647058822},"СУММА ТРЕХ ПРЕДЫДУЩИХ ЗНАЧЕНИЙ (Г)",null,null,null,null,{"$f":"(AA50+AA51+AA52+AA53+AA54)/5","v":0.75},"Выйграет",{"$f":"(AC50+AC51+AC52+AC53+AC54)/5","v":1.5}]
[null,null,null,null,null,null,null,null,null,"Очные",null,null,null,null,"Разница Х-Г= Дельта Х",null,null,null,{"$f":"S55-U55","v":-1.882352941176471},null,{"$f":"U55-S55","v":1.882352941176471},"Разница Г-Х= Дельта Г"]
[null,null,null,null,null,null,{"$f":"IFERROR(O3/K3,0)","v":1.6470588235294117},null,null,"Забили",null,{"$f":"O10/K10","v":1.8333333333333333},null,null,null,null,null,null,null,null,null,null,null,null,null,null,{"$f":"AA55-AA46","v":0.19999999999999996},null,{"$f":"AC55-AC46","v":0.25}]
[null,null,null,null,null,null,{"$f":"IFERROR(P3/K3,0)","v":1.9411764705882353},null,null,"Пропустили",null,{"$f":"P10/K10","v":1.5555555555555556},null,null,"Без учета голов Х",null,null,null,{"$f":"S52+S53","v":3},null,{"$f":"U52+U53","v":4}]
[null,30,{"$f":"B59*G22/100","v":0},{"$f":"E59*L22/100","v":2.5000000000000001E-2},5,null,null,null,null,null,null,null,null,null,null,null,null,null,{"$f":"S58-U58","v":-1},null,{"$f":"U58-S58","v":1}]
[null,null,null,null,null,null,null,null,null,null,null,null,null,null,null,null,null,null,null,null,null,null,null,null,null,null,{"$f":"AA49","v":"Everton"},null,{"$f":"AC49","v":"Colo Colo"}]
[null,null,null,null,null,null,null,null,null,null,null,null,null,null,"В среднем забито ДОМА",null,null,null,{"$f":"O3/K3","v":1.6470588235294117},null,{"$f":"O10/K10","v":1.8333333333333333},"В среднем забито в ГОСТЯХ",null,null,null,null,{"$f":"F3/F2","v":0.25},{"$f":"J45","v":"Забили"},{"$f":"F10/F8","v":0.66666666666666663}]
[null,null,null,null,null,null,null,null,null,null,null,null,null,null,"СУММА ТРЕХ ПРЕДЫДУЩИХ ЗНАЧЕНИЙ (Х)",null,null,null,{"$f":"S52+S53+S61","v":4.6470588235294112},null,{"$f":"U52+U53+U61","v":5.833333333333333},"СУММА ТРЕХ ПРЕДЫДУЩИХ ЗНАЧЕНИЙ (Г)",null,null,null,null,{"$f":"G3/G2","v":0.33333333333333331},{"$f":"J46","v":"Пропустили"},{"$f":"G10/G8","v":0.33333333333333331}]
[null,5,{"$f":"B63*G26/100","v":0},{"$f":"E63*L26/100","v":0},30,null,null,null,null,null,null,null,null,null,"Разница Х-Г= Дельта ХХ",null,null,null,{"$f":"S62-U62","v":-1.1862745098039218},null,{"$f":"U62-S62","v":1.1862745098039218},"Разница Х-Г= Дельта ГГ"]
[]
[null,null,null,null,null,null,null,null,null,null,"ИГР",{"$f":"MAX(Таблица!C2:C13)","v":4}]
[null,null,null,null,null,null,"В среднем по лиге забивают",null,null,null,{"$f":"AVERAGE(Таблица!G2:G107)/L65","v":1}]
[null,30,{"$f":"B67*G30/100","v":0},{"$f":"E67*L30/100","v":0.15},30,null,"В среднем по лиге пропускают",null,null,null,{"$f":"AVERAGE(Таблица!H2:H1204)/L65","v":1}]
[null,null,null,null,null,null,"ХОЗЯЕВА",null,null,null,null,null,null,null,"Ценность голов"]
[null,null,null,null,null,null,"В среднем забивают",null,null,null,{"$f":"F2/B2","v":1.3333333333333333},null,null,null,{"$f":"K66/K69","v":0.75}]
[null,null,null,null,null,null,"В среднем забивают дома",null,null,null,{"$f":"F3/B3","v":1},null,"Атака",null,{"$f":"K66/K71","v":0.83333333333333337},null,null,null,null,"ХG"]
[null,null,null,null,null,null,"Форма забитых голов",null,null,null,{"$f":"K69*0.6+K70*0.4","v":1.2},null,{"$f":"K71/(K71+K81)","v":0.46153846153846156},null,{"$f":"K66/K71","v":0.83333333333333337},null,{"$f":"K71-K76","v":0.19999999999999996},{"$f":"IFERROR(IF(S71>90%,\"Да\",\"\"),\"R\")","v":"Да"},{"$f":"M71/M85","v":0.92307692307692313},{"$f":"M71/M85","v":0.92307692307692313},{"$f":"M71/M81","v":0.8571428571428571},"кофф. Атаки"]
[null,null,null,null,null,null,null,null,null,null,{"$f":"_xlfn.CEILING.MATH(K71)","v":2},null,null,null,null,null,null,null,null,null,{"$f":"M76/M85","v":1},"кофф Защиты"]
[]
[null,null,null,null,null,null,"В среднем пропускают",null,null,null,{"$f":"G2/B2","v":1},null,null,null,{"$f":"K67/K74","v":1}]
[null,null,null,null,null,null,"В среднем пропускают дома",null,null,null,{"$f":"G3/B3","v":1},null,"Защита",null,{"$f":"K67/K75","v":1}]
[null,20,{"$f":"B76*G39/100","v":0.11764705882352942},{"$f":"E76*L39/100","v":5.8823529411764705E-3},5,null,"Форма пропущенных голов",null,null,null,{"$f":"K74*0.6+K75*0.4","v":1},null,{"$f":"K76/(K76+K85)","v":0.5},null,{"$f":"K67/K76","v":1}]
[null,null,null,null,null,null,null,null,null,null,{"$f":"_xlfn.CEILING.MATH(K76)","v":1}]
[null,null,null,null,null,null,"ГОСТИ"]
[null,null,null,null,null,null,"В среднем забивают",null,null,null,{"$f":"F8/B8","v":1},null,null,null,{"$f":"K66/K79","v":1}]
[null,5,{"$f":"B80*G43/100","v":3.3333333333333333E-2},{"$f":"E80*L43/100","v":6.6666666666666666E-2},20,null,"В среднем забиваютв гостях",null,null,null,{"$f":"F10/B10","v":2},null,"Атака",null,{"$f":"K66/K80","v":0.5}]
[null,null,null,null,null,null,"Форма забитых голов",null,null,null,{"$f":"K79*0.6+K80*0.4","v":1.4},null,{"$f":"K81/(K71+K81)","v":0.53846153846153855},null,{"$f":"K66/K81","v":0.7142857142857143},null,null,{"$f":"IFERROR(IF(S81>90%,\"Да\",\"\"),\"R\")","v":"Да"},{"$f":"M81/M76","v":1.0769230769230771},{"$f":"M81/M76","v":1.0769230769230771},{"$f":"M81/M71","v":1.1666666666666667},"Кофф Атаки"]
[null,null,null,null,null,null,null,null,null,null,{"$f":"_xlfn.CEILING.MATH(K81)","v":2},null,null,null,null,null,null,null,null,null,{"$f":"M85/M76","v":1},"Кофф Защиты"]
[null,null,{"$f":"SUM(C55:C82)","v":0.15098039215686276},{"$f":"SUM(D55:D82)","v":0.28088235294117647},null,null,"В среднем пропускают",null,null,null,{"$f":"G8/B8","v":1},null,null,null,{"$f":"K67/K83","v":1}]
[null,null,null,null,null,null,"В среднем пропускают в гостях",null,null,null,{"$f":"G10/B10","v":1},null,"Защита",null,{"$f":"K67/K84","v":1},null,{"$f":"K81-K85","v":0.39999999999999991}]
[null,null,null,null,null,null,"Форма пропущенных голов",null,null,null,{"$f":"K83*0.6+K84*0.4","v":1},null,{"$f":"K85/(K85+K76)","v":0.5},null,{"$f":"K67/K85","v":1}]
[null,"1 Команда",null,"2 Команда",null,null,null,null,null,null,{"$f":"_xlfn.CEILING.MATH(K85)","v":1}]
[null,{"$f":"C44","v":0.28447712418300652},"Выйграет",null,{"$f":"D44","v":0.5547385620915033}]
[null,null,null,null,null,null,null,null,null,null,null,null,null,null,null,null,null,"Т","С"]
[null,"1 Команда",null,"2 Команда",null,null,null,null,null,null,null,null,"Universum",null,null,null,null,{"$f":"IFERROR(#REF!,\"R\")","v":"R"},{"$f":"IFERROR(#REF!,\"R\")","v":"R"}]
[null,{"$f":"C83","v":0.15098039215686276},"Проиграет",null,{"$f":"D83","v":0.28088235294117647},null,"Хозяева",null,"Гости",null,null,"Хозяева",null,"Гости"]
[null,null,null,null,null,null,"IP1",{"$f":"IFERROR(Расчеты!L117,\"R\")","v":0},"IP1",{"$f":"IFERROR(Расчеты!M117,\"R\")","v":0},null,"Атака",{"$f":"F6/B6","v":1.25},null,{"$f":"F12/B12","v":1.25}]
[null,"1 Команда",null,"2 Команда",null,null,"IP2",{"$f":"Q71/100","v":1.9999999999999996E-3},"IP2",{"$f":"IFERROR(Q84/100,\"R\")","v":3.9999999999999992E-3},null,"Оборона",{"$f":"G6/B6","v":1.25},null,{"$f":"G12/B12","v":1.5}]
[null,{"$f":"(B87+E90)/2","v":0.2826797385620915},{"$f":"100%-B93-E93","v":0.36446078431372547},null,{"$f":"(B90+E87)/2","v":0.35285947712418303},null,"IP3",{"$f":"J6/100","v":1.7500000000000002E-2},"IP3",{"$f":"J12/100","v":1.2500000000000001E-2},null,"Индекс1",{"$f":"(M91+O92)/2","v":1.375},null,{"$f":"(O91+M92)/2","v":1.25}]
[null,null,null,null,null,null,null,null,null,null,null,"Тотал",{"$f":"(M91+M92+O91+O92)/2","v":2.625}]
[null,null,null,null,null,null,"ТБ2,5",{"$f":"#REF!","v":{"$error":"#REF!"}},null,null,null,"Индекс2",{"$f":"M93-O93","v":0.125},null,{"$f":"O93-M93","v":-0.125}]
[null,null,null,null,null,null,"ОЗ",{"$f":"#REF!","v":{"$error":"#REF!"}}]

{"sheet":"DATA","index":14,"n_rows":51,"n_cols":41,"rows_kept":51,"cut":false,"hidden":true,"merged":[[37,18,37,19],[38,18,38,19],[39,14,39,16],[36,17,36,20],[35,14,35,20],[6,12,6,14],[7,12,7,14],[14,2,14,3],[28,12,28,14],[29,12,29,14],[10,12,10,14],[11,12,11,14],[13,12,13,16],[12,12,12,14],[21,12,21,14],[22,12,22,14],[18,13,18,15],[14,15,14,16],[23,12,23,14],[20,12,20,16],[25,15,25,16],[5,12,5,14],[0,0,0,2],[0,4,0,6],[1,0,1,2],[1,4,1,6],[1,8,1,10],[1,12,1,16],[2,12,2,14],[3,12,3,14],[4,12,4,14],[8,12,8,14],[17,2,17,3],[9,12,9,14],[9,15,9,16],[27,12,27,14],[10,15,10,16],[11,15,11,16],[24,12,24,14],[26,12,26,14],[15,2,15,3],[16,2,16,3],[14,12,14,14],[19,12,19,13],[27,10,31,10],[25,12,25,14],[26,4,26,5],[26,6,26,7],[31,12,31,14],[37,0,42,3],[37,4,42,6],[32,9,36,9],[27,4,31,5],[27,6,31,7],[27,9,31,9],[28,8,31,8],[37,9,41,9],[35,0,36,3],[35,4,36,6],[42,16,44,16],[50,9,50,10],[30,12,30,14],[43,10,43,14],[44,10,44,14],[45,10,45,14],[46,10,46,14],[47,10,47,14],[48,10,48,14],[32,12,32,14],[33,12,33,14],[34,12,34,14]]}
[]
[{"$f":"SVOD!A1","v":"Everton"},null,null,null,{"$f":"SVOD!A7","v":"Colo Colo"},null,null,null,"ОБЩАЯ ИНФОРМАЦИЯ О ЛИГЕ",null,null,null,"nXn"]
["Кол.матчей","Забито","Пропущено",null,"Кол.матчей","Забито","Пропущено",null,"Всего игр в лиге","Домашних мячей","Гостевых мячей",null,null,null,null,"ХОЗЯЕВА","ГОСТИ",null,null,null,null,null,null,null,null,null,null,null,"Дата/Время","Дома","Гости","К1 в 1Т","К2 в 1Т","К1 во 2Т","К2 во 2Т","Где играли","К1 Голов","К2 Голов","Забито","Пропущено","Результат"]
[{"$f":"INDEX(SC!A3:S29,MATCH(A2,SC!B3:B29,0),3)","v":1},{"$f":"INDEX(SC!A3:S29,MATCH(A2,SC!B3:B29,0),7)","v":1},{"$f":"INDEX(SC!A3:S29,MATCH(A2,SC!B3:B29,0),8)","v":1},6,{"$f":"INDEX(SC!AC3:AQ29,MATCH(E2,SC!AD3:AD29,0),3)","v":1},{"$f":"INDEX(SC!AC3:AQ29,MATCH(E2,SC!AD3:AD29,0),7)","v":2},{"$f":"INDEX(SC!AC3:AQ29,MATCH(E2,SC!AD3:AD29,0),8)","v":1},null,{"$f":"SC!C30","v":30},{"$f":"SC!G30","v":37},{"$f":"SC!H30","v":31},null,"АТАКА",null,null,{"$f":"B9","v":0.81081081081081074},{"$f":"F9","v":1.9354838709677418},null,null,null,null,null,null,null,null,null,null,1,{"$f":"Дома!B2","v":"2021.04.12 21:00"},{"$f":"Дома!C2","v":"Palestino"},{"$f":"Дома!D2","v":"Everton"},{"$f":"Дома!E2","v":0},{"$f":"Дома!F2","v":0},{"$f":"Дома!G2","v":1},{"$f":"Дома!H2","v":1},{"$f":"Дома!I2","v":"Гости"},{"$f":"AF4+AH4","v":1},{"$f":"AG4+AI4","v":1},{"$f":"IF(AJ4=\"Дома\",AK4,AL4)","v":1},{"$f":"IF(AJ4=\"Дома\",AL4,AK4)","v":1},{"$f":"IF(AJ4=\"Дома\",IF(AK4>AL4,\"В\",IF(AK4=AL4,\"Н\",\"П\")),IF(AK4<AL4,\"В\",IF(AK4=AL4,\"Н\",\"П\")))","v":"Н"}]
[null,null,null,null,null,null,null,null,{"$f":"SC!AE30","v":30},{"$f":"SC!AI30","v":31},{"$f":"SC!AJ30","v":37},null,"ОБОРОНА",null,null,{"$f":"C9","v":0.96774193548387089},{"$f":"G9","v":0.81081081081081074},null,null,null,null,null,null,null,null,null,null,2,{"$f":"Дома!B3","v":"2021.04.02 21:00"},{"$f":"Дома!C3","v":"Antofagasta"},{"$f":"Дома!D3","v":"Everton"},{"$f":"Дома!E3","v":0},{"$f":"Дома!F3","v":0},{"$f":"Дома!G3","v":1},{"$f":"Дома!H3","v":2},{"$f":"Дома!I3","v":"Гости"},{"$f":"AF5+AH5","v":1},{"$f":"AG5+AI5","v":2},{"$f":"IF(AJ5=\"Дома\",AK5,AL5)","v":2},{"$f":"IF(AJ5=\"Дома\",AL5,AK5)","v":1},{"$f":"IF(AJ5=\"Дома\",IF(AK5>AL5,\"В\",IF(AK5=AL5,\"Н\",\"П\")),IF(AK5<AL5,\"В\",IF(AK5=AL5,\"Н\",\"П\")))","v":"В"}]
["Среднее",{"$f":"B4/$A$4","v":1},{"$f":"C4/$A$4","v":1},null,"Среднее",{"$f":"F4/$E$4","v":2},{"$f":"G4/$E$4","v":1},null,null,null,null,null,null,null,null,{"$f":"IFERROR(P4/P5,\"ND\")","v":0.83783783783783783},{"$f":"Q4/Q5","v":2.3870967741935485},null,null,null,null,null,null,null,null,null,null,3,{"$f":"Дома!B4","v":"2021.03.27 21:00"},{"$f":"Дома!C4","v":"Everton"},{"$f":"Дома!D4","v":"O'Higgins"},{"$f":"Дома!E4","v":1},{"$f":"Дома!F4","v":0},{"$f":"Дома!G4","v":0},{"$f":"Дома!H4","v":1},{"$f":"Дома!I4","v":"Дома"},1,1,1,1,"Н"]
[null,null,null,null,null,null,null,null,null,"АТАКА","ОБОРОНА",null,"Среднее мячей",null,null,{"$f":"B11","v":0.81081081081081063},{"$f":"F11","v":1.935483870967742},null,null,null,null,null,null,null,null,null,null,4,{"$f":"Дома!B5","v":"2021.02.14 15:30"},{"$f":"Дома!C5","v":"Everton"},{"$f":"Дома!D5","v":"Huachipato"},{"$f":"Дома!E5","v":1},{"$f":"Дома!F5","v":0},{"$f":"Дома!G5","v":0},{"$f":"Дома!H5","v":0},{"$f":"Дома!I5","v":"Дома"},1,0,1,0,"В"]
[null,"АТАКА","ОБОРОНА",null,null,"АТАКА","ОБОРОНА",null,"Среднее домашних мячей",{"$f":"J4/$I$4","v":1.2333333333333334},{"$f":"K4/$I$4","v":1.0333333333333334},null,"MAX счет",null,null,{"$f":"F25","v":0.81081081081081074},{"$f":"H25","v":2.419354838709677},"GD-xGD",{"$f":"IFERROR(SVOD!AA57,\"RISK\")","v":0.19999999999999996},{"$f":"IFERROR(SVOD!AC57,\"RISK\")","v":0.25},"GD-xGD",null,null,null,null,null,null,5,{"$f":"Дома!B6","v":"2021.02.11 23:30"},{"$f":"Дома!C6","v":"Coquimbo"},{"$f":"Дома!D6","v":"Everton"},{"$f":"Дома!E6","v":1},{"$f":"Дома!F6","v":0},{"$f":"Дома!G6","v":2},{"$f":"Дома!H6","v":0},{"$f":"Дома!I6","v":"Гости"},3,0,0,3,"П"]
["ХОЗЯЕВА",{"$f":"B6/J8","v":0.81081081081081074},{"$f":"C6/K8","v":0.96774193548387089},null,"ГОСТИ",{"$f":"F6/J9","v":1.9354838709677418},{"$f":"G6/K9","v":0.81081081081081074},null,"Среднее гостевых мячей",{"$f":"J5/I5","v":1.0333333333333334},{"$f":"K5/I5","v":1.2333333333333334},null,"Ожидаемый счет",null,null,{"$f":"A38","v":0.81081081081081074},{"$f":"E38","v":2.1774193548387095},"xGD",{"$f":"IFERROR(SVOD!F3-SVOD!G3,\"RISK\")","v":0},{"$f":"SVOD!F10-SVOD!G10","v":1},"xGD",null,null,null,null,null,null,6,{"$f":"Дома!B7","v":"2021.02.06 22:00"},{"$f":"Дома!C7","v":"Everton"},{"$f":"Дома!D7","v":"Palestino"},{"$f":"Дома!E7","v":0},{"$f":"Дома!F7","v":1},{"$f":"Дома!G7","v":1},{"$f":"Дома!H7","v":2},{"$f":"Дома!I7","v":"Дома"},1,3,1,3,"П"]
[null,null,null,null,null,null,null,null,null,null,null,null,"Средний тотал",null,null,{"$f":"P7+Q7","v":2.7462946817785525},null,"IPPMx",{"$f":"IFERROR(SVOD!S56,\"\")","v":-1.882352941176471},{"$f":"IFERROR(SVOD!U56,\"\")","v":1.882352941176471},"IPPMx",null,null,null,null,null,null,7,{"$f":"Дома!B8","v":"2021.01.20 00:15"},{"$f":"Дома!C8","v":"U. Catolica"},{"$f":"Дома!D8","v":"Everton"},{"$f":"Дома!E8","v":1},{"$f":"Дома!F8","v":1},{"$f":"Дома!G8","v":0},{"$f":"Дома!H8","v":0},{"$f":"Дома!I8","v":"Гости"},1,1,1,1,"Н"]
["СРЕДНЕЕ",{"$f":"(B9*G9)*((J8+K9)/2)","v":0.81081081081081063},null,null,"СРЕДНЕЕ",{"$f":"(F9*C9)*((J9+K8)/2)","v":1.935483870967742},null,null,"POISSON",null,null,null,"MAX  тотал",null,null,{"$f":"P8+Q8","v":3.2301656495204876},null,"xG90",{"$f":"IFERROR(Poisson!I7,\"ND\")","v":1.5},{"$f":"IFERROR(Poisson!I8,\"ND\")","v":1},"xG90",null,null,null,null,null,null,8,{"$f":"Дома!B9","v":"2021.01.14 22:00"},{"$f":"Дома!C9","v":"Everton"},{"$f":"Дома!D9","v":"A. Italiano"},{"$f":"Дома!E9","v":2},{"$f":"Дома!F9","v":1},{"$f":"Дома!G9","v":0},{"$f":"Дома!H9","v":0},{"$f":"Дома!I9","v":"Дома"},2,1,2,1,"В"]
[null,null,null,null,null,null,null,null,"Среднее домашних голов",{"$f":"IFERROR(Poisson!I34,\"ND\")","v":1.375},null,null,"Ожидаемый тотал",null,null,{"$f":"(P4+Q5)/2+(Q4+P5)/2","v":2.262423714036617},null,"ИТ",{"$f":"IFERROR(SVOD!C45,\"RISK\")","v":1.2990196078431373},{"$f":"IFERROR(SVOD!D45,\"RISK\")","v":1.6944444444444444},"ИТ",null,null,null,null,null,null,9,{"$f":"Дома!B10","v":"2021.01.10 23:30"},{"$f":"Дома!C10","v":"Colo Colo"},{"$f":"Дома!D10","v":"Everton"},{"$f":"Дома!E10","v":1},{"$f":"Дома!F10","v":0},{"$f":"Дома!G10","v":0},{"$f":"Дома!H10","v":0},{"$f":"Дома!I10","v":"Гости"},1,0,0,1,"П"]
[null,null,null,null,null,null,null,null,"Среднее гостевых голов",{"$f":"IFERROR(Poisson!I35,\"ND\")","v":1.25},{"$f":"J12+J13","v":2.625},null,null,null,null,null,null,"PPM",{"$f":"IFERROR(SVOD!C52,\"ND\")","v":1.5},{"$f":"IFERROR(SVOD!D52,\"BD\")","v":2},"PPM",null,null,null,null,null,null,10,{"$f":"Дома!B11","v":"2021.01.06 22:00"},{"$f":"Дома!C11","v":"La Serena"},{"$f":"Дома!D11","v":"Everton"},{"$f":"Дома!E11","v":1},{"$f":"Дома!F11","v":1},{"$f":"Дома!G11","v":0},{"$f":"Дома!H11","v":0},{"$f":"Дома!I11","v":"Гости"},1,1,1,1,"Н"]
["Хозяева","Гости",null,null,null,null,null,null,"Делюкс (POISSON) общие",null,null,null,null,null,null,null,null,null,null,null,null,null,null,null,null,null,null,11,{"$f":"Дома!B12","v":"2021.01.02 22:00"},{"$f":"Дома!C12","v":"Everton"},{"$f":"Дома!D12","v":"Deportes Iquique"},{"$f":"Дома!E12","v":1},{"$f":"Дома!F12","v":0},{"$f":"Дома!G12","v":0},{"$f":"Дома!H12","v":0},{"$f":"Дома!I12","v":"Дома"},1,0,1,0,"В"]
[{"$f":"B6","v":1},{"$f":"F6","v":2},"Среднее забито",null,null,null,null,null,"Среднее домашних голов",{"$f":"IFERROR(Poisson!I7,\"ND\")","v":1.5},null,null,null,null,null,null,null,null,null,null,null,null,null,null,null,null,null,12,{"$f":"Дома!B13","v":"2020.12.29 00:30"},{"$f":"Дома!C13","v":"U. De Concepcion"},{"$f":"Дома!D13","v":"Everton"},{"$f":"Дома!E13","v":0},{"$f":"Дома!F13","v":0},{"$f":"Дома!G13","v":0},{"$f":"Дома!H13","v":0},{"$f":"Дома!I13","v":"Гости"},0,0,0,0,"Н"]
[{"$f":"C6","v":1},{"$f":"G6","v":1},"Среднее пропущено",null,null,null,null,null,"Среднее гостевых голов",{"$f":"IFERROR(Poisson!I8,\"ND\")","v":1},{"$f":"IFERROR(J15+J16,\"\")","v":2.5},null,null,null,null,null,null,null,null,null,null,null,null,null,null,null,null,13,{"$f":"Дома!B14","v":"2020.12.22 15:30"},{"$f":"Дома!C14","v":"Everton"},{"$f":"Дома!D14","v":"Cobresal"},{"$f":"Дома!E14","v":1},{"$f":"Дома!F14","v":0},{"$f":"Дома!G14","v":2},{"$f":"Дома!H14","v":0},{"$f":"Дома!I14","v":"Дома"},3,0,3,0,"В"]
[{"$f":"B9","v":0.81081081081081074},{"$f":"F9","v":1.9354838709677418},"Атака",null,null,null,null,null,null,null,null,null,null,null,null,null,null,null,null,null,null,null,null,null,null,null,null,14,{"$f":"Дома!B15","v":"2020.12.17 01:30"},{"$f":"Дома!C15","v":"Everton"},{"$f":"Дома!D15","v":"U. Espanola"},{"$f":"Дома!E15","v":1},{"$f":"Дома!F15","v":2},{"$f":"Дома!G15","v":0},{"$f":"Дома!H15","v":0},{"$f":"Дома!I15","v":"Дома"},1,2,1,2,"П"]
[{"$f":"C9","v":0.96774193548387089},{"$f":"G9","v":0.81081081081081074},"Оборона",null,null,null,null,null,null,"Хозяева","Гости",null,null,null,null,null,null,null,null,null,null,null,null,null,null,null,null,15,{"$f":"Дома!B16","v":"2020.12.14 00:15"},{"$f":"Дома!C16","v":"S. Wanderers"},{"$f":"Дома!D16","v":"Everton"},{"$f":"Дома!E16","v":0},{"$f":"Дома!F16","v":1},{"$f":"Дома!G16","v":2},{"$f":"Дома!H16","v":0},{"$f":"Дома!I16","v":"Гости"},2,1,1,2,"П"]
[null,null,null,null,null,null,null,null,"GD-xGD",{"$f":"IFERROR(SVOD!AA57,\"ND\")","v":0.19999999999999996},{"$f":"IFERROR(SVOD!AC57,\"0\")","v":0.25}]
[null,"Хозяева","Гости",null,"Max A","Max B","Min A","Min B","xGD всем дом гости",{"$f":"SVOD!F3-SVOD!G3","v":0},{"$f":"SVOD!F10-SVOD!G10","v":1}]
[null,{"$f":"A17+0.02","v":0.83081081081081076},{"$f":"B17+0.02","v":1.9554838709677418},null,{"$f":"MAX(B16,A15)","v":1},{"$f":"MAX(B15,A16)","v":2},{"$f":"MIN(B16,A15)","v":1},{"$f":"MIN(B15,A16)","v":1},"IPPMx",{"$f":"IFERROR(SVOD!S56,\"\")","v":-1.882352941176471},{"$f":"IFERROR(SVOD!U56,\"\")","v":1.882352941176471},null,"Вывод"]
[null,{"$f":"A17-0.02","v":0.79081081081081073},{"$f":"B17-0.02","v":1.9154838709677418},null,{"$f":"MAX(A17,B18)","v":0.81081081081081074},{"$f":"MAX(B17,A18)","v":1.9354838709677418},{"$f":"MIN(A17,B18)","v":0.81081081081081074},{"$f":"MIN(B17,A18)","v":0.96774193548387089},"PPM",{"$f":"IFERROR(SVOD!C52,\"ND\")","v":1.5},{"$f":"IFERROR(SVOD!D52,\"BD\")","v":2},null,null,null,null,"ХОЗЯЕВА","ГОСТИ"]
[null,{"$f":"A18+0.02","v":0.9877419354838709},{"$f":"B18+0.02","v":0.83081081081081076},null,{"$f":"E21*E22","v":0.81081081081081074},{"$f":"F21*F22","v":3.8709677419354835},{"$f":"G21*G22","v":0.81081081081081074},{"$f":"H21*H22","v":0.96774193548387089},null,null,null,null,{"$f":"J47","v":"XGA"},null,null,{"$f":"AVERAGE(J48,P4)","v":0.84658187599364065},{"$f":"AVERAGE(J49,Q4)","v":1.8500948766603416}]
[null,{"$f":"A18-0.02","v":0.94774193548387087},{"$f":"B18-0.02","v":0.79081081081081073},null,{"$f":"E23","v":0.81081081081081074},{"$f":"F23","v":3.8709677419354835},{"$f":"G23","v":0.81081081081081074},{"$f":"H23","v":0.96774193548387089},"xGD Форма 5 общая",{"$f":"SVOD!F5-SVOD!G5","v":2},{"$f":"SVOD!F11-SVOD!G11","v":-2},null,{"$f":"P47","v":"XGD"},null,null,{"$f":"AVERAGE(P48,P5)","v":0.92504743833017078},{"$f":"AVERAGE(P49,Q5)","v":0.84658187599364065}]
[null,null,null,null,"Хозяева",{"$f":"AVERAGE(E24,G24)","v":0.81081081081081074},"Гости",{"$f":"AVERAGE(F24,H24)","v":2.419354838709677},null,null,null,null,{"$f":"Q43","v":"XGCoef"},null,null,{"$f":"IFERROR(AVERAGE(P6,Q46),\"ND\")","v":0.91891891891891886},{"$f":"AVERAGE(Q6,Q47)","v":2.193548387096774}]
["Хозяева","Гости",null,null,null,null,null,null,null,null,null,null,"ТОТАЛ",null,null,{"$f":"P12","v":2.262423714036617}]
[{"$f":"A15*A17","v":0.81081081081081074},{"$f":"B15*B17","v":3.8709677419354835},null,null,{"$f":"A2","v":"Everton"},null,{"$f":"E2","v":"Colo Colo"},null,"ТБ 2,5","ОЗ",null,null,"xGD1+xGD2 Ф5 Д\\Г",null,null,{"$f":"J20+K20","v":1}]
[{"$f":"A15*B18","v":0.81081081081081074},{"$f":"B15*A18","v":1.9354838709677418},null,null,{"$f":"A32","v":0.81081081081081074},null,{"$f":"B32","v":2.1774193548387095},null,{"$f":"IFERROR(IF(OR(B6>1.75,F6>1.75),1,2),\"R\")","v":1},{"$f":"IFERROR(IF(AND(B6>J8,F6>J9),\"ДА \",\"НЕТ\"),\"ND\")","v":"НЕТ"},null,null,"Рейтинг по Ф5 Общей",null,null,{"$f":"J24-K24","v":4}]
[{"$f":"B16*A17","v":0.81081081081081074},{"$f":"A16*B17","v":1.9354838709677418},null,null,null,null,null,null,{"$f":"IF(AND((I28=1),OR(C6>K8,G6>K9)),\">2\",\"НЕТ\")","v":"НЕТ"},null,null,null,"XG1-XG2",null,null,{"$f":"IFERROR(J12-J13,\"\")","v":0.125}]
[{"$f":"B16*B18","v":0.81081081081081074},{"$f":"A16*A18","v":0.96774193548387089},null,null,null,null,null,null,null,null,null,null,"XG2-XG1",null,null,{"$f":"IFERROR(J13-J12,\"\")","v":-0.125}]
[{"$f":"AVERAGE(A27:A30)","v":0.81081081081081074},{"$f":"AVERAGE(B27:B30)","v":2.1774193548387095},null,null,null,null,null,null,null,null,null,null,"XG 90",null,null,{"$f":"IFERROR(AVERAGE(P7,P32),\"ND\")","v":1.054915209326974},{"$f":"AVERAGE(Q7,Q32)","v":1.8149641577060933}]
[{"$f":"IF(A31<0.7,0,A31)","v":0.81081081081081074},{"$f":"IF(B31<0.7,0,B31)","v":2.1774193548387095},null,null,null,null,null,null,null,null,null,null,"ИТ ДЕЛЮКС",null,null,{"$f":"IFERROR(SVOD!C45,\"ND\")","v":1.2990196078431373},{"$f":"IFERROR(SVOD!D45,\"ND\")","v":1.6944444444444444}]
[null,null,null,null,null,null,null,null,null,{"$f":"IFERROR(IF(AND(B6>J8,F6>J9,B6>J12,F6>J13),\"ДА \",\"НЕТ\"),\"ND\")","v":"НЕТ"},null,null,"ТОТАЛ ДЕЛЮКС",null,null,{"$f":"IFERROR(SVOD!T3,\"ND\")","v":2.829520697167756}]
[null,null,null,null,{"$f":"#REF!","v":{"$error":"#REF!"}},{"$f":"I28","v":1},null,null,null,null,null,null,"ХОЗЯЕВА П+Н",null,null,{"$f":"SVOD!G14","v":0.5},{"$f":"SVOD!L14","v":0.33333333333333337}]
[null,null,null,null,null,null,null,null,null,null,null,null,"ГОСТИ П+Н",null,null,{"$f":"SVOD!H14","v":0},{"$f":"SVOD!M14","v":0.33333333333333331}]
[{"$f":"E27","v":"Everton"},null,null,null,{"$f":"G27","v":"Colo Colo"},null,null,null,null,null,null,null,null,null,"ALGORITM Nb 1.1"]
[null,null,null,null,null,null,null,null,null,null,null,null,null,null,{"$f":"Результат!K13","v":0.63044482068647067},{"$f":"Результат!R13","v":0.36955517931352944},null,"МОТИВАЦИЯ"]
[{"$f":"E28","v":0.81081081081081074},null,null,null,{"$f":"G28","v":2.1774193548387095},null,null,null,null,null,null,null,null,null,{"$f":"Результат!K15","v":0.25},"XGA",{"$f":"Результат!R15","v":-33.333333333333329},{"$f":"Результат!O27","v":1},"ОБЩЕЕ",null,{"$f":"Результат!R27","v":-2}]
[null,null,null,null,null,null,null,null,null,null,null,null,null,null,{"$f":"Результат!K17","v":0.25},"XGD",{"$f":"Результат!R17","v":-33.333333333333329},{"$f":"Результат!O28","v":1},"ФОРМА",null,{"$f":"Результат!R28","v":-2}]
[null,null,null,null,null,null,null,null,null,null,null,null,null,null,"МАКСИМАЛЬНЫЙ ТОТАЛ"]
[null,null,null,null,null,null,null,null,null,null,null,null,null,null,{"$f":"Результат!K24","v":"0-3"},{"$f":"Результат!O24","v":2},{"$f":"Результат!S24","v":"0-3"}]
[]
[null,null,null,null,null,null,null,null,null,null,null,null,null,null,null,null,"XGCoef"]
[null,null,null,null,null,null,null,null,"Среднее голов",{"$f":"(J4+K4)/I4/2","v":1.1333333333333333},"average = (Всеголы/ Кол.матчей)/2"]
[null,null,null,null,null,null,null,null,"Хозяева",{"$f":"B4/A4","v":1},"averageTS = (Голы забитые / Кол матчей",null,null,null,null,{"$f":"C4/A4","v":1}]
[null,null,null,null,null,null,null,null,"Гости",{"$f":"F4/E4","v":2},"averageTMiss = (Голы пропущ/ Кол матчей)",null,null,null,null,{"$f":"G4/E4","v":1},{"$f":"J48/P48","v":1}]
[null,null,null,null,null,null,null,null,null,"XGA",null,null,null,null,null,"XGD",{"$f":"J49/P49","v":2}]
[null,null,null,null,null,null,null,null,"Хозяева",{"$f":"J45/J44","v":0.88235294117647056},"ratioTeamScore = сред заб / average",null,null,null,null,{"$f":"P45/J44","v":0.88235294117647056}]
[null,null,null,null,null,null,null,null,"Гости",{"$f":"J46/J44","v":1.7647058823529411},"ratioTeamMiss = сред проп / average",null,null,null,null,{"$f":"P46/J44","v":0.88235294117647056}]
[]
[null,null,null,null,null,null,null,null,"ТОТАЛ",{"$f":"(J48+P49)/2+(P48+J49)/2","v":2.2058823529411766}]

{"sheet":"Анализ","index":15,"n_rows":64,"n_cols":39,"rows_kept":64,"cut":false,"hidden":true,"merged":[[54,29,56,31],[51,33,53,34],[56,33,58,34],[51,35,53,36],[56,35,58,36],[49,27,50,28],[51,27,53,28],[54,27,56,28],[47,31,49,32],[51,29,53,31],[64,1,65,1],[64,2,65,2],[64,3,65,3],[64,4,65,4],[64,5,65,7],[58,2,59,2],[58,3,59,3],[58,4,59,4],[60,2,61,2],[62,2,63,2],[60,3,61,3],[60,4,61,4],[62,3,63,3],[62,4,63,4],[59,10,61,11],[62,10,64,11],[52,7,53,8],[52,9,53,9],[56,8,57,8],[35,11,36,11],[37,8,38,9],[56,5,57,7],[58,5,59,7],[60,5,61,7],[62,5,63,7],[35,10,36,10],[37,10,38,10],[56,1,57,1],[58,1,59,1],[60,1,61,1],[62,1,63,1],[44,11,45,11],[50,2,51,2],[52,2,53,2],[54,2,55,2],[56,2,57,2],[50,3,51,3],[52,3,53,3],[54,3,55,3],[56,3,57,3],[46,1,47,1],[46,3,47,3],[50,4,51,4],[52,4,53,4],[54,4,55,4],[56,4,57,4],[50,5,51,6],[52,5,53,6],[54,5,55,7],[50,1,51,1],[52,1,53,1],[54,1,55,1],[44,31,46,38],[23,27,24,29],[27,13,27,14],[27,28,27,29],[38,27,39,29],[40,27,41,27],[40,28,41,29],[42,27,43,27],[42,28,43,29],[42,19,44,20],[42,24,44,26],[45,22,47,23],[28,27,29,27],[25,23,28,25],[25,17,28,19],[25,20,28,22],[40,13,41,14],[40,15,41,15],[42,13,43,14],[42,15,43,15],[36,13,37,14],[36,15,37,15],[29,8,30,10],[18,1,21,1],[18,2,21,4],[18,5,21,5],[34,27,35,27],[1,6,3,15],[17,27,18,27],[19,27,20,27],[4,6,5,6],[6,6,7,6],[19,15,20,15],[15,13,16,14],[13,13,14,14],[13,15,14,15],[9,7,9,8],[9,10,9,11],[11,15,12,15],[11,13,12,14],[4,8,5,8],[6,7,7,7],[9,13,10,15],[4,9,5,9],[14,7,15,7],[14,8,15,8],[35,7,36,7],[1,1,3,4],[4,4,5,4],[6,4,7,4],[9,1,9,2],[4,5,5,5],[9,4,9,5],[12,1,13,2],[14,5,15,5],[16,5,17,5],[14,1,15,1],[14,2,15,2],[14,4,15,4],[16,4,17,4],[12,4,13,5],[14,3,15,3],[16,3,17,3],[6,5,7,5],[51,17,52,25],[25,27,26,27],[23,13,24,15],[25,15,26,15],[22,16,24,26],[25,16,27,16],[25,26,27,26],[32,28,33,29],[30,13,31,15],[49,13,50,14],[32,27,33,27],[44,15,47,15],[45,19,47,20],[31,22,33,24],[34,19,37,20],[34,22,37,23],[38,16,41,18],[34,16,37,18],[38,24,41,26],[34,24,37,26],[48,24,50,26],[48,16,50,18],[48,19,50,20],[48,22,50,23],[27,1,28,1],[25,1,26,1],[25,4,26,4],[44,1,45,1],[42,1,43,2],[25,2,26,2],[27,2,28,2],[27,4,28,4],[40,1,41,2],[40,4,41,5],[44,4,45,4],[44,5,45,5],[25,5,26,5],[4,7,5,7],[17,13,18,14],[12,10,13,11],[6,8,7,8],[4,13,5,13],[6,13,7,13],[4,14,5,14],[4,11,5,11],[6,11,7,11],[4,15,5,15],[15,15,16,15],[6,16,7,20],[21,13,22,14],[29,11,30,11],[39,10,40,11],[32,15,33,15],[33,10,34,11],[28,13,29,14],[28,15,29,15],[37,11,38,11],[25,11,26,11],[27,11,28,11],[25,13,26,14],[34,13,35,14],[32,13,33,14],[18,8,21,10],[6,15,7,15],[17,15,18,15],[4,10,5,10],[6,10,7,10],[6,14,7,14],[16,8,17,8],[6,9,7,9],[21,27,22,27],[13,16,15,26],[18,17,19,19],[9,35,11,38],[4,37,5,37],[6,37,7,37],[16,17,17,19],[16,20,17,22],[16,23,17,25],[9,16,10,26],[13,27,14,27],[9,27,10,29],[17,28,18,29],[15,27,16,27],[11,28,12,29],[4,38,5,38],[6,38,7,38],[4,35,5,35],[6,35,7,35],[6,28,7,28],[4,27,5,27],[4,28,5,28],[4,29,5,29],[18,20,19,22],[6,27,7,27],[4,36,5,36],[6,36,7,36],[16,26,18,26],[4,34,5,34],[6,34,7,34],[6,29,7,29],[4,33,5,33],[9,31,11,34],[6,31,7,31],[4,32,5,32],[6,32,7,32],[6,33,7,33],[4,31,5,31],[13,28,14,29],[6,22,7,26],[11,27,12,27],[15,28,16,29],[18,23,19,25],[11,20,12,22],[11,23,12,25],[46,4,47,4],[46,5,47,5],[46,2,47,2],[38,13,39,15],[44,2,45,2],[27,5,28,5],[37,7,38,7],[34,15,35,15],[42,22,44,23],[31,21,33,21],[42,4,43,4],[42,5,43,5],[44,3,45,3],[11,16,12,16],[35,8,36,9],[25,8,26,10],[27,8,28,10],[25,7,26,7],[33,7,34,9],[21,15,22,15],[11,17,12,19],[41,10,42,11],[29,7,30,7],[16,7,17,7],[14,11,15,11],[18,7,21,7],[18,11,21,11],[14,10,15,10],[16,10,17,10],[16,11,17,11],[12,7,13,8],[19,13,20,14],[60,14,61,14],[27,7,28,7],[62,13,63,13],[19,28,20,29],[21,28,22,29],[44,28,46,29],[36,27,37,27],[36,28,37,29],[46,11,47,11],[44,13,46,14],[44,10,45,10],[46,10,47,10],[29,17,30,25],[30,27,31,29],[45,16,47,18],[45,24,47,26],[25,28,26,29],[42,16,44,18],[44,27,47,27],[61,28,62,28],[61,27,62,27],[28,28,29,29],[34,28,35,29],[31,18,33,20],[62,15,63,15],[57,20,58,22],[64,14,65,14],[55,17,56,25],[38,19,41,20],[38,22,41,23],[54,13,56,14],[59,17,60,19],[59,23,60,25],[53,17,54,19],[53,20,54,22],[53,23,54,25],[60,20,60,22],[57,23,58,25],[57,17,58,19],[62,14,63,14],[64,15,65,15],[51,13,53,14],[61,17,62,19],[63,17,64,19],[61,23,62,25],[63,23,64,25],[61,20,64,22],[60,13,61,13]]}
[]
[null,{"$f":"Расчеты!D126","v":"2021.04.18 21:00"},null,null,null,null,{"$f":"IFERROR(Расчеты!C126,\"R\")","v":"CHILE: Primera Division"}]
[]
[]
[null,null,null,null,"IPu","IP3","IP2","IPm","ФОРМА ДОМА","МАТЧЕЙ ДОМА","ОЧКИ ДОМА","МЕСТО ДОМА",null,"ФОРМА ОБЩАЯ","ОЧКИ ВСЕГО","МЕСТО ВСЕГО",null,null,null,null,null,null,null,null,null,null,null,"МЕСТО ВСЕГО","ОЧКИ ВСЕГО","ФОРМА ОБЩАЯ",null,"МЕСТО ГОСТИ","ОЧКИ ГОСТИ","МАТЧЕЙ ГОСТИ","ФОРМА ГОСТИ","IPm","IP2","IP3","IPu"]
[]
[null,null,null,null,{"$f":"IFERROR(SVOD!M95,\"R\")","v":0.125},{"$f":"IFERROR(SVOD!H93,\"R\")","v":1.7500000000000002E-2},{"$f":"IFERROR(SVOD!H92,\"R\")","v":1.9999999999999996E-3},{"$f":"IFERROR(SVOD!H91,\"R\")","v":0},{"$f":"IFERROR(SVOD!J6,\"R\")","v":1.75},{"$f":"IFERROR(SVOD!B6,\"R\")","v":4},{"$f":"IFERROR(SVOD!H6,\"R\")","v":7},{"$f":"IFERROR(SVOD!I6,\"R\")","v":11},null,{"$f":"IFERROR(SVOD!J5,\"R\")","v":0.5},{"$f":"IFERROR(SVOD!H2,\"R\")","v":5},{"$f":"IFERROR(SVOD!I2,\"R\")","v":6},{"$f":"SVOD!A1","v":"Everton"},null,null,null,null,null,{"$f":"SVOD!A7","v":"Colo Colo"},null,null,null,null,{"$f":"IFERROR(SVOD!I8,\"R\")","v":9},{"$f":"IFERROR(SVOD!H8,\"R\")","v":4},{"$f":"IFERROR(SVOD!J11,\"R\")","v":0.25},null,{"$f":"IFERROR(SVOD!I12,\"R\")","v":5},{"$f":"IFERROR(SVOD!H12,\"R\")","v":5},{"$f":"IFERROR(SVOD!B12,\"R\")","v":4},{"$f":"IFERROR(SVOD!J12,\"R\")","v":1.25},{"$f":"IFERROR(SVOD!J91,\"R\")","v":0},{"$f":"IFERROR(SVOD!J92,\"R\")","v":3.9999999999999992E-3},{"$f":"IFERROR(SVOD!J93,\"R\")","v":1.2500000000000001E-2},{"$f":"IFERROR(SVOD!O95,\"R\")","v":-0.125}]
[]
[]
[null,"XG s",null,null,"BOLLINJER",null,null,"XG m",null,null,"DeLUX",null,null,"DeLUX",null,null,"DeLUX",null,null,null,null,null,null,null,null,null,null,"DeLUX",null,null,null,"ОБЩИЕ",null,null,null,"ДОМ - ГОСТИ"]
[]
[null,null,null,null,null,null,null,null,null,null,null,null,null,"GD-xGD",null,{"$f":"IFERROR(SVOD!AA57,\"R\")","v":0.19999999999999996},null,{"$f":"IFERROR(SVOD!C44,\"\")","v":0.28447712418300652},null,null,{"$f":"IFERROR(SVOD!C47,\"\")","v":0.16078431372549018},null,null,{"$f":"IFERROR(SVOD!D44,\"\")","v":0.5547385620915033},null,null,null,{"$f":"IFERROR(SVOD!AC57,\"R\")","v":0.25},"GD-xGD"]
[null,"ТОЧНЫЙ СЧЕТ",null,null,"ТОЧНЫЙ СЧЕТ",null,null,null,null,null,"ТОЧНЫЙ СЧЕТ"]
[null,null,null,null,null,null,null,null,null,null,null,null,null,"xGD",null,{"$f":"SVOD!F3-SVOD!G3","v":0},"POISSON",null,null,null,null,null,null,null,null,null,null,{"$f":"SVOD!F10-SVOD!G10","v":1},"xGD"]
[null,{"$f":"DATA!A38","v":0.81081081081081074},{"$f":"DATA!E38","v":2.1774193548387095},"Общ",{"$f":"IFERROR(#REF!,\"\")","v":""},{"$f":"IFERROR(#REF!,\"R\")","v":"R"},null,null,null,null,{"$f":"IFERROR(Расчеты!V112,\"R\")","v":0},{"$f":"IFERROR(Расчеты!W112,\"R\")","v":1}]
[null,null,null,null,null,null,null,null,null,null,null,null,null,"IPPM",null,{"$f":"IFERROR(SVOD!S56,\"\")","v":-1.882352941176471},null,null,null,null,null,null,null,null,null,null,null,{"$f":"IFERROR(SVOD!U56,\"\")","v":1.882352941176471},"IPPM"]
[null,null,null,"Д\\Г",{"$f":"IFERROR(#REF!,\"\")","v":""},{"$f":"IFERROR(#REF!,\"\")","v":""},null,null,null,null,{"$f":"IFERROR(Расчеты!X112,\"R\")","v":1},{"$f":"IFERROR(Расчеты!Y112,\"R\")","v":2},null,null,null,null,null,{"$f":"IFERROR(Poisson!B40,\"R\")","v":0.39822312477898791},null,null,{"$f":"IFERROR(Poisson!C40,\"R\")","v":0.26183762332463645},null,null,{"$f":"IFERROR(Poisson!D40,\"R\")","v":0.33993925189637564}]
[null,null,null,null,null,null,null,null,null,null,null,null,null,"IPPMx",null,{"$f":"IFERROR(SVOD!S63,\"\")","v":-1.1862745098039218},null,null,null,null,null,null,null,null,null,null,null,{"$f":"IFERROR(SVOD!U63,\"\")","v":1.1862745098039218},"IPPMg"]
[null,{"$f":"IFERROR(P29+AB29,\"R\")","v":2.7462946817785525},"ТОТАЛ МАТЧА",null,null,{"$f":"IFERROR(AVERAGE(E15:F18),\"R\")","v":"R"},null,null,"ТОТАЛ МАТЧА",null,null,{"$f":"IFERROR(SVOD!T3,\"\")","v":2.829520697167756}]
[null,null,null,null,null,null,null,null,null,null,null,null,null,"PPM",null,{"$f":"IFERROR(SVOD!C52,\"R\")","v":1.5},null,null,null,null,null,null,null,null,null,null,null,{"$f":"IFERROR(SVOD!D52,\"R\")","v":2},"PPM"]
[]
[null,null,null,null,null,null,null,null,null,null,null,null,null,"XG  o",null,{"$f":"IFERROR(Poisson!I7,\"R\")","v":1.5},null,null,null,null,null,null,null,null,null,null,null,{"$f":"IFERROR(Poisson!I8,\"R\")","v":1},"XG o"]
[null,null,null,null,null,null,null,null,null,null,null,null,null,null,null,null,"Итоговая вероятность"]
[null,null,null,null,null,null,null,null,null,null,null,null,null,"XG s",null,null,null,null,null,null,null,null,null,null,null,null,null,"XG s"]
[]
[null,null,null,null,"Общ","Д\\Г",null,{"$f":"IFERROR(Poisson!C46,\"R\")","v":0.73740313184915796},"ТБ 1,5",null,null,{"$f":"IFERROR(Poisson!C19,\"R\")","v":0.71269829589035627},null,"АТАКА",null,{"$f":"DATA!P4","v":0.81081081081081074},null,{"$f":"IFERROR(((R12+R17)/2),\"\")","v":0.34135012448099722},null,null,{"$f":"IFERROR(((U12+U17)/2),\"\")","v":0.21131096852506331},null,null,{"$f":"IFERROR(((X12+X17)/2),\"\")","v":0.44733890699393947},null,null,null,{"$f":"DATA!Q4","v":1.9354838709677418},"АТАКА"]
[]
[null,null,null,null,{"$f":"IFERROR(#REF!,\"R\")","v":"R"},{"$f":"IFERROR(#REF!,\"R\")","v":"R"},null,{"$f":"IFERROR(Poisson!C47,\"R\")","v":0.48782553144208907},"ТБ 2,5",null,null,{"$f":"IFERROR(Poisson!C20,\"R\")","v":0.45618267519067235},null,"ОБОРОНА",null,{"$f":"DATA!P5","v":0.96774193548387089},null,null,null,null,null,null,null,null,null,null,null,{"$f":"DATA!Q5","v":0.81081081081081074},"ОБОРОНА"]
[null,null,null,null,null,null,null,null,null,null,null,null,null,"Среднее",null,{"$f":"DATA!B11","v":0.81081081081081063},null,null,null,null,null,null,null,null,null,null,null,{"$f":"DATA!F11","v":1.935483870967742},"Среднее"]
[null,null,null,null,null,null,null,{"$f":"IFERROR(Poisson!C48,\"R\")","v":0.26944513108590323},"ТБ 3,5",null,null,{"$f":"IFERROR(Poisson!C21,\"R\")","v":0.24241965794093606},null,null,null,null,null,"Max СИЛА"]
[]
[null,null,null,null,null,null,null,null,null,null,null,null,null,null,null,null,null,null,{"$f":"DATA!E28","v":0.81081081081081074},null,null,":",{"$f":"DATA!G28","v":2.1774193548387095}]
[]
[null,null,null,null,null,null,null,null,null,null,"ОЗ"]
[null,null,null,null,null,null,null,null,null,null,null,null,null,null,null,null,"ИТБ1/1",null,null,{"$f":"C59","v":0.81081081081081074},null,null,{"$f":"D59","v":1.4516129032258063},null,"ИТБ2/1"]
[null,null,null,null,null,null,null,null,null,null,"ДА",{"$f":"IFERROR(Poisson!G25,\"R\")","v":0.4910727206267827}]
[]
[null,null,null,null,null,null,null,null,null,null,"НЕТ",{"$f":"IFERROR(Poisson!G26,\"R\")","v":0.50892727937321736}]
[null,null,null,null,null,null,null,null,null,null,null,null,null,"СРЕДНЕЕ",null,null,"ИТБ1/2",null,null,{"$f":"C55","v":0.6283783783783784},null,null,{"$f":"D55","v":1.7903225806451615},null,"ИТБ2/2",null,null,"СРЕДНЕЕ"]
[null,null,null,null,null,null,null,null,null,null,"ОЗ 100%"]
[null,null,null,null,"ИТБ>1",null,null,null,null,null,null,null,null,"АТАКА",null,{"$f":"IFERROR(AVERAGE(#REF!,P26,P33),\"R\")","v":"R"},null,null,null,null,null,null,null,null,null,null,null,{"$f":"IFERROR(AVERAGE(#REF!,AB33,AB26,),\"R\")","v":"R"},"АТАКА"]
[null,null,null,null,null,null,null,null,null,null,{"$f":"IFERROR(SVOD!AC9,\"R\")","v":"НЕТ"}]
[null,null,null,null,"Общ","Д\\Г",null,null,null,null,null,null,null,"ОБОРОНА",null,{"$f":"IFERROR(AVERAGE(#REF!,P28,P35),\"R\")","v":"R"},"АТАКА",null,null,{"$f":"P26","v":0.81081081081081074},null,null,{"$f":"AB26","v":1.9354838709677418},null,"АТАКА",null,null,{"$f":"IFERROR(AVERAGE(#REF!,AB29,AB37),\"R\")","v":"R"},"ОБОРОНА"]
[]
[null,null,null,null,{"$f":"IFERROR(#REF!,\"R\")","v":"R"},{"$f":"IFERROR(#REF!,\"R\")","v":"R"},null,null,null,null,"ИТ1",{"$f":"IFERROR(SVOD!C45,\"\")","v":1.2990196078431373},null,"СРЕДНИЙ",null,{"$f":"IFERROR(AVERAGE(#REF!,P29,P37),0)","v":0},null,null,null,null,null,null,null,null,null,null,null,{"$f":"IFERROR(AVERAGE(#REF!,AB29,AB37),0)","v":0},"СРЕДНИЙ",null,null,"ТОТАЛЫ и Обе забьют"]
[null,null,null,null,null,null,null,null,null,null,null,null,null,null,null,null,"ОБОРОНА",null,null,{"$f":"P28","v":0.96774193548387089},null,null,{"$f":"AB28","v":0.81081081081081074},null,"ОБОРОНА"]
[null,null,null,null,{"$f":"IFERROR(#REF!,\"R\")","v":"R"},{"$f":"IFERROR(#REF!,\"R\")","v":"R"},null,null,null,null,"ИТ2",{"$f":"IFERROR(SVOD!D45,\"R\")","v":1.6944444444444444}]
[null,null,null,null,null,null,null,null,null,null,null,null,null,null,null,null,null,null,null,null,null,null,null,null,null,null,null,null,null,null,null,{"$f":"DATA!I29","v":"НЕТ"}]
[null,null,null,null,null,null,null,null,null,null,null,null,null,null,null,null,"ИТС",null,null,{"$f":"T46-W46+T43","v":0.96774193548387089},null,null,{"$f":"W46-T46+W43","v":1.7785527462946815},null,"ИТС"]
[]
[null,"АТАКА",{"$f":"T43/W43","v":0.41891891891891891},{"$f":"W43/T43","v":2.3870967741935485},{"$f":"P14-AB14","v":-1},"xGD1-xGD2"]
[null,null,null,null,null,null,null,null,null,null,null,null,null,{"$f":"IFERROR(IF(AND(B15>C15,R58<1.7),\"Ф(0)\",\"\"),\"R\")","v":""},null,null,null,"КОФФИЦИЕНТЫ 1Х2 СТАРТОВЫЕ",null,null,null,null,null,null,null,null,null,{"$f":"IFERROR(IF(AND(C15>B15,X58<1.7),\"Ф(0)\",\"\"),\"R\")","v":""},null,{"$f":"IFERROR(IF(AND(C15>B15,X54<1.7,J53>1),\"П2\",\"\"),\"R\")","v":""},null,null,null,{"$f":"IFERROR(IF(AND((B15+C15)>3.2),\"ТБ 2,5\",\"\"),\"R\")","v":""},null,{"$f":"IFERROR(IF(AND((B15+C15)>2.7),\"ТБ1,5\",\"\"),\"R\")","v":"ТБ1,5"}]
[null,"ОБРОНА",{"$f":"T46/W46","v":1.1935483870967742},{"$f":"W46/T46","v":0.83783783783783783},{"$f":"P22-AB22","v":0.5},"XGo1-XGo2",null,"XGo1-XGo2",null,{"$f":"AB22-P22","v":-0.5}]
[null,null,null,null,null,null,null,null,null,null,null,null,null,null,null,null,null,{"$f":"IFERROR(SVOD!S42,\"-\")","v":2.37},null,null,{"$f":"IFERROR(SVOD!T42,\"-\")","v":3.2},null,null,{"$f":"IFERROR(SVOD!U42,\"-\")","v":2.7}]
[null,"Z1",{"$f":"(C51+D53)/2","v":0.6283783783783784},{"$f":"(D51+C53)/2","v":1.7903225806451615},{"$f":"(P22+AB22)/3","v":0.83333333333333337},"(XGo1+XGo2)/3",null,null,null,null,null,null,null,{"$f":"IFERROR(IF(AND(B15>C15,B15>=(C15+2.09),AND(R58<1.9)),\"ИТ1>1,5\",\"\"),\"R\")","v":""},null,null,null,null,null,null,null,null,null,null,null,null,null,{"$f":"IFERROR(IF(AND(C15>B15,C15>=(B15+2.09),AND(X58<1.9,)),\"ИТ2>1,5\",\"\"),\"R\")","v":""},null,{"$f":"IFERROR(IF(AND(C15>B15,C15>=(B15+2.09),AND(X58<1.9,AB22>P22)),\"Ф-1,5\",\"\"),\"R\")","v":""}]
[null,null,null,null,null,null,null,null,null,null,null,null,null,null,null,null,null,"КОФФИЦИЕНТЫ 1Х2 АКТУАЛЬНЫЕ"]
[null,null,{"$f":"C55-D55","v":-1.161944202266783},{"$f":"D55-C55","v":1.161944202266783},null,null,null,null,null,null,null,null,null,null,null,null,null,null,null,null,null,null,null,null,null,null,null,null,null,null,null,null,null,{"$f":"IFERROR(SVOD!H96,\"R\")","v":"R"},null,{"$f":"DATA!J33","v":"НЕТ"}]
[null,null,null,null,null,null,null,null,null,null,null,null,null,null,null,null,null,{"$f":"IFERROR(SVOD!S47,\"-\")","v":2.2999999999999998},null,null,{"$f":"IFERROR(SVOD!T47,\"-\")","v":3.2},null,null,{"$f":"IFERROR(SVOD!U47,\"-\")","v":2.9}]
[null,null,{"$f":"(T43+W46)/2","v":0.81081081081081074},{"$f":"(W43+T46)/2","v":1.4516129032258063},{"$f":"C59+D59","v":2.262423714036617},"ТОТАЛ"]
[null,null,null,null,null,null,null,null,null,null,{"$f":"IFERROR(IF(AND(B15>C15,R54<1.7,E53>1),\"П1\",\"\"),\"R\")","v":""},null,null,null,null,null,null,"СТАРТ",null,null,null,null,null,"АКТУАЛЬНЫЕ"]
[null,null,"ИТ1","ИТ2"]
[null,null,null,null,null,null,null,null,null,null,null,null,null,null,null,null,null,{"$f":"SVOD!P42","v":2},null,null,"ТБ 2,5",null,null,{"$f":"SVOD!R42","v":2.25}]
[null,null,null,null,null,null,null,null,null,null,{"$f":"IFERROR(IF(AND(B15>C15,B15>=(C15+2.09),AND(R58<1.9,P22>AB22)),\"Ф-1,5\",\"\"),\"R\")","v":""}]
[null,null,null,null,null,null,null,null,null,null,null,null,null,null,null,null,null,{"$f":"IFERROR(SVOD!P43,\"R\")","v":0.5},null,null,null,null,null,{"$f":"IFERROR(SVOD!R43,\"R\")","v":0.44444444444444442}]

{"sheet":"Расчеты","index":16,"n_rows":126,"n_cols":73,"rows_kept":126,"cut":false,"hidden":true,"merged":[[75,14,75,15],[118,11,118,12],[45,35,45,37],[45,38,45,39],[66,24,66,25],[61,24,61,25],[73,19,73,28],[74,19,74,20],[38,29,43,29],[38,31,43,31],[38,33,43,33],[38,35,43,35],[49,35,60,35],[72,35,83,35],[115,21,115,22],[115,27,115,28],[116,21,116,22],[116,27,116,28],[110,21,110,22],[110,23,110,24],[110,25,110,26],[110,27,110,28],[111,21,113,21],[114,21,114,22],[114,27,114,28],[80,27,80,28],[101,27,101,35],[107,2,107,3],[107,4,107,5],[107,6,107,8],[111,2,111,3],[111,4,111,5],[111,6,111,7],[111,8,111,9],[14,51,14,53],[2,67,2,72],[2,61,2,66],[2,55,2,60],[2,51,2,54],[110,15,111,16],[72,39,72,41],[72,42,72,44],[72,45,72,47],[49,42,49,44],[49,45,49,47],[49,39,49,41],[111,22,113,22],[111,23,113,23],[111,24,113,24],[111,25,113,26],[111,27,113,28],[2,38,2,43],[2,28,2,31],[74,21,74,22],[74,23,74,24],[74,26,74,27],[55,29,55,32],[46,25,48,26],[68,2,68,3],[68,5,68,6],[104,2,104,4],[104,5,104,7],[104,8,104,10],[104,11,104,12],[82,19,82,26],[83,19,88,19],[83,21,88,21],[83,23,88,23],[83,25,88,25],[101,18,101,26],[96,19,96,20],[86,2,86,5],[86,6,86,9],[95,15,95,16],[95,17,95,18],[91,3,91,9],[91,10,91,16],[91,17,91,23],[100,2,100,4],[100,5,100,7],[100,8,100,10],[100,11,100,12],[73,2,73,3],[63,2,64,7],[63,12,63,16],[65,2,65,3],[65,5,65,6],[66,2,66,3],[37,19,37,22],[37,23,37,26],[45,19,45,21],[45,23,45,25],[46,19,46,24],[51,19,51,20],[61,19,61,20],[63,19,63,20],[46,12,46,13],[60,11,60,12],[37,2,37,7],[37,10,37,16],[49,2,49,3],[50,7,52,7],[54,3,55,6],[54,7,55,10],[54,11,55,15],[67,2,67,3],[49,25,51,26],[65,24,65,25],[61,21,61,23],[63,24,63,25],[63,26,63,28],[37,30,37,35],[37,37,37,39],[64,19,64,23],[62,19,62,20],[59,19,59,20],[59,21,59,23],[59,24,59,25],[59,26,59,28],[43,37,43,38],[44,31,44,32],[72,36,72,38],[49,36,49,38],[2,44,2,49],[14,28,14,30],[29,11,29,14],[30,11,30,13],[31,11,31,12],[32,11,32,12],[17,13,18,13],[19,13,20,13],[17,14,18,14],[19,14,20,14],[2,17,2,23],[6,10,6,11],[7,10,7,11],[8,10,8,11],[15,4,15,14],[16,10,16,12],[17,12,18,12],[19,12,20,12],[29,16,29,23],[2,3,2,9],[2,10,2,16],[8,3,8,4],[2,32,2,37],[7,19,7,20],[8,19,8,20],[15,16,15,25],[6,12,6,13],[7,12,7,13],[8,12,8,13],[6,17,6,18],[7,17,7,18],[8,17,8,18],[6,19,6,20],[22,12,22,17],[6,3,6,4],[7,3,7,4],[22,8,23,8],[22,9,22,11],[13,5,13,6],[13,8,13,9],[15,2,16,3],[19,2,19,3],[20,2,20,3],[17,2,17,3],[18,2,18,3],[22,3,22,6],[8,5,8,6],[7,5,7,6],[6,5,6,6],[27,2,27,6],[22,2,23,2],[26,2,26,6],[33,2,33,3],[34,2,34,3],[29,7,29,10],[30,7,30,9],[31,7,31,8],[32,7,32,8],[33,7,33,8],[34,7,34,8],[29,2,29,5],[30,2,30,3],[30,4,30,5],[31,2,31,3],[32,2,32,3],[34,11,34,12],[33,11,33,12],[56,11,56,12],[57,11,57,12],[58,11,58,12],[59,11,59,12],[66,5,66,6],[65,12,65,13],[66,12,66,13],[123,11,123,12],[115,5,116,7],[115,8,115,9],[117,8,117,9],[119,8,119,9],[77,25,77,26],[77,27,77,28],[63,21,63,23],[60,19,60,20],[64,24,64,25],[62,24,62,25],[61,26,61,28],[62,21,62,23],[62,26,62,28],[60,24,60,25],[67,5,67,6],[95,19,95,20],[119,21,120,21],[112,15,113,16],[122,8,122,9],[121,8,121,9],[117,22,118,22],[117,21,118,21],[119,22,120,22]]}
["riOHlhkg"]
[]
[null,null,null,"Всего",null,null,null,null,null,null,"Дома",null,null,null,null,null,null,"На выезде",null,null,null,null,null,null,null,null,null,null,"Пуассон",null,null,null,"Дома",null,null,null,null,null,"Гости",null,null,null,null,null,"Ничья",null,null,null,null,null,null,"Пуассон",null,null,null,"Дома",null,null,null,null,null,"Гости",null,null,null,null,null,"Ничья"]
[null,null,null,"Игр","В","Н","П","Забито","Проп","Очки","Игр","В","Н","П","Забито","Проп","Очки","Игр","В","Н","П","Забито","Проп","Очки",null,null,null,null,{"$f":"D12","v":1.2},"HG","AG",{"$f":"D13","v":1.2750000000000001},"Г1","Г2","Д","Г","%","КФ","К1","К2","Д","Г","%","КФ","К1","К2","Д","Гости","%","КФ",null,{"$f":"U112","v":0.71428571428571419},"HG","AG",{"$f":"U114","v":1.7857142857142858},"Г1","Г2","Д","Г","%","КФ","К1","К2","Д","Г","%","КФ","К1","К2","Д","Гости","%","КФ"]
[null,null,"Хозяева",{"$f":"Дома!O11","v":10},{"$f":"Дома!P11","v":3},{"$f":"Дома!Q11","v":4},{"$f":"Дома!R11","v":3},{"$f":"Дома!S11","v":10},{"$f":"Дома!T11","v":13},{"$f":"Дома!U11","v":13},{"$f":"Дома!V11","v":4},{"$f":"Дома!W11","v":2},{"$f":"Дома!X11","v":1},{"$f":"Дома!Y11","v":1},{"$f":"Дома!Z11","v":5},{"$f":"Дома!AA11","v":5},{"$f":"Дома!AB11","v":7},{"$f":"Дома!AC11","v":6},{"$f":"Дома!AD11","v":1},{"$f":"Дома!AE11","v":3},{"$f":"Дома!AF11","v":2},{"$f":"Дома!AG11","v":5},{"$f":"Дома!AH11","v":8},{"$f":"Дома!AI11","v":6},null,null,null,null,0,{"$f":"POISSON(AC5,AC4,FALSE)*100","v":30.119421191220212},{"$f":"POISSON(AC5,AF4,FALSE)*100","v":27.943096822140728},0,7,0,{"$f":"VLOOKUP(AG5,AC5:AE12,2)","v":2.1413359468153433E-2},{"$f":"VLOOKUP(AH5,AC5:AE12,3)","v":27.943096822140728},{"$f":"(AI5*AJ5)/100","v":5.9835557690591521E-3},{"$f":"100/AK5","v":16712.470621080865},0,7,{"$f":"VLOOKUP(AM5,AC5:AE12,2)","v":30.119421191220212},{"$f":"VLOOKUP(AN5,AC5:AE12,3)","v":3.0367937191449645E-2},{"$f":"(AO5*AP5)/100","v":9.1466469097779297E-3},{"$f":"100/AQ5","v":10932.96822173142},0,0,{"$f":"VLOOKUP(AS5,AC5:AE12,2)","v":30.119421191220212},{"$f":"VLOOKUP(AT5,AC5:AE12,3)","v":27.943096822140728},{"$f":"(AU5*AV5)/100","v":8.4162990257310355},{"$f":"100/AW5","v":11.881707113099401},null,0,{"$f":"POISSON(AZ5,AZ4,FALSE)*100","v":48.954165955695316},{"$f":"POISSON(AZ5,BC4,FALSE)*100","v":16.767724875179706},0,7,0,{"$f":"VLOOKUP(BD5,AZ5:BB12,2)","v":9.2143110675958241E-4},{"$f":"VLOOKUP(BE5,AZ5:BB12,3)","v":16.767724875179706},{"$f":"(BF5*BG5)/100","v":1.5450303289577018E-4},{"$f":"100/BH5","v":647236.4854317219},0,7,{"$f":"VLOOKUP(BJ5,AZ5:BB12,2)","v":48.954165955695316},{"$f":"VLOOKUP(BK5,AZ5:BB12,3)","v":0.19263154768945939},{"$f":"(BL5*BM5)/100","v":9.4301167538922315E-2},{"$f":"100/BN5","v":1060.4322577313321},0,0,{"$f":"VLOOKUP(BP5,AZ5:BB12,2)","v":48.954165955695316},{"$f":"VLOOKUP(BQ5,AZ5:BB12,3)","v":16.767724875179706},{"$f":"(BR5*BS5)/100","v":8.2084998623898784},{"$f":"100/BT5","v":12.182493960703475}]
[null,null,"Гости",{"$f":"Гости!O11","v":10},{"$f":"Гости!P11","v":4},{"$f":"Гости!Q11","v":4},{"$f":"Гости!R11","v":2},{"$f":"Гости!S11","v":11},{"$f":"Гости!T11","v":10},{"$f":"Гости!U11","v":16},{"$f":"Гости!V11","v":6},{"$f":"Гости!W11","v":3},{"$f":"Гости!X11","v":2},{"$f":"Гости!Y11","v":1},{"$f":"Гости!Z11","v":6},{"$f":"Гости!AA11","v":4},{"$f":"Гости!AB11","v":11},{"$f":"Гости!AC11","v":4},{"$f":"Гости!AD11","v":1},{"$f":"Гости!AE11","v":2},{"$f":"Гости!AF11","v":1},{"$f":"Гости!AG11","v":5},{"$f":"Гости!AH11","v":6},{"$f":"Гости!AI11","v":5},null,null,null,null,1,{"$f":"POISSON(AC6,AC4,FALSE)*100","v":36.143305429464249},{"$f":"POISSON(AC6,AF4,FALSE)*100","v":35.62744844822943},1,7,1,{"$f":"VLOOKUP(AG6,AC5:AE12,2)","v":2.1413359468153433E-2},{"$f":"VLOOKUP(AH6,AC5:AE12,3)","v":35.62744844822943},7.6290336055504192E-3,13107.820094965384,1,7,{"$f":"VLOOKUP(AM6,AC5:AE12,2)","v":36.143305429464249},{"$f":"VLOOKUP(AN6,AC5:AE12,3)","v":3.0367937191449645E-2},1.0975976291733514E-2,9110.8068514428505,1,1,{"$f":"VLOOKUP(AS6,AC5:AE12,2)","v":36.143305429464249},{"$f":"VLOOKUP(AT6,AC5:AE12,3)","v":35.62744844822943},12.876937509368483,7.7658216425486284,null,1,{"$f":"POISSON(AZ6,AZ4,FALSE)*100","v":34.967261396925217},{"$f":"POISSON(AZ6,BC4,FALSE)*100","v":29.942365848535189},1,7,1,{"$f":"VLOOKUP(BD6,AZ5:BB12,2)","v":9.2143110675958241E-4},{"$f":"VLOOKUP(BE6,AZ5:BB12,3)","v":29.942365848535189},2.7589827302816101E-4,362452.43184176425,1,7,{"$f":"VLOOKUP(BJ6,AZ5:BB12,2)","v":34.967261396925217},{"$f":"VLOOKUP(BK6,AZ5:BB12,3)","v":0.19263154768945939},6.7357976813515921E-2,1484.6051608238654,1,1,{"$f":"VLOOKUP(BP6,AZ5:BB12,2)","v":34.967261396925217},{"$f":"VLOOKUP(BQ6,AZ5:BB12,3)","v":29.942365848535189},10.470025334680965,9.5510752651915265]
[null,null,null,"Забивают",null,"Пропускают",null,"В/Н/П","З/П",null,"Забивают",null,"Пропускают",null,"В/Н/П","З/П",null,"Забивают",null,"Пропускают",null,"В/Н/П","З/П",null,null,null,null,null,2,{"$f":"POISSON(AC7,AC4,FALSE)*100","v":21.685983257678554},{"$f":"POISSON(AC7,AF4,FALSE)*100","v":22.712498385746272},2,7,2,{"$f":"VLOOKUP(AG7,AC5:AE12,2)","v":2.1413359468153433E-2},{"$f":"VLOOKUP(AH7,AC5:AE12,3)","v":22.712498385746272},4.863508923538395E-3,20561.2864234751,2,7,{"$f":"VLOOKUP(AM7,AC5:AE12,2)","v":21.685983257678554},{"$f":"VLOOKUP(AN7,AC5:AE12,3)","v":3.0367937191449645E-2},6.5855857750401091E-3,15184.678085738084,2,2,{"$f":"VLOOKUP(AS7,AC5:AE12,2)","v":21.685983257678554},{"$f":"VLOOKUP(AT7,AC5:AE12,3)","v":22.712498385746272},4.9254285973334486,20.302801679865681,null,2,{"$f":"POISSON(AZ7,AZ4,FALSE)*100","v":12.488307641759006},{"$f":"POISSON(AZ7,BC4,FALSE)*100","v":26.734255221906427},2,7,2,{"$f":"VLOOKUP(BD7,AZ5:BB12,2)","v":9.2143110675958241E-4},{"$f":"VLOOKUP(BE7,AZ5:BB12,3)","v":26.734255221906427},2.4633774377514386E-4,405946.72366277582,2,7,{"$f":"VLOOKUP(BJ7,AZ5:BB12,2)","v":12.488307641759006},{"$f":"VLOOKUP(BK7,AZ5:BB12,3)","v":0.19263154768945939},2.4056420290541402E-2,4156.8944503068233,2,2,{"$f":"VLOOKUP(BP7,AZ5:BB12,2)","v":12.488307641759006},{"$f":"VLOOKUP(BQ7,AZ5:BB12,3)","v":26.734255221906427},3.3386560378446961,29.952172031640622]
[null,null,"Хозяева",{"$f":"H5/D5","v":1},null,{"$f":"I5/D5","v":1.3},null,{"$f":"CONCATENATE(E5,\"/\",F5,\"/\",G5)","v":"3/4/3"},{"$f":"CONCATENATE(H5,\"/\",I5)","v":"10/13"},null,{"$f":"O5/K5","v":1.25},null,{"$f":"P5/K5","v":1.25},null,{"$f":"CONCATENATE(L5,\"/\",M5,\"/\",N5)","v":"2/1/1"},{"$f":"CONCATENATE(O5,\"/\",P5)","v":"5/5"},null,{"$f":"V5/R5","v":0.83333333333333337},null,{"$f":"W5/R5","v":1.3333333333333333},null,{"$f":"CONCATENATE(S5,\"/\",T5,\"/\",U5)","v":"1/3/2"},{"$f":"CONCATENATE(V5,\"/\",W5)","v":"5/8"},null,null,null,null,null,3,{"$f":"POISSON(AC8,AC4,FALSE)*100","v":8.6743933030714206},{"$f":"POISSON(AC8,AF4,FALSE)*100","v":9.6528118139421668},3,7,3,{"$f":"VLOOKUP(AG8,AC5:AE12,2)","v":2.1413359468153433E-2},{"$f":"VLOOKUP(AH8,AC5:AE12,3)","v":9.6528118139421668},2.0669912925038183E-3,48379.497467000227,3,7,{"$f":"VLOOKUP(AM8,AC5:AE12,2)","v":8.6743933030714206},{"$f":"VLOOKUP(AN8,AC5:AE12,3)","v":3.0367937191449645E-2},2.6342343100160433E-3,37961.695214345214,3,3,{"$f":"VLOOKUP(AS8,AC5:AE12,2)","v":8.6743933030714206},{"$f":"VLOOKUP(AT8,AC5:AE12,3)","v":9.6528118139421668},0.83732286154668634,119.42824517568046,null,3,{"$f":"POISSON(AZ8,AZ4,FALSE)*100","v":2.9734065813711914},{"$f":"POISSON(AZ8,BC4,FALSE)*100","v":15.913247155896681},3,7,3,{"$f":"VLOOKUP(BD8,AZ5:BB12,2)","v":9.2143110675958241E-4},{"$f":"VLOOKUP(BE8,AZ5:BB12,3)","v":15.913247155896681},1.4662960938996656E-4,681990.49575346347,3,7,{"$f":"VLOOKUP(BJ8,AZ5:BB12,2)","v":2.9734065813711914},{"$f":"VLOOKUP(BK8,AZ5:BB12,3)","v":0.19263154768945939},5.7277191167955707E-3,17458.956691288658,3,3,{"$f":"VLOOKUP(BP8,AZ5:BB12,2)","v":2.9734065813711914},{"$f":"VLOOKUP(BQ8,AZ5:BB12,3)","v":15.913247155896681},0.47316553824329582,211.34252585525627]
[null,null,"Гости",{"$f":"H6/D6","v":1.1000000000000001},null,{"$f":"I6/D6","v":1},null,{"$f":"CONCATENATE(E6,\"/\",F6,\"/\",G6)","v":"4/4/2"},{"$f":"CONCATENATE(H6,\"/\",I6)","v":"11/10"},null,{"$f":"O6/K6","v":1},null,{"$f":"P6/K6","v":0.66666666666666663},null,{"$f":"CONCATENATE(L6,\"/\",M6,\"/\",N6)","v":"3/2/1"},{"$f":"CONCATENATE(O6,\"/\",P6)","v":"6/4"},null,{"$f":"V6/R6","v":1.25},null,{"$f":"W6/R6","v":1.5},null,{"$f":"CONCATENATE(S6,\"/\",T6,\"/\",U6)","v":"1/2/1"},{"$f":"CONCATENATE(V6,\"/\",W6)","v":"5/6"},null,null,null,null,null,4,{"$f":"POISSON(AC9,AC4,FALSE)*100","v":2.6023179909214251},{"$f":"POISSON(AC9,AF4,FALSE)*100","v":3.0768337656940643},4,7,4,{"$f":"VLOOKUP(AG9,AC5:AE12,2)","v":2.1413359468153433E-2},{"$f":"VLOOKUP(AH9,AC5:AE12,3)","v":3.0768337656940643},6.588534744855917E-4,151778.81558274588,4,7,{"$f":"VLOOKUP(AM9,AC5:AE12,2)","v":2.6023179909214251},{"$f":"VLOOKUP(AN9,AC5:AE12,3)","v":3.0367937191449645E-2},7.9027029300481261E-4,126538.98404781744,4,4,{"$f":"VLOOKUP(AS9,AC5:AE12,2)","v":2.6023179909214251},{"$f":"VLOOKUP(AT9,AC5:AE12,3)","v":3.0768337656940643},8.0068998635401803E-2,1248.9228253665942,null,4,{"$f":"POISSON(AZ9,AZ4,FALSE)*100","v":0.53096546095914121},{"$f":"POISSON(AZ9,BC4,FALSE)*100","v":7.1041281945967372},4,7,4,{"$f":"VLOOKUP(BD9,AZ5:BB12,2)","v":9.2143110675958241E-4},{"$f":"VLOOKUP(BE9,AZ5:BB12,3)","v":7.1041281945967372},6.5459647049092255E-5,1527658.7104877573,4,7,{"$f":"VLOOKUP(BJ9,AZ5:BB12,2)","v":0.53096546095914121},{"$f":"VLOOKUP(BK9,AZ5:BB12,3)","v":0.19263154768945939},1.022806985142066E-3,97770.157471216502,4,4,{"$f":"VLOOKUP(BP9,AZ5:BB12,2)","v":0.53096546095914121},{"$f":"VLOOKUP(BQ9,AZ5:BB12,3)","v":7.1041281945967372},3.772046701556888E-2,2651.0806443283336]
[null,null,null,null,null,null,null,null,null,null,null,null,null,null,null,null,null,null,null,null,null,null,null,null,null,null,null,null,5,{"$f":"POISSON(AC10,AC4,FALSE)*100","v":0.62455631782114196},{"$f":"POISSON(AC10,AF4,FALSE)*100","v":0.78459261025198623},5,7,5,{"$f":"VLOOKUP(AG10,AC5:AE12,2)","v":2.1413359468153433E-2},{"$f":"VLOOKUP(AH10,AC5:AE12,3)","v":0.78459261025198623},1.6800763599382585E-4,595211.04150096443,5,7,{"$f":"VLOOKUP(AM10,AC5:AE12,2)","v":0.62455631782114196},{"$f":"VLOOKUP(AN10,AC5:AE12,3)","v":3.0367937191449645E-2},1.8966487032115502E-4,527245.76686590607,5,5,{"$f":"VLOOKUP(AS10,AC5:AE12,2)","v":0.62455631782114196},{"$f":"VLOOKUP(AT10,AC5:AE12,3)","v":0.78459261025198623},4.9002227164865889E-3,20407.235708604487,null,5,{"$f":"POISSON(AZ10,AZ4,FALSE)*100","v":7.5852208708448762E-2},{"$f":"POISSON(AZ10,BC4,FALSE)*100","v":2.5371886409274063},5,7,5,{"$f":"VLOOKUP(BD10,AZ5:BB12,2)","v":9.2143110675958241E-4},{"$f":"VLOOKUP(BE10,AZ5:BB12,3)","v":2.5371886409274063},2.3378445374675808E-5,4277444.3893657196,5,7,{"$f":"VLOOKUP(BJ10,AZ5:BB12,2)","v":7.5852208708448762E-2},{"$f":"VLOOKUP(BK10,AZ5:BB12,3)","v":0.19263154768945939},1.4611528359172375E-4,684391.10229851538,5,5,{"$f":"VLOOKUP(BP10,AZ5:BB12,2)","v":7.5852208708448762E-2},{"$f":"VLOOKUP(BQ10,AZ5:BB12,3)","v":2.5371886409274063},1.9245136232433108E-3,51961.180628835325]
[null,null,{"$f":"AVERAGE(Дома!L2:M11,Гости!L2:M11)","v":1.1000000000000001},"Ср.Тот","Заб","Счет1","Счет2","Счет5","Счет6","Итог","1й Гол","ОЗ","Тотал1","Серия","ТБ2.5","Рейтинг","Мощь","Голы","Счет7",null,null,null,null,null,null,null,null,null,6,{"$f":"POISSON(AC11,AC4,FALSE)*100","v":0.12491126356422851},{"$f":"POISSON(AC11,AF4,FALSE)*100","v":0.16672592967854721},6,7,6,{"$f":"VLOOKUP(AG11,AC5:AE12,2)","v":2.1413359468153433E-2},{"$f":"VLOOKUP(AH11,AC5:AE12,3)","v":0.16672592967854721},3.5701622648688023E-5,2800993.1364751244,6,7,{"$f":"VLOOKUP(AM11,AC5:AE12,2)","v":0.12491126356422851},{"$f":"VLOOKUP(AN11,AC5:AE12,3)","v":3.0367937191449645E-2},3.7932974064231037E-5,2636228.8343295278,6,6,{"$f":"VLOOKUP(AS11,AC5:AE12,2)","v":0.12491126356422851},{"$f":"VLOOKUP(AT11,AC5:AE12,3)","v":0.16672592967854721},2.0825946545068038E-4,480170.25196716358,null,6,{"$f":"POISSON(AZ11,AZ4,FALSE)*100","v":9.030024846243892E-3},{"$f":"POISSON(AZ11,BC4,FALSE)*100","v":0.7551156669426804},6,7,6,{"$f":"VLOOKUP(BD11,AZ5:BB12,2)","v":9.2143110675958241E-4},{"$f":"VLOOKUP(BE11,AZ5:BB12,3)","v":0.7551156669426804},6.9578706472249421E-6,14372213.148268821,6,7,{"$f":"VLOOKUP(BJ11,AZ5:BB12,2)","v":9.030024846243892E-3},{"$f":"VLOOKUP(BK11,AZ5:BB12,3)","v":0.19263154768945939},1.7394676618062336E-5,5748885.2593075344,6,6,{"$f":"VLOOKUP(BP11,AZ5:BB12,2)","v":9.030024846243892E-3},{"$f":"VLOOKUP(BQ11,AZ5:BB12,3)","v":0.7551156669426804},6.8187132342804321E-5,1466552.3620682494]
[null,null,"Хозяева",{"$f":"AVERAGE(K8,D8)+AVERAGE(T9,F9)-AVERAGE(1.25,C11)","v":1.2},{"$f":"AVERAGE(K8,D8)","v":1.125},{"$f":"ROUND(AVERAGE(D12,E12),0)","v":1},{"$f":"ROUND(D12,0)","v":1},{"$f":"ROUND(SUM(Дома!L2:L8)/7,0)","v":1},{"$f":"ROUND(SUM(Дома!L2:L8)/7,0)","v":1},{"$f":"Дома!S11/Дома!T11","v":0.76923076923076927},{"$f":"IF(J12>J13,\"К1\",\"К2\")","v":"К2"},{"$f":"IF(M18>0.6,\"1\",\"0\")","v":"1"},{"$f":"((100/3.5)*D14)/100","v":0.70714285714285718},{"$f":"CONCATENATE(Дома!N2,Дома!N3,Дома!N4,Дома!N5,Дома!N6)","v":"НВНВП"},{"$f":"CONCATENATE(Q21,R21,S21,T21,U21)","v":"-+--+"},{"$f":"(Q5/K5+X5/R5*1.1+K8-M8*1.1+R8*1.1-T8)/12.6","v":0.18320105820105823},{"$f":"(K8-M8+D8-F8)/2","v":-0.15000000000000002},{"$f":"IF(E12>0.6,\"Да\",\"Нет\")","v":"Да"},{"$f":"AC13-1","v":1},null,null,null,null,null,null,null,null,null,7,{"$f":"POISSON(AC12,AC4,FALSE)*100","v":2.1413359468153433E-2},{"$f":"POISSON(AC12,AF4,FALSE)*100","v":3.0367937191449645E-2},7,6,0,{"$f":"VLOOKUP(AG12,AC5:AE12,2)","v":0.12491126356422851},{"$f":"VLOOKUP(AH12,AC5:AE12,3)","v":27.943096822140728},3.4904075319511764E-2,2864.994963613859,0,6,{"$f":"VLOOKUP(AM12,AC5:AE12,2)","v":30.119421191220212},{"$f":"VLOOKUP(AN12,AC5:AE12,3)","v":0.16672592967854721},5.0216884994859254E-2,1991.3620689582217,7,7,{"$f":"VLOOKUP(AS12,AC5:AE12,2)","v":2.1413359468153433E-2},{"$f":"VLOOKUP(AT12,AC5:AE12,3)","v":3.0367937191449645E-2},{"$f":"(AU12*AV12)/100","v":6.5027955538681707E-6},{"$f":"100/AW12","v":15378001.533588929},null,7,{"$f":"POISSON(AZ12,AZ4,FALSE)*100","v":9.2143110675958241E-4},{"$f":"POISSON(AZ12,BC4,FALSE)*100","v":0.19263154768945939},7,6,0,{"$f":"VLOOKUP(BD12,AZ5:BB12,2)","v":9.030024846243892E-3},{"$f":"VLOOKUP(BE12,AZ5:BB12,3)","v":16.767724875179706},1.5141297223785451E-3,66044.539329767649,0,6,{"$f":"VLOOKUP(BJ12,AZ5:BB12,2)","v":48.954165955695316},{"$f":"VLOOKUP(BK12,AZ5:BB12,3)","v":0.7551156669426804},0.3696605767525753,270.5184330947277,7,7,{"$f":"VLOOKUP(BP12,AZ5:BB12,2)","v":9.2143110675958241E-4},{"$f":"VLOOKUP(BQ12,AZ5:BB12,3)","v":0.19263154768945939},1.7749670018430987E-6,56339075.541213736]
[null,null,"Гости",{"$f":"AVERAGE(R9,D9)+AVERAGE(M8,F8)-AVERAGE(1.25,C11)","v":1.2750000000000001},{"$f":"AVERAGE(R9,D9)","v":1.175},{"$f":"ROUND(AVERAGE(D13,E13),0)","v":1},{"$f":"ROUND(D13,0)","v":1},{"$f":"ROUND(SUM(Гости!L2:L8)/7-1,0)","v":0},{"$f":"ROUND(SUM(Гости!L2:L8)/7,0)","v":1},{"$f":"Гости!S11/Гости!T11","v":1.1000000000000001},{"$f":"IF(M18>M20,\"К1\",\"К2\")","v":"К2"},{"$f":"IF(ROUND((V6/R6+P5/K5)/2,0)+M20>0.6,\"1\",\"0\")","v":"1"},{"$f":"IF(D14>2.85,IF(F12+F13>2,\"ТБ 2\",\"Нет\"),IF(D14<2.2,IF(F12+F13<3,\"ТМ 3\",\"Нет\"),\"Нет\"))","v":"Нет"},{"$f":"CONCATENATE(Гости!N2,Гости!N3,Гости!N4,Гости!N5,Гости!N6)","v":"ПВНПВ"},{"$f":"CONCATENATE(V21,W21,X21,Y21,Z21)","v":"++-+-"},{"$f":"(Q6/K6+X6/R6*1.1+K9-M9*1.1+R9*1.1-T9)/12.6","v":0.26587301587301587},{"$f":"(R9-T9+D8-F8)/2","v":-0.27500000000000002},{"$f":"IF(E13>0.6,\"Да\",\"Нет\")","v":"Да"},{"$f":"AF13-1","v":1},null,null,null,null,null,null,null,null,null,{"$f":"MATCH(AD13,AD5:AD12,0)","v":2},{"$f":"MAX(AD5:AD12)","v":36.143305429464249},{"$f":"MAX(AE5:AE12)","v":35.62744844822943},{"$f":"MATCH(AE13,AE5:AE12,0)","v":2},6,1,{"$f":"VLOOKUP(AG13,AC5:AE12,2)","v":0.12491126356422851},{"$f":"VLOOKUP(AH13,AC5:AE12,3)","v":35.62744844822943},4.4502696032377498E-2,2247.0548734226345,1,6,{"$f":"VLOOKUP(AM13,AC5:AE12,2)","v":36.143305429464249},{"$f":"VLOOKUP(AN13,AC5:AE12,3)","v":0.16672592967854721},6.0260261993831096E-2,1659.4683907985184,null,null,null,null,null,null,null,{"$f":"MATCH(BA13,BA5:BA12,0)","v":1},{"$f":"MAX(BA5:BA12)","v":48.954165955695316},{"$f":"MAX(BB5:BB12)","v":29.942365848535189},{"$f":"MATCH(BB13,BB5:BB12,0)","v":2},6,1,{"$f":"VLOOKUP(BD13,AZ5:BB12,2)","v":9.030024846243892E-3},{"$f":"VLOOKUP(BE13,AZ5:BB12,3)","v":29.942365848535189},2.7038030756759736E-3,36984.942024669886,1,6,{"$f":"VLOOKUP(BJ13,AZ5:BB12,2)","v":34.967261396925217},{"$f":"VLOOKUP(BK13,AZ5:BB12,3)","v":0.7551156669426804},0.26404326910898229,378.7258063326189]
[null,null,null,{"$f":"D12+D13","v":2.4750000000000001},{"$f":"MATCH(F14,Таблица!B2:B100,0)","v":6},{"$f":"Очные!A1","v":"Everton"},null,{"$f":"COUNT(Таблица!A2:A100)","v":17},{"$f":"Очные!B1","v":"Colo Colo"},null,{"$f":"MATCH(I14,Таблица!B2:B100,0)","v":9},{"$f":"IF(L12+L13=2,\"Да\",\"Нет\")","v":"Да"},null,null,null,{"$f":"(COUNTIF(Гости!AJ2:AJ11,\">2,5\")+COUNTIF(Дома!AJ2:AJ11,\">2,5\"))/COUNT(Дома!AJ2:AJ11,Гости!AJ2:AJ11)","v":0},null,null,null,null,null,null,null,null,null,null,null,null,null,null,null,null,6,2,{"$f":"VLOOKUP(AG14,AC5:AE12,2)","v":0.12491126356422851},{"$f":"VLOOKUP(AH14,AC5:AE12,3)","v":22.712498385746272},2.8370468720640672E-2,3524.7919583100129,2,6,{"$f":"VLOOKUP(AM14,AC5:AE12,2)","v":21.685983257678554},{"$f":"VLOOKUP(AN14,AC5:AE12,3)","v":0.16672592967854721},3.6156157196298666E-2,2765.7806513308633,null,null,null,null,null,null,null,null,null,null,null,6,2,{"$f":"VLOOKUP(BD14,AZ5:BB12,2)","v":9.030024846243892E-3},{"$f":"VLOOKUP(BE14,AZ5:BB12,3)","v":26.734255221906427},2.4141098889964054E-3,41423.135067630261,2,6,{"$f":"VLOOKUP(BJ14,AZ5:BB12,2)","v":12.488307641759006},{"$f":"VLOOKUP(BK14,AZ5:BB12,3)","v":0.7551156669426804},9.4301167538922231E-2,1060.432257731333]
[null,null,null,null,null,null,null,null,null,null,null,null,null,null,null,null,null,null,null,null,null,null,null,null,null,null,null,null,"Пуассон",null,null,null,6,3,{"$f":"VLOOKUP(AG15,AC5:AE12,2)","v":0.12491126356422851},{"$f":"VLOOKUP(AH15,AC5:AE12,3)","v":9.6528118139421668},1.2057449206272285E-2,8293.6281372000303,3,6,{"$f":"VLOOKUP(AM15,AC5:AE12,2)","v":8.6743933030714206},{"$f":"VLOOKUP(AN15,AC5:AE12,3)","v":0.16672592967854721},1.4462462878519466E-2,6914.4516283271578,null,null,null,null,null,null,null,"Пуассон",null,null,null,6,3,{"$f":"VLOOKUP(BD15,AZ5:BB12,2)","v":9.030024846243892E-3},{"$f":"VLOOKUP(BE15,AZ5:BB12,3)","v":15.913247155896681},1.4369701720216698E-3,69590.86691361884,3,6,{"$f":"VLOOKUP(BJ15,AZ5:BB12,2)","v":2.9734065813711914},{"$f":"VLOOKUP(BK15,AZ5:BB12,3)","v":0.7551156669426804},2.2452658937838623E-2,4453.8154824715994]
[null,null,null,null,"Миллер",null,null,null,null,null,null,null,null,null,null,null,"EW-легкая победа, W-победа простая, D-ничья, L-проигрыш, HL-позорный проигрыш",null,null,null,null,null,null,null,null,null,null,null,"ИД","%","КФ",null,6,4,{"$f":"VLOOKUP(AG16,AC5:AE12,2)","v":0.12491126356422851},{"$f":"VLOOKUP(AH16,AC5:AE12,3)","v":3.0768337656940643},3.8433119344992894E-3,26019.225528470695,4,6,{"$f":"VLOOKUP(AM16,AC5:AE12,2)","v":2.6023179909214251},{"$f":"VLOOKUP(AN16,AC5:AE12,3)","v":0.16672592967854721},4.3387388635558379E-3,23048.17209442387,null,null,null,null,null,null,null,"ИД","%","КФ",null,6,4,{"$f":"VLOOKUP(BD16,AZ5:BB12,2)","v":9.030024846243892E-3},{"$f":"VLOOKUP(BE16,AZ5:BB12,3)","v":7.1041281945967372},6.4150454108110298E-4,155883.54188650611,4,6,{"$f":"VLOOKUP(BJ16,AZ5:BB12,2)","v":0.53096546095914121},{"$f":"VLOOKUP(BK16,AZ5:BB12,3)","v":0.7551156669426804},4.009403381756896E-3,24941.366701840965]
[null,null,null,null,1,2,3,4,"Max","Min","Расчет",null,null,"Счет3","Счет4",null,1,2,3,4,5,1,2,3,4,5,null,null,1,{"$f":"SUM(AK5:AK32)","v":34.630996926405629},{"$f":"100/AD17","v":2.8875865229207842},null,6,5,{"$f":"VLOOKUP(AG17,AC5:AE12,2)","v":0.12491126356422851},{"$f":"VLOOKUP(AH17,AC5:AE12,3)","v":0.78459261025198623},9.8004454329731882E-4,102036.17854302232,5,6,{"$f":"VLOOKUP(AM17,AC5:AE12,2)","v":0.62455631782114196},{"$f":"VLOOKUP(AN17,AC5:AE12,3)","v":0.16672592967854721},1.0412973272534009E-3,96034.050393432815,null,null,null,null,null,null,null,1,{"$f":"SUM(BH5:BH32)","v":14.437798125797467},{"$f":"100/BA17","v":6.9262639031723214},null,6,5,{"$f":"VLOOKUP(BD17,AZ5:BB12,2)","v":9.030024846243892E-3},{"$f":"VLOOKUP(BE17,AZ5:BB12,3)","v":2.5371886409274063},2.291087646718225E-4,436473.91728221712,5,6,{"$f":"VLOOKUP(BJ17,AZ5:BB12,2)","v":7.5852208708448762E-2},{"$f":"VLOOKUP(BK17,AZ5:BB12,3)","v":0.7551156669426804},5.7277191167955674E-4,174589.56691288669]
[null,null,"Сила Атаки1",null,{"$f":"Дома!L2","v":1},{"$f":"Дома!L3","v":2},{"$f":"Дома!L4","v":1},{"$f":"Дома!L5","v":1},{"$f":"MAX(E18:H18)","v":2},{"$f":"MIN(E18:H18)","v":1},{"$f":"E18+F18+G18+H18-I18-J18","v":2},{"$f":"K18/2","v":1},{"$f":"L18+L21-1.5","v":1},{"$f":"ROUNDDOWN(M18,0)","v":1},{"$f":"ROUNDUP(M18,0)","v":1},null,{"$f":"IF(Дома!N2=\"В\",IF(Дома!L2-Дома!M2>1,\"EW\",\"W\"),\"\")","v":""},{"$f":"IF(Дома!N3=\"В\",IF(Дома!L3-Дома!M3>1,\"EW\",\"W\"),\"\")","v":"W"},{"$f":"IF(Дома!N4=\"В\",IF(Дома!L4-Дома!M4>1,\"EW\",\"W\"),\"\")","v":""},{"$f":"IF(Дома!N5=\"В\",IF(Дома!L5-Дома!M5>1,\"EW\",\"W\"),\"\")","v":"W"},{"$f":"IF(Дома!N6=\"В\",IF(Дома!L6-Дома!M6>1,\"EW\",\"W\"),\"\")","v":""},{"$f":"IF(Гости!N2=\"В\",IF(Гости!L2-Гости!M2>1,\"EW\",\"W\"),\"\")","v":""},{"$f":"IF(Гости!N3=\"В\",IF(Гости!L3-Гости!M3>1,\"EW\",\"W\"),\"\")","v":"W"},{"$f":"IF(Гости!N4=\"В\",IF(Гости!L4-Гости!M4>1,\"EW\",\"W\"),\"\")","v":""},{"$f":"IF(Гости!N5=\"В\",IF(Гости!L5-Гости!M5>1,\"EW\",\"W\"),\"\")","v":""},{"$f":"IF(Гости!N6=\"В\",IF(Гости!L6-Гости!M6>1,\"EW\",\"W\"),\"\")","v":"W"},null,null,"Х",{"$f":"SUM(AW5:AW12)","v":27.141171977592546},3.6844392748610453,null,5,0,{"$f":"VLOOKUP(AG18,AC5:AE12,2)","v":0.62455631782114196},{"$f":"VLOOKUP(AH18,AC5:AE12,3)","v":27.943096822140728},0.17452037659755867,572.9989927227723,0,5,{"$f":"VLOOKUP(AM18,AC5:AE12,2)","v":30.119421191220212},{"$f":"VLOOKUP(AN18,AC5:AE12,3)","v":0.78459261025198623},0.23631475291698453,423.16443965362242,null,null,null,null,null,null,null,"Х",{"$f":"SUM(BT5:BT12)","v":22.530061715896995},4.4385142509148547,null,5,0,{"$f":"VLOOKUP(BD18,AZ5:BB12,2)","v":7.5852208708448762E-2},{"$f":"VLOOKUP(BE18,AZ5:BB12,3)","v":16.767724875179706},1.271868966797979E-2,7862.4451583056662,0,5,{"$f":"VLOOKUP(BJ18,AZ5:BB12,2)","v":48.954165955695316},{"$f":"VLOOKUP(BK18,AZ5:BB12,3)","v":2.5371886409274063},1.242059537888653,80.511438421049917]
[null,null,"Сила Обороны1",null,{"$f":"Дома!M2","v":1},{"$f":"Дома!M3","v":1},{"$f":"Дома!M4","v":1},{"$f":"Дома!M5","v":0},{"$f":"MAX(E19:H19)","v":1},{"$f":"MIN(E19:H19)","v":0},{"$f":"E19+F19+G19+H19-I19-J19","v":2},{"$f":"K19/2","v":1},null,null,null,null,{"$f":"IF(Дома!N2=\"П\",IF(Дома!L2-Дома!M2<1,\"HL\",\"L\"),\"D\")","v":"D"},{"$f":"IF(Дома!N3=\"П\",IF(Дома!L3-Дома!M3<1,\"HL\",\"L\"),\"D\")","v":"D"},{"$f":"IF(Дома!N4=\"П\",IF(Дома!L4-Дома!M4<1,\"HL\",\"L\"),\"D\")","v":"D"},{"$f":"IF(Дома!N5=\"П\",IF(Дома!L5-Дома!M5<1,\"HL\",\"L\"),\"D\")","v":"D"},{"$f":"IF(Дома!N6=\"П\",IF(Дома!L6-Дома!M6<1,\"HL\",\"L\"),\"D\")","v":"HL"},{"$f":"IF(Гости!N2=\"П\",IF(Гости!L2-Гости!M2<1,\"HL\",\"L\"),\"D\")","v":"HL"},{"$f":"IF(Гости!N3=\"П\",IF(Гости!L3-Гости!M3<1,\"HL\",\"L\"),\"D\")","v":"D"},{"$f":"IF(Гости!N4=\"П\",IF(Гости!L4-Гости!M4<1,\"HL\",\"L\"),\"D\")","v":"D"},{"$f":"IF(Гости!N5=\"П\",IF(Гости!L5-Гости!M5<1,\"HL\",\"L\"),\"D\")","v":"HL"},{"$f":"IF(Гости!N6=\"П\",IF(Гости!L6-Гости!M6<1,\"HL\",\"L\"),\"D\")","v":"D"},null,null,2,{"$f":"SUM(AQ5:AQ32)","v":38.218509130065613},2.6165332525054548,null,5,1,{"$f":"VLOOKUP(AG19,AC5:AE12,2)","v":0.62455631782114196},{"$f":"VLOOKUP(AH19,AC5:AE12,3)","v":35.62744844822943},0.22251348016188732,449.41097468452728,1,5,{"$f":"VLOOKUP(AM19,AC5:AE12,2)","v":36.143305429464249},{"$f":"VLOOKUP(AN19,AC5:AE12,3)","v":0.78459261025198623},0.28357770350038142,352.63703304468538,null,null,null,null,null,null,null,2,{"$f":"SUM(BN5:BN32)","v":62.978708058985582},1.5878382247273228,null,5,1,{"$f":"VLOOKUP(BD19,AZ5:BB12,2)","v":7.5852208708448762E-2},{"$f":"VLOOKUP(BE19,AZ5:BB12,3)","v":29.942365848535189},2.2711945835678198E-2,4402.969288651173,1,5,{"$f":"VLOOKUP(BJ19,AZ5:BB12,2)","v":34.967261396925217},{"$f":"VLOOKUP(BK19,AZ5:BB12,3)","v":2.5371886409274063},0.88718538420618043,112.71601378946991]
[null,null,"Сила Атаки2",null,{"$f":"Гости!L2","v":1},{"$f":"Гости!L3","v":2},{"$f":"Гости!L4","v":0},{"$f":"Гости!L5","v":2},{"$f":"MAX(E20:H20)","v":2},{"$f":"MIN(E20:H20)","v":0},{"$f":"E20+F20+G20+H20-I20-J20","v":3},{"$f":"K20/2","v":1.5},{"$f":"L20+L19-1.5","v":1},{"$f":"ROUNDDOWN(M20,0)","v":1},{"$f":"ROUNDUP(M20,0)","v":1},null,{"$f":"IF(Q18=\"\",Q19,Q18)","v":"D"},"W","D","W","HL","HL","W","D","HL","W",null,null,"ТБ1.5",{"$f":"100-AD21","v":70.753360885584655},1.4133604220117559,null,5,2,{"$f":"VLOOKUP(AG20,AC5:AE12,2)","v":0.62455631782114196},{"$f":"VLOOKUP(AH20,AC5:AE12,3)","v":22.712498385746272},0.14185234360320323,704.95839166200324,2,5,{"$f":"VLOOKUP(AM20,AC5:AE12,2)","v":21.685983257678554},{"$f":"VLOOKUP(AN20,AC5:AE12,3)","v":0.78459261025198623},0.17014662210022888,587.72838840780889,null,null,null,null,null,null,null,"ТБ1.5",{"$f":"100-BA21","v":71.270250481635429},1.403109983818108,null,5,2,{"$f":"VLOOKUP(BD20,AZ5:BB12,2)","v":7.5852208708448762E-2},{"$f":"VLOOKUP(BE20,AZ5:BB12,3)","v":26.734255221906427},2.0278523067569821E-2,4931.3256032893132,2,5,{"$f":"VLOOKUP(BJ20,AZ5:BB12,2)","v":12.488307641759006},{"$f":"VLOOKUP(BK20,AZ5:BB12,3)","v":2.5371886409274063},0.31685192293077874,315.60483861051574]
[null,null,"Сила Обороны2",null,{"$f":"Гости!M2","v":2},{"$f":"Гости!M3","v":1},{"$f":"Гости!M4","v":0},{"$f":"Гости!M5","v":4},{"$f":"MAX(E21:H21)","v":4},{"$f":"MIN(E21:H21)","v":0},{"$f":"E21+F21+G21+H21-I21-J21","v":3},{"$f":"K21/2","v":1.5},null,null,null,null,{"$f":"IF(Дома!L2+Дома!M2>2,\"+\",\"-\")","v":"-"},{"$f":"IF(Дома!L3+Дома!M3>2,\"+\",\"-\")","v":"+"},{"$f":"IF(Дома!L4+Дома!M4>2,\"+\",\"-\")","v":"-"},{"$f":"IF(Дома!L5+Дома!M5>2,\"+\",\"-\")","v":"-"},{"$f":"IF(Дома!L6+Дома!M6>2,\"+\",\"-\")","v":"+"},{"$f":"IF(Гости!L2+Гости!M2>2,\"+\",\"-\")","v":"+"},{"$f":"IF(Гости!L3+Гости!M3>2,\"+\",\"-\")","v":"+"},{"$f":"IF(Гости!L4+Гости!M4>2,\"+\",\"-\")","v":"-"},{"$f":"IF(Гости!L5+Гости!M5>2,\"+\",\"-\")","v":"+"},{"$f":"IF(Гости!L6+Гости!M6>2,\"+\",\"-\")","v":"-"},null,null,"ТМ1.5",{"$f":"SUM(AK32+AQ32+AW5)","v":29.246639114415345},3.4191962915393961,null,5,3,{"$f":"VLOOKUP(AG21,AC5:AE12,2)","v":0.62455631782114196},{"$f":"VLOOKUP(AH21,AC5:AE12,3)","v":9.6528118139421668},6.0287246031361381E-2,1658.7256274400074,3,5,{"$f":"VLOOKUP(AM21,AC5:AE12,2)","v":8.6743933030714206},{"$f":"VLOOKUP(AN21,AC5:AE12,3)","v":0.78459261025198623},6.8058648840091551E-2,1469.3209710195222,null,null,null,null,null,null,null,"ТМ1.5",{"$f":"SUM(BH32+BN32+BT5)","v":28.729749518364574},3.4807125602009927,null,5,3,{"$f":"VLOOKUP(BD21,AZ5:BB12,2)","v":7.5852208708448762E-2},{"$f":"VLOOKUP(BE21,AZ5:BB12,3)","v":15.913247155896681},1.2070549444982037E-2,8284.6270135260456,3,5,{"$f":"VLOOKUP(BJ21,AZ5:BB12,2)","v":2.9734065813711914},{"$f":"VLOOKUP(BK21,AZ5:BB12,3)","v":2.5371886409274063},7.5440934031137774E-2,1325.5403221641666]
[null,null,null,null,null,null,null,null,null,null,null,null,null,null,null,null,null,null,null,null,null,null,null,null,null,null,null,null,"ТБ2.5",{"$f":"100-AD23","v":44.975815025837811},2.2234171841589032,null,5,4,{"$f":"VLOOKUP(AG22,AC5:AE12,2)","v":0.62455631782114196},{"$f":"VLOOKUP(AH22,AC5:AE12,3)","v":3.0768337656940643},1.9216559672496431E-2,5203.8451056941431,4,5,{"$f":"VLOOKUP(AM22,AC5:AE12,2)","v":2.6023179909214251},{"$f":"VLOOKUP(AN22,AC5:AE12,3)","v":0.78459261025198623},2.0417594652027457E-2,4897.7365700650762,null,null,null,null,null,null,null,"ТБ2.5",{"$f":"100-BA23","v":45.618688411667051},2.192084066459588,null,5,4,{"$f":"VLOOKUP(BD22,AZ5:BB12,2)","v":7.5852208708448762E-2},{"$f":"VLOOKUP(BE22,AZ5:BB12,3)","v":7.1041281945967372},5.3886381450812702E-3,18557.564510298329,4,5,{"$f":"VLOOKUP(BJ22,AZ5:BB12,2)","v":0.53096546095914121},{"$f":"VLOOKUP(BK22,AZ5:BB12,3)","v":2.5371886409274063},1.3471595362703172E-2,7423.0258041193338]
[null,null,null,"Индикатор ТБ2.5",null,null,null,null,null,"Среднее за 5 матчей Д/Г",null,null,"Расчет силы атаки/обороны 10 матчей",null,null,null,null,null,null,1,{"$f":"L5/K5/(L5/K5+M5/K5+S6/R6+T6/R6)","v":0.33333333333333331},{"$f":"E5/D5/(E5/D5+F5/D5+E6/D6+F6/D6)","v":0.19999999999999998},{"$f":"AVERAGE(U23,V23)","v":0.26666666666666666},null,null,null,null,null,"ТМ2.5",{"$f":"SUM(AK32+AK30+AQ30+AQ32+AW5+AW6)","v":55.024184974162189},1.8173826663122259,null,4,0,{"$f":"VLOOKUP(AG23,AC5:AE12,2)","v":2.6023179909214251},{"$f":"VLOOKUP(AH23,AC5:AE12,3)","v":27.943096822140728},0.72716823582316126,137.51975825346531,0,4,{"$f":"VLOOKUP(AM23,AC5:AE12,2)","v":30.119421191220212},{"$f":"VLOOKUP(AN23,AC5:AE12,3)","v":3.0768337656940643},0.9267245212430768,107.9069321116737,null,null,null,null,null,null,null,"ТМ2.5",{"$f":"SUM(BH32+BH30+BN30+BN32+BT5+BT6)","v":54.381311588332949},1.8388670129363736,null,4,0,{"$f":"VLOOKUP(BD23,AZ5:BB12,2)","v":0.53096546095914121},{"$f":"VLOOKUP(BE23,AZ5:BB12,3)","v":16.767724875179706},8.9030827675858501E-2,1123.2064511865242,0,4,{"$f":"VLOOKUP(BJ23,AZ5:BB12,2)","v":48.954165955695316},{"$f":"VLOOKUP(BK23,AZ5:BB12,3)","v":7.1041281945967372},3.4777667060882282,28.754085150374969]
[null,null,null,"Заб","Проп","Набр","Потер",null,null,"Тотал","Заб","Проп","ЗабО","ЗабДГ","ПропО","ПропДГ","Атака","Оборона",null,"X",{"$f":"(M5/K5+T6/R6)/(L5/K5+M5/K5+S6/R6+T6/R6)","v":0.5},{"$f":"(F5/D5+F6/D6)/(E5/D5+F5/D5+E6/D6+F6/D6)","v":0.53333333333333333},{"$f":"AVERAGE(U24,V24)","v":0.51666666666666661},null,null,null,null,null,"ТБ3.5",{"$f":"100-AD25","v":23.70933969154666},4.2177471536946278,null,4,1,{"$f":"VLOOKUP(AG24,AC5:AE12,2)","v":2.6023179909214251},{"$f":"VLOOKUP(AH24,AC5:AE12,3)","v":35.62744844822943},0.92713950067453055,107.85863392428654,1,4,{"$f":"VLOOKUP(AM24,AC5:AE12,2)","v":36.143305429464249},{"$f":"VLOOKUP(AN24,AC5:AE12,3)","v":3.0768337656940643},1.1120694254916921,89.92244342639475,null,null,null,null,null,null,null,"ТБ3.5",{"$f":"100-BA25","v":24.242386686693408},4.1250063903522243,null,4,1,{"$f":"VLOOKUP(BD24,AZ5:BB12,2)","v":0.53096546095914121},{"$f":"VLOOKUP(BE24,AZ5:BB12,3)","v":29.942365848535189},0.15898362084974735,628.99561266445335,1,4,{"$f":"VLOOKUP(BJ24,AZ5:BB12,2)","v":34.967261396925217},{"$f":"VLOOKUP(BK24,AZ5:BB12,3)","v":7.1041281945967372},2.4841190757773051,40.255719210524973]
[null,null,"Хозяева",{"$f":"Дома!Z6*1.5+Дома!AG6*2","v":9},{"$f":"Дома!AA6*1.5+Дома!AH6","v":6.5},{"$f":"D25/5","v":1.8},{"$f":"E25/5","v":1.3},null,"Хозяева",{"$f":"SUM(ДомаДома!L2:M6)/5","v":2.2000000000000002},{"$f":"SUM(ДомаДома!L2:L6)/5","v":1.2},{"$f":"SUM(ДомаДома!M2:M6)/5","v":1},{"$f":"(SUM(Дома!L2:L11)/10)","v":1},{"$f":"(SUM(ДомаДома!L2:L11)/10)","v":1.4},{"$f":"(SUM(Дома!M2:M11)/10)","v":1.3},{"$f":"(SUM(ДомаДома!M2:M11)/10)","v":1},{"$f":"((M25+N25)/2)/((O26+P26)/2)","v":1.0434782608695652},{"$f":"((O25+P25)/2)/((M26+N26)/2)","v":1.0454545454545452},null,2,{"$f":"S6/R6/(L5/K5+M5/K5+S6/R6+T6/R6)","v":0.16666666666666666},{"$f":"E6/D6/(E5/D5+F5/D5+E6/D6+F6/D6)","v":0.26666666666666666},{"$f":"AVERAGE(U25,V25)","v":0.21666666666666667},null,null,null,null,null,"ТМ3.5",{"$f":"SUM(AK32+AK31+AK30+AK27+AQ32+AQ31+AQ30+AQ27+AW5+AW6)","v":76.29066030845334},1.310776438369869,null,4,2,{"$f":"VLOOKUP(AG25,AC5:AE12,2)","v":2.6023179909214251},{"$f":"VLOOKUP(AH25,AC5:AE12,3)","v":22.712498385746272},0.59105143168001351,169.19001399888077,2,4,{"$f":"VLOOKUP(AM25,AC5:AE12,2)","v":21.685983257678554},{"$f":"VLOOKUP(AN25,AC5:AE12,3)","v":3.0768337656940643},0.66724165529501533,149.87073904399125,null,null,null,null,null,null,null,"ТМ3.5",{"$f":"SUM(BH32+BH31+BH30+BH27+BN32+BN31+BN30+BN27+BT5+BT6)","v":75.757613313306592},1.3199993456292702,null,4,2,{"$f":"VLOOKUP(BD25,AZ5:BB12,2)","v":0.53096546095914121},{"$f":"VLOOKUP(BE25,AZ5:BB12,3)","v":26.734255221906427},0.14194966147298874,704.4750861841876,2,4,{"$f":"VLOOKUP(BJ25,AZ5:BB12,2)","v":12.488307641759006},{"$f":"VLOOKUP(BK25,AZ5:BB12,3)","v":7.1041281945967372},0.88718538420618043,112.71601378946991]
[null,null,"Гости",{"$f":"Гости!Z6*1.5+Гости!AG6*2","v":11},{"$f":"Гости!AA6*1.5+Гости!AH6","v":8},{"$f":"D26/5","v":2.2000000000000002},{"$f":"E26/5","v":1.6},null,"Гости",{"$f":"SUM(ГостиГости!L2:M6)/5","v":2.6},{"$f":"SUM(ГостиГости!L2:L6)/5","v":1.2},{"$f":"SUM(ГостиГости!M2:M6)/5","v":1.4},{"$f":"(SUM(Гости!L2:L11)/10)","v":1.1000000000000001},{"$f":"(SUM(ГостиГости!L2:L11)/10)","v":1.1000000000000001},{"$f":"(SUM(Гости!M2:M11)/10)","v":1},{"$f":"(SUM(ГостиГости!M2:M11)/10)","v":1.3},{"$f":"((M26+N26)/2)/((O25+P25)/2)","v":0.95652173913043492},{"$f":"((O26+P26)/2)/((M25+N25)/2)","v":0.95833333333333326},null,null,null,null,{"$f":"IF(AND(W23-W25>0.27,F12>F13),\"П1\",IF(AND(W23>W25,F12>=F13),\"1Х\",IF(AND(W25-W23>0.12,F13>0),\"П2\",IF(AND(W25>W23,F13>=F12),\"Х2\",\"\"))))","v":"1Х"},null,null,null,null,null,"К1 Заб",{"$f":"100-AD27","v":69.882272811508074},1.4309780717883607,null,4,3,{"$f":"VLOOKUP(AG26,AC5:AE12,2)","v":2.6023179909214251},{"$f":"VLOOKUP(AH26,AC5:AE12,3)","v":9.6528118139421668},0.2511968584640058,398.09415058560171,3,4,{"$f":"VLOOKUP(AM26,AC5:AE12,2)","v":8.6743933030714206},{"$f":"VLOOKUP(AN26,AC5:AE12,3)","v":3.0768337656940643},0.26689666211800611,374.67684760997815,null,null,null,null,null,null,null,"К1 Заб",{"$f":"100-BA27","v":51.071947590799553},1.9580220594135846,null,4,3,{"$f":"VLOOKUP(BD26,AZ5:BB12,2)","v":0.53096546095914121},{"$f":"VLOOKUP(BE26,AZ5:BB12,3)","v":15.913247155896681},8.4493846114874246E-2,1183.5181447894352,3,4,{"$f":"VLOOKUP(BJ26,AZ5:BB12,2)","v":2.9734065813711914},{"$f":"VLOOKUP(BK26,AZ5:BB12,3)","v":7.1041281945967372},0.21123461528718579,473.4072579157737]
[null,null,{"$f":"((F25+G26)/2+(F26+G25)/2)/2","v":1.7250000000000001},null,null,null,null,null,null,null,null,null,null,null,null,null,null,null,null,null,null,null,null,null,null,null,null,null,"К1 НЗ",{"$f":"SUM(AQ32+AQ30+AQ27+AQ23+AQ18+AQ12+AQ5+AW5)","v":30.117727188491923},3.3203036661481651,null,3,0,{"$f":"VLOOKUP(AG27,AC5:AE12,2)","v":8.6743933030714206},{"$f":"VLOOKUP(AH27,AC5:AE12,3)","v":27.943096822140728},2.4238941194105381,41.255927476039588,0,3,{"$f":"VLOOKUP(AM27,AC5:AE12,2)","v":30.119421191220212},{"$f":"VLOOKUP(AN27,AC5:AE12,3)","v":9.6528118139421668},2.9073710470371048,34.395334610595981,null,null,null,null,null,null,null,"К1 НЗ",{"$f":"SUM(BN32+BN30+BN27+BN23+BN18+BN12+BN5+BT5)","v":48.928052409200447},2.0438173006288713,null,3,0,{"$f":"VLOOKUP(BD27,AZ5:BB12,2)","v":2.9734065813711914},{"$f":"VLOOKUP(BE27,AZ5:BB12,3)","v":16.767724875179706},0.49857263498480775,200.57258056902211,0,3,{"$f":"VLOOKUP(BJ27,AZ5:BB12,2)","v":48.954165955695316},{"$f":"VLOOKUP(BK27,AZ5:BB12,3)","v":15.913247155896681},7.7901974216376253,12.836645156417408]
[null,null,{"$f":"IF(C27>2.25,\"ТБ 2,5\",\"Нет ставки\")","v":"Нет ставки"},null,null,null,null,null,null,null,null,null,null,null,null,null,null,null,null,null,null,null,null,null,null,null,null,null,"К2 Заб",{"$f":"100-AD29","v":72.057936481945546},1.3877721855809106,null,3,1,{"$f":"VLOOKUP(AG28,AC5:AE12,2)","v":8.6743933030714206},{"$f":"VLOOKUP(AH28,AC5:AE12,3)","v":35.62744844822943},3.0904650022484366,32.357590177285942,1,3,{"$f":"VLOOKUP(AM28,AC5:AE12,2)","v":36.143305429464249},{"$f":"VLOOKUP(AN28,AC5:AE12,3)","v":9.6528118139421668},3.4888452564445256,28.662778842163316,null,null,null,null,null,null,null,"К2 Заб",{"$f":"100-BA29","v":83.232290098168676},1.2014567889704173,null,3,1,{"$f":"VLOOKUP(BD28,AZ5:BB12,2)","v":2.9734065813711914},{"$f":"VLOOKUP(BE28,AZ5:BB12,3)","v":29.942365848535189},0.89030827675858537,112.32064511865237,1,3,{"$f":"VLOOKUP(BJ28,AZ5:BB12,2)","v":34.967261396925217},{"$f":"VLOOKUP(BK28,AZ5:BB12,3)","v":15.913247155896681},5.56442672974116,17.971303218984374]
[null,null,null,null,null,null,null,null,null,null,null,null,null,null,null,null,null,null,null,null,null,null,null,null,null,null,null,null,"К2 НЗ",{"$f":"SUM(AK32+AK30+AK27+AK23+AK18+AK12+AK5+AW5)","v":27.942063518054454},3.578833751322128,null,3,2,{"$f":"VLOOKUP(AG29,AC5:AE12,2)","v":8.6743933030714206},{"$f":"VLOOKUP(AH29,AC5:AE12,3)","v":22.712498385746272},1.9701714389333793,50.757004199664202,2,3,{"$f":"VLOOKUP(AM29,AC5:AE12,2)","v":21.685983257678554},{"$f":"VLOOKUP(AN29,AC5:AE12,3)","v":9.6528118139421668},2.0933071538667161,47.771298070272181,null,null,null,null,null,null,null,"К2 НЗ",{"$f":"SUM(BH32+BH30+BH27+BH23+BH18+BH12+BH5+BT5)","v":16.767709901831331},5.9638436366959224,null,3,2,{"$f":"VLOOKUP(BD29,AZ5:BB12,2)","v":2.9734065813711914},{"$f":"VLOOKUP(BE29,AZ5:BB12,3)","v":26.734255221906427},0.7949181042487371,125.79912253289062,2,3,{"$f":"VLOOKUP(BJ29,AZ5:BB12,2)","v":12.488307641759006},{"$f":"VLOOKUP(BK29,AZ5:BB12,3)","v":15.913247155896681},1.9872952606218428,50.319649013156244]
[null,null,"1Х2",null,null,null,{"$f":"IF(E34=G34,\"Х\",IF(E34>G34,LOOKUP(MAX(E34:G34)-MIN(E34:G34),{0;0.2;0.4},{\"1Х\";\"П1\";\"П1\"}),LOOKUP(MAX(E34:G34)-MIN(E34:G35),{0;0.2;0.4},{\"Х2\";\"П2\";\"П2\"})))","v":"1Х"},"Тотал",null,null,null,"Обе забьют",null,null,null,null,"Очные всречи (5 матчей)",null,null,null,null,null,null,null,null,null,null,null,"ОЗ",{"$f":"100-AD31","v":50.356508319184655},1.9858406259256529,null,2,0,{"$f":"VLOOKUP(AG30,AC5:AE12,2)","v":21.685983257678554},{"$f":"VLOOKUP(AH30,AC5:AE12,3)","v":27.943096822140728},6.0597352985263466,16.50237099041583,0,2,{"$f":"VLOOKUP(AM30,AC5:AE12,2)","v":30.119421191220212},{"$f":"VLOOKUP(AN30,AC5:AE12,3)","v":22.712498385746272},6.8408730518520109,14.618017209503291,null,null,null,null,null,null,null,"ОЗ",{"$f":"100-BA31","v":42.512737551358093},2.3522361946038792,null,2,0,{"$f":"VLOOKUP(BD30,AZ5:BB12,2)","v":12.488307641759006},{"$f":"VLOOKUP(BE30,AZ5:BB12,3)","v":16.767724875179706},2.0940050669361927,47.755376325957641,0,2,{"$f":"VLOOKUP(BJ30,AZ5:BB12,2)","v":48.954165955695316},{"$f":"VLOOKUP(BK30,AZ5:BB12,3)","v":26.734255221906427},13.087531668351215,7.6408602121532168]
[null,null,null,null,"маржа(%):",null,{"$f":"(E35+F35+G35)-1","v":0.10481129864041261},"маржа(%):",null,null,{"$f":"(J35+K35)-1","v":5.555555555555558E-2},"маржа(%):",null,null,{"$f":"(N35+O35)-1","v":8.1395348837209447E-2},null,"команды","В","Н","П","Забито","Пропущено","итог","очки",null,null,null,null,"ОНЗ",{"$f":"SUM(AK32+AK30+AK27+AK23+AK18+AK12+AK5+AQ5+AQ12+AQ18+AQ23+AQ27+AQ30+AQ32+AW5)","v":49.643491680815345},2.0143627415040362,null,2,1,{"$f":"VLOOKUP(AG31,AC5:AE12,2)","v":21.685983257678554},{"$f":"VLOOKUP(AH31,AC5:AE12,3)","v":35.62744844822943},7.726162505621093,12.943036070914376,1,2,{"$f":"VLOOKUP(AM31,AC5:AE12,2)","v":36.143305429464249},{"$f":"VLOOKUP(AN31,AC5:AE13,3)","v":22.712498385746272},8.209047662222412,12.181681007919412,null,null,null,null,null,null,null,"ОНЗ",{"$f":"SUM(BH32+BH30+BH27+BH23+BH18+BH12+BH5+BN5+BN12+BN18+BN23+BN27+BN30+BN32+BT5)","v":57.487262448641907},1.7395157768964598,null,2,1,{"$f":"VLOOKUP(BD31,AZ5:BB12,2)","v":12.488307641759006},{"$f":"VLOOKUP(BE31,AZ5:BB12,3)","v":29.942365848535189},3.7392947623860588,26.743010742536274,1,2,{"$f":"VLOOKUP(BJ31,AZ5:BB12,2)","v":34.967261396925217},{"$f":"VLOOKUP(BK31,AZ5:BB13,3)","v":26.734255221906427},9.34823690596515,10.697204297014506]
[null,null,"Линия:",null,"П1","Х","П2","Линия:",null,"ТБ 2,5","ТМ 2,5","Линия:",null,"ОЗ-да","ОЗ-нет",null,"1К",{"$f":"Очные!J6","v":0},{"$f":"Очные!K6","v":2},{"$f":"Очные!L6","v":3},{"$f":"Очные!H6","v":3},{"$f":"Очные!I6","v":6},{"$f":"U32/V32","v":0.5},{"$f":"R32*3+S32","v":2},null,null,null,null,null,null,null,null,1,0,{"$f":"VLOOKUP(AG32,AC5:AE12,2)","v":36.143305429464249},{"$f":"VLOOKUP(AH32,AC5:AE12,3)","v":27.943096822140728},10.099558830877241,9.9014225942495031,0,1,{"$f":"VLOOKUP(AM32,AC5:AE12,2)","v":30.119421191220212},{"$f":"VLOOKUP(AN32,AC5:AE12,3)","v":35.62744844822943},10.73078125780707,9.3189859710583534,null,null,null,null,null,null,null,"ТБ0.5",{"$f":"100-BA33","v":91.791500137610115},{"$f":"100/BA32","v":1.089425489833852},null,1,0,{"$f":"VLOOKUP(BD32,AZ5:BB12,2)","v":34.967261396925217},{"$f":"VLOOKUP(BE32,AZ5:BB12,3)","v":16.767724875179706},5.8632141874213399,17.055491544984871,0,1,{"$f":"VLOOKUP(BJ32,AZ5:BB12,2)","v":48.954165955695316},{"$f":"VLOOKUP(BK32,AZ5:BB12,3)","v":29.942365848535189},14.658035468553356,6.8221966179939448]
[null,null,"Коэф-ы бук-ов:",null,{"$f":"Коэффициенты!B2","v":2.37},{"$f":"Коэффициенты!B3","v":3.2},{"$f":"Коэффициенты!B4","v":2.7},"Коэф-ы бук-ов:",null,{"$f":"Коэффициенты!B5","v":2},{"$f":"Коэффициенты!B6","v":1.8},"Коэф-ы бук-ов:",null,{"$f":"Коэффициенты!B7","v":1.72},{"$f":"Коэффициенты!B8","v":2},null,"2К",{"$f":"Очные!P6","v":3},{"$f":"Очные!Q6","v":2},{"$f":"Очные!R6","v":0},{"$f":"Очные!N6","v":6},{"$f":"Очные!O6","v":3},{"$f":"U33/V33","v":2},{"$f":"R33*3+S33","v":11},null,null,null,null,null,null,null,null,null,null,null,null,null,null,null,null,null,null,null,null,null,null,null,null,null,null,null,"ТМ0.5",{"$f":"SUM(BT5)","v":8.2084998623898784},{"$f":"100/BA33","v":12.182493960703475}]
[null,null,"Вероятность (%):",null,{"$f":"E35/(1+G31)","v":0.38191221323431901},{"$f":"F35/(1+G31)","v":0.28285373292666754},{"$f":"G35/(1+G31)","v":0.33523405383901334},"Вероятность (%):",null,{"$f":"J35/(1+K31)","v":0.47368421052631576},{"$f":"K35/(1+K31)","v":0.52631578947368418},"Вероятность (%):",null,{"$f":"N35/(1+O31)","v":0.5376344086021505},{"$f":"O35/(1+O31)","v":0.46236559139784938},null,null,null,null,null,null,null,null,null,null,null,null,null,null,null,null,null,null,null,null,null,null,null,null,null,null,null,null,null,null,null,null,null,null,null,null,"ТБ4.5",{"$f":"100-BA35","v":14.448995642348947},{"$f":"100/BA34","v":6.9208962667901517}]
[null,null,"Вер. с маржой (%):",null,{"$f":"1/E33","v":0.42194092827004215},{"$f":"1/F33","v":0.3125},{"$f":"1/G33","v":0.37037037037037035},"Вер. с маржой (%):",null,{"$f":"1/J33","v":0.5},{"$f":"1/K33","v":0.55555555555555558},"Вер. с маржой (%):",null,{"$f":"1/N33","v":0.58139534883720934},{"$f":"1/O33","v":0.5},null,null,null,null,null,null,null,null,null,null,null,null,null,null,null,null,null,null,null,null,null,null,null,null,null,null,null,null,null,null,null,null,null,null,null,null,"ТМ4.5",{"$f":"SUM(BH32+BH31+BH30+BH28+BH27+BN32+BN31+BN30+BN28+BN27+BT5+BT6+BT7)","v":85.551004357651053},{"$f":"100/BA35","v":1.1688933490709714}]
[]
[]
[null,null,"Тест №1 Анализ 10 игр команд дома и в гостях",null,null,null,null,null,null,null,"Последние  три  игры  команд  между  собой",null,null,null,null,null,null,null,null,"Первая",null,null,null,"Вторая",null,null,null,null,null,{"$f":"AVERAGE(W32,AN41)","v":0.9375},"Вероятность голов",null,null,null,null,null,{"$f":"AVERAGE(W33,AN42)","v":1.625},"Расчет ТС и Тотал от #YMA "]
[null,null,"К1","К2","К1","К2","К1","К2",null,null,"Команда дома","Счёт","Счёт","Очки","Команда победитель","Команда в гостях",null,null,null,"Игра","Дома","Гости","Очки","Игра","Дома","Гости","Очки",null,null,"Забьют хозяева",1,"Вероятность",{"$f":"_xlfn.POISSON.DIST(AE39,AD38,FALSE)","v":0.36713027500949902},"Забьют гости",1,"Вероятность",{"$f":"_xlfn.POISSON.DIST(AI39,AK38,FALSE)","v":0.31998147220681533},{"$f":"O5","v":5},{"$f":"P5","v":5},{"$f":"K5","v":4}]
[null,null,{"$f":"IF(Дома!N2=\"П\",\"Поражение\",IF(Дома!N2=\"Н\",\"Ничья\",\"Победа\"))","v":"Ничья"},{"$f":"IF(Гости!N2=\"П\",\"Поражение\",IF(Гости!N2=\"Н\",\"Ничья\",\"Победа\"))","v":"Поражение"},{"$f":"IF(C40=\"Победа\",2,IF(C40=\"Ничья\",1,0))","v":1},{"$f":"IF(D40=\"Победа\",2,IF(D40=\"Ничья\",1,0))","v":0},{"$f":"IF(C40=\"Победа\",1,0)","v":0},{"$f":"IF(D40=\"Победа\",1,0)","v":0},null,null,{"$f":"IF(Очные!A1=Очные!C2,1,2)","v":2},{"$f":"Очные!E2","v":1},{"$f":"Очные!F2","v":0},{"$f":"IF(L40>M40,3+(L40-M40),IF(L40=M40,1,IF(M40>L40,3+(M40-L40),0)))","v":4},{"$f":"IF(L40>M40,K40,IF(M40>L40,P40,0))","v":2},{"$f":"IF(K40=2,1,2)","v":1},null,null,null,"1 игра",{"$f":"ДомаДома!L2","v":1},{"$f":"ДомаДома!M2","v":1},{"$f":"IF(U40>V40,2+(U40-V40),IF(U40=V40,1,0))","v":1},"1 игра",{"$f":"ГостиГости!M2","v":1},{"$f":"ГостиГости!L2","v":2},{"$f":"IF(Z40>Y40,2+(Z40-Y40),IF(Y40=Z40,1,0))","v":3},null,null,null,2,null,{"$f":"_xlfn.POISSON.DIST(AE40,AD38,FALSE)","v":0.17209231641070266},null,2,null,{"$f":"_xlfn.POISSON.DIST(AI40,AK38,FALSE)","v":0.25998494616803752},{"$f":"V6","v":5},{"$f":"W6","v":6},{"$f":"R6","v":4}]
[null,null,{"$f":"IF(Дома!N3=\"П\",\"Поражение\",IF(Дома!N3=\"Н\",\"Ничья\",\"Победа\"))","v":"Победа"},{"$f":"IF(Гости!N3=\"П\",\"Поражение\",IF(Гости!N3=\"Н\",\"Ничья\",\"Победа\"))","v":"Победа"},2,2,1,1,null,null,{"$f":"IF(Очные!A1=Очные!C3,1,2)","v":1},{"$f":"Очные!E3","v":1},{"$f":"Очные!F3","v":1},{"$f":"IF(L41>M41,3+(L41-M41),IF(L41=M41,0,IF(M41>L41,3+(M41-L41),0)))","v":0},{"$f":"IF(L41>M41,K41,IF(M41>L41,P41,0))","v":0},{"$f":"IF(K41=2,1,2)","v":2},null,null,null,"2 игра",{"$f":"ДомаДома!L3","v":1},{"$f":"ДомаДома!M3","v":0},{"$f":"IF(U41>V41,2+(U41-V41),IF(U41=V41,1,0))","v":3},"2 игра",{"$f":"ГостиГости!M3","v":4},{"$f":"ГостиГости!L3","v":2},{"$f":"IF(Z41>Y41,2+(Z41-Y41),IF(Y41=Z41,1,0))","v":0},null,null,null,3,null,{"$f":"_xlfn.POISSON.DIST(AE41,AD38,FALSE)","v":5.3778848878344596E-2},null,3,null,{"$f":"_xlfn.POISSON.DIST(AI41,AK38,FALSE)","v":0.14082517917435367},{"$f":"AL39/AN39","v":1.25},{"$f":"AM39/AN39","v":1.25},{"$f":"AVERAGE(AL41,AM42)","v":1.375}]
[null,null,{"$f":"IF(Дома!N4=\"П\",\"Поражение\",IF(Дома!N4=\"Н\",\"Ничья\",\"Победа\"))","v":"Ничья"},{"$f":"IF(Гости!N4=\"П\",\"Поражение\",IF(Гости!N4=\"Н\",\"Ничья\",\"Победа\"))","v":"Ничья"},1,1,0,0,null,null,{"$f":"IF(Очные!A1=Очные!C4,1,2)","v":1},{"$f":"Очные!E4","v":1},{"$f":"Очные!F4","v":2},{"$f":"IF(L42>M42,3+(L42-M42),IF(L42=M42,0,IF(M42>L42,3+(M42-L42),0)))","v":4},{"$f":"IF(L42>M42,K42,IF(M42>L42,P42,0))","v":2},{"$f":"IF(K42=2,1,2)","v":2},null,null,null,null,null,"Итог:",{"$f":"W40+W41","v":4},null,null,"Итог:",{"$f":"AA40+AA41","v":3},null,null,null,4,null,{"$f":"_xlfn.POISSON.DIST(AE42,AD38,FALSE)","v":1.2604417705862011E-2},null,4,null,{"$f":"_xlfn.POISSON.DIST(AI42,AK38,FALSE)","v":5.7210229039581152E-2},{"$f":"AL40/AN40","v":1.25},{"$f":"AM40/AN40","v":1.5},{"$f":"AVERAGE(AL42,AM41)","v":1.25}]
[null,null,{"$f":"IF(Дома!N5=\"П\",\"Поражение\",IF(Дома!N5=\"Н\",\"Ничья\",\"Победа\"))","v":"Победа"},{"$f":"IF(Гости!N5=\"П\",\"Поражение\",IF(Гости!N5=\"Н\",\"Ничья\",\"Победа\"))","v":"Поражение"},2,0,1,0,null,null,null,"П1","Команды",1,2,{"$f":"IF(N46>O46,1,IF(N46=O46,0,2))","v":2},null,null,null,"5 игра ",{"$f":"ДомаДома!L6","v":1},{"$f":"ДомаДома!M6","v":0},{"$f":"IF(U43>V43,2+(U43-V43),IF(U43=V43,1,0))","v":3},"5 игра ",{"$f":"ГостиГости!M6","v":1},{"$f":"ГостиГости!L6","v":1},{"$f":"IF(Z43>Y43,2+(Z43-Y43),IF(Y43=Z43,1,0))","v":1},null,null,null,5,null,{"$f":"_xlfn.POISSON.DIST(AE43,AD38,FALSE)","v":2.3633283198491277E-3},null,5,null,{"$f":"_xlfn.POISSON.DIST(AI43,AK38,FALSE)","v":1.8593324437863878E-2},{"$f":"ROUND(AN41,0)","v":1},{"$f":"ROUND(AN42,0)","v":1},{"$f":"AN41+AN42","v":2.625}]
[null,null,{"$f":"IF(Дома!N6=\"П\",\"Поражение\",IF(Дома!N6=\"Н\",\"Ничья\",\"Победа\"))","v":"Поражение"},{"$f":"IF(Гости!N6=\"П\",\"Поражение\",IF(Гости!N6=\"Н\",\"Ничья\",\"Победа\"))","v":"Победа"},0,2,0,1,null,null,null,"П2","Очки",{"$f":"G61+IF(O40=1,N40,0)+IF(O41=1,N41,0)+IF(O42=1,N42,0)","v":5},{"$f":"K61+IF(O40=2,N40,0)+IF(O41=2,N41,0)+IF(O42=2,N42,0)","v":12},{"$f":"IF(P46=1,1,2)+IF(P47>0,99,0)","v":101},null,null,null,"6 игра",{"$f":"ДомаДома!L7","v":3},{"$f":"ДомаДома!M7","v":0},{"$f":"IF(U44>V44,2+(U44-V44),IF(U44=V44,1,0))","v":5},"6 игра",{"$f":"ГостиГости!M7","v":3},{"$f":"ГостиГости!L7","v":0},{"$f":"IF(Z44>Y44,2+(Z44-Y44),IF(Y44=Z44,1,0))","v":0},null,null,null,0,null,{"$f":"_xlfn.POISSON.DIST(AE44,AD38,FALSE)","v":0.39160562667679899},null,0,null,{"$f":"_xlfn.POISSON.DIST(AI44,AK38,FALSE)","v":0.19691167520419406},"Ставка тотал",null,{"$f":"IF(AN43>3,\"ТБ 2,5\",IF(AN43>2,\"ТБ 1,5\",\"ТМ 2,5\"))","v":"ТБ 1,5"}]
[null,null,{"$f":"IF(Дома!N7=\"П\",\"Поражение\",IF(Дома!N7=\"Н\",\"Ничья\",\"Победа\"))","v":"Поражение"},{"$f":"IF(Гости!N7=\"П\",\"Поражение\",IF(Гости!N7=\"Н\",\"Ничья\",\"Победа\"))","v":"Ничья"},0,1,0,0,null,null,null,"П1","Доп. Очки",{"$f":"IF(P50=1,1,0)","v":0},null,null,null,null,null,null,null,"Итог:",{"$f":"SUM(W43:W44)","v":8},null,null,"Итог:",{"$f":"AA43+AA44","v":1},null,null,0.25,null,"Прогноз на матч",null,null,null,null,0.35]
[null,null,{"$f":"IF(Дома!N8=\"П\",\"Поражение\",IF(Дома!N8=\"Н\",\"Ничья\",\"Победа\"))","v":"Ничья"},{"$f":"IF(Гости!N8=\"П\",\"Поражение\",IF(Гости!N8=\"Н\",\"Ничья\",\"Победа\"))","v":"Ничья"},1,1,0,0,null,null,null,"П2","Итоговые:",{"$f":"SUM(N44,N45)","v":5},{"$f":"SUM(O44,O45)","v":12},null,null,null,null,"Сколько побед 10 игр:",null,null,{"$f":"E5","v":3},"Сколько побед за 10 игр:",null,null,{"$f":"E6","v":4},null,null,null,{"$f":"IF(AF46>0,1,0)","v":1},{"$f":"SUMIFS(AE39:AE44,AG39:AG44,\">25%\")","v":1},{"$f":"SUMIFS(AI39:AI44,AK39:AK44,\">35%\")","v":0},{"$f":"IF(AG46>0,1,0)","v":0},null,"Обе забьют?",null,null,{"$f":"IF(AE46+AH46=2,\"Да\",\"Нет\")","v":"Нет"}]
[null,null,{"$f":"IF(Дома!N9=\"П\",\"Поражение\",IF(Дома!N9=\"Н\",\"Ничья\",\"Победа\"))","v":"Победа"},{"$f":"IF(Гости!N9=\"П\",\"Поражение\",IF(Гости!N9=\"Н\",\"Ничья\",\"Победа\"))","v":"Ничья"},2,1,1,0,null,null,null,"1Х","ИТОГОВЫЙ ВЫВОД:",null,{"$f":"IF(P43=1,M51,IF(P44=1,\"X1\",IF(P44=2,\"2X\",O51)))","v":"X2"},{"$f":"IF(P43=1,N46-O46,IF(P43=2,O46-N46,0))","v":7},null,null,null,"СОПЕРНИЧЕСТВО  КОМАНД МЕЖДУ СОБОЙ",null,null,null,null,null,"ИСХОД:",null,null,null,null,null,{"$f":"IF(AF46>0,\"Гол!\",\"Нет\")","v":"Гол!"},{"$f":"IF(AG46>0,\"Гол!\",\"Нет\")","v":"Нет"}]
[null,null,{"$f":"IF(Дома!N10=\"П\",\"Поражение\",IF(Дома!N10=\"Н\",\"Ничья\",\"Победа\"))","v":"Поражение"},{"$f":"IF(Гости!N10=\"П\",\"Поражение\",IF(Гости!N10=\"Н\",\"Ничья\",\"Победа\"))","v":"Победа"},0,2,0,1,null,null,null,"Х2",null,null,null,null,null,null,null,"Дома","Счёт","Счёт","Очки","Победа","Гости"]
[null,null,{"$f":"IF(Дома!N11=\"П\",\"Поражение\",IF(Дома!N11=\"Н\",\"Ничья\",\"Победа\"))","v":"Ничья"},{"$f":"IF(Гости!N11=\"П\",\"Поражение\",IF(Гости!N11=\"Н\",\"Ничья\",\"Победа\"))","v":"Победа"},1,2,0,1,null,null,null,"Х1","Для команды 1",null,"Для команды 2",null,null,null,null,{"$f":"K40","v":2},1,0,{"$f":"IF(U49>V49,3+(U49-V49),IF(U49=V49,1,IF(V49>U49,3+(V49-U49),0)))","v":4},{"$f":"IF(U49>V49,T49,IF(V49>U49,Y49,0))","v":2},{"$f":"IF(T49=2,1,2)","v":1}]
[null,null,"Среднее",null,{"$f":"SUM(E40:E49)","v":10},{"$f":"SUM(F40:F49)","v":12},{"$f":"SUM(G40:G49)","v":3},{"$f":"SUM(H40:H49)","v":4},null,null,null,"2Х",{"$f":"IF(P43=1,P47,P49)","v":0},null,{"$f":"IF(P43=2,P47,P48)","v":7},{"$f":"IF(P52=P51,1,0)","v":0},null,null,null,1,1,1,{"$f":"IF(U50>V50,3+(U50-V50),IF(U50=V50,0,IF(V50>U50,3+(V50-U50),0)))","v":0},{"$f":"IF(U50>V50,T50,IF(V50>U50,Y50,0))","v":0},{"$f":"IF(T50=2,1,2)","v":2},{"$f":"IF(X57=1,AA56,AA55)","v":"Ф2(+1)"},null,null,null,"ЗабитоДома",{"$f":"Дома!Z16","v":10},"ЗабитоГости",{"$f":"Гости!AG16","v":7},null,null,"Оригинал","Дома Все игры",null,null,"Гости все игры",null,null,"ДомаДома",null,null,"ГостиГости"]
[null,null,"Команда ","Очки","Значение","Число","ИТОГ",{"$f":"IF(G52>G53,C52,IF(G52<G53,C53,\"Х\"))","v":"П2"},null,null,null,"Ф1 (+1)",{"$f":"IF(M50>12,\"П1\",IF(M50>7,\"П1\",IF(M50>4,\"1X\",IF(M50>0,\"Ф1 (+1)\",P45))))","v":0},null,{"$f":"IF(O50>13,\"П2\",IF(O50>7,\"П2\",IF(O50>4,\"X2\",IF(O50>0,\"Ф2 (+1)\",\"\"))))","v":"X2"},{"$f":"IF(O40=0,1,0)","v":0},null,null,null,1,1,2,{"$f":"IF(U51>V51,3+(U51-V51),IF(U51=V51,0,IF(V51>U51,3+(V51-U51),0)))","v":4},{"$f":"IF(U51>V51,T51,IF(V51>U51,Y51,0))","v":2},{"$f":"IF(T51=2,1,2)","v":2},null,null,null,null,"ПропДома",{"$f":"Дома!AA16","v":7},"ПропГости",{"$f":"Гости!AH16","v":10},null,null,null,"Игр","Заб","Проп","Игр","Заб","Проп","Игр","Заб","Проп","Игр","Заб","Проп"]
[null,null,"П1",{"$f":"E50","v":10},{"$f":"IF(D52>18,4,IF(D52>15,3,IF(D52>10,2,IF(D52>5,1,0))))","v":1},{"$f":"IF(G50>=9,3,IF(G50>=6,2,IF(G50>=4,1,0)))","v":0},{"$f":"IF(D52>D53,1,0)+IF(E52>E53,1,0)+F52","v":0},null,null,null,null,"Ф2 (+1)",1,{"$f":"IF(P47=0,P46,8)","v":8},2,{"$f":"IF(K40=O52,1,0)","v":1},null,null,null,"Итоговые очки:",null,"Очки","Динамика","Итоговые очки",null,null,null,null,null,"Всего игр",{"$f":"Дома!O16","v":15},"Всего игр",{"$f":"Гости!O16","v":15},null,null,null,0,{"$f":"Дома!L11","v":1},{"$f":"Дома!M11","v":1},0,{"$f":"Гости!L11","v":2},{"$f":"Гости!M11","v":1},0,{"$f":"ДомаДома!L11","v":0},{"$f":"ДомаДома!M11","v":1},0,{"$f":"ГостиГости!L11","v":2},{"$f":"ГостиГости!M11","v":2}]
[null,null,"П2",{"$f":"F50","v":12},{"$f":"IF(D53>18,4,IF(D53>15,3,IF(D53>10,2,IF(D53>5,1,0))))","v":2},{"$f":"IF(H50>=9,3,IF(H50>=6,2,IF(H50>=4,1,0)))","v":1},{"$f":"IF(D53>D52,1,0)+IF(E53>E52,1,0)+F53","v":3},null,null,null,null,null,null,null,null,null,null,null,null,"Команда 1",null,{"$f":"W42+W45+IF(X49=1,W49,0)+IF(X50=1,W50,0)+IF(X51=1,W51,0)","v":12},{"$f":"IF(W42>W45,2,IF(W42=W45,1,0))","v":0},{"$f":"IF(W53=2,V53+(V53*0.3),IF(W53=1,V53,IF(W53=0,V53-(V53*0.3),0)))+IF(W42>AA42,(V53*0.15),0)+V57","v":7.7999999999999989},null,null,null,null,null,"АЗД",{"$f":"AE50/AE52","v":0.66666666666666663},"БЗВ",{"$f":"AG50/AG52","v":0.46666666666666667},null,null,null,1,{"$f":"Дома!L10","v":0},{"$f":"Дома!M10","v":1},1,{"$f":"Гости!L10","v":2},{"$f":"Гости!M10","v":1},1,{"$f":"ДомаДома!L10","v":1},{"$f":"ДомаДома!M10","v":1},1,{"$f":"ГостиГости!L10","v":2},{"$f":"ГостиГости!M10","v":1}]
[null,null,null,null,null,null,null,null,null,null,null,null,null,null,null,null,null,null,null,"Команда 2",null,{"$f":"AA42+AA45+IF(X49=2,W49,0)+IF(X50=2,W50,0)+IF(X51=2,W51,0)","v":12},{"$f":"IF(AA42>AA45,2,IF(AA42=AA45,1,0))","v":2},{"$f":"IF(W54=2,V54+(V54*0.3),IF(W54=1,V54,IF(W54=0,V54-(V54*0.3),0)))+IF(AA42>W42,(V54*0.15),0)+W57","v":13.2},null,"1Х","ИТОГ",null,null,"БПВ",{"$f":"AG51/AG52","v":0.66666666666666663},"АПД",{"$f":"AE51/AE52","v":0.46666666666666667},null,null,null,2,{"$f":"Дома!L9","v":2},{"$f":"Дома!M9","v":1},2,{"$f":"Гости!L9","v":0},{"$f":"Гости!M9","v":0},2,{"$f":"ДомаДома!L9","v":3},{"$f":"ДомаДома!M9","v":1},2,{"$f":"ГостиГости!L9","v":0},{"$f":"ГостиГости!M9","v":0}]
[null,null,null,"Последние 3 игры команды 1 ДОМА",null,null,null,"Последние 3 игры команды 2 в гостях",null,null,null,"Второй прогноз на Тоталы",null,null,null,null,null,null,null,null,null,null,null,null,null,"Х2",{"$f":"IF(Y57<6,Z57,IF(Y57<10,Z55,T57))","v":"Ф2(+1)"},null,null,"А забьет",{"$f":"(AE53+AE54)/2.5","v":0.53333333333333333},"Б забьет",{"$f":"(AG53+AG54)/2.5","v":0.37333333333333335},null,null,null,3,{"$f":"Дома!L8","v":1},{"$f":"Дома!M8","v":1},3,{"$f":"Гости!L8","v":0},{"$f":"Гости!M8","v":0},3,{"$f":"ДомаДома!L8","v":1},{"$f":"ДомаДома!M8","v":2},3,{"$f":"ГостиГости!L8","v":1},{"$f":"ГостиГости!M8","v":0}]
[null,null,null,null,null,null,null,null,null,null,null,null,null,null,null,null,null,null,null," П1",2,"10BUH1","10BUH2","КТО ПОБЕДИЛ","Разница","Ф1(+1)",{"$f":"IF(Y57<6,Z56,IF(Y57<10,Z54,T56))","v":"Ф1(+1)"},null,null,"Примерный счет c округлением:",null,null,null,null,null,null,4,{"$f":"Дома!L7","v":1},{"$f":"Дома!M7","v":3},4,{"$f":"Гости!L7","v":1},{"$f":"Гости!M7","v":1},4,{"$f":"ДомаДома!L7","v":3},{"$f":"ДомаДома!M7","v":0},4,{"$f":"ГостиГости!L7","v":0},{"$f":"ГостиГости!M7","v":3}]
[null,null,null,null,"КОМАНДА 1","гости","Очки",null,"хозяева","КОМАНДА 2","Очки","Второй анализ.",null,"Команда 1","Команда 2",{"$f":"N58*N59","v":1},null,null,null," П2",1,{"$f":"IF(W46<=4,-(V53*0.2),IF(W46>=6,V53*0.1,IF(W46>=9,V53*0.2,0)))","v":-2.4000000000000004},{"$f":"IF(AA46<=4,-(V54*0.2),IF(AA46>=6,V54*0.1,IF(AA46>=9,V54*0.2,0)))","v":-2.4000000000000004},{"$f":"IF(X53>X54,1,IF(X53=X54,0,2))","v":2},{"$f":"IF(X57=1,X53-X54,IF(X57=2,X54-X53,0))","v":5.4},"Ф2(+1)",null,null,null,"А забьет",{"$f":"IF(AE55>0.5,1,0)+IF(AE55>0.7,1,0)+IF(AE55>0.9,1,0)","v":1},"Б забьет",{"$f":"IF(AG55>0.5,1,0) + IF(AG55>0.7,1,0)+IF(AG55>0.9,1,0)","v":0},null,null,null,5,{"$f":"Дома!L6","v":0},{"$f":"Дома!M6","v":3},5,{"$f":"Гости!L6","v":1},{"$f":"Гости!M6","v":0},5,{"$f":"ДомаДома!L6","v":1},{"$f":"ДомаДома!M6","v":0},5,{"$f":"ГостиГости!L6","v":1},{"$f":"ГостиГости!M6","v":1}]
[null,null,null,"1 игра",{"$f":"ДомаДома!L2","v":1},{"$f":"ДомаДома!M2","v":1},{"$f":"IF(E58>F58,2+(E58-F58),IF(E58=F58,1,0))","v":1},"1 игра",{"$f":"ГостиГости!M2","v":1},{"$f":"ГостиГости!L2","v":2},{"$f":"IF(J58>I58,2+(J58-I58),IF(I58=J58,1,0))","v":3},"Забьёт в абстрактном матче ",null,{"$f":"(E58+E59+E60+1+I58+I59+I60)/6","v":1.6666666666666667},{"$f":"(J58+J59+J60+F58+F59+F60+1)/6","v":1.6666666666666667},{"$f":"O58+O59","v":2.3809523809523809},null,null,null,null,null,null,null,null,null,null,null,null,null,null,null,null,null,null,null,null,6,{"$f":"Дома!L5","v":1},{"$f":"Дома!M5","v":0},6,{"$f":"Гости!L5","v":2},{"$f":"Гости!M5","v":4},6,{"$f":"ДомаДома!L5","v":2},{"$f":"ДомаДома!M5","v":1},6,{"$f":"ГостиГости!L5","v":0},{"$f":"ГостиГости!M5","v":0}]
[null,null,null,"2 игра",{"$f":"ДомаДома!L3","v":1},{"$f":"ДомаДома!M3","v":0},{"$f":"IF(E59>F59,2+(E59-F59),IF(E59=F59,1,0))","v":3},"2 игра",{"$f":"ГостиГости!M3","v":4},{"$f":"ГостиГости!L3","v":2},{"$f":"IF(J59>I59,2+(J59-I59),IF(I59=J59,1,0))","v":0},"Забьёт/пропустит в конкретном",null,{"$f":"(E58+E59+E60)/(F58+F59+F60+1)","v":0.6},{"$f":"(J58+J59+J60)/(I58+I59+I60+1)","v":0.7142857142857143},{"$f":"P57/P58","v":0.42},null,null,null,null,null,null,null,null,null,null,null,null,null,null,null,null,null,null,null,null,7,{"$f":"Дома!L4","v":1},{"$f":"Дома!M4","v":1},7,{"$f":"Гости!L4","v":0},{"$f":"Гости!M4","v":0},7,{"$f":"ДомаДома!L4","v":1},{"$f":"ДомаДома!M4","v":3},7,{"$f":"ГостиГости!L4","v":1},{"$f":"ГостиГости!M4","v":1}]
[null,null,null,"3 игра",{"$f":"ДомаДома!L4","v":1},{"$f":"ДомаДома!M4","v":3},{"$f":"IF(E60>F60,2+(E60-F60),IF(E60=F60,1,0))","v":0},"3 игра",{"$f":"ГостиГости!M4","v":1},{"$f":"ГостиГости!L4","v":1},{"$f":"IF(J60>I60,2+(J60-I60),IF(I60=J60,1,0))","v":1},"Забьёт в этом матче",null,{"$f":"P59","v":0.42},{"$f":"P60","v":2.3809523809523809},{"$f":"P58/P57","v":2.3809523809523809},null,null,null,"Команда 1 ",null,"ввод данных",null,null,"Команда 2",null,"ввод данных",null,null,null,null,null,null,null,null,null,8,{"$f":"Дома!L3","v":2},{"$f":"Дома!M3","v":1},8,{"$f":"Гости!L3","v":2},{"$f":"Гости!M3","v":1},8,{"$f":"ДомаДома!L3","v":1},{"$f":"ДомаДома!M3","v":0},8,{"$f":"ГостиГости!L3","v":2},{"$f":"ГостиГости!M3","v":4}]
[null,null,null,null,null,"Итого:",{"$f":"SUM(G58,G59,G60) +1","v":5},null,null,"Итого:",{"$f":"SUM(K58,K59,K60)","v":4},"Счет матча",null,{"$f":"N58+N59+N60","v":2.6866666666666665},{"$f":"O58+O59+O60","v":4.7619047619047619},null,null,null,null,"Место в ТТ",null,{"$f":"E14","v":6},"из",{"$f":"H14","v":17},"Место в ТТ",null,{"$f":"K14","v":9},"из",{"$f":"H14","v":17},null,null,null,null,null,null,null,9,{"$f":"Дома!L2","v":1},{"$f":"Дома!M2","v":1},9,{"$f":"Гости!L2","v":1},{"$f":"Гости!M2","v":2},9,{"$f":"ДомаДома!L2","v":1},{"$f":"ДомаДома!M2","v":1},9,{"$f":"ГостиГости!L2","v":2},{"$f":"ГостиГости!M2","v":1}]
[null,null,null,null,null,null,null,null,null,null,null,null,null,null,null,null,null,null,null,"Сколько мячей забито",null,{"$f":"OFFSET(Таблица!B1,MATCH(Расчеты!F14,Таблица!B2:'Таблица'!B100,0),5)","v":4},null,null,"Сколько мячей забито",null,{"$f":"OFFSET(Таблица!B1,MATCH(I14,Таблица!B2:'Таблица'!B100,0),5)","v":3},null,null,null,null,null,null,null,null,"5из5",5,{"$f":"TREND(AL52:AL56,AK52:AK56,AK62)","v":1.3},{"$f":"TREND(AM52:AM56,AK52:AK56,AK62)","v":2.5999999999999996},5,{"$f":"TREND(AO52:AO56,AN52:AN56,AN62)","v":-0.19999999999999996},{"$f":"TREND(AP52:AP56,AN52:AN56,AN62)","v":0.30000000000000004},5,{"$f":"TREND(AR52:AR56,AQ52:AQ56,AQ62)","v":3.3999999999999995},{"$f":"TREND(AS52:AS56,AQ52:AQ56,AQ62)","v":0.70000000000000007},5,{"$f":"TREND(AU52:AU56,AT52:AT56,AT62)","v":-0.49999999999999956},{"$f":"TREND(AV52:AV56,AT52:AT56,AT62)","v":1.5}]
[null,null,null,null,null,null,null,null,null,null,null,null,null,null,null,null,null,null,null,"Забито за 3 игры дома",null,{"$f":"ДомаДома!S4","v":3},null,null,"Забито за 3 игры в гостях",null,{"$f":"ГостиГости!S4","v":5},null,null,null,null,null,null,null,null,"5из10",5,{"$f":"TREND(AL52:AL61,AK52:AK61,AK63)","v":1.0242424242424242},{"$f":"TREND(AM52:AM61,AK52:AK61,AK63)","v":1.2909090909090908},5,{"$f":"TREND(AO52:AO61,AN52:AN61,AN63)","v":1.0909090909090911},{"$f":"TREND(AP52:AP61,AN52:AN61,AN63)","v":1.0606060606060606},5,{"$f":"TREND(AR52:AR61,AQ52:AQ61,AQ63)","v":1.4},{"$f":"TREND(AS52:AS61,AQ52:AQ61,AQ63)","v":1},5,{"$f":"TREND(AU52:AU61,AT52:AT61,AT63)","v":1.1090909090909093},{"$f":"TREND(AV52:AV61,AT52:AT61,AT63)","v":1.3454545454545455}]
[null,null,"Тест №3 Общая теория",null,null,null,null,null,"Победа 1","Ничья","Победа 2",null,"ПРОГНОЗЫ НА ТОТАЛЫ",null,null,null,null,null,null,"Игр сыграно за сезон",null,{"$f":"OFFSET(Таблица!B1,MATCH(Расчеты!F14,Таблица!B2:'Таблица'!B100,0),1)","v":3},null,null,"Игр сыграно за сезон",null,{"$f":"OFFSET(Таблица!B1,MATCH(I14,Таблица!B2:'Таблица'!B100,0),1)","v":3},null,null,null,null,null,null,null,null,"10из10",10,{"$f":"TREND(AL52:AL61,AK52:AK61,AK64)","v":1.2666666666666666},{"$f":"TREND(AM52:AM61,AK52:AK61,AK64)","v":1.2},10,{"$f":"TREND(AO52:AO61,AN52:AN61,AN64)","v":1},{"$f":"TREND(AP52:AP61,AN52:AN61,AN64)","v":1.6666666666666667},10,{"$f":"TREND(AR52:AR61,AQ52:AQ61,AQ64)","v":1.4},{"$f":"TREND(AS52:AS61,AQ52:AQ61,AQ64)","v":1},10,{"$f":"TREND(AU52:AU61,AT52:AT61,AT64)","v":1.2},{"$f":"TREND(AV52:AV61,AT52:AT61,AT64)","v":1.8000000000000003}]
[null,null,null,null,null,null,null,null,{"$f":"(E68+E67+E69)/13","v":0.53846153846153844},null,{"$f":"(H67+H68+H69)/13","v":0.30769230769230771},null,null,"Шансы =>","Забьёт","Пропустит","примерный счёт ",null,null,"Вероятный исход в процентах",null,null,null,null,"РАСЧЁТ ДАННЫХ",null,"Очки",null,null,null,null,null,null,null,null,null,"Дома","Гости","Тотал","Дельта","К1 Заб","2К Заб","ОЗ","Тотал1","Тотал2","1X2","ОНЗ","Чет/нечет"]
[null,null,"Расчёт команды 1",null,"Число","Расчёт команды 2",null,"Число",{"$f":"(1+1-1)/3","v":0.33333333333333331},null,{"$f":"(1+1-1)/3","v":0.33333333333333331},null,"Команда 1",null,{"$f":"P80","v":"0"},{"$f":"P79","v":1.3333333333333333},{"$f":"O78","v":1},null,null,"П1","Ничья","П2","ТМ 2,5","ТБ2,5","Команда1",null,{"$f":"T68+T70+IF(V62>AA62,T71,0)","v":16.5},null,null,null,null,null,null,null,null,"5_5",{"$f":"AVERAGE(AL62,AP62)","v":0.8},{"$f":"AVERAGE(AM62,AP62)","v":1.4499999999999997},{"$f":"AK66+AL66","v":2.25},{"$f":"AK66-AL66","v":-0.64999999999999969},{"$f":"IF(AK66>1.5,\"Да\",\"-\")","v":"-"},"-",{"$f":"IF((AK66>1.5)*(AL66>1.5),\"Да\",\"-\")","v":"-"},{"$f":"IF(AM66>=3.5,\"ТБ2.5\",IF(AM66>=2.5,\"ТБ1.5\",IF(AM66<=0.5,\"ТМ2.5\",IF(AM66<2,\"ТМ3.5\",\"-\"))))","v":"-"},{"$f":"IF(AM66>=4.5,\"ТБ2.5\",IF(AM66>=3.5,\"ТБ1.5\",IF(AM66<=0.5,\"ТМ2.5\",IF(AM66<1,\"ТМ3.5\",\"-\"))))","v":"-"},{"$f":"IF(AN66>1.5,\"П1\",IF(AN66>1,\"1X\",IF(AN66<-1.5,\"П2\",IF(AN66<-1,\"X2\",\"-\"))))","v":"-"},{"$f":"IF(AK66<-0.5,\"Да\",IF(AL66<-0.5,\"Да\",\"-\"))","v":"-"},{"$f":"IF(ISEVEN(AM66*10),\"Чет\",\"Нечет\")","v":"Чет"}]
[null,null,"Сколько Побед из 5 последних игр дома",null,{"$f":"ДомаДома!P6","v":3},"Сколько Побед из 5 последних игр в гостях",null,{"$f":"ГостиГости!P6","v":1},{"$f":"I65/I66","v":1.6153846153846154},1,{"$f":"K65/K66","v":0.92307692307692313},null,"Команда 2",null,{"$f":"P66","v":1.3333333333333333},{"$f":"O66","v":"0"},{"$f":"P78","v":2},null,null,{"$f":"(AA66/T69)*100","v":69.473684210526315},{"$f":"100-(T67+V67)","v":-34.736842105263179},{"$f":"(AA67/T69)*100","v":65.26315789473685},{"$f":"100-X67","v":28.032786885245912},{"$f":"(AA68/W69)*100-10","v":71.967213114754088},"Команда2",null,{"$f":"V68+V69+IF(AA62>V62,T71,0)","v":15.5},null,null,null,null,null,null,null,null,"5_10",{"$f":"AVERAGE(AL63,AP63)","v":1.0424242424242425},{"$f":"AVERAGE(AM63,AP63)","v":1.1757575757575758},2.2181818181818183,-0.1333333333333333,"-","-","-",{"$f":"IF(AM67>=3.5,\"ТБ2.5\",IF(AM67>=2.5,\"ТБ1.5\",IF(AM67<=0.5,\"ТМ2.5\",IF(AM67<2,\"ТМ3.5\",\"ТМ2\"))))","v":"ТМ2"},"-","-","-","Чет"]
[null,null,"Сколько Побед из 5 последних игр вообще",null,{"$f":"Дома!P6","v":2},"Сколько Побед из 5 последних игр вообще",null,{"$f":"Гости!P6","v":2},{"$f":"((I72-I67)*I67)/3","v":1.0355029585798816},{"$f":"(I72-J67)*1/3","v":0.84615384615384615},{"$f":"((I72-K67)*K67)*1/3","v":0.80473372781065089},null,"Тотал матча: ",{"$f":"IF(N75>3,\"ТБ 2,5\",IF(N75>2,\"ТБ 1,5\",\"ТМ 2,5\"))","v":"ТМ 2,5"},null,null,null,null,null,{"$f":"X61-V61","v":11},null,{"$f":"AC61-AA61","v":8},{"$f":"(V64+AA64)/2","v":3},null,{"$f":"(V62/V64)+V63/3","v":2.333333333333333},{"$f":"AA62/AA64+AA63/3","v":2.666666666666667},{"$f":"(Y68+Z68)/2","v":2.5},null,null,null,null,null,null,null,null,"10_10",{"$f":"AVERAGE(AL64,AP64)","v":1.4666666666666668},{"$f":"AVERAGE(AM64,AP64)","v":1.4333333333333333},2.9000000000000004,3.3333333333333437E-2,"-","-","-",{"$f":"IF(AM68>=3.5,\"ТБ2.5\",IF(AM68>=2.5,\"ТБ1.5\",IF(AM68<=0.5,\"ТМ2.5\",IF(AM68<2,\"ТМ3.5\",\"-\"))))","v":"ТБ1.5"},"-","-","-","Нечет"]
[null,null,"Сколько Побед из 3 последних игр между командами",null,{"$f":"SUM(E70:E72)","v":2},"Сколько Побед из 3 последних игр между командами",null,{"$f":"SUM(H70:H72)","v":1},null,null,null,null,{"$f":"(E58+E59+E60)/3+O70/3","v":1.6666666666666665},{"$f":"(I58+I59+I60)/3","v":2},null,null,null,null,null,{"$f":"X61-1+5+((V64+AA64)/2)+(((V62+AA64)/2)/2)-2","v":23.75},null,{"$f":"(AA63*3)/2","v":7.5},{"$f":"((W68/4)*3+(W68/2)+(W68)+(W68/5)*4)/W68","v":3.0500000000000003},null,null,null,null,null,null,null,null,null,null,null,null,"5_5",{"$f":"AVERAGE(AR62,AV62)","v":2.4499999999999997},{"$f":"AVERAGE(AS62,AU62)","v":0.10000000000000026},2.5499999999999998,2.3499999999999996,"Да","-","-",{"$f":"IF(AM69>=3.5,\"ТБ2.5\",IF(AM69>=2.5,\"ТБ1.5\",IF(AM69<=0.5,\"ТМ2.5\",IF(AM69<2,\"ТМ3.5\",\"-\"))))","v":"ТБ1.5"},"-","П1","-","Нечет"]
[null,null,null,null,{"$f":"IF(K40=1,1,0)","v":0},null,null,{"$f":"IF(K40=2,1,0)","v":1},null,null,null,null,{"$f":"(J58+J59+J60)/3+O71/3","v":3},{"$f":"(F58+F59+F60)/3","v":1.3333333333333333},{"$f":"IF(K40=1,L40,M40)+IF(K41=1,L41,M41)+IF(K42=1,L42,M42)","v":2},"команда 1",null,null,null,{"$f":"(V63*3)/2","v":4.5},null,null,null,null,null,null,null,null,null,null,null,null,null,null,null,"5_10",{"$f":"AVERAGE(AR63,AV63)","v":1.3727272727272726},{"$f":"AVERAGE(AS63,AU63)","v":1.0545454545454547},2.4272727272727272,0.3181818181818179,"-","-","-",{"$f":"IF(AM70>=3.5,\"ТБ2.5\",IF(AM70>=2.5,\"ТБ1.5\",IF(AM70<=0.5,\"ТМ2.5\",IF(AM70<2,\"ТМ3.5\",\"ТМ2\"))))","v":"ТМ2"},"-","-","-","Чет"]
[null,null,null,"Тесты",{"$f":"IF(K41=1,1,0)","v":1},null,null,{"$f":"IF(K41=2,1,0)","v":0},null,null,null,null,null,null,{"$f":"IF(K40=2,L40,M40)+IF(K41=2,L41,M41)+IF(K42=2,L42,M42)","v":4},"команда 2",null,null,null,{"$f":"IF(V62>AA62,V62-AA62,IF(AA62>V62,AA62-V62,0))","v":1},null,null,null,null,null,null,null,null,null,null,null,null,null,null,null,"10_10",{"$f":"AVERAGE(AR64,AV64)","v":1.6},{"$f":"AVERAGE(AS64,AU64)","v":1.1000000000000001},2.7,0.5,"Да","-","-",{"$f":"IF(AM71>=3.5,\"ТБ2.5\",IF(AM71>=2.5,\"ТБ1.5\",IF(AM71<=0.5,\"ТМ2.5\",IF(AM71<2,\"ТМ3.5\",\"-\"))))","v":"ТБ1.5"},"-","-","-","Нечет"]
[null,null,"№1",{"$f":"IF(I68>K68,\"П1\",IF(K68>I68,\"П2\",0))","v":"П1"},{"$f":"IF(K42=1,1,0)","v":1},null,null,{"$f":"IF(K42=2,1,0)","v":0},{"$f":"I67+J67+K67","v":3.5384615384615383}]
[null,null,null,null,null,null,null,null,null,null,null,null,null,null,{"$f":"IF(O70>O71,O70/O71,O71/O70)","v":2},{"$f":"IF(O70>O71,P70,P71)","v":"команда 2"},null,null,null,null,null,null,null,null,null,null,null,null,null,null,null,null,null,null,null,"Инверсия","Дома Все игры",null,null,"Гости все игры",null,null,"ДомаДома",null,null,"ГостиГости"]
[null,null,"Общий прогноз",null,null,null,null,null,null,null,null,null,{"$f":"(M69*M70*O73)/3","v":3.3333333333333335},null,null,null,{"$f":"IF(Q66=0,1,Q66)","v":1},null,null,"Расчет матчей",null,null,null,null,null,null,null,null,null,null,null,null,null,null,null,null,"Игр","Заб","Проп","Игр","Заб","Проп","Игр","Заб","Проп","Игр","Заб","Проп"]
[null,null,"№ Теста","прогноз:",null,null,null,null,null,null,null,null,0.5,{"$f":"(((P79+P80)*M74)/(M70*N69)-N76)/1.75","v":0.13756613756613761},null,null,{"$f":"IF(Q67=0,1,Q67)","v":2},null,null,"Вводные данные",null,"Хозяева",null,"Гости",null,{"$f":"IF(W81-Y81>0.23,\"П1\",IF(W81>Y81,\"1X\",IF(Y81-W81>0.24,\"П2\",IF(Y81>W81,\"Х2\",\"\"))))","v":"П1"},"Расчет",null,null,null,null,null,null,null,null,null,0,{"$f":"Дома!L2","v":1},{"$f":"Дома!M2","v":1},0,{"$f":"Гости!L2","v":1},{"$f":"Гости!M2","v":2},0,{"$f":"ДомаДома!L2","v":1},{"$f":"ДомаДома!M2","v":1},0,{"$f":"ГостиГости!L2","v":2},{"$f":"ГостиГости!M2","v":1}]
[null,null,"Тест № 1",{"$f":"H51","v":"П2"},null,null,null,null,null,null,null,null,1.5,{"$f":"(Q74/Q75)*(Q75/Q74)/2","v":0.5},"Примерный счёт",null,null,null,null,"Голов забито дома",{"$f":"Дома!Z11+Гости!Z11","v":11},"Забито дома",{"$f":"Дома!Z11","v":5},"Забито в гостях",{"$f":"Гости!AG11","v":5},{"$f":"IF(W81>=1,\"Yes\",\"No\")","v":"Yes"},"Ср. забитых дома",{"$f":"U76/U80/U81","v":1.1000000000000001},null,null,null,null,null,null,null,null,1,{"$f":"Дома!L3","v":2},{"$f":"Дома!M3","v":1},1,{"$f":"Гости!L3","v":2},{"$f":"Гости!M3","v":1},1,{"$f":"ДомаДома!L3","v":1},{"$f":"ДомаДома!M3","v":0},1,{"$f":"ГостиГости!L3","v":2},{"$f":"ГостиГости!M3","v":4}]
[null,null,"Тест № 2",{"$f":"O47","v":"X2"},null,null,null,null,null,null,null,null,2.5,null,{"$f":"M69*N69*(O70/3)/3","v":0.74074074074074059},{"$f":"M70*N70*(O71/3)/3","v":1.7777777777777777},null,null,null,"Голов пропущено дома",{"$f":"Дома!AA11+Гости!AA11","v":9},"Пропущено дома",{"$f":"Дома!AA11","v":5},"Пропущено в гостях",{"$f":"Гости!AH11","v":6},{"$f":"IF(Y81>=1,\"Yes\",\"No\")","v":"No"},"Ср. забитых в гостях",{"$f":"U78/U80/U82","v":1},null,null,null,null,null,null,null,null,2,{"$f":"Дома!L4","v":1},{"$f":"Дома!M4","v":1},2,{"$f":"Гости!L4","v":0},{"$f":"Гости!M4","v":0},2,{"$f":"ДомаДома!L4","v":1},{"$f":"ДомаДома!M4","v":3},2,{"$f":"ГостиГости!L4","v":1},{"$f":"ГостиГости!M4","v":1}]
[null,null,"Тест № 3",{"$f":"IF(N61>O61,\"П1\",IF(O61>N61,\"П2\",\"Х\"))","v":"П2"},null,null,null,null,null,null,null,null,3.5,null,{"$f":"IF(O77>4.55,5,IF(O77>3.55,4,IF(O77>2.55,3,IF(O77>1.55,2,IF(O77>0.55,1,0)))))","v":1},{"$f":"IF(P77>4.55,5,IF(P77>3.55,4,IF(P77>2.55,3,IF(P77>1.55,2,IF(P77>0.55,1,0)))))","v":2},null,null,null,"Голов забито в гостях",{"$f":"Дома!AG11+Гости!AG11","v":10},"Матчей дома",{"$f":"Дома!V11","v":4},"Матчей в гостях",{"$f":"Гости!AC11","v":4},"команда 1",null,"команда 2",null,null,null,null,null,null,null,null,3,{"$f":"Дома!L5","v":1},{"$f":"Дома!M5","v":0},3,{"$f":"Гости!L5","v":2},{"$f":"Гости!M5","v":4},3,{"$f":"ДомаДома!L5","v":2},{"$f":"ДомаДома!M5","v":1},3,{"$f":"ГостиГости!L5","v":0},{"$f":"ГостиГости!M5","v":0}]
[null,null,"Тест № 4",{"$f":"D72","v":"П1"},null,null,null,null,null,null,null,null,null,null,null,{"$f":"IF(M70>=N70,N70,\"0\")","v":1.3333333333333333},"к2",null,null,"Голов пропущено в гостях",{"$f":"Дома!AH11+Гости!AH11","v":14},"Сила атаки",{"$f":"W76/W78","v":1.25},"Сила атаки",{"$f":"Y76/Y78","v":1.25},"атака","оборона","атака","оборона",null,null,null,null,null,null,null,4,{"$f":"Дома!L6","v":0},{"$f":"Дома!M6","v":3},4,{"$f":"Гости!L6","v":1},{"$f":"Гости!M6","v":0},4,{"$f":"ДомаДома!L6","v":1},{"$f":"ДомаДома!M6","v":0},4,{"$f":"ГостиГости!L6","v":1},{"$f":"ГостиГости!M6","v":1}]
[null,null,"Тотал",{"$f":"N68","v":"ТМ 2,5"},null,null,null,null,null,null,null,null,{"$f":"((P79+P80)*M74)/(M70*N69)+N76","v":1.2407407407407409},null,null,{"$f":"IF(M69>=N69,N69,\"0\")","v":"0"},"к1",null,null,"Кол-во команд",2,"Сила обороны",{"$f":"W77/W78","v":1.25},"Сила обороны",{"$f":"Y77/Y78","v":1.5},{"$f":"W79","v":1.25},{"$f":"W80","v":1.25},{"$f":"Y79","v":1.25},{"$f":"Y80","v":1.5},null,null,null,null,null,null,null,5,{"$f":"Дома!L7","v":1},{"$f":"Дома!M7","v":3},5,{"$f":"Гости!L7","v":1},{"$f":"Гости!M7","v":1},5,{"$f":"ДомаДома!L7","v":3},{"$f":"ДомаДома!M7","v":0},5,{"$f":"ГостиГости!L7","v":0},{"$f":"ГостиГости!M7","v":3}]
[null,null,null,null,null,null,null,null,null,null,null,null,null,null,null,null,null,null,null,"Игр сыграно дома",{"$f":"(Дома!V11+Гости!V11)/2","v":5},"Расчет голов",{"$f":"(AVERAGE(W79,Y80))-0.25","v":1.125},"Расчет голов",{"$f":"(AVERAGE(Y79,W80))-0.5","v":0.75},null,null,"Прогноз на матч",null,null,null,null,null,null,null,null,6,{"$f":"Дома!L8","v":1},{"$f":"Дома!M8","v":1},6,{"$f":"Гости!L8","v":0},{"$f":"Гости!M8","v":0},6,{"$f":"ДомаДома!L8","v":1},{"$f":"ДомаДома!M8","v":2},6,{"$f":"ГостиГости!L8","v":1},{"$f":"ГостиГости!M8","v":0}]
[null,null,null,null,null,null,null,null,null,null,null,null,null,null,null,null,null,null,null,"Игр сыграно в гостях",{"$f":"(Дома!AC11+Гости!AC11)/2","v":5},null,null,null,null,null,null,{"$f":"SUMIFS(U84:U89,W84:W89,\">27,7%\")","v":0},{"$f":"SUMIFS(Y84:Y89,AA84:AA89,\">27,7%\")","v":0},null,null,null,null,null,null,null,7,{"$f":"Дома!L9","v":2},{"$f":"Дома!M9","v":1},7,{"$f":"Гости!L9","v":0},{"$f":"Гости!M9","v":0},7,{"$f":"ДомаДома!L9","v":3},{"$f":"ДомаДома!M9","v":1},7,{"$f":"ГостиГости!L9","v":0},{"$f":"ГостиГости!M9","v":0}]
[null,null,null,null,null,null,null,null,null,null,null,null,null,null,null,null,null,null,null,"Расчитываем вероятность голов",null,null,null,null,null,null,null,{"$f":"MAX(W84:W89)","v":0.3652340257781434},{"$f":"MAX(AA84:AA89)","v":0.47236655274101469},null,null,null,null,null,null,null,8,{"$f":"Дома!L10","v":0},{"$f":"Дома!M10","v":1},8,{"$f":"Гости!L10","v":2},{"$f":"Гости!M10","v":1},8,{"$f":"ДомаДома!L10","v":1},{"$f":"ДомаДома!M10","v":1},8,{"$f":"ГостиГости!L10","v":2},{"$f":"ГостиГости!M10","v":1}]
[null,null,"15 матчей","голы дома","голы гости","проп дома","проп гости","забито","проп","итог",null,null,null,null,null,null,null,null,null,"Забьют хозяева",1,"Вероятность",{"$f":"_xlfn.POISSON.DIST(U84,W81,FALSE)","v":0.3652340257781434},"Забьют гости",1,"Вероятность",{"$f":"_xlfn.POISSON.DIST(Y84,Y81,FALSE)","v":0.35427491455576104},null,null,null,null,null,null,null,null,null,9,{"$f":"Дома!L11","v":1},{"$f":"Дома!M11","v":1},9,{"$f":"Гости!L11","v":2},{"$f":"Гости!M11","v":1},9,{"$f":"ДомаДома!L11","v":0},{"$f":"ДомаДома!M11","v":1},9,{"$f":"ГостиГости!L11","v":2},{"$f":"ГостиГости!M11","v":2}]
[null,null,{"$f":"Очные!A1","v":"Everton"},{"$f":"Дома!Z16","v":10},{"$f":"Дома!AG16","v":6},{"$f":"Дома!AA16","v":7},{"$f":"Дома!AH16","v":10},{"$f":"D85+E85","v":16},{"$f":"F85+G85","v":17},{"$f":"H85/I85","v":0.94117647058823528},null,null,null,null,null,null,null,null,null,null,2,null,{"$f":"_xlfn.POISSON.DIST(U85,W81,FALSE)","v":0.20544413950020576},null,2,null,{"$f":"_xlfn.POISSON.DIST(Y85,Y81,FALSE)","v":0.13285309295841038},null,null,null,null,null,null,null,null,"5из5",5,{"$f":"TREND(AL75:AL79,AK75:AK79,AK85)","v":9.9999999999999867E-2},{"$f":"TREND(AM75:AM79,AK75:AK79,AK85)","v":2.1},5,{"$f":"TREND(AO75:AO79,AN75:AN79,AN85)","v":1.2000000000000002},{"$f":"TREND(AP75:AP79,AN75:AN79,AN85)","v":1.0999999999999999},5,{"$f":"TREND(AR75:AR79,AQ75:AQ79,AQ85)","v":1.5},{"$f":"TREND(AS75:AS79,AQ75:AQ79,AQ85)","v":0.70000000000000018},5,{"$f":"TREND(AU75:AU79,AT75:AT79,AT85)","v":2.2204460492503131E-16},{"$f":"TREND(AV75:AV79,AT75:AT79,AT85)","v":0.20000000000000018}]
[null,null,{"$f":"Очные!B1","v":"Colo Colo"},{"$f":"Гости!Z16","v":7},{"$f":"Гости!AG16","v":7},{"$f":"Гости!AA16","v":4},{"$f":"Гости!AH16","v":10},{"$f":"D86+E86","v":14},{"$f":"F86+G86","v":14},{"$f":"H86/I86","v":1},null,null,null,null,null,null,null,null,null,null,3,null,{"$f":"_xlfn.POISSON.DIST(U86,W81,FALSE)","v":7.7041552312577144E-2},null,3,null,{"$f":"_xlfn.POISSON.DIST(Y86,Y81,FALSE)","v":3.3213273239602596E-2},null,null,null,null,null,null,null,null,"5из10",5,{"$f":"TREND(AL75:AL84,AK75:AK84,AK86)","v":0.97575757575757582},{"$f":"TREND(AM75:AM84,AK75:AK84,AK86)","v":1.3090909090909093},5,{"$f":"TREND(AO75:AO84,AN75:AN84,AN86)","v":1.1090909090909091},{"$f":"TREND(AP75:AP84,AN75:AN84,AN86)","v":0.93939393939393934},5,{"$f":"TREND(AR75:AR84,AQ75:AQ84,AQ86)","v":1.4000000000000001},{"$f":"TREND(AS75:AS84,AQ75:AQ84,AQ86)","v":1},5,{"$f":"TREND(AU75:AU84,AT75:AT84,AT86)","v":1.0909090909090908},{"$f":"TREND(AV75:AV84,AT75:AT84,AT86)","v":1.2545454545454544}]
[null,null,"Первый гол :",null,null,null,{"$f":"IF(J85>=J86,\"1 команда\",\"2 команда\")","v":"2 команда"},null,null,null,null,null,null,null,null,null,null,null,null,null,4,null,{"$f":"_xlfn.POISSON.DIST(U87,W81,FALSE)","v":2.1667936587912322E-2},null,4,null,{"$f":"_xlfn.POISSON.DIST(Y87,Y81,FALSE)","v":6.2274887324254864E-3},null,null,null,null,null,null,null,null,"10из10",10,{"$f":"TREND(AL75:AL84,AK75:AK84,AK87)","v":0.73333333333333328},{"$f":"TREND(AM75:AM84,AK75:AK84,AK87)","v":1.4000000000000004},10,{"$f":"TREND(AO75:AO84,AN75:AN84,AN87)","v":1.1999999999999997},{"$f":"TREND(AP75:AP84,AN75:AN84,AN87)","v":0.33333333333333326},10,{"$f":"TREND(AR75:AR84,AQ75:AQ84,AQ87)","v":1.4000000000000001},{"$f":"TREND(AS75:AS84,AQ75:AQ84,AQ87)","v":1.0000000000000002},10,{"$f":"TREND(AU75:AU84,AT75:AT84,AT87)","v":0.99999999999999978},{"$f":"TREND(AV75:AV84,AT75:AT84,AT87)","v":0.79999999999999882}]
[null,null,null,null,null,null,null,null,null,null,null,null,null,null,null,null,null,null,null,null,5,null,{"$f":"_xlfn.POISSON.DIST(U88,W81,FALSE)","v":4.8752857322802729E-3},null,5,null,{"$f":"_xlfn.POISSON.DIST(Y88,Y81,FALSE)","v":9.3412330986382343E-4},null,null,null,null,null,null,null,null,null,"Дома","Гости","Тотал","Дельта","К1 Заб","2К Заб","ОЗ","Тотал1","Тотал2","1X2","ОНЗ","Чет/нечет"]
[null,null,null,null,null,null,null,null,null,null,null,null,null,null,null,null,null,null,null,null,0,null,{"$f":"_xlfn.POISSON.DIST(U89,W81,FALSE)","v":0.32465246735834974},null,0,null,{"$f":"_xlfn.POISSON.DIST(Y89,Y81,FALSE)","v":0.47236655274101469},null,null,null,null,null,null,null,null,"5_5",{"$f":"AVERAGE(AL85,AP85)","v":0.59999999999999987},{"$f":"AVERAGE(AM85,AP85)","v":1.6},{"$f":"AK89+AL89","v":2.2000000000000002},{"$f":"AK89-AL89","v":-1.0000000000000002},{"$f":"IF(AK89>1.5,\"Да\",\"-\")","v":"-"},"Да",{"$f":"IF((AK89>1.5)*(AL89>1.5),\"Да\",\"-\")","v":"-"},{"$f":"IF(AM89>=3.5,\"ТБ2.5\",IF(AM89>=2.5,\"ТБ1.5\",IF(AM89<=0.5,\"ТМ2.5\",IF(AM89<2,\"ТМ3.5\",\"-\"))))","v":"-"},{"$f":"IF(AM89>=4.5,\"ТБ2.5\",IF(AM89>=3.5,\"ТБ1.5\",IF(AM89<=0.5,\"ТМ2.5\",IF(AM89<1,\"ТМ3.5\",\"-\"))))","v":"-"},{"$f":"IF(AN89>1.5,\"П1\",IF(AN89>1,\"1X\",IF(AN89<-1.5,\"П2\",IF(AN89<-1,\"X2\",\"-\"))))","v":"-"},{"$f":"IF(AK89<-0.5,\"Да\",IF(AL89<-0.5,\"Да\",\"-\"))","v":"-"},{"$f":"IF(ISEVEN(AM89*10),\"Чет\",\"Нечет\")","v":"Чет"}]
[null,null,null,null,null,null,null,null,null,null,null,null,null,null,null,null,null,null,null,null,null,null,null,null,null,null,null,null,null,null,null,null,null,null,null,"5_10",{"$f":"AVERAGE(AL86,AP86)","v":0.95757575757575752},{"$f":"AVERAGE(AM86,AP86)","v":1.1242424242424243},2.081818181818182,-0.16666666666666674,"-","-","-",{"$f":"IF(AM90>=3.5,\"ТБ2.5\",IF(AM90>=2.5,\"ТБ1.5\",IF(AM90<=0.5,\"ТМ2.5\",IF(AM90<2,\"ТМ3.5\",\"ТМ2\"))))","v":"ТМ2"},"-","-","-","Чет"]
[null,null,null,null,null,null,null,null,null,null,null,null,null,null,null,null,null,null,null,null,null,null,null,null,null,null,null,null,null,null,null,null,null,null,null,"10_10",{"$f":"AVERAGE(AL87,AP87)","v":0.53333333333333321},{"$f":"AVERAGE(AM87,AP87)","v":0.86666666666666681},1.4,-0.33333333333333359,"-","-","-",{"$f":"IF(AM91>=3.5,\"ТБ2.5\",IF(AM91>=2.5,\"ТБ1.5\",IF(AM91<=0.5,\"ТМ2.5\",IF(AM91<2,\"ТМ3.5\",\"-\"))))","v":"ТМ3.5"},"-","-","-","Чет"]
[null,null,null,"Всего",null,null,null,null,null,null,"Дома",null,null,null,null,null,null,"На выезде",null,null,null,null,null,null,null,null,null,null,null,null,null,null,null,null,null,"5_5",{"$f":"AVERAGE(AR85,AV85)","v":0.85000000000000009},{"$f":"AVERAGE(AS85,AU85)","v":0.3500000000000002},1.2000000000000002,0.49999999999999989,"-","-","-",{"$f":"IF(AM92>=3.5,\"ТБ2.5\",IF(AM92>=2.5,\"ТБ1.5\",IF(AM92<=0.5,\"ТМ2.5\",IF(AM92<2,\"ТМ3.5\",\"-\"))))","v":"ТМ3.5"},"-","-","-","Чет"]
[null,null,null,"Игр","В","Н","П","Забито","Пропущено","Очки","Игр","В","Н","П","Забито","Пропущено","Очки","Игр","В","Н","П","Забито","Пропущено","Очки",null,null,null,null,null,null,null,null,null,null,null,"5_10",{"$f":"AVERAGE(AR86,AV86)","v":1.3272727272727272},{"$f":"AVERAGE(AS86,AU86)","v":1.0454545454545454},2.3727272727272726,0.28181818181818175,"-","-","-",{"$f":"IF(AM93>=3.5,\"ТБ2.5\",IF(AM93>=2.5,\"ТБ1.5\",IF(AM93<=0.5,\"ТМ2.5\",IF(AM93<2,\"ТМ3.5\",\"ТМ2\"))))","v":"ТМ2"},"-","-","-","Нечет"]
[null,null,"Хозяева",{"$f":"Дома!O16","v":15},{"$f":"Дома!P16","v":5},{"$f":"Дома!Q16","v":5},{"$f":"Дома!R16","v":5},{"$f":"Дома!S16","v":16},{"$f":"Дома!T16","v":17},{"$f":"Дома!U16","v":20},{"$f":"Дома!V15","v":7},{"$f":"Дома!W16","v":4},{"$f":"Дома!X16","v":1},{"$f":"Дома!Y16","v":2},{"$f":"Дома!Z16","v":10},{"$f":"Дома!AA16","v":7},{"$f":"Дома!AB16","v":13},{"$f":"Дома!AC16","v":8},{"$f":"Дома!AD16","v":1},{"$f":"Дома!AE16","v":4},{"$f":"Дома!AF16","v":3},{"$f":"Дома!AG16","v":6},{"$f":"Дома!AH16","v":10},{"$f":"Дома!AI16","v":7},null,null,null,null,null,null,null,null,null,null,null,"10_10",{"$f":"AVERAGE(AR87,AV87)","v":1.0999999999999994},{"$f":"AVERAGE(AS87,AU87)","v":1},2.0999999999999996,9.9999999999999423E-2,"-","-","-",{"$f":"IF(AM94>=3.5,\"ТБ2.5\",IF(AM94>=2.5,\"ТБ1.5\",IF(AM94<=0.5,\"ТМ2.5\",IF(AM94<2,\"ТМ3.5\",\"-\"))))","v":"-"},"-","-","-","Нечет"]
[null,null,"Гости",{"$f":"Гости!O16","v":15},{"$f":"Гости!P16","v":6},{"$f":"Гости!Q16","v":6},{"$f":"Гости!R16","v":3},{"$f":"Гости!S16","v":14},{"$f":"Гости!U16","v":24},{"$f":"Гости!U16","v":24},{"$f":"Гости!V16","v":8},{"$f":"Гости!W16","v":4},{"$f":"Гости!X16","v":3},{"$f":"Гости!Y16","v":1},{"$f":"Гости!Z16","v":7},{"$f":"Гости!AA16","v":4},{"$f":"Гости!AB16","v":15},{"$f":"Гости!AC16","v":7},{"$f":"Гости!AD16","v":2},{"$f":"Гости!AE16","v":3},{"$f":"Гости!AF16","v":2},{"$f":"Гости!AG16","v":7},{"$f":"Гости!AH16","v":10},{"$f":"Гости!AI16","v":9}]
[null,null,null,"Забивают","Пропускают","Забивают","Пропускают","Забивают","Пропускают",null,"Т1","Т2","Заб1","Заб2","Ср. заб.","Счет",null,"Забьет гол ",null,"Обе забьют?"]
[null,null,"Хозяева",{"$f":"H94/D94","v":1.0666666666666667},{"$f":"I94/D94","v":1.1333333333333333},{"$f":"O94/K94","v":1.4285714285714286},{"$f":"P94/K94","v":1},{"$f":"V94/R94","v":0.75},{"$f":"W94/R94","v":1.25},null,{"$f":"AVERAGE(F97,D97)+AVERAGE(I98,E98)-AVERAGE(1.25,O97)","v":1.6285714285714286},{"$f":"AVERAGE(H98,D98)+AVERAGE(G97,E97)-AVERAGE(1.25,O97)","v":0.89999999999999991},{"$f":"AVERAGE(F97,D97)","v":1.2476190476190476},{"$f":"AVERAGE(H98,D98)","v":0.96666666666666667},{"$f":"AVERAGE(Дома!L2:M16,Гости!L2:M16)","v":1.0166666666666666},{"$f":"ROUND(AVERAGE(K97,M97),0)","v":1},{"$f":"ROUND(AVERAGE(L97,N97),0)","v":1},{"$f":"IF(P97>1,\"ДА\",\"НЕТ\")","v":"НЕТ"},{"$f":"IF(Q97>=1,\"ДА\",\"НЕТ\")","v":"ДА"},{"$f":"IF(AND(R97=\"ДА\",S97=\"ДА\"),\"ДА\",\"НЕТ\")","v":"НЕТ"}]
[null,null,"Гости",{"$f":"H95/D95","v":0.93333333333333335},{"$f":"I95/D95","v":1.6},{"$f":"O95/K95","v":0.875},{"$f":"P95/K95","v":0.5},{"$f":"V95/R95","v":1},{"$f":"W95/R95","v":1.4285714285714286}]
[]
[]
[null,null,"Исходы №1",null,null,"Исходы №2",null,null,"Исходы №3",null,null,"Исходы №4"]
[null,null,"П1","Х","П2","П1","Х","П2","П1","Х","П2","П1","П2",null,null,null,null,null,{"$f":"Очные!A1","v":"Everton"},null,null,null,null,null,null,null,null,{"$f":"Очные!B1","v":"Colo Colo"}]
[null,null,{"$f":"SUM(Дома!J2:J6)","v":7},{"$f":"(SUM(Дома!K2:K6)+SUM(Гости!J2:J6))/1.5","v":7.333333333333333},{"$f":"SUM(Гости!K2:K6)","v":6},{"$f":"Дома!P6/5/(Дома!P6/5+Дома!Q6/5+Гости!P6/5+Гости!Q6/5)","v":0.2857142857142857},{"$f":"(Дома!Q6/5+Гости!Q6/5)/(Дома!P6/5+Дома!Q6/5+Гости!P6/5+Гости!Q6/5)","v":0.4285714285714286},{"$f":"Гости!P6/5/(Дома!P6/5+Дома!Q6/5+Гости!P6/5+Гости!Q6/5)","v":0.2857142857142857},{"$f":"Дома!S6+Дома!T6+Гости!S6+Гости!T6","v":24},{"$f":"Дома!S6+Дома!T6+Гости!S6+Гости!T6+ДомаДома!S6+ДомаДома!T6+ГостиГости!S6+ГостиГости!T6","v":48},{"$f":"ДомаДома!S6+ДомаДома!T6+ГостиГости!S6+ГостиГости!T6","v":24},{"$f":"E103+I103","v":30},{"$f":"C103+K103","v":31},null,null,null,null,null,null,"Матчей","В","Н","П","Заб","Проп","Очки","Место",null,"Матчей","В","Н","П","Заб","Проп","Очки","Место"]
[null,null,{"$f":"C103/(C103+D103+E103)","v":0.34426229508196721},{"$f":"D103/(C103+D103+E103)","v":0.36065573770491804},{"$f":"E103/(C103+D103+E103)","v":0.29508196721311475},null,null,null,{"$f":"I103/(I103+J103+K103)","v":0.25},{"$f":"J103/(I103+J103+K103)","v":0.5},{"$f":"K103/(I103+J103+K103)","v":0.25},{"$f":"L103/(L103+M103)","v":0.49180327868852458},{"$f":"M103/(L103+M103)","v":0.50819672131147542},null,null,null,null,null,"Общая",{"$f":"INDEX(Таблица!C:C,MATCH(Расчеты!S102,Таблица!B:B,FALSE),1)","v":3},{"$f":"INDEX(Таблица!D:D,MATCH(Расчеты!S102,Таблица!B:B,FALSE),1)","v":1},{"$f":"INDEX(Таблица!E:E,MATCH(Расчеты!S102,Таблица!B:B,FALSE),1)","v":2},{"$f":"INDEX(Таблица!F:F,MATCH(Расчеты!S102,Таблица!B:B,FALSE),1)","v":0},{"$f":"INDEX(Таблица!G:G,MATCH(Расчеты!S102,Таблица!B:B,FALSE),1)","v":4},{"$f":"INDEX(Таблица!H:H,MATCH(Расчеты!S102,Таблица!B:B,FALSE),1)","v":3},{"$f":"INDEX(Таблица!I:I,MATCH(Расчеты!S102,Таблица!B:B,FALSE),1)","v":5},{"$f":"INDEX(Таблица!A:A,MATCH(Расчеты!S102,Таблица!B:B,FALSE),1)","v":6},"Общая",{"$f":"INDEX(Таблица!C:C,MATCH(Расчеты!AB102,Таблица!B:B,FALSE),1)","v":3},{"$f":"INDEX(Таблица!D:D,MATCH(Расчеты!AB102,Таблица!B:B,FALSE),1)","v":1},{"$f":"INDEX(Таблица!E:E,MATCH(Расчеты!AB102,Таблица!B:B,FALSE),1)","v":1},{"$f":"INDEX(Таблица!F:F,MATCH(Расчеты!AB102,Таблица!B:B,FALSE),1)","v":1},{"$f":"INDEX(Таблица!G:G,MATCH(Расчеты!AB102,Таблица!B:B,FALSE),1)","v":3},{"$f":"INDEX(Таблица!H:H,MATCH(Расчеты!AB102,Таблица!B:B,FALSE),1)","v":3},{"$f":"INDEX(Таблица!I:I,MATCH(Расчеты!AB102,Таблица!B:B,FALSE),1)","v":4},{"$f":"INDEX(Таблица!A:A,MATCH(Расчеты!AB102,Таблица!B:B,FALSE),1)","v":9}]
[null,null,"ДИ №1",null,null,"ДИ №2",null,null,"ДИ №3",null,null,"ДИ №4",null,null,null,null,null,null,"Дома",{"$f":"INDEX(Таблица!M:M,MATCH(S102,Таблица!L:L,FALSE),1)","v":1},{"$f":"INDEX(Таблица!N:N,MATCH(S102,Таблица!L:L,FALSE),1)","v":0},{"$f":"INDEX(Таблица!O:O,MATCH(S102,Таблица!L:L,FALSE),1)","v":1},{"$f":"INDEX(Таблица!P:P,MATCH(S102,Таблица!L:L,FALSE),1)","v":0},{"$f":"INDEX(Таблица!Q:Q,MATCH(S102,Таблица!L:L,FALSE),1)","v":1},{"$f":"INDEX(Таблица!R:R,MATCH(S102,Таблица!L:L,FALSE),1)","v":1},{"$f":"INDEX(Таблица!S:S,MATCH(S102,Таблица!L:L,FALSE),1)","v":1},{"$f":"INDEX(Таблица!K:K,MATCH(S102,Таблица!L:L,FALSE),1)","v":11},"Дома",{"$f":"INDEX(Таблица!M:M,MATCH(AB102,Таблица!L:L,FALSE),1)","v":2},{"$f":"INDEX(Таблица!N:N,MATCH(AB102,Таблица!L:L,FALSE),1)","v":0},{"$f":"INDEX(Таблица!O:O,MATCH(AB102,Таблица!L:L,FALSE),1)","v":1},{"$f":"INDEX(Таблица!P:P,MATCH(AB102,Таблица!L:L,FALSE),1)","v":1},{"$f":"INDEX(Таблица!Q:Q,MATCH(AB102,Таблица!L:L,FALSE),1)","v":1},{"$f":"INDEX(Таблица!R:R,MATCH(AB102,Таблица!L:L,FALSE),1)","v":2},{"$f":"INDEX(Таблица!S:S,MATCH(AB102,Таблица!L:L,FALSE),1)","v":1},{"$f":"INDEX(Таблица!K:K,MATCH(AB102,Таблица!L:L,FALSE),1)","v":13}]
[null,null,"1Х",12,"Х2","1Х",12,"Х2","1Х",12,"Х2","1X2","ФОРА",null,null,null,null,null,"Гости",{"$f":"INDEX(Таблица!W:W,MATCH(S102,Таблица!V:V,FALSE),1)","v":2},{"$f":"INDEX(Таблица!X:X,MATCH(S102,Таблица!V:V,FALSE),1)","v":1},{"$f":"INDEX(Таблица!Y:Y,MATCH(S102,Таблица!V:V,FALSE),1)","v":1},{"$f":"INDEX(Таблица!Z:Z,MATCH(S102,Таблица!V:V,FALSE),1)","v":0},{"$f":"INDEX(Таблица!AA:AA,MATCH(S102,Таблица!V:V,FALSE),1)","v":3},{"$f":"INDEX(Таблица!AB:AB,MATCH(S102,Таблица!V:V,FALSE),1)","v":2},{"$f":"INDEX(Таблица!AC:AC,MATCH(S102,Таблица!V:V,FALSE),1)","v":4},{"$f":"INDEX(Таблица!U:U,MATCH(S102,Таблица!V:V,FALSE),1)","v":2},"Гости",{"$f":"INDEX(Таблица!W:W,MATCH(AB102,Таблица!V:V,FALSE),1)","v":1},{"$f":"INDEX(Таблица!X:X,MATCH(AB102,Таблица!V:V,FALSE),1)","v":1},{"$f":"INDEX(Таблица!Y:Y,MATCH(AB102,Таблица!V:V,FALSE),1)","v":0},{"$f":"INDEX(Таблица!Z:Z,MATCH(AB102,Таблица!V:V,FALSE),1)","v":0},{"$f":"INDEX(Таблица!AA:AA,MATCH(AB102,Таблица!V:V,FALSE),1)","v":2},{"$f":"INDEX(Таблица!AB:AB,MATCH(AB102,Таблица!V:V,FALSE),1)","v":1},{"$f":"INDEX(Таблица!AC:AC,MATCH(AB102,Таблица!V:V,FALSE),1)","v":3},{"$f":"INDEX(Таблица!U:U,MATCH(AB102,Таблица!V:V,FALSE),1)","v":5}]
[null,null,{"$f":"AVERAGE(C104,D104)","v":0.35245901639344263},{"$f":"AVERAGE(C104,E104)","v":0.31967213114754101},{"$f":"AVERAGE(D104,E104)","v":0.32786885245901642},{"$f":"AVERAGE(F103,G103)","v":0.35714285714285715},{"$f":"AVERAGE(F103,H103)","v":0.2857142857142857},{"$f":"AVERAGE(G103,H103)","v":0.35714285714285715},{"$f":"AVERAGE(I104,J104)","v":0.375},{"$f":"AVERAGE(I104,K104)","v":0.25},{"$f":"AVERAGE(J104,K104)","v":0.375},{"$f":"IF(L104>M104,\"1Х\",\"Х2\")","v":"Х2"},{"$f":"IF(L104>M104,\"Ф1(0)\",\"Ф2(0)\")","v":"Ф2(0)"},null,null,"Команды","Дмашние матчи","Гостевые матчи","Домашние голы","Гостевые голы","Среднее дома","Среднее гости","Атака дома","Сила атаки дома","Сила атаки в гостях","взвешенная сила атаки дома","взвешенная сила атаки в гостях","Дома пропущенно","Пропущенно в гостях","среднее дома","среднее в гостях","защита дома","слабость дома","слабость гости","слабость дома","слабость гости"]
[null,null,"ТОТАЛЫ №1",null,"ТОТАЛЫ №2",null,"ТОТАЛЫ №3",null,null,"З 1к","П 1к","З 2к","П 2к",null,null,{"$f":"S102","v":"Everton"},{"$f":"T105","v":1},{"$f":"T106","v":2},{"$f":"X105","v":1},{"$f":"X106","v":3},{"$f":"S108/Q108","v":1},1.5,{"$f":"U108/V108","v":0.66666666666666663},{"$f":"U108/U110","v":1.5},{"$f":"V108/V110","v":0.89999999999999991},{"$f":"(U108+V108)/((U110+V110))","v":1.0714285714285714},{"$f":"(V108 + U108)/(U110 + V110)","v":1.0714285714285714},{"$f":"Y105","v":1},{"$f":"Y106","v":2},{"$f":"AB108/Q108","v":1},{"$f":"AC108/R108","v":1},{"$f":" AE108/AD108","v":1},{"$f":"AD108/AD110","v":1},{"$f":"AE108/AE110","v":1},{"$f":"(AD108 + AE108)/(AD110 +AE110)","v":1},{"$f":"(AE108 + AD108)/(AD110 + AE110)","v":1}]
[null,null,"ТБ","ТМ","ТБ","ТМ","Тотал №1","Тотал №2","Тотал №3",{"$f":"Дома!S6","v":5},{"$f":"Дома!T6","v":6},{"$f":"Гости!S6","v":6},{"$f":"Гости!T6","v":7},null,null,{"$f":"AB102","v":"Colo Colo"},{"$f":"AC105","v":2},{"$f":"AC106","v":1},{"$f":"AG105","v":1},{"$f":"AG106","v":2},0.5,2,{"$f":"U109/V109","v":0.25},{"$f":"U109/U110","v":0.75},{"$f":"V109/V110","v":1.2},{"$f":"(U109 + V109)/(U110 + V110)","v":1.0714285714285714},{"$f":"(V109 +U109)/(U110 + V110)","v":1.0714285714285714},{"$f":"AH105","v":2},{"$f":"AH106","v":1},{"$f":"AB109/Q109","v":1},{"$f":"AC109/R109","v":1},{"$f":" AE109/AD109","v":1},{"$f":"AD109/AD110","v":1},{"$f":"AE109/AE110","v":1},{"$f":"(AD109+AE109)/(AD110+AE110)","v":1},{"$f":"(AE109 + AD109)/(AD110 + AE110)","v":1}]
[null,null,{"$f":"(Дома!S6+ДомаДома!T6+Гости!T6+ГостиГости!S6-0.2)/12","v":1.9000000000000001},{"$f":"(Дома!T6+ДомаДома!S6+Гости!S6+ГостиГости!T6)/12","v":2.0833333333333335},{"$f":"(Дома!T6+Гости!T6)/5","v":2.6},{"$f":"(Дома!S6+Гости!S6)/5","v":2.2000000000000002},{"$f":"IF(AND(L112+M112<K109+L109/10-1,L112+M112<J109+L109/10-1),CONCATENATE(\"ТМ\",\"(\"&((L112+M112)+(K109+M109)/50)&\")\"),CONCATENATE(\"ТБ\",\"(\"&((L112+M112)+(J109+L109)/10-3&\")\")))","v":"ТМ(2.46)"},{"$f":"IF(AND(L112+M112+1<K109+L109/10,L112+M112+1<J109+K109/10),CONCATENATE(\"ТМ\",\"(\"&((L112+M112+1)+(K109+M109)/50)&\")\"),CONCATENATE(\"ТБ\",\"(\"&((L112+M112+0.5)+(J109+L109)/10-3&\")\")))","v":"ТМ(3.46)"},{"$f":"IF(AND(L112+M112<K109+L109/10-1,L112+M112<J109+L109/10-1),CONCATENATE(\"ТМ\",\"(\"&((L112+M112)+(K109+M109)/50-1)&\")\"),CONCATENATE(\"ТБ\",\"(\"&((L112+M112+0.5)+(J109+L109)/10-3&\")\")))","v":"ТМ(1.46)"},"З 1кд","П 1кд","З 2кг","П 2кг",null,null,"Среднее",{"$f":"SUM(Q108:Q109)","v":3},{"$f":"SUM(R108:R109)","v":3},{"$f":"SUM(S108:S109)","v":2},{"$f":"SUM(T108:T109)","v":5},0.66666666666666663,1.6666666666666667,{"$f":"U110/V110","v":0.39999999999999997},{"$f":"U110/U110","v":1},{"$f":"V110/V110","v":1},{"$f":"U110/U110","v":1},{"$f":"V110/V110","v":1},{"$f":"AB108+AB109","v":3},{"$f":"AC108+AC109","v":3},{"$f":"AB110/Q110","v":1},{"$f":"AC110/Q110","v":1},{"$f":" AE110/AD110","v":1},{"$f":"AD110/AD110","v":1},{"$f":"AE110/AE110","v":1},{"$f":"(AD110 +AE110)/(AD110 +AE110)","v":1},{"$f":"(AE110 +AD110)/(AD110 + AE110)","v":1}]
[null,null,{"$f":"D110/(C110+D110)","v":0.52301255230125521},{"$f":"C110/(C110+D110)","v":0.47698744769874479},{"$f":"F110/(E110+F110)","v":0.45833333333333331},{"$f":"E110/(E110+F110)","v":0.54166666666666663},null,null,null,{"$f":"ДомаДома!S6","v":6},{"$f":"ДомаДома!T6","v":5},{"$f":"ГостиГости!S6","v":6},{"$f":"ГостиГости!T6","v":7},null,null,{"$f":"S102","v":"Everton"},null,"голов","сила","слабость","голов","Результат 1",null,"Результат 2",null,"ПРОГНОЗ №1",null,"МИНУТА"]
[null,null,"ИТБ №1",null,"ИТБ №2",null,"ИТМ №1",null,"ИТМ №1",null,null,{"$f":"J109/5","v":1},{"$f":"L111/5","v":1.2},null,null,null,null,{"$f":"U110","v":0.66666666666666663},{"$f":"Z108","v":1.0714285714285714},{"$f":"AJ109","v":1},{"$f":"R112*S112*T112","v":0.71428571428571419},{"$f":"AZ13-1","v":0},{"$f":"BC13-1","v":1},{"$f":"AZ13","v":1},{"$f":"BC13","v":2},{"$f":"IF(X116-Z116>25,1,IF(X116>Z116,\"1X\",IF(Z116-X116>25,2,IF(Z116>X116,\"X2\",\"\"))))","v":2},null,90]
[null,null,"ИТБ1","ИТБ2","ИТБ1","ИТБ2","ИТМ1","ИТМ2","ИТМ1","ИТМ2",null,null,null,null,null,{"$f":"AB102","v":"Colo Colo"},null,"голов","сила","слабость","голов"]
[null,null,{"$f":"C110/2","v":0.95000000000000007},{"$f":"D110/2+0.75","v":1.7916666666666667},{"$f":"E110/2","v":1.3},{"$f":"F110/2.5","v":0.88000000000000012},{"$f":"D114/2+0.35","v":1.2458333333333333},{"$f":"C114/2+0.75","v":1.2250000000000001},{"$f":"F114/2+0.5","v":0.94000000000000006},{"$f":"E114/2+0.5","v":1.1499999999999999},null,null,null,null,null,null,null,{"$f":"V110","v":1.6666666666666667},{"$f":"AA109","v":1.0714285714285714},{"$f":"AJ108","v":1},{"$f":"R114*S114*T114","v":1.7857142857142858}]
[null,null,{"$f":"D114/(C114+D114)","v":0.65349544072948329},{"$f":"C114/(C114+D114)","v":0.34650455927051677},{"$f":"E114/(E114+F114)","v":0.59633027522935778},{"$f":"F114/(E114+F114)","v":0.40366972477064222},{"$f":"H114/(G114+H114)","v":0.49578414839797647},{"$f":"G114/(G114+H114)","v":0.50421585160202365},{"$f":"D115","v":0.34650455927051677},{"$f":"C115","v":0.65349544072948329},null,null,null,null,null,null,null,null,null,null,null,null,null,1,"X",2,"МЕНЬШЕ 2,5","БОЛЬШЕ 2,5"]
[null,null,{"$f":"MAX(Дома!J2:J6)","v":3},{"$f":"MIN(Дома!J2:J6)","v":1},"1к","ТС",null,null,"В матче будет забито",null,null,null,null,null,null,null,null,null,null,null,null,"Шансы",null,{"$f":"BA17","v":14.437798125797467},{"$f":"BA18","v":22.530061715896995},{"$f":"BA19","v":62.978708058985582},{"$f":"BA23","v":54.381311588332949},{"$f":"BA22","v":45.618688411667051}]
[null,null,{"$f":"MAX(Дома!K2:K6)","v":2},{"$f":"MIN(Дома!K2:K6)","v":0},null,null,null,null,{"$f":"E120+E121","v":2},{"$f":"E120+E121+1","v":3},null,null,null,null,null,null,null,null,null,null,null,"Величина",null,{"$f":"BB17","v":6.9262639031723214},{"$f":"BB18","v":4.4385142509148547},{"$f":"BB19","v":1.5878382247273228},{"$f":"BB23","v":1.8388670129363736},{"$f":"BB22","v":2.192084066459588}]
[null,null,{"$f":"MAX(Гости!J2:J6)","v":4},{"$f":"MIN(Гости!J2:J6)","v":0},"2к","ТС №1",{"$f":"E120","v":1},{"$f":"E121","v":1},"обе забьют",null,null,null,null,null,null,null,null,null,null,null,null,{"$f":"S102","v":"Everton"},{"$f":"AB102","v":"Colo Colo"},"МОЖНО СТАВИТЬ",{"$f":"IF(Y119>50,\"OK\",IF(Y119<50,\"NO\"))","v":"OK"},{"$f":"IF(Z119>50,\"OK\",IF(Z119<50,\"NO\"))","v":"OK"},{"$f":"IF(AA119>50,\"OK\",IF(AA119<50,\"NO\"))","v":"NO"},{"$f":"IF(AB119>50,\"OK\",IF(AB119<50,\"NO\"))","v":"NO"},{"$f":"IF(AC119>50,\"OK\",IF(AC119<50,\"NO\"))","v":"NO"}]
[null,null,{"$f":"MAX(Гости!K2:K6)","v":2},{"$f":"MIN(Гости!K2:K6)","v":0},null,"ТС №2",{"$f":"D119","v":0},{"$f":"D118","v":0},{"$f":"IF(G118-1=0,\"НЕТ\",IF(H118=0,\"НЕТ\",\"ДА\"))","v":"НЕТ"},{"$f":"IF(G118=0,\"НЕТ\",IF(G119=0,\"НЕТ\",\"ДА\"))","v":"НЕТ"},null,null,null,null,null,null,null,null,null,null,null,null,null,"%",{"$f":"BA32","v":91.791500137610115},{"$f":"BA20","v":71.270250481635429},{"$f":"BA22","v":45.618688411667051},{"$f":"BA24","v":24.242386686693408},{"$f":"BA34","v":14.448995642348947}]
[null,null,{"$f":"SUM(Дома!J2:J5)-C116-D116","v":0},{"$f":"C120/2","v":0},{"$f":"ROUND(D120+D123-1.5,0)","v":1},"ТС №3",{"$f":"G118-1","v":0},{"$f":"H118-1","v":0},"ДИСТАНЦИЯ",null,null,null,null,null,null,null,null,null,null,null,null,{"$f":"AB112*U112/90","v":0.71428571428571419},{"$f":"AB112*U114/90","v":1.7857142857142858},"БОЛЬШЕ",0.5,1.5,2.5,3.5,4.5]
[null,null,{"$f":"SUM(Дома!K2:K5)-C117-D117","v":2},{"$f":"C121/2","v":1},{"$f":"ROUND(D121+D122-1.5,0)","v":1},"ТС №4",{"$f":"Дома!K2","v":1},{"$f":"Гости!J6","v":1},{"$f":"(J109-L109)+(K109-L109)+(L109-J109)+(M109-J109)","v":2},{"$f":"(J111-L111)+(K111-L111)+(L111-J111)+(M111-J111)","v":0},null,null,null,null,null,null,null,null,null,null,null,null,null,null,{"$f":"BB32","v":1.089425489833852},{"$f":"BB20","v":1.403109983818108},{"$f":"BB22","v":2.192084066459588},{"$f":"BB24","v":4.1250063903522243},{"$f":"BB34","v":6.9208962667901517}]
[null,null,{"$f":"SUM(Гости!J2:J5)-C118-D118","v":2},{"$f":"C122/2","v":1},null,"ТС №5",{"$f":"G121-1","v":0},{"$f":"H121-1","v":0},"мотивация"]
[null,null,{"$f":"SUM(Гости!K2:K5)-C119-D119","v":4},{"$f":"C123/2","v":2},null,"ТС №6",{"$f":"G121+1","v":2},{"$f":"H121+1","v":2},{"$f":"IF(I121>J121,\"Команда 1\",\"Команда 2\")","v":"Команда 1"}]
[null,null,null,null,null,null,null,null,null,null,null,"МОТИВАЦИЯ"]
[]
[null,{"$f":"MATCH(A1,Список!E:E,0)","v":1045},{"$f":"INDEX(Список!A:B,B126,1)","v":"CHILE: Primera Division"},{"$f":"INDEX(Список!A:B,B126,2)","v":"2021.04.18 21:00"}]

{"sheet":"SC","index":17,"n_rows":30,"n_cols":43,"rows_kept":30,"cut":false,"hidden":true,"merged":[[0,19,0,26]]}
[null,"Домашние игры","Количество домашних матчей","Побед","Ничьих","Проигрышей","Забито голов","Пропущено голов",null,null,null,null,null,null,null,null,null,null,null,"Dışarda",null,null,null,null,null,null,null,null,null,"Away Standing","Количество гостевых матчей","Побед","Ничьих","Проигрышей","Забито голов","Пропущено голов"]
[null,1,1,1,1,1,1,1,"AV","Puan",null,"O","G","B","M","A","Y","AV","Puan","O","G","B","M","A","Y","AV","Puan",null,null,1,1,1,1,1,1,1]
[{"$f":"Форма!BK2","v":1},{"$f":"Таблица!L2","v":"U. Catolica"},{"$f":"Таблица!M2","v":2},{"$f":"Таблица!N2","v":2},{"$f":"Таблица!O2","v":0},{"$f":"Таблица!P2","v":0},{"$f":"Таблица!Q2","v":4},{"$f":"Таблица!R2","v":2},{"$f":"IFERROR(IF(C3=\"\",\"\",D3/C3),0)","v":1},{"$f":"IFERROR(IF(D3=\"\",\"\",E3/C3),0)","v":0},{"$f":"IFERROR(IF(H3=\"\",\"\",F3/C3),0)","v":0},{"$f":"IF(C3=\"\",\"\",G3/C3)","v":2},{"$f":"IF(L3=\"\",\"\",H3/C3)","v":1},{"$f":"IF(D3=\"\",\"\",(D3*3)+E3)","v":6},41,14,3,11,15,6,2,4,0,9,6,3,10,null,{"$f":"Форма!BU2","v":1},{"$f":"Таблица!V2","v":"Antofagasta"},{"$f":"Таблица!W2","v":2},{"$f":"Таблица!X2","v":1},{"$f":"Таблица!Y2","v":1},{"$f":"Таблица!Z2","v":0},{"$f":"Таблица!AA2","v":5},{"$f":"Таблица!AB2","v":3},0.61499999999999999,0.308,7.6999999999999999E-2,1.77,0.46,28,37]
[{"$f":"Форма!BK3","v":2},{"$f":"Таблица!L3","v":"A. Italiano"},{"$f":"Таблица!M3","v":2},{"$f":"Таблица!N3","v":2},{"$f":"Таблица!O3","v":0},{"$f":"Таблица!P3","v":0},{"$f":"Таблица!Q3","v":3},{"$f":"Таблица!R3","v":1},1,0,0,1.5,0.5,{"$f":"IF(D4=\"\",\"\",(D4*3)+E4)","v":6},36,11,2,9,13,6,2,3,1,13,11,2,9,null,{"$f":"Форма!BU3","v":2},{"$f":"Таблица!V3","v":"Everton"},{"$f":"Таблица!W3","v":2},{"$f":"Таблица!X3","v":1},{"$f":"Таблица!Y3","v":1},{"$f":"Таблица!Z3","v":0},{"$f":"Таблица!AA3","v":3},{"$f":"Таблица!AB3","v":2},0.5,0.41699999999999998,8.3000000000000004E-2,1.5,0.75,23,27]
[{"$f":"Форма!BK4","v":3},{"$f":"Таблица!L4","v":"Huachipato"},{"$f":"Таблица!M4","v":2},{"$f":"Таблица!N4","v":1},{"$f":"Таблица!O4","v":1},{"$f":"Таблица!P4","v":0},{"$f":"Таблица!Q4","v":5},{"$f":"Таблица!R4","v":3},0.5,0.5,0,2.5,1.5,4,30,15,5,10,15,6,2,1,3,6,9,-3,7,null,{"$f":"Форма!BU4","v":3},{"$f":"Таблица!V4","v":"O'Higgins"},{"$f":"Таблица!W4","v":2},{"$f":"Таблица!X4","v":1},{"$f":"Таблица!Y4","v":1},{"$f":"Таблица!Z4","v":0},{"$f":"Таблица!AA4","v":3},{"$f":"Таблица!AB4","v":2},0.46200000000000002,0.308,0.23100000000000001,1.1499999999999999,0.77,22,26]
[{"$f":"Форма!BK5","v":4},{"$f":"Таблица!L5","v":"Curico Unido"},{"$f":"Таблица!M5","v":2},{"$f":"Таблица!N5","v":1},{"$f":"Таблица!O5","v":1},{"$f":"Таблица!P5","v":0},{"$f":"Таблица!Q5","v":3},{"$f":"Таблица!R5","v":1},0.5,0.5,0,1.5,0.5,4,29,21,5,16,15,5,1,1,3,3,10,-7,4,null,{"$f":"Форма!BU5","v":4},{"$f":"Таблица!V5","v":"Union La Calera"},{"$f":"Таблица!W5","v":2},{"$f":"Таблица!X5","v":1},{"$f":"Таблица!Y5","v":1},{"$f":"Таблица!Z5","v":0},{"$f":"Таблица!AA5","v":2},{"$f":"Таблица!AB5","v":1},0.46200000000000002,0.154,0.38500000000000001,1.62,1.23,20,24]
[{"$f":"Форма!BK6","v":5},{"$f":"Таблица!L6","v":"La Serena"},{"$f":"Таблица!M6","v":2},{"$f":"Таблица!N6","v":1},{"$f":"Таблица!O6","v":1},{"$f":"Таблица!P6","v":0},{"$f":"Таблица!Q6","v":2},{"$f":"Таблица!R6","v":0},0.5,0.5,0,1,0,4,28,10,9,1,7,5,3,1,1,11,7,4,10,null,{"$f":"Форма!BU6","v":5},{"$f":"Таблица!V6","v":"Colo Colo"},{"$f":"Таблица!W6","v":1},{"$f":"Таблица!X6","v":1},{"$f":"Таблица!Y6","v":0},{"$f":"Таблица!Z6","v":0},{"$f":"Таблица!AA6","v":2},{"$f":"Таблица!AB6","v":1},0.33300000000000002,0.41699999999999998,0.25,1.08,1.08,17,21]
[{"$f":"Форма!BK7","v":6},{"$f":"Таблица!L7","v":"Union La Calera"},{"$f":"Таблица!M7","v":2},{"$f":"Таблица!N7","v":1},{"$f":"Таблица!O7","v":1},{"$f":"Таблица!P7","v":0},{"$f":"Таблица!Q7","v":2},{"$f":"Таблица!R7","v":1},0.5,0.5,0,1,0.5,4,27,13,6,7,11,6,0,3,3,5,10,-5,3,null,{"$f":"Форма!BU7","v":6},{"$f":"Таблица!V7","v":"Melipilla"},{"$f":"Таблица!W7","v":2},{"$f":"Таблица!X7","v":1},{"$f":"Таблица!Y7","v":0},{"$f":"Таблица!Z7","v":1},{"$f":"Таблица!AA7","v":2},{"$f":"Таблица!AB7","v":2},0.308,0.308,0.38500000000000001,1.54,1.46,16,21]
[{"$f":"Форма!BK8","v":7},{"$f":"Таблица!L8","v":"Nublense"},{"$f":"Таблица!M8","v":2},{"$f":"Таблица!N8","v":1},{"$f":"Таблица!O8","v":0},{"$f":"Таблица!P8","v":1},{"$f":"Таблица!Q8","v":3},{"$f":"Таблица!R8","v":2},{"$f":"IFERROR(IF(C9=\"\",\"\",D9/C9),0)","v":0.5},{"$f":"IFERROR(IF(D9=\"\",\"\",E9/C9),0)","v":0},0.5,{"$f":"IFERROR(IF(C9=\"\",\"\",G9/C9),0)","v":1.5},{"$f":"IFERROR(IF(L9=\"\",\"\",H9/C9),0)","v":1},3,26,12,12,0,7,5,2,1,2,10,13,-3,7,null,{"$f":"Форма!BU8","v":7},{"$f":"Таблица!V8","v":"Palestino"},{"$f":"Таблица!W8","v":2},{"$f":"Таблица!X8","v":1},{"$f":"Таблица!Y8","v":0},{"$f":"Таблица!Z8","v":1},{"$f":"Таблица!AA8","v":2},{"$f":"Таблица!AB8","v":2},0.308,0.308,0.38500000000000001,1.46,1.69,16,20]
[{"$f":"Форма!BK9","v":8},{"$f":"Таблица!L9","v":"Cobresal"},{"$f":"Таблица!M9","v":2},{"$f":"Таблица!N9","v":1},{"$f":"Таблица!O9","v":0},{"$f":"Таблица!P9","v":1},{"$f":"Таблица!Q9","v":3},{"$f":"Таблица!R9","v":3},{"$f":"IFERROR(IF(C10=\"\",\"\",D10/C10),0)","v":0.5},{"$f":"IFERROR(IF(D10=\"\",\"\",E10/C10),0)","v":0},0.5,1.5,1.5,3,25,10,7,3,11,5,0,2,3,3,8,-5,2,null,{"$f":"Форма!BU9","v":8},{"$f":"Таблица!V9","v":"U. Catolica"},{"$f":"Таблица!W9","v":2},{"$f":"Таблица!X9","v":1},{"$f":"Таблица!Y9","v":0},{"$f":"Таблица!Z9","v":1},{"$f":"Таблица!AA9","v":1},{"$f":"Таблица!AB9","v":1},0.38500000000000001,7.6999999999999999E-2,0.53800000000000003,1,1.38,16,19]
[{"$f":"Форма!BK10","v":9},{"$f":"Таблица!L10","v":"U. Espanola"},{"$f":"Таблица!M10","v":2},{"$f":"Таблица!N10","v":1},{"$f":"Таблица!O10","v":0},{"$f":"Таблица!P10","v":1},{"$f":"Таблица!Q10","v":3},{"$f":"Таблица!R10","v":3},{"$f":"IFERROR(IF(C11=\"\",\"\",D11/C11),0)","v":0.5},0,0.5,1.5,1.5,3,24,null,null,null,null,null,null,null,null,null,null,null,null,null,{"$f":"Форма!BU10","v":9},{"$f":"Таблица!V10","v":"A. Italiano"},{"$f":"Таблица!W10","v":2},{"$f":"Таблица!X10","v":0},{"$f":"Таблица!Y10","v":2},{"$f":"Таблица!Z10","v":0},{"$f":"Таблица!AA10","v":1},{"$f":"Таблица!AB10","v":1},0.25,0.5,0.25,0.83,0.83,15,19]
[{"$f":"Форма!BK11","v":10},{"$f":"Таблица!L11","v":"O'Higgins"},{"$f":"Таблица!M11","v":2},{"$f":"Таблица!N11","v":0},{"$f":"Таблица!O11","v":2},{"$f":"Таблица!P11","v":0},{"$f":"Таблица!Q11","v":0},{"$f":"Таблица!R11","v":0},{"$f":"IFERROR(IF(C12=\"\",\"\",D12/C12),0)","v":0},1,0,0,0,2,24,null,null,null,null,null,null,null,null,null,null,null,null,null,{"$f":"Форма!BU11","v":10},{"$f":"Таблица!V11","v":"Huachipato"},{"$f":"Таблица!W11","v":1},{"$f":"Таблица!X11","v":0},{"$f":"Таблица!Y11","v":1},{"$f":"Таблица!Z11","v":0},{"$f":"Таблица!AA11","v":1},{"$f":"Таблица!AB11","v":1},0.25,0.5,0.25,1.08,1.25,15,17]
[{"$f":"Форма!BK12","v":11},{"$f":"Таблица!L12","v":"Everton"},{"$f":"Таблица!M12","v":1},{"$f":"Таблица!N12","v":0},{"$f":"Таблица!O12","v":1},{"$f":"Таблица!P12","v":0},{"$f":"Таблица!Q12","v":1},{"$f":"Таблица!R12","v":1},0,1,0,1,1,1,null,null,null,null,null,null,null,null,null,null,null,null,null,null,{"$f":"Форма!BU12","v":11},{"$f":"Таблица!V12","v":"U. De Chile"},{"$f":"Таблица!W12","v":1},{"$f":"Таблица!X12","v":0},{"$f":"Таблица!Y12","v":1},{"$f":"Таблица!Z12","v":0},{"$f":"Таблица!AA12","v":0},{"$f":"Таблица!AB12","v":0},0.308,0.154,0.53800000000000003,0.62,1.38,14]
[{"$f":"Форма!BK13","v":12},{"$f":"Таблица!L13","v":"U. De Chile"},{"$f":"Таблица!M13","v":1},{"$f":"Таблица!N13","v":0},{"$f":"Таблица!O13","v":1},{"$f":"Таблица!P13","v":0},{"$f":"Таблица!Q13","v":1},{"$f":"Таблица!R13","v":1},0,1,0,1,1,1,null,null,null,null,null,null,null,null,null,null,null,null,null,null,{"$f":"Форма!BU13","v":12},{"$f":"Таблица!V13","v":"La Serena"},{"$f":"Таблица!W13","v":2},{"$f":"Таблица!X13","v":0},{"$f":"Таблица!Y13","v":1},{"$f":"Таблица!Z13","v":1},{"$f":"Таблица!AA13","v":1},{"$f":"Таблица!AB13","v":2},0.154,0.46200000000000002,0.38500000000000001,1,1.46,12]
[{"$f":"Форма!BK14","v":13},{"$f":"Таблица!L14","v":"Colo Colo"},{"$f":"Таблица!M14","v":2},{"$f":"Таблица!N14","v":0},{"$f":"Таблица!O14","v":1},{"$f":"Таблица!P14","v":1},{"$f":"Таблица!Q14","v":1},{"$f":"Таблица!R14","v":2},{"$f":"IFERROR(IF(C15=\"\",\"\",D15/C15),0)","v":0},{"$f":"IFERROR(IF(D15=\"\",\"\",E15/C15),0)","v":0.5},{"$f":"IFERROR(IF(H15=\"\",\"\",F15/C15),0)","v":0.5},{"$f":"IFERROR(IF(C15=\"\",\"\",G15/C15),0)","v":0.5},1,1,null,null,null,null,null,null,null,null,null,null,null,null,null,null,{"$f":"Форма!BU14","v":13},{"$f":"Таблица!V14","v":"Nublense"},{"$f":"Таблица!W14","v":2},{"$f":"Таблица!X14","v":0},{"$f":"Таблица!Y14","v":1},{"$f":"Таблица!Z14","v":1},{"$f":"Таблица!AA14","v":4},{"$f":"Таблица!AB14","v":6},0.25,0.25,0.5,0.75,1.25,12]
[{"$f":"Форма!BK15","v":14},{"$f":"Таблица!L15","v":"Melipilla"},{"$f":"Таблица!M15","v":2},{"$f":"Таблица!N15","v":0},{"$f":"Таблица!O15","v":1},{"$f":"Таблица!P15","v":1},{"$f":"Таблица!Q15","v":1},{"$f":"Таблица!R15","v":2},{"$f":"IFERROR(IF(C16=\"\",\"\",D16/C16),0)","v":0},{"$f":"IFERROR(IF(D16=\"\",\"\",E16/C16),0)","v":0.5},{"$f":"IFERROR(IF(H16=\"\",\"\",F16/C16),0)","v":0.5},0.5,{"$f":"IFERROR(IF(L16=\"\",\"\",H16/C16),0)","v":1},1,null,null,null,null,null,null,null,null,null,null,null,null,null,null,{"$f":"Форма!BU15","v":14},{"$f":"Таблица!V15","v":"Cobresal"},{"$f":"Таблица!W15","v":2},{"$f":"Таблица!X15","v":0},{"$f":"Таблица!Y15","v":1},{"$f":"Таблица!Z15","v":1},{"$f":"Таблица!AA15","v":1},{"$f":"Таблица!AB15","v":3},0.23100000000000001,0.23100000000000001,0.53800000000000003,0.69,1.31,12]
[{"$f":"Форма!BK16","v":15},{"$f":"Таблица!L16","v":"Palestino"},{"$f":"Таблица!M16","v":2},{"$f":"Таблица!N16","v":0},{"$f":"Таблица!O16","v":1},{"$f":"Таблица!P16","v":1},{"$f":"Таблица!Q16","v":3},{"$f":"Таблица!R16","v":5},{"$f":"IFERROR(IF(C17=\"\",\"\",D17/C17),0)","v":0},0.5,0.5,1.5,2.5,1,null,null,null,null,null,null,null,null,null,null,null,null,null,null,{"$f":"Форма!BU16","v":15},{"$f":"Таблица!V16","v":"U. Espanola"},{"$f":"Таблица!W16","v":1},{"$f":"Таблица!X16","v":0},{"$f":"Таблица!Y16","v":0},{"$f":"Таблица!Z16","v":1},{"$f":"Таблица!AA16","v":0},{"$f":"Таблица!AB16","v":1},0.23100000000000001,0.23100000000000001,0.53800000000000003,0.69,1.92,12]
[{"$f":"Форма!BK17","v":16},{"$f":"Таблица!L17","v":"Antofagasta"},{"$f":"Таблица!M17","v":1},{"$f":"Таблица!N17","v":0},{"$f":"Таблица!O17","v":0},{"$f":"Таблица!P17","v":1},{"$f":"Таблица!Q17","v":1},{"$f":"Таблица!R17","v":2},0,0,1,1,2,0,null,null,null,null,null,null,null,null,null,null,null,null,null,null,{"$f":"Форма!BU17","v":16},{"$f":"Таблица!V17","v":"S. Wanderers"},{"$f":"Таблица!W17","v":2},{"$f":"Таблица!X17","v":0},{"$f":"Таблица!Y17","v":0},{"$f":"Таблица!Z17","v":2},{"$f":"Таблица!AA17","v":2},{"$f":"Таблица!AB17","v":5},0.154,0.38500000000000001,0.46200000000000002,0.85,1.31,11]
[{"$f":"Форма!BK18","v":17},{"$f":"Таблица!L18","v":"S. Wanderers"},{"$f":"Таблица!M18","v":1},{"$f":"Таблица!N18","v":0},{"$f":"Таблица!O18","v":0},{"$f":"Таблица!P18","v":1},{"$f":"Таблица!Q18","v":1},{"$f":"Таблица!R18","v":2},0,0,1,1,2,0,null,null,null,null,null,null,null,null,null,null,null,null,null,null,{"$f":"Форма!BU18","v":17},{"$f":"Таблица!V18","v":"Curico Unido"},{"$f":"Таблица!W18","v":2},{"$f":"Таблица!X18","v":0},{"$f":"Таблица!Y18","v":0},{"$f":"Таблица!Z18","v":2},{"$f":"Таблица!AA18","v":1},{"$f":"Таблица!AB18","v":4},0.23100000000000001,0.154,0.61499999999999999,0.77,1.38,11]
[{"$f":"Форма!BK19","v":0},{"$f":"Таблица!L19","v":0},{"$f":"Таблица!M19","v":0},{"$f":"Таблица!N19","v":0},{"$f":"Таблица!O19","v":0},{"$f":"Таблица!P19","v":0},{"$f":"Таблица!Q19","v":0},{"$f":"Таблица!R19","v":0},0,0,0,0,0,0,null,null,null,null,null,null,null,null,null,null,null,null,null,null,{"$f":"Форма!BU19","v":0},{"$f":"Таблица!V19","v":0},{"$f":"Таблица!W19","v":0},{"$f":"Таблица!X19","v":0},{"$f":"Таблица!Y19","v":0},{"$f":"Таблица!Z19","v":0},{"$f":"Таблица!AA19","v":0},{"$f":"Таблица!AB19","v":0},8.3000000000000004E-2,0.33300000000000002,0.58299999999999996,1.08,2.25,7]
[{"$f":"Форма!BK20","v":0},{"$f":"Таблица!L20","v":0},{"$f":"Таблица!M20","v":0},{"$f":"Таблица!N20","v":0},{"$f":"Таблица!O20","v":0},{"$f":"Таблица!P20","v":0},{"$f":"Таблица!Q20","v":0},{"$f":"Таблица!R20","v":0},0,0,0,0,0,0,null,null,null,null,null,null,null,null,null,null,null,null,null,null,{"$f":"Форма!BU20","v":0},{"$f":"Таблица!V20","v":0},{"$f":"Таблица!W20","v":0},{"$f":"Таблица!X20","v":0},{"$f":"Таблица!Y20","v":0},{"$f":"Таблица!Z20","v":0},{"$f":"Таблица!AA20","v":0},{"$f":"Таблица!AB20","v":0}]
[{"$f":"Форма!BK21","v":0},{"$f":"Таблица!L21","v":0},{"$f":"Таблица!M21","v":0},{"$f":"Таблица!N21","v":0},{"$f":"Таблица!O21","v":0},{"$f":"Таблица!P21","v":0},{"$f":"Таблица!Q21","v":0},{"$f":"Таблица!R21","v":0},0,0,0,0,0,0,null,null,null,null,null,null,null,null,null,null,null,null,null,null,{"$f":"Форма!BU21","v":0},{"$f":"Таблица!V21","v":0},{"$f":"Таблица!W21","v":0},{"$f":"Таблица!X21","v":0},{"$f":"Таблица!Y21","v":0},{"$f":"Таблица!Z21","v":0},{"$f":"Таблица!AA21","v":0},{"$f":"Таблица!AB21","v":0}]
[{"$f":"Форма!BK22","v":0},{"$f":"Таблица!L22","v":0},{"$f":"Таблица!M22","v":0},{"$f":"Таблица!N22","v":0},{"$f":"Таблица!O22","v":0},{"$f":"Таблица!P22","v":0},{"$f":"Таблица!Q22","v":0},{"$f":"Таблица!R22","v":0},0,0,0,0,0,0,null,null,null,null,null,null,null,null,null,null,null,null,null,null,{"$f":"Форма!BU22","v":0},{"$f":"Таблица!V22","v":0},{"$f":"Таблица!W22","v":0},{"$f":"Таблица!X22","v":0},{"$f":"Таблица!Y22","v":0},{"$f":"Таблица!Z22","v":0},{"$f":"Таблица!AA22","v":0},{"$f":"Таблица!AB22","v":0}]
[{"$f":"Форма!BK23","v":0},{"$f":"Таблица!L23","v":0},{"$f":"Таблица!M23","v":0},{"$f":"Таблица!N23","v":0},{"$f":"Таблица!O23","v":0},{"$f":"Таблица!P23","v":0},{"$f":"Таблица!Q23","v":0},{"$f":"Таблица!R23","v":0},0,0,0,0,0,0,null,null,null,null,null,null,null,null,null,null,null,null,null,null,{"$f":"Форма!BU23","v":0},{"$f":"Таблица!V23","v":0},{"$f":"Таблица!W23","v":0},{"$f":"Таблица!X23","v":0},{"$f":"Таблица!Y23","v":0},{"$f":"Таблица!Z23","v":0},{"$f":"Таблица!AA23","v":0},{"$f":"Таблица!AB23","v":0}]
[{"$f":"Форма!BK24","v":0},{"$f":"Таблица!L24","v":0},{"$f":"Таблица!M24","v":0},{"$f":"Таблица!N24","v":0},{"$f":"Таблица!O24","v":0},{"$f":"Таблица!P24","v":0},{"$f":"Таблица!Q24","v":0},{"$f":"Таблица!R24","v":0},0,0,0,0,0,0,null,null,null,null,null,null,null,null,null,null,null,null,null,null,{"$f":"Форма!BU24","v":0},{"$f":"Таблица!V24","v":0},{"$f":"Таблица!W24","v":0},{"$f":"Таблица!X24","v":0},{"$f":"Таблица!Y24","v":0},{"$f":"Таблица!Z24","v":0},{"$f":"Таблица!AA24","v":0},{"$f":"Таблица!AB24","v":0}]
[{"$f":"Форма!BK25","v":0},{"$f":"Таблица!L25","v":0},{"$f":"Таблица!M25","v":0},{"$f":"Таблица!N25","v":0},{"$f":"Таблица!O25","v":0},{"$f":"Таблица!P25","v":0},{"$f":"Таблица!Q25","v":0},{"$f":"Таблица!R25","v":0},0,0,0,0,0,0,null,null,null,null,null,null,null,null,null,null,null,null,null,null,{"$f":"Форма!BU25","v":0},{"$f":"Таблица!V25","v":0},{"$f":"Таблица!W25","v":0},{"$f":"Таблица!X25","v":0},{"$f":"Таблица!Y25","v":0},{"$f":"Таблица!Z25","v":0},{"$f":"Таблица!AA25","v":0},{"$f":"Таблица!AB25","v":0}]
[{"$f":"Форма!BK26","v":0},{"$f":"Таблица!L26","v":0},{"$f":"Таблица!M26","v":0},{"$f":"Таблица!N26","v":0},{"$f":"Таблица!O26","v":0},{"$f":"Таблица!P26","v":0},{"$f":"Таблица!Q26","v":0},{"$f":"Таблица!R26","v":0},0,0,0,0,0,0,null,null,null,null,null,null,null,null,null,null,null,null,null,null,{"$f":"Форма!BU26","v":0},{"$f":"Таблица!V26","v":0},{"$f":"Таблица!W26","v":0},{"$f":"Таблица!X26","v":0},{"$f":"Таблица!Y26","v":0},{"$f":"Таблица!Z26","v":0},{"$f":"Таблица!AA26","v":0},{"$f":"Таблица!AB26","v":0}]
[{"$f":"Форма!BK27","v":0},{"$f":"Таблица!L27","v":0},{"$f":"Таблица!M27","v":0},{"$f":"Таблица!N27","v":0},{"$f":"Таблица!O27","v":0},{"$f":"Таблица!P27","v":0},{"$f":"Таблица!Q27","v":0},{"$f":"Таблица!R27","v":0},0,0,0,0,0,0,null,null,null,null,null,null,null,null,null,null,null,null,null,null,{"$f":"Форма!BU27","v":0},{"$f":"Таблица!V27","v":0},{"$f":"Таблица!W27","v":0},{"$f":"Таблица!X27","v":0},{"$f":"Таблица!Y27","v":0},{"$f":"Таблица!Z27","v":0},{"$f":"Таблица!AA27","v":0},{"$f":"Таблица!AB27","v":0}]
[{"$f":"Форма!BK28","v":0},{"$f":"Таблица!L28","v":0},{"$f":"Таблица!M28","v":0},{"$f":"Таблица!N28","v":0},{"$f":"Таблица!O28","v":0},{"$f":"Таблица!P28","v":0},{"$f":"Таблица!Q28","v":0},{"$f":"Таблица!R28","v":0},0,0,0,0,0,0,null,null,null,null,null,null,null,null,null,null,null,null,null,null,{"$f":"Форма!BU28","v":0},{"$f":"Таблица!V28","v":0},{"$f":"Таблица!W28","v":0},{"$f":"Таблица!X28","v":0},{"$f":"Таблица!Y28","v":0},{"$f":"Таблица!Z28","v":0},{"$f":"Таблица!AA28","v":0},{"$f":"Таблица!AB28","v":0}]
[null,null,{"$f":"SUM(C3:C29)","v":30},null,null,null,{"$f":"SUM(G3:G29)","v":37},{"$f":"SUM(H3:H29)","v":31},null,null,{"$f":"SUM(K3:K29,L3:L18)","v":24.5},{"$f":"SUM(L3:L29)","v":20.5},{"$f":"SUM(M3:M29)","v":18.5},{"$f":"SUM(N3:N29)","v":44},{"$f":"SUM(O3:O29,P3:P18)","v":396},{"$f":"SUM(P3:P29)","v":106},{"$f":"SUM(Q3:Q29)","v":49},{"$f":"SUM(R3:R29)","v":57},null,{"$f":"SUM(T3:T29)","v":44},null,null,null,{"$f":"SUM(X3:X29)","v":60},{"$f":"SUM(Y3:Y29)","v":74},null,null,null,null,null,{"$f":"SUM(AE3:AE29)","v":30},null,null,null,{"$f":"SUM(AI3:AI29)","v":31},{"$f":"SUM(AJ3:AJ29)","v":37}]

{"sheet":"Valui","index":18,"n_rows":40,"n_cols":17,"rows_kept":40,"cut":false,"hidden":true,"merged":[[3,3,4,6],[3,9,4,12]]}
[]
[]
[]
[null,null,null,{"$f":"SVOD!A1","v":"Everton"},null,null,null,null,null,{"$f":"SVOD!A7","v":"Colo Colo"},null,null,null,null,null,"SVIZZERA  B"]
[null,null,null,null,null,null,null,null,null,null,null,null,null,null,null,"01.09.2014    ore  19.45"]
[]
[]
[]
[null,null,null,"BOOK",null,null,"Quota   1",null,"Quota   X",null,"Quota   2"]
[null,null,null,"WILLIAM  HILL"]
[null,null,null,null,null,null,{"$f":"Коэффициенты!B2","v":2.37},null,{"$f":"Коэффициенты!B3","v":3.2},null,{"$f":"Коэффициенты!B4","v":2.7}]
[]
[null,null,null,"probabilità percentuale quote",null,null,{"$f":"100/G11","v":42.194092827004219},null,{"$f":"100/I11","v":31.25},null,{"$f":"100/K11","v":37.037037037037038},null,{"$f":"SUM(G13+I13+K13)","v":110.48112986404126},null,"AGGIO  DEL  BOOK",null,{"$f":"M13-100","v":10.481129864041264}]
[]
[]
[null,null,null,null,null,null,{"$f":"(M29+M40)/2","v":25},null,{"$f":"(N29+N40)/2","v":43.75},null,{"$f":"(O29+O40)/2","v":31.25},null,"Picchetto tecnico"]
[null,null,null,null,null,null,null,null,null,null,null,null,"Esso è ricavato dalla media del picchetto casa/fuori e del picchetto forma"]
[null,null,null,null,null,null,{"$f":"100/G16","v":4},null,{"$f":"100/I16","v":2.2857142857142856},null,{"$f":"100/K16","v":3.2},null,"costituito dalle ultime 5 giornate totali"]
[]
[null,null,null,null,null,null,null,null,null,null,null,null,"Vinte casa","Nulle casa","Perse casa"]
[null,null,null,null,"SEGNO  1",null,{"$f":"G16-G13","v":-17.194092827004219},null,{"$f":"IF(G21>9.99,\"value 1\",\"-\")","v":"-"},null,null,null,{"$f":"SVOD!C3","v":0},{"$f":"SVOD!D3","v":1},{"$f":"SVOD!E3","v":0},null,{"$f":"D4","v":"Everton"}]
[null,null,null,null,null,null,null,null,null,null,null,null,"Vinte fuori","Nulle fuori","Perse fuori"]
[null,null,null,null,"SEGNO  X",null,{"$f":"I16-I13","v":12.5},null,{"$f":"IF(G23>9.99,\"value Х\",\"-\")","v":"value Х"},null,null,null,{"$f":"SVOD!C10","v":1},{"$f":"SVOD!D10","v":0},{"$f":"SVOD!E10","v":0},null,{"$f":"J4","v":"Colo Colo"}]
[]
[null,null,null,null,"SEGNO  2",null,{"$f":"K16-K13","v":-5.7870370370370381},null,{"$f":"IF(G25>9.99,\"value 2\",\"-\")","v":"-"},null,null,null,"Segno  1","Segno  X","Segno  2"]
[null,null,null,null,null,null,null,null,null,null,null,null,{"$f":"M21+O23","v":0},{"$f":"N21+N23","v":1},{"$f":"O21+M23","v":1}]
[]
[null,null,null,null,null,null,null,null,null,null,null,null,"% SEGNO 1","% SEGNO X","% SEGNO 2"]
[null,null,null,null,null,null,null,null,null,null,null,null,{"$f":"M26*100/(M26+N26+O26)","v":0},{"$f":"N26*100/(M26+N26+O26)","v":50},{"$f":"O26*100/(M26+N26+O26)","v":50}]
[]
[null,null,null,null,null,null,null,null,null,null,null,null,"Vinte u5","Nulle u5","Perse u5"]
[null,null,null,null,null,null,null,null,null,null,null,null,{"$f":"SVOD!C5","v":2},{"$f":"SVOD!D5","v":2},{"$f":"SVOD!E5","v":0},null,{"$f":"D4","v":"Everton"}]
[null,null,null,null,null,null,null,null,null,null,null,null,"Vinte u5","Nulle u5","Perse u5"]
[null,null,null,null,null,null,null,null,null,null,null,null,{"$f":"SVOD!C11","v":1},{"$f":"SVOD!D11","v":1},{"$f":"SVOD!E11","v":2},null,{"$f":"J4","v":"Colo Colo"}]
[]
[null,null,null,null,null,null,null,null,null,null,null,null,"Segno  1","Segno  X","Segno  2"]
[null,null,null,null,null,null,null,null,null,null,null,null,{"$f":"M32+O34","v":4},{"$f":"N32+N34","v":3},{"$f":"M34+O32","v":1}]
[]
[null,null,null,null,null,null,null,null,null,null,null,null,"% SEGNO 1","% SEGNO X","% SEGNO 2"]
[null,null,null,null,null,null,null,null,null,null,null,null,{"$f":"M37*100/(M37+N37+O37)","v":50},{"$f":"N37*100/(M37+N37+O37)","v":37.5},{"$f":"O37*100/(M37+N37+O37)","v":12.5}]

{"sheet":"Дома","index":19,"n_rows":150,"n_cols":36,"rows_kept":150,"cut":false,"hidden":true,"merged":[]}
["Чемпионат","Дата/Время","Дома","Гости","К1 в 1Т","К2 в 1Т","К1 во 2Т","К2 во 2Т","Где играли","К1 Голов","К2 Голов","Забито","Пропущено","Результат","Всего Игр","Всего выиграно","Всего ничьих","Всего проиграно","Всего забито","Всего пропущено","Всего очков","Дома игр","Дома выиграно","Дома ничьих","Дома проиграно","Дома забито","Дома пропущено","Дома очков","Гости игр","Гости выиграно","Гости ничьих","Гости проиграно","Гости забито","Гости пропущено","Гости очков","Тотал"]
["CHILE: Primera Division","2021.04.12 21:00","Palestino","Everton",0,0,1,1,"Гости",{"$f":"IF(I2=\"\",\"\",E2+G2)","v":1},{"$f":"IF(I2=\"\",\"\",F2+H2)","v":1},{"$f":"IF(I2=\"\",\"\",IF(I2=\"Дома\",J2,K2))","v":1},{"$f":"IF(I2=\"\",\"\",IF(I2=\"Дома\",K2,J2))","v":1},{"$f":"IF(I2=\"\",\"\",IF(I2=\"Дома\",IF(J2>K2,\"В\",IF(J2=K2,\"Н\",\"П\")),IF(J2<K2,\"В\",IF(J2=K2,\"Н\",\"П\"))))","v":"Н"},{"$f":"IF(I2=\"\",\"\",1)","v":1},{"$f":"IF(I2=\"\",\"\",IF(N2=\"В\",1,0))","v":0},{"$f":"IF(I2=\"\",\"\",IF(N2=\"Н\",1,0))","v":1},{"$f":"IF(I2=\"\",\"\",IF(N2=\"П\",1,0))","v":0},{"$f":"IF(I2=\"\",\"\",L2)","v":1},{"$f":"IF(I2=\"\",\"\",M2)","v":1},{"$f":"IF(I2=\"\",\"\",P2*3+Q2)","v":1},{"$f":"IF(I2=\"\",\"\",IF(I2=\"Дома\",1,0))","v":0},{"$f":"IF(I2=\"\",\"\",IF(I2=\"Дома\",IF(N2=\"В\",1,0),0))","v":0},{"$f":"IF(I2=\"\",\"\",IF(I2=\"Дома\",IF(N2=\"Н\",1,0),0))","v":0},{"$f":"IF(I2=\"\",\"\",IF(I2=\"Дома\",IF(N2=\"П\",1,0),0))","v":0},{"$f":"IF(I2=\"\",\"\",IF(I2=\"Дома\",L2,0))","v":0},{"$f":"IF(I2=\"\",\"\",IF(I2=\"Дома\",M2,0))","v":0},{"$f":"IF(I2=\"\",\"\",IF(I2=\"Дома\",W2*3+X2,0))","v":0},{"$f":"IF(I2=\"\",\"\",IF(I2=\"Гости\",1,0))","v":1},{"$f":"IF(I2=\"\",\"\",IF(I2=\"Гости\",IF(N2=\"В\",1,0),0))","v":0},{"$f":"IF(I2=\"\",\"\",IF(I2=\"Гости\",IF(N2=\"Н\",1,0),0))","v":1},{"$f":"IF(I2=\"\",\"\",IF(I2=\"Гости\",IF(N2=\"П\",1,0),0))","v":0},{"$f":"IF(I2=\"\",\"\",IF(I2=\"Гости\",L2,0))","v":1},{"$f":"IF(I2=\"\",\"\",IF(I2=\"Гости\",M2,0))","v":1},{"$f":"IF(I2=\"\",\"\",IF(I2=\"Гости\",AD2*3+AE2,0))","v":1},{"$f":"IF(I2=\"Дома\",L2+M2,\"\")","v":""}]
["CHILE: Primera Division","2021.04.02 21:00","Antofagasta","Everton",0,0,1,2,"Гости",{"$f":"IF(I3=\"\",\"\",E3+G3)","v":1},{"$f":"IF(I3=\"\",\"\",F3+H3)","v":2},{"$f":"IF(I3=\"\",\"\",IF(I3=\"Дома\",J3,K3))","v":2},{"$f":"IF(I3=\"\",\"\",IF(I3=\"Дома\",K3,J3))","v":1},{"$f":"IF(I3=\"\",\"\",IF(I3=\"Дома\",IF(J3>K3,\"В\",IF(J3=K3,\"Н\",\"П\")),IF(J3<K3,\"В\",IF(J3=K3,\"Н\",\"П\"))))","v":"В"},{"$f":"IF(I3=\"\",\"\",O2+1)","v":2},{"$f":"IF(I3=\"\",\"\",IF(N3=\"В\",P2+1,P2))","v":1},{"$f":"IF(I3=\"\",\"\",IF(N3=\"Н\",Q2+1,Q2))","v":1},{"$f":"IF(I3=\"\",\"\",IF(N3=\"П\",R2+1,R2))","v":0},{"$f":"IF(I3=\"\",\"\",S2+L3)","v":3},{"$f":"IF(I3=\"\",\"\",T2+M3)","v":2},{"$f":"IF(I3=\"\",\"\",P3*3+Q3)","v":4},{"$f":"IF(I3=\"\",\"\",IF(I3=\"Дома\",V2+1,V2+0))","v":0},{"$f":"IF(I3=\"\",\"\",IF(I3=\"Дома\",IF(N3=\"В\",W2+1,W2),W2))","v":0},{"$f":"IF(I3=\"\",\"\",IF(I3=\"Дома\",IF(N3=\"Н\",X2+1,X2),X2))","v":0},{"$f":"IF(I3=\"\",\"\",IF(I3=\"Дома\",IF(N3=\"П\",Y2+1,Y2),Y2))","v":0},{"$f":"IF(I3=\"\",\"\",IF(I3=\"Дома\",L3+Z2,Z2))","v":0},{"$f":"IF(I3=\"\",\"\",IF(I3=\"Дома\",M3+AA2,AA2))","v":0},{"$f":"IF(I3=\"\",\"\",IF(I3=\"Дома\",W3*3+X3,AB2))","v":0},{"$f":"IF(I3=\"\",\"\",IF(I3=\"Гости\",AC2+1,AC2+0))","v":2},{"$f":"IF(I3=\"\",\"\",IF(I3=\"Гости\",IF(N3=\"В\",AD2+1,AD2),AD2))","v":1},{"$f":"IF(I3=\"\",\"\",IF(I3=\"Гости\",IF(N3=\"Н\",AE2+1,AE2),AE2))","v":1},{"$f":"IF(I3=\"\",\"\",IF(I3=\"Гости\",IF(N3=\"П\",AF2+1,AF2),AF2))","v":0},{"$f":"IF(I3=\"\",\"\",IF(I3=\"Гости\",L3+AG2,AG2))","v":3},{"$f":"IF(I3=\"\",\"\",IF(I3=\"Гости\",M3+AH2,AH2))","v":2},{"$f":"IF(I3=\"\",\"\",IF(I3=\"Гости\",AD3*3+AE3,AI2))","v":4},{"$f":"IF(I3=\"Дома\",L3+M3,\"\")","v":""}]
["CHILE: Primera Division","2021.03.27 21:00","Everton","O'Higgins",1,0,0,1,"Дома",1,1,1,1,"Н",3,{"$f":"IF(I4=\"\",\"\",IF(N4=\"В\",P3+1,P3))","v":1},{"$f":"IF(I4=\"\",\"\",IF(N4=\"Н\",Q3+1,Q3))","v":2},{"$f":"IF(I4=\"\",\"\",IF(N4=\"П\",R3+1,R3))","v":0},{"$f":"IF(I4=\"\",\"\",S3+L4)","v":4},{"$f":"IF(I4=\"\",\"\",T3+M4)","v":3},5,{"$f":"IF(I4=\"\",\"\",IF(I4=\"Дома\",V3+1,V3+0))","v":1},{"$f":"IF(I4=\"\",\"\",IF(I4=\"Дома\",IF(N4=\"В\",W3+1,W3),W3))","v":0},{"$f":"IF(I4=\"\",\"\",IF(I4=\"Дома\",IF(N4=\"Н\",X3+1,X3),X3))","v":1},{"$f":"IF(I4=\"\",\"\",IF(I4=\"Дома\",IF(N4=\"П\",Y3+1,Y3),Y3))","v":0},{"$f":"IF(I4=\"\",\"\",IF(I4=\"Дома\",L4+Z3,Z3))","v":1},{"$f":"IF(I4=\"\",\"\",IF(I4=\"Дома\",M4+AA3,AA3))","v":1},{"$f":"IF(I4=\"\",\"\",IF(I4=\"Дома\",W4*3+X4,AB3))","v":1},{"$f":"IF(I4=\"\",\"\",IF(I4=\"Гости\",AC3+1,AC3+0))","v":2},{"$f":"IF(I4=\"\",\"\",IF(I4=\"Гости\",IF(N4=\"В\",AD3+1,AD3),AD3))","v":1},{"$f":"IF(I4=\"\",\"\",IF(I4=\"Гости\",IF(N4=\"Н\",AE3+1,AE3),AE3))","v":1},{"$f":"IF(I4=\"\",\"\",IF(I4=\"Гости\",IF(N4=\"П\",AF3+1,AF3),AF3))","v":0},{"$f":"IF(I4=\"\",\"\",IF(I4=\"Гости\",L4+AG3,AG3))","v":3},{"$f":"IF(I4=\"\",\"\",IF(I4=\"Гости\",M4+AH3,AH3))","v":2},{"$f":"IF(I4=\"\",\"\",IF(I4=\"Гости\",AD4*3+AE4,AI3))","v":4},2]
["CHILE: Primera Division","2021.02.14 15:30","Everton","Huachipato",1,0,0,0,"Дома",1,0,1,0,"В",4,2,2,0,5,3,8,2,1,1,0,2,1,4,2,1,1,0,3,2,4,1]
["CHILE: Primera Division","2021.02.11 23:30","Coquimbo","Everton",1,0,2,0,"Гости",3,0,0,3,"П",5,2,2,1,5,6,8,2,1,1,0,2,1,4,3,1,1,1,3,5,4,""]
["CHILE: Primera Division","2021.02.06 22:00","Everton","Palestino",0,1,1,2,"Дома",1,3,1,3,"П",6,2,2,2,6,9,8,3,1,1,1,3,4,4,3,1,1,1,3,5,4,4]
["CHILE: Primera Division","2021.01.20 00:15","U. Catolica","Everton",1,1,0,0,"Гости",1,1,1,1,"Н",7,2,3,2,7,10,9,3,1,1,1,3,4,4,4,1,2,1,4,6,5,""]
["CHILE: Primera Division","2021.01.14 22:00","Everton","A. Italiano",2,1,0,0,"Дома",2,1,2,1,{"$f":"IF(I9=\"\",\"\",IF(I9=\"Дома\",IF(J9>K9,\"В\",IF(J9=K9,\"Н\",\"П\")),IF(J9<K9,\"В\",IF(J9=K9,\"Н\",\"П\"))))","v":"В"},8,3,3,2,9,11,12,4,2,1,1,5,5,7,4,1,2,1,4,6,5,3]
["CHILE: Primera Division","2021.01.10 23:30","Colo Colo","Everton",1,0,0,0,"Гости",1,0,0,1,{"$f":"IF(I10=\"\",\"\",IF(I10=\"Дома\",IF(J10>K10,\"В\",IF(J10=K10,\"Н\",\"П\")),IF(J10<K10,\"В\",IF(J10=K10,\"Н\",\"П\"))))","v":"П"},9,3,3,3,9,12,12,4,2,1,1,5,5,7,5,1,2,2,4,7,5,""]
["CHILE: Primera Division","2021.01.06 22:00","La Serena","Everton",1,1,0,0,"Гости",1,1,1,1,"Н",10,3,4,3,10,13,13,4,2,1,1,5,5,7,6,1,3,2,5,8,6,""]
["CHILE: Primera Division","2021.01.02 22:00","Everton","Deportes Iquique",1,0,0,0,"Дома",1,0,1,0,"В",11,4,4,3,11,13,{"$f":"IF(I12=\"\",\"\",P12*3+Q12)","v":16},5,3,1,1,6,5,10,6,1,3,2,5,8,6,1]
["CHILE: Primera Division","2020.12.29 00:30","U. De Concepcion","Everton",0,0,0,0,"Гости",0,0,0,0,"Н",12,4,5,3,11,13,17,5,3,1,1,6,5,10,7,1,4,2,5,8,7,""]
["CHILE: Primera Division","2020.12.22 15:30","Everton","Cobresal",1,0,2,0,"Дома",3,0,3,0,"В",13,5,5,3,14,13,20,6,4,1,1,9,5,13,7,1,4,2,5,8,7,3]
["CHILE: Primera Division","2020.12.17 01:30","Everton","U. Espanola",1,2,0,0,"Дома",1,2,1,2,"П",14,5,5,4,15,15,20,7,4,1,2,10,7,13,7,1,4,2,5,8,7,3]
["CHILE: Primera Division","2020.12.14 00:15","S. Wanderers","Everton",0,1,2,0,"Гости",2,1,1,2,"П",15,5,5,5,16,17,20,7,4,1,2,10,7,13,8,1,4,3,6,10,7,""]
["CHILE: Primera Division","2020.12.11 02:30","Everton","Curico Unido",1,0,2,1,"Дома",3,1,3,1,"В",16,6,5,5,19,18,23,8,5,1,2,13,8,16,8,1,4,3,6,10,7,4]
["CHILE: Primera Division","2020.12.07 00:30","Union La Calera","Everton",3,1,3,1,"Гости",6,2,2,6,"П",17,6,5,6,21,24,23,8,5,1,2,13,8,16,9,1,4,4,8,16,7,""]
["CHILE: Primera Division","2020.11.23 00:15","Everton","U. De Chile",1,1,0,0,"Дома",1,1,1,1,"Н",18,6,6,6,22,25,24,9,5,2,2,14,9,17,9,1,4,4,8,16,7,2]
["CHILE: Primera Division","2020.11.19 15:30","Antofagasta","Everton",1,1,0,0,"Гости",1,1,1,1,"Н",19,6,7,6,23,26,25,9,5,2,2,14,9,17,10,1,5,4,9,17,8,""]
["CHILE: Primera Division","2020.11.13 18:30","Everton","O'Higgins",0,0,0,1,"Дома",0,1,0,1,"П",20,6,7,7,23,27,25,10,5,2,3,14,10,17,10,1,5,4,9,17,8,1]
["CHILE: Primera Division","2020.10.31 23:30","A. Italiano","Everton",1,0,0,2,"Гости",1,2,2,1,"В",21,7,7,7,25,28,28,10,5,2,3,14,10,17,11,2,5,4,11,18,11,""]
["CHILE: Primera Division","2020.10.28 21:00","Everton","Colo Colo",1,0,0,1,"Дома",1,1,1,1,"Н",22,7,8,7,26,29,29,11,5,3,3,15,11,18,11,2,5,4,11,18,11,2]
["CHILE: Primera Division","2020.10.14 21:00","Huachipato","Everton",1,0,0,0,"Гости",1,0,0,1,"П",23,7,8,8,26,30,29,11,5,3,3,15,11,18,12,2,5,5,11,19,11,""]
["CHILE: Primera Division","2020.10.10 21:00","Everton","S. Wanderers",1,0,1,2,"Дома",2,2,2,2,"Н",24,7,9,8,28,32,30,12,5,4,3,17,13,19,12,2,5,5,11,19,11,4]
["CHILE: Primera Division","2020.10.03 21:00","Curico Unido","Everton",0,1,1,2,"Гости",1,3,3,1,"В",25,8,9,8,31,33,33,12,5,4,3,17,13,19,13,3,5,5,14,20,14,""]
["CHILE: Primera Division","2020.09.26 21:00","Everton","U. Catolica",0,0,2,2,"Дома",2,2,2,2,"Н",26,8,10,8,33,35,34,13,5,5,3,19,15,20,13,3,5,5,14,20,14,4]
["CHILE: Primera Division","2020.09.13 23:30","O'Higgins","Everton",1,1,0,1,"Гости",1,2,2,1,"В",27,9,10,8,35,36,37,13,5,5,3,19,15,20,14,4,5,5,16,21,17,""]
["CHILE: Primera Division","2020.09.10 23:30","Everton","Antofagasta",0,0,0,0,"Дома",0,0,0,0,"Н",28,9,11,8,35,36,38,14,5,6,3,19,15,21,14,4,5,5,16,21,17,0]
["CHILE: Primera Division","2020.09.03 19:30","Palestino","Everton",1,0,0,0,"Гости",1,0,0,1,"П",29,9,11,9,35,37,38,14,5,6,3,19,15,21,15,4,5,6,16,22,17,""]
["CHILE: Primera Division","2020.03.15 01:00","Everton","La Serena",0,0,0,0,"Дома",0,0,0,0,"Н",30,9,12,9,35,37,39,15,5,7,3,19,15,22,15,4,5,6,16,22,17,0]
["CHILE: Primera Division","2020.03.05 23:00","U. De Chile","Everton",0,0,0,0,"Гости",0,0,0,0,"Н",31,9,13,9,35,37,40,15,5,7,3,19,15,22,16,4,6,6,16,22,18,""]
["CHILE: Primera Division","2020.03.01 01:30","U. Espanola","Everton",0,0,2,0,"Гости",2,0,0,2,"П",32,9,13,10,35,39,40,15,5,7,3,19,15,22,17,4,6,7,16,24,18,""]
["CHILE: Primera Division","2020.02.23 01:30","Everton","Union La Calera",0,0,0,1,"Дома",0,1,0,1,"П",33,9,13,11,35,40,40,16,5,7,4,19,16,22,17,4,6,7,16,24,18,1]
["CHILE: Primera Division","2020.02.16 17:00","Cobresal","Everton",1,1,0,0,"Гости",1,1,1,1,"Н",{"$f":"IF(I35=\"\",\"\",O34+1)","v":34},9,14,11,36,41,41,16,5,7,4,19,16,22,18,4,7,7,17,25,19,""]
["CHILE: Primera Division","2020.02.11 01:30","Everton","Coquimbo",0,0,1,0,"Дома",1,0,1,0,"В",35,10,14,11,37,41,44,17,6,7,4,20,16,25,18,4,7,7,17,25,19,1]
["CHILE: Primera Division","2020.02.03 01:30","Deportes Iquique","Everton",2,0,0,2,"Гости",2,2,2,2,"Н",36,10,15,11,39,43,45,17,6,7,4,20,16,25,19,4,8,7,19,27,20,""]
["CHILE: Primera Division","2020.01.24 23:30","Everton","U. De Concepcion",0,1,2,0,"Дома",2,1,2,1,"В",37,11,15,11,41,44,48,18,7,7,4,22,17,28,19,4,8,7,19,27,20,3]
["WORLD: Club Friendly","2020.01.19 01:00","Everton","Union La Calera",0,0,1,0,"Дома",1,0,1,0,"В",38,12,15,11,42,44,51,19,8,7,4,23,17,31,19,4,8,7,19,27,20,1]
["CHILE: Primera Division","2019.10.17 23:30","Everton","Curico Unido",0,0,2,1,"Дома",2,1,2,1,"В",39,13,15,11,44,45,54,20,9,7,4,25,18,34,19,4,8,7,19,27,20,3]
["CHILE: Chilean Cup","2019.10.12 20:15","Everton","Colo Colo",1,0,0,2,"Дома",1,2,1,2,"П",40,13,15,12,45,47,54,21,9,7,5,26,20,34,19,4,8,7,19,27,20,3]
[null,null,null,null,null,null,null,null,null,"","","","","","","","","","","","","","","","","","","","","","","","","","",""]
[null,null,null,null,null,null,null,null,null,"","","","","","","","","","","","","","","","","","","","","","","","","","",""]
[null,null,null,null,null,null,null,null,null,"","","","","","","","","","","","","","","","","","","","","","","","","","",""]
[null,null,null,null,null,null,null,null,null,"","","","","","","","","","","","","","","","","","","","","","","","","","",""]
[null,null,null,null,null,null,null,null,null,"","","","","","","","","","","","","","","","","","","","","","","","","","",""]
[null,null,null,null,null,null,null,null,null,"","","","","","","","","","","","","","","","","","","","","","","","","","",""]
[null,null,null,null,null,null,null,null,null,"","","","","","","","","","","","","","","","","","","","","","","","","","",""]
[null,null,null,null,null,null,null,null,null,"","","","","","","","","","","","","","","","","","","","","","","","","","",""]
[null,null,null,null,null,null,null,null,null,"","","","","","","","","","","","","","","","","","","","","","","","","","",""]
[null,null,null,null,null,null,null,null,null,"","","","","","","","","","","","","","","","","","","","","","","","","","",""]
[null,null,null,null,null,null,null,null,null,"","","","","","","","","","","","","","","","","","","","","","","","","","",""]
[null,null,null,null,null,null,null,null,null,"","","","","","","","","","","","","","","","","","","","","","","","","","",""]
[null,null,null,null,null,null,null,null,null,"","","","","","","","","","","","","","","","","","","","","","","","","","",""]
[null,null,null,null,null,null,null,null,null,"","","","","","","","","","","","","","","","","","","","","","","","","","",""]
[null,null,null,null,null,null,null,null,null,"","","","","","","","","","","","","","","","","","","","","","","","","","",""]
[null,null,null,null,null,null,null,null,null,"","","","","","","","","","","","","","","","","","","","","","","","","","",""]
[null,null,null,null,null,null,null,null,null,"","","","","","","","","","","","","","","","","","","","","","","","","","",""]
[null,null,null,null,null,null,null,null,null,"","","","","","","","","","","","","","","","","","","","","","","","","","",""]
[null,null,null,null,null,null,null,null,null,"","","","","","","","","","","","","","","","","","","","","","","","","","",""]
[null,null,null,null,null,null,null,null,null,"","","","","","","","","","","","","","","","","","","","","","","","","","",""]
[null,null,null,null,null,null,null,null,null,"","","","","","","","","","","","","","","","","","","","","","","","","","",""]
[null,null,null,null,null,null,null,null,null,"","","","","","","","","","","","","","","","","","","","","","","","","","",""]
[null,null,null,null,null,null,null,null,null,"","","","","","","","","","","","","","","","","","","","","","","","","","",""]
[null,null,null,null,null,null,null,null,null,"","","","","","","","","","","","","","","","","","","","","","","","","","",""]
[null,null,null,null,null,null,null,null,null,"","","","","","","","","","","","","","","","","","","","","","","","","","",""]
[null,null,null,null,null,null,null,null,null,{"$f":"IF(I67=\"\",\"\",E67+G67)","v":""},{"$f":"IF(I67=\"\",\"\",F67+H67)","v":""},{"$f":"IF(I67=\"\",\"\",IF(I67=\"Дома\",J67,K67))","v":""},{"$f":"IF(I67=\"\",\"\",IF(I67=\"Дома\",K67,J67))","v":""},"",{"$f":"IF(I67=\"\",\"\",O66+1)","v":""},"","","","","",{"$f":"IF(I67=\"\",\"\",P67*3+Q67)","v":""},"","","","","","","","","","","","","","",{"$f":"IF(I67=\"Дома\",L67+M67,\"\")","v":""}]
[null,null,null,null,null,null,null,null,null,"","","","","","",{"$f":"IF(I68=\"\",\"\",IF(N68=\"В\",P67+1,P67))","v":""},{"$f":"IF(I68=\"\",\"\",IF(N68=\"Н\",Q67+1,Q67))","v":""},{"$f":"IF(I68=\"\",\"\",IF(N68=\"П\",R67+1,R67))","v":""},{"$f":"IF(I68=\"\",\"\",S67+L68)","v":""},{"$f":"IF(I68=\"\",\"\",T67+M68)","v":""},"",{"$f":"IF(I68=\"\",\"\",IF(I68=\"Дома\",V67+1,V67+0))","v":""},{"$f":"IF(I68=\"\",\"\",IF(I68=\"Дома\",IF(N68=\"В\",W67+1,W67),W67))","v":""},{"$f":"IF(I68=\"\",\"\",IF(I68=\"Дома\",IF(N68=\"Н\",X67+1,X67),X67))","v":""},{"$f":"IF(I68=\"\",\"\",IF(I68=\"Дома\",IF(N68=\"П\",Y67+1,Y67),Y67))","v":""},{"$f":"IF(I68=\"\",\"\",IF(I68=\"Дома\",L68+Z67,Z67))","v":""},{"$f":"IF(I68=\"\",\"\",IF(I68=\"Дома\",M68+AA67,AA67))","v":""},{"$f":"IF(I68=\"\",\"\",IF(I68=\"Дома\",W68*3+X68,AB67))","v":""},{"$f":"IF(I68=\"\",\"\",IF(I68=\"Гости\",AC67+1,AC67+0))","v":""},{"$f":"IF(I68=\"\",\"\",IF(I68=\"Гости\",IF(N68=\"В\",AD67+1,AD67),AD67))","v":""},{"$f":"IF(I68=\"\",\"\",IF(I68=\"Гости\",IF(N68=\"Н\",AE67+1,AE67),AE67))","v":""},{"$f":"IF(I68=\"\",\"\",IF(I68=\"Гости\",IF(N68=\"П\",AF67+1,AF67),AF67))","v":""},{"$f":"IF(I68=\"\",\"\",IF(I68=\"Гости\",L68+AG67,AG67))","v":""},{"$f":"IF(I68=\"\",\"\",IF(I68=\"Гости\",M68+AH67,AH67))","v":""},{"$f":"IF(I68=\"\",\"\",IF(I68=\"Гости\",AD68*3+AE68,AI67))","v":""},""]
[null,null,null,null,null,null,null,null,null,"","","","","","","","","","","","","","","","","","","","","","","","","","",""]
[null,null,null,null,null,null,null,null,null,"","","","","","","","","","","","","","","","","","","","","","","","","","",""]
[null,null,null,null,null,null,null,null,null,"","","","","","","","","","","","","","","","","","","","","","","","","","",""]
[null,null,null,null,null,null,null,null,null,"","","","","","","","","","","","","","","","","","","","","","","","","","",""]
[null,null,null,null,null,null,null,null,null,"","","","","","","","","","","","","","","","","","","","","","","","","","",""]
[null,null,null,null,null,null,null,null,null,"","","","",{"$f":"IF(I74=\"\",\"\",IF(I74=\"Дома\",IF(J74>K74,\"В\",IF(J74=K74,\"Н\",\"П\")),IF(J74<K74,\"В\",IF(J74=K74,\"Н\",\"П\"))))","v":""},"","","","","","","","","","","","","","","","","","","","","",""]
[null,null,null,null,null,null,null,null,null,"","","","","","","","","","","","","","","","","","","","","","","","","","",""]
[null,null,null,null,null,null,null,null,null,"","","","","","","","","","","","","","","","","","","","","","","","","","",""]
[null,null,null,null,null,null,null,null,null,"","","","","","","","","","","","","","","","","","","","","","","","","","",""]
[null,null,null,null,null,null,null,null,null,"","","","","","","","","","","","","","","","","","","","","","","","","","",""]
[null,null,null,null,null,null,null,null,null,"","","","","","","","","","","","","","","","","","","","","","","","","","",""]
[null,null,null,null,null,null,null,null,null,"","","","","","","","","","","","","","","","","","","","","","","","","","",""]
[null,null,null,null,null,null,null,null,null,"","","","","","","","","","","","","","","","","","","","","","","","","","",""]
[null,null,null,null,null,null,null,null,null,"","","","","","","","","","","","","","","","","","","","","","","","","","",""]
[null,null,null,null,null,null,null,null,null,"","","","","","","","","","","","","","","","","","","","","","","","","","",""]
[null,null,null,null,null,null,null,null,null,"","","","","","","","","","","","","","","","","","","","","","","","","","",""]
[null,null,null,null,null,null,null,null,null,"","","","","","","","","","","","","","","","","","","","","","","","","","",""]
[null,null,null,null,null,null,null,null,null,"","","","","","","","","","","","","","","","","","","","","","","","","","",""]
[null,null,null,null,null,null,null,null,null,"","","","","","","","","","","","","","","","","","","","","","","","","","",""]
[null,null,null,null,null,null,null,null,null,"","","","","","","","","","","","","","","","","","","","","","","","","","",""]
[null,null,null,null,null,null,null,null,null,"","","","","","","","","","","","","","","","","","","","","","","","","","",""]
[null,null,null,null,null,null,null,null,null,"","","","","","","","","","","","","","","","","","","","","","","","","","",""]
[null,null,null,null,null,null,null,null,null,"","","","","","","","","","","","","","","","","","","","","","","","","","",""]
[null,null,null,null,null,null,null,null,null,"","","","","","","","","","","","","","","","","","","","","","","","","","",""]
[null,null,null,null,null,null,null,null,null,"","","","","","","","","","","","","","","","","","","","","","","","","","",""]
[null,null,null,null,null,null,null,null,null,"","","","","","","","","","","","","","","","","","","","","","","","","","",""]
[null,null,null,null,null,null,null,null,null,"","","","","","","","","","","","","","","","","","","","","","","","","","",""]
[null,null,null,null,null,null,null,null,null,"","","","","","","","","","","","","","","","","","","","","","","","","","",""]
[null,null,null,null,null,null,null,null,null,"","","","","","","","","","","","","","","","","","","","","","","","","","",""]
[null,null,null,null,null,null,null,null,null,"","","","","","","","","","","","","","","","","","","","","","","","","","",""]
[null,null,null,null,null,null,null,null,null,"","","","","",{"$f":"IF(I99=\"\",\"\",O98+1)","v":""},"","","","","","","","","","","","","","","","","","","","",""]
[null,null,null,null,null,null,null,null,null,"","","","","","","","","","","","","","","","","","","","","","","","","","",""]
[null,null,null,null,null,null,null,null,null,"","","","","","","","","","","","","","","","","","","","","","","","","","",""]
[null,null,null,null,null,null,null,null,null,"","","","","","","","","","","","","","","","","","","","","","","","","","",""]
[null,null,null,null,null,null,null,null,null,"","","","","","","","","","","","","","","","","","","","","","","","","","",""]
[null,null,null,null,null,null,null,null,null,"","","","","","","","","","","","","","","","","","","","","","","","","","",""]
[null,null,null,null,null,null,null,null,null,"","","","","","","","","","","","","","","","","","","","","","","","","","",""]
[null,null,null,null,null,null,null,null,null,"","","","","","","","","","","","","","","","","","","","","","","","","","",""]
[null,null,null,null,null,null,null,null,null,"","","","","","","","","","","","","","","","","","","","","","","","","","",""]
[null,null,null,null,null,null,null,null,null,"","","","","","","","","","","","","","","","","","","","","","","","","","",""]
[null,null,null,null,null,null,null,null,null,"","","","","","","","","","","","","","","","","","","","","","","","","","",""]
[null,null,null,null,null,null,null,null,null,"","","","","","","","","","","","","","","","","","","","","","","","","","",""]
[null,null,null,null,null,null,null,null,null,"","","","","","","","","","","","","","","","","","","","","","","","","","",""]
[null,null,null,null,null,null,null,null,null,"","","","","","","","","","","","","","","","","","","","","","","","","","",""]
[null,null,null,null,null,null,null,null,null,"","","","","","","","","","","","","","","","","","","","","","","","","","",""]
[null,null,null,null,null,null,null,null,null,"","","","","","","","","","","","","","","","","","","","","","","","","","",""]
[null,null,null,null,null,null,null,null,null,"","","","","","","","","","","","","","","","","","","","","","","","","","",""]
[null,null,null,null,null,null,null,null,null,"","","","","","","","","","","","","","","","","","","","","","","","","","",""]
[null,null,null,null,null,null,null,null,null,"","","","","","","","","","","","","","","","","","","","","","","","","","",""]
[null,null,null,null,null,null,null,null,null,"","","","","","","","","","","","","","","","","","","","","","","","","","",""]
[null,null,null,null,null,null,null,null,null,"","","","","","","","","","","","","","","","","","","","","","","","","","",""]
[null,null,null,null,null,null,null,null,null,"","","","","","","","","","","","","","","","","","","","","","","","","","",""]
[null,null,null,null,null,null,null,null,null,"","","","","","","","","","","","","","","","","","","","","","","","","","",""]
[null,null,null,null,null,null,null,null,null,"","","","","","","","","","","","","","","","","","","","","","","","","","",""]
[null,null,null,null,null,null,null,null,null,"","","","","","","","","","","","","","","","","","","","","","","","","","",""]
[null,null,null,null,null,null,null,null,null,"","","","","","","","","","","","","","","","","","","","","","","","","","",""]
[null,null,null,null,null,null,null,null,null,"","","","","","","","","","","","","","","","","","","","","","","","","","",""]
[null,null,null,null,null,null,null,null,null,"","","","","","","","","","","","","","","","","","","","","","","","","","",""]
[null,null,null,null,null,null,null,null,null,"","","","","","","","","","","","","","","","","","","","","","","","","","",""]
[null,null,null,null,null,null,null,null,null,"","","","","","","","","","","","","","","","","","","","","","","","","","",""]
[null,null,null,null,null,null,null,null,null,"","","","","","","","","","","","","","","","","","","","","","","","","","",""]
[null,null,null,null,null,null,null,null,null,"","","","","","","","","","","","","","","","","","","","","","","","","","",""]
[null,null,null,null,null,null,null,null,null,{"$f":"IF(I131=\"\",\"\",E131+G131)","v":""},{"$f":"IF(I131=\"\",\"\",F131+H131)","v":""},{"$f":"IF(I131=\"\",\"\",IF(I131=\"Дома\",J131,K131))","v":""},{"$f":"IF(I131=\"\",\"\",IF(I131=\"Дома\",K131,J131))","v":""},"",{"$f":"IF(I131=\"\",\"\",O130+1)","v":""},"","","","","",{"$f":"IF(I131=\"\",\"\",P131*3+Q131)","v":""},"","","","","","","","","","","","","","",{"$f":"IF(I131=\"Дома\",L131+M131,\"\")","v":""}]
[null,null,null,null,null,null,null,null,null,"","","","","","",{"$f":"IF(I132=\"\",\"\",IF(N132=\"В\",P131+1,P131))","v":""},{"$f":"IF(I132=\"\",\"\",IF(N132=\"Н\",Q131+1,Q131))","v":""},{"$f":"IF(I132=\"\",\"\",IF(N132=\"П\",R131+1,R131))","v":""},{"$f":"IF(I132=\"\",\"\",S131+L132)","v":""},{"$f":"IF(I132=\"\",\"\",T131+M132)","v":""},"",{"$f":"IF(I132=\"\",\"\",IF(I132=\"Дома\",V131+1,V131+0))","v":""},{"$f":"IF(I132=\"\",\"\",IF(I132=\"Дома\",IF(N132=\"В\",W131+1,W131),W131))","v":""},{"$f":"IF(I132=\"\",\"\",IF(I132=\"Дома\",IF(N132=\"Н\",X131+1,X131),X131))","v":""},{"$f":"IF(I132=\"\",\"\",IF(I132=\"Дома\",IF(N132=\"П\",Y131+1,Y131),Y131))","v":""},{"$f":"IF(I132=\"\",\"\",IF(I132=\"Дома\",L132+Z131,Z131))","v":""},{"$f":"IF(I132=\"\",\"\",IF(I132=\"Дома\",M132+AA131,AA131))","v":""},{"$f":"IF(I132=\"\",\"\",IF(I132=\"Дома\",W132*3+X132,AB131))","v":""},{"$f":"IF(I132=\"\",\"\",IF(I132=\"Гости\",AC131+1,AC131+0))","v":""},{"$f":"IF(I132=\"\",\"\",IF(I132=\"Гости\",IF(N132=\"В\",AD131+1,AD131),AD131))","v":""},{"$f":"IF(I132=\"\",\"\",IF(I132=\"Гости\",IF(N132=\"Н\",AE131+1,AE131),AE131))","v":""},{"$f":"IF(I132=\"\",\"\",IF(I132=\"Гости\",IF(N132=\"П\",AF131+1,AF131),AF131))","v":""},{"$f":"IF(I132=\"\",\"\",IF(I132=\"Гости\",L132+AG131,AG131))","v":""},{"$f":"IF(I132=\"\",\"\",IF(I132=\"Гости\",M132+AH131,AH131))","v":""},{"$f":"IF(I132=\"\",\"\",IF(I132=\"Гости\",AD132*3+AE132,AI131))","v":""},""]
[null,null,null,null,null,null,null,null,null,"","","","","","","","","","","","","","","","","","","","","","","","","","",""]
[null,null,null,null,null,null,null,null,null,"","","","","","","","","","","","","","","","","","","","","","","","","","",""]
[null,null,null,null,null,null,null,null,null,"","","","","","","","","","","","","","","","","","","","","","","","","","",""]
[null,null,null,null,null,null,null,null,null,"","","","","","","","","","","","","","","","","","","","","","","","","","",""]
[null,null,null,null,null,null,null,null,null,"","","","","","","","","","","","","","","","","","","","","","","","","","",""]
[null,null,null,null,null,null,null,null,null,"","","","",{"$f":"IF(I138=\"\",\"\",IF(I138=\"Дома\",IF(J138>K138,\"В\",IF(J138=K138,\"Н\",\"П\")),IF(J138<K138,\"В\",IF(J138=K138,\"Н\",\"П\"))))","v":""},"","","","","","","","","","","","","","","","","","","","","",""]
[null,null,null,null,null,null,null,null,null,"","","","","","","","","","","","","","","","","","","","","","","","","","",""]
[null,null,null,null,null,null,null,null,null,"","","","","","","","","","","","","","","","","","","","","","","","","","",""]
[null,null,null,null,null,null,null,null,null,"","","","","","","","","","","","","","","","","","","","","","","","","","",""]
[null,null,null,null,null,null,null,null,null,"","","","","","","","","","","","","","","","","","","","","","","","","","",""]
[null,null,null,null,null,null,null,null,null,"","","","","","","","","","","","","","","","","","","","","","","","","","",""]
[null,null,null,null,null,null,null,null,null,"","","","","","","","","","","","","","","","","","","","","","","","","","",""]
[null,null,null,null,null,null,null,null,null,"","","","","","","","","","","","","","","","","","","","","","","","","","",""]
[null,null,null,null,null,null,null,null,null,"","","","","","","","","","","","","","","","","","","","","","","","","","",""]
[null,null,null,null,null,null,null,null,null,"","","","","","","","","","","","","","","","","","","","","","","","","","",""]
[null,null,null,null,null,null,null,null,null,"","","","","","","","","","","","","","","","","","","","","","","","","","",""]
[null,null,null,null,null,null,null,null,null,"","","","","","","","","","","","","","","","","","","","","","","","","","",""]
[null,null,null,null,null,null,null,null,null,"","","","","","","","","","","","","","","","","","","","","","","","","","",""]

{"sheet":"Гости","index":20,"n_rows":150,"n_cols":36,"rows_kept":150,"cut":false,"hidden":true,"merged":[]}
["Чемпионат","Дата/Время","Дома","Гости","К1 в 1Т","К2 в 1Т","К1 во 2Т","К2 во 2Т","Где играли","К1 Голов","К2 Голов","Забито","Пропущено","Результат","Всего Игр","Всего выиграно","Всего ничьих","Всего проиграно","Всего забито","Всего пропущено","Всего очков","Дома игр","Дома выиграно","Дома ничьих","Дома проиграно","Дома забито","Дома пропущено","Дома очков","Гости игр","Гости выиграно","Гости ничьих","Гости проиграно","Гости забито","Гости пропущено","Гости очков","Тотал"]
["CHILE: Primera Division","2021.04.12 02:00","Colo Colo","O'Higgins",1,1,0,1,"Дома",{"$f":"IF(I2=\"\",\"\",E2+G2)","v":1},{"$f":"IF(I2=\"\",\"\",F2+H2)","v":2},{"$f":"IF(I2=\"\",\"\",IF(I2=\"Дома\",J2,K2))","v":1},{"$f":"IF(I2=\"\",\"\",IF(I2=\"Дома\",K2,J2))","v":2},{"$f":"IF(I2=\"\",\"\",IF(I2=\"Дома\",IF(J2>K2,\"В\",IF(J2=K2,\"Н\",\"П\")),IF(J2<K2,\"В\",IF(J2=K2,\"Н\",\"П\"))))","v":"П"},{"$f":"IF(I2=\"\",\"\",1)","v":1},{"$f":"IF(I2=\"\",\"\",IF(N2=\"В\",1,0))","v":0},{"$f":"IF(I2=\"\",\"\",IF(N2=\"Н\",1,0))","v":0},{"$f":"IF(I2=\"\",\"\",IF(N2=\"П\",1,0))","v":1},{"$f":"IF(I2=\"\",\"\",L2)","v":1},{"$f":"IF(I2=\"\",\"\",M2)","v":2},{"$f":"IF(I2=\"\",\"\",P2*3+Q2)","v":0},{"$f":"IF(I2=\"\",\"\",IF(I2=\"Дома\",1,0))","v":1},{"$f":"IF(I2=\"\",\"\",IF(I2=\"Дома\",IF(N2=\"В\",1,0),0))","v":0},{"$f":"IF(I2=\"\",\"\",IF(I2=\"Дома\",IF(N2=\"Н\",1,0),0))","v":0},{"$f":"IF(I2=\"\",\"\",IF(I2=\"Дома\",IF(N2=\"П\",1,0),0))","v":1},{"$f":"IF(I2=\"\",\"\",IF(I2=\"Дома\",L2,0))","v":1},{"$f":"IF(I2=\"\",\"\",IF(I2=\"Дома\",M2,0))","v":2},{"$f":"IF(I2=\"\",\"\",IF(I2=\"Дома\",W2*3+X2,0))","v":0},{"$f":"IF(I2=\"\",\"\",IF(I2=\"Гости\",1,0))","v":0},{"$f":"IF(I2=\"\",\"\",IF(I2=\"Гости\",IF(N2=\"В\",1,0),0))","v":0},{"$f":"IF(I2=\"\",\"\",IF(I2=\"Гости\",IF(N2=\"Н\",1,0),0))","v":0},{"$f":"IF(I2=\"\",\"\",IF(I2=\"Гости\",IF(N2=\"П\",1,0),0))","v":0},{"$f":"IF(I2=\"\",\"\",IF(I2=\"Гости\",L2,0))","v":0},{"$f":"IF(I2=\"\",\"\",IF(I2=\"Гости\",M2,0))","v":0},{"$f":"IF(I2=\"\",\"\",IF(I2=\"Гости\",AD2*3+AE2,0))","v":0},{"$f":"IF(I2=\"Гости\",L2+M2,\"\")","v":""}]
["CHILE: Primera Division","2021.04.04 01:30","Cobresal","Colo Colo",0,2,1,0,"Гости",{"$f":"IF(I3=\"\",\"\",E3+G3)","v":1},{"$f":"IF(I3=\"\",\"\",F3+H3)","v":2},{"$f":"IF(I3=\"\",\"\",IF(I3=\"Дома\",J3,K3))","v":2},{"$f":"IF(I3=\"\",\"\",IF(I3=\"Дома\",K3,J3))","v":1},{"$f":"IF(I3=\"\",\"\",IF(I3=\"Дома\",IF(J3>K3,\"В\",IF(J3=K3,\"Н\",\"П\")),IF(J3<K3,\"В\",IF(J3=K3,\"Н\",\"П\"))))","v":"В"},{"$f":"IF(I3=\"\",\"\",O2+1)","v":2},{"$f":"IF(I3=\"\",\"\",IF(N3=\"В\",P2+1,P2))","v":1},{"$f":"IF(I3=\"\",\"\",IF(N3=\"Н\",Q2+1,Q2))","v":0},{"$f":"IF(I3=\"\",\"\",IF(N3=\"П\",R2+1,R2))","v":1},{"$f":"IF(I3=\"\",\"\",S2+L3)","v":3},{"$f":"IF(I3=\"\",\"\",T2+M3)","v":3},{"$f":"IF(I3=\"\",\"\",P3*3+Q3)","v":3},{"$f":"IF(I3=\"\",\"\",IF(I3=\"Дома\",V2+1,V2+0))","v":1},{"$f":"IF(I3=\"\",\"\",IF(I3=\"Дома\",IF(N3=\"В\",W2+1,W2),W2))","v":0},{"$f":"IF(I3=\"\",\"\",IF(I3=\"Дома\",IF(N3=\"Н\",X2+1,X2),X2))","v":0},{"$f":"IF(I3=\"\",\"\",IF(I3=\"Дома\",IF(N3=\"П\",Y2+1,Y2),Y2))","v":1},{"$f":"IF(I3=\"\",\"\",IF(I3=\"Дома\",L3+Z2,Z2))","v":1},{"$f":"IF(I3=\"\",\"\",IF(I3=\"Дома\",M3+AA2,AA2))","v":2},{"$f":"IF(I3=\"\",\"\",IF(I3=\"Дома\",W3*3+X3,AB2))","v":0},{"$f":"IF(I3=\"\",\"\",IF(I3=\"Гости\",AC2+1,AC2+0))","v":1},{"$f":"IF(I3=\"\",\"\",IF(I3=\"Гости\",IF(N3=\"В\",AD2+1,AD2),AD2))","v":1},{"$f":"IF(I3=\"\",\"\",IF(I3=\"Гости\",IF(N3=\"Н\",AE2+1,AE2),AE2))","v":0},{"$f":"IF(I3=\"\",\"\",IF(I3=\"Гости\",IF(N3=\"П\",AF2+1,AF2),AF2))","v":0},{"$f":"IF(I3=\"\",\"\",IF(I3=\"Гости\",L3+AG2,AG2))","v":2},{"$f":"IF(I3=\"\",\"\",IF(I3=\"Гости\",M3+AH2,AH2))","v":1},{"$f":"IF(I3=\"\",\"\",IF(I3=\"Гости\",AD3*3+AE3,AI2))","v":3},{"$f":"IF(I3=\"Гости\",L3+M3,\"\")","v":3}]
["CHILE: Primera Division","2021.03.27 23:30","Colo Colo","Union La Calera",0,0,0,0,"Дома",0,0,0,0,"Н",3,{"$f":"IF(I4=\"\",\"\",IF(N4=\"В\",P3+1,P3))","v":1},{"$f":"IF(I4=\"\",\"\",IF(N4=\"Н\",Q3+1,Q3))","v":1},{"$f":"IF(I4=\"\",\"\",IF(N4=\"П\",R3+1,R3))","v":1},{"$f":"IF(I4=\"\",\"\",S3+L4)","v":3},{"$f":"IF(I4=\"\",\"\",T3+M4)","v":3},4,{"$f":"IF(I4=\"\",\"\",IF(I4=\"Дома\",V3+1,V3+0))","v":2},{"$f":"IF(I4=\"\",\"\",IF(I4=\"Дома\",IF(N4=\"В\",W3+1,W3),W3))","v":0},{"$f":"IF(I4=\"\",\"\",IF(I4=\"Дома\",IF(N4=\"Н\",X3+1,X3),X3))","v":1},{"$f":"IF(I4=\"\",\"\",IF(I4=\"Дома\",IF(N4=\"П\",Y3+1,Y3),Y3))","v":1},{"$f":"IF(I4=\"\",\"\",IF(I4=\"Дома\",L4+Z3,Z3))","v":1},{"$f":"IF(I4=\"\",\"\",IF(I4=\"Дома\",M4+AA3,AA3))","v":2},{"$f":"IF(I4=\"\",\"\",IF(I4=\"Дома\",W4*3+X4,AB3))","v":1},{"$f":"IF(I4=\"\",\"\",IF(I4=\"Гости\",AC3+1,AC3+0))","v":1},{"$f":"IF(I4=\"\",\"\",IF(I4=\"Гости\",IF(N4=\"В\",AD3+1,AD3),AD3))","v":1},{"$f":"IF(I4=\"\",\"\",IF(I4=\"Гости\",IF(N4=\"Н\",AE3+1,AE3),AE3))","v":0},{"$f":"IF(I4=\"\",\"\",IF(I4=\"Гости\",IF(N4=\"П\",AF3+1,AF3),AF3))","v":0},{"$f":"IF(I4=\"\",\"\",IF(I4=\"Гости\",L4+AG3,AG3))","v":2},{"$f":"IF(I4=\"\",\"\",IF(I4=\"Гости\",M4+AH3,AH3))","v":1},{"$f":"IF(I4=\"\",\"\",IF(I4=\"Гости\",AD4*3+AE4,AI3))","v":3},""]
["CHILE: Super Cup","2021.03.21 23:00","U. Catolica","Colo Colo",0,1,4,1,"Гости",4,2,2,4,"П",4,1,1,2,5,7,4,2,0,1,1,1,2,1,2,1,0,1,4,5,3,6]
["CHILE: Primera Division - Relegation - Play Offs","2021.02.17 23:00","Colo Colo","U. De Concepcion",1,0,0,0,"Дома",1,0,1,0,"В",5,2,1,2,6,7,7,3,1,1,1,2,2,4,2,1,0,1,4,5,3,""]
["CHILE: Primera Division","2021.02.14 23:00","O'Higgins","Colo Colo",0,0,1,1,"Гости",1,1,1,1,"Н",6,2,2,2,7,8,8,3,1,1,1,2,2,4,3,1,1,1,5,6,4,2]
["CHILE: Primera Division","2021.02.11 23:30","Colo Colo","Cobresal",0,0,0,0,"Дома",0,0,0,0,"Н",7,2,3,2,7,8,9,4,1,2,1,2,2,5,3,1,1,1,5,6,4,""]
["CHILE: Primera Division","2021.02.07 02:30","Deportes Iquique","Colo Colo",0,0,0,0,"Гости",0,0,0,0,{"$f":"IF(I9=\"\",\"\",IF(I9=\"Дома\",IF(J9>K9,\"В\",IF(J9=K9,\"Н\",\"П\")),IF(J9<K9,\"В\",IF(J9=K9,\"Н\",\"П\"))))","v":"Н"},8,2,4,2,7,8,10,4,1,2,1,2,2,5,4,1,2,1,5,6,5,0]
["CHILE: Primera Division","2021.01.31 23:30","Colo Colo","Union La Calera",0,1,2,0,"Дома",2,1,2,1,{"$f":"IF(I10=\"\",\"\",IF(I10=\"Дома\",IF(J10>K10,\"В\",IF(J10=K10,\"Н\",\"П\")),IF(J10<K10,\"В\",IF(J10=K10,\"Н\",\"П\"))))","v":"В"},9,3,4,2,9,9,13,5,2,2,1,4,3,8,4,1,2,1,5,6,5,""]
["CHILE: Primera Division","2021.01.23 23:00","Colo Colo","Coquimbo",1,1,1,0,"Дома",2,1,2,1,"В",10,4,4,2,11,10,16,6,3,2,1,6,4,11,4,1,2,1,5,6,5,""]
["CHILE: Primera Division","2021.01.17 23:00","Colo Colo","U. De Chile",0,0,0,0,"Дома",0,0,0,0,"Н",11,4,5,2,11,10,{"$f":"IF(I12=\"\",\"\",P12*3+Q12)","v":17},7,3,3,1,6,4,12,4,1,2,1,5,6,5,""]
["CHILE: Primera Division","2021.01.13 22:00","U. De Concepcion","Colo Colo",0,0,1,1,"Гости",1,1,1,1,"Н",12,4,6,2,12,11,18,7,3,3,1,6,4,12,5,1,3,1,6,7,6,2]
["CHILE: Primera Division","2021.01.10 23:30","Colo Colo","Everton",1,0,0,0,"Дома",1,0,1,0,"В",13,5,6,2,13,11,21,8,4,3,1,7,4,15,5,1,3,1,6,7,6,""]
["CHILE: Primera Division","2021.01.06 15:30","S. Wanderers","Colo Colo",2,0,1,0,"Гости",3,0,0,3,"П",14,5,6,3,13,14,21,8,4,3,1,7,4,15,6,1,3,2,6,10,6,3]
["CHILE: Primera Division","2021.01.03 15:30","Antofagasta","Colo Colo",0,1,0,0,"Гости",0,1,1,0,"В",15,6,6,3,14,14,24,8,4,3,1,7,4,15,7,2,3,2,7,10,9,1]
["CHILE: Primera Division","2020.12.19 23:00","U. Catolica","Colo Colo",0,0,0,0,"Гости",0,0,0,0,"Н",16,6,7,3,14,14,25,8,4,3,1,7,4,15,8,2,4,2,7,10,10,0]
["CHILE: Primera Division","2020.12.12 23:00","U. Espanola","Colo Colo",0,1,1,1,"Гости",1,2,2,1,"В",17,7,7,3,16,15,28,8,4,3,1,7,4,15,9,3,4,2,9,11,13,3]
["CHILE: Primera Division","2020.12.08 23:30","Colo Colo","La Serena",0,1,0,1,"Дома",0,2,0,2,"П",18,7,7,4,16,17,28,9,4,3,2,7,6,15,9,3,4,2,9,11,13,""]
["CHILE: Primera Division","2020.12.05 22:00","Huachipato","Colo Colo",1,2,1,0,"Гости",2,2,2,2,"Н",19,7,8,4,18,19,29,9,4,3,2,7,6,15,10,3,5,2,11,13,14,4]
["CHILE: Primera Division","2020.11.25 23:00","Colo Colo","Curico Unido",0,1,0,1,"Дома",0,2,0,2,"П",20,7,8,5,18,21,29,10,4,3,3,7,8,15,10,3,5,2,11,13,14,""]
["CHILE: Primera Division","2020.11.19 23:30","Colo Colo","A. Italiano",0,0,1,0,"Дома",1,0,1,0,"В",21,8,8,5,19,21,32,11,5,3,3,8,8,18,10,3,5,2,11,13,14,""]
["CHILE: Primera Division","2020.11.14 16:00","Palestino","Colo Colo",1,0,2,1,"Гости",3,1,1,3,"П",22,8,8,6,20,24,32,11,5,3,3,8,8,18,11,3,5,3,12,16,14,4]
["CHILE: Primera Division","2020.11.10 16:00","Colo Colo","Antofagasta",0,0,1,0,"Дома",1,0,1,0,"В",23,9,8,6,21,24,35,12,6,3,3,9,8,21,11,3,5,3,12,16,14,""]
["CHILE: Primera Division","2020.10.31 16:00","Colo Colo","Deportes Iquique",0,2,0,0,"Дома",0,2,0,2,"П",24,9,8,7,21,26,35,13,6,3,4,9,10,21,11,3,5,3,12,16,14,""]
["CHILE: Primera Division","2020.10.28 21:00","Everton","Colo Colo",1,0,0,1,"Гости",1,1,1,1,"Н",25,9,9,7,22,27,36,13,6,3,4,9,10,21,12,3,6,3,13,17,15,2]
["SOUTH AMERICA: Copa Libertadores","2020.10.21 02:30","Colo Colo","Wilstermann",0,0,0,1,"Дома",0,1,0,1,"П",26,9,9,8,22,28,36,14,6,3,5,9,11,21,12,3,6,3,13,17,15,""]
["CHILE: Primera Division","2020.10.14 23:30","Colo Colo","U. Espanola",3,2,0,3,"Дома",3,5,3,5,"П",27,9,9,9,25,33,36,15,6,3,6,12,16,21,12,3,6,3,13,17,15,""]
["CHILE: Primera Division","2020.10.09 23:00","Coquimbo","Colo Colo",1,0,1,2,"Гости",2,2,2,2,"Н",28,9,10,9,27,35,37,15,6,3,6,12,16,21,13,3,7,3,15,19,16,4]
["CHILE: Primera Division","2020.10.03 23:30","Colo Colo","Huachipato",0,0,0,1,"Дома",0,1,0,1,"П",29,9,10,10,27,36,37,16,6,3,7,12,17,21,13,3,7,3,15,19,16,""]
["SOUTH AMERICA: Copa Libertadores","2020.09.30 00:15","Penarol","Colo Colo",1,0,2,0,"Гости",3,0,0,3,"П",30,9,10,11,27,39,37,16,6,3,7,12,17,21,14,3,7,4,15,22,16,3]
["SOUTH AMERICA: Copa Libertadores","2020.09.24 00:15","Athletico-PR","Colo Colo",2,0,0,0,"Гости",2,0,0,2,"П",31,9,10,12,27,41,37,16,6,3,7,12,17,21,15,3,7,5,15,24,16,2]
["SOUTH AMERICA: Copa Libertadores","2020.09.16 00:15","Colo Colo","Penarol",0,1,2,0,"Дома",2,1,2,1,"В",32,10,10,12,29,42,40,17,7,3,7,14,18,24,15,3,7,5,15,24,16,""]
["CHILE: Primera Division","2020.09.12 23:30","Union La Calera","Colo Colo",0,0,0,0,"Гости",0,0,0,0,"Н",33,10,11,12,29,42,41,17,7,3,7,14,18,24,16,3,8,5,15,24,17,0]
["CHILE: Primera Division","2020.09.09 21:00","Colo Colo","O'Higgins",0,1,0,0,"Дома",0,1,0,1,"П",34,10,11,13,29,43,41,18,7,3,8,14,19,24,16,3,8,5,15,24,17,""]
["CHILE: Primera Division","2020.09.06 19:00","U. De Chile","Colo Colo",0,1,1,0,"Гости",1,1,1,1,"Н",35,10,12,13,30,44,42,18,7,3,8,14,19,24,17,3,9,5,16,25,18,2]
["CHILE: Primera Division","2020.08.29 19:30","Colo Colo","S. Wanderers",1,1,1,2,"Дома",2,3,2,3,"П",36,10,12,14,32,47,42,19,7,3,9,16,22,24,17,3,9,5,16,25,18,""]
["SOUTH AMERICA: Copa Libertadores","2020.03.12 00:15","Colo Colo","Athletico-PR",1,0,0,0,"Дома",1,0,1,0,"В",37,11,12,14,33,47,45,20,8,3,9,17,22,27,17,3,9,5,16,25,18,""]
["CHILE: Primera Division","2020.03.07 17:00","La Serena","Colo Colo",0,0,1,2,"Гости",1,2,2,1,"В",38,12,12,14,35,48,48,20,8,3,9,17,22,27,18,4,9,5,18,26,21,3]
["SOUTH AMERICA: Copa Libertadores","2020.03.05 00:15","Wilstermann","Colo Colo",0,0,2,0,"Гости",2,0,0,2,"П",39,12,12,15,35,50,48,20,8,3,9,17,22,27,19,4,9,6,18,28,21,2]
["CHILE: Primera Division","2020.02.29 23:00","Colo Colo","U. De Concepcion",2,0,0,2,"Дома",2,2,2,2,"Н",40,12,13,15,37,52,49,21,8,4,9,19,24,28,19,4,9,6,18,28,21,""]
[null,null,null,null,null,null,null,null,null,"","","","","","","","","","","","","","","","","","","","","","","","","","",""]
[null,null,null,null,null,null,null,null,null,"","","","","","","","","","","","","","","","","","","","","","","","","","",""]
[null,null,null,null,null,null,null,null,null,"","","","","","","","","","","","","","","","","","","","","","","","","","",""]
[null,null,null,null,null,null,null,null,null,"","","","","","","","","","","","","","","","","","","","","","","","","","",""]
[null,null,null,null,null,null,null,null,null,"","","","","","","","","","","","","","","","","","","","","","","","","","",""]
[null,null,null,null,null,null,null,null,null,"","","","","","","","","","","","","","","","","","","","","","","","","","",""]
[null,null,null,null,null,null,null,null,null,"","","","","","","","","","","","","","","","","","","","","","","","","","",""]
[null,null,null,null,null,null,null,null,null,"","","","","","","","","","","","","","","","","","","","","","","","","","",""]
[null,null,null,null,null,null,null,null,null,"","","","","","","","","","","","","","","","","","","","","","","","","","",""]
[null,null,null,null,null,null,null,null,null,"","","","","","","","","","","","","","","","","","","","","","","","","","",""]
[null,null,null,null,null,null,null,null,null,"","","","","","","","","","","","","","","","","","","","","","","","","","",""]
[null,null,null,null,null,null,null,null,null,"","","","","","","","","","","","","","","","","","","","","","","","","","",""]
[null,null,null,null,null,null,null,null,null,"","","","","","","","","","","","","","","","","","","","","","","","","","",""]
[null,null,null,null,null,null,null,null,null,"","","","","","","","","","","","","","","","","","","","","","","","","","",""]
[null,null,null,null,null,null,null,null,null,"","","","","","","","","","","","","","","","","","","","","","","","","","",""]
[null,null,null,null,null,null,null,null,null,"","","","","","","","","","","","","","","","","","","","","","","","","","",""]
[null,null,null,null,null,null,null,null,null,"","","","","","","","","","","","","","","","","","","","","","","","","","",""]
[null,null,null,null,null,null,null,null,null,"","","","","","","","","","","","","","","","","","","","","","","","","","",""]
[null,null,null,null,null,null,null,null,null,"","","","","","","","","","","","","","","","","","","","","","","","","","",""]
[null,null,null,null,null,null,null,null,null,"","","","","","","","","","","","","","","","","","","","","","","","","","",""]
[null,null,null,null,null,null,null,null,null,"","","","","","","","","","","","","","","","","","","","","","","","","","",""]
[null,null,null,null,null,null,null,null,null,"","","","","","","","","","","","","","","","","","","","","","","","","","",""]
[null,null,null,null,null,null,null,null,null,"","","","","","","","","","","","","","","","","","","","","","","","","","",""]
[null,null,null,null,null,null,null,null,null,"","","","","","","","","","","","","","","","","","","","","","","","","","",""]
[null,null,null,null,null,null,null,null,null,"","","","","","","","","","","","","","","","","","","","","","","","","","",""]
[null,null,null,null,null,null,null,null,null,{"$f":"IF(I67=\"\",\"\",E67+G67)","v":""},{"$f":"IF(I67=\"\",\"\",F67+H67)","v":""},{"$f":"IF(I67=\"\",\"\",IF(I67=\"Дома\",J67,K67))","v":""},{"$f":"IF(I67=\"\",\"\",IF(I67=\"Дома\",K67,J67))","v":""},"",{"$f":"IF(I67=\"\",\"\",O66+1)","v":""},"","","","","",{"$f":"IF(I67=\"\",\"\",P67*3+Q67)","v":""},"","","","","","","","","","","","","","",{"$f":"IF(I67=\"Гости\",L67+M67,\"\")","v":""}]
[null,null,null,null,null,null,null,null,null,"","","","","","",{"$f":"IF(I68=\"\",\"\",IF(N68=\"В\",P67+1,P67))","v":""},{"$f":"IF(I68=\"\",\"\",IF(N68=\"Н\",Q67+1,Q67))","v":""},{"$f":"IF(I68=\"\",\"\",IF(N68=\"П\",R67+1,R67))","v":""},{"$f":"IF(I68=\"\",\"\",S67+L68)","v":""},{"$f":"IF(I68=\"\",\"\",T67+M68)","v":""},"",{"$f":"IF(I68=\"\",\"\",IF(I68=\"Дома\",V67+1,V67+0))","v":""},{"$f":"IF(I68=\"\",\"\",IF(I68=\"Дома\",IF(N68=\"В\",W67+1,W67),W67))","v":""},{"$f":"IF(I68=\"\",\"\",IF(I68=\"Дома\",IF(N68=\"Н\",X67+1,X67),X67))","v":""},{"$f":"IF(I68=\"\",\"\",IF(I68=\"Дома\",IF(N68=\"П\",Y67+1,Y67),Y67))","v":""},{"$f":"IF(I68=\"\",\"\",IF(I68=\"Дома\",L68+Z67,Z67))","v":""},{"$f":"IF(I68=\"\",\"\",IF(I68=\"Дома\",M68+AA67,AA67))","v":""},{"$f":"IF(I68=\"\",\"\",IF(I68=\"Дома\",W68*3+X68,AB67))","v":""},{"$f":"IF(I68=\"\",\"\",IF(I68=\"Гости\",AC67+1,AC67+0))","v":""},{"$f":"IF(I68=\"\",\"\",IF(I68=\"Гости\",IF(N68=\"В\",AD67+1,AD67),AD67))","v":""},{"$f":"IF(I68=\"\",\"\",IF(I68=\"Гости\",IF(N68=\"Н\",AE67+1,AE67),AE67))","v":""},{"$f":"IF(I68=\"\",\"\",IF(I68=\"Гости\",IF(N68=\"П\",AF67+1,AF67),AF67))","v":""},{"$f":"IF(I68=\"\",\"\",IF(I68=\"Гости\",L68+AG67,AG67))","v":""},{"$f":"IF(I68=\"\",\"\",IF(I68=\"Гости\",M68+AH67,AH67))","v":""},{"$f":"IF(I68=\"\",\"\",IF(I68=\"Гости\",AD68*3+AE68,AI67))","v":""},""]
[null,null,null,null,null,null,null,null,null,"","","","","","","","","","","","","","","","","","","","","","","","","","",""]
[null,null,null,null,null,null,null,null,null,"","","","","","","","","","","","","","","","","","","","","","","","","","",""]
[null,null,null,null,null,null,null,null,null,"","","","","","","","","","","","","","","","","","","","","","","","","","",""]
[null,null,null,null,null,null,null,null,null,"","","","","","","","","","","","","","","","","","","","","","","","","","",""]
[null,null,null,null,null,null,null,null,null,"","","","","","","","","","","","","","","","","","","","","","","","","","",""]
[null,null,null,null,null,null,null,null,null,"","","","",{"$f":"IF(I74=\"\",\"\",IF(I74=\"Дома\",IF(J74>K74,\"В\",IF(J74=K74,\"Н\",\"П\")),IF(J74<K74,\"В\",IF(J74=K74,\"Н\",\"П\"))))","v":""},"","","","","","","","","","","","","","","","","","","","","",""]
[null,null,null,null,null,null,null,null,null,"","","","","","","","","","","","","","","","","","","","","","","","","","",""]
[null,null,null,null,null,null,null,null,null,"","","","","","","","","","","","","","","","","","","","","","","","","","",""]
[null,null,null,null,null,null,null,null,null,"","","","","","","","","","","","","","","","","","","","","","","","","","",""]
[null,null,null,null,null,null,null,null,null,"","","","","","","","","","","","","","","","","","","","","","","","","","",""]
[null,null,null,null,null,null,null,null,null,"","","","","","","","","","","","","","","","","","","","","","","","","","",""]
[null,null,null,null,null,null,null,null,null,"","","","","","","","","","","","","","","","","","","","","","","","","","",""]
[null,null,null,null,null,null,null,null,null,"","","","","","","","","","","","","","","","","","","","","","","","","","",""]
[null,null,null,null,null,null,null,null,null,"","","","","","","","","","","","","","","","","","","","","","","","","","",""]
[null,null,null,null,null,null,null,null,null,"","","","","","","","","","","","","","","","","","","","","","","","","","",""]
[null,null,null,null,null,null,null,null,null,"","","","","","","","","","","","","","","","","","","","","","","","","","",""]
[null,null,null,null,null,null,null,null,null,"","","","","","","","","","","","","","","","","","","","","","","","","","",""]
[null,null,null,null,null,null,null,null,null,"","","","","","","","","","","","","","","","","","","","","","","","","","",""]
[null,null,null,null,null,null,null,null,null,"","","","","","","","","","","","","","","","","","","","","","","","","","",""]
[null,null,null,null,null,null,null,null,null,"","","","","","","","","","","","","","","","","","","","","","","","","","",""]
[null,null,null,null,null,null,null,null,null,"","","","","","","","","","","","","","","","","","","","","","","","","","",""]
[null,null,null,null,null,null,null,null,null,"","","","","","","","","","","","","","","","","","","","","","","","","","",""]
[null,null,null,null,null,null,null,null,null,"","","","","","","","","","","","","","","","","","","","","","","","","","",""]
[null,null,null,null,null,null,null,null,null,"","","","","","","","","","","","","","","","","","","","","","","","","","",""]
[null,null,null,null,null,null,null,null,null,"","","","","","","","","","","","","","","","","","","","","","","","","","",""]
[null,null,null,null,null,null,null,null,null,"","","","","","","","","","","","","","","","","","","","","","","","","","",""]
[null,null,null,null,null,null,null,null,null,"","","","","","","","","","","","","","","","","","","","","","","","","","",""]
[null,null,null,null,null,null,null,null,null,"","","","","","","","","","","","","","","","","","","","","","","","","","",""]
[null,null,null,null,null,null,null,null,null,"","","","","","","","","","","","","","","","","","","","","","","","","","",""]
[null,null,null,null,null,null,null,null,null,"","","","","","","","","","","","","","","","","","","","","","","","","","",""]
[null,null,null,null,null,null,null,null,null,"","","","","","","","","","","","","","","","","","","","","","","","","","",""]
[null,null,null,null,null,null,null,null,null,"","","","","","","","","","","","","","","","","","","","","","","","","","",""]
[null,null,null,null,null,null,null,null,null,"","","","","","","","","","","","","","","","","","","","","","","","","","",""]
[null,null,null,null,null,null,null,null,null,"","","","","","","","","","","","","","","","","","","","","","","","","","",""]
[null,null,null,null,null,null,null,null,null,"","","","","","","","","","","","","","","","","","","","","","","","","","",""]
[null,null,null,null,null,null,null,null,null,"","","","","","","","","","","","","","","","","","","","","","","","","","",""]
[null,null,null,null,null,null,null,null,null,"","","","","","","","","","","","","","","","","","","","","","","","","","",""]
[null,null,null,null,null,null,null,null,null,"","","","","","","","","","","","","","","","","","","","","","","","","","",""]
[null,null,null,null,null,null,null,null,null,"","","","","","","","","","","","","","","","","","","","","","","","","","",""]
[null,null,null,null,null,null,null,null,null,"","","","","","","","","","","","","","","","","","","","","","","","","","",""]
[null,null,null,null,null,null,null,null,null,"","","","","","","","","","","","","","","","","","","","","","","","","","",""]
[null,null,null,null,null,null,null,null,null,"","","","","","","","","","","","","","","","","","","","","","","","","","",""]
[null,null,null,null,null,null,null,null,null,"","","","","","","","","","","","","","","","","","","","","","","","","","",""]
[null,null,null,null,null,null,null,null,null,"","","","","","","","","","","","","","","","","","","","","","","","","","",""]
[null,null,null,null,null,null,null,null,null,"","","","","","","","","","","","","","","","","","","","","","","","","","",""]
[null,null,null,null,null,null,null,null,null,"","","","","","","","","","","","","","","","","","","","","","","","","","",""]
[null,null,null,null,null,null,null,null,null,"","","","","","","","","","","","","","","","","","","","","","","","","","",""]
[null,null,null,null,null,null,null,null,null,"","","","","","","","","","","","","","","","","","","","","","","","","","",""]
[null,null,null,null,null,null,null,null,null,"","","","","","","","","","","","","","","","","","","","","","","","","","",""]
[null,null,null,null,null,null,null,null,null,"","","","","","","","","","","","","","","","","","","","","","","","","","",""]
[null,null,null,null,null,null,null,null,null,"","","","","","","","","","","","","","","","","","","","","","","","","","",""]
[null,null,null,null,null,null,null,null,null,"","","","","","","","","","","","","","","","","","","","","","","","","","",""]
[null,null,null,null,null,null,null,null,null,"","","","","","","","","","","","","","","","","","","","","","","","","","",""]
[null,null,null,null,null,null,null,null,null,"","","","","","","","","","","","","","","","","","","","","","","","","","",""]
[null,null,null,null,null,null,null,null,null,"","","","","","","","","","","","","","","","","","","","","","","","","","",""]
[null,null,null,null,null,null,null,null,null,"","","","","","","","","","","","","","","","","","","","","","","","","","",""]
[null,null,null,null,null,null,null,null,null,"","","","","","","","","","","","","","","","","","","","","","","","","","",""]
[null,null,null,null,null,null,null,null,null,"","","","","","","","","","","","","","","","","","","","","","","","","","",""]
[null,null,null,null,null,null,null,null,null,"","","","","","","","","","","","","","","","","","","","","","","","","","",""]
[null,null,null,null,null,null,null,null,null,"","","","","","","","","","","","","","","","","","","","","","","","","","",""]
[null,null,null,null,null,null,null,null,null,"","","","","","","","","","","","","","","","","","","","","","","","","","",""]
[null,null,null,null,null,null,null,null,null,"","","","","","","","","","","","","","","","","","","","","","","","","","",""]
[null,null,null,null,null,null,null,null,null,{"$f":"IF(I131=\"\",\"\",E131+G131)","v":""},{"$f":"IF(I131=\"\",\"\",F131+H131)","v":""},{"$f":"IF(I131=\"\",\"\",IF(I131=\"Дома\",J131,K131))","v":""},{"$f":"IF(I131=\"\",\"\",IF(I131=\"Дома\",K131,J131))","v":""},"",{"$f":"IF(I131=\"\",\"\",O130+1)","v":""},"","","","","",{"$f":"IF(I131=\"\",\"\",P131*3+Q131)","v":""},"","","","","","","","","","","","","","",{"$f":"IF(I131=\"Гости\",L131+M131,\"\")","v":""}]
[null,null,null,null,null,null,null,null,null,"","","","","","",{"$f":"IF(I132=\"\",\"\",IF(N132=\"В\",P131+1,P131))","v":""},{"$f":"IF(I132=\"\",\"\",IF(N132=\"Н\",Q131+1,Q131))","v":""},{"$f":"IF(I132=\"\",\"\",IF(N132=\"П\",R131+1,R131))","v":""},{"$f":"IF(I132=\"\",\"\",S131+L132)","v":""},{"$f":"IF(I132=\"\",\"\",T131+M132)","v":""},"",{"$f":"IF(I132=\"\",\"\",IF(I132=\"Дома\",V131+1,V131+0))","v":""},{"$f":"IF(I132=\"\",\"\",IF(I132=\"Дома\",IF(N132=\"В\",W131+1,W131),W131))","v":""},{"$f":"IF(I132=\"\",\"\",IF(I132=\"Дома\",IF(N132=\"Н\",X131+1,X131),X131))","v":""},{"$f":"IF(I132=\"\",\"\",IF(I132=\"Дома\",IF(N132=\"П\",Y131+1,Y131),Y131))","v":""},{"$f":"IF(I132=\"\",\"\",IF(I132=\"Дома\",L132+Z131,Z131))","v":""},{"$f":"IF(I132=\"\",\"\",IF(I132=\"Дома\",M132+AA131,AA131))","v":""},{"$f":"IF(I132=\"\",\"\",IF(I132=\"Дома\",W132*3+X132,AB131))","v":""},{"$f":"IF(I132=\"\",\"\",IF(I132=\"Гости\",AC131+1,AC131+0))","v":""},{"$f":"IF(I132=\"\",\"\",IF(I132=\"Гости\",IF(N132=\"В\",AD131+1,AD131),AD131))","v":""},{"$f":"IF(I132=\"\",\"\",IF(I132=\"Гости\",IF(N132=\"Н\",AE131+1,AE131),AE131))","v":""},{"$f":"IF(I132=\"\",\"\",IF(I132=\"Гости\",IF(N132=\"П\",AF131+1,AF131),AF131))","v":""},{"$f":"IF(I132=\"\",\"\",IF(I132=\"Гости\",L132+AG131,AG131))","v":""},{"$f":"IF(I132=\"\",\"\",IF(I132=\"Гости\",M132+AH131,AH131))","v":""},{"$f":"IF(I132=\"\",\"\",IF(I132=\"Гости\",AD132*3+AE132,AI131))","v":""},""]
[null,null,null,null,null,null,null,null,null,"","","","","","","","","","","","","","","","","","","","","","","","","","",""]
[null,null,null,null,null,null,null,null,null,"","","","","","","","","","","","","","","","","","","","","","","","","","",""]
[null,null,null,null,null,null,null,null,null,"","","","","","","","","","","","","","","","","","","","","","","","","","",""]
[null,null,null,null,null,null,null,null,null,"","","","","","","","","","","","","","","","","","","","","","","","","","",""]
[null,null,null,null,null,null,null,null,null,"","","","","","","","","","","","","","","","","","","","","","","","","","",""]
[null,null,null,null,null,null,null,null,null,"","","","",{"$f":"IF(I138=\"\",\"\",IF(I138=\"Дома\",IF(J138>K138,\"В\",IF(J138=K138,\"Н\",\"П\")),IF(J138<K138,\"В\",IF(J138=K138,\"Н\",\"П\"))))","v":""},"","","","","","","","","","","","","","","","","","","","","",""]
[null,null,null,null,null,null,null,null,null,"","","","","","","","","","","","","","","","","","","","","","","","","","",""]
[null,null,null,null,null,null,null,null,null,"","","","","","","","","","","","","","","","","","","","","","","","","","",""]
[null,null,null,null,null,null,null,null,null,"","","","","","","","","","","","","","","","","","","","","","","","","","",""]
[null,null,null,null,null,null,null,null,null,"","","","","","","","","","","","","","","","","","","","","","","","","","",""]
[null,null,null,null,null,null,null,null,null,"","","","","","","","","","","","","","","","","","","","","","","","","","",""]
[null,null,null,null,null,null,null,null,null,"","","","","","","","","","","","","","","","","","","","","","","","","","",""]
[null,null,null,null,null,null,null,null,null,"","","","","","","","","","","","","","","","","","","","","","","","","","",""]
[null,null,null,null,null,null,null,null,null,"","","","","","","","","","","","","","","","","","","","","","","","","","",""]
[null,null,null,null,null,null,null,null,null,"","","","","","","","","","","","","","","","","","","","","","","","","","",""]
[null,null,null,null,null,null,null,null,null,"","","","","","","","","","","","","","","","","","","","","","","","","","",""]
[null,null,null,null,null,null,null,null,null,"","","","","","","","","","","","","","","","","","","","","","","","","","",""]
[null,null,null,null,null,null,null,null,null,"","","","","","","","","","","","","","","","","","","","","","","","","","",""]

{"sheet":"ДомаДома","index":21,"n_rows":150,"n_cols":35,"rows_kept":150,"cut":false,"hidden":true,"merged":[]}
["Чемпионат","Дата/Время","Дома","Гости","К1 в 1Т","К2 в 1Т","К1 во 2Т","К2 во 2Т","Где играли","К1 Голов","К2 Голов","Забито","Пропущено","Результат","Всего Игр","Всего выиграно","Всего ничьих","Всего проиграно","Всего забито","Всего пропущено","Всего очков","Дома игр","Дома выиграно","Дома ничьих","Дома проиграно","Дома забито","Дома пропущено","Дома очков","Гости игр","Гости выиграно","Гости ничьих","Гости проиграно","Гости забито","Гости пропущено","Гости очков"]
["CHILE: Primera Division","2021.03.27 21:00","Everton","O'Higgins",1,0,0,1,"Дома",{"$f":"IF(I2=\"\",\"\",E2+G2)","v":1},{"$f":"IF(I2=\"\",\"\",F2+H2)","v":1},{"$f":"IF(I2=\"\",\"\",IF(I2=\"Дома\",J2,K2))","v":1},{"$f":"IF(I2=\"\",\"\",IF(I2=\"Дома\",K2,J2))","v":1},{"$f":"IF(I2=\"\",\"\",IF(I2=\"Дома\",IF(J2>K2,\"В\",IF(J2=K2,\"Н\",\"П\")),IF(J2<K2,\"В\",IF(J2=K2,\"Н\",\"П\"))))","v":"Н"},{"$f":"IF(I2=\"\",\"\",1)","v":1},{"$f":"IF(I2=\"\",\"\",IF(N2=\"В\",1,0))","v":0},{"$f":"IF(I2=\"\",\"\",IF(N2=\"Н\",1,0))","v":1},{"$f":"IF(I2=\"\",\"\",IF(N2=\"П\",1,0))","v":0},{"$f":"IF(I2=\"\",\"\",L2)","v":1},{"$f":"IF(I2=\"\",\"\",M2)","v":1},{"$f":"IF(I2=\"\",\"\",P2*3+Q2)","v":1},{"$f":"IF(I2=\"\",\"\",IF(I2=\"Дома\",1,0))","v":1},{"$f":"IF(I2=\"\",\"\",IF(I2=\"Дома\",IF(N2=\"В\",1,0),0))","v":0},{"$f":"IF(I2=\"\",\"\",IF(I2=\"Дома\",IF(N2=\"Н\",1,0),0))","v":1},{"$f":"IF(I2=\"\",\"\",IF(I2=\"Дома\",IF(N2=\"П\",1,0),0))","v":0},{"$f":"IF(I2=\"\",\"\",IF(I2=\"Дома\",L2,0))","v":1},{"$f":"IF(I2=\"\",\"\",IF(I2=\"Дома\",M2,0))","v":1},{"$f":"IF(I2=\"\",\"\",IF(I2=\"Дома\",W2*3+X2,0))","v":1},{"$f":"IF(I2=\"\",\"\",IF(I2=\"Гости\",1,0))","v":0},{"$f":"IF(I2=\"\",\"\",IF(I2=\"Гости\",IF(N2=\"В\",1,0),0))","v":0},{"$f":"IF(I2=\"\",\"\",IF(I2=\"Гости\",IF(N2=\"Н\",1,0),0))","v":0},{"$f":"IF(I2=\"\",\"\",IF(I2=\"Гости\",IF(N2=\"П\",1,0),0))","v":0},{"$f":"IF(I2=\"\",\"\",IF(I2=\"Гости\",L2,0))","v":0},{"$f":"IF(I2=\"\",\"\",IF(I2=\"Гости\",M2,0))","v":0},{"$f":"IF(I2=\"\",\"\",IF(I2=\"Гости\",AD2*3+AE2,0))","v":0}]
["CHILE: Primera Division","2021.02.14 15:30","Everton","Huachipato",1,0,0,0,"Дома",{"$f":"IF(I3=\"\",\"\",E3+G3)","v":1},{"$f":"IF(I3=\"\",\"\",F3+H3)","v":0},{"$f":"IF(I3=\"\",\"\",IF(I3=\"Дома\",J3,K3))","v":1},{"$f":"IF(I3=\"\",\"\",IF(I3=\"Дома\",K3,J3))","v":0},{"$f":"IF(I3=\"\",\"\",IF(I3=\"Дома\",IF(J3>K3,\"В\",IF(J3=K3,\"Н\",\"П\")),IF(J3<K3,\"В\",IF(J3=K3,\"Н\",\"П\"))))","v":"В"},{"$f":"IF(I3=\"\",\"\",O2+1)","v":2},{"$f":"IF(I3=\"\",\"\",IF(N3=\"В\",P2+1,P2))","v":1},{"$f":"IF(I3=\"\",\"\",IF(N3=\"Н\",Q2+1,Q2))","v":1},{"$f":"IF(I3=\"\",\"\",IF(N3=\"П\",R2+1,R2))","v":0},{"$f":"IF(I3=\"\",\"\",S2+L3)","v":2},{"$f":"IF(I3=\"\",\"\",T2+M3)","v":1},{"$f":"IF(I3=\"\",\"\",P3*3+Q3)","v":4},{"$f":"IF(I3=\"\",\"\",IF(I3=\"Дома\",V2+1,V2+0))","v":2},{"$f":"IF(I3=\"\",\"\",IF(I3=\"Дома\",IF(N3=\"В\",W2+1,W2),W2))","v":1},{"$f":"IF(I3=\"\",\"\",IF(I3=\"Дома\",IF(N3=\"Н\",X2+1,X2),X2))","v":1},{"$f":"IF(I3=\"\",\"\",IF(I3=\"Дома\",IF(N3=\"П\",Y2+1,Y2),Y2))","v":0},{"$f":"IF(I3=\"\",\"\",IF(I3=\"Дома\",L3+Z2,Z2))","v":2},{"$f":"IF(I3=\"\",\"\",IF(I3=\"Дома\",M3+AA2,AA2))","v":1},{"$f":"IF(I3=\"\",\"\",IF(I3=\"Дома\",W3*3+X3,AB2))","v":4},{"$f":"IF(I3=\"\",\"\",IF(I3=\"Гости\",AC2+1,AC2+0))","v":0},{"$f":"IF(I3=\"\",\"\",IF(I3=\"Гости\",IF(N3=\"В\",AD2+1,AD2),AD2))","v":0},{"$f":"IF(I3=\"\",\"\",IF(I3=\"Гости\",IF(N3=\"Н\",AE2+1,AE2),AE2))","v":0},{"$f":"IF(I3=\"\",\"\",IF(I3=\"Гости\",IF(N3=\"П\",AF2+1,AF2),AF2))","v":0},{"$f":"IF(I3=\"\",\"\",IF(I3=\"Гости\",L3+AG2,AG2))","v":0},{"$f":"IF(I3=\"\",\"\",IF(I3=\"Гости\",M3+AH2,AH2))","v":0},{"$f":"IF(I3=\"\",\"\",IF(I3=\"Гости\",AD3*3+AE3,AI2))","v":0}]
["CHILE: Primera Division","2021.02.06 22:00","Everton","Palestino",0,1,1,2,"Дома",1,3,1,3,"П",3,{"$f":"IF(I4=\"\",\"\",IF(N4=\"В\",P3+1,P3))","v":1},{"$f":"IF(I4=\"\",\"\",IF(N4=\"Н\",Q3+1,Q3))","v":1},{"$f":"IF(I4=\"\",\"\",IF(N4=\"П\",R3+1,R3))","v":1},{"$f":"IF(I4=\"\",\"\",S3+L4)","v":3},{"$f":"IF(I4=\"\",\"\",T3+M4)","v":4},4,{"$f":"IF(I4=\"\",\"\",IF(I4=\"Дома\",V3+1,V3+0))","v":3},{"$f":"IF(I4=\"\",\"\",IF(I4=\"Дома\",IF(N4=\"В\",W3+1,W3),W3))","v":1},{"$f":"IF(I4=\"\",\"\",IF(I4=\"Дома\",IF(N4=\"Н\",X3+1,X3),X3))","v":1},{"$f":"IF(I4=\"\",\"\",IF(I4=\"Дома\",IF(N4=\"П\",Y3+1,Y3),Y3))","v":1},{"$f":"IF(I4=\"\",\"\",IF(I4=\"Дома\",L4+Z3,Z3))","v":3},{"$f":"IF(I4=\"\",\"\",IF(I4=\"Дома\",M4+AA3,AA3))","v":4},{"$f":"IF(I4=\"\",\"\",IF(I4=\"Дома\",W4*3+X4,AB3))","v":4},{"$f":"IF(I4=\"\",\"\",IF(I4=\"Гости\",AC3+1,AC3+0))","v":0},{"$f":"IF(I4=\"\",\"\",IF(I4=\"Гости\",IF(N4=\"В\",AD3+1,AD3),AD3))","v":0},{"$f":"IF(I4=\"\",\"\",IF(I4=\"Гости\",IF(N4=\"Н\",AE3+1,AE3),AE3))","v":0},{"$f":"IF(I4=\"\",\"\",IF(I4=\"Гости\",IF(N4=\"П\",AF3+1,AF3),AF3))","v":0},{"$f":"IF(I4=\"\",\"\",IF(I4=\"Гости\",L4+AG3,AG3))","v":0},{"$f":"IF(I4=\"\",\"\",IF(I4=\"Гости\",M4+AH3,AH3))","v":0},{"$f":"IF(I4=\"\",\"\",IF(I4=\"Гости\",AD4*3+AE4,AI3))","v":0}]
["CHILE: Primera Division","2021.01.14 22:00","Everton","A. Italiano",2,1,0,0,"Дома",2,1,2,1,"В",4,2,1,1,5,5,7,4,2,1,1,5,5,7,0,0,0,0,0,0,0]
["CHILE: Primera Division","2021.01.02 22:00","Everton","Deportes Iquique",1,0,0,0,"Дома",1,0,1,0,"В",5,3,1,1,6,5,10,5,3,1,1,6,5,10,0,0,0,0,0,0,0]
["CHILE: Primera Division","2020.12.22 15:30","Everton","Cobresal",1,0,2,0,"Дома",3,0,3,0,"В",6,4,1,1,9,5,13,6,4,1,1,9,5,13,0,0,0,0,0,0,0]
["CHILE: Primera Division","2020.12.17 01:30","Everton","U. Espanola",1,2,0,0,"Дома",1,2,1,2,"П",7,4,1,2,10,7,13,7,4,1,2,10,7,13,0,0,0,0,0,0,0]
["CHILE: Primera Division","2020.12.11 02:30","Everton","Curico Unido",1,0,2,1,"Дома",3,1,3,1,{"$f":"IF(I9=\"\",\"\",IF(I9=\"Дома\",IF(J9>K9,\"В\",IF(J9=K9,\"Н\",\"П\")),IF(J9<K9,\"В\",IF(J9=K9,\"Н\",\"П\"))))","v":"В"},8,5,1,2,13,8,16,8,5,1,2,13,8,16,0,0,0,0,0,0,0]
["CHILE: Primera Division","2020.11.23 00:15","Everton","U. De Chile",1,1,0,0,"Дома",1,1,1,1,{"$f":"IF(I10=\"\",\"\",IF(I10=\"Дома\",IF(J10>K10,\"В\",IF(J10=K10,\"Н\",\"П\")),IF(J10<K10,\"В\",IF(J10=K10,\"Н\",\"П\"))))","v":"Н"},9,5,2,2,14,9,17,9,5,2,2,14,9,17,0,0,0,0,0,0,0]
["CHILE: Primera Division","2020.11.13 18:30","Everton","O'Higgins",0,0,0,1,"Дома",0,1,0,1,"П",10,5,2,3,14,10,17,10,5,2,3,14,10,17,0,0,0,0,0,0,0]
["CHILE: Primera Division","2020.10.28 21:00","Everton","Colo Colo",1,0,0,1,"Дома",1,1,1,1,"Н",11,5,3,3,15,11,{"$f":"IF(I12=\"\",\"\",P12*3+Q12)","v":18},11,5,3,3,15,11,18,0,0,0,0,0,0,0]
["CHILE: Primera Division","2020.10.10 21:00","Everton","S. Wanderers",1,0,1,2,"Дома",2,2,2,2,"Н",12,5,4,3,17,13,19,12,5,4,3,17,13,19,0,0,0,0,0,0,0]
["CHILE: Primera Division","2020.09.26 21:00","Everton","U. Catolica",0,0,2,2,"Дома",2,2,2,2,"Н",13,5,5,3,19,15,20,13,5,5,3,19,15,20,0,0,0,0,0,0,0]
["CHILE: Primera Division","2020.09.10 23:30","Everton","Antofagasta",0,0,0,0,"Дома",0,0,0,0,"Н",14,5,6,3,19,15,21,14,5,6,3,19,15,21,0,0,0,0,0,0,0]
["CHILE: Primera Division","2020.03.15 01:00","Everton","La Serena",0,0,0,0,"Дома",0,0,0,0,"Н",15,5,7,3,19,15,22,15,5,7,3,19,15,22,0,0,0,0,0,0,0]
["CHILE: Primera Division","2020.02.23 01:30","Everton","Union La Calera",0,0,0,1,"Дома",0,1,0,1,"П",16,5,7,4,19,16,22,16,5,7,4,19,16,22,0,0,0,0,0,0,0]
["CHILE: Primera Division","2020.02.11 01:30","Everton","Coquimbo",0,0,1,0,"Дома",1,0,1,0,"В",17,6,7,4,20,16,25,17,6,7,4,20,16,25,0,0,0,0,0,0,0]
["CHILE: Primera Division","2020.01.24 23:30","Everton","U. De Concepcion",0,1,2,0,"Дома",2,1,2,1,"В",18,7,7,4,22,17,28,18,7,7,4,22,17,28,0,0,0,0,0,0,0]
["WORLD: Club Friendly","2020.01.19 01:00","Everton","Union La Calera",0,0,1,0,"Дома",1,0,1,0,"В",19,8,7,4,23,17,31,19,8,7,4,23,17,31,0,0,0,0,0,0,0]
["CHILE: Primera Division","2019.10.17 23:30","Everton","Curico Unido",0,0,2,1,"Дома",2,1,2,1,"В",20,9,7,4,25,18,34,20,9,7,4,25,18,34,0,0,0,0,0,0,0]
["CHILE: Chilean Cup","2019.10.12 20:15","Everton","Colo Colo",1,0,0,2,"Дома",1,2,1,2,"П",21,9,7,5,26,20,34,21,9,7,5,26,20,34,0,0,0,0,0,0,0]
[null,null,null,null,null,null,null,null,null,"","","","","","","","","","","","","","","","","","","","","","","","","",""]
[null,null,null,null,null,null,null,null,null,"","","","","","","","","","","","","","","","","","","","","","","","","",""]
[null,null,null,null,null,null,null,null,null,"","","","","","","","","","","","","","","","","","","","","","","","","",""]
[null,null,null,null,null,null,null,null,null,"","","","","","","","","","","","","","","","","","","","","","","","","",""]
[null,null,null,null,null,null,null,null,null,"","","","","","","","","","","","","","","","","","","","","","","","","",""]
[null,null,null,null,null,null,null,null,null,"","","","","","","","","","","","","","","","","","","","","","","","","",""]
[null,null,null,null,null,null,null,null,null,"","","","","","","","","","","","","","","","","","","","","","","","","",""]
[null,null,null,null,null,null,null,null,null,"","","","","","","","","","","","","","","","","","","","","","","","","",""]
[null,null,null,null,null,null,null,null,null,"","","","","","","","","","","","","","","","","","","","","","","","","",""]
[null,null,null,null,null,null,null,null,null,"","","","","","","","","","","","","","","","","","","","","","","","","",""]
[null,null,null,null,null,null,null,null,null,"","","","","","","","","","","","","","","","","","","","","","","","","",""]
[null,null,null,null,null,null,null,null,null,"","","","","","","","","","","","","","","","","","","","","","","","","",""]
[null,null,null,null,null,null,null,null,null,"","","","","","","","","","","","","","","","","","","","","","","","","",""]
[null,null,null,null,null,null,null,null,null,"","","","","","","","","","","","","","","","","","","","","","","","","",""]
[null,null,null,null,null,null,null,null,null,"","","","","","","","","","","","","","","","","","","","","","","","","",""]
[null,null,null,null,null,null,null,null,null,"","","","","","","","","","","","","","","","","","","","","","","","","",""]
[null,null,null,null,null,null,null,null,null,"","","","","","","","","","","","","","","","","","","","","","","","","",""]
[null,null,null,null,null,null,null,null,null,"","","","","","","","","","","","","","","","","","","","","","","","","",""]
[null,null,null,null,null,null,null,null,null,"","","","","","","","","","","","","","","","","","","","","","","","","",""]
[null,null,null,null,null,null,null,null,null,"","","","","","","","","","","","","","","","","","","","","","","","","",""]
[null,null,null,null,null,null,null,null,null,"","","","","","","","","","","","","","","","","","","","","","","","","",""]
[null,null,null,null,null,null,null,null,null,"","","","","","","","","","","","","","","","","","","","","","","","","",""]
[null,null,null,null,null,null,null,null,null,"","","","","","","","","","","","","","","","","","","","","","","","","",""]
[null,null,null,null,null,null,null,null,null,"","","","","","","","","","","","","","","","","","","","","","","","","",""]
[null,null,null,null,null,null,null,null,null,"","","","","","","","","","","","","","","","","","","","","","","","","",""]
[null,null,null,null,null,null,null,null,null,"","","","","","","","","","","","","","","","","","","","","","","","","",""]
[null,null,null,null,null,null,null,null,null,"","","","","","","","","","","","","","","","","","","","","","","","","",""]
[null,null,null,null,null,null,null,null,null,"","","","","","","","","","","","","","","","","","","","","","","","","",""]
[null,null,null,null,null,null,null,null,null,"","","","","","","","","","","","","","","","","","","","","","","","","",""]
[null,null,null,null,null,null,null,null,null,"","","","","","","","","","","","","","","","","","","","","","","","","",""]
[null,null,null,null,null,null,null,null,null,"","","","","","","","","","","","","","","","","","","","","","","","","",""]
[null,null,null,null,null,null,null,null,null,"","","","","","","","","","","","","","","","","","","","","","","","","",""]
[null,null,null,null,null,null,null,null,null,"","","","","","","","","","","","","","","","","","","","","","","","","",""]
[null,null,null,null,null,null,null,null,null,"","","","","","","","","","","","","","","","","","","","","","","","","",""]
[null,null,null,null,null,null,null,null,null,"","","","","","","","","","","","","","","","","","","","","","","","","",""]
[null,null,null,null,null,null,null,null,null,"","","","","","","","","","","","","","","","","","","","","","","","","",""]
[null,null,null,null,null,null,null,null,null,"","","","","","","","","","","","","","","","","","","","","","","","","",""]
[null,null,null,null,null,null,null,null,null,"","","","","","","","","","","","","","","","","","","","","","","","","",""]
[null,null,null,null,null,null,null,null,null,"","","","","","","","","","","","","","","","","","","","","","","","","",""]
[null,null,null,null,null,null,null,null,null,"","","","","","","","","","","","","","","","","","","","","","","","","",""]
[null,null,null,null,null,null,null,null,null,"","","","","","","","","","","","","","","","","","","","","","","","","",""]
[null,null,null,null,null,null,null,null,null,"","","","","","","","","","","","","","","","","","","","","","","","","",""]
[null,null,null,null,null,null,null,null,null,"","","","","","","","","","","","","","","","","","","","","","","","","",""]
[null,null,null,null,null,null,null,null,null,"","","","","","","","","","","","","","","","","","","","","","","","","",""]
[null,null,null,null,null,null,null,null,null,{"$f":"IF(I67=\"\",\"\",E67+G67)","v":""},{"$f":"IF(I67=\"\",\"\",F67+H67)","v":""},{"$f":"IF(I67=\"\",\"\",IF(I67=\"Дома\",J67,K67))","v":""},{"$f":"IF(I67=\"\",\"\",IF(I67=\"Дома\",K67,J67))","v":""},"",{"$f":"IF(I67=\"\",\"\",O66+1)","v":""},"","","","","",{"$f":"IF(I67=\"\",\"\",P67*3+Q67)","v":""},"","","","","","","","","","","","","",""]
[null,null,null,null,null,null,null,null,null,"","","","","","",{"$f":"IF(I68=\"\",\"\",IF(N68=\"В\",P67+1,P67))","v":""},{"$f":"IF(I68=\"\",\"\",IF(N68=\"Н\",Q67+1,Q67))","v":""},{"$f":"IF(I68=\"\",\"\",IF(N68=\"П\",R67+1,R67))","v":""},{"$f":"IF(I68=\"\",\"\",S67+L68)","v":""},{"$f":"IF(I68=\"\",\"\",T67+M68)","v":""},"",{"$f":"IF(I68=\"\",\"\",IF(I68=\"Дома\",V67+1,V67+0))","v":""},{"$f":"IF(I68=\"\",\"\",IF(I68=\"Дома\",IF(N68=\"В\",W67+1,W67),W67))","v":""},{"$f":"IF(I68=\"\",\"\",IF(I68=\"Дома\",IF(N68=\"Н\",X67+1,X67),X67))","v":""},{"$f":"IF(I68=\"\",\"\",IF(I68=\"Дома\",IF(N68=\"П\",Y67+1,Y67),Y67))","v":""},{"$f":"IF(I68=\"\",\"\",IF(I68=\"Дома\",L68+Z67,Z67))","v":""},{"$f":"IF(I68=\"\",\"\",IF(I68=\"Дома\",M68+AA67,AA67))","v":""},{"$f":"IF(I68=\"\",\"\",IF(I68=\"Дома\",W68*3+X68,AB67))","v":""},{"$f":"IF(I68=\"\",\"\",IF(I68=\"Гости\",AC67+1,AC67+0))","v":""},{"$f":"IF(I68=\"\",\"\",IF(I68=\"Гости\",IF(N68=\"В\",AD67+1,AD67),AD67))","v":""},{"$f":"IF(I68=\"\",\"\",IF(I68=\"Гости\",IF(N68=\"Н\",AE67+1,AE67),AE67))","v":""},{"$f":"IF(I68=\"\",\"\",IF(I68=\"Гости\",IF(N68=\"П\",AF67+1,AF67),AF67))","v":""},{"$f":"IF(I68=\"\",\"\",IF(I68=\"Гости\",L68+AG67,AG67))","v":""},{"$f":"IF(I68=\"\",\"\",IF(I68=\"Гости\",M68+AH67,AH67))","v":""},{"$f":"IF(I68=\"\",\"\",IF(I68=\"Гости\",AD68*3+AE68,AI67))","v":""}]
[null,null,null,null,null,null,null,null,null,"","","","","","","","","","","","","","","","","","","","","","","","","",""]
[null,null,null,null,null,null,null,null,null,"","","","","","","","","","","","","","","","","","","","","","","","","",""]
[null,null,null,null,null,null,null,null,null,"","","","","","","","","","","","","","","","","","","","","","","","","",""]
[null,null,null,null,null,null,null,null,null,"","","","","","","","","","","","","","","","","","","","","","","","","",""]
[null,null,null,null,null,null,null,null,null,"","","","","","","","","","","","","","","","","","","","","","","","","",""]
[null,null,null,null,null,null,null,null,null,"","","","",{"$f":"IF(I74=\"\",\"\",IF(I74=\"Дома\",IF(J74>K74,\"В\",IF(J74=K74,\"Н\",\"П\")),IF(J74<K74,\"В\",IF(J74=K74,\"Н\",\"П\"))))","v":""},"","","","","","","","","","","","","","","","","","","","",""]
[null,null,null,null,null,null,null,null,null,"","","","","","","","","","","","","","","","","","","","","","","","","",""]
[null,null,null,null,null,null,null,null,null,"","","","","","","","","","","","","","","","","","","","","","","","","",""]
[null,null,null,null,null,null,null,null,null,"","","","","","","","","","","","","","","","","","","","","","","","","",""]
[null,null,null,null,null,null,null,null,null,"","","","","","","","","","","","","","","","","","","","","","","","","",""]
[null,null,null,null,null,null,null,null,null,"","","","","","","","","","","","","","","","","","","","","","","","","",""]
[null,null,null,null,null,null,null,null,null,"","","","","","","","","","","","","","","","","","","","","","","","","",""]
[null,null,null,null,null,null,null,null,null,"","","","","","","","","","","","","","","","","","","","","","","","","",""]
[null,null,null,null,null,null,null,null,null,"","","","","","","","","","","","","","","","","","","","","","","","","",""]
[null,null,null,null,null,null,null,null,null,"","","","","","","","","","","","","","","","","","","","","","","","","",""]
[null,null,null,null,null,null,null,null,null,"","","","","","","","","","","","","","","","","","","","","","","","","",""]
[null,null,null,null,null,null,null,null,null,"","","","","","","","","","","","","","","","","","","","","","","","","",""]
[null,null,null,null,null,null,null,null,null,"","","","","","","","","","","","","","","","","","","","","","","","","",""]
[null,null,null,null,null,null,null,null,null,"","","","","","","","","","","","","","","","","","","","","","","","","",""]
[null,null,null,null,null,null,null,null,null,"","","","","","","","","","","","","","","","","","","","","","","","","",""]
[null,null,null,null,null,null,null,null,null,"","","","","","","","","","","","","","","","","","","","","","","","","",""]
[null,null,null,null,null,null,null,null,null,"","","","","","","","","","","","","","","","","","","","","","","","","",""]
[null,null,null,null,null,null,null,null,null,"","","","","","","","","","","","","","","","","","","","","","","","","",""]
[null,null,null,null,null,null,null,null,null,"","","","","","","","","","","","","","","","","","","","","","","","","",""]
[null,null,null,null,null,null,null,null,null,"","","","","","","","","","","","","","","","","","","","","","","","","",""]
[null,null,null,null,null,null,null,null,null,"","","","","","","","","","","","","","","","","","","","","","","","","",""]
[null,null,null,null,null,null,null,null,null,"","","","","","","","","","","","","","","","","","","","","","","","","",""]
[null,null,null,null,null,null,null,null,null,"","","","","","","","","","","","","","","","","","","","","","","","","",""]
[null,null,null,null,null,null,null,null,null,"","","","","","","","","","","","","","","","","","","","","","","","","",""]
[null,null,null,null,null,null,null,null,null,"","","","","","","","","","","","","","","","","","","","","","","","","",""]
[null,null,null,null,null,null,null,null,null,"","","","","","","","","","","","","","","","","","","","","","","","","",""]
[null,null,null,null,null,null,null,null,null,"","","","","","","","","","","","","","","","","","","","","","","","","",""]
[null,null,null,null,null,null,null,null,null,"","","","","","","","","","","","","","","","","","","","","","","","","",""]
[null,null,null,null,null,null,null,null,null,"","","","","","","","","","","","","","","","","","","","","","","","","",""]
[null,null,null,null,null,null,null,null,null,"","","","","","","","","","","","","","","","","","","","","","","","","",""]
[null,null,null,null,null,null,null,null,null,"","","","","","","","","","","","","","","","","","","","","","","","","",""]
[null,null,null,null,null,null,null,null,null,"","","","","","","","","","","","","","","","","","","","","","","","","",""]
[null,null,null,null,null,null,null,null,null,"","","","","","","","","","","","","","","","","","","","","","","","","",""]
[null,null,null,null,null,null,null,null,null,"","","","","","","","","","","","","","","","","","","","","","","","","",""]
[null,null,null,null,null,null,null,null,null,"","","","","","","","","","","","","","","","","","","","","","","","","",""]
[null,null,null,null,null,null,null,null,null,"","","","","","","","","","","","","","","","","","","","","","","","","",""]
[null,null,null,null,null,null,null,null,null,"","","","","","","","","","","","","","","","","","","","","","","","","",""]
[null,null,null,null,null,null,null,null,null,"","","","","","","","","","","","","","","","","","","","","","","","","",""]
[null,null,null,null,null,null,null,null,null,"","","","","","","","","","","","","","","","","","","","","","","","","",""]
[null,null,null,null,null,null,null,null,null,"","","","","","","","","","","","","","","","","","","","","","","","","",""]
[null,null,null,null,null,null,null,null,null,"","","","","","","","","","","","","","","","","","","","","","","","","",""]
[null,null,null,null,null,null,null,null,null,"","","","","","","","","","","","","","","","","","","","","","","","","",""]
[null,null,null,null,null,null,null,null,null,"","","","","","","","","","","","","","","","","","","","","","","","","",""]
[null,null,null,null,null,null,null,null,null,"","","","","","","","","","","","","","","","","","","","","","","","","",""]
[null,null,null,null,null,null,null,null,null,"","","","","","","","","","","","","","","","","","","","","","","","","",""]
[null,null,null,null,null,null,null,null,null,"","","","","","","","","","","","","","","","","","","","","","","","","",""]
[null,null,null,null,null,null,null,null,null,"","","","","","","","","","","","","","","","","","","","","","","","","",""]
[null,null,null,null,null,null,null,null,null,"","","","","","","","","","","","","","","","","","","","","","","","","",""]
[null,null,null,null,null,null,null,null,null,"","","","","","","","","","","","","","","","","","","","","","","","","",""]
[null,null,null,null,null,null,null,null,null,"","","","","","","","","","","","","","","","","","","","","","","","","",""]
[null,null,null,null,null,null,null,null,null,"","","","","","","","","","","","","","","","","","","","","","","","","",""]
[null,null,null,null,null,null,null,null,null,"","","","","","","","","","","","","","","","","","","","","","","","","",""]
[null,null,null,null,null,null,null,null,null,"","","","","","","","","","","","","","","","","","","","","","","","","",""]
[null,null,null,null,null,null,null,null,null,"","","","","","","","","","","","","","","","","","","","","","","","","",""]
[null,null,null,null,null,null,null,null,null,"","","","","","","","","","","","","","","","","","","","","","","","","",""]
[null,null,null,null,null,null,null,null,null,"","","","","","","","","","","","","","","","","","","","","","","","","",""]
[null,null,null,null,null,null,null,null,null,"","","","","","","","","","","","","","","","","","","","","","","","","",""]
[null,null,null,null,null,null,null,null,null,{"$f":"IF(I131=\"\",\"\",E131+G131)","v":""},{"$f":"IF(I131=\"\",\"\",F131+H131)","v":""},{"$f":"IF(I131=\"\",\"\",IF(I131=\"Дома\",J131,K131))","v":""},{"$f":"IF(I131=\"\",\"\",IF(I131=\"Дома\",K131,J131))","v":""},"",{"$f":"IF(I131=\"\",\"\",O130+1)","v":""},"","","","","",{"$f":"IF(I131=\"\",\"\",P131*3+Q131)","v":""},"","","","","","","","","","","","","",""]
[null,null,null,null,null,null,null,null,null,"","","","","","",{"$f":"IF(I132=\"\",\"\",IF(N132=\"В\",P131+1,P131))","v":""},{"$f":"IF(I132=\"\",\"\",IF(N132=\"Н\",Q131+1,Q131))","v":""},{"$f":"IF(I132=\"\",\"\",IF(N132=\"П\",R131+1,R131))","v":""},{"$f":"IF(I132=\"\",\"\",S131+L132)","v":""},{"$f":"IF(I132=\"\",\"\",T131+M132)","v":""},"",{"$f":"IF(I132=\"\",\"\",IF(I132=\"Дома\",V131+1,V131+0))","v":""},{"$f":"IF(I132=\"\",\"\",IF(I132=\"Дома\",IF(N132=\"В\",W131+1,W131),W131))","v":""},{"$f":"IF(I132=\"\",\"\",IF(I132=\"Дома\",IF(N132=\"Н\",X131+1,X131),X131))","v":""},{"$f":"IF(I132=\"\",\"\",IF(I132=\"Дома\",IF(N132=\"П\",Y131+1,Y131),Y131))","v":""},{"$f":"IF(I132=\"\",\"\",IF(I132=\"Дома\",L132+Z131,Z131))","v":""},{"$f":"IF(I132=\"\",\"\",IF(I132=\"Дома\",M132+AA131,AA131))","v":""},{"$f":"IF(I132=\"\",\"\",IF(I132=\"Дома\",W132*3+X132,AB131))","v":""},{"$f":"IF(I132=\"\",\"\",IF(I132=\"Гости\",AC131+1,AC131+0))","v":""},{"$f":"IF(I132=\"\",\"\",IF(I132=\"Гости\",IF(N132=\"В\",AD131+1,AD131),AD131))","v":""},{"$f":"IF(I132=\"\",\"\",IF(I132=\"Гости\",IF(N132=\"Н\",AE131+1,AE131),AE131))","v":""},{"$f":"IF(I132=\"\",\"\",IF(I132=\"Гости\",IF(N132=\"П\",AF131+1,AF131),AF131))","v":""},{"$f":"IF(I132=\"\",\"\",IF(I132=\"Гости\",L132+AG131,AG131))","v":""},{"$f":"IF(I132=\"\",\"\",IF(I132=\"Гости\",M132+AH131,AH131))","v":""},{"$f":"IF(I132=\"\",\"\",IF(I132=\"Гости\",AD132*3+AE132,AI131))","v":""}]
[null,null,null,null,null,null,null,null,null,"","","","","","","","","","","","","","","","","","","","","","","","","",""]
[null,null,null,null,null,null,null,null,null,"","","","","","","","","","","","","","","","","","","","","","","","","",""]
[null,null,null,null,null,null,null,null,null,"","","","","","","","","","","","","","","","","","","","","","","","","",""]
[null,null,null,null,null,null,null,null,null,"","","","","","","","","","","","","","","","","","","","","","","","","",""]
[null,null,null,null,null,null,null,null,null,"","","","","","","","","","","","","","","","","","","","","","","","","",""]
[null,null,null,null,null,null,null,null,null,"","","","",{"$f":"IF(I138=\"\",\"\",IF(I138=\"Дома\",IF(J138>K138,\"В\",IF(J138=K138,\"Н\",\"П\")),IF(J138<K138,\"В\",IF(J138=K138,\"Н\",\"П\"))))","v":""},"","","","","","","","","","","","","","","","","","","","",""]
[null,null,null,null,null,null,null,null,null,"","","","","","","","","","","","","","","","","","","","","","","","","",""]
[null,null,null,null,null,null,null,null,null,"","","","","","","","","","","","","","","","","","","","","","","","","",""]
[null,null,null,null,null,null,null,null,null,"","","","","","","","","","","","","","","","","","","","","","","","","",""]
[null,null,null,null,null,null,null,null,null,"","","","","","","","","","","","","","","","","","","","","","","","","",""]
[null,null,null,null,null,null,null,null,null,"","","","","","","","","","","","","","","","","","","","","","","","","",""]
[null,null,null,null,null,null,null,null,null,"","","","","","","","","","","","","","","","","","","","","","","","","",""]
[null,null,null,null,null,null,null,null,null,"","","","","","","","","","","","","","","","","","","","","","","","","",""]
[null,null,null,null,null,null,null,null,null,"","","","","","","","","","","","","","","","","","","","","","","","","",""]
[null,null,null,null,null,null,null,null,null,"","","","","","","","","","","","","","","","","","","","","","","","","",""]
[null,null,null,null,null,null,null,null,null,"","","","","","","","","","","","","","","","","","","","","","","","","",""]
[null,null,null,null,null,null,null,null,null,"","","","","","","","","","","","","","","","","","","","","","","","","",""]
[null,null,null,null,null,null,null,null,null,"","","","","","","","","","","","","","","","","","","","","","","","","",""]

{"sheet":"ГостиГости","index":22,"n_rows":150,"n_cols":35,"rows_kept":150,"cut":false,"hidden":true,"merged":[]}
["Чемпионат","Дата/Время","Дома","Гости","К1 в 1Т","К2 в 1Т","К1 во 2Т","К2 во 2Т","Где играли","К1 Голов","К2 Голов","Забито","Пропущено","Результат","Всего Игр","Всего выиграно","Всего ничьих","Всего проиграно","Всего забито","Всего пропущено","Всего очков","Дома игр","Дома выиграно","Дома ничьих","Дома проиграно","Дома забито","Дома пропущено","Дома очков","Гости игр","Гости выиграно","Гости ничьих","Гости проиграно","Гости забито","Гости пропущено","Гости очков"]
["CHILE: Primera Division","2021.04.04 01:30","Cobresal","Colo Colo",0,2,1,0,"Гости",{"$f":"IF(I2=\"\",\"\",E2+G2)","v":1},{"$f":"IF(I2=\"\",\"\",F2+H2)","v":2},{"$f":"IF(I2=\"\",\"\",IF(I2=\"Дома\",J2,K2))","v":2},{"$f":"IF(I2=\"\",\"\",IF(I2=\"Дома\",K2,J2))","v":1},{"$f":"IF(I2=\"\",\"\",IF(I2=\"Дома\",IF(J2>K2,\"В\",IF(J2=K2,\"Н\",\"П\")),IF(J2<K2,\"В\",IF(J2=K2,\"Н\",\"П\"))))","v":"В"},{"$f":"IF(I2=\"\",\"\",1)","v":1},{"$f":"IF(I2=\"\",\"\",IF(N2=\"В\",1,0))","v":1},{"$f":"IF(I2=\"\",\"\",IF(N2=\"Н\",1,0))","v":0},{"$f":"IF(I2=\"\",\"\",IF(N2=\"П\",1,0))","v":0},{"$f":"IF(I2=\"\",\"\",L2)","v":2},{"$f":"IF(I2=\"\",\"\",M2)","v":1},{"$f":"IF(I2=\"\",\"\",P2*3+Q2)","v":3},{"$f":"IF(I2=\"\",\"\",IF(I2=\"Дома\",1,0))","v":0},{"$f":"IF(I2=\"\",\"\",IF(I2=\"Дома\",IF(N2=\"В\",1,0),0))","v":0},{"$f":"IF(I2=\"\",\"\",IF(I2=\"Дома\",IF(N2=\"Н\",1,0),0))","v":0},{"$f":"IF(I2=\"\",\"\",IF(I2=\"Дома\",IF(N2=\"П\",1,0),0))","v":0},{"$f":"IF(I2=\"\",\"\",IF(I2=\"Дома\",L2,0))","v":0},{"$f":"IF(I2=\"\",\"\",IF(I2=\"Дома\",M2,0))","v":0},{"$f":"IF(I2=\"\",\"\",IF(I2=\"Дома\",W2*3+X2,0))","v":0},{"$f":"IF(I2=\"\",\"\",IF(I2=\"Гости\",1,0))","v":1},{"$f":"IF(I2=\"\",\"\",IF(I2=\"Гости\",IF(N2=\"В\",1,0),0))","v":1},{"$f":"IF(I2=\"\",\"\",IF(I2=\"Гости\",IF(N2=\"Н\",1,0),0))","v":0},{"$f":"IF(I2=\"\",\"\",IF(I2=\"Гости\",IF(N2=\"П\",1,0),0))","v":0},{"$f":"IF(I2=\"\",\"\",IF(I2=\"Гости\",L2,0))","v":2},{"$f":"IF(I2=\"\",\"\",IF(I2=\"Гости\",M2,0))","v":1},{"$f":"IF(I2=\"\",\"\",IF(I2=\"Гости\",AD2*3+AE2,0))","v":3}]
["CHILE: Super Cup","2021.03.21 23:00","U. Catolica","Colo Colo",0,1,4,1,"Гости",{"$f":"IF(I3=\"\",\"\",E3+G3)","v":4},{"$f":"IF(I3=\"\",\"\",F3+H3)","v":2},{"$f":"IF(I3=\"\",\"\",IF(I3=\"Дома\",J3,K3))","v":2},{"$f":"IF(I3=\"\",\"\",IF(I3=\"Дома\",K3,J3))","v":4},{"$f":"IF(I3=\"\",\"\",IF(I3=\"Дома\",IF(J3>K3,\"В\",IF(J3=K3,\"Н\",\"П\")),IF(J3<K3,\"В\",IF(J3=K3,\"Н\",\"П\"))))","v":"П"},{"$f":"IF(I3=\"\",\"\",O2+1)","v":2},{"$f":"IF(I3=\"\",\"\",IF(N3=\"В\",P2+1,P2))","v":1},{"$f":"IF(I3=\"\",\"\",IF(N3=\"Н\",Q2+1,Q2))","v":0},{"$f":"IF(I3=\"\",\"\",IF(N3=\"П\",R2+1,R2))","v":1},{"$f":"IF(I3=\"\",\"\",S2+L3)","v":4},{"$f":"IF(I3=\"\",\"\",T2+M3)","v":5},{"$f":"IF(I3=\"\",\"\",P3*3+Q3)","v":3},{"$f":"IF(I3=\"\",\"\",IF(I3=\"Дома\",V2+1,V2+0))","v":0},{"$f":"IF(I3=\"\",\"\",IF(I3=\"Дома\",IF(N3=\"В\",W2+1,W2),W2))","v":0},{"$f":"IF(I3=\"\",\"\",IF(I3=\"Дома\",IF(N3=\"Н\",X2+1,X2),X2))","v":0},{"$f":"IF(I3=\"\",\"\",IF(I3=\"Дома\",IF(N3=\"П\",Y2+1,Y2),Y2))","v":0},{"$f":"IF(I3=\"\",\"\",IF(I3=\"Дома\",L3+Z2,Z2))","v":0},{"$f":"IF(I3=\"\",\"\",IF(I3=\"Дома\",M3+AA2,AA2))","v":0},{"$f":"IF(I3=\"\",\"\",IF(I3=\"Дома\",W3*3+X3,AB2))","v":0},{"$f":"IF(I3=\"\",\"\",IF(I3=\"Гости\",AC2+1,AC2+0))","v":2},{"$f":"IF(I3=\"\",\"\",IF(I3=\"Гости\",IF(N3=\"В\",AD2+1,AD2),AD2))","v":1},{"$f":"IF(I3=\"\",\"\",IF(I3=\"Гости\",IF(N3=\"Н\",AE2+1,AE2),AE2))","v":0},{"$f":"IF(I3=\"\",\"\",IF(I3=\"Гости\",IF(N3=\"П\",AF2+1,AF2),AF2))","v":1},{"$f":"IF(I3=\"\",\"\",IF(I3=\"Гости\",L3+AG2,AG2))","v":4},{"$f":"IF(I3=\"\",\"\",IF(I3=\"Гости\",M3+AH2,AH2))","v":5},{"$f":"IF(I3=\"\",\"\",IF(I3=\"Гости\",AD3*3+AE3,AI2))","v":3}]
["CHILE: Primera Division","2021.02.14 23:00","O'Higgins","Colo Colo",0,0,1,1,"Гости",1,1,1,1,"Н",3,{"$f":"IF(I4=\"\",\"\",IF(N4=\"В\",P3+1,P3))","v":1},{"$f":"IF(I4=\"\",\"\",IF(N4=\"Н\",Q3+1,Q3))","v":1},{"$f":"IF(I4=\"\",\"\",IF(N4=\"П\",R3+1,R3))","v":1},{"$f":"IF(I4=\"\",\"\",S3+L4)","v":5},{"$f":"IF(I4=\"\",\"\",T3+M4)","v":6},4,{"$f":"IF(I4=\"\",\"\",IF(I4=\"Дома\",V3+1,V3+0))","v":0},{"$f":"IF(I4=\"\",\"\",IF(I4=\"Дома\",IF(N4=\"В\",W3+1,W3),W3))","v":0},{"$f":"IF(I4=\"\",\"\",IF(I4=\"Дома\",IF(N4=\"Н\",X3+1,X3),X3))","v":0},{"$f":"IF(I4=\"\",\"\",IF(I4=\"Дома\",IF(N4=\"П\",Y3+1,Y3),Y3))","v":0},{"$f":"IF(I4=\"\",\"\",IF(I4=\"Дома\",L4+Z3,Z3))","v":0},{"$f":"IF(I4=\"\",\"\",IF(I4=\"Дома\",M4+AA3,AA3))","v":0},{"$f":"IF(I4=\"\",\"\",IF(I4=\"Дома\",W4*3+X4,AB3))","v":0},{"$f":"IF(I4=\"\",\"\",IF(I4=\"Гости\",AC3+1,AC3+0))","v":3},{"$f":"IF(I4=\"\",\"\",IF(I4=\"Гости\",IF(N4=\"В\",AD3+1,AD3),AD3))","v":1},{"$f":"IF(I4=\"\",\"\",IF(I4=\"Гости\",IF(N4=\"Н\",AE3+1,AE3),AE3))","v":1},{"$f":"IF(I4=\"\",\"\",IF(I4=\"Гости\",IF(N4=\"П\",AF3+1,AF3),AF3))","v":1},{"$f":"IF(I4=\"\",\"\",IF(I4=\"Гости\",L4+AG3,AG3))","v":5},{"$f":"IF(I4=\"\",\"\",IF(I4=\"Гости\",M4+AH3,AH3))","v":6},{"$f":"IF(I4=\"\",\"\",IF(I4=\"Гости\",AD4*3+AE4,AI3))","v":4}]
["CHILE: Primera Division","2021.02.07 02:30","Deportes Iquique","Colo Colo",0,0,0,0,"Гости",0,0,0,0,"Н",4,1,2,1,5,6,5,0,0,0,0,0,0,0,4,1,2,1,5,6,5]
["CHILE: Primera Division","2021.01.13 22:00","U. De Concepcion","Colo Colo",0,0,1,1,"Гости",1,1,1,1,"Н",5,1,3,1,6,7,6,0,0,0,0,0,0,0,5,1,3,1,6,7,6]
["CHILE: Primera Division","2021.01.06 15:30","S. Wanderers","Colo Colo",2,0,1,0,"Гости",3,0,0,3,"П",6,1,3,2,6,10,6,0,0,0,0,0,0,0,6,1,3,2,6,10,6]
["CHILE: Primera Division","2021.01.03 15:30","Antofagasta","Colo Colo",0,1,0,0,"Гости",0,1,1,0,"В",7,2,3,2,7,10,9,0,0,0,0,0,0,0,7,2,3,2,7,10,9]
["CHILE: Primera Division","2020.12.19 23:00","U. Catolica","Colo Colo",0,0,0,0,"Гости",0,0,0,0,{"$f":"IF(I9=\"\",\"\",IF(I9=\"Дома\",IF(J9>K9,\"В\",IF(J9=K9,\"Н\",\"П\")),IF(J9<K9,\"В\",IF(J9=K9,\"Н\",\"П\"))))","v":"Н"},8,2,4,2,7,10,10,0,0,0,0,0,0,0,8,2,4,2,7,10,10]
["CHILE: Primera Division","2020.12.12 23:00","U. Espanola","Colo Colo",0,1,1,1,"Гости",1,2,2,1,{"$f":"IF(I10=\"\",\"\",IF(I10=\"Дома\",IF(J10>K10,\"В\",IF(J10=K10,\"Н\",\"П\")),IF(J10<K10,\"В\",IF(J10=K10,\"Н\",\"П\"))))","v":"В"},9,3,4,2,9,11,13,0,0,0,0,0,0,0,9,3,4,2,9,11,13]
["CHILE: Primera Division","2020.12.05 22:00","Huachipato","Colo Colo",1,2,1,0,"Гости",2,2,2,2,"Н",10,3,5,2,11,13,14,0,0,0,0,0,0,0,10,3,5,2,11,13,14]
["CHILE: Primera Division","2020.11.14 16:00","Palestino","Colo Colo",1,0,2,1,"Гости",3,1,1,3,"П",11,3,5,3,12,16,{"$f":"IF(I12=\"\",\"\",P12*3+Q12)","v":14},0,0,0,0,0,0,0,11,3,5,3,12,16,14]
["CHILE: Primera Division","2020.10.28 21:00","Everton","Colo Colo",1,0,0,1,"Гости",1,1,1,1,"Н",12,3,6,3,13,17,15,0,0,0,0,0,0,0,12,3,6,3,13,17,15]
["CHILE: Primera Division","2020.10.09 23:00","Coquimbo","Colo Colo",1,0,1,2,"Гости",2,2,2,2,"Н",13,3,7,3,15,19,16,0,0,0,0,0,0,0,13,3,7,3,15,19,16]
["SOUTH AMERICA: Copa Libertadores","2020.09.30 00:15","Penarol","Colo Colo",1,0,2,0,"Гости",3,0,0,3,"П",14,3,7,4,15,22,16,0,0,0,0,0,0,0,14,3,7,4,15,22,16]
["SOUTH AMERICA: Copa Libertadores","2020.09.24 00:15","Athletico-PR","Colo Colo",2,0,0,0,"Гости",2,0,0,2,"П",15,3,7,5,15,24,16,0,0,0,0,0,0,0,15,3,7,5,15,24,16]
["CHILE: Primera Division","2020.09.12 23:30","Union La Calera","Colo Colo",0,0,0,0,"Гости",0,0,0,0,"Н",16,3,8,5,15,24,17,0,0,0,0,0,0,0,16,3,8,5,15,24,17]
["CHILE: Primera Division","2020.09.06 19:00","U. De Chile","Colo Colo",0,1,1,0,"Гости",1,1,1,1,"Н",17,3,9,5,16,25,18,0,0,0,0,0,0,0,17,3,9,5,16,25,18]
["CHILE: Primera Division","2020.03.07 17:00","La Serena","Colo Colo",0,0,1,2,"Гости",1,2,2,1,"В",18,4,9,5,18,26,21,0,0,0,0,0,0,0,18,4,9,5,18,26,21]
["SOUTH AMERICA: Copa Libertadores","2020.03.05 00:15","Wilstermann","Colo Colo",0,0,2,0,"Гости",2,0,0,2,"П",19,4,9,6,18,28,21,0,0,0,0,0,0,0,19,4,9,6,18,28,21]
[null,null,null,null,null,null,null,null,null,"","","","","","","","","","","","","","","","","","","","","","","","","",""]
[null,null,null,null,null,null,null,null,null,"","","","","","","","","","","","","","","","","","","","","","","","","",""]
[null,null,null,null,null,null,null,null,null,"","","","","","","","","","","","","","","","","","","","","","","","","",""]
[null,null,null,null,null,null,null,null,null,"","","","","","","","","","","","","","","","","","","","","","","","","",""]
[null,null,null,null,null,null,null,null,null,"","","","","","","","","","","","","","","","","","","","","","","","","",""]
[null,null,null,null,null,null,null,null,null,"","","","","","","","","","","","","","","","","","","","","","","","","",""]
[null,null,null,null,null,null,null,null,null,"","","","","","","","","","","","","","","","","","","","","","","","","",""]
[null,null,null,null,null,null,null,null,null,"","","","","","","","","","","","","","","","","","","","","","","","","",""]
[null,null,null,null,null,null,null,null,null,"","","","","","","","","","","","","","","","","","","","","","","","","",""]
[null,null,null,null,null,null,null,null,null,"","","","","","","","","","","","","","","","","","","","","","","","","",""]
[null,null,null,null,null,null,null,null,null,"","","","","","","","","","","","","","","","","","","","","","","","","",""]
[null,null,null,null,null,null,null,null,null,"","","","","","","","","","","","","","","","","","","","","","","","","",""]
[null,null,null,null,null,null,null,null,null,"","","","","","","","","","","","","","","","","","","","","","","","","",""]
[null,null,null,null,null,null,null,null,null,"","","","","","","","","","","","","","","","","","","","","","","","","",""]
[null,null,null,null,null,null,null,null,null,"","","","","","","","","","","","","","","","","","","","","","","","","",""]
[null,null,null,null,null,null,null,null,null,"","","","","","","","","","","","","","","","","","","","","","","","","",""]
[null,null,null,null,null,null,null,null,null,"","","","","","","","","","","","","","","","","","","","","","","","","",""]
[null,null,null,null,null,null,null,null,null,"","","","","","","","","","","","","","","","","","","","","","","","","",""]
[null,null,null,null,null,null,null,null,null,"","","","","","","","","","","","","","","","","","","","","","","","","",""]
[null,null,null,null,null,null,null,null,null,"","","","","","","","","","","","","","","","","","","","","","","","","",""]
[null,null,null,null,null,null,null,null,null,"","","","","","","","","","","","","","","","","","","","","","","","","",""]
[null,null,null,null,null,null,null,null,null,"","","","","","","","","","","","","","","","","","","","","","","","","",""]
[null,null,null,null,null,null,null,null,null,"","","","","","","","","","","","","","","","","","","","","","","","","",""]
[null,null,null,null,null,null,null,null,null,"","","","","","","","","","","","","","","","","","","","","","","","","",""]
[null,null,null,null,null,null,null,null,null,"","","","","","","","","","","","","","","","","","","","","","","","","",""]
[null,null,null,null,null,null,null,null,null,"","","","","","","","","","","","","","","","","","","","","","","","","",""]
[null,null,null,null,null,null,null,null,null,"","","","","","","","","","","","","","","","","","","","","","","","","",""]
[null,null,null,null,null,null,null,null,null,"","","","","","","","","","","","","","","","","","","","","","","","","",""]
[null,null,null,null,null,null,null,null,null,"","","","","","","","","","","","","","","","","","","","","","","","","",""]
[null,null,null,null,null,null,null,null,null,"","","","","","","","","","","","","","","","","","","","","","","","","",""]
[null,null,null,null,null,null,null,null,null,"","","","","","","","","","","","","","","","","","","","","","","","","",""]
[null,null,null,null,null,null,null,null,null,"","","","","","","","","","","","","","","","","","","","","","","","","",""]
[null,null,null,null,null,null,null,null,null,"","","","","","","","","","","","","","","","","","","","","","","","","",""]
[null,null,null,null,null,null,null,null,null,"","","","","","","","","","","","","","","","","","","","","","","","","",""]
[null,null,null,null,null,null,null,null,null,"","","","","","","","","","","","","","","","","","","","","","","","","",""]
[null,null,null,null,null,null,null,null,null,"","","","","","","","","","","","","","","","","","","","","","","","","",""]
[null,null,null,null,null,null,null,null,null,"","","","","","","","","","","","","","","","","","","","","","","","","",""]
[null,null,null,null,null,null,null,null,null,"","","","","","","","","","","","","","","","","","","","","","","","","",""]
[null,null,null,null,null,null,null,null,null,"","","","","","","","","","","","","","","","","","","","","","","","","",""]
[null,null,null,null,null,null,null,null,null,"","","","","","","","","","","","","","","","","","","","","","","","","",""]
[null,null,null,null,null,null,null,null,null,"","","","","","","","","","","","","","","","","","","","","","","","","",""]
[null,null,null,null,null,null,null,null,null,"","","","","","","","","","","","","","","","","","","","","","","","","",""]
[null,null,null,null,null,null,null,null,null,"","","","","","","","","","","","","","","","","","","","","","","","","",""]
[null,null,null,null,null,null,null,null,null,"","","","","","","","","","","","","","","","","","","","","","","","","",""]
[null,null,null,null,null,null,null,null,null,"","","","","","","","","","","","","","","","","","","","","","","","","",""]
[null,null,null,null,null,null,null,null,null,"","","","","","","","","","","","","","","","","","","","","","","","","",""]
[null,null,null,null,null,null,null,null,null,{"$f":"IF(I67=\"\",\"\",E67+G67)","v":""},{"$f":"IF(I67=\"\",\"\",F67+H67)","v":""},{"$f":"IF(I67=\"\",\"\",IF(I67=\"Дома\",J67,K67))","v":""},{"$f":"IF(I67=\"\",\"\",IF(I67=\"Дома\",K67,J67))","v":""},"",{"$f":"IF(I67=\"\",\"\",O66+1)","v":""},"","","","","",{"$f":"IF(I67=\"\",\"\",P67*3+Q67)","v":""},"","","","","","","","","","","","","",""]
[null,null,null,null,null,null,null,null,null,"","","","","","",{"$f":"IF(I68=\"\",\"\",IF(N68=\"В\",P67+1,P67))","v":""},{"$f":"IF(I68=\"\",\"\",IF(N68=\"Н\",Q67+1,Q67))","v":""},{"$f":"IF(I68=\"\",\"\",IF(N68=\"П\",R67+1,R67))","v":""},{"$f":"IF(I68=\"\",\"\",S67+L68)","v":""},{"$f":"IF(I68=\"\",\"\",T67+M68)","v":""},"",{"$f":"IF(I68=\"\",\"\",IF(I68=\"Дома\",V67+1,V67+0))","v":""},{"$f":"IF(I68=\"\",\"\",IF(I68=\"Дома\",IF(N68=\"В\",W67+1,W67),W67))","v":""},{"$f":"IF(I68=\"\",\"\",IF(I68=\"Дома\",IF(N68=\"Н\",X67+1,X67),X67))","v":""},{"$f":"IF(I68=\"\",\"\",IF(I68=\"Дома\",IF(N68=\"П\",Y67+1,Y67),Y67))","v":""},{"$f":"IF(I68=\"\",\"\",IF(I68=\"Дома\",L68+Z67,Z67))","v":""},{"$f":"IF(I68=\"\",\"\",IF(I68=\"Дома\",M68+AA67,AA67))","v":""},{"$f":"IF(I68=\"\",\"\",IF(I68=\"Дома\",W68*3+X68,AB67))","v":""},{"$f":"IF(I68=\"\",\"\",IF(I68=\"Гости\",AC67+1,AC67+0))","v":""},{"$f":"IF(I68=\"\",\"\",IF(I68=\"Гости\",IF(N68=\"В\",AD67+1,AD67),AD67))","v":""},{"$f":"IF(I68=\"\",\"\",IF(I68=\"Гости\",IF(N68=\"Н\",AE67+1,AE67),AE67))","v":""},{"$f":"IF(I68=\"\",\"\",IF(I68=\"Гости\",IF(N68=\"П\",AF67+1,AF67),AF67))","v":""},{"$f":"IF(I68=\"\",\"\",IF(I68=\"Гости\",L68+AG67,AG67))","v":""},{"$f":"IF(I68=\"\",\"\",IF(I68=\"Гости\",M68+AH67,AH67))","v":""},{"$f":"IF(I68=\"\",\"\",IF(I68=\"Гости\",AD68*3+AE68,AI67))","v":""}]
[null,null,null,null,null,null,null,null,null,"","","","","","","","","","","","","","","","","","","","","","","","","",""]
[null,null,null,null,null,null,null,null,null,"","","","","","","","","","","","","","","","","","","","","","","","","",""]
[null,null,null,null,null,null,null,null,null,"","","","","","","","","","","","","","","","","","","","","","","","","",""]
[null,null,null,null,null,null,null,null,null,"","","","","","","","","","","","","","","","","","","","","","","","","",""]
[null,null,null,null,null,null,null,null,null,"","","","","","","","","","","","","","","","","","","","","","","","","",""]
[null,null,null,null,null,null,null,null,null,"","","","",{"$f":"IF(I74=\"\",\"\",IF(I74=\"Дома\",IF(J74>K74,\"В\",IF(J74=K74,\"Н\",\"П\")),IF(J74<K74,\"В\",IF(J74=K74,\"Н\",\"П\"))))","v":""},"","","","","","","","","","","","","","","","","","","","",""]
[null,null,null,null,null,null,null,null,null,"","","","","","","","","","","","","","","","","","","","","","","","","",""]
[null,null,null,null,null,null,null,null,null,"","","","","","","","","","","","","","","","","","","","","","","","","",""]
[null,null,null,null,null,null,null,null,null,"","","","","","","","","","","","","","","","","","","","","","","","","",""]
[null,null,null,null,null,null,null,null,null,"","","","","","","","","","","","","","","","","","","","","","","","","",""]
[null,null,null,null,null,null,null,null,null,"","","","","","","","","","","","","","","","","","","","","","","","","",""]
[null,null,null,null,null,null,null,null,null,"","","","","","","","","","","","","","","","","","","","","","","","","",""]
[null,null,null,null,null,null,null,null,null,"","","","","","","","","","","","","","","","","","","","","","","","","",""]
[null,null,null,null,null,null,null,null,null,"","","","","","","","","","","","","","","","","","","","","","","","","",""]
[null,null,null,null,null,null,null,null,null,"","","","","","","","","","","","","","","","","","","","","","","","","",""]
[null,null,null,null,null,null,null,null,null,"","","","","","","","","","","","","","","","","","","","","","","","","",""]
[null,null,null,null,null,null,null,null,null,"","","","","","","","","","","","","","","","","","","","","","","","","",""]
[null,null,null,null,null,null,null,null,null,"","","","","","","","","","","","","","","","","","","","","","","","","",""]
[null,null,null,null,null,null,null,null,null,"","","","","","","","","","","","","","","","","","","","","","","","","",""]
[null,null,null,null,null,null,null,null,null,"","","","","","","","","","","","","","","","","","","","","","","","","",""]
[null,null,null,null,null,null,null,null,null,"","","","","","","","","","","","","","","","","","","","","","","","","",""]
[null,null,null,null,null,null,null,null,null,"","","","","","","","","","","","","","","","","","","","","","","","","",""]
[null,null,null,null,null,null,null,null,null,"","","","","","","","","","","","","","","","","","","","","","","","","",""]
[null,null,null,null,null,null,null,null,null,"","","","","","","","","","","","","","","","","","","","","","","","","",""]
[null,null,null,null,null,null,null,null,null,"","","","","","","","","","","","","","","","","","","","","","","","","",""]
[null,null,null,null,null,null,null,null,null,"","","","","","","","","","","","","","","","","","","","","","","","","",""]
[null,null,null,null,null,null,null,null,null,"","","","","","","","","","","","","","","","","","","","","","","","","",""]
[null,null,null,null,null,null,null,null,null,"","","","","","","","","","","","","","","","","","","","","","","","","",""]
[null,null,null,null,null,null,null,null,null,"","","","","","","","","","","","","","","","","","","","","","","","","",""]
[null,null,null,null,null,null,null,null,null,"","","","","","","","","","","","","","","","","","","","","","","","","",""]
[null,null,null,null,null,null,null,null,null,"","","","","","","","","","","","","","","","","","","","","","","","","",""]
[null,null,null,null,null,null,null,null,null,"","","","","","","","","","","","","","","","","","","","","","","","","",""]
[null,null,null,null,null,null,null,null,null,"","","","","","","","","","","","","","","","","","","","","","","","","",""]
[null,null,null,null,null,null,null,null,null,"","","","","","","","","","","","","","","","","","","","","","","","","",""]
[null,null,null,null,null,null,null,null,null,"","","","","","","","","","","","","","","","","","","","","","","","","",""]
[null,null,null,null,null,null,null,null,null,"","","","","","","","","","","","","","","","","","","","","","","","","",""]
[null,null,null,null,null,null,null,null,null,"","","","","","","","","","","","","","","","","","","","","","","","","",""]
[null,null,null,null,null,null,null,null,null,"","","","","","","","","","","","","","","","","","","","","","","","","",""]
[null,null,null,null,null,null,null,null,null,"","","","","","","","","","","","","","","","","","","","","","","","","",""]
[null,null,null,null,null,null,null,null,null,"","","","","","","","","","","","","","","","","","","","","","","","","",""]
[null,null,null,null,null,null,null,null,null,"","","","","","","","","","","","","","","","","","","","","","","","","",""]
[null,null,null,null,null,null,null,null,null,"","","","","","","","","","","","","","","","","","","","","","","","","",""]
[null,null,null,null,null,null,null,null,null,"","","","","","","","","","","","","","","","","","","","","","","","","",""]
[null,null,null,null,null,null,null,null,null,"","","","","","","","","","","","","","","","","","","","","","","","","",""]
[null,null,null,null,null,null,null,null,null,"","","","","","","","","","","","","","","","","","","","","","","","","",""]
[null,null,null,null,null,null,null,null,null,"","","","","","","","","","","","","","","","","","","","","","","","","",""]
[null,null,null,null,null,null,null,null,null,"","","","","","","","","","","","","","","","","","","","","","","","","",""]
[null,null,null,null,null,null,null,null,null,"","","","","","","","","","","","","","","","","","","","","","","","","",""]
[null,null,null,null,null,null,null,null,null,"","","","","","","","","","","","","","","","","","","","","","","","","",""]
[null,null,null,null,null,null,null,null,null,"","","","","","","","","","","","","","","","","","","","","","","","","",""]
[null,null,null,null,null,null,null,null,null,"","","","","","","","","","","","","","","","","","","","","","","","","",""]
[null,null,null,null,null,null,null,null,null,"","","","","","","","","","","","","","","","","","","","","","","","","",""]
[null,null,null,null,null,null,null,null,null,"","","","","","","","","","","","","","","","","","","","","","","","","",""]
[null,null,null,null,null,null,null,null,null,"","","","","","","","","","","","","","","","","","","","","","","","","",""]
[null,null,null,null,null,null,null,null,null,"","","","","","","","","","","","","","","","","","","","","","","","","",""]
[null,null,null,null,null,null,null,null,null,"","","","","","","","","","","","","","","","","","","","","","","","","",""]
[null,null,null,null,null,null,null,null,null,"","","","","","","","","","","","","","","","","","","","","","","","","",""]
[null,null,null,null,null,null,null,null,null,"","","","","","","","","","","","","","","","","","","","","","","","","",""]
[null,null,null,null,null,null,null,null,null,"","","","","","","","","","","","","","","","","","","","","","","","","",""]
[null,null,null,null,null,null,null,null,null,"","","","","","","","","","","","","","","","","","","","","","","","","",""]
[null,null,null,null,null,null,null,null,null,"","","","","","","","","","","","","","","","","","","","","","","","","",""]
[null,null,null,null,null,null,null,null,null,"","","","","","","","","","","","","","","","","","","","","","","","","",""]
[null,null,null,null,null,null,null,null,null,{"$f":"IF(I131=\"\",\"\",E131+G131)","v":""},{"$f":"IF(I131=\"\",\"\",F131+H131)","v":""},{"$f":"IF(I131=\"\",\"\",IF(I131=\"Дома\",J131,K131))","v":""},{"$f":"IF(I131=\"\",\"\",IF(I131=\"Дома\",K131,J131))","v":""},"",{"$f":"IF(I131=\"\",\"\",O130+1)","v":""},"","","","","",{"$f":"IF(I131=\"\",\"\",P131*3+Q131)","v":""},"","","","","","","","","","","","","",""]
[null,null,null,null,null,null,null,null,null,"","","","","","",{"$f":"IF(I132=\"\",\"\",IF(N132=\"В\",P131+1,P131))","v":""},{"$f":"IF(I132=\"\",\"\",IF(N132=\"Н\",Q131+1,Q131))","v":""},{"$f":"IF(I132=\"\",\"\",IF(N132=\"П\",R131+1,R131))","v":""},{"$f":"IF(I132=\"\",\"\",S131+L132)","v":""},{"$f":"IF(I132=\"\",\"\",T131+M132)","v":""},"",{"$f":"IF(I132=\"\",\"\",IF(I132=\"Дома\",V131+1,V131+0))","v":""},{"$f":"IF(I132=\"\",\"\",IF(I132=\"Дома\",IF(N132=\"В\",W131+1,W131),W131))","v":""},{"$f":"IF(I132=\"\",\"\",IF(I132=\"Дома\",IF(N132=\"Н\",X131+1,X131),X131))","v":""},{"$f":"IF(I132=\"\",\"\",IF(I132=\"Дома\",IF(N132=\"П\",Y131+1,Y131),Y131))","v":""},{"$f":"IF(I132=\"\",\"\",IF(I132=\"Дома\",L132+Z131,Z131))","v":""},{"$f":"IF(I132=\"\",\"\",IF(I132=\"Дома\",M132+AA131,AA131))","v":""},{"$f":"IF(I132=\"\",\"\",IF(I132=\"Дома\",W132*3+X132,AB131))","v":""},{"$f":"IF(I132=\"\",\"\",IF(I132=\"Гости\",AC131+1,AC131+0))","v":""},{"$f":"IF(I132=\"\",\"\",IF(I132=\"Гости\",IF(N132=\"В\",AD131+1,AD131),AD131))","v":""},{"$f":"IF(I132=\"\",\"\",IF(I132=\"Гости\",IF(N132=\"Н\",AE131+1,AE131),AE131))","v":""},{"$f":"IF(I132=\"\",\"\",IF(I132=\"Гости\",IF(N132=\"П\",AF131+1,AF131),AF131))","v":""},{"$f":"IF(I132=\"\",\"\",IF(I132=\"Гости\",L132+AG131,AG131))","v":""},{"$f":"IF(I132=\"\",\"\",IF(I132=\"Гости\",M132+AH131,AH131))","v":""},{"$f":"IF(I132=\"\",\"\",IF(I132=\"Гости\",AD132*3+AE132,AI131))","v":""}]
[null,null,null,null,null,null,null,null,null,"","","","","","","","","","","","","","","","","","","","","","","","","",""]
[null,null,null,null,null,null,null,null,null,"","","","","","","","","","","","","","","","","","","","","","","","","",""]
[null,null,null,null,null,null,null,null,null,"","","","","","","","","","","","","","","","","","","","","","","","","",""]
[null,null,null,null,null,null,null,null,null,"","","","","","","","","","","","","","","","","","","","","","","","","",""]
[null,null,null,null,null,null,null,null,null,"","","","","","","","","","","","","","","","","","","","","","","","","",""]
[null,null,null,null,null,null,null,null,null,"","","","",{"$f":"IF(I138=\"\",\"\",IF(I138=\"Дома\",IF(J138>K138,\"В\",IF(J138=K138,\"Н\",\"П\")),IF(J138<K138,\"В\",IF(J138=K138,\"Н\",\"П\"))))","v":""},"","","","","","","","","","","","","","","","","","","","",""]
[null,null,null,null,null,null,null,null,null,"","","","","","","","","","","","","","","","","","","","","","","","","",""]
[null,null,null,null,null,null,null,null,null,"","","","","","","","","","","","","","","","","","","","","","","","","",""]
[null,null,null,null,null,null,null,null,null,"","","","","","","","","","","","","","","","","","","","","","","","","",""]
[null,null,null,null,null,null,null,null,null,"","","","","","","","","","","","","","","","","","","","","","","","","",""]
[null,null,null,null,null,null,null,null,null,"","","","","","","","","","","","","","","","","","","","","","","","","",""]
[null,null,null,null,null,null,null,null,null,"","","","","","","","","","","","","","","","","","","","","","","","","",""]
[null,null,null,null,null,null,null,null,null,"","","","","","","","","","","","","","","","","","","","","","","","","",""]
[null,null,null,null,null,null,null,null,null,"","","","","","","","","","","","","","","","","","","","","","","","","",""]
[null,null,null,null,null,null,null,null,null,"","","","","","","","","","","","","","","","","","","","","","","","","",""]
[null,null,null,null,null,null,null,null,null,"","","","","","","","","","","","","","","","","","","","","","","","","",""]
[null,null,null,null,null,null,null,null,null,"","","","","","","","","","","","","","","","","","","","","","","","","",""]
[null,null,null,null,null,null,null,null,null,"","","","","","","","","","","","","","","","","","","","","","","","","",""]

{"sheet":"Очные","index":23,"n_rows":150,"n_cols":32,"rows_kept":150,"cut":false,"hidden":true,"merged":[]}
["Everton","Colo Colo",null,null,null,null,"Результат К1","Забито К1","Пропущено К1","Выиграно К1","Ничьих К1","Проиграно К1","РезультатК2","Забито К2","Пропущено К2","Выиграно К2","Ничьих К2","Пропущено К2","ХОЗЯЕВА","Д","Заб","Проп","Г","Заб","Проп","ГОСТИ","Д","Заб","Проп","Г","Заб","Проп"]
["Primera Division (Chile)","2021.01.10","Colo Colo","Everton",1,0,{"$f":"IF(A2=\"\",\"\",IF(A1=C2,IF(E2>F2,\"В\",IF(E2=F2,\"Н\",\"П\")),IF(E2<F2,\"В\",IF(E2=F2,\"Н\",\"П\"))))","v":"П"},{"$f":"IF(A2=\"\",\"\",IF(A1=C2,E2,F2))","v":0},{"$f":"IF(A2=\"\",\"\",IF(A1=C2,F2,E2))","v":1},{"$f":"IF(A2=\"\",\"\",IF(G2=\"В\",1,0))","v":0},{"$f":"IF(A2=\"\",\"\",IF(G2=\"Н\",1,0))","v":0},{"$f":"IF(A2=\"\",\"\",IF(G2=\"П\",1,0))","v":1},{"$f":"IF(A2=\"\",\"\",IF(B1=D2,IF(F2>E2,\"В\",IF(F2=E2,\"Н\",\"П\")),IF(F2<E2,\"В\",IF(F2=E2,\"Н\",\"П\"))))","v":"В"},{"$f":"IF(A2=\"\",\"\",IF(B1=D2,F2,E2))","v":1},{"$f":"IF(A2=\"\",\"\",IF(B1=D2,E2,F2))","v":0},{"$f":"IF(A2=\"\",\"\",IF(M2=\"В\",1,0))","v":1},{"$f":"IF(A2=\"\",\"\",IF(M2=\"Н\",1,0))","v":0},{"$f":"IF(A2=\"\",\"\",IF(M2=\"П\",1,0))","v":0},{"$f":"IF(A2=\"\",\"\",IF(C2=$A$1,\"Дома\",IF(D2=$A$1,\"В Гостях\",\"\")))","v":"В Гостях"},{"$f":"IF(S2=\"Дома\",G2,\"\")","v":""},{"$f":"IF(S2=\"Дома\",E2,\"\")","v":""},{"$f":"IF(S2=\"Дома\",F2,\"\")","v":""},{"$f":"IF(S2=\"В Гостях\",G2,\"\")","v":"П"},{"$f":"IF(S2=\"В Гостях\",F2,\"\")","v":0},{"$f":"IF(S2=\"В Гостях\",E2,\"\")","v":1},{"$f":"IF(A2=\"\",\"\",IF(D2=$A$1,\"Дома\",IF(C2=$A$1,\"В Гостях\",\"\")))","v":"Дома"},{"$f":"IF(Z2=\"Дома\",M2,\"\")","v":"В"},{"$f":"IF(Z2=\"Дома\",E2,\"\")","v":1},{"$f":"IF(Z2=\"Дома\",F2,\"\")","v":0},{"$f":"IF(Z2=\"В Гостях\",M2,\"\")","v":""},{"$f":"IF(Z2=\"В Гостях\",F2,\"\")","v":""},{"$f":"IF(Z2=\"В Гостях\",E2,\"\")","v":""}]
["Primera Division (Chile)","2020.10.28","Everton","Colo Colo",1,1,{"$f":"IF(A3=\"\",\"\",IF($A$1=C3,IF(E3>F3,\"В\",IF(E3=F3,\"Н\",\"П\")),IF(E3<F3,\"В\",IF(E3=F3,\"Н\",\"П\"))))","v":"Н"},{"$f":"IF(A3=\"\",\"\",IF($A$1=C3,E3+H2,F3+H2))","v":1},{"$f":"IF(A3=\"\",\"\",IF($A$1=C3,F3+I2,E3+I2))","v":2},{"$f":"IF(A3=\"\",\"\",IF(G3=\"В\",1+J2,0+J2))","v":0},{"$f":"IF(A3=\"\",\"\",IF(G3=\"Н\",1+K2,0+K2))","v":1},{"$f":"IF(A3=\"\",\"\",IF(G3=\"П\",1+L2,0+L2))","v":1},{"$f":"IF(A3=\"\",\"\",IF($B$1=D3,IF(F3>E3,\"В\",IF(F3=E3,\"Н\",\"П\")),IF(F3<E3,\"В\",IF(F3=E3,\"Н\",\"П\"))))","v":"Н"},{"$f":"IF(A3=\"\",\"\",IF($B$1=D3,F3+N2,E3+N2))","v":2},{"$f":"IF(A3=\"\",\"\",IF($B$1=D3,E3+O2,F3+O2))","v":1},{"$f":"IF(A3=\"\",\"\",IF(M3=\"В\",1+P2,0+P2))","v":1},{"$f":"IF(A3=\"\",\"\",IF(M3=\"Н\",1+Q2,0+Q2))","v":1},{"$f":"IF(A3=\"\",\"\",IF(M3=\"П\",1+R2,0+R2))","v":0},{"$f":"IF(A3=\"\",\"\",IF(C3=$A$1,\"Дома\",IF(D3=$A$1,\"В Гостях\",\"\")))","v":"Дома"},{"$f":"IF(S3=\"Дома\",G3,\"\")","v":"Н"},{"$f":"IF(S3=\"Дома\",E3,\"\")","v":1},{"$f":"IF(S3=\"Дома\",F3,\"\")","v":1},{"$f":"IF(S3=\"В Гостях\",G3,\"\")","v":""},{"$f":"IF(S3=\"В Гостях\",F3,\"\")","v":""},{"$f":"IF(S3=\"В Гостях\",E3,\"\")","v":""},{"$f":"IF(A3=\"\",\"\",IF(D3=$A$1,\"Дома\",IF(C3=$A$1,\"В Гостях\",\"\")))","v":"В Гостях"},{"$f":"IF(Z3=\"Дома\",M3,\"\")","v":""},{"$f":"IF(Z3=\"Дома\",E3,\"\")","v":""},{"$f":"IF(Z3=\"Дома\",F3,\"\")","v":""},{"$f":"IF(Z3=\"В Гостях\",M3,\"\")","v":"Н"},{"$f":"IF(Z3=\"В Гостях\",F3,\"\")","v":1},{"$f":"IF(Z3=\"В Гостях\",E3,\"\")","v":1}]
["Chilean Cup (Chile)","2019.10.12","Everton","Colo Colo",1,2,"П",2,4,{"$f":"IF(A4=\"\",\"\",IF(G4=\"В\",1+J3,0+J3))","v":0},{"$f":"IF(A4=\"\",\"\",IF(G4=\"Н\",1+K3,0+K3))","v":1},{"$f":"IF(A4=\"\",\"\",IF(G4=\"П\",1+L3,0+L3))","v":2},{"$f":"IF(A4=\"\",\"\",IF($B$1=D4,IF(F4>E4,\"В\",IF(F4=E4,\"Н\",\"П\")),IF(F4<E4,\"В\",IF(F4=E4,\"Н\",\"П\"))))","v":"В"},{"$f":"IF(A4=\"\",\"\",IF($B$1=D4,F4+N3,E4+N3))","v":4},{"$f":"IF(A4=\"\",\"\",IF($B$1=D4,E4+O3,F4+O3))","v":2},{"$f":"IF(A4=\"\",\"\",IF(M4=\"В\",1+P3,0+P3))","v":2},{"$f":"IF(A4=\"\",\"\",IF(M4=\"Н\",1+Q3,0+Q3))","v":1},{"$f":"IF(A4=\"\",\"\",IF(M4=\"П\",1+R3,0+R3))","v":0},"Дома","П",1,2,"","","","В Гостях","","","","В",2,1]
["Chilean Cup (Chile)","2019.09.07","Colo Colo","Everton",2,1,"П",3,6,0,1,3,"В",6,3,3,1,0,"В Гостях","","","","П",1,2,"Дома","В",2,1,"","",""]
["Primera Division (Chile)","2019.07.28","Colo Colo","Everton",0,0,"Н",3,6,0,2,3,"Н",6,3,3,2,0,"В Гостях","","","","Н",0,0,"Дома","Н",0,0,"","",""]
["Club Friendly (World)","2019.01.30","Everton","Colo Colo",3,2,"В",6,8,1,2,3,"П",8,6,3,2,1,"Дома","В",3,2,"","","","В Гостях","","","","П",2,3]
["Primera Division (Chile)","2018.09.02","Everton","Colo Colo",4,2,"В",10,{"$f":"IF(A8=\"\",\"\",IF($A$1=C8,F8+I7,E8+I7))","v":10},2,2,3,"П",10,10,3,2,2,"Дома","В",4,2,"","","","В Гостях","","","","П",2,4]
["Primera Division (Chile)","2018.05.06","Colo Colo","Everton",3,1,"П",11,13,2,2,4,"В",13,11,4,2,2,"В Гостях","","","","П",1,3,"Дома","В",3,1,"","",""]
["Primera Division (Chile)","2017.11.26","Everton","Colo Colo",2,3,"П",13,16,2,2,5,"В",16,13,5,2,2,"Дома","П",2,3,"","","","В Гостях","","","","В",3,2]
["Primera Division (Chile)","2017.05.07","Everton","Colo Colo",2,3,"П",15,19,2,2,6,"В",19,15,6,2,2,"Дома","П",2,3,"","","","В Гостях","","","","В",3,2]
["Chilean Cup (Chile)","2016.12.14","Colo Colo","Everton",4,0,"П",15,23,2,2,7,"В",23,15,7,2,2,"В Гостях","","","","П",0,4,"Дома","В",4,0,"","",""]
["Primera Division (Chile)","2016.12.04","Colo Colo","Everton",4,2,"П",17,27,2,2,8,"В",27,17,8,2,2,"В Гостях","","","","П",2,4,"Дома","В",4,2,"","",""]
["Primera Division (Chile)","2014.01.12","Everton","Colo Colo",0,2,"П",17,29,2,2,9,"В",29,17,9,2,2,"Дома","П",0,2,"","","","В Гостях","","","","В",2,0]
["Primera Division (Chile)","2013.08.04","Colo Colo","Everton",0,1,"В",18,29,3,2,9,"П",29,18,9,2,3,"В Гостях","","","","В",1,0,"Дома","П",0,1,"","",""]
["Primera Division (Chile)","2013.04.07","Colo Colo","Everton",3,0,"П",18,32,3,2,10,"В",32,18,10,2,3,"В Гостях","","","","П",0,3,"Дома","В",3,0,"","",""]
["Primera Division (Chile)","2010.09.29","Everton","Colo Colo",0,2,"П",18,34,3,2,11,"В",34,18,11,2,3,"Дома","П",0,2,"","","","В Гостях","","","","В",2,0]
["Primera Division (Chile)","2010.07.15","Colo Colo","Everton",2,0,"П",18,36,3,2,12,"В",36,18,12,2,3,"В Гостях","","","","П",0,2,"Дома","В",2,0,"","",""]
["Primera Division (Chile)","2009.09.25","Everton","Colo Colo",3,2,"В",21,38,4,2,12,"П",38,21,12,2,4,"Дома","В",3,2,"","","","В Гостях","","","","П",2,3]
["Primera Division (Chile)","2009.05.14","Colo Colo","Everton",1,1,"Н",22,39,4,3,12,"Н",39,22,12,3,4,"В Гостях","","","","Н",1,1,"Дома","Н",1,1,"","",""]
["Primera Division (Chile)","2008.09.28","Everton","Colo Colo",3,1,"В",25,40,5,3,12,"П",40,25,12,3,5,"Дома","В",3,1,"","","","В Гостях","","","","П",1,3]
["Primera Division (Chile)","2008.06.03","Everton","Colo Colo",3,0,"В",28,40,6,3,12,"П",40,28,12,3,6,"Дома","В",3,0,"","","","В Гостях","","","","П",0,3]
["Primera Division (Chile)","2008.05.28","Colo Colo","Everton",2,0,"П",28,42,6,3,13,"В",42,28,13,3,6,"В Гостях","","","","П",0,2,"Дома","В",2,0,"","",""]
["Primera Division (Chile)","2008.04.05","Colo Colo","Everton",3,1,"П",29,45,6,3,14,"В",45,29,14,3,6,"В Гостях","","","","П",1,3,"Дома","В",3,1,"","",""]
["Primera Division (Chile)","2007.10.03","Colo Colo","Everton",2,2,"Н",31,47,6,4,14,"Н",47,31,14,4,6,"В Гостях","","","","Н",2,2,"Дома","Н",2,2,"","",""]
["Primera Division (Chile)","2007.04.15","Everton","Colo Colo",0,3,"П",31,50,6,4,15,"В",50,31,15,4,6,"Дома","П",0,3,"","","","В Гостях","","","","В",3,0]
["Primera Division (Chile)","2006.07.30","Everton","Colo Colo",3,0,"В",34,50,7,4,15,"П",50,34,15,4,7,"Дома","В",3,0,"","","","В Гостях","","","","П",0,3]
["Primera Division (Chile)","2006.02.18","Colo Colo","Everton",5,3,"П",37,55,7,4,16,"В",55,37,16,4,7,"В Гостях","","","","П",3,5,"Дома","В",5,3,"","",""]
["Primera Division (Chile)","2005.07.15","Everton","Colo Colo",1,3,"П",38,58,7,4,17,"В",58,38,17,4,7,"Дома","П",1,3,"","","","В Гостях","","","","В",3,1]
["Primera Division (Chile)","2005.02.26","Colo Colo","Everton",2,1,"П",39,60,7,4,18,"В",60,39,18,4,7,"В Гостях","","","","П",1,2,"Дома","В",2,1,"","",""]
["Primera Division (Chile)","2004.12.05","Colo Colo","Everton",3,4,"В",43,63,8,4,18,"П",63,43,18,4,8,"В Гостях","","","","В",4,3,"Дома","П",3,4,"","",""]
["Primera Division (Chile)","2004.11.30","Everton","Colo Colo",1,3,"П",44,66,8,4,19,"В",66,44,19,4,8,"Дома","П",1,3,"","","","В Гостях","","","","В",3,1]
["Primera Division (Chile)","2004.10.28","Colo Colo","Everton",1,1,"Н",45,67,8,5,19,"Н",67,45,19,5,8,"В Гостях","","","","Н",1,1,"Дома","Н",1,1,"","",""]
["Primera Division (Chile)","2004.05.01","Everton","Colo Colo",0,2,"П",45,69,8,5,20,"В",69,45,20,5,8,"Дома","П",0,2,"","","","В Гостях","","","","В",2,0]
["Primera Division (Chile)","2000.11.25","Everton","Colo Colo",1,2,{"$f":"IF(A35=\"\",\"\",IF($A$1=C35,IF(E35>F35,\"В\",IF(E35=F35,\"Н\",\"П\")),IF(E35<F35,\"В\",IF(E35=F35,\"Н\",\"П\"))))","v":"П"},{"$f":"IF(A35=\"\",\"\",IF($A$1=C35,E35+H34,F35+H34))","v":46},{"$f":"IF(A35=\"\",\"\",IF($A$1=C35,F35+I34,E35+I34))","v":71},8,5,21,"В",71,46,21,5,8,"Дома","П",1,2,"","","","В Гостях","","","","В",2,1]
["Primera Division (Chile)","2000.08.05","Colo Colo","Everton",5,0,"П",46,76,8,5,22,"В",76,46,22,5,8,"В Гостях","","","","П",0,5,"Дома","В",5,0,"","",""]
[null,null,null,null,null,null,"","","","","","","","","","","","","","","","","","","","","","","","","",""]
[null,null,null,null,null,null,"","","","","","","","","","","","","","","","","","","","","","","","","",""]
[null,null,null,null,null,null,"","","","","","","","","","","","","","","","","","","","","","","","","",""]
[null,null,null,null,null,null,"","","","","","","","","","","","","","","","","","","","","","","","","",""]
[null,null,null,null,null,null,"","","","","","","","","","","","","","","","","","","","","","","","","",""]
[null,null,null,null,null,null,"","","","","","","","","","","","","","","","","","","","","","","","","",""]
[null,null,null,null,null,null,"","","","","","","","","","","","","","","","","","","","","","","","","",""]
[null,null,null,null,null,null,"","","","","","","","","","","","","","","","","","","","","","","","","",""]
[null,null,null,null,null,null,"","","","","","","","","","","","","","","","","","","","","","","","","",""]
[null,null,null,null,null,null,"","","","","","","","","","","","","","","","","","","","","","","","","",""]
[null,null,null,null,null,null,"","","","","","","","","","","","","","","","","","","","","","","","","",""]
[null,null,null,null,null,null,"","","","","","","","","","","","","","","","","","","","","","","","","",""]
[null,null,null,null,null,null,"","","","","","","","","","","","","","","","","","","","","","","","","",""]
[null,null,null,null,null,null,"","","","","","","","","","","","","","","","","","","","","","","","","",""]
[null,null,null,null,null,null,"","","","","","","","","","","","","","","","","","","","","","","","","",""]
[null,null,null,null,null,null,"","","","","","","","","","","","","","","","","","","","","","","","","",""]
[null,null,null,null,null,null,"","","","","","","","","","","","","","","","","","","","","","","","","",""]
[null,null,null,null,null,null,"","","","","","","","","","","","","","","","","","","","","","","","","",""]
[null,null,null,null,null,null,"","","","","","","","","","","","","","","","","","","","","","","","","",""]
[null,null,null,null,null,null,"","","","","","","","","","","","","","","","","","","","","","","","","",""]
[null,null,null,null,null,null,"","","","","","","","","","","","","","","","","","","","","","","","","",""]
[null,null,null,null,null,null,"","","","","","","","","","","","","","","","","","","","","","","","","",""]
[null,null,null,null,null,null,"","","","","","","","","","","","","","","","","","","","","","","","","",""]
[null,null,null,null,null,null,"","","","","","","","","","","","","","","","","","","","","","","","","",""]
[null,null,null,null,null,null,"","","","","","","","","","","","","","","","","","","","","","","","","",""]
[null,null,null,null,null,null,"","","","","","","","","","","","","","","","","","","","","","","","","",""]
[null,null,null,null,null,null,"","","","","","","","","","","","","","","","","","","","","","","","","",""]
[null,null,null,null,null,null,"","","","","","","","","","","","","","","","","","","","","","","","","",""]
[null,null,null,null,null,null,"","","","","","","","","","","","","","","","","","","","","","","","","",""]
[null,null,null,null,null,null,"","","","","","","","","","","","","","","","","","","","","","","","","",""]
[null,null,null,null,null,null,{"$f":"IF(A67=\"\",\"\",IF($A$1=C67,IF(E67>F67,\"В\",IF(E67=F67,\"Н\",\"П\")),IF(E67<F67,\"В\",IF(E67=F67,\"Н\",\"П\"))))","v":""},{"$f":"IF(A67=\"\",\"\",IF($A$1=C67,E67+H66,F67+H66))","v":""},{"$f":"IF(A67=\"\",\"\",IF($A$1=C67,F67+I66,E67+I66))","v":""},"","","","","","","","","",{"$f":"IF(A67=\"\",\"\",IF(C67=$A$1,\"Дома\",IF(D67=$A$1,\"В Гостях\",\"\")))","v":""},{"$f":"IF(S67=\"Дома\",G67,\"\")","v":""},{"$f":"IF(S67=\"Дома\",E67,\"\")","v":""},{"$f":"IF(S67=\"Дома\",F67,\"\")","v":""},{"$f":"IF(S67=\"В Гостях\",G67,\"\")","v":""},{"$f":"IF(S67=\"В Гостях\",F67,\"\")","v":""},{"$f":"IF(S67=\"В Гостях\",E67,\"\")","v":""},{"$f":"IF(A67=\"\",\"\",IF(D67=$A$1,\"Дома\",IF(C67=$A$1,\"В Гостях\",\"\")))","v":""},{"$f":"IF(Z67=\"Дома\",M67,\"\")","v":""},{"$f":"IF(Z67=\"Дома\",E67,\"\")","v":""},{"$f":"IF(Z67=\"Дома\",F67,\"\")","v":""},{"$f":"IF(Z67=\"В Гостях\",M67,\"\")","v":""},{"$f":"IF(Z67=\"В Гостях\",F67,\"\")","v":""},{"$f":"IF(Z67=\"В Гостях\",E67,\"\")","v":""}]
[null,null,null,null,null,null,"","","",{"$f":"IF(A68=\"\",\"\",IF(G68=\"В\",1+J67,0+J67))","v":""},{"$f":"IF(A68=\"\",\"\",IF(G68=\"Н\",1+K67,0+K67))","v":""},{"$f":"IF(A68=\"\",\"\",IF(G68=\"П\",1+L67,0+L67))","v":""},{"$f":"IF(A68=\"\",\"\",IF($B$1=D68,IF(F68>E68,\"В\",IF(F68=E68,\"Н\",\"П\")),IF(F68<E68,\"В\",IF(F68=E68,\"Н\",\"П\"))))","v":""},{"$f":"IF(A68=\"\",\"\",IF($B$1=D68,F68+N67,E68+N67))","v":""},{"$f":"IF(A68=\"\",\"\",IF($B$1=D68,E68+O67,F68+O67))","v":""},{"$f":"IF(A68=\"\",\"\",IF(M68=\"В\",1+P67,0+P67))","v":""},{"$f":"IF(A68=\"\",\"\",IF(M68=\"Н\",1+Q67,0+Q67))","v":""},{"$f":"IF(A68=\"\",\"\",IF(M68=\"П\",1+R67,0+R67))","v":""},"","","","","","","","","","","","","",""]
[null,null,null,null,null,null,"","","","","","","","","","","","","","","","","","","","","","","","","",""]
[null,null,null,null,null,null,"","","","","","","","","","","","","","","","","","","","","","","","","",""]
[null,null,null,null,null,null,"","","","","","","","","","","","","","","","","","","","","","","","","",""]
[null,null,null,null,null,null,"","","","","","","","","","","","","","","","","","","","","","","","","",""]
[null,null,null,null,null,null,"","","","","","","","","","","","","","","","","","","","","","","","","",""]
[null,null,null,null,null,null,"","","","","","","","","","","","","","","","","","","","","","","","","",""]
[null,null,null,null,null,null,"","","","","","","","","","","","","","","","","","","","","","","","","",""]
[null,null,null,null,null,null,"","","","","","","","","","","","","","","","","","","","","","","","","",""]
[null,null,null,null,null,null,"","","","","","","","","","","","","","","","","","","","","","","","","",""]
[null,null,null,null,null,null,"","","","","","","","","","","","","","","","","","","","","","","","","",""]
[null,null,null,null,null,null,"","","","","","","","","","","","","","","","","","","","","","","","","",""]
[null,null,null,null,null,null,"","","","","","","","","","","","","","","","","","","","","","","","","",""]
[null,null,null,null,null,null,"","","","","","","","","","","","","","","","","","","","","","","","","",""]
[null,null,null,null,null,null,"","","","","","","","","","","","","","","","","","","","","","","","","",""]
[null,null,null,null,null,null,"","","","","","","","","","","","","","","","","","","","","","","","","",""]
[null,null,null,null,null,null,"","","","","","","","","","","","","","","","","","","","","","","","","",""]
[null,null,null,null,null,null,"","","","","","","","","","","","","","","","","","","","","","","","","",""]
[null,null,null,null,null,null,"","","","","","","","","","","","","","","","","","","","","","","","","",""]
[null,null,null,null,null,null,"","","","","","","","","","","","","","","","","","","","","","","","","",""]
[null,null,null,null,null,null,"","","","","","","","","","","","","","","","","","","","","","","","","",""]
[null,null,null,null,null,null,"","","","","","","","","","","","","","","","","","","","","","","","","",""]
[null,null,null,null,null,null,"","","","","","","","","","","","","","","","","","","","","","","","","",""]
[null,null,null,null,null,null,"","","","","","","","","","","","","","","","","","","","","","","","","",""]
[null,null,null,null,null,null,"","","","","","","","","","","","","","","","","","","","","","","","","",""]
[null,null,null,null,null,null,"","","","","","","","","","","","","","","","","","","","","","","","","",""]
[null,null,null,null,null,null,"","","","","","","","","","","","","","","","","","","","","","","","","",""]
[null,null,null,null,null,null,"","","","","","","","","","","","","","","","","","","","","","","","","",""]
[null,null,null,null,null,null,"","","","","","","","","","","","","","","","","","","","","","","","","",""]
[null,null,null,null,null,null,"","","","","","","","","","","","","","","","","","","","","","","","","",""]
[null,null,null,null,null,null,"","","","","","","","","","","","","","","","","","","","","","","","","",""]
[null,null,null,null,null,null,{"$f":"IF(A99=\"\",\"\",IF($A$1=C99,IF(E99>F99,\"В\",IF(E99=F99,\"Н\",\"П\")),IF(E99<F99,\"В\",IF(E99=F99,\"Н\",\"П\"))))","v":""},{"$f":"IF(A99=\"\",\"\",IF($A$1=C99,E99+H98,F99+H98))","v":""},{"$f":"IF(A99=\"\",\"\",IF($A$1=C99,F99+I98,E99+I98))","v":""},"","","","","","","","","","","","","","","","","","","","","","",""]
[null,null,null,null,null,null,"","","","","","","","","","","","","","","","","","","","","","","","","",""]
[null,null,null,null,null,null,"","","","","","","","","","","","","","","","","","","","","","","","","",""]
[null,null,null,null,null,null,"","","","","","","","","","","","","","","","","","","","","","","","","",""]
[null,null,null,null,null,null,"","","","","","","","","","","","","","","","","","","","","","","","","",""]
[null,null,null,null,null,null,"","","","","","","","","","","","","","","","","","","","","","","","","",""]
[null,null,null,null,null,null,"","","","","","","","","","","","","","","","","","","","","","","","","",""]
[null,null,null,null,null,null,"","","","","","","","","","","","","","","","","","","","","","","","","",""]
[null,null,null,null,null,null,"","","","","","","","","","","","","","","","","","","","","","","","","",""]
[null,null,null,null,null,null,"","","","","","","","","","","","","","","","","","","","","","","","","",""]
[null,null,null,null,null,null,"","","","","","","","","","","","","","","","","","","","","","","","","",""]
[null,null,null,null,null,null,"","","","","","","","","","","","","","","","","","","","","","","","","",""]
[null,null,null,null,null,null,"","","","","","","","","","","","","","","","","","","","","","","","","",""]
[null,null,null,null,null,null,"","","","","","","","","","","","","","","","","","","","","","","","","",""]
[null,null,null,null,null,null,"","","","","","","","","","","","","","","","","","","","","","","","","",""]
[null,null,null,null,null,null,"","","","","","","","","","","","","","","","","","","","","","","","","",""]
[null,null,null,null,null,null,"","","","","","","","","","","","","","","","","","","","","","","","","",""]
[null,null,null,null,null,null,"","","","","","","","","","","","","","","","","","","","","","","","","",""]
[null,null,null,null,null,null,"","","","","","","","","","","","","","","","","","","","","","","","","",""]
[null,null,null,null,null,null,"","","","","","","","","","","","","","","","","","","","","","","","","",""]
[null,null,null,null,null,null,"","","","","","","","","","","","","","","","","","","","","","","","","",""]
[null,null,null,null,null,null,"","","","","","","","","","","","","","","","","","","","","","","","","",""]
[null,null,null,null,null,null,"","","","","","","","","","","","","","","","","","","","","","","","","",""]
[null,null,null,null,null,null,"","","","","","","","","","","","","","","","","","","","","","","","","",""]
[null,null,null,null,null,null,"","","","","","","","","","","","","","","","","","","","","","","","","",""]
[null,null,null,null,null,null,"","","","","","","","","","","","","","","","","","","","","","","","","",""]
[null,null,null,null,null,null,"","","","","","","","","","","","","","","","","","","","","","","","","",""]
[null,null,null,null,null,null,"","","","","","","","","","","","","","","","","","","","","","","","","",""]
[null,null,null,null,null,null,"","","","","","","","","","","","","","","","","","","","","","","","","",""]
[null,null,null,null,null,null,"","","","","","","","","","","","","","","","","","","","","","","","","",""]
[null,null,null,null,null,null,"","","","","","","","","","","","","","","","","","","","","","","","","",""]
[null,null,null,null,null,null,"","","","","","","","","","","","","","","","","","","","","","","","","",""]
[null,null,null,null,null,null,{"$f":"IF(A131=\"\",\"\",IF($A$1=C131,IF(E131>F131,\"В\",IF(E131=F131,\"Н\",\"П\")),IF(E131<F131,\"В\",IF(E131=F131,\"Н\",\"П\"))))","v":""},{"$f":"IF(A131=\"\",\"\",IF($A$1=C131,E131+H130,F131+H130))","v":""},{"$f":"IF(A131=\"\",\"\",IF($A$1=C131,F131+I130,E131+I130))","v":""},"","","","","","","","","",{"$f":"IF(A131=\"\",\"\",IF(C131=$A$1,\"Дома\",IF(D131=$A$1,\"В Гостях\",\"\")))","v":""},{"$f":"IF(S131=\"Дома\",G131,\"\")","v":""},{"$f":"IF(S131=\"Дома\",E131,\"\")","v":""},{"$f":"IF(S131=\"Дома\",F131,\"\")","v":""},{"$f":"IF(S131=\"В Гостях\",G131,\"\")","v":""},{"$f":"IF(S131=\"В Гостях\",F131,\"\")","v":""},{"$f":"IF(S131=\"В Гостях\",E131,\"\")","v":""},{"$f":"IF(A131=\"\",\"\",IF(D131=$A$1,\"Дома\",IF(C131=$A$1,\"В Гостях\",\"\")))","v":""},{"$f":"IF(Z131=\"Дома\",M131,\"\")","v":""},{"$f":"IF(Z131=\"Дома\",E131,\"\")","v":""},{"$f":"IF(Z131=\"Дома\",F131,\"\")","v":""},{"$f":"IF(Z131=\"В Гостях\",M131,\"\")","v":""},{"$f":"IF(Z131=\"В Гостях\",F131,\"\")","v":""},{"$f":"IF(Z131=\"В Гостях\",E131,\"\")","v":""}]
[null,null,null,null,null,null,"","","",{"$f":"IF(A132=\"\",\"\",IF(G132=\"В\",1+J131,0+J131))","v":""},{"$f":"IF(A132=\"\",\"\",IF(G132=\"Н\",1+K131,0+K131))","v":""},{"$f":"IF(A132=\"\",\"\",IF(G132=\"П\",1+L131,0+L131))","v":""},{"$f":"IF(A132=\"\",\"\",IF($B$1=D132,IF(F132>E132,\"В\",IF(F132=E132,\"Н\",\"П\")),IF(F132<E132,\"В\",IF(F132=E132,\"Н\",\"П\"))))","v":""},{"$f":"IF(A132=\"\",\"\",IF($B$1=D132,F132+N131,E132+N131))","v":""},{"$f":"IF(A132=\"\",\"\",IF($B$1=D132,E132+O131,F132+O131))","v":""},{"$f":"IF(A132=\"\",\"\",IF(M132=\"В\",1+P131,0+P131))","v":""},{"$f":"IF(A132=\"\",\"\",IF(M132=\"Н\",1+Q131,0+Q131))","v":""},{"$f":"IF(A132=\"\",\"\",IF(M132=\"П\",1+R131,0+R131))","v":""},"","","","","","","","","","","","","",""]
[null,null,null,null,null,null,"","","","","","","","","","","","","","","","","","","","","","","","","",""]
[null,null,null,null,null,null,"","","","","","","","","","","","","","","","","","","","","","","","","",""]
[null,null,null,null,null,null,"","","","","","","","","","","","","","","","","","","","","","","","","",""]
[null,null,null,null,null,null,"","","","","","","","","","","","","","","","","","","","","","","","","",""]
[null,null,null,null,null,null,"","","","","","","","","","","","","","","","","","","","","","","","","",""]
[null,null,null,null,null,null,"","","","","","","","","","","","","","","","","","","","","","","","","",""]
[null,null,null,null,null,null,"","","","","","","","","","","","","","","","","","","","","","","","","",""]
[null,null,null,null,null,null,"","","","","","","","","","","","","","","","","","","","","","","","","",""]
[null,null,null,null,null,null,"","","","","","","","","","","","","","","","","","","","","","","","","",""]
[null,null,null,null,null,null,"","","","","","","","","","","","","","","","","","","","","","","","","",""]
[null,null,null,null,null,null,"","","","","","","","","","","","","","","","","","","","","","","","","",""]
[null,null,null,null,null,null,"","","","","","","","","","","","","","","","","","","","","","","","","",""]
[null,null,null,null,null,null,"","","","","","","","","","","","","","","","","","","","","","","","","",""]
[null,null,null,null,null,null,"","","","","","","","","","","","","","","","","","","","","","","","","",""]
[null,null,null,null,null,null,"","","","","","","","","","","","","","","","","","","","","","","","","",""]
[null,null,null,null,null,null,"","","","","","","","","","","","","","","","","","","","","","","","","",""]
[null,null,null,null,null,null,"","","","","","","","","","","","","","","","","","","","","","","","","",""]
[null,null,null,null,null,null,"","","","","","","","","","","","","","","","","","","","","","","","","",""]

{"sheet":"ДомаГости","index":24,"n_rows":150,"n_cols":35,"rows_kept":150,"cut":false,"hidden":true,"merged":[]}
["Чемпионат","Дата/Время","Дома","Гости","К1 в 1Т","К2 в 1Т","К1 во 2Т","К2 во 2Т","Где играли","К1 Голов","К2 Голов","Забито","Пропущено","Результат","Всего Игр","Всего выиграно","Всего ничьих","Всего проиграно","Всего забито","Всего пропущено","Всего очков","Дома игр","Дома выиграно","Дома ничьих","Дома проиграно","Дома забито","Дома пропущено","Дома очков","Гости игр","Гости выиграно","Гости ничьих","Гости проиграно","Гости забито","Гости пропущено","Гости очков"]
["CHILE: Primera Division","2021.04.12 21:00","Palestino","Everton",0,0,1,1,"Гости",{"$f":"IF(I2=\"\",\"\",E2+G2)","v":1},{"$f":"IF(I2=\"\",\"\",F2+H2)","v":1},{"$f":"IF(I2=\"\",\"\",IF(I2=\"Дома\",J2,K2))","v":1},{"$f":"IF(I2=\"\",\"\",IF(I2=\"Дома\",K2,J2))","v":1},{"$f":"IF(I2=\"\",\"\",IF(I2=\"Дома\",IF(J2>K2,\"В\",IF(J2=K2,\"Н\",\"П\")),IF(J2<K2,\"В\",IF(J2=K2,\"Н\",\"П\"))))","v":"Н"},{"$f":"IF(I2=\"\",\"\",1)","v":1},{"$f":"IF(I2=\"\",\"\",IF(N2=\"В\",1,0))","v":0},{"$f":"IF(I2=\"\",\"\",IF(N2=\"Н\",1,0))","v":1},{"$f":"IF(I2=\"\",\"\",IF(N2=\"П\",1,0))","v":0},{"$f":"IF(I2=\"\",\"\",L2)","v":1},{"$f":"IF(I2=\"\",\"\",M2)","v":1},{"$f":"IF(I2=\"\",\"\",P2*3+Q2)","v":1},{"$f":"IF(I2=\"\",\"\",IF(I2=\"Дома\",1,0))","v":0},{"$f":"IF(I2=\"\",\"\",IF(I2=\"Дома\",IF(N2=\"В\",1,0),0))","v":0},{"$f":"IF(I2=\"\",\"\",IF(I2=\"Дома\",IF(N2=\"Н\",1,0),0))","v":0},{"$f":"IF(I2=\"\",\"\",IF(I2=\"Дома\",IF(N2=\"П\",1,0),0))","v":0},{"$f":"IF(I2=\"\",\"\",IF(I2=\"Дома\",L2,0))","v":0},{"$f":"IF(I2=\"\",\"\",IF(I2=\"Дома\",M2,0))","v":0},{"$f":"IF(I2=\"\",\"\",IF(I2=\"Дома\",W2*3+X2,0))","v":0},{"$f":"IF(I2=\"\",\"\",IF(I2=\"Гости\",1,0))","v":1},{"$f":"IF(I2=\"\",\"\",IF(I2=\"Гости\",IF(N2=\"В\",1,0),0))","v":0},{"$f":"IF(I2=\"\",\"\",IF(I2=\"Гости\",IF(N2=\"Н\",1,0),0))","v":1},{"$f":"IF(I2=\"\",\"\",IF(I2=\"Гости\",IF(N2=\"П\",1,0),0))","v":0},{"$f":"IF(I2=\"\",\"\",IF(I2=\"Гости\",L2,0))","v":1},{"$f":"IF(I2=\"\",\"\",IF(I2=\"Гости\",M2,0))","v":1},{"$f":"IF(I2=\"\",\"\",IF(I2=\"Гости\",AD2*3+AE2,0))","v":1}]
["CHILE: Primera Division","2021.04.02 21:00","Antofagasta","Everton",0,0,1,2,"Гости",{"$f":"IF(I3=\"\",\"\",E3+G3)","v":1},{"$f":"IF(I3=\"\",\"\",F3+H3)","v":2},{"$f":"IF(I3=\"\",\"\",IF(I3=\"Дома\",J3,K3))","v":2},{"$f":"IF(I3=\"\",\"\",IF(I3=\"Дома\",K3,J3))","v":1},{"$f":"IF(I3=\"\",\"\",IF(I3=\"Дома\",IF(J3>K3,\"В\",IF(J3=K3,\"Н\",\"П\")),IF(J3<K3,\"В\",IF(J3=K3,\"Н\",\"П\"))))","v":"В"},{"$f":"IF(I3=\"\",\"\",O2+1)","v":2},{"$f":"IF(I3=\"\",\"\",IF(N3=\"В\",P2+1,P2))","v":1},{"$f":"IF(I3=\"\",\"\",IF(N3=\"Н\",Q2+1,Q2))","v":1},{"$f":"IF(I3=\"\",\"\",IF(N3=\"П\",R2+1,R2))","v":0},{"$f":"IF(I3=\"\",\"\",S2+L3)","v":3},{"$f":"IF(I3=\"\",\"\",T2+M3)","v":2},{"$f":"IF(I3=\"\",\"\",P3*3+Q3)","v":4},{"$f":"IF(I3=\"\",\"\",IF(I3=\"Дома\",V2+1,V2+0))","v":0},{"$f":"IF(I3=\"\",\"\",IF(I3=\"Дома\",IF(N3=\"В\",W2+1,W2),W2))","v":0},{"$f":"IF(I3=\"\",\"\",IF(I3=\"Дома\",IF(N3=\"Н\",X2+1,X2),X2))","v":0},{"$f":"IF(I3=\"\",\"\",IF(I3=\"Дома\",IF(N3=\"П\",Y2+1,Y2),Y2))","v":0},{"$f":"IF(I3=\"\",\"\",IF(I3=\"Дома\",L3+Z2,Z2))","v":0},{"$f":"IF(I3=\"\",\"\",IF(I3=\"Дома\",M3+AA2,AA2))","v":0},{"$f":"IF(I3=\"\",\"\",IF(I3=\"Дома\",W3*3+X3,AB2))","v":0},{"$f":"IF(I3=\"\",\"\",IF(I3=\"Гости\",AC2+1,AC2+0))","v":2},{"$f":"IF(I3=\"\",\"\",IF(I3=\"Гости\",IF(N3=\"В\",AD2+1,AD2),AD2))","v":1},{"$f":"IF(I3=\"\",\"\",IF(I3=\"Гости\",IF(N3=\"Н\",AE2+1,AE2),AE2))","v":1},{"$f":"IF(I3=\"\",\"\",IF(I3=\"Гости\",IF(N3=\"П\",AF2+1,AF2),AF2))","v":0},{"$f":"IF(I3=\"\",\"\",IF(I3=\"Гости\",L3+AG2,AG2))","v":3},{"$f":"IF(I3=\"\",\"\",IF(I3=\"Гости\",M3+AH2,AH2))","v":2},{"$f":"IF(I3=\"\",\"\",IF(I3=\"Гости\",AD3*3+AE3,AI2))","v":4}]
["CHILE: Primera Division","2021.02.11 23:30","Coquimbo","Everton",1,0,2,0,"Гости",3,0,0,3,"П",3,{"$f":"IF(I4=\"\",\"\",IF(N4=\"В\",P3+1,P3))","v":1},{"$f":"IF(I4=\"\",\"\",IF(N4=\"Н\",Q3+1,Q3))","v":1},{"$f":"IF(I4=\"\",\"\",IF(N4=\"П\",R3+1,R3))","v":1},{"$f":"IF(I4=\"\",\"\",S3+L4)","v":3},{"$f":"IF(I4=\"\",\"\",T3+M4)","v":5},4,{"$f":"IF(I4=\"\",\"\",IF(I4=\"Дома\",V3+1,V3+0))","v":0},{"$f":"IF(I4=\"\",\"\",IF(I4=\"Дома\",IF(N4=\"В\",W3+1,W3),W3))","v":0},{"$f":"IF(I4=\"\",\"\",IF(I4=\"Дома\",IF(N4=\"Н\",X3+1,X3),X3))","v":0},{"$f":"IF(I4=\"\",\"\",IF(I4=\"Дома\",IF(N4=\"П\",Y3+1,Y3),Y3))","v":0},{"$f":"IF(I4=\"\",\"\",IF(I4=\"Дома\",L4+Z3,Z3))","v":0},{"$f":"IF(I4=\"\",\"\",IF(I4=\"Дома\",M4+AA3,AA3))","v":0},{"$f":"IF(I4=\"\",\"\",IF(I4=\"Дома\",W4*3+X4,AB3))","v":0},{"$f":"IF(I4=\"\",\"\",IF(I4=\"Гости\",AC3+1,AC3+0))","v":3},{"$f":"IF(I4=\"\",\"\",IF(I4=\"Гости\",IF(N4=\"В\",AD3+1,AD3),AD3))","v":1},{"$f":"IF(I4=\"\",\"\",IF(I4=\"Гости\",IF(N4=\"Н\",AE3+1,AE3),AE3))","v":1},{"$f":"IF(I4=\"\",\"\",IF(I4=\"Гости\",IF(N4=\"П\",AF3+1,AF3),AF3))","v":1},{"$f":"IF(I4=\"\",\"\",IF(I4=\"Гости\",L4+AG3,AG3))","v":3},{"$f":"IF(I4=\"\",\"\",IF(I4=\"Гости\",M4+AH3,AH3))","v":5},{"$f":"IF(I4=\"\",\"\",IF(I4=\"Гости\",AD4*3+AE4,AI3))","v":4}]
["CHILE: Primera Division","2021.01.20 00:15","U. Catolica","Everton",1,1,0,0,"Гости",1,1,1,1,"Н",4,1,2,1,4,6,5,0,0,0,0,0,0,0,4,1,2,1,4,6,5]
["CHILE: Primera Division","2021.01.10 23:30","Colo Colo","Everton",1,0,0,0,"Гости",1,0,0,1,"П",5,1,2,2,4,7,5,0,0,0,0,0,0,0,5,1,2,2,4,7,5]
["CHILE: Primera Division","2021.01.06 22:00","La Serena","Everton",1,1,0,0,"Гости",1,1,1,1,"Н",6,1,3,2,5,8,6,0,0,0,0,0,0,0,6,1,3,2,5,8,6]
["CHILE: Primera Division","2020.12.29 00:30","U. De Concepcion","Everton",0,0,0,0,"Гости",0,0,0,0,"Н",7,1,4,2,5,8,7,0,0,0,0,0,0,0,7,1,4,2,5,8,7]
["CHILE: Primera Division","2020.12.14 00:15","S. Wanderers","Everton",0,1,2,0,"Гости",2,1,1,2,{"$f":"IF(I9=\"\",\"\",IF(I9=\"Дома\",IF(J9>K9,\"В\",IF(J9=K9,\"Н\",\"П\")),IF(J9<K9,\"В\",IF(J9=K9,\"Н\",\"П\"))))","v":"П"},8,1,4,3,6,10,7,0,0,0,0,0,0,0,8,1,4,3,6,10,7]
["CHILE: Primera Division","2020.12.07 00:30","Union La Calera","Everton",3,1,3,1,"Гости",6,2,2,6,{"$f":"IF(I10=\"\",\"\",IF(I10=\"Дома\",IF(J10>K10,\"В\",IF(J10=K10,\"Н\",\"П\")),IF(J10<K10,\"В\",IF(J10=K10,\"Н\",\"П\"))))","v":"П"},9,1,4,4,8,16,7,0,0,0,0,0,0,0,9,1,4,4,8,16,7]
["CHILE: Primera Division","2020.11.19 15:30","Antofagasta","Everton",1,1,0,0,"Гости",1,1,1,1,"Н",10,1,5,4,9,17,8,0,0,0,0,0,0,0,10,1,5,4,9,17,8]
["CHILE: Primera Division","2020.10.31 23:30","A. Italiano","Everton",1,0,0,2,"Гости",1,2,2,1,"В",11,2,5,4,11,18,{"$f":"IF(I12=\"\",\"\",P12*3+Q12)","v":11},0,0,0,0,0,0,0,11,2,5,4,11,18,11]
["CHILE: Primera Division","2020.10.14 21:00","Huachipato","Everton",1,0,0,0,"Гости",1,0,0,1,"П",12,2,5,5,11,19,11,0,0,0,0,0,0,0,12,2,5,5,11,19,11]
["CHILE: Primera Division","2020.10.03 21:00","Curico Unido","Everton",0,1,1,2,"Гости",1,3,3,1,"В",13,3,5,5,14,20,14,0,0,0,0,0,0,0,13,3,5,5,14,20,14]
["CHILE: Primera Division","2020.09.13 23:30","O'Higgins","Everton",1,1,0,1,"Гости",1,2,2,1,"В",14,4,5,5,16,21,17,0,0,0,0,0,0,0,14,4,5,5,16,21,17]
["CHILE: Primera Division","2020.09.03 19:30","Palestino","Everton",1,0,0,0,"Гости",1,0,0,1,"П",15,4,5,6,16,22,17,0,0,0,0,0,0,0,15,4,5,6,16,22,17]
["CHILE: Primera Division","2020.03.05 23:00","U. De Chile","Everton",0,0,0,0,"Гости",0,0,0,0,"Н",16,4,6,6,16,22,18,0,0,0,0,0,0,0,16,4,6,6,16,22,18]
["CHILE: Primera Division","2020.03.01 01:30","U. Espanola","Everton",0,0,2,0,"Гости",2,0,0,2,"П",17,4,6,7,16,24,18,0,0,0,0,0,0,0,17,4,6,7,16,24,18]
["CHILE: Primera Division","2020.02.16 17:00","Cobresal","Everton",1,1,0,0,"Гости",1,1,1,1,"Н",18,4,7,7,17,25,19,0,0,0,0,0,0,0,18,4,7,7,17,25,19]
["CHILE: Primera Division","2020.02.03 01:30","Deportes Iquique","Everton",2,0,0,2,"Гости",2,2,2,2,"Н",19,4,8,7,19,27,20,0,0,0,0,0,0,0,19,4,8,7,19,27,20]
[null,null,null,null,null,null,null,null,null,"","","","","","","","","","","","","","","","","","","","","","","","","",""]
[null,null,null,null,null,null,null,null,null,"","","","","","","","","","","","","","","","","","","","","","","","","",""]
[null,null,null,null,null,null,null,null,null,"","","","","","","","","","","","","","","","","","","","","","","","","",""]
[null,null,null,null,null,null,null,null,null,"","","","","","","","","","","","","","","","","","","","","","","","","",""]
[null,null,null,null,null,null,null,null,null,"","","","","","","","","","","","","","","","","","","","","","","","","",""]
[null,null,null,null,null,null,null,null,null,"","","","","","","","","","","","","","","","","","","","","","","","","",""]
[null,null,null,null,null,null,null,null,null,"","","","","","","","","","","","","","","","","","","","","","","","","",""]
[null,null,null,null,null,null,null,null,null,"","","","","","","","","","","","","","","","","","","","","","","","","",""]
[null,null,null,null,null,null,null,null,null,"","","","","","","","","","","","","","","","","","","","","","","","","",""]
[null,null,null,null,null,null,null,null,null,"","","","","","","","","","","","","","","","","","","","","","","","","",""]
[null,null,null,null,null,null,null,null,null,"","","","","","","","","","","","","","","","","","","","","","","","","",""]
[null,null,null,null,null,null,null,null,null,"","","","","","","","","","","","","","","","","","","","","","","","","",""]
[null,null,null,null,null,null,null,null,null,"","","","","","","","","","","","","","","","","","","","","","","","","",""]
[null,null,null,null,null,null,null,null,null,"","","","","","","","","","","","","","","","","","","","","","","","","",""]
[null,null,null,null,null,null,null,null,null,"","","","","","","","","","","","","","","","","","","","","","","","","",""]
[null,null,null,null,null,null,null,null,null,"","","","","","","","","","","","","","","","","","","","","","","","","",""]
[null,null,null,null,null,null,null,null,null,"","","","","","","","","","","","","","","","","","","","","","","","","",""]
[null,null,null,null,null,null,null,null,null,"","","","","","","","","","","","","","","","","","","","","","","","","",""]
[null,null,null,null,null,null,null,null,null,"","","","","","","","","","","","","","","","","","","","","","","","","",""]
[null,null,null,null,null,null,null,null,null,"","","","","","","","","","","","","","","","","","","","","","","","","",""]
[null,null,null,null,null,null,null,null,null,"","","","","","","","","","","","","","","","","","","","","","","","","",""]
[null,null,null,null,null,null,null,null,null,"","","","","","","","","","","","","","","","","","","","","","","","","",""]
[null,null,null,null,null,null,null,null,null,"","","","","","","","","","","","","","","","","","","","","","","","","",""]
[null,null,null,null,null,null,null,null,null,"","","","","","","","","","","","","","","","","","","","","","","","","",""]
[null,null,null,null,null,null,null,null,null,"","","","","","","","","","","","","","","","","","","","","","","","","",""]
[null,null,null,null,null,null,null,null,null,"","","","","","","","","","","","","","","","","","","","","","","","","",""]
[null,null,null,null,null,null,null,null,null,"","","","","","","","","","","","","","","","","","","","","","","","","",""]
[null,null,null,null,null,null,null,null,null,"","","","","","","","","","","","","","","","","","","","","","","","","",""]
[null,null,null,null,null,null,null,null,null,"","","","","","","","","","","","","","","","","","","","","","","","","",""]
[null,null,null,null,null,null,null,null,null,"","","","","","","","","","","","","","","","","","","","","","","","","",""]
[null,null,null,null,null,null,null,null,null,"","","","","","","","","","","","","","","","","","","","","","","","","",""]
[null,null,null,null,null,null,null,null,null,"","","","","","","","","","","","","","","","","","","","","","","","","",""]
[null,null,null,null,null,null,null,null,null,"","","","","","","","","","","","","","","","","","","","","","","","","",""]
[null,null,null,null,null,null,null,null,null,"","","","","","","","","","","","","","","","","","","","","","","","","",""]
[null,null,null,null,null,null,null,null,null,"","","","","","","","","","","","","","","","","","","","","","","","","",""]
[null,null,null,null,null,null,null,null,null,"","","","","","","","","","","","","","","","","","","","","","","","","",""]
[null,null,null,null,null,null,null,null,null,"","","","","","","","","","","","","","","","","","","","","","","","","",""]
[null,null,null,null,null,null,null,null,null,"","","","","","","","","","","","","","","","","","","","","","","","","",""]
[null,null,null,null,null,null,null,null,null,"","","","","","","","","","","","","","","","","","","","","","","","","",""]
[null,null,null,null,null,null,null,null,null,"","","","","","","","","","","","","","","","","","","","","","","","","",""]
[null,null,null,null,null,null,null,null,null,"","","","","","","","","","","","","","","","","","","","","","","","","",""]
[null,null,null,null,null,null,null,null,null,"","","","","","","","","","","","","","","","","","","","","","","","","",""]
[null,null,null,null,null,null,null,null,null,"","","","","","","","","","","","","","","","","","","","","","","","","",""]
[null,null,null,null,null,null,null,null,null,"","","","","","","","","","","","","","","","","","","","","","","","","",""]
[null,null,null,null,null,null,null,null,null,"","","","","","","","","","","","","","","","","","","","","","","","","",""]
[null,null,null,null,null,null,null,null,null,"","","","","","","","","","","","","","","","","","","","","","","","","",""]
[null,null,null,null,null,null,null,null,null,{"$f":"IF(I67=\"\",\"\",E67+G67)","v":""},{"$f":"IF(I67=\"\",\"\",F67+H67)","v":""},{"$f":"IF(I67=\"\",\"\",IF(I67=\"Дома\",J67,K67))","v":""},{"$f":"IF(I67=\"\",\"\",IF(I67=\"Дома\",K67,J67))","v":""},"",{"$f":"IF(I67=\"\",\"\",O66+1)","v":""},"","","","","",{"$f":"IF(I67=\"\",\"\",P67*3+Q67)","v":""},"","","","","","","","","","","","","",""]
[null,null,null,null,null,null,null,null,null,"","","","","","",{"$f":"IF(I68=\"\",\"\",IF(N68=\"В\",P67+1,P67))","v":""},{"$f":"IF(I68=\"\",\"\",IF(N68=\"Н\",Q67+1,Q67))","v":""},{"$f":"IF(I68=\"\",\"\",IF(N68=\"П\",R67+1,R67))","v":""},{"$f":"IF(I68=\"\",\"\",S67+L68)","v":""},{"$f":"IF(I68=\"\",\"\",T67+M68)","v":""},"",{"$f":"IF(I68=\"\",\"\",IF(I68=\"Дома\",V67+1,V67+0))","v":""},{"$f":"IF(I68=\"\",\"\",IF(I68=\"Дома\",IF(N68=\"В\",W67+1,W67),W67))","v":""},{"$f":"IF(I68=\"\",\"\",IF(I68=\"Дома\",IF(N68=\"Н\",X67+1,X67),X67))","v":""},{"$f":"IF(I68=\"\",\"\",IF(I68=\"Дома\",IF(N68=\"П\",Y67+1,Y67),Y67))","v":""},{"$f":"IF(I68=\"\",\"\",IF(I68=\"Дома\",L68+Z67,Z67))","v":""},{"$f":"IF(I68=\"\",\"\",IF(I68=\"Дома\",M68+AA67,AA67))","v":""},{"$f":"IF(I68=\"\",\"\",IF(I68=\"Дома\",W68*3+X68,AB67))","v":""},{"$f":"IF(I68=\"\",\"\",IF(I68=\"Гости\",AC67+1,AC67+0))","v":""},{"$f":"IF(I68=\"\",\"\",IF(I68=\"Гости\",IF(N68=\"В\",AD67+1,AD67),AD67))","v":""},{"$f":"IF(I68=\"\",\"\",IF(I68=\"Гости\",IF(N68=\"Н\",AE67+1,AE67),AE67))","v":""},{"$f":"IF(I68=\"\",\"\",IF(I68=\"Гости\",IF(N68=\"П\",AF67+1,AF67),AF67))","v":""},{"$f":"IF(I68=\"\",\"\",IF(I68=\"Гости\",L68+AG67,AG67))","v":""},{"$f":"IF(I68=\"\",\"\",IF(I68=\"Гости\",M68+AH67,AH67))","v":""},{"$f":"IF(I68=\"\",\"\",IF(I68=\"Гости\",AD68*3+AE68,AI67))","v":""}]
[null,null,null,null,null,null,null,null,null,"","","","","","","","","","","","","","","","","","","","","","","","","",""]
[null,null,null,null,null,null,null,null,null,"","","","","","","","","","","","","","","","","","","","","","","","","",""]
[null,null,null,null,null,null,null,null,null,"","","","","","","","","","","","","","","","","","","","","","","","","",""]
[null,null,null,null,null,null,null,null,null,"","","","","","","","","","","","","","","","","","","","","","","","","",""]
[null,null,null,null,null,null,null,null,null,"","","","","","","","","","","","","","","","","","","","","","","","","",""]
[null,null,null,null,null,null,null,null,null,"","","","",{"$f":"IF(I74=\"\",\"\",IF(I74=\"Дома\",IF(J74>K74,\"В\",IF(J74=K74,\"Н\",\"П\")),IF(J74<K74,\"В\",IF(J74=K74,\"Н\",\"П\"))))","v":""},"","","","","","","","","","","","","","","","","","","","",""]
[null,null,null,null,null,null,null,null,null,"","","","","","","","","","","","","","","","","","","","","","","","","",""]
[null,null,null,null,null,null,null,null,null,"","","","","","","","","","","","","","","","","","","","","","","","","",""]
[null,null,null,null,null,null,null,null,null,"","","","","","","","","","","","","","","","","","","","","","","","","",""]
[null,null,null,null,null,null,null,null,null,"","","","","","","","","","","","","","","","","","","","","","","","","",""]
[null,null,null,null,null,null,null,null,null,"","","","","","","","","","","","","","","","","","","","","","","","","",""]
[null,null,null,null,null,null,null,null,null,"","","","","","","","","","","","","","","","","","","","","","","","","",""]
[null,null,null,null,null,null,null,null,null,"","","","","","","","","","","","","","","","","","","","","","","","","",""]
[null,null,null,null,null,null,null,null,null,"","","","","","","","","","","","","","","","","","","","","","","","","",""]
[null,null,null,null,null,null,null,null,null,"","","","","","","","","","","","","","","","","","","","","","","","","",""]
[null,null,null,null,null,null,null,null,null,"","","","","","","","","","","","","","","","","","","","","","","","","",""]
[null,null,null,null,null,null,null,null,null,"","","","","","","","","","","","","","","","","","","","","","","","","",""]
[null,null,null,null,null,null,null,null,null,"","","","","","","","","","","","","","","","","","","","","","","","","",""]
[null,null,null,null,null,null,null,null,null,"","","","","","","","","","","","","","","","","","","","","","","","","",""]
[null,null,null,null,null,null,null,null,null,"","","","","","","","","","","","","","","","","","","","","","","","","",""]
[null,null,null,null,null,null,null,null,null,"","","","","","","","","","","","","","","","","","","","","","","","","",""]
[null,null,null,null,null,null,null,null,null,"","","","","","","","","","","","","","","","","","","","","","","","","",""]
[null,null,null,null,null,null,null,null,null,"","","","","","","","","","","","","","","","","","","","","","","","","",""]
[null,null,null,null,null,null,null,null,null,"","","","","","","","","","","","","","","","","","","","","","","","","",""]
[null,null,null,null,null,null,null,null,null,"","","","","","","","","","","","","","","","","","","","","","","","","",""]
[null,null,null,null,null,null,null,null,null,"","","","","","","","","","","","","","","","","","","","","","","","","",""]
[null,null,null,null,null,null,null,null,null,"","","","","","","","","","","","","","","","","","","","","","","","","",""]
[null,null,null,null,null,null,null,null,null,"","","","","","","","","","","","","","","","","","","","","","","","","",""]
[null,null,null,null,null,null,null,null,null,"","","","","","","","","","","","","","","","","","","","","","","","","",""]
[null,null,null,null,null,null,null,null,null,"","","","","","","","","","","","","","","","","","","","","","","","","",""]
[null,null,null,null,null,null,null,null,null,"","","","","","","","","","","","","","","","","","","","","","","","","",""]
[null,null,null,null,null,null,null,null,null,"","","","","","","","","","","","","","","","","","","","","","","","","",""]
[null,null,null,null,null,null,null,null,null,"","","","","","","","","","","","","","","","","","","","","","","","","",""]
[null,null,null,null,null,null,null,null,null,"","","","","","","","","","","","","","","","","","","","","","","","","",""]
[null,null,null,null,null,null,null,null,null,"","","","","","","","","","","","","","","","","","","","","","","","","",""]
[null,null,null,null,null,null,null,null,null,"","","","","","","","","","","","","","","","","","","","","","","","","",""]
[null,null,null,null,null,null,null,null,null,"","","","","","","","","","","","","","","","","","","","","","","","","",""]
[null,null,null,null,null,null,null,null,null,"","","","","","","","","","","","","","","","","","","","","","","","","",""]
[null,null,null,null,null,null,null,null,null,"","","","","","","","","","","","","","","","","","","","","","","","","",""]
[null,null,null,null,null,null,null,null,null,"","","","","","","","","","","","","","","","","","","","","","","","","",""]
[null,null,null,null,null,null,null,null,null,"","","","","","","","","","","","","","","","","","","","","","","","","",""]
[null,null,null,null,null,null,null,null,null,"","","","","","","","","","","","","","","","","","","","","","","","","",""]
[null,null,null,null,null,null,null,null,null,"","","","","","","","","","","","","","","","","","","","","","","","","",""]
[null,null,null,null,null,null,null,null,null,"","","","","","","","","","","","","","","","","","","","","","","","","",""]
[null,null,null,null,null,null,null,null,null,"","","","","","","","","","","","","","","","","","","","","","","","","",""]
[null,null,null,null,null,null,null,null,null,"","","","","","","","","","","","","","","","","","","","","","","","","",""]
[null,null,null,null,null,null,null,null,null,"","","","","","","","","","","","","","","","","","","","","","","","","",""]
[null,null,null,null,null,null,null,null,null,"","","","","","","","","","","","","","","","","","","","","","","","","",""]
[null,null,null,null,null,null,null,null,null,"","","","","","","","","","","","","","","","","","","","","","","","","",""]
[null,null,null,null,null,null,null,null,null,"","","","","","","","","","","","","","","","","","","","","","","","","",""]
[null,null,null,null,null,null,null,null,null,"","","","","","","","","","","","","","","","","","","","","","","","","",""]
[null,null,null,null,null,null,null,null,null,"","","","","","","","","","","","","","","","","","","","","","","","","",""]
[null,null,null,null,null,null,null,null,null,"","","","","","","","","","","","","","","","","","","","","","","","","",""]
[null,null,null,null,null,null,null,null,null,"","","","","","","","","","","","","","","","","","","","","","","","","",""]
[null,null,null,null,null,null,null,null,null,"","","","","","","","","","","","","","","","","","","","","","","","","",""]
[null,null,null,null,null,null,null,null,null,"","","","","","","","","","","","","","","","","","","","","","","","","",""]
[null,null,null,null,null,null,null,null,null,"","","","","","","","","","","","","","","","","","","","","","","","","",""]
[null,null,null,null,null,null,null,null,null,"","","","","","","","","","","","","","","","","","","","","","","","","",""]
[null,null,null,null,null,null,null,null,null,"","","","","","","","","","","","","","","","","","","","","","","","","",""]
[null,null,null,null,null,null,null,null,null,"","","","","","","","","","","","","","","","","","","","","","","","","",""]
[null,null,null,null,null,null,null,null,null,"","","","","","","","","","","","","","","","","","","","","","","","","",""]
[null,null,null,null,null,null,null,null,null,"","","","","","","","","","","","","","","","","","","","","","","","","",""]
[null,null,null,null,null,null,null,null,null,{"$f":"IF(I131=\"\",\"\",E131+G131)","v":""},{"$f":"IF(I131=\"\",\"\",F131+H131)","v":""},{"$f":"IF(I131=\"\",\"\",IF(I131=\"Дома\",J131,K131))","v":""},{"$f":"IF(I131=\"\",\"\",IF(I131=\"Дома\",K131,J131))","v":""},"",{"$f":"IF(I131=\"\",\"\",O130+1)","v":""},"","","","","",{"$f":"IF(I131=\"\",\"\",P131*3+Q131)","v":""},"","","","","","","","","","","","","",""]
[null,null,null,null,null,null,null,null,null,"","","","","","",{"$f":"IF(I132=\"\",\"\",IF(N132=\"В\",P131+1,P131))","v":""},{"$f":"IF(I132=\"\",\"\",IF(N132=\"Н\",Q131+1,Q131))","v":""},{"$f":"IF(I132=\"\",\"\",IF(N132=\"П\",R131+1,R131))","v":""},{"$f":"IF(I132=\"\",\"\",S131+L132)","v":""},{"$f":"IF(I132=\"\",\"\",T131+M132)","v":""},"",{"$f":"IF(I132=\"\",\"\",IF(I132=\"Дома\",V131+1,V131+0))","v":""},{"$f":"IF(I132=\"\",\"\",IF(I132=\"Дома\",IF(N132=\"В\",W131+1,W131),W131))","v":""},{"$f":"IF(I132=\"\",\"\",IF(I132=\"Дома\",IF(N132=\"Н\",X131+1,X131),X131))","v":""},{"$f":"IF(I132=\"\",\"\",IF(I132=\"Дома\",IF(N132=\"П\",Y131+1,Y131),Y131))","v":""},{"$f":"IF(I132=\"\",\"\",IF(I132=\"Дома\",L132+Z131,Z131))","v":""},{"$f":"IF(I132=\"\",\"\",IF(I132=\"Дома\",M132+AA131,AA131))","v":""},{"$f":"IF(I132=\"\",\"\",IF(I132=\"Дома\",W132*3+X132,AB131))","v":""},{"$f":"IF(I132=\"\",\"\",IF(I132=\"Гости\",AC131+1,AC131+0))","v":""},{"$f":"IF(I132=\"\",\"\",IF(I132=\"Гости\",IF(N132=\"В\",AD131+1,AD131),AD131))","v":""},{"$f":"IF(I132=\"\",\"\",IF(I132=\"Гости\",IF(N132=\"Н\",AE131+1,AE131),AE131))","v":""},{"$f":"IF(I132=\"\",\"\",IF(I132=\"Гости\",IF(N132=\"П\",AF131+1,AF131),AF131))","v":""},{"$f":"IF(I132=\"\",\"\",IF(I132=\"Гости\",L132+AG131,AG131))","v":""},{"$f":"IF(I132=\"\",\"\",IF(I132=\"Гости\",M132+AH131,AH131))","v":""},{"$f":"IF(I132=\"\",\"\",IF(I132=\"Гости\",AD132*3+AE132,AI131))","v":""}]
[null,null,null,null,null,null,null,null,null,"","","","","","","","","","","","","","","","","","","","","","","","","",""]
[null,null,null,null,null,null,null,null,null,"","","","","","","","","","","","","","","","","","","","","","","","","",""]
[null,null,null,null,null,null,null,null,null,"","","","","","","","","","","","","","","","","","","","","","","","","",""]
[null,null,null,null,null,null,null,null,null,"","","","","","","","","","","","","","","","","","","","","","","","","",""]
[null,null,null,null,null,null,null,null,null,"","","","","","","","","","","","","","","","","","","","","","","","","",""]
[null,null,null,null,null,null,null,null,null,"","","","",{"$f":"IF(I138=\"\",\"\",IF(I138=\"Дома\",IF(J138>K138,\"В\",IF(J138=K138,\"Н\",\"П\")),IF(J138<K138,\"В\",IF(J138=K138,\"Н\",\"П\"))))","v":""},"","","","","","","","","","","","","","","","","","","","",""]
[null,null,null,null,null,null,null,null,null,"","","","","","","","","","","","","","","","","","","","","","","","","",""]
[null,null,null,null,null,null,null,null,null,"","","","","","","","","","","","","","","","","","","","","","","","","",""]
[null,null,null,null,null,null,null,null,null,"","","","","","","","","","","","","","","","","","","","","","","","","",""]
[null,null,null,null,null,null,null,null,null,"","","","","","","","","","","","","","","","","","","","","","","","","",""]
[null,null,null,null,null,null,null,null,null,"","","","","","","","","","","","","","","","","","","","","","","","","",""]
[null,null,null,null,null,null,null,null,null,"","","","","","","","","","","","","","","","","","","","","","","","","",""]
[null,null,null,null,null,null,null,null,null,"","","","","","","","","","","","","","","","","","","","","","","","","",""]
[null,null,null,null,null,null,null,null,null,"","","","","","","","","","","","","","","","","","","","","","","","","",""]
[null,null,null,null,null,null,null,null,null,"","","","","","","","","","","","","","","","","","","","","","","","","",""]
[null,null,null,null,null,null,null,null,null,"","","","","","","","","","","","","","","","","","","","","","","","","",""]
[null,null,null,null,null,null,null,null,null,"","","","","","","","","","","","","","","","","","","","","","","","","",""]
[null,null,null,null,null,null,null,null,null,"","","","","","","","","","","","","","","","","","","","","","","","","",""]

{"sheet":"ГостиДома","index":25,"n_rows":150,"n_cols":35,"rows_kept":150,"cut":false,"hidden":true,"merged":[]}
["Чемпионат","Дата/Время","Дома","Гости","К1 в 1Т","К2 в 1Т","К1 во 2Т","К2 во 2Т","Где играли","К1 Голов","К2 Голов","Забито","Пропущено","Результат","Всего Игр","Всего выиграно","Всего ничьих","Всего проиграно","Всего забито","Всего пропущено","Всего очков","Дома игр","Дома выиграно","Дома ничьих","Дома проиграно","Дома забито","Дома пропущено","Дома очков","Гости игр","Гости выиграно","Гости ничьих","Гости проиграно","Гости забито","Гости пропущено","Гости очков"]
["CHILE: Primera Division","2021.04.12 02:00","Colo Colo","O'Higgins",1,1,0,1,"Дома",{"$f":"IF(I2=\"\",\"\",E2+G2)","v":1},{"$f":"IF(I2=\"\",\"\",F2+H2)","v":2},{"$f":"IF(I2=\"\",\"\",IF(I2=\"Дома\",J2,K2))","v":1},{"$f":"IF(I2=\"\",\"\",IF(I2=\"Дома\",K2,J2))","v":2},{"$f":"IF(I2=\"\",\"\",IF(I2=\"Дома\",IF(J2>K2,\"В\",IF(J2=K2,\"Н\",\"П\")),IF(J2<K2,\"В\",IF(J2=K2,\"Н\",\"П\"))))","v":"П"},{"$f":"IF(I2=\"\",\"\",1)","v":1},{"$f":"IF(I2=\"\",\"\",IF(N2=\"В\",1,0))","v":0},{"$f":"IF(I2=\"\",\"\",IF(N2=\"Н\",1,0))","v":0},{"$f":"IF(I2=\"\",\"\",IF(N2=\"П\",1,0))","v":1},{"$f":"IF(I2=\"\",\"\",L2)","v":1},{"$f":"IF(I2=\"\",\"\",M2)","v":2},{"$f":"IF(I2=\"\",\"\",P2*3+Q2)","v":0},{"$f":"IF(I2=\"\",\"\",IF(I2=\"Дома\",1,0))","v":1},{"$f":"IF(I2=\"\",\"\",IF(I2=\"Дома\",IF(N2=\"В\",1,0),0))","v":0},{"$f":"IF(I2=\"\",\"\",IF(I2=\"Дома\",IF(N2=\"Н\",1,0),0))","v":0},{"$f":"IF(I2=\"\",\"\",IF(I2=\"Дома\",IF(N2=\"П\",1,0),0))","v":1},{"$f":"IF(I2=\"\",\"\",IF(I2=\"Дома\",L2,0))","v":1},{"$f":"IF(I2=\"\",\"\",IF(I2=\"Дома\",M2,0))","v":2},{"$f":"IF(I2=\"\",\"\",IF(I2=\"Дома\",W2*3+X2,0))","v":0},{"$f":"IF(I2=\"\",\"\",IF(I2=\"Гости\",1,0))","v":0},{"$f":"IF(I2=\"\",\"\",IF(I2=\"Гости\",IF(N2=\"В\",1,0),0))","v":0},{"$f":"IF(I2=\"\",\"\",IF(I2=\"Гости\",IF(N2=\"Н\",1,0),0))","v":0},{"$f":"IF(I2=\"\",\"\",IF(I2=\"Гости\",IF(N2=\"П\",1,0),0))","v":0},{"$f":"IF(I2=\"\",\"\",IF(I2=\"Гости\",L2,0))","v":0},{"$f":"IF(I2=\"\",\"\",IF(I2=\"Гости\",M2,0))","v":0},{"$f":"IF(I2=\"\",\"\",IF(I2=\"Гости\",AD2*3+AE2,0))","v":0}]
["CHILE: Primera Division","2021.03.27 23:30","Colo Colo","Union La Calera",0,0,0,0,"Дома",{"$f":"IF(I3=\"\",\"\",E3+G3)","v":0},{"$f":"IF(I3=\"\",\"\",F3+H3)","v":0},{"$f":"IF(I3=\"\",\"\",IF(I3=\"Дома\",J3,K3))","v":0},{"$f":"IF(I3=\"\",\"\",IF(I3=\"Дома\",K3,J3))","v":0},{"$f":"IF(I3=\"\",\"\",IF(I3=\"Дома\",IF(J3>K3,\"В\",IF(J3=K3,\"Н\",\"П\")),IF(J3<K3,\"В\",IF(J3=K3,\"Н\",\"П\"))))","v":"Н"},{"$f":"IF(I3=\"\",\"\",O2+1)","v":2},{"$f":"IF(I3=\"\",\"\",IF(N3=\"В\",P2+1,P2))","v":0},{"$f":"IF(I3=\"\",\"\",IF(N3=\"Н\",Q2+1,Q2))","v":1},{"$f":"IF(I3=\"\",\"\",IF(N3=\"П\",R2+1,R2))","v":1},{"$f":"IF(I3=\"\",\"\",S2+L3)","v":1},{"$f":"IF(I3=\"\",\"\",T2+M3)","v":2},{"$f":"IF(I3=\"\",\"\",P3*3+Q3)","v":1},{"$f":"IF(I3=\"\",\"\",IF(I3=\"Дома\",V2+1,V2+0))","v":2},{"$f":"IF(I3=\"\",\"\",IF(I3=\"Дома\",IF(N3=\"В\",W2+1,W2),W2))","v":0},{"$f":"IF(I3=\"\",\"\",IF(I3=\"Дома\",IF(N3=\"Н\",X2+1,X2),X2))","v":1},{"$f":"IF(I3=\"\",\"\",IF(I3=\"Дома\",IF(N3=\"П\",Y2+1,Y2),Y2))","v":1},{"$f":"IF(I3=\"\",\"\",IF(I3=\"Дома\",L3+Z2,Z2))","v":1},{"$f":"IF(I3=\"\",\"\",IF(I3=\"Дома\",M3+AA2,AA2))","v":2},{"$f":"IF(I3=\"\",\"\",IF(I3=\"Дома\",W3*3+X3,AB2))","v":1},{"$f":"IF(I3=\"\",\"\",IF(I3=\"Гости\",AC2+1,AC2+0))","v":0},{"$f":"IF(I3=\"\",\"\",IF(I3=\"Гости\",IF(N3=\"В\",AD2+1,AD2),AD2))","v":0},{"$f":"IF(I3=\"\",\"\",IF(I3=\"Гости\",IF(N3=\"Н\",AE2+1,AE2),AE2))","v":0},{"$f":"IF(I3=\"\",\"\",IF(I3=\"Гости\",IF(N3=\"П\",AF2+1,AF2),AF2))","v":0},{"$f":"IF(I3=\"\",\"\",IF(I3=\"Гости\",L3+AG2,AG2))","v":0},{"$f":"IF(I3=\"\",\"\",IF(I3=\"Гости\",M3+AH2,AH2))","v":0},{"$f":"IF(I3=\"\",\"\",IF(I3=\"Гости\",AD3*3+AE3,AI2))","v":0}]
["CHILE: Primera Division - Relegation - Play Offs","2021.02.17 23:00","Colo Colo","U. De Concepcion",1,0,0,0,"Дома",1,0,1,0,"В",3,{"$f":"IF(I4=\"\",\"\",IF(N4=\"В\",P3+1,P3))","v":1},{"$f":"IF(I4=\"\",\"\",IF(N4=\"Н\",Q3+1,Q3))","v":1},{"$f":"IF(I4=\"\",\"\",IF(N4=\"П\",R3+1,R3))","v":1},{"$f":"IF(I4=\"\",\"\",S3+L4)","v":2},{"$f":"IF(I4=\"\",\"\",T3+M4)","v":2},4,{"$f":"IF(I4=\"\",\"\",IF(I4=\"Дома\",V3+1,V3+0))","v":3},{"$f":"IF(I4=\"\",\"\",IF(I4=\"Дома\",IF(N4=\"В\",W3+1,W3),W3))","v":1},{"$f":"IF(I4=\"\",\"\",IF(I4=\"Дома\",IF(N4=\"Н\",X3+1,X3),X3))","v":1},{"$f":"IF(I4=\"\",\"\",IF(I4=\"Дома\",IF(N4=\"П\",Y3+1,Y3),Y3))","v":1},{"$f":"IF(I4=\"\",\"\",IF(I4=\"Дома\",L4+Z3,Z3))","v":2},{"$f":"IF(I4=\"\",\"\",IF(I4=\"Дома\",M4+AA3,AA3))","v":2},{"$f":"IF(I4=\"\",\"\",IF(I4=\"Дома\",W4*3+X4,AB3))","v":4},{"$f":"IF(I4=\"\",\"\",IF(I4=\"Гости\",AC3+1,AC3+0))","v":0},{"$f":"IF(I4=\"\",\"\",IF(I4=\"Гости\",IF(N4=\"В\",AD3+1,AD3),AD3))","v":0},{"$f":"IF(I4=\"\",\"\",IF(I4=\"Гости\",IF(N4=\"Н\",AE3+1,AE3),AE3))","v":0},{"$f":"IF(I4=\"\",\"\",IF(I4=\"Гости\",IF(N4=\"П\",AF3+1,AF3),AF3))","v":0},{"$f":"IF(I4=\"\",\"\",IF(I4=\"Гости\",L4+AG3,AG3))","v":0},{"$f":"IF(I4=\"\",\"\",IF(I4=\"Гости\",M4+AH3,AH3))","v":0},{"$f":"IF(I4=\"\",\"\",IF(I4=\"Гости\",AD4*3+AE4,AI3))","v":0}]
["CHILE: Primera Division","2021.02.11 23:30","Colo Colo","Cobresal",0,0,0,0,"Дома",0,0,0,0,"Н",4,1,2,1,2,2,5,4,1,2,1,2,2,5,0,0,0,0,0,0,0]
["CHILE: Primera Division","2021.01.31 23:30","Colo Colo","Union La Calera",0,1,2,0,"Дома",2,1,2,1,"В",5,2,2,1,4,3,8,5,2,2,1,4,3,8,0,0,0,0,0,0,0]
["CHILE: Primera Division","2021.01.23 23:00","Colo Colo","Coquimbo",1,1,1,0,"Дома",2,1,2,1,"В",6,3,2,1,6,4,11,6,3,2,1,6,4,11,0,0,0,0,0,0,0]
["CHILE: Primera Division","2021.01.17 23:00","Colo Colo","U. De Chile",0,0,0,0,"Дома",0,0,0,0,"Н",7,3,3,1,6,4,12,7,3,3,1,6,4,12,0,0,0,0,0,0,0]
["CHILE: Primera Division","2021.01.10 23:30","Colo Colo","Everton",1,0,0,0,"Дома",1,0,1,0,{"$f":"IF(I9=\"\",\"\",IF(I9=\"Дома\",IF(J9>K9,\"В\",IF(J9=K9,\"Н\",\"П\")),IF(J9<K9,\"В\",IF(J9=K9,\"Н\",\"П\"))))","v":"В"},8,4,3,1,7,4,15,8,4,3,1,7,4,15,0,0,0,0,0,0,0]
["CHILE: Primera Division","2020.12.08 23:30","Colo Colo","La Serena",0,1,0,1,"Дома",0,2,0,2,{"$f":"IF(I10=\"\",\"\",IF(I10=\"Дома\",IF(J10>K10,\"В\",IF(J10=K10,\"Н\",\"П\")),IF(J10<K10,\"В\",IF(J10=K10,\"Н\",\"П\"))))","v":"П"},9,4,3,2,7,6,15,9,4,3,2,7,6,15,0,0,0,0,0,0,0]
["CHILE: Primera Division","2020.11.25 23:00","Colo Colo","Curico Unido",0,1,0,1,"Дома",0,2,0,2,"П",10,4,3,3,7,8,15,10,4,3,3,7,8,15,0,0,0,0,0,0,0]
["CHILE: Primera Division","2020.11.19 23:30","Colo Colo","A. Italiano",0,0,1,0,"Дома",1,0,1,0,"В",11,5,3,3,8,8,{"$f":"IF(I12=\"\",\"\",P12*3+Q12)","v":18},11,5,3,3,8,8,18,0,0,0,0,0,0,0]
["CHILE: Primera Division","2020.11.10 16:00","Colo Colo","Antofagasta",0,0,1,0,"Дома",1,0,1,0,"В",12,6,3,3,9,8,21,12,6,3,3,9,8,21,0,0,0,0,0,0,0]
["CHILE: Primera Division","2020.10.31 16:00","Colo Colo","Deportes Iquique",0,2,0,0,"Дома",0,2,0,2,"П",13,6,3,4,9,10,21,13,6,3,4,9,10,21,0,0,0,0,0,0,0]
["SOUTH AMERICA: Copa Libertadores","2020.10.21 02:30","Colo Colo","Wilstermann",0,0,0,1,"Дома",0,1,0,1,"П",14,6,3,5,9,11,21,14,6,3,5,9,11,21,0,0,0,0,0,0,0]
["CHILE: Primera Division","2020.10.14 23:30","Colo Colo","U. Espanola",3,2,0,3,"Дома",3,5,3,5,"П",15,6,3,6,12,16,21,15,6,3,6,12,16,21,0,0,0,0,0,0,0]
["CHILE: Primera Division","2020.10.03 23:30","Colo Colo","Huachipato",0,0,0,1,"Дома",0,1,0,1,"П",16,6,3,7,12,17,21,16,6,3,7,12,17,21,0,0,0,0,0,0,0]
["SOUTH AMERICA: Copa Libertadores","2020.09.16 00:15","Colo Colo","Penarol",0,1,2,0,"Дома",2,1,2,1,"В",17,7,3,7,14,18,24,17,7,3,7,14,18,24,0,0,0,0,0,0,0]
["CHILE: Primera Division","2020.09.09 21:00","Colo Colo","O'Higgins",0,1,0,0,"Дома",0,1,0,1,"П",18,7,3,8,14,19,24,18,7,3,8,14,19,24,0,0,0,0,0,0,0]
["CHILE: Primera Division","2020.08.29 19:30","Colo Colo","S. Wanderers",1,1,1,2,"Дома",2,3,2,3,"П",19,7,3,9,16,22,24,19,7,3,9,16,22,24,0,0,0,0,0,0,0]
["SOUTH AMERICA: Copa Libertadores","2020.03.12 00:15","Colo Colo","Athletico-PR",1,0,0,0,"Дома",1,0,1,0,"В",20,8,3,9,17,22,27,20,8,3,9,17,22,27,0,0,0,0,0,0,0]
["CHILE: Primera Division","2020.02.29 23:00","Colo Colo","U. De Concepcion",2,0,0,2,"Дома",2,2,2,2,"Н",21,8,4,9,19,24,28,21,8,4,9,19,24,28,0,0,0,0,0,0,0]
[null,null,null,null,null,null,null,null,null,"","","","","","","","","","","","","","","","","","","","","","","","","",""]
[null,null,null,null,null,null,null,null,null,"","","","","","","","","","","","","","","","","","","","","","","","","",""]
[null,null,null,null,null,null,null,null,null,"","","","","","","","","","","","","","","","","","","","","","","","","",""]
[null,null,null,null,null,null,null,null,null,"","","","","","","","","","","","","","","","","","","","","","","","","",""]
[null,null,null,null,null,null,null,null,null,"","","","","","","","","","","","","","","","","","","","","","","","","",""]
[null,null,null,null,null,null,null,null,null,"","","","","","","","","","","","","","","","","","","","","","","","","",""]
[null,null,null,null,null,null,null,null,null,"","","","","","","","","","","","","","","","","","","","","","","","","",""]
[null,null,null,null,null,null,null,null,null,"","","","","","","","","","","","","","","","","","","","","","","","","",""]
[null,null,null,null,null,null,null,null,null,"","","","","","","","","","","","","","","","","","","","","","","","","",""]
[null,null,null,null,null,null,null,null,null,"","","","","","","","","","","","","","","","","","","","","","","","","",""]
[null,null,null,null,null,null,null,null,null,"","","","","","","","","","","","","","","","","","","","","","","","","",""]
[null,null,null,null,null,null,null,null,null,"","","","","","","","","","","","","","","","","","","","","","","","","",""]
[null,null,null,null,null,null,null,null,null,"","","","","","","","","","","","","","","","","","","","","","","","","",""]
[null,null,null,null,null,null,null,null,null,"","","","","","","","","","","","","","","","","","","","","","","","","",""]
[null,null,null,null,null,null,null,null,null,"","","","","","","","","","","","","","","","","","","","","","","","","",""]
[null,null,null,null,null,null,null,null,null,"","","","","","","","","","","","","","","","","","","","","","","","","",""]
[null,null,null,null,null,null,null,null,null,"","","","","","","","","","","","","","","","","","","","","","","","","",""]
[null,null,null,null,null,null,null,null,null,"","","","","","","","","","","","","","","","","","","","","","","","","",""]
[null,null,null,null,null,null,null,null,null,"","","","","","","","","","","","","","","","","","","","","","","","","",""]
[null,null,null,null,null,null,null,null,null,"","","","","","","","","","","","","","","","","","","","","","","","","",""]
[null,null,null,null,null,null,null,null,null,"","","","","","","","","","","","","","","","","","","","","","","","","",""]
[null,null,null,null,null,null,null,null,null,"","","","","","","","","","","","","","","","","","","","","","","","","",""]
[null,null,null,null,null,null,null,null,null,"","","","","","","","","","","","","","","","","","","","","","","","","",""]
[null,null,null,null,null,null,null,null,null,"","","","","","","","","","","","","","","","","","","","","","","","","",""]
[null,null,null,null,null,null,null,null,null,"","","","","","","","","","","","","","","","","","","","","","","","","",""]
[null,null,null,null,null,null,null,null,null,"","","","","","","","","","","","","","","","","","","","","","","","","",""]
[null,null,null,null,null,null,null,null,null,"","","","","","","","","","","","","","","","","","","","","","","","","",""]
[null,null,null,null,null,null,null,null,null,"","","","","","","","","","","","","","","","","","","","","","","","","",""]
[null,null,null,null,null,null,null,null,null,"","","","","","","","","","","","","","","","","","","","","","","","","",""]
[null,null,null,null,null,null,null,null,null,"","","","","","","","","","","","","","","","","","","","","","","","","",""]
[null,null,null,null,null,null,null,null,null,"","","","","","","","","","","","","","","","","","","","","","","","","",""]
[null,null,null,null,null,null,null,null,null,"","","","","","","","","","","","","","","","","","","","","","","","","",""]
[null,null,null,null,null,null,null,null,null,"","","","","","","","","","","","","","","","","","","","","","","","","",""]
[null,null,null,null,null,null,null,null,null,"","","","","","","","","","","","","","","","","","","","","","","","","",""]
[null,null,null,null,null,null,null,null,null,"","","","","","","","","","","","","","","","","","","","","","","","","",""]
[null,null,null,null,null,null,null,null,null,"","","","","","","","","","","","","","","","","","","","","","","","","",""]
[null,null,null,null,null,null,null,null,null,"","","","","","","","","","","","","","","","","","","","","","","","","",""]
[null,null,null,null,null,null,null,null,null,"","","","","","","","","","","","","","","","","","","","","","","","","",""]
[null,null,null,null,null,null,null,null,null,"","","","","","","","","","","","","","","","","","","","","","","","","",""]
[null,null,null,null,null,null,null,null,null,"","","","","","","","","","","","","","","","","","","","","","","","","",""]
[null,null,null,null,null,null,null,null,null,"","","","","","","","","","","","","","","","","","","","","","","","","",""]
[null,null,null,null,null,null,null,null,null,"","","","","","","","","","","","","","","","","","","","","","","","","",""]
[null,null,null,null,null,null,null,null,null,"","","","","","","","","","","","","","","","","","","","","","","","","",""]
[null,null,null,null,null,null,null,null,null,"","","","","","","","","","","","","","","","","","","","","","","","","",""]
[null,null,null,null,null,null,null,null,null,{"$f":"IF(I67=\"\",\"\",E67+G67)","v":""},{"$f":"IF(I67=\"\",\"\",F67+H67)","v":""},{"$f":"IF(I67=\"\",\"\",IF(I67=\"Дома\",J67,K67))","v":""},{"$f":"IF(I67=\"\",\"\",IF(I67=\"Дома\",K67,J67))","v":""},"",{"$f":"IF(I67=\"\",\"\",O66+1)","v":""},"","","","","",{"$f":"IF(I67=\"\",\"\",P67*3+Q67)","v":""},"","","","","","","","","","","","","",""]
[null,null,null,null,null,null,null,null,null,"","","","","","",{"$f":"IF(I68=\"\",\"\",IF(N68=\"В\",P67+1,P67))","v":""},{"$f":"IF(I68=\"\",\"\",IF(N68=\"Н\",Q67+1,Q67))","v":""},{"$f":"IF(I68=\"\",\"\",IF(N68=\"П\",R67+1,R67))","v":""},{"$f":"IF(I68=\"\",\"\",S67+L68)","v":""},{"$f":"IF(I68=\"\",\"\",T67+M68)","v":""},"",{"$f":"IF(I68=\"\",\"\",IF(I68=\"Дома\",V67+1,V67+0))","v":""},{"$f":"IF(I68=\"\",\"\",IF(I68=\"Дома\",IF(N68=\"В\",W67+1,W67),W67))","v":""},{"$f":"IF(I68=\"\",\"\",IF(I68=\"Дома\",IF(N68=\"Н\",X67+1,X67),X67))","v":""},{"$f":"IF(I68=\"\",\"\",IF(I68=\"Дома\",IF(N68=\"П\",Y67+1,Y67),Y67))","v":""},{"$f":"IF(I68=\"\",\"\",IF(I68=\"Дома\",L68+Z67,Z67))","v":""},{"$f":"IF(I68=\"\",\"\",IF(I68=\"Дома\",M68+AA67,AA67))","v":""},{"$f":"IF(I68=\"\",\"\",IF(I68=\"Дома\",W68*3+X68,AB67))","v":""},{"$f":"IF(I68=\"\",\"\",IF(I68=\"Гости\",AC67+1,AC67+0))","v":""},{"$f":"IF(I68=\"\",\"\",IF(I68=\"Гости\",IF(N68=\"В\",AD67+1,AD67),AD67))","v":""},{"$f":"IF(I68=\"\",\"\",IF(I68=\"Гости\",IF(N68=\"Н\",AE67+1,AE67),AE67))","v":""},{"$f":"IF(I68=\"\",\"\",IF(I68=\"Гости\",IF(N68=\"П\",AF67+1,AF67),AF67))","v":""},{"$f":"IF(I68=\"\",\"\",IF(I68=\"Гости\",L68+AG67,AG67))","v":""},{"$f":"IF(I68=\"\",\"\",IF(I68=\"Гости\",M68+AH67,AH67))","v":""},{"$f":"IF(I68=\"\",\"\",IF(I68=\"Гости\",AD68*3+AE68,AI67))","v":""}]
[null,null,null,null,null,null,null,null,null,"","","","","","","","","","","","","","","","","","","","","","","","","",""]
[null,null,null,null,null,null,null,null,null,"","","","","","","","","","","","","","","","","","","","","","","","","",""]
[null,null,null,null,null,null,null,null,null,"","","","","","","","","","","","","","","","","","","","","","","","","",""]
[null,null,null,null,null,null,null,null,null,"","","","","","","","","","","","","","","","","","","","","","","","","",""]
[null,null,null,null,null,null,null,null,null,"","","","","","","","","","","","","","","","","","","","","","","","","",""]
[null,null,null,null,null,null,null,null,null,"","","","",{"$f":"IF(I74=\"\",\"\",IF(I74=\"Дома\",IF(J74>K74,\"В\",IF(J74=K74,\"Н\",\"П\")),IF(J74<K74,\"В\",IF(J74=K74,\"Н\",\"П\"))))","v":""},"","","","","","","","","","","","","","","","","","","","",""]
[null,null,null,null,null,null,null,null,null,"","","","","","","","","","","","","","","","","","","","","","","","","",""]
[null,null,null,null,null,null,null,null,null,"","","","","","","","","","","","","","","","","","","","","","","","","",""]
[null,null,null,null,null,null,null,null,null,"","","","","","","","","","","","","","","","","","","","","","","","","",""]
[null,null,null,null,null,null,null,null,null,"","","","","","","","","","","","","","","","","","","","","","","","","",""]
[null,null,null,null,null,null,null,null,null,"","","","","","","","","","","","","","","","","","","","","","","","","",""]
[null,null,null,null,null,null,null,null,null,"","","","","","","","","","","","","","","","","","","","","","","","","",""]
[null,null,null,null,null,null,null,null,null,"","","","","","","","","","","","","","","","","","","","","","","","","",""]
[null,null,null,null,null,null,null,null,null,"","","","","","","","","","","","","","","","","","","","","","","","","",""]
[null,null,null,null,null,null,null,null,null,"","","","","","","","","","","","","","","","","","","","","","","","","",""]
[null,null,null,null,null,null,null,null,null,"","","","","","","","","","","","","","","","","","","","","","","","","",""]
[null,null,null,null,null,null,null,null,null,"","","","","","","","","","","","","","","","","","","","","","","","","",""]
[null,null,null,null,null,null,null,null,null,"","","","","","","","","","","","","","","","","","","","","","","","","",""]
[null,null,null,null,null,null,null,null,null,"","","","","","","","","","","","","","","","","","","","","","","","","",""]
[null,null,null,null,null,null,null,null,null,"","","","","","","","","","","","","","","","","","","","","","","","","",""]
[null,null,null,null,null,null,null,null,null,"","","","","","","","","","","","","","","","","","","","","","","","","",""]
[null,null,null,null,null,null,null,null,null,"","","","","","","","","","","","","","","","","","","","","","","","","",""]
[null,null,null,null,null,null,null,null,null,"","","","","","","","","","","","","","","","","","","","","","","","","",""]
[null,null,null,null,null,null,null,null,null,"","","","","","","","","","","","","","","","","","","","","","","","","",""]
[null,null,null,null,null,null,null,null,null,"","","","","","","","","","","","","","","","","","","","","","","","","",""]
[null,null,null,null,null,null,null,null,null,"","","","","","","","","","","","","","","","","","","","","","","","","",""]
[null,null,null,null,null,null,null,null,null,"","","","","","","","","","","","","","","","","","","","","","","","","",""]
[null,null,null,null,null,null,null,null,null,"","","","","","","","","","","","","","","","","","","","","","","","","",""]
[null,null,null,null,null,null,null,null,null,"","","","","","","","","","","","","","","","","","","","","","","","","",""]
[null,null,null,null,null,null,null,null,null,"","","","","","","","","","","","","","","","","","","","","","","","","",""]
[null,null,null,null,null,null,null,null,null,"","","","","","","","","","","","","","","","","","","","","","","","","",""]
[null,null,null,null,null,null,null,null,null,"","","","","","","","","","","","","","","","","","","","","","","","","",""]
[null,null,null,null,null,null,null,null,null,"","","","","","","","","","","","","","","","","","","","","","","","","",""]
[null,null,null,null,null,null,null,null,null,"","","","","","","","","","","","","","","","","","","","","","","","","",""]
[null,null,null,null,null,null,null,null,null,"","","","","","","","","","","","","","","","","","","","","","","","","",""]
[null,null,null,null,null,null,null,null,null,"","","","","","","","","","","","","","","","","","","","","","","","","",""]
[null,null,null,null,null,null,null,null,null,"","","","","","","","","","","","","","","","","","","","","","","","","",""]
[null,null,null,null,null,null,null,null,null,"","","","","","","","","","","","","","","","","","","","","","","","","",""]
[null,null,null,null,null,null,null,null,null,"","","","","","","","","","","","","","","","","","","","","","","","","",""]
[null,null,null,null,null,null,null,null,null,"","","","","","","","","","","","","","","","","","","","","","","","","",""]
[null,null,null,null,null,null,null,null,null,"","","","","","","","","","","","","","","","","","","","","","","","","",""]
[null,null,null,null,null,null,null,null,null,"","","","","","","","","","","","","","","","","","","","","","","","","",""]
[null,null,null,null,null,null,null,null,null,"","","","","","","","","","","","","","","","","","","","","","","","","",""]
[null,null,null,null,null,null,null,null,null,"","","","","","","","","","","","","","","","","","","","","","","","","",""]
[null,null,null,null,null,null,null,null,null,"","","","","","","","","","","","","","","","","","","","","","","","","",""]
[null,null,null,null,null,null,null,null,null,"","","","","","","","","","","","","","","","","","","","","","","","","",""]
[null,null,null,null,null,null,null,null,null,"","","","","","","","","","","","","","","","","","","","","","","","","",""]
[null,null,null,null,null,null,null,null,null,"","","","","","","","","","","","","","","","","","","","","","","","","",""]
[null,null,null,null,null,null,null,null,null,"","","","","","","","","","","","","","","","","","","","","","","","","",""]
[null,null,null,null,null,null,null,null,null,"","","","","","","","","","","","","","","","","","","","","","","","","",""]
[null,null,null,null,null,null,null,null,null,"","","","","","","","","","","","","","","","","","","","","","","","","",""]
[null,null,null,null,null,null,null,null,null,"","","","","","","","","","","","","","","","","","","","","","","","","",""]
[null,null,null,null,null,null,null,null,null,"","","","","","","","","","","","","","","","","","","","","","","","","",""]
[null,null,null,null,null,null,null,null,null,"","","","","","","","","","","","","","","","","","","","","","","","","",""]
[null,null,null,null,null,null,null,null,null,"","","","","","","","","","","","","","","","","","","","","","","","","",""]
[null,null,null,null,null,null,null,null,null,"","","","","","","","","","","","","","","","","","","","","","","","","",""]
[null,null,null,null,null,null,null,null,null,"","","","","","","","","","","","","","","","","","","","","","","","","",""]
[null,null,null,null,null,null,null,null,null,"","","","","","","","","","","","","","","","","","","","","","","","","",""]
[null,null,null,null,null,null,null,null,null,"","","","","","","","","","","","","","","","","","","","","","","","","",""]
[null,null,null,null,null,null,null,null,null,"","","","","","","","","","","","","","","","","","","","","","","","","",""]
[null,null,null,null,null,null,null,null,null,"","","","","","","","","","","","","","","","","","","","","","","","","",""]
[null,null,null,null,null,null,null,null,null,"","","","","","","","","","","","","","","","","","","","","","","","","",""]
[null,null,null,null,null,null,null,null,null,{"$f":"IF(I131=\"\",\"\",E131+G131)","v":""},{"$f":"IF(I131=\"\",\"\",F131+H131)","v":""},{"$f":"IF(I131=\"\",\"\",IF(I131=\"Дома\",J131,K131))","v":""},{"$f":"IF(I131=\"\",\"\",IF(I131=\"Дома\",K131,J131))","v":""},"",{"$f":"IF(I131=\"\",\"\",O130+1)","v":""},"","","","","",{"$f":"IF(I131=\"\",\"\",P131*3+Q131)","v":""},"","","","","","","","","","","","","",""]
[null,null,null,null,null,null,null,null,null,"","","","","","",{"$f":"IF(I132=\"\",\"\",IF(N132=\"В\",P131+1,P131))","v":""},{"$f":"IF(I132=\"\",\"\",IF(N132=\"Н\",Q131+1,Q131))","v":""},{"$f":"IF(I132=\"\",\"\",IF(N132=\"П\",R131+1,R131))","v":""},{"$f":"IF(I132=\"\",\"\",S131+L132)","v":""},{"$f":"IF(I132=\"\",\"\",T131+M132)","v":""},"",{"$f":"IF(I132=\"\",\"\",IF(I132=\"Дома\",V131+1,V131+0))","v":""},{"$f":"IF(I132=\"\",\"\",IF(I132=\"Дома\",IF(N132=\"В\",W131+1,W131),W131))","v":""},{"$f":"IF(I132=\"\",\"\",IF(I132=\"Дома\",IF(N132=\"Н\",X131+1,X131),X131))","v":""},{"$f":"IF(I132=\"\",\"\",IF(I132=\"Дома\",IF(N132=\"П\",Y131+1,Y131),Y131))","v":""},{"$f":"IF(I132=\"\",\"\",IF(I132=\"Дома\",L132+Z131,Z131))","v":""},{"$f":"IF(I132=\"\",\"\",IF(I132=\"Дома\",M132+AA131,AA131))","v":""},{"$f":"IF(I132=\"\",\"\",IF(I132=\"Дома\",W132*3+X132,AB131))","v":""},{"$f":"IF(I132=\"\",\"\",IF(I132=\"Гости\",AC131+1,AC131+0))","v":""},{"$f":"IF(I132=\"\",\"\",IF(I132=\"Гости\",IF(N132=\"В\",AD131+1,AD131),AD131))","v":""},{"$f":"IF(I132=\"\",\"\",IF(I132=\"Гости\",IF(N132=\"Н\",AE131+1,AE131),AE131))","v":""},{"$f":"IF(I132=\"\",\"\",IF(I132=\"Гости\",IF(N132=\"П\",AF131+1,AF131),AF131))","v":""},{"$f":"IF(I132=\"\",\"\",IF(I132=\"Гости\",L132+AG131,AG131))","v":""},{"$f":"IF(I132=\"\",\"\",IF(I132=\"Гости\",M132+AH131,AH131))","v":""},{"$f":"IF(I132=\"\",\"\",IF(I132=\"Гости\",AD132*3+AE132,AI131))","v":""}]
[null,null,null,null,null,null,null,null,null,"","","","","","","","","","","","","","","","","","","","","","","","","",""]
[null,null,null,null,null,null,null,null,null,"","","","","","","","","","","","","","","","","","","","","","","","","",""]
[null,null,null,null,null,null,null,null,null,"","","","","","","","","","","","","","","","","","","","","","","","","",""]
[null,null,null,null,null,null,null,null,null,"","","","","","","","","","","","","","","","","","","","","","","","","",""]
[null,null,null,null,null,null,null,null,null,"","","","","","","","","","","","","","","","","","","","","","","","","",""]
[null,null,null,null,null,null,null,null,null,"","","","",{"$f":"IF(I138=\"\",\"\",IF(I138=\"Дома\",IF(J138>K138,\"В\",IF(J138=K138,\"Н\",\"П\")),IF(J138<K138,\"В\",IF(J138=K138,\"Н\",\"П\"))))","v":""},"","","","","","","","","","","","","","","","","","","","",""]
[null,null,null,null,null,null,null,null,null,"","","","","","","","","","","","","","","","","","","","","","","","","",""]
[null,null,null,null,null,null,null,null,null,"","","","","","","","","","","","","","","","","","","","","","","","","",""]
[null,null,null,null,null,null,null,null,null,"","","","","","","","","","","","","","","","","","","","","","","","","",""]
[null,null,null,null,null,null,null,null,null,"","","","","","","","","","","","","","","","","","","","","","","","","",""]
[null,null,null,null,null,null,null,null,null,"","","","","","","","","","","","","","","","","","","","","","","","","",""]
[null,null,null,null,null,null,null,null,null,"","","","","","","","","","","","","","","","","","","","","","","","","",""]
[null,null,null,null,null,null,null,null,null,"","","","","","","","","","","","","","","","","","","","","","","","","",""]
[null,null,null,null,null,null,null,null,null,"","","","","","","","","","","","","","","","","","","","","","","","","",""]
[null,null,null,null,null,null,null,null,null,"","","","","","","","","","","","","","","","","","","","","","","","","",""]
[null,null,null,null,null,null,null,null,null,"","","","","","","","","","","","","","","","","","","","","","","","","",""]
[null,null,null,null,null,null,null,null,null,"","","","","","","","","","","","","","","","","","","","","","","","","",""]
[null,null,null,null,null,null,null,null,null,"","","","","","","","","","","","","","","","","","","","","","","","","",""]

{"sheet":"ОчныеДГ","index":26,"n_rows":150,"n_cols":18,"rows_kept":150,"cut":false,"hidden":true,"merged":[]}
["Everton","Colo Colo",null,null,null,null,"Результат К1","Забито К1","Пропущено К1","Выиграно К1","Ничьих К1","Проиграно К1","РезультатК2","Забито К2","Пропущено К2","Выиграно К2","Ничьих К2","Пропущено К2"]
["Primera Division (Chile)","2020.10.28 19:00","Everton","Colo Colo",1,1,{"$f":"IF(A2=\"\",\"\",IF($A$1=C2,IF(E2>F2,\"В\",IF(E2=F2,\"Н\",\"П\")),IF(E2<F2,\"В\",IF(E2=F2,\"Н\",\"П\"))))","v":"Н"},{"$f":"IF(A2=\"\",\"\",IF($A$1=C2,E2,F2))","v":1},{"$f":"IF(A2=\"\",\"\",IF($A$1=C2,F2,E2))","v":1},{"$f":"IF(A2=\"\",\"\",IF(G2=\"В\",1,0))","v":0},{"$f":"IF(A2=\"\",\"\",IF(G2=\"Н\",1,0))","v":1},{"$f":"IF(A2=\"\",\"\",IF(G2=\"П\",1,0))","v":0},{"$f":"IF(A2=\"\",\"\",IF(B1=D2,IF(F2>E2,\"В\",IF(F2=E2,\"Н\",\"П\")),IF(F2<E2,\"В\",IF(F2=E2,\"Н\",\"П\"))))","v":"Н"},{"$f":"IF(A2=\"\",\"\",IF(B1=D2,F2,E2))","v":1},{"$f":"IF(A2=\"\",\"\",IF(B1=D2,E2,F2))","v":1},{"$f":"IF(A2=\"\",\"\",IF(M2=\"В\",1,0))","v":0},{"$f":"IF(A2=\"\",\"\",IF(M2=\"Н\",1,0))","v":1},{"$f":"IF(A2=\"\",\"\",IF(M2=\"П\",1,0))","v":0}]
["Chilean Cup (Chile)","2019.10.12 18:15","Everton","Colo Colo",1,2,"П",{"$f":"IF(A3=\"\",\"\",IF($A$1=C3,E3+H2,F3+H2))","v":2},{"$f":"IF(A3=\"\",\"\",IF($A$1=C3,F3+I2,E3+I2))","v":3},{"$f":"IF(A3=\"\",\"\",IF(G3=\"В\",1+J2,0+J2))","v":0},{"$f":"IF(A3=\"\",\"\",IF(G3=\"Н\",1+K2,0+K2))","v":1},{"$f":"IF(A3=\"\",\"\",IF(G3=\"П\",1+L2,0+L2))","v":1},{"$f":"IF(A3=\"\",\"\",IF($B$1=D3,IF(F3>E3,\"В\",IF(F3=E3,\"Н\",\"П\")),IF(F3<E3,\"В\",IF(F3=E3,\"Н\",\"П\"))))","v":"В"},{"$f":"IF(A3=\"\",\"\",IF($B$1=D3,F3+N2,E3+N2))","v":3},{"$f":"IF(A3=\"\",\"\",IF($B$1=D3,E3+O2,F3+O2))","v":2},{"$f":"IF(A3=\"\",\"\",IF(M3=\"В\",1+P2,0+P2))","v":1},{"$f":"IF(A3=\"\",\"\",IF(M3=\"Н\",1+Q2,0+Q2))","v":1},{"$f":"IF(A3=\"\",\"\",IF(M3=\"П\",1+R2,0+R2))","v":0}]
["Club Friendly (World)","2019.01.30 22:05","Everton","Colo Colo",3,2,"В",{"$f":"IF(A4=\"\",\"\",IF($A$1=C4,E4+H3,F4+H3))","v":5},{"$f":"IF(A4=\"\",\"\",IF($A$1=C4,F4+I3,E4+I3))","v":5},{"$f":"IF(A4=\"\",\"\",IF(G4=\"В\",1+J3,0+J3))","v":1},{"$f":"IF(A4=\"\",\"\",IF(G4=\"Н\",1+K3,0+K3))","v":1},{"$f":"IF(A4=\"\",\"\",IF(G4=\"П\",1+L3,0+L3))","v":1},{"$f":"IF(A4=\"\",\"\",IF($B$1=D4,IF(F4>E4,\"В\",IF(F4=E4,\"Н\",\"П\")),IF(F4<E4,\"В\",IF(F4=E4,\"Н\",\"П\"))))","v":"П"},{"$f":"IF(A4=\"\",\"\",IF($B$1=D4,F4+N3,E4+N3))","v":5},{"$f":"IF(A4=\"\",\"\",IF($B$1=D4,E4+O3,F4+O3))","v":5},{"$f":"IF(A4=\"\",\"\",IF(M4=\"В\",1+P3,0+P3))","v":1},{"$f":"IF(A4=\"\",\"\",IF(M4=\"Н\",1+Q3,0+Q3))","v":1},{"$f":"IF(A4=\"\",\"\",IF(M4=\"П\",1+R3,0+R3))","v":1}]
["Primera Division (Chile)","2018.09.02 15:00","Everton","Colo Colo",4,2,"В",9,7,{"$f":"IF(A5=\"\",\"\",IF(G5=\"В\",1+J4,0+J4))","v":2},{"$f":"IF(A5=\"\",\"\",IF(G5=\"Н\",1+K4,0+K4))","v":1},{"$f":"IF(A5=\"\",\"\",IF(G5=\"П\",1+L4,0+L4))","v":1},{"$f":"IF(A5=\"\",\"\",IF($B$1=D5,IF(F5>E5,\"В\",IF(F5=E5,\"Н\",\"П\")),IF(F5<E5,\"В\",IF(F5=E5,\"Н\",\"П\"))))","v":"П"},{"$f":"IF(A5=\"\",\"\",IF($B$1=D5,F5+N4,E5+N4))","v":7},{"$f":"IF(A5=\"\",\"\",IF($B$1=D5,E5+O4,F5+O4))","v":9},{"$f":"IF(A5=\"\",\"\",IF(M5=\"В\",1+P4,0+P4))","v":1},{"$f":"IF(A5=\"\",\"\",IF(M5=\"Н\",1+Q4,0+Q4))","v":1},{"$f":"IF(A5=\"\",\"\",IF(M5=\"П\",1+R4,0+R4))","v":2}]
["Primera Division (Chile)","2017.11.26 15:00","Everton","Colo Colo",2,3,"П",11,10,{"$f":"IF(A6=\"\",\"\",IF(G6=\"В\",1+J5,0+J5))","v":2},{"$f":"IF(A6=\"\",\"\",IF(G6=\"Н\",1+K5,0+K5))","v":1},{"$f":"IF(A6=\"\",\"\",IF(G6=\"П\",1+L5,0+L5))","v":2},{"$f":"IF(A6=\"\",\"\",IF($B$1=D6,IF(F6>E6,\"В\",IF(F6=E6,\"Н\",\"П\")),IF(F6<E6,\"В\",IF(F6=E6,\"Н\",\"П\"))))","v":"В"},{"$f":"IF(A6=\"\",\"\",IF($B$1=D6,F6+N5,E6+N5))","v":10},{"$f":"IF(A6=\"\",\"\",IF($B$1=D6,E6+O5,F6+O5))","v":11},{"$f":"IF(A6=\"\",\"\",IF(M6=\"В\",1+P5,0+P5))","v":2},{"$f":"IF(A6=\"\",\"\",IF(M6=\"Н\",1+Q5,0+Q5))","v":1},{"$f":"IF(A6=\"\",\"\",IF(M6=\"П\",1+R5,0+R5))","v":2}]
["Primera Division (Chile)","2017.05.07 15:00","Everton","Colo Colo",2,3,"П",13,13,{"$f":"IF(A7=\"\",\"\",IF(G7=\"В\",1+J6,0+J6))","v":2},{"$f":"IF(A7=\"\",\"\",IF(G7=\"Н\",1+K6,0+K6))","v":1},{"$f":"IF(A7=\"\",\"\",IF(G7=\"П\",1+L6,0+L6))","v":3},{"$f":"IF(A7=\"\",\"\",IF($B$1=D7,IF(F7>E7,\"В\",IF(F7=E7,\"Н\",\"П\")),IF(F7<E7,\"В\",IF(F7=E7,\"Н\",\"П\"))))","v":"В"},{"$f":"IF(A7=\"\",\"\",IF($B$1=D7,F7+N6,E7+N6))","v":13},{"$f":"IF(A7=\"\",\"\",IF($B$1=D7,E7+O6,F7+O6))","v":13},{"$f":"IF(A7=\"\",\"\",IF(M7=\"В\",1+P6,0+P6))","v":3},{"$f":"IF(A7=\"\",\"\",IF(M7=\"Н\",1+Q6,0+Q6))","v":1},{"$f":"IF(A7=\"\",\"\",IF(M7=\"П\",1+R6,0+R6))","v":2}]
["Primera Division (Chile)","2014.01.12 21:30","Everton","Colo Colo",0,2,"П",13,15,2,1,4,"В",15,13,4,1,2]
["Primera Division (Chile)","2010.09.29 22:00","Everton","Colo Colo",0,2,"П",13,17,2,1,5,"В",17,13,5,1,2]
["Primera Division (Chile)","2009.09.25 00:00","Everton","Colo Colo",3,2,"В",16,19,3,1,5,"П",19,16,5,1,3]
["Primera Division (Chile)","2008.09.28 19:30","Everton","Colo Colo",3,1,"В",19,20,4,1,5,"П",20,19,5,1,4]
["Primera Division (Chile)","2008.06.03 23:30","Everton","Colo Colo",3,0,"В",22,20,5,1,5,"П",20,22,5,1,5]
["Primera Division (Chile)","2007.04.15 16:00","Everton","Colo Colo",0,3,"П",22,23,5,1,6,"В",23,22,6,1,5]
["Primera Division (Chile)","2006.07.30 18:00","Everton","Colo Colo",3,0,"В",25,23,6,1,6,"П",23,25,6,1,6]
["Primera Division (Chile)","2005.07.15 22:00","Everton","Colo Colo",1,3,"П",26,26,6,1,7,"В",26,26,7,1,6]
["Primera Division (Chile)","2004.11.30 23:00","Everton","Colo Colo",1,3,"П",27,29,6,1,8,"В",29,27,8,1,6]
["Primera Division (Chile)","2004.05.01 22:00","Everton","Colo Colo",0,2,"П",27,31,6,1,9,"В",31,27,9,1,6]
["Primera Division (Chile)","2000.11.25 23:00","Everton","Colo Colo",1,2,"П",28,33,6,1,10,"В",33,28,10,1,6]
[null,null,null,null,null,null,"","","","","","","","","","","",""]
[null,null,null,null,null,null,"","","","","","","","","","","",""]
[null,null,null,null,null,null,"","","","","","","","","","","",""]
[null,null,null,null,null,null,"","","","","","","","","","","",""]
[null,null,null,null,null,null,"","","","","","","","","","","",""]
[null,null,null,null,null,null,"","","","","","","","","","","",""]
[null,null,null,null,null,null,"","","","","","","","","","","",""]
[null,null,null,null,null,null,"","","","","","","","","","","",""]
[null,null,null,null,null,null,"","","","","","","","","","","",""]
[null,null,null,null,null,null,"","","","","","","","","","","",""]
[null,null,null,null,null,null,"","","","","","","","","","","",""]
[null,null,null,null,null,null,"","","","","","","","","","","",""]
[null,null,null,null,null,null,"","","","","","","","","","","",""]
[null,null,null,null,null,null,"","","","","","","","","","","",""]
[null,null,null,null,null,null,"","","","","","","","","","","",""]
[null,null,null,null,null,null,{"$f":"IF(A34=\"\",\"\",IF($A$1=C34,IF(E34>F34,\"В\",IF(E34=F34,\"Н\",\"П\")),IF(E34<F34,\"В\",IF(E34=F34,\"Н\",\"П\"))))","v":""},"","","","","","","","","","",""]
[null,null,null,null,null,null,"","","","","","","","","","","",""]
[null,null,null,null,null,null,"","","","","","","","","","","",""]
[null,null,null,null,null,null,"","","","","","","","","","","",""]
[null,null,null,null,null,null,"","","","","","","","","","","",""]
[null,null,null,null,null,null,"","","","","","","","","","","",""]
[null,null,null,null,null,null,"","","","","","","","","","","",""]
[null,null,null,null,null,null,"","","","","","","","","","","",""]
[null,null,null,null,null,null,"","","","","","","","","","","",""]
[null,null,null,null,null,null,"","","","","","","","","","","",""]
[null,null,null,null,null,null,"","","","","","","","","","","",""]
[null,null,null,null,null,null,"","","","","","","","","","","",""]
[null,null,null,null,null,null,"","","","","","","","","","","",""]
[null,null,null,null,null,null,"","","","","","","","","","","",""]
[null,null,null,null,null,null,"","","","","","","","","","","",""]
[null,null,null,null,null,null,"","","","","","","","","","","",""]
[null,null,null,null,null,null,"","","","","","","","","","","",""]
[null,null,null,null,null,null,"","","","","","","","","","","",""]
[null,null,null,null,null,null,"","","","","","","","","","","",""]
[null,null,null,null,null,null,"","","","","","","","","","","",""]
[null,null,null,null,null,null,"","","","","","","","","","","",""]
[null,null,null,null,null,null,"","","","","","","","","","","",""]
[null,null,null,null,null,null,"","","","","","","","","","","",""]
[null,null,null,null,null,null,"","","","","","","","","","","",""]
[null,null,null,null,null,null,"","","","","","","","","","","",""]
[null,null,null,null,null,null,"","","","","","","","","","","",""]
[null,null,null,null,null,null,"","","","","","","","","","","",""]
[null,null,null,null,null,null,"","","","","","","","","","","",""]
[null,null,null,null,null,null,"","","","","","","","","","","",""]
[null,null,null,null,null,null,"","","","","","","","","","","",""]
[null,null,null,null,null,null,"","","","","","","","","","","",""]
[null,null,null,null,null,null,"","","","","","","","","","","",""]
[null,null,null,null,null,null,{"$f":"IF(A66=\"\",\"\",IF($A$1=C66,IF(E66>F66,\"В\",IF(E66=F66,\"Н\",\"П\")),IF(E66<F66,\"В\",IF(E66=F66,\"Н\",\"П\"))))","v":""},"","","","","","","","","","",""]
[null,null,null,null,null,null,"","","","","","","","","","","",""]
[null,null,null,null,null,null,"",{"$f":"IF(A68=\"\",\"\",IF($A$1=C68,E68+H67,F68+H67))","v":""},{"$f":"IF(A68=\"\",\"\",IF($A$1=C68,F68+I67,E68+I67))","v":""},"","","","","","","","",""]
[null,null,null,null,null,null,"","","","","","","","","","","",""]
[null,null,null,null,null,null,"","","","","","","","","","","",""]
[null,null,null,null,null,null,"","","",{"$f":"IF(A71=\"\",\"\",IF(G71=\"В\",1+J70,0+J70))","v":""},{"$f":"IF(A71=\"\",\"\",IF(G71=\"Н\",1+K70,0+K70))","v":""},{"$f":"IF(A71=\"\",\"\",IF(G71=\"П\",1+L70,0+L70))","v":""},{"$f":"IF(A71=\"\",\"\",IF($B$1=D71,IF(F71>E71,\"В\",IF(F71=E71,\"Н\",\"П\")),IF(F71<E71,\"В\",IF(F71=E71,\"Н\",\"П\"))))","v":""},{"$f":"IF(A71=\"\",\"\",IF($B$1=D71,F71+N70,E71+N70))","v":""},{"$f":"IF(A71=\"\",\"\",IF($B$1=D71,E71+O70,F71+O70))","v":""},{"$f":"IF(A71=\"\",\"\",IF(M71=\"В\",1+P70,0+P70))","v":""},{"$f":"IF(A71=\"\",\"\",IF(M71=\"Н\",1+Q70,0+Q70))","v":""},{"$f":"IF(A71=\"\",\"\",IF(M71=\"П\",1+R70,0+R70))","v":""}]
[null,null,null,null,null,null,"","","","","","","","","","","",""]
[null,null,null,null,null,null,"","","","","","","","","","","",""]
[null,null,null,null,null,null,"","","","","","","","","","","",""]
[null,null,null,null,null,null,"","","","","","","","","","","",""]
[null,null,null,null,null,null,"","","","","","","","","","","",""]
[null,null,null,null,null,null,"","","","","","","","","","","",""]
[null,null,null,null,null,null,"","","","","","","","","","","",""]
[null,null,null,null,null,null,"","","","","","","","","","","",""]
[null,null,null,null,null,null,"","","","","","","","","","","",""]
[null,null,null,null,null,null,"","","","","","","","","","","",""]
[null,null,null,null,null,null,"","","","","","","","","","","",""]
[null,null,null,null,null,null,"","","","","","","","","","","",""]
[null,null,null,null,null,null,"","","","","","","","","","","",""]
[null,null,null,null,null,null,"","","","","","","","","","","",""]
[null,null,null,null,null,null,"","","","","","","","","","","",""]
[null,null,null,null,null,null,"","","","","","","","","","","",""]
[null,null,null,null,null,null,"","","","","","","","","","","",""]
[null,null,null,null,null,null,"","","","","","","","","","","",""]
[null,null,null,null,null,null,"","","","","","","","","","","",""]
[null,null,null,null,null,null,"","","","","","","","","","","",""]
[null,null,null,null,null,null,"","","","","","","","","","","",""]
[null,null,null,null,null,null,"","","","","","","","","","","",""]
[null,null,null,null,null,null,"","","","","","","","","","","",""]
[null,null,null,null,null,null,"","","","","","","","","","","",""]
[null,null,null,null,null,null,"","","","","","","","","","","",""]
[null,null,null,null,null,null,"","","","","","","","","","","",""]
[null,null,null,null,null,null,{"$f":"IF(A98=\"\",\"\",IF($A$1=C98,IF(E98>F98,\"В\",IF(E98=F98,\"Н\",\"П\")),IF(E98<F98,\"В\",IF(E98=F98,\"Н\",\"П\"))))","v":""},"","","","","","","","","","",""]
[null,null,null,null,null,null,"","","","","","","","","","","",""]
[null,null,null,null,null,null,"","","","","","","","","","","",""]
[null,null,null,null,null,null,"","","","","","","","","","","",""]
[null,null,null,null,null,null,"","","","","","","","","","","",""]
[null,null,null,null,null,null,"","","","","","","","","","","",""]
[null,null,null,null,null,null,"","","","","","","","","","","",""]
[null,null,null,null,null,null,"","","","","","","","","","","",""]
[null,null,null,null,null,null,"","","","","","","","","","","",""]
[null,null,null,null,null,null,"","","","","","","","","","","",""]
[null,null,null,null,null,null,"","","","","","","","","","","",""]
[null,null,null,null,null,null,"","","","","","","","","","","",""]
[null,null,null,null,null,null,"","","","","","","","","","","",""]
[null,null,null,null,null,null,"","","","","","","","","","","",""]
[null,null,null,null,null,null,"","","","","","","","","","","",""]
[null,null,null,null,null,null,"","","","","","","","","","","",""]
[null,null,null,null,null,null,"","","","","","","","","","","",""]
[null,null,null,null,null,null,"","","","","","","","","","","",""]
[null,null,null,null,null,null,"","","","","","","","","","","",""]
[null,null,null,null,null,null,"","","","","","","","","","","",""]
[null,null,null,null,null,null,"","","","","","","","","","","",""]
[null,null,null,null,null,null,"","","","","","","","","","","",""]
[null,null,null,null,null,null,"","","","","","","","","","","",""]
[null,null,null,null,null,null,"","","","","","","","","","","",""]
[null,null,null,null,null,null,"","","","","","","","","","","",""]
[null,null,null,null,null,null,"","","","","","","","","","","",""]
[null,null,null,null,null,null,"","","","","","","","","","","",""]
[null,null,null,null,null,null,"","","","","","","","","","","",""]
[null,null,null,null,null,null,"","","","","","","","","","","",""]
[null,null,null,null,null,null,"","","","","","","","","","","",""]
[null,null,null,null,null,null,"","","","","","","","","","","",""]
[null,null,null,null,null,null,"","","","","","","","","","","",""]
[null,null,null,null,null,null,{"$f":"IF(A130=\"\",\"\",IF($A$1=C130,IF(E130>F130,\"В\",IF(E130=F130,\"Н\",\"П\")),IF(E130<F130,\"В\",IF(E130=F130,\"Н\",\"П\"))))","v":""},"","","","","","","","","","",""]
[null,null,null,null,null,null,"","","","","","","","","","","",""]
[null,null,null,null,null,null,"",{"$f":"IF(A132=\"\",\"\",IF($A$1=C132,E132+H131,F132+H131))","v":""},{"$f":"IF(A132=\"\",\"\",IF($A$1=C132,F132+I131,E132+I131))","v":""},"","","","","","","","",""]
[null,null,null,null,null,null,"","","","","","","","","","","",""]
[null,null,null,null,null,null,"","","","","","","","","","","",""]
[null,null,null,null,null,null,"","","",{"$f":"IF(A135=\"\",\"\",IF(G135=\"В\",1+J134,0+J134))","v":""},{"$f":"IF(A135=\"\",\"\",IF(G135=\"Н\",1+K134,0+K134))","v":""},{"$f":"IF(A135=\"\",\"\",IF(G135=\"П\",1+L134,0+L134))","v":""},{"$f":"IF(A135=\"\",\"\",IF($B$1=D135,IF(F135>E135,\"В\",IF(F135=E135,\"Н\",\"П\")),IF(F135<E135,\"В\",IF(F135=E135,\"Н\",\"П\"))))","v":""},{"$f":"IF(A135=\"\",\"\",IF($B$1=D135,F135+N134,E135+N134))","v":""},{"$f":"IF(A135=\"\",\"\",IF($B$1=D135,E135+O134,F135+O134))","v":""},{"$f":"IF(A135=\"\",\"\",IF(M135=\"В\",1+P134,0+P134))","v":""},{"$f":"IF(A135=\"\",\"\",IF(M135=\"Н\",1+Q134,0+Q134))","v":""},{"$f":"IF(A135=\"\",\"\",IF(M135=\"П\",1+R134,0+R134))","v":""}]
[null,null,null,null,null,null,"","","","","","","","","","","",""]
[null,null,null,null,null,null,"","","","","","","","","","","",""]
[null,null,null,null,null,null,"","","","","","","","","","","",""]
[null,null,null,null,null,null,"","","","","","","","","","","",""]
[null,null,null,null,null,null,"","","","","","","","","","","",""]
[null,null,null,null,null,null,"","","","","","","","","","","",""]
[null,null,null,null,null,null,"","","","","","","","","","","",""]
[null,null,null,null,null,null,"","","","","","","","","","","",""]
[null,null,null,null,null,null,"","","","","","","","","","","",""]
[null,null,null,null,null,null,"","","","","","","","","","","",""]
[null,null,null,null,null,null,"","","","","","","","","","","",""]
[null,null,null,null,null,null,"","","","","","","","","","","",""]
[null,null,null,null,null,null,"","","","","","","","","","","",""]
[null,null,null,null,null,null,"","","","","","","","","","","",""]
[null,null,null,null,null,null,"","","","","","","","","","","",""]

{"sheet":"Коэффициенты","index":27,"n_rows":8,"n_cols":3,"rows_kept":8,"cut":false,"hidden":true,"merged":[]}
["Идентификатор","Стартовый","Текущий"]
["П1",2.37,2.2999999999999998]
["X",3.2,3.2]
["П2",2.7,2.9]
["ТБ2.5",2,2.25]
["ТМ2.5",1.8,1.61]
["ОЗ",1.72,1.9]
["ОНЗ",2,1.8]