{"text_format":"1","workbook":"xlsx","n_sheets":24,"sheets":["Старт","Список","Анализ","Incognito DATA","Elizabet2","Mill","Beta8","Valui","Poisson","Графики","Архив","Дома","Гости","ДомаДома","IncoData","ГостиГости","Очные","ОчныеДГ","ДомаГости","ГостиДома","Таблица","Форма","Коэффициенты","Расчеты"],"not_rendered":{"charts":4,"images":0,"macros":1,"external_links":0,"defined_names":7,"comments":2,"pivot_tables":0},"unopened":[],"bounds":{"document_bytes":16777216,"sheet_cells":100000,"rows_first":2000,"rows_last":500,"rows_between":2000,"halvings":0,"cell_chars":16384,"cell_head_chars":4096},"cells_cut":1,"cells_raw":0,"read":"whole","date_system":"1900"}

{"sheet":"Старт","index":0,"n_rows":16,"n_cols":25,"rows_kept":16,"cut":false,"hidden":false,"merged":[[8,7,8,10],[9,7,9,10],[10,7,10,10]]}
[]
[null,null,null,null,null,null,null,null,null,null,null,null,null,null,null,null,null,null,"GMT +0",4,{"$f":"TODAY()-7","v":"2021-04-07"},7,"flashscore.com (EN)",1,{"$f":"TODAY()-7","v":"2021-04-07"}]
[null,null,null,null,null,null,null,null,null,null,null,null,null,null,null,null,null,null,"GMT +1",null,{"$f":"TODAY()-6","v":"2021-04-08"},null,"soccerstand.com (EN)",null,{"$f":"TODAY()-6","v":"2021-04-08"}]
[null,null,null,null,null,null,null,null,null,null,null,null,null,null,null,null,null,null,"GMT +2",null,{"$f":"TODAY()-5","v":"2021-04-09"},null,"soccerstand.com (RU)",null,{"$f":"TODAY()-5","v":"2021-04-09"}]
[null,null,null,null,null,null,null,null,null,null,null,null,null,null,null,null,null,null,"GMT +3",null,{"$f":"TODAY()-4","v":"2021-04-10"},null,"myscore.ru (RU)",null,{"$f":"TODAY()-4","v":"2021-04-10"}]
[null,null,null,null,null,null,null,null,null,null,null,null,null,null,null,null,null,null,"GMT +4",null,{"$f":"TODAY()-3","v":"2021-04-11"},null,"myscore.com.ua (RU)",null,{"$f":"TODAY()-3","v":"2021-04-11"}]
[null,null,null,null,null,null,null,null,null,null,null,null,null,null,null,null,null,null,"GMT +5",null,{"$f":"TODAY() -2","v":"2021-04-12"},null,null,null,{"$f":"TODAY()-2","v":"2021-04-12"}]
[null,null,null,null,null,null,null,null,null,null,null,null,null,null,null,null,null,null,"GMT +6",null,"Вчера",null,null,null,{"$f":"TODAY()-1","v":"2021-04-13"}]
[null,null,null,null,null,null,null,"Incognito DeluX plus + Prorok Reload Incognito",null,null,null,null,null,null,null,null,null,null,"GMT +7",null,"Сегодня",null,null,null,{"$f":"TODAY()","v":"2021-04-14"}]
[null,null,null,null,null,null,null,"based on InfinityBook engine",null,null,null,null,null,null,null,null,null,null,"GMT +8",null,"Завтра",null,null,null,{"$f":"TODAY()+1","v":"2021-04-15"}]
[null,null,null,null,null,null,null,"compilation Dm_35",null,null,null,null,null,null,null,null,null,null,"GMT +9",null,{"$f":"TODAY()+2","v":"2021-04-16"},null,null,null,{"$f":"TODAY()+2","v":"2021-04-16"}]
[null,null,null,null,null,null,null,null,null,null,null,null,null,null,null,null,null,null,"GMT +10",null,{"$f":"TODAY()+3","v":"2021-04-17"},null,null,null,{"$f":"TODAY()+3","v":"2021-04-17"}]
[null,null,null,null,null,null,null,null,null,null,null,null,null,null,null,null,null,null,"GMT +11",null,{"$f":"TODAY()+4","v":"2021-04-18"},null,null,null,{"$f":"TODAY()+4","v":"2021-04-18"}]
[null,null,null,null,null,null,null,null,null,null,null,null,null,null,null,null,null,null,"GMT +12",null,{"$f":"TODAY()+5","v":"2021-04-19"},null,null,null,{"$f":"TODAY()+5","v":"2021-04-19"}]
[null,null,null,null,null,null,null,null,null,null,null,null,null,null,null,null,null,null,"GMT +13",null,{"$f":"TODAY()+6","v":"2021-04-20"},null,null,null,{"$f":"TODAY()+6","v":"2021-04-20"}]
[null,null,null,null,null,null,null,null,null,null,null,null,null,null,null,null,null,null,null,null,{"$f":"TODAY()+7","v":"2021-04-21"},null,null,null,{"$f":"TODAY()+7","v":"2021-04-21"}]

{"sheet":"Список","index":1,"n_rows":1000,"n_cols":25,"rows_kept":1000,"cut":false,"hidden":false,"merged":[]}
["Чемпионат","Дата/Время","Дома","Гости","Match_ID","Country_ID","home_ID","away_ID","Загрузить","К1","К2","П1 текущий","Х текущий","П2 текущий","П1 старт","Х старт","П2 старт","П1 прогруз","Х прогруз","П2 прогруз",null,null,null,null,"Yw8zZBvO"]
["BRAZIL: Campeonato Matogrossense","2021.04.12 23:00","Uniao Rondonopolis","Sinop","bPg8KzEK",39,null,null,"Загрузить",1,0,null,null,null,null,null,null,{"$f":"IF(L2=\"\",\"\",L2-O2)","v":""},{"$f":"IF(M2=\"\",\"\",M2-P2)","v":""},{"$f":"IF(N2=\"\",\"\",N2-Q2)","v":""}]
["ARGENTINA: Primera B - Apertura","2021.04.12 23:10","Los Andes","Villa San Carlos","IaLaZWEc",22,null,null,"Загрузить",1,0,2.31,3.04,3.25,2.3199999999999998,2.9,3.07,-9.9999999999997868E-3,0.14000000000000012,0.18000000000000016]
["PERU: Liga 1 - Apertura","2021.04.12 23:30","FBC Melgar","Ayacucho","bP7U48l0",152,null,null,"Загрузить",0,0,2.0499999999999998,3.3,3.6,1.9,3.3,3.6,0.14999999999999991,0,0]
["CHILE: Primera B","2021.04.13 00:00","U. De Concepcion","S. Morning","ULHmM4AE",51,null,null,"Загрузить",3,3,1.98,3.42,3.72,1.93,3,4.08,5.0000000000000044E-2,0.41999999999999993,-0.35999999999999988]
["CHILE: Primera Division","2021.04.13 00:15","Curico Unido","Antofagasta","QFiiYW4C",51,null,null,"Загрузить",1,1,2.8,3.3,2.2999999999999998,2.2000000000000002,3.3,2.9,0.59999999999999964,0,-0.60000000000000009]
["ARGENTINA: Copa de la Liga Profesional","2021.04.13 01:00","Huracan","Sarmiento Junin","jPmHyCwO",22,null,null,"Загрузить",3,0,2,3.2,3.6,2.25,3.2,2.87,-0.25,0,0.73]
["ARGENTINA: Copa de la Liga Profesional","2021.04.13 01:00","Lanus","Newells Old Boys","UFnLzWhU",22,null,null,"Загрузить",1,3,1.61,3.6,5,2.25,3.2,2.9,-0.6399999999999999,0.39999999999999991,2.1]
["BRAZIL: Campeonato Catarinense","2021.04.13 01:00","Criciuma","Metropolitano","z5Tu4qR6",39,null,null,"Загрузить",2,0,1.61,4,4,1.8,3.4,3.75,-0.18999999999999995,0.60000000000000009,0.25]
["ECUADOR: Liga Pro - First stage","2021.04.13 01:00","Barcelona SC","Aucas","C2SYD93e",68,null,null,"Загрузить",null,null,1.1200000000000001,7,13,1.6,3.5,5,-0.48,3.5,8]
["BRAZIL: Campeonato Paulista","2021.04.13 02:00","Sao Paulo","Bragantino","8buzaUDt",39,null,null,"Загрузить",1,0,1.9,3.4,4,1.72,3.4,4.2,0.17999999999999994,0,-0.20000000000000018]
["PARAGUAY: Primera Division - Apertura","2021.04.13 02:00","Guarani","River Plate","80GvCTy4",151,null,null,"Загрузить",2,0,1.9,3.25,4,1.72,3.3,4.33,0.17999999999999994,-4.9999999999999822E-2,-0.33000000000000007]
["PARAGUAY: Division Intermedia","2021.04.13 02:00","Dep. Capiata","Independiente FBC","fZw7w3Do",151,null,null,"Загрузить",0,3,null,null,null,null,null,null,"","",""]
["ARGENTINA: Primera Nacional","2021.04.13 03:10","Almirante Brown","Nueva Chicago","KjIhc0PG",22,null,null,"Загрузить",1,0,2.5,2.87,3.2,2.37,2.87,3.1,0.12999999999999989,0,0.10000000000000009]
["ARGENTINA: Copa de la Liga Profesional","2021.04.13 03:15","Atl. Tucuman","Velez Sarsfield","ralDxhOH",22,null,null,"Загрузить",2,0,3.4,3.2,2,3.75,3.4,1.83,-0.35000000000000009,-0.19999999999999973,0.16999999999999993]
["COLOMBIA: Primera A - Apertura","2021.04.13 04:00","Deportes Tolima","Bucaramanga","YsxSRDqI",53,null,null,"Загрузить",0,0,1.55,3.6,6.5,1.57,3.5,5.5,-2.0000000000000018E-2,0.10000000000000009,1]
["MEXICO: Liga MX - Clausura","2021.04.13 05:00","Pachuca","Puebla","nTIdiFxb",128,null,null,"Загрузить",1,3,2.0499999999999998,3.3,3.6,2,3.5,3.6,4.9999999999999822E-2,-0.20000000000000018,0]
["ARMENIA: First League","2021.04.13 11:00","Alashkert 2","Ararat Yerevan 2","Gz7dxypC",23,null,null,"Загрузить",null,null,null,null,null,null,null,null,"","",""]
["ASIA: Olympic Games Women - Qualification - Final Stage","2021.04.13 11:00","China W","South Korea W","z9Nca3Mj",5,null,null,"Загрузить",1,2,1.64,3.64,5.0999999999999996,2.02,2.8,4,-0.38000000000000012,0.8400000000000003,1.0999999999999996]
["KAZAKHSTAN: Premier League","2021.04.13 11:00","Kyzylzhar","Aktobe","vNHe38ml",102,null,null,"Загрузить",1,2,2.66,3.48,2.46,2.92,3.56,2.2599999999999998,-0.25999999999999979,-8.0000000000000071E-2,0.20000000000000018]
["AUSTRALIA: A-League","2021.04.13 12:05","Newcastle Jets","Perth Glory","t4qczeos",24,null,null,"Загрузить",1,1,2.37,3.75,2.8,2.1,3.5,3.3,0.27,0.25,-0.5]
["WORLD: Friendly International Women","2021.04.13 12:30","Slovenia W","Slovakia W","xfBxZ4E1",8,null,null,"Загрузить",5,0,1.83,3.8,3.5,2.2999999999999998,3.6,2.5,-0.46999999999999975,0.19999999999999973,1]
["GEORGIA: Crystalbet Erovnuli Liga 2","2021.04.13 13:00","Zugdidi","Merani Tbilisi","zujysqMH",80,null,null,"Загрузить",2,1,2.06,3.42,3.07,2.25,3.5,2.63,-0.18999999999999995,-8.0000000000000071E-2,0.43999999999999995]
["KAZAKHSTAN: Premier League","2021.04.13 13:00","Shakhtar Karagandy","FK Akzhayik","8dMa2S2f",102,null,null,"Загрузить",1,2,2.04,3.46,3.42,2.13,3.36,3.36,-8.9999999999999858E-2,0.10000000000000009,6.0000000000000053E-2]
["PORTUGAL: Taca Revelacao U23","2021.04.13 13:00","Braga U23","Maritimo U23","YRBoIMEn",155,null,null,"Загрузить",3,2,1.49,4.38,5.55,1.72,4.12,3.72,-0.22999999999999998,0.25999999999999979,1.8299999999999996]
["RUSSIA: PFL - Group 4","2021.04.13 13:00","Krylya Sovetov Samara 2","Dynamo Barnaul","0MwB90fQ",158,null,null,"Загрузить",0,2,3.56,3.6,1.91,3.78,3.62,1.85,-0.21999999999999975,-2.0000000000000018E-2,5.9999999999999831E-2]
["UKRAINE: Druha Liga","2021.04.13 13:00","Dunaivtsi","Rubikon Kyiv","0Y98QJuA",195,null,null,"Загрузить",3,0,null,null,null,null,null,null,"","",""]
["AUSTRALIA: Brisbane Premier League","2021.04.13 13:30","Centenary Stormers","The Gap","YJ7T8AIh",24,null,null,"Загрузить",2,1,1.42,5.0999999999999996,5.45,1.42,4.9000000000000004,5.5,0,0.19999999999999929,-4.9999999999999822E-2]
["TURKEY: 1. Lig","2021.04.13 13:30","Tuzlaspor","Eskisehirspor","86Hp3n6g",191,null,null,"Загрузить",5,2,1.1399999999999999,7,13,1.1200000000000001,9,11,1.9999999999999796E-2,-2,2]
["WORLD: Club Friendly","2021.04.13 13:30","North Star","Virginia United","rc3opkvr",8,null,null,"Загрузить",7,1,null,null,null,null,null,null,"","",""]
["ARMENIA: Premier League","2021.04.13 14:00","Lori","Ararat-Armenia","tvf1hOOk",23,null,null,"Загрузить",null,null,null,null,null,null,null,null,"","",""]
["GEORGIA: Crystalbet Erovnuli Liga 2","2021.04.13 14:00","Shevardeni Tbilisi","Gagra","lOmPqoxa",80,null,null,"Загрузить",1,1,4.72,4.92,1.43,6.25,3.6,1.51,-1.5300000000000002,1.3199999999999998,-8.0000000000000071E-2]
["WORLD: Club Friendly","2021.04.13 14:15","Bashkimi","Milano Kumanovo","OzBIFAg2",8,null,null,"Загрузить",null,null,null,null,null,null,null,null,"","",""]
["SLOVAKIA: Slovak Cup - Final Stage","2021.04.13 14:30","FC Kosice","Trencin","6iOxUEMA",171,null,null,"Загрузить",3,0,3.6,3.6,1.8,3.5,3.5,1.85,0.10000000000000009,0.10000000000000009,-5.0000000000000044E-2]
["ENGLAND: Professional Development League","2021.04.13 15:00","Bristol City U23","Nottingham U23","xxQk8WCg",198,null,null,"Загрузить",1,1,2.5,4.09,2.35,2.2000000000000002,3.8,2.5,0.29999999999999982,0.29000000000000004,-0.14999999999999991]
["ENGLAND: Professional Development League","2021.04.13 15:00","Cardiff U23","Sheffield Utd U23","Yw8zZBvO",198,"Y17Xmgef","KfZWFnZf","Загрузить",0,2,3.46,4.2699999999999996,1.83,2.93,3.8,2.02,0.5299999999999998,0.46999999999999975,-0.18999999999999995]
["ENGLAND: Professional Development League","2021.04.13 15:00","Ipswich U23","Barnsley U23","rFQo9Ccm",198,null,null,"Загрузить",0,1,2.78,3.71,2.27,2.02,3.6,3.06,0.75999999999999979,0.10999999999999988,-0.79]
["ENGLAND: Professional Development League","2021.04.13 15:00","QPR U23","Coventry U23","Y3Jb6As6",198,null,null,"Загрузить",1,4,2.57,3.7,2.34,2.25,3.74,2.5,0.31999999999999984,-4.0000000000000036E-2,-0.16000000000000014]
["ENGLAND: Professional Development League","2021.04.13 15:00","Swansea U23","Crewe U23","CU6vYVgU",198,null,null,"Загрузить",1,1,2.27,3.88,2.63,2.4,3.6,2.4,-0.12999999999999989,0.2799999999999998,0.22999999999999998]
["IRAN: Division 1","2021.04.13 15:00","Baderan Tehran","Arman Gohar","SMjz2CtB",94,null,null,"Загрузить",2,0,1.54,3.66,6.25,1.45,3.6,7.3,9.000000000000008E-2,6.0000000000000053E-2,-1.0499999999999998]
["WORLD: Friendly International","2021.04.13 15:00","North Macedonia U19","Montenegro U19","QaJoYJnf",8,null,null,"Загрузить",2,0,2,3.5,3.1,2.2000000000000002,3.4,2.75,-0.20000000000000018,0.10000000000000009,0.35000000000000009]
["WORLD: Friendly International Women","2021.04.13 15:00","Hungary W","Bosnia & Herzegovina W","zks7lpEl",8,null,null,"Загрузить",0,0,1.55,4,4.75,1.66,3.75,4,-0.10999999999999988,0.25,0.75]
["IRAN: Division 1","2021.04.13 15:15","Chooka Talesh","Esteghlal Khuzestan","MN88q4Qq",94,null,null,"Загрузить",1,3,4.54,2.59,2.1,3.7,2.75,2.12,0.83999999999999986,-0.16000000000000014,-2.0000000000000018E-2]
["IRAN: Division 1","2021.04.13 15:15","Khooshe Talaee","Shahin Bushehr","pbou1WeH",94,null,null,"Загрузить",0,1,2.52,2.2400000000000002,4.2,2.52,2.5,3.28,0,-0.25999999999999979,0.92000000000000037]
["IRAN: Division 1","2021.04.13 15:15","Malavan","Rayka Babol","rZlO4Edh",94,null,null,"Загрузить",1,0,1.98,3.11,4.1399999999999997,1.87,3,4.28,0.10999999999999988,0.10999999999999988,-0.14000000000000057]
["IRAN: Division 1","2021.04.13 15:15","Mes Kerman","Astara","f9hS3YBb",94,null,null,"Загрузить",2,0,1.6,3.24,7.32,2.02,2.75,4.0999999999999996,-0.41999999999999993,0.49000000000000021,3.2200000000000006]
["IRAN: Division 1","2021.04.13 15:15","Navad Urmia","Fajr Sepasi","lWiW2hR4",94,null,null,"Загрузить",0,1,3.61,2.58,2.4700000000000002,3.28,2.5,2.52,0.33000000000000007,8.0000000000000071E-2,-4.9999999999999822E-2]
["IRAN: Division 1","2021.04.13 15:15","Qashqai Shiraz","Havadar SC","0AaJ5fsn",94,null,null,"Загрузить",0,0,3.55,2.48,2.61,2.88,2.63,2.63,0.66999999999999993,-0.14999999999999991,-2.0000000000000018E-2]
["CZECH REPUBLIC: 1. Liga","2021.04.13 15:30","FK Pardubice","Slovacko","S0gywGqE",62,null,null,"Загрузить",3,1,4.5,3.1,1.9,3,3.2,2.25,1.5,-0.10000000000000009,-0.35000000000000009]
["IRAN: Division 1","2021.04.13 15:30","Esteghlal Molasani","Kheybar Khorramabad","UmCGsred",94,null,null,"Загрузить",0,1,3.58,2.1800000000000002,2.93,2.42,2.5,3.48,1.1600000000000001,-0.31999999999999984,-0.54999999999999982]
["IRAN: Division 1","2021.04.13 15:30","Pars Janoobi Jam","Gol Reyhan Alborz","Gp8CrOuj",94,null,null,"Загрузить",3,1,null,null,null,null,null,null,"","",""]
["BULGARIA: Vtora liga","2021.04.13 16:00","Svoge","Hebar","EqdkKCWF",41,null,null,"Загрузить",1,1,1.97,3.46,3.52,2.12,3.3,3.06,-0.15000000000000013,0.16000000000000014,0.45999999999999996]
["ENGLAND: Professional Development League","2021.04.13 16:00","Millwall U23","Birmingham U23","juUg7jSa",198,null,null,"Загрузить",2,3,3.14,3.76,2.0099999999999998,2.2999999999999998,3.74,2.4,0.8400000000000003,1.9999999999999574E-2,-0.39000000000000012]
["ETHIOPIA: Premier League","2021.04.13 16:00","Fasil Ketema","Bahir Dar Kenema","8pA2gtcF",74,null,null,"Загрузить",0,0,1.99,3.33,3.75,1.93,3.2,3.68,6.0000000000000053E-2,0.12999999999999989,6.999999999999984E-2]
["IRAQ: Super League","2021.04.13 16:00","Alsinaat Alkahrabaiya","Al Zawraa","jmQmkjWf",95,null,null,"Загрузить",0,1,null,null,null,null,null,null,"","",""]
["SOUTH AFRICA: GladAfrica Championship","2021.04.13 16:00","Pretoria Callies","Cape Umoya United","IcthqJvE",175,null,null,"Загрузить",0,2,null,null,null,null,null,null,"","",""]
["SOUTH AFRICA: GladAfrica Championship","2021.04.13 16:00","Pretoria U.","JDR Stars","C41ZsSxQ",175,null,null,"Загрузить",0,0,null,null,null,null,null,null,"","",""]
["SOUTH AFRICA: GladAfrica Championship","2021.04.13 16:00","Richards Bay","Free State Stars","Uql1wnos",175,null,null,"Загрузить",1,2,null,null,null,null,null,null,"","",""]
["SOUTH AFRICA: GladAfrica Championship","2021.04.13 16:00","Royal AM","Polokwane","b1cVr8NJ",175,null,null,"Загрузить",2,1,null,null,null,null,null,null,"","",""]
["TANZANIA: Ligi Kuu Bara","2021.04.13 16:00","Biashara Mara United","Coastal Union","t6AiWR3A",185,null,null,"Загрузить",0,1,1.63,3.54,5.72,1.8,3.05,5.0999999999999996,-0.17000000000000015,0.49000000000000021,0.62000000000000011]
["UGANDA: Premier League","2021.04.13 16:00","BUL","Kyetume","vRHsEEfp",194,null,null,"Загрузить",1,1,2.0299999999999998,3.32,3.64,1.82,3.24,4.08,0.20999999999999974,7.9999999999999627E-2,-0.43999999999999995]
["UGANDA: Premier League","2021.04.13 16:00","Mbarara City","Myda","YPbYzx2c",194,null,null,"Загрузить",2,1,1.37,4.67,8.09,1.34,4.32,7.8,3.0000000000000027E-2,0.34999999999999964,0.29000000000000004]
["UGANDA: Premier League","2021.04.13 16:00","Onduparaka FC","Airtel Kitara","fZaUyIni",194,null,null,"Загрузить",2,1,1.4,3.8,7.8,1.41,3.74,7.8,-1.0000000000000009E-2,5.9999999999999609E-2,0]
["UGANDA: Premier League","2021.04.13 16:00","URA SC","Kampala City","MoVFIfnT",194,null,null,"Загрузить",2,0,2.34,3.12,3.12,2.27,3,3.07,6.999999999999984E-2,0.12000000000000011,5.0000000000000266E-2]
["UGANDA: Premier League","2021.04.13 16:00","Vipers","Busoga","hULoDY9j",194,null,null,"Загрузить",4,0,1.31,4.8600000000000003,9.7100000000000009,1.3,4.5,9.4,1.0000000000000009E-2,0.36000000000000032,0.3100000000000005]
["UKRAINE: Druha Liga","2021.04.13 16:00","Real Pharma","Dnipro Cherkasy","6PJfNN3s",195,null,null,"Загрузить",0,0,null,null,null,null,null,null,{"$f":"IF(L66=\"\",\"\",L66-O66)","v":""},{"$f":"IF(M66=\"\",\"\",M66-P66)","v":""},{"$f":"IF(N66=\"\",\"\",N66-Q66)","v":""}]
["WORLD: Friendly International Women","2021.04.13 16:00","Ethiopia W","South Sudan W","2N1Ty1A4",8,null,null,"Загрузить",3,0,null,null,null,null,null,null,"","",""]
["WORLD: Friendly International Women","2021.04.13 16:00","South Africa W","Botswana W","SdaXWypF",8,null,null,"Загрузить",2,0,null,null,null,null,null,null,"","",""]
["ITALY: Primavera 2","2021.04.13 16:30","Chievo U19","Reggiana U19","2qNPtfE8",98,null,null,"Загрузить",3,1,1.42,4.9400000000000004,5.75,1.34,5,6.2,7.9999999999999849E-2,-5.9999999999999609E-2,-0.45000000000000018]
["ROMANIA: Liga 2 - Championship Group","2021.04.13 16:30","Csikszereda M. Ciuc","U Craiova 1948","K66onFG4",157,null,null,"Загрузить",1,2,2.8,3,2.5,2.87,3,2.2999999999999998,-7.0000000000000284E-2,0,0.20000000000000018]
["SLOVAKIA: Slovak Cup - Final Stage","2021.04.13 16:30","Z. Moravce-Vrable","Zilina","QiVlRC6T",171,null,null,"Загрузить",0,2,3.3,3.5,2,2.75,3.4,2.2000000000000002,0.54999999999999982,0.10000000000000009,-0.20000000000000018]
["EUROPE: Euro Women - Qualification - Promotion","2021.04.13 17:00","Russia W","Portugal W","x4QedjsF",6,null,null,"Загрузить",0,0,2.4500000000000002,3,2.9,2.1,3,3.25,0.35000000000000009,0,-0.35000000000000009]
["ITALY: Serie B","2021.04.13 17:00","Cremonese","Empoli","OhW4Zj6C",98,null,null,"Загрузить",2,2,3.1,3.3,2.2999999999999998,3,3.2,2.4,0.10000000000000009,9.9999999999999645E-2,-0.10000000000000009]
["LITHUANIA: A Lyga","2021.04.13 17:00","FK Panevezys","Hegelmann Litauen","dYtQ21VG",116,null,null,"Загрузить",2,2,1.44,4,6.5,1.66,3.6,4.2,-0.21999999999999997,0.39999999999999991,2.2999999999999998]
["ROMANIA: Liga 3 - Seria 5","2021.04.13 17:00","Kids Tampa Brasov","Odorheiu","lCece4Tc",157,null,null,"Загрузить",0,3,6.75,5.25,1.33,6.7,5.5,1.3,4.9999999999999822E-2,-0.25,3.0000000000000027E-2]
["WORLD: Friendly International Women","2021.04.13 17:00","Germany W","Norway W","AwQai1q1",8,null,null,"Загрузить",3,1,1.28,5.25,8,1.33,5,6,-5.0000000000000044E-2,0.25,2]
["WORLD: Friendly International Women","2021.04.13 17:00","Italy W","Iceland W","M5yN9TyK",8,null,null,"Загрузить",1,1,1.65,3.6,5,1.66,3.5,4.33,-1.0000000000000009E-2,0.10000000000000009,0.66999999999999993]
["DR CONGO: Ligue 1","2021.04.13 17:30","Mazembe","Don Bosco","KG5F5sas",55,null,null,"Загрузить",null,null,null,null,null,null,null,null,"","",""]
["POLAND: III Liga - Group IV","2021.04.13 18:00","S. Wola","Hetman Zamosc","CS5MtvAn",154,null,null,"Загрузить",5,0,1.08,8.9,22,1.1000000000000001,9,14.5,-2.0000000000000018E-2,-9.9999999999999645E-2,7.5]
["REPUBLIC OF THE CONGO: Ligue 1","2021.04.13 18:00","Kondzo","Nico-Nicoye","dbr3kQbr",56,null,null,"Загрузить",2,1,null,null,null,null,null,null,"","",""]
["SWITZERLAND: Swiss Cup","2021.04.13 18:00","Lugano","Luzern","AaieKaX2",182,null,null,"Загрузить",1,1,2.5,3.1,2.7,2.4,3.4,2.5,0.10000000000000009,-0.29999999999999982,0.20000000000000018]
["WORLD: Club Friendly","2021.04.13 18:00","HJK","AC Oulu","tCk7RSad",8,null,null,"Загрузить",4,0,1.1399999999999999,6.5,12,1.2,6.5,8.5,-6.0000000000000053E-2,0,3.5]
["SLOVENIA: Prva liga","2021.04.13 18:15","O. Ljubljana","Bravo","UD7X6G4r",172,null,null,"Загрузить",1,1,1.53,3.75,6,1.61,3.5,4.75,-8.0000000000000071E-2,0.25,1.25]
["BULGARIA: Bulgarian Cup","2021.04.13 18:30","Slavia Sofia","Arda","nZZSGdLm",41,null,null,"Загрузить",0,1,3.4,3.1,2.15,2.62,3,2.5,0.7799999999999998,0.10000000000000009,-0.35000000000000009]
["CROATIA: 3. HNL West","2021.04.13 18:30","Krk","Buje","IqsximYR",59,null,null,"Загрузить",4,2,2.5099999999999998,3.56,2.56,2.4500000000000002,3.4,2.4500000000000002,5.9999999999999609E-2,0.16000000000000014,0.10999999999999988]
["ANGOLA: Girabola","2021.04.13 19:00","Primeiro de Agosto","Caala","fTYZDaMh",20,null,null,"Загрузить",4,0,1.72,2.92,6.79,1.59,3.2,6.1,0.12999999999999989,-0.28000000000000025,0.69000000000000039]
["CYPRUS: First Division - Relegation Group","2021.04.13 19:00","Karmiotissa","Achnas","xM5mzMm2",61,null,null,"Загрузить",2,4,15,6,1.1599999999999999,4.75,3.8,1.57,10.25,2.2000000000000002,-0.41000000000000014]
["ETHIOPIA: Premier League","2021.04.13 19:00","Adama City","Hadiya Hossana","ny96h0CL",74,null,null,"Загрузить",1,1,6.05,3.6,1.53,5.7,3.74,1.51,0.34999999999999964,-0.14000000000000012,2.0000000000000018E-2]
["FAROE ISLANDS: 1. Deild","2021.04.13 19:00","AB Argir","HB Torshavn 2","WYTPoe2D",231,null,null,"Загрузить",2,1,2.46,4.0599999999999996,2.2999999999999998,2.4,4,2.25,6.0000000000000053E-2,5.9999999999999609E-2,4.9999999999999822E-2]
["GUINEA: Ligue 1","2021.04.13 19:00","Wakriya","Satellite","z13pkCkD",86,null,null,"Загрузить",1,1,null,null,null,null,null,null,"","",""]
["LITHUANIA: A Lyga","2021.04.13 19:00","Banga","Dainava Alytus","h0zZ0u0T",116,null,null,"Загрузить",2,0,1.85,3.4,3.8,2.15,3.2,3,-0.29999999999999982,0.19999999999999973,0.79999999999999982]
["ROMANIA: Romanian Cup","2021.04.13 19:00","Astra","Din. Bucuresti","2BsAvVxM",157,null,null,"Загрузить",1,0,2.25,3.3,2.87,2.1,3.25,3.25,0.14999999999999991,4.9999999999999822E-2,-0.37999999999999989]
["TURKEY: 1. Lig","2021.04.13 19:00","Altinordu","Adana Demirspor","0tEx58ys",191,null,null,"Загрузить",0,1,3,3.5,2,2.6,3.4,2.2999999999999998,0.39999999999999991,0.10000000000000009,-0.29999999999999982]
["TURKEY: 1. Lig","2021.04.13 19:00","Giresunspor","Keciorengucu","vXCt4Sjm",191,null,null,"Загрузить",2,1,1.95,3,4,1.8,3.25,4,0.14999999999999991,-0.25,0]
["WORLD: Club Friendly","2021.04.13 19:00","Michigan Stars","San Diego 1904","t2xDmSqc",8,null,null,"Загрузить",1,1,null,null,null,null,null,null,"","",""]
["WORLD: Olympic Games Women - Qualification - Promotion","2021.04.13 19:00","Chile W","Cameroon W","nuXmqBQa",8,null,null,"Загрузить",0,0,1.97,3.58,3.16,2.02,3.4,2.99,-5.0000000000000044E-2,0.18000000000000016,0.16999999999999993]
["AUSTRIA: 2. Liga","2021.04.13 19:10","Amstetten","A. Klagenfurt","dGcFWdGg",25,null,null,"Загрузить",1,6,4.2,3.75,1.75,3.2,3.5,2.0499999999999998,1,0.25,-0.29999999999999982]
["AUSTRIA: 2. Liga","2021.04.13 19:30","Floridsdorfer AC","Vorwarts Steyr","rXaRTf0C",25,null,null,"Загрузить",0,1,1.72,3.75,4,1.8,3.6,3.75,-8.0000000000000071E-2,0.14999999999999991,0.25]
["AUSTRIA: 2. Liga","2021.04.13 19:30","Horn","Wacker Innsbruck","4t1NUzo6",25,null,null,"Загрузить",2,3,4.75,4.2,1.57,3.5,3.8,1.83,1.25,0.40000000000000036,-0.26]
["AUSTRIA: 2. Liga","2021.04.13 19:30","Kapfenberg","Lafnitz","vagzSYUO",25,null,null,"Загрузить",1,0,3.1,3.6,2.0499999999999998,3.2,3.6,2,-0.10000000000000009,0,4.9999999999999822E-2]
["ENGLAND: Championship","2021.04.13 19:30","Huddersfield","Bournemouth","betyLXjQ",198,null,null,"Загрузить",1,2,4.5,3.6,1.8,3.6,3.5,2,0.89999999999999991,0.10000000000000009,-0.19999999999999996]
["GIBRALTAR: Gibraltar Cup","2021.04.13 19:30","Europa FC","St Josephs","MilqfZ6F",304,null,null,"Загрузить",3,0,null,null,null,null,null,null,"","",""]
["PORTUGAL: Taca Revelacao U23","2021.04.13 19:30","Famalicao U23","Belenenses U23","MmrTauaI",155,null,null,"Загрузить",2,1,1.94,3.67,3.56,1.82,3.6,3.66,0.11999999999999988,6.999999999999984E-2,-0.10000000000000009]
["WORLD: Friendly International Women","2021.04.13 19:30","Netherlands W","Australia W","6iOMikHR",8,null,null,"Загрузить",5,0,1.36,4.33,7.5,1.83,3.4,3.6,-0.47,0.93000000000000016,3.9]
["WORLD: Friendly International Women","2021.04.13 19:30","Poland W","Sweden W","xpEqctgP",8,null,null,"Загрузить",2,4,9.5,6,1.22,6.5,4.75,1.33,3,1.25,-0.1100000000000001]
["ENGLAND: Championship","2021.04.13 20:00","Sheffield Wed","Swansea","jV0ZAy64",198,null,null,"Загрузить",0,2,2.8,3.1,2.62,3.75,3.3,2,-0.95000000000000018,-0.19999999999999973,0.62000000000000011]
["ENGLAND: League One","2021.04.13 20:00","Crewe","Portsmouth","zcTG181P",198,null,null,"Загрузить",0,0,3.2,3.4,2.2000000000000002,3,3.4,2.2999999999999998,0.20000000000000018,0,-9.9999999999999645E-2]
["ENGLAND: League One","2021.04.13 20:00","Wigan","Sunderland","S4ZB3qk3",198,null,null,"Загрузить",2,1,4.5,3.6,1.8,4.5,3.8,1.72,0,-0.19999999999999973,8.0000000000000071E-2]
["GERMANY: Regionalliga Sudwest","2021.04.13 20:00","Elversberg","Stadtallendorf","2whTy92m",81,null,null,"Загрузить",4,1,1.08,10.5,27,1.1100000000000001,7.4,15,-3.0000000000000027E-2,3.0999999999999996,12]
["MALI: Premiere Division","2021.04.13 20:00","CO Bamako","Sonni","8CS8gfa1",123,null,null,"Загрузить",4,0,null,null,null,null,null,null,"","",""]
["MALI: Premiere Division","2021.04.13 20:00","Djoliba","Yeelen","MFWChEE7",123,null,null,"Загрузить",1,0,null,null,null,null,null,null,"","",""]
["SCOTLAND: Championship","2021.04.13 20:00","Dunfermline","Dundee FC","lr6FK4g9",199,null,null,"Загрузить",0,0,3.2,3.6,2,2.25,3.25,2.9,0.95000000000000018,0.35000000000000009,-0.89999999999999991]
["SWEDEN: Superettan","2021.04.13 20:00","Sundsvall","Helsingborg","04EKVNQG",181,null,null,"Загрузить",2,2,2.75,3.5,2.4,2.4,3.5,2.75,0.35000000000000009,0,-0.35000000000000009]
["WORLD: Friendly International Women","2021.04.13 20:00","Spain W","Mexico W","nBqd6lWK",8,null,null,"Загрузить",3,0,1.03,12,19,1.07,10,17,-4.0000000000000036E-2,2,2]
["ENGLAND: League One","2021.04.13 20:30","AFC Wimbledon","Ipswich","EBxHsYi3",198,null,null,"Загрузить",3,0,3,3.1,2.5,3.2,3.4,2.2000000000000002,-0.20000000000000018,-0.29999999999999982,0.29999999999999982]
["ENGLAND: League Two","2021.04.13 20:30","Morecambe","Scunthorpe","QRuweUnf",198,null,null,"Загрузить",4,1,1.65,3.75,5.75,2.2000000000000002,3.25,3.3,-0.55000000000000027,0.5,2.4500000000000002]
["ENGLAND: Championship","2021.04.13 21:00","Rotherham","QPR","tQUwBMmE",198,null,null,"Загрузить",3,1,2.4,3.6,2.75,2.7,3.25,2.6,-0.30000000000000027,0.35000000000000009,0.14999999999999991]
["ENGLAND: League One","2021.04.13 21:00","Blackpool","Accrington","Eiri9YnU",198,null,null,"Загрузить",0,0,1.72,3.75,4.75,1.66,3.8,5,6.0000000000000053E-2,-4.9999999999999822E-2,-0.25]
["ENGLAND: League One","2021.04.13 21:00","Doncaster","Burton","rNzeC4Ei",198,null,null,"Загрузить",0,3,2.4,3.25,3,2.25,3.4,3.1,0.14999999999999991,-0.14999999999999991,-0.10000000000000009]
["ENGLAND: League One","2021.04.13 21:00","Lincoln","MK Dons","tAQvOAWn",198,null,null,"Загрузить",4,0,2.35,3.4,3,2.2000000000000002,3.4,3.2,0.14999999999999991,0,-0.20000000000000018]
["ENGLAND: League One","2021.04.13 21:00","Oxford Utd","Shrewsbury","2TYq2aZn",198,null,null,"Загрузить",4,1,1.9,3.3,4.33,2,3.4,3.75,-0.10000000000000009,-0.10000000000000009,0.58000000000000007]
["ENGLAND: League One","2021.04.13 21:00","Rochdale","Swindon","prB0Ai2m",198,null,null,"Загрузить",2,1,2.2999999999999998,3.3,3,2.5,3.4,2.7,-0.20000000000000018,-0.10000000000000009,0.29999999999999982]
["ENGLAND: League Two","2021.04.13 21:00","Barrow","Exeter","G0IwChm5",198,null,null,"Загрузить",2,1,3.2,3.25,2.2999999999999998,2.5,3.4,2.5,0.70000000000000018,-0.14999999999999991,-0.20000000000000018]
["ENGLAND: League Two","2021.04.13 21:00","Bradford City","Crawley","lzjol7HJ",198,null,null,"Загрузить",0,2,1.95,3.5,3.8,2.37,3.3,2.7,-0.42000000000000015,0.20000000000000018,1.0999999999999996]
["ENGLAND: League Two","2021.04.13 21:00","Harrogate","Leyton Orient","YJNVdjIs",198,null,null,"Загрузить",2,2,2.25,3.2,3.4,2.25,3.25,3.2,0,-4.9999999999999822E-2,0.19999999999999973]
["ENGLAND: League Two","2021.04.13 21:00","Newport","Carlisle","8OYKpdaS",198,null,null,"Загрузить",0,0,2.75,2.87,2.87,2.5,3.2,2.87,0.25,-0.33000000000000007,0]
["ENGLAND: League Two","2021.04.13 21:00","Salford","Bolton","OMTTjOki",198,null,null,"Загрузить",0,1,2.6,3.2,2.87,2.2000000000000002,3.3,3.25,0.39999999999999991,-9.9999999999999645E-2,-0.37999999999999989]
["ENGLAND: League Two","2021.04.13 21:00","Walsall","Tranmere","OIHJukGu",198,null,null,"Загрузить",1,0,3.25,3.1,2.2999999999999998,3,3.2,2.37,0.25,-0.10000000000000009,-7.0000000000000284E-2]
["ENGLAND: National League","2021.04.13 21:00","Dag & Red","Eastleigh","Wbe6vXv2",198,null,null,"Загрузить",2,0,2.37,3.1,3,2.62,3.5,2.5,-0.25,-0.39999999999999991,0.5]
["ENGLAND: National League","2021.04.13 21:00","FC Halifax","Wrexham","CSHMmjz6",198,null,null,"Загрузить",0,4,2.15,3.6,3.1,2.37,3.4,2.87,{"$f":"IF(L130=\"\",\"\",L130-O130)","v":-0.2200000000000002},{"$f":"IF(M130=\"\",\"\",M130-P130)","v":0.20000000000000018},{"$f":"IF(N130=\"\",\"\",N130-Q130)","v":0.22999999999999998}]
["ENGLAND: National League","2021.04.13 21:00","Solihull Moors","Notts Co","byULtYTi",198,null,null,"Загрузить",2,1,2.87,3.5,2.2999999999999998,2.62,3.25,2.62,0.25,0.25,-0.32000000000000028]
["ENGLAND: National League","2021.04.13 21:00","Stockport","King’s Lynn","tUxc1fnF",198,null,null,"Загрузить",4,0,1.28,5,11,1.33,5,9,-5.0000000000000044E-2,0,2]
["ENGLAND: National League","2021.04.13 21:00","Sutton","Torquay","vFe00E1L",198,null,null,"Загрузить",0,1,2.0499999999999998,3.4,3.5,2.37,3.4,2.87,-0.32000000000000028,0,0.62999999999999989]
["ENGLAND: FA Youth Cup","2021.04.13 21:00","Tottenham U18","West Brom U18","6DZEXeeh",198,null,null,"Загрузить",0,5,null,null,null,null,null,null,"","",""]
["EUROPE: Euro Women - Qualification - Promotion","2021.04.13 21:00","Switzerland W","Czech Republic W","AHO3fUBR",6,null,null,"Загрузить",1,1,1.5,3.8,6,1.57,3.6,5,-7.0000000000000062E-2,0.19999999999999973,1]
["FAROE ISLANDS: 1. Deild","2021.04.13 21:00","Streymur 2","B36 Torshavn 2","4vY88I9Q",231,null,null,"Загрузить",2,0,null,null,null,null,null,null,"","",""]
["FRANCE: National","2021.04.13 21:00","Boulogne","Sete","OET3f7ib",77,null,null,"Загрузить",3,0,2.14,2.66,4.46,1.66,3.15,5.45,0.4800000000000002,-0.48999999999999977,-0.99000000000000021]
["SCOTLAND: Championship","2021.04.13 21:00","Queen of South","Raith","zeYCfBzt",199,null,null,"Загрузить",0,1,2.6,3.4,2.37,2.5,3.4,2.5,0.10000000000000009,0,-0.12999999999999989]
["SCOTLAND: League One","2021.04.13 21:00","Airdrieonians","Forfar Athletic","t4XY6frg",199,null,null,"Загрузить",3,1,1.4,3.75,7.5,1.57,3.4,5.5,-0.17000000000000015,0.35000000000000009,2]
["SCOTLAND: League One","2021.04.13 21:00","Partick Thistle","Clyde","QeXsv58k",199,null,null,"Загрузить",2,0,1.45,3.6,7,1.44,4.2,5.5,1.0000000000000009E-2,-0.60000000000000009,1.5]
["SCOTLAND: League Two","2021.04.13 21:00","Albion Rovers","Cowdenbeath","vempxzCi",199,null,null,"Загрузить",0,0,2.4,3.25,2.5499999999999998,1.9,3.4,3.4,0.5,-0.14999999999999991,-0.85000000000000009]
["SCOTLAND: League Two","2021.04.13 21:00","Edinburgh City","Brechin","YHnlyfRc",199,null,null,"Загрузить",2,1,1.28,4.75,8.5,1.33,4.5,7,-5.0000000000000044E-2,0.25,1.5]
["SCOTLAND: League Two","2021.04.13 21:00","Queen's Park","Annan","C8ohzEt4",199,null,null,"Загрузить",1,0,1.22,5.5,12,1.4,4.33,6,-0.17999999999999994,1.17,6]
["SCOTLAND: League Two","2021.04.13 21:00","Stenhousemuir","Elgin City","UqtcZXeA",199,null,null,"Загрузить",2,0,2.7,3.4,2.2000000000000002,2.5,3.4,2.37,0.20000000000000018,0,-0.16999999999999993]
["SCOTLAND: League Two","2021.04.13 21:00","Stirling","Stranraer","8zu1YiBG",199,null,null,"Загрузить",0,1,2.0499999999999998,3.5,3,2.2000000000000002,3.4,2.75,-0.15000000000000036,0.10000000000000009,0.25]
["SPAIN: Tercera Division - Group 12","2021.04.13 21:00","Vera","Atl. Victoria","WCpAbhBt",176,null,null,"Загрузить",1,1,1.58,3.72,5.55,2.2200000000000002,3.24,2.87,-0.64000000000000012,0.48,2.6799999999999997]
["PERU: Liga 1 - Apertura","2021.04.13 21:15","Cusco","Sport Boys","8bF31Tr1",152,null,null,"Загрузить",2,2,2.2000000000000002,3.4,2.9,1.9,3.4,3.6,0.30000000000000027,0,-0.70000000000000018]
["WORLD: Friendly International Women","2021.04.13 21:15","England W","Canada W","rJfZUgwB",8,null,null,"Загрузить",0,2,1.65,3.75,4.75,1.72,3.5,4,-7.0000000000000062E-2,0.25,0.75]
["WORLD: Friendly International Women","2021.04.13 21:15","Wales W","Denmark W","E55Bh01t",8,null,null,"Загрузить",1,1,8.5,4.75,1.25,7,4.5,1.33,1.5,0.25,-8.0000000000000071E-2]
["AUSTRIA: 2. Liga","2021.04.13 21:25","Dornbirn","A. Lustenau","AJ1JVGVa",25,null,null,"Загрузить",2,0,3.3,3.5,2,2.37,3.4,2.7,0.92999999999999972,0.10000000000000009,-0.70000000000000018]
["ARGENTINA: Primera C - Apertura","2021.04.13 21:30","Argentino de Merlo","Club Lujan","tAbnjjVg",22,null,null,"Загрузить",1,3,2.11,3.08,3.7,1.93,3,3.98,0.17999999999999994,8.0000000000000071E-2,-0.2799999999999998]
["ARGENTINA: Primera C - Apertura","2021.04.13 21:30","Central Cordoba","San Martin Burzaco","rZf3n8UI",22,null,null,"Загрузить",0,0,1.78,3.09,5.41,1.82,3,4.5999999999999996,-4.0000000000000036E-2,8.9999999999999858E-2,0.8100000000000005]
["ARGENTINA: Primera C - Apertura","2021.04.13 21:30","Dock Sud","Atlas","KfAwhC0s",22,null,null,"Загрузить",0,1,2.0099999999999998,3.19,3.86,2.12,3,3.36,-0.11000000000000032,0.18999999999999995,0.5]
["ARGENTINA: Primera C - Apertura","2021.04.13 21:30","Excursionistas","Sportivo Italiano","WbiamlFC",22,null,null,"Загрузить",2,2,2.3199999999999998,2.89,3.41,2.17,3.15,3.3,0.14999999999999991,-0.25999999999999979,0.11000000000000032]
["ARGENTINA: Primera C - Apertura","2021.04.13 21:30","Leandro N. Alem","Deportivo Espanol","Aq3jkAp0",22,null,null,"Загрузить",1,0,2.29,3.06,3.26,2.3199999999999998,2.9,3.07,-2.9999999999999805E-2,0.16000000000000014,0.18999999999999995]
["FAROE ISLANDS: 1. Deild","2021.04.13 21:30","Vikingur 2","Skala Itrottarfelag","pxI7AvuE",231,null,null,"Загрузить",1,2,null,null,null,null,null,null,"","",""]
["MALI: Premiere Division","2021.04.13 21:30","Real Bamako","AS Police","AJHvCRtf",123,null,null,"Загрузить",0,0,null,null,null,null,null,null,"","",""]
["SAUDI ARABIA: Division 1","2021.04.13 21:30","Al Khaleej","Al Feiha","fgI7GrCT",165,null,null,"Загрузить",0,5,3.91,3.29,1.96,3.06,3.1,2.2200000000000002,0.85000000000000009,0.18999999999999995,-0.26000000000000023]
["SAUDI ARABIA: Division 1","2021.04.13 21:30","Al-Sahel","Hajer","tjE3HOdN",165,null,null,"Загрузить",4,1,3.02,2.89,2.4900000000000002,3.48,3.1,2.02,-0.45999999999999996,-0.20999999999999996,0.4700000000000002]
["SAUDI ARABIA: Division 1","2021.04.13 21:35","Al Adalh","Ohod","CY4ZB2Kp",165,null,null,"Загрузить",1,1,2.0299999999999998,3.2,3.6,2.27,3,3.07,-0.24000000000000021,0.20000000000000018,0.53000000000000025]
["ENGLAND: National League","2021.04.13 21:45","Chesterfield","Boreham Wood","h8d2uDPe",198,null,null,"Загрузить",0,0,2.1,3.3,3.5,1.9,3.4,4,0.20000000000000018,-0.10000000000000009,-0.5]
["ENGLAND: National League","2021.04.13 21:45","Weymouth","Aldershot","zosWfhPr",198,null,null,"Загрузить",0,3,3.75,3.5,1.95,3,3.5,2.25,0.75,0,-0.30000000000000004]
["ENGLAND: National League","2021.04.13 21:45","Woking","Bromley","hMyyfCvk",198,null,null,"Загрузить",3,4,3.3,3.4,2.2000000000000002,3.3,3.5,2.1,0,-0.10000000000000009,0.10000000000000009]
["ENGLAND: National League","2021.04.13 21:45","Yeovil","Maidenhead","WCzugWge",198,null,null,"Загрузить",null,null,2,3.4,3.75,2,3.4,3.75,0,0,0]
["ENGLAND: National League South","2021.04.13 21:45","Dulwich Hamlet","Dorking","YJ1mRk21",198,null,null,"Загрузить",null,null,5.25,4.33,1.44,2.7,3.6,2.2000000000000002,2.5499999999999998,0.73,-0.76000000000000023]
["EUROPE: Euro Women - Qualification - Promotion","2021.04.13 21:45","Northern Ireland W","Ukraine W","KSVjcWR8",6,null,null,"Загрузить",2,0,3.8,3.4,1.83,2.8,3.25,2.2000000000000002,1,0.14999999999999991,-0.37000000000000011]
["GIBRALTAR: Gibraltar Cup","2021.04.13 21:45","Manchester 62","College 1975 FC","CM2zW3fQ",304,null,null,"Загрузить",1,1,null,null,null,null,null,null,"","",""]
["IRELAND: Premier Division","2021.04.13 21:45","Derry City","Shamrock Rovers","Yophvoj3",96,null,null,"Загрузить",0,2,6,3.75,1.57,5,3.5,1.66,1,0.25,-8.9999999999999858E-2]
["NORTHERN IRELAND: NIFL Premiership","2021.04.13 21:45","Glentoran","Coleraine","YVPkvcbm",144,null,null,"Загрузить",2,2,1.85,3.4,3.6,2.4,3.4,2.62,-0.54999999999999982,0,0.98]
["NORTHERN IRELAND: NIFL Premiership","2021.04.13 21:45","Portadown","Dungannon","ObiWd89j",144,null,null,"Загрузить",1,0,2.0499999999999998,3.2,3.1,2.8,3.25,2.5,-0.75,-4.9999999999999822E-2,0.60000000000000009]
["NORTHERN IRELAND: NIFL Premiership","2021.04.13 21:45","Warrenpoint","Carrick Rangers","E7jDQwUm",144,null,null,"Загрузить",0,0,1.95,3.4,3.3,1.9,3.4,3.6,5.0000000000000044E-2,0,-0.30000000000000027]
["SAN MARINO: Campionato Sammarinese","2021.04.13 21:45","Fiorentino","La Fiorita","pIoNfJam",163,null,null,"Загрузить",0,4,null,null,null,null,null,null,"","",""]
["SAN MARINO: Campionato Sammarinese","2021.04.13 21:45","Juvenes/Dogana","Folgore","WEsJeaps",163,null,null,"Загрузить",1,6,null,null,null,null,null,null,"","",""]
["SAN MARINO: Campionato Sammarinese","2021.04.13 21:45","Murata","Faetano","EZfi0uxQ",163,null,null,"Загрузить",0,0,null,null,null,null,null,null,"","",""]
["SAN MARINO: Campionato Sammarinese","2021.04.13 21:45","San Giovanni","Libertas","zqdm1LMJ",163,null,null,"Загрузить",0,0,null,null,null,null,null,null,"","",""]
["SAUDI ARABIA: Division 1","2021.04.13 21:45","Al-Kawkab","Al-Nahda","jP3wBMZj",165,null,null,"Загрузить",2,2,null,null,null,null,null,null,"","",""]
["WALES: Cymru Premier - Championship Group","2021.04.13 21:45","Barry","TNS","4pXOXYJA",207,null,null,"Загрузить",0,6,8,4.33,1.36,4.75,3.75,1.57,3.25,0.58000000000000007,-0.20999999999999996]
["WALES: Cymru Premier - Championship Group","2021.04.13 21:45","Caernarfon","Connahs Q.","zXgdFQ3q",207,null,null,"Загрузить",1,6,6,4.2,1.44,4.75,3.75,1.57,1.25,0.45000000000000018,-0.13000000000000012]
["WALES: Cymru Premier - Championship Group","2021.04.13 21:45","Penybont","Bala","ryWSWhZG",207,null,null,"Загрузить",2,3,3.3,3.75,1.9,2.87,3.75,2,0.42999999999999972,0,-0.10000000000000009]
["WALES: Cymru Premier - Relegation Group","2021.04.13 21:45","Cardiff Metropolitan","Newtown","Y503iKG0",207,null,null,"Загрузить",2,2,2.4,3.6,2.5499999999999998,2.4,3.5,2.4,0,0.10000000000000009,0.14999999999999991]
["WALES: Cymru Premier - Relegation Group","2021.04.13 21:45","Flint","Druids","tW3BkboD",207,null,null,"Загрузить",5,0,2.2000000000000002,3.75,2.75,2.25,3.75,2.5,-4.9999999999999822E-2,0,0.25]
["WALES: Cymru Premier - Relegation Group","2021.04.13 21:45","Haverfordwest","Aberystwyth","n947jvW6",207,null,null,"Загрузить",1,0,2.1,3.75,2.87,2,3.75,2.87,0.10000000000000009,0,0]
["BRAZIL: Campeonato Goiano","2021.04.13 22:00","Gremio Anapolis","Itumbiara","ELFZgXCj",39,null,null,"Загрузить",2,0,1.53,3.8,5.75,1.5,4,5,3.0000000000000027E-2,-0.20000000000000018,0.75]
["BRAZIL: Campeonato Sul-Matogrossense - First stage","2021.04.13 22:00","Tres Lagoas","Chapadao","EDaxLQSI",39,null,null,"Загрузить",2,4,4.4800000000000004,4.3,1.55,4.08,3.5,1.75,0.40000000000000036,0.79999999999999982,-0.19999999999999996]
["EUROPE: Champions League - Play Offs","2021.04.13 22:00","Chelsea","FC Porto","pjVAvcoi",6,null,null,"Загрузить",0,1,1.8,3.75,4.33,1.61,4.2,4.75,0.18999999999999995,-0.45000000000000018,-0.41999999999999993]
["EUROPE: Champions League - Play Offs","2021.04.13 22:00","Paris SG","Bayern Munich","4fhOGggp",6,null,null,"Загрузить",0,1,2.87,4.33,2.1,2.8,3.75,2.25,7.0000000000000284E-2,0.58000000000000007,-0.14999999999999991]
["FAROE ISLANDS: 1. Deild","2021.04.13 22:00","Klaksvik 2","NSI Runavik 2","OSGB9bfK",231,null,null,"Загрузить",2,2,null,null,null,null,null,null,"","",""]
["KUWAIT: Premier League","2021.04.13 22:00","Al Arabi","Al Kuwait","A7Hc84p1",107,null,null,"Загрузить",1,0,2.4,3.3,2.62,2.37,4,2.25,2.9999999999999805E-2,-0.70000000000000018,0.37000000000000011]
["KUWAIT: Premier League","2021.04.13 22:00","Al Naser","Al Shabab","KxwJFnhR",107,null,null,"Загрузить",1,1,1.85,3.3,3.8,1.5,4,5,0.35000000000000009,-0.70000000000000018,-1.2000000000000002]
["SAUDI ARABIA: Division 1","2021.04.13 22:05","Al Taee","Al Bukayriyah","veBBJEwi",165,null,null,"Загрузить",2,1,1.86,3.63,3.88,1.45,4.2,5.7,0.41000000000000014,-0.57000000000000028,-1.8200000000000003]
["SAUDI ARABIA: Division 1","2021.04.13 22:10","Jeddah","Najran","IoAFIYhc",165,null,null,"Загрузить",2,2,2.17,3.21,3.36,2.2200000000000002,3.1,3.06,-5.0000000000000266E-2,0.10999999999999988,0.29999999999999982]
["WORLD: Friendly International Women","2021.04.13 22:10","France W","USA W","6mEm2EuA",8,null,null,"Загрузить",0,2,3.75,3.4,1.9,3.1,3.4,2,0.64999999999999991,0,-0.10000000000000009]
["ECUADOR: Liga Pro - First stage","2021.04.13 22:30","Nueve de Octubre","Guayaquil City","baOUEklk",68,null,null,"Загрузить",4,0,2,3.3,3.25,2.2000000000000002,3.25,2.87,-0.20000000000000018,4.9999999999999822E-2,0.37999999999999989]
["PORTUGAL: Liga Portugal 2","2021.04.13 22:30","Mafra","Casa Pia","nThebbnQ",155,null,null,"Загрузить",0,4,2.37,2.8,3.2,2.4500000000000002,2.75,3.1,{"$f":"IF(L194=\"\",\"\",L194-O194)","v":-8.0000000000000071E-2},{"$f":"IF(M194=\"\",\"\",M194-P194)","v":4.9999999999999822E-2},{"$f":"IF(N194=\"\",\"\",N194-Q194)","v":0.10000000000000009}]
["BRAZIL: Copa do Brasil","2021.04.13 22:45","Paysandu PA","CRB","tQbqUs0B",39,null,null,"Загрузить",1,2,3.1,3,2.4,3.2,3.3,2,-0.10000000000000009,-0.29999999999999982,0.39999999999999991]
["PERU: Liga 1 - Apertura","2021.04.13 23:30","Binacional","Alianza Huanuco","06XAa7DD",152,null,null,"Загрузить",2,1,2.62,3.25,2.37,2.7,3.1,2.5,-8.0000000000000071E-2,0.14999999999999991,-0.12999999999999989]
["WORLD: Friendly International Women","2021.04.13 23:30","Ecuador W","Colombia W","dKFTXFnB",8,null,null,"Загрузить",0,4,null,null,null,null,null,null,"","",""]
["WORLD: Club Friendly","2021.04.14 00:00","Detroit","California Utd.","KhyHnna3",8,null,null,"Загрузить",0,0,null,null,null,null,null,null,"","",""]
[null,null,null,null,null,null,null,null,null,null,null,null,null,null,null,null,null,"","",""]
[null,null,null,null,null,null,null,null,null,null,null,null,null,null,null,null,null,"","",""]
[null,null,null,null,null,null,null,null,null,null,null,null,null,null,null,null,null,"","",""]
[null,null,null,null,null,null,null,null,null,null,null,null,null,null,null,null,null,"","",""]
[null,null,null,null,null,null,null,null,null,null,null,null,null,null,null,null,null,"","",""]
[null,null,null,null,null,null,null,null,null,null,null,null,null,null,null,null,null,"","",""]
[null,null,null,null,null,null,null,null,null,null,null,null,null,null,null,null,null,"","",""]
[null,null,null,null,null,null,null,null,null,null,null,null,null,null,null,null,null,"","",""]
[null,null,null,null,null,null,null,null,null,null,null,null,null,null,null,null,null,"","",""]
[null,null,null,null,null,null,null,null,null,null,null,null,null,null,null,null,null,"","",""]
[null,null,null,null,null,null,null,null,null,null,null,null,null,null,null,null,null,"","",""]
[null,null,null,null,null,null,null,null,null,null,null,null,null,null,null,null,null,"","",""]
[null,null,null,null,null,null,null,null,null,null,null,null,null,null,null,null,null,"","",""]
[null,null,null,null,null,null,null,null,null,null,null,null,null,null,null,null,null,"","",""]
[null,null,null,null,null,null,null,null,null,null,null,null,null,null,null,null,null,"","",""]
[null,null,null,null,null,null,null,null,null,null,null,null,null,null,null,null,null,"","",""]
[null,null,null,null,null,null,null,null,null,null,null,null,null,null,null,null,null,"","",""]
[null,null,null,null,null,null,null,null,null,null,null,null,null,null,null,null,null,"","",""]
[null,null,null,null,null,null,null,null,null,null,null,null,null,null,null,null,null,"","",""]
[null,null,null,null,null,null,null,null,null,null,null,null,null,null,null,null,null,"","",""]
[null,null,null,null,null,null,null,null,null,null,null,null,null,null,null,null,null,"","",""]
[null,null,null,null,null,null,null,null,null,null,null,null,null,null,null,null,null,"","",""]
[null,null,null,null,null,null,null,null,null,null,null,null,null,null,null,null,null,"","",""]
[null,null,null,null,null,null,null,null,null,null,null,null,null,null,null,null,null,"","",""]
[null,null,null,null,null,null,null,null,null,null,null,null,null,null,null,null,null,"","",""]
[null,null,null,null,null,null,null,null,null,null,null,null,null,null,null,null,null,"","",""]
[null,null,null,null,null,null,null,null,null,null,null,null,null,null,null,null,null,"","",""]
[null,null,null,null,null,null,null,null,null,null,null,null,null,null,null,null,null,"","",""]
[null,null,null,null,null,null,null,null,null,null,null,null,null,null,null,null,null,"","",""]
[null,null,null,null,null,null,null,null,null,null,null,null,null,null,null,null,null,"","",""]
[null,null,null,null,null,null,null,null,null,null,null,null,null,null,null,null,null,"","",""]
[null,null,null,null,null,null,null,null,null,null,null,null,null,null,null,null,null,"","",""]
[null,null,null,null,null,null,null,null,null,null,null,null,null,null,null,null,null,"","",""]
[null,null,null,null,null,null,null,null,null,null,null,null,null,null,null,null,null,"","",""]
[null,null,null,null,null,null,null,null,null,null,null,null,null,null,null,null,null,"","",""]
[null,null,null,null,null,null,null,null,null,null,null,null,null,null,null,null,null,"","",""]
[null,null,null,null,null,null,null,null,null,null,null,null,null,null,null,null,null,"","",""]
[null,null,null,null,null,null,null,null,null,null,null,null,null,null,null,null,null,"","",""]
[null,null,null,null,null,null,null,null,null,null,null,null,null,null,null,null,null,"","",""]
[null,null,null,null,null,null,null,null,null,null,null,null,null,null,null,null,null,"","",""]
[null,null,null,null,null,null,null,null,null,null,null,null,null,null,null,null,null,"","",""]
[null,null,null,null,null,null,null,null,null,null,null,null,null,null,null,null,null,"","",""]
[null,null,null,null,null,null,null,null,null,null,null,null,null,null,null,null,null,"","",""]
[null,null,null,null,null,null,null,null,null,null,null,null,null,null,null,null,null,"","",""]
[null,null,null,null,null,null,null,null,null,null,null,null,null,null,null,null,null,"","",""]
[null,null,null,null,null,null,null,null,null,null,null,null,null,null,null,null,null,"","",""]
[null,null,null,null,null,null,null,null,null,null,null,null,null,null,null,null,null,"","",""]
[null,null,null,null,null,null,null,null,null,null,null,null,null,null,null,null,null,"","",""]
[null,null,null,null,null,null,null,null,null,null,null,null,null,null,null,null,null,"","",""]
[null,null,null,null,null,null,null,null,null,null,null,null,null,null,null,null,null,"","",""]
[null,null,null,null,null,null,null,null,null,null,null,null,null,null,null,null,null,"","",""]
[null,null,null,null,null,null,null,null,null,null,null,null,null,null,null,null,null,"","",""]
[null,null,null,null,null,null,null,null,null,null,null,null,null,null,null,null,null,"","",""]
[null,null,null,null,null,null,null,null,null,null,null,null,null,null,null,null,null,"","",""]
[null,null,null,null,null,null,null,null,null,null,null,null,null,null,null,null,null,"","",""]
[null,null,null,null,null,null,null,null,null,null,null,null,null,null,null,null,null,"","",""]
[null,null,null,null,null,null,null,null,null,null,null,null,null,null,null,null,null,"","",""]
[null,null,null,null,null,null,null,null,null,null,null,null,null,null,null,null,null,"","",""]
[null,null,null,null,null,null,null,null,null,null,null,null,null,null,null,null,null,"","",""]
[null,null,null,null,null,null,null,null,null,null,null,null,null,null,null,null,null,{"$f":"IF(L258=\"\",\"\",L258-O258)","v":""},{"$f":"IF(M258=\"\",\"\",M258-P258)","v":""},{"$f":"IF(N258=\"\",\"\",N258-Q258)","v":""}]
[null,null,null,null,null,null,null,null,null,null,null,null,null,null,null,null,null,"","",""]
[null,null,null,null,null,null,null,null,null,null,null,null,null,null,null,null,null,"","",""]
[null,null,null,null,null,null,null,null,null,null,null,null,null,null,null,null,null,"","",""]
[null,null,null,null,null,null,null,null,null,null,null,null,null,null,null,null,null,"","",""]
[null,null,null,null,null,null,null,null,null,null,null,null,null,null,null,null,null,"","",""]
[null,null,null,null,null,null,null,null,null,null,null,null,null,null,null,null,null,"","",""]
[null,null,null,null,null,null,null,null,null,null,null,null,null,null,null,null,null,"","",""]
[null,null,null,null,null,null,null,null,null,null,null,null,null,null,null,null,null,"","",""]
[null,null,null,null,null,null,null,null,null,null,null,null,null,null,null,null,null,"","",""]
[null,null,null,null,null,null,null,null,null,null,null,null,null,null,null,null,null,"","",""]
[null,null,null,null,null,null,null,null,null,null,null,null,null,null,null,null,null,"","",""]
[null,null,null,null,null,null,null,null,null,null,null,null,null,null,null,null,null,"","",""]
[null,null,null,null,null,null,null,null,null,null,null,null,null,null,null,null,null,"","",""]
[null,null,null,null,null,null,null,null,null,null,null,null,null,null,null,null,null,"","",""]
[null,null,null,null,null,null,null,null,null,null,null,null,null,null,null,null,null,"","",""]
[null,null,null,null,null,null,null,null,null,null,null,null,null,null,null,null,null,"","",""]
[null,null,null,null,null,null,null,null,null,null,null,null,null,null,null,null,null,"","",""]
[null,null,null,null,null,null,null,null,null,null,null,null,null,null,null,null,null,"","",""]
[null,null,null,null,null,null,null,null,null,null,null,null,null,null,null,null,null,"","",""]
[null,null,null,null,null,null,null,null,null,null,null,null,null,null,null,null,null,"","",""]
[null,null,null,null,null,null,null,null,null,null,null,null,null,null,null,null,null,"","",""]
[null,null,null,null,null,null,null,null,null,null,null,null,null,null,null,null,null,"","",""]
[null,null,null,null,null,null,null,null,null,null,null,null,null,null,null,null,null,"","",""]
[null,null,null,null,null,null,null,null,null,null,null,null,null,null,null,null,null,"","",""]
[null,null,null,null,null,null,null,null,null,null,null,null,null,null,null,null,null,"","",""]
[null,null,null,null,null,null,null,null,null,null,null,null,null,null,null,null,null,"","",""]
[null,null,null,null,null,null,null,null,null,null,null,null,null,null,null,null,null,"","",""]
[null,null,null,null,null,null,null,null,null,null,null,null,null,null,null,null,null,"","",""]
[null,null,null,null,null,null,null,null,null,null,null,null,null,null,null,null,null,"","",""]
[null,null,null,null,null,null,null,null,null,null,null,null,null,null,null,null,null,"","",""]
[null,null,null,null,null,null,null,null,null,null,null,null,null,null,null,null,null,"","",""]
[null,null,null,null,null,null,null,null,null,null,null,null,null,null,null,null,null,"","",""]
[null,null,null,null,null,null,null,null,null,null,null,null,null,null,null,null,null,"","",""]
[null,null,null,null,null,null,null,null,null,null,null,null,null,null,null,null,null,"","",""]
[null,null,null,null,null,null,null,null,null,null,null,null,null,null,null,null,null,"","",""]
[null,null,null,null,null,null,null,null,null,null,null,null,null,null,null,null,null,"","",""]
[null,null,null,null,null,null,null,null,null,null,null,null,null,null,null,null,null,"","",""]
[null,null,null,null,null,null,null,null,null,null,null,null,null,null,null,null,null,"","",""]
[null,null,null,null,null,null,null,null,null,null,null,null,null,null,null,null,null,"","",""]
[null,null,null,null,null,null,null,null,null,null,null,null,null,null,null,null,null,"","",""]
[null,null,null,null,null,null,null,null,null,null,null,null,null,null,null,null,null,"","",""]
[null,null,null,null,null,null,null,null,null,null,null,null,null,null,null,null,null,"","",""]
[null,null,null,null,null,null,null,null,null,null,null,null,null,null,null,null,null,"","",""]
[null,null,null,null,null,null,null,null,null,null,null,null,null,null,null,null,null,"","",""]
[null,null,null,null,null,null,null,null,null,null,null,null,null,null,null,null,null,"","",""]
[null,null,null,null,null,null,null,null,null,null,null,null,null,null,null,null,null,"","",""]
[null,null,null,null,null,null,null,null,null,null,null,null,null,null,null,null,null,"","",""]
[null,null,null,null,null,null,null,null,null,null,null,null,null,null,null,null,null,"","",""]
[null,null,null,null,null,null,null,null,null,null,null,null,null,null,null,null,null,"","",""]
[null,null,null,null,null,null,null,null,null,null,null,null,null,null,null,null,null,"","",""]
[null,null,null,null,null,null,null,null,null,null,null,null,null,null,null,null,null,"","",""]
[null,null,null,null,null,null,null,null,null,null,null,null,null,null,null,null,null,"","",""]
[null,null,null,null,null,null,null,null,null,null,null,null,null,null,null,null,null,"","",""]
[null,null,null,null,null,null,null,null,null,null,null,null,null,null,null,null,null,"","",""]
[null,null,null,null,null,null,null,null,null,null,null,null,null,null,null,null,null,"","",""]
[null,null,null,null,null,null,null,null,null,null,null,null,null,null,null,null,null,"","",""]
[null,null,null,null,null,null,null,null,null,null,null,null,null,null,null,null,null,"","",""]
[null,null,null,null,null,null,null,null,null,null,null,null,null,null,null,null,null,"","",""]
[null,null,null,null,null,null,null,null,null,null,null,null,null,null,null,null,null,"","",""]
[null,null,null,null,null,null,null,null,null,null,null,null,null,null,null,null,null,"","",""]
[null,null,null,null,null,null,null,null,null,null,null,null,null,null,null,null,null,"","",""]
[null,null,null,null,null,null,null,null,null,null,null,null,null,null,null,null,null,"","",""]
[null,null,null,null,null,null,null,null,null,null,null,null,null,null,null,null,null,"","",""]
[null,null,null,null,null,null,null,null,null,null,null,null,null,null,null,null,null,{"$f":"IF(L322=\"\",\"\",L322-O322)","v":""},{"$f":"IF(M322=\"\",\"\",M322-P322)","v":""},{"$f":"IF(N322=\"\",\"\",N322-Q322)","v":""}]
[null,null,null,null,null,null,null,null,null,null,null,null,null,null,null,null,null,"","",""]
[null,null,null,null,null,null,null,null,null,null,null,null,null,null,null,null,null,"","",""]
[null,null,null,null,null,null,null,null,null,null,null,null,null,null,null,null,null,"","",""]
[null,null,null,null,null,null,null,null,null,null,null,null,null,null,null,null,null,"","",""]
[null,null,null,null,null,null,null,null,null,null,null,null,null,null,null,null,null,"","",""]
[null,null,null,null,null,null,null,null,null,null,null,null,null,null,null,null,null,"","",""]
[null,null,null,null,null,null,null,null,null,null,null,null,null,null,null,null,null,"","",""]
[null,null,null,null,null,null,null,null,null,null,null,null,null,null,null,null,null,"","",""]
[null,null,null,null,null,null,null,null,null,null,null,null,null,null,null,null,null,"","",""]
[null,null,null,null,null,null,null,null,null,null,null,null,null,null,null,null,null,"","",""]
[null,null,null,null,null,null,null,null,null,null,null,null,null,null,null,null,null,"","",""]
[null,null,null,null,null,null,null,null,null,null,null,null,null,null,null,null,null,"","",""]
[null,null,null,null,null,null,null,null,null,null,null,null,null,null,null,null,null,"","",""]
[null,null,null,null,null,null,null,null,null,null,null,null,null,null,null,null,null,"","",""]
[null,null,null,null,null,null,null,null,null,null,null,null,null,null,null,null,null,"","",""]
[null,null,null,null,null,null,null,null,null,null,null,null,null,null,null,null,null,"","",""]
[null,null,null,null,null,null,null,null,null,null,null,null,null,null,null,null,null,"","",""]
[null,null,null,null,null,null,null,null,null,null,null,null,null,null,null,null,null,"","",""]
[null,null,null,null,null,null,null,null,null,null,null,null,null,null,null,null,null,"","",""]
[null,null,null,null,null,null,null,null,null,null,null,null,null,null,null,null,null,"","",""]
[null,null,null,null,null,null,null,null,null,null,null,null,null,null,null,null,null,"","",""]
[null,null,null,null,null,null,null,null,null,null,null,null,null,null,null,null,null,"","",""]
[null,null,null,null,null,null,null,null,null,null,null,null,null,null,null,null,null,"","",""]
[null,null,null,null,null,null,null,null,null,null,null,null,null,null,null,null,null,"","",""]
[null,null,null,null,null,null,null,null,null,null,null,null,null,null,null,null,null,"","",""]
[null,null,null,null,null,null,null,null,null,null,null,null,null,null,null,null,null,"","",""]
[null,null,null,null,null,null,null,null,null,null,null,null,null,null,null,null,null,"","",""]
[null,null,null,null,null,null,null,null,null,null,null,null,null,null,null,null,null,"","",""]
[null,null,null,null,null,null,null,null,null,null,null,null,null,null,null,null,null,"","",""]
[null,null,null,null,null,null,null,null,null,null,null,null,null,null,null,null,null,"","",""]
[null,null,null,null,null,null,null,null,null,null,null,null,null,null,null,null,null,"","",""]
[null,null,null,null,null,null,null,null,null,null,null,null,null,null,null,null,null,"","",""]
[null,null,null,null,null,null,null,null,null,null,null,null,null,null,null,null,null,"","",""]
[null,null,null,null,null,null,null,null,null,null,null,null,null,null,null,null,null,"","",""]
[null,null,null,null,null,null,null,null,null,null,null,null,null,null,null,null,null,"","",""]
[null,null,null,null,null,null,null,null,null,null,null,null,null,null,null,null,null,"","",""]
[null,null,null,null,null,null,null,null,null,null,null,null,null,null,null,null,null,"","",""]
[null,null,null,null,null,null,null,null,null,null,null,null,null,null,null,null,null,"","",""]
[null,null,null,null,null,null,null,null,null,null,null,null,null,null,null,null,null,"","",""]
[null,null,null,null,null,null,null,null,null,null,null,null,null,null,null,null,null,"","",""]
[null,null,null,null,null,null,null,null,null,null,null,null,null,null,null,null,null,"","",""]
[null,null,null,null,null,null,null,null,null,null,null,null,null,null,null,null,null,"","",""]
[null,null,null,null,null,null,null,null,null,null,null,null,null,null,null,null,null,"","",""]
[null,null,null,null,null,null,null,null,null,null,null,null,null,null,null,null,null,"","",""]
[null,null,null,null,null,null,null,null,null,null,null,null,null,null,null,null,null,"","",""]
[null,null,null,null,null,null,null,null,null,null,null,null,null,null,null,null,null,"","",""]
[null,null,null,null,null,null,null,null,null,null,null,null,null,null,null,null,null,"","",""]
[null,null,null,null,null,null,null,null,null,null,null,null,null,null,null,null,null,"","",""]
[null,null,null,null,null,null,null,null,null,null,null,null,null,null,null,null,null,"","",""]
[null,null,null,null,null,null,null,null,null,null,null,null,null,null,null,null,null,"","",""]
[null,null,null,null,null,null,null,null,null,null,null,null,null,null,null,null,null,"","",""]
[null,null,null,null,null,null,null,null,null,null,null,null,null,null,null,null,null,"","",""]
[null,null,null,null,null,null,null,null,null,null,null,null,null,null,null,null,null,"","",""]
[null,null,null,null,null,null,null,null,null,null,null,null,null,null,null,null,null,"","",""]
[null,null,null,null,null,null,null,null,null,null,null,null,null,null,null,null,null,"","",""]
[null,null,null,null,null,null,null,null,null,null,null,null,null,null,null,null,null,"","",""]
[null,null,null,null,null,null,null,null,null,null,null,null,null,null,null,null,null,"","",""]
[null,null,null,null,null,null,null,null,null,null,null,null,null,null,null,null,null,"","",""]
[null,null,null,null,null,null,null,null,null,null,null,null,null,null,null,null,null,"","",""]
[null,null,null,null,null,null,null,null,null,null,null,null,null,null,null,null,null,"","",""]
[null,null,null,null,null,null,null,null,null,null,null,null,null,null,null,null,null,"","",""]
[null,null,null,null,null,null,null,null,null,null,null,null,null,null,null,null,null,"","",""]
[null,null,null,null,null,null,null,null,null,null,null,null,null,null,null,null,null,"","",""]
[null,null,null,null,null,null,null,null,null,null,null,null,null,null,null,null,null,{"$f":"IF(L386=\"\",\"\",L386-O386)","v":""},{"$f":"IF(M386=\"\",\"\",M386-P386)","v":""},{"$f":"IF(N386=\"\",\"\",N386-Q386)","v":""}]
[null,null,null,null,null,null,null,null,null,null,null,null,null,null,null,null,null,"","",""]
[null,null,null,null,null,null,null,null,null,null,null,null,null,null,null,null,null,"","",""]
[null,null,null,null,null,null,null,null,null,null,null,null,null,null,null,null,null,"","",""]
[null,null,null,null,null,null,null,null,null,null,null,null,null,null,null,null,null,"","",""]
[null,null,null,null,null,null,null,null,null,null,null,null,null,null,null,null,null,"","",""]
[null,null,null,null,null,null,null,null,null,null,null,null,null,null,null,null,null,"","",""]
[null,null,null,null,null,null,null,null,null,null,null,null,null,null,null,null,null,"","",""]
[null,null,null,null,null,null,null,null,null,null,null,null,null,null,null,null,null,"","",""]
[null,null,null,null,null,null,null,null,null,null,null,null,null,null,null,null,null,"","",""]
[null,null,null,null,null,null,null,null,null,null,null,null,null,null,null,null,null,"","",""]
[null,null,null,null,null,null,null,null,null,null,null,null,null,null,null,null,null,"","",""]
[null,null,null,null,null,null,null,null,null,null,null,null,null,null,null,null,null,"","",""]
[null,null,null,null,null,null,null,null,null,null,null,null,null,null,null,null,null,"","",""]
[null,null,null,null,null,null,null,null,null,null,null,null,null,null,null,null,null,"","",""]
[null,null,null,null,null,null,null,null,null,null,null,null,null,null,null,null,null,"","",""]
[null,null,null,null,null,null,null,null,null,null,null,null,null,null,null,null,null,"","",""]
[null,null,null,null,null,null,null,null,null,null,null,null,null,null,null,null,null,"","",""]
[null,null,null,null,null,null,null,null,null,null,null,null,null,null,null,null,null,"","",""]
[null,null,null,null,null,null,null,null,null,null,null,null,null,null,null,null,null,"","",""]
[null,null,null,null,null,null,null,null,null,null,null,null,null,null,null,null,null,"","",""]
[null,null,null,null,null,null,null,null,null,null,null,null,null,null,null,null,null,"","",""]
[null,null,null,null,null,null,null,null,null,null,null,null,null,null,null,null,null,"","",""]
[null,null,null,null,null,null,null,null,null,null,null,null,null,null,null,null,null,"","",""]
[null,null,null,null,null,null,null,null,null,null,null,null,null,null,null,null,null,"","",""]
[null,null,null,null,null,null,null,null,null,null,null,null,null,null,null,null,null,"","",""]
[null,null,null,null,null,null,null,null,null,null,null,null,null,null,null,null,null,"","",""]
[null,null,null,null,null,null,null,null,null,null,null,null,null,null,null,null,null,"","",""]
[null,null,null,null,null,null,null,null,null,null,null,null,null,null,null,null,null,"","",""]
[null,null,null,null,null,null,null,null,null,null,null,null,null,null,null,null,null,"","",""]
[null,null,null,null,null,null,null,null,null,null,null,null,null,null,null,null,null,"","",""]
[null,null,null,null,null,null,null,null,null,null,null,null,null,null,null,null,null,"","",""]
[null,null,null,null,null,null,null,null,null,null,null,null,null,null,null,null,null,"","",""]
[null,null,null,null,null,null,null,null,null,null,null,null,null,null,null,null,null,"","",""]
[null,null,null,null,null,null,null,null,null,null,null,null,null,null,null,null,null,"","",""]
[null,null,null,null,null,null,null,null,null,null,null,null,null,null,null,null,null,"","",""]
[null,null,null,null,null,null,null,null,null,null,null,null,null,null,null,null,null,"","",""]
[null,null,null,null,null,null,null,null,null,null,null,null,null,null,null,null,null,"","",""]
[null,null,null,null,null,null,null,null,null,null,null,null,null,null,null,null,null,"","",""]
[null,null,null,null,null,null,null,null,null,null,null,null,null,null,null,null,null,"","",""]
[null,null,null,null,null,null,null,null,null,null,null,null,null,null,null,null,null,"","",""]
[null,null,null,null,null,null,null,null,null,null,null,null,null,null,null,null,null,"","",""]
[null,null,null,null,null,null,null,null,null,null,null,null,null,null,null,null,null,"","",""]
[null,null,null,null,null,null,null,null,null,null,null,null,null,null,null,null,null,"","",""]
[null,null,null,null,null,null,null,null,null,null,null,null,null,null,null,null,null,"","",""]
[null,null,null,null,null,null,null,null,null,null,null,null,null,null,null,null,null,"","",""]
[null,null,null,null,null,null,null,null,null,null,null,null,null,null,null,null,null,"","",""]
[null,null,null,null,null,null,null,null,null,null,null,null,null,null,null,null,null,"","",""]
[null,null,null,null,null,null,null,null,null,null,null,null,null,null,null,null,null,"","",""]
[null,null,null,null,null,null,null,null,null,null,null,null,null,null,null,null,null,"","",""]
[null,null,null,null,null,null,null,null,null,null,null,null,null,null,null,null,null,"","",""]
[null,null,null,null,null,null,null,null,null,null,null,null,null,null,null,null,null,"","",""]
[null,null,null,null,null,null,null,null,null,null,null,null,null,null,null,null,null,"","",""]
[null,null,null,null,null,null,null,null,null,null,null,null,null,null,null,null,null,"","",""]
[null,null,null,null,null,null,null,null,null,null,null,null,null,null,null,null,null,"","",""]
[null,null,null,null,null,null,null,null,null,null,null,null,null,null,null,null,null,"","",""]
[null,null,null,null,null,null,null,null,null,null,null,null,null,null,null,null,null,"","",""]
[null,null,null,null,null,null,null,null,null,null,null,null,null,null,null,null,null,"","",""]
[null,null,null,null,null,null,null,null,null,null,null,null,null,null,null,null,null,"","",""]
[null,null,null,null,null,null,null,null,null,null,null,null,null,null,null,null,null,"","",""]
[null,null,null,null,null,null,null,null,null,null,null,null,null,null,null,null,null,"","",""]
[null,null,null,null,null,null,null,null,null,null,null,null,null,null,null,null,null,"","",""]
[null,null,null,null,null,null,null,null,null,null,null,null,null,null,null,null,null,"","",""]
[null,null,null,null,null,null,null,null,null,null,null,null,null,null,null,null,null,"","",""]
[null,null,null,null,null,null,null,null,null,null,null,null,null,null,null,null,null,{"$f":"IF(L450=\"\",\"\",L450-O450)","v":""},{"$f":"IF(M450=\"\",\"\",M450-P450)","v":""},{"$f":"IF(N450=\"\",\"\",N450-Q450)","v":""}]
[null,null,null,null,null,null,null,null,null,null,null,null,null,null,null,null,null,"","",""]
[null,null,null,null,null,null,null,null,null,null,null,null,null,null,null,null,null,"","",""]
[null,null,null,null,null,null,null,null,null,null,null,null,null,null,null,null,null,"","",""]
[null,null,null,null,null,null,null,null,null,null,null,null,null,null,null,null,null,"","",""]
[null,null,null,null,null,null,null,null,null,null,null,null,null,null,null,null,null,"","",""]
[null,null,null,null,null,null,null,null,null,null,null,null,null,null,null,null,null,"","",""]
[null,null,null,null,null,null,null,null,null,null,null,null,null,null,null,null,null,"","",""]
[null,null,null,null,null,null,null,null,null,null,null,null,null,null,null,null,null,"","",""]
[null,null,null,null,null,null,null,null,null,null,null,null,null,null,null,null,null,"","",""]
[null,null,null,null,null,null,null,null,null,null,null,null,null,null,null,null,null,"","",""]
[null,null,null,null,null,null,null,null,null,null,null,null,null,null,null,null,null,"","",""]
[null,null,null,null,null,null,null,null,null,null,null,null,null,null,null,null,null,"","",""]
[null,null,null,null,null,null,null,null,null,null,null,null,null,null,null,null,null,"","",""]
[null,null,null,null,null,null,null,null,null,null,null,null,null,null,null,null,null,"","",""]
[null,null,null,null,null,null,null,null,null,null,null,null,null,null,null,null,null,"","",""]
[null,null,null,null,null,null,null,null,null,null,null,null,null,null,null,null,null,"","",""]
[null,null,null,null,null,null,null,null,null,null,null,null,null,null,null,null,null,"","",""]
[null,null,null,null,null,null,null,null,null,null,null,null,null,null,null,null,null,"","",""]
[null,null,null,null,null,null,null,null,null,null,null,null,null,null,null,null,null,"","",""]
[null,null,null,null,null,null,null,null,null,null,null,null,null,null,null,null,null,"","",""]
[null,null,null,null,null,null,null,null,null,null,null,null,null,null,null,null,null,"","",""]
[null,null,null,null,null,null,null,null,null,null,null,null,null,null,null,null,null,"","",""]
[null,null,null,null,null,null,null,null,null,null,null,null,null,null,null,null,null,"","",""]
[null,null,null,null,null,null,null,null,null,null,null,null,null,null,null,null,null,"","",""]
[null,null,null,null,null,null,null,null,null,null,null,null,null,null,null,null,null,"","",""]
[null,null,null,null,null,null,null,null,null,null,null,null,null,null,null,null,null,"","",""]
[null,null,null,null,null,null,null,null,null,null,null,null,null,null,null,null,null,"","",""]
[null,null,null,null,null,null,null,null,null,null,null,null,null,null,null,null,null,"","",""]
[null,null,null,null,null,null,null,null,null,null,null,null,null,null,null,null,null,"","",""]
[null,null,null,null,null,null,null,null,null,null,null,null,null,null,null,null,null,"","",""]
[null,null,null,null,null,null,null,null,null,null,null,null,null,null,null,null,null,"","",""]
[null,null,null,null,null,null,null,null,null,null,null,null,null,null,null,null,null,"","",""]
[null,null,null,null,null,null,null,null,null,null,null,null,null,null,null,null,null,"","",""]
[null,null,null,null,null,null,null,null,null,null,null,null,null,null,null,null,null,"","",""]
[null,null,null,null,null,null,null,null,null,null,null,null,null,null,null,null,null,"","",""]
[null,null,null,null,null,null,null,null,null,null,null,null,null,null,null,null,null,"","",""]
[null,null,null,null,null,null,null,null,null,null,null,null,null,null,null,null,null,"","",""]
[null,null,null,null,null,null,null,null,null,null,null,null,null,null,null,null,null,"","",""]
[null,null,null,null,null,null,null,null,null,null,null,null,null,null,null,null,null,"","",""]
[null,null,null,null,null,null,null,null,null,null,null,null,null,null,null,null,null,"","",""]
[null,null,null,null,null,null,null,null,null,null,null,null,null,null,null,null,null,"","",""]
[null,null,null,null,null,null,null,null,null,null,null,null,null,null,null,null,null,"","",""]
[null,null,null,null,null,null,null,null,null,null,null,null,null,null,null,null,null,"","",""]
[null,null,null,null,null,null,null,null,null,null,null,null,null,null,null,null,null,"","",""]
[null,null,null,null,null,null,null,null,null,null,null,null,null,null,null,null,null,"","",""]
[null,null,null,null,null,null,null,null,null,null,null,null,null,null,null,null,null,"","",""]
[null,null,null,null,null,null,null,null,null,null,null,null,null,null,null,null,null,"","",""]
[null,null,null,null,null,null,null,null,null,null,null,null,null,null,null,null,null,"","",""]
[null,null,null,null,null,null,null,null,null,null,null,null,null,null,null,null,null,"","",""]
[null,null,null,null,null,null,null,null,null,null,null,null,null,null,null,null,null,"","",""]
[null,null,null,null,null,null,null,null,null,null,null,null,null,null,null,null,null,"","",""]
[null,null,null,null,null,null,null,null,null,null,null,null,null,null,null,null,null,"","",""]
[null,null,null,null,null,null,null,null,null,null,null,null,null,null,null,null,null,"","",""]
[null,null,null,null,null,null,null,null,null,null,null,null,null,null,null,null,null,"","",""]
[null,null,null,null,null,null,null,null,null,null,null,null,null,null,null,null,null,"","",""]
[null,null,null,null,null,null,null,null,null,null,null,null,null,null,null,null,null,"","",""]
[null,null,null,null,null,null,null,null,null,null,null,null,null,null,null,null,null,"","",""]
[null,null,null,null,null,null,null,null,null,null,null,null,null,null,null,null,null,"","",""]
[null,null,null,null,null,null,null,null,null,null,null,null,null,null,null,null,null,"","",""]
[null,null,null,null,null,null,null,null,null,null,null,null,null,null,null,null,null,"","",""]
[null,null,null,null,null,null,null,null,null,null,null,null,null,null,null,null,null,"","",""]
[null,null,null,null,null,null,null,null,null,null,null,null,null,null,null,null,null,"","",""]
[null,null,null,null,null,null,null,null,null,null,null,null,null,null,null,null,null,"","",""]
[null,null,null,null,null,null,null,null,null,null,null,null,null,null,null,null,null,{"$f":"IF(L514=\"\",\"\",L514-O514)","v":""},{"$f":"IF(M514=\"\",\"\",M514-P514)","v":""},{"$f":"IF(N514=\"\",\"\",N514-Q514)","v":""}]
[null,null,null,null,null,null,null,null,null,null,null,null,null,null,null,null,null,"","",""]
[null,null,null,null,null,null,null,null,null,null,null,null,null,null,null,null,null,"","",""]
[null,null,null,null,null,null,null,null,null,null,null,null,null,null,null,null,null,"","",""]
[null,null,null,null,null,null,null,null,null,null,null,null,null,null,null,null,null,"","",""]
[null,null,null,null,null,null,null,null,null,null,null,null,null,null,null,null,null,"","",""]
[null,null,null,null,null,null,null,null,null,null,null,null,null,null,null,null,null,"","",""]
[null,null,null,null,null,null,null,null,null,null,null,null,null,null,null,null,null,"","",""]
[null,null,null,null,null,null,null,null,null,null,null,null,null,null,null,null,null,"","",""]
[null,null,null,null,null,null,null,null,null,null,null,null,null,null,null,null,null,"","",""]
[null,null,null,null,null,null,null,null,null,null,null,null,null,null,null,null,null,"","",""]
[null,null,null,null,null,null,null,null,null,null,null,null,null,null,null,null,null,"","",""]
[null,null,null,null,null,null,null,null,null,null,null,null,null,null,null,null,null,"","",""]
[null,null,null,null,null,null,null,null,null,null,null,null,null,null,null,null,null,"","",""]
[null,null,null,null,null,null,null,null,null,null,null,null,null,null,null,null,null,"","",""]
[null,null,null,null,null,null,null,null,null,null,null,null,null,null,null,null,null,"","",""]
[null,null,null,null,null,null,null,null,null,null,null,null,null,null,null,null,null,"","",""]
[null,null,null,null,null,null,null,null,null,null,null,null,null,null,null,null,null,"","",""]
[null,null,null,null,null,null,null,null,null,null,null,null,null,null,null,null,null,"","",""]
[null,null,null,null,null,null,null,null,null,null,null,null,null,null,null,null,null,"","",""]
[null,null,null,null,null,null,null,null,null,null,null,null,null,null,null,null,null,"","",""]
[null,null,null,null,null,null,null,null,null,null,null,null,null,null,null,null,null,"","",""]
[null,null,null,null,null,null,null,null,null,null,null,null,null,null,null,null,null,"","",""]
[null,null,null,null,null,null,null,null,null,null,null,null,null,null,null,null,null,"","",""]
[null,null,null,null,null,null,null,null,null,null,null,null,null,null,null,null,null,"","",""]
[null,null,null,null,null,null,null,null,null,null,null,null,null,null,null,null,null,"","",""]
[null,null,null,null,null,null,null,null,null,null,null,null,null,null,null,null,null,"","",""]
[null,null,null,null,null,null,null,null,null,null,null,null,null,null,null,null,null,"","",""]
[null,null,null,null,null,null,null,null,null,null,null,null,null,null,null,null,null,"","",""]
[null,null,null,null,null,null,null,null,null,null,null,null,null,null,null,null,null,"","",""]
[null,null,null,null,null,null,null,null,null,null,null,null,null,null,null,null,null,"","",""]
[null,null,null,null,null,null,null,null,null,null,null,null,null,null,null,null,null,"","",""]
[null,null,null,null,null,null,null,null,null,null,null,null,null,null,null,null,null,"","",""]
[null,null,null,null,null,null,null,null,null,null,null,null,null,null,null,null,null,"","",""]
[null,null,null,null,null,null,null,null,null,null,null,null,null,null,null,null,null,"","",""]
[null,null,null,null,null,null,null,null,null,null,null,null,null,null,null,null,null,"","",""]
[null,null,null,null,null,null,null,null,null,null,null,null,null,null,null,null,null,"","",""]
[null,null,null,null,null,null,null,null,null,null,null,null,null,null,null,null,null,"","",""]
[null,null,null,null,null,null,null,null,null,null,null,null,null,null,null,null,null,"","",""]
[null,null,null,null,null,null,null,null,null,null,null,null,null,null,null,null,null,"","",""]
[null,null,null,null,null,null,null,null,null,null,null,null,null,null,null,null,null,"","",""]
[null,null,null,null,null,null,null,null,null,null,null,null,null,null,null,null,null,"","",""]
[null,null,null,null,null,null,null,null,null,null,null,null,null,null,null,null,null,"","",""]
[null,null,null,null,null,null,null,null,null,null,null,null,null,null,null,null,null,"","",""]
[null,null,null,null,null,null,null,null,null,null,null,null,null,null,null,null,null,"","",""]
[null,null,null,null,null,null,null,null,null,null,null,null,null,null,null,null,null,"","",""]
[null,null,null,null,null,null,null,null,null,null,null,null,null,null,null,null,null,"","",""]
[null,null,null,null,null,null,null,null,null,null,null,null,null,null,null,null,null,"","",""]
[null,null,null,null,null,null,null,null,null,null,null,null,null,null,null,null,null,"","",""]
[null,null,null,null,null,null,null,null,null,null,null,null,null,null,null,null,null,"","",""]
[null,null,null,null,null,null,null,null,null,null,null,null,null,null,null,null,null,"","",""]
[null,null,null,null,null,null,null,null,null,null,null,null,null,null,null,null,null,"","",""]
[null,null,null,null,null,null,null,null,null,null,null,null,null,null,null,null,null,"","",""]
[null,null,null,null,null,null,null,null,null,null,null,null,null,null,null,null,null,"","",""]
[null,null,null,null,null,null,null,null,null,null,null,null,null,null,null,null,null,"","",""]
[null,null,null,null,null,null,null,null,null,null,null,null,null,null,null,null,null,"","",""]
[null,null,null,null,null,null,null,null,null,null,null,null,null,null,null,null,null,"","",""]
[null,null,null,null,null,null,null,null,null,null,null,null,null,null,null,null,null,"","",""]
[null,null,null,null,null,null,null,null,null,null,null,null,null,null,null,null,null,"","",""]
[null,null,null,null,null,null,null,null,null,null,null,null,null,null,null,null,null,"","",""]
[null,null,null,null,null,null,null,null,null,null,null,null,null,null,null,null,null,"","",""]
[null,null,null,null,null,null,null,null,null,null,null,null,null,null,null,null,null,"","",""]
[null,null,null,null,null,null,null,null,null,null,null,null,null,null,null,null,null,"","",""]
[null,null,null,null,null,null,null,null,null,null,null,null,null,null,null,null,null,"","",""]
[null,null,null,null,null,null,null,null,null,null,null,null,null,null,null,null,null,{"$f":"IF(L578=\"\",\"\",L578-O578)","v":""},{"$f":"IF(M578=\"\",\"\",M578-P578)","v":""},{"$f":"IF(N578=\"\",\"\",N578-Q578)","v":""}]
[null,null,null,null,null,null,null,null,null,null,null,null,null,null,null,null,null,"","",""]
[null,null,null,null,null,null,null,null,null,null,null,null,null,null,null,null,null,"","",""]
[null,null,null,null,null,null,null,null,null,null,null,null,null,null,null,null,null,"","",""]
[null,null,null,null,null,null,null,null,null,null,null,null,null,null,null,null,null,"","",""]
[null,null,null,null,null,null,null,null,null,null,null,null,null,null,null,null,null,"","",""]
[null,null,null,null,null,null,null,null,null,null,null,null,null,null,null,null,null,"","",""]
[null,null,null,null,null,null,null,null,null,null,null,null,null,null,null,null,null,"","",""]
[null,null,null,null,null,null,null,null,null,null,null,null,null,null,null,null,null,"","",""]
[null,null,null,null,null,null,null,null,null,null,null,null,null,null,null,null,null,"","",""]
[null,null,null,null,null,null,null,null,null,null,null,null,null,null,null,null,null,"","",""]
[null,null,null,null,null,null,null,null,null,null,null,null,null,null,null,null,null,"","",""]
[null,null,null,null,null,null,null,null,null,null,null,null,null,null,null,null,null,"","",""]
[null,null,null,null,null,null,null,null,null,null,null,null,null,null,null,null,null,"","",""]
[null,null,null,null,null,null,null,null,null,null,null,null,null,null,null,null,null,"","",""]
[null,null,null,null,null,null,null,null,null,null,null,null,null,null,null,null,null,"","",""]
[null,null,null,null,null,null,null,null,null,null,null,null,null,null,null,null,null,"","",""]
[null,null,null,null,null,null,null,null,null,null,null,null,null,null,null,null,null,"","",""]
[null,null,null,null,null,null,null,null,null,null,null,null,null,null,null,null,null,"","",""]
[null,null,null,null,null,null,null,null,null,null,null,null,null,null,null,null,null,"","",""]
[null,null,null,null,null,null,null,null,null,null,null,null,null,null,null,null,null,"","",""]
[null,null,null,null,null,null,null,null,null,null,null,null,null,null,null,null,null,"","",""]
[null,null,null,null,null,null,null,null,null,null,null,null,null,null,null,null,null,"","",""]
[null,null,null,null,null,null,null,null,null,null,null,null,null,null,null,null,null,"","",""]
[null,null,null,null,null,null,null,null,null,null,null,null,null,null,null,null,null,"","",""]
[null,null,null,null,null,null,null,null,null,null,null,null,null,null,null,null,null,"","",""]
[null,null,null,null,null,null,null,null,null,null,null,null,null,null,null,null,null,"","",""]
[null,null,null,null,null,null,null,null,null,null,null,null,null,null,null,null,null,"","",""]
[null,null,null,null,null,null,null,null,null,null,null,null,null,null,null,null,null,"","",""]
[null,null,null,null,null,null,null,null,null,null,null,null,null,null,null,null,null,"","",""]
[null,null,null,null,null,null,null,null,null,null,null,null,null,null,null,null,null,"","",""]
[null,null,null,null,null,null,null,null,null,null,null,null,null,null,null,null,null,"","",""]
[null,null,null,null,null,null,null,null,null,null,null,null,null,null,null,null,null,"","",""]
[null,null,null,null,null,null,null,null,null,null,null,null,null,null,null,null,null,"","",""]
[null,null,null,null,null,null,null,null,null,null,null,null,null,null,null,null,null,"","",""]
[null,null,null,null,null,null,null,null,null,null,null,null,null,null,null,null,null,"","",""]
[null,null,null,null,null,null,null,null,null,null,null,null,null,null,null,null,null,"","",""]
[null,null,null,null,null,null,null,null,null,null,null,null,null,null,null,null,null,"","",""]
[null,null,null,null,null,null,null,null,null,null,null,null,null,null,null,null,null,"","",""]
[null,null,null,null,null,null,null,null,null,null,null,null,null,null,null,null,null,"","",""]
[null,null,null,null,null,null,null,null,null,null,null,null,null,null,null,null,null,"","",""]
[null,null,null,null,null,null,null,null,null,null,null,null,null,null,null,null,null,"","",""]
[null,null,null,null,null,null,null,null,null,null,null,null,null,null,null,null,null,"","",""]
[null,null,null,null,null,null,null,null,null,null,null,null,null,null,null,null,null,"","",""]
[null,null,null,null,null,null,null,null,null,null,null,null,null,null,null,null,null,"","",""]
[null,null,null,null,null,null,null,null,null,null,null,null,null,null,null,null,null,"","",""]
[null,null,null,null,null,null,null,null,null,null,null,null,null,null,null,null,null,"","",""]
[null,null,null,null,null,null,null,null,null,null,null,null,null,null,null,null,null,"","",""]
[null,null,null,null,null,null,null,null,null,null,null,null,null,null,null,null,null,"","",""]
[null,null,null,null,null,null,null,null,null,null,null,null,null,null,null,null,null,"","",""]
[null,null,null,null,null,null,null,null,null,null,null,null,null,null,null,null,null,"","",""]
[null,null,null,null,null,null,null,null,null,null,null,null,null,null,null,null,null,"","",""]
[null,null,null,null,null,null,null,null,null,null,null,null,null,null,null,null,null,"","",""]
[null,null,null,null,null,null,null,null,null,null,null,null,null,null,null,null,null,"","",""]
[null,null,null,null,null,null,null,null,null,null,null,null,null,null,null,null,null,"","",""]
[null,null,null,null,null,null,null,null,null,null,null,null,null,null,null,null,null,"","",""]
[null,null,null,null,null,null,null,null,null,null,null,null,null,null,null,null,null,"","",""]
[null,null,null,null,null,null,null,null,null,null,null,null,null,null,null,null,null,"","",""]
[null,null,null,null,null,null,null,null,null,null,null,null,null,null,null,null,null,"","",""]
[null,null,null,null,null,null,null,null,null,null,null,null,null,null,null,null,null,"","",""]
[null,null,null,null,null,null,null,null,null,null,null,null,null,null,null,null,null,"","",""]
[null,null,null,null,null,null,null,null,null,null,null,null,null,null,null,null,null,"","",""]
[null,null,null,null,null,null,null,null,null,null,null,null,null,null,null,null,null,"","",""]
[null,null,null,null,null,null,null,null,null,null,null,null,null,null,null,null,null,"","",""]
[null,null,null,null,null,null,null,null,null,null,null,null,null,null,null,null,null,{"$f":"IF(L642=\"\",\"\",L642-O642)","v":""},{"$f":"IF(M642=\"\",\"\",M642-P642)","v":""},{"$f":"IF(N642=\"\",\"\",N642-Q642)","v":""}]
[null,null,null,null,null,null,null,null,null,null,null,null,null,null,null,null,null,"","",""]
[null,null,null,null,null,null,null,null,null,null,null,null,null,null,null,null,null,"","",""]
[null,null,null,null,null,null,null,null,null,null,null,null,null,null,null,null,null,"","",""]
[null,null,null,null,null,null,null,null,null,null,null,null,null,null,null,null,null,"","",""]
[null,null,null,null,null,null,null,null,null,null,null,null,null,null,null,null,null,"","",""]
[null,null,null,null,null,null,null,null,null,null,null,null,null,null,null,null,null,"","",""]
[null,null,null,null,null,null,null,null,null,null,null,null,null,null,null,null,null,"","",""]
[null,null,null,null,null,null,null,null,null,null,null,null,null,null,null,null,null,"","",""]
[null,null,null,null,null,null,null,null,null,null,null,null,null,null,null,null,null,"","",""]
[null,null,null,null,null,null,null,null,null,null,null,null,null,null,null,null,null,"","",""]
[null,null,null,null,null,null,null,null,null,null,null,null,null,null,null,null,null,"","",""]
[null,null,null,null,null,null,null,null,null,null,null,null,null,null,null,null,null,"","",""]
[null,null,null,null,null,null,null,null,null,null,null,null,null,null,null,null,null,"","",""]
[null,null,null,null,null,null,null,null,null,null,null,null,null,null,null,null,null,"","",""]
[null,null,null,null,null,null,null,null,null,null,null,null,null,null,null,null,null,"","",""]
[null,null,null,null,null,null,null,null,null,null,null,null,null,null,null,null,null,"","",""]
[null,null,null,null,null,null,null,null,null,null,null,null,null,null,null,null,null,"","",""]
[null,null,null,null,null,null,null,null,null,null,null,null,null,null,null,null,null,"","",""]
[null,null,null,null,null,null,null,null,null,null,null,null,null,null,null,null,null,"","",""]
[null,null,null,null,null,null,null,null,null,null,null,null,null,null,null,null,null,"","",""]
[null,null,null,null,null,null,null,null,null,null,null,null,null,null,null,null,null,"","",""]
[null,null,null,null,null,null,null,null,null,null,null,null,null,null,null,null,null,"","",""]
[null,null,null,null,null,null,null,null,null,null,null,null,null,null,null,null,null,"","",""]
[null,null,null,null,null,null,null,null,null,null,null,null,null,null,null,null,null,"","",""]
[null,null,null,null,null,null,null,null,null,null,null,null,null,null,null,null,null,"","",""]
[null,null,null,null,null,null,null,null,null,null,null,null,null,null,null,null,null,"","",""]
[null,null,null,null,null,null,null,null,null,null,null,null,null,null,null,null,null,"","",""]
[null,null,null,null,null,null,null,null,null,null,null,null,null,null,null,null,null,"","",""]
[null,null,null,null,null,null,null,null,null,null,null,null,null,null,null,null,null,"","",""]
[null,null,null,null,null,null,null,null,null,null,null,null,null,null,null,null,null,"","",""]
[null,null,null,null,null,null,null,null,null,null,null,null,null,null,null,null,null,"","",""]
[null,null,null,null,null,null,null,null,null,null,null,null,null,null,null,null,null,"","",""]
[null,null,null,null,null,null,null,null,null,null,null,null,null,null,null,null,null,"","",""]
[null,null,null,null,null,null,null,null,null,null,null,null,null,null,null,null,null,"","",""]
[null,null,null,null,null,null,null,null,null,null,null,null,null,null,null,null,null,"","",""]
[null,null,null,null,null,null,null,null,null,null,null,null,null,null,null,null,null,"","",""]
[null,null,null,null,null,null,null,null,null,null,null,null,null,null,null,null,null,"","",""]
[null,null,null,null,null,null,null,null,null,null,null,null,null,null,null,null,null,"","",""]
[null,null,null,null,null,null,null,null,null,null,null,null,null,null,null,null,null,"","",""]
[null,null,null,null,null,null,null,null,null,null,null,null,null,null,null,null,null,"","",""]
[null,null,null,null,null,null,null,null,null,null,null,null,null,null,null,null,null,"","",""]
[null,null,null,null,null,null,null,null,null,null,null,null,null,null,null,null,null,"","",""]
[null,null,null,null,null,null,null,null,null,null,null,null,null,null,null,null,null,"","",""]
[null,null,null,null,null,null,null,null,null,null,null,null,null,null,null,null,null,"","",""]
[null,null,null,null,null,null,null,null,null,null,null,null,null,null,null,null,null,"","",""]
[null,null,null,null,null,null,null,null,null,null,null,null,null,null,null,null,null,"","",""]
[null,null,null,null,null,null,null,null,null,null,null,null,null,null,null,null,null,"","",""]
[null,null,null,null,null,null,null,null,null,null,null,null,null,null,null,null,null,"","",""]
[null,null,null,null,null,null,null,null,null,null,null,null,null,null,null,null,null,"","",""]
[null,null,null,null,null,null,null,null,null,null,null,null,null,null,null,null,null,"","",""]
[null,null,null,null,null,null,null,null,null,null,null,null,null,null,null,null,null,"","",""]
[null,null,null,null,null,null,null,null,null,null,null,null,null,null,null,null,null,"","",""]
[null,null,null,null,null,null,null,null,null,null,null,null,null,null,null,null,null,"","",""]
[null,null,null,null,null,null,null,null,null,null,null,null,null,null,null,null,null,"","",""]
[null,null,null,null,null,null,null,null,null,null,null,null,null,null,null,null,null,"","",""]
[null,null,null,null,null,null,null,null,null,null,null,null,null,null,null,null,null,"","",""]
[null,null,null,null,null,null,null,null,null,null,null,null,null,null,null,null,null,"","",""]
[null,null,null,null,null,null,null,null,null,null,null,null,null,null,null,null,null,"","",""]
[null,null,null,null,null,null,null,null,null,null,null,null,null,null,null,null,null,"","",""]
[null,null,null,null,null,null,null,null,null,null,null,null,null,null,null,null,null,"","",""]
[null,null,null,null,null,null,null,null,null,null,null,null,null,null,null,null,null,"","",""]
[null,null,null,null,null,null,null,null,null,null,null,null,null,null,null,null,null,"","",""]
[null,null,null,null,null,null,null,null,null,null,null,null,null,null,null,null,null,"","",""]
[null,null,null,null,null,null,null,null,null,null,null,null,null,null,null,null,null,{"$f":"IF(L706=\"\",\"\",L706-O706)","v":""},{"$f":"IF(M706=\"\",\"\",M706-P706)","v":""},{"$f":"IF(N706=\"\",\"\",N706-Q706)","v":""}]
[null,null,null,null,null,null,null,null,null,null,null,null,null,null,null,null,null,"","",""]
[null,null,null,null,null,null,null,null,null,null,null,null,null,null,null,null,null,"","",""]
[null,null,null,null,null,null,null,null,null,null,null,null,null,null,null,null,null,"","",""]
[null,null,null,null,null,null,null,null,null,null,null,null,null,null,null,null,null,"","",""]
[null,null,null,null,null,null,null,null,null,null,null,null,null,null,null,null,null,"","",""]
[null,null,null,null,null,null,null,null,null,null,null,null,null,null,null,null,null,"","",""]
[null,null,null,null,null,null,null,null,null,null,null,null,null,null,null,null,null,"","",""]
[null,null,null,null,null,null,null,null,null,null,null,null,null,null,null,null,null,"","",""]
[null,null,null,null,null,null,null,null,null,null,null,null,null,null,null,null,null,"","",""]
[null,null,null,null,null,null,null,null,null,null,null,null,null,null,null,null,null,"","",""]
[null,null,null,null,null,null,null,null,null,null,null,null,null,null,null,null,null,"","",""]
[null,null,null,null,null,null,null,null,null,null,null,null,null,null,null,null,null,"","",""]
[null,null,null,null,null,null,null,null,null,null,null,null,null,null,null,null,null,"","",""]
[null,null,null,null,null,null,null,null,null,null,null,null,null,null,null,null,null,"","",""]
[null,null,null,null,null,null,null,null,null,null,null,null,null,null,null,null,null,"","",""]
[null,null,null,null,null,null,null,null,null,null,null,null,null,null,null,null,null,"","",""]
[null,null,null,null,null,null,null,null,null,null,null,null,null,null,null,null,null,"","",""]
[null,null,null,null,null,null,null,null,null,null,null,null,null,null,null,null,null,"","",""]
[null,null,null,null,null,null,null,null,null,null,null,null,null,null,null,null,null,"","",""]
[null,null,null,null,null,null,null,null,null,null,null,null,null,null,null,null,null,"","",""]
[null,null,null,null,null,null,null,null,null,null,null,null,null,null,null,null,null,"","",""]
[null,null,null,null,null,null,null,null,null,null,null,null,null,null,null,null,null,"","",""]
[null,null,null,null,null,null,null,null,null,null,null,null,null,null,null,null,null,"","",""]
[null,null,null,null,null,null,null,null,null,null,null,null,null,null,null,null,null,"","",""]
[null,null,null,null,null,null,null,null,null,null,null,null,null,null,null,null,null,"","",""]
[null,null,null,null,null,null,null,null,null,null,null,null,null,null,null,null,null,"","",""]
[null,null,null,null,null,null,null,null,null,null,null,null,null,null,null,null,null,"","",""]
[null,null,null,null,null,null,null,null,null,null,null,null,null,null,null,null,null,"","",""]
[null,null,null,null,null,null,null,null,null,null,null,null,null,null,null,null,null,"","",""]
[null,null,null,null,null,null,null,null,null,null,null,null,null,null,null,null,null,"","",""]
[null,null,null,null,null,null,null,null,null,null,null,null,null,null,null,null,null,"","",""]
[null,null,null,null,null,null,null,null,null,null,null,null,null,null,null,null,null,"","",""]
[null,null,null,null,null,null,null,null,null,null,null,null,null,null,null,null,null,"","",""]
[null,null,null,null,null,null,null,null,null,null,null,null,null,null,null,null,null,"","",""]
[null,null,null,null,null,null,null,null,null,null,null,null,null,null,null,null,null,"","",""]
[null,null,null,null,null,null,null,null,null,null,null,null,null,null,null,null,null,"","",""]
[null,null,null,null,null,null,null,null,null,null,null,null,null,null,null,null,null,"","",""]
[null,null,null,null,null,null,null,null,null,null,null,null,null,null,null,null,null,"","",""]
[null,null,null,null,null,null,null,null,null,null,null,null,null,null,null,null,null,"","",""]
[null,null,null,null,null,null,null,null,null,null,null,null,null,null,null,null,null,"","",""]
[null,null,null,null,null,null,null,null,null,null,null,null,null,null,null,null,null,"","",""]
[null,null,null,null,null,null,null,null,null,null,null,null,null,null,null,null,null,"","",""]
[null,null,null,null,null,null,null,null,null,null,null,null,null,null,null,null,null,"","",""]
[null,null,null,null,null,null,null,null,null,null,null,null,null,null,null,null,null,"","",""]
[null,null,null,null,null,null,null,null,null,null,null,null,null,null,null,null,null,"","",""]
[null,null,null,null,null,null,null,null,null,null,null,null,null,null,null,null,null,"","",""]
[null,null,null,null,null,null,null,null,null,null,null,null,null,null,null,null,null,"","",""]
[null,null,null,null,null,null,null,null,null,null,null,null,null,null,null,null,null,"","",""]
[null,null,null,null,null,null,null,null,null,null,null,null,null,null,null,null,null,"","",""]
[null,null,null,null,null,null,null,null,null,null,null,null,null,null,null,null,null,"","",""]
[null,null,null,null,null,null,null,null,null,null,null,null,null,null,null,null,null,"","",""]
[null,null,null,null,null,null,null,null,null,null,null,null,null,null,null,null,null,"","",""]
[null,null,null,null,null,null,null,null,null,null,null,null,null,null,null,null,null,"","",""]
[null,null,null,null,null,null,null,null,null,null,null,null,null,null,null,null,null,"","",""]
[null,null,null,null,null,null,null,null,null,null,null,null,null,null,null,null,null,"","",""]
[null,null,null,null,null,null,null,null,null,null,null,null,null,null,null,null,null,"","",""]
[null,null,null,null,null,null,null,null,null,null,null,null,null,null,null,null,null,"","",""]
[null,null,null,null,null,null,null,null,null,null,null,null,null,null,null,null,null,"","",""]
[null,null,null,null,null,null,null,null,null,null,null,null,null,null,null,null,null,"","",""]
[null,null,null,null,null,null,null,null,null,null,null,null,null,null,null,null,null,"","",""]
[null,null,null,null,null,null,null,null,null,null,null,null,null,null,null,null,null,"","",""]
[null,null,null,null,null,null,null,null,null,null,null,null,null,null,null,null,null,"","",""]
[null,null,null,null,null,null,null,null,null,null,null,null,null,null,null,null,null,"","",""]
[null,null,null,null,null,null,null,null,null,null,null,null,null,null,null,null,null,{"$f":"IF(L770=\"\",\"\",L770-O770)","v":""},{"$f":"IF(M770=\"\",\"\",M770-P770)","v":""},{"$f":"IF(N770=\"\",\"\",N770-Q770)","v":""}]
[null,null,null,null,null,null,null,null,null,null,null,null,null,null,null,null,null,"","",""]
[null,null,null,null,null,null,null,null,null,null,null,null,null,null,null,null,null,"","",""]
[null,null,null,null,null,null,null,null,null,null,null,null,null,null,null,null,null,"","",""]
[null,null,null,null,null,null,null,null,null,null,null,null,null,null,null,null,null,"","",""]
[null,null,null,null,null,null,null,null,null,null,null,null,null,null,null,null,null,"","",""]
[null,null,null,null,null,null,null,null,null,null,null,null,null,null,null,null,null,"","",""]
[null,null,null,null,null,null,null,null,null,null,null,null,null,null,null,null,null,"","",""]
[null,null,null,null,null,null,null,null,null,null,null,null,null,null,null,null,null,"","",""]
[null,null,null,null,null,null,null,null,null,null,null,null,null,null,null,null,null,"","",""]
[null,null,null,null,null,null,null,null,null,null,null,null,null,null,null,null,null,"","",""]
[null,null,null,null,null,null,null,null,null,null,null,null,null,null,null,null,null,"","",""]
[null,null,null,null,null,null,null,null,null,null,null,null,null,null,null,null,null,"","",""]
[null,null,null,null,null,null,null,null,null,null,null,null,null,null,null,null,null,"","",""]
[null,null,null,null,null,null,null,null,null,null,null,null,null,null,null,null,null,"","",""]
[null,null,null,null,null,null,null,null,null,null,null,null,null,null,null,null,null,"","",""]
[null,null,null,null,null,null,null,null,null,null,null,null,null,null,null,null,null,"","",""]
[null,null,null,null,null,null,null,null,null,null,null,null,null,null,null,null,null,"","",""]
[null,null,null,null,null,null,null,null,null,null,null,null,null,null,null,null,null,"","",""]
[null,null,null,null,null,null,null,null,null,null,null,null,null,null,null,null,null,"","",""]
[null,null,null,null,null,null,null,null,null,null,null,null,null,null,null,null,null,"","",""]
[null,null,null,null,null,null,null,null,null,null,null,null,null,null,null,null,null,"","",""]
[null,null,null,null,null,null,null,null,null,null,null,null,null,null,null,null,null,"","",""]
[null,null,null,null,null,null,null,null,null,null,null,null,null,null,null,null,null,"","",""]
[null,null,null,null,null,null,null,null,null,null,null,null,null,null,null,null,null,"","",""]
[null,null,null,null,null,null,null,null,null,null,null,null,null,null,null,null,null,"","",""]
[null,null,null,null,null,null,null,null,null,null,null,null,null,null,null,null,null,"","",""]
[null,null,null,null,null,null,null,null,null,null,null,null,null,null,null,null,null,"","",""]
[null,null,null,null,null,null,null,null,null,null,null,null,null,null,null,null,null,"","",""]
[null,null,null,null,null,null,null,null,null,null,null,null,null,null,null,null,null,"","",""]
[null,null,null,null,null,null,null,null,null,null,null,null,null,null,null,null,null,"","",""]
[null,null,null,null,null,null,null,null,null,null,null,null,null,null,null,null,null,"","",""]
[null,null,null,null,null,null,null,null,null,null,null,null,null,null,null,null,null,"","",""]
[null,null,null,null,null,null,null,null,null,null,null,null,null,null,null,null,null,"","",""]
[null,null,null,null,null,null,null,null,null,null,null,null,null,null,null,null,null,"","",""]
[null,null,null,null,null,null,null,null,null,null,null,null,null,null,null,null,null,"","",""]
[null,null,null,null,null,null,null,null,null,null,null,null,null,null,null,null,null,"","",""]
[null,null,null,null,null,null,null,null,null,null,null,null,null,null,null,null,null,"","",""]
[null,null,null,null,null,null,null,null,null,null,null,null,null,null,null,null,null,"","",""]
[null,null,null,null,null,null,null,null,null,null,null,null,null,null,null,null,null,"","",""]
[null,null,null,null,null,null,null,null,null,null,null,null,null,null,null,null,null,"","",""]
[null,null,null,null,null,null,null,null,null,null,null,null,null,null,null,null,null,"","",""]
[null,null,null,null,null,null,null,null,null,null,null,null,null,null,null,null,null,"","",""]
[null,null,null,null,null,null,null,null,null,null,null,null,null,null,null,null,null,"","",""]
[null,null,null,null,null,null,null,null,null,null,null,null,null,null,null,null,null,"","",""]
[null,null,null,null,null,null,null,null,null,null,null,null,null,null,null,null,null,"","",""]
[null,null,null,null,null,null,null,null,null,null,null,null,null,null,null,null,null,"","",""]
[null,null,null,null,null,null,null,null,null,null,null,null,null,null,null,null,null,"","",""]
[null,null,null,null,null,null,null,null,null,null,null,null,null,null,null,null,null,"","",""]
[null,null,null,null,null,null,null,null,null,null,null,null,null,null,null,null,null,"","",""]
[null,null,null,null,null,null,null,null,null,null,null,null,null,null,null,null,null,"","",""]
[null,null,null,null,null,null,null,null,null,null,null,null,null,null,null,null,null,"","",""]
[null,null,null,null,null,null,null,null,null,null,null,null,null,null,null,null,null,"","",""]
[null,null,null,null,null,null,null,null,null,null,null,null,null,null,null,null,null,"","",""]
[null,null,null,null,null,null,null,null,null,null,null,null,null,null,null,null,null,"","",""]
[null,null,null,null,null,null,null,null,null,null,null,null,null,null,null,null,null,"","",""]
[null,null,null,null,null,null,null,null,null,null,null,null,null,null,null,null,null,"","",""]
[null,null,null,null,null,null,null,null,null,null,null,null,null,null,null,null,null,"","",""]
[null,null,null,null,null,null,null,null,null,null,null,null,null,null,null,null,null,"","",""]
[null,null,null,null,null,null,null,null,null,null,null,null,null,null,null,null,null,"","",""]
[null,null,null,null,null,null,null,null,null,null,null,null,null,null,null,null,null,"","",""]
[null,null,null,null,null,null,null,null,null,null,null,null,null,null,null,null,null,"","",""]
[null,null,null,null,null,null,null,null,null,null,null,null,null,null,null,null,null,"","",""]
[null,null,null,null,null,null,null,null,null,null,null,null,null,null,null,null,null,"","",""]
[null,null,null,null,null,null,null,null,null,null,null,null,null,null,null,null,null,{"$f":"IF(L834=\"\",\"\",L834-O834)","v":""},{"$f":"IF(M834=\"\",\"\",M834-P834)","v":""},{"$f":"IF(N834=\"\",\"\",N834-Q834)","v":""}]
[null,null,null,null,null,null,null,null,null,null,null,null,null,null,null,null,null,"","",""]
[null,null,null,null,null,null,null,null,null,null,null,null,null,null,null,null,null,"","",""]
[null,null,null,null,null,null,null,null,null,null,null,null,null,null,null,null,null,"","",""]
[null,null,null,null,null,null,null,null,null,null,null,null,null,null,null,null,null,"","",""]
[null,null,null,null,null,null,null,null,null,null,null,null,null,null,null,null,null,"","",""]
[null,null,null,null,null,null,null,null,null,null,null,null,null,null,null,null,null,"","",""]
[null,null,null,null,null,null,null,null,null,null,null,null,null,null,null,null,null,"","",""]
[null,null,null,null,null,null,null,null,null,null,null,null,null,null,null,null,null,"","",""]
[null,null,null,null,null,null,null,null,null,null,null,null,null,null,null,null,null,"","",""]
[null,null,null,null,null,null,null,null,null,null,null,null,null,null,null,null,null,"","",""]
[null,null,null,null,null,null,null,null,null,null,null,null,null,null,null,null,null,"","",""]
[null,null,null,null,null,null,null,null,null,null,null,null,null,null,null,null,null,"","",""]
[null,null,null,null,null,null,null,null,null,null,null,null,null,null,null,null,null,"","",""]
[null,null,null,null,null,null,null,null,null,null,null,null,null,null,null,null,null,"","",""]
[null,null,null,null,null,null,null,null,null,null,null,null,null,null,null,null,null,"","",""]
[null,null,null,null,null,null,null,null,null,null,null,null,null,null,null,null,null,"","",""]
[null,null,null,null,null,null,null,null,null,null,null,null,null,null,null,null,null,"","",""]
[null,null,null,null,null,null,null,null,null,null,null,null,null,null,null,null,null,"","",""]
[null,null,null,null,null,null,null,null,null,null,null,null,null,null,null,null,null,"","",""]
[null,null,null,null,null,null,null,null,null,null,null,null,null,null,null,null,null,"","",""]
[null,null,null,null,null,null,null,null,null,null,null,null,null,null,null,null,null,"","",""]
[null,null,null,null,null,null,null,null,null,null,null,null,null,null,null,null,null,"","",""]
[null,null,null,null,null,null,null,null,null,null,null,null,null,null,null,null,null,"","",""]
[null,null,null,null,null,null,null,null,null,null,null,null,null,null,null,null,null,"","",""]
[null,null,null,null,null,null,null,null,null,null,null,null,null,null,null,null,null,"","",""]
[null,null,null,null,null,null,null,null,null,null,null,null,null,null,null,null,null,"","",""]
[null,null,null,null,null,null,null,null,null,null,null,null,null,null,null,null,null,"","",""]
[null,null,null,null,null,null,null,null,null,null,null,null,null,null,null,null,null,"","",""]
[null,null,null,null,null,null,null,null,null,null,null,null,null,null,null,null,null,"","",""]
[null,null,null,null,null,null,null,null,null,null,null,null,null,null,null,null,null,"","",""]
[null,null,null,null,null,null,null,null,null,null,null,null,null,null,null,null,null,"","",""]
[null,null,null,null,null,null,null,null,null,null,null,null,null,null,null,null,null,"","",""]
[null,null,null,null,null,null,null,null,null,null,null,null,null,null,null,null,null,"","",""]
[null,null,null,null,null,null,null,null,null,null,null,null,null,null,null,null,null,"","",""]
[null,null,null,null,null,null,null,null,null,null,null,null,null,null,null,null,null,"","",""]
[null,null,null,null,null,null,null,null,null,null,null,null,null,null,null,null,null,"","",""]
[null,null,null,null,null,null,null,null,null,null,null,null,null,null,null,null,null,"","",""]
[null,null,null,null,null,null,null,null,null,null,null,null,null,null,null,null,null,"","",""]
[null,null,null,null,null,null,null,null,null,null,null,null,null,null,null,null,null,"","",""]
[null,null,null,null,null,null,null,null,null,null,null,null,null,null,null,null,null,"","",""]
[null,null,null,null,null,null,null,null,null,null,null,null,null,null,null,null,null,"","",""]
[null,null,null,null,null,null,null,null,null,null,null,null,null,null,null,null,null,"","",""]
[null,null,null,null,null,null,null,null,null,null,null,null,null,null,null,null,null,"","",""]
[null,null,null,null,null,null,null,null,null,null,null,null,null,null,null,null,null,"","",""]
[null,null,null,null,null,null,null,null,null,null,null,null,null,null,null,null,null,"","",""]
[null,null,null,null,null,null,null,null,null,null,null,null,null,null,null,null,null,"","",""]
[null,null,null,null,null,null,null,null,null,null,null,null,null,null,null,null,null,"","",""]
[null,null,null,null,null,null,null,null,null,null,null,null,null,null,null,null,null,"","",""]
[null,null,null,null,null,null,null,null,null,null,null,null,null,null,null,null,null,"","",""]
[null,null,null,null,null,null,null,null,null,null,null,null,null,null,null,null,null,"","",""]
[null,null,null,null,null,null,null,null,null,null,null,null,null,null,null,null,null,"","",""]
[null,null,null,null,null,null,null,null,null,null,null,null,null,null,null,null,null,"","",""]
[null,null,null,null,null,null,null,null,null,null,null,null,null,null,null,null,null,"","",""]
[null,null,null,null,null,null,null,null,null,null,null,null,null,null,null,null,null,"","",""]
[null,null,null,null,null,null,null,null,null,null,null,null,null,null,null,null,null,"","",""]
[null,null,null,null,null,null,null,null,null,null,null,null,null,null,null,null,null,"","",""]
[null,null,null,null,null,null,null,null,null,null,null,null,null,null,null,null,null,"","",""]
[null,null,null,null,null,null,null,null,null,null,null,null,null,null,null,null,null,"","",""]
[null,null,null,null,null,null,null,null,null,null,null,null,null,null,null,null,null,"","",""]
[null,null,null,null,null,null,null,null,null,null,null,null,null,null,null,null,null,"","",""]
[null,null,null,null,null,null,null,null,null,null,null,null,null,null,null,null,null,"","",""]
[null,null,null,null,null,null,null,null,null,null,null,null,null,null,null,null,null,"","",""]
[null,null,null,null,null,null,null,null,null,null,null,null,null,null,null,null,null,"","",""]
[null,null,null,null,null,null,null,null,null,null,null,null,null,null,null,null,null,{"$f":"IF(L898=\"\",\"\",L898-O898)","v":""},{"$f":"IF(M898=\"\",\"\",M898-P898)","v":""},{"$f":"IF(N898=\"\",\"\",N898-Q898)","v":""}]
[null,null,null,null,null,null,null,null,null,null,null,null,null,null,null,null,null,"","",""]
[null,null,null,null,null,null,null,null,null,null,null,null,null,null,null,null,null,"","",""]
[null,null,null,null,null,null,null,null,null,null,null,null,null,null,null,null,null,"","",""]
[null,null,null,null,null,null,null,null,null,null,null,null,null,null,null,null,null,"","",""]
[null,null,null,null,null,null,null,null,null,null,null,null,null,null,null,null,null,"","",""]
[null,null,null,null,null,null,null,null,null,null,null,null,null,null,null,null,null,"","",""]
[null,null,null,null,null,null,null,null,null,null,null,null,null,null,null,null,null,"","",""]
[null,null,null,null,null,null,null,null,null,null,null,null,null,null,null,null,null,"","",""]
[null,null,null,null,null,null,null,null,null,null,null,null,null,null,null,null,null,"","",""]
[null,null,null,null,null,null,null,null,null,null,null,null,null,null,null,null,null,"","",""]
[null,null,null,null,null,null,null,null,null,null,null,null,null,null,null,null,null,"","",""]
[null,null,null,null,null,null,null,null,null,null,null,null,null,null,null,null,null,"","",""]
[null,null,null,null,null,null,null,null,null,null,null,null,null,null,null,null,null,"","",""]
[null,null,null,null,null,null,null,null,null,null,null,null,null,null,null,null,null,"","",""]
[null,null,null,null,null,null,null,null,null,null,null,null,null,null,null,null,null,"","",""]
[null,null,null,null,null,null,null,null,null,null,null,null,null,null,null,null,null,"","",""]
[null,null,null,null,null,null,null,null,null,null,null,null,null,null,null,null,null,"","",""]
[null,null,null,null,null,null,null,null,null,null,null,null,null,null,null,null,null,"","",""]
[null,null,null,null,null,null,null,null,null,null,null,null,null,null,null,null,null,"","",""]
[null,null,null,null,null,null,null,null,null,null,null,null,null,null,null,null,null,"","",""]
[null,null,null,null,null,null,null,null,null,null,null,null,null,null,null,null,null,"","",""]
[null,null,null,null,null,null,null,null,null,null,null,null,null,null,null,null,null,"","",""]
[null,null,null,null,null,null,null,null,null,null,null,null,null,null,null,null,null,"","",""]
[null,null,null,null,null,null,null,null,null,null,null,null,null,null,null,null,null,"","",""]
[null,null,null,null,null,null,null,null,null,null,null,null,null,null,null,null,null,"","",""]
[null,null,null,null,null,null,null,null,null,null,null,null,null,null,null,null,null,"","",""]
[null,null,null,null,null,null,null,null,null,null,null,null,null,null,null,null,null,"","",""]
[null,null,null,null,null,null,null,null,null,null,null,null,null,null,null,null,null,"","",""]
[null,null,null,null,null,null,null,null,null,null,null,null,null,null,null,null,null,"","",""]
[null,null,null,null,null,null,null,null,null,null,null,null,null,null,null,null,null,"","",""]
[null,null,null,null,null,null,null,null,null,null,null,null,null,null,null,null,null,"","",""]
[null,null,null,null,null,null,null,null,null,null,null,null,null,null,null,null,null,"","",""]
[null,null,null,null,null,null,null,null,null,null,null,null,null,null,null,null,null,"","",""]
[null,null,null,null,null,null,null,null,null,null,null,null,null,null,null,null,null,"","",""]
[null,null,null,null,null,null,null,null,null,null,null,null,null,null,null,null,null,"","",""]
[null,null,null,null,null,null,null,null,null,null,null,null,null,null,null,null,null,"","",""]
[null,null,null,null,null,null,null,null,null,null,null,null,null,null,null,null,null,"","",""]
[null,null,null,null,null,null,null,null,null,null,null,null,null,null,null,null,null,"","",""]
[null,null,null,null,null,null,null,null,null,null,null,null,null,null,null,null,null,"","",""]
[null,null,null,null,null,null,null,null,null,null,null,null,null,null,null,null,null,"","",""]
[null,null,null,null,null,null,null,null,null,null,null,null,null,null,null,null,null,"","",""]
[null,null,null,null,null,null,null,null,null,null,null,null,null,null,null,null,null,"","",""]
[null,null,null,null,null,null,null,null,null,null,null,null,null,null,null,null,null,"","",""]
[null,null,null,null,null,null,null,null,null,null,null,null,null,null,null,null,null,"","",""]
[null,null,null,null,null,null,null,null,null,null,null,null,null,null,null,null,null,"","",""]
[null,null,null,null,null,null,null,null,null,null,null,null,null,null,null,null,null,"","",""]
[null,null,null,null,null,null,null,null,null,null,null,null,null,null,null,null,null,"","",""]
[null,null,null,null,null,null,null,null,null,null,null,null,null,null,null,null,null,"","",""]
[null,null,null,null,null,null,null,null,null,null,null,null,null,null,null,null,null,"","",""]
[null,null,null,null,null,null,null,null,null,null,null,null,null,null,null,null,null,"","",""]
[null,null,null,null,null,null,null,null,null,null,null,null,null,null,null,null,null,"","",""]
[null,null,null,null,null,null,null,null,null,null,null,null,null,null,null,null,null,"","",""]
[null,null,null,null,null,null,null,null,null,null,null,null,null,null,null,null,null,"","",""]
[null,null,null,null,null,null,null,null,null,null,null,null,null,null,null,null,null,"","",""]
[null,null,null,null,null,null,null,null,null,null,null,null,null,null,null,null,null,"","",""]
[null,null,null,null,null,null,null,null,null,null,null,null,null,null,null,null,null,"","",""]
[null,null,null,null,null,null,null,null,null,null,null,null,null,null,null,null,null,"","",""]
[null,null,null,null,null,null,null,null,null,null,null,null,null,null,null,null,null,"","",""]
[null,null,null,null,null,null,null,null,null,null,null,null,null,null,null,null,null,"","",""]
[null,null,null,null,null,null,null,null,null,null,null,null,null,null,null,null,null,"","",""]
[null,null,null,null,null,null,null,null,null,null,null,null,null,null,null,null,null,"","",""]
[null,null,null,null,null,null,null,null,null,null,null,null,null,null,null,null,null,"","",""]
[null,null,null,null,null,null,null,null,null,null,null,null,null,null,null,null,null,"","",""]
[null,null,null,null,null,null,null,null,null,null,null,null,null,null,null,null,null,{"$f":"IF(L962=\"\",\"\",L962-O962)","v":""},{"$f":"IF(M962=\"\",\"\",M962-P962)","v":""},{"$f":"IF(N962=\"\",\"\",N962-Q962)","v":""}]
[null,null,null,null,null,null,null,null,null,null,null,null,null,null,null,null,null,"","",""]
[null,null,null,null,null,null,null,null,null,null,null,null,null,null,null,null,null,"","",""]
[null,null,null,null,null,null,null,null,null,null,null,null,null,null,null,null,null,"","",""]
[null,null,null,null,null,null,null,null,null,null,null,null,null,null,null,null,null,"","",""]
[null,null,null,null,null,null,null,null,null,null,null,null,null,null,null,null,null,"","",""]
[null,null,null,null,null,null,null,null,null,null,null,null,null,null,null,null,null,"","",""]
[null,null,null,null,null,null,null,null,null,null,null,null,null,null,null,null,null,"","",""]
[null,null,null,null,null,null,null,null,null,null,null,null,null,null,null,null,null,"","",""]
[null,null,null,null,null,null,null,null,null,null,null,null,null,null,null,null,null,"","",""]
[null,null,null,null,null,null,null,null,null,null,null,null,null,null,null,null,null,"","",""]
[null,null,null,null,null,null,null,null,null,null,null,null,null,null,null,null,null,"","",""]
[null,null,null,null,null,null,null,null,null,null,null,null,null,null,null,null,null,"","",""]
[null,null,null,null,null,null,null,null,null,null,null,null,null,null,null,null,null,"","",""]
[null,null,null,null,null,null,null,null,null,null,null,null,null,null,null,null,null,"","",""]
[null,null,null,null,null,null,null,null,null,null,null,null,null,null,null,null,null,"","",""]
[null,null,null,null,null,null,null,null,null,null,null,null,null,null,null,null,null,"","",""]
[null,null,null,null,null,null,null,null,null,null,null,null,null,null,null,null,null,"","",""]
[null,null,null,null,null,null,null,null,null,null,null,null,null,null,null,null,null,"","",""]
[null,null,null,null,null,null,null,null,null,null,null,null,null,null,null,null,null,"","",""]
[null,null,null,null,null,null,null,null,null,null,null,null,null,null,null,null,null,"","",""]
[null,null,null,null,null,null,null,null,null,null,null,null,null,null,null,null,null,"","",""]
[null,null,null,null,null,null,null,null,null,null,null,null,null,null,null,null,null,"","",""]
[null,null,null,null,null,null,null,null,null,null,null,null,null,null,null,null,null,"","",""]
[null,null,null,null,null,null,null,null,null,null,null,null,null,null,null,null,null,"","",""]
[null,null,null,null,null,null,null,null,null,null,null,null,null,null,null,null,null,"","",""]
[null,null,null,null,null,null,null,null,null,null,null,null,null,null,null,null,null,"","",""]
[null,null,null,null,null,null,null,null,null,null,null,null,null,null,null,null,null,"","",""]
[null,null,null,null,null,null,null,null,null,null,null,null,null,null,null,null,null,"","",""]
[null,null,null,null,null,null,null,null,null,null,null,null,null,null,null,null,null,"","",""]
[null,null,null,null,null,null,null,null,null,null,null,null,null,null,null,null,null,"","",""]
[null,null,null,null,null,null,null,null,null,null,null,null,null,null,null,null,null,"","",""]
[null,null,null,null,null,null,null,null,null,null,null,null,null,null,null,null,null,"","",""]
[null,null,null,null,null,null,null,null,null,null,null,null,null,null,null,null,null,"","",""]
[null,null,null,null,null,null,null,null,null,null,null,null,null,null,null,null,null,"","",""]
[null,null,null,null,null,null,null,null,null,null,null,null,null,null,null,null,null,"","",""]
[null,null,null,null,null,null,null,null,null,null,null,null,null,null,null,null,null,"","",""]
[null,null,null,null,null,null,null,null,null,null,null,null,null,null,null,null,null,"","",""]
[null,null,null,null,null,null,null,null,null,null,null,null,null,null,null,null,null,"","",""]

{"sheet":"Анализ","index":2,"n_rows":29,"n_cols":46,"rows_kept":29,"cut":false,"hidden":false,"merged":[[28,21,37,39],[19,7,20,8],[19,9,20,9],[19,10,20,11],[19,12,20,13],[21,7,22,8],[21,9,22,9],[21,10,22,11],[21,12,22,13],[23,12,24,13],[25,12,26,13],[23,7,24,8],[23,9,24,9],[23,10,24,11],[25,7,26,8],[25,9,26,9],[17,7,18,8],[17,10,18,11],[17,9,18,9],[17,12,18,13],[2,15,3,15],[7,9,8,9],[7,7,8,8],[7,10,8,11],[11,12,12,13],[11,7,12,8],[11,9,12,9],[11,10,12,11],[15,12,16,13],[15,10,16,11],[15,7,16,8],[15,9,16,9],[8,1,8,3],[2,3,3,3],[13,7,14,8],[13,9,14,9],[13,10,14,11],[1,10,1,14],[1,4,1,9],[2,4,3,8],[2,10,3,14],[13,12,14,13],[12,4,12,5],[9,7,10,8],[9,9,10,9],[9,10,10,11],[7,12,8,13],[9,12,10,13],[25,10,26,11],[0,32,2,39],[1,29,2,31],[3,26,6,28],[3,29,6,31],[3,32,6,34],[9,23,10,23],[9,24,10,24],[9,25,10,25],[9,26,10,26],[0,21,2,28],[19,29,20,31],[21,30,22,30],[9,39,10,39],[10,29,11,31],[12,29,13,31],[14,29,15,31],[16,29,17,31],[9,34,10,34],[9,35,10,35],[9,36,10,36],[9,37,10,37],[9,38,10,38],[8,29,9,31],[9,21,10,21],[9,22,10,22]]}
[null,null,null,null,null,null,null,null,null,null,null,null,null,null,null,null,null,null,null,null,null,{"$f":"IncoData!Y3","v":"Cardiff U23"},null,null,null,null,null,null,null,null,null,null,{"$f":"IncoData!Y4","v":"Sheffield Utd U23"},null,null,null,null,null,null,null,null,null,null,null,"-",{"$f":"CONCATENATE(E3,AS1,K3)","v":"Cardiff U23-Sheffield Utd U23"}]
[null,null,null,null,{"$f":"Расчеты!C126","v":"ENGLAND: Professional Development League"},null,null,null,null,null,{"$f":"Расчеты!D127","v":"13.04.21 15:00"},null,null,null,null,null,null,null,null,null,null,null,null,null,null,null,null,null,null,"X"]
[null,null,null,{"$f":"IFERROR('Incognito DATA'!I2,\"RISK\")","v":14},{"$f":"'Incognito DATA'!A1","v":"Cardiff U23"},null,null,null,null,null,{"$f":"'Incognito DATA'!A7","v":"Sheffield Utd U23"},null,null,null,null,{"$f":"IFERROR('Incognito DATA'!I8,\"RISK\")","v":1}]
[null,null,null,null,null,null,null,null,null,null,null,null,null,null,null,null,null,null,null,null,null,null,null,null,null,null,{"$f":"SUM(IncoData!AJ:AJ)/50000","v":0.41073999999999999},null,null,{"$f":"SUM(IncoData!AK:AK)/50000","v":0.30081999999999998},null,null,{"$f":"SUM(IncoData!AL:AL)/50000","v":0.28843999999999997}]
[null,null,"GD-xGD",{"$f":"IFERROR('Incognito DATA'!AA57,\"RISK\")","v":0.59599999999999997},{"$f":"TRANSPOSE(ДомаДома!N2:N7)","v":"П"},"В","В","П","В","д/г",{"$f":"TRANSPOSE(ГостиГости!N2:N7)","v":"В"},"В","Н","П","В",{"$f":"IFERROR('Incognito DATA'!AC57,\"RISK\")","v":1.131}]
[null,null,"рейтинг",{"$f":"Графики!AJ26","v":2.2000000000000002},{"$f":"TRANSPOSE(Дома!N2:N7)","v":"П"},"В","П","П","В","общие",{"$f":"TRANSPOSE(Гости!N2:N7)","v":"В"},"В","В","В","В",{"$f":"Графики!AJ27","v":2.6},"ТБ 2.5","ТМ 2.5"]
[null,null,null,{"$f":"IFERROR('Incognito DATA'!S34,\"RISK\")","v":-0.11818181818181817},{"$f":"TRANSPOSE(Очные!G2:G7)","v":"П"},"Н","П","Н","","очные",{"$f":"TRANSPOSE(Очные!M2:M7)","v":"В"},"Н","В","Н","",{"$f":"IFERROR('Incognito DATA'!S38,\"RISK\")","v":0.79220779220779214},{"$f":"Коэффициенты!C5","v":1.4},{"$f":"Коэффициенты!C6","v":2.82},"kf"]
[null,null,null,null,null,null,null,{"$f":"IFERROR('Incognito DATA'!S6,\"RISK\")","v":0.38397667147667147},null,{"$f":"IFERROR('Incognito DATA'!T6,\"RISK\")","v":-5.9493746993747057E-2},{"$f":"IFERROR('Incognito DATA'!U6,\"RISK\")","v":0.67551707551707552},null,"1 пр",null,null,null,{"$f":"Mill!Y42","v":158.79568518912777},{"$f":"Mill!W42","v":-58.795685189127767},{"$f":"Mill!G90","v":"ОЗ-да"},"mill"]
[null,"Букмекер",null,null,null,null,null,null,null,null,null,null,null,null,null,null,{"$f":"Elizabet2!V20","v":0.72280580111387527},"ТБ2.5/ОЗ да",{"$f":"Elizabet2!V19","v":0.69472191648501536},"Elizabet",null,"0",1,"2",3,"4",5,null,null,"Ожидаемый счёт",null,null,null,null,"0",1,"2",3,"4",5]
[null,1,"x",2,null,null,null,{"$f":"IFERROR('Incognito DATA'!W6,\"RISK\")","v":0.1323953823953824},null,{"$f":"IFERROR('Incognito DATA'!X6,\"RISK\")","v":0.15945165945165946},{"$f":"IFERROR('Incognito DATA'!Y6,\"RISK\")","v":0.70815295815295809},null,"2 пр",null,{"$f":"Графики!BD39","v":""},null,{"$f":"Графики!BI39","v":""},"2.5/BTS",{"$f":"Графики!BM39","v":"-"},"betaloneV8",null,{"$f":"IncoData!AT21","v":3.6979999999999999E-2},{"$f":"IncoData!AT22","v":0.21457999999999999},{"$f":"IncoData!AT23","v":0.41477999999999998},{"$f":"IncoData!AT24","v":0.27101999999999998},{"$f":"IncoData!AT25","v":5.6820000000000002E-2},{"$f":"IncoData!AT26","v":3.7200000000000002E-3},null,null,null,null,null,null,null,{"$f":"IncoData!AW21","v":4.6399999999999997E-2},{"$f":"IncoData!AW22","v":0.27088000000000001},{"$f":"IncoData!AW23","v":0.44572000000000001},{"$f":"IncoData!AW24","v":0.20682},{"$f":"IncoData!AW25","v":2.7140000000000001E-2},{"$f":"IncoData!AW26","v":1E-3}]
[null,{"$f":"Коэффициенты!C2","v":3.46},{"$f":"Коэффициенты!C3","v":4.2699999999999996},{"$f":"Коэффициенты!C4","v":1.83},"kf",null,null,null,null,null,null,null,null,null,{"$f":"Mill!C75","v":"П2"},"mill",{"$f":"Elizabet2!V10","v":1.3333333333333333},{"$f":"Elizabet2!W10","v":2.3333333333333335},"Elizabet",null,null,null,null,null,null,null,null,null,null,{"$f":"IncoData!AU3","v":"2-2"}]
[null,{"$f":"IFERROR('Incognito DATA'!S43,\"RISK\")","v":0.34129692832764502},{"$f":"IFERROR('Incognito DATA'!T43,\"RISK\")","v":0.26315789473684209},{"$f":"IFERROR('Incognito DATA'!U43,\"RISK\")","v":0.49504950495049505},null,null,null,{"$f":"IFERROR('Incognito DATA'!C44,\"RISK\")","v":0.38363636363636361},null,{"$f":"IFERROR('Incognito DATA'!C47,\"RISK\")","v":-0.19287878787878787},{"$f":"IFERROR('Incognito DATA'!D44,\"RISK\")","v":0.80924242424242432},null,"de lux",null,{"$f":"Mill!M2","v":"П2"},"10 д/г",{"$f":"IFERROR('Incognito DATA'!C45,\"RISK\")","v":2.0099999999999998},{"$f":"IFERROR('Incognito DATA'!D45,\"RISK\")","v":3.53}]
[null,{"$f":"IFERROR(Valui!M41,\"RISK\")","v":0.2},{"$f":"IFERROR(Valui!N41,\"RISK\")","v":0},{"$f":"IFERROR(Valui!O41,\"RISK\")","v":0.8},"Valui",null,null,null,null,null,null,null,null,null,{"$f":"Mill!C39","v":"Ф1(+1)"},"3 оч",{"$f":"Расчеты!X112","v":2},{"$f":"Расчеты!Y112","v":2},{"$f":"Расчеты!Z112","v":"X2"},"NTB",null,null,null,null,null,null,null,null,null,{"$f":"IncoData!AU4","v":"3-2"}]
[null,{"$f":"IFERROR(Valui!I21,\"\")","v":"-"},{"$f":"IFERROR(Valui!I23,\"\")","v":"-"},{"$f":"IFERROR(Valui!I25,\"\")","v":"-"},null,null,null,{"$f":"IFERROR(Poisson!B13,\"RISK\")","v":0.19506370882970372},null,{"$f":"IFERROR(Poisson!C13,\"RISK\")","v":0.18750789171982346},{"$f":"IFERROR(Poisson!D13,\"RISK\")","v":0.6174283994504729},null,"poisson",null,{"$f":"Mill!J49","v":"П2"},"5 д/г+оч",{"$f":"'Incognito DATA'!D12","v":2.1619834710743802},{"$f":"'Incognito DATA'!E13","v":2.1418181818181816},"Mini Vini"]
[null,null,null,null,null,null,null,null,null,null,null,null,null,null,{"$f":"Mill!I55","v":"П1"},"тот",{"$f":"'Incognito DATA'!D13","v":2.52198347107438},{"$f":"'Incognito DATA'!E13","v":2.1418181818181816},null,null,null,null,null,null,null,null,null,null,null,{"$f":"IncoData!AU5","v":"2-1"}]
[null,null,null,null,null,null,null,{"$f":"IFERROR('Incognito DATA'!H96,\"RISK\")","v":0.26928815628950681},null,{"$f":"IFERROR('Incognito DATA'!I96,\"RISK\")","v":0.12078414629964927},{"$f":"IFERROR('Incognito DATA'!J96,\"RISK\")","v":0.60992769741084396},null,"ср взвеш"]
[null,null,null,null,null,null,null,null,null,null,null,null,null,null,null,null,null,null,null,null,null,null,null,null,null,null,null,null,null,{"$f":"IncoData!AU6","v":"1-2"}]
[null,null,null,null,null,null,null,{"$f":"Mill!W37","v":0.4},null,{"$f":"Mill!X39","v":-0.11578947368421044},{"$f":"Mill!Y37","v":0.71578947368421053},null,"mill"]
[]
[null,null,null,null,null,null,null,{"$f":"'Incognito DATA'!J13","v":0.59090909090909094},null,{"$f":"'Incognito DATA'!K13","v":-9.0909090909090925E-2},{"$f":"'Incognito DATA'!L13","v":0.5},null,"Mini Vini",null,null,null,null,null,null,null,null,null,null,null,null,null,null,null,null,"Ожидаемый Тотал"]
[]
[null,null,null,null,null,null,null,{"$f":"Elizabet2!W16","v":0.31702792816879211},null,{"$f":"Elizabet2!W17","v":0.12566584228512312},{"$f":"Elizabet2!W18","v":0.55730622954608477},null,"Elizabet",null,null,null,null,null,null,null,null,null,null,null,null,null,null,null,null,null,{"$f":"IncoData!J30","v":4}]
[]
[null,null,null,null,null,null,null,{"$f":"Графики!M26","v":0.28727074760528637},null,{"$f":"Графики!M28","v":0.19412669062549898},{"$f":"Графики!M27","v":0.51472106019139807},null,"5Match p"]
[]
[null,null,null,null,null,null,null,{"$f":"Графики!M30","v":0.17692307692307691},null,{"$f":"Графики!M31","v":0.37384615384615383},{"$f":"Графики!M32","v":0.44923076923076921},null,"5Match"]
[]
[]
[null,null,null,null,null,null,null,null,null,null,null,null,null,null,null,null,null,null,null,null,null,"Prorok Reload Incognito"]

{"sheet":"Incognito DATA","index":3,"n_rows":99,"n_cols":32,"rows_kept":99,"cut":false,"hidden":true,"merged":[[53,1,53,2],[53,3,53,4],[85,1,85,2],[85,3,85,4],[86,2,86,3],[92,2,92,3],[88,1,88,2],[88,3,88,4],[89,2,89,3],[91,1,91,2],[91,3,91,4],[40,11,40,12],[41,11,41,12],[42,11,42,12],[38,6,38,7],[40,6,40,7],[41,6,41,7],[42,6,42,7],[26,6,26,7],[36,6,36,7],[37,6,37,7],[28,6,28,7],[29,6,29,7],[27,6,27,7],[32,6,32,7],[33,6,33,7],[27,11,27,12],[28,11,28,12],[29,11,29,12],[15,11,15,12],[26,11,26,12],[16,11,16,12],[17,11,17,12],[18,11,18,12],[19,11,19,12],[20,11,20,12],[25,6,25,7],[21,11,21,12],[22,11,22,12],[23,11,23,12],[25,11,25,12],[24,11,24,12],[15,6,15,7],[16,6,16,7],[17,6,17,7],[18,6,18,7],[19,6,19,7],[20,6,20,7],[21,6,21,7],[22,6,22,7],[23,6,23,7],[24,6,24,7],[44,18,44,20],[44,22,44,24],[51,6,51,7],[54,6,54,7],[56,6,56,7],[47,6,47,7],[48,6,48,7],[48,11,48,12],[45,11,45,12],[45,6,45,7],[47,11,47,12],[44,6,44,7],[44,11,44,12],[50,6,50,7],[50,11,50,12],[49,23,51,23],[56,11,56,12],[54,11,54,12],[51,11,51,12],[53,6,53,7],[53,11,53,12],[52,23,53,23],[39,18,39,20],[39,22,39,24],[36,11,36,12],[37,11,37,12],[38,11,38,12],[32,11,32,12],[33,11,33,12],[34,6,34,7],[34,11,34,12],[11,27,11,28],[14,1,14,2],[14,3,14,4],[3,18,3,20],[3,22,3,24],[10,19,10,20],[11,19,11,20],[10,18,11,18],[12,18,12,21],[14,6,14,7],[14,11,14,12],[3,26,3,28],[49,31,51,31],[52,31,53,31],[40,31,42,31],[43,31,44,31],[49,27,51,27],[52,27,53,27],[40,27,42,27],[43,27,44,27],[46,26,46,28],[59,6,59,7],[59,8,59,9],[94,1,94,2],[94,3,94,4],[95,2,95,3],[97,1,97,2],[97,3,97,4],[98,2,98,3],[55,26,55,28],[57,26,57,28],[57,6,57,7],[57,11,57,12]]}
[{"$f":"Очные!A1","v":"Cardiff U23"},"Игр ХОЗЯЕВ","В","Н","П","Заб","Проп","Очки","Место",null,"ОЧНЫЕ  ХОЗЯЕВ","В","Н","П","Заб","Проп"]
["Общая",{"$f":"IF($I$2=\"\",\"\",VLOOKUP($A$1,Таблица!$B:$I,COLUMN(),FALSE))","v":22},{"$f":"IF($I$2=\"\",\"\",VLOOKUP($A$1,Таблица!$B:$I,COLUMN(),FALSE))","v":9},{"$f":"IF($I$2=\"\",\"\",VLOOKUP($A$1,Таблица!$B:$I,COLUMN(),FALSE))","v":1},{"$f":"IF($I$2=\"\",\"\",VLOOKUP($A$1,Таблица!$B:$I,COLUMN(),FALSE))","v":12},{"$f":"IF($I$2=\"\",\"\",VLOOKUP($A$1,Таблица!$B:$I,COLUMN(),FALSE))","v":39},{"$f":"IF($I$2=\"\",\"\",VLOOKUP($A$1,Таблица!$B:$I,COLUMN(),FALSE))","v":34},{"$f":"IF($I$2=\"\",\"\",VLOOKUP($A$1,Таблица!$B:$I,COLUMN(),FALSE))","v":28},{"$f":"IFERROR(MATCH(A1,Таблица!B:B,0)-1,\"\")","v":14},"Общая",{"$f":"K3+K4","v":4},{"$f":"COUNTIFS(Очные!G:G,\"В\")","v":0},{"$f":"COUNTIFS(Очные!G:G,\"Н\")","v":2},{"$f":"COUNTIFS(Очные!G:G,\"П\")","v":2},{"$f":"MAXA(Очные!H:H)","v":3},{"$f":"MAXA(Очные!I:I)","v":8},null,null,null,null,null,null,null,null,null,null,null,null,null,{"$f":"SUM(ДомаДома!L2:L11)","v":30},{"$f":"SUM(ГостиГости!L2:L11)","v":22}]
["Дом",{"$f":"IF($I$3=\"\",\"\",VLOOKUP($A$1,Таблица!$L:$S,COLUMN(),FALSE))","v":11},{"$f":"IF($I$3=\"\",\"\",VLOOKUP($A$1,Таблица!$L:$S,COLUMN(),FALSE))","v":8},{"$f":"IF($I$3=\"\",\"\",VLOOKUP($A$1,Таблица!$L:$S,COLUMN(),FALSE))","v":0},{"$f":"IF($I$3=\"\",\"\",VLOOKUP($A$1,Таблица!$L:$S,COLUMN(),FALSE))","v":3},{"$f":"IF($I$3=\"\",\"\",VLOOKUP($A$1,Таблица!$L:$S,COLUMN(),FALSE))","v":31},{"$f":"IF($I$3=\"\",\"\",VLOOKUP($A$1,Таблица!$L:$S,COLUMN(),FALSE))","v":12},{"$f":"IF($I$3=\"\",\"\",VLOOKUP($A$1,Таблица!$L:$S,COLUMN(),FALSE))","v":24},{"$f":"IFERROR(MATCH(A1,Таблица!L:L,0)-1,\"\")","v":11},"Дома",{"$f":"COUNTIF(Очные!S:S,\"Дома\")","v":3},{"$f":"COUNTIFS(Очные!T:T,\"В\")","v":0},{"$f":"COUNTIFS(Очные!T:T,\"Н\")","v":2},{"$f":"COUNTIFS(Очные!T:T,\"П\")","v":1},{"$f":"SUM(Очные!U:U)","v":3},{"$f":"SUM(Очные!V:V)","v":5},null,null,"Тотал",{"$f":"VALUE(TEXT((E45+E46+O45+O46)/2,\"0,00\"))","v":4.1500000000000004},null,null,null,null,null,null,null,null,null,{"$f":"IFERROR(H3/B3*F3/G3,H3/B3*F3/G2)","v":5.6363636363636358},{"$f":"H10/B10*F10/G10","v":4.4000000000000004}]
["Гости",{"$f":"IF($I$4=\"\",\"\",VLOOKUP($A$1,Таблица!$V:$AC,COLUMN(),FALSE))","v":11},{"$f":"IF($I$4=\"\",\"\",VLOOKUP($A$1,Таблица!$V:$AC,COLUMN(),FALSE))","v":1},{"$f":"IF($I$4=\"\",\"\",VLOOKUP($A$1,Таблица!$V:$AC,COLUMN(),FALSE))","v":1},{"$f":"IF($I$4=\"\",\"\",VLOOKUP($A$1,Таблица!$V:$AC,COLUMN(),FALSE))","v":9},{"$f":"IF($I$4=\"\",\"\",VLOOKUP($A$1,Таблица!$V:$AC,COLUMN(),FALSE))","v":8},{"$f":"IF($I$4=\"\",\"\",VLOOKUP($A$1,Таблица!$V:$AC,COLUMN(),FALSE))","v":22},{"$f":"IF($I$4=\"\",\"\",VLOOKUP($A$1,Таблица!$V:$AC,COLUMN(),FALSE))","v":4},{"$f":"IFERROR(MATCH(A1,Таблица!V:V,0)-1,\"\")","v":18},"В Гостях",{"$f":"COUNTIF(Очные!S:S,\"Гости\")","v":1},{"$f":"COUNTIFS(Очные!W:W,\"В\")","v":0},{"$f":"COUNTIFS(Очные!W:W,\"Н\")","v":0},{"$f":"COUNTIFS(Очные!W:W,\"П\")","v":1},{"$f":"SUM(Очные!X:X)","v":0},{"$f":"SUM(Очные!Y:Y)","v":3},null,null,"Прогноз 1",null,null,null,"Прогноз 2",null,null,null,"Прогноз 3"]
["Форма 5 Общ",{"$f":"IF($I$5=\"\",\"\",VLOOKUP($A$1&5,Форма!$BB:$BI,COLUMN(),FALSE))","v":5},{"$f":"IF($I$5=\"\",\"\",VLOOKUP($A$1&5,Форма!$BB:$BI,COLUMN(),FALSE))","v":2},{"$f":"IF($I$5=\"\",\"\",VLOOKUP($A$1&5,Форма!$BB:$BI,COLUMN(),FALSE))","v":0},{"$f":"IF($I$5=\"\",\"\",VLOOKUP($A$1&5,Форма!$BB:$BI,COLUMN(),FALSE))","v":3},{"$f":"IF($I$5=\"\",\"\",VLOOKUP($A$1&5,Форма!$BB:$BI,COLUMN(),FALSE))","v":11},{"$f":"IF($I$5=\"\",\"\",VLOOKUP($A$1&5,Форма!$BB:$BI,COLUMN(),FALSE))","v":6},{"$f":"IF($I$5=\"\",\"\",VLOOKUP($A$1&5,Форма!$BB:$BI,COLUMN(),FALSE))","v":6},{"$f":"IFERROR(MATCH(A1&5,Форма!BB:BB,0)-1,\"\")","v":14},null,null,null,null,null,null,null,null,null,1,"Х",2,null,1,"Х",2,null,1,"Х",2]
[null,null,null,null,null,null,null,null,null,null,null,null,null,null,null,null,null,null,{"$f":"T32+T34","v":0.38397667147667147},{"$f":"U32+T34","v":-5.9493746993747057E-2},{"$f":"V32+T34","v":0.67551707551707552},{"$f":"SUM(S6:U6)","v":1},{"$f":"W13+Z11","v":0.1323953823953824},{"$f":"X13+Z11","v":0.15945165945165946},{"$f":"Y13+Z11","v":0.70815295815295809},{"$f":"SUM(W6:Y6)","v":1},{"$f":"AB32","v":0.72727272727272729},{"$f":"AB34","v":-0.40909090909090906},{"$f":"AB33","v":0.68181818181818177}]
[{"$f":"Очные!B1","v":"Sheffield Utd U23"},"Игр ГОСТЕЙ","В","Н","П","Заб","Проп","Очки","Место",null,"ОЧНЫЕ  ГОСТЕЙ","В","Н","П","Заб","Проп"]
["Общая",{"$f":"IF($I$8=\"\",\"\",VLOOKUP($A$7,Таблица!$B:$I,COLUMN(),FALSE))","v":21},{"$f":"IF($I$8=\"\",\"\",VLOOKUP($A$7,Таблица!$B:$I,COLUMN(),FALSE))","v":14},{"$f":"IF($I$8=\"\",\"\",VLOOKUP($A$7,Таблица!$B:$I,COLUMN(),FALSE))","v":4},{"$f":"IF($I$8=\"\",\"\",VLOOKUP($A$7,Таблица!$B:$I,COLUMN(),FALSE))","v":3},{"$f":"IF($I$8=\"\",\"\",VLOOKUP($A$7,Таблица!$B:$I,COLUMN(),FALSE))","v":53},{"$f":"IF($I$8=\"\",\"\",VLOOKUP($A$7,Таблица!$B:$I,COLUMN(),FALSE))","v":19},{"$f":"IF($I$8=\"\",\"\",VLOOKUP($A$7,Таблица!$B:$I,COLUMN(),FALSE))","v":46},{"$f":"IFERROR(MATCH(A7,Таблица!B:B,0)-1,\"\")","v":1},"Общая",{"$f":"K9+K10","v":4},{"$f":"COUNTIFS(Очные!M:M,\"В\")","v":2},{"$f":"COUNTIFS(Очные!M:M,\"Н\")","v":2},{"$f":"COUNTIFS(Очные!M:M,\"П\")","v":0},{"$f":"MAXA(Очные!N:N)","v":8},{"$f":"MAXA(Очные!O:O)","v":3},null,null,"1К","ТС","2К",null,{"$f":"G16*G20+G24*G28+G33*G37+G41*G28/8","v":0.33388429752066118},{"$f":"L16*L20+L24*L28+L33*L37+L41*L28/8","v":1.3946969696969698},null,null,null,{"$f":"((F5+G5)/2)/B5","v":1.7},{"$f":"AB8+AB9","v":3.7}]
["Дом",{"$f":"IF($I$9=\"\",\"\",VLOOKUP($A$7,Таблица!$L:$S,COLUMN(),FALSE))","v":10},{"$f":"IF($I$9=\"\",\"\",VLOOKUP($A$7,Таблица!$L:$S,COLUMN(),FALSE))","v":7},{"$f":"IF($I$9=\"\",\"\",VLOOKUP($A$7,Таблица!$L:$S,COLUMN(),FALSE))","v":3},{"$f":"IF($I$9=\"\",\"\",VLOOKUP($A$7,Таблица!$L:$S,COLUMN(),FALSE))","v":0},{"$f":"IF($I$9=\"\",\"\",VLOOKUP($A$7,Таблица!$L:$S,COLUMN(),FALSE))","v":31},{"$f":"IF($I$9=\"\",\"\",VLOOKUP($A$7,Таблица!$L:$S,COLUMN(),FALSE))","v":9},{"$f":"IF($I$9=\"\",\"\",VLOOKUP($A$7,Таблица!$L:$S,COLUMN(),FALSE))","v":24},{"$f":"IFERROR(MATCH(A7,Таблица!L:L,0)-1,\"\")","v":1},"Дома",{"$f":"COUNTIF(Очные!S:S,\"Дома\")","v":3},{"$f":"COUNTIFS(Очные!AA:AA,\"В\")","v":1},{"$f":"COUNTIFS(Очные!AA:AA,\"Н\")","v":0},{"$f":"COUNTIFS(Очные!AA:AA,\"П\")","v":0},{"$f":"SUM(Очные!AB:AB)","v":3},{"$f":"SUM(Очные!AC:AC)","v":0},null,null,{"$f":"E45","v":2.0060606060606063},null,{"$f":"O45","v":3.5333333333333332},null,{"$f":"G17*G21+G25*G29","v":0},{"$f":"L17*L21+L25*L29","v":5.7142857142857134E-2},null,null,null,{"$f":"((F11+G11)/2)/B11","v":2},{"$f":"IF(AB12>=2,\"Да\",\"Нет\")","v":"Да"}]
["Гости",{"$f":"IF($I$10=\"\",\"\",VLOOKUP($A$7,Таблица!$V:$AC,COLUMN(),FALSE))","v":11},{"$f":"IF($I$10=\"\",\"\",VLOOKUP($A$7,Таблица!$V:$AC,COLUMN(),FALSE))","v":7},{"$f":"IF($I$10=\"\",\"\",VLOOKUP($A$7,Таблица!$V:$AC,COLUMN(),FALSE))","v":1},{"$f":"IF($I$10=\"\",\"\",VLOOKUP($A$7,Таблица!$V:$AC,COLUMN(),FALSE))","v":3},{"$f":"IF($I$10=\"\",\"\",VLOOKUP($A$7,Таблица!$V:$AC,COLUMN(),FALSE))","v":22},{"$f":"IF($I$10=\"\",\"\",VLOOKUP($A$7,Таблица!$V:$AC,COLUMN(),FALSE))","v":10},{"$f":"IF($I$10=\"\",\"\",VLOOKUP($A$7,Таблица!$V:$AC,COLUMN(),FALSE))","v":22},{"$f":"IFERROR(MATCH(A7,Таблица!V:V,0)-1,\"\")","v":1},"В Гостях",{"$f":"COUNTIF(Очные!S:S,\"Гости\")","v":1},{"$f":"COUNTIFS(Очные!AD:AD,\"В\")","v":1},{"$f":"COUNTIFS(Очные!AD:AD,\"Н\")","v":2},{"$f":"COUNTIFS(Очные!AD:AD,\"П\")","v":0},{"$f":"SUM(Очные!AE:AE)","v":5},{"$f":"SUM(Очные!AF:AF)","v":3},null,null,null,null,null,null,{"$f":"G18*G22+G26*G30","v":0.63966942148760331},{"$f":"L18*L22+L26*L30","v":0},null,null,null,{"$f":"IF(AB8>=1.7,\"1\",\"0\")","v":"1"},{"$f":"IF(AB9>=1.8,\"1\",\"0\")","v":"1"}]
["Форма 5 Общ",{"$f":"IF($I$11=\"\",\"\",VLOOKUP($A$7&5,Форма!$BB:$BI,COLUMN(),FALSE))","v":5},{"$f":"IF($I$11=\"\",\"\",VLOOKUP($A$7&5,Форма!$BB:$BI,COLUMN(),FALSE))","v":5},{"$f":"IF($I$11=\"\",\"\",VLOOKUP($A$7&5,Форма!$BB:$BI,COLUMN(),FALSE))","v":0},{"$f":"IF($I$11=\"\",\"\",VLOOKUP($A$7&5,Форма!$BB:$BI,COLUMN(),FALSE))","v":0},{"$f":"IF($I$11=\"\",\"\",VLOOKUP($A$7&5,Форма!$BB:$BI,COLUMN(),FALSE))","v":18},{"$f":"IF($I$11=\"\",\"\",VLOOKUP($A$7&5,Форма!$BB:$BI,COLUMN(),FALSE))","v":2},{"$f":"IF($I$11=\"\",\"\",VLOOKUP($A$7&5,Форма!$BB:$BI,COLUMN(),FALSE))","v":15},{"$f":"IFERROR(MATCH(A7&5,Форма!BB:BB,0)-1,\"\")","v":1},null,null,null,null,null,null,null,null,null,"Pa(B1)=","P(B1)*PB1(A)",null,null,null,null,null,{"$f":"Z12/3","v":4.1486291486291495E-2},null,{"$f":"AB10","v":"1"},{"$f":"AC10","v":"1"}]
[null,null,null,{"$f":"((G10/B10/B3)*F3)-40%","v":2.1619834710743802},{"$f":"((G3/B3/B10)*F10)-40%","v":1.7818181818181817},{"$f":"SUM(D12:E13)","v":8.6076033057851227},{"$f":"F12/2","v":4.3038016528925613},{"$f":"IF(G12>=4,(\"Over\"),(\"\"))","v":"Over"},null,{"$f":"C3/B3","v":0.72727272727272729},{"$f":"(D3+D10)/(B3+B10)","v":4.5454545454545456E-2},{"$f":"C10/B10","v":0.63636363636363635},null,{"$f":"SUM(J12:L12)","v":1.4090909090909092},{"$f":"N12-100%","v":0.40909090909090917},null,null,null,null,"P(A)",null,null,{"$f":"MEDIAN(G17,G21,G25,G29,G34,G38,G42)","v":4.5454545454545456E-2},null,{"$f":"MEDIAN(L17,L21,L25,L29,L34,L38,L42)","v":0.19047619047619047},{"$f":"100%-Z13","v":0.12445887445887449},null,{"$f":"AB11+AC11","v":2}]
[null,null,null,{"$f":"((G10/B10/B3)*F3)-4%","v":2.52198347107438},{"$f":"((G3/B3/B10)*F10)-4%","v":2.1418181818181816},null,null,null,null,{"$f":"J12-O13","v":0.59090909090909094},{"$f":"K12-O13","v":-9.0909090909090925E-2},{"$f":"L12-O13","v":0.5},null,{"$f":"SUM(J13:M13)","v":1},{"$f":"O12/3","v":0.13636363636363638},null,null,null,"P(A)=P(B1)*PB1(A)+P(B2)*PB2(A)",null,null,null,{"$f":"MEDIAN(G16,G20,G24,G28,G33,G37,G41)","v":9.0909090909090912E-2},{"$f":"(W12+Y12)/2","v":0.11796536796536797},{"$f":"MEDIAN(L16,L20,L24,L28,L33,L37,L41)","v":0.66666666666666663},{"$f":"SUM(W13:Y13)","v":0.87554112554112551}]
[null,null,null,null,null,null,{"$f":"AVERAGE(G28:H29,G24:H25,G20:H21,G16:H17)","v":0.22045454545454546},{"$f":"AVERAGE(G30,G26,G22,G18)","v":0.55909090909090908},null,null,null,{"$f":"AVERAGE(L28:M29,L24:M25,L20:M21,L16:M17)","v":0.44805194805194792},{"$f":"AVERAGE(L30,L26,L22,L18)","v":0.10389610389610389}]
[null,"1 Команда",null,"2 Команда",null,null,{"$f":"A1","v":"Cardiff U23"},null,null,{"$f":"A2","v":"Общая"},null,{"$f":"A7","v":"Sheffield Utd U23"},null,null,{"$f":"J15","v":"Общая"},1,"Х",2,null,1,"Х",2]
[null,10,{"$f":"B16*G16/100","v":4.0909090909090909E-2},{"$f":"E16*L16/100","v":6.6666666666666666E-2},10,null,{"$f":"C2/B2","v":0.40909090909090912},null,null,"Побед",null,{"$f":"C8/B8","v":0.66666666666666663},null,null,null,{"$f":"(G16+G20+G24+G28)/4","v":0.40681818181818186},{"$f":"(G17+G21+G25+G29+L29+L25+L21+L17)/8","v":8.9718614718614711E-2},{"$f":"(L16+L20+L24+L28)/4","v":0.75075757575757573},null,{"$f":"(P16+P20+P24+P28)/4","v":0.40625},{"$f":"(Q16+Q20+Q24+Q28)/4","v":8.2656926406926401E-2},{"$f":"(R16+R20+R24+R28)/4","v":0.77178030303030298},{"$f":"SUM(T16:V16)","v":1.2606872294372293}]
[null,null,null,null,null,null,{"$f":"D2/B2","v":4.5454545454545456E-2},null,null,"Ничья",null,{"$f":"D8/B8","v":0.19047619047619047},null,null,null,null,null,null,null,null,null,null,null,null,{"$f":"S6*100","v":38.39766714766715},{"$f":"T6*100","v":-5.9493746993747054},{"$f":"U6*100","v":67.551707551707551}]
[null,null,null,null,null,null,{"$f":"E2/B2","v":0.54545454545454541},null,null,"Проигрыш",null,{"$f":"E8/B8","v":0.14285714285714285},null,null,null,null,null,null,null,null,null,null,null,null,{"$f":"100/Y17","v":2.6043248829525703},{"$f":"100/Z17","v":-16.808489135927218},1.4803474793506124]
[null,null,null,null,null,null,null,null,null,"Дом",null,null,null,null,{"$f":"J19","v":"Дом"},1,"Х",2]
[null,30,{"$f":"B20*G20/100","v":0.2181818181818182},{"$f":"E20*L20/100","v":3.5000000000000003E-2},5,null,{"$f":"C3/B3","v":0.72727272727272729},null,null,"Побед",null,{"$f":"C9/B9","v":0.7},null,null,null,{"$f":"G20","v":0.72727272727272729},{"$f":"(G21+L21)/2","v":0.15},{"$f":"L20","v":0.7},null,1,"Х",2,null,null,{"$f":"W6*100","v":13.239538239538239},{"$f":"X6*100","v":15.945165945165945},70.815295815295812]
[null,null,null,null,null,null,{"$f":"D3/B3","v":0},null,null,"Ничья",null,{"$f":"D9/B9","v":0.3},null,null,null,null,null,null,null,{"$f":"P20","v":0.72727272727272729},{"$f":"(Q20+Q24)/2","v":0.12045454545454545},{"$f":"R24","v":0.63636363636363635},{"$f":"SUM(T21:V21)","v":1.4840909090909091},null,{"$f":"100/Y20","v":7.5531335149863761},{"$f":"100/Z20","v":6.2714932126696832},1.4121242995415182]
[null,null,null,null,null,null,{"$f":"E3/B3","v":0.27272727272727271},null,null,"Проигрыш",null,{"$f":"E9/B9","v":0}]
[null,null,null,null,null,null,null,null,null,"Гости",null,null,null,null,{"$f":"J23","v":"Гости"},1,"Х",2,null,null,null,null,null,null,"Win","X","Lose"]
[null,5,{"$f":"B24*G24/100","v":4.5454545454545461E-3},{"$f":"E24*L24/100","v":0.19090909090909089},30,null,{"$f":"C4/B4","v":9.0909090909090912E-2},null,null,"Побед",null,{"$f":"C10/B10","v":0.63636363636363635},null,null,null,{"$f":"G24","v":9.0909090909090912E-2},{"$f":"(G25+L25)/2","v":9.0909090909090912E-2},{"$f":"L24","v":0.63636363636363635}]
[null,null,null,null,null,null,{"$f":"D4/B4","v":9.0909090909090912E-2},null,null,"Ничья",null,{"$f":"D10/B10","v":9.0909090909090912E-2},null,null,null,null,null,null,null,null,null,null,null,null,{"$f":"(C5+C11)/B11","v":1.4},{"$f":"(D5+D11)/B11","v":0}]
[null,null,null,null,null,null,{"$f":"E4/B4","v":0.81818181818181823},null,null,"Проигрыш",null,{"$f":"E10/B10","v":0.27272727272727271}]
[null,null,null,null,null,null,null,null,null,"Форма",null,null,null,null,{"$f":"J27","v":"Форма"},1,"Х",2,null,1,"Х",2]
[null,30,{"$f":"B28*G28/100","v":0.12},{"$f":"E28*L28/100","v":0.3},30,null,{"$f":"C5/B5","v":0.4},null,null,"Побед",null,{"$f":"C11/B11","v":1},null,null,null,{"$f":"G28","v":0.4},{"$f":"(G29+L29)/2","v":0},{"$f":"L28","v":1},null,{"$f":"P28","v":0.4},{"$f":"Q28","v":0},{"$f":"R28","v":1},{"$f":"SUM(T28:V28)","v":1.4}]
[null,null,null,null,null,null,{"$f":"D5/B5","v":0},null,null,"Ничья",null,{"$f":"D11/B11","v":0}]
[null,null,null,null,null,null,{"$f":"E5/B5","v":0.6},null,null,"Проигрыш",null,{"$f":"E11/B11","v":0},null,null,"Общая","Дом","Гости","Форма 5","Среднее"]
[null,null,null,null,null,null,null,null,null,"Очные",null,null,null,"В %",{"$f":"C2/B2","v":0.40909090909090912},{"$f":"C3/B3","v":0.72727272727272729},{"$f":"C4/B4","v":9.0909090909090912E-2},{"$f":"C5/B5","v":0.4},{"$f":"AVERAGE(O31:R31)","v":0.40681818181818186},1,"Х",2,{"$f":"(W16+W21+W28)/3","v":1.381592712842713}]
[null,null,null,null,null,null,null,null,null,"Общая",null,null,null,"Н %",{"$f":"D2/B2","v":4.5454545454545456E-2},{"$f":"D3/B3","v":0},{"$f":"D4/B4","v":9.0909090909090912E-2},{"$f":"D5/B5","v":0},{"$f":"AVERAGE(O32:R32)","v":3.4090909090909088E-2},{"$f":"(T16+T21+T28)/3","v":0.51117424242424248},{"$f":"(U16+U21+U28)/3","v":6.7703823953823947E-2},{"$f":"(V16+V21+V28)/3","v":0.80271464646464652},{"$f":"SUM(T32:V32)","v":1.3815927128427128},null,null,{"$f":"C3/B3","v":0.72727272727272729},{"$f":"(D3/B3)/2","v":0},{"$f":"SUM(Z32:AA32)","v":0.72727272727272729}]
[null,null,null,null,null,null,{"$f":"IFERROR(L2/K2,0)","v":0},null,null,"Побед",null,{"$f":"IFERROR(L8/K8,0)","v":0.5},null,"П %",{"$f":"E2/B2","v":0.54545454545454541},{"$f":"E3/B3","v":0.27272727272727271},{"$f":"E4/B4","v":0.81818181818181823},{"$f":"E5/B5","v":0.6},0.55909090909090908,null,null,null,null,null,null,{"$f":"C10/B10","v":0.63636363636363635},{"$f":"(D10/B10)/2","v":4.5454545454545456E-2},{"$f":"SUM(Z33:AA33)","v":0.68181818181818177}]
[null,null,null,null,null,null,{"$f":"IFERROR(M2/K2,0)","v":0.5},null,null,"Ничья",null,{"$f":"IFERROR(M8/K8,0)","v":0.5},null,null,null,null,null,null,{"$f":"S31+S32-S33","v":-0.11818181818181817},{"$f":"(100%-W31)/3","v":-0.127197570947571},null,null,null,null,null,null,null,{"$f":"100%-AB33-AB32","v":-0.40909090909090906}]
[null,null,null,null,null,null,{"$f":"IFERROR(N2/K2,0)","v":0.5},null,null,"Проигрыш",null,{"$f":"IFERROR(N8/K8,0)","v":0},null,"В %",{"$f":"C8/B8","v":0.66666666666666663},{"$f":"C9/B9","v":0.7},{"$f":"C10/B10","v":0.63636363636363635},{"$f":"C11/B11","v":1},{"$f":"AVERAGE(O35:R35)","v":0.75075757575757573}]
[null,null,null,null,null,null,null,null,null,"Дом",null,null,null,"Н %",{"$f":"D8/B8","v":0.19047619047619047},{"$f":"D9/B9","v":0.3},{"$f":"D10/B10","v":9.0909090909090912E-2},{"$f":"D11/B11","v":0},{"$f":"AVERAGE(O36:R36)","v":0.14534632034632033}]
[null,20,{"$f":"B37*G37/100","v":0},{"$f":"E37*L37/100","v":1.6666666666666666E-2},5,null,{"$f":"IFERROR(L3/K3,0)","v":0},null,null,"Побед",null,{"$f":"IFERROR(L9/K9,0)","v":0.33333333333333331},null,"П %",{"$f":"E8/B8","v":0.14285714285714285},{"$f":"E9/B9","v":0},{"$f":"E10/B10","v":0.27272727272727271},{"$f":"E11/B11","v":0},0.10389610389610389]
[null,null,null,null,null,null,{"$f":"IFERROR(M3/K3,0)","v":0.66666666666666663},null,null,"Ничья",null,{"$f":"IFERROR(M9/K9,0)","v":0},null,null,null,null,null,null,{"$f":"S35+S36-S37","v":0.79220779220779214}]
[null,null,null,null,null,null,{"$f":"IFERROR(N3/K3,0)","v":0.33333333333333331},null,null,"Проигрыш",null,{"$f":"IFERROR(N9/K9,0)","v":0}]
[null,null,null,null,null,null,null,null,null,"Гости",null,null,null,null,null,null,null,null,"Кофициэнт букмекера стартовый",null,null,null,"Кофициэнт анализа 1",null,null,null,{"$f":"A1","v":"Cardiff U23"},null,{"$f":"A7","v":"Sheffield Utd U23"}]
[null,5,{"$f":"B41*G41/100","v":0},{"$f":"E41*L41/100","v":0.2},20,null,{"$f":"IFERROR(L4/K4,0)","v":0},null,null,"Побед",null,{"$f":"IFERROR(L10/K10,0)","v":1},null,null,null,null,null,null,1,"Х",2,null,1,"Х",2,"в ср. пропущ. Дома",{"$f":"G3/B3","v":1.0909090909090908},"по статистике  матчей Дома/в Гостях",{"$f":"G10/B10","v":0.90909090909090906},"в ср. пропущ. в Гостях",null,"по статистике Гостевых матчей"]
[null,null,null,null,null,null,{"$f":"IFERROR(M4/K4,0)","v":0},null,null,"Ничья",null,{"$f":"IFERROR(M10/K10,0)","v":2},null,null,null,null,null,null,{"$f":"Коэффициенты!B2","v":2.93},{"$f":"Коэффициенты!B3","v":3.8},{"$f":"Коэффициенты!B4","v":2.02},null,{"$f":"Y18","v":2.6043248829525703},{"$f":"Z18","v":-16.808489135927218},{"$f":"AA18","v":1.4803474793506124},"в ср. Поражен Дома",{"$f":"E3/B3","v":0.27272727272727271},null,{"$f":"E10/B10","v":0.27272727272727271},"в ср. Поражен в Гостях"]
[null,null,null,null,null,null,{"$f":"IFERROR(N4/K4,0)","v":1},null,null,"Проигрыш",null,{"$f":"IFERROR(N10/K10,0)","v":0},null,null,null,null,null,null,{"$f":"1/S42","v":0.34129692832764502},{"$f":"1/T42","v":0.26315789473684209},0.49504950495049505,null,{"$f":"S6","v":0.38397667147667147},{"$f":"T6","v":-5.9493746993747057E-2},{"$f":"U6","v":0.67551707551707552},"в ср. очков Дома",{"$f":"H3/B3","v":2.1818181818181817},null,{"$f":"H10/B10","v":2},"в ср. очков в Гостях"]
[null,null,{"$f":"SUM(C16:C43)","v":0.38363636363636361},{"$f":"SUM(D16:D43)","v":0.80924242424242432},null,null,null,null,null,"Общая",null,null,null,null,null,null,null,null,null,null,null,null,null,null,null,"в ср. Пропущено Хозяевами",{"$f":"G5/B5","v":1.2},"по Форме5",{"$f":"G11/B11","v":0.4},"в ср. Пропущено Гостями",null,"по Форме5"]
[null,null,{"$f":"VALUE(TEXT((G48+G54+G57)/3,\"0,00\"))","v":2.0099999999999998},{"$f":"VALUE(TEXT((L51+L54+L57)/3,\"0,00\"))","v":3.53},{"$f":"(G48+G54+G57)/3","v":2.0060606060606063},null,{"$f":"F2/B2","v":1.7727272727272727},null,null,"Забили",null,{"$f":"F8/B8","v":2.5238095238095237},null,null,{"$f":"(L51+L54+L57)/3","v":3.5333333333333332},null,null,null,"Кофициэнт букмекера актуальный",null,null,null,"Кофициэнт анализа 2",null,null,"в ср. Поражен Хозяев",{"$f":"E5/B5","v":0.6},null,{"$f":"E11/B11","v":0},"в ср. Поражен Гостей"]
[null,null,null,null,{"$f":"(G49+G55+G58)/3","v":1.3191919191919192},null,{"$f":"G2/B2","v":1.5454545454545454},null,null,"Пропустили",null,{"$f":"G8/B8","v":0.90476190476190477},null,null,{"$f":"(L52+L55+L58)/3","v":1.4363636363636363},null,null,null,1,"Х",2,null,1,"Х",2,null,{"$f":"(AA41+AA42+AA43+AA44+AA45)/5","v":1.0690909090909089},"Проиграет",{"$f":"(AC41+AC42+AC43+AC44+AC45)/5","v":0.71636363636363631}]
[null,null,{"$f":"100%-C44-D44","v":-0.19287878787878787},null,{"$f":"(E45+O46)/2","v":1.7212121212121212},null,null,null,null,"Дом",null,null,null,null,{"$f":"(O45+E46)/2","v":2.4262626262626261},null,null,null,{"$f":"Коэффициенты!C2","v":3.46},{"$f":"Коэффициенты!C3","v":4.2699999999999996},{"$f":"Коэффициенты!C4","v":1.83},null,{"$f":"Y21","v":7.5531335149863761},{"$f":"Z21","v":6.2714932126696832},{"$f":"AA21","v":1.4121242995415182},null,"средние кф-ты поражения"]
[null,null,{"$f":"SUMPRODUCT(C16:C41,B16:B41)/SUM(B16:B41)","v":0.10577272727272728},{"$f":"SUMPRODUCT(D16:D41,E16:E41)/SUM(E16:E41)","v":0.19652272727272727},"ср взвеш",null,{"$f":"F3/B3","v":2.8181818181818183},null,{"$f":"G48","v":2.8181818181818183},"Забили",null,{"$f":"F9/B9","v":3.1},null,null,null,null,null,null,{"$f":"1/S47","v":0.28901734104046245},{"$f":"1/T47","v":0.23419203747072601},0.54644808743169393,null,{"$f":"W6","v":0.1323953823953824},{"$f":"X6","v":0.15945165945165946},{"$f":"Y6","v":0.70815295815295809}]
[null,null,{"$f":"C48/(C48+D48)","v":0.34989850387188937},{"$f":"D48/(D48+C48)","v":0.65010149612811063},null,null,{"$f":"G3/B3","v":1.0909090909090908},null,{"$f":"G49","v":1.0909090909090908},"Пропустили",null,{"$f":"G9/B9","v":0.9},null,null,null,null,null,null,null,null,null,null,null,null,null,null,{"$f":"A1","v":"Cardiff U23"},null,{"$f":"A7","v":"Sheffield Utd U23"},"Adv"]
[null,null,{"$f":"H3/B3","v":2.1818181818181817},{"$f":"H10/B10","v":2},null,null,null,null,null,"Гости",null,null,null,null,null,null,null,null,null,null,null,null,null,null,"в ср. забито Дома",null,{"$f":"F3/B3","v":2.8181818181818183},"по статистике  матчей Дома/в Гостях",{"$f":"F10/B10","v":2},"в ср. забито в Гостях"]
[null,null,{"$f":"H5/B5","v":1.2},{"$f":"H11/B11","v":3},null,null,{"$f":"F4/B4","v":0.72727272727272729},null,null,"Забили",{"$f":"L51","v":2},{"$f":"F10/B10","v":2},null,null,null,null,null,null,null,null,null,null,null,null,"в ср. Побед Дома",null,{"$f":"C3/B3","v":0.72727272727272729},null,{"$f":"C10/B10","v":0.63636363636363635},"в ср. Побед в Гостях"]
[null,null,{"$f":"(C50+C51)/2","v":1.6909090909090909},{"$f":"(D50+D51)/2","v":2.5},null,null,{"$f":"G4/B4","v":2},null,null,"Пропустили",{"$f":"L52","v":0.90909090909090906},{"$f":"G10/B10","v":0.90909090909090906},null,null,null,null,null,null,{"$f":"H3/B3","v":2.1818181818181817},null,{"$f":"H10/B10","v":2},null,null,null,"в ср. очков Дома",null,{"$f":"H3/B3","v":2.1818181818181817},null,{"$f":"H10/B10","v":2},"в ср. очков в Гостях"]
[null,null,"Adv","Adv",null,null,null,null,null,"Форма",null,null,null,null,null,null,null,null,{"$f":"H5/B5","v":1.2},null,{"$f":"H11/B11","v":3},null,null,null,"в ср. забито Хозяевами ",null,{"$f":"F5/B5","v":2.2000000000000002},"по Форме5",{"$f":"F11/B11","v":3.6},"в ср. забито Гостями"]
[null,"1 Команда",null,"2 Команда",null,null,{"$f":"F5/B5","v":2.2000000000000002},null,null,"Забили",null,{"$f":"F11/B11","v":3.6},null,null,null,null,null,null,{"$f":"O3/K3","v":1},null,{"$f":"O10/K10","v":5},null,null,null,"в ср. Побед Хозяев",null,{"$f":"C5/B5","v":0.4},null,{"$f":"C11/B11","v":1},"в ср. Побед Гостей"]
[null,10,{"$f":"B55*G18/100","v":5.4545454545454543E-2},{"$f":"E55*L18/100","v":1.4285714285714284E-2},10,null,{"$f":"G5/B5","v":1.2},null,null,"Пропустили",null,{"$f":"G11/B11","v":0.4},null,null,null,null,null,null,{"$f":"SUM(S52:S54)","v":4.3818181818181818},null,{"$f":"SUM(U52:U54)","v":10},null,null,null,null,null,{"$f":"(AA50+AA51+AA52+AA53+AA54)/5","v":1.6654545454545455},"Выйграет",{"$f":"(AC50+AC51+AC52+AC53+AC54)/5","v":1.8472727272727272}]
[null,null,null,null,null,null,null,null,null,"Очные",null,null,null,null,null,null,null,null,{"$f":"S55-U55","v":-5.6181818181818182},null,{"$f":"U55-S55","v":5.6181818181818182},null,null,null,null,null,"средние кф-ты победы"]
[null,null,null,null,null,null,{"$f":"IFERROR(O3/K3,0)","v":1},null,null,"Забили",null,{"$f":"IFERROR(O10/K10,0)","v":5},null,null,null,null,null,null,null,null,null,null,null,null,null,null,{"$f":"VALUE(TEXT(AA55-AA46,\"0,000\"))","v":0.59599999999999997},null,{"$f":"VALUE(TEXT(AC55-AC46,\"0,000\"))","v":1.131}]
[null,null,null,null,null,null,{"$f":"IFERROR(P3/K3,0)","v":1.6666666666666667},null,null,"Пропустили",null,{"$f":"IFERROR(P10/K10,0)","v":3},null,null,null,null,null,null,null,null,null,null,null,null,null,null,"Индексы Победы/Поражения"]
[null,30,{"$f":"B59*G22/100","v":8.1818181818181818E-2},{"$f":"E59*L22/100","v":0},5]
[null,null,null,null,null,null,"1 Команда",null,"2 Команда",null,null,null,null,null,null,null,null,null,null,null,null,null,null,null,null,null,{"$f":"AA49","v":"Cardiff U23"},null,{"$f":"AC49","v":"Sheffield Utd U23"}]
[null,null,null,null,null,null,10,{"$f":"G61*G17/100","v":4.5454545454545461E-3},{"$f":"J61*L17/100","v":1.9047619047619046E-2},10,null,null,null,null,null,null,null,null,null,null,null,null,null,null,null,null,{"$f":"F3/F2","v":0.79487179487179482},{"$f":"J45","v":"Забили"},{"$f":"F10/F8","v":0.41509433962264153}]
[null,null,null,null,null,null,null,null,null,null,null,null,null,null,null,null,null,null,null,null,null,null,null,null,null,null,{"$f":"G3/G2","v":0.35294117647058826},{"$f":"J46","v":"Пропустили"},{"$f":"G10/G8","v":0.52631578947368418}]
[null,5,{"$f":"B63*G26/100","v":4.0909090909090909E-2},{"$f":"E63*L26/100","v":8.1818181818181818E-2},30]
[]
[null,null,null,null,null,null,30,{"$f":"G65*G21/100","v":0},{"$f":"J65*L21/100","v":1.4999999999999999E-2},5]
[]
[null,30,{"$f":"B67*G30/100","v":0.18},{"$f":"E67*L30/100","v":0},30]
[]
[null,null,null,null,null,null,5,{"$f":"G69*G25/100","v":4.5454545454545461E-3},{"$f":"J69*L25/100","v":2.7272727272727275E-2},30]
[]
[]
[]
[null,null,null,null,null,null,30,{"$f":"G73*G29/100","v":0},{"$f":"J73*L29/100","v":0},30]
[]
[]
[null,20,{"$f":"B76*G39/100","v":6.6666666666666666E-2},{"$f":"E76*L39/100","v":0},5]
[]
[]
[]
[null,5,{"$f":"B80*G43/100","v":0.05},{"$f":"E80*L43/100","v":0},20]
[]
[null,null,null,null,null,null,20,{"$f":"G82*G38/100","v":0.13333333333333333},{"$f":"J82*L38/100","v":0},5]
[null,null,{"$f":"SUM(C55:C82)","v":0.47393939393939388},{"$f":"SUM(D55:D82)","v":9.6103896103896108E-2}]
[]
[]
[null,"1 Команда",null,"2 Команда",null,null,5,{"$f":"G86*G42/100","v":0},{"$f":"J86*L42/100","v":0.4},20]
[null,{"$f":"C44","v":0.38363636363636361},"Выйграет",null,{"$f":"D44","v":0.80924242424242432}]
[]
[null,"1 Команда",null,"2 Команда",null,null,null,{"$f":"SUM(H61:H88)","v":0.14242424242424243},{"$f":"SUM(I61:I88)","v":0.46132034632034635}]
[null,{"$f":"C83","v":0.47393939393939388},"Проиграет",null,{"$f":"D83","v":9.6103896103896108E-2}]
[null,null,null,null,null,null,null,{"$f":"SUMPRODUCT(C16:C41,B16:B41)/SUM(B16:B41)","v":0.10577272727272728},{"$f":"SUMPRODUCT(D16:D41,E16:E41)/SUM(E16:E41)","v":0.19652272727272727},{"$f":"H91+I92","v":0.13174675324675325}]
[null,"1 Команда",null,"2 Команда",null,null,null,{"$f":"SUMPRODUCT(C55:C80,B55:B80)/SUM(B55:B80)","v":0.10187878787878787},{"$f":"SUMPRODUCT(D55:D80,E55:E80)/SUM(E55:E80)","v":2.5974025974025972E-2},{"$f":"I91+H92","v":0.29840151515151514}]
[null,{"$f":"(B87+E90)/2","v":0.23987012987012984},{"$f":"100%-B93-E93","v":0.11853896103896111},null,{"$f":"(B90+E87)/2","v":0.6415909090909091},null,null,{"$f":"SUMPRODUCT(H61:H86,G61:G86)/SUM(G61:G86)","v":2.7348484848484848E-2},{"$f":"SUMPRODUCT(I61:I86,J61:J86)/SUM(J61:J86)","v":9.083658008658009E-2},{"$f":"(H93+I93)/2","v":5.9092532467532467E-2}]
[null,null,null,null,null,null,null,null,null,{"$f":"SUM(J91:J93)","v":0.48924080086580085}]
[null,"1 Команда",null,"2 Команда"]
[null,{"$f":"H89","v":0.14242424242424243},"ничья",null,{"$f":"I89","v":0.46132034632034635},null,null,{"$f":"(J91/J94)","v":0.26928815628950681},{"$f":"(J93/J94)","v":0.12078414629964927},{"$f":"(J92/J94)","v":0.60992769741084396}]
[]
[null,"1 Команда",null,"2 Команда"]
[null,{"$f":"(B87+E90+B96)/3","v":0.20738816738816737},{"$f":"100%-B99-E99","v":0.21111111111111114},null,{"$f":"(B90+E87+E96)/3","v":0.58150072150072152}]

{"sheet":"Elizabet2","index":4,"n_rows":295,"n_cols":44,"rows_kept":295,"cut":false,"hidden":true,"merged":[[188,0,188,1],[215,0,215,1],[242,0,242,1],[269,0,269,1],[28,20,28,21],[30,16,30,19],[53,18,53,22],[107,0,107,1],[134,0,134,1],[161,0,161,1],[19,29,19,33],[21,0,22,0],[21,5,22,5],[21,10,22,10],[26,20,26,22],[27,10,27,12],[27,20,27,21],[6,0,6,4],[6,10,6,13],[7,7,7,9],[13,29,13,33],[14,0,14,18],[15,0,16,0],[15,5,16,5],[15,10,16,10],[15,15,16,15],[1,20,1,21],[0,0,0,4],[0,8,0,9],[0,12,0,13],[0,15,0,16],[1,15,1,16]]}
["HOME Team",null,null,null,null,16,{"$f":"F1*2-2","v":30},null,"Prob. Goals",null,null,null,"Prob. CS",null,null,"Prob. Bets",null,null,"Prob. CS",null,null,null,null,null,null,null,null,null,null,null,null,null,"команда1",{"$f":"C6/B6","v":2.2000000000000002},{"$f":"D6/B6","v":1.2},null,null,"Очки"]
[{"$f":"'Incognito DATA'!A1","v":"Cardiff U23"},"Played","G For","G Against","Points",{"$f":"TEXT(B3/(F1*2-2),\"0%\")","v":"73%"},{"$f":"IFERROR(B3&\" / \"&F2,\"\")","v":"22 / 73%"},null,"HOME","AWAY",null,null,"HOME","AWAY",null,"Forecasts",null,null,"main + addit.",null,"Totals",null,null,null,"Total Forecasts",null,null,null,null,null,null,null,"команда2",{"$f":"C12/B12","v":3.6},{"$f":"D12/B12","v":0.4},null,null,{"$f":"A2","v":"Cardiff U23"}]
["Overall",{"$f":"'Incognito DATA'!B2","v":22},{"$f":"'Incognito DATA'!F2","v":39},{"$f":"'Incognito DATA'!G2","v":34},{"$f":"'Incognito DATA'!H2","v":28},{"$f":"(C3/B3+D9/B9)/2","v":1.3387445887445888},null,"Overall",{"$f":"F3","v":1.3387445887445888},{"$f":"F9","v":2.0346320346320343},null,null,{"$f":"IF(I3<1,IF(I3>0.9,CEILING(I3,1),FLOOR(I3,1)),IF(I3>1.54,CEILING(I3,1),FLOOR(I3,1)))","v":1},{"$f":"IF(J3<1,IF(J3>0.95,CEILING(J3,1),FLOOR(J3,1)),IF(J3>1.7,CEILING(J3,1),FLOOR(J3,1)))","v":3},{"$f":"ABS(I3-J3)","v":0.69588744588744555},{"$f":"IF(I3>J3,\"1X\",\"X2\")","v":"X2"},{"$f":"IF(AND(I3>J3,O3>0.29),\"W1\",IF(AND(I3<J3,O3>0.29),\"W2\",\"X\"))","v":"W2"},{"$f":"IF(COUNTIF(S$2:S3,S3)=1,MAX(R$2:R2)+1,\"\")","v":1},{"$f":"M3&\" - \"&N3","v":"1 - 3"},null,{"$f":"(C3/B3)+(C9/B9)","v":4.2965367965367962},"Goals For",{"$f":"MOD(U3,1)","v":0.29653679653679621},{"$f":"IF(W3>0.6,CEILING(U3,1),FLOOR(U3,1))","v":4},{"$f":"TEXT(Z3,\"0,00\")","v":"O 2,5"},{"$f":"IF(U5>=2.95,\"O 2,5\",IF(U5<1.8,\"U 2,5\",\"\"))","v":"O 2,5"},null,null,null,null,null,null,null,{"$f":"SUM(AH1:AH2)","v":5.8000000000000007},{"$f":"SUM(AI1:AI2)","v":1.6},null,null,"Общие",{"$f":"E3","v":28},null,null,null,null,"На сколько процентов лучше хуже от нетрального поля"]
[" @Home",{"$f":"'Incognito DATA'!B3","v":11},{"$f":"'Incognito DATA'!F3","v":31},{"$f":"'Incognito DATA'!G3","v":12},{"$f":"'Incognito DATA'!H3","v":24},{"$f":"(C4/B4+D11/B11)/2","v":1.8636363636363638},null,"Home / Away",{"$f":"F4","v":1.8636363636363638},{"$f":"F11","v":1.5454545454545454},null,null,{"$f":"IF(I4<1,IF(I4>0.9,CEILING(I4,1),FLOOR(I4,1)),IF(I4>1.6,CEILING(I4,1),FLOOR(I4,1)))","v":2},{"$f":"IF(J4<1,IF(J4>0.95,CEILING(J4,1),FLOOR(J4,1)),IF(J4>1.7,CEILING(J4,1),FLOOR(J4,1)))","v":1},{"$f":"ABS(I4-J4)","v":0.31818181818181834},{"$f":"IF(I4>J4,\"1X\",\"X2\")","v":"1X"},{"$f":"IF(AND(I4>J4,O4>0.29),\"W1\",IF(AND(I4<J4,O4>0.29),\"W2\",\"X\"))","v":"W1"},{"$f":"IF(COUNTIF(S$2:S4,S4)=1,MAX(R$2:R3)+1,\"\")","v":2},{"$f":"M4&\" - \"&N4","v":"2 - 1"},null,{"$f":"(D3/B3)+(D9/B9)","v":2.4502164502164501},"Goals Against",{"$f":"MOD(U4,1)","v":0.45021645021645007},{"$f":"IF(W4>0.6,CEILING(U4,1),FLOOR(U4,1))","v":2},{"$f":"Z4","v":"O 2,5"},{"$f":"IF(X8>=2.6,\"O 2,5\",IF(X8<2.3,\"U 2,5\",\"\"))","v":"O 2,5"},null,null,null,null,null,null,null,null,{"$f":"AH3+AI3","v":7.4},null,null,"Дом",{"$f":"E4","v":24},{"$f":"AM4/AM3","v":0.8571428571428571},{"$f":"AN4/0.5","v":1.7142857142857142},{"$f":"AO4","v":1.7142857142857142},{"$f":"AP4*100-100","v":71.428571428571416}]
[" @Away",{"$f":"'Incognito DATA'!B4","v":11},{"$f":"'Incognito DATA'!F4","v":8},{"$f":"'Incognito DATA'!G4","v":22},{"$f":"'Incognito DATA'!H4","v":4},null,null,null,null,null,null,null,null,null,null,null,null,{"$f":"IF(COUNTIF(S$2:S5,S5)=1,MAX(R$2:R4)+1,\"\")","v":""},null,null,{"$f":"I3+J3","v":3.3733766233766231},"Overal",{"$f":"MOD(U5,1)","v":0.37337662337662314},{"$f":"IF(W5>0.6,CEILING(U5,1),FLOOR(U5,1))","v":3},{"$f":"TEXT(U5,\"0,00\")","v":"3,37"},{"$f":"IF(X8>=2.6,\"O 1,5\",IF(X8<0.8,\"U 1,5\",\"\"))","v":"O 1,5"},null,null,null,null,null,null,"голы по форме",null,{"$f":"AI4/2","v":3.7},null,null,"Выезд",{"$f":"E5","v":4},{"$f":"AM5/AM3","v":0.14285714285714285},{"$f":"AN5/0.5","v":0.2857142857142857},{"$f":"AO5","v":0.2857142857142857},{"$f":"AP5*100-100","v":-71.428571428571431}]
["Form 5",{"$f":"'Incognito DATA'!B5","v":5},{"$f":"'Incognito DATA'!F5","v":11},{"$f":"'Incognito DATA'!G5","v":6},{"$f":"'Incognito DATA'!H5","v":6},{"$f":"(C6/B6+D12/B12)/2","v":1.3},null,"Form 5",{"$f":"F6","v":1.3},{"$f":"F12","v":2.4},null,null,{"$f":"IF(I6<1,IF(I6>0.9,CEILING(I6,1),FLOOR(I6,1)),IF(I6>1.69,CEILING(I6,1),FLOOR(I6,1)))","v":1},{"$f":"IF(J6<1,IF(J6>0.95,CEILING(J6,1),FLOOR(J6,1)),IF(J6>1.7,CEILING(J6,1),FLOOR(J6,1)))","v":3},{"$f":"ABS(I6-J6)","v":1.0999999999999999},{"$f":"IF(I6>J6,\"1X\",\"X2\")","v":"X2"},{"$f":"IF(AND(I6>J6,O6>0.29),\"W1\",IF(AND(I6<J6,O6>0.29),\"W2\",\"X\"))","v":"W2"},{"$f":"IF(COUNTIF(S$2:S6,S6)=1,MAX(R$2:R5)+1,\"\")","v":""},{"$f":"M6&\" - \"&N6","v":"1 - 3"},null,{"$f":"I6+J6","v":3.7},"Form 5",{"$f":"MOD(U6,1)","v":0.70000000000000018},{"$f":"IF(W6>0.6,CEILING(U6,1),FLOOR(U6,1))","v":4},null,null,null,null,null,null,null,null,null,null,null,{"$f":"IF(AI7<1,IF(AI7>0.9,CEILING(AI7,1),FLOOR(AI7,1)),IF(AI7>1.6,CEILING(AI7,1),FLOOR(AI7,1)))","v":2}]
["AWAY Team",null,null,null,null,null,null,null,null,null,"Additional CS ",null,null,null,1,{"$f":"IFERROR(VLOOKUP(O7,R$3:S$13,2,FALSE),\"\")","v":"1 - 3"},{"$f":"IF(P8=\"\",\"\",\"  /  \")","v":"  /  "},{"$f":"IF(COUNTIF(S$2:S7,S7)=1,MAX(R$2:R6)+1,\"\")","v":""},null,null,{"$f":"I4+J4","v":3.4090909090909092},"Home / Away",{"$f":"MOD(U7,1)","v":0.40909090909090917},{"$f":"IF(W7>0.6,CEILING(U7,1),FLOOR(U7,1))","v":3},null,null,null,null,null,null,null,null,"команда1",null,{"$f":"AG9/AH9","v":1.8163265306122449},{"$f":"IF(AI8<1,IF(AI8>0.9,CEILING(AI8,1),FLOOR(AI8,1)),IF(AI8>1.5,CEILING(AI8,1),FLOOR(AI8,1)))","v":3},null,{"$f":"A8","v":"Sheffield Utd U23"}]
[{"$f":"'Incognito DATA'!A7","v":"Sheffield Utd U23"},"Played","G For","G Against","Points",{"$f":"TEXT(B9/(F1*2-2),\"0%\")","v":"70%"},{"$f":"IFERROR(B9&\" / \"&F8,\"\")","v":"21 / 70%"},"Both To Score YES / NO",null,null,{"$f":"IF(AND(K3<=0.95,K3>=0.6),1,0)","v":0},{"$f":"IF(AND(L3<=0.95,L3>=0.6),1,0)","v":0},{"$f":"IF(K$14<9,\"\",IF(M3=N3,\"\",IF(M3>N3,N3,IF(N3>M3,M3,\"\"))))","v":""},{"$f":"IF(K$14<9,\"\",IF(M3=N3,\"\",IF(M3<N3,N3,IF(N3<M3,M3,\"\"))))","v":""},2,{"$f":"IFERROR(VLOOKUP(O8,R$3:S$13,2,FALSE),\"\")","v":"2 - 1"},"",{"$f":"IF(COUNTIF(S$2:S8,S8)=1,MAX(R$2:R7)+1,\"\")","v":""},{"$f":"IF(M8=\"\",\"\",M8&\" - \"&N8)","v":""},null,{"$f":"AVERAGE(U3:U7)","v":3.4458441558441555},null,null,{"$f":"SUM(X3:X7)/5","v":3.2},null,null,null,null,null,null,null,null,"команда2",null,{"$f":"AG10/AH10","v":2.6382978723404253},null,null,"Общие",{"$f":"E9","v":46}]
["Overall",{"$f":"'Incognito DATA'!B8","v":21},{"$f":"'Incognito DATA'!F8","v":53},{"$f":"'Incognito DATA'!G8","v":19},{"$f":"'Incognito DATA'!H8","v":46},{"$f":"(C9/B9+D3/B3)/2","v":2.0346320346320343},null,{"$f":"(C3/B3)+(C9/B9)","v":4.2965367965367962},{"$f":"(D3/B3)+(D9/B9)","v":2.4502164502164501},{"$f":"I3+J3","v":3.3733766233766231},{"$f":"IF(AND(K4<=0.95,K4>=0.6),1,0)","v":0},{"$f":"IF(AND(L4<=0.95,L4>=0.6),1,0)","v":0},{"$f":"IF(K$14<9,\"\",IF(M4=N4,\"\",IF(M4>N4,N4,IF(N4>M4,M4,\"\"))))","v":""},{"$f":"IF(K$14<9,\"\",IF(M4=N4,\"\",IF(M4<N4,N4,IF(N4<M4,M4,\"\"))))","v":""},3,"","",{"$f":"IF(COUNTIF(S$2:S9,S9)=1,MAX(R$2:R8)+1,\"\")","v":""},"",null,null,null,null,null,null,null,null,null,null,null,null,null,{"$f":"C3+C4+C5+C6","v":89},{"$f":"B3+B4+B5+B6","v":49},null,null,null,"Дом",{"$f":"E10","v":24},{"$f":"AM9/AM8","v":0.52173913043478259},{"$f":"AN9/0.5","v":1.0434782608695652},{"$f":"AO9","v":1.0434782608695652},{"$f":"AP9*100-100","v":4.3478260869565162}]
[" @Home",{"$f":"'Incognito DATA'!B9","v":10},{"$f":"'Incognito DATA'!F9","v":31},{"$f":"'Incognito DATA'!G9","v":9},{"$f":"'Incognito DATA'!H9","v":24},null,null,{"$f":"H9+I9+J9","v":10.120129870129869},{"$f":"IF(H10>8.55,\"YES\",\"\")","v":"YES"},null,{"$f":"IF(AND(K6<=0.95,K6>=0.6),1,0)","v":0},{"$f":"IF(AND(L6<=0.95,L6>=0.6),1,0)","v":0},{"$f":"IF(K$14<9,\"\",IF(M6=N6,\"\",IF(M6>N6,N6,IF(N6>M6,M6,\"\"))))","v":""},{"$f":"IF(K$14<9,\"\",IF(M6=N6,\"\",IF(M6<N6,N6,IF(N6<M6,M6,\"\"))))","v":""},4,"","",{"$f":"IF(COUNTIF(S$2:S10,S10)=1,MAX(R$2:R9)+1,\"\")","v":""},"",null,null,{"$f":"AVERAGE(M3:M6)","v":1.3333333333333333},{"$f":"AVERAGE(N3:N6)","v":2.3333333333333335},null,null,null,null,null,null,null,null,null,{"$f":"C9+C10+C11+C12","v":124},{"$f":"B9+B10+B11+B12","v":47},null,{"$f":"AJ6+AJ7","v":5},null,"Выезд",{"$f":"E11","v":22},{"$f":"AM10/AM8","v":0.47826086956521741},{"$f":"AN10/0.5","v":0.95652173913043481},{"$f":"AO10","v":0.95652173913043481},{"$f":"AP10*100-100","v":-4.3478260869565162}]
[" @Away",{"$f":"'Incognito DATA'!B10","v":11},{"$f":"'Incognito DATA'!F10","v":22},{"$f":"'Incognito DATA'!G10","v":10},{"$f":"'Incognito DATA'!H10","v":22},{"$f":"(C11/B11+D4/B4)/2","v":1.5454545454545454},null,null,null,null,{"$f":"IF(ABS(K3-L3)<=0.25,1,0)","v":1},{"$f":"IF((I3+J3)<=1.45,1,0)","v":0},{"$f":"IF(L11=0,\"\",0)","v":""},{"$f":"IF(L11=0,\"\",0)","v":""},5,"","",{"$f":"IF(COUNTIF(S$2:S11,S11)=1,MAX(R$2:R10)+1,\"\")","v":""},"",null,null,null,null,null,null,null,null,null,null,null,null,null,"общие голы",null,{"$f":"AI7+AI8","v":4.4546244029526703}]
["Form 5",{"$f":"'Incognito DATA'!B11","v":5},{"$f":"'Incognito DATA'!F11","v":18},{"$f":"'Incognito DATA'!G11","v":2},{"$f":"'Incognito DATA'!H11","v":15},{"$f":"(C12/B12+D6/B6)/2","v":2.4},"Rank",{"$f":"A2","v":"Cardiff U23"},{"$f":"IFERROR('Incognito DATA'!I2,\"RISK\")","v":14},null,{"$f":"IF(ABS(K4-L4)<=0.25,1,0)","v":1},{"$f":"IF((I4+J4)<=1.45,1,0)","v":0},{"$f":"IF(L12=0,\"\",0)","v":""},{"$f":"IF(L12=0,\"\",0)","v":""},6,"","",{"$f":"IF(COUNTIF(S$2:S12,S12)=1,MAX(R$2:R11)+1,\"\")","v":""},""]
[null,null,null,null,null,null,null,{"$f":"A8","v":"Sheffield Utd U23"},{"$f":"IFERROR('Incognito DATA'!I8,\"RISK\")","v":1},null,{"$f":"IF(ABS(K6-L6)<=0.25,1,0)","v":1},{"$f":"IF((I6+J6)<=1.45,1,0)","v":0},{"$f":"IF(L13=0,\"\",0)","v":""},{"$f":"IF(L13=0,\"\",0)","v":""},7,"",null,{"$f":"IF(COUNTIF(S$2:S13,S13)=1,MAX(R$2:R12)+1,\"\")","v":""},""]
[null,null,null,null,null,null,null,null,null,null,{"$f":"K13+K12+K11+K10+K9+K8+L8+L9+L10","v":3},{"$f":"L11+L12+L13","v":0},null,null,null,null,null,null,{"$f":"P7&Q7&P8&Q8&P9&Q9&P10&Q10&P11&Q11&P12&Q12&P13&Q13","v":"1 - 3  /  2 - 1"},{"$f":"AVERAGE(H29,H56,H83,H110)","v":1.8429452330615121},"ТС",{"$f":"AVERAGE(H30,H57,H84,H111)","v":2.267718715393134},null,null,null,null,null,null,null,"HOME @ home"]
["Пуассон",null,null,null,null,null,null,null,null,null,null,null,null,null,null,null,null,null,null,"Форма",null,"Среднее","Прогноз",null,null,null,null,null,null,"Победы",null,"Ничьи",null,"Порожения",null,{"$f":"A2","v":"Cardiff U23"},null,{"$f":"AD16*3","v":24},{"$f":"AF16*1.5","v":0},null,null,{"$f":"-AH16*AH16","v":-9}]
["Общая",1,"X",2,null,"Дома",1,"X",2,null,"В гостях",1,"X",2,null,"Дом\\Гости",1,"X",2,{"$f":"A143","v":0.19506370882970372},"П1",{"$f":"AVERAGE(B17,G17,L17,Q17)","v":0.30769926719029744},{"$f":"AVERAGE(V16,V22)","v":0.31702792816879211},"П1",null,null,null,null,null,{"$f":"'Incognito DATA'!C3","v":8},null,{"$f":"'Incognito DATA'!D3","v":0},null,{"$f":"'Incognito DATA'!E3","v":3},{"$f":"AL15+AM15+AP15","v":15}]
[null,{"$f":"A35","v":0.25412158101763554},{"$f":"B35","v":0.21493879460298443},{"$f":"C35","v":0.53093962437938003},null,null,{"$f":"A62","v":0.36833134053224403},{"$f":"B62","v":0.20789762627392558},{"$f":"C62","v":0.42377103319383036},null,null,{"$f":"A89","v":0.14461677559996833},{"$f":"B89","v":0.20546530904815632},{"$f":"C89","v":0.64991791535187537},null,null,{"$f":"A116","v":0.46372737161134192},{"$f":"B116","v":0.1613801880599357},{"$f":"C116","v":0.37489244032872238},{"$f":"C143","v":0.6174283994504729},"X",{"$f":"AVERAGE(C17,H17,M17,R17)","v":0.19742047949625049},{"$f":"AVERAGE(V17,V23)","v":0.12566584228512312},"Х",null,null,null,null,{"$f":"AD16+AF16+AH16","v":11},{"$f":"AD16/AC17","v":0.72727272727272729},null,{"$f":"AF16/AC17","v":0},null,{"$f":"AH16/AC17","v":0.27272727272727271},null,{"$f":"A8","v":"Sheffield Utd U23"},null,{"$f":"AD18*3","v":21},{"$f":"AF18*1.5","v":1.5},null,null,{"$f":"-AH18*AH18","v":-9}]
["ОЗ","Over 1.5","Over 2.5","Over 3.5",null,"ОЗ","Over 1.5","Over 2.5","Over 3.5",null,"ОЗ","Over 1.5","Over 2.5","Over 3.5",null,"ОЗ","Over 1.5","Over 2.5","Over 3.5",{"$f":"B143","v":0.18750789171982346},"П2",{"$f":"AVERAGE(D17,I17,N17,S17)","v":0.49488025331345203},{"$f":"AVERAGE(V18,V24)","v":0.55730622954608477},"П2",null,null,null,null,null,{"$f":"'Incognito DATA'!C10","v":7},null,{"$f":"'Incognito DATA'!D10","v":1},null,{"$f":"'Incognito DATA'!E10","v":3},{"$f":"AL17+AM17+AP17","v":13.5},null,{"$f":"AD15","v":"Победы"},{"$f":"AF15","v":"Ничьи"},{"$f":"AH15","v":"Порожения"}]
[{"$f":"F47","v":0.6425123275798692},{"$f":"B41","v":0.8499069273442067},{"$f":"B42","v":0.65479325406368416},{"$f":"B43","v":0.43547943525999638},null,{"$f":"F74","v":0.74123399031189885},{"$f":"B68","v":0.90478268686525631},{"$f":"B69","v":0.75474845414588687},{"$f":"B70","v":0.55708430627751127},null,{"$f":"F101","v":0.48311996789305978},{"$f":"B95","v":0.77195298784389921},{"$f":"B96","v":0.5348226014032792},{"$f":"B97","v":0.3120637535348178},null,{"$f":"F128","v":0.9120213801552336},{"$f":"B122","v":0.98330036314278946},{"$f":"B123","v":0.94685889484265084},{"$f":"B124","v":0.8703318114123596},{"$f":"F155","v":0.66132609944919885},"ОЗ",{"$f":"AVERAGE(A19,F19,K19,P19)","v":0.69472191648501536},null,null,null,null,null,null,{"$f":"AD18+AF18+AH18","v":11},{"$f":"AD18/AC19","v":0.63636363636363635},null,{"$f":"AF18/AC19","v":9.0909090909090912E-2},null,{"$f":"AH18/AC19","v":0.27272727272727271},null,{"$f":"AJ15","v":"Cardiff U23"},{"$f":"AD17","v":0.72727272727272729},{"$f":"AF17","v":0},{"$f":"AH17","v":0.27272727272727271}]
[null,null,null,null,null,null,null,null,null,null,null,null,null,null,null,null,null,null,null,{"$f":"B150","v":0.714364173437955},"ТБ2.5",{"$f":"AVERAGE(C19,H19,M19,R19)","v":0.72280580111387527},null,null,null,null,null,null,null,"AWAY @ away",null,null,null,null,null,{"$f":"AJ17","v":"Sheffield Utd U23"},{"$f":"AD19","v":0.63636363636363635},{"$f":"AF19","v":9.0909090909090912E-2},{"$f":"AH19","v":0.27272727272727271}]
["Пиччетто"]
["Общая",1,"X",2,null,"Дом\\Гости",1,"X",2,null,"Форма",1,"X",2,null,null,null,null,null,null,"П1",{"$f":"AVERAGE(B23,G23,L23)","v":0.32635658914728682},null,null,null,null,null,null,null,null,null,null,"Счет","Общая","Дом\\Вые","Форма","среднее"]
[null,{"$f":"IFERROR(IF(B22=\"\",\"\",((R33+T34)/(B3+B9))),\"\")","v":0.27906976744186046},{"$f":"IFERROR(IF(C22=\"\",\"\",((S33+S34)/(B3+B9))),\"\")","v":0.11627906976744186},{"$f":"IFERROR(IF(D22=\"\",\"\",((R34+T33)/(B9+B3))),\"\")","v":0.60465116279069764},null,null,{"$f":"IFERROR(IF(G22=\"\",\"\",((R37+T38)/(B4+B11))),\"\")","v":0.5},{"$f":"IFERROR(IF(H22=\"\",\"\",((S37+S38)/(B11+B4))),\"\")","v":4.5454545454545456E-2},{"$f":"IFERROR(IF(I22=\"\",\"\",((R38+T37)/(B11+B4))),\"\")","v":0.45454545454545453},null,null,{"$f":"IFERROR(IF(L22=\"\",\"\",((R41+T42)/(B6+B12))),\"\")","v":0.2},{"$f":"IFERROR(IF(M22=\"\",\"\",((S41+S42)/(B6+B12))),\"\")","v":0},{"$f":"IFERROR(IF(N22=\"\",\"\",((R42+T41)/(B12+B6))),\"\")","v":0.8},null,"0 голов","пропустят","забьют",null,null,"Х",{"$f":"AVERAGE(C23,H23,M23)","v":5.3911205073995772E-2}]
[null,null,null,null,null,null,null,null,null,null,null,null,null,null,{"$f":"A2","v":"Cardiff U23"},{"$f":"B4/C4","v":0.35483870967741937},{"$f":"D4/B4","v":1.0909090909090908},{"$f":"C4/B4","v":2.8181818181818183},null,null,"П2",{"$f":"AVERAGE(D23,I23,N23)","v":0.61973220577871746},null,null,null,null,null,null,null,null,null,{"$f":"AK24","v":2.0292521851245204E-2}," 0 - 0",{"$f":"G33","v":3.4317734306367309E-2},{"$f":"G114","v":1.8363047770289073E-3},{"$f":"G141","v":2.4723526470339392E-2},{"$f":"AVERAGE(AH24,AI24,AJ24)","v":2.0292521851245204E-2},{"$f":"LARGE(AK24:AK39,1)","v":7.152585958900777E-2},{"$f":"VLOOKUP(AL24,AF24:AG39,2,FALSE)","v":" 1 - 2"}]
[null,null,null,null,null,null,null,null,null,null,null,null,null,null,{"$f":"A8","v":"Sheffield Utd U23"},{"$f":"B11/C11","v":0.5},{"$f":"D11/B11","v":0.90909090909090906},{"$f":"C11/B11","v":2},null,null,null,null,null,null,null,null,null,null,null,null,null,{"$f":"AK25","v":2.816314238233859E-2}," 1 - 0",{"$f":"G34","v":4.6289036971379163E-2},{"$f":"G115","v":6.0598057641953942E-3},{"$f":"G142","v":3.2140584411441214E-2},{"$f":"AVERAGE(AH25:AJ25)","v":2.816314238233859E-2},{"$f":"LARGE(AK24:AK39,2)","v":6.2990461018231983E-2},{"$f":"VLOOKUP(AL25,AF24:AG39,2,FALSE)","v":" 1 - 1"}]
[null,null,null,null,null,null,null,null,null,null,null,null,null,null,null,null,null,null,null,null,null,null,null,null,null,null,null,null,null,null,null,2.0702749034414273E-2," 2 - 0",{"$f":"G35","v":3.1218187724883623E-2},{"$f":"G116","v":9.9986795109224032E-3},{"$f":"G143","v":2.0891379867436794E-2},2.0702749034414273E-2,{"$f":"LARGE(AK24:AK39,3)","v":5.6352685969918333E-2},{"$f":"VLOOKUP(AL26,AF24:AG39,2,FALSE)","v":" 2 - 2"}]
["Общая",null,null,null,null,null,null,null,null,null,null,null,null,null,null,null,null,"Атака","Защита",null,"Победа по очкам",null,null,null,null,null,null,null,null,null,null,1.1362521047113326E-2," 3 - 0",{"$f":"G36","v":1.4036084403436051E-2},{"$f":"G117","v":1.0998547462014639E-2},{"$f":"G144","v":9.0529312758892821E-3},1.1362521047113326E-2,{"$f":"LARGE(AK24:AK39,4)","v":5.5072619505075339E-2},{"$f":"VLOOKUP(AL27,AF24:AG39,2,FALSE)","v":" 1 - 3"}]
[null,null,"Команда","Забито","Пропущено","Игры",null,"Средний",null,null,"Алгоритм3",null,null,null,null,null,{"$f":"A2","v":"Cardiff U23"},{"$f":"A197","v":0.46391253456746484},{"$f":"A224","v":0.23694432461463599},null,{"$f":"A2","v":"Cardiff U23"},null,{"$f":"A251","v":0.37340315495701404},null,null,null,null,null,null,null,null,4.4759644438989998E-2," 0  -1",{"$f":"H33","v":6.9433555457068738E-2},{"$f":"H114","v":5.5089143310867224E-3},{"$f":"H141","v":5.933646352881454E-2},4.4759644438989998E-2]
[null,"Дом",{"$f":"A2","v":"Cardiff U23"},{"$f":"C3","v":39},{"$f":"D3","v":34},{"$f":"B3","v":22},null,{"$f":"(D29+E30)/(F30+F29)","v":1.3488372093023255},null,null,1,"х",2,null,null,null,{"$f":"A8","v":"Sheffield Utd U23"},{"$f":"C197","v":0.26725614784776464},{"$f":"C224","v":0.29815477547463576},null,{"$f":"A8","v":"Sheffield Utd U23"},null,{"$f":"C251","v":0.32667323864826026},null,null,null,null,null,null,null,null,4.9902683370731893E-2," 0 - 2",{"$f":"I33","v":7.0240922380988155E-2},{"$f":"I114","v":8.2633714966300828E-3},{"$f":"I141","v":7.1203756234577462E-2},4.9902683370731893E-2,null,{"$f":"AM24&\" / \"&AM25&\" / \"&AM26&\" / \"&AM27","v":" 1 - 2 /  1 - 1 /  2 - 2 /  1 - 3"}]
[null,"Гости",{"$f":"A8","v":"Sheffield Utd U23"},{"$f":"C9","v":53},{"$f":"D9","v":19},{"$f":"B9","v":21},null,{"$f":"(D30+E29)/(F29+F30)","v":2.0232558139534884},null,null,{"$f":"A170","v":0.27673569651333324},{"$f":"B170","v":0.47758293176060584},{"$f":"C170","v":0.24568137172606092},null,null,null,null,null,null,null,null,null,null,null,null,null,null,null,null,null,null,3.7532720448629577E-2," 0 - 3",{"$f":"J33","v":4.7371784861596676E-2},{"$f":"J114","v":8.2633714966300845E-3},{"$f":"J141","v":5.6963004987661964E-2},3.7532720448629577E-2]
[null,null,null,null,null,null,null,null,null,null,null,null,null,null,null,null,"Пиччетто",null,null,null,null,"ТБ2.5",{"$f":"IFERROR(IF(V31=\"\",\"\",((C4+D11)/(B4+B11))),\"\")","v":1.8636363636363635},{"$f":"IFERROR(IF(V31=\"\",\"\",((C11+D4)/(B4+B11))),\"\")","v":1.5454545454545454},null,null,null,null,null,null,null,6.2990461018231983E-2," 1 - 1",{"$f":"H34","v":9.3654563174650859E-2},{"$f":"H115","v":1.8179417292586184E-2},{"$f":"H142","v":7.7137402587458909E-2},6.2990461018231983E-2]
[null,null,null,null,null,null,0,1,2,3,4,5,6,7,8,9,"ОБЩАЯ","В","Н","П",null,null,null,null,null,null,null,null,null,null,null,5.6352685969918333E-2," 2 - 2",{"$f":"I35","v":6.38968260923862E-2},{"$f":"I116","v":4.4994057799150819E-2},{"$f":"I143","v":6.016717401821798E-2},5.6352685969918333E-2]
[null,null,null,null,null,0,{"$f":"POISSON(F33,H29,0)*POISSON(G32,H30,0)","v":3.4317734306367309E-2},{"$f":"POISSON(F33,H29,0)*POISSON(H32,H30,0)","v":6.9433555457068738E-2},{"$f":"POISSON(F33,H29,0)*POISSON(I32,H30,0)","v":7.0240922380988155E-2},{"$f":"POISSON(F33,H29,0)*POISSON(J32,H30,0)","v":4.7371784861596676E-2},{"$f":"POISSON(F33,H29,0)*POISSON(K32,H30,0)","v":2.3961309784644825E-2},{"$f":"POISSON(F33,H29,0)*POISSON(L32,H30,0)","v":9.6959718663446482E-3},{"$f":"POISSON(F33,H29,0)*POISSON(M32,H30,0)","v":3.2695719084185407E-3},{"$f":"POISSON(F33,H29,0)*POISSON(N32,H30,0)","v":9.4502576754954676E-4},{"$f":"POISSON(F33,H29,0)*POISSON(O32,H30,0)","v":2.3900360981630965E-4},{"$f":"POISSON(F33,H29,0)*POISSON(P32,H30,0)","v":5.3729493679635502E-5},"Team 1",{"$f":"'Incognito DATA'!C2","v":9},{"$f":"'Incognito DATA'!D2","v":1},{"$f":"'Incognito DATA'!E2","v":12},null,null,null,null,null,null,null,null,null,null,null,2.9908886059163784E-2," 3 - 3",{"$f":"J36","v":1.9375240938776572E-2},{"$f":"J117","v":4.949346357906588E-2},{"$f":"J144","v":2.0857953659648903E-2},2.9908886059163784E-2]
[{"$f":"\"1\"","v":"1"},{"$f":"\"X\"","v":"X"},{"$f":"\"2\"","v":"2"},null,null,1,{"$f":"POISSON(F34,H29,0)*POISSON(G32,H30,0)","v":4.6289036971379163E-2},{"$f":"POISSON(F34,H29,0)*POISSON(H32,H30,0)","v":9.3654563174650859E-2},{"$f":"POISSON(F34,H29,0)*POISSON(I32,H30,0)","v":9.4743569723193324E-2},{"$f":"POISSON(F34,H29,0)*POISSON(J32,H30,0)","v":6.3896826092386214E-2},{"$f":"POISSON(F34,H29,0)*POISSON(K32,H30,0)","v":3.2319906221148831E-2},{"$f":"POISSON(F34,H29,0)*POISSON(L32,H30,0)","v":1.3078287633674177E-2},{"$f":"POISSON(F34,H29,0)*POISSON(M32,H30,0)","v":4.4101202485645431E-3},{"$f":"POISSON(F34,H29,0)*POISSON(N32,H30,0)","v":1.2746859190203188E-3},{"$f":"POISSON(F34,H29,0)*POISSON(O32,H30,0)","v":3.2237696207781296E-4},{"$f":"POISSON(F34,H29,0)*POISSON(P32,H30,0)","v":7.2472340312066484E-5},"Team 2",{"$f":"'Incognito DATA'!C8","v":14},{"$f":"'Incognito DATA'!D8","v":4},{"$f":"'Incognito DATA'!E8","v":3},null,null,null,null,null,null,null,null,null,null,null,4.7765910010025912E-2," 2 - 1",{"$f":"H35","v":6.3162379815462216E-2},{"$f":"H116","v":2.9996038532767215E-2},{"$f":"H143","v":5.0139311681848306E-2},4.7765910010025912E-2]
[{"$f":"SUM(G34:G42,H35:H42,I36:I42,J37:J42,K38:K42,L39:L42,M40:M42,N41:N42,O42)","v":0.25412158101763554},{"$f":"SUM(G33,H34,I35,J36,K37,L38,M39,N40,O41,P42)","v":0.21493879460298443},{"$f":"1-B35-A35","v":0.53093962437938003},null,null,2,{"$f":"POISSON(F35,H29,0)*POISSON(G32,H30,0)","v":3.1218187724883623E-2},{"$f":"POISSON(F35,H29,0)*POISSON(H32,H30,0)","v":6.3162379815462216E-2},{"$f":"POISSON(F35,H29,0)*POISSON(I32,H30,0)","v":6.38968260923862E-2},{"$f":"POISSON(F35,H29,0)*POISSON(J32,H30,0)","v":4.3093208294865119E-2},{"$f":"POISSON(F35,H29,0)*POISSON(K32,H30,0)","v":2.1797146056123633E-2},{"$f":"POISSON(F35,H29,0)*POISSON(L32,H30,0)","v":8.8202404971290966E-3},{"$f":"POISSON(F35,H29,0)*POISSON(M32,H30,0)","v":2.9742671443807383E-3},{"$f":"POISSON(F35,H29,0)*POISSON(N32,H30,0)","v":8.5967189887416857E-4},{"$f":"POISSON(F35,H29,0)*POISSON(O32,H30,0)","v":2.1741702093619947E-4},{"$f":"POISSON(F35,H29,0)*POISSON(P32,H30,0)","v":4.8876694629068103E-5},null,null,null,null,null,null,null,null,null,null,null,null,null,null,null,2.7707088940857355E-2," 3 - 1",{"$f":"H36","v":2.8398589374393868E-2},{"$f":"H117","v":3.2995642386043925E-2},{"$f":"H144","v":2.1727035062134276E-2},2.7707088940857355E-2]
[{"$f":"1/A35","v":3.9351242660913632},{"$f":"1/B35","v":4.6524872433899604},{"$f":"1/C35","v":1.8834533232830546},null,null,3,{"$f":"POISSON(F36,H29,0)*POISSON(G32,H30,0)","v":1.4036084403436051E-2},{"$f":"POISSON(F36,H29,0)*POISSON(H32,H30,0)","v":2.8398589374393868E-2},{"$f":"POISSON(F36,H29,0)*POISSON(I32,H30,0)","v":2.8728805529910081E-2},{"$f":"POISSON(F36,H29,0)*POISSON(J32,H30,0)","v":1.9375240938776572E-2},{"$f":"POISSON(F36,H29,0)*POISSON(K32,H30,0)","v":9.8002672190323336E-3},{"$f":"POISSON(F36,H29,0)*POISSON(L32,H30,0)","v":3.9656895258409902E-3},{"$f":"POISSON(F36,H29,0)*POISSON(M32,H30,0)","v":1.3372673982487045E-3},{"$f":"POISSON(F36,H29,0)*POISSON(N32,H30,0)","v":3.8651914833102161E-4},{"$f":"POISSON(F36,H29,0)*POISSON(O32,H30,0)","v":9.775338925813622E-5},{"$f":"POISSON(F36,H29,0)*POISSON(P32,H30,0)","v":2.1975568127798064E-5},"Д\\Г","В","Н","П",null,null,null,null,null,null,null,null,null,null,null,3.4764903727845693E-2," 3 - 2",{"$f":"I36","v":2.8728805529910081E-2},{"$f":"I117","v":4.9493463579065873E-2},{"$f":"I144","v":2.6072442074561136E-2},3.4764903727845693E-2]
[null,null,null,null,null,4,{"$f":"POISSON(F37,H29,0)*POISSON(G32,H30,0)","v":4.733098229065643E-3},{"$f":"POISSON(F37,H29,0)*POISSON(H32,H30,0)","v":9.5762685099700217E-3},{"$f":"POISSON(F37,H29,0)*POISSON(I32,H30,0)","v":9.6876204693882792E-3},{"$f":"POISSON(F37,H29,0)*POISSON(J32,H30,0)","v":6.533511479354887E-3},{"$f":"POISSON(F37,H29,0)*POISSON(K32,H30,0)","v":3.3047412715341571E-3},{"$f":"POISSON(F37,H29,0)*POISSON(L32,H30,0)","v":1.3372673982487053E-3},{"$f":"POISSON(F37,H29,0)*POISSON(M32,H30,0)","v":4.5093900638619081E-4},{"$f":"POISSON(F37,H29,0)*POISSON(N32,H30,0)","v":1.3033785234418165E-4},{"$f":"POISSON(F37,H29,0)*POISSON(O32,H30,0)","v":3.296335219169708E-5},{"$f":"POISSON(F37,H29,0)*POISSON(P32,H30,0)","v":7.4103659965830654E-6},"Team 1",{"$f":"'Incognito DATA'!C3","v":8},{"$f":"'Incognito DATA'!D3","v":0},{"$f":"'Incognito DATA'!E3","v":3},null,null,null,null,null,null,null,null,null,null,null,7.152585958900777E-2," 1 - 2",{"$f":"I34","v":9.4743569723193324E-2},{"$f":"I115","v":2.7269125938879271E-2},{"$f":"I142","v":9.2564883104950701E-2},7.152585958900777E-2]
[null,null,null,null,null,5,{"$f":"POISSON(F38,H29,0)*POISSON(G32,H30,0)","v":1.2768358013293373E-3},{"$f":"POISSON(F38,H29,0)*POISSON(H32,H30,0)","v":2.5833654585035427E-3},{"$f":"POISSON(F38,H29,0)*POISSON(I32,H30,0)","v":2.6134045917419568E-3},{"$f":"POISSON(F38,H29,0)*POISSON(J32,H30,0)","v":1.7625286781515525E-3},{"$f":"POISSON(F38,H29,0)*POISSON(K32,H30,0)","v":8.9151159883247113E-4},{"$f":"POISSON(F38,H29,0)*POISSON(L32,H30,0)","v":3.6075120510895334E-4},{"$f":"POISSON(F38,H29,0)*POISSON(M32,H30,0)","v":1.2164866218790275E-4},{"$f":"POISSON(F38,H29,0)*POISSON(N32,H30,0)","v":3.5160909004476944E-5},{"$f":"POISSON(F38,H29,0)*POISSON(O32,H30,0)","v":8.892439195899686E-6},{"$f":"POISSON(F38,H29,0)*POISSON(P32,H30,0)","v":1.9990754781479913E-6},"Team 2",{"$f":"'Incognito DATA'!C10","v":7},{"$f":"'Incognito DATA'!D10","v":1},{"$f":"'Incognito DATA'!E10","v":3},null,null,null,null,null,null,null,null,null,null,null,5.5072619505075339E-2," 1 - 3",{"$f":"J34","v":6.3896826092386214E-2},{"$f":"J115","v":2.7269125938879275E-2},{"$f":"J142","v":7.4051906483960553E-2},5.5072619505075339E-2]
[null,null,null,null,null,6,{"$f":"POISSON(F39,H29,0)*POISSON(G32,H30,0)","v":2.8704060650039365E-4},{"$f":"POISSON(F39,H29,0)*POISSON(H32,H30,0)","v":5.8075657594265694E-4},{"$f":"POISSON(F39,H29,0)*POISSON(I32,H30,0)","v":5.8750955938385071E-4},{"$f":"POISSON(F39,H29,0)*POISSON(J32,H30,0)","v":3.9622737725887613E-4},{"$f":"POISSON(F39,H29,0)*POISSON(K32,H30,0)","v":2.0041733617164078E-4},{"$f":"POISSON(F39,H29,0)*POISSON(L32,H30,0)","v":8.109910812526859E-5},{"$f":"POISSON(F39,H29,0)*POISSON(M32,H30,0)","v":2.7347373670148678E-5},{"$f":"POISSON(F39,H29,0)*POISSON(N32,H30,0)","v":7.9043903963552807E-6},{"$f":"POISSON(F39,H29,0)*POISSON(O32,H30,0)","v":1.9990754781479913E-6},{"$f":"POISSON(F39,H29,0)*POISSON(P32,H30,0)","v":4.4940456485497481E-7},null,null,null,null,null,null,null,null,null,null,null,null,null,null,null,4.5407001769530109E-2," 2 - 3",{"$f":"J35","v":4.3093208294865119E-2},{"$f":"J116","v":4.4994057799150819E-2},{"$f":"J143","v":4.8133739214574381E-2},4.5407001769530109E-2]
["ТБ 0.5",{"$f":"SUM(G33:P42)-G33","v":0.96562951977265499},{"$f":"1/B40","v":1.0355938582277777},null,null,7,{"$f":"POISSON(F40,H29,0)*POISSON(G32,H30,0)","v":5.5310150089776827E-5},{"$f":"POISSON(F40,H29,0)*POISSON(H32,H30,0)","v":1.1190658273978101E-4},{"$f":"POISSON(F40,H29,0)*POISSON(I32,H30,0)","v":1.1320782207396453E-4},{"$f":"POISSON(F40,H29,0)*POISSON(J32,H30,0)","v":7.634946139872028E-5},{"$f":"POISSON(F40,H29,0)*POISSON(K32,H30,0)","v":3.861862291679455E-5},{"$f":"POISSON(F40,H29,0)*POISSON(L32,H30,0)","v":1.5627070668656397E-5},{"$f":"POISSON(F40,H29,0)*POISSON(M32,H30,0)","v":5.269593597570175E-6},{"$f":"POISSON(F40,H29,0)*POISSON(N32,H30,0)","v":1.5231051262079936E-6},{"$f":"POISSON(F40,H29,0)*POISSON(O32,H30,0)","v":3.8520391273283537E-7},{"$f":"POISSON(F40,H29,0)*POISSON(P32,H30,0)","v":8.6596228443815694E-8},"Форма","В","Н","П"]
["ТБ 1.5",{"$f":"SUM(G35:G42,H34:H42,I33:I42,J33:P42)","v":0.8499069273442067},{"$f":"1/B41","v":1.1765994226271397},null,null,8,{"$f":"POISSON(F41,H29,0)*POISSON(G32,H30,0)","v":9.3255485616484183E-6},{"$f":"POISSON(F41,H29,0)*POISSON(H32,H30,0)","v":1.8867970345660753E-5},{"$f":"POISSON(F41,H29,0)*POISSON(I32,H30,0)","v":1.908736534968007E-5},{"$f":"POISSON(F41,H29,0)*POISSON(J32,H30,0)","v":1.2872874305598189E-5},{"$f":"POISSON(F41,H29,0)*POISSON(K32,H30,0)","v":6.5112794452735007E-6},{"$f":"POISSON(F41,H29,0)*POISSON(L32,H30,0)","v":2.6347967987850905E-6},{"$f":"POISSON(F41,H29,0)*POISSON(M32,H30,0)","v":8.8847799028799463E-7},{"$f":"POISSON(F41,H29,0)*POISSON(N32,H30,0)","v":2.5680260848855707E-7},{"$f":"POISSON(F41,H29,0)*POISSON(O32,H30,0)","v":6.4947171332861784E-8},{"$f":"POISSON(F41,H29,0)*POISSON(P32,H30,0)","v":1.4600526888782881E-8},"Team 1",{"$f":"'Incognito DATA'!C5","v":2},{"$f":"'Incognito DATA'!D5","v":0},{"$f":"'Incognito DATA'!E5","v":3}]
["ТБ 2.5",{"$f":"SUM(G36:G42,H35:H42,I34:I42,J33:P42)","v":0.65479325406368416},{"$f":"1/B42","v":1.5271996065841289},null,null,9,{"$f":"POISSON(F42,H29,0)*POISSON(G32,H30,0)","v":1.3976274330119098E-6},{"$f":"POISSON(F42,H29,0)*POISSON(H32,H30,0)","v":2.8277578295822361E-6},{"$f":"POISSON(F42,H29,0)*POISSON(I32,H30,0)","v":2.860638734577379E-6},{"$f":"POISSON(F42,H29,0)*POISSON(J32,H30,0)","v":1.9292679837847442E-6},{"$f":"POISSON(F42,H29,0)*POISSON(K32,H30,0)","v":9.7585066621670176E-7},{"$f":"POISSON(F42,H29,0)*POISSON(L32,H30,0)","v":3.9487910679466533E-7},{"$f":"POISSON(F42,H29,0)*POISSON(M32,H30,0)","v":1.3315690810517769E-7},{"$f":"POISSON(F42,H29,0)*POISSON(N32,H30,0)","v":3.8487212641695955E-8},{"$f":"POISSON(F42,H29,0)*POISSON(O32,H30,0)","v":9.7336845925219349E-9},{"$f":"POISSON(F42,H29,0)*POISSON(P32,H30,0)","v":2.1881926603343885E-9},"Team 2",{"$f":"'Incognito DATA'!C11","v":5},{"$f":"'Incognito DATA'!D11","v":0},{"$f":"'Incognito DATA'!E11","v":0}]
["ТБ 3.5",{"$f":"SUM(G37:G42,H36:H42,I35:I42,J34:J42,K33:P42)","v":0.43547943525999638},{"$f":"1/B43","v":2.2963196859180393}]
["ТБ 4.5",{"$f":"SUM(G38:G42,H37:H42,I36:I42,J35:J42,K34:K42,L33:P42)","v":0.25059278568711946},3.9905378650786925,null,null,null,null,null,null,null,null,null,null,null,null,null,null,"забьют","пропустят"]
["ТБ 5.5",{"$f":"SUM(G39:G42,H38:H42,I37:I42,J36:J42,K35:K42,L34:L42,M33:P42)","v":0.12590178946355143},7.9426988628267274,null,null,null,null,null,null,null,null,null,null,null,null,null,null,{"$f":"(C3+C4+C6)/(B3+B4+B6)","v":2.1315789473684212},{"$f":"(D3+D4+D6)/(B3+B4+B6)","v":1.368421052631579}]
[null,null,null,null,null,null,null,null,null,null,null,null,null,null,null,null,null,{"$f":"(C9+C11+C12)/(B9+B11+B12)","v":2.5135135135135136},{"$f":"(D9+D11+D12)/(B9+B11+B12)","v":0.83783783783783783}]
["ТМ 0.5",{"$f":"1-B40","v":3.4370480227345013E-2},29.094734591587233,null,"ОЗ",{"$f":"SUM(H34:P42)","v":0.6425123275798692},{"$f":"1/F47","v":1.5563903711648122}]
["ТМ 1.5",0.1500930726557933,6.662532669267744,null,"НЕ ОЗ",{"$f":"1-F47","v":0.3574876724201308},{"$f":"1/F48","v":2.797299255748233}]
["ТМ 2.5",0.34520674593631584,2.8968147690383814]
["ТМ 3.5",0.56452056474000356,1.771414652468084,null,"P",{"$f":"SUM(G33,G35,G37,G39,G41,H34,H36,H38,H40,H42,I33,I35,I37,I39,I41,J34,J36,J38,J40,J42,K33,K35,K37,K39,K41,L34,L36,L38,L40,L42)+SUM(M33,M35,M37,M39,M41,N34,N36,N38,N40,N42,O33,O35,O37,O39,O41,P34,P36,P38,P40,P42)","v":0.50056128036548186},{"$f":"1/F50","v":1.9977573959972612},null,null,null,null,null,null,null,null,null,"BTTS ALL",{"$f":"AVERAGE(F47,F74,F101,F128,F155)","v":0.68804275307785212}]
["ТМ 4.5",0.74940721431288049,1.3343880081497268,null,"D",{"$f":"1-F50","v":0.49943871963451814},{"$f":"1/F51","v":2.0022476445794695}]
["ТМ 5.5",0.87409821053644854,1.1440362054811706]
[]
["Дома",null,null,null,null,null,null,null,null,null,null,null,null,null,null,null,{"$f":"(H56+H57+H83+H84)/2","v":3.385281385281385},null,"Очки команд"]
[null,null,"Команда","Забито","Пропущено","Игры",null,"Средний",null,null,null,null,null,null,null,null,null,null,"1К","Дом",{"$error":"#N/A"},{"$f":"U55/B4","v":{"$error":"#N/A"}},"XP1"]
[null,"Дом",{"$f":"A2","v":"Cardiff U23"},{"$f":"C4","v":31},{"$f":"D4","v":12},{"$f":"B4","v":11},null,{"$f":"(D56+E57)/(F57+F56)","v":1.9047619047619047},null,null,null,null,null,null,null,null,null,null,"2К","Гости",{"$error":"#N/A"},{"$f":"U56/B11","v":{"$error":"#N/A"}},"XP2"]
[null,"Гости",{"$f":"A8","v":"Sheffield Utd U23"},{"$f":"C10","v":31},{"$f":"D10","v":9},{"$f":"B10","v":10},null,{"$f":"(D57+E56)/(F56+F57)","v":2.0476190476190474}]
[null,null,null,null,null,null,null,null,null,null,null,null,null,null,null,null,null,null,"1К","Общая",{"$error":"#N/A"},{"$f":"U58/B3","v":{"$error":"#N/A"}},"XP1"]
[null,null,null,null,null,null,0,1,2,3,4,5,6,7,8,9,null,null,"2К","Общая",{"$error":"#N/A"},{"$f":"U59/B9","v":{"$error":"#N/A"}},"XP2"]
[null,null,null,null,null,0,{"$f":"POISSON(F60,H56,0)*POISSON(G59,H57,0)","v":1.9208911780880217E-2},{"$f":"POISSON(F60,H56,0)*POISSON(H59,H57,0)","v":3.9332533646564249E-2},{"$f":"POISSON(F60,H56,0)*POISSON(I59,H57,0)","v":4.0269022542911023E-2},{"$f":"POISSON(F60,H56,0)*POISSON(J59,H57,0)","v":2.7485205862621809E-2},{"$f":"POISSON(F60,H56,0)*POISSON(K59,H57,0)","v":1.4069807763008781E-2},{"$f":"POISSON(F60,H56,0)*POISSON(L59,H57,0)","v":5.7619212743750207E-3},{"$f":"POISSON(F60,H56,0)*POISSON(M59,H57,0)","v":1.9663699587152868E-3},{"$f":"POISSON(F60,H56,0)*POISSON(N59,H57,0)","v":5.7519665459018624E-4},{"$f":"POISSON(F60,H56,0)*POISSON(O59,H57,0)","v":1.4722295325820227E-4},{"$f":"POISSON(F60,H56,0)*POISSON(P59,H57,0)","v":3.3495169259802555E-5}]
[{"$f":"\"1\"","v":"1"},{"$f":"\"X\"","v":"X"},{"$f":"\"2\"","v":"2"},null,null,1,{"$f":"POISSON(F61,H56,0)*POISSON(G59,H57,0)","v":3.6588403392152795E-2},{"$f":"POISSON(F61,H56,0)*POISSON(H59,H57,0)","v":7.4919111707741431E-2},{"$f":"POISSON(F61,H56,0)*POISSON(I59,H57,0)","v":7.6702900081735276E-2},{"$f":"POISSON(F61,H56,0)*POISSON(J59,H57,0)","v":5.2352773071660585E-2},{"$f":"POISSON(F61,H56,0)*POISSON(K59,H57,0)","v":2.6799633834302439E-2},{"$f":"POISSON(F61,H56,0)*POISSON(L59,H57,0)","v":1.0975088141666707E-2},{"$f":"POISSON(F61,H56,0)*POISSON(M59,H57,0)","v":3.7454665880291178E-3},{"$f":"POISSON(F61,H56,0)*POISSON(N59,H57,0)","v":1.0956126754098786E-3},{"$f":"POISSON(F61,H56,0)*POISSON(O59,H57,0)","v":2.8042467287276622E-4},{"$f":"POISSON(F61,H56,0)*POISSON(P59,H57,0)","v":6.3800322399623903E-5},null,null,"1К","Форма 5",{"$error":"#N/A"},{"$f":"U61/5","v":{"$error":"#N/A"}},"XP1"]
[{"$f":"SUM(G61:G69,H62:H69,I63:I69,J64:J69,K65:K69,L66:L69,M67:M69,N68:N69,O69)","v":0.36833134053224403},{"$f":"SUM(G60,H61,I62,J63,K64,L65,M66,N67,O68,P69)","v":0.20789762627392558},{"$f":"1-B62-A62","v":0.42377103319383036},null,null,2,{"$f":"POISSON(F62,H56,0)*POISSON(G59,H57,0)","v":3.4846098468716953E-2},{"$f":"POISSON(F62,H56,0)*POISSON(H59,H57,0)","v":7.1351534959753757E-2},{"$f":"POISSON(F62,H56,0)*POISSON(I59,H57,0)","v":7.3050381030224085E-2},{"$f":"POISSON(F62,H56,0)*POISSON(J59,H57,0)","v":4.9859783877771999E-2},{"$f":"POISSON(F62,H56,0)*POISSON(K59,H57,0)","v":2.5523460794573755E-2},{"$f":"POISSON(F62,H56,0)*POISSON(L59,H57,0)","v":1.0452464896825437E-2},{"$f":"POISSON(F62,H56,0)*POISSON(M59,H57,0)","v":3.5671110362182081E-3},{"$f":"POISSON(F62,H56,0)*POISSON(N59,H57,0)","v":1.0434406432475035E-3},{"$f":"POISSON(F62,H56,0)*POISSON(O59,H57,0)","v":2.6707111702168218E-4},{"$f":"POISSON(F62,H56,0)*POISSON(P59,H57,0)","v":6.0762211809165637E-5},null,null,"2К","Форма 5",{"$error":"#N/A"},{"$f":"U62/5","v":{"$error":"#N/A"}},"XP2"]
[{"$f":"1/A62","v":2.7149468154270711},{"$f":"1/B62","v":4.8100597295055287},{"$f":"1/C62","v":2.3597648769509121},null,null,3,{"$f":"POISSON(F63,H56,0)*POISSON(G59,H57,0)","v":2.2124506964264729E-2},{"$f":"POISSON(F63,H56,0)*POISSON(H59,H57,0)","v":4.5302561879208725E-2},{"$f":"POISSON(F63,H56,0)*POISSON(I59,H57,0)","v":4.6381194304904172E-2},{"$f":"POISSON(F63,H56,0)*POISSON(J59,H57,0)","v":3.1657005636680627E-2},{"$f":"POISSON(F63,H56,0)*POISSON(K59,H57,0)","v":1.62053719330627E-2},{"$f":"POISSON(F63,H56,0)*POISSON(L59,H57,0)","v":6.6364856487780531E-3},{"$f":"POISSON(F63,H56,0)*POISSON(M59,H57,0)","v":2.2648324039480677E-3},{"$f":"POISSON(F63,H56,0)*POISSON(N59,H57,0)","v":6.6250199571270057E-4},{"$f":"POISSON(F63,H56,0)*POISSON(O59,H57,0)","v":1.695689631883696E-4},{"$f":"POISSON(F63,H56,0)*POISSON(P59,H57,0)","v":3.8579182101057538E-5}]
[null,null,null,null,null,4,{"$f":"POISSON(F64,H56,0)*POISSON(G59,H57,0)","v":1.0535479506792731E-2},{"$f":"POISSON(F64,H56,0)*POISSON(H59,H57,0)","v":2.1572648513908922E-2},{"$f":"POISSON(F64,H56,0)*POISSON(I59,H57,0)","v":2.2086283002335325E-2},{"$f":"POISSON(F64,H56,0)*POISSON(J59,H57,0)","v":1.5074764588895539E-2},{"$f":"POISSON(F64,H56,0)*POISSON(K59,H57,0)","v":7.7168437776489063E-3},{"$f":"POISSON(F64,H56,0)*POISSON(L59,H57,0)","v":3.1602312613228834E-3},{"$f":"POISSON(F64,H56,0)*POISSON(M59,H57,0)","v":1.0784916209276517E-3},{"$f":"POISSON(F64,H56,0)*POISSON(N59,H57,0)","v":3.1547714081557176E-4},{"$f":"POISSON(F64,H56,0)*POISSON(O59,H57,0)","v":8.0747125327795062E-5},{"$f":"POISSON(F64,H56,0)*POISSON(P59,H57,0)","v":1.837103909574169E-5}]
[null,null,null,null,null,5,{"$f":"POISSON(F65,H56,0)*POISSON(G59,H57,0)","v":4.013516002587706E-3},{"$f":"POISSON(F65,H56,0)*POISSON(H59,H57,0)","v":8.2181518148224438E-3},{"$f":"POISSON(F65,H56,0)*POISSON(I59,H57,0)","v":8.4138220961277408E-3},{"$f":"POISSON(F65,H56,0)*POISSON(J59,H57,0)","v":5.742767462436394E-3},{"$f":"POISSON(F65,H56,0)*POISSON(K59,H57,0)","v":2.9397500105329158E-3},{"$f":"POISSON(F65,H56,0)*POISSON(L59,H57,0)","v":1.2038976233610982E-3},{"$f":"POISSON(F65,H56,0)*POISSON(M59,H57,0)","v":4.108539508295815E-4},{"$f":"POISSON(F65,H56,0)*POISSON(N59,H57,0)","v":1.201817679297416E-4},{"$f":"POISSON(F65,H56,0)*POISSON(O59,H57,0)","v":3.0760809648683828E-5},{"$f":"POISSON(F65,H56,0)*POISSON(P59,H57,0)","v":6.9984910840920702E-6}]
[null,null,null,null,null,6,{"$f":"POISSON(F66,H56,0)*POISSON(G59,H57,0)","v":1.2741320643135567E-3},{"$f":"POISSON(F66,H56,0)*POISSON(H59,H57,0)","v":2.6089370840706159E-3},{"$f":"POISSON(F66,H56,0)*POISSON(I59,H57,0)","v":2.671054633691345E-3},{"$f":"POISSON(F66,H56,0)*POISSON(J59,H57,0)","v":1.8231007817258386E-3},{"$f":"POISSON(F66,H56,0)*POISSON(K59,H57,0)","v":9.332539715977506E-4},{"$f":"POISSON(F66,H56,0)*POISSON(L59,H57,0)","v":3.8218972170193574E-4},{"$f":"POISSON(F66,H56,0)*POISSON(M59,H57,0)","v":1.3042982566018453E-4},{"$f":"POISSON(F66,H56,0)*POISSON(N59,H57,0)","v":3.815294219991795E-5},{"$f":"POISSON(F66,H56,0)*POISSON(O59,H57,0)","v":9.7653363964075599E-6},{"$f":"POISSON(F66,H56,0)*POISSON(P59,H57,0)","v":2.2217432012990689E-6}]
["ТБ 0.5",{"$f":"SUM(G60:P69)-G60","v":0.98070362390397336},{"$f":"1/B67","v":1.0196760526072208},null,null,7,{"$f":"POISSON(F67,H56,0)*POISSON(G59,H57,0)","v":3.4670260253430143E-4},{"$f":"POISSON(F67,H56,0)*POISSON(H59,H57,0)","v":7.0991485280833141E-4},{"$f":"POISSON(F67,H56,0)*POISSON(I59,H57,0)","v":7.26817587399006E-4},{"$f":"POISSON(F67,H56,0)*POISSON(J59,H57,0)","v":4.9608184536757553E-4},{"$f":"POISSON(F67,H56,0)*POISSON(K59,H57,0)","v":2.5394665893816365E-4},{"$f":"POISSON(F67,H56,0)*POISSON(L59,H57,0)","v":1.0399720318420027E-4},{"$f":"POISSON(F67,H56,0)*POISSON(M59,H57,0)","v":3.5491109023179491E-5},{"$f":"POISSON(F67,H56,0)*POISSON(N59,H57,0)","v":1.0381752979569519E-5},{"$f":"POISSON(F67,H56,0)*POISSON(O59,H57,0)","v":2.6572343935802903E-6},{"$f":"POISSON(F67,H56,0)*POISSON(P59,H57,0)","v":6.0455597314260431E-7}]
["ТБ 1.5",{"$f":"SUM(G62:G69,H61:H69,I60:I69,J60:P69)","v":0.90478268686525631},{"$f":"1/B68","v":1.1052377709222501},null,null,8,{"$f":"POISSON(F68,H56,0)*POISSON(G59,H57,0)","v":8.254823869864311E-5},{"$f":"POISSON(F68,H56,0)*POISSON(H59,H57,0)","v":1.6902734590674539E-4},{"$f":"POISSON(F68,H56,0)*POISSON(I59,H57,0)","v":1.7305180652357267E-4},{"$f":"POISSON(F68,H56,0)*POISSON(J59,H57,0)","v":1.1811472508751786E-4},{"$f":"POISSON(F68,H56,0)*POISSON(K59,H57,0)","v":6.0463490223372232E-5},{"$f":"POISSON(F68,H56,0)*POISSON(L59,H57,0)","v":2.4761238853380992E-5},{"$f":"POISSON(F68,H56,0)*POISSON(M59,H57,0)","v":8.4502640531379657E-6},{"$f":"POISSON(F68,H56,0)*POISSON(N59,H57,0)","v":2.4718459475165492E-6},{"$f":"POISSON(F68,H56,0)*POISSON(O59,H57,0)","v":6.3267485561435421E-7},{"$f":"POISSON(F68,H56,0)*POISSON(P59,H57,0)","v":1.4394189836728657E-7}]
["ТБ 2.5",{"$f":"SUM(G63:G69,H62:H69,I61:I69,J60:P69)","v":0.75474845414588687},{"$f":"1/B69","v":1.3249447474942533},null,null,9,{"$f":"POISSON(F69,H56,0)*POISSON(G59,H57,0)","v":1.7470526708707523E-5},{"$f":"POISSON(F69,H56,0)*POISSON(H59,H57,0)","v":3.5772983260686829E-5},{"$f":"POISSON(F69,H56,0)*POISSON(I59,H57,0)","v":3.6624720957369854E-5},{"$f":"POISSON(F69,H56,0)*POISSON(J59,H57,0)","v":2.4997825415347676E-5},{"$f":"POISSON(F69,H56,0)*POISSON(K59,H57,0)","v":1.2796505867380356E-5},{"$f":"POISSON(F69,H56,0)*POISSON(L59,H57,0)","v":5.2404738314033813E-6},{"$f":"POISSON(F69,H56,0)*POISSON(M59,H57,0)","v":1.7884156726217904E-6},{"$f":"POISSON(F69,H56,0)*POISSON(N59,H57,0)","v":5.2314199947440156E-7},{"$f":"POISSON(F69,H56,0)*POISSON(O59,H57,0)","v":1.3389944034166216E-7},{"$f":"POISSON(F69,H56,0)*POISSON(P59,H57,0)","v":3.0463893834346342E-8}]
["ТБ 3.5",{"$f":"SUM(G64:G69,H63:H69,I62:I69,J61:J69,K60:P69)","v":0.55708430627751127},{"$f":"1/B70","v":1.795060440101234}]
["ТБ 4.5",{"$f":"SUM(G65:G69,H64:H69,I63:I69,J62:J69,K61:K69,L60:P69)","v":0.36177330302661631},2.7641619534496944]
["ТБ 5.5",{"$f":"SUM(G66:G69,H65:H69,I64:I69,J63:J69,K62:K69,L61:L69,M60:P69)","v":0.207384605218766},4.8219586933423502]
[]
["ТМ 0.5",{"$f":"1-B67","v":1.9296376096026635E-2},51.823202192141792,null,"ОЗ",{"$f":"SUM(H61:P69)","v":0.74123399031189885},{"$f":"1/F74","v":1.3491016508555103}]
["ТМ 1.5",9.5217313134743686E-2,10.502291726977031,null,"НЕ ОЗ",{"$f":"1-F74","v":0.25876600968810115},{"$f":"1/F75","v":3.864495190868892}]
["ТМ 2.5",0.24525154585411313,4.0774462665154649]
["ТМ 3.5",0.44291569372248873,2.2577660132010484,null,"P",{"$f":"SUM(G60,G62,G64,G66,G68,H61,H63,H65,H67,H69,I60,I62,I64,I66,I68,J61,J63,J65,J67,J69,K60,K62,K64,K66,K68,L61,L63,L65,L67,L69)+SUM(M60,M62,M64,M66,M68,N61,N63,N65,N67,N69,O60,O62,O64,O66,O68,P61,P63,P65,P67,P69)","v":0.50014014730428091},{"$f":"1/F77","v":1.9994395678689811}]
["ТМ 4.5",0.63822669697338363,1.5668413821330693,null,"D",{"$f":"1-F77","v":0.49985985269571909},{"$f":"1/F78","v":2.0005607463913138}]
["ТМ 5.5",0.792615394781234,1.2616459465514234]
[]
["В гостях"]
[null,null,"Команда","Забито","Пропущено","Игры",null,"Средний"]
[null,"Дом",{"$f":"A2","v":"Cardiff U23"},{"$f":"C5","v":8},{"$f":"D5","v":22},{"$f":"B5","v":11},null,{"$f":"(D83+E84)/(F84+F83)","v":0.81818181818181823}]
[null,"Гости",{"$f":"A8","v":"Sheffield Utd U23"},{"$f":"C11","v":22},{"$f":"D11","v":10},{"$f":"B11","v":11},null,{"$f":"(D84+E83)/(F83+F84)","v":2}]
[]
[null,null,null,null,null,null,0,1,2,3,4,5,6,7,8,9]
[null,null,null,null,null,0,{"$f":"POISSON(F87,H83,0)*POISSON(G86,H84,0)","v":5.9714415732185278E-2},{"$f":"POISSON(F87,H83,0)*POISSON(H86,H84,0)","v":0.11942883146437053},{"$f":"POISSON(F87,H83,0)*POISSON(I86,H84,0)","v":0.11942883146437057},{"$f":"POISSON(F87,H83,0)*POISSON(J86,H84,0)","v":7.9619220976247046E-2},{"$f":"POISSON(F87,H83,0)*POISSON(K86,H84,0)","v":3.9809610488123523E-2},{"$f":"POISSON(F87,H83,0)*POISSON(L86,H84,0)","v":1.5923844195249403E-2},{"$f":"POISSON(F87,H83,0)*POISSON(M86,H84,0)","v":5.3079480650831349E-3},{"$f":"POISSON(F87,H83,0)*POISSON(N86,H84,0)","v":1.5165565900237526E-3},{"$f":"POISSON(F87,H83,0)*POISSON(O86,H84,0)","v":3.7913914750593847E-4},{"$f":"POISSON(F87,H83,0)*POISSON(P86,H84,0)","v":8.4253143890208364E-5}]
[{"$f":"\"1\"","v":"1"},{"$f":"\"X\"","v":"X"},{"$f":"\"2\"","v":"2"},null,null,1,{"$f":"POISSON(F88,H83,0)*POISSON(G86,H84,0)","v":4.885724923542431E-2},{"$f":"POISSON(F88,H83,0)*POISSON(H86,H84,0)","v":9.7714498470848607E-2},{"$f":"POISSON(F88,H83,0)*POISSON(I86,H84,0)","v":9.7714498470848649E-2},{"$f":"POISSON(F88,H83,0)*POISSON(J86,H84,0)","v":6.5142998980565761E-2},{"$f":"POISSON(F88,H83,0)*POISSON(K86,H84,0)","v":3.2571499490282881E-2},{"$f":"POISSON(F88,H83,0)*POISSON(L86,H84,0)","v":1.3028599796113148E-2},{"$f":"POISSON(F88,H83,0)*POISSON(M86,H84,0)","v":4.3428665987043829E-3},{"$f":"POISSON(F88,H83,0)*POISSON(N86,H84,0)","v":1.2408190282012521E-3},{"$f":"POISSON(F88,H83,0)*POISSON(O86,H84,0)","v":3.1020475705031329E-4},{"$f":"POISSON(F88,H83,0)*POISSON(P86,H84,0)","v":6.8934390455625027E-5}]
[{"$f":"SUM(G88:G96,H89:H96,I90:I96,J91:J96,K92:K96,L93:L96,M94:M96,N95:N96,O96)","v":0.14461677559996833},{"$f":"SUM(G87,H88,I89,J90,K91,L92,M93,N94,O95,P96)","v":0.20546530904815632},{"$f":"1-B89-A89","v":0.64991791535187537},null,null,2,{"$f":"POISSON(F89,H83,0)*POISSON(G86,H84,0)","v":1.9987056505400856E-2},{"$f":"POISSON(F89,H83,0)*POISSON(H86,H84,0)","v":3.9974113010801705E-2},{"$f":"POISSON(F89,H83,0)*POISSON(I86,H84,0)","v":3.9974113010801719E-2},{"$f":"POISSON(F89,H83,0)*POISSON(J86,H84,0)","v":2.6649408673867812E-2},{"$f":"POISSON(F89,H83,0)*POISSON(K86,H84,0)","v":1.3324704336933906E-2},{"$f":"POISSON(F89,H83,0)*POISSON(L86,H84,0)","v":5.3298817347735604E-3},{"$f":"POISSON(F89,H83,0)*POISSON(M86,H84,0)","v":1.7766272449245201E-3},{"$f":"POISSON(F89,H83,0)*POISSON(N86,H84,0)","v":5.0760778426414861E-4},{"$f":"POISSON(F89,H83,0)*POISSON(O86,H84,0)","v":1.2690194606603726E-4},{"$f":"POISSON(F89,H83,0)*POISSON(P86,H84,0)","v":2.8200432459119328E-5}]
[{"$f":"1/A89","v":6.9148271066847036},{"$f":"1/B89","v":4.8670016589789524},{"$f":"1/C89","v":1.5386558461903377},null,null,3,{"$f":"POISSON(F90,H83,0)*POISSON(G86,H84,0)","v":5.4510154105638711E-3},{"$f":"POISSON(F90,H83,0)*POISSON(H86,H84,0)","v":1.0902030821127739E-2},{"$f":"POISSON(F90,H83,0)*POISSON(I86,H84,0)","v":1.0902030821127744E-2},{"$f":"POISSON(F90,H83,0)*POISSON(J86,H84,0)","v":7.268020547418496E-3},{"$f":"POISSON(F90,H83,0)*POISSON(K86,H84,0)","v":3.634010273709248E-3},{"$f":"POISSON(F90,H83,0)*POISSON(L86,H84,0)","v":1.4536041094836986E-3},{"$f":"POISSON(F90,H83,0)*POISSON(M86,H84,0)","v":4.8453470316123291E-4},{"$f":"POISSON(F90,H83,0)*POISSON(N86,H84,0)","v":1.3843848661749508E-4},{"$f":"POISSON(F90,H83,0)*POISSON(O86,H84,0)","v":3.4609621654373805E-5},{"$f":"POISSON(F90,H83,0)*POISSON(P86,H84,0)","v":7.6910270343052734E-6}]
[null,null,null,null,null,4,{"$f":"POISSON(F91,H83,0)*POISSON(G86,H84,0)","v":1.1149804248880642E-3},{"$f":"POISSON(F91,H83,0)*POISSON(H86,H84,0)","v":2.229960849776128E-3},{"$f":"POISSON(F91,H83,0)*POISSON(I86,H84,0)","v":2.2299608497761288E-3},{"$f":"POISSON(F91,H83,0)*POISSON(J86,H84,0)","v":1.4866405665174194E-3},{"$f":"POISSON(F91,H83,0)*POISSON(K86,H84,0)","v":7.4332028325870968E-4},{"$f":"POISSON(F91,H83,0)*POISSON(L86,H84,0)","v":2.9732811330348375E-4},{"$f":"POISSON(F91,H83,0)*POISSON(M86,H84,0)","v":9.9109371101161251E-5},{"$f":"POISSON(F91,H83,0)*POISSON(N86,H84,0)","v":2.8316963171760354E-5},{"$f":"POISSON(F91,H83,0)*POISSON(O86,H84,0)","v":7.0792407929400944E-6},{"$f":"POISSON(F91,H83,0)*POISSON(P86,H84,0)","v":1.5731646206533508E-6}]
[null,null,null,null,null,5,{"$f":"POISSON(F92,H83,0)*POISSON(G86,H84,0)","v":1.8245134225441061E-4},{"$f":"POISSON(F92,H83,0)*POISSON(H86,H84,0)","v":3.6490268450882116E-4},{"$f":"POISSON(F92,H83,0)*POISSON(I86,H84,0)","v":3.6490268450882133E-4},{"$f":"POISSON(F92,H83,0)*POISSON(J86,H84,0)","v":2.4326845633921421E-4},{"$f":"POISSON(F92,H83,0)*POISSON(K86,H84,0)","v":1.216342281696071E-4},{"$f":"POISSON(F92,H83,0)*POISSON(L86,H84,0)","v":4.8653691267842823E-5},{"$f":"POISSON(F92,H83,0)*POISSON(M86,H84,0)","v":1.621789708928094E-5},{"$f":"POISSON(F92,H83,0)*POISSON(N86,H84,0)","v":4.6336848826516972E-6},{"$f":"POISSON(F92,H83,0)*POISSON(O86,H84,0)","v":1.1584212206629251E-6},{"$f":"POISSON(F92,H83,0)*POISSON(P86,H84,0)","v":2.5742693792509392E-7}]
[null,null,null,null,null,6,{"$f":"POISSON(F93,H83,0)*POISSON(G86,H84,0)","v":2.4879728489237799E-5},{"$f":"POISSON(F93,H83,0)*POISSON(H86,H84,0)","v":4.9759456978475591E-5},{"$f":"POISSON(F93,H83,0)*POISSON(I86,H84,0)","v":4.9759456978475611E-5},{"$f":"POISSON(F93,H83,0)*POISSON(J86,H84,0)","v":3.3172971318983741E-5},{"$f":"POISSON(F93,H83,0)*POISSON(K86,H84,0)","v":1.658648565949187E-5},{"$f":"POISSON(F93,H83,0)*POISSON(L86,H84,0)","v":6.6345942637967455E-6},{"$f":"POISSON(F93,H83,0)*POISSON(M86,H84,0)","v":2.211531421265582E-6},{"$f":"POISSON(F93,H83,0)*POISSON(N86,H84,0)","v":6.3186612036159473E-7},{"$f":"POISSON(F93,H83,0)*POISSON(O86,H84,0)","v":1.5796653009039881E-7},{"$f":"POISSON(F93,H83,0)*POISSON(P86,H84,0)","v":3.5103673353421883E-8}]
["ТБ 0.5",{"$f":"SUM(G87:P96)-G87","v":0.9402390685436941},{"$f":"1/B94","v":1.0635592940728018},null,null,7,{"$f":"POISSON(F94,H83,0)*POISSON(G86,H84,0)","v":2.9080202130277999E-6},{"$f":"POISSON(F94,H83,0)*POISSON(H86,H84,0)","v":5.8160404260555982E-6},{"$f":"POISSON(F94,H83,0)*POISSON(I86,H84,0)","v":5.8160404260556007E-6},{"$f":"POISSON(F94,H83,0)*POISSON(J86,H84,0)","v":3.8773602840370677E-6},{"$f":"POISSON(F94,H83,0)*POISSON(K86,H84,0)","v":1.9386801420185339E-6},{"$f":"POISSON(F94,H83,0)*POISSON(L86,H84,0)","v":7.7547205680741318E-7},{"$f":"POISSON(F94,H83,0)*POISSON(M86,H84,0)","v":2.5849068560247106E-7},{"$f":"POISSON(F94,H83,0)*POISSON(N86,H84,0)","v":7.3854481600706004E-8},{"$f":"POISSON(F94,H83,0)*POISSON(O86,H84,0)","v":1.8463620400176518E-8},{"$f":"POISSON(F94,H83,0)*POISSON(P86,H84,0)","v":4.1030267555947724E-9}]
["ТБ 1.5",{"$f":"SUM(G89:G96,H88:H96,I87:I96,J87:P96)","v":0.77195298784389921},{"$f":"1/B95","v":1.2954156739428482},null,null,8,{"$f":"POISSON(F95,H83,0)*POISSON(G86,H84,0)","v":2.974111581505693E-7},{"$f":"POISSON(F95,H83,0)*POISSON(H86,H84,0)","v":5.9482231630113849E-7},{"$f":"POISSON(F95,H83,0)*POISSON(I86,H84,0)","v":5.948223163011387E-7},{"$f":"POISSON(F95,H83,0)*POISSON(J86,H84,0)","v":3.965482108674258E-7},{"$f":"POISSON(F95,H83,0)*POISSON(K86,H84,0)","v":1.982741054337129E-7},{"$f":"POISSON(F95,H83,0)*POISSON(L86,H84,0)","v":7.9309642173485131E-8},{"$f":"POISSON(F95,H83,0)*POISSON(M86,H84,0)","v":2.6436547391161713E-8},{"$f":"POISSON(F95,H83,0)*POISSON(N86,H84,0)","v":7.55329925461763E-9},{"$f":"POISSON(F95,H83,0)*POISSON(O86,H84,0)","v":1.8883248136544092E-9},{"$f":"POISSON(F95,H83,0)*POISSON(P86,H84,0)","v":4.1962773636764561E-10}]
["ТБ 2.5",{"$f":"SUM(G90:G96,H89:H96,I88:I96,J87:P96)","v":0.5348226014032792},{"$f":"1/B96","v":1.8697788713045751},null,null,9,{"$f":"POISSON(F96,H83,0)*POISSON(G86,H84,0)","v":2.7037378013688156E-8},{"$f":"POISSON(F96,H83,0)*POISSON(H86,H84,0)","v":5.4074756027376298E-8},{"$f":"POISSON(F96,H83,0)*POISSON(I86,H84,0)","v":5.4074756027376318E-8},{"$f":"POISSON(F96,H83,0)*POISSON(J86,H84,0)","v":3.6049837351584212E-8},{"$f":"POISSON(F96,H83,0)*POISSON(K86,H84,0)","v":1.8024918675792106E-8},{"$f":"POISSON(F96,H83,0)*POISSON(L86,H84,0)","v":7.2099674703168397E-9},{"$f":"POISSON(F96,H83,0)*POISSON(M86,H84,0)","v":2.4033224901056132E-9},{"$f":"POISSON(F96,H83,0)*POISSON(N86,H84,0)","v":6.8666356860160368E-10},{"$f":"POISSON(F96,H83,0)*POISSON(O86,H84,0)","v":1.7166589215040107E-10},{"$f":"POISSON(F96,H83,0)*POISSON(P86,H84,0)","v":3.8147976033422381E-11}]
["ТБ 3.5",{"$f":"SUM(G91:G96,H90:H96,I89:I96,J88:J96,K87:P96)","v":0.3120637535348178},{"$f":"1/B97","v":3.2044734086313142}]
["ТБ 4.5",{"$f":"SUM(G92:G96,H91:H96,I90:I96,J89:J96,K88:K96,L87:P96)","v":0.15512001980931134},6.4466211468339001]
["ТБ 5.5",{"$f":"SUM(G93:G96,H92:H96,I91:I96,J90:J96,K89:K96,L88:L96,M87:P96)","v":6.666082443675278E-2},15.001314616935041]
[]
["ТМ 0.5",{"$f":"1-B94","v":5.9760931456305899E-2},16.733340254764073,null,"ОЗ",{"$f":"SUM(H88:P96)","v":0.48311996789305978},{"$f":"1/F101","v":2.069879256618417}]
["ТМ 1.5",0.22804701215610079,4.3850607405261179,null,"НЕ ОЗ",{"$f":"1-F101","v":0.51688003210694022},{"$f":"1/F102","v":1.9346849131001145}]
["ТМ 2.5",0.4651773985967208,2.1497175121075398]
["ТМ 3.5",0.68793624646518214,1.4536230721063075,null,"P",{"$f":"SUM(G87,G89,G91,G93,G95,H88,H90,H92,H94,H96,I87,I89,I91,I93,I95,J88,J90,J92,J94,J96,K87,K89,K91,K93,K95,L88,L90,L92,L94,L96)+SUM(M87,M89,M91,M93,M95,N88,N90,N92,N94,N96,O87,O89,O91,O93,O95,P88,P90,P92,P94,P96)","v":0.50175650860419319},{"$f":"1/F104","v":1.9929985617562609}]
["ТМ 4.5",0.84487998019068866,1.1836000656262453,null,"D",{"$f":"1-F104","v":0.49824349139580681},{"$f":"1/F105","v":2.0070508040126018}]
["ТМ 5.5",0.93333917556324719,1.0714218648290688]
[]
["Дом/Гости"]
[null,null,"Команда","Забито","Пропущено","Игры",null,"Средний"]
[null,"Дом",{"$f":"A2","v":"Cardiff U23"},{"$f":"C4","v":31},{"$f":"D4","v":12},{"$f":"B6","v":5},null,{"$f":"(D110+E111)/(F111+F110)","v":3.3},{"$f":"H110+H111","v":6.3}]
[null,"Гости",{"$f":"A8","v":"Sheffield Utd U23"},{"$f":"C12","v":18},{"$f":"D12","v":2},{"$f":"B12","v":5},null,{"$f":"(D111+E110)/(F110+F111)","v":3}]
[]
[null,null,null,null,null,null,0,1,2,3,4,5,6,7,8,9]
[null,null,null,null,null,0,{"$f":"POISSON(F114,H110,0)*POISSON(G113,H111,0)","v":1.8363047770289073E-3},{"$f":"POISSON(F114,H110,0)*POISSON(H113,H111,0)","v":5.5089143310867224E-3},{"$f":"POISSON(F114,H110,0)*POISSON(I113,H111,0)","v":8.2633714966300828E-3},{"$f":"POISSON(F114,H110,0)*POISSON(J113,H111,0)","v":8.2633714966300845E-3},{"$f":"POISSON(F114,H110,0)*POISSON(K113,H111,0)","v":6.1975286224725638E-3},{"$f":"POISSON(F114,H110,0)*POISSON(L113,H111,0)","v":3.7185171734835376E-3},{"$f":"POISSON(F114,H110,0)*POISSON(M113,H111,0)","v":1.8592585867417692E-3},{"$f":"POISSON(F114,H110,0)*POISSON(N113,H111,0)","v":7.9682510860361474E-4},{"$f":"POISSON(F114,H110,0)*POISSON(O113,H111,0)","v":2.9880941572635588E-4},{"$f":"POISSON(F114,H110,0)*POISSON(P113,H111,0)","v":9.9603138575451883E-5}]
[{"$f":"\"1\"","v":"1"},{"$f":"\"X\"","v":"X"},{"$f":"\"2\"","v":"2"},null,null,1,{"$f":"POISSON(F115,H110,0)*POISSON(G113,H111,0)","v":6.0598057641953942E-3},{"$f":"POISSON(F115,H110,0)*POISSON(H113,H111,0)","v":1.8179417292586184E-2},{"$f":"POISSON(F115,H110,0)*POISSON(I113,H111,0)","v":2.7269125938879271E-2},{"$f":"POISSON(F115,H110,0)*POISSON(J113,H111,0)","v":2.7269125938879275E-2},{"$f":"POISSON(F115,H110,0)*POISSON(K113,H111,0)","v":2.045184445415946E-2},{"$f":"POISSON(F115,H110,0)*POISSON(L113,H111,0)","v":1.2271106672495672E-2},{"$f":"POISSON(F115,H110,0)*POISSON(M113,H111,0)","v":6.1355533362478379E-3},{"$f":"POISSON(F115,H110,0)*POISSON(N113,H111,0)","v":2.6295228583919283E-3},{"$f":"POISSON(F115,H110,0)*POISSON(O113,H111,0)","v":9.8607107189697431E-4},{"$f":"POISSON(F115,H110,0)*POISSON(P113,H111,0)","v":3.286903572989912E-4}]
[{"$f":"SUM(G115:G123,H116:H123,I117:I123,J118:J123,K119:K123,L120:L123,M121:M123,N122:N123,O123)","v":0.46372737161134192},{"$f":"SUM(G114,H115,I116,J117,K118,L119,M120,N121,O122,P123)","v":0.1613801880599357},{"$f":"1-B116-A116","v":0.37489244032872238},null,null,2,{"$f":"POISSON(F116,H110,0)*POISSON(G113,H111,0)","v":9.9986795109224032E-3},{"$f":"POISSON(F116,H110,0)*POISSON(H113,H111,0)","v":2.9996038532767215E-2},{"$f":"POISSON(F116,H110,0)*POISSON(I113,H111,0)","v":4.4994057799150819E-2},{"$f":"POISSON(F116,H110,0)*POISSON(J113,H111,0)","v":4.4994057799150819E-2},{"$f":"POISSON(F116,H110,0)*POISSON(K113,H111,0)","v":3.3745543349363118E-2},{"$f":"POISSON(F116,H110,0)*POISSON(L113,H111,0)","v":2.0247326009617869E-2},{"$f":"POISSON(F116,H110,0)*POISSON(M113,H111,0)","v":1.0123663004808936E-2},{"$f":"POISSON(F116,H110,0)*POISSON(N113,H111,0)","v":4.3387127163466831E-3},{"$f":"POISSON(F116,H110,0)*POISSON(O113,H111,0)","v":1.6270172686300083E-3},{"$f":"POISSON(F116,H110,0)*POISSON(P113,H111,0)","v":5.4233908954333572E-4}]
[{"$f":"1/A116","v":2.1564394539085296},{"$f":"1/B116","v":6.1965474945946006},{"$f":"1/C116","v":2.6674317548872297},null,null,3,{"$f":"POISSON(F117,H110,0)*POISSON(G113,H111,0)","v":1.0998547462014639E-2},{"$f":"POISSON(F117,H110,0)*POISSON(H113,H111,0)","v":3.2995642386043925E-2},{"$f":"POISSON(F117,H110,0)*POISSON(I113,H111,0)","v":4.9493463579065873E-2},{"$f":"POISSON(F117,H110,0)*POISSON(J113,H111,0)","v":4.949346357906588E-2},{"$f":"POISSON(F117,H110,0)*POISSON(K113,H111,0)","v":3.7120097684299413E-2},{"$f":"POISSON(F117,H110,0)*POISSON(L113,H111,0)","v":2.2272058610579647E-2},{"$f":"POISSON(F117,H110,0)*POISSON(M113,H111,0)","v":1.1136029305289825E-2},{"$f":"POISSON(F117,H110,0)*POISSON(N113,H111,0)","v":4.7725839879813499E-3},{"$f":"POISSON(F117,H110,0)*POISSON(O113,H111,0)","v":1.7897189954930084E-3},{"$f":"POISSON(F117,H110,0)*POISSON(P113,H111,0)","v":5.9657299849766895E-4}]
[null,null,null,null,null,4,{"$f":"POISSON(F118,H110,0)*POISSON(G113,H111,0)","v":9.0738016561620772E-3},{"$f":"POISSON(F118,H110,0)*POISSON(H113,H111,0)","v":2.7221404968486237E-2},{"$f":"POISSON(F118,H110,0)*POISSON(I113,H111,0)","v":4.0832107452729353E-2},{"$f":"POISSON(F118,H110,0)*POISSON(J113,H111,0)","v":4.0832107452729353E-2},{"$f":"POISSON(F118,H110,0)*POISSON(K113,H111,0)","v":3.062408058954702E-2},{"$f":"POISSON(F118,H110,0)*POISSON(L113,H111,0)","v":1.8374448353728208E-2},{"$f":"POISSON(F118,H110,0)*POISSON(M113,H111,0)","v":9.1872241768641075E-3},{"$f":"POISSON(F118,H110,0)*POISSON(N113,H111,0)","v":3.9373817900846134E-3},{"$f":"POISSON(F118,H110,0)*POISSON(O113,H111,0)","v":1.4765181712817321E-3},{"$f":"POISSON(F118,H110,0)*POISSON(P113,H111,0)","v":4.92172723760577E-4}]
[null,null,null,null,null,5,{"$f":"POISSON(F119,H110,0)*POISSON(G113,H111,0)","v":5.9887090930669717E-3},{"$f":"POISSON(F119,H110,0)*POISSON(H113,H111,0)","v":1.7966127279200918E-2},{"$f":"POISSON(F119,H110,0)*POISSON(I113,H111,0)","v":2.6949190918801373E-2},{"$f":"POISSON(F119,H110,0)*POISSON(J113,H111,0)","v":2.6949190918801377E-2},{"$f":"POISSON(F119,H110,0)*POISSON(K113,H111,0)","v":2.0211893189101035E-2},{"$f":"POISSON(F119,H110,0)*POISSON(L113,H111,0)","v":1.2127135913460619E-2},{"$f":"POISSON(F119,H110,0)*POISSON(M113,H111,0)","v":6.063567956730311E-3},{"$f":"POISSON(F119,H110,0)*POISSON(N113,H111,0)","v":2.5986719814558453E-3},{"$f":"POISSON(F119,H110,0)*POISSON(O113,H111,0)","v":9.7450199304594323E-4},{"$f":"POISSON(F119,H110,0)*POISSON(P113,H111,0)","v":3.2483399768198082E-4}]
[null,null,null,null,null,6,{"$f":"POISSON(F120,H110,0)*POISSON(G113,H111,0)","v":3.2937900011868336E-3},{"$f":"POISSON(F120,H110,0)*POISSON(H113,H111,0)","v":9.881370003560503E-3},{"$f":"POISSON(F120,H110,0)*POISSON(I113,H111,0)","v":1.4822055005340751E-2},{"$f":"POISSON(F120,H110,0)*POISSON(J113,H111,0)","v":1.4822055005340753E-2},{"$f":"POISSON(F120,H110,0)*POISSON(K113,H111,0)","v":1.1116541254005565E-2},{"$f":"POISSON(F120,H110,0)*POISSON(L113,H111,0)","v":6.6699247524033382E-3},{"$f":"POISSON(F120,H110,0)*POISSON(M113,H111,0)","v":3.33496237620167E-3},{"$f":"POISSON(F120,H110,0)*POISSON(N113,H111,0)","v":1.4292695898007145E-3},{"$f":"POISSON(F120,H110,0)*POISSON(O113,H111,0)","v":5.3597609617526856E-4},{"$f":"POISSON(F120,H110,0)*POISSON(P113,H111,0)","v":1.7865869872508939E-4}]
["ТБ 0.5",{"$f":"SUM(G114:P123)-G114","v":0.99486908323807144},{"$f":"1/B121","v":1.0051573788434842},null,null,7,{"$f":"POISSON(F121,H110,0)*POISSON(G113,H111,0)","v":1.5527867148452227E-3},{"$f":"POISSON(F121,H110,0)*POISSON(H113,H111,0)","v":4.6583601445356684E-3},{"$f":"POISSON(F121,H110,0)*POISSON(I113,H111,0)","v":6.9875402168035027E-3},{"$f":"POISSON(F121,H110,0)*POISSON(J113,H111,0)","v":6.9875402168035035E-3},{"$f":"POISSON(F121,H110,0)*POISSON(K113,H111,0)","v":5.2406551626026279E-3},{"$f":"POISSON(F121,H110,0)*POISSON(L113,H111,0)","v":3.1443930975615761E-3},{"$f":"POISSON(F121,H110,0)*POISSON(M113,H111,0)","v":1.5721965487807885E-3},{"$f":"POISSON(F121,H110,0)*POISSON(N113,H111,0)","v":6.7379852090605156E-4},{"$f":"POISSON(F121,H110,0)*POISSON(O113,H111,0)","v":2.5267444533976966E-4},{"$f":"POISSON(F121,H110,0)*POISSON(P113,H111,0)","v":8.4224815113256485E-5}]
["ТБ 1.5",{"$f":"SUM(G116:G123,H115:H123,I114:I123,J114:P123)","v":0.98330036314278946},{"$f":"1/B122","v":1.0169832509812524},null,null,8,{"$f":"POISSON(F122,H110,0)*POISSON(G113,H111,0)","v":6.4052451987365406E-4},{"$f":"POISSON(F122,H110,0)*POISSON(H113,H111,0)","v":1.9215735596209624E-3},{"$f":"POISSON(F122,H110,0)*POISSON(I113,H111,0)","v":2.8823603394314431E-3},{"$f":"POISSON(F122,H110,0)*POISSON(J113,H111,0)","v":2.8823603394314435E-3},{"$f":"POISSON(F122,H110,0)*POISSON(K113,H111,0)","v":2.1617702545735826E-3},{"$f":"POISSON(F122,H110,0)*POISSON(L113,H111,0)","v":1.2970621527441494E-3},{"$f":"POISSON(F122,H110,0)*POISSON(M113,H111,0)","v":6.4853107637207494E-4},{"$f":"POISSON(F122,H110,0)*POISSON(N113,H111,0)","v":2.7794188987374612E-4},{"$f":"POISSON(F122,H110,0)*POISSON(O113,H111,0)","v":1.0422820870265494E-4},{"$f":"POISSON(F122,H110,0)*POISSON(P113,H111,0)","v":3.4742736234218285E-5}]
["ТБ 2.5",{"$f":"SUM(G117:G123,H116:H123,I115:I123,J114:P123)","v":0.94685889484265084},{"$f":"1/B123","v":1.0561235738997627},null,null,9,{"$f":"POISSON(F123,H110,0)*POISSON(G113,H111,0)","v":2.3485899062033943E-4},{"$f":"POISSON(F123,H110,0)*POISSON(H113,H111,0)","v":7.0457697186101836E-4},{"$f":"POISSON(F123,H110,0)*POISSON(I113,H111,0)","v":1.0568654577915275E-3},{"$f":"POISSON(F123,H110,0)*POISSON(J113,H111,0)","v":1.0568654577915275E-3},{"$f":"POISSON(F123,H110,0)*POISSON(K113,H111,0)","v":7.9264909334364573E-4},{"$f":"POISSON(F123,H110,0)*POISSON(L113,H111,0)","v":4.7558945600618735E-4},{"$f":"POISSON(F123,H110,0)*POISSON(M113,H111,0)","v":2.3779472800309376E-4},{"$f":"POISSON(F123,H110,0)*POISSON(N113,H111,0)","v":1.0191202628704009E-4},{"$f":"POISSON(F123,H110,0)*POISSON(O113,H111,0)","v":3.8217009857640078E-5},{"$f":"POISSON(F123,H110,0)*POISSON(P113,H111,0)","v":1.2739003285880018E-5}]
["ТБ 3.5",{"$f":"SUM(G118:G123,H117:H123,I116:I123,J115:J123,K114:P123)","v":0.8703318114123596},{"$f":"1/B124","v":1.1489870723870441}]
["ТБ 4.5",{"$f":"SUM(G119:G123,H118:H123,I117:I123,J116:J123,K115:K123,L114:P123)","v":0.74980165500965101},1.3336860399262904]
["ТБ 5.5",{"$f":"SUM(G120:G123,H119:H123,I118:I123,J117:J123,K116:K123,L115:L123,M114:P123)","v":0.59793365794223818},1.6724263414798475]
[]
["ТМ 0.5",{"$f":"1-B121","v":5.1309167619285612E-3},194.89694462011295,null,"ОЗ",{"$f":"SUM(H115:P123)","v":0.9120213801552336},{"$f":"1/F128","v":1.0964655234615133}]
["ТМ 1.5",1.6699636857210542E-2,59.881541649704893,null,"НЕ ОЗ",{"$f":"1-F128","v":8.7978619844766404E-2},{"$f":"1/F129","v":11.366397901722564}]
["ТМ 2.5",5.3141105157349156E-2,18.817824677131405]
["ТМ 3.5",0.1296681885876404,7.7119917451774844,null,"P",{"$f":"SUM(G114,G116,G118,G120,G122,H115,H117,H119,H121,H123,I114,I116,I118,I120,I122,J115,J117,J119,J121,J123,K114,K116,K118,K120,K122,L115,L117,L119,L121,L123)+SUM(M114,M116,M118,M120,M122,N115,N117,N119,N121,N123,O114,O116,O118,O120,O122,P115,P117,P119,P121,P123)","v":0.49835284949249575},{"$f":"1/F131","v":2.0066103786069713}]
["ТМ 4.5",0.25019834499034899,3.9968289959654748,null,"D",{"$f":"1-F131","v":0.50164715050750419},{"$f":"1/F132","v":1.9934330315408437}]
["ТМ 5.5",0.40206634205776182,2.4871517344178429]
[]
["Форма"]
[null,null,"Команда","Забито","Пропущено","Игры",null,"Средний"]
[null,"Дом",{"$f":"C110","v":"Cardiff U23"},{"$f":"C6","v":11},{"$f":"D6","v":6},{"$f":"B6","v":5},null,{"$f":"(D137+E138)/(F138+F137)","v":1.3}]
[null,"Гости",{"$f":"C111","v":"Sheffield Utd U23"},{"$f":"C12","v":18},{"$f":"D12","v":2},{"$f":"B12","v":5},null,{"$f":"(D138+E137)/(F137+F138)","v":2.4}]
[]
[null,null,null,null,null,null,0,1,2,3,4,5,6,7,8,9]
[null,null,null,null,null,0,{"$f":"POISSON(F141,H137,0)*POISSON(G140,H138,0)","v":2.4723526470339392E-2},{"$f":"POISSON(F141,H137,0)*POISSON(H140,H138,0)","v":5.933646352881454E-2},{"$f":"POISSON(F141,H137,0)*POISSON(I140,H138,0)","v":7.1203756234577462E-2},{"$f":"POISSON(F141,H137,0)*POISSON(J140,H138,0)","v":5.6963004987661964E-2},{"$f":"POISSON(F141,H137,0)*POISSON(K140,H138,0)","v":3.4177802992597178E-2},{"$f":"POISSON(F141,H137,0)*POISSON(L140,H138,0)","v":1.6405345436446638E-2},{"$f":"POISSON(F141,H137,0)*POISSON(M140,H138,0)","v":6.5621381745786566E-3},{"$f":"POISSON(F141,H137,0)*POISSON(N140,H138,0)","v":2.2498759455698244E-3},{"$f":"POISSON(F141,H137,0)*POISSON(O140,H138,0)","v":6.7496278367094691E-4},{"$f":"POISSON(F141,H137,0)*POISSON(P140,H138,0)","v":1.7999007564558584E-4}]
[{"$f":"\"1\"","v":"1"},{"$f":"\"X\"","v":"X"},{"$f":"\"2\"","v":"2"},null,null,1,{"$f":"POISSON(F142,H137,0)*POISSON(G140,H138,0)","v":3.2140584411441214E-2},{"$f":"POISSON(F142,H137,0)*POISSON(H140,H138,0)","v":7.7137402587458909E-2},{"$f":"POISSON(F142,H137,0)*POISSON(I140,H138,0)","v":9.2564883104950701E-2},{"$f":"POISSON(F142,H137,0)*POISSON(J140,H138,0)","v":7.4051906483960553E-2},{"$f":"POISSON(F142,H137,0)*POISSON(K140,H138,0)","v":4.4431143890376334E-2},{"$f":"POISSON(F142,H137,0)*POISSON(L140,H138,0)","v":2.1326949067380627E-2},{"$f":"POISSON(F142,H137,0)*POISSON(M140,H138,0)","v":8.5307796269522528E-3},{"$f":"POISSON(F142,H137,0)*POISSON(N140,H138,0)","v":2.9248387292407719E-3},{"$f":"POISSON(F142,H137,0)*POISSON(O140,H138,0)","v":8.7745161877223106E-4},{"$f":"POISSON(F142,H137,0)*POISSON(P140,H138,0)","v":2.339870983392616E-4}]
[{"$f":"SUM(G142:G150,H143:H150,I144:I150,J145:J150,K146:K150,L147:L150,M148:M150,N149:N150,O150)","v":0.19506370882970372},{"$f":"SUM(G141,H142,I143,J144,K145,L146,M147,N148,O149,P150)","v":0.18750789171982346},{"$f":"1-B143-A143","v":0.6174283994504729},null,null,2,{"$f":"POISSON(F143,H137,0)*POISSON(G140,H138,0)","v":2.0891379867436794E-2},{"$f":"POISSON(F143,H137,0)*POISSON(H140,H138,0)","v":5.0139311681848306E-2},{"$f":"POISSON(F143,H137,0)*POISSON(I140,H138,0)","v":6.016717401821798E-2},{"$f":"POISSON(F143,H137,0)*POISSON(J140,H138,0)","v":4.8133739214574381E-2},{"$f":"POISSON(F143,H137,0)*POISSON(K140,H138,0)","v":2.8880243528744628E-2},{"$f":"POISSON(F143,H137,0)*POISSON(L140,H138,0)","v":1.3862516893797413E-2},{"$f":"POISSON(F143,H137,0)*POISSON(M140,H138,0)","v":5.5450067575189667E-3},{"$f":"POISSON(F143,H137,0)*POISSON(N140,H138,0)","v":1.9011451740065023E-3},{"$f":"POISSON(F143,H137,0)*POISSON(O140,H138,0)","v":5.7034355220195036E-4},{"$f":"POISSON(F143,H137,0)*POISSON(P140,H138,0)","v":1.5209161392052008E-4}]
[{"$f":"1/A143","v":5.1265302295314656},{"$f":"1/B143","v":5.3331088671948379},{"$f":"1/C143","v":1.6196209971715354},null,null,3,{"$f":"POISSON(F144,H137,0)*POISSON(G140,H138,0)","v":9.0529312758892821E-3},{"$f":"POISSON(F144,H137,0)*POISSON(H140,H138,0)","v":2.1727035062134276E-2},{"$f":"POISSON(F144,H137,0)*POISSON(I140,H138,0)","v":2.6072442074561136E-2},{"$f":"POISSON(F144,H137,0)*POISSON(J140,H138,0)","v":2.0857953659648903E-2},{"$f":"POISSON(F144,H137,0)*POISSON(K140,H138,0)","v":1.2514772195789343E-2},{"$f":"POISSON(F144,H137,0)*POISSON(L140,H138,0)","v":6.0070906539788811E-3},{"$f":"POISSON(F144,H137,0)*POISSON(M140,H138,0)","v":2.4028362615915533E-3},{"$f":"POISSON(F144,H137,0)*POISSON(N140,H138,0)","v":8.2382957540281794E-4},{"$f":"POISSON(F144,H137,0)*POISSON(O140,H138,0)","v":2.4714887262084525E-4},{"$f":"POISSON(F144,H137,0)*POISSON(P140,H138,0)","v":6.5906366032225392E-5}]
[null,null,null,null,null,4,{"$f":"POISSON(F145,H137,0)*POISSON(G140,H138,0)","v":2.9422026646640162E-3},{"$f":"POISSON(F145,H137,0)*POISSON(H140,H138,0)","v":7.0612863951936382E-3},{"$f":"POISSON(F145,H137,0)*POISSON(I140,H138,0)","v":8.4735436742323679E-3},{"$f":"POISSON(F145,H137,0)*POISSON(J140,H138,0)","v":6.7788349393858929E-3},{"$f":"POISSON(F145,H137,0)*POISSON(K140,H138,0)","v":4.0673009636315359E-3},{"$f":"POISSON(F145,H137,0)*POISSON(L140,H138,0)","v":1.9523044625431361E-3},{"$f":"POISSON(F145,H137,0)*POISSON(M140,H138,0)","v":7.8092178501725472E-4},{"$f":"POISSON(F145,H137,0)*POISSON(N140,H138,0)","v":2.6774461200591582E-4},{"$f":"POISSON(F145,H137,0)*POISSON(O140,H138,0)","v":8.032338360177469E-5},{"$f":"POISSON(F145,H137,0)*POISSON(P140,H138,0)","v":2.1419568960473251E-5}]
[null,null,null,null,null,5,{"$f":"POISSON(F146,H137,0)*POISSON(G140,H138,0)","v":7.6497269281264411E-4},{"$f":"POISSON(F146,H137,0)*POISSON(H140,H138,0)","v":1.8359344627503459E-3},{"$f":"POISSON(F146,H137,0)*POISSON(I140,H138,0)","v":2.2031213553004156E-3},{"$f":"POISSON(F146,H137,0)*POISSON(J140,H138,0)","v":1.7624970842403322E-3},{"$f":"POISSON(F146,H137,0)*POISSON(K140,H138,0)","v":1.0574982505441994E-3},{"$f":"POISSON(F146,H137,0)*POISSON(L140,H138,0)","v":5.0759916026121539E-4},{"$f":"POISSON(F146,H137,0)*POISSON(M140,H138,0)","v":2.0303966410448621E-4},{"$f":"POISSON(F146,H137,0)*POISSON(N140,H138,0)","v":6.9613599121538106E-5},{"$f":"POISSON(F146,H137,0)*POISSON(O140,H138,0)","v":2.088407973646142E-5},{"$f":"POISSON(F146,H137,0)*POISSON(P140,H138,0)","v":5.5690879297230446E-6}]
[null,null,null,null,null,6,{"$f":"POISSON(F147,H137,0)*POISSON(G140,H138,0)","v":1.6574408344273957E-4},{"$f":"POISSON(F147,H137,0)*POISSON(H140,H138,0)","v":3.9778580026257496E-4},{"$f":"POISSON(F147,H137,0)*POISSON(I140,H138,0)","v":4.7734296031509005E-4},{"$f":"POISSON(F147,H137,0)*POISSON(J140,H138,0)","v":3.8187436825207199E-4},{"$f":"POISSON(F147,H137,0)*POISSON(K140,H138,0)","v":2.2912462095124321E-4},{"$f":"POISSON(F147,H137,0)*POISSON(L140,H138,0)","v":1.0997981805659666E-4},{"$f":"POISSON(F147,H137,0)*POISSON(M140,H138,0)","v":4.3991927222638682E-5},{"$f":"POISSON(F147,H137,0)*POISSON(N140,H138,0)","v":1.5082946476333257E-5},{"$f":"POISSON(F147,H137,0)*POISSON(O140,H138,0)","v":4.5248839428999743E-6},{"$f":"POISSON(F147,H137,0)*POISSON(P140,H138,0)","v":1.2066357181066599E-6}]
["ТБ 0.5",{"$f":"SUM(G141:P150)-G141","v":0.97507376006768387},{"$f":"1/B148","v":1.0255634403807419},null,null,7,{"$f":"POISSON(F148,H137,0)*POISSON(G140,H138,0)","v":3.0781044067937358E-5},{"$f":"POISSON(F148,H137,0)*POISSON(H140,H138,0)","v":7.3874505763049664E-5},{"$f":"POISSON(F148,H137,0)*POISSON(I140,H138,0)","v":8.8649406915659613E-5},{"$f":"POISSON(F148,H137,0)*POISSON(J140,H138,0)","v":7.0919525532527682E-5},{"$f":"POISSON(F148,H137,0)*POISSON(K140,H138,0)","v":4.2551715319516612E-5},{"$f":"POISSON(F148,H137,0)*POISSON(L140,H138,0)","v":2.042482335336796E-5},{"$f":"POISSON(F148,H137,0)*POISSON(M140,H138,0)","v":8.1699293413471852E-6},{"$f":"POISSON(F148,H137,0)*POISSON(N140,H138,0)","v":2.8011186313190342E-6},{"$f":"POISSON(F148,H137,0)*POISSON(O140,H138,0)","v":8.4033558939570982E-7},{"$f":"POISSON(F148,H137,0)*POISSON(P140,H138,0)","v":2.240894905055226E-7}]
["ТБ 1.5",{"$f":"SUM(G143:G150,H142:H150,I141:I150,J141:P150)","v":0.88359671212742819},1.1317380273997497,null,null,8,{"$f":"POISSON(F149,H137,0)*POISSON(G140,H138,0)","v":5.0019196610398262E-6},{"$f":"POISSON(F149,H137,0)*POISSON(H140,H138,0)","v":1.2004607186495584E-5},{"$f":"POISSON(F149,H137,0)*POISSON(I140,H138,0)","v":1.4405528623794703E-5},{"$f":"POISSON(F149,H137,0)*POISSON(J140,H138,0)","v":1.152442289903576E-5},{"$f":"POISSON(F149,H137,0)*POISSON(K140,H138,0)","v":6.9146537394214565E-6},{"$f":"POISSON(F149,H137,0)*POISSON(L140,H138,0)","v":3.3190337949222972E-6},{"$f":"POISSON(F149,H137,0)*POISSON(M140,H138,0)","v":1.3276135179689193E-6},{"$f":"POISSON(F149,H137,0)*POISSON(N140,H138,0)","v":4.5518177758934363E-7},{"$f":"POISSON(F149,H137,0)*POISSON(O140,H138,0)","v":1.36554533276803E-7},{"$f":"POISSON(F149,H137,0)*POISSON(P140,H138,0)","v":3.6414542207147464E-8}]
["ТБ 2.5",{"$f":"SUM(G144:G150,H143:H150,I142:I150,J141:P150)","v":0.714364173437955},1.399846236951374,null,null,9,{"$f":"POISSON(F150,H137,0)*POISSON(G140,H138,0)","v":7.2249950659463944E-7},{"$f":"POISSON(F150,H137,0)*POISSON(H140,H138,0)","v":1.7339988158271345E-6},{"$f":"POISSON(F150,H137,0)*POISSON(I140,H138,0)","v":2.0807985789925619E-6},{"$f":"POISSON(F150,H137,0)*POISSON(J140,H138,0)","v":1.6646388631940493E-6},{"$f":"POISSON(F150,H137,0)*POISSON(K140,H138,0)","v":9.9878331791642953E-7},{"$f":"POISSON(F150,H137,0)*POISSON(L140,H138,0)","v":4.7941599259988589E-7},{"$f":"POISSON(F150,H137,0)*POISSON(M140,H138,0)","v":1.9176639703995442E-7},{"$f":"POISSON(F150,H137,0)*POISSON(N140,H138,0)","v":6.5748478985127205E-8},{"$f":"POISSON(F150,H137,0)*POISSON(O140,H138,0)","v":1.9724543695538149E-8},{"$f":"POISSON(F150,H137,0)*POISSON(P140,H138,0)","v":5.2598783188101737E-9}]
["ТБ 3.5",{"$f":"SUM(G145:G150,H144:H150,I143:I150,J142:J150,K141:P150)","v":0.50564404238760441},1.977675827600168]
["ТБ 4.5",{"$f":"SUM(G146:G150,H145:H150,I144:I150,J143:J150,K142:K150,L141:P150)","v":0.31257792116603039},3.1992022861679832]
["ТБ 5.5",{"$f":"SUM(G147:G150,H146:H150,I145:I150,J144:J150,K143:K150,L142:L150,M141:P150)","v":0.16970899146206561},5.8924397074360444]
[]
["ТМ 0.5",{"$f":"1-B148","v":2.492623993231613E-2},{"$f":"1/B155","v":40.118365333695181},null,"ОЗ",{"$f":"SUM(H142:P150)","v":0.66132609944919885},{"$f":"1/F155","v":1.512113314192308}]
["ТМ 1.5",0.11640328787257181,8.5908226329028867,null,"НЕ ОЗ",{"$f":"1-F155","v":0.33867390055080115},{"$f":"1/F156","v":2.9526928363055238}]
["ТМ 2.5",0.285635826562045,3.5009613886190247]
["ТМ 3.5",0.49435595761239559,2.0228339207839774,null,"P",{"$f":"SUM(G141,G143,G145,G147,G149,H142,H144,H146,H148,H150,I141,I143,I145,I147,I149,J142,J144,J146,J148,J150,K141,K143,K145,K147,K149,L142,L144,L146,L148,L150)+SUM(M141,M143,M145,M147,M149,N142,N144,N146,N148,N150,O141,O143,O145,O147,O149,P142,P144,P146,P148,P150)","v":0.50019944739966105},{"$f":"1/F158","v":1.9992025285085864}]
["ТМ 4.5",0.68742207883396955,1.4547103312367222,null,"D",{"$f":"1-F158","v":0.49980055260033895},{"$f":"1/F159","v":2.0007981079597585}]
["ТМ 5.5",0.83029100853793436,1.2043970002287601]
[]
["Побед Дома\\выезд"]
[null,null,"Команда","Победы","Порожения","Игры",null,"Средний"]
[null,"Дом",{"$f":"A2","v":"Cardiff U23"},{"$f":"AD16","v":8},{"$f":"AH16","v":3},{"$f":"B4","v":11},null,{"$f":"(D164+E165)/(F165+F164)","v":0.5}]
[null,"Гости",{"$f":"A8","v":"Sheffield Utd U23"},{"$f":"AD18","v":7},{"$f":"AH18","v":3},{"$f":"B11","v":11},null,{"$f":"(D165+E164)/(F164+F165)","v":0.45454545454545453}]
[]
[null,null,null,null,null,null,0,1,2,3,4,5,6,7,8,9]
[null,null,null,null,null,0,{"$f":"POISSON(F168,H164,0)*POISSON(G167,H165,0)","v":0.38498709892348365},{"$f":"POISSON(F168,H164,0)*POISSON(H167,H165,0)","v":0.17499413587431073},{"$f":"POISSON(F168,H164,0)*POISSON(I167,H165,0)","v":3.9771394516888804E-2},{"$f":"POISSON(F168,H164,0)*POISSON(J167,H165,0)","v":6.0259688661952731E-3},{"$f":"POISSON(F168,H164,0)*POISSON(K167,H165,0)","v":6.8476918934037194E-4},{"$f":"POISSON(F168,H164,0)*POISSON(L167,H165,0)","v":6.2251744485488378E-5},{"$f":"POISSON(F168,H164,0)*POISSON(M167,H165,0)","v":4.7160412489006323E-6},{"$f":"POISSON(F168,H164,0)*POISSON(N167,H165,0)","v":3.0623644473380782E-7},{"$f":"POISSON(F168,H164,0)*POISSON(O167,H165,0)","v":1.739979799623901E-8},{"$f":"POISSON(F168,H164,0)*POISSON(P167,H165,0)","v":8.7877767657772896E-10}]
[{"$f":"\"1\"","v":"1"},{"$f":"\"X\"","v":"X"},{"$f":"\"2\"","v":"2"},null,null,1,{"$f":"POISSON(F169,H164,0)*POISSON(G167,H165,0)","v":0.19249354946174183},{"$f":"POISSON(F169,H164,0)*POISSON(H167,H165,0)","v":8.7497067937155365E-2},{"$f":"POISSON(F169,H164,0)*POISSON(I167,H165,0)","v":1.9885697258444402E-2},{"$f":"POISSON(F169,H164,0)*POISSON(J167,H165,0)","v":3.0129844330976365E-3},{"$f":"POISSON(F169,H164,0)*POISSON(K167,H165,0)","v":3.4238459467018597E-4},{"$f":"POISSON(F169,H164,0)*POISSON(L167,H165,0)","v":3.1125872242744189E-5},{"$f":"POISSON(F169,H164,0)*POISSON(M167,H165,0)","v":2.3580206244503161E-6},{"$f":"POISSON(F169,H164,0)*POISSON(N167,H165,0)","v":1.5311822236690391E-7},{"$f":"POISSON(F169,H164,0)*POISSON(O167,H165,0)","v":8.6998989981195052E-9},{"$f":"POISSON(F169,H164,0)*POISSON(P167,H165,0)","v":4.3938883828886448E-10}]
[{"$f":"SUM(G169:G177,H170:H177,I171:I177,J172:J177,K173:K177,L174:L177,M175:M177,N176:N177,O177)","v":0.27673569651333324},{"$f":"SUM(G168,H169,I170,J171,K172,L173,M174,N175,O176,P177)","v":0.47758293176060584},{"$f":"1-B170-A170","v":0.24568137172606092},null,null,2,{"$f":"POISSON(F170,H164,0)*POISSON(G167,H165,0)","v":4.8123387365435456E-2},{"$f":"POISSON(F170,H164,0)*POISSON(H167,H165,0)","v":2.1874266984288841E-2},{"$f":"POISSON(F170,H164,0)*POISSON(I167,H165,0)","v":4.9714243146111005E-3},{"$f":"POISSON(F170,H164,0)*POISSON(J167,H165,0)","v":7.5324610827440914E-4},{"$f":"POISSON(F170,H164,0)*POISSON(K167,H165,0)","v":8.5596148667546493E-5},{"$f":"POISSON(F170,H164,0)*POISSON(L167,H165,0)","v":7.7814680606860473E-6},{"$f":"POISSON(F170,H164,0)*POISSON(M167,H165,0)","v":5.8950515611257904E-7},{"$f":"POISSON(F170,H164,0)*POISSON(N167,H165,0)","v":3.8279555591725977E-8},{"$f":"POISSON(F170,H164,0)*POISSON(O167,H165,0)","v":2.1749747495298763E-9},{"$f":"POISSON(F170,H164,0)*POISSON(P167,H165,0)","v":1.0984720957221612E-10}]
[{"$f":"1/A170","v":3.6135562292803796},{"$f":"1/B170","v":2.0938771750353546},{"$f":"1/C170","v":4.0703126695133314},null,null,3,{"$f":"POISSON(F171,H164,0)*POISSON(G167,H165,0)","v":8.0205645609059111E-3},{"$f":"POISSON(F171,H164,0)*POISSON(H167,H165,0)","v":3.6457111640481408E-3},{"$f":"POISSON(F171,H164,0)*POISSON(I167,H165,0)","v":8.2857071910185016E-4},{"$f":"POISSON(F171,H164,0)*POISSON(J167,H165,0)","v":1.2554101804573489E-4},{"$f":"POISSON(F171,H164,0)*POISSON(K167,H165,0)","v":1.4266024777924418E-5},{"$f":"POISSON(F171,H164,0)*POISSON(L167,H165,0)","v":1.2969113434476747E-6},{"$f":"POISSON(F171,H164,0)*POISSON(M167,H165,0)","v":9.8250859352096524E-8},{"$f":"POISSON(F171,H164,0)*POISSON(N167,H165,0)","v":6.3799259319543306E-9},{"$f":"POISSON(F171,H164,0)*POISSON(O167,H165,0)","v":3.6249579158831282E-10},{"$f":"POISSON(F171,H164,0)*POISSON(P167,H165,0)","v":1.8307868262036022E-11}]
[null,null,null,null,null,4,{"$f":"POISSON(F172,H164,0)*POISSON(G167,H165,0)","v":1.0025705701132385E-3},{"$f":"POISSON(F172,H164,0)*POISSON(H167,H165,0)","v":4.5571389550601749E-4},{"$f":"POISSON(F172,H164,0)*POISSON(I167,H165,0)","v":1.0357133988773124E-4},{"$f":"POISSON(F172,H164,0)*POISSON(J167,H165,0)","v":1.5692627255716858E-5},{"$f":"POISSON(F172,H164,0)*POISSON(K167,H165,0)","v":1.7832530972405516E-6},{"$f":"POISSON(F172,H164,0)*POISSON(L167,H165,0)","v":1.6211391793095931E-7},{"$f":"POISSON(F172,H164,0)*POISSON(M167,H165,0)","v":1.2281357419012062E-8},{"$f":"POISSON(F172,H164,0)*POISSON(N167,H165,0)","v":7.9749074149429112E-10},{"$f":"POISSON(F172,H164,0)*POISSON(O167,H165,0)","v":4.5311973948539089E-11},{"$f":"POISSON(F172,H164,0)*POISSON(P167,H165,0)","v":2.2884835327545024E-12}]
[null,null,null,null,null,5,{"$f":"POISSON(F173,H164,0)*POISSON(G167,H165,0)","v":1.0025705701132388E-4},{"$f":"POISSON(F173,H164,0)*POISSON(H167,H165,0)","v":4.5571389550601765E-5},{"$f":"POISSON(F173,H164,0)*POISSON(I167,H165,0)","v":1.0357133988773128E-5},{"$f":"POISSON(F173,H164,0)*POISSON(J167,H165,0)","v":1.5692627255716862E-6},{"$f":"POISSON(F173,H164,0)*POISSON(K167,H165,0)","v":1.7832530972405521E-7},{"$f":"POISSON(F173,H164,0)*POISSON(L167,H165,0)","v":1.6211391793095935E-8},{"$f":"POISSON(F173,H164,0)*POISSON(M167,H165,0)","v":1.2281357419012065E-9},{"$f":"POISSON(F173,H164,0)*POISSON(N167,H165,0)","v":7.9749074149429135E-11},{"$f":"POISSON(F173,H164,0)*POISSON(O167,H165,0)","v":4.5311973948539099E-12},{"$f":"POISSON(F173,H164,0)*POISSON(P167,H165,0)","v":2.2884835327545028E-13}]
[null,null,null,null,null,6,{"$f":"POISSON(F174,H164,0)*POISSON(G167,H165,0)","v":8.3547547509436553E-6},{"$f":"POISSON(F174,H164,0)*POISSON(H167,H165,0)","v":3.79761579588348E-6},{"$f":"POISSON(F174,H164,0)*POISSON(I167,H165,0)","v":8.6309449906442723E-7},{"$f":"POISSON(F174,H164,0)*POISSON(J167,H165,0)","v":1.3077189379764051E-7},{"$f":"POISSON(F174,H164,0)*POISSON(K167,H165,0)","v":1.48604424770046E-8},{"$f":"POISSON(F174,H164,0)*POISSON(L167,H165,0)","v":1.3509493160913278E-9},{"$f":"POISSON(F174,H164,0)*POISSON(M167,H165,0)","v":1.0234464515843388E-10},{"$f":"POISSON(F174,H164,0)*POISSON(N167,H165,0)","v":6.6457561791190932E-12},{"$f":"POISSON(F174,H164,0)*POISSON(O167,H165,0)","v":3.7759978290449249E-13},{"$f":"POISSON(F174,H164,0)*POISSON(P167,H165,0)","v":1.9070696106287523E-14}]
["ТБ 0.5",{"$f":"SUM(G168:P177)-G168","v":0.61501290083686388},{"$f":"1/B175","v":1.6259821519829492},null,null,7,{"$f":"POISSON(F175,H164,0)*POISSON(G167,H165,0)","v":5.9676819649597631E-7},{"$f":"POISSON(F175,H164,0)*POISSON(H167,H165,0)","v":2.712582711345347E-7},{"$f":"POISSON(F175,H164,0)*POISSON(I167,H165,0)","v":6.1649607076030607E-8},{"$f":"POISSON(F175,H164,0)*POISSON(J167,H165,0)","v":9.3408495569743352E-9},{"$f":"POISSON(F175,H164,0)*POISSON(K167,H165,0)","v":1.0614601769289017E-9},{"$f":"POISSON(F175,H164,0)*POISSON(L167,H165,0)","v":9.649637972080927E-11},{"$f":"POISSON(F175,H164,0)*POISSON(M167,H165,0)","v":7.3103317970310026E-12},{"$f":"POISSON(F175,H164,0)*POISSON(N167,H165,0)","v":4.746968699370788E-13},{"$f":"POISSON(F175,H164,0)*POISSON(O167,H165,0)","v":2.6971413064606647E-14},{"$f":"POISSON(F175,H164,0)*POISSON(P167,H165,0)","v":1.3621925790205393E-15}]
["ТБ 1.5",{"$f":"SUM(G170:G177,H169:H177,I168:I177,J168:P177)","v":0.24752521550081136},4.0399924426960938,null,null,8,{"$f":"POISSON(F176,H164,0)*POISSON(G167,H165,0)","v":3.7298012280998381E-8},{"$f":"POISSON(F176,H164,0)*POISSON(H167,H165,0)","v":1.6953641945908353E-8},{"$f":"POISSON(F176,H164,0)*POISSON(I167,H165,0)","v":3.8531004422518981E-9},{"$f":"POISSON(F176,H164,0)*POISSON(J167,H165,0)","v":5.8380309731089378E-10},{"$f":"POISSON(F176,H164,0)*POISSON(K167,H165,0)","v":6.6341261058056096E-11},{"$f":"POISSON(F176,H164,0)*POISSON(L167,H165,0)","v":6.0310237325505567E-12},{"$f":"POISSON(F176,H164,0)*POISSON(M167,H165,0)","v":4.5689573731443585E-13},{"$f":"POISSON(F176,H164,0)*POISSON(N167,H165,0)","v":2.9668554371067311E-14},{"$f":"POISSON(F176,H164,0)*POISSON(O167,H165,0)","v":1.6857133165379089E-15},{"$f":"POISSON(F176,H164,0)*POISSON(P167,H165,0)","v":8.5137036188783388E-17}]
["ТБ 2.5",{"$f":"SUM(G171:G177,H170:H177,I169:I177,J168:P177)","v":7.2133365681331788E-2},13.863210049254659,null,null,9,{"$f":"POISSON(F177,H164,0)*POISSON(G167,H165,0)","v":2.0721117933888011E-9},{"$f":"POISSON(F177,H164,0)*POISSON(H167,H165,0)","v":9.4186899699490936E-10},{"$f":"POISSON(F177,H164,0)*POISSON(I167,H165,0)","v":2.1406113568066123E-10},{"$f":"POISSON(F177,H164,0)*POISSON(J167,H165,0)","v":3.2433505406160795E-11},{"$f":"POISSON(F177,H164,0)*POISSON(K167,H165,0)","v":3.6856256143364535E-12},{"$f":"POISSON(F177,H164,0)*POISSON(L167,H165,0)","v":3.3505687403058678E-13},{"$f":"POISSON(F177,H164,0)*POISSON(M167,H165,0)","v":2.5383096517468687E-14},{"$f":"POISSON(F177,H164,0)*POISSON(N167,H165,0)","v":1.6482530206148523E-15},{"$f":"POISSON(F177,H164,0)*POISSON(O167,H165,0)","v":9.3650739807661702E-17},{"$f":"POISSON(F177,H164,0)*POISSON(P167,H165,0)","v":4.7298353438213038E-18}]
["ТБ 3.5",{"$f":"SUM(G172:G177,H171:H177,I170:I177,J169:J177,K168:P177)","v":1.6326868011497353E-2},61.248734251774543]
["ТБ 4.5",{"$f":"SUM(G173:G177,H172:H177,I171:I177,J170:J177,K169:K177,L168:P177)","v":3.0094083402868563E-3},332.29123034352995]
["ТБ 5.5",{"$f":"SUM(G174:G177,H173:H177,I172:I177,J171:J177,K170:K177,L169:L177,M168:P177)","v":4.6698422123758173E-4},2141.3999756776416]
[]
["ТМ 0.5",{"$f":"1-B175","v":0.38498709916313612},{"$f":"1/B182","v":2.5974896358183046},null,"ОЗ",{"$f":"SUM(H169:P177)","v":0.14372002018109464},{"$f":"1/F182","v":6.9579728609831006}]
["ТМ 1.5",0.75247478449918859,1.3289481861715173,null,"НЕ ОЗ",{"$f":"1-F182","v":0.85627997981890536},{"$f":"1/F183","v":1.1678423221006404}]
["ТМ 2.5",0.92786663431866823,1.077741092322281]
["ТМ 3.5",0.98367313198850259,1.0165978590657372,null,"P",{"$f":"SUM(G168,G170,G172,G174,G176,H169,H171,H173,H175,H177,I168,I170,I172,I174,I176,J169,J171,J173,J175,J177,K168,K170,K172,K174,K176,L169,L171,L173,L175,L177)+SUM(M168,M170,M172,M174,M176,N169,N171,N173,N175,N177,O168,O170,O172,O174,O176,P169,P171,P173,P175,P177)","v":0.5741075330058556},{"$f":"1/F185","v":1.7418339640385812}]
["ТМ 4.5",0.99699059165971315,1.0030184922159366,null,"D",{"$f":"1-F185","v":0.4258924669941444},{"$f":"1/F186","v":2.3480105366919979}]
["ТМ 5.5",0.99953301577876241,1.0004672023973853]
[]
["Атака"]
[null,null,"Команда","Забито","Порожения","Игры",null,"Средний"]
[null,"Дом",{"$f":"C164","v":"Cardiff U23"},{"$f":"C4","v":31},{"$f":"AH43","v":0},{"$f":"B4","v":11},null,{"$f":"(D191+E192)/(F192+F191)","v":1.4090909090909092}]
[null,"Гости",{"$f":"C165","v":"Sheffield Utd U23"},{"$f":"C11","v":22},{"$f":"AH45","v":0},{"$f":"B11","v":11},null,{"$f":"(D192+E191)/(F191+F192)","v":1}]
[]
[null,null,null,null,null,null,0,1,2,3,4,5,6,7,8,9]
[null,null,null,null,null,0,{"$f":"POISSON(F195,H191,0)*POISSON(G194,H192,0)","v":8.9896981965047834E-2},{"$f":"POISSON(F195,H191,0)*POISSON(H194,H192,0)","v":8.9896981965047834E-2},{"$f":"POISSON(F195,H191,0)*POISSON(I194,H192,0)","v":4.494849098252391E-2},{"$f":"POISSON(F195,H191,0)*POISSON(J194,H192,0)","v":1.4982830327507973E-2},{"$f":"POISSON(F195,H191,0)*POISSON(K194,H192,0)","v":3.7457075818769924E-3},{"$f":"POISSON(F195,H191,0)*POISSON(L194,H192,0)","v":7.4914151637539875E-4},{"$f":"POISSON(F195,H191,0)*POISSON(M194,H192,0)","v":1.2485691939589973E-4},{"$f":"POISSON(F195,H191,0)*POISSON(N194,H192,0)","v":1.7836702770842849E-5},{"$f":"POISSON(F195,H191,0)*POISSON(O194,H192,0)","v":2.2295878463553476E-6},{"$f":"POISSON(F195,H191,0)*POISSON(P194,H192,0)","v":2.4773198292837225E-7}]
[{"$f":"\"1\"","v":"1"},{"$f":"\"X\"","v":"X"},{"$f":"\"2\"","v":"2"},null,null,1,{"$f":"POISSON(F196,H191,0)*POISSON(G194,H192,0)","v":0.12667302004165831},{"$f":"POISSON(F196,H191,0)*POISSON(H194,H192,0)","v":0.12667302004165831},{"$f":"POISSON(F196,H191,0)*POISSON(I194,H192,0)","v":6.3336510020829143E-2},{"$f":"POISSON(F196,H191,0)*POISSON(J194,H192,0)","v":2.1112170006943053E-2},{"$f":"POISSON(F196,H191,0)*POISSON(K194,H192,0)","v":5.2780425017357625E-3},{"$f":"POISSON(F196,H191,0)*POISSON(L194,H192,0)","v":1.0556085003471528E-3},{"$f":"POISSON(F196,H191,0)*POISSON(M194,H192,0)","v":1.7593475005785872E-4},{"$f":"POISSON(F196,H191,0)*POISSON(N194,H192,0)","v":2.5133535722551289E-5},{"$f":"POISSON(F196,H191,0)*POISSON(O194,H192,0)","v":3.1416919653188989E-6},{"$f":"POISSON(F196,H191,0)*POISSON(P194,H192,0)","v":3.4907688503543359E-7}]
[{"$f":"SUM(G196:G204,H197:H204,I198:I204,J199:J204,K200:K204,L201:L204,M202:M204,N203:N204,O204)","v":0.46391253456746484},{"$f":"SUM(G195,H196,I197,J198,K199,L200,M201,N202,O203,P204)","v":0.26883131758477052},{"$f":"1-B197-A197","v":0.26725614784776464},null,null,2,{"$f":"POISSON(F197,H191,0)*POISSON(G194,H192,0)","v":8.924690048389565E-2},{"$f":"POISSON(F197,H191,0)*POISSON(H194,H192,0)","v":8.924690048389565E-2},{"$f":"POISSON(F197,H191,0)*POISSON(I194,H192,0)","v":4.4623450241947818E-2},{"$f":"POISSON(F197,H191,0)*POISSON(J194,H192,0)","v":1.4874483413982608E-2},{"$f":"POISSON(F197,H191,0)*POISSON(K194,H192,0)","v":3.7186208534956511E-3},{"$f":"POISSON(F197,H191,0)*POISSON(L194,H192,0)","v":7.4372417069913047E-4},{"$f":"POISSON(F197,H191,0)*POISSON(M194,H192,0)","v":1.2395402844985503E-4},{"$f":"POISSON(F197,H191,0)*POISSON(N194,H192,0)","v":1.7707718349979319E-5},{"$f":"POISSON(F197,H191,0)*POISSON(O194,H192,0)","v":2.2134647937474064E-6},{"$f":"POISSON(F197,H191,0)*POISSON(P194,H192,0)","v":2.4594053263860097E-7}]
[{"$f":"1/A197","v":2.1555787470419689},{"$f":"1/B197","v":3.7198047049881762},{"$f":"1/C197","v":3.7417287050385215},null,null,3,{"$f":"POISSON(F198,H191,0)*POISSON(G194,H192,0)","v":4.191899871213281E-2},{"$f":"POISSON(F198,H191,0)*POISSON(H194,H192,0)","v":4.191899871213281E-2},{"$f":"POISSON(F198,H191,0)*POISSON(I194,H192,0)","v":2.0959499356066402E-2},{"$f":"POISSON(F198,H191,0)*POISSON(J194,H192,0)","v":6.9864997853554683E-3},{"$f":"POISSON(F198,H191,0)*POISSON(K194,H192,0)","v":1.7466249463388667E-3},{"$f":"POISSON(F198,H191,0)*POISSON(L194,H192,0)","v":3.4932498926777347E-4},{"$f":"POISSON(F198,H191,0)*POISSON(M194,H192,0)","v":5.8220831544628885E-5},{"$f":"POISSON(F198,H191,0)*POISSON(N194,H192,0)","v":8.3172616492327114E-6},{"$f":"POISSON(F198,H191,0)*POISSON(O194,H192,0)","v":1.0396577061540849E-6},{"$f":"POISSON(F198,H191,0)*POISSON(P194,H192,0)","v":1.1551752290600958E-7}]
[null,null,null,null,null,4,{"$f":"POISSON(F199,H191,0)*POISSON(G194,H192,0)","v":1.4766920000864971E-2},{"$f":"POISSON(F199,H191,0)*POISSON(H194,H192,0)","v":1.4766920000864971E-2},{"$f":"POISSON(F199,H191,0)*POISSON(I194,H192,0)","v":7.3834600004324845E-3},{"$f":"POISSON(F199,H191,0)*POISSON(J194,H192,0)","v":2.4611533334774954E-3},{"$f":"POISSON(F199,H191,0)*POISSON(K194,H192,0)","v":6.1528833336937363E-4},{"$f":"POISSON(F199,H191,0)*POISSON(L194,H192,0)","v":1.2305766667387478E-4},{"$f":"POISSON(F199,H191,0)*POISSON(M194,H192,0)","v":2.0509611112312453E-5},{"$f":"POISSON(F199,H191,0)*POISSON(N194,H192,0)","v":2.9299444446160699E-6},{"$f":"POISSON(F199,H191,0)*POISSON(O194,H192,0)","v":3.6624305557700731E-7},{"$f":"POISSON(F199,H191,0)*POISSON(P194,H192,0)","v":4.0693672841889745E-8}]
[null,null,null,null,null,5,{"$f":"POISSON(F200,H191,0)*POISSON(G194,H192,0)","v":4.1615865456983035E-3},{"$f":"POISSON(F200,H191,0)*POISSON(H194,H192,0)","v":4.1615865456983035E-3},{"$f":"POISSON(F200,H191,0)*POISSON(I194,H192,0)","v":2.0807932728491513E-3},{"$f":"POISSON(F200,H191,0)*POISSON(J194,H192,0)","v":6.9359775761638402E-4},{"$f":"POISSON(F200,H191,0)*POISSON(K194,H192,0)","v":1.7339943940409595E-4},{"$f":"POISSON(F200,H191,0)*POISSON(L194,H192,0)","v":3.4679887880819205E-5},{"$f":"POISSON(F200,H191,0)*POISSON(M194,H192,0)","v":5.7799813134698644E-6},{"$f":"POISSON(F200,H191,0)*POISSON(N194,H192,0)","v":8.257116162099821E-7},{"$f":"POISSON(F200,H191,0)*POISSON(O194,H192,0)","v":1.0321395202624735E-7},{"$f":"POISSON(F200,H191,0)*POISSON(P194,H192,0)","v":1.1468216891805276E-8}]
[null,null,null,null,null,6,{"$f":"POISSON(F201,H191,0)*POISSON(G194,H192,0)","v":9.7734229482308692E-4},{"$f":"POISSON(F201,H191,0)*POISSON(H194,H192,0)","v":9.7734229482308692E-4},{"$f":"POISSON(F201,H191,0)*POISSON(I194,H192,0)","v":4.8867114741154346E-4},{"$f":"POISSON(F201,H191,0)*POISSON(J194,H192,0)","v":1.628903824705145E-4},{"$f":"POISSON(F201,H191,0)*POISSON(K194,H192,0)","v":4.0722595617628617E-5},{"$f":"POISSON(F201,H191,0)*POISSON(L194,H192,0)","v":8.1445191235257268E-6},{"$f":"POISSON(F201,H191,0)*POISSON(M194,H192,0)","v":1.3574198539209538E-6},{"$f":"POISSON(F201,H191,0)*POISSON(N194,H192,0)","v":1.9391712198870801E-7},{"$f":"POISSON(F201,H191,0)*POISSON(O194,H192,0)","v":2.4239640248588409E-8},{"$f":"POISSON(F201,H191,0)*POISSON(P194,H192,0)","v":2.6932933609542707E-9}]
["ТБ 0.5",{"$f":"SUM(G195:P204)-G195","v":0.91010052728250612},{"$f":"1/B202","v":1.0987797172098419},null,null,7,{"$f":"POISSON(F202,H191,0)*POISSON(G194,H192,0)","v":1.967377346721797E-4},{"$f":"POISSON(F202,H191,0)*POISSON(H194,H192,0)","v":1.967377346721797E-4},{"$f":"POISSON(F202,H191,0)*POISSON(I194,H192,0)","v":9.8368867336089835E-5},{"$f":"POISSON(F202,H191,0)*POISSON(J194,H192,0)","v":3.2789622445363285E-5},{"$f":"POISSON(F202,H191,0)*POISSON(K194,H192,0)","v":8.1974056113408196E-6},{"$f":"POISSON(F202,H191,0)*POISSON(L194,H192,0)","v":1.6394811222681643E-6},{"$f":"POISSON(F202,H191,0)*POISSON(M194,H192,0)","v":2.7324685371136062E-7},{"$f":"POISSON(F202,H191,0)*POISSON(N194,H192,0)","v":3.9035264815908725E-8},{"$f":"POISSON(F202,H191,0)*POISSON(O194,H192,0)","v":4.8794081019885716E-9},{"$f":"POISSON(F202,H191,0)*POISSON(P194,H192,0)","v":5.4215645577650861E-10}]
["ТБ 1.5",{"$f":"SUM(G197:G204,H196:H204,I195:I204,J195:P204)","v":0.69353052527580006},1.4418976001125898,null,null,8,{"$f":"POISSON(F203,H191,0)*POISSON(G194,H192,0)","v":3.4652669175213579E-5},{"$f":"POISSON(F203,H191,0)*POISSON(H194,H192,0)","v":3.4652669175213579E-5},{"$f":"POISSON(F203,H191,0)*POISSON(I194,H192,0)","v":1.7326334587606786E-5},{"$f":"POISSON(F203,H191,0)*POISSON(J194,H192,0)","v":5.7754448625355968E-6},{"$f":"POISSON(F203,H191,0)*POISSON(K194,H192,0)","v":1.4438612156338988E-6},{"$f":"POISSON(F203,H191,0)*POISSON(L194,H192,0)","v":2.8877224312677986E-7},{"$f":"POISSON(F203,H191,0)*POISSON(M194,H192,0)","v":4.8128707187796624E-8},{"$f":"POISSON(F203,H191,0)*POISSON(N194,H192,0)","v":6.8755295982566718E-9},{"$f":"POISSON(F203,H191,0)*POISSON(O194,H192,0)","v":8.5944119978208067E-10},{"$f":"POISSON(F203,H191,0)*POISSON(P194,H192,0)","v":9.5493466642453522E-11}]
["ТБ 2.5",{"$f":"SUM(G198:G204,H197:H204,I196:I204,J195:P204)","v":0.43266211376772162},2.3112723951994987,null,null,9,{"$f":"POISSON(F204,H191,0)*POISSON(G194,H192,0)","v":5.4254179011697888E-6},{"$f":"POISSON(F204,H191,0)*POISSON(H194,H192,0)","v":5.4254179011697888E-6},{"$f":"POISSON(F204,H191,0)*POISSON(I194,H192,0)","v":2.7127089505848944E-6},{"$f":"POISSON(F204,H191,0)*POISSON(J194,H192,0)","v":9.0423631686163154E-7},{"$f":"POISSON(F204,H191,0)*POISSON(K194,H192,0)","v":2.2605907921540783E-7},{"$f":"POISSON(F204,H191,0)*POISSON(L194,H192,0)","v":4.5211815843081584E-8},{"$f":"POISSON(F204,H191,0)*POISSON(M194,H192,0)","v":7.535302640513594E-9},{"$f":"POISSON(F204,H191,0)*POISSON(N194,H192,0)","v":1.0764718057876581E-9},{"$f":"POISSON(F204,H191,0)*POISSON(O194,H192,0)","v":1.3455897572345675E-10},{"$f":"POISSON(F204,H191,0)*POISSON(P194,H192,0)","v":1.4950997302606321E-11}]
["ТБ 3.5",{"$f":"SUM(G199:G204,H198:H204,I197:I204,J196:J204,K195:P204)","v":0.22317687422335647},4.4807509894559923]
["ТБ 4.5",{"$f":"SUM(G200:G204,H199:H204,I198:I204,J197:J204,K196:K204,L195:P204)","v":9.7009627679590857E-2},10.308255210532909]
["ТБ 5.5",{"$f":"SUM(G201:G204,H200:H204,I199:I204,J198:J204,K197:K204,L196:L204,M195:P204)","v":3.6219954344867362E-2},27.609090571416125]
[]
["ТМ 0.5",{"$f":"1-B202","v":8.9899472717493878E-2},{"$f":"1/B209","v":11.123535764692047},null,"ОЗ",{"$f":"SUM(H196:P204)","v":0.47765062006635611},{"$f":"1/F209","v":2.0935804497879187}]
["ТМ 1.5",0.30646947472419994,3.2629677095897613,null,"НЕ ОЗ",{"$f":"1-F209","v":0.52234937993364383},{"$f":"1/F210","v":1.9144274663962155}]
["ТМ 2.5",0.56733788623227843,1.7626180522528718]
["ТМ 3.5",0.77682312577664359,1.287294323273694,null,"P",{"$f":"SUM(G195,G197,G199,G201,G203,H196,H198,H200,H202,H204,I195,I197,I199,I201,I203,J196,J198,J200,J202,J204,K195,K197,K199,K201,K203,L196,L198,L200,L202,L204)+SUM(M195,M197,M199,M201,M203,N196,N198,N200,N202,N204,O195,O197,O199,O201,O203,P196,P198,P200,P202,P204)","v":0.5040393610202123},{"$f":"1/F212","v":1.9839720413420241}]
["ТМ 4.5",0.90299037232040913,1.1074315193752351,null,"D",{"$f":"1-F212","v":0.4959606389797877},{"$f":"1/F213","v":2.0162890386967862}]
["ТМ 5.5",0.96378004565513264,1.0375811415770149]
[]
["Защита"]
[null,null,"Команда","Забито","Пропущенно","Игры",null,"Средний"]
[null,"Дом",{"$f":"C191","v":"Cardiff U23"},{"$f":"D37","v":0},{"$f":"D4","v":12},{"$f":"B4","v":11},null,{"$f":"(D218+E219)/(F219+F218)","v":0.45454545454545453}]
[null,"Гости",{"$f":"C192","v":"Sheffield Utd U23"},{"$f":"D44","v":0},{"$f":"D11","v":10},{"$f":"B11","v":11},null,{"$f":"(D219+E218)/(F218+F219)","v":0.54545454545454541}]
[]
[null,null,null,null,null,null,0,1,2,3,4,5,6,7,8,9]
[null,null,null,null,null,0,{"$f":"POISSON(F222,H218,0)*POISSON(G221,H219,0)","v":0.36787944117144233},{"$f":"POISSON(F222,H218,0)*POISSON(H221,H219,0)","v":0.20066151336624125},{"$f":"POISSON(F222,H218,0)*POISSON(I221,H219,0)","v":5.4725867281702159E-2},{"$f":"POISSON(F222,H218,0)*POISSON(J221,H219,0)","v":9.9501576875822111E-3},{"$f":"POISSON(F222,H218,0)*POISSON(K221,H219,0)","v":1.3568396846703012E-3},{"$f":"POISSON(F222,H218,0)*POISSON(L221,H219,0)","v":1.4801887469130561E-4},{"$f":"POISSON(F222,H218,0)*POISSON(M221,H219,0)","v":1.3456261335573236E-5},{"$f":"POISSON(F222,H218,0)*POISSON(N221,H219,0)","v":1.048539844330383E-6},{"$f":"POISSON(F222,H218,0)*POISSON(O221,H219,0)","v":7.149135302252586E-8},{"$f":"POISSON(F222,H218,0)*POISSON(P221,H219,0)","v":4.3328092740924826E-9}]
[{"$f":"\"1\"","v":"1"},{"$f":"\"X\"","v":"X"},{"$f":"\"2\"","v":"2"},null,null,1,{"$f":"POISSON(F223,H218,0)*POISSON(G221,H219,0)","v":0.16721792780520106},{"$f":"POISSON(F223,H218,0)*POISSON(H221,H219,0)","v":9.1209778802836913E-2},{"$f":"POISSON(F223,H218,0)*POISSON(I221,H219,0)","v":2.4875394218955526E-2},{"$f":"POISSON(F223,H218,0)*POISSON(J221,H219,0)","v":4.5227989489010053E-3},{"$f":"POISSON(F223,H218,0)*POISSON(K221,H219,0)","v":6.1674531121377332E-4},{"$f":"POISSON(F223,H218,0)*POISSON(L221,H219,0)","v":6.7281306677866175E-5},{"$f":"POISSON(F223,H218,0)*POISSON(M221,H219,0)","v":6.1164824252605608E-6},{"$f":"POISSON(F223,H218,0)*POISSON(N221,H219,0)","v":4.7660902015017409E-7},{"$f":"POISSON(F223,H218,0)*POISSON(O221,H219,0)","v":3.249606955569357E-8},{"$f":"POISSON(F223,H218,0)*POISSON(P221,H219,0)","v":1.9694587609511285E-9}]
[{"$f":"SUM(G223:G231,H224:H231,I225:I231,J226:J231,K227:K231,L228:L231,M229:M231,N230:N231,O231)","v":0.23694432461463599},{"$f":"SUM(G222,H223,I224,J225,K226,L227,M228,N229,O230,P231)","v":0.46490089991072825},{"$f":"1-B224-A224","v":0.29815477547463576},null,null,2,{"$f":"POISSON(F224,H218,0)*POISSON(G221,H219,0)","v":3.8004074501182053E-2},{"$f":"POISSON(F224,H218,0)*POISSON(H221,H219,0)","v":2.0729495182462934E-2},{"$f":"POISSON(F224,H218,0)*POISSON(I221,H219,0)","v":5.6534986861262555E-3},{"$f":"POISSON(F224,H218,0)*POISSON(J221,H219,0)","v":1.0279088520229556E-3},{"$f":"POISSON(F224,H218,0)*POISSON(K221,H219,0)","v":1.4016938891222119E-4},{"$f":"POISSON(F224,H218,0)*POISSON(L221,H219,0)","v":1.5291206063151402E-5},{"$f":"POISSON(F224,H218,0)*POISSON(M221,H219,0)","v":1.390109642104673E-6},{"$f":"POISSON(F224,H218,0)*POISSON(N221,H219,0)","v":1.0832023185231229E-7},{"$f":"POISSON(F224,H218,0)*POISSON(O221,H219,0)","v":7.3854703535667207E-9},{"$f":"POISSON(F224,H218,0)*POISSON(P221,H219,0)","v":4.4760426385252917E-10}]
[{"$f":"1/A224","v":4.2204007275818505},{"$f":"1/B224","v":2.1509960513993911},{"$f":"1/C224","v":3.3539627141912765},null,null,3,{"$f":"POISSON(F225,H218,0)*POISSON(G221,H219,0)","v":5.7581931062397054E-3},{"$f":"POISSON(F225,H218,0)*POISSON(H221,H219,0)","v":3.1408326034034753E-3},{"$f":"POISSON(F225,H218,0)*POISSON(I221,H219,0)","v":8.5659071001912971E-4},{"$f":"POISSON(F225,H218,0)*POISSON(J221,H219,0)","v":1.5574376545802359E-4},{"$f":"POISSON(F225,H218,0)*POISSON(K221,H219,0)","v":2.1237786198821394E-5},{"$f":"POISSON(F225,H218,0)*POISSON(L221,H219,0)","v":2.3168494035077888E-6},{"$f":"POISSON(F225,H218,0)*POISSON(M221,H219,0)","v":2.1062267304616258E-7},{"$f":"POISSON(F225,H218,0)*POISSON(N221,H219,0)","v":1.6412156341259438E-8},{"$f":"POISSON(F225,H218,0)*POISSON(O221,H219,0)","v":1.1190106596313214E-9},{"$f":"POISSON(F225,H218,0)*POISSON(P221,H219,0)","v":6.7818827856443813E-11}]
[null,null,null,null,null,4,{"$f":"POISSON(F226,H218,0)*POISSON(G221,H219,0)","v":6.5434012570905742E-4},{"$f":"POISSON(F226,H218,0)*POISSON(H221,H219,0)","v":3.5691279584130396E-4},{"$f":"POISSON(F226,H218,0)*POISSON(I221,H219,0)","v":9.7339853411264722E-5},{"$f":"POISSON(F226,H218,0)*POISSON(J221,H219,0)","v":1.7698155165684496E-5},{"$f":"POISSON(F226,H218,0)*POISSON(K221,H219,0)","v":2.4133847953206126E-6},{"$f":"POISSON(F226,H218,0)*POISSON(L221,H219,0)","v":2.6327834130770322E-7},{"$f":"POISSON(F226,H218,0)*POISSON(M221,H219,0)","v":2.3934394664336653E-8},{"$f":"POISSON(F226,H218,0)*POISSON(N221,H219,0)","v":1.8650177660522086E-9},{"$f":"POISSON(F226,H218,0)*POISSON(O221,H219,0)","v":1.2716030223083197E-10},{"$f":"POISSON(F226,H218,0)*POISSON(P221,H219,0)","v":7.7066849836867956E-12}]
[null,null,null,null,null,5,{"$f":"POISSON(F227,H218,0)*POISSON(G221,H219,0)","v":5.948546597355069E-5},{"$f":"POISSON(F227,H218,0)*POISSON(H221,H219,0)","v":3.2446617803754919E-5},{"$f":"POISSON(F227,H218,0)*POISSON(I221,H219,0)","v":8.8490775828422513E-6},{"$f":"POISSON(F227,H218,0)*POISSON(J221,H219,0)","v":1.6089231968804093E-6},{"$f":"POISSON(F227,H218,0)*POISSON(K221,H219,0)","v":2.1939861775641943E-7},{"$f":"POISSON(F227,H218,0)*POISSON(L221,H219,0)","v":2.3934394664336663E-8},{"$f":"POISSON(F227,H218,0)*POISSON(M221,H219,0)","v":2.1758540603942421E-9},{"$f":"POISSON(F227,H218,0)*POISSON(N221,H219,0)","v":1.6954706964110996E-10},{"$f":"POISSON(F227,H218,0)*POISSON(O221,H219,0)","v":1.1560027475530183E-11},{"$f":"POISSON(F227,H218,0)*POISSON(P221,H219,0)","v":7.0060772578970907E-13}]
[null,null,null,null,null,6,{"$f":"POISSON(F228,H218,0)*POISSON(G221,H219,0)","v":4.5064746949659596E-6},{"$f":"POISSON(F228,H218,0)*POISSON(H221,H219,0)","v":2.4580771063450685E-6},{"$f":"POISSON(F228,H218,0)*POISSON(I221,H219,0)","v":6.7038466536683687E-7},{"$f":"POISSON(F228,H218,0)*POISSON(J221,H219,0)","v":1.2188812097578852E-7},{"$f":"POISSON(F228,H218,0)*POISSON(K221,H219,0)","v":1.6621107405789343E-8},{"$f":"POISSON(F228,H218,0)*POISSON(L221,H219,0)","v":1.8132117169952011E-9},{"$f":"POISSON(F228,H218,0)*POISSON(M221,H219,0)","v":1.6483742881774554E-10},{"$f":"POISSON(F228,H218,0)*POISSON(N221,H219,0)","v":1.2844474972811353E-11},{"$f":"POISSON(F228,H218,0)*POISSON(O221,H219,0)","v":8.7575965723713464E-13},{"$f":"POISSON(F228,H218,0)*POISSON(P221,H219,0)","v":5.3076342862856716E-14}]
["ТБ 0.5",{"$f":"SUM(G222:P231)-G222","v":0.6321205583681978},{"$f":"1/B229","v":1.5819767080214462},null,null,7,{"$f":"POISSON(F229,H218,0)*POISSON(G221,H219,0)","v":2.92628226945842E-7},{"$f":"POISSON(F229,H218,0)*POISSON(H221,H219,0)","v":1.5961539651591379E-7},{"$f":"POISSON(F229,H218,0)*POISSON(I221,H219,0)","v":4.35314717770674E-8},{"$f":"POISSON(F229,H218,0)*POISSON(J221,H219,0)","v":7.9148130503758916E-9},{"$f":"POISSON(F229,H218,0)*POISSON(K221,H219,0)","v":1.0792926886876214E-9},{"$f":"POISSON(F229,H218,0)*POISSON(L221,H219,0)","v":1.1774102058410415E-10},{"$f":"POISSON(F229,H218,0)*POISSON(M221,H219,0)","v":1.0703729144009468E-11},{"$f":"POISSON(F229,H218,0)*POISSON(N221,H219,0)","v":8.3405681641632302E-13},{"$f":"POISSON(F229,H218,0)*POISSON(O221,H219,0)","v":5.6867510210203646E-14},{"$f":"POISSON(F229,H218,0)*POISSON(P221,H219,0)","v":3.4465157703153769E-15}]
["ТБ 1.5",{"$f":"SUM(G224:G231,H223:H231,I222:I231,J222:P231)","v":0.26424111719675514},3.7844223889478767,null,null,8,{"$f":"POISSON(F230,H218,0)*POISSON(G221,H219,0)","v":1.6626603803740957E-8},{"$f":"POISSON(F230,H218,0)*POISSON(H221,H219,0)","v":9.0690566202223391E-9},{"$f":"POISSON(F230,H218,0)*POISSON(I221,H219,0)","v":2.4733790782424563E-9},{"$f":"POISSON(F230,H218,0)*POISSON(J221,H219,0)","v":4.4970528695317389E-10},{"$f":"POISSON(F230,H218,0)*POISSON(K221,H219,0)","v":6.1323448220887339E-11},{"$f":"POISSON(F230,H218,0)*POISSON(L221,H219,0)","v":6.6898307150058916E-12},{"$f":"POISSON(F230,H218,0)*POISSON(M221,H219,0)","v":6.0816642863689917E-13},{"$f":"POISSON(F230,H218,0)*POISSON(N221,H219,0)","v":4.7389591841836347E-14},{"$f":"POISSON(F230,H218,0)*POISSON(O221,H219,0)","v":3.2311085346706486E-15},{"$f":"POISSON(F230,H218,0)*POISSON(P221,H219,0)","v":1.9582475967700928E-16}]
["ТБ 2.5",{"$f":"SUM(G225:G231,H224:H231,I223:I231,J222:P231)","v":8.030139661103429E-2},12.453083535319099,null,null,9,{"$f":"POISSON(F231,H218,0)*POISSON(G221,H219,0)","v":8.3972746483540298E-10},{"$f":"POISSON(F231,H218,0)*POISSON(H221,H219,0)","v":4.5803316263749246E-10},{"$f":"POISSON(F231,H218,0)*POISSON(I221,H219,0)","v":1.2491813526477067E-10},{"$f":"POISSON(F231,H218,0)*POISSON(J221,H219,0)","v":2.2712388229958304E-11},{"$f":"POISSON(F231,H218,0)*POISSON(K221,H219,0)","v":3.0971438495397686E-12},{"$f":"POISSON(F231,H218,0)*POISSON(L221,H219,0)","v":3.378702381316111E-13},{"$f":"POISSON(F231,H218,0)*POISSON(M221,H219,0)","v":3.0715476193782824E-14},{"$f":"POISSON(F231,H218,0)*POISSON(N221,H219,0)","v":2.393413729385677E-15},{"$f":"POISSON(F231,H218,0)*POISSON(O221,H219,0)","v":1.6318729973084104E-16},{"$f":"POISSON(F231,H218,0)*POISSON(P221,H219,0)","v":9.8901393776267436E-18}]
["ТБ 3.5",{"$f":"SUM(G226:G231,H225:H231,I224:I231,J223:J231,K222:P231)","v":1.8988156415793843E-2},52.664407123180567]
["ТБ 4.5",{"$f":"SUM(G227:G231,H226:H231,I225:I231,J224:J231,K223:K231,L222:P231)","v":3.6598463669837585E-3},273.23551311366776]
["ТБ 5.5",{"$f":"SUM(G228:G231,H227:H231,I226:I231,J225:J231,K224:K231,L223:L231,M222:P231)","v":5.941843572217397E-4},1682.9793444508616]
[]
["ТМ 0.5",{"$f":"1-B229","v":0.3678794416318022},{"$f":"1/B236","v":2.7182818250574203},null,"ОЗ",{"$f":"SUM(H223:P231)","v":0.15356474327440953},{"$f":"1/F236","v":6.511911384588255}]
["ТМ 1.5",0.73575888280324486,1.3591409133791157,null,"НЕ ОЗ",{"$f":"1-F236","v":0.8464352567255905},{"$f":"1/F237","v":1.1814252679743873}]
["ТМ 2.5",0.9196986033889657,1.087312730839358]
["ТМ 3.5",0.98101184358420612,1.0193556851937884,null,"P",{"$f":"SUM(G222,G224,G226,G228,G230,H223,H225,H227,H229,H231,I222,I224,I226,I228,I230,J223,J225,J227,J229,J231,K222,K224,K226,K228,K230,L223,L225,L227,L229,L231)+SUM(M222,M224,M226,M228,M230,N223,N225,N227,N229,N231,O222,O224,O226,O228,O230,P223,P225,P227,P229,P231)","v":0.56766764130605751},{"$f":"1/F239","v":1.7615941569247398}]
["ТМ 4.5",0.9963401536330162,1.0036732900442069,null,"D",{"$f":"1-F239","v":0.43233235869394249},{"$f":"1/F240","v":2.3130352838287589}]
["ТМ 5.5",0.99940581564277831,1.0005945376221765]
[]
["По очкам"]
[null,null,"Команда","Набранные",null,"Игры",null,"Средний"]
[null,"Дом",{"$f":"C218","v":"Cardiff U23"},{"$f":"E4","v":24},{"$f":"E37","v":0},{"$f":"B4","v":11},null,{"$f":"(D245+E246)/(F246+F245)","v":1.0909090909090908}]
[null,"Гости",{"$f":"C219","v":"Sheffield Utd U23"},{"$f":"E11","v":22},{"$f":"E44","v":0},{"$f":"B11","v":11},null,{"$f":"(D246+E245)/(F245+F246)","v":1}]
[]
[null,null,null,null,null,null,0,1,2,3,4,5,6,7,8,9]
[null,null,null,null,null,0,{"$f":"POISSON(F249,H245,0)*POISSON(G248,H246,0)","v":0.12357474406161392},{"$f":"POISSON(F249,H245,0)*POISSON(H248,H246,0)","v":0.12357474406161392},{"$f":"POISSON(F249,H245,0)*POISSON(I248,H246,0)","v":6.1787372030806947E-2},{"$f":"POISSON(F249,H245,0)*POISSON(J248,H246,0)","v":2.0595790676935653E-2},{"$f":"POISSON(F249,H245,0)*POISSON(K248,H246,0)","v":5.1489476692339123E-3},{"$f":"POISSON(F249,H245,0)*POISSON(L248,H246,0)","v":1.0297895338467829E-3},{"$f":"POISSON(F249,H245,0)*POISSON(M248,H246,0)","v":1.7163158897446373E-4},{"$f":"POISSON(F249,H245,0)*POISSON(N248,H246,0)","v":2.451879842492343E-5},{"$f":"POISSON(F249,H245,0)*POISSON(O248,H246,0)","v":3.0648498031154169E-6},{"$f":"POISSON(F249,H245,0)*POISSON(P248,H246,0)","v":3.4053886701282453E-7}]
[{"$f":"\"1\"","v":"1"},{"$f":"\"X\"","v":"X"},{"$f":"\"2\"","v":"2"},null,null,1,{"$f":"POISSON(F250,H245,0)*POISSON(G248,H246,0)","v":0.13480881170357881},{"$f":"POISSON(F250,H245,0)*POISSON(H248,H246,0)","v":0.13480881170357881},{"$f":"POISSON(F250,H245,0)*POISSON(I248,H246,0)","v":6.740440585178939E-2},{"$f":"POISSON(F250,H245,0)*POISSON(J248,H246,0)","v":2.24681352839298E-2},{"$f":"POISSON(F250,H245,0)*POISSON(K248,H246,0)","v":5.6170338209824491E-3},{"$f":"POISSON(F250,H245,0)*POISSON(L248,H246,0)","v":1.1234067641964901E-3},{"$f":"POISSON(F250,H245,0)*POISSON(M248,H246,0)","v":1.8723446069941497E-4},{"$f":"POISSON(F250,H245,0)*POISSON(N248,H246,0)","v":2.6747780099916467E-5},{"$f":"POISSON(F250,H245,0)*POISSON(O248,H246,0)","v":3.3434725124895453E-6},{"$f":"POISSON(F250,H245,0)*POISSON(P248,H246,0)","v":3.7149694583217212E-7}]
[{"$f":"SUM(G250:G258,H251:H258,I252:I258,J253:J258,K254:K258,L255:L258,M256:M258,N257:N258,O258)","v":0.37340315495701404},{"$f":"SUM(G249,H250,I251,J252,K253,L254,M255,N256,O257,P258)","v":0.29992360639472576},{"$f":"1-B251-A251","v":0.32667323864826026},null,null,2,{"$f":"POISSON(F251,H245,0)*POISSON(G248,H246,0)","v":7.3532079111042967E-2},{"$f":"POISSON(F251,H245,0)*POISSON(H248,H246,0)","v":7.3532079111042967E-2},{"$f":"POISSON(F251,H245,0)*POISSON(I248,H246,0)","v":3.6766039555521483E-2},{"$f":"POISSON(F251,H245,0)*POISSON(J248,H246,0)","v":1.2255346518507163E-2},{"$f":"POISSON(F251,H245,0)*POISSON(K248,H246,0)","v":3.0638366296267898E-3},{"$f":"POISSON(F251,H245,0)*POISSON(L248,H246,0)","v":6.1276732592535827E-4},{"$f":"POISSON(F251,H245,0)*POISSON(M248,H246,0)","v":1.0212788765422633E-4},{"$f":"POISSON(F251,H245,0)*POISSON(N248,H246,0)","v":1.4589698236318072E-5},{"$f":"POISSON(F251,H245,0)*POISSON(O248,H246,0)","v":1.8237122795397518E-6},{"$f":"POISSON(F251,H245,0)*POISSON(P248,H246,0)","v":2.0263469772663931E-7}]
[{"$f":"1/A251","v":2.6780705699048513},{"$f":"1/B251","v":3.3341823673722844},{"$f":"1/C251","v":3.0611629043685844},null,null,3,{"$f":"POISSON(F252,H245,0)*POISSON(G248,H246,0)","v":2.6738937858561084E-2},{"$f":"POISSON(F252,H245,0)*POISSON(H248,H246,0)","v":2.6738937858561084E-2},{"$f":"POISSON(F252,H245,0)*POISSON(I248,H246,0)","v":1.336946892928054E-2},{"$f":"POISSON(F252,H245,0)*POISSON(J248,H246,0)","v":4.4564896430935143E-3},{"$f":"POISSON(F252,H245,0)*POISSON(K248,H246,0)","v":1.1141224107733784E-3},{"$f":"POISSON(F252,H245,0)*POISSON(L248,H246,0)","v":2.2282448215467574E-4},{"$f":"POISSON(F252,H245,0)*POISSON(M248,H246,0)","v":3.7137413692445941E-5},{"$f":"POISSON(F252,H245,0)*POISSON(N248,H246,0)","v":5.3053448132065715E-6},{"$f":"POISSON(F252,H245,0)*POISSON(O248,H246,0)","v":6.631681016508189E-7},{"$f":"POISSON(F252,H245,0)*POISSON(P248,H246,0)","v":7.3685344627868855E-8}]
[null,null,null,null,null,4,{"$f":"POISSON(F253,H245,0)*POISSON(G248,H246,0)","v":7.2924375977893837E-3},{"$f":"POISSON(F253,H245,0)*POISSON(H248,H246,0)","v":7.2924375977893837E-3},{"$f":"POISSON(F253,H245,0)*POISSON(I248,H246,0)","v":3.6462187988946914E-3},{"$f":"POISSON(F253,H245,0)*POISSON(J248,H246,0)","v":1.2154062662982307E-3},{"$f":"POISSON(F253,H245,0)*POISSON(K248,H246,0)","v":3.0385156657455762E-4},{"$f":"POISSON(F253,H245,0)*POISSON(L248,H246,0)","v":6.0770313314911541E-5},{"$f":"POISSON(F253,H245,0)*POISSON(M248,H246,0)","v":1.0128385552485253E-5},{"$f":"POISSON(F253,H245,0)*POISSON(N248,H246,0)","v":1.4469122217836101E-6},{"$f":"POISSON(F253,H245,0)*POISSON(O248,H246,0)","v":1.8086402772295055E-7},{"$f":"POISSON(F253,H245,0)*POISSON(P248,H246,0)","v":2.0096003080327861E-8}]
[null,null,null,null,null,5,{"$f":"POISSON(F254,H245,0)*POISSON(G248,H246,0)","v":1.5910772940631386E-3},{"$f":"POISSON(F254,H245,0)*POISSON(H248,H246,0)","v":1.5910772940631386E-3},{"$f":"POISSON(F254,H245,0)*POISSON(I248,H246,0)","v":7.955386470315692E-4},{"$f":"POISSON(F254,H245,0)*POISSON(J248,H246,0)","v":2.6517954901052312E-4},{"$f":"POISSON(F254,H245,0)*POISSON(K248,H246,0)","v":6.6294887252630767E-5},{"$f":"POISSON(F254,H245,0)*POISSON(L248,H246,0)","v":1.3258977450526157E-5},{"$f":"POISSON(F254,H245,0)*POISSON(M248,H246,0)","v":2.2098295750876919E-6},{"$f":"POISSON(F254,H245,0)*POISSON(N248,H246,0)","v":3.1568993929824224E-7},{"$f":"POISSON(F254,H245,0)*POISSON(O248,H246,0)","v":3.9461242412280128E-8},{"$f":"POISSON(F254,H245,0)*POISSON(P248,H246,0)","v":4.3845824902533525E-9}]
[null,null,null,null,null,6,{"$f":"POISSON(F255,H245,0)*POISSON(G248,H246,0)","v":2.8928678073875233E-4},{"$f":"POISSON(F255,H245,0)*POISSON(H248,H246,0)","v":2.8928678073875233E-4},{"$f":"POISSON(F255,H245,0)*POISSON(I248,H246,0)","v":1.4464339036937616E-4},{"$f":"POISSON(F255,H245,0)*POISSON(J248,H246,0)","v":4.8214463456458726E-5},{"$f":"POISSON(F255,H245,0)*POISSON(K248,H246,0)","v":1.205361586411468E-5},{"$f":"POISSON(F255,H245,0)*POISSON(L248,H246,0)","v":2.4107231728229368E-6},{"$f":"POISSON(F255,H245,0)*POISSON(M248,H246,0)","v":4.0178719547048926E-7},{"$f":"POISSON(F255,H245,0)*POISSON(N248,H246,0)","v":5.7398170781498567E-8},{"$f":"POISSON(F255,H245,0)*POISSON(O248,H246,0)","v":7.1747713476872928E-9},{"$f":"POISSON(F255,H245,0)*POISSON(P248,H246,0)","v":7.971968164097001E-10}]
["ТБ 0.5",{"$f":"SUM(G249:P258)-G249","v":0.87642489944752067},{"$f":"1/B256","v":1.1409990754831114},null,null,7,{"$f":"POISSON(F256,H245,0)*POISSON(G248,H246,0)","v":4.5083654141104336E-5},{"$f":"POISSON(F256,H245,0)*POISSON(H248,H246,0)","v":4.5083654141104336E-5},{"$f":"POISSON(F256,H245,0)*POISSON(I248,H246,0)","v":2.2541827070552165E-5},{"$f":"POISSON(F256,H245,0)*POISSON(J248,H246,0)","v":7.5139423568507227E-6},{"$f":"POISSON(F256,H245,0)*POISSON(K248,H246,0)","v":1.8784855892126803E-6},{"$f":"POISSON(F256,H245,0)*POISSON(L248,H246,0)","v":3.7569711784253619E-7},{"$f":"POISSON(F256,H245,0)*POISSON(M248,H246,0)","v":6.2616186307089343E-8},{"$f":"POISSON(F256,H245,0)*POISSON(N248,H246,0)","v":8.9451694724413491E-9},{"$f":"POISSON(F256,H245,0)*POISSON(O248,H246,0)","v":1.1181461840551643E-9},{"$f":"POISSON(F256,H245,0)*POISSON(P248,H246,0)","v":1.2423846489501839E-10}]
["ТБ 1.5",{"$f":"SUM(G251:G258,H250:H258,I249:I258,J249:P258)","v":0.61804134368232766},1.6180147335159483,null,null,8,{"$f":"POISSON(F257,H245,0)*POISSON(G248,H246,0)","v":6.1477710192414762E-6},{"$f":"POISSON(F257,H245,0)*POISSON(H248,H246,0)","v":6.1477710192414762E-6},{"$f":"POISSON(F257,H245,0)*POISSON(I248,H246,0)","v":3.0738855096207377E-6},{"$f":"POISSON(F257,H245,0)*POISSON(J248,H246,0)","v":1.0246285032069126E-6},{"$f":"POISSON(F257,H245,0)*POISSON(K248,H246,0)","v":2.5615712580172811E-7},{"$f":"POISSON(F257,H245,0)*POISSON(L248,H246,0)","v":5.1231425160345644E-8},{"$f":"POISSON(F257,H245,0)*POISSON(M248,H246,0)","v":8.5385708600576039E-9},{"$f":"POISSON(F257,H245,0)*POISSON(N248,H246,0)","v":1.2197958371510884E-9},{"$f":"POISSON(F257,H245,0)*POISSON(O248,H246,0)","v":1.5247447964388545E-10},{"$f":"POISSON(F257,H245,0)*POISSON(P248,H246,0)","v":1.6941608849320624E-11}]
["ТБ 2.5",{"$f":"SUM(G252:G258,H251:H258,I250:I258,J249:P258)","v":0.34791308083689831},2.8742811210044734,null,null,9,{"$f":"POISSON(F258,H245,0)*POISSON(G248,H246,0)","v":7.4518436596866467E-7},{"$f":"POISSON(F258,H245,0)*POISSON(H248,H246,0)","v":7.4518436596866467E-7},{"$f":"POISSON(F258,H245,0)*POISSON(I248,H246,0)","v":3.7259218298433228E-7},{"$f":"POISSON(F258,H245,0)*POISSON(J248,H246,0)","v":1.2419739432811077E-7},{"$f":"POISSON(F258,H245,0)*POISSON(K248,H246,0)","v":3.1049348582027686E-8},{"$f":"POISSON(F258,H245,0)*POISSON(L248,H246,0)","v":6.2098697164055398E-9},{"$f":"POISSON(F258,H245,0)*POISSON(M248,H246,0)","v":1.0349782860675895E-9},{"$f":"POISSON(F258,H245,0)*POISSON(N248,H246,0)","v":1.4785404086679876E-10},{"$f":"POISSON(F258,H245,0)*POISSON(O248,H246,0)","v":1.8481755108349773E-11},{"$f":"POISSON(F258,H245,0)*POISSON(P248,H246,0)","v":2.0535283453721994E-12}]
["ТБ 3.5",{"$f":"SUM(G253:G258,H252:H258,I251:I258,J250:J258,K249:P258)","v":0.15964186733856936},6.2640209405668905]
["ТБ 4.5",{"$f":"SUM(G254:G258,H253:H258,I252:I258,J251:J258,K250:K258,L249:P258)","v":6.1227369373533715E-2},16.332565162145645]
["ТБ 5.5",{"$f":"SUM(G255:G258,H254:H258,I253:I258,J252:J258,K251:K258,L250:L258,M249:P258)","v":2.0072215679064254E-2},49.820110345018918]
[]
["ТМ 0.5",{"$f":"1-B256","v":0.12357510055247933},{"$f":"1/B263","v":8.0922450843997034},null,"ОЗ",{"$f":"SUM(H250:P258)","v":0.41978409274371264},{"$f":"1/F263","v":2.3821769745108514}]
["ТМ 1.5",0.38195865631767234,2.6180844011774589,null,"НЕ ОЗ",{"$f":"1-F263","v":0.58021590725628736},{"$f":"1/F264","v":1.7234963528124878}]
["ТМ 2.5",0.65208691916310169,1.5335378928984118]
["ТМ 3.5",0.84035813266143067,1.1899688491536107,null,"P",{"$f":"SUM(G249,G251,G253,G255,G257,H250,H252,H254,H256,H258,I249,I251,I253,I255,I257,J250,J252,J254,J256,J258,K249,K251,K253,K255,K257,L250,L252,L254,L256,L258)+SUM(M249,M251,M253,M255,M257,N250,N252,N254,N256,N258,O249,O251,O253,O255,O257,P250,P252,P254,P256,P258)","v":0.50763516160536082},{"$f":"1/F266","v":1.9699187046806799}]
["ТМ 4.5",0.93877263062646632,1.0652206587367967,null,"D",{"$f":"1-F266","v":0.49236483839463918},{"$f":"1/F267","v":2.0310142439507066}]
["ТМ 5.5",0.97992778432093575,1.020483362141807]
[]
["Форма"]
[null,null,"Команда","Забито","Пропущено","Игры",null,"Средний"]
[null,"Дом",{"$f":"C245","v":"Cardiff U23"},{"$f":"R45","v":2.1315789473684212},{"$f":"S45","v":1.368421052631579},1,null,{"$f":"(D272+E273)/(F273+F272)","v":1.4847083926031295}]
[null,"Гости",{"$f":"C246","v":"Sheffield Utd U23"},{"$f":"R46","v":2.5135135135135136},{"$f":"S46","v":0.83783783783783783},1,null,{"$f":"(D273+E272)/(F272+F273)","v":1.9409672830725464}]
[]
[null,null,null,null,null,null,0,1,2,3,4,5,6,7,8,9]
[null,null,null,null,null,0,{"$f":"POISSON(F276,H272,0)*POISSON(G275,H273,0)","v":3.2527295659990831E-2},{"$f":"POISSON(F276,H272,0)*POISSON(H275,H273,0)","v":6.3134416682869829E-2},{"$f":"POISSON(F276,H272,0)*POISSON(I275,H273,0)","v":6.1270918608659956E-2},{"$f":"POISSON(F276,H272,0)*POISSON(J275,H273,0)","v":3.9641616141069952E-2},{"$f":"POISSON(F276,H272,0)*POISSON(K275,H273,0)","v":1.9235769994484328E-2},{"$f":"POISSON(F276,H272,0)*POISSON(L275,H273,0)","v":7.467200044800535E-3},{"$f":"POISSON(F276,H272,0)*POISSON(M275,H273,0)","v":2.4155984971859479E-3},{"$f":"POISSON(F276,H272,0)*POISSON(N275,H273,0)","v":6.6979966458244789E-4},{"$f":"POISSON(F276,H272,0)*POISSON(O275,H273,0)","v":1.6250740439593706E-4},{"$f":"POISSON(F276,H272,0)*POISSON(P275,H273,0)","v":3.5046839465505962E-5}]
[{"$f":"\"1\"","v":"1"},{"$f":"\"X\"","v":"X"},{"$f":"\"2\"","v":"2"},null,null,1,{"$f":"POISSON(F277,H272,0)*POISSON(G275,H273,0)","v":4.8293548855071734E-2},{"$f":"POISSON(F277,H272,0)*POISSON(H275,H273,0)","v":9.3736198311159855E-2},{"$f":"POISSON(F277,H272,0)*POISSON(I275,H273,0)","v":9.0969447080780697E-2},{"$f":"POISSON(F277,H272,0)*POISSON(J275,H273,0)","v":5.8856240180998241E-2},{"$f":"POISSON(F277,H272,0)*POISSON(K275,H273,0)","v":2.8559509148994338E-2},{"$f":"POISSON(F277,H272,0)*POISSON(L275,H273,0)","v":1.108661457576182E-2},{"$f":"POISSON(F277,H272,0)*POISSON(M275,H273,0)","v":3.5864593619314841E-3},{"$f":"POISSON(F277,H272,0)*POISSON(N275,H273,0)","v":9.9445718336832164E-4},{"$f":"POISSON(F277,H272,0)*POISSON(O275,H273,0)","v":2.4127610716679845E-4},{"$f":"POISSON(F277,H272,0)*POISSON(P275,H273,0)","v":5.203433668865128E-5}]
[{"$f":"SUM(G277:G285,H278:H285,I279:I285,J280:J285,K281:K285,L282:L285,M283:M285,N284:N285,O285)","v":0.29629491584161055},{"$f":"SUM(G276,H277,I278,J279,K280,L281,M282,N283,O284,P285)","v":0.21980010915691323},{"$f":"1-B278-A278","v":0.48390497500147617},null,null,2,{"$f":"POISSON(F278,H272,0)*POISSON(G275,H273,0)","v":3.5850918646857133E-2},{"$f":"POISSON(F278,H272,0)*POISSON(H275,H273,0)","v":6.9585460161645185E-2},{"$f":"POISSON(F278,H272,0)*POISSON(I275,H273,0)","v":6.7531550775650692E-2},{"$f":"POISSON(F278,H272,0)*POISSON(J275,H273,0)","v":4.3692176876896818E-2},{"$f":"POISSON(F278,H272,0)*POISSON(K275,H273,0)","v":2.1201271461068882E-2},{"$f":"POISSON(F278,H272,0)*POISSON(L275,H273,0)","v":8.2301948530948809E-3},{"$f":"POISSON(F278,H272,0)*POISSON(M275,H273,0)","v":2.6624231571948701E-3},{"$f":"POISSON(F278,H272,0)*POISSON(N275,H273,0)","v":7.3823946311570834E-4},{"$f":"POISSON(F278,H272,0)*POISSON(O275,H273,0)","v":1.7911233062257892E-4},{"$f":"POISSON(F278,H272,0)*POISSON(P275,H273,0)","v":3.8627908192588748E-5}]
[{"$f":"1/A278","v":3.375015724314915},{"$f":"1/B278","v":4.5495882774385219},{"$f":"1/C278","v":2.0665214280901938},null,null,3,{"$f":"POISSON(F279,H272,0)*POISSON(G275,H273,0)","v":1.7742719932506944E-2},{"$f":"POISSON(F279,H272,0)*POISSON(H275,H273,0)","v":3.4438038901715116E-2},{"$f":"POISSON(F279,H272,0)*POISSON(I275,H273,0)","v":3.3421553400704331E-2},{"$f":"POISSON(F279,H272,0)*POISSON(J275,H273,0)","v":2.1623380566743039E-2},{"$f":"POISSON(F279,H272,0)*POISSON(K275,H273,0)","v":1.049256855736873E-2},{"$f":"POISSON(F279,H272,0)*POISSON(L275,H273,0)","v":4.0731464570496843E-3},{"$f":"POISSON(F279,H272,0)*POISSON(M275,H273,0)","v":1.3176406687160486E-3},{"$f":"POISSON(F279,H272,0)*POISSON(N275,H273,0)","v":3.653567755462403E-4},{"$f":"POISSON(F279,H272,0)*POISSON(O275,H273,0)","v":8.864319349801649E-5},{"$f":"POISSON(F279,H272,0)*POISSON(P275,H273,0)","v":1.911705982741324E-5}]
[null,null,null,null,null,4,{"$f":"POISSON(F280,H272,0)*POISSON(G275,H273,0)","v":6.5856912978499698E-3},{"$f":"POISSON(F280,H272,0)*POISSON(H275,H273,0)","v":1.2782611345542368E-2},{"$f":"POISSON(F280,H272,0)*POISSON(I275,H273,0)","v":1.2405315206964841E-2},{"$f":"POISSON(F280,H272,0)*POISSON(J275,H273,0)","v":8.0261036509736983E-3},{"$f":"POISSON(F280,H272,0)*POISSON(K275,H273,0)","v":3.8946011492722644E-3},{"$f":"POISSON(F280,H272,0)*POISSON(L275,H273,0)","v":1.5118586822708414E-3},{"$f":"POISSON(F280,H272,0)*POISSON(M275,H273,0)","v":4.8907803981947909E-4},{"$f":"POISSON(F280,H272,0)*POISSON(N275,H273,0)","v":1.3561206773698013E-4},{"$f":"POISSON(F280,H272,0)*POISSON(O275,H273,0)","v":3.2902323333412051E-5},{"$f":"POISSON(F280,H272,0)*POISSON(P275,H273,0)","v":7.0958147919141398E-6}]
[null,null,null,null,null,5,{"$f":"POISSON(F281,H272,0)*POISSON(G275,H273,0)","v":1.9555662282022502E-3},{"$f":"POISSON(F281,H272,0)*POISSON(H275,H273,0)","v":3.7956900688221485E-3},{"$f":"POISSON(F281,H272,0)*POISSON(I275,H273,0)","v":3.6836551201335872E-3},{"$f":"POISSON(F281,H272,0)*POISSON(J275,H273,0)","v":2.3832846901006544E-3},{"$f":"POISSON(F281,H272,0)*POISSON(K275,H273,0)","v":1.1564694024332653E-3},{"$f":"POISSON(F281,H272,0)*POISSON(L275,H273,0)","v":4.4893385479948547E-4},{"$f":"POISSON(F281,H272,0)*POISSON(M275,H273,0)","v":1.4522765407157367E-4},{"$f":"POISSON(F281,H272,0)*POISSON(N275,H273,0)","v":4.0268875021471718E-5},{"$f":"POISSON(F281,H272,0)*POISSON(O275,H273,0)","v":9.7700711178517331E-6},{"$f":"POISSON(F281,H272,0)*POISSON(P275,H273,0)","v":2.1070431547824712E-6}]
[null,null,null,null,null,6,{"$f":"POISSON(F282,H272,0)*POISSON(G275,H273,0)","v":4.8390759855052127E-4},{"$f":"POISSON(F282,H272,0)*POISSON(H275,H273,0)","v":9.3924881681676576E-4},{"$f":"POISSON(F282,H272,0)*POISSON(I275,H273,0)","v":9.1152561205297097E-4},{"$f":"POISSON(F282,H272,0)*POISSON(J275,H273,0)","v":5.897471302258318E-4},{"$f":"POISSON(F282,H272,0)*POISSON(K275,H273,0)","v":2.8616997126356585E-4},{"$f":"POISSON(F282,H272,0)*POISSON(L275,H273,0)","v":1.1108931032407847E-4},{"$f":"POISSON(F282,H272,0)*POISSON(M275,H273,0)","v":3.5936786139688248E-5},{"$f":"POISSON(F282,H272,0)*POISSON(N275,H273,0)","v":9.9645894508442648E-6},{"$f":"POISSON(F282,H272,0)*POISSON(O275,H273,0)","v":2.4176177641673178E-6},{"$f":"POISSON(F282,H272,0)*POISSON(P275,H273,0)","v":5.2139077591375161E-7}]
["ТБ 0.5",{"$f":"SUM(G276:P285)-G276","v":0.96743262801426821},{"$f":"1/B283","v":1.0336637105702946},null,null,7,{"$f":"POISSON(F283,H272,0)*POISSON(G275,H273,0)","v":1.026373818303407E-4},{"$f":"POISSON(F283,H272,0)*POISSON(H275,H273,0)","v":1.9921580015291591E-4},{"$f":"POISSON(F283,H272,0)*POISSON(I275,H273,0)","v":1.9333567518396434E-4},{"$f":"POISSON(F283,H272,0)*POISSON(J275,H273,0)","v":1.2508607339427189E-4},{"$f":"POISSON(F283,H272,0)*POISSON(K275,H273,0)","v":6.0696994006573235E-5},{"$f":"POISSON(F283,H272,0)*POISSON(L275,H273,0)","v":2.3562175909521828E-5},{"$f":"POISSON(F283,H272,0)*POISSON(M275,H273,0)","v":7.622235426396995E-6},{"$f":"POISSON(F283,H272,0)*POISSON(N275,H273,0)","v":2.1135013695018699E-6},{"$f":"POISSON(F283,H272,0)*POISSON(O275,H273,0)","v":5.1277962636651866E-7},{"$f":"POISSON(F283,H272,0)*POISSON(P275,H273,0)","v":1.1058760868928639E-7}]
["ТБ 1.5",{"$f":"SUM(G278:G285,H277:H285,I276:I285,J276:P285)","v":0.85600466247632634},1.1682179359947773,null,null,8,{"$f":"POISSON(F284,H272,0)*POISSON(G275,H273,0)","v":1.9048322774789831E-5},{"$f":"POISSON(F284,H272,0)*POISSON(H275,H273,0)","v":3.6972171303272726E-5},{"$f":"POISSON(F284,H272,0)*POISSON(I275,H273,0)","v":3.5880887441903026E-5},{"$f":"POISSON(F284,H272,0)*POISSON(J275,H273,0)","v":2.3214542870780791E-5},{"$f":"POISSON(F284,H272,0)*POISSON(K275,H273,0)","v":1.1264667050917631E-5},{"$f":"POISSON(F284,H272,0)*POISSON(L275,H273,0)","v":4.3728700401072876E-6},{"$f":"POISSON(F284,H272,0)*POISSON(M275,H273,0)","v":1.4145996134960627E-6},{"$f":"POISSON(F284,H272,0)*POISSON(N275,H273,0)","v":3.922416526347039E-7},{"$f":"POISSON(F284,H272,0)*POISSON(O275,H273,0)","v":9.5166026852783317E-8},{"$f":"POISSON(F284,H272,0)*POISSON(P275,H273,0)","v":2.0523793842361765E-8}]
["ТБ 2.5",{"$f":"SUM(G279:G285,H278:H285,I277:I285,J276:P285)","v":0.66514662690964954},1.5034279052817558,null,null,9,{"$f":"POISSON(F285,H272,0)*POISSON(G275,H273,0)","v":3.1423560765270935E-6},{"$f":"POISSON(F285,H272,0)*POISSON(H275,H273,0)","v":6.099210336303299E-6},{"$f":"POISSON(F285,H272,0)*POISSON(I275,H273,0)","v":5.9191838576713043E-6},{"$f":"POISSON(F285,H272,0)*POISSON(J275,H273,0)","v":3.8296474034103822E-6},{"$f":"POISSON(F285,H272,0)*POISSON(K275,H273,0)","v":1.8583050789308198E-6},{"$f":"POISSON(F285,H272,0)*POISSON(L275,H273,0)","v":7.2138187203445379E-7},{"$f":"POISSON(F285,H272,0)*POISSON(M275,H273,0)","v":2.3336310203675011E-7},{"$f":"POISSON(F285,H272,0)*POISSON(N275,H273,0)","v":6.4707163732807465E-8},{"$f":"POISSON(F285,H272,0)*POISSON(O275,H273,0)","v":1.5699310973224713E-8},{"$f":"POISSON(F285,H272,0)*POISSON(P275,H273,0)","v":3.3857609962012214E-9}]
["ТБ 3.5",{"$f":"SUM(G280:G285,H279:H285,I278:I285,J277:J285,K276:P285)","v":0.44720738359364681},2.2360990374627758]
["ТБ 4.5",{"$f":"SUM(G281:G285,H280:H285,I279:I285,J278:J285,K277:K285,L276:P285)","v":0.26056009244294848},3.8378862650233256]
["ТБ 5.5",{"$f":"SUM(G282:G285,H281:H285,I280:I285,J279:J285,K278:K285,L277:L285,M276:P285)","v":0.13268147539780797},7.5368471521874634]
[]
["ТМ 0.5",{"$f":"1-B283","v":3.2567371985731786E-2},{"$f":"1/B290","v":30.705578590686219},null,"ОЗ",{"$f":"SUM(H277:P285)","v":0.66236257351703332},{"$f":"1/F290","v":1.5097471384745804}]
["ТМ 1.5",0.14399533752367366,6.9446693010847955,null,"НЕ ОЗ",{"$f":"1-F290","v":0.33763742648296668},{"$f":"1/F291","v":2.9617569663902428}]
["ТМ 2.5",0.33485337309035046,2.9863817430627435]
["ТМ 3.5",0.55279261640635324,1.8089966658760659,null,"P",{"$f":"SUM(G276,G278,G280,G282,G284,H277,H279,H281,H283,H285,I276,I278,I280,I282,I284,J277,J279,J281,J283,J285,K276,K278,K280,K282,K284,L277,L279,L281,L283,L285)+SUM(M276,M278,M280,M282,M284,N277,N279,N281,N283,N285,O276,O278,O280,O282,O284,P277,P279,P281,P283,P285)","v":0.50050829113375828},{"$f":"1/F293","v":1.9979689002449614}]
["ТМ 4.5",0.73943990755705147,1.3523749391668383,null,"D",{"$f":"1-F293","v":0.49949170886624172},{"$f":"1/F294","v":2.0020352335173373}]
["ТМ 5.5",0.86731852460219205,1.1529789479115118]

{"sheet":"Mill","index":5,"n_rows":97,"n_cols":25,"rows_kept":97,"cut":false,"hidden":true,"merged":[[51,1,51,10],[74,2,74,6],[43,1,43,4],[43,6,43,9],[43,15,43,16],[44,1,44,4],[44,6,44,9],[45,1,45,4],[45,6,45,9],[36,15,36,16],[38,15,38,16],[40,1,40,10],[40,15,41,16],[42,1,42,4],[42,6,42,9],[1,12,1,14],[17,1,17,4],[23,15,23,16],[23,17,23,19],[25,21,25,22],[23,21,23,22],[23,24,24,24],[24,15,24,16],[35,15,35,16],[35,17,35,19],[26,15,26,16],[27,21,27,22],[28,15,29,16],[31,15,31,16]]}
[]
[null,"Тест №1 Анализ 10 последних игр команд дома и в гостях",null,null,null,null,null,{"$f":"IF(ДомаДома!N2=\"В\",1,0)","v":0},{"$f":"IF(C7=\"Победа\",1,0)","v":0},{"$f":"IF(ГостиГости!N2=\"В\",1,0)","v":1},{"$f":"IF(E7=\"Победа\",1,0)","v":1},null,{"$f":"IF(F20>F21,B20,IF(F20<F21,B21,\"Ничья\"))","v":"П2"},null,null,null,null,null,null,null,null,2.5]
[null,null,null,null,null,null,null,{"$f":"IF(ДомаДома!N3=\"В\",1,0)","v":1},{"$f":"IF(C8=\"Победа\",1,0)","v":1},{"$f":"IF(ГостиГости!N3=\"В\",1,0)","v":1},{"$f":"IF(E8=\"Победа\",1,0)","v":1},null,null,null,null,null,null,null,null,null,null,2.5]
[null,null,null,null,null,null,null,{"$f":"IF(ДомаДома!N4=\"В\",1,0)","v":1},0,{"$f":"IF(ГостиГости!N4=\"В\",1,0)","v":0},1,null,null,null,null,null,null,null,null,null,null,2.5]
[null,"Последние 10 игр команды 1",null,"Последние 10 игр команды 2",null,null,null,{"$f":"IF(ДомаДома!N5=\"В\",1,0)","v":0},0,{"$f":"IF(ГостиГости!N5=\"В\",1,0)","v":0},1,null,null,null,null,null,null,null,null,null,null,2.5]
[null,"№ игры","Исход","№ игры","Исход",null,null,{"$f":"IF(ДомаДома!N6=\"В\",1,0)","v":1},1,{"$f":"IF(ГостиГости!N6=\"В\",1,0)","v":1},1,null,null,null,null,null,null,null,null,null,null,2.5]
[null,1,{"$f":"IF(Дома!N2=\"В\",\"Победа\",IF(Дома!N2=\"П\",\"Поражение\",\"Ничья\"))","v":"Поражение"},1,{"$f":"IF(Гости!N2=\"В\",\"Победа\",IF(Гости!N2=\"П\",\"Поражение\",\"Ничья\"))","v":"Победа"},null,null,{"$f":"IF(ДомаДома!N7=\"В\",1,0)","v":1},0,{"$f":"IF(ГостиГости!N7=\"В\",1,0)","v":1},0,null,null,null,null,null,null,null,null,null,null,2.5]
[null,2,{"$f":"IF(Дома!N3=\"В\",\"Победа\",IF(Дома!N3=\"П\",\"Поражение\",\"Ничья\"))","v":"Победа"},2,{"$f":"IF(Гости!N3=\"В\",\"Победа\",IF(Гости!N3=\"П\",\"Поражение\",\"Ничья\"))","v":"Победа"},null,null,{"$f":"IF(ДомаДома!N8=\"В\",1,0)","v":1},1,{"$f":"IF(ГостиГости!N8=\"В\",1,0)","v":1},0,null,null,null,null,null,null,null,null,null,null,2.5]
[null,3,{"$f":"IF(Дома!N4=\"В\",\"Победа\",IF(Дома!N4=\"П\",\"Поражение\",\"Ничья\"))","v":"Поражение"},3,{"$f":"IF(Гости!N4=\"В\",\"Победа\",IF(Гости!N4=\"П\",\"Поражение\",\"Ничья\"))","v":"Победа"},null,null,{"$f":"IF(ДомаДома!N9=\"В\",1,0)","v":1},1,{"$f":"IF(ГостиГости!N9=\"В\",1,0)","v":0},0,null,null,null,null,null,null,null,null,null,null,2.5]
[null,4,{"$f":"IF(Дома!N5=\"В\",\"Победа\",IF(Дома!N5=\"П\",\"Поражение\",\"Ничья\"))","v":"Поражение"},4,{"$f":"IF(Гости!N5=\"В\",\"Победа\",IF(Гости!N5=\"П\",\"Поражение\",\"Ничья\"))","v":"Победа"},null,null,{"$f":"IF(ДомаДома!N10=\"В\",1,0)","v":1},1,{"$f":"IF(ГостиГости!N10=\"В\",1,0)","v":1},1]
[null,5,{"$f":"IF(Дома!N6=\"В\",\"Победа\",IF(Дома!N6=\"П\",\"Поражение\",\"Ничья\"))","v":"Победа"},5,{"$f":"IF(Гости!N6=\"В\",\"Победа\",IF(Гости!N6=\"П\",\"Поражение\",\"Ничья\"))","v":"Победа"},null,null,{"$f":"IF(ДомаДома!N11=\"В\",1,0)","v":1},1,{"$f":"IF(ГостиГости!N11=\"В\",1,0)","v":1},1]
[null,6,{"$f":"IF(Дома!N7=\"В\",\"Победа\",IF(Дома!N7=\"П\",\"Поражение\",\"Ничья\"))","v":"Поражение"},6,{"$f":"IF(Гости!N7=\"В\",\"Победа\",IF(Гости!N7=\"П\",\"Поражение\",\"Ничья\"))","v":"Ничья"},null,null,{"$f":"SUM(H2:H11)","v":8},{"$f":"SUM(I2:I11)","v":6},{"$f":"SUM(J2:J11)","v":7},{"$f":"SUM(K2:K11)","v":7},null,null,null,null,{"$f":"IF(C7=\"Победа\",2,IF(C7=\"Ничья\",1,0))","v":0},{"$f":"IF(C7=\"Победа\",1,0)","v":0},{"$f":"IF(E7=\"Победа\",2,IF(E7=\"Ничья\",1,0))","v":2},{"$f":"IF(E7=\"Победа\",1,0)","v":1}]
[null,7,{"$f":"IF(Дома!N8=\"В\",\"Победа\",IF(Дома!N8=\"П\",\"Поражение\",\"Ничья\"))","v":"Победа"},7,{"$f":"IF(Гости!N8=\"В\",\"Победа\",IF(Гости!N8=\"П\",\"Поражение\",\"Ничья\"))","v":"Ничья"},null,null,null,null,null,null,null,null,null,null,{"$f":"IF(C8=\"Победа\",2,IF(C8=\"Ничья\",1,0))","v":2},{"$f":"IF(C8=\"Победа\",1,0)","v":1},{"$f":"IF(E8=\"Победа\",2,IF(E8=\"Ничья\",1,0))","v":2},{"$f":"IF(E8=\"Победа\",1,0)","v":1}]
[null,8,{"$f":"IF(Дома!N9=\"В\",\"Победа\",IF(Дома!N9=\"П\",\"Поражение\",\"Ничья\"))","v":"Победа"},8,{"$f":"IF(Гости!N9=\"В\",\"Победа\",IF(Гости!N9=\"П\",\"Поражение\",\"Ничья\"))","v":"Поражение"},null,null,null,null,null,null,null,null,null,null,0,0,2,1]
[null,9,{"$f":"IF(Дома!N10=\"В\",\"Победа\",IF(Дома!N10=\"П\",\"Поражение\",\"Ничья\"))","v":"Победа"},9,{"$f":"IF(Гости!N10=\"В\",\"Победа\",IF(Гости!N10=\"П\",\"Поражение\",\"Ничья\"))","v":"Победа"},null,null,null,null,null,null,null,null,null,null,0,0,2,1]
[null,10,{"$f":"IF(Дома!N11=\"В\",\"Победа\",IF(Дома!N11=\"П\",\"Поражение\",\"Ничья\"))","v":"Победа"},10,{"$f":"IF(Гости!N11=\"В\",\"Победа\",IF(Гости!N11=\"П\",\"Поражение\",\"Ничья\"))","v":"Победа"},null,null,null,null,null,null,null,null,null,null,2,1,2,1]
[null,null,null,null,null,null,null,null,null,null,null,null,null,null,null,0,0,1,0]
[null,"Итог анализа Теста №1",null,null,null,null,null,{"$f":"SUM(H2:H6)","v":3},{"$f":"SUM(I2:I6)","v":2},{"$f":"SUM(J2:J6)","v":3},{"$f":"SUM(K2:K6)","v":5},null,null,null,null,2,1,1,0]
[null,"Команда ","Очки","Значение Теста","Число","ИТОГ",null,null,null,null,null,null,null,null,null,2,1,0,0]
[null,"П1",{"$f":"P22","v":12},{"$f":"IF(C20>18,4,IF(C20>15,3,IF(C20>10,2,IF(C20>5,1,0))))","v":2},{"$f":"IF(Q22>=9,3,IF(Q22>=6,2,IF(Q22>=4,1,0)))","v":2},{"$f":"IF(C20>C21,1,0)+IF(D20>D21,1,0)+E20","v":2},null,null,null,null,null,null,null,null,null,2,1,2,1]
[null,"П2",{"$f":"R22","v":16},{"$f":"IF(C21>18,4,IF(C21>15,3,IF(C21>10,2,IF(C21>5,1,0))))","v":3},{"$f":"IF(S22>=9,3,IF(S22>=6,2,IF(S22>=4,1,0)))","v":2},{"$f":"IF(C21>C20,1,0)+IF(D21>D20,1,0)+E21","v":4},null,null,null,null,null,null,null,null,null,{"$f":"IF(C16=\"Победа\",2,IF(C16=\"Ничья\",1,0))","v":2},1,{"$f":"IF(E16=\"Победа\",2,IF(E16=\"Ничья\",1,0))","v":2},{"$f":"IF(E16=\"Победа\",1,0)","v":1}]
[null,null,null,"    Последние  три  игры  команд  между  собой",null,null,null,null,null,null,null,null,null,null,null,{"$f":"SUM(P12:P21)","v":12},{"$f":"SUM(Q12:Q21)","v":6},{"$f":"SUM(R12:R21)","v":16},{"$f":"SUM(S12:S21)","v":7}]
[null,null,"КОМАНДА 1","гости","Очки",null,null,"хозяева","КОМАНДА 2","Очки","П1 +"]
[null,"1 игра",{"$f":"ДомаДома!L2","v":0},{"$f":"ДомаДома!M2","v":2},{"$f":"IF(C24>D24,2+(C24-D24),IF(C24=D24,1,0))","v":0},null,"1 игра",{"$f":"ГостиГости!M2","v":0},{"$f":"ГостиГости!L2","v":2},{"$f":"IF(I24>H24,2+(I24-H24),IF(H24=I24,1,0))","v":4},"П2 +",null,null,null,null,{"$f":"Очные!A1","v":"Cardiff U23"},null,"ввод данных",null,null,null,"РАСЧЁТ ДАННЫХ",null,"Очки","Итоговые очки"]
[null,"2 игра",{"$f":"ДомаДома!L3","v":6},{"$f":"ДомаДома!M3","v":1},{"$f":"IF(C25>D25,2+(C25-D25),IF(C25=D25,1,0))","v":7},null,"2 игра",{"$f":"ГостиГости!M3","v":0},{"$f":"ГостиГости!L3","v":4},{"$f":"IF(I25>H25,2+(I25-H25),IF(H25=I25,1,0))","v":6},"П1 -",null,null,null,null,"Место в турнирной таблице",null,{"$f":"VLOOKUP(P24,P46:Q78,2,FALSE)","v":5},"из",{"$f":"MAX(Таблица!A:A)","v":9}]
[null,"3 игра",{"$f":"ДомаДома!L4","v":4},{"$f":"ДомаДома!M4","v":0},{"$f":"IF(C26>D26,2+(C26-D26),IF(C26=D26,1,0))","v":6},null,"3 игра",{"$f":"ГостиГости!M4","v":2},{"$f":"ГостиГости!L4","v":2},{"$f":"IF(I26>H26,2+(I26-H26),IF(H26=I26,1,0))","v":1},"П2 -",null,null,null,null,null,null,null,null,null,null,"Команда1",null,{"$f":"S46+S47+IF(R27>R39,U46,0)","v":19},{"$f":"X26*U47","v":33.68181818181818}]
[null,null,null,"Итого:",{"$f":"SUM(E24,E25,E26) +1","v":14},null,null,null,"Итого:",{"$f":"SUM(J24,J25,J26)","v":11},"1Х",null,null,null,null,"Сколько мячей забито",null,{"$f":"VLOOKUP(P24,Таблица!B2:G45,6,FALSE)","v":39}]
[null,"какая команда дома","Счёт","Счёт","Очки","Какая команда победила ","Какая команда в гостях",null,null,null,"Х2",null,null,null,null,null,null,null,null,null,null,"Команда2",null,{"$f":"T46+T47+IF(R39>R27,U46,0)","v":34},{"$f":"X28*U48","v":85.80952380952381}]
[null,{"$f":"IF(Очные!C2=Очные!A1,1,2)","v":1},{"$f":"IF(B29=1,Очные!E2,Очные!F2)","v":1},{"$f":"IF(B29=2,Очные!E2,Очные!F2)","v":3},{"$f":"IF(C29>D29,3+(C29-D29),IF(C29=D29,1,IF(D29>C29,3+(D29-C29),0)))","v":5},{"$f":"IF(C29>D29,B29,IF(D29>C29,B29,0))","v":1},{"$f":"IF(B29=2,1,2)","v":2},null,null,{"$f":"IF(F29=0,1,0)","v":0},"Ф1(+1)",null,null,null,null,"Сколько мячей забито за  последние 3 игры дома",null,{"$f":"ДомаДома!S4","v":10}]
[null,{"$f":"IF(Очные!C3=Очные!A1,1,2)","v":1},{"$f":"IF(B30=1,Очные!E3,Очные!F3)","v":1},{"$f":"IF(B30=2,Очные!E3,Очные!F3)","v":1},{"$f":"IF(C30>D30,3+(C30-D30),IF(C30=D30,0,IF(D30>C30,3+(D30-C30),0)))","v":0},{"$f":"IF(C30>D30,B30,IF(D30>C30,B30,0))","v":0},{"$f":"IF(B30=2,1,2)","v":2},null,null,{"$f":"IF(B29=2,1,0)","v":0},"Ф2(+1)"]
[null,{"$f":"IF(Очные!C4=Очные!A1,1,2)","v":2},{"$f":"IF(B31=1,Очные!E4,Очные!F4)","v":0},{"$f":"IF(B31=2,Очные!E4,Очные!F4)","v":3},{"$f":"IF(C31>D31,3+(C31-D31),IF(C31=D31,0,IF(D31>C31,3+(D31-C31),0)))","v":6},{"$f":"IF(C31>D31,B31,IF(D31>C31,B31,0))","v":2},{"$f":"IF(B31=2,1,2)","v":1},null,null,{"$f":"IF(J30=J29,1,0)","v":1},"Х П1"]
[null,"ИТОГ",null,null,null,null,null,null,null,null,"Х П2",null,null,null,null,"Игр сыграно за сезон",null,{"$f":"VLOOKUP(P24,Таблица!B2:C50,2,FALSE)","v":22}]
[null,"Дополнительная информация, НЕОБЯЗАТЕЛЬНО для заполнения: "]
[null,"Кто выше в турнирной таблице?",null,{"$f":"IF(R25<R37,1,2)","v":2},{"$f":"IF(C38>D38,1,IF(C38=D38,0,2))","v":1},{"$f":"IF(E34=1,C38-D38,IF(E34=2,D38-C38,0))","v":2},{"$f":"IF(D34=1,1,2)+IF(F34>0,99,0)","v":101},null,{"$f":"IF(G29=1,1,0)","v":0},{"$f":"IF(G29=2,1,0)","v":1}]
[null,null,1,2,"Для к1","Для к2",null,null,{"$f":"IF(G30=1,1,0)","v":0},{"$f":"IF(G30=2,1,0)","v":1}]
[null,"Очки",{"$f":"E27+IF(F29=1,E29,0)+IF(F30=1,E30,0)+IF(F31=1,E31,0)","v":19},{"$f":"J27+IF(F29=2,E29,0)+IF(F30=2,E30,0)+IF(F31=2,E31,0)","v":17},{"$f":"IF(E34=1,F34,0)","v":2},{"$f":"IF(E34=2,F34,0)","v":0},null,null,{"$f":"IF(G31=1,1,0)","v":1},{"$f":"IF(G31=2,1,0)","v":0},null,null,null,null,null,{"$f":"Очные!B1","v":"Sheffield Utd U23"},null,"ввод данных",null,null,null,"Вероятный исход в процентах"]
[null,"Доп. Очки",null,null,{"$f":"IF(E36>12,K23,IF(E36>7,K25,IF(E36>4,K27,IF(E36>0,K29,0))))","v":"Ф1(+1)"},{"$f":"IF(F36>13,K24,IF(F36>7,K26,IF(F36>4,K28,IF(F36>0,K30,0))))","v":0},null,null,{"$f":"SUM(I34:I36)","v":1},{"$f":"SUM(J34:J36)","v":2},null,null,null,null,null,"Место в турнирной таблице",null,{"$f":"VLOOKUP(P36,P46:Q78,2,FALSE)","v":1},"из",{"$f":"T25","v":9},null,"П1",{"$f":"(X26/S49)","v":0.4},"П2",{"$f":"(X28/S49)","v":0.71578947368421053}]
[null,"Итоговые:",{"$f":"SUM(C36,C37)","v":19},{"$f":"SUM(D36,D37)","v":17}]
[null,"ИТОГО:",{"$f":"IF(E34=1,E37,IF(G34=1,K31,IF(E34=2,F37,K32)))","v":"Ф1(+1)"},null,null,null,null,null,null,null,null,null,null,null,null,"Сколько мячей забито",null,{"$f":"VLOOKUP(P36,Таблица!B2:G45,6,FALSE)","v":53},null,null,null,null,"Ничья",{"$f":"1-(W37+Y37)","v":-0.11578947368421044}]
[]
[null,"Тест №3 Общая теория",null,null,null,null,null,null,null,null,null,null,null,null,null,"Мячей забито за  последние 3 игры в гостях",null,{"$f":"ГостиГости!S4","v":8}]
[null,null,null,null,null,null,null,null,null,null,null,null,null,null,null,null,null,null,null,null,null,"ТМ 2,5",{"$f":"100-Y42","v":-58.795685189127767},"ТБ2,5",{"$f":"(S53/T52)*100-10","v":158.79568518912777}]
[null,"Расчёт команды 1",null,null,null,"Число","Расчёт команды 2",null,null,null,"Число"]
[null,"Сколько Побед из 5 последних игр дома",null,null,null,{"$f":"H18","v":3},"Сколько Побед из 5 последних игр в гостях",null,null,null,{"$f":"J18","v":3},null,null,null,null,"Игр сыграно за сезон",null,{"$f":"VLOOKUP(P36,Таблица!B2:C50,2,FALSE)","v":21}]
[null,"Сколько Побед из 5 последних игр вообще",null,null,null,{"$f":"I18","v":2},"Сколько Побед из 5 последних игр вообще",null,null,null,{"$f":"K18","v":5}]
[null,"Сколько Побед из 3 последних игр между командами",null,null,null,{"$f":"I37","v":1},"Сколько Побед из 3 последних игр между командами",null,null,null,0,null,null,null,null,{"$f":"Таблица!B2","v":"Sheffield Utd U23"},{"$f":"Таблица!A2","v":1},null,{"$f":"T25-R25","v":4},{"$f":"T37-R37","v":8},{"$f":"IF(R27>R39,R27-R39,IF(R39>R27,R39-R27,0))","v":14}]
[null,null,null,null,null,{"$f":"SUM(F44:F46)/13","v":0.46153846153846156},null,null,null,null,{"$f":"SUM(K44:K46)/13","v":0.61538461538461542},null,null,null,null,{"$f":"Таблица!B3","v":"Nottingham U23"},{"$f":"Таблица!A3","v":2},null,{"$f":"(R29*3)/2","v":15},{"$f":"(R41*3)/2","v":12},{"$f":"R27/R32","v":1.7727272727272727}]
[null,null,null,null,null,{"$f":"(1+1-1)/3","v":0.33333333333333331},null,null,null,null,{"$f":"(1+1-1)/3","v":0.33333333333333331},null,null,null,null,{"$f":"Таблица!B4","v":"Birmingham U23"},{"$f":"Таблица!A4","v":3},null,null,null,{"$f":"R39/R44","v":2.5238095238095237}]
[null,null,null,null,null,{"$f":"F47/F48","v":1.3846153846153848},1,{"$f":"F49+G49+K49","v":4.2307692307692317},"Итог",{"$f":"IF(F50>K50,\"П1\",IF(K50>F50,\"П2\",\"Х\"))","v":"П2"},{"$f":"K47/K48","v":1.8461538461538463},null,null,null,null,{"$f":"Таблица!B5","v":"Barnsley U23"},{"$f":"Таблица!A5","v":4},null,{"$f":"T25-1+5+((R32+R44)/2)+(((R27+R44)/2)/2)-2","v":47.5}]
[null,null,null,null,null,{"$f":"((H49-F49)*F49)/3","v":1.3136094674556218},null,{"$f":"(H49-G49)*1/3","v":1.0769230769230773},null,null,{"$f":"((H49-K49)*K49)/3","v":1.4674556213017758},null,null,null,null,{"$f":"Таблица!B6","v":"Hull U23"},{"$f":"Таблица!A6","v":5}]
[null,null,null,null,null,null,null,null,null,null,null,null,null,null,null,{"$f":"Таблица!B7","v":"Wigan U23"},{"$f":"Таблица!A7","v":6},null,{"$f":"(R27/R32)+R29/3","v":5.1060606060606064},{"$f":"(R32+R44)/2","v":21.5}]
[null,"Тест №4 Тоталы",null,null,null,null,null,null,null,null,null,null,null,null,null,{"$f":"Таблица!B8","v":"Coventry U23"},{"$f":"Таблица!A8","v":7},null,{"$f":"R39/R44+R41/3","v":5.1904761904761898},{"$f":"((T51/4)*3+(T51/2)+(T51)+(T51/5)*4)/T51","v":3.0500000000000003}]
[null,"Второй анализ.","Команда 1","Команда 2",{"$f":"C54*C55","v":5.4166666666666661},{"$f":"D54+D55","v":4.6666666666666661},"П1",null,null,null,null,null,null,null,null,{"$f":"Таблица!B9","v":"Crewe U23"},{"$f":"Таблица!A9","v":8},null,{"$f":"(S51+S52)/2","v":5.1482683982683977}]
[null,"Забьёт в абстрактном матче ",{"$f":"(C24+C25+C26+1+H24+H25+H26)/6","v":2.1666666666666665},{"$f":"(D24+D25+D26+I24+I25+I26+1)/6","v":2},{"$f":"E53/F53","v":1.1607142857142858},{"$f":"F53/E53","v":0.86153846153846148},"П2",null,null,null,null,null,null,null,null,{"$f":"Таблица!B10","v":"Sheffield Wed U23"},{"$f":"Таблица!A10","v":9}]
[null,"Забьёт/пропустит в конкретном",{"$f":"(C24+C25+C26)/(D24+D25+D26+1)","v":2.5},{"$f":"(I24+I25+I26)/(H24+H25+H26+1)","v":2.6666666666666665},null,null,"Х","Итог",{"$f":"IF(E56>F56,G53,IF(F56>E56,G54,G55))","v":"П1"},null,null,null,null,null,null,{"$f":"Таблица!B11","v":"Bristol City U23"},{"$f":"Таблица!A11","v":1}]
[null,"Забьёт в этом матче",{"$f":"E54","v":1.1607142857142858},{"$f":"F54","v":0.86153846153846148},{"$f":"C54+C55+C56","v":5.8273809523809517},{"$f":"D54+D55+D56","v":5.5282051282051272},null,null,null,null,null,null,null,null,null,{"$f":"Таблица!B12","v":"Ipswich U23"},{"$f":"Таблица!A12","v":2}]
[null,null,null,null,null,null,null,null,null,null,null,null,null,null,null,{"$f":"Таблица!B13","v":"Charlton U23"},{"$f":"Таблица!A13","v":3}]
[null,null,"Mill+ Исход",null,null,null,null,null,null,null,null,null,null,null,null,{"$f":"Таблица!B14","v":"Watford U23"},{"$f":"Таблица!A14","v":4}]
[null,null,null,null,null,null,null,null,null,null,null,null,null,null,null,{"$f":"Таблица!B15","v":"Cardiff U23"},{"$f":"Таблица!A15","v":5}]
[null,"Первая партия",null,null,null,null,"Первая партия",null,null,null,null,null,null,null,null,{"$f":"Таблица!B16","v":"Millwall U23"},{"$f":"Таблица!A16","v":6}]
[null,"Игра","Команда 1","Гости","Очки",null,"Игра","Домашняя ","Команда 2","Очки",null,null,null,null,null,{"$f":"Таблица!B17","v":"QPR U23"},{"$f":"Таблица!A17","v":7}]
[null,"1 игра",{"$f":"ДомаДома!L2","v":0},{"$f":"ДомаДома!M2","v":2},{"$f":"IF(C62>D62,2+(C62-D62),IF(C62=D62,1,0))","v":0},null,"1 игра",{"$f":"ГостиГости!M2","v":0},{"$f":"ГостиГости!L2","v":2},{"$f":"IF(I62>H62,2+(I62-H62),IF(H62=I62,1,0))","v":4},null,null,null,null,null,{"$f":"Таблица!B18","v":"Swansea U23"},{"$f":"Таблица!A18","v":8}]
[null,"2 игра",{"$f":"ДомаДома!L3","v":6},{"$f":"ДомаДома!M3","v":1},{"$f":"IF(C63>D63,2+(C63-D63),IF(C63=D63,1,0))","v":7},null,"2 игра",{"$f":"ГостиГости!M3","v":0},{"$f":"ГостиГости!L3","v":4},{"$f":"IF(I63>H63,2+(I63-H63),IF(H63=I63,1,0))","v":6},null,null,null,null,null,{"$f":"Таблица!B19","v":"Colchester U23"},{"$f":"Таблица!A19","v":9}]
[null,null,null,"Итог:",{"$f":"E62+E63","v":7},null,null,null,"Итог:",{"$f":"J62+J63","v":10},null,null,null,null,null,{"$f":"Таблица!B20","v":0},{"$f":"Таблица!A20","v":0}]
[null,"Вторая партия",null,null,null,null,"Вторая партия",null,null,null,null,null,null,null,null,{"$f":"Таблица!B21","v":0},{"$f":"Таблица!A21","v":0}]
[null,"Игра","Команда 1","Гости","Очки",null,"Игра","Домашняя ","Команда2","Очки",null,null,null,null,null,{"$f":"Таблица!B22","v":0},{"$f":"Таблица!A22","v":0}]
[null,"5 игра ",{"$f":"ДомаДома!L6","v":3},{"$f":"ДомаДома!M6","v":0},5,null,"5 игра ",{"$f":"ГостиГости!M6","v":0},{"$f":"ГостиГости!L6","v":2},{"$f":"IF(I67>H67,2+(I67-H67),IF(H67=I67,1,0))","v":4},null,null,null,null,null,{"$f":"Таблица!B23","v":0},{"$f":"Таблица!A23","v":0}]
[null,"6 игра",{"$f":"ДомаДома!L7","v":4},{"$f":"ДомаДома!M7","v":1},5,null,"6 игра",{"$f":"ГостиГости!M7","v":0},{"$f":"ГостиГости!L7","v":1},{"$f":"IF(I68>H68,2+(I68-H68),IF(H68=I68,1,0))","v":3},null,null,null,null,null,{"$f":"Таблица!B24","v":0},{"$f":"Таблица!A24","v":0}]
[null,null,null,"Итог:",{"$f":"SUM(E67:E68)","v":10},null,null,null,"Итог:",{"$f":"J67+J68","v":7},null,null,null,null,null,{"$f":"Таблица!B25","v":0},{"$f":"Таблица!A25","v":0}]
[null,"Сколько побед за последни 10 игр:",null,null,{"$f":"H12","v":8},null,"Сколько побед за последни 10 игр:",null,null,{"$f":"J12","v":7},null,null,null,null,null,{"$f":"Таблица!B26","v":0},{"$f":"Таблица!A26","v":0}]
[null,"Итоговые очки:",null,"Очки","Динамика","Итоговые очки",null,"10BUH1","10BUH2",null,null,null,null,null,null,{"$f":"Таблица!B27","v":0},{"$f":"Таблица!A27","v":0}]
[null,"Команда 1",null,{"$f":"E64+E69+IF(F29=1,E29,0)+IF(F30=1,E30,0)+IF(F31=1,E31,0)","v":22},{"$f":"IF(E64>E69,2,IF(E64=E69,1,0))","v":0},{"$f":"IF(E72=2,D72+(D72*0.3),IF(E72=1,D72,IF(E72=0,D72-(D72*0.3),0)))+IF(E64>J64,(D72*0.15),0)+H72","v":17.600000000000001},null,{"$f":"IF(E70<=4,-(D72*0.2),IF(E70>=6,D72*0.1,IF(E70>=9,D72*0.2,0)))","v":2.2000000000000002},{"$f":"IF(J70<=4,-(D73*0.2),IF(J70>=6,D73*0.1,IF(J70>=9,D73*0.2,0)))","v":2.3000000000000003},null,null,null,null,null,null,{"$f":"Таблица!B28","v":0},{"$f":"Таблица!A28","v":0}]
[null,"Команда 2",null,{"$f":"J64+J69+IF(F29=2,E29,0)+IF(F30=2,E30,0)+IF(F31=2,E31,0)","v":23},{"$f":"IF(J64>J69,2,IF(J64=J69,1,0))","v":2},{"$f":"IF(E73=2,D73+(D73*0.3),IF(E73=1,D73,IF(E73=0,D73-(D73*0.3),0)))+IF(J64>E64,(D73*0.15),0)+I72","v":35.65},null,"КТО ПОБЕДИЛ","Разница",null,null,null,null,null,null,{"$f":"Таблица!B29","v":0},{"$f":"Таблица!A29","v":0}]
[null,null,null,null,null,null,null,{"$f":"IF(F72>F73,1,IF(F72=F73,0,2))","v":2},{"$f":"IF(H74=1,F72-F73,IF(H74=2,F73-F72,0))","v":18.049999999999997},null,null,null,null,null,null,{"$f":"Таблица!B30","v":0},{"$f":"Таблица!A30","v":0}]
[null,"Mill+(Исход):",{"$f":"IF(H74=1,I76,I77)","v":"П2"},null,null,null,null,"П1","ИТОГ",null,null,null,null,null,null,{"$f":"Таблица!B31","v":0},{"$f":"Таблица!A31","v":0}]
[null,null,null,null,null,null,null,"П2",{"$f":"IF(I74<6,H79,IF(I74<10,H77,H75))","v":"П1"},null,null,null,null,null,null,{"$f":"Таблица!B32","v":0},{"$f":"Таблица!A32","v":0}]
[null,null,null,null,null,null,null,"1Х",{"$f":"IF(I74<6,H80,IF(I74<10,H78,H76))","v":"П2"},null,null,null,null,null,null,{"$f":"Таблица!B33","v":0},{"$f":"Таблица!A33","v":0}]
[null,null,null,null,null,null,null,"Х2",null,null,null,null,null,null,null,{"$f":"Таблица!B34","v":0},{"$f":"Таблица!A34","v":0}]
[null,null,null,null,null,null,null," Ф1(+1)"]
[null,null,null,null,null,null,null," Ф2(+1)"]
[]
[]
[]
[]
[]
[]
[]
[]
[null,null,null,"Фут17",null,null,"ОЗ","Тотал","1й забьет",{"$f":"IF(C97>D97,\"1 тайм П1\",IF(D97>C97,\"1 тайм П2\",\"1 тайм Х\"))","v":"1 тайм П1"},{"$f":"C97& \" - \" &D97","v":"1 - 0"}]
[null,null,{"$f":"IF(C91-TRUNC(C91)>=0.7,TRUNC(C91)+1,TRUNC(C91))","v":2},{"$f":"IF(D91-TRUNC(D91)>=0.7,TRUNC(D91)+1,TRUNC(D91))","v":1},null,null,{"$f":"IF(AND(C90>0,D90>0),\"ОЗ-да\",\"ОЗ-нет\")","v":"ОЗ-да"},{"$f":"IF(C90+D90>2,\"ТБ2.5\",\"ТМ2.5\")","v":"ТБ2.5"},{"$f":"IF(C92>D92,P24,P36)","v":"Cardiff U23"},{"$f":"IF(C90>D90,\"Матч П1\",IF(D90>C90,\"Матч П2\",\"Матч X\"))","v":"Матч П1"},{"$f":"C90& \" - \" &D90","v":"2 - 1"}]
[null,null,{"$f":"SUM(C93:C95)","v":1.8000000000000003},{"$f":"SUM(D93:D95)","v":0.80000000000000016},null,null,null,null,null,{"$f":"J89&\"/\"&J90","v":"1 тайм П1/Матч П1"}]
[null,null,{"$f":"C91/2","v":0.90000000000000013},{"$f":"D91/2","v":0.40000000000000008}]
[0,{"$f":"AVERAGE(ДомаДома!L2:L6)","v":3.4},{"$f":"B93*0.4","v":1.36},{"$f":"E93*0.4","v":0.64000000000000012},{"$f":"AVERAGE(ДомаДома!M2:M6)","v":1.6},0]
[0,{"$f":"AVERAGE(ГостиГости!L2:L6)","v":2.2000000000000002},{"$f":"B94*0.2","v":0.44000000000000006},{"$f":"E94*0.2","v":0.16000000000000003},{"$f":"AVERAGE(ГостиГости!M2:M6)","v":0.8},0]
[0,{"$f":"AVERAGE(A93:A97)","v":0},{"$f":"B95*0.4","v":0},{"$f":"E95*0.4","v":0},{"$f":"AVERAGE(F93:F97)","v":0},0]
[0,null,null,null,null,0]
[0,null,{"$f":"IF(C92-TRUNC(C92)>=0.7,TRUNC(C92)+1,TRUNC(C92))","v":1},{"$f":"IF(D92-TRUNC(D92)>=0.7,TRUNC(D92)+1,TRUNC(D92))","v":0},null,0]

{"sheet":"Beta8","index":6,"n_rows":57,"n_cols":25,"rows_kept":57,"cut":false,"hidden":true,"merged":[[25,18,25,21],[23,18,24,21],[21,18,22,21],[15,18,15,19],[16,18,16,19],[17,18,17,19],[1,12,2,24],[20,18,20,21],[3,20,4,22],[3,23,4,24],[7,12,8,14],[7,15,8,17],[8,18,9,19],[8,23,9,24],[19,15,20,17],[3,12,4,14],[3,15,4,17],[3,18,4,19],[11,12,12,14],[11,15,12,17],[13,18,14,19],[15,12,16,14],[18,18,19,21],[15,15,16,17],[17,15,18,17],[13,23,14,24],[18,23,19,24],[43,2,43,5],[43,1,44,1],[43,6,43,13],[1,10,2,11],[3,10,4,11],[5,10,6,11],[7,10,8,10],[9,10,10,10],[7,11,8,11],[23,10,24,11],[25,10,25,11],[26,10,26,11],[15,11,16,11],[9,11,10,11],[11,11,12,11],[13,11,14,11],[11,10,12,10],[13,10,14,10],[15,10,16,10],[29,10,30,17],[17,10,18,11],[24,8,24,9],[26,8,26,9],[25,8,25,9],[27,8,27,9],[40,1,40,2],[35,10,35,11],[36,10,36,11],[31,10,32,10],[39,10,39,12],[40,10,40,12],[37,10,38,17],[32,11,33,11],[32,12,33,12],[32,13,33,13],[32,14,33,14],[32,15,33,16],[35,17,36,17],[31,11,31,12],[31,13,31,14],[31,15,31,16],[41,1,42,1],[41,2,42,2],[33,10,34,10],[33,17,34,17],[41,10,41,12],[42,10,42,12],[19,7,20,7],[19,8,20,9],[36,3,36,9],[30,1,31,1],[30,2,31,2],[19,1,19,6],[22,1,22,2],[22,3,22,4],[22,5,22,6],[29,3,29,4],[29,5,29,6],[21,7,22,9],[28,7,29,9],[21,15,22,17],[31,17,32,17],[21,10,22,11],[30,7,31,9],[23,8,23,9],[15,7,16,7],[15,8,16,8],[15,9,16,9],[17,7,18,7],[17,8,18,8],[17,9,18,9],[15,1,15,4],[15,5,16,5],[15,6,16,6],[3,1,4,1],[3,2,4,3],[3,4,4,5],[3,6,4,6],[13,1,14,2],[13,3,14,3],[13,4,14,5],[13,6,14,6],[1,1,2,6],[9,1,10,3],[9,4,10,6],[11,2,12,3],[11,4,12,6],[5,1,6,2],[5,3,6,4],[5,5,6,6],[7,1,8,1],[7,2,8,2],[7,3,8,3],[7,4,8,4],[7,5,8,5],[7,6,8,6],[1,7,2,9],[3,7,4,7],[3,8,4,8],[3,9,4,9],[5,7,6,9],[13,7,14,9],[7,7,8,7],[7,8,8,8],[7,9,8,9],[9,7,10,9],[11,7,12,9]]}
[]
[null,"MyBet_MySkore_v10_11_1",null,null,null,null,null,"Wanga-Bet_v1_010_2",null,null,"\"Динамика\"",null,"Altadar"]
[]
[null,{"$f":"CONCATENATE(Расчеты!E14,\" / \",Расчеты!H14)","v":"14 / 18"},{"$f":"Расчеты!F14","v":"Cardiff U23"},null,{"$f":"Расчеты!I14","v":"Sheffield Utd U23"},null,{"$f":"CONCATENATE(Расчеты!K14,\" / \",Расчеты!H14)","v":"1 / 18"},{"$f":"C4","v":"Cardiff U23"},"-",{"$f":"E4","v":"Sheffield Utd U23"},{"$f":"Расчеты!Z50","v":" П2"},null,"ИСХОДЫ №1",null,null,"ДИ №1",null,null,"ТОТАЛЫ №1",null,"ТС",null,null,"ИТБ №1"]
[]
[null,"Точный Счет \"Програмный\"",null,"Точный Счет по Миллеру",null,"Точный Счет на ТМ (2А,ЗА)",null,"Точный Счет Матча",null,null,"\"Теория Лиги\"",null,"П1","Х","П2","1Х",12,"Х2","ТБ","ТМ","ТС №1",{"$f":"Расчеты!G118","v":1},{"$f":"Расчеты!H118","v":2},"ИТБ1","ИТБ2"]
[null,null,null,null,null,null,null,null,null,null,null,null,{"$f":"Расчеты!C104","v":0.41052631578947374},{"$f":"Расчеты!D104","v":0.33684210526315789},{"$f":"Расчеты!E104","v":0.25263157894736843},{"$f":"Расчеты!C107","v":0.37368421052631584},{"$f":"Расчеты!D107","v":0.33157894736842108},{"$f":"Расчеты!E107","v":0.29473684210526319},{"$f":"Расчеты!C110","v":2.65},{"$f":"Расчеты!D110","v":3.75},"ТС №2",{"$f":"Расчеты!G119","v":0},{"$f":"Расчеты!H119","v":0},{"$f":"Расчеты!C114","v":1.325},{"$f":"Расчеты!D114","v":2.625}]
[null,{"$f":"CONCATENATE(Расчеты!F12,\" - \",Расчеты!F13)","v":"3 - 2"},{"$f":"CONCATENATE(Расчеты!G12,\" - \",Расчеты!G13)","v":"2 - 2"},{"$f":"CONCATENATE(Расчеты!N18,\" - \",Расчеты!N20)","v":"-1 - 4"},{"$f":"CONCATENATE(Расчеты!O18,\" - \",Расчеты!O20)","v":"-1 - 4"},{"$f":"CONCATENATE(Расчеты!H12,\" - \",Расчеты!H13)","v":"3 - 2"},{"$f":"CONCATENATE(Расчеты!I12,\" - \",Расчеты!I13)","v":"3 - 3"},{"$f":"Расчеты!AE57","v":3},":",{"$f":"Расчеты!AG57","v":2},"П1",{"$f":"Расчеты!T67/100","v":0.33628318584070799},"ИСХОДЫ №2",null,null,"ДИ №2",null,null,{"$f":"Расчеты!C111","v":0.5859375},{"$f":"Расчеты!D111","v":0.41406249999999994},"ТС №3",{"$f":"Расчеты!G120","v":0},{"$f":"Расчеты!H120","v":1},{"$f":"Расчеты!C115","v":0.66455696202531644},{"$f":"Расчеты!D115","v":0.3354430379746835}]
[null,null,null,null,null,null,null,null,null,null,null,null,null,null,null,null,null,null,"ТОТАЛЫ №2",null,"ТС №4",{"$f":"Расчеты!G121","v":2},{"$f":"Расчеты!H121","v":3},"ИТБ №2"]
[null,"Первый гол забьёт:",null,null,"Если условие слабое то 1 гол забьет:",null,null,"Первый Гол Забьёт:",null,null,"Х",{"$f":"Расчеты!U67/100","v":-9.7345132743362803E-2},"П1","Х","П2","1Х",12,"Х2",null,null,"ТС №5",{"$f":"Расчеты!G122","v":1},{"$f":"Расчеты!H122","v":2}]
[null,null,null,null,null,null,null,null,null,null,null,null,{"$f":"Расчеты!F103","v":0.28571428571428575},{"$f":"Расчеты!G103","v":0},{"$f":"Расчеты!H103","v":0.7142857142857143},{"$f":"Расчеты!F107","v":0.14285714285714288},{"$f":"Расчеты!G107","v":0.5},{"$f":"Расчеты!H107","v":0.35714285714285715},"ТБ","ТМ","ТС №6",{"$f":"Расчеты!G123","v":3},{"$f":"Расчеты!H123","v":4},"ИТБ1","ИТБ2"]
[null,{"$f":"Расчеты!J12","v":2.4166666666666665},{"$f":"IF(Расчеты!K12=\"К1\",\"Команда 1\",\"Команда 2\")","v":"Команда 2"},null,{"$f":"IF(Расчеты!K13=\"К1\",\"Команда 1\",\"Команда 2\")","v":"Команда 2"},null,null,{"$f":"Расчеты!G87","v":"2 команда"},null,null,"П2",{"$f":"Расчеты!V67/100","v":0.76106194690265483},"ИСХОДЫ №3",null,null,"ДИ №3",null,null,{"$f":"Расчеты!E110","v":1.6},{"$f":"Расчеты!F110","v":5.8},null,null,null,{"$f":"Расчеты!E114","v":0.8},{"$f":"Расчеты!F114","v":2.3199999999999998}]
[null,{"$f":"Расчеты!J13","v":3.1111111111111112},null,null,null,null,null,null,null,null,null,null,null,null,null,null,null,null,{"$f":"Расчеты!E111","v":0.78378378378378377},{"$f":"Расчеты!F111","v":0.21621621621621623},null,null,null,{"$f":"Расчеты!E115","v":0.25641025641025644},{"$f":"Расчеты!F115","v":0.7435897435897435}]
[null,"Обе забьют? ",null,{"$f":"Расчеты!L14","v":"Нет"},"Индикатор ТБ 2,5",null,{"$f":"Расчеты!C28","v":"ТБ 2,5"},"Вероятность забитого гола:",null,null,"ТБ 2,5",{"$f":"Расчеты!X67/100","v":1.5879568518912777},"П1","Х","П2","1Х",12,"Х2","ТОТАЛЫ №3",null,null,null,null,"ИТМ №1"]
[null,null,null,null,null,null,null,null,null,null,null,null,{"$f":"Расчеты!I104","v":0.24025974025974026},{"$f":"Расчеты!J104","v":0.5},{"$f":"Расчеты!K104","v":0.25974025974025972},{"$f":"Расчеты!I107","v":0.37012987012987014},{"$f":"Расчеты!J107","v":0.25},{"$f":"Расчеты!K107","v":0.37987012987012986}]
[null,"Средние показатели команд за 5 домашних и  гостевых матчей",null,null,null,"Возможный Тотал матча",{"$f":"Расчеты!D14","v":4.6285714285714281},"Команда 1",null,"Команда 2","ТМ 2,5",{"$f":"Расчеты!W67/100","v":-0.58795685189127767},"ИСХОДЫ №4",null,null,"ДИ №4",null,null,{"$f":"\"Тотал №1 \"&Расчеты!G110","v":"Тотал №1 ТМ(4,56)"},null,null,null,null,"ИТМ1","ИТМ2"]
[null,"Команды:","Тотал","Забито","Пропущено",null,null,null,null,null,null,null,null,null,null,null,null,null,{"$f":"\"Тотал №2 \"&Расчеты!H110","v":"Тотал №2 ТМ(5,56)"},null,null,null,null,{"$f":"Расчеты!G114","v":1.6625000000000001},{"$f":"Расчеты!H114","v":1.4125000000000001}]
[null,{"$f":"C4","v":"Cardiff U23"},{"$f":"Расчеты!J25","v":5},{"$f":"Расчеты!K25","v":3.4},{"$f":"Расчеты!L25","v":1.6},"% прохода ТБ 2,5",{"$f":"Расчеты!M12","v":1.3224489795918368},{"$f":"Расчеты!R97","v":"ДА"},null,{"$f":"Расчеты!S97","v":"ДА"},"Теория \"0 голов\"",null,"П1","П2",null,{"$f":"Расчеты!L107","v":"Х2"},null,null,{"$f":"\"Тотал №3 \"&Расчеты!I110","v":"Тотал №3 ТМ(3,56)"},null,null,null,null,{"$f":"Расчеты!G115","v":0.45934959349593496},{"$f":"Расчеты!H115","v":0.54065040650406504}]
[null,{"$f":"E4","v":"Sheffield Utd U23"},{"$f":"Расчеты!J26","v":3},{"$f":"Расчеты!K26","v":2.2000000000000002},{"$f":"Расчеты!L26","v":0.8},"Ставка на тотал",{"$f":"Расчеты!M13","v":"ТБ 2"},null,null,null,null,null,{"$f":"Расчеты!L104","v":0.45918367346938777},{"$f":"Расчеты!M104","v":0.54081632653061229},null,null,null,null,"ДОП. ИНФО. ПО ГОЛАХ",null,null,null,null,"ИТМ №2"]
[null,"EW-легкая победа, W-победа простая, D-ничья, L-проигрыш, HL-позорный проигрыш",null,null,null,null,null,"Обе забьют?",{"$f":"Расчеты!T97","v":"ДА"},null,{"$f":"Расчеты!AB82","v":1},{"$f":"Расчеты!AC82","v":1},null,null,null,"ФОРА (ИСХОД)"]
[null,{"$f":"C4","v":"Cardiff U23"},{"$f":"Расчеты!Q20","v":"HL"},{"$f":"Расчеты!R20","v":"EW"},{"$f":"Расчеты!S20","v":"HL"},{"$f":"Расчеты!T20","v":"HL"},{"$f":"Расчеты!U20","v":"EW"},null,null,null,{"$f":"Расчеты!AB83","v":0.27936450300856691},{"$f":"Расчеты!AC83","v":0.35863709964809942},null,null,null,null,null,null,{"$f":"\"В матче будет забито: \"&Расчеты!I117&\", \"&Расчеты!J117&\" гола\"","v":"В матче будет забито: 3, 4 гола"},null,null,null,null,"ИТМ1","ИТМ2"]
[null,{"$f":"E4","v":"Sheffield Utd U23"},{"$f":"Расчеты!V20","v":"EW"},{"$f":"Расчеты!W20","v":"EW"},{"$f":"Расчеты!X20","v":"EW"},{"$f":"Расчеты!Y20","v":"EW"},{"$f":"Расчеты!Z20","v":"W"},"Теория \"Синдиката\"",null,null,{"$f":"Расчеты!Z75","v":"П1"},null,null,null,null,{"$f":"Расчеты!M107","v":"Ф2(0)"},null,null,{"$f":"\"ОЗ: \"&Расчеты!I119&\"/\"&Расчеты!J119","v":"ОЗ: НЕТ/НЕТ"},null,null,null,null,{"$f":"Расчеты!I114","v":1.66},{"$f":"Расчеты!J114","v":0.9}]
[null,"ВСЕГО",null,"ДОМА",null,"ВЫЕЗД",null,null,null,null,null,null,null,null,null,null,null,null,null,null,null,null,null,{"$f":"Расчеты!I115","v":0.3354430379746835},{"$f":"Расчеты!J115","v":0.66455696202531644}]
[null,"W/D/L","Забито/Проп.","W/D/L","Забито/Проп.","W/D/L","Забито/Проп.","Тест № 1",{"$f":"Расчеты!D76","v":"П2"},null,"Теория \"П/Т\"",null,null,null,null,null,null,null,"ДИСТАНЦИЯ"]
[null,{"$f":"Расчеты!H8","v":"6/0/4"},{"$f":"Расчеты!I8","v":"29/12"},{"$f":"Расчеты!O8","v":"5/0/2"},{"$f":"Расчеты!P8","v":"25/9"},{"$f":"Расчеты!V8","v":"1/0/2"},{"$f":"Расчеты!W8","v":"4/3"},"Тест № 2",{"$f":"Расчеты!D77","v":"X2"}]
[null,{"$f":"Расчеты!H9","v":"7/2/1"},{"$f":"Расчеты!I9","v":"28/9"},{"$f":"Расчеты!O9","v":"4/1/0"},{"$f":"Расчеты!P9","v":"17/5"},{"$f":"Расчеты!V9","v":"3/1/1"},{"$f":"Расчеты!W9","v":"11/4"},"Тест № 3",{"$f":"Расчеты!D78","v":"П1"},null,"Обе забьют?",null,null,null,null,null,null,null,{"$f":"\"Больше мотивации в \"& Расчеты!I123","v":"Больше мотивации в Команда 2"}]
[null,"Команды:","Сила атаки","Сила обороны","Серии","ТБ 2,5","Рейтинг","Тест № 4",{"$f":"Расчеты!D79","v":"П2"},null,{"$f":"Расчеты!AM46","v":"Нет"}]
[null,{"$f":"C4","v":"Cardiff U23"},{"$f":"Расчеты!Q25","v":3.4705882352941173},{"$f":"Расчеты!R25","v":0.44000000000000006},{"$f":"Расчеты!N12","v":"ПВППВ"},{"$f":"Расчеты!O12","v":"-++-+"},{"$f":"Расчеты!P12","v":0.46560846560846564},"Тотал",{"$f":"Расчеты!D80","v":"ТБ 2,5"},null,"1 команда",{"$f":"Расчеты!AF47","v":"Нет"}]
[null,{"$f":"E4","v":"Sheffield Utd U23"},{"$f":"Расчеты!Q26","v":2.2727272727272725},{"$f":"Расчеты!R26","v":0.28813559322033899},{"$f":"Расчеты!N13","v":"ВВВВВ"},{"$f":"Расчеты!O13","v":"-++++"},{"$f":"Расчеты!P13","v":0.69206349206349216},"Счет матча",null,null,"2 команда",{"$f":"Расчеты!AG47","v":"Нет"}]
[null,"Исход матча","ТБ 2,5","Мощь",null,"Вероятность гола",null,null,null,null,"New Total Bomb 2016   39"]
[null,{"$f":"Расчеты!W26","v":"1Х"},{"$f":"Расчеты!P14","v":0.75},"1 команда","2 команда","1 команда","2 команда",{"$f":"CONCATENATE(Расчеты!Q66,\" - \",Расчеты!Q67)","v":"1 - 4"}]
[null,null,null,{"$f":"Расчеты!Q12","v":1.9928571428571424},{"$f":"Расчеты!Q13","v":1.5499999999999998},{"$f":"Расчеты!R12","v":"Да"},{"$f":"Расчеты!R13","v":"Да"},null,null,null,"К1","Результат 1",null,"Результат 2",null,"ПРОГНОЗ",null,"К2"]
[null,"Линия БК bet365","П1","Х","П2","ТБ 2,5","ТМ 2,5","ОЗ \"Да\"","ОЗ \"Нет\"","Маржа (%) ТБ:",null,{"$f":"Расчеты!V112","v":1},{"$f":"Расчеты!W112","v":1},{"$f":"Расчеты!X112","v":2},{"$f":"Расчеты!Y112","v":2},{"$f":"Расчеты!Z112","v":"X2"}]
[null,"Коэффициенты:",{"$f":"Расчеты!E33","v":2.93},{"$f":"Расчеты!F33","v":3.8},{"$f":"Расчеты!G33","v":2.02},{"$f":"Расчеты!J33","v":1.45},{"$f":"Расчеты!K33","v":2.68},{"$f":"Расчеты!N33","v":1.36},{"$f":"Расчеты!O33","v":2.88},{"$f":"Расчеты!K31","v":6.2789500772002071E-2},{"$f":"Расчеты!V120","v":1.7384610090993393},null,null,null,null,null,null,{"$f":"Расчеты!W120","v":1.9734004758701489}]
[null,"Вероятность %:",{"$f":"Расчеты!E34","v":0.31040980888525838},{"$f":"Расчеты!F34","v":0.23934230000889659},{"$f":"Расчеты!G34","v":0.45024789110584507},{"$f":"Расчеты!J34","v":0.64891041162227603},{"$f":"Расчеты!K34","v":0.35108958837772392},{"$f":"Расчеты!N34","v":0.67924528301886788},{"$f":"Расчеты!O34","v":0.32075471698113206},"Маржа (%) ОЗ:",null,null,1,"X",2,"ТБ2,5","ТМ2,5"]
[null,"Валуйность %:",{"$f":"C35-C39","v":-0.15248787639360079},{"$f":"D35-D39","v":5.0205420403635792E-2},{"$f":"E35-E39","v":0.10806522276003599},{"$f":"F35-I42","v":-0.19146497074779822},{"$f":"G35-I39","v":0.1914649707477982},{"$f":"H35-D42","v":-0.1305601206984861},{"$f":"I35-E42","v":0.13056012069848613},{"$f":"Расчеты!O31","v":8.2516339869280975E-2},"%",null,{"$f":"Расчеты!X116","v":34.558051958266518},{"$f":"Расчеты!Y116","v":21.430599524756769},{"$f":"Расчеты!Z116","v":43.865717931533993},{"$f":"Расчеты!AB116","v":71.65687693019396},{"$f":"Расчеты!AA116","v":28.343123069806047}]
[null,"Маржа (%) 1х2:",{"$f":"Расчеты!G31","v":9.9504328014982102E-2},"Вероятность событий и распределение коэффициентов в соответсвии с распределением Пуассона",null,null,null,null,null,null,"Кф",null,{"$f":"Расчеты!X117","v":2.8936816265211771},{"$f":"Расчеты!Y117","v":4.6662250341843841},{"$f":"Расчеты!Z117","v":2.2796845626938307},{"$f":"Расчеты!AB117","v":1.3955394692601115},{"$f":"Расчеты!AA117","v":3.5281927031721527}]
[null,"Исход","П1","Х","П2","1К забьет \"Да\"","2К забьет \"Да\"","ТМ 1,5","ТМ 2,5","ТМ 3,5"]
[null,"Вероятность в %:",{"$f":"Расчеты!AD17/100","v":0.46289768527885916},{"$f":"Расчеты!AD18/100","v":0.18913687960526079},{"$f":"Расчеты!AD19/100","v":0.34218266834580907},{"$f":"Расчеты!AD26/100","v":0.91687409395731512},{"$f":"Расчеты!AD28/100","v":0.88316260532897251},{"$f":"Расчеты!AD21/100","v":5.498385065486025E-2},{"$f":"Расчеты!AD23/100","v":0.15962461762992572},{"$f":"Расчеты!AD25/100","v":0.32107037239145525}]
[null,"Коэффициенты:",{"$f":"Расчеты!AE17","v":2.1603046025118471},{"$f":"Расчеты!AE18","v":5.2871761556342456},{"$f":"Расчеты!AE19","v":2.9224156934488632},{"$f":"Расчеты!AE26","v":1.0906622911373858},{"$f":"Расчеты!AE28","v":1.1322943181312646},{"$f":"Расчеты!AE21","v":18.187158376322373},{"$f":"Расчеты!AE23","v":6.2646978570586374},{"$f":"Расчеты!AE25","v":3.1145819919527811},"МОЖНО СТАВИТЬ",null,null,{"$f":"Расчеты!Y118","v":"OK"},{"$f":"Расчеты!Z118","v":"OK"},{"$f":"Расчеты!AA118","v":"OK"},{"$f":"Расчеты!AB118","v":"OK"},{"$f":"Расчеты!AC118","v":"NO"}]
[null,"Вероятный счет",null,"Обе забьют \"Да\"","Обе забьют \"Нет\"","1К забьет \"Нет\"","2К забьет \"Нет\"","ТБ 1,5","ТБ 2,5","ТБ 3,5","%",null,null,{"$f":"Расчеты!Y119","v":97.55679988874553},{"$f":"Расчеты!Z119","v":88.487979495706909},{"$f":"Расчеты!AA119","v":71.65687693019396},{"$f":"Расчеты!AB119","v":50.831969809361041},{"$f":"Расчеты!AC119","v":33.980878671916201}]
[null,{"$f":"Расчеты!S12","v":2},{"$f":"Расчеты!S13","v":2},{"$f":"Расчеты!AD30/100","v":0.80980540371735399},{"$f":"Расчеты!AD31/100","v":0.19019459628264593},{"$f":"Расчеты!AD27/100","v":8.3125906042684897E-2},{"$f":"Расчеты!AD29/100","v":0.11683739467102758},{"$f":"Расчеты!AD20/100","v":0.94501614934513978},{"$f":"Расчеты!AD22/100","v":0.84037538237007425},{"$f":"Расчеты!AD24/100","v":0.67892962760854469},"БОЛЬШЕ",null,null,0.5,1.5,2.5,3.5,4.5]
[null,null,null,{"$f":"Расчеты!AE30","v":1.234864567968516},{"$f":"Расчеты!AE31","v":5.2577729312241441},{"$f":"Расчеты!AE27","v":12.029944064447287},{"$f":"Расчеты!AE29","v":8.5589036182777214},{"$f":"Расчеты!AE20","v":1.0581829746433031},{"$f":"Расчеты!AE22","v":1.1899444236214338},{"$f":"Расчеты!AE24","v":1.4729067039280499},"Кф",null,null,{"$f":"Расчеты!Y121","v":1.0250438730466838},{"$f":"Расчеты!Z121","v":1.1300969981448339},{"$f":"Расчеты!AA121","v":1.3955394692601115},{"$f":"Расчеты!AB121","v":1.9672658835578773},{"$f":"Расчеты!AC121","v":2.9428314954858976}]
[null,"Tyresyas  39","Показатели",null,null,null,"Прогноз"]
[null,null,"Дома","Гости","Тотал","Дельта","К1 Заб","2К Заб","ОЗ","Тотал1","Тотал2","1X2","ОНЗ","Чет/нечет"]
[null,"Вариант1",{"$f":"Расчеты!AK66","v":2.35},{"$f":"Расчеты!AL66","v":2.649999999999999},{"$f":"Расчеты!AM66","v":4.9999999999999991},{"$f":"Расчеты!AN66","v":-0.29999999999999893},{"$f":"Расчеты!AO66","v":"Да"},{"$f":"Расчеты!AP66","v":"Да"},{"$f":"Расчеты!AQ66","v":"Да"},{"$f":"Расчеты!AR66","v":"ТБ2.5"},{"$f":"Расчеты!AS66","v":"ТБ2.5"},{"$f":"Расчеты!AT66","v":"-"},{"$f":"Расчеты!AU66","v":"-"},{"$f":"Расчеты!AV66","v":"Чет"}]
[null,"Вариант2",{"$f":"Расчеты!AK67","v":1.7878787878787881},{"$f":"Расчеты!AL67","v":1.0393939393939395},{"$f":"Расчеты!AM67","v":2.8272727272727276},{"$f":"Расчеты!AN67","v":0.74848484848484853},{"$f":"Расчеты!AO67","v":"Да"},{"$f":"Расчеты!AP67","v":"-"},{"$f":"Расчеты!AQ67","v":"-"},{"$f":"Расчеты!AR67","v":"ТБ1.5"},{"$f":"Расчеты!AS67","v":"-"},{"$f":"Расчеты!AT67","v":"-"},{"$f":"Расчеты!AU67","v":"-"},{"$f":"Расчеты!AV67","v":"Чет"}]
[null,"Вариант3",{"$f":"Расчеты!AK68","v":0.66666666666666663},{"$f":"Расчеты!AL68","v":0.93333333333333368},{"$f":"Расчеты!AM68","v":1.6000000000000003},{"$f":"Расчеты!AN68","v":-0.26666666666666705},{"$f":"Расчеты!AO68","v":"-"},{"$f":"Расчеты!AP68","v":"-"},{"$f":"Расчеты!AQ68","v":"-"},{"$f":"Расчеты!AR68","v":"ТМ3.5"},{"$f":"Расчеты!AS68","v":"-"},{"$f":"Расчеты!AT68","v":"-"},{"$f":"Расчеты!AU68","v":"-"},{"$f":"Расчеты!AV68","v":"Чет"}]
[null,"Вариант4",{"$f":"Расчеты!AK69","v":2.7499999999999991},{"$f":"Расчеты!AL69","v":0.7000000000000004},{"$f":"Расчеты!AM69","v":3.4499999999999993},{"$f":"Расчеты!AN69","v":2.0499999999999989},{"$f":"Расчеты!AO69","v":"Да"},{"$f":"Расчеты!AP69","v":"-"},{"$f":"Расчеты!AQ69","v":"-"},{"$f":"Расчеты!AR69","v":"ТБ1.5"},{"$f":"Расчеты!AS69","v":"-"},{"$f":"Расчеты!AT69","v":"П1"},{"$f":"Расчеты!AU69","v":"-"},{"$f":"Расчеты!AV69","v":"Чет"}]
[null,"Вариант5",{"$f":"Расчеты!AK70","v":1.9333333333333333},{"$f":"Расчеты!AL70","v":1.6424242424242426},{"$f":"Расчеты!AM70","v":3.5757575757575761},{"$f":"Расчеты!AN70","v":0.29090909090909078},{"$f":"Расчеты!AO70","v":"Да"},{"$f":"Расчеты!AP70","v":"Да"},{"$f":"Расчеты!AQ70","v":"Да"},{"$f":"Расчеты!AR70","v":"ТБ2.5"},{"$f":"Расчеты!AS70","v":"ТБ1.5"},{"$f":"Расчеты!AT70","v":"-"},{"$f":"Расчеты!AU70","v":"-"},{"$f":"Расчеты!AV70","v":"Нечет"}]
[null,"Вариант6",{"$f":"Расчеты!AK71","v":2.2666666666666666},{"$f":"Расчеты!AL71","v":2.0666666666666669},{"$f":"Расчеты!AM71","v":4.3333333333333339},{"$f":"Расчеты!AN71","v":0.19999999999999973},{"$f":"Расчеты!AO71","v":"Да"},{"$f":"Расчеты!AP71","v":"Да"},{"$f":"Расчеты!AQ71","v":"Да"},{"$f":"Расчеты!AR71","v":"ТБ2.5"},{"$f":"Расчеты!AS71","v":"ТБ1.5"},{"$f":"Расчеты!AT71","v":"-"},{"$f":"Расчеты!AU71","v":"-"},{"$f":"Расчеты!AV71","v":"Нечет"}]
[null,"Вариант7",{"$f":"Расчеты!AK89","v":2.1999999999999997},{"$f":"Расчеты!AL89","v":0.79999999999999993},{"$f":"Расчеты!AM89","v":2.9999999999999996},{"$f":"Расчеты!AN89","v":1.4},{"$f":"Расчеты!AO89","v":"Да"},{"$f":"Расчеты!AP89","v":"-"},{"$f":"Расчеты!AQ89","v":"-"},{"$f":"Расчеты!AR89","v":"ТБ1.5"},{"$f":"Расчеты!AS89","v":"-"},{"$f":"Расчеты!AT89","v":"1X"},{"$f":"Расчеты!AU89","v":"-"},{"$f":"Расчеты!AV89","v":"Чет"}]
[null,"Вариант8",{"$f":"Расчеты!AK90","v":2.0121212121212122},{"$f":"Расчеты!AL90","v":1.0606060606060606},{"$f":"Расчеты!AM90","v":3.0727272727272728},{"$f":"Расчеты!AN90","v":0.95151515151515165},{"$f":"Расчеты!AO90","v":"Да"},{"$f":"Расчеты!AP90","v":"-"},{"$f":"Расчеты!AQ90","v":"-"},{"$f":"Расчеты!AR90","v":"ТБ1.5"},{"$f":"Расчеты!AS90","v":"-"},{"$f":"Расчеты!AT90","v":"-"},{"$f":"Расчеты!AU90","v":"-"},{"$f":"Расчеты!AV90","v":"Чет"}]
[null,"Вариант9",{"$f":"Расчеты!AK91","v":3.1333333333333337},{"$f":"Расчеты!AL91","v":1.166666666666667},{"$f":"Расчеты!AM91","v":4.3000000000000007},{"$f":"Расчеты!AN91","v":1.9666666666666668},{"$f":"Расчеты!AO91","v":"Да"},{"$f":"Расчеты!AP91","v":"-"},{"$f":"Расчеты!AQ91","v":"-"},{"$f":"Расчеты!AR91","v":"ТБ2.5"},{"$f":"Расчеты!AS91","v":"ТБ1.5"},{"$f":"Расчеты!AT91","v":"П1"},{"$f":"Расчеты!AU91","v":"-"},{"$f":"Расчеты!AV91","v":"Нечет"}]
[null,"Вариант10",{"$f":"Расчеты!AK92","v":3},{"$f":"Расчеты!AL92","v":1.4500000000000002},{"$f":"Расчеты!AM92","v":4.45},{"$f":"Расчеты!AN92","v":1.5499999999999998},{"$f":"Расчеты!AO92","v":"Да"},{"$f":"Расчеты!AP92","v":"-"},{"$f":"Расчеты!AQ92","v":"-"},{"$f":"Расчеты!AR92","v":"ТБ2.5"},{"$f":"Расчеты!AS92","v":"ТБ1.5"},{"$f":"Расчеты!AT92","v":"П1"},{"$f":"Расчеты!AU92","v":"-"},{"$f":"Расчеты!AV92","v":"Чет"}]
[null,"Вариант11",{"$f":"Расчеты!AK93","v":1.8666666666666665},{"$f":"Расчеты!AL93","v":1.5575757575757576},{"$f":"Расчеты!AM93","v":3.4242424242424239},{"$f":"Расчеты!AN93","v":0.30909090909090886},{"$f":"Расчеты!AO93","v":"Да"},{"$f":"Расчеты!AP93","v":"Да"},{"$f":"Расчеты!AQ93","v":"Да"},{"$f":"Расчеты!AR93","v":"ТБ1.5"},{"$f":"Расчеты!AS93","v":"-"},{"$f":"Расчеты!AT93","v":"-"},{"$f":"Расчеты!AU93","v":"-"},{"$f":"Расчеты!AV93","v":"Чет"}]
[null,"Вариант12",{"$f":"Расчеты!AK94","v":1.5333333333333332},{"$f":"Расчеты!AL94","v":1.1333333333333331},{"$f":"Расчеты!AM94","v":2.6666666666666661},{"$f":"Расчеты!AN94","v":0.40000000000000013},{"$f":"Расчеты!AO94","v":"Да"},{"$f":"Расчеты!AP94","v":"-"},{"$f":"Расчеты!AQ94","v":"-"},{"$f":"Расчеты!AR94","v":"ТБ1.5"},{"$f":"Расчеты!AS94","v":"-"},{"$f":"Расчеты!AT94","v":"-"},{"$f":"Расчеты!AU94","v":"-"},{"$f":"Расчеты!AV94","v":"Чет"}]

{"sheet":"Valui","index":7,"n_rows":41,"n_cols":17,"rows_kept":41,"cut":false,"hidden":true,"merged":[[3,3,4,6],[3,9,4,12]]}
[]
[]
[]
[null,null,null,{"$f":"'Incognito DATA'!A1","v":"Cardiff U23"},null,null,null,null,null,{"$f":"'Incognito DATA'!A7","v":"Sheffield Utd U23"},null,null,null,null,null,"SVIZZERA  B"]
[null,null,null,null,null,null,null,null,null,null,null,null,null,null,null,"01.09.2014    ore  19.45"]
[]
[]
[]
[null,null,null,"BOOK",null,null,"Quota   1",null,"Quota   X",null,"Quota   2"]
[null,null,null,"WILLIAM  HILL"]
[null,null,null,null,null,null,{"$f":"Коэффициенты!C2","v":3.46},null,{"$f":"Коэффициенты!C3","v":4.2699999999999996},null,{"$f":"Коэффициенты!C4","v":1.83}]
[]
[null,null,null,"probabilità percentuale quote",null,null,{"$f":"100/G11","v":28.901734104046245},null,{"$f":"100/I11","v":23.419203747072601},null,{"$f":"100/K11","v":54.644808743169399},null,{"$f":"SUM(G13+I13+K13)","v":106.96574659428825},null,"AGGIO  DEL  BOOK",null,{"$f":"M13-100","v":6.9657465942882482}]
[]
[]
[null,null,null,null,null,null,{"$f":"(M29+M40)/2","v":35},null,{"$f":"(N29+N40)/2","v":2.2727272727272729},null,{"$f":"(O29+O40)/2","v":62.727272727272727},null,"Picchetto tecnico"]
[null,null,null,null,null,null,null,null,null,null,null,null,"Esso è ricavato dalla media del picchetto casa/fuori e del picchetto forma"]
[null,null,null,null,null,null,{"$f":"100/G16","v":2.8571428571428572},null,{"$f":"100/I16","v":43.999999999999993},null,{"$f":"100/K16","v":1.5942028985507246},null,"costituito dalle ultime 5 giornate totali"]
[]
[null,null,null,null,null,null,null,null,null,null,null,null,"Vinte casa","Nulle casa","Perse casa"]
[null,null,null,null,"SEGNO  1",null,{"$f":"G16-G13","v":6.0982658959537552},null,{"$f":"IF(G21>9.99,\"value 1\",\"-\")","v":"-"},null,null,null,{"$f":"'Incognito DATA'!C3","v":8},{"$f":"'Incognito DATA'!D3","v":0},{"$f":"'Incognito DATA'!E3","v":3},null,{"$f":"D4","v":"Cardiff U23"}]
[null,null,null,null,null,null,null,null,null,null,null,null,"Vinte fuori","Nulle fuori","Perse fuori"]
[null,null,null,null,"SEGNO  X",null,{"$f":"I16-I13","v":-21.146476474345327},null,{"$f":"IF(G23>9.99,\"value Х\",\"-\")","v":"-"},null,null,null,{"$f":"'Incognito DATA'!C10","v":7},{"$f":"'Incognito DATA'!D10","v":1},{"$f":"'Incognito DATA'!E10","v":3},null,{"$f":"J4","v":"Sheffield Utd U23"}]
[]
[null,null,null,null,"SEGNO  2",null,{"$f":"K16-K13","v":8.0824639841033274},null,{"$f":"IF(G25>9.99,\"value 2\",\"-\")","v":"-"},null,null,null,"Segno  1","Segno  X","Segno  2"]
[null,null,null,null,null,null,null,null,null,null,null,null,{"$f":"M21+O23","v":11},{"$f":"N21+N23","v":1},{"$f":"O21+M23","v":10}]
[]
[null,null,null,null,null,null,null,null,null,null,null,null,"% SEGNO 1","% SEGNO X","% SEGNO 2"]
[null,null,null,null,null,null,null,null,null,null,null,null,{"$f":"M26*100/(M26+N26+O26)","v":50},{"$f":"N26*100/(M26+N26+O26)","v":4.5454545454545459},{"$f":"O26*100/(M26+N26+O26)","v":45.454545454545453}]
[]
[null,null,null,null,null,null,null,null,null,null,null,null,"Vinte u5","Nulle u5","Perse u5"]
[null,null,null,null,null,null,null,null,null,null,null,null,{"$f":"'Incognito DATA'!C5","v":2},{"$f":"'Incognito DATA'!D5","v":0},{"$f":"'Incognito DATA'!E5","v":3},null,{"$f":"D4","v":"Cardiff U23"}]
[null,null,null,null,null,null,null,null,null,null,null,null,"Vinte u5","Nulle u5","Perse u5"]
[null,null,null,null,null,null,null,null,null,null,null,null,{"$f":"'Incognito DATA'!C11","v":5},{"$f":"'Incognito DATA'!D11","v":0},{"$f":"'Incognito DATA'!E11","v":0},null,{"$f":"J4","v":"Sheffield Utd U23"}]
[]
[null,null,null,null,null,null,null,null,null,null,null,null,"Segno  1","Segno  X","Segno  2"]
[null,null,null,null,null,null,null,null,null,null,null,null,{"$f":"M32+O34","v":2},{"$f":"N32+N34","v":0},{"$f":"M34+O32","v":8}]
[]
[null,null,null,null,null,null,null,null,null,null,null,null,"% SEGNO 1","% SEGNO X","% SEGNO 2"]
[null,null,null,null,null,null,null,null,null,null,null,null,{"$f":"M37*100/(M37+N37+O37)","v":20},{"$f":"N37*100/(M37+N37+O37)","v":0},{"$f":"O37*100/(M37+N37+O37)","v":80}]
[null,null,null,null,null,null,null,null,null,null,null,null,{"$f":"M40/100","v":0.2},{"$f":"N40/100","v":0},0.8]

{"sheet":"Poisson","index":8,"n_rows":30,"n_cols":17,"rows_kept":30,"cut":false,"hidden":true,"merged":[]}
[]
[]
[]
[]
[]
[null,null,null,"Команда","Забито","Пропущено","Игры",null,"Средний"]
[null,null,"Дом",{"$f":"'Incognito DATA'!A1","v":"Cardiff U23"},{"$f":"'Incognito DATA'!F5","v":11},{"$f":"'Incognito DATA'!G5","v":6},{"$f":"'Incognito DATA'!B5","v":5},null,{"$f":"(E7+F8)/(G8+G7)","v":1.3}]
[null,null,"Гости",{"$f":"'Incognito DATA'!A7","v":"Sheffield Utd U23"},{"$f":"'Incognito DATA'!F11","v":18},{"$f":"'Incognito DATA'!G11","v":2},{"$f":"'Incognito DATA'!B11","v":5},null,{"$f":"(E8+F7)/(G7+G8)","v":2.4}]
[]
[null,null,null,null,null,null,null,0,1,2,3,4,5,6,7,8,9]
[null,null,null,null,null,null,0,{"$f":"POISSON(G11,I7,0)*POISSON(H10,I8,0)","v":2.4723526470339392E-2},{"$f":"POISSON(G11,I7,0)*POISSON(I10,I8,0)","v":5.933646352881454E-2},{"$f":"POISSON(G11,I7,0)*POISSON(J10,I8,0)","v":7.1203756234577462E-2},{"$f":"POISSON(G11,I7,0)*POISSON(K10,I8,0)","v":5.6963004987661964E-2},{"$f":"POISSON(G11,I7,0)*POISSON(L10,I8,0)","v":3.4177802992597178E-2},{"$f":"POISSON(G11,I7,0)*POISSON(M10,I8,0)","v":1.6405345436446638E-2},{"$f":"POISSON(G11,I7,0)*POISSON(N10,I8,0)","v":6.5621381745786566E-3},{"$f":"POISSON(G11,I7,0)*POISSON(O10,I8,0)","v":2.2498759455698244E-3},{"$f":"POISSON(G11,I7,0)*POISSON(P10,I8,0)","v":6.7496278367094691E-4},{"$f":"POISSON(G11,I7,0)*POISSON(Q10,I8,0)","v":1.7999007564558584E-4}]
[null,{"$f":"\"1\"","v":"1"},{"$f":"\"X\"","v":"X"},{"$f":"\"2\"","v":"2"},null,null,1,{"$f":"POISSON(G12,I7,0)*POISSON(H10,I8,0)","v":3.2140584411441214E-2},{"$f":"POISSON(G12,I7,0)*POISSON(I10,I8,0)","v":7.7137402587458909E-2},{"$f":"POISSON(G12,I7,0)*POISSON(J10,I8,0)","v":9.2564883104950701E-2},{"$f":"POISSON(G12,I7,0)*POISSON(K10,I8,0)","v":7.4051906483960553E-2},{"$f":"POISSON(G12,I7,0)*POISSON(L10,I8,0)","v":4.4431143890376334E-2},{"$f":"POISSON(G12,I7,0)*POISSON(M10,I8,0)","v":2.1326949067380627E-2},{"$f":"POISSON(G12,I7,0)*POISSON(N10,I8,0)","v":8.5307796269522528E-3},{"$f":"POISSON(G12,I7,0)*POISSON(O10,I8,0)","v":2.9248387292407719E-3},{"$f":"POISSON(G12,I7,0)*POISSON(P10,I8,0)","v":8.7745161877223106E-4},{"$f":"POISSON(G12,I7,0)*POISSON(Q10,I8,0)","v":2.339870983392616E-4}]
[null,{"$f":"SUM(H12:H20,I13:I20,J14:J20,K15:K20,L16:L20,M17:M20,N18:N20,O19:O20,P20)","v":0.19506370882970372},{"$f":"SUM(H11,I12,J13,K14,L15,M16,N17,O18,P19,Q20)","v":0.18750789171982346},{"$f":"1-C13-B13","v":0.6174283994504729},null,null,2,{"$f":"POISSON(G13,I7,0)*POISSON(H10,I8,0)","v":2.0891379867436794E-2},{"$f":"POISSON(G13,I7,0)*POISSON(I10,I8,0)","v":5.0139311681848306E-2},{"$f":"POISSON(G13,I7,0)*POISSON(J10,I8,0)","v":6.016717401821798E-2},{"$f":"POISSON(G13,I7,0)*POISSON(K10,I8,0)","v":4.8133739214574381E-2},{"$f":"POISSON(G13,I7,0)*POISSON(L10,I8,0)","v":2.8880243528744628E-2},{"$f":"POISSON(G13,I7,0)*POISSON(M10,I8,0)","v":1.3862516893797413E-2},{"$f":"POISSON(G13,I7,0)*POISSON(N10,I8,0)","v":5.5450067575189667E-3},{"$f":"POISSON(G13,I7,0)*POISSON(O10,I8,0)","v":1.9011451740065023E-3},{"$f":"POISSON(G13,I7,0)*POISSON(P10,I8,0)","v":5.7034355220195036E-4},{"$f":"POISSON(G13,I7,0)*POISSON(Q10,I8,0)","v":1.5209161392052008E-4}]
[null,{"$f":"1/B13","v":5.1265302295314656},{"$f":"1/C13","v":5.3331088671948379},{"$f":"1/D13","v":1.6196209971715354},null,null,3,{"$f":"POISSON(G14,I7,0)*POISSON(H10,I8,0)","v":9.0529312758892821E-3},{"$f":"POISSON(G14,I7,0)*POISSON(I10,I8,0)","v":2.1727035062134276E-2},{"$f":"POISSON(G14,I7,0)*POISSON(J10,I8,0)","v":2.6072442074561136E-2},{"$f":"POISSON(G14,I7,0)*POISSON(K10,I8,0)","v":2.0857953659648903E-2},{"$f":"POISSON(G14,I7,0)*POISSON(L10,I8,0)","v":1.2514772195789343E-2},{"$f":"POISSON(G14,I7,0)*POISSON(M10,I8,0)","v":6.0070906539788811E-3},{"$f":"POISSON(G14,I7,0)*POISSON(N10,I8,0)","v":2.4028362615915533E-3},{"$f":"POISSON(G14,I7,0)*POISSON(O10,I8,0)","v":8.2382957540281794E-4},{"$f":"POISSON(G14,I7,0)*POISSON(P10,I8,0)","v":2.4714887262084525E-4},{"$f":"POISSON(G14,I7,0)*POISSON(Q10,I8,0)","v":6.5906366032225392E-5}]
[null,null,null,null,null,null,4,{"$f":"POISSON(G15,I7,0)*POISSON(H10,I8,0)","v":2.9422026646640162E-3},{"$f":"POISSON(G15,I7,0)*POISSON(I10,I8,0)","v":7.0612863951936382E-3},{"$f":"POISSON(G15,I7,0)*POISSON(J10,I8,0)","v":8.4735436742323679E-3},{"$f":"POISSON(G15,I7,0)*POISSON(K10,I8,0)","v":6.7788349393858929E-3},{"$f":"POISSON(G15,I7,0)*POISSON(L10,I8,0)","v":4.0673009636315359E-3},{"$f":"POISSON(G15,I7,0)*POISSON(M10,I8,0)","v":1.9523044625431361E-3},{"$f":"POISSON(G15,I7,0)*POISSON(N10,I8,0)","v":7.8092178501725472E-4},{"$f":"POISSON(G15,I7,0)*POISSON(O10,I8,0)","v":2.6774461200591582E-4},{"$f":"POISSON(G15,I7,0)*POISSON(P10,I8,0)","v":8.032338360177469E-5},{"$f":"POISSON(G15,I7,0)*POISSON(Q10,I8,0)","v":2.1419568960473251E-5}]
[null,null,null,null,null,null,5,{"$f":"POISSON(G16,I7,0)*POISSON(H10,I8,0)","v":7.6497269281264411E-4},{"$f":"POISSON(G16,I7,0)*POISSON(I10,I8,0)","v":1.8359344627503459E-3},{"$f":"POISSON(G16,I7,0)*POISSON(J10,I8,0)","v":2.2031213553004156E-3},{"$f":"POISSON(G16,I7,0)*POISSON(K10,I8,0)","v":1.7624970842403322E-3},{"$f":"POISSON(G16,I7,0)*POISSON(L10,I8,0)","v":1.0574982505441994E-3},{"$f":"POISSON(G16,I7,0)*POISSON(M10,I8,0)","v":5.0759916026121539E-4},{"$f":"POISSON(G16,I7,0)*POISSON(N10,I8,0)","v":2.0303966410448621E-4},{"$f":"POISSON(G16,I7,0)*POISSON(O10,I8,0)","v":6.9613599121538106E-5},{"$f":"POISSON(G16,I7,0)*POISSON(P10,I8,0)","v":2.088407973646142E-5},{"$f":"POISSON(G16,I7,0)*POISSON(Q10,I8,0)","v":5.5690879297230446E-6}]
[null,null,null,null,null,null,6,{"$f":"POISSON(G17,I7,0)*POISSON(H10,I8,0)","v":1.6574408344273957E-4},{"$f":"POISSON(G17,I7,0)*POISSON(I10,I8,0)","v":3.9778580026257496E-4},{"$f":"POISSON(G17,I7,0)*POISSON(J10,I8,0)","v":4.7734296031509005E-4},{"$f":"POISSON(G17,I7,0)*POISSON(K10,I8,0)","v":3.8187436825207199E-4},{"$f":"POISSON(G17,I7,0)*POISSON(L10,I8,0)","v":2.2912462095124321E-4},{"$f":"POISSON(G17,I7,0)*POISSON(M10,I8,0)","v":1.0997981805659666E-4},{"$f":"POISSON(G17,I7,0)*POISSON(N10,I8,0)","v":4.3991927222638682E-5},{"$f":"POISSON(G17,I7,0)*POISSON(O10,I8,0)","v":1.5082946476333257E-5},{"$f":"POISSON(G17,I7,0)*POISSON(P10,I8,0)","v":4.5248839428999743E-6},{"$f":"POISSON(G17,I7,0)*POISSON(Q10,I8,0)","v":1.2066357181066599E-6}]
[null,"ТБ 0.5",{"$f":"VALUE(TEXT(SUM(H11:Q20)-H11,\"0,000\"))","v":0.97499999999999998},{"$f":"1/C18","v":1.0256410256410258},null,null,7,{"$f":"POISSON(G18,I7,0)*POISSON(H10,I8,0)","v":3.0781044067937358E-5},{"$f":"POISSON(G18,I7,0)*POISSON(I10,I8,0)","v":7.3874505763049664E-5},{"$f":"POISSON(G18,I7,0)*POISSON(J10,I8,0)","v":8.8649406915659613E-5},{"$f":"POISSON(G18,I7,0)*POISSON(K10,I8,0)","v":7.0919525532527682E-5},{"$f":"POISSON(G18,I7,0)*POISSON(L10,I8,0)","v":4.2551715319516612E-5},{"$f":"POISSON(G18,I7,0)*POISSON(M10,I8,0)","v":2.042482335336796E-5},{"$f":"POISSON(G18,I7,0)*POISSON(N10,I8,0)","v":8.1699293413471852E-6},{"$f":"POISSON(G18,I7,0)*POISSON(O10,I8,0)","v":2.8011186313190342E-6},{"$f":"POISSON(G18,I7,0)*POISSON(P10,I8,0)","v":8.4033558939570982E-7},{"$f":"POISSON(G18,I7,0)*POISSON(Q10,I8,0)","v":2.240894905055226E-7}]
[null,"ТБ 1.5",{"$f":"VALUE(TEXT(SUM(H13:H20,I12:I20,J11:J20,K11:Q20),\"0,000\"))","v":0.88400000000000001},{"$f":"1/C19","v":1.1312217194570136},null,null,8,{"$f":"POISSON(G19,I7,0)*POISSON(H10,I8,0)","v":5.0019196610398262E-6},{"$f":"POISSON(G19,I7,0)*POISSON(I10,I8,0)","v":1.2004607186495584E-5},{"$f":"POISSON(G19,I7,0)*POISSON(J10,I8,0)","v":1.4405528623794703E-5},{"$f":"POISSON(G19,I7,0)*POISSON(K10,I8,0)","v":1.152442289903576E-5},{"$f":"POISSON(G19,I7,0)*POISSON(L10,I8,0)","v":6.9146537394214565E-6},{"$f":"POISSON(G19,I7,0)*POISSON(M10,I8,0)","v":3.3190337949222972E-6},{"$f":"POISSON(G19,I7,0)*POISSON(N10,I8,0)","v":1.3276135179689193E-6},{"$f":"POISSON(G19,I7,0)*POISSON(O10,I8,0)","v":4.5518177758934363E-7},{"$f":"POISSON(G19,I7,0)*POISSON(P10,I8,0)","v":1.36554533276803E-7},{"$f":"POISSON(G19,I7,0)*POISSON(Q10,I8,0)","v":3.6414542207147464E-8}]
[null,"ТБ 2.5",{"$f":"VALUE(TEXT(SUM(H14:H20,I13:I20,J12:J20,K11:Q20),\"0,000\"))","v":0.71399999999999997},{"$f":"1/C20","v":1.400560224089636},null,null,9,{"$f":"POISSON(G20,I7,0)*POISSON(H10,I8,0)","v":7.2249950659463944E-7},{"$f":"POISSON(G20,I7,0)*POISSON(I10,I8,0)","v":1.7339988158271345E-6},{"$f":"POISSON(G20,I7,0)*POISSON(J10,I8,0)","v":2.0807985789925619E-6},{"$f":"POISSON(G20,I7,0)*POISSON(K10,I8,0)","v":1.6646388631940493E-6},{"$f":"POISSON(G20,I7,0)*POISSON(L10,I8,0)","v":9.9878331791642953E-7},{"$f":"POISSON(G20,I7,0)*POISSON(M10,I8,0)","v":4.7941599259988589E-7},{"$f":"POISSON(G20,I7,0)*POISSON(N10,I8,0)","v":1.9176639703995442E-7},{"$f":"POISSON(G20,I7,0)*POISSON(O10,I8,0)","v":6.5748478985127205E-8},{"$f":"POISSON(G20,I7,0)*POISSON(P10,I8,0)","v":1.9724543695538149E-8},{"$f":"POISSON(G20,I7,0)*POISSON(Q10,I8,0)","v":5.2598783188101737E-9}]
[null,"ТБ 3.5",{"$f":"VALUE(TEXT(SUM(H15:H20,I14:I20,J13:J20,K12:K20,L11:Q20),\"0,000\"))","v":0.50600000000000001},{"$f":"1/C21","v":1.9762845849802371}]
[null,"ТБ 4.5",{"$f":"VALUE(TEXT(SUM(H16:H20,I15:I20,J14:J20,K13:K20,L12:L20,M11:Q20),\"0,000\"))","v":0.313},3.1948881789137382]
[null,"ТБ 5.5",{"$f":"VALUE(TEXT(SUM(H17:H20,I16:I20,J15:J20,K14:K20,L13:L20,M12:M20,N11:Q20),\"0,000\"))","v":0.17},5.8823529411764701]
[]
[null,"ТМ 0.5",{"$f":"1-C18","v":2.5000000000000022E-2},39.999999999999964,null,"ОЗ",{"$f":"VALUE(TEXT(SUM(I12:Q20),\"0,000\"))","v":0.66100000000000003},{"$f":"1/G25","v":1.51285930408472}]
[null,"ТМ 1.5",0.11599999999999999,8.6206896551724146,null,"НЕ ОЗ",{"$f":"1-G25","v":0.33899999999999997},{"$f":"1/G26","v":2.9498525073746316}]
[null,"ТМ 2.5",0.28600000000000003,3.4965034965034962]
[null,"ТМ 3.5",0.49399999999999999,2.0242914979757085,null,"P",{"$f":"VALUE(TEXT(SUM(H11,H13,H15,H17,H19,I12,I14,I16,I18,I20,J11,J13,J15,J17,J19,K12,K14,K16,K18,K20,L11,L13,L15,L17,L19,M12,M14,M16,M18,M20)+SUM(N11,N13,N15,N17,N19,O12,O14,O16,O18,O20,P11,P13,P15,P17,P19,Q12,Q14,Q16,Q18,Q20),\"0,000\"))","v":0.5},{"$f":"1/G28","v":2}]
[null,"ТМ 4.5",0.68700000000000006,1.4556040756914119,null,"D",{"$f":"1-G28","v":0.5},{"$f":"1/G29","v":2}]
[null,"ТМ 5.5",0.83,1.2048192771084338]

{"sheet":"Графики","index":9,"n_rows":110,"n_cols":68,"rows_kept":110,"cut":false,"hidden":true,"merged":[[41,54,41,60],[25,9,25,10],[26,9,26,11],[1,52,2,52],[8,52,9,52],[15,52,16,52]]}
[{"$f":"'Incognito DATA'!A1","v":"Cardiff U23"},{"$f":"TREND(F2:F8,E2:E8,E9)","v":2.5714285714285716},null,null,null,null,null,null,null,null,null,null,null,"И","В","Н","П","З","П",null,"В","Н","П","З","П",null,null,null,null,null,null,null,null,null,null,null,null,null,null,null,null,null,null,null,null,null,null,null,null,null,null,null,null,"#",1,"X",2,"ТМ1.5","ТБ1.5","ТМ2.5","ТБ2.5","ТМ3.5","ТБ3.5","BTS Y","BTS N","1X","X2",12]
["дома",{"$f":"ДомаДома!L2","v":0},{"$f":"ДомаДома!M2","v":2},{"$f":"ДомаДома!N2","v":"П"},1,{"$f":"B8","v":4},{"$f":"B2-C2","v":-2},{"$f":"G2+H3","v":20},5,{"$f":"Дома!L2","v":0},{"$f":"Дома!M2","v":2},{"$f":"Дома!N2","v":"П"},{"$f":"Дома!I2","v":"Дома"},{"$f":"IF(OR(M2=\"Гости\",M2=\"Дома\"),1,0)","v":1},{"$f":"IF(M2=\"Дома\",IF(L2=\"В\",1,0),0)","v":0},{"$f":"IF(M2=\"Дома\",IF(L2=\"Н\",1,0),0)","v":0},{"$f":"IF(M2=\"Дома\",IF(L2=\"П\",1,0),0)","v":1},{"$f":"IF(M2=\"Дома\",J2,0)","v":0},{"$f":"IF(M2=\"Дома\",K2,0)","v":2},null,{"$f":"IF(M2=\"Гости\",IF(L2=\"В\",1,0),0)","v":0},{"$f":"IF(M2=\"Гости\",IF(L2=\"Н\",1,0),0)","v":0},{"$f":"IF(M2=\"Гости\",IF(L2=\"П\",1,0),0)","v":0},{"$f":"IF(M2=\"Гости\",J2,0)","v":0},{"$f":"IF(M2=\"Гости\",K2,0)","v":0},null,null,null,null,null,null,null,null,null,null,null,null,null,null,null,null,null,{"$f":"Дома!I2","v":"Дома"},{"$f":"IF(OR(AQ2=\"Гости\",AQ2=\"Дома\"),1,0)","v":1},{"$f":"Дома!L2","v":0},{"$f":"Дома!M2","v":2},{"$f":"Дома!N2","v":"П"},{"$f":"IF(AU2=\"\",\"\",IF((AS2+AT2)>1,\"ТБ1.5\",\"ТМ1.5\"))","v":"ТБ1.5"},{"$f":"IF(AU2=\"\",\"\",IF((AS2+AT2)>2,\"ТБ2.5\",\"ТМ2.5\"))","v":"ТМ2.5"},{"$f":"IF(AU2=\"\",\"\",IF((AS2+AT2)>3,\"ТБ3.5\",\"ТМ3.5\"))","v":"ТМ3.5"},{"$f":"IF(AU2=\"\",\"\",IF(AND(AS2>0,AT2>0),\"BTS Y\",\"BTS N\"))","v":"BTS N"},null,"ALL H| A",{"$f":"MAX(AR2:AR11)","v":10},{"$f":"COUNTIF(AU2:AU11,\"В\")","v":6},{"$f":"COUNTIF(AU2:AU11,\"Н\")","v":0},{"$f":"COUNTIF(AU2:AU11,\"П\")","v":4},{"$f":"COUNTIF($AV2:$AY11,BF1)","v":0},{"$f":"COUNTIF($AV2:$AY11,BG1)","v":1},2,8,1,0,4,6,{"$f":"BC2+BD2","v":6},{"$f":"BD2+BE2","v":4},{"$f":"BC2+BE2","v":10}]
[null,{"$f":"ДомаДома!L3","v":6},{"$f":"ДомаДома!M3","v":1},{"$f":"ДомаДома!N3","v":"В"},2,{"$f":"B7","v":4},{"$f":"B3-C3","v":5},{"$f":"H4+G3","v":22},"m",{"$f":"Дома!L3","v":6},{"$f":"Дома!M3","v":1},{"$f":"Дома!N3","v":"В"},{"$f":"Дома!I3","v":"Дома"},{"$f":"IF(OR(M3=\"Гости\",M3=\"Дома\"),N2+1,N2)","v":2},{"$f":"IF(M3=\"Дома\",IF(L3=\"В\",O2+1,O2+0),O2+0)","v":1},{"$f":"IF(M3=\"Дома\",IF(L3=\"Н\",P2+1,P2+0),P2+0)","v":0},{"$f":"IF(M3=\"Дома\",IF(L3=\"П\",Q2+1,Q2+0),Q2+0)","v":1},{"$f":"IF(M3=\"Дома\",R2+J3,R2+0)","v":6},{"$f":"IF(M3=\"Дома\",S2+K3,S2+0)","v":3},null,{"$f":"IF(M3=\"Гости\",IF(L3=\"В\",U2+1,U2+0),U2+0)","v":0},{"$f":"IF(M3=\"Гости\",IF(L3=\"Н\",V2+1,V2+0),V2+0)","v":0},{"$f":"IF(M3=\"Гости\",IF(L3=\"П\",W2+1,W2+0),W2+0)","v":0},{"$f":"IF(M3=\"Гости\",X2+J3,X2+0)","v":0},{"$f":"IF(M3=\"Гости\",Y2+K3,Y2+0)","v":0},null,null,null,null,null,null,null,null,null,null,null,null,null,null,null,null,null,{"$f":"Дома!I3","v":"Дома"},{"$f":"IF(OR(AQ3=\"Гости\",AQ3=\"Дома\"),AR2+1,AR2)","v":2},{"$f":"Дома!L3","v":6},{"$f":"Дома!M3","v":1},{"$f":"Дома!N3","v":"В"},null,{"$f":"IF(AU3=\"\",\"\",IF((AS3+AT3)>2,\"ТБ2.5\",\"ТМ2.5\"))","v":"ТБ2.5"},null,{"$f":"IF(AU3=\"\",\"\",IF(AND(AS3>0,AT3>0),\"BTS Y\",\"BTS N\"))","v":"BTS Y"},null,null,{"$f":"MAX(AR14:AR23)","v":10},{"$f":"COUNTIF(AU14:AU23,\"В\")","v":7},{"$f":"COUNTIF(AU14:AU23,\"Н\")","v":2},{"$f":"COUNTIF(AU14:AU23,\"П\")","v":1},{"$f":"COUNTIF($AV14:$AY23,BF1)","v":0},{"$f":"COUNTIF($AV14:$AY23,BG1)","v":0},3,7,0,0,5,5,{"$f":"BC3+BD3","v":9},{"$f":"BD3+BE3","v":3},{"$f":"BC3+BE3","v":8}]
[null,{"$f":"ДомаДома!L4","v":4},{"$f":"ДомаДома!M4","v":0},{"$f":"ДомаДома!N4","v":"В"},3,{"$f":"B6","v":3},4,17,"a",{"$f":"Дома!L4","v":1},{"$f":"Дома!M4","v":2},{"$f":"Дома!N4","v":"П"},{"$f":"Дома!I4","v":"Гости"},{"$f":"IF(OR(M4=\"Гости\",M4=\"Дома\"),N3+1,N3)","v":3},{"$f":"IF(M4=\"Дома\",IF(L4=\"В\",O3+1,O3+0),O3+0)","v":1},{"$f":"IF(M4=\"Дома\",IF(L4=\"Н\",P3+1,P3+0),P3+0)","v":0},{"$f":"IF(M4=\"Дома\",IF(L4=\"П\",Q3+1,Q3+0),Q3+0)","v":1},{"$f":"IF(M4=\"Дома\",R3+J4,R3+0)","v":6},{"$f":"IF(M4=\"Дома\",S3+K4,S3+0)","v":3},null,{"$f":"IF(M4=\"Гости\",IF(L4=\"В\",U3+1,U3+0),U3+0)","v":0},{"$f":"IF(M4=\"Гости\",IF(L4=\"Н\",V3+1,V3+0),V3+0)","v":0},{"$f":"IF(M4=\"Гости\",IF(L4=\"П\",W3+1,W3+0),W3+0)","v":1},{"$f":"IF(M4=\"Гости\",X3+J4,X3+0)","v":1},{"$f":"IF(M4=\"Гости\",Y3+K4,Y3+0)","v":2},null,null,null,null,null,null,null,null,null,null,null,null,null,null,null,null,null,{"$f":"Дома!I4","v":"Гости"},3,{"$f":"Дома!L4","v":1},{"$f":"Дома!M4","v":2},{"$f":"Дома!N4","v":"П"},null,"ТБ2.5",null,"BTS Y",null,null,null,{"$f":"BC2/$BB$2","v":0.6},{"$f":"BD2/$BB$2","v":0},0.4,0,0.1,0.2,0.8,0.1,0,0.4,0.6,0.6,0.4,1]
[null,{"$f":"ДомаДома!L5","v":4},{"$f":"ДомаДома!M5","v":5},{"$f":"ДомаДома!N5","v":"П"},4,{"$f":"B5","v":4},-1,13,"t",{"$f":"Дома!L5","v":0},{"$f":"Дома!M5","v":1},{"$f":"Дома!N5","v":"П"},{"$f":"Дома!I5","v":"Гости"},4,1,0,1,6,3,null,0,0,2,1,3,null,null,null,null,null,null,null,null,null,null,null,null,null,null,null,null,null,{"$f":"Дома!I5","v":"Гости"},4,{"$f":"Дома!L5","v":0},{"$f":"Дома!M5","v":1},{"$f":"Дома!N5","v":"П"},null,"ТМ2.5",null,"BTS N",null,null,null,{"$f":"BC3/$BB$3","v":0.7},{"$f":"BD3/$BB$3","v":0.2},0.1,0,0,0.3,0.7,0,0,0.5,0.5,0.9,0.3,0.8]
[null,{"$f":"ДомаДома!L6","v":3},{"$f":"ДомаДома!M6","v":0},{"$f":"ДомаДома!N6","v":"В"},5,{"$f":"B4","v":4},3,{"$f":"H7+G6","v":14},"h",{"$f":"Дома!L6","v":4},{"$f":"Дома!M6","v":0},{"$f":"Дома!N6","v":"В"},{"$f":"Дома!I6","v":"Дома"},5,2,0,1,10,3,null,0,0,2,1,3,null,null,null,null,null,null,null,null,null,null,null,null,null,null,null,null,null,{"$f":"Дома!I6","v":"Дома"},5,{"$f":"Дома!L6","v":4},{"$f":"Дома!M6","v":0},{"$f":"Дома!N6","v":"В"},null,"ТБ2.5",null,"BTS N",null,null,null,{"$f":"(BC4+BE5)/2","v":0.35},{"$f":"(BD4+BD5)/2","v":0.1},{"$f":"(BC5+BE4)/2","v":0.55000000000000004},{"$f":"(BF4+BF5)/2","v":0},{"$f":"(BG4+BG5)/2","v":0.05},0.25,0.75,0.05,0,0.45,0.55000000000000004,0.75,0.35,0.9]
[null,{"$f":"ДомаДома!L7","v":4},{"$f":"ДомаДома!M7","v":1},{"$f":"ДомаДома!N7","v":"В"},6,{"$f":"B3","v":6},3,{"$f":"H8+G7","v":11},null,{"$f":"Очные!AG2","v":1},{"$f":"Очные!AH2","v":3},{"$f":"Очные!G2","v":"П"},{"$f":"Очные!S2","v":"Дома"},6,2,0,2,11,6,null,0,0,2,1,3,null,null,null,null,null,null,null,null,null,null,null,null,null,null,null,null,null,{"$f":"Дома!I7","v":"Дома"},6,{"$f":"Дома!L7","v":4},{"$f":"Дома!M7","v":5},{"$f":"Дома!N7","v":"П"},null,"ТБ2.5",null,"BTS Y",null,null,null,{"$f":"Коэффициенты!C2","v":3.46},{"$f":"Коэффициенты!C3","v":4.2699999999999996},{"$f":"Коэффициенты!C4","v":1.83},{"$f":"BH7*2","v":5.64},{"$f":"(BI7-35%)/100*100","v":1.0499999999999998},{"$f":"Коэффициенты!C6","v":2.82},{"$f":"Коэффициенты!C5","v":1.4},{"$f":"(BH7+30%)/100*100","v":3.1199999999999997},{"$f":"(BI7+30%)/100*100","v":1.7000000000000002},{"$f":"Коэффициенты!C7","v":1.46},{"$f":"Коэффициенты!C8","v":2.59},{"$f":"BC7/1.8","v":1.9222222222222221},{"$f":"BE7/1.8","v":1.0166666666666666},{"$f":"(BC7+BE7)/3.8","v":1.3921052631578947}]
[null,{"$f":"ДомаДома!L8","v":4},{"$f":"ДомаДома!M8","v":0},{"$f":"ДомаДома!N8","v":"В"},7,{"$f":"B2","v":0},4,{"$f":"H9+G8","v":8},null,{"$f":"Очные!AG3","v":1},{"$f":"Очные!AH3","v":1},{"$f":"Очные!G3","v":"Н"},{"$f":"Очные!S3","v":"Дома"},7,2,1,2,12,7,null,0,0,2,1,3,null,null,null,null,null,null,null,null,null,null,null,null,null,null,null,null,null,{"$f":"Дома!I8","v":"Гости"},7,{"$f":"Дома!L8","v":3},{"$f":"Дома!M8","v":0},{"$f":"Дома!N8","v":"В"},null,"ТБ2.5",null,"BTS N",null,null,null,{"$f":"((1/BC7)+BC6)/2","v":0.31950867052023124},{"$f":"((1/BD7)+BD6)/2","v":0.16709601873536301},0.54822404371584699,8.8652482269503549E-2,{"$f":"((1/BG7)+BG6)/2","v":0.5011904761904763},0.30230496453900713,0.73214285714285721,0.18525641025641026,0.29411764705882348,0.56746575342465755,0.46805019305019308,0.63511560693641622,0.66680327868852463,0.80916824196597359]
[null,{"$f":"ДомаДома!L9","v":2},{"$f":"ДомаДома!M9","v":1},{"$f":"ДомаДома!N9","v":"В"},8,null,1,{"$f":"H10+G9","v":4},null,{"$f":"Очные!AG4","v":0},{"$f":"Очные!AH4","v":3},{"$f":"Очные!G4","v":"П"},{"$f":"Очные!S4","v":"Гости"},8,2,1,2,12,7,null,0,0,3,1,6,null,null,null,null,null,null,null,null,null,null,null,null,null,null,null,null,null,{"$f":"Дома!I9","v":"Дома"},8,{"$f":"Дома!L9","v":3},{"$f":"Дома!M9","v":0},{"$f":"Дома!N9","v":"В"},null,"ТБ2.5",null,"BTS N",null,"H| A",{"$f":"MAX(AR26:AR35)","v":10},{"$f":"COUNTIF(AU26:AU35,\"В\")","v":8},{"$f":"COUNTIF(AU26:AU35,\"Н\")","v":0},{"$f":"COUNTIF(AU26:AU35,\"П\")","v":2},{"$f":"COUNTIF($AV26:$AY35,BF1)","v":0},{"$f":"COUNTIF($AV26:$AY35,BG1)","v":0},3,7,0,0,4,6,{"$f":"BC9+BD9","v":8},{"$f":"BD9+BE9","v":2},{"$f":"BC9+BE9","v":10}]
[null,{"$f":"ДомаДома!L10","v":1},{"$f":"ДомаДома!M10","v":0},{"$f":"ДомаДома!N10","v":"В"},null,null,1,{"$f":"H11+G10","v":3},null,{"$f":"Очные!AG5","v":1},{"$f":"Очные!AH5","v":1},{"$f":"Очные!G5","v":"Н"},{"$f":"Очные!S5","v":"Дома"},9,2,2,2,13,8,null,0,0,3,1,6,null,null,null,null,null,null,null,null,null,null,null,null,null,null,null,null,null,{"$f":"Дома!I10","v":"Дома"},9,{"$f":"Дома!L10","v":4},{"$f":"Дома!M10","v":1},{"$f":"Дома!N10","v":"В"},null,"ТБ2.5",null,"BTS Y",null,null,{"$f":"MAX(AR2:AR11)","v":10},{"$f":"COUNTIF(AU38:AU47,\"В\")","v":7},{"$f":"COUNTIF(AU38:AU47,\"Н\")","v":1},{"$f":"COUNTIF(AU38:AU47,\"П\")","v":2},{"$f":"COUNTIF($AV38:$AY47,BF1)","v":0},{"$f":"COUNTIF($AV38:$AY47,BG1)","v":0},4,6,0,0,4,6,{"$f":"BC10+BD10","v":8},{"$f":"BD10+BE10","v":3},{"$f":"BC10+BE10","v":9}]
[null,{"$f":"ДомаДома!L11","v":2},{"$f":"ДомаДома!M11","v":0},{"$f":"ДомаДома!N11","v":"В"},null,null,2,{"$f":"G11","v":2},null,{"$f":"Очные!AG6","v":""},{"$f":"Очные!AH6","v":""},{"$f":"Очные!G6","v":""},{"$f":"Очные!S6","v":""},9,2,2,2,13,8,null,0,0,3,1,6,null,null,null,null,null,null,null,null,null,null,null,null,null,null,null,null,null,{"$f":"Дома!I11","v":"Дома"},10,{"$f":"Дома!L11","v":4},{"$f":"Дома!M11","v":0},{"$f":"Дома!N11","v":"В"},null,"ТБ2.5",null,"BTS N",null,null,null,{"$f":"BC9/$BB$9","v":0.8},{"$f":"BD9/$BB$9","v":0},{"$f":"BE9/$BB$9","v":0.2},{"$f":"BF9/$BB$9","v":0},0,0.3,0.7,0,0,0.4,0.6,0.8,0.2,1]
[null,null,null,null,null,null,null,null,null,null,null,null,null,null,null,null,null,null,null,null,null,null,null,null,null,null,null,null,null,null,null,null,null,null,null,null,null,null,null,null,null,null,null,null,null,null,null,null,null,null,null,null,null,null,{"$f":"BC10/$BB$10","v":0.7},{"$f":"BD10/$BB$10","v":0.1},0.2,{"$f":"BF10/$BB$10","v":0},0,0.4,0.6,0,0,0.4,0.6,0.8,0.3,0.9]
[{"$f":"'Incognito DATA'!A7","v":"Sheffield Utd U23"},{"$f":"TREND(F14:F20,E2:E8,E9)","v":2.5714285714285712},null,null,null,null,null,null,null,null,null,null,null,"И",null,null,null,null,null,null,null,null,null,null,null,null,null,null,null,null,null,null,null,null,null,null,null,null,null,null,null,null,null,null,null,null,null,null,null,null,null,null,null,null,{"$f":"(BC11+BE12)/2","v":0.5},{"$f":"(BD11+BD12)/2","v":0.05},{"$f":"(BC12+BE11)/2","v":0.44999999999999996},{"$f":"(BF11+BF12)/2","v":0},{"$f":"(BG11+BG12)/2","v":0},{"$f":"(BH11+BH12)/2","v":0.35},0.64999999999999991,0,0,{"$f":"(BL11+BL12)/2","v":0.4},0.6,0.8,0.25,0.95]
["гости",{"$f":"ГостиГости!L2","v":2},{"$f":"ГостиГости!M2","v":0},{"$f":"ГостиГости!N2","v":"В"},null,{"$f":"B20","v":3},{"$f":"B14-C14","v":2},{"$f":"H15+G14","v":14},null,{"$f":"Гости!L2","v":2},{"$f":"Гости!M2","v":0},{"$f":"Гости!N2","v":"В"},{"$f":"Гости!I2","v":"Гости"},null,{"$f":"IF(M14=\"Дома\",IF(L14=\"В\",1,0),0)","v":0},{"$f":"IF(M14=\"Дома\",IF(L14=\"Н\",1,0),0)","v":0},{"$f":"IF(M14=\"Дома\",IF(L14=\"П\",1,0),0)","v":0},{"$f":"IF(M14=\"Дома\",J14,0)","v":0},{"$f":"IF(M14=\"Дома\",K14,0)","v":0},null,{"$f":"IF(M14=\"Гости\",IF(L14=\"В\",1,0),0)","v":1},{"$f":"IF(M14=\"Гости\",IF(L14=\"Н\",1,0),0)","v":0},{"$f":"IF(M14=\"Гости\",IF(L14=\"П\",1,0),0)","v":0},{"$f":"IF(M14=\"Гости\",J14,0)","v":2},{"$f":"IF(M14=\"Гости\",K14,0)","v":0},null,null,null,null,null,null,null,null,null,null,null,null,null,null,null,null,null,{"$f":"Гости!I2","v":"Гости"},{"$f":"IF(OR(AQ14=\"Гости\",AQ14=\"Дома\"),1,0)","v":1},{"$f":"Гости!L2","v":2},{"$f":"Гости!M2","v":0},{"$f":"Гости!N2","v":"В"},null,{"$f":"IF(AU14=\"\",\"\",IF((AS14+AT14)>2,\"ТБ2.5\",\"ТМ2.5\"))","v":"ТМ2.5"},null,{"$f":"IF(AU14=\"\",\"\",IF(AND(AS14>0,AT14>0),\"BTS Y\",\"BTS N\"))","v":"BTS N"},null,null,null,{"$f":"BC7","v":3.46},{"$f":"BD7","v":4.2699999999999996},1.83,5.64,1.0499999999999998,2.82,1.4,3.1199999999999997,1.7000000000000002,1.46,2.59,1.9222222222222221,1.0166666666666666,{"$f":"BP7","v":1.3921052631578947}]
[null,{"$f":"ГостиГости!L3","v":4},{"$f":"ГостиГости!M3","v":0},{"$f":"ГостиГости!N3","v":"В"},null,{"$f":"B19","v":1},{"$f":"B15-C15","v":4},{"$f":"H16+G15","v":12},null,{"$f":"Гости!L3","v":4},{"$f":"Гости!M3","v":0},{"$f":"Гости!N3","v":"В"},{"$f":"Гости!I3","v":"Гости"},null,{"$f":"IF(M15=\"Дома\",IF(L15=\"В\",O14+1,O14+0),O14+0)","v":0},{"$f":"IF(M15=\"Дома\",IF(L15=\"Н\",P14+1,P14+0),P14+0)","v":0},{"$f":"IF(M15=\"Дома\",IF(L15=\"П\",Q14+1,Q14+0),Q14+0)","v":0},{"$f":"IF(M15=\"Дома\",R14+J15,R14+0)","v":0},{"$f":"IF(M15=\"Дома\",S14+K15,S14+0)","v":0},null,{"$f":"IF(M15=\"Гости\",IF(L15=\"В\",U14+1,U14+0),U14+0)","v":2},{"$f":"IF(M15=\"Гости\",IF(L15=\"Н\",V14+1,V14+0),V14+0)","v":0},{"$f":"IF(M15=\"Гости\",IF(L15=\"П\",W14+1,W14+0),W14+0)","v":0},{"$f":"IF(M15=\"Гости\",X14+J15,X14+0)","v":6},{"$f":"IF(M15=\"Гости\",Y14+K15,Y14+0)","v":0},null,null,null,null,null,null,null,null,null,null,null,null,null,null,null,null,null,{"$f":"Гости!I3","v":"Гости"},{"$f":"IF(OR(AQ15=\"Гости\",AQ15=\"Дома\"),AR14+1,AR14)","v":2},{"$f":"Гости!L3","v":4},{"$f":"Гости!M3","v":0},{"$f":"Гости!N3","v":"В"},null,{"$f":"IF(AU15=\"\",\"\",IF((AS15+AT15)>2,\"ТБ2.5\",\"ТМ2.5\"))","v":"ТБ2.5"},null,{"$f":"IF(AU15=\"\",\"\",IF(AND(AS15>0,AT15>0),\"BTS Y\",\"BTS N\"))","v":"BTS N"},null,null,null,{"$f":"((1/BC14)+BC13)/2","v":0.3945086705202312},{"$f":"((1/BD14)+BD13)/2","v":0.14209601873536301},{"$f":"((1/BE14)+BE13)/2","v":0.49822404371584694},8.8652482269503549E-2,0.47619047619047628,0.35230496453900706,0.68214285714285716,0.16025641025641027,0.29411764705882348,0.54246575342465753,0.49305019305019304,0.66011560693641624,0.61680327868852469,0.8341682419659735]
[null,{"$f":"ГостиГости!L4","v":2},{"$f":"ГостиГости!M4","v":2},{"$f":"ГостиГости!N4","v":"Н"},null,{"$f":"B18","v":2},0,8,null,{"$f":"Гости!L4","v":4},{"$f":"Гости!M4","v":0},{"$f":"Гости!N4","v":"В"},{"$f":"Гости!I4","v":"Дома"},null,{"$f":"IF(M16=\"Дома\",IF(L16=\"В\",O15+1,O15+0),O15+0)","v":1},{"$f":"IF(M16=\"Дома\",IF(L16=\"Н\",P15+1,P15+0),P15+0)","v":0},{"$f":"IF(M16=\"Дома\",IF(L16=\"П\",Q15+1,Q15+0),Q15+0)","v":0},{"$f":"IF(M16=\"Дома\",R15+J16,R15+0)","v":4},{"$f":"IF(M16=\"Дома\",S15+K16,S15+0)","v":0},null,{"$f":"IF(M16=\"Гости\",IF(L16=\"В\",U15+1,U15+0),U15+0)","v":2},{"$f":"IF(M16=\"Гости\",IF(L16=\"Н\",V15+1,V15+0),V15+0)","v":0},{"$f":"IF(M16=\"Гости\",IF(L16=\"П\",W15+1,W15+0),W15+0)","v":0},{"$f":"IF(M16=\"Гости\",X15+J16,X15+0)","v":6},{"$f":"IF(M16=\"Гости\",Y15+K16,Y15+0)","v":0},null,null,null,null,null,null,null,null,null,null,null,null,null,null,null,null,null,{"$f":"Гости!I4","v":"Дома"},3,{"$f":"Гости!L4","v":4},{"$f":"Гости!M4","v":0},{"$f":"Гости!N4","v":"В"},null,"ТБ2.5",null,"BTS N",null,"H2H",{"$f":"MAX(AR50:AR59)","v":4},{"$f":"COUNTIF(AU50:AU59,\"В\")","v":0},{"$f":"COUNTIF(AU50:AU59,\"Н\")","v":2},{"$f":"COUNTIF(AU50:AU59,\"П\")","v":2},{"$f":"COUNTIF($AV50:$AY59,BF1)","v":0},{"$f":"COUNTIF($AV50:$AY59,BG1)","v":0},2,2,0,0,3,1,{"$f":"BC16+BD16","v":2},{"$f":"BD16+BE16","v":4},{"$f":"BC16+BE16","v":2}]
[null,{"$f":"ГостиГости!L5","v":1},{"$f":"ГостиГости!M5","v":2},{"$f":"ГостиГости!N5","v":"П"},null,{"$f":"B17","v":1},-1,8,null,{"$f":"Гости!L5","v":5},{"$f":"Гости!M5","v":0},{"$f":"Гости!N5","v":"В"},{"$f":"Гости!I5","v":"Дома"},null,2,0,0,9,0,null,2,0,0,6,0,null,null,null,null,null,null,null,null,null,null,null,null,null,null,null,null,null,{"$f":"Гости!I5","v":"Дома"},4,{"$f":"Гости!L5","v":5},{"$f":"Гости!M5","v":0},{"$f":"Гости!N5","v":"В"},null,"ТБ2.5",null,"BTS N",null,null,{"$f":"BB16","v":4},{"$f":"BE16","v":2},{"$f":"BD16","v":2},{"$f":"BC16","v":0},{"$f":"BF16","v":0},{"$f":"BG16","v":0},2,2,0,0,3,1,{"$f":"BC17+BD17","v":4},{"$f":"BD17+BE17","v":2},{"$f":"BC17+BE17","v":2}]
[null,{"$f":"ГостиГости!L6","v":2},{"$f":"ГостиГости!M6","v":0},{"$f":"ГостиГости!N6","v":"В"},null,{"$f":"B16","v":2},2,9,null,{"$f":"Гости!L6","v":3},{"$f":"Гости!M6","v":2},{"$f":"Гости!N6","v":"В"},{"$f":"Гости!I6","v":"Дома"},null,3,0,0,12,2,null,2,0,0,6,0,null,null,null,null,null,null,null,null,null,null,null,null,null,null,null,null,null,{"$f":"Гости!I6","v":"Дома"},5,{"$f":"Гости!L6","v":3},{"$f":"Гости!M6","v":2},{"$f":"Гости!N6","v":"В"},null,"ТБ2.5",null,"BTS Y",null,null,null,{"$f":"IFERROR(BC16/$BB$16, \"\")","v":0},{"$f":"IFERROR(BD16/$BB$16, \"\")","v":0.5},0.5,0,0,0.5,0.5,0,0,0.75,0.25,0.5,1,0.5]
[null,{"$f":"ГостиГости!L7","v":1},{"$f":"ГостиГости!M7","v":0},{"$f":"ГостиГости!N7","v":"В"},null,{"$f":"B15","v":4},1,7,null,{"$f":"Очные!AH2","v":3},{"$f":"Очные!AG2","v":1},{"$f":"Очные!M2","v":"В"},{"$f":"Очные!Z2","v":"Гости"},null,3,0,0,12,2,null,3,0,0,9,1,null,null,null,null,null,null,null,null,null,null,null,null,null,null,null,null,null,{"$f":"Гости!I7","v":"Дома"},6,{"$f":"Гости!L7","v":1},{"$f":"Гости!M7","v":1},{"$f":"Гости!N7","v":"Н"},null,"ТМ2.5",null,"BTS Y",null,null,null,{"$f":"IFERROR(BC17/$BB$17, \"\")","v":0.5},{"$f":"IFERROR(BD17/$BB$17, \"\")","v":0.5},0,0,0,0.5,0.5,0,0,0.75,0.25,1,0.5,0.5]
[null,{"$f":"ГостиГости!L8","v":3},{"$f":"ГостиГости!M8","v":2},{"$f":"ГостиГости!N8","v":"В"},null,{"$f":"B14","v":2},1,6,null,{"$f":"Очные!AH3","v":1},{"$f":"Очные!AG3","v":1},{"$f":"Очные!M3","v":"Н"},{"$f":"Очные!Z3","v":"Гости"},null,3,0,0,12,2,null,3,1,0,10,2,null,null,null,null,null,null,null,null,null,null,null,null,null,null,null,null,null,{"$f":"Гости!I8","v":"Гости"},7,{"$f":"Гости!L8","v":2},{"$f":"Гости!M8","v":2},{"$f":"Гости!N8","v":"Н"},null,"ТБ2.5",null,"BTS Y",null,null,null,{"$f":"IFERROR((BC18+BE19)/2,\"-\")","v":0},{"$f":"IFERROR((BD18+BD19)/2,\"-\")","v":0.5},{"$f":"IFERROR((BE18+BC19)/2,\"-\")","v":0.5},{"$f":"IFERROR((BF18+BF19)/2,\"-\")","v":0},0,0.5,0.5,0,0,0.75,0.25,0.75,0.75,0.5]
[null,{"$f":"ГостиГости!L9","v":0},{"$f":"ГостиГости!M9","v":1},{"$f":"ГостиГости!N9","v":"П"},null,null,-1,5,null,{"$f":"Очные!AH4","v":3},{"$f":"Очные!AG4","v":0},{"$f":"Очные!M4","v":"В"},{"$f":"Очные!Z4","v":"Дома"},null,4,0,0,15,2,null,3,1,0,10,2,null,null,null,null,null,null,null,null,null,null,null,null,null,null,null,null,null,{"$f":"Гости!I9","v":"Гости"},8,{"$f":"Гости!L9","v":1},{"$f":"Гости!M9","v":2},{"$f":"Гости!N9","v":"П"},null,"ТБ2.5",null,"BTS Y",null,null,null,{"$f":"BC14","v":3.46},{"$f":"BD14","v":4.2699999999999996},1.83,5.64,1.0499999999999998,2.82,1.4,3.1199999999999997,1.7000000000000002,1.46,2.59,1.9222222222222221,1.0166666666666666,{"$f":"BP14","v":1.3921052631578947}]
[null,{"$f":"ГостиГости!L10","v":3},{"$f":"ГостиГости!M10","v":0},{"$f":"ГостиГости!N10","v":"В"},null,null,3,{"$f":"H23+G22","v":6},null,{"$f":"Очные!AH5","v":1},{"$f":"Очные!AG5","v":1},{"$f":"Очные!M5","v":"Н"},{"$f":"Очные!Z5","v":"Гости"},null,4,0,0,15,2,null,3,2,0,11,3,null,null,null,null,null,null,null,null,null,null,null,null,null,null,null,null,null,{"$f":"Гости!I10","v":"Гости"},9,{"$f":"Гости!L10","v":2},{"$f":"Гости!M10","v":0},{"$f":"Гости!N10","v":"В"},null,"ТМ2.5",null,"BTS N",null,null,null,{"$f":"IFERROR(((1/BC21)+BC20)/2,\"-\")","v":0.14450867052023122},{"$f":"IFERROR(((1/BD21)+BD20)/2,\"-\")","v":0.36709601873536302},0.52322404371584696,8.8652482269503549E-2,0.47619047619047628,0.42730496453900713,0.60714285714285721,0.16025641025641027,0.29411764705882348,0.71746575342465757,0.31805019305019305,0.63511560693641622,0.86680327868852469,0.60916824196597352]
[null,{"$f":"ГостиГости!L11","v":4},{"$f":"ГостиГости!M11","v":1},{"$f":"ГостиГости!N11","v":"В"},null,null,3,{"$f":"G23","v":3},null,{"$f":"Очные!AH6","v":""},{"$f":"Очные!AG6","v":""},{"$f":"Очные!M6","v":""},{"$f":"Очные!Z6","v":""},null,4,0,0,15,2,null,3,2,0,11,3,null,null,null,null,null,null,null,null,null,null,null,null,null,null,null,null,null,{"$f":"Гости!I11","v":"Дома"},10,{"$f":"Гости!L11","v":4},{"$f":"Гости!M11","v":2},{"$f":"Гости!N11","v":"В"},null,"ТБ2.5",null,"BTS Y",null,null,null,1,"X",2,"ТМ1.5","ТБ1.5","ТМ2.5","ТБ2.5","ТМ3.5","ТБ3.5","BTS Y","BTS N","1X","X2",12]
[null,null,null,null,null,null,null,null,null,null,null,null,null,null,null,null,null,null,null,null,null,null,null,null,null,null,null,null,null,null,null,null,null,null,null,null,null,null,null,null,null,null,null,null,null,null,null,null,null,null,null,null,null,null,{"$f":"LARGE(BC6:BE6,1)","v":0.55000000000000004},{"$f":"HLOOKUP(BC24,$BC$6:$BE$23,18,0)","v":2},null,{"$f":"LARGE(BF6:BG6,1)","v":0.05},{"$f":"HLOOKUP(BF24,BF6:BG23,18,0)","v":"ТБ1.5"},{"$f":"LARGE(BH6:BI6,1)","v":0.75},{"$f":"HLOOKUP(BH24,BH6:BI23,18,0)","v":"ТБ2.5"},{"$f":"LARGE(BJ6:BK6,1)","v":0.05},{"$f":"HLOOKUP(BJ24,BJ6:BK23,18,0)","v":"ТМ3.5"},{"$f":"LARGE(BL6:BM6,1)","v":0.55000000000000004},{"$f":"HLOOKUP(BL24,BL6:BM23,18,0)","v":"BTS N"}]
["total",null,null,{"$f":"TREND(F26:F32,E2:E8,E9)","v":3.7857142857142856},null,null,null,null,null,null,null,null,null,"В","Н","П","З","П","О",null,"И","В","Н","П","З","П","О",null,"И","В","Н","П","З","П","О","рейтинг",null,null,"ср заб",null,null,null,null,null,null,null,null,null,null,null,null,null,null,null,{"$f":"LARGE(BC8:BE8,1)","v":0.54822404371584699},{"$f":"HLOOKUP(BC25,$BC$8:$BE$23,16,0)","v":2},null,{"$f":"LARGE(BF8:BG8,1)","v":0.5011904761904763},{"$f":"HLOOKUP(BF25,BF8:BG23,16,0)","v":"ТБ1.5"},{"$f":"LARGE(BH8:BI8,1)","v":0.73214285714285721},{"$f":"HLOOKUP(BH25,BH8:BI23,16,0)","v":"ТБ2.5"},{"$f":"LARGE(BJ8:BK8,1)","v":0.29411764705882348},{"$f":"HLOOKUP(BJ25,BJ8:BK23,16,0)","v":"ТБ3.5"},{"$f":"LARGE(BL8:BM8,1)","v":0.56746575342465755},{"$f":"HLOOKUP(BL25,BL8:BM23,16,0)","v":"BTS Y"}]
[null,{"$f":"AVERAGE(B2:C2)","v":1},{"$f":"AVERAGE(B14:C14)","v":1},{"$f":"SUM(B26:C26)","v":2},null,{"$f":"D32","v":4.5},null,null,null,{"$f":"A1","v":"Cardiff U23"},null,null,{"$f":"SUM(AO42:AO69)/100","v":0.28727074760528637},{"$f":"COUNTIF(L2:L11,\"В\")","v":2},{"$f":"COUNTIF(L2:L11,\"Н\")","v":2},{"$f":"COUNTIF(L2:L11,\"П\")","v":5},{"$f":"SUM(J2:J11)","v":14},{"$f":"SUM(K2:K11)","v":14},{"$f":"N26*3+O26","v":8},null,{"$f":"COUNTIF(M2:M11,\"Дома\")","v":6},{"$f":"MAX(O2:O11)","v":2},{"$f":"MAX(P2:P11)","v":2},2,13,8,{"$f":"V26*3+W26","v":8},null,{"$f":"COUNTIF(M2:M11,\"Гости\")","v":3},{"$f":"MAX(U2:U11)","v":0},{"$f":"MAX(V2:V11)","v":0},3,1,6,{"$f":"AD26*3+AE26","v":0},{"$f":"(((AA26+AI26)*1.5+(Y26*1.5)+(Z26*1.5))-(AG26*1.5)-(AH26*1.5))/15","v":2.2000000000000002},{"$f":"Q26/10","v":1.4},{"$f":"Y26/U26","v":2.1666666666666665},{"$f":"AVERAGE(AK26:AL26)","v":1.7833333333333332},null,null,null,{"$f":"ДомаДома!I2","v":"Дома"},{"$f":"IF(OR(AQ26=\"Гости\",AQ26=\"Дома\"),1,0)","v":1},{"$f":"ДомаДома!L2","v":0},{"$f":"ДомаДома!M2","v":2},{"$f":"ДомаДома!N2","v":"П"},null,{"$f":"IF(AU26=\"\",\"\",IF((AS26+AT26)>2,\"ТБ2.5\",\"ТМ2.5\"))","v":"ТМ2.5"},null,{"$f":"IF(AU26=\"\",\"\",IF(AND(AS26>0,AT26>0),\"BTS Y\",\"BTS N\"))","v":"BTS N"}]
[null,3.5,{"$f":"AVERAGE(B15:C15)","v":2},{"$f":"SUM(B27:C27)","v":5.5},null,{"$f":"D31","v":3},null,null,null,{"$f":"A13","v":"Sheffield Utd U23"},null,null,{"$f":"SUM(AO73:AO100)/100","v":0.51472106019139807},{"$f":"COUNTIF(L14:L23,\"В\")","v":7},{"$f":"COUNTIF(L14:L23,\"Н\")","v":2},{"$f":"COUNTIF(L14:L23,\"П\")","v":0},{"$f":"SUM(J14:J23)","v":26},{"$f":"SUM(K14:K23)","v":5},{"$f":"N27*3+O27","v":23},null,{"$f":"COUNTIF(M14:M23,\"Дома\")","v":4},{"$f":"MAX(O14:O23)","v":4},{"$f":"MAX(P14:P23)","v":0},0,15,2,{"$f":"V27*3+W27","v":12},null,{"$f":"COUNTIF(M14:M23,\"Гости\")","v":5},{"$f":"MAX(U14:U23)","v":3},{"$f":"MAX(V14:V23)","v":2},0,11,3,{"$f":"AD27*3+AE27","v":11},{"$f":"(((AA27+AI27)*1.5+(Y27*1.5)+(Z27*1.5))-(AG27*1.5)-(AH27*1.5))/15","v":2.6},{"$f":"Q27/10","v":2.6},{"$f":"AG27/AC27","v":2.2000000000000002},{"$f":"AVERAGE(AK27:AL27)","v":2.4000000000000004},null,null,null,{"$f":"ДомаДома!I3","v":"Дома"},{"$f":"IF(OR(AQ27=\"Гости\",AQ27=\"Дома\"),AR26+1,AR26)","v":2},{"$f":"ДомаДома!L3","v":6},{"$f":"ДомаДома!M3","v":1},{"$f":"ДомаДома!N3","v":"В"},null,{"$f":"IF(AU27=\"\",\"\",IF((AS27+AT27)>2,\"ТБ2.5\",\"ТМ2.5\"))","v":"ТБ2.5"},null,{"$f":"IF(AU27=\"\",\"\",IF(AND(AS27>0,AT27>0),\"BTS Y\",\"BTS N\"))","v":"BTS Y"},null,null,null,{"$f":"LARGE(BC13:BE13,1)","v":0.5},{"$f":"HLOOKUP(BC27,$BC$13:$BE$23,11,0)","v":1},null,{"$f":"LARGE(BF13:BG13,1)","v":0},{"$f":"HLOOKUP(BF27,BF13:BG23,11,0)","v":"ТМ1.5"},{"$f":"LARGE(BH13:BI13,1)","v":0.64999999999999991},{"$f":"HLOOKUP(BH27,BH13:BI23,11,0)","v":"ТБ2.5"},{"$f":"LARGE(BJ13:BK13,1)","v":0},{"$f":"HLOOKUP(BJ27,BJ13:BK23,11,0)","v":"ТМ3.5"},{"$f":"LARGE(BL13:BM13,1)","v":0.6},{"$f":"HLOOKUP(BL27,BL13:BM23,11,0)","v":"BTS N"}]
[null,2,2,4,null,{"$f":"D30","v":2.5},null,null,null,null,{"$f":"MAX(N2:N11)","v":9},"DR",{"$f":"SUM(AO104:AO110)/100","v":0.19412669062549898},null,null,null,null,null,null,null,null,null,null,null,null,null,null,null,null,null,null,null,null,null,null,null,null,null,null,null,null,null,{"$f":"ДомаДома!I4","v":"Дома"},3,{"$f":"ДомаДома!L4","v":4},{"$f":"ДомаДома!M4","v":0},{"$f":"ДомаДома!N4","v":"В"},null,"ТБ2.5",null,"BTS N",null,null,null,{"$f":"LARGE(BC15:BE15,1)","v":0.49822404371584694},{"$f":"HLOOKUP(BC28,$BC$15:$BE$23,9,0)","v":2},null,{"$f":"LARGE(BF15:BG15,1)","v":0.47619047619047628},{"$f":"HLOOKUP(BF28,BF15:BG23,9,0)","v":"ТБ1.5"},{"$f":"LARGE(BH15:BI15,1)","v":0.68214285714285716},{"$f":"HLOOKUP(BH28,BH15:BI23,9,0)","v":"ТБ2.5"},{"$f":"LARGE(BJ15:BK15,1)","v":0.29411764705882348},{"$f":"HLOOKUP(BJ28,BJ15:BK23,9,0)","v":"ТБ3.5"},{"$f":"LARGE(BL15:BM15,1)","v":0.54246575342465753},{"$f":"HLOOKUP(BL28,BL15:BM23,9,0)","v":"BTS Y"}]
[null,4.5,1.5,6,null,{"$f":"D29","v":6},null,null,null,null,null,null,null,null,null,null,null,null,null,null,null,null,null,null,null,null,null,null,null,null,null,null,null,null,null,null,null,"хоз","гости",null,null,null,{"$f":"ДомаДома!I5","v":"Дома"},4,{"$f":"ДомаДома!L5","v":4},{"$f":"ДомаДома!M5","v":5},{"$f":"ДомаДома!N5","v":"П"},null,"ТБ2.5",null,"BTS Y"]
[null,1.5,1,2.5,null,{"$f":"D28","v":4},null,null,null,null,null,null,{"$f":"AVERAGE(N30:O30)","v":0.17692307692307691},{"$f":"V26/U26/(V26/U26+W26/U26+AD27/AC27+AE27/AC27)","v":0.2},{"$f":"N26/K28/(N26/K28+O26/K28+N27/K28+O27/K28)","v":0.15384615384615383},null,null,null,null,null,null,null,null,null,null,null,null,null,null,null,null,null,null,null,null,null,0,{"$f":"POISSON(AK30,$AM$26,FALSE)*100","v":16.807695594952015},{"$f":"POISSON(AK30,$AM$27,FALSE)*100","v":9.0717953289412474},0,null,null,{"$f":"ДомаДома!I6","v":"Дома"},5,{"$f":"ДомаДома!L6","v":3},{"$f":"ДомаДома!M6","v":0},{"$f":"ДомаДома!N6","v":"В"},null,"ТБ2.5",null,"BTS N",null,null,null,{"$f":"LARGE(BC20:BE20,1)","v":0.5},{"$f":"HLOOKUP(BC30,$BC$20:$BE$23,4,0)","v":"X"},null,{"$f":"LARGE(BF20:BG20,1)","v":0},{"$f":"HLOOKUP(BF30,BF20:BG23,4,0)","v":"ТМ1.5"},{"$f":"LARGE(BH20:BI20,1)","v":0.5},{"$f":"HLOOKUP(BH30,BH20:BI23,4,0)","v":"ТМ2.5"},{"$f":"LARGE(BJ20:BK20,1)","v":0},{"$f":"HLOOKUP(BJ30,BJ20:BK23,4,0)","v":"ТМ3.5"},{"$f":"LARGE(BL20:BM20,1)","v":0.75},{"$f":"HLOOKUP(BL30,BL20:BM23,4,0)","v":"BTS Y"}]
[null,2.5,0.5,3,null,{"$f":"D27","v":5.5},null,null,null,null,null,null,{"$f":"AVERAGE(N31:O31)","v":0.37384615384615383},{"$f":"(W26/U26+AE27/AC27)/(V26/U26+W26/U26+AD27/AC27+AE27/AC27)","v":0.44000000000000006},{"$f":"(O26/K28+O27/K28)/(N26/K28+O26/K28+N27/K28+O27/K28)","v":0.30769230769230765},null,null,null,null,null,null,null,null,null,null,null,null,null,null,null,null,null,null,null,null,null,1,{"$f":"POISSON(AK31,$AM$26,FALSE)*100","v":29.973723810997761},{"$f":"POISSON(AK31,$AM$27,FALSE)*100","v":21.772308789458997},1,null,null,{"$f":"ДомаДома!I7","v":"Дома"},6,{"$f":"ДомаДома!L7","v":4},{"$f":"ДомаДома!M7","v":1},{"$f":"ДомаДома!N7","v":"В"},null,"ТБ2.5",null,"BTS Y",null,null,null,{"$f":"LARGE(BC22:BE22,1)","v":0.52322404371584696},{"$f":"HLOOKUP(BC31,$BC$22:$BE$23,2,0)","v":2},null,{"$f":"LARGE(BF22:BG22,1)","v":0.47619047619047628},{"$f":"HLOOKUP(BF31,BF22:BG23,2,0)","v":"ТБ1.5"},{"$f":"LARGE(BH22:BI22,1)","v":0.60714285714285721},{"$f":"HLOOKUP(BH31,BH22:BI23,2,0)","v":"ТБ2.5"},{"$f":"LARGE(BJ22:BK22,1)","v":0.29411764705882348},{"$f":"HLOOKUP(BJ31,BJ22:BK23,2,0)","v":"ТБ3.5"},{"$f":"LARGE(BL22:BM22,1)","v":0.71746575342465757},{"$f":"HLOOKUP(BL31,BL22:BM23,2,0)","v":"BTS Y"}]
[null,2,2.5,4.5,null,{"$f":"D26","v":2},null,null,null,null,null,null,0.44923076923076921,{"$f":"AD27/AC27/(V26/U26+W26/U26+AD27/AC27+AE27/AC27)","v":0.36000000000000004},{"$f":"N27/K28/(N26/K28+O26/K28+N27/K28+O27/K28)","v":0.53846153846153844},null,null,null,null,null,null,null,null,null,null,null,null,null,null,null,null,null,null,null,null,null,2,26.726570398139675,26.126770547350802,2,null,null,{"$f":"ДомаДома!I8","v":"Дома"},7,{"$f":"ДомаДома!L8","v":4},{"$f":"ДомаДома!M8","v":0},{"$f":"ДомаДома!N8","v":"В"},null,"ТБ2.5",null,"BTS N"]
[null,1.5,0.5,2,null,null,null,null,null,null,null,null,null,null,null,null,null,null,null,null,null,null,null,null,null,null,null,null,null,null,null,null,null,null,null,null,3,15.887461292227467,20.901416437880645,3,null,null,{"$f":"ДомаДома!I9","v":"Дома"},8,{"$f":"ДомаДома!L9","v":2},{"$f":"ДомаДома!M9","v":1},{"$f":"ДомаДома!N9","v":"В"},null,"ТБ2.5",null,"BTS Y",null,null,null,1,"X",2,"ТМ1.5","ТБ1.5","ТМ2.5","ТБ2.5","ТМ3.5","ТБ3.5","BTS Y","BTS N","1X","X2",12]
[null,0.5,1.5,2,null,null,null,null,null,null,null,null,null,null,null,null,null,null,null,null,null,null,null,null,null,null,null,null,null,null,null,null,null,null,null,null,4,7.0831598261180808,12.540849862728386,4,null,null,{"$f":"ДомаДома!I10","v":"Дома"},9,{"$f":"ДомаДома!L10","v":1},{"$f":"ДомаДома!M10","v":0},{"$f":"ДомаДома!N10","v":"В"},null,"ТМ2.5",null,"BTS N",null,null,null,{"$f":"COUNTIF($BD$24:$BD$31,BC33)","v":1},{"$f":"COUNTIF($BD$24:$BM$31,BD33)","v":1},{"$f":"COUNTIF($BD$24:$BD$31,BE33)","v":4},{"$f":"COUNTIF($BD$24:$BM$31,BF33)","v":2},{"$f":"COUNTIF($BD$24:$BM$31,BG33)","v":4},1,5,3,3,4,2]
[null,1,2.5,3.5,null,null,null,null,null,null,null,null,null,null,null,null,null,null,null,null,null,null,null,null,null,null,null,null,null,null,null,null,null,null,null,null,5,2.5263270046487816,6.0196079341096276,5,null,null,{"$f":"ДомаДома!I11","v":"Дома"},10,{"$f":"ДомаДома!L11","v":2},{"$f":"ДомаДома!M11","v":0},{"$f":"ДомаДома!N11","v":"В"},null,"ТМ2.5",null,"BTS N",null,null,null,"П1","X","П2","ТМ1.5","ТБ1.5","ТМ2.5","ТБ2.5","ТМ3.5","ТБ3.5","BTS Y","BTS N"]
[null,null,null,null,null,null,null,null,null,null,null,null,null,null,null,null,null,null,null,null,null,null,null,null,null,null,null,null,null,null,null,null,null,null,null,null,6,0.75088052638172109,2.4078431736438528,6,null,null,null,null,null,null,null,null,null,null,null,null,null,null,null,{"$f":"LARGE(BC34:BE34,1)","v":4},null,null,{"$f":"LARGE(BF34:BG34,1)","v":4},null,{"$f":"LARGE(BH34:BI34,1)","v":5},null,{"$f":"LARGE(BJ34:BK34,1)","v":3},null,{"$f":"LARGE(BL34:BM34,1)","v":4}]
[null,null,null,null,null,null,null,null,null,null,null,null,null,null,null,null,null,null,null,null,null,null,null,null,null,null,null,null,null,null,null,null,null,null,null,null,7,0.19129575314962904,0.8255462309636068,7,null,null,null,null,null,null,null,null,null,null,null,null,null,null,null,{"$f":"HLOOKUP(BD36,BC34:BE35,2,0)","v":"П2"},null,null,{"$f":"HLOOKUP(BG36,BF34:BG35,2,0)","v":"ТБ1.5"},null,{"$f":"HLOOKUP(BI36,BH34:BI35,2,0)","v":"ТБ2.5"},null,{"$f":"HLOOKUP(BK36,BJ34:BK35,2,0)","v":"ТМ3.5"},null,{"$f":"HLOOKUP(BM36,BL34:BM35,2,0)","v":"BTS Y"}]
[null,null,null,null,null,null,null,null,null,null,null,null,null,null,null,null,null,null,null,null,null,null,null,null,null,null,null,null,null,null,null,null,null,null,null,null,{"$f":"MATCH(AL38,AL30:AL37,0)","v":2},{"$f":"MAX(AL30:AL37)","v":29.973723810997761},{"$f":"MAX(AM30:AM37)","v":26.126770547350802},{"$f":"MATCH(AM38,AM30:AM37,0)","v":3},null,null,{"$f":"ГостиГости!I2","v":"Гости"},{"$f":"IF(OR(AQ38=\"Гости\",AQ38=\"Дома\"),1,0)","v":1},{"$f":"ГостиГости!L2","v":2},{"$f":"ГостиГости!M2","v":0},{"$f":"ГостиГости!N2","v":"В"},null,{"$f":"IF(AU38=\"\",\"\",IF((AS38+AT38)>2,\"ТБ2.5\",\"ТМ2.5\"))","v":"ТМ2.5"},null,{"$f":"IF(AU38=\"\",\"\",IF(AND(AS38>0,AT38>0),\"BTS Y\",\"BTS N\"))","v":"BTS N"},null,null,null,null,{"$f":"IF(COUNTIF(BC24:BC31,50%)>0,\"NO\",\"\")","v":"NO"},null,null,{"$f":"IF(COUNTIF(BF24:BF31,50%)>0,\"NO\",\"\")","v":""},null,{"$f":"IF(COUNTIF(BH24:BH31,50%)>0,\"NO\",\"\")","v":"NO"},null,{"$f":"IF(COUNTIF(BJ24:BJ31,50%)>0,\"NO\",\"\")","v":""},null,{"$f":"IF(COUNTIF(BL24:BL31,50%)>0,\"NO\",\"\")","v":""}]
[null,null,null,null,null,null,null,null,null,null,null,null,null,null,null,null,null,null,null,null,null,null,null,null,null,null,null,null,null,null,null,null,null,null,null,null,null,null,null,null,null,null,{"$f":"ГостиГости!I3","v":"Гости"},{"$f":"IF(OR(AQ39=\"Гости\",AQ39=\"Дома\"),AR38+1,AR38)","v":2},{"$f":"ГостиГости!L3","v":4},{"$f":"ГостиГости!M3","v":0},{"$f":"ГостиГости!N3","v":"В"},null,{"$f":"IF(AU39=\"\",\"\",IF((AS39+AT39)>2,\"ТБ2.5\",\"ТМ2.5\"))","v":"ТБ2.5"},null,{"$f":"IF(AU39=\"\",\"\",IF(AND(AS39>0,AT39>0),\"BTS Y\",\"BTS N\"))","v":"BTS N"},null,null,null,null,{"$f":"IF(BC22=\"-\",IF(BD38=\"\",IF(BD36>=4,BD37,\"-\"),\"\"),IF(BD38=\"\",IF(BD36>=5,BD37,\"-\"),\"\"))","v":""},null,null,{"$f":"IF(BF22=\"-\",IF(BG38=\"\",IF(BG36>=4,BG37,\"-\"),\"\"),IF(BG38=\"\",IF(BG36>=5,BG37,\"-\"),\"\"))","v":"-"},null,{"$f":"IF(BH22=\"-\",IF(BI38=\"\",IF(BI36>=4,BI37,\"-\"),\"\"),IF(BI38=\"\",IF(BI36>=5,BI37,\"-\"),\"\"))","v":""},null,{"$f":"IF(BJ22=\"-\",IF(BK38=\"\",IF(BK36>=4,BK37,\"-\"),\"\"),IF(BK38=\"\",IF(BK36>=5,BK37,\"-\"),\"\"))","v":"-"},null,{"$f":"IF(BL22=\"-\",IF(BM38=\"\",IF(BM36>=4,BM37,\"-\"),\"\"),IF(BM38=\"\",IF(BM36>=5,BM37,\"-\"),\"\"))","v":"-"}]
[null,null,null,null,null,null,null,null,null,null,null,null,null,null,null,null,null,null,null,null,null,null,null,null,null,null,null,null,null,null,null,null,null,null,null,null,"хоз",null,null,null,null,null,{"$f":"ГостиГости!I4","v":"Гости"},3,{"$f":"ГостиГости!L4","v":2},{"$f":"ГостиГости!M4","v":2},{"$f":"ГостиГости!N4","v":"Н"},null,"ТБ2.5",null,"BTS Y"]
[null,null,null,null,null,null,null,null,null,null,null,null,null,null,null,null,null,null,null,null,null,null,null,null,null,null,null,null,null,null,null,null,null,null,null,null,null,null,"H","A","EXP",null,{"$f":"ГостиГости!I5","v":"Гости"},4,{"$f":"ГостиГости!L5","v":1},{"$f":"ГостиГости!M5","v":2},{"$f":"ГостиГости!N5","v":"П"},null,"ТБ2.5",null,"BTS Y"]
[null,null,null,null,null,null,null,null,null,null,null,null,null,null,null,null,null,null,null,null,null,null,null,null,null,null,null,null,null,null,null,null,null,null,null,null,7,0,{"$f":"VLOOKUP(AK42,$AK$30:$AM$37,2)","v":0.19129575314962904},{"$f":"VLOOKUP(AL42,$AK$30:$AM$37,3)","v":9.0717953289412474},{"$f":"(AM42*AN42)/100","v":1.7353959198691028E-2},null,{"$f":"ГостиГости!I6","v":"Гости"},5,{"$f":"ГостиГости!L6","v":2},{"$f":"ГостиГости!M6","v":0},{"$f":"ГостиГости!N6","v":"В"},null,"ТМ2.5",null,"BTS N",null,null,null,"ЕСЛИ(СЧЁТЕСЛИ(BC24:BC31;50%)>0;\"NO\";\"\")"]
[null,null,null,null,null,null,null,null,null,null,null,null,null,null,null,null,null,null,null,null,null,null,null,null,null,null,null,null,null,null,null,null,null,null,null,null,7,1,{"$f":"VLOOKUP(AK43,$AK$30:$AM$37,2)","v":0.19129575314962904},{"$f":"VLOOKUP(AL43,$AK$30:$AM$37,3)","v":21.772308789458997},4.1649502076858476E-2,null,{"$f":"ГостиГости!I7","v":"Гости"},6,{"$f":"ГостиГости!L7","v":1},{"$f":"ГостиГости!M7","v":0},{"$f":"ГостиГости!N7","v":"В"},null,"ТМ2.5",null,"BTS N"]
[null,null,null,null,null,null,null,null,null,null,null,null,null,null,null,null,null,null,null,null,null,null,null,null,null,null,null,null,null,null,null,null,null,null,null,null,7,2,0.19129575314962904,26.126770547350802,4.9979402492230172E-2,null,{"$f":"ГостиГости!I8","v":"Гости"},7,{"$f":"ГостиГости!L8","v":3},{"$f":"ГостиГости!M8","v":2},{"$f":"ГостиГости!N8","v":"В"},null,"ТБ2.5",null,"BTS Y"]
[null,null,null,null,null,null,null,null,null,null,null,null,null,null,null,null,null,null,null,null,null,null,null,null,null,null,null,null,null,null,null,null,null,null,null,null,7,3,0.19129575314962904,20.901416437880645,3.9983521993784146E-2,null,{"$f":"ГостиГости!I9","v":"Гости"},8,{"$f":"ГостиГости!L9","v":0},{"$f":"ГостиГости!M9","v":1},{"$f":"ГостиГости!N9","v":"П"},null,"ТМ2.5",null,"BTS N"]
[null,null,null,null,null,null,null,null,null,null,null,null,null,null,null,null,null,null,null,null,null,null,null,null,null,null,null,null,null,null,null,null,null,null,null,null,7,4,0.19129575314962904,12.540849862728386,2.3990113196270486E-2,null,{"$f":"ГостиГости!I10","v":"Гости"},9,{"$f":"ГостиГости!L10","v":3},{"$f":"ГостиГости!M10","v":0},{"$f":"ГостиГости!N10","v":"В"},null,"ТБ2.5",null,"BTS N"]
[null,null,null,null,null,null,null,null,null,null,null,null,null,null,null,null,null,null,null,null,null,null,null,null,null,null,null,null,null,null,null,null,null,null,null,null,7,5,0.19129575314962904,6.0196079341096276,1.1515254334209836E-2,null,{"$f":"ГостиГости!I11","v":"Гости"},10,{"$f":"ГостиГости!L11","v":4},{"$f":"ГостиГости!M11","v":1},{"$f":"ГостиГости!N11","v":"В"},null,"ТБ2.5",null,"BTS Y"]
[null,null,null,null,null,null,null,null,null,null,null,null,null,null,null,null,null,null,null,null,null,null,null,null,null,null,null,null,null,null,null,null,null,null,null,null,7,6,0.19129575314962904,2.4078431736438528,4.6061017336839379E-3]
[null,null,null,null,null,null,null,null,null,null,null,null,null,null,null,null,null,null,null,null,null,null,null,null,null,null,null,null,null,null,null,null,null,null,null,null,6,0,0.75088052638172109,9.0717953289412474,6.8118344518226431E-2]
[null,null,null,null,null,null,null,null,null,null,null,null,null,null,null,null,null,null,null,null,null,null,null,null,null,null,null,null,null,null,null,null,null,null,null,null,6,1,0.75088052638172109,21.772308789458997,0.16348402684374347,null,{"$f":"Очные!S2","v":"Дома"},{"$f":"IF(OR(AQ50=\"Гости\",AQ50=\"Дома\"),1,0)","v":1},{"$f":"Очные!AG2","v":1},{"$f":"Очные!AH2","v":3},{"$f":"Очные!G2","v":"П"},null,{"$f":"IF(AU50=\"\",\"\",IF((AS50+AT50)>2,\"ТБ2.5\",\"ТМ2.5\"))","v":"ТБ2.5"},null,{"$f":"IF(AU50=\"\",\"\",IF(AND(AS50>0,AT50>0),\"BTS Y\",\"BTS N\"))","v":"BTS Y"}]
[null,null,null,null,null,null,null,null,null,null,null,null,null,null,null,null,null,null,null,null,null,null,null,null,null,null,null,null,null,null,null,null,null,null,null,null,6,2,0.75088052638172109,26.126770547350802,0.19618083221249219,null,{"$f":"Очные!S3","v":"Дома"},{"$f":"IF(OR(AQ51=\"Гости\",AQ51=\"Дома\"),AR50+1,AR50)","v":2},{"$f":"Очные!AG3","v":1},{"$f":"Очные!AH3","v":1},{"$f":"Очные!G3","v":"Н"},null,{"$f":"IF(AU51=\"\",\"\",IF((AS51+AT51)>2,\"ТБ2.5\",\"ТМ2.5\"))","v":"ТМ2.5"},null,{"$f":"IF(AU51=\"\",\"\",IF(AND(AS51>0,AT51>0),\"BTS Y\",\"BTS N\"))","v":"BTS Y"}]
[null,null,null,null,null,null,null,null,null,null,null,null,null,null,null,null,null,null,null,null,null,null,null,null,null,null,null,null,null,null,null,null,null,null,null,null,6,3,0.75088052638172109,20.901416437880645,0.15694466576999377,null,{"$f":"Очные!S4","v":"Гости"},{"$f":"IF(OR(AQ52=\"Гости\",AQ52=\"Дома\"),AR51+1,AR51)","v":3},{"$f":"Очные!AG4","v":0},{"$f":"Очные!AH4","v":3},{"$f":"Очные!G4","v":"П"},null,"ТБ2.5",null,"BTS N"]
[null,null,null,null,null,null,null,null,null,null,null,null,null,null,null,null,null,null,null,null,null,null,null,null,null,null,null,null,null,null,null,null,null,null,null,null,6,4,0.75088052638172109,12.540849862728386,9.4166799461996256E-2,null,{"$f":"Очные!S5","v":"Дома"},4,{"$f":"Очные!AG5","v":1},{"$f":"Очные!AH5","v":1},{"$f":"Очные!G5","v":"Н"},null,"ТМ2.5",null,"BTS Y"]
[null,null,null,null,null,null,null,null,null,null,null,null,null,null,null,null,null,null,null,null,null,null,null,null,null,null,null,null,null,null,null,null,null,null,null,null,6,5,0.75088052638172109,6.0196079341096276,4.5200063741758216E-2,null,{"$f":"Очные!S6","v":""},4,{"$f":"Очные!AG6","v":""},{"$f":"Очные!AH6","v":""},{"$f":"Очные!G6","v":""},null,"",null,""]
[null,null,null,null,null,null,null,null,null,null,null,null,null,null,null,null,null,null,null,null,null,null,null,null,null,null,null,null,null,null,null,null,null,null,null,null,5,0,2.5263270046487816,9.0717953289412474,0.2291832152015095,null,{"$f":"Очные!S7","v":""},4,{"$f":"Очные!AG7","v":""},{"$f":"Очные!AH7","v":""},{"$f":"Очные!G7","v":""},null,"",null,""]
[null,null,null,null,null,null,null,null,null,null,null,null,null,null,null,null,null,null,null,null,null,null,null,null,null,null,null,null,null,null,null,null,null,null,null,null,5,1,2.5263270046487816,21.772308789458997,0.55003971648362293,null,{"$f":"Очные!S8","v":""},4,{"$f":"Очные!AG8","v":""},{"$f":"Очные!AH8","v":""},{"$f":"Очные!G8","v":""},null,"",null,""]
[null,null,null,null,null,null,null,null,null,null,null,null,null,null,null,null,null,null,null,null,null,null,null,null,null,null,null,null,null,null,null,null,null,null,null,null,5,2,2.5263270046487816,26.126770547350802,0.66004765978034752,null,{"$f":"Очные!S9","v":""},4,{"$f":"Очные!AG9","v":""},{"$f":"Очные!AH9","v":""},{"$f":"Очные!G9","v":""},null,"",null,""]
[null,null,null,null,null,null,null,null,null,null,null,null,null,null,null,null,null,null,null,null,null,null,null,null,null,null,null,null,null,null,null,null,null,null,null,null,5,3,2.5263270046487816,20.901416437880645,0.52803812782427817,null,{"$f":"Очные!S10","v":""},4,{"$f":"Очные!AG10","v":""},{"$f":"Очные!AH10","v":""},{"$f":"Очные!G10","v":""},null,"",null,""]
[null,null,null,null,null,null,null,null,null,null,null,null,null,null,null,null,null,null,null,null,null,null,null,null,null,null,null,null,null,null,null,null,null,null,null,null,5,4,2.5263270046487816,12.540849862728386,0.31682287669456688,null,{"$f":"Очные!S11","v":""},4,{"$f":"Очные!AG11","v":""},{"$f":"Очные!AH11","v":""},{"$f":"Очные!G11","v":""},null,"",null,""]
[null,null,null,null,null,null,null,null,null,null,null,null,null,null,null,null,null,null,null,null,null,null,null,null,null,null,null,null,null,null,null,null,null,null,null,null,4,0,7.0831598261180808,9.0717953289412474,0.64256976224722306]
[null,null,null,null,null,null,null,null,null,null,null,null,null,null,null,null,null,null,null,null,null,null,null,null,null,null,null,null,null,null,null,null,null,null,null,null,4,1,7.0831598261180808,21.772308789458997,1.5421674293933356]
[null,null,null,null,null,null,null,null,null,null,null,null,null,null,null,null,null,null,null,null,null,null,null,null,null,null,null,null,null,null,null,null,null,null,null,null,4,2,7.0831598261180808,26.126770547350802,1.8506009152720029]
[null,null,null,null,null,null,null,null,null,null,null,null,null,null,null,null,null,null,null,null,null,null,null,null,null,null,null,null,null,null,null,null,null,null,null,null,4,3,7.0831598261180808,20.901416437880645,1.4804807322176026]
[null,null,null,null,null,null,null,null,null,null,null,null,null,null,null,null,null,null,null,null,null,null,null,null,null,null,null,null,null,null,null,null,null,null,null,null,3,0,15.887461292227467,9.0717953289412474,1.4412779713956403]
[null,null,null,null,null,null,null,null,null,null,null,null,null,null,null,null,null,null,null,null,null,null,null,null,null,null,null,null,null,null,null,null,null,null,null,null,3,1,15.887461292227467,21.772308789458997,3.4590671313495367]
[null,null,null,null,null,null,null,null,null,null,null,null,null,null,null,null,null,null,null,null,null,null,null,null,null,null,null,null,null,null,null,null,null,null,null,null,3,2,15.887461292227467,26.126770547350802,4.1508805576194447]
[null,null,null,null,null,null,null,null,null,null,null,null,null,null,null,null,null,null,null,null,null,null,null,null,null,null,null,null,null,null,null,null,null,null,null,null,2,0,26.726570398139675,9.0717953289412474,2.424579764964629]
[null,null,null,null,null,null,null,null,null,null,null,null,null,null,null,null,null,null,null,null,null,null,null,null,null,null,null,null,null,null,null,null,null,null,null,null,2,1,26.726570398139675,21.772308789458997,5.8189914359151116]
[null,null,null,null,null,null,null,null,null,null,null,null,null,null,null,null,null,null,null,null,null,null,null,null,null,null,null,null,null,null,null,null,null,null,null,null,1,0,29.973723810997761,9.0717953289412474,2.7191548765958453]
[]
[null,null,null,null,null,null,null,null,null,null,null,null,null,null,null,null,null,null,null,null,null,null,null,null,null,null,null,null,null,null,null,null,null,null,null,null,"гости"]
[]
[null,null,null,null,null,null,null,null,null,null,null,null,null,null,null,null,null,null,null,null,null,null,null,null,null,null,null,null,null,null,null,null,null,null,null,null,0,7,{"$f":"VLOOKUP(AK73,$AK$30:$AM$37,2)","v":16.807695594952015},{"$f":"VLOOKUP(AL73,$AK$30:$AM$37,3)","v":0.8255462309636068},{"$f":"(AM73*AN73)/100","v":0.13875529749596255}]
[null,null,null,null,null,null,null,null,null,null,null,null,null,null,null,null,null,null,null,null,null,null,null,null,null,null,null,null,null,null,null,null,null,null,null,null,1,7,{"$f":"VLOOKUP(AK74,$AK$30:$AM$37,2)","v":29.973723810997761},{"$f":"VLOOKUP(AL74,$AK$30:$AM$37,3)","v":0.8255462309636068},0.24744694720113319]
[null,null,null,null,null,null,null,null,null,null,null,null,null,null,null,null,null,null,null,null,null,null,null,null,null,null,null,null,null,null,null,null,null,null,null,null,2,7,26.726570398139675,0.8255462309636068,0.22064019458767714]
[null,null,null,null,null,null,null,null,null,null,null,null,null,null,null,null,null,null,null,null,null,null,null,null,null,null,null,null,null,null,null,null,null,null,null,null,3,7,15.887461292227467,0.8255462309636068,0.13115833789378578]
[null,null,null,null,null,null,null,null,null,null,null,null,null,null,null,null,null,null,null,null,null,null,null,null,null,null,null,null,null,null,null,null,null,null,null,null,4,7,7.0831598261180808,0.8255462309636068,5.8474758977646181E-2]
[null,null,null,null,null,null,null,null,null,null,null,null,null,null,null,null,null,null,null,null,null,null,null,null,null,null,null,null,null,null,null,null,null,null,null,null,5,7,2.5263270046487816,0.8255462309636068,2.0855997368693799E-2]
[null,null,null,null,null,null,null,null,null,null,null,null,null,null,null,null,null,null,null,null,null,null,null,null,null,null,null,null,null,null,null,null,null,null,null,null,6,7,0.75088052638172109,0.8255462309636068,6.1988658845839898E-3]
[null,null,null,null,null,null,null,null,null,null,null,null,null,null,null,null,null,null,null,null,null,null,null,null,null,null,null,null,null,null,null,null,null,null,null,null,0,6,16.807695594952015,2.4078431736438528,0.40470295102989062]
[null,null,null,null,null,null,null,null,null,null,null,null,null,null,null,null,null,null,null,null,null,null,null,null,null,null,null,null,null,null,null,null,null,null,null,null,1,6,29.973723810997761,2.4078431736438528,0.72172026266997169]
[null,null,null,null,null,null,null,null,null,null,null,null,null,null,null,null,null,null,null,null,null,null,null,null,null,null,null,null,null,null,null,null,null,null,null,null,2,6,26.726570398139675,2.4078431736438528,0.64353390088072482]
[null,null,null,null,null,null,null,null,null,null,null,null,null,null,null,null,null,null,null,null,null,null,null,null,null,null,null,null,null,null,null,null,null,null,null,null,3,6,15.887461292227467,2.4078431736438528,0.38254515219020852]
[null,null,null,null,null,null,null,null,null,null,null,null,null,null,null,null,null,null,null,null,null,null,null,null,null,null,null,null,null,null,null,null,null,null,null,null,4,6,7.0831598261180808,2.4078431736438528,0.170551380351468]
[null,null,null,null,null,null,null,null,null,null,null,null,null,null,null,null,null,null,null,null,null,null,null,null,null,null,null,null,null,null,null,null,null,null,null,null,5,6,2.5263270046487816,2.4078431736438528,6.0829992325356901E-2]
[null,null,null,null,null,null,null,null,null,null,null,null,null,null,null,null,null,null,null,null,null,null,null,null,null,null,null,null,null,null,null,null,null,null,null,null,0,5,16.807695594952015,6.0196079341096276,1.0117573775747259]
[null,null,null,null,null,null,null,null,null,null,null,null,null,null,null,null,null,null,null,null,null,null,null,null,null,null,null,null,null,null,null,null,null,null,null,null,1,5,29.973723810997761,6.0196079341096276,1.8043006566749278]
[null,null,null,null,null,null,null,null,null,null,null,null,null,null,null,null,null,null,null,null,null,null,null,null,null,null,null,null,null,null,null,null,null,null,null,null,2,5,26.726570398139675,6.0196079341096276,1.6088347522018109]
[null,null,null,null,null,null,null,null,null,null,null,null,null,null,null,null,null,null,null,null,null,null,null,null,null,null,null,null,null,null,null,null,null,null,null,null,3,5,15.887461292227467,6.0196079341096276,0.95636288047552054]
[null,null,null,null,null,null,null,null,null,null,null,null,null,null,null,null,null,null,null,null,null,null,null,null,null,null,null,null,null,null,null,null,null,null,null,null,4,5,7.0831598261180808,6.0196079341096276,0.42637845087866971]
[null,null,null,null,null,null,null,null,null,null,null,null,null,null,null,null,null,null,null,null,null,null,null,null,null,null,null,null,null,null,null,null,null,null,null,null,0,4,16.807695594952015,12.540849862728386,2.1078278699473447]
[null,null,null,null,null,null,null,null,null,null,null,null,null,null,null,null,null,null,null,null,null,null,null,null,null,null,null,null,null,null,null,null,null,null,null,null,1,4,29.973723810997761,12.540849862728386,3.7589597014060985]
[null,null,null,null,null,null,null,null,null,null,null,null,null,null,null,null,null,null,null,null,null,null,null,null,null,null,null,null,null,null,null,null,null,null,null,null,2,4,26.726570398139675,12.540849862728386,3.351739067087105]
[null,null,null,null,null,null,null,null,null,null,null,null,null,null,null,null,null,null,null,null,null,null,null,null,null,null,null,null,null,null,null,null,null,null,null,null,3,4,15.887461292227467,12.540849862728386,1.9924226676573338]
[null,null,null,null,null,null,null,null,null,null,null,null,null,null,null,null,null,null,null,null,null,null,null,null,null,null,null,null,null,null,null,null,null,null,null,null,0,3,16.807695594952015,20.901416437880645,3.5130464499122418]
[null,null,null,null,null,null,null,null,null,null,null,null,null,null,null,null,null,null,null,null,null,null,null,null,null,null,null,null,null,null,null,null,null,null,null,null,1,3,29.973723810997761,20.901416437880645,6.2649328356768308]
[null,null,null,null,null,null,null,null,null,null,null,null,null,null,null,null,null,null,null,null,null,null,null,null,null,null,null,null,null,null,null,null,null,null,null,null,2,3,26.726570398139675,20.901416437880645,5.586231778478508]
[null,null,null,null,null,null,null,null,null,null,null,null,null,null,null,null,null,null,null,null,null,null,null,null,null,null,null,null,null,null,null,null,null,null,null,null,0,2,16.807695594952015,26.126770547350802,4.3913080623903014]
[null,null,null,null,null,null,null,null,null,null,null,null,null,null,null,null,null,null,null,null,null,null,null,null,null,null,null,null,null,null,null,null,null,null,null,null,1,2,29.973723810997761,26.126770547350802,7.8311660445960376]
[null,null,null,null,null,null,null,null,null,null,null,null,null,null,null,null,null,null,null,null,null,null,null,null,null,null,null,null,null,null,null,null,null,null,null,null,0,1,16.807695594952015,21.772308789458997,3.6594233853252502]
[]
[null,null,null,null,null,null,null,null,null,null,null,null,null,null,null,null,null,null,null,null,null,null,null,null,null,null,null,null,null,null,null,null,null,null,null,null,"ничья"]
[]
[null,null,null,null,null,null,null,null,null,null,null,null,null,null,null,null,null,null,null,null,null,null,null,null,null,null,null,null,null,null,null,null,null,null,null,null,0,0,{"$f":"VLOOKUP(AK104,$AK$30:$AM$37,2)","v":16.807695594952015},{"$f":"VLOOKUP(AL104,$AK$30:$AM$37,3)","v":9.0717953289412474},{"$f":"(AM104*AN104)/100","v":1.5247597438855207}]
[null,null,null,null,null,null,null,null,null,null,null,null,null,null,null,null,null,null,null,null,null,null,null,null,null,null,null,null,null,null,null,null,null,null,null,null,1,1,{"$f":"VLOOKUP(AK105,$AK$30:$AM$37,2)","v":29.973723810997761},{"$f":"VLOOKUP(AL105,$AK$30:$AM$37,3)","v":21.772308789458997},6.52597170383003]
[null,null,null,null,null,null,null,null,null,null,null,null,null,null,null,null,null,null,null,null,null,null,null,null,null,null,null,null,null,null,null,null,null,null,null,null,2,2,26.726570398139675,26.126770547350802,6.9827897230981337]
[null,null,null,null,null,null,null,null,null,null,null,null,null,null,null,null,null,null,null,null,null,null,null,null,null,null,null,null,null,null,null,null,null,null,null,null,3,3,15.887461292227467,20.901416437880645,3.3207044460955562]
[null,null,null,null,null,null,null,null,null,null,null,null,null,null,null,null,null,null,null,null,null,null,null,null,null,null,null,null,null,null,null,null,null,null,null,null,4,4,7.0831598261180808,12.540849862728386,0.88828843933056145]
[null,null,null,null,null,null,null,null,null,null,null,null,null,null,null,null,null,null,null,null,null,null,null,null,null,null,null,null,null,null,null,null,null,null,null,null,5,5,2.5263270046487816,6.0196079341096276,0.15207498081339216]
[null,null,null,null,null,null,null,null,null,null,null,null,null,null,null,null,null,null,null,null,null,null,null,null,null,null,null,null,null,null,null,null,null,null,null,null,6,6,0.75088052638172109,2.4078431736438528,1.80800254967033E-2]

{"sheet":"Архив","index":10,"n_rows":5,"n_cols":58,"rows_kept":5,"cut":false,"hidden":false,"merged":[]}
["Дата","Лига","ХОЗЯЕВА","ГОСТИ","matchID",1,"X",2,1,"X",2,1,"X",2,1,"X",2,1,"X",2,1,"X",2,1,"X",2,1,"X",2,1,"X",2,1,"X",2,"NTB","R","total","BTS","П1","Х","П2","ТМ2,5","ТБ2,5","ОЗДа","ОЗНет","Счет","Ставка","+/-","+",{"$f":"BE1/BC1","v":{"$error":"#DIV/0!"}},"-",{"$f":"BF1/BC1","v":{"$error":"#DIV/0!"}},"Прогнозов =>>>",{"$f":"BE1+BF1","v":0},null,{"$f":"COUNTIF(AW$2:AW$1048576,\"+\")","v":0},{"$f":"COUNTIF(AW$2:AW$1048576,\"-\")","v":0}]
["20.05.20 21:00","БЕЛАРУСЬ: Высшая лига","Динамо Брест","БАТЭ","j34VoLMB",0.35178927203065136,-3.2300766283524962E-2,0.68051149425287361,0.33705632716049388,3.2716049382716064E-2,0.63022762345679006,0.32530864197530868,2.7160493827160487E-2,0.64753086419753081,0.19487955444310648,0.22105396214676065,0.5840664834101329,0.29440170957459966,6.1349817350664533E-2,0.64424847307473587,0.51162790697674421,-0.6589147286821706,1.1472868217054264,0.36666666666666664,6.6666666666666652E-2,0.56666666666666665,0.28417439370064562,0.17092169717810882,0.54490390912124553,0.19558097411758382,0.18363209768485736,0.6166963427413461,0.27564102564102561,0.24358974358974358,0.48076923076923073,"П2","-","-","-",3.4,3.8,1.95,2.2000000000000002,1.65,1.61,2.2000000000000002]
["04.10.20 14:00","FINLAND: Kakkonen Group C","Hercules","JJK Jyvaskyla","rHkk2tvK",0.47010989010989013,0.22655677655677653,0.30333333333333334,0.58838649776149765,4.9043549043549066E-2,0.36256995319495328,0.60317460317460314,3.1746031746031779E-2,0.36507936507936511,0.44439101307680368,0.2446845502732333,0.310924436649963,0.59769068895056265,2.5758638567812374E-2,0.37655067248162494,0.61971830985915488,8.4507042253521236E-2,0.29577464788732394,0.63888888888888884,5.555555555555558E-2,0.30555555555555558,0.5270932803144015,0.15180591610694921,0.3211008035786494,0.38266871871903779,0.38648379358681706,0.23084530991028829,0.8,0,0.2,"П1","","ТБ2.5","BTS Y",2,3.75,2.87,2.4,1.53,1.5,2.5]
["04.10.20 14:00","FRANCE: Ligue 1","Montpellier","Nimes","250Ie2Zs",0.68333333333333335,0.20333333333333331,0.11333333333333333,0.66018518518518521,0.26574074074074078,7.4074074074074098E-2,0.5444444444444444,0.31111111111111112,0.14444444444444443,0.4716209197388565,0.22201068456961978,0.30636839569152369,0.72324798531061918,0.1692339079873508,0.10751810670202999,1.04,-0.32800000000000007,0.28799999999999998,0.93333333333333335,0.13333333333333336,-6.6666666666666652E-2,0.53176867407877082,0.25061073465072448,0.21762059127050465,0.67604323999608074,0.192663249122553,0.12973098366860189,0.47619047619047628,0.45238095238095238,7.1428571428571438E-2,"П1","","-","",1.7,3.8,5,2.0499999999999998,1.8,1.75,2]
["04.10.20 14:00","RUSSIA: PFL - Group 4","Ulyanovsk","Dynamo Barnaul","GzNHnIVF",0.86321428571428571,-0.24765873015873013,0.38444444444444442,0.73831845238095239,-3.7830687830687812E-2,0.29951223544973549,0.71851851851851856,-8.1481481481481488E-2,0.36296296296296293,0.63725191107058576,0.22303071063486973,0.13971737829454456,0.77725612035234559,2.3591254880185639E-2,0.19915262476746876,0.56666666666666665,3.3333333333333326E-2,0.4,0.83333333333333337,-0.16666666666666666,0.33333333333333337,0.60248073881246933,0.1675726501769888,0.22994661101054198,0.49004681686539342,0.36148819540348476,0.1484564204502869,0.7142857142857143,7.1428571428571425E-2,0.21428571428571427,"П1","","","BTS N",1.52,3.88,5.85,1.73,2.1,2.0299999999999998,1.7]

{"sheet":"Дома","index":11,"n_rows":150,"n_cols":36,"rows_kept":150,"cut":false,"hidden":true,"merged":[]}
["Чемпионат","Дата/Время","Дома","Гости","К1 в 1Т","К2 в 1Т","К1 во 2Т","К2 во 2Т","Где играли","К1 Голов","К2 Голов","Забито","Пропущено","Результат","Всего Игр","Всего выиграно","Всего ничьих","Всего проиграно","Всего забито","Всего пропущено","Всего очков","Дома игр","Дома выиграно","Дома ничьих","Дома проиграно","Дома забито","Дома пропущено","Дома очков","Гости игр","Гости выиграно","Гости ничьих","Гости проиграно","Гости забито","Гости пропущено","Гости очков","Тотал"]
["ENGLAND: Professional Development League","2021.04.13 15:00","Cardiff U23","Sheffield Utd U23",0,0,0,2,"Дома",{"$f":"IF(I2=\"\",\"\",E2+G2)","v":0},{"$f":"IF(I2=\"\",\"\",F2+H2)","v":2},{"$f":"IF(I2=\"\",\"\",IF(I2=\"Дома\",J2,K2))","v":0},{"$f":"IF(I2=\"\",\"\",IF(I2=\"Дома\",K2,J2))","v":2},{"$f":"IF(I2=\"\",\"\",IF(I2=\"Дома\",IF(J2>K2,\"В\",IF(J2=K2,\"Н\",\"П\")),IF(J2<K2,\"В\",IF(J2=K2,\"Н\",\"П\"))))","v":"П"},{"$f":"IF(I2=\"\",\"\",1)","v":1},{"$f":"IF(I2=\"\",\"\",IF(N2=\"В\",1,0))","v":0},{"$f":"IF(I2=\"\",\"\",IF(N2=\"Н\",1,0))","v":0},{"$f":"IF(I2=\"\",\"\",IF(N2=\"П\",1,0))","v":1},{"$f":"IF(I2=\"\",\"\",L2)","v":0},{"$f":"IF(I2=\"\",\"\",M2)","v":2},{"$f":"IF(I2=\"\",\"\",P2*3+Q2)","v":0},{"$f":"IF(I2=\"\",\"\",IF(I2=\"Дома\",1,0))","v":1},{"$f":"IF(I2=\"\",\"\",IF(I2=\"Дома\",IF(N2=\"В\",1,0),0))","v":0},{"$f":"IF(I2=\"\",\"\",IF(I2=\"Дома\",IF(N2=\"Н\",1,0),0))","v":0},{"$f":"IF(I2=\"\",\"\",IF(I2=\"Дома\",IF(N2=\"П\",1,0),0))","v":1},{"$f":"IF(I2=\"\",\"\",IF(I2=\"Дома\",L2,0))","v":0},{"$f":"IF(I2=\"\",\"\",IF(I2=\"Дома\",M2,0))","v":2},{"$f":"IF(I2=\"\",\"\",IF(I2=\"Дома\",W2*3+X2,0))","v":0},{"$f":"IF(I2=\"\",\"\",IF(I2=\"Гости\",1,0))","v":0},{"$f":"IF(I2=\"\",\"\",IF(I2=\"Гости\",IF(N2=\"В\",1,0),0))","v":0},{"$f":"IF(I2=\"\",\"\",IF(I2=\"Гости\",IF(N2=\"Н\",1,0),0))","v":0},{"$f":"IF(I2=\"\",\"\",IF(I2=\"Гости\",IF(N2=\"П\",1,0),0))","v":0},{"$f":"IF(I2=\"\",\"\",IF(I2=\"Гости\",L2,0))","v":0},{"$f":"IF(I2=\"\",\"\",IF(I2=\"Гости\",M2,0))","v":0},{"$f":"IF(I2=\"\",\"\",IF(I2=\"Гости\",AD2*3+AE2,0))","v":0},{"$f":"IF(I2=\"Дома\",L2+M2,\"\")","v":2}]
["ENGLAND: Professional Development League","2021.03.30 15:00","Cardiff U23","Wigan U23",4,0,2,1,"Дома",{"$f":"IF(I3=\"\",\"\",E3+G3)","v":6},{"$f":"IF(I3=\"\",\"\",F3+H3)","v":1},{"$f":"IF(I3=\"\",\"\",IF(I3=\"Дома\",J3,K3))","v":6},{"$f":"IF(I3=\"\",\"\",IF(I3=\"Дома\",K3,J3))","v":1},{"$f":"IF(I3=\"\",\"\",IF(I3=\"Дома\",IF(J3>K3,\"В\",IF(J3=K3,\"Н\",\"П\")),IF(J3<K3,\"В\",IF(J3=K3,\"Н\",\"П\"))))","v":"В"},{"$f":"IF(I3=\"\",\"\",O2+1)","v":2},{"$f":"IF(I3=\"\",\"\",IF(N3=\"В\",P2+1,P2))","v":1},{"$f":"IF(I3=\"\",\"\",IF(N3=\"Н\",Q2+1,Q2))","v":0},{"$f":"IF(I3=\"\",\"\",IF(N3=\"П\",R2+1,R2))","v":1},{"$f":"IF(I3=\"\",\"\",S2+L3)","v":6},{"$f":"IF(I3=\"\",\"\",T2+M3)","v":3},{"$f":"IF(I3=\"\",\"\",P3*3+Q3)","v":3},{"$f":"IF(I3=\"\",\"\",IF(I3=\"Дома\",V2+1,V2+0))","v":2},{"$f":"IF(I3=\"\",\"\",IF(I3=\"Дома\",IF(N3=\"В\",W2+1,W2),W2))","v":1},{"$f":"IF(I3=\"\",\"\",IF(I3=\"Дома\",IF(N3=\"Н\",X2+1,X2),X2))","v":0},{"$f":"IF(I3=\"\",\"\",IF(I3=\"Дома\",IF(N3=\"П\",Y2+1,Y2),Y2))","v":1},{"$f":"IF(I3=\"\",\"\",IF(I3=\"Дома\",L3+Z2,Z2))","v":6},{"$f":"IF(I3=\"\",\"\",IF(I3=\"Дома\",M3+AA2,AA2))","v":3},{"$f":"IF(I3=\"\",\"\",IF(I3=\"Дома\",W3*3+X3,AB2))","v":3},{"$f":"IF(I3=\"\",\"\",IF(I3=\"Гости\",AC2+1,AC2+0))","v":0},{"$f":"IF(I3=\"\",\"\",IF(I3=\"Гости\",IF(N3=\"В\",AD2+1,AD2),AD2))","v":0},{"$f":"IF(I3=\"\",\"\",IF(I3=\"Гости\",IF(N3=\"Н\",AE2+1,AE2),AE2))","v":0},{"$f":"IF(I3=\"\",\"\",IF(I3=\"Гости\",IF(N3=\"П\",AF2+1,AF2),AF2))","v":0},{"$f":"IF(I3=\"\",\"\",IF(I3=\"Гости\",L3+AG2,AG2))","v":0},{"$f":"IF(I3=\"\",\"\",IF(I3=\"Гости\",M3+AH2,AH2))","v":0},{"$f":"IF(I3=\"\",\"\",IF(I3=\"Гости\",AD3*3+AE3,AI2))","v":0},{"$f":"IF(I3=\"Дома\",L3+M3,\"\")","v":7}]
["ENGLAND: Professional Development League","2021.03.22 22:00","Birmingham U23","Cardiff U23",1,0,1,1,"Гости",2,1,1,2,"П",3,{"$f":"IF(I4=\"\",\"\",IF(N4=\"В\",P3+1,P3))","v":1},{"$f":"IF(I4=\"\",\"\",IF(N4=\"Н\",Q3+1,Q3))","v":0},{"$f":"IF(I4=\"\",\"\",IF(N4=\"П\",R3+1,R3))","v":2},{"$f":"IF(I4=\"\",\"\",S3+L4)","v":7},{"$f":"IF(I4=\"\",\"\",T3+M4)","v":5},3,{"$f":"IF(I4=\"\",\"\",IF(I4=\"Дома\",V3+1,V3+0))","v":2},{"$f":"IF(I4=\"\",\"\",IF(I4=\"Дома\",IF(N4=\"В\",W3+1,W3),W3))","v":1},{"$f":"IF(I4=\"\",\"\",IF(I4=\"Дома\",IF(N4=\"Н\",X3+1,X3),X3))","v":0},{"$f":"IF(I4=\"\",\"\",IF(I4=\"Дома\",IF(N4=\"П\",Y3+1,Y3),Y3))","v":1},{"$f":"IF(I4=\"\",\"\",IF(I4=\"Дома\",L4+Z3,Z3))","v":6},{"$f":"IF(I4=\"\",\"\",IF(I4=\"Дома\",M4+AA3,AA3))","v":3},{"$f":"IF(I4=\"\",\"\",IF(I4=\"Дома\",W4*3+X4,AB3))","v":3},{"$f":"IF(I4=\"\",\"\",IF(I4=\"Гости\",AC3+1,AC3+0))","v":1},{"$f":"IF(I4=\"\",\"\",IF(I4=\"Гости\",IF(N4=\"В\",AD3+1,AD3),AD3))","v":0},{"$f":"IF(I4=\"\",\"\",IF(I4=\"Гости\",IF(N4=\"Н\",AE3+1,AE3),AE3))","v":0},{"$f":"IF(I4=\"\",\"\",IF(I4=\"Гости\",IF(N4=\"П\",AF3+1,AF3),AF3))","v":1},{"$f":"IF(I4=\"\",\"\",IF(I4=\"Гости\",L4+AG3,AG3))","v":1},{"$f":"IF(I4=\"\",\"\",IF(I4=\"Гости\",M4+AH3,AH3))","v":2},{"$f":"IF(I4=\"\",\"\",IF(I4=\"Гости\",AD4*3+AE4,AI3))","v":0},""]
["ENGLAND: Professional Development League","2021.03.16 17:00","QPR U23","Cardiff U23",0,0,1,0,"Гости",1,0,0,1,"П",4,1,0,3,7,6,3,2,1,0,1,6,3,3,2,0,0,2,1,3,0,""]
["ENGLAND: Professional Development League","2021.03.09 16:00","Cardiff U23","Watford U23",2,0,2,0,"Дома",4,0,4,0,"В",5,2,0,3,11,6,6,3,2,0,1,10,3,6,2,0,0,2,1,3,0,4]
["ENGLAND: Professional Development League","2021.03.01 17:00","Cardiff U23","Charlton U23",1,4,3,1,"Дома",4,5,4,5,"П",6,2,0,4,15,11,6,4,2,0,2,14,8,6,2,0,0,2,1,3,0,9]
["ENGLAND: Professional Development League","2021.02.23 16:00","Bristol City U23","Cardiff U23",0,3,0,0,"Гости",0,3,3,0,"В",7,3,0,4,18,11,9,4,2,0,2,14,8,6,3,1,0,2,4,3,3,""]
["ENGLAND: Professional Development League","2021.02.16 16:00","Cardiff U23","Millwall U23",2,0,1,0,"Дома",3,0,3,0,{"$f":"IF(I9=\"\",\"\",IF(I9=\"Дома\",IF(J9>K9,\"В\",IF(J9=K9,\"Н\",\"П\")),IF(J9<K9,\"В\",IF(J9=K9,\"Н\",\"П\"))))","v":"В"},8,4,0,4,21,11,12,5,3,0,2,17,8,9,3,1,0,2,4,3,3,3]
["ENGLAND: Professional Development League","2021.02.09 16:00","Cardiff U23","Colchester U23",3,0,1,1,"Дома",4,1,4,1,{"$f":"IF(I10=\"\",\"\",IF(I10=\"Дома\",IF(J10>K10,\"В\",IF(J10=K10,\"Н\",\"П\")),IF(J10<K10,\"В\",IF(J10=K10,\"Н\",\"П\"))))","v":"В"},9,5,0,4,25,12,15,6,4,0,2,21,9,12,3,1,0,2,4,3,3,5]
["ENGLAND: Professional Development League","2021.02.02 16:00","Cardiff U23","Ipswich U23",2,0,2,0,"Дома",4,0,4,0,"В",10,6,0,4,29,12,18,7,5,0,2,25,9,15,3,1,0,2,4,3,3,4]
["ENGLAND: Professional Development League","2021.01.19 16:00","Cardiff U23","Swansea U23",0,1,2,0,"Дома",2,1,2,1,"В",11,7,0,4,31,13,{"$f":"IF(I12=\"\",\"\",P12*3+Q12)","v":21},8,6,0,2,27,10,18,3,1,0,2,4,3,3,3]
["ENGLAND: Professional Development League","2021.01.11 16:00","Charlton U23","Cardiff U23",0,0,4,0,"Гости",4,0,0,4,"П",12,7,0,5,31,17,21,8,6,0,2,27,10,18,4,1,0,3,4,7,3,""]
["ENGLAND: Professional Development League","2020.12.22 16:00","Cardiff U23","QPR U23",0,0,1,0,"Дома",1,0,1,0,"В",13,8,0,5,32,17,24,9,7,0,2,28,10,21,4,1,0,3,4,7,3,1]
["ENGLAND: Professional Development League","2020.12.15 16:00","Watford U23","Cardiff U23",2,1,0,1,"Гости",2,2,2,2,"Н",14,8,1,5,34,19,25,9,7,0,2,28,10,21,5,1,1,3,6,9,4,""]
["ENGLAND: Professional Development League","2020.11.28 14:00","Colchester U23","Cardiff U23",0,0,2,0,"Гости",2,0,0,2,"П",15,8,1,6,34,21,25,9,7,0,2,28,10,21,6,1,1,4,6,11,4,""]
["ENGLAND: Professional Development League","2020.11.25 14:00","Millwall U23","Cardiff U23",1,0,1,0,"Гости",2,0,0,2,"П",16,8,1,7,34,23,25,9,7,0,2,28,10,21,7,1,1,5,6,13,4,""]
["ENGLAND: Professional Development League","2020.11.01 16:30","Crewe U23","Cardiff U23",0,0,1,0,"Гости",1,0,0,1,"П",17,8,1,8,34,24,25,9,7,0,2,28,10,21,8,1,1,6,6,14,4,""]
["ENGLAND: Professional Development League","2020.10.27 16:00","Cardiff U23","Hull U23",1,0,1,0,"Дома",2,0,2,0,"В",18,9,1,8,36,24,28,10,8,0,2,30,10,24,8,1,1,6,6,14,4,2]
["ENGLAND: Professional Development League","2020.10.20 16:00","Sheffield Wed U23","Cardiff U23",0,0,1,0,"Гости",1,0,0,1,"П",19,9,1,9,36,25,28,10,8,0,2,30,10,24,9,1,1,7,6,15,4,""]
["ENGLAND: Professional Development League","2020.10.06 15:00","Ipswich U23","Cardiff U23",1,1,1,0,"Гости",2,1,1,2,"П",20,9,1,10,37,27,28,10,8,0,2,30,10,24,10,1,1,8,7,17,4,""]
["ENGLAND: Professional Development League","2020.09.22 15:00","Cardiff U23","Bristol City U23",0,1,1,1,"Дома",1,2,1,2,"П",21,9,1,11,38,29,28,11,8,0,3,31,12,24,10,1,1,8,7,17,4,3]
["ENGLAND: Professional Development League","2020.09.14 15:00","Swansea U23","Cardiff U23",3,0,2,1,"Гости",5,1,1,5,"П",22,9,1,12,39,34,28,11,8,0,3,31,12,24,11,1,1,9,8,22,4,""]
["ENGLAND: Professional Development League","2020.03.12 17:00","Charlton U23","Cardiff U23",1,0,1,1,"Гости",2,1,1,2,"П",23,9,1,13,40,36,28,11,8,0,3,31,12,24,12,1,1,10,9,24,4,""]
["ENGLAND: Professional Development League","2020.03.09 16:00","Cardiff U23","Ipswich U23",0,1,1,0,"Дома",1,1,1,1,"Н",24,9,2,13,41,37,29,12,8,1,3,32,13,25,12,1,1,10,9,24,4,2]
["ENGLAND: Professional Development League","2020.03.02 16:00","Cardiff U23","Watford U23",2,0,1,1,"Дома",3,1,3,1,"В",25,10,2,13,44,38,32,13,9,1,3,35,14,28,12,1,1,10,9,24,4,4]
["ENGLAND: Professional Development League","2020.02.11 22:00","Cardiff U23","Bristol City U23",1,1,2,1,"Дома",3,2,3,2,"В",26,11,2,13,47,40,35,14,10,1,3,38,16,31,12,1,1,10,9,24,4,5]
["ENGLAND: Professional Development League","2020.02.03 17:00","Millwall U23","Cardiff U23",1,0,2,0,"Гости",3,0,0,3,"П",27,11,2,14,47,43,35,14,10,1,3,38,16,31,13,1,1,11,9,27,4,""]
["ENGLAND: Professional Development League","2020.01.29 16:00","Crystal Palace U23","Cardiff U23",1,0,1,3,"Гости",2,3,3,2,"В",28,12,2,14,50,45,38,14,10,1,3,38,16,31,14,2,1,11,12,29,7,""]
["ENGLAND: Professional Development League","2020.01.20 16:00","Coventry U23","Cardiff U23",0,0,1,1,"Гости",1,1,1,1,"Н",29,12,3,14,51,46,39,14,10,1,3,38,16,31,15,2,2,11,13,30,8,""]
["ENGLAND: Professional Development League","2020.01.13 16:00","Cardiff U23","Colchester U23",2,0,0,1,"Дома",2,1,2,1,"В",30,13,3,14,53,47,42,15,11,1,3,40,17,34,15,2,2,11,13,30,8,3]
["ENGLAND: Professional Development League","2020.01.06 16:00","Cardiff U23","Coventry U23",0,0,0,1,"Дома",0,1,0,1,"П",31,13,3,15,53,48,42,16,11,1,4,40,18,34,15,2,2,11,13,30,8,1]
["ENGLAND: Professional Development League","2019.12.16 16:00","QPR U23","Cardiff U23",3,0,1,1,"Гости",4,1,1,4,"П",32,13,3,16,54,52,42,16,11,1,4,40,18,34,16,2,2,12,14,34,8,""]
["ENGLAND: Professional Development League","2019.12.09 16:00","Watford U23","Cardiff U23",0,1,1,0,"Гости",1,1,1,1,"Н",33,13,4,16,55,53,43,16,11,1,4,40,18,34,17,2,3,12,15,35,9,""]
["ENGLAND: Professional Development League","2019.11.25 16:00","Cardiff U23","Charlton U23",0,0,0,0,"Дома",0,0,0,0,"Н",{"$f":"IF(I35=\"\",\"\",O34+1)","v":34},13,5,16,55,53,44,17,11,2,4,40,18,35,17,2,3,12,15,35,9,0]
["ENGLAND: Professional Development League","2019.11.11 16:00","Bristol City U23","Cardiff U23",2,1,0,1,"Гости",2,2,2,2,"Н",35,13,6,16,57,55,45,17,11,2,4,40,18,35,18,2,4,12,17,37,10,""]
["ENGLAND: Professional Development League","2019.11.04 16:00","Cardiff U23","Birmingham U23",0,1,0,0,"Дома",0,1,0,1,"П",36,13,6,17,57,56,45,18,11,2,5,40,19,35,18,2,4,12,17,37,10,1]
["ENGLAND: Professional Development League","2019.10.28 22:00","Cardiff U23","Crystal Palace U23",1,0,2,0,"Дома",3,0,3,0,"В",37,14,6,17,60,56,48,19,12,2,5,43,19,38,18,2,4,12,17,37,10,3]
["ENGLAND: Professional Development League","2019.10.21 15:00","Colchester U23","Cardiff U23",0,0,0,2,"Гости",0,2,2,0,"В",38,15,6,17,62,56,51,19,12,2,5,43,19,38,19,3,4,12,19,37,13,""]
["ENGLAND: Professional Development League","2019.10.14 15:00","Ipswich U23","Cardiff U23",2,0,1,1,"Гости",3,1,1,3,"П",39,15,6,18,63,59,51,19,12,2,5,43,19,38,20,3,4,13,20,40,13,""]
["ENGLAND: Professional Development League","2019.10.07 15:00","Cardiff U23","Millwall U23",0,0,2,1,"Дома",2,1,2,1,"В",40,16,6,18,65,60,54,20,13,2,5,45,20,41,20,3,4,13,20,40,13,3]
[null,null,null,null,null,null,null,null,null,"","","","","","","","","","","","","","","","","","","","","","","","","","",""]
[null,null,null,null,null,null,null,null,null,"","","","","","","","","","","","","","","","","","","","","","","","","","",""]
[null,null,null,null,null,null,null,null,null,"","","","","","","","","","","","","","","","","","","","","","","","","","",""]
[null,null,null,null,null,null,null,null,null,"","","","","","","","","","","","","","","","","","","","","","","","","","",""]
[null,null,null,null,null,null,null,null,null,"","","","","","","","","","","","","","","","","","","","","","","","","","",""]
[null,null,null,null,null,null,null,null,null,"","","","","","","","","","","","","","","","","","","","","","","","","","",""]
[null,null,null,null,null,null,null,null,null,"","","","","","","","","","","","","","","","","","","","","","","","","","",""]
[null,null,null,null,null,null,null,null,null,"","","","","","","","","","","","","","","","","","","","","","","","","","",""]
[null,null,null,null,null,null,null,null,null,"","","","","","","","","","","","","","","","","","","","","","","","","","",""]
[null,null,null,null,null,null,null,null,null,"","","","","","","","","","","","","","","","","","","","","","","","","","",""]
[null,null,null,null,null,null,null,null,null,"","","","","","","","","","","","","","","","","","","","","","","","","","",""]
[null,null,null,null,null,null,null,null,null,"","","","","","","","","","","","","","","","","","","","","","","","","","",""]
[null,null,null,null,null,null,null,null,null,"","","","","","","","","","","","","","","","","","","","","","","","","","",""]
[null,null,null,null,null,null,null,null,null,"","","","","","","","","","","","","","","","","","","","","","","","","","",""]
[null,null,null,null,null,null,null,null,null,"","","","","","","","","","","","","","","","","","","","","","","","","","",""]
[null,null,null,null,null,null,null,null,null,"","","","","","","","","","","","","","","","","","","","","","","","","","",""]
[null,null,null,null,null,null,null,null,null,"","","","","","","","","","","","","","","","","","","","","","","","","","",""]
[null,null,null,null,null,null,null,null,null,"","","","","","","","","","","","","","","","","","","","","","","","","","",""]
[null,null,null,null,null,null,null,null,null,"","","","","","","","","","","","","","","","","","","","","","","","","","",""]
[null,null,null,null,null,null,null,null,null,"","","","","","","","","","","","","","","","","","","","","","","","","","",""]
[null,null,null,null,null,null,null,null,null,"","","","","","","","","","","","","","","","","","","","","","","","","","",""]
[null,null,null,null,null,null,null,null,null,"","","","","","","","","","","","","","","","","","","","","","","","","","",""]
[null,null,null,null,null,null,null,null,null,"","","","","","","","","","","","","","","","","","","","","","","","","","",""]
[null,null,null,null,null,null,null,null,null,"","","","","","","","","","","","","","","","","","","","","","","","","","",""]
[null,null,null,null,null,null,null,null,null,"","","","","","","","","","","","","","","","","","","","","","","","","","",""]
[null,null,null,null,null,null,null,null,null,{"$f":"IF(I67=\"\",\"\",E67+G67)","v":""},{"$f":"IF(I67=\"\",\"\",F67+H67)","v":""},{"$f":"IF(I67=\"\",\"\",IF(I67=\"Дома\",J67,K67))","v":""},{"$f":"IF(I67=\"\",\"\",IF(I67=\"Дома\",K67,J67))","v":""},"",{"$f":"IF(I67=\"\",\"\",O66+1)","v":""},"","","","","",{"$f":"IF(I67=\"\",\"\",P67*3+Q67)","v":""},"","","","","","","","","","","","","","",{"$f":"IF(I67=\"Дома\",L67+M67,\"\")","v":""}]
[null,null,null,null,null,null,null,null,null,"","","","","","",{"$f":"IF(I68=\"\",\"\",IF(N68=\"В\",P67+1,P67))","v":""},{"$f":"IF(I68=\"\",\"\",IF(N68=\"Н\",Q67+1,Q67))","v":""},{"$f":"IF(I68=\"\",\"\",IF(N68=\"П\",R67+1,R67))","v":""},{"$f":"IF(I68=\"\",\"\",S67+L68)","v":""},{"$f":"IF(I68=\"\",\"\",T67+M68)","v":""},"",{"$f":"IF(I68=\"\",\"\",IF(I68=\"Дома\",V67+1,V67+0))","v":""},{"$f":"IF(I68=\"\",\"\",IF(I68=\"Дома\",IF(N68=\"В\",W67+1,W67),W67))","v":""},{"$f":"IF(I68=\"\",\"\",IF(I68=\"Дома\",IF(N68=\"Н\",X67+1,X67),X67))","v":""},{"$f":"IF(I68=\"\",\"\",IF(I68=\"Дома\",IF(N68=\"П\",Y67+1,Y67),Y67))","v":""},{"$f":"IF(I68=\"\",\"\",IF(I68=\"Дома\",L68+Z67,Z67))","v":""},{"$f":"IF(I68=\"\",\"\",IF(I68=\"Дома\",M68+AA67,AA67))","v":""},{"$f":"IF(I68=\"\",\"\",IF(I68=\"Дома\",W68*3+X68,AB67))","v":""},{"$f":"IF(I68=\"\",\"\",IF(I68=\"Гости\",AC67+1,AC67+0))","v":""},{"$f":"IF(I68=\"\",\"\",IF(I68=\"Гости\",IF(N68=\"В\",AD67+1,AD67),AD67))","v":""},{"$f":"IF(I68=\"\",\"\",IF(I68=\"Гости\",IF(N68=\"Н\",AE67+1,AE67),AE67))","v":""},{"$f":"IF(I68=\"\",\"\",IF(I68=\"Гости\",IF(N68=\"П\",AF67+1,AF67),AF67))","v":""},{"$f":"IF(I68=\"\",\"\",IF(I68=\"Гости\",L68+AG67,AG67))","v":""},{"$f":"IF(I68=\"\",\"\",IF(I68=\"Гости\",M68+AH67,AH67))","v":""},{"$f":"IF(I68=\"\",\"\",IF(I68=\"Гости\",AD68*3+AE68,AI67))","v":""},""]
[null,null,null,null,null,null,null,null,null,"","","","","","","","","","","","","","","","","","","","","","","","","","",""]
[null,null,null,null,null,null,null,null,null,"","","","","","","","","","","","","","","","","","","","","","","","","","",""]
[null,null,null,null,null,null,null,null,null,"","","","","","","","","","","","","","","","","","","","","","","","","","",""]
[null,null,null,null,null,null,null,null,null,"","","","","","","","","","","","","","","","","","","","","","","","","","",""]
[null,null,null,null,null,null,null,null,null,"","","","","","","","","","","","","","","","","","","","","","","","","","",""]
[null,null,null,null,null,null,null,null,null,"","","","",{"$f":"IF(I74=\"\",\"\",IF(I74=\"Дома\",IF(J74>K74,\"В\",IF(J74=K74,\"Н\",\"П\")),IF(J74<K74,\"В\",IF(J74=K74,\"Н\",\"П\"))))","v":""},"","","","","","","","","","","","","","","","","","","","","",""]
[null,null,null,null,null,null,null,null,null,"","","","","","","","","","","","","","","","","","","","","","","","","","",""]
[null,null,null,null,null,null,null,null,null,"","","","","","","","","","","","","","","","","","","","","","","","","","",""]
[null,null,null,null,null,null,null,null,null,"","","","","","","","","","","","","","","","","","","","","","","","","","",""]
[null,null,null,null,null,null,null,null,null,"","","","","","","","","","","","","","","","","","","","","","","","","","",""]
[null,null,null,null,null,null,null,null,null,"","","","","","","","","","","","","","","","","","","","","","","","","","",""]
[null,null,null,null,null,null,null,null,null,"","","","","","","","","","","","","","","","","","","","","","","","","","",""]
[null,null,null,null,null,null,null,null,null,"","","","","","","","","","","","","","","","","","","","","","","","","","",""]
[null,null,null,null,null,null,null,null,null,"","","","","","","","","","","","","","","","","","","","","","","","","","",""]
[null,null,null,null,null,null,null,null,null,"","","","","","","","","","","","","","","","","","","","","","","","","","",""]
[null,null,null,null,null,null,null,null,null,"","","","","","","","","","","","","","","","","","","","","","","","","","",""]
[null,null,null,null,null,null,null,null,null,"","","","","","","","","","","","","","","","","","","","","","","","","","",""]
[null,null,null,null,null,null,null,null,null,"","","","","","","","","","","","","","","","","","","","","","","","","","",""]
[null,null,null,null,null,null,null,null,null,"","","","","","","","","","","","","","","","","","","","","","","","","","",""]
[null,null,null,null,null,null,null,null,null,"","","","","","","","","","","","","","","","","","","","","","","","","","",""]
[null,null,null,null,null,null,null,null,null,"","","","","","","","","","","","","","","","","","","","","","","","","","",""]
[null,null,null,null,null,null,null,null,null,"","","","","","","","","","","","","","","","","","","","","","","","","","",""]
[null,null,null,null,null,null,null,null,null,"","","","","","","","","","","","","","","","","","","","","","","","","","",""]
[null,null,null,null,null,null,null,null,null,"","","","","","","","","","","","","","","","","","","","","","","","","","",""]
[null,null,null,null,null,null,null,null,null,"","","","","","","","","","","","","","","","","","","","","","","","","","",""]
[null,null,null,null,null,null,null,null,null,"","","","","","","","","","","","","","","","","","","","","","","","","","",""]
[null,null,null,null,null,null,null,null,null,"","","","","","","","","","","","","","","","","","","","","","","","","","",""]
[null,null,null,null,null,null,null,null,null,"","","","","","","","","","","","","","","","","","","","","","","","","","",""]
[null,null,null,null,null,null,null,null,null,"","","","","","","","","","","","","","","","","","","","","","","","","","",""]
[null,null,null,null,null,null,null,null,null,"","","","","","","","","","","","","","","","","","","","","","","","","","",""]
[null,null,null,null,null,null,null,null,null,"","","","","",{"$f":"IF(I99=\"\",\"\",O98+1)","v":""},"","","","","","","","","","","","","","","","","","","","",""]
[null,null,null,null,null,null,null,null,null,"","","","","","","","","","","","","","","","","","","","","","","","","","",""]
[null,null,null,null,null,null,null,null,null,"","","","","","","","","","","","","","","","","","","","","","","","","","",""]
[null,null,null,null,null,null,null,null,null,"","","","","","","","","","","","","","","","","","","","","","","","","","",""]
[null,null,null,null,null,null,null,null,null,"","","","","","","","","","","","","","","","","","","","","","","","","","",""]
[null,null,null,null,null,null,null,null,null,"","","","","","","","","","","","","","","","","","","","","","","","","","",""]
[null,null,null,null,null,null,null,null,null,"","","","","","","","","","","","","","","","","","","","","","","","","","",""]
[null,null,null,null,null,null,null,null,null,"","","","","","","","","","","","","","","","","","","","","","","","","","",""]
[null,null,null,null,null,null,null,null,null,"","","","","","","","","","","","","","","","","","","","","","","","","","",""]
[null,null,null,null,null,null,null,null,null,"","","","","","","","","","","","","","","","","","","","","","","","","","",""]
[null,null,null,null,null,null,null,null,null,"","","","","","","","","","","","","","","","","","","","","","","","","","",""]
[null,null,null,null,null,null,null,null,null,"","","","","","","","","","","","","","","","","","","","","","","","","","",""]
[null,null,null,null,null,null,null,null,null,"","","","","","","","","","","","","","","","","","","","","","","","","","",""]
[null,null,null,null,null,null,null,null,null,"","","","","","","","","","","","","","","","","","","","","","","","","","",""]
[null,null,null,null,null,null,null,null,null,"","","","","","","","","","","","","","","","","","","","","","","","","","",""]
[null,null,null,null,null,null,null,null,null,"","","","","","","","","","","","","","","","","","","","","","","","","","",""]
[null,null,null,null,null,null,null,null,null,"","","","","","","","","","","","","","","","","","","","","","","","","","",""]
[null,null,null,null,null,null,null,null,null,"","","","","","","","","","","","","","","","","","","","","","","","","","",""]
[null,null,null,null,null,null,null,null,null,"","","","","","","","","","","","","","","","","","","","","","","","","","",""]
[null,null,null,null,null,null,null,null,null,"","","","","","","","","","","","","","","","","","","","","","","","","","",""]
[null,null,null,null,null,null,null,null,null,"","","","","","","","","","","","","","","","","","","","","","","","","","",""]
[null,null,null,null,null,null,null,null,null,"","","","","","","","","","","","","","","","","","","","","","","","","","",""]
[null,null,null,null,null,null,null,null,null,"","","","","","","","","","","","","","","","","","","","","","","","","","",""]
[null,null,null,null,null,null,null,null,null,"","","","","","","","","","","","","","","","","","","","","","","","","","",""]
[null,null,null,null,null,null,null,null,null,"","","","","","","","","","","","","","","","","","","","","","","","","","",""]
[null,null,null,null,null,null,null,null,null,"","","","","","","","","","","","","","","","","","","","","","","","","","",""]
[null,null,null,null,null,null,null,null,null,"","","","","","","","","","","","","","","","","","","","","","","","","","",""]
[null,null,null,null,null,null,null,null,null,"","","","","","","","","","","","","","","","","","","","","","","","","","",""]
[null,null,null,null,null,null,null,null,null,"","","","","","","","","","","","","","","","","","","","","","","","","","",""]
[null,null,null,null,null,null,null,null,null,"","","","","","","","","","","","","","","","","","","","","","","","","","",""]
[null,null,null,null,null,null,null,null,null,"","","","","","","","","","","","","","","","","","","","","","","","","","",""]
[null,null,null,null,null,null,null,null,null,"","","","","","","","","","","","","","","","","","","","","","","","","","",""]
[null,null,null,null,null,null,null,null,null,{"$f":"IF(I131=\"\",\"\",E131+G131)","v":""},{"$f":"IF(I131=\"\",\"\",F131+H131)","v":""},{"$f":"IF(I131=\"\",\"\",IF(I131=\"Дома\",J131,K131))","v":""},{"$f":"IF(I131=\"\",\"\",IF(I131=\"Дома\",K131,J131))","v":""},"",{"$f":"IF(I131=\"\",\"\",O130+1)","v":""},"","","","","",{"$f":"IF(I131=\"\",\"\",P131*3+Q131)","v":""},"","","","","","","","","","","","","","",{"$f":"IF(I131=\"Дома\",L131+M131,\"\")","v":""}]
[null,null,null,null,null,null,null,null,null,"","","","","","",{"$f":"IF(I132=\"\",\"\",IF(N132=\"В\",P131+1,P131))","v":""},{"$f":"IF(I132=\"\",\"\",IF(N132=\"Н\",Q131+1,Q131))","v":""},{"$f":"IF(I132=\"\",\"\",IF(N132=\"П\",R131+1,R131))","v":""},{"$f":"IF(I132=\"\",\"\",S131+L132)","v":""},{"$f":"IF(I132=\"\",\"\",T131+M132)","v":""},"",{"$f":"IF(I132=\"\",\"\",IF(I132=\"Дома\",V131+1,V131+0))","v":""},{"$f":"IF(I132=\"\",\"\",IF(I132=\"Дома\",IF(N132=\"В\",W131+1,W131),W131))","v":""},{"$f":"IF(I132=\"\",\"\",IF(I132=\"Дома\",IF(N132=\"Н\",X131+1,X131),X131))","v":""},{"$f":"IF(I132=\"\",\"\",IF(I132=\"Дома\",IF(N132=\"П\",Y131+1,Y131),Y131))","v":""},{"$f":"IF(I132=\"\",\"\",IF(I132=\"Дома\",L132+Z131,Z131))","v":""},{"$f":"IF(I132=\"\",\"\",IF(I132=\"Дома\",M132+AA131,AA131))","v":""},{"$f":"IF(I132=\"\",\"\",IF(I132=\"Дома\",W132*3+X132,AB131))","v":""},{"$f":"IF(I132=\"\",\"\",IF(I132=\"Гости\",AC131+1,AC131+0))","v":""},{"$f":"IF(I132=\"\",\"\",IF(I132=\"Гости\",IF(N132=\"В\",AD131+1,AD131),AD131))","v":""},{"$f":"IF(I132=\"\",\"\",IF(I132=\"Гости\",IF(N132=\"Н\",AE131+1,AE131),AE131))","v":""},{"$f":"IF(I132=\"\",\"\",IF(I132=\"Гости\",IF(N132=\"П\",AF131+1,AF131),AF131))","v":""},{"$f":"IF(I132=\"\",\"\",IF(I132=\"Гости\",L132+AG131,AG131))","v":""},{"$f":"IF(I132=\"\",\"\",IF(I132=\"Гости\",M132+AH131,AH131))","v":""},{"$f":"IF(I132=\"\",\"\",IF(I132=\"Гости\",AD132*3+AE132,AI131))","v":""},""]
[null,null,null,null,null,null,null,null,null,"","","","","","","","","","","","","","","","","","","","","","","","","","",""]
[null,null,null,null,null,null,null,null,null,"","","","","","","","","","","","","","","","","","","","","","","","","","",""]
[null,null,null,null,null,null,null,null,null,"","","","","","","","","","","","","","","","","","","","","","","","","","",""]
[null,null,null,null,null,null,null,null,null,"","","","","","","","","","","","","","","","","","","","","","","","","","",""]
[null,null,null,null,null,null,null,null,null,"","","","","","","","","","","","","","","","","","","","","","","","","","",""]
[null,null,null,null,null,null,null,null,null,"","","","",{"$f":"IF(I138=\"\",\"\",IF(I138=\"Дома\",IF(J138>K138,\"В\",IF(J138=K138,\"Н\",\"П\")),IF(J138<K138,\"В\",IF(J138=K138,\"Н\",\"П\"))))","v":""},"","","","","","","","","","","","","","","","","","","","","",""]
[null,null,null,null,null,null,null,null,null,"","","","","","","","","","","","","","","","","","","","","","","","","","",""]
[null,null,null,null,null,null,null,null,null,"","","","","","","","","","","","","","","","","","","","","","","","","","",""]
[null,null,null,null,null,null,null,null,null,"","","","","","","","","","","","","","","","","","","","","","","","","","",""]
[null,null,null,null,null,null,null,null,null,"","","","","","","","","","","","","","","","","","","","","","","","","","",""]
[null,null,null,null,null,null,null,null,null,"","","","","","","","","","","","","","","","","","","","","","","","","","",""]
[null,null,null,null,null,null,null,null,null,"","","","","","","","","","","","","","","","","","","","","","","","","","",""]
[null,null,null,null,null,null,null,null,null,"","","","","","","","","","","","","","","","","","","","","","","","","","",""]
[null,null,null,null,null,null,null,null,null,"","","","","","","","","","","","","","","","","","","","","","","","","","",""]
[null,null,null,null,null,null,null,null,null,"","","","","","","","","","","","","","","","","","","","","","","","","","",""]
[null,null,null,null,null,null,null,null,null,"","","","","","","","","","","","","","","","","","","","","","","","","","",""]
[null,null,null,null,null,null,null,null,null,"","","","","","","","","","","","","","","","","","","","","","","","","","",""]
[null,null,null,null,null,null,null,null,null,"","","","","","","","","","","","","","","","","","","","","","","","","","",""]

{"sheet":"Гости","index":12,"n_rows":150,"n_cols":36,"rows_kept":150,"cut":false,"hidden":true,"merged":[]}
["Чемпионат","Дата/Время","Дома","Гости","К1 в 1Т","К2 в 1Т","К1 во 2Т","К2 во 2Т","Где играли","К1 Голов","К2 Голов","Забито","Пропущено","Результат","Всего Игр","Всего выиграно","Всего ничьих","Всего проиграно","Всего забито","Всего пропущено","Всего очков","Дома игр","Дома выиграно","Дома ничьих","Дома проиграно","Дома забито","Дома пропущено","Дома очков","Гости игр","Гости выиграно","Гости ничьих","Гости проиграно","Гости забито","Гости пропущено","Гости очков","Тотал"]
["ENGLAND: Professional Development League","2021.04.13 15:00","Cardiff U23","Sheffield Utd U23",0,0,0,2,"Гости",{"$f":"IF(I2=\"\",\"\",E2+G2)","v":0},{"$f":"IF(I2=\"\",\"\",F2+H2)","v":2},{"$f":"IF(I2=\"\",\"\",IF(I2=\"Дома\",J2,K2))","v":2},{"$f":"IF(I2=\"\",\"\",IF(I2=\"Дома\",K2,J2))","v":0},{"$f":"IF(I2=\"\",\"\",IF(I2=\"Дома\",IF(J2>K2,\"В\",IF(J2=K2,\"Н\",\"П\")),IF(J2<K2,\"В\",IF(J2=K2,\"Н\",\"П\"))))","v":"В"},{"$f":"IF(I2=\"\",\"\",1)","v":1},{"$f":"IF(I2=\"\",\"\",IF(N2=\"В\",1,0))","v":1},{"$f":"IF(I2=\"\",\"\",IF(N2=\"Н\",1,0))","v":0},{"$f":"IF(I2=\"\",\"\",IF(N2=\"П\",1,0))","v":0},{"$f":"IF(I2=\"\",\"\",L2)","v":2},{"$f":"IF(I2=\"\",\"\",M2)","v":0},{"$f":"IF(I2=\"\",\"\",P2*3+Q2)","v":3},{"$f":"IF(I2=\"\",\"\",IF(I2=\"Дома\",1,0))","v":0},{"$f":"IF(I2=\"\",\"\",IF(I2=\"Дома\",IF(N2=\"В\",1,0),0))","v":0},{"$f":"IF(I2=\"\",\"\",IF(I2=\"Дома\",IF(N2=\"Н\",1,0),0))","v":0},{"$f":"IF(I2=\"\",\"\",IF(I2=\"Дома\",IF(N2=\"П\",1,0),0))","v":0},{"$f":"IF(I2=\"\",\"\",IF(I2=\"Дома\",L2,0))","v":0},{"$f":"IF(I2=\"\",\"\",IF(I2=\"Дома\",M2,0))","v":0},{"$f":"IF(I2=\"\",\"\",IF(I2=\"Дома\",W2*3+X2,0))","v":0},{"$f":"IF(I2=\"\",\"\",IF(I2=\"Гости\",1,0))","v":1},{"$f":"IF(I2=\"\",\"\",IF(I2=\"Гости\",IF(N2=\"В\",1,0),0))","v":1},{"$f":"IF(I2=\"\",\"\",IF(I2=\"Гости\",IF(N2=\"Н\",1,0),0))","v":0},{"$f":"IF(I2=\"\",\"\",IF(I2=\"Гости\",IF(N2=\"П\",1,0),0))","v":0},{"$f":"IF(I2=\"\",\"\",IF(I2=\"Гости\",L2,0))","v":2},{"$f":"IF(I2=\"\",\"\",IF(I2=\"Гости\",M2,0))","v":0},{"$f":"IF(I2=\"\",\"\",IF(I2=\"Гости\",AD2*3+AE2,0))","v":3},{"$f":"IF(I2=\"Гости\",L2+M2,\"\")","v":2}]
["ENGLAND: Professional Development League","2021.03.26 17:00","Sheffield Wed U23","Sheffield Utd U23",0,1,0,3,"Гости",{"$f":"IF(I3=\"\",\"\",E3+G3)","v":0},{"$f":"IF(I3=\"\",\"\",F3+H3)","v":4},{"$f":"IF(I3=\"\",\"\",IF(I3=\"Дома\",J3,K3))","v":4},{"$f":"IF(I3=\"\",\"\",IF(I3=\"Дома\",K3,J3))","v":0},{"$f":"IF(I3=\"\",\"\",IF(I3=\"Дома\",IF(J3>K3,\"В\",IF(J3=K3,\"Н\",\"П\")),IF(J3<K3,\"В\",IF(J3=K3,\"Н\",\"П\"))))","v":"В"},{"$f":"IF(I3=\"\",\"\",O2+1)","v":2},{"$f":"IF(I3=\"\",\"\",IF(N3=\"В\",P2+1,P2))","v":2},{"$f":"IF(I3=\"\",\"\",IF(N3=\"Н\",Q2+1,Q2))","v":0},{"$f":"IF(I3=\"\",\"\",IF(N3=\"П\",R2+1,R2))","v":0},{"$f":"IF(I3=\"\",\"\",S2+L3)","v":6},{"$f":"IF(I3=\"\",\"\",T2+M3)","v":0},{"$f":"IF(I3=\"\",\"\",P3*3+Q3)","v":6},{"$f":"IF(I3=\"\",\"\",IF(I3=\"Дома\",V2+1,V2+0))","v":0},{"$f":"IF(I3=\"\",\"\",IF(I3=\"Дома\",IF(N3=\"В\",W2+1,W2),W2))","v":0},{"$f":"IF(I3=\"\",\"\",IF(I3=\"Дома\",IF(N3=\"Н\",X2+1,X2),X2))","v":0},{"$f":"IF(I3=\"\",\"\",IF(I3=\"Дома\",IF(N3=\"П\",Y2+1,Y2),Y2))","v":0},{"$f":"IF(I3=\"\",\"\",IF(I3=\"Дома\",L3+Z2,Z2))","v":0},{"$f":"IF(I3=\"\",\"\",IF(I3=\"Дома\",M3+AA2,AA2))","v":0},{"$f":"IF(I3=\"\",\"\",IF(I3=\"Дома\",W3*3+X3,AB2))","v":0},{"$f":"IF(I3=\"\",\"\",IF(I3=\"Гости\",AC2+1,AC2+0))","v":2},{"$f":"IF(I3=\"\",\"\",IF(I3=\"Гости\",IF(N3=\"В\",AD2+1,AD2),AD2))","v":2},{"$f":"IF(I3=\"\",\"\",IF(I3=\"Гости\",IF(N3=\"Н\",AE2+1,AE2),AE2))","v":0},{"$f":"IF(I3=\"\",\"\",IF(I3=\"Гости\",IF(N3=\"П\",AF2+1,AF2),AF2))","v":0},{"$f":"IF(I3=\"\",\"\",IF(I3=\"Гости\",L3+AG2,AG2))","v":6},{"$f":"IF(I3=\"\",\"\",IF(I3=\"Гости\",M3+AH2,AH2))","v":0},{"$f":"IF(I3=\"\",\"\",IF(I3=\"Гости\",AD3*3+AE3,AI2))","v":6},{"$f":"IF(I3=\"Гости\",L3+M3,\"\")","v":4}]
["ENGLAND: Professional Development League","2021.03.22 16:00","Sheffield Utd U23","QPR U23",2,0,2,0,"Дома",4,0,4,0,"В",3,{"$f":"IF(I4=\"\",\"\",IF(N4=\"В\",P3+1,P3))","v":3},{"$f":"IF(I4=\"\",\"\",IF(N4=\"Н\",Q3+1,Q3))","v":0},{"$f":"IF(I4=\"\",\"\",IF(N4=\"П\",R3+1,R3))","v":0},{"$f":"IF(I4=\"\",\"\",S3+L4)","v":10},{"$f":"IF(I4=\"\",\"\",T3+M4)","v":0},9,{"$f":"IF(I4=\"\",\"\",IF(I4=\"Дома\",V3+1,V3+0))","v":1},{"$f":"IF(I4=\"\",\"\",IF(I4=\"Дома\",IF(N4=\"В\",W3+1,W3),W3))","v":1},{"$f":"IF(I4=\"\",\"\",IF(I4=\"Дома\",IF(N4=\"Н\",X3+1,X3),X3))","v":0},{"$f":"IF(I4=\"\",\"\",IF(I4=\"Дома\",IF(N4=\"П\",Y3+1,Y3),Y3))","v":0},{"$f":"IF(I4=\"\",\"\",IF(I4=\"Дома\",L4+Z3,Z3))","v":4},{"$f":"IF(I4=\"\",\"\",IF(I4=\"Дома\",M4+AA3,AA3))","v":0},{"$f":"IF(I4=\"\",\"\",IF(I4=\"Дома\",W4*3+X4,AB3))","v":3},{"$f":"IF(I4=\"\",\"\",IF(I4=\"Гости\",AC3+1,AC3+0))","v":2},{"$f":"IF(I4=\"\",\"\",IF(I4=\"Гости\",IF(N4=\"В\",AD3+1,AD3),AD3))","v":2},{"$f":"IF(I4=\"\",\"\",IF(I4=\"Гости\",IF(N4=\"Н\",AE3+1,AE3),AE3))","v":0},{"$f":"IF(I4=\"\",\"\",IF(I4=\"Гости\",IF(N4=\"П\",AF3+1,AF3),AF3))","v":0},{"$f":"IF(I4=\"\",\"\",IF(I4=\"Гости\",L4+AG3,AG3))","v":6},{"$f":"IF(I4=\"\",\"\",IF(I4=\"Гости\",M4+AH3,AH3))","v":0},{"$f":"IF(I4=\"\",\"\",IF(I4=\"Гости\",AD4*3+AE4,AI3))","v":6},""]
["ENGLAND: Professional Development League","2021.03.12 17:00","Sheffield Utd U23","Birmingham U23",2,0,3,0,"Дома",5,0,5,0,"В",4,4,0,0,15,0,12,2,2,0,0,9,0,6,2,2,0,0,6,0,6,""]
["ENGLAND: Professional Development League","2021.03.08 16:00","Sheffield Utd U23","Coventry U23",1,1,2,1,"Дома",3,2,3,2,"В",5,5,0,0,18,2,15,3,3,0,0,12,2,9,2,2,0,0,6,0,6,""]
["ENGLAND: Professional Development League","2021.03.03 16:00","Sheffield Utd U23","Sheffield Wed U23",1,1,0,0,"Дома",1,1,1,1,"Н",6,5,1,0,19,3,16,4,3,1,0,13,3,10,2,2,0,0,6,0,6,""]
["ENGLAND: Professional Development League","2021.02.26 22:00","Barnsley U23","Sheffield Utd U23",2,0,0,2,"Гости",2,2,2,2,"Н",7,5,2,0,21,5,17,4,3,1,0,13,3,10,3,2,1,0,8,2,7,4]
["ENGLAND: Professional Development League","2021.02.22 22:00","Nottingham U23","Sheffield Utd U23",0,0,2,1,"Гости",2,1,1,2,{"$f":"IF(I9=\"\",\"\",IF(I9=\"Дома\",IF(J9>K9,\"В\",IF(J9=K9,\"Н\",\"П\")),IF(J9<K9,\"В\",IF(J9=K9,\"Н\",\"П\"))))","v":"П"},8,5,2,1,22,7,17,4,3,1,0,13,3,10,4,2,1,1,9,4,7,3]
["ENGLAND: Professional Development League","2021.02.08 16:00","Crewe U23","Sheffield Utd U23",0,0,0,2,"Гости",0,2,2,0,{"$f":"IF(I10=\"\",\"\",IF(I10=\"Дома\",IF(J10>K10,\"В\",IF(J10=K10,\"Н\",\"П\")),IF(J10<K10,\"В\",IF(J10=K10,\"Н\",\"П\"))))","v":"В"},9,6,2,1,24,7,20,4,3,1,0,13,3,10,5,3,1,1,11,4,10,2]
["ENGLAND: Professional Development League","2021.01.20 17:00","Sheffield Utd U23","Hull U23",3,0,1,2,"Дома",4,2,4,2,"В",10,7,2,1,28,9,23,5,4,1,0,17,5,13,5,3,1,1,11,4,10,""]
["ENGLAND: Professional Development League","2020.12.18 16:00","Birmingham U23","Sheffield Utd U23",0,1,0,0,"Гости",0,1,1,0,"В",11,8,2,1,29,9,{"$f":"IF(I12=\"\",\"\",P12*3+Q12)","v":26},5,4,1,0,17,5,13,6,4,1,1,12,4,13,1]
["ENGLAND: Professional Development League","2020.12.14 16:00","Coventry U23","Sheffield Utd U23",0,1,2,2,"Гости",2,3,3,2,"В",12,9,2,1,32,11,29,5,4,1,0,17,5,13,7,5,1,1,15,6,16,5]
["ENGLAND: Professional Development League","2020.12.02 16:00","Sheffield Utd U23","Crewe U23",1,0,3,0,"Дома",4,0,4,0,"В",13,10,2,1,36,11,32,6,5,1,0,21,5,16,7,5,1,1,15,6,16,""]
["ENGLAND: Professional Development League","2020.11.25 16:00","Wigan U23","Sheffield Utd U23",0,0,1,0,"Гости",1,0,0,1,"П",14,10,2,2,36,12,32,6,5,1,0,21,5,16,8,5,1,2,15,7,16,1]
["ENGLAND: Professional Development League","2020.11.06 16:00","Watford U23","Sheffield Utd U23",0,3,0,0,"Гости",0,3,3,0,"В",15,11,2,2,39,12,35,6,5,1,0,21,5,16,9,6,1,2,18,7,19,3]
["ENGLAND: Professional Development League","2020.11.02 22:00","Sheffield Utd U23","Ipswich U23",1,1,2,0,"Дома",3,1,3,1,"В",16,12,2,2,42,13,38,7,6,1,0,24,6,19,9,6,1,2,18,7,19,""]
["ENGLAND: Professional Development League","2020.10.27 16:00","Colchester U23","Sheffield Utd U23",1,1,0,3,"Гости",1,4,4,1,"В",17,13,2,2,46,14,41,7,6,1,0,24,6,19,10,7,1,2,22,8,22,5]
["ENGLAND: Professional Development League","2020.10.19 15:00","Sheffield Utd U23","Bristol City U23",2,0,2,0,"Дома",4,0,4,0,"В",18,14,2,2,50,14,44,8,7,1,0,28,6,22,10,7,1,2,22,8,22,""]
["ENGLAND: Professional Development League","2020.09.29 21:00","Sheffield Utd U23","Barnsley U23",0,0,1,1,"Дома",1,1,1,1,"Н",19,14,3,2,51,15,45,9,7,2,0,29,7,23,10,7,1,2,22,8,22,""]
["ENGLAND: Professional Development League","2020.09.21 21:00","Sheffield Utd U23","Nottingham U23",0,1,2,1,"Дома",2,2,2,2,"Н",20,14,4,2,53,17,46,10,7,3,0,31,9,24,10,7,1,2,22,8,22,""]
["ENGLAND: Professional Development League","2020.09.14 21:00","Hull U23","Sheffield Utd U23",1,0,1,0,"Гости",2,0,0,2,"П",21,14,4,3,53,19,46,10,7,3,0,31,9,24,11,7,1,3,22,10,22,2]
["ENGLAND: Professional Development League","2020.03.06 22:00","Sheffield Wed U23","Sheffield Utd U23",1,1,1,0,"Гости",2,1,1,2,"П",22,14,4,4,54,21,46,10,7,3,0,31,9,24,12,7,1,4,23,12,22,3]
["ENGLAND: Professional Development League","2020.03.02 17:00","Sheffield Utd U23","Bolton U23",1,1,1,0,"Дома",2,1,2,1,"В",23,15,4,4,56,22,49,11,8,3,0,33,10,27,12,7,1,4,23,12,22,""]
["ENGLAND: Professional Development League","2020.02.17 22:00","Sheffield Utd U23","Hull U23",0,3,0,0,"Дома",0,3,0,3,"П",24,15,4,5,56,25,49,12,8,3,1,33,13,27,12,7,1,4,23,12,22,""]
["ENGLAND: Professional Development League","2020.02.13 17:00","Wigan U23","Sheffield Utd U23",0,0,1,0,"Гости",1,0,0,1,"П",25,15,4,6,56,26,49,12,8,3,1,33,13,27,13,7,1,5,23,13,22,1]
["ENGLAND: Professional Development League","2020.02.03 22:00","Sheffield Utd U23","Barnsley U23",0,1,1,0,"Дома",1,1,1,1,"Н",26,15,5,6,57,27,50,13,8,4,1,34,14,28,13,7,1,5,23,13,22,""]
["ENGLAND: Professional Development League","2020.01.24 16:00","Nottingham U23","Sheffield Utd U23",1,0,0,0,"Гости",1,0,0,1,"П",27,15,5,7,57,28,50,13,8,4,1,34,14,28,14,7,1,6,23,14,22,1]
["ENGLAND: Professional Development League","2020.01.20 22:00","Sheffield Utd U23","Crewe U23",1,2,1,1,"Дома",2,3,2,3,"П",28,15,5,8,59,31,50,14,8,4,2,36,17,28,14,7,1,6,23,14,22,""]
["ENGLAND: Professional Development League","2020.01.13 17:00","Burnley U23","Sheffield Utd U23",1,0,1,0,"Гости",2,0,0,2,"П",29,15,5,9,59,33,50,14,8,4,2,36,17,28,15,7,1,7,23,16,22,2]
["ENGLAND: Professional Development League","2020.01.06 22:00","Sheffield Utd U23","Birmingham U23",1,0,0,2,"Дома",1,2,1,2,"П",30,15,5,10,60,35,50,15,8,4,3,37,19,28,15,7,1,7,23,16,22,""]
["ENGLAND: Professional Development League","2019.12.16 22:00","Sheffield Utd U23","Wigan U23",0,1,2,1,"Дома",2,2,2,2,"Н",31,15,6,10,62,37,51,16,8,5,3,39,21,29,15,7,1,7,23,16,22,""]
["ENGLAND: Professional Development League","2019.12.10 17:00","Barnsley U23","Sheffield Utd U23",0,1,0,0,"Гости",0,1,1,0,"В",32,16,6,10,63,37,54,16,8,5,3,39,21,29,16,8,1,7,24,16,25,1]
["ENGLAND: Professional Development League","2019.11.29 15:00","Leeds U23","Sheffield Utd U23",0,0,2,1,"Гости",2,1,1,2,"П",33,16,6,11,64,39,54,16,8,5,3,39,21,29,17,8,1,8,25,18,25,3]
["ENGLAND: Professional Development League","2019.11.26 22:00","Sheffield Utd U23","Sheffield Wed U23",0,0,0,1,"Дома",0,1,0,1,"П",34,16,6,12,64,40,54,17,8,5,4,39,22,29,17,8,1,8,25,18,25,""]
["ENGLAND: Professional Development League","2019.11.18 22:00","Bolton U23","Sheffield Utd U23",2,2,1,1,"Гости",3,3,3,3,"Н",35,16,7,12,67,43,55,17,8,5,4,39,22,29,18,8,2,8,28,21,26,6]
["ENGLAND: Professional Development League","2019.10.26 21:30","Hull U23","Sheffield Utd U23",1,1,1,2,"Гости",2,3,3,2,"В",36,17,7,12,70,45,58,17,8,5,4,39,22,29,19,9,2,8,31,23,29,5]
["ENGLAND: Professional Development League","2019.10.23 15:00","Crewe U23","Sheffield Utd U23",4,0,1,1,"Гости",5,1,1,5,"П",37,17,7,13,71,50,58,17,8,5,4,39,22,29,20,9,2,9,32,28,29,6]
["ENGLAND: Professional Development League","2019.10.14 21:00","Sheffield Utd U23","Nottingham U23",0,0,1,1,"Дома",1,1,1,1,"Н",38,17,8,13,72,51,59,18,8,6,4,40,23,30,20,9,2,9,32,28,29,""]
["ENGLAND: Professional Development League","2019.10.07 15:00","Cardiff U23","Millwall U23",0,0,2,1,"Дома",2,1,2,1,"В",39,18,8,13,74,52,62,19,9,6,4,42,24,33,20,9,2,9,32,28,29,""]
["ENGLAND: Professional Development League","2019.09.30 15:00","Sheffield Utd U23","Burnley U23",0,2,0,1,"Дома",0,3,0,3,"П",40,18,8,14,74,55,62,20,9,6,5,42,27,33,20,9,2,9,32,28,29,""]
["ENGLAND: Professional Development League","2019.09.23 15:30","Birmingham U23","Sheffield Utd U23",0,0,1,1,"Гости",1,1,1,1,"Н",41,18,9,14,75,56,63,20,9,6,5,42,27,33,21,9,3,9,33,29,30,2]
[null,null,null,null,null,null,null,null,null,"","","","","","","","","","","","","","","","","","","","","","","","","","",""]
[null,null,null,null,null,null,null,null,null,"","","","","","","","","","","","","","","","","","","","","","","","","","",""]
[null,null,null,null,null,null,null,null,null,"","","","","","","","","","","","","","","","","","","","","","","","","","",""]
[null,null,null,null,null,null,null,null,null,"","","","","","","","","","","","","","","","","","","","","","","","","","",""]
[null,null,null,null,null,null,null,null,null,"","","","","","","","","","","","","","","","","","","","","","","","","","",""]
[null,null,null,null,null,null,null,null,null,"","","","","","","","","","","","","","","","","","","","","","","","","","",""]
[null,null,null,null,null,null,null,null,null,"","","","","","","","","","","","","","","","","","","","","","","","","","",""]
[null,null,null,null,null,null,null,null,null,"","","","","","","","","","","","","","","","","","","","","","","","","","",""]
[null,null,null,null,null,null,null,null,null,"","","","","","","","","","","","","","","","","","","","","","","","","","",""]
[null,null,null,null,null,null,null,null,null,"","","","","","","","","","","","","","","","","","","","","","","","","","",""]
[null,null,null,null,null,null,null,null,null,"","","","","","","","","","","","","","","","","","","","","","","","","","",""]
[null,null,null,null,null,null,null,null,null,"","","","","","","","","","","","","","","","","","","","","","","","","","",""]
[null,null,null,null,null,null,null,null,null,"","","","","","","","","","","","","","","","","","","","","","","","","","",""]
[null,null,null,null,null,null,null,null,null,"","","","","","","","","","","","","","","","","","","","","","","","","","",""]
[null,null,null,null,null,null,null,null,null,"","","","","","","","","","","","","","","","","","","","","","","","","","",""]
[null,null,null,null,null,null,null,null,null,"","","","","","","","","","","","","","","","","","","","","","","","","","",""]
[null,null,null,null,null,null,null,null,null,"","","","","","","","","","","","","","","","","","","","","","","","","","",""]
[null,null,null,null,null,null,null,null,null,"","","","","","","","","","","","","","","","","","","","","","","","","","",""]
[null,null,null,null,null,null,null,null,null,"","","","","","","","","","","","","","","","","","","","","","","","","","",""]
[null,null,null,null,null,null,null,null,null,"","","","","","","","","","","","","","","","","","","","","","","","","","",""]
[null,null,null,null,null,null,null,null,null,"","","","","","","","","","","","","","","","","","","","","","","","","","",""]
[null,null,null,null,null,null,null,null,null,"","","","","","","","","","","","","","","","","","","","","","","","","","",""]
[null,null,null,null,null,null,null,null,null,"","","","","","","","","","","","","","","","","","","","","","","","","","",""]
[null,null,null,null,null,null,null,null,null,"","","","","","","","","","","","","","","","","","","","","","","","","","",""]
[null,null,null,null,null,null,null,null,null,{"$f":"IF(I67=\"\",\"\",E67+G67)","v":""},{"$f":"IF(I67=\"\",\"\",F67+H67)","v":""},{"$f":"IF(I67=\"\",\"\",IF(I67=\"Дома\",J67,K67))","v":""},{"$f":"IF(I67=\"\",\"\",IF(I67=\"Дома\",K67,J67))","v":""},"",{"$f":"IF(I67=\"\",\"\",O66+1)","v":""},"","","","","",{"$f":"IF(I67=\"\",\"\",P67*3+Q67)","v":""},"","","","","","","","","","","","","","",{"$f":"IF(I67=\"Гости\",L67+M67,\"\")","v":""}]
[null,null,null,null,null,null,null,null,null,"","","","","","",{"$f":"IF(I68=\"\",\"\",IF(N68=\"В\",P67+1,P67))","v":""},{"$f":"IF(I68=\"\",\"\",IF(N68=\"Н\",Q67+1,Q67))","v":""},{"$f":"IF(I68=\"\",\"\",IF(N68=\"П\",R67+1,R67))","v":""},{"$f":"IF(I68=\"\",\"\",S67+L68)","v":""},{"$f":"IF(I68=\"\",\"\",T67+M68)","v":""},"",{"$f":"IF(I68=\"\",\"\",IF(I68=\"Дома\",V67+1,V67+0))","v":""},{"$f":"IF(I68=\"\",\"\",IF(I68=\"Дома\",IF(N68=\"В\",W67+1,W67),W67))","v":""},{"$f":"IF(I68=\"\",\"\",IF(I68=\"Дома\",IF(N68=\"Н\",X67+1,X67),X67))","v":""},{"$f":"IF(I68=\"\",\"\",IF(I68=\"Дома\",IF(N68=\"П\",Y67+1,Y67),Y67))","v":""},{"$f":"IF(I68=\"\",\"\",IF(I68=\"Дома\",L68+Z67,Z67))","v":""},{"$f":"IF(I68=\"\",\"\",IF(I68=\"Дома\",M68+AA67,AA67))","v":""},{"$f":"IF(I68=\"\",\"\",IF(I68=\"Дома\",W68*3+X68,AB67))","v":""},{"$f":"IF(I68=\"\",\"\",IF(I68=\"Гости\",AC67+1,AC67+0))","v":""},{"$f":"IF(I68=\"\",\"\",IF(I68=\"Гости\",IF(N68=\"В\",AD67+1,AD67),AD67))","v":""},{"$f":"IF(I68=\"\",\"\",IF(I68=\"Гости\",IF(N68=\"Н\",AE67+1,AE67),AE67))","v":""},{"$f":"IF(I68=\"\",\"\",IF(I68=\"Гости\",IF(N68=\"П\",AF67+1,AF67),AF67))","v":""},{"$f":"IF(I68=\"\",\"\",IF(I68=\"Гости\",L68+AG67,AG67))","v":""},{"$f":"IF(I68=\"\",\"\",IF(I68=\"Гости\",M68+AH67,AH67))","v":""},{"$f":"IF(I68=\"\",\"\",IF(I68=\"Гости\",AD68*3+AE68,AI67))","v":""},""]
[null,null,null,null,null,null,null,null,null,"","","","","","","","","","","","","","","","","","","","","","","","","","",""]
[null,null,null,null,null,null,null,null,null,"","","","","","","","","","","","","","","","","","","","","","","","","","",""]
[null,null,null,null,null,null,null,null,null,"","","","","","","","","","","","","","","","","","","","","","","","","","",""]
[null,null,null,null,null,null,null,null,null,"","","","","","","","","","","","","","","","","","","","","","","","","","",""]
[null,null,null,null,null,null,null,null,null,"","","","","","","","","","","","","","","","","","","","","","","","","","",""]
[null,null,null,null,null,null,null,null,null,"","","","",{"$f":"IF(I74=\"\",\"\",IF(I74=\"Дома\",IF(J74>K74,\"В\",IF(J74=K74,\"Н\",\"П\")),IF(J74<K74,\"В\",IF(J74=K74,\"Н\",\"П\"))))","v":""},"","","","","","","","","","","","","","","","","","","","","",""]
[null,null,null,null,null,null,null,null,null,"","","","","","","","","","","","","","","","","","","","","","","","","","",""]
[null,null,null,null,null,null,null,null,null,"","","","","","","","","","","","","","","","","","","","","","","","","","",""]
[null,null,null,null,null,null,null,null,null,"","","","","","","","","","","","","","","","","","","","","","","","","","",""]
[null,null,null,null,null,null,null,null,null,"","","","","","","","","","","","","","","","","","","","","","","","","","",""]
[null,null,null,null,null,null,null,null,null,"","","","","","","","","","","","","","","","","","","","","","","","","","",""]
[null,null,null,null,null,null,null,null,null,"","","","","","","","","","","","","","","","","","","","","","","","","","",""]
[null,null,null,null,null,null,null,null,null,"","","","","","","","","","","","","","","","","","","","","","","","","","",""]
[null,null,null,null,null,null,null,null,null,"","","","","","","","","","","","","","","","","","","","","","","","","","",""]
[null,null,null,null,null,null,null,null,null,"","","","","","","","","","","","","","","","","","","","","","","","","","",""]
[null,null,null,null,null,null,null,null,null,"","","","","","","","","","","","","","","","","","","","","","","","","","",""]
[null,null,null,null,null,null,null,null,null,"","","","","","","","","","","","","","","","","","","","","","","","","","",""]
[null,null,null,null,null,null,null,null,null,"","","","","","","","","","","","","","","","","","","","","","","","","","",""]
[null,null,null,null,null,null,null,null,null,"","","","","","","","","","","","","","","","","","","","","","","","","","",""]
[null,null,null,null,null,null,null,null,null,"","","","","","","","","","","","","","","","","","","","","","","","","","",""]
[null,null,null,null,null,null,null,null,null,"","","","","","","","","","","","","","","","","","","","","","","","","","",""]
[null,null,null,null,null,null,null,null,null,"","","","","","","","","","","","","","","","","","","","","","","","","","",""]
[null,null,null,null,null,null,null,null,null,"","","","","","","","","","","","","","","","","","","","","","","","","","",""]
[null,null,null,null,null,null,null,null,null,"","","","","","","","","","","","","","","","","","","","","","","","","","",""]
[null,null,null,null,null,null,null,null,null,"","","","","","","","","","","","","","","","","","","","","","","","","","",""]
[null,null,null,null,null,null,null,null,null,"","","","","","","","","","","","","","","","","","","","","","","","","","",""]
[null,null,null,null,null,null,null,null,null,"","","","","","","","","","","","","","","","","","","","","","","","","","",""]
[null,null,null,null,null,null,null,null,null,"","","","","","","","","","","","","","","","","","","","","","","","","","",""]
[null,null,null,null,null,null,null,null,null,"","","","","","","","","","","","","","","","","","","","","","","","","","",""]
[null,null,null,null,null,null,null,null,null,"","","","","","","","","","","","","","","","","","","","","","","","","","",""]
[null,null,null,null,null,null,null,null,null,"","","","","","","","","","","","","","","","","","","","","","","","","","",""]
[null,null,null,null,null,null,null,null,null,"","","","","","","","","","","","","","","","","","","","","","","","","","",""]
[null,null,null,null,null,null,null,null,null,"","","","","","","","","","","","","","","","","","","","","","","","","","",""]
[null,null,null,null,null,null,null,null,null,"","","","","","","","","","","","","","","","","","","","","","","","","","",""]
[null,null,null,null,null,null,null,null,null,"","","","","","","","","","","","","","","","","","","","","","","","","","",""]
[null,null,null,null,null,null,null,null,null,"","","","","","","","","","","","","","","","","","","","","","","","","","",""]
[null,null,null,null,null,null,null,null,null,"","","","","","","","","","","","","","","","","","","","","","","","","","",""]
[null,null,null,null,null,null,null,null,null,"","","","","","","","","","","","","","","","","","","","","","","","","","",""]
[null,null,null,null,null,null,null,null,null,"","","","","","","","","","","","","","","","","","","","","","","","","","",""]
[null,null,null,null,null,null,null,null,null,"","","","","","","","","","","","","","","","","","","","","","","","","","",""]
[null,null,null,null,null,null,null,null,null,"","","","","","","","","","","","","","","","","","","","","","","","","","",""]
[null,null,null,null,null,null,null,null,null,"","","","","","","","","","","","","","","","","","","","","","","","","","",""]
[null,null,null,null,null,null,null,null,null,"","","","","","","","","","","","","","","","","","","","","","","","","","",""]
[null,null,null,null,null,null,null,null,null,"","","","","","","","","","","","","","","","","","","","","","","","","","",""]
[null,null,null,null,null,null,null,null,null,"","","","","","","","","","","","","","","","","","","","","","","","","","",""]
[null,null,null,null,null,null,null,null,null,"","","","","","","","","","","","","","","","","","","","","","","","","","",""]
[null,null,null,null,null,null,null,null,null,"","","","","","","","","","","","","","","","","","","","","","","","","","",""]
[null,null,null,null,null,null,null,null,null,"","","","","","","","","","","","","","","","","","","","","","","","","","",""]
[null,null,null,null,null,null,null,null,null,"","","","","","","","","","","","","","","","","","","","","","","","","","",""]
[null,null,null,null,null,null,null,null,null,"","","","","","","","","","","","","","","","","","","","","","","","","","",""]
[null,null,null,null,null,null,null,null,null,"","","","","","","","","","","","","","","","","","","","","","","","","","",""]
[null,null,null,null,null,null,null,null,null,"","","","","","","","","","","","","","","","","","","","","","","","","","",""]
[null,null,null,null,null,null,null,null,null,"","","","","","","","","","","","","","","","","","","","","","","","","","",""]
[null,null,null,null,null,null,null,null,null,"","","","","","","","","","","","","","","","","","","","","","","","","","",""]
[null,null,null,null,null,null,null,null,null,"","","","","","","","","","","","","","","","","","","","","","","","","","",""]
[null,null,null,null,null,null,null,null,null,"","","","","","","","","","","","","","","","","","","","","","","","","","",""]
[null,null,null,null,null,null,null,null,null,"","","","","","","","","","","","","","","","","","","","","","","","","","",""]
[null,null,null,null,null,null,null,null,null,"","","","","","","","","","","","","","","","","","","","","","","","","","",""]
[null,null,null,null,null,null,null,null,null,"","","","","","","","","","","","","","","","","","","","","","","","","","",""]
[null,null,null,null,null,null,null,null,null,"","","","","","","","","","","","","","","","","","","","","","","","","","",""]
[null,null,null,null,null,null,null,null,null,"","","","","","","","","","","","","","","","","","","","","","","","","","",""]
[null,null,null,null,null,null,null,null,null,"","","","","","","","","","","","","","","","","","","","","","","","","","",""]
[null,null,null,null,null,null,null,null,null,{"$f":"IF(I131=\"\",\"\",E131+G131)","v":""},{"$f":"IF(I131=\"\",\"\",F131+H131)","v":""},{"$f":"IF(I131=\"\",\"\",IF(I131=\"Дома\",J131,K131))","v":""},{"$f":"IF(I131=\"\",\"\",IF(I131=\"Дома\",K131,J131))","v":""},"",{"$f":"IF(I131=\"\",\"\",O130+1)","v":""},"","","","","",{"$f":"IF(I131=\"\",\"\",P131*3+Q131)","v":""},"","","","","","","","","","","","","","",{"$f":"IF(I131=\"Гости\",L131+M131,\"\")","v":""}]
[null,null,null,null,null,null,null,null,null,"","","","","","",{"$f":"IF(I132=\"\",\"\",IF(N132=\"В\",P131+1,P131))","v":""},{"$f":"IF(I132=\"\",\"\",IF(N132=\"Н\",Q131+1,Q131))","v":""},{"$f":"IF(I132=\"\",\"\",IF(N132=\"П\",R131+1,R131))","v":""},{"$f":"IF(I132=\"\",\"\",S131+L132)","v":""},{"$f":"IF(I132=\"\",\"\",T131+M132)","v":""},"",{"$f":"IF(I132=\"\",\"\",IF(I132=\"Дома\",V131+1,V131+0))","v":""},{"$f":"IF(I132=\"\",\"\",IF(I132=\"Дома\",IF(N132=\"В\",W131+1,W131),W131))","v":""},{"$f":"IF(I132=\"\",\"\",IF(I132=\"Дома\",IF(N132=\"Н\",X131+1,X131),X131))","v":""},{"$f":"IF(I132=\"\",\"\",IF(I132=\"Дома\",IF(N132=\"П\",Y131+1,Y131),Y131))","v":""},{"$f":"IF(I132=\"\",\"\",IF(I132=\"Дома\",L132+Z131,Z131))","v":""},{"$f":"IF(I132=\"\",\"\",IF(I132=\"Дома\",M132+AA131,AA131))","v":""},{"$f":"IF(I132=\"\",\"\",IF(I132=\"Дома\",W132*3+X132,AB131))","v":""},{"$f":"IF(I132=\"\",\"\",IF(I132=\"Гости\",AC131+1,AC131+0))","v":""},{"$f":"IF(I132=\"\",\"\",IF(I132=\"Гости\",IF(N132=\"В\",AD131+1,AD131),AD131))","v":""},{"$f":"IF(I132=\"\",\"\",IF(I132=\"Гости\",IF(N132=\"Н\",AE131+1,AE131),AE131))","v":""},{"$f":"IF(I132=\"\",\"\",IF(I132=\"Гости\",IF(N132=\"П\",AF131+1,AF131),AF131))","v":""},{"$f":"IF(I132=\"\",\"\",IF(I132=\"Гости\",L132+AG131,AG131))","v":""},{"$f":"IF(I132=\"\",\"\",IF(I132=\"Гости\",M132+AH131,AH131))","v":""},{"$f":"IF(I132=\"\",\"\",IF(I132=\"Гости\",AD132*3+AE132,AI131))","v":""},""]
[null,null,null,null,null,null,null,null,null,"","","","","","","","","","","","","","","","","","","","","","","","","","",""]
[null,null,null,null,null,null,null,null,null,"","","","","","","","","","","","","","","","","","","","","","","","","","",""]
[null,null,null,null,null,null,null,null,null,"","","","","","","","","","","","","","","","","","","","","","","","","","",""]
[null,null,null,null,null,null,null,null,null,"","","","","","","","","","","","","","","","","","","","","","","","","","",""]
[null,null,null,null,null,null,null,null,null,"","","","","","","","","","","","","","","","","","","","","","","","","","",""]
[null,null,null,null,null,null,null,null,null,"","","","",{"$f":"IF(I138=\"\",\"\",IF(I138=\"Дома\",IF(J138>K138,\"В\",IF(J138=K138,\"Н\",\"П\")),IF(J138<K138,\"В\",IF(J138=K138,\"Н\",\"П\"))))","v":""},"","","","","","","","","","","","","","","","","","","","","",""]
[null,null,null,null,null,null,null,null,null,"","","","","","","","","","","","","","","","","","","","","","","","","","",""]
[null,null,null,null,null,null,null,null,null,"","","","","","","","","","","","","","","","","","","","","","","","","","",""]
[null,null,null,null,null,null,null,null,null,"","","","","","","","","","","","","","","","","","","","","","","","","","",""]
[null,null,null,null,null,null,null,null,null,"","","","","","","","","","","","","","","","","","","","","","","","","","",""]
[null,null,null,null,null,null,null,null,null,"","","","","","","","","","","","","","","","","","","","","","","","","","",""]
[null,null,null,null,null,null,null,null,null,"","","","","","","","","","","","","","","","","","","","","","","","","","",""]
[null,null,null,null,null,null,null,null,null,"","","","","","","","","","","","","","","","","","","","","","","","","","",""]
[null,null,null,null,null,null,null,null,null,"","","","","","","","","","","","","","","","","","","","","","","","","","",""]
[null,null,null,null,null,null,null,null,null,"","","","","","","","","","","","","","","","","","","","","","","","","","",""]
[null,null,null,null,null,null,null,null,null,"","","","","","","","","","","","","","","","","","","","","","","","","","",""]
[null,null,null,null,null,null,null,null,null,"","","","","","","","","","","","","","","","","","","","","","","","","","",""]
[null,null,null,null,null,null,null,null,null,"","","","","","","","","","","","","","","","","","","","","","","","","","",""]

{"sheet":"ДомаДома","index":13,"n_rows":150,"n_cols":35,"rows_kept":150,"cut":false,"hidden":true,"merged":[]}
["Чемпионат","Дата/Время","Дома","Гости","К1 в 1Т","К2 в 1Т","К1 во 2Т","К2 во 2Т","Где играли","К1 Голов","К2 Голов","Забито","Пропущено","Результат","Всего Игр","Всего выиграно","Всего ничьих","Всего проиграно","Всего забито","Всего пропущено","Всего очков","Дома игр","Дома выиграно","Дома ничьих","Дома проиграно","Дома забито","Дома пропущено","Дома очков","Гости игр","Гости выиграно","Гости ничьих","Гости проиграно","Гости забито","Гости пропущено","Гости очков"]
["ENGLAND: Professional Development League","2021.04.13 15:00","Cardiff U23","Sheffield Utd U23",0,0,0,2,"Дома",{"$f":"IF(I2=\"\",\"\",E2+G2)","v":0},{"$f":"IF(I2=\"\",\"\",F2+H2)","v":2},{"$f":"IF(I2=\"\",\"\",IF(I2=\"Дома\",J2,K2))","v":0},{"$f":"IF(I2=\"\",\"\",IF(I2=\"Дома\",K2,J2))","v":2},{"$f":"IF(I2=\"\",\"\",IF(I2=\"Дома\",IF(J2>K2,\"В\",IF(J2=K2,\"Н\",\"П\")),IF(J2<K2,\"В\",IF(J2=K2,\"Н\",\"П\"))))","v":"П"},{"$f":"IF(I2=\"\",\"\",1)","v":1},{"$f":"IF(I2=\"\",\"\",IF(N2=\"В\",1,0))","v":0},{"$f":"IF(I2=\"\",\"\",IF(N2=\"Н\",1,0))","v":0},{"$f":"IF(I2=\"\",\"\",IF(N2=\"П\",1,0))","v":1},{"$f":"IF(I2=\"\",\"\",L2)","v":0},{"$f":"IF(I2=\"\",\"\",M2)","v":2},{"$f":"IF(I2=\"\",\"\",P2*3+Q2)","v":0},{"$f":"IF(I2=\"\",\"\",IF(I2=\"Дома\",1,0))","v":1},{"$f":"IF(I2=\"\",\"\",IF(I2=\"Дома\",IF(N2=\"В\",1,0),0))","v":0},{"$f":"IF(I2=\"\",\"\",IF(I2=\"Дома\",IF(N2=\"Н\",1,0),0))","v":0},{"$f":"IF(I2=\"\",\"\",IF(I2=\"Дома\",IF(N2=\"П\",1,0),0))","v":1},{"$f":"IF(I2=\"\",\"\",IF(I2=\"Дома\",L2,0))","v":0},{"$f":"IF(I2=\"\",\"\",IF(I2=\"Дома\",M2,0))","v":2},{"$f":"IF(I2=\"\",\"\",IF(I2=\"Дома\",W2*3+X2,0))","v":0},{"$f":"IF(I2=\"\",\"\",IF(I2=\"Гости\",1,0))","v":0},{"$f":"IF(I2=\"\",\"\",IF(I2=\"Гости\",IF(N2=\"В\",1,0),0))","v":0},{"$f":"IF(I2=\"\",\"\",IF(I2=\"Гости\",IF(N2=\"Н\",1,0),0))","v":0},{"$f":"IF(I2=\"\",\"\",IF(I2=\"Гости\",IF(N2=\"П\",1,0),0))","v":0},{"$f":"IF(I2=\"\",\"\",IF(I2=\"Гости\",L2,0))","v":0},{"$f":"IF(I2=\"\",\"\",IF(I2=\"Гости\",M2,0))","v":0},{"$f":"IF(I2=\"\",\"\",IF(I2=\"Гости\",AD2*3+AE2,0))","v":0}]
["ENGLAND: Professional Development League","2021.03.30 15:00","Cardiff U23","Wigan U23",4,0,2,1,"Дома",{"$f":"IF(I3=\"\",\"\",E3+G3)","v":6},{"$f":"IF(I3=\"\",\"\",F3+H3)","v":1},{"$f":"IF(I3=\"\",\"\",IF(I3=\"Дома\",J3,K3))","v":6},{"$f":"IF(I3=\"\",\"\",IF(I3=\"Дома\",K3,J3))","v":1},{"$f":"IF(I3=\"\",\"\",IF(I3=\"Дома\",IF(J3>K3,\"В\",IF(J3=K3,\"Н\",\"П\")),IF(J3<K3,\"В\",IF(J3=K3,\"Н\",\"П\"))))","v":"В"},{"$f":"IF(I3=\"\",\"\",O2+1)","v":2},{"$f":"IF(I3=\"\",\"\",IF(N3=\"В\",P2+1,P2))","v":1},{"$f":"IF(I3=\"\",\"\",IF(N3=\"Н\",Q2+1,Q2))","v":0},{"$f":"IF(I3=\"\",\"\",IF(N3=\"П\",R2+1,R2))","v":1},{"$f":"IF(I3=\"\",\"\",S2+L3)","v":6},{"$f":"IF(I3=\"\",\"\",T2+M3)","v":3},{"$f":"IF(I3=\"\",\"\",P3*3+Q3)","v":3},{"$f":"IF(I3=\"\",\"\",IF(I3=\"Дома\",V2+1,V2+0))","v":2},{"$f":"IF(I3=\"\",\"\",IF(I3=\"Дома\",IF(N3=\"В\",W2+1,W2),W2))","v":1},{"$f":"IF(I3=\"\",\"\",IF(I3=\"Дома\",IF(N3=\"Н\",X2+1,X2),X2))","v":0},{"$f":"IF(I3=\"\",\"\",IF(I3=\"Дома\",IF(N3=\"П\",Y2+1,Y2),Y2))","v":1},{"$f":"IF(I3=\"\",\"\",IF(I3=\"Дома\",L3+Z2,Z2))","v":6},{"$f":"IF(I3=\"\",\"\",IF(I3=\"Дома\",M3+AA2,AA2))","v":3},{"$f":"IF(I3=\"\",\"\",IF(I3=\"Дома\",W3*3+X3,AB2))","v":3},{"$f":"IF(I3=\"\",\"\",IF(I3=\"Гости\",AC2+1,AC2+0))","v":0},{"$f":"IF(I3=\"\",\"\",IF(I3=\"Гости\",IF(N3=\"В\",AD2+1,AD2),AD2))","v":0},{"$f":"IF(I3=\"\",\"\",IF(I3=\"Гости\",IF(N3=\"Н\",AE2+1,AE2),AE2))","v":0},{"$f":"IF(I3=\"\",\"\",IF(I3=\"Гости\",IF(N3=\"П\",AF2+1,AF2),AF2))","v":0},{"$f":"IF(I3=\"\",\"\",IF(I3=\"Гости\",L3+AG2,AG2))","v":0},{"$f":"IF(I3=\"\",\"\",IF(I3=\"Гости\",M3+AH2,AH2))","v":0},{"$f":"IF(I3=\"\",\"\",IF(I3=\"Гости\",AD3*3+AE3,AI2))","v":0}]
["ENGLAND: Professional Development League","2021.03.09 16:00","Cardiff U23","Watford U23",2,0,2,0,"Дома",4,0,4,0,"В",3,{"$f":"IF(I4=\"\",\"\",IF(N4=\"В\",P3+1,P3))","v":2},{"$f":"IF(I4=\"\",\"\",IF(N4=\"Н\",Q3+1,Q3))","v":0},{"$f":"IF(I4=\"\",\"\",IF(N4=\"П\",R3+1,R3))","v":1},{"$f":"IF(I4=\"\",\"\",S3+L4)","v":10},{"$f":"IF(I4=\"\",\"\",T3+M4)","v":3},6,{"$f":"IF(I4=\"\",\"\",IF(I4=\"Дома\",V3+1,V3+0))","v":3},{"$f":"IF(I4=\"\",\"\",IF(I4=\"Дома\",IF(N4=\"В\",W3+1,W3),W3))","v":2},{"$f":"IF(I4=\"\",\"\",IF(I4=\"Дома\",IF(N4=\"Н\",X3+1,X3),X3))","v":0},{"$f":"IF(I4=\"\",\"\",IF(I4=\"Дома\",IF(N4=\"П\",Y3+1,Y3),Y3))","v":1},{"$f":"IF(I4=\"\",\"\",IF(I4=\"Дома\",L4+Z3,Z3))","v":10},{"$f":"IF(I4=\"\",\"\",IF(I4=\"Дома\",M4+AA3,AA3))","v":3},{"$f":"IF(I4=\"\",\"\",IF(I4=\"Дома\",W4*3+X4,AB3))","v":6},{"$f":"IF(I4=\"\",\"\",IF(I4=\"Гости\",AC3+1,AC3+0))","v":0},{"$f":"IF(I4=\"\",\"\",IF(I4=\"Гости\",IF(N4=\"В\",AD3+1,AD3),AD3))","v":0},{"$f":"IF(I4=\"\",\"\",IF(I4=\"Гости\",IF(N4=\"Н\",AE3+1,AE3),AE3))","v":0},{"$f":"IF(I4=\"\",\"\",IF(I4=\"Гости\",IF(N4=\"П\",AF3+1,AF3),AF3))","v":0},{"$f":"IF(I4=\"\",\"\",IF(I4=\"Гости\",L4+AG3,AG3))","v":0},{"$f":"IF(I4=\"\",\"\",IF(I4=\"Гости\",M4+AH3,AH3))","v":0},{"$f":"IF(I4=\"\",\"\",IF(I4=\"Гости\",AD4*3+AE4,AI3))","v":0}]
["ENGLAND: Professional Development League","2021.03.01 17:00","Cardiff U23","Charlton U23",1,4,3,1,"Дома",4,5,4,5,"П",4,2,0,2,14,8,6,4,2,0,2,14,8,6,0,0,0,0,0,0,0]
["ENGLAND: Professional Development League","2021.02.16 16:00","Cardiff U23","Millwall U23",2,0,1,0,"Дома",3,0,3,0,"В",5,3,0,2,17,8,9,5,3,0,2,17,8,9,0,0,0,0,0,0,0]
["ENGLAND: Professional Development League","2021.02.09 16:00","Cardiff U23","Colchester U23",3,0,1,1,"Дома",4,1,4,1,"В",6,4,0,2,21,9,12,6,4,0,2,21,9,12,0,0,0,0,0,0,0]
["ENGLAND: Professional Development League","2021.02.02 16:00","Cardiff U23","Ipswich U23",2,0,2,0,"Дома",4,0,4,0,"В",7,5,0,2,25,9,15,7,5,0,2,25,9,15,0,0,0,0,0,0,0]
["ENGLAND: Professional Development League","2021.01.19 16:00","Cardiff U23","Swansea U23",0,1,2,0,"Дома",2,1,2,1,{"$f":"IF(I9=\"\",\"\",IF(I9=\"Дома\",IF(J9>K9,\"В\",IF(J9=K9,\"Н\",\"П\")),IF(J9<K9,\"В\",IF(J9=K9,\"Н\",\"П\"))))","v":"В"},8,6,0,2,27,10,18,8,6,0,2,27,10,18,0,0,0,0,0,0,0]
["ENGLAND: Professional Development League","2020.12.22 16:00","Cardiff U23","QPR U23",0,0,1,0,"Дома",1,0,1,0,{"$f":"IF(I10=\"\",\"\",IF(I10=\"Дома\",IF(J10>K10,\"В\",IF(J10=K10,\"Н\",\"П\")),IF(J10<K10,\"В\",IF(J10=K10,\"Н\",\"П\"))))","v":"В"},9,7,0,2,28,10,21,9,7,0,2,28,10,21,0,0,0,0,0,0,0]
["ENGLAND: Professional Development League","2020.10.27 16:00","Cardiff U23","Hull U23",1,0,1,0,"Дома",2,0,2,0,"В",10,8,0,2,30,10,24,10,8,0,2,30,10,24,0,0,0,0,0,0,0]
["ENGLAND: Professional Development League","2020.09.22 15:00","Cardiff U23","Bristol City U23",0,1,1,1,"Дома",1,2,1,2,"П",11,8,0,3,31,12,{"$f":"IF(I12=\"\",\"\",P12*3+Q12)","v":24},11,8,0,3,31,12,24,0,0,0,0,0,0,0]
["ENGLAND: Professional Development League","2020.03.09 16:00","Cardiff U23","Ipswich U23",0,1,1,0,"Дома",1,1,1,1,"Н",12,8,1,3,32,13,25,12,8,1,3,32,13,25,0,0,0,0,0,0,0]
["ENGLAND: Professional Development League","2020.03.02 16:00","Cardiff U23","Watford U23",2,0,1,1,"Дома",3,1,3,1,"В",13,9,1,3,35,14,28,13,9,1,3,35,14,28,0,0,0,0,0,0,0]
["ENGLAND: Professional Development League","2020.02.11 22:00","Cardiff U23","Bristol City U23",1,1,2,1,"Дома",3,2,3,2,"В",14,10,1,3,38,16,31,14,10,1,3,38,16,31,0,0,0,0,0,0,0]
["ENGLAND: Professional Development League","2020.01.13 16:00","Cardiff U23","Colchester U23",2,0,0,1,"Дома",2,1,2,1,"В",15,11,1,3,40,17,34,15,11,1,3,40,17,34,0,0,0,0,0,0,0]
["ENGLAND: Professional Development League","2020.01.06 16:00","Cardiff U23","Coventry U23",0,0,0,1,"Дома",0,1,0,1,"П",16,11,1,4,40,18,34,16,11,1,4,40,18,34,0,0,0,0,0,0,0]
["ENGLAND: Professional Development League","2019.11.25 16:00","Cardiff U23","Charlton U23",0,0,0,0,"Дома",0,0,0,0,"Н",17,11,2,4,40,18,35,17,11,2,4,40,18,35,0,0,0,0,0,0,0]
["ENGLAND: Professional Development League","2019.11.04 16:00","Cardiff U23","Birmingham U23",0,1,0,0,"Дома",0,1,0,1,"П",18,11,2,5,40,19,35,18,11,2,5,40,19,35,0,0,0,0,0,0,0]
["ENGLAND: Professional Development League","2019.10.28 22:00","Cardiff U23","Crystal Palace U23",1,0,2,0,"Дома",3,0,3,0,"В",19,12,2,5,43,19,38,19,12,2,5,43,19,38,0,0,0,0,0,0,0]
["ENGLAND: Professional Development League","2019.10.07 15:00","Cardiff U23","Millwall U23",0,0,2,1,"Дома",2,1,2,1,"В",20,13,2,5,45,20,41,20,13,2,5,45,20,41,0,0,0,0,0,0,0]
[null,null,null,null,null,null,null,null,null,"","","","","","","","","","","","","","","","","","","","","","","","","",""]
[null,null,null,null,null,null,null,null,null,"","","","","","","","","","","","","","","","","","","","","","","","","",""]
[null,null,null,null,null,null,null,null,null,"","","","","","","","","","","","","","","","","","","","","","","","","",""]
[null,null,null,null,null,null,null,null,null,"","",null,"","","","","","","","","","","","","","","","","","","","","","",""]
[null,null,null,null,null,null,null,null,null,"","","","","","","","","","","","","","","","","","","","","","","","","",""]
[null,null,null,null,null,null,null,null,null,"","","","","","","","","","","","","","","","","","","","","","","","","",""]
[null,null,null,null,null,null,null,null,null,"","","","","","","","","","","","","","","","","","","","","","","","","",""]
[null,null,null,null,null,null,null,null,null,"","","","","","","","","","","","","","","","","","","","","","","","","",""]
[null,null,null,null,null,null,null,null,null,"","","","","","","","","","","","","","","","","","","","","","","","","",""]
[null,null,null,null,null,null,null,null,null,"","","","","","","","","","","","","","","","","","","","","","","","","",""]
[null,null,null,null,null,null,null,null,null,"","","","","","","","","","","","","","","","","","","","","","","","","",""]
[null,null,null,null,null,null,null,null,null,"","","","","","","","","","","","","","","","","","","","","","","","","",""]
[null,null,null,null,null,null,null,null,null,"","","","","","","","","","","","","","","","","","","","","","","","","",""]
[null,null,null,null,null,null,null,null,null,"","","","","","","","","","","","","","","","","","","","","","","","","",""]
[null,null,null,null,null,null,null,null,null,"","","","","","","","","","","","","","","","","","","","","","","","","",""]
[null,null,null,null,null,null,null,null,null,"","","","","","","","","","","","","","","","","","","","","","","","","",""]
[null,null,null,null,null,null,null,null,null,"","","","","","","","","","","","","","","","","","","","","","","","","",""]
[null,null,null,null,null,null,null,null,null,"","","","","","","","","","","","","","","","","","","","","","","","","",""]
[null,null,null,null,null,null,null,null,null,"","","","","","","","","","","","","","","","","","","","","","","","","",""]
[null,null,null,null,null,null,null,null,null,"","","","","","","","","","","","","","","","","","","","","","","","","",""]
[null,null,null,null,null,null,null,null,null,"","","","","","","","","","","","","","","","","","","","","","","","","",""]
[null,null,null,null,null,null,null,null,null,"","","","","","","","","","","","","","","","","","","","","","","","","",""]
[null,null,null,null,null,null,null,null,null,"","","","","","","","","","","","","","","","","","","","","","","","","",""]
[null,null,null,null,null,null,null,null,null,"","","","","","","","","","","","","","","","","","","","","","","","","",""]
[null,null,null,null,null,null,null,null,null,"","","","","","","","","","","","","","","","","","","","","","","","","",""]
[null,null,null,null,null,null,null,null,null,"","","","","","","","","","","","","","","","","","","","","","","","","",""]
[null,null,null,null,null,null,null,null,null,"","","","","","","","","","","","","","","","","","","","","","","","","",""]
[null,null,null,null,null,null,null,null,null,"","","","","","","","","","","","","","","","","","","","","","","","","",""]
[null,null,null,null,null,null,null,null,null,"","","","","","","","","","","","","","","","","","","","","","","","","",""]
[null,null,null,null,null,null,null,null,null,"","","","","","","","","","","","","","","","","","","","","","","","","",""]
[null,null,null,null,null,null,null,null,null,"","","","","","","","","","","","","","","","","","","","","","","","","",""]
[null,null,null,null,null,null,null,null,null,"","","","","","","","","","","","","","","","","","","","","","","","","",""]
[null,null,null,null,null,null,null,null,null,"","","","","","","","","","","","","","","","","","","","","","","","","",""]
[null,null,null,null,null,null,null,null,null,"","","","","","","","","","","","","","","","","","","","","","","","","",""]
[null,null,null,null,null,null,null,null,null,"","","","","","","","","","","","","","","","","","","","","","","","","",""]
[null,null,null,null,null,null,null,null,null,"","","","","","","","","","","","","","","","","","","","","","","","","",""]
[null,null,null,null,null,null,null,null,null,"","","","","","","","","","","","","","","","","","","","","","","","","",""]
[null,null,null,null,null,null,null,null,null,"","","","","","","","","","","","","","","","","","","","","","","","","",""]
[null,null,null,null,null,null,null,null,null,"","","","","","","","","","","","","","","","","","","","","","","","","",""]
[null,null,null,null,null,null,null,null,null,"","","","","","","","","","","","","","","","","","","","","","","","","",""]
[null,null,null,null,null,null,null,null,null,"","","","","","","","","","","","","","","","","","","","","","","","","",""]
[null,null,null,null,null,null,null,null,null,"","","","","","","","","","","","","","","","","","","","","","","","","",""]
[null,null,null,null,null,null,null,null,null,"","","","","","","","","","","","","","","","","","","","","","","","","",""]
[null,null,null,null,null,null,null,null,null,"","","","","","","","","","","","","","","","","","","","","","","","","",""]
[null,null,null,null,null,null,null,null,null,"","","","","","","","","","","","","","","","","","","","","","","","","",""]
[null,null,null,null,null,null,null,null,null,{"$f":"IF(I67=\"\",\"\",E67+G67)","v":""},{"$f":"IF(I67=\"\",\"\",F67+H67)","v":""},{"$f":"IF(I67=\"\",\"\",IF(I67=\"Дома\",J67,K67))","v":""},{"$f":"IF(I67=\"\",\"\",IF(I67=\"Дома\",K67,J67))","v":""},"",{"$f":"IF(I67=\"\",\"\",O66+1)","v":""},"","","","","",{"$f":"IF(I67=\"\",\"\",P67*3+Q67)","v":""},"","","","","","","","","","","","","",""]
[null,null,null,null,null,null,null,null,null,"","","","","","",{"$f":"IF(I68=\"\",\"\",IF(N68=\"В\",P67+1,P67))","v":""},{"$f":"IF(I68=\"\",\"\",IF(N68=\"Н\",Q67+1,Q67))","v":""},{"$f":"IF(I68=\"\",\"\",IF(N68=\"П\",R67+1,R67))","v":""},{"$f":"IF(I68=\"\",\"\",S67+L68)","v":""},{"$f":"IF(I68=\"\",\"\",T67+M68)","v":""},"",{"$f":"IF(I68=\"\",\"\",IF(I68=\"Дома\",V67+1,V67+0))","v":""},{"$f":"IF(I68=\"\",\"\",IF(I68=\"Дома\",IF(N68=\"В\",W67+1,W67),W67))","v":""},{"$f":"IF(I68=\"\",\"\",IF(I68=\"Дома\",IF(N68=\"Н\",X67+1,X67),X67))","v":""},{"$f":"IF(I68=\"\",\"\",IF(I68=\"Дома\",IF(N68=\"П\",Y67+1,Y67),Y67))","v":""},{"$f":"IF(I68=\"\",\"\",IF(I68=\"Дома\",L68+Z67,Z67))","v":""},{"$f":"IF(I68=\"\",\"\",IF(I68=\"Дома\",M68+AA67,AA67))","v":""},{"$f":"IF(I68=\"\",\"\",IF(I68=\"Дома\",W68*3+X68,AB67))","v":""},{"$f":"IF(I68=\"\",\"\",IF(I68=\"Гости\",AC67+1,AC67+0))","v":""},{"$f":"IF(I68=\"\",\"\",IF(I68=\"Гости\",IF(N68=\"В\",AD67+1,AD67),AD67))","v":""},{"$f":"IF(I68=\"\",\"\",IF(I68=\"Гости\",IF(N68=\"Н\",AE67+1,AE67),AE67))","v":""},{"$f":"IF(I68=\"\",\"\",IF(I68=\"Гости\",IF(N68=\"П\",AF67+1,AF67),AF67))","v":""},{"$f":"IF(I68=\"\",\"\",IF(I68=\"Гости\",L68+AG67,AG67))","v":""},{"$f":"IF(I68=\"\",\"\",IF(I68=\"Гости\",M68+AH67,AH67))","v":""},{"$f":"IF(I68=\"\",\"\",IF(I68=\"Гости\",AD68*3+AE68,AI67))","v":""}]
[null,null,null,null,null,null,null,null,null,"","","","","","","","","","","","","","","","","","","","","","","","","",""]
[null,null,null,null,null,null,null,null,null,"","","","","","","","","","","","","","","","","","","","","","","","","",""]
[null,null,null,null,null,null,null,null,null,"","","","","","","","","","","","","","","","","","","","","","","","","",""]
[null,null,null,null,null,null,null,null,null,"","","","","","","","","","","","","","","","","","","","","","","","","",""]
[null,null,null,null,null,null,null,null,null,"","","","","","","","","","","","","","","","","","","","","","","","","",""]
[null,null,null,null,null,null,null,null,null,"","","","",{"$f":"IF(I74=\"\",\"\",IF(I74=\"Дома\",IF(J74>K74,\"В\",IF(J74=K74,\"Н\",\"П\")),IF(J74<K74,\"В\",IF(J74=K74,\"Н\",\"П\"))))","v":""},"","","","","","","","","","","","","","","","","","","","",""]
[null,null,null,null,null,null,null,null,null,"","","","","","","","","","","","","","","","","","","","","","","","","",""]
[null,null,null,null,null,null,null,null,null,"","","","","","","","","","","","","","","","","","","","","","","","","",""]
[null,null,null,null,null,null,null,null,null,"","","","","","","","","","","","","","","","","","","","","","","","","",""]
[null,null,null,null,null,null,null,null,null,"","","","","","","","","","","","","","","","","","","","","","","","","",""]
[null,null,null,null,null,null,null,null,null,"","","","","","","","","","","","","","","","","","","","","","","","","",""]
[null,null,null,null,null,null,null,null,null,"","","","","","","","","","","","","","","","","","","","","","","","","",""]
[null,null,null,null,null,null,null,null,null,"","","","","","","","","","","","","","","","","","","","","","","","","",""]
[null,null,null,null,null,null,null,null,null,"","","","","","","","","","","","","","","","","","","","","","","","","",""]
[null,null,null,null,null,null,null,null,null,"","","","","","","","","","","","","","","","","","","","","","","","","",""]
[null,null,null,null,null,null,null,null,null,"","","","","","","","","","","","","","","","","","","","","","","","","",""]
[null,null,null,null,null,null,null,null,null,"","","","","","","","","","","","","","","","","","","","","","","","","",""]
[null,null,null,null,null,null,null,null,null,"","","","","","","","","","","","","","","","","","","","","","","","","",""]
[null,null,null,null,null,null,null,null,null,"","","","","","","","","","","","","","","","","","","","","","","","","",""]
[null,null,null,null,null,null,null,null,null,"","","","","","","","","","","","","","","","","","","","","","","","","",""]
[null,null,null,null,null,null,null,null,null,"","","","","","","","","","","","","","","","","","","","","","","","","",""]
[null,null,null,null,null,null,null,null,null,"","","","","","","","","","","","","","","","","","","","","","","","","",""]
[null,null,null,null,null,null,null,null,null,"","","","","","","","","","","","","","","","","","","","","","","","","",""]
[null,null,null,null,null,null,null,null,null,"","","","","","","","","","","","","","","","","","","","","","","","","",""]
[null,null,null,null,null,null,null,null,null,"","","","","","","","","","","","","","","","","","","","","","","","","",""]
[null,null,null,null,null,null,null,null,null,"","","","","","","","","","","","","","","","","","","","","","","","","",""]
[null,null,null,null,null,null,null,null,null,"","","","","","","","","","","","","","","","","","","","","","","","","",""]
[null,null,null,null,null,null,null,null,null,"","","","","","","","","","","","","","","","","","","","","","","","","",""]
[null,null,null,null,null,null,null,null,null,"","","","","","","","","","","","","","","","","","","","","","","","","",""]
[null,null,null,null,null,null,null,null,null,"","","","","","","","","","","","","","","","","","","","","","","","","",""]
[null,null,null,null,null,null,null,null,null,"","","","","","","","","","","","","","","","","","","","","","","","","",""]
[null,null,null,null,null,null,null,null,null,"","","","","","","","","","","","","","","","","","","","","","","","","",""]
[null,null,null,null,null,null,null,null,null,"","","","","","","","","","","","","","","","","","","","","","","","","",""]
[null,null,null,null,null,null,null,null,null,"","","","","","","","","","","","","","","","","","","","","","","","","",""]
[null,null,null,null,null,null,null,null,null,"","","","","","","","","","","","","","","","","","","","","","","","","",""]
[null,null,null,null,null,null,null,null,null,"","","","","","","","","","","","","","","","","","","","","","","","","",""]
[null,null,null,null,null,null,null,null,null,"","","","","","","","","","","","","","","","","","","","","","","","","",""]
[null,null,null,null,null,null,null,null,null,"","","","","","","","","","","","","","","","","","","","","","","","","",""]
[null,null,null,null,null,null,null,null,null,"","","","","","","","","","","","","","","","","","","","","","","","","",""]
[null,null,null,null,null,null,null,null,null,"","","","","","","","","","","","","","","","","","","","","","","","","",""]
[null,null,null,null,null,null,null,null,null,"","","","","","","","","","","","","","","","","","","","","","","","","",""]
[null,null,null,null,null,null,null,null,null,"","","","","","","","","","","","","","","","","","","","","","","","","",""]
[null,null,null,null,null,null,null,null,null,"","","","","","","","","","","","","","","","","","","","","","","","","",""]
[null,null,null,null,null,null,null,null,null,"","","","","","","","","","","","","","","","","","","","","","","","","",""]
[null,null,null,null,null,null,null,null,null,"","","","","","","","","","","","","","","","","","","","","","","","","",""]
[null,null,null,null,null,null,null,null,null,"","","","","","","","","","","","","","","","","","","","","","","","","",""]
[null,null,null,null,null,null,null,null,null,"","","","","","","","","","","","","","","","","","","","","","","","","",""]
[null,null,null,null,null,null,null,null,null,"","","","","","","","","","","","","","","","","","","","","","","","","",""]
[null,null,null,null,null,null,null,null,null,"","","","","","","","","","","","","","","","","","","","","","","","","",""]
[null,null,null,null,null,null,null,null,null,"","","","","","","","","","","","","","","","","","","","","","","","","",""]
[null,null,null,null,null,null,null,null,null,"","","","","","","","","","","","","","","","","","","","","","","","","",""]
[null,null,null,null,null,null,null,null,null,"","","","","","","","","","","","","","","","","","","","","","","","","",""]
[null,null,null,null,null,null,null,null,null,"","","","","","","","","","","","","","","","","","","","","","","","","",""]
[null,null,null,null,null,null,null,null,null,"","","","","","","","","","","","","","","","","","","","","","","","","",""]
[null,null,null,null,null,null,null,null,null,"","","","","","","","","","","","","","","","","","","","","","","","","",""]
[null,null,null,null,null,null,null,null,null,"","","","","","","","","","","","","","","","","","","","","","","","","",""]
[null,null,null,null,null,null,null,null,null,"","","","","","","","","","","","","","","","","","","","","","","","","",""]
[null,null,null,null,null,null,null,null,null,"","","","","","","","","","","","","","","","","","","","","","","","","",""]
[null,null,null,null,null,null,null,null,null,"","","","","","","","","","","","","","","","","","","","","","","","","",""]
[null,null,null,null,null,null,null,null,null,"","","","","","","","","","","","","","","","","","","","","","","","","",""]
[null,null,null,null,null,null,null,null,null,"","","","","","","","","","","","","","","","","","","","","","","","","",""]
[null,null,null,null,null,null,null,null,null,"","","","","","","","","","","","","","","","","","","","","","","","","",""]
[null,null,null,null,null,null,null,null,null,{"$f":"IF(I131=\"\",\"\",E131+G131)","v":""},{"$f":"IF(I131=\"\",\"\",F131+H131)","v":""},{"$f":"IF(I131=\"\",\"\",IF(I131=\"Дома\",J131,K131))","v":""},{"$f":"IF(I131=\"\",\"\",IF(I131=\"Дома\",K131,J131))","v":""},"",{"$f":"IF(I131=\"\",\"\",O130+1)","v":""},"","","","","",{"$f":"IF(I131=\"\",\"\",P131*3+Q131)","v":""},"","","","","","","","","","","","","",""]
[null,null,null,null,null,null,null,null,null,"","","","","","",{"$f":"IF(I132=\"\",\"\",IF(N132=\"В\",P131+1,P131))","v":""},{"$f":"IF(I132=\"\",\"\",IF(N132=\"Н\",Q131+1,Q131))","v":""},{"$f":"IF(I132=\"\",\"\",IF(N132=\"П\",R131+1,R131))","v":""},{"$f":"IF(I132=\"\",\"\",S131+L132)","v":""},{"$f":"IF(I132=\"\",\"\",T131+M132)","v":""},"",{"$f":"IF(I132=\"\",\"\",IF(I132=\"Дома\",V131+1,V131+0))","v":""},{"$f":"IF(I132=\"\",\"\",IF(I132=\"Дома\",IF(N132=\"В\",W131+1,W131),W131))","v":""},{"$f":"IF(I132=\"\",\"\",IF(I132=\"Дома\",IF(N132=\"Н\",X131+1,X131),X131))","v":""},{"$f":"IF(I132=\"\",\"\",IF(I132=\"Дома\",IF(N132=\"П\",Y131+1,Y131),Y131))","v":""},{"$f":"IF(I132=\"\",\"\",IF(I132=\"Дома\",L132+Z131,Z131))","v":""},{"$f":"IF(I132=\"\",\"\",IF(I132=\"Дома\",M132+AA131,AA131))","v":""},{"$f":"IF(I132=\"\",\"\",IF(I132=\"Дома\",W132*3+X132,AB131))","v":""},{"$f":"IF(I132=\"\",\"\",IF(I132=\"Гости\",AC131+1,AC131+0))","v":""},{"$f":"IF(I132=\"\",\"\",IF(I132=\"Гости\",IF(N132=\"В\",AD131+1,AD131),AD131))","v":""},{"$f":"IF(I132=\"\",\"\",IF(I132=\"Гости\",IF(N132=\"Н\",AE131+1,AE131),AE131))","v":""},{"$f":"IF(I132=\"\",\"\",IF(I132=\"Гости\",IF(N132=\"П\",AF131+1,AF131),AF131))","v":""},{"$f":"IF(I132=\"\",\"\",IF(I132=\"Гости\",L132+AG131,AG131))","v":""},{"$f":"IF(I132=\"\",\"\",IF(I132=\"Гости\",M132+AH131,AH131))","v":""},{"$f":"IF(I132=\"\",\"\",IF(I132=\"Гости\",AD132*3+AE132,AI131))","v":""}]
[null,null,null,null,null,null,null,null,null,"","","","","","","","","","","","","","","","","","","","","","","","","",""]
[null,null,null,null,null,null,null,null,null,"","","","","","","","","","","","","","","","","","","","","","","","","",""]
[null,null,null,null,null,null,null,null,null,"","","","","","","","","","","","","","","","","","","","","","","","","",""]
[null,null,null,null,null,null,null,null,null,"","","","","","","","","","","","","","","","","","","","","","","","","",""]
[null,null,null,null,null,null,null,null,null,"","","","","","","","","","","","","","","","","","","","","","","","","",""]
[null,null,null,null,null,null,null,null,null,"","","","",{"$f":"IF(I138=\"\",\"\",IF(I138=\"Дома\",IF(J138>K138,\"В\",IF(J138=K138,\"Н\",\"П\")),IF(J138<K138,\"В\",IF(J138=K138,\"Н\",\"П\"))))","v":""},"","","","","","","","","","","","","","","","","","","","",""]
[null,null,null,null,null,null,null,null,null,"","","","","","","","","","","","","","","","","","","","","","","","","",""]
[null,null,null,null,null,null,null,null,null,"","","","","","","","","","","","","","","","","","","","","","","","","",""]
[null,null,null,null,null,null,null,null,null,"","","","","","","","","","","","","","","","","","","","","","","","","",""]
[null,null,null,null,null,null,null,null,null,"","","","","","","","","","","","","","","","","","","","","","","","","",""]
[null,null,null,null,null,null,null,null,null,"","","","","","","","","","","","","","","","","","","","","","","","","",""]
[null,null,null,null,null,null,null,null,null,"","","","","","","","","","","","","","","","","","","","","","","","","",""]
[null,null,null,null,null,null,null,null,null,"","","","","","","","","","","","","","","","","","","","","","","","","",""]
[null,null,null,null,null,null,null,null,null,"","","","","","","","","","","","","","","","","","","","","","","","","",""]
[null,null,null,null,null,null,null,null,null,"","","","","","","","","","","","","","","","","","","","","","","","","",""]
[null,null,null,null,null,null,null,null,null,"","","","","","","","","","","","","","","","","","","","","","","","","",""]
[null,null,null,null,null,null,null,null,null,"","","","","","","","","","","","","","","","","","","","","","","","","",""]
[null,null,null,null,null,null,null,null,null,"","","","","","","","","","","","","","","","","","","","","","","","","",""]

{"sheet":"IncoData","index":14,"n_rows":100002,"n_cols":49,"rows_kept":2250,"cut":true,"hidden":true,"merged":[],"bounds":{"rows_first":1000,"rows_last":250,"rows_between":1000,"halvings":1}}
[]
[]
[null,null,null,null,null,null,null,null,"Забили","Получили",null,null,null,{"$f":"I3","v":"Забили"},{"$f":"J3","v":"Получили"},null,null,null,null,null,null,null,null,null,{"$f":"Анализ!E3","v":"Cardiff U23"},{"$f":"I10","v":3.4},{"$f":"O10","v":0.8},{"$f":"(Z3+AA3)/2","v":2.1},null,"№1",{"$f":"_xlfn.NORM.INV(RAND(),$Z$3,$I$20)","v":5.0127334064747124},{"$f":"_xlfn.NORM.INV(RAND(),$AA$3,$O$20)","v":2.7681188127903766E-2},{"$f":"(AE3+AF3)/2","v":2.5202072973013081},{"$f":"ROUND(AG3,0)","v":3},{"$f":"ROUND(AG4,0)","v":2},{"$f":"IF(AH3>AI3,1,\"\")","v":1},{"$f":"IF(AH3=AI3,1,\"\")","v":""},{"$f":"IF(AH3<AI3,1,\"\")","v":""},{"$f":"AH3&\"-\"&AI3","v":"3-2"},null,null,null,{"$f":"AR3/50000","v":1.98E-3},{"$f":"COUNTIF($AM:$AM,\"0-0\")","v":99},"0-0",{"$f":"LARGE($AR$3:$AR$18,1)","v":9161},{"$f":"VLOOKUP(AT3,$AR$3:$AS$18,2,FALSE)","v":"2-2"}]
[null,null,null,null,null,null,null,null,{"$f":"ДомаДома!L2","v":0},{"$f":"ДомаДома!M2","v":2},null,null,null,{"$f":"ГостиГости!L2","v":2},{"$f":"ГостиГости!M2","v":0},null,null,null,null,null,null,null,null,null,{"$f":"Анализ!K3","v":"Sheffield Utd U23"},{"$f":"N10","v":2.2000000000000002},{"$f":"J10","v":1.6},{"$f":"(Z4+AA4)/2","v":1.9000000000000001},null,null,{"$f":"_xlfn.NORM.INV(RAND(),$Z$4,$N$20)","v":2.7866293576986441},{"$f":"_xlfn.NORM.INV(RAND(),$AA$4,$J$20)","v":1.7898530999264139},{"$f":"(AE4+AF4)/2","v":2.2882412288125291},null,null,null,null,null,null,null,null,null,{"$f":"AR4/50000","v":9.9600000000000001E-3},{"$f":"COUNTIF($AM:$AM,\"1-0\")","v":498},"1-0",{"$f":"LARGE($AR$3:$AR$18,2)","v":6061},{"$f":"VLOOKUP(AT4,$AR$3:$AS$18,2,FALSE)","v":"3-2"}]
[null,null,null,null,null,null,null,null,{"$f":"ДомаДома!L3","v":6},{"$f":"ДомаДома!M3","v":1},null,null,null,{"$f":"ГостиГости!L3","v":4},{"$f":"ГостиГости!M3","v":0},null,null,null,null,null,null,null,null,null,null,null,null,null,null,"№2",{"$f":"_xlfn.NORM.INV(RAND(),$Z$3,$I$20)","v":4.2447190891620101},{"$f":"_xlfn.NORM.INV(RAND(),$AA$3,$O$20)","v":0.10796830715785088},{"$f":"(AE5+AF5)/2","v":2.1763436981599305},{"$f":"ROUND(AG5,0)","v":2},{"$f":"ROUND(AG6,0)","v":2},{"$f":"IF(AH5>AI5,1,\"\")","v":""},{"$f":"IF(AH5=AI5,1,\"\")","v":1},{"$f":"IF(AH5<AI5,1,\"\")","v":""},{"$f":"AH5&\"-\"&AI5","v":"2-2"},null,null,null,{"$f":"AR5/50000","v":1.0019999999999999E-2},{"$f":"COUNTIF($AM:$AM,\"0-1\")","v":501},"0-1",{"$f":"LARGE($AR$3:$AR$18,3)","v":5648},{"$f":"VLOOKUP(AT5,$AR$3:$AS$18,2,FALSE)","v":"2-1"}]
[null,null,null,null,null,null,null,null,{"$f":"ДомаДома!L4","v":4},{"$f":"ДомаДома!M4","v":0},null,null,null,{"$f":"ГостиГости!L4","v":2},{"$f":"ГостиГости!M4","v":2},null,null,null,null,null,null,null,null,null,null,null,null,null,null,null,{"$f":"_xlfn.NORM.INV(RAND(),$Z$4,$N$20)","v":2.6531597372817397},{"$f":"_xlfn.NORM.INV(RAND(),$AA$4,$J$20)","v":0.61846652353830245},1.6358131304100212,null,null,null,null,null,null,null,null,null,5.8200000000000002E-2,{"$f":"COUNTIF($AM:$AM,\"1-1\")","v":2910},"1-1",{"$f":"LARGE($AR$3:$AR$18,4)","v":4773},{"$f":"VLOOKUP(AT6,$AR$3:$AS$18,2,FALSE)","v":"1-2"}]
[null,null,null,null,null,null,null,null,{"$f":"ДомаДома!L5","v":4},{"$f":"ДомаДома!M5","v":5},null,null,null,{"$f":"ГостиГости!L5","v":1},{"$f":"ГостиГости!M5","v":2},null,null,null,null,null,null,null,null,null,null,null,null,null,null,"№3",{"$f":"_xlfn.NORM.INV(RAND(),$Z$3,$I$20)","v":4.7421797962634837},{"$f":"_xlfn.NORM.INV(RAND(),$AA$3,$O$20)","v":1.1756534976134843},2.958916646938484,{"$f":"ROUND(AG7,0)","v":3},{"$f":"ROUND(AG8,0)","v":2},{"$f":"IF(AH7>AI7,1,\"\")","v":1},{"$f":"IF(AH7=AI7,1,\"\")","v":""},{"$f":"IF(AH7<AI7,1,\"\")","v":""},{"$f":"AH7&\"-\"&AI7","v":"3-2"},null,null,null,1.9879999999999998E-2,{"$f":"COUNTIF($AM:$AM,\"2-0\")","v":994},"2-0"]
[null,null,null,null,null,null,null,null,{"$f":"ДомаДома!L6","v":3},{"$f":"ДомаДома!M6","v":0},null,null,null,{"$f":"ГостиГости!L6","v":2},{"$f":"ГостиГости!M6","v":0},null,null,null,null,null,null,null,null,null,null,null,null,null,null,null,{"$f":"_xlfn.NORM.INV(RAND(),$Z$4,$N$20)","v":1.2535986223783726},{"$f":"_xlfn.NORM.INV(RAND(),$AA$4,$J$20)","v":2.5400836660406485},1.8968411442095106,null,null,null,null,null,null,null,null,null,{"$f":"AR8/50000","v":0.11296},{"$f":"COUNTIF($AM:$AM,\"2-1\")","v":5648},"2-1"]
[null,null,null,null,null,null,null,null,null,null,null,null,null,null,null,null,null,null,null,null,null,null,null,null,null,null,null,null,null,"№4",{"$f":"_xlfn.NORM.INV(RAND(),$Z$3,$I$20)","v":1.2364846659129403},{"$f":"_xlfn.NORM.INV(RAND(),$AA$3,$O$20)","v":1.1411311073861294},1.1888078866495349,{"$f":"ROUND(AG9,0)","v":1},{"$f":"ROUND(AG10,0)","v":2},{"$f":"IF(AH9>AI9,1,\"\")","v":""},{"$f":"IF(AH9=AI9,1,\"\")","v":""},{"$f":"IF(AH9<AI9,1,\"\")","v":1},{"$f":"AH9&\"-\"&AI9","v":"1-2"},null,null,null,0.18321999999999999,{"$f":"COUNTIF($AM:$AM,\"2-2\")","v":9161},"2-2"]
[null,null,null,null,null,null,null,null,{"$f":"(I4+I5+I6+I7+I8)/5","v":3.4},{"$f":"(J4+J5+J6+J7+J8)/5","v":1.6},null,null,null,{"$f":"(N4+N5+N6+N7+N8)/5","v":2.2000000000000002},{"$f":"(O4+O5+O6+O7+O8)/5","v":0.8},null,null,null,null,null,null,null,null,null,null,null,null,null,null,null,{"$f":"_xlfn.NORM.INV(RAND(),$Z$4,$N$20)","v":1.705414405848346},{"$f":"_xlfn.NORM.INV(RAND(),$AA$4,$J$20)","v":1.8758211251784758},1.790617765513411,null,null,null,null,null,null,null,null,null,1.18E-2,{"$f":"COUNTIF($AM:$AM,\"3-0\")","v":590},"3-0"]
[null,null,null,null,null,null,null,null,null,null,null,null,null,null,null,null,null,null,null,null,null,null,null,null,null,null,null,null,null,"№5",{"$f":"_xlfn.NORM.INV(RAND(),$Z$3,$I$20)","v":4.1775742571484962},{"$f":"_xlfn.NORM.INV(RAND(),$AA$3,$O$20)","v":-0.42709768661877034},1.8752382852648628,{"$f":"ROUND(AG11,0)","v":2},{"$f":"ROUND(AG12,0)","v":1},{"$f":"IF(AH11>AI11,1,\"\")","v":1},{"$f":"IF(AH11=AI11,1,\"\")","v":""},{"$f":"IF(AH11<AI11,1,\"\")","v":""},{"$f":"AH11&\"-\"&AI11","v":"2-1"},null,null,null,7.3800000000000004E-2,{"$f":"COUNTIF($AM:$AM,\"3-1\")","v":3690},"3-1"]
[null,null,null,null,null,null,null,null,null,null,null,null,null,null,null,null,null,null,null,null,null,null,null,null,null,null,null,null,null,null,{"$f":"_xlfn.NORM.INV(RAND(),$Z$4,$N$20)","v":1.4677539600392437},{"$f":"_xlfn.NORM.INV(RAND(),$AA$4,$J$20)","v":1.0902926580430852},1.2790233090411645,null,null,null,null,null,null,null,null,null,0.12121999999999999,{"$f":"COUNTIF($AM:$AM,\"3-2\")","v":6061},"3-2"]
[null,null,null,null,null,null,null,null,{"$f":"VALUE(I4)","v":0},{"$f":"VALUE(J4)","v":2},{"$f":"IF(I13>0.5,(1),(\"\"))","v":""},{"$f":"IF(J13>0.5,(1),(\"\"))","v":1},null,{"$f":"VALUE(N4)","v":2},{"$f":"VALUE(O4)","v":0},{"$f":"IF(N13>0.5,(1),(\"\"))","v":1},{"$f":"IF(O13>0.5,(1),(\"\"))","v":""},null,null,null,null,null,null,null,null,null,null,null,null,"№6",{"$f":"_xlfn.NORM.INV(RAND(),$Z$3,$I$20)","v":3.4972227869003309},{"$f":"_xlfn.NORM.INV(RAND(),$AA$3,$O$20)","v":1.6422315019195597},2.5697271444099452,{"$f":"ROUND(AG13,0)","v":3},{"$f":"ROUND(AG14,0)","v":2},{"$f":"IF(AH13>AI13,1,\"\")","v":1},{"$f":"IF(AH13=AI13,1,\"\")","v":""},{"$f":"IF(AH13<AI13,1,\"\")","v":""},{"$f":"AH13&\"-\"&AI13","v":"3-2"},null,null,null,5.602E-2,{"$f":"COUNTIF($AM:$AM,\"3-3\")","v":2801},"3-3"]
[null,null,null,null,null,null,null,null,{"$f":"VALUE(I5)","v":6},{"$f":"VALUE(J5)","v":1},{"$f":"IF(I14>0.5,(1),(\"\"))","v":1},1,null,{"$f":"VALUE(N5)","v":4},0,{"$f":"IF(N14>0.5,(1),(\"\"))","v":1},"",null,null,null,null,null,null,null,null,null,null,null,null,null,{"$f":"_xlfn.NORM.INV(RAND(),$Z$4,$N$20)","v":2.6305884092000671},{"$f":"_xlfn.NORM.INV(RAND(),$AA$4,$J$20)","v":0.83148676667126664},1.731037587935667,null,null,null,null,null,null,null,null,null,1.6459999999999999E-2,{"$f":"COUNTIF($AM:$AM,\"0-2\")","v":823},"0-2"]
[null,null,null,null,null,null,null,null,4,{"$f":"VALUE(J6)","v":0},1,"",null,2,2,1,1,null,null,null,null,null,null,null,null,null,null,null,null,"№7",{"$f":"_xlfn.NORM.INV(RAND(),$Z$3,$I$20)","v":5.2286996364323777},{"$f":"_xlfn.NORM.INV(RAND(),$AA$3,$O$20)","v":3.5490940342813082E-2},2.6320952883875952,{"$f":"ROUND(AG15,0)","v":3},{"$f":"ROUND(AG16,0)","v":2},{"$f":"IF(AH15>AI15,1,\"\")","v":1},{"$f":"IF(AH15=AI15,1,\"\")","v":""},{"$f":"IF(AH15<AI15,1,\"\")","v":""},{"$f":"AH15&\"-\"&AI15","v":"3-2"},null,null,null,9.5460000000000003E-2,{"$f":"COUNTIF($AM:$AM,\"1-2\")","v":4773},"1-2"]
[null,null,null,null,null,null,null,null,4,5,1,1,null,1,2,1,1,null,null,null,null,null,null,null,null,null,null,null,null,null,{"$f":"_xlfn.NORM.INV(RAND(),$Z$4,$N$20)","v":2.2640850864246893},{"$f":"_xlfn.NORM.INV(RAND(),$AA$4,$J$20)","v":1.1444709461576059},1.7042780162911475,null,null,null,null,null,null,null,null,null,7.4000000000000003E-3,{"$f":"COUNTIF($AM:$AM,\"0-3\")","v":370},"0-3"]
[null,null,null,null,null,null,null,null,3,0,1,"",null,2,0,1,"",null,null,null,null,null,null,null,null,null,null,null,null,"№8",{"$f":"_xlfn.NORM.INV(RAND(),$Z$3,$I$20)","v":1.3291300503011625},{"$f":"_xlfn.NORM.INV(RAND(),$AA$3,$O$20)","v":0.39884210515944013},0.86398607773030134,{"$f":"ROUND(AG17,0)","v":1},{"$f":"ROUND(AG18,0)","v":2},{"$f":"IF(AH17>AI17,1,\"\")","v":""},{"$f":"IF(AH17=AI17,1,\"\")","v":""},{"$f":"IF(AH17<AI17,1,\"\")","v":1},{"$f":"AH17&\"-\"&AI17","v":"1-2"},null,null,null,4.4999999999999998E-2,{"$f":"COUNTIF($AM:$AM,\"1-3\")","v":2250},"1-3"]
[null,null,null,null,null,null,null,null,null,null,null,null,null,null,null,null,null,null,null,null,null,null,null,null,null,null,null,null,null,null,{"$f":"_xlfn.NORM.INV(RAND(),$Z$4,$N$20)","v":2.4781396971342584},{"$f":"_xlfn.NORM.INV(RAND(),$AA$4,$J$20)","v":2.1070277317117063},2.2925837144229826,null,null,null,null,null,null,null,null,null,8.5599999999999996E-2,{"$f":"COUNTIF($AM:$AM,\"2-3\")","v":4280},"2-3"]
[null,null,null,null,null,null,null,null,null,null,null,null,null,null,null,null,null,null,null,null,null,null,null,null,null,null,null,null,null,"№9",{"$f":"_xlfn.NORM.INV(RAND(),$Z$3,$I$20)","v":2.7596440907923183},{"$f":"_xlfn.NORM.INV(RAND(),$AA$3,$O$20)","v":0.64820897887148254},1.7039265348319004,{"$f":"ROUND(AG19,0)","v":2},{"$f":"ROUND(AG20,0)","v":2},{"$f":"IF(AH19>AI19,1,\"\")","v":""},{"$f":"IF(AH19=AI19,1,\"\")","v":1},{"$f":"IF(AH19<AI19,1,\"\")","v":""},{"$f":"AH19&\"-\"&AI19","v":"2-2"}]
[null,null,null,null,null,null,null,null,{"$f":"AVEDEV(I13:I17)","v":1.52},{"$f":"AVEDEV(J13:J17)","v":1.52},null,null,null,{"$f":"AVEDEV(N13:N17)","v":0.72000000000000008},{"$f":"AVEDEV(O13:O17)","v":0.96},null,null,null,null,null,null,null,null,null,null,null,null,null,null,null,{"$f":"_xlfn.NORM.INV(RAND(),$Z$4,$N$20)","v":2.5357521086122552},{"$f":"_xlfn.NORM.INV(RAND(),$AA$4,$J$20)","v":2.2720951480369167},2.4039236283245859]
[null,null,null,null,null,null,null,null,null,null,null,null,null,null,null,null,null,null,null,null,null,null,null,null,null,null,null,null,null,"№10",{"$f":"_xlfn.NORM.INV(RAND(),$Z$3,$I$20)","v":4.6340832918202173},{"$f":"_xlfn.NORM.INV(RAND(),$AA$3,$O$20)","v":1.2815246236063933},2.9578039577133053,{"$f":"ROUND(AG21,0)","v":3},{"$f":"ROUND(AG22,0)","v":1},{"$f":"IF(AH21>AI21,1,\"\")","v":1},{"$f":"IF(AH21=AI21,1,\"\")","v":""},{"$f":"IF(AH21<AI21,1,\"\")","v":""},{"$f":"AH21&\"-\"&AI21","v":"3-1"},null,null,null,null,0,{"$f":"COUNTIF($AH:$AH,0)","v":1849},{"$f":"AS21/50000","v":3.6979999999999999E-2},null,{"$f":"COUNTIF($AI:$AI,0)","v":2320},{"$f":"AV21/50000","v":4.6399999999999997E-2}]
[null,null,null,null,null,null,null,null,null,null,null,null,null,null,null,null,null,null,null,null,null,null,null,null,null,null,null,null,null,null,{"$f":"_xlfn.NORM.INV(RAND(),$Z$4,$N$20)","v":0.91600245245694589},{"$f":"_xlfn.NORM.INV(RAND(),$AA$4,$J$20)","v":1.5315143912745051},1.2237584218657256,null,null,null,null,null,null,null,null,null,null,1,{"$f":"COUNTIF($AH:$AH,1)","v":10729},{"$f":"AS22/50000","v":0.21457999999999999},null,{"$f":"COUNTIF($AI:$AI,1)","v":13544},{"$f":"AV22/50000","v":0.27088000000000001}]
[null,null,null,null,null,null,null,null,null,null,null,null,null,null,null,null,null,null,null,null,null,null,null,null,null,null,null,null,null,"№11",{"$f":"_xlfn.NORM.INV(RAND(),$Z$3,$I$20)","v":4.5345520289557069},{"$f":"_xlfn.NORM.INV(RAND(),$AA$3,$O$20)","v":1.163199891527043},2.8488759602413749,{"$f":"ROUND(AG23,0)","v":3},{"$f":"ROUND(AG24,0)","v":3},{"$f":"IF(AH23>AI23,1,\"\")","v":""},{"$f":"IF(AH23=AI23,1,\"\")","v":1},{"$f":"IF(AH23<AI23,1,\"\")","v":""},{"$f":"AH23&\"-\"&AI23","v":"3-3"},null,null,null,null,2,{"$f":"COUNTIF($AH:$AH,2)","v":20739},0.41477999999999998,null,{"$f":"COUNTIF($AI:$AI,2)","v":22286},0.44572000000000001]
[null,null,null,null,null,null,null,null,null,null,null,null,null,null,null,null,null,null,null,null,null,null,null,null,null,null,null,null,null,null,{"$f":"_xlfn.NORM.INV(RAND(),$Z$4,$N$20)","v":2.6240757950667439},{"$f":"_xlfn.NORM.INV(RAND(),$AA$4,$J$20)","v":2.8419506027885859},2.7330131989276651,null,null,null,null,null,null,null,null,null,null,3,{"$f":"COUNTIF($AH:$AH,3)","v":13551},0.27101999999999998,null,{"$f":"COUNTIF($AI:$AI,3)","v":10341},0.20682]
[null,null,null,null,null,null,null,null,{"$f":"SUM(I13:I17)/5","v":3.4},null,{"$f":"SUM(N13:N17)/5","v":2.2000000000000002},null,null,null,null,null,null,null,null,null,null,null,null,null,null,null,null,null,null,"№12",{"$f":"_xlfn.NORM.INV(RAND(),$Z$3,$I$20)","v":5.8892520099057331},{"$f":"_xlfn.NORM.INV(RAND(),$AA$3,$O$20)","v":2.5993479592848683},4.2442999845953011,{"$f":"ROUND(AG25,0)","v":4},{"$f":"ROUND(AG26,0)","v":1},{"$f":"IF(AH25>AI25,1,\"\")","v":1},{"$f":"IF(AH25=AI25,1,\"\")","v":""},{"$f":"IF(AH25<AI25,1,\"\")","v":""},{"$f":"AH25&\"-\"&AI25","v":"4-1"},null,null,null,null,4,{"$f":"COUNTIF($AH:$AH,4)","v":2841},5.6820000000000002E-2,null,{"$f":"COUNTIF($AI:$AI,4)","v":1357},2.7140000000000001E-2]
[null,null,null,null,null,null,null,null,{"$f":"SUM(J13:J17)/5","v":1.6},null,{"$f":"SUM(O13:O17)/5","v":0.8},null,null,null,null,null,null,null,null,null,null,null,null,null,null,null,null,null,null,null,{"$f":"_xlfn.NORM.INV(RAND(),$Z$4,$N$20)","v":2.4140544750067221},{"$f":"_xlfn.NORM.INV(RAND(),$AA$4,$J$20)","v":-0.97309611129237306},0.72047918185717452,null,null,null,null,null,null,null,null,null,null,5,{"$f":"COUNTIF($AH:$AH,5)","v":186},3.7200000000000002E-3,null,{"$f":"COUNTIF($AI:$AI,5)","v":50},1E-3]
[null,null,null,null,null,null,null,null,{"$f":"SMALL(I25:I26,1)","v":1.6},{"$f":"I27+K27","v":2.4000000000000004},{"$f":"SMALL(K25:K26,1)","v":0.8},null,null,null,null,null,null,null,null,null,null,null,null,null,null,null,null,null,null,"№13",{"$f":"_xlfn.NORM.INV(RAND(),$Z$3,$I$20)","v":3.5530642560509569},{"$f":"_xlfn.NORM.INV(RAND(),$AA$3,$O$20)","v":0.33003843419046786},1.9415513451207125,{"$f":"ROUND(AG27,0)","v":2},{"$f":"ROUND(AG28,0)","v":0},{"$f":"IF(AH27>AI27,1,\"\")","v":1},{"$f":"IF(AH27=AI27,1,\"\")","v":""},{"$f":"IF(AH27<AI27,1,\"\")","v":""},{"$f":"AH27&\"-\"&AI27","v":"2-0"}]
[null,null,null,null,null,null,null,null,{"$f":"LARGE(I25:I26,1)","v":3.4},{"$f":"I28+K28","v":5.6},{"$f":"LARGE(K25:K26,1)","v":2.2000000000000002},null,null,null,null,null,null,null,null,null,null,null,null,null,null,null,null,null,null,null,{"$f":"_xlfn.NORM.INV(RAND(),$Z$4,$N$20)","v":2.6763418082362915},{"$f":"_xlfn.NORM.INV(RAND(),$AA$4,$J$20)","v":-1.9142917310653824},0.38102503858545456]
[null,null,null,null,null,null,null,null,null,null,null,null,null,null,null,null,null,null,null,null,null,null,null,null,null,null,null,null,null,"№14",{"$f":"_xlfn.NORM.INV(RAND(),$Z$3,$I$20)","v":4.2414125231702311},{"$f":"_xlfn.NORM.INV(RAND(),$AA$3,$O$20)","v":2.7643479657604981},3.5028802444653646,{"$f":"ROUND(AG29,0)","v":4},{"$f":"ROUND(AG30,0)","v":2},{"$f":"IF(AH29>AI29,1,\"\")","v":1},{"$f":"IF(AH29=AI29,1,\"\")","v":""},{"$f":"IF(AH29<AI29,1,\"\")","v":""},{"$f":"AH29&\"-\"&AI29","v":"4-2"}]
[null,null,null,null,null,null,null,null,null,{"$f":"AVERAGE(J27:J28)","v":4},null,null,null,null,null,null,null,null,null,null,null,null,null,null,null,null,null,null,null,null,{"$f":"_xlfn.NORM.INV(RAND(),$Z$4,$N$20)","v":2.1313473989106164},{"$f":"_xlfn.NORM.INV(RAND(),$AA$4,$J$20)","v":2.7020305318221594},2.4166889653663879]
[null,null,null,null,null,null,null,null,null,null,null,null,null,null,null,null,null,null,null,null,null,null,null,null,null,null,null,null,null,"№15",{"$f":"_xlfn.NORM.INV(RAND(),$Z$3,$I$20)","v":2.7543445651825622},{"$f":"_xlfn.NORM.INV(RAND(),$AA$3,$O$20)","v":0.6413327516725531},1.6978386584275578,{"$f":"ROUND(AG31,0)","v":2},{"$f":"ROUND(AG32,0)","v":1},{"$f":"IF(AH31>AI31,1,\"\")","v":1},{"$f":"IF(AH31=AI31,1,\"\")","v":""},{"$f":"IF(AH31<AI31,1,\"\")","v":""},{"$f":"AH31&\"-\"&AI31","v":"2-1"}]
[null,null,null,null,null,null,null,null,null,null,null,null,null,null,null,null,null,null,null,null,null,null,null,null,null,null,null,null,null,null,{"$f":"_xlfn.NORM.INV(RAND(),$Z$4,$N$20)","v":1.6392219994803203},{"$f":"_xlfn.NORM.INV(RAND(),$AA$4,$J$20)","v":1.044442951933944},1.341832475707132]
[null,null,null,null,null,null,null,null,null,null,null,null,null,null,null,null,null,null,null,null,null,null,null,null,null,null,null,null,null,"№16",{"$f":"_xlfn.NORM.INV(RAND(),$Z$3,$I$20)","v":4.9884294098028326},{"$f":"_xlfn.NORM.INV(RAND(),$AA$3,$O$20)","v":0.62868940433864817},2.8085594070707405,{"$f":"ROUND(AG33,0)","v":3},{"$f":"ROUND(AG34,0)","v":2},{"$f":"IF(AH33>AI33,1,\"\")","v":1},{"$f":"IF(AH33=AI33,1,\"\")","v":""},{"$f":"IF(AH33<AI33,1,\"\")","v":""},{"$f":"AH33&\"-\"&AI33","v":"3-2"}]
[null,null,null,null,null,null,null,null,null,null,null,null,null,null,null,null,null,null,null,null,null,null,null,null,null,null,null,null,null,null,{"$f":"_xlfn.NORM.INV(RAND(),$Z$4,$N$20)","v":0.534842959415613},{"$f":"_xlfn.NORM.INV(RAND(),$AA$4,$J$20)","v":4.1370203353194395},2.3359316473675262]
[null,null,null,null,null,null,null,null,null,null,null,null,null,null,null,null,null,null,null,null,null,null,null,null,null,null,null,null,null,"№17",{"$f":"_xlfn.NORM.INV(RAND(),$Z$3,$I$20)","v":2.408564904762839},{"$f":"_xlfn.NORM.INV(RAND(),$AA$3,$O$20)","v":0.93361556901204279},1.671090236887441,{"$f":"ROUND(AG35,0)","v":2},{"$f":"ROUND(AG36,0)","v":1},{"$f":"IF(AH35>AI35,1,\"\")","v":1},{"$f":"IF(AH35=AI35,1,\"\")","v":""},{"$f":"IF(AH35<AI35,1,\"\")","v":""},{"$f":"AH35&\"-\"&AI35","v":"2-1"}]
[null,null,null,null,null,null,null,null,null,null,null,null,null,null,null,null,null,null,null,null,null,null,null,null,null,null,null,null,null,null,{"$f":"_xlfn.NORM.INV(RAND(),$Z$4,$N$20)","v":1.8827488555790985},{"$f":"_xlfn.NORM.INV(RAND(),$AA$4,$J$20)","v":0.53060617990877135},1.2066775177439348]
[null,null,null,null,null,null,null,null,null,null,null,null,null,null,null,null,null,null,null,null,null,null,null,null,null,null,null,null,null,"№18",{"$f":"_xlfn.NORM.INV(RAND(),$Z$3,$I$20)","v":3.3024548704177783},{"$f":"_xlfn.NORM.INV(RAND(),$AA$3,$O$20)","v":5.4798840451093178E-2},1.6786268554344357,{"$f":"ROUND(AG37,0)","v":2},{"$f":"ROUND(AG38,0)","v":2},{"$f":"IF(AH37>AI37,1,\"\")","v":""},{"$f":"IF(AH37=AI37,1,\"\")","v":1},{"$f":"IF(AH37<AI37,1,\"\")","v":""},{"$f":"AH37&\"-\"&AI37","v":"2-2"}]
[null,null,null,null,null,null,null,null,null,null,null,null,null,null,null,null,null,null,null,null,null,null,null,null,null,null,null,null,null,null,{"$f":"_xlfn.NORM.INV(RAND(),$Z$4,$N$20)","v":3.7918234826857362},{"$f":"_xlfn.NORM.INV(RAND(),$AA$4,$J$20)","v":0.30119902501685769},2.0465112538512971]
[null,null,null,null,null,null,null,null,null,null,null,null,null,null,null,null,null,null,null,null,null,null,null,null,null,null,null,null,null,"№19",{"$f":"_xlfn.NORM.INV(RAND(),$Z$3,$I$20)","v":1.5226612575829226},{"$f":"_xlfn.NORM.INV(RAND(),$AA$3,$O$20)","v":1.7251027547174735},1.6238820061501982,{"$f":"ROUND(AG39,0)","v":2},{"$f":"ROUND(AG40,0)","v":0},{"$f":"IF(AH39>AI39,1,\"\")","v":1},{"$f":"IF(AH39=AI39,1,\"\")","v":""},{"$f":"IF(AH39<AI39,1,\"\")","v":""},{"$f":"AH39&\"-\"&AI39","v":"2-0"}]
[null,null,null,null,null,null,null,null,null,null,null,null,null,null,null,null,null,null,null,null,null,null,null,null,null,null,null,null,null,null,{"$f":"_xlfn.NORM.INV(RAND(),$Z$4,$N$20)","v":1.7834007459456378},{"$f":"_xlfn.NORM.INV(RAND(),$AA$4,$J$20)","v":-0.7946949811685764},0.4943528823885307]
[null,null,null,null,null,null,null,null,null,null,null,null,null,null,null,null,null,null,null,null,null,null,null,null,null,null,null,null,null,"№20",{"$f":"_xlfn.NORM.INV(RAND(),$Z$3,$I$20)","v":1.7462295108341284},{"$f":"_xlfn.NORM.INV(RAND(),$AA$3,$O$20)","v":-0.96427668498634755},0.3909764129238904,{"$f":"ROUND(AG41,0)","v":0},{"$f":"ROUND(AG42,0)","v":3},{"$f":"IF(AH41>AI41,1,\"\")","v":""},{"$f":"IF(AH41=AI41,1,\"\")","v":""},{"$f":"IF(AH41<AI41,1,\"\")","v":1},{"$f":"AH41&\"-\"&AI41","v":"0-3"}]
[null,null,null,null,null,null,null,null,null,null,null,null,null,null,null,null,null,null,null,null,null,null,null,null,null,null,null,null,null,null,{"$f":"_xlfn.NORM.INV(RAND(),$Z$4,$N$20)","v":2.1194950732893556},{"$f":"_xlfn.NORM.INV(RAND(),$AA$4,$J$20)","v":3.7393172067646883},2.9294061400270222]
[null,null,null,null,null,null,null,null,null,null,null,null,null,null,null,null,null,null,null,null,null,null,null,null,null,null,null,null,null,"№21",{"$f":"_xlfn.NORM.INV(RAND(),$Z$3,$I$20)","v":3.273595539226049},{"$f":"_xlfn.NORM.INV(RAND(),$AA$3,$O$20)","v":0.31972721492828887},1.7966613770771689,{"$f":"ROUND(AG43,0)","v":2},{"$f":"ROUND(AG44,0)","v":1},{"$f":"IF(AH43>AI43,1,\"\")","v":1},{"$f":"IF(AH43=AI43,1,\"\")","v":""},{"$f":"IF(AH43<AI43,1,\"\")","v":""},{"$f":"AH43&\"-\"&AI43","v":"2-1"}]
[null,null,null,null,null,null,null,null,null,null,null,null,null,null,null,null,null,null,null,null,null,null,null,null,null,null,null,null,null,null,{"$f":"_xlfn.NORM.INV(RAND(),$Z$4,$N$20)","v":0.95067490540837873},{"$f":"_xlfn.NORM.INV(RAND(),$AA$4,$J$20)","v":1.4389507501625993},1.194812827785489]
[null,null,null,null,null,null,null,null,null,null,null,null,null,null,null,null,null,null,null,null,null,null,null,null,null,null,null,null,null,"№22",{"$f":"_xlfn.NORM.INV(RAND(),$Z$3,$I$20)","v":2.4645746221998066},{"$f":"_xlfn.NORM.INV(RAND(),$AA$3,$O$20)","v":1.3481115727575084},1.9063430974786575,{"$f":"ROUND(AG45,0)","v":2},{"$f":"ROUND(AG46,0)","v":1},{"$f":"IF(AH45>AI45,1,\"\")","v":1},{"$f":"IF(AH45=AI45,1,\"\")","v":""},{"$f":"IF(AH45<AI45,1,\"\")","v":""},{"$f":"AH45&\"-\"&AI45","v":"2-1"}]
[null,null,null,null,null,null,null,null,null,null,null,null,null,null,null,null,null,null,null,null,null,null,null,null,null,null,null,null,null,null,{"$f":"_xlfn.NORM.INV(RAND(),$Z$4,$N$20)","v":1.5164183740161303},{"$f":"_xlfn.NORM.INV(RAND(),$AA$4,$J$20)","v":0.57228512467214832},1.0443517493441394]
[null,null,null,null,null,null,null,null,null,null,null,null,null,null,null,null,null,null,null,null,null,null,null,null,null,null,null,null,null,"№23",{"$f":"_xlfn.NORM.INV(RAND(),$Z$3,$I$20)","v":4.2229044193711704},{"$f":"_xlfn.NORM.INV(RAND(),$AA$3,$O$20)","v":1.1344242155346613},2.6786643174529159,{"$f":"ROUND(AG47,0)","v":3},{"$f":"ROUND(AG48,0)","v":2},{"$f":"IF(AH47>AI47,1,\"\")","v":1},{"$f":"IF(AH47=AI47,1,\"\")","v":""},{"$f":"IF(AH47<AI47,1,\"\")","v":""},{"$f":"AH47&\"-\"&AI47","v":"3-2"}]
[null,null,null,null,null,null,null,null,null,null,null,null,null,null,null,null,null,null,null,null,null,null,null,null,null,null,null,null,null,null,{"$f":"_xlfn.NORM.INV(RAND(),$Z$4,$N$20)","v":2.6512714340415671},{"$f":"_xlfn.NORM.INV(RAND(),$AA$4,$J$20)","v":1.3761591000589648},2.0137152670502658]
[null,null,null,null,null,null,null,null,null,null,null,null,null,null,null,null,null,null,null,null,null,null,null,null,null,null,null,null,null,"№24",{"$f":"_xlfn.NORM.INV(RAND(),$Z$3,$I$20)","v":2.2971046023400437},{"$f":"_xlfn.NORM.INV(RAND(),$AA$3,$O$20)","v":0.52344974450567006},1.4102771734228567,{"$f":"ROUND(AG49,0)","v":1},{"$f":"ROUND(AG50,0)","v":4},{"$f":"IF(AH49>AI49,1,\"\")","v":""},{"$f":"IF(AH49=AI49,1,\"\")","v":""},{"$f":"IF(AH49<AI49,1,\"\")","v":1},{"$f":"AH49&\"-\"&AI49","v":"1-4"}]
[null,null,null,null,null,null,null,null,null,null,null,null,null,null,null,null,null,null,null,null,null,null,null,null,null,null,null,null,null,null,{"$f":"_xlfn.NORM.INV(RAND(),$Z$4,$N$20)","v":3.4214914186497078},{"$f":"_xlfn.NORM.INV(RAND(),$AA$4,$J$20)","v":4.6400551083919712},4.0307732635208398]
[null,null,null,null,null,null,null,null,null,null,null,null,null,null,null,null,null,null,null,null,null,null,null,null,null,null,null,null,null,"№25",{"$f":"_xlfn.NORM.INV(RAND(),$Z$3,$I$20)","v":1.6252443551064364},{"$f":"_xlfn.NORM.INV(RAND(),$AA$3,$O$20)","v":-3.7619783771767334E-3},0.81074118836462983,{"$f":"ROUND(AG51,0)","v":1},{"$f":"ROUND(AG52,0)","v":2},{"$f":"IF(AH51>AI51,1,\"\")","v":""},{"$f":"IF(AH51=AI51,1,\"\")","v":""},{"$f":"IF(AH51<AI51,1,\"\")","v":1},{"$f":"AH51&\"-\"&AI51","v":"1-2"}]
[null,null,null,null,null,null,null,null,null,null,null,null,null,null,null,null,null,null,null,null,null,null,null,null,null,null,null,null,null,null,{"$f":"_xlfn.NORM.INV(RAND(),$Z$4,$N$20)","v":2.3218292098958124},{"$f":"_xlfn.NORM.INV(RAND(),$AA$4,$J$20)","v":2.1464645378919145},2.2341468738938635]
[null,null,null,null,null,null,null,null,null,null,null,null,null,null,null,null,null,null,null,null,null,null,null,null,null,null,null,null,null,"№26",{"$f":"_xlfn.NORM.INV(RAND(),$Z$3,$I$20)","v":1.0791417188980406},{"$f":"_xlfn.NORM.INV(RAND(),$AA$3,$O$20)","v":-0.11356595329072117},0.4827878828036597,{"$f":"ROUND(AG53,0)","v":0},{"$f":"ROUND(AG54,0)","v":3},{"$f":"IF(AH53>AI53,1,\"\")","v":""},{"$f":"IF(AH53=AI53,1,\"\")","v":""},{"$f":"IF(AH53<AI53,1,\"\")","v":1},{"$f":"AH53&\"-\"&AI53","v":"0-3"}]
[null,null,null,null,null,null,null,null,null,null,null,null,null,null,null,null,null,null,null,null,null,null,null,null,null,null,null,null,null,null,{"$f":"_xlfn.NORM.INV(RAND(),$Z$4,$N$20)","v":2.387263837297128},{"$f":"_xlfn.NORM.INV(RAND(),$AA$4,$J$20)","v":2.8712269026632313},2.6292453699801799]
[null,null,null,null,null,null,null,null,null,null,null,null,null,null,null,null,null,null,null,null,null,null,null,null,null,null,null,null,null,"№27",{"$f":"_xlfn.NORM.INV(RAND(),$Z$3,$I$20)","v":1.8989903938917532},{"$f":"_xlfn.NORM.INV(RAND(),$AA$3,$O$20)","v":1.7212209628129038},1.8101056783523286,{"$f":"ROUND(AG55,0)","v":2},{"$f":"ROUND(AG56,0)","v":2},{"$f":"IF(AH55>AI55,1,\"\")","v":""},{"$f":"IF(AH55=AI55,1,\"\")","v":1},{"$f":"IF(AH55<AI55,1,\"\")","v":""},{"$f":"AH55&\"-\"&AI55","v":"2-2"}]
[null,null,null,null,null,null,null,null,null,null,null,null,null,null,null,null,null,null,null,null,null,null,null,null,null,null,null,null,null,null,{"$f":"_xlfn.NORM.INV(RAND(),$Z$4,$N$20)","v":2.7208258224316992},{"$f":"_xlfn.NORM.INV(RAND(),$AA$4,$J$20)","v":1.603799776552445},2.1623127994920721]
[null,null,null,null,null,null,null,null,null,null,null,null,null,null,null,null,null,null,null,null,null,null,null,null,null,null,null,null,null,"№28",{"$f":"_xlfn.NORM.INV(RAND(),$Z$3,$I$20)","v":4.3722726376066499},{"$f":"_xlfn.NORM.INV(RAND(),$AA$3,$O$20)","v":0.98993470467116362},2.6811036711389069,{"$f":"ROUND(AG57,0)","v":3},{"$f":"ROUND(AG58,0)","v":2},{"$f":"IF(AH57>AI57,1,\"\")","v":1},{"$f":"IF(AH57=AI57,1,\"\")","v":""},{"$f":"IF(AH57<AI57,1,\"\")","v":""},{"$f":"AH57&\"-\"&AI57","v":"3-2"}]
[null,null,null,null,null,null,null,null,null,null,null,null,null,null,null,null,null,null,null,null,null,null,null,null,null,null,null,null,null,null,{"$f":"_xlfn.NORM.INV(RAND(),$Z$4,$N$20)","v":3.0768897852812174},{"$f":"_xlfn.NORM.INV(RAND(),$AA$4,$J$20)","v":0.70027273515334554},1.8885812602172813]
[null,null,null,null,null,null,null,null,null,null,null,null,null,null,null,null,null,null,null,null,null,null,null,null,null,null,null,null,null,"№29",{"$f":"_xlfn.NORM.INV(RAND(),$Z$3,$I$20)","v":3.0011292278194106},{"$f":"_xlfn.NORM.INV(RAND(),$AA$3,$O$20)","v":1.551728433992964},2.2764288309061875,{"$f":"ROUND(AG59,0)","v":2},{"$f":"ROUND(AG60,0)","v":2},{"$f":"IF(AH59>AI59,1,\"\")","v":""},{"$f":"IF(AH59=AI59,1,\"\")","v":1},{"$f":"IF(AH59<AI59,1,\"\")","v":""},{"$f":"AH59&\"-\"&AI59","v":"2-2"}]
[null,null,null,null,null,null,null,null,null,null,null,null,null,null,null,null,null,null,null,null,null,null,null,null,null,null,null,null,null,null,{"$f":"_xlfn.NORM.INV(RAND(),$Z$4,$N$20)","v":1.8603280630131156},{"$f":"_xlfn.NORM.INV(RAND(),$AA$4,$J$20)","v":1.486654029454809},1.6734910462339623]
[null,null,null,null,null,null,null,null,null,null,null,null,null,null,null,null,null,null,null,null,null,null,null,null,null,null,null,null,null,"№30",{"$f":"_xlfn.NORM.INV(RAND(),$Z$3,$I$20)","v":5.1463433014831415},{"$f":"_xlfn.NORM.INV(RAND(),$AA$3,$O$20)","v":0.90252258726110823},3.024432944372125,{"$f":"ROUND(AG61,0)","v":3},{"$f":"ROUND(AG62,0)","v":1},{"$f":"IF(AH61>AI61,1,\"\")","v":1},{"$f":"IF(AH61=AI61,1,\"\")","v":""},{"$f":"IF(AH61<AI61,1,\"\")","v":""},{"$f":"AH61&\"-\"&AI61","v":"3-1"}]
[null,null,null,null,null,null,null,null,null,null,null,null,null,null,null,null,null,null,null,null,null,null,null,null,null,null,null,null,null,null,{"$f":"_xlfn.NORM.INV(RAND(),$Z$4,$N$20)","v":1.913284210973202},{"$f":"_xlfn.NORM.INV(RAND(),$AA$4,$J$20)","v":0.94585019769473411},1.429567204333968]
[null,null,null,null,null,null,null,null,null,null,null,null,null,null,null,null,null,null,null,null,null,null,null,null,null,null,null,null,null,"№31",{"$f":"_xlfn.NORM.INV(RAND(),$Z$3,$I$20)","v":5.1640207559176172},{"$f":"_xlfn.NORM.INV(RAND(),$AA$3,$O$20)","v":0.20148161368293516},2.6827511848002761,{"$f":"ROUND(AG63,0)","v":3},{"$f":"ROUND(AG64,0)","v":3},{"$f":"IF(AH63>AI63,1,\"\")","v":""},{"$f":"IF(AH63=AI63,1,\"\")","v":1},{"$f":"IF(AH63<AI63,1,\"\")","v":""},{"$f":"AH63&\"-\"&AI63","v":"3-3"}]
[null,null,null,null,null,null,null,null,null,null,null,null,null,null,null,null,null,null,null,null,null,null,null,null,null,null,null,null,null,null,{"$f":"_xlfn.NORM.INV(RAND(),$Z$4,$N$20)","v":2.2534679519021013},{"$f":"_xlfn.NORM.INV(RAND(),$AA$4,$J$20)","v":4.1547331402182266},3.2041005460601637]
[null,null,null,null,null,null,null,null,null,null,null,null,null,null,null,null,null,null,null,null,null,null,null,null,null,null,null,null,null,"№32",{"$f":"_xlfn.NORM.INV(RAND(),$Z$3,$I$20)","v":4.6923526440327157},{"$f":"_xlfn.NORM.INV(RAND(),$AA$3,$O$20)","v":1.3873104623408428},3.0398315531867794,{"$f":"ROUND(AG65,0)","v":3},{"$f":"ROUND(AG66,0)","v":1},{"$f":"IF(AH65>AI65,1,\"\")","v":1},{"$f":"IF(AH65=AI65,1,\"\")","v":""},{"$f":"IF(AH65<AI65,1,\"\")","v":""},{"$f":"AH65&\"-\"&AI65","v":"3-1"}]
[null,null,null,null,null,null,null,null,null,null,null,null,null,null,null,null,null,null,null,null,null,null,null,null,null,null,null,null,null,null,{"$f":"_xlfn.NORM.INV(RAND(),$Z$4,$N$20)","v":2.4521892445247651},{"$f":"_xlfn.NORM.INV(RAND(),$AA$4,$J$20)","v":-0.31374761175266497},1.0692208163860499]
[null,null,null,null,null,null,null,null,null,null,null,null,null,null,null,null,null,null,null,null,null,null,null,null,null,null,null,null,null,"№33",{"$f":"_xlfn.NORM.INV(RAND(),$Z$3,$I$20)","v":5.5640886279780339},{"$f":"_xlfn.NORM.INV(RAND(),$AA$3,$O$20)","v":1.2794281980040529},3.4217584129910437,{"$f":"ROUND(AG67,0)","v":3},{"$f":"ROUND(AG68,0)","v":1},{"$f":"IF(AH67>AI67,1,\"\")","v":1},{"$f":"IF(AH67=AI67,1,\"\")","v":""},{"$f":"IF(AH67<AI67,1,\"\")","v":""},{"$f":"AH67&\"-\"&AI67","v":"3-1"}]
[null,null,null,null,null,null,null,null,null,null,null,null,null,null,null,null,null,null,null,null,null,null,null,null,null,null,null,null,null,null,{"$f":"_xlfn.NORM.INV(RAND(),$Z$4,$N$20)","v":1.8384650398068252},{"$f":"_xlfn.NORM.INV(RAND(),$AA$4,$J$20)","v":0.38625776447679772},1.1123614021418113]
[null,null,null,null,null,null,null,null,null,null,null,null,null,null,null,null,null,null,null,null,null,null,null,null,null,null,null,null,null,"№34",{"$f":"_xlfn.NORM.INV(RAND(),$Z$3,$I$20)","v":4.4788896669488363},{"$f":"_xlfn.NORM.INV(RAND(),$AA$3,$O$20)","v":2.4469726196440673},{"$f":"(AE69+AF69)/2","v":3.4629311432964518},{"$f":"ROUND(AG69,0)","v":3},{"$f":"ROUND(AG70,0)","v":1},{"$f":"IF(AH69>AI69,1,\"\")","v":1},{"$f":"IF(AH69=AI69,1,\"\")","v":""},{"$f":"IF(AH69<AI69,1,\"\")","v":""},{"$f":"AH69&\"-\"&AI69","v":"3-1"}]
[null,null,null,null,null,null,null,null,null,null,null,null,null,null,null,null,null,null,null,null,null,null,null,null,null,null,null,null,null,null,{"$f":"_xlfn.NORM.INV(RAND(),$Z$4,$N$20)","v":2.2490927914519103},{"$f":"_xlfn.NORM.INV(RAND(),$AA$4,$J$20)","v":1.5406195783219001E-2},1.1322494936175647]
[null,null,null,null,null,null,null,null,null,null,null,null,null,null,null,null,null,null,null,null,null,null,null,null,null,null,null,null,null,"№35",{"$f":"_xlfn.NORM.INV(RAND(),$Z$3,$I$20)","v":3.8117354944999944},{"$f":"_xlfn.NORM.INV(RAND(),$AA$3,$O$20)","v":-9.6039540819733316E-2},1.8578479768401306,{"$f":"ROUND(AG71,0)","v":2},{"$f":"ROUND(AG72,0)","v":3},{"$f":"IF(AH71>AI71,1,\"\")","v":""},{"$f":"IF(AH71=AI71,1,\"\")","v":""},{"$f":"IF(AH71<AI71,1,\"\")","v":1},{"$f":"AH71&\"-\"&AI71","v":"2-3"}]
[null,null,null,null,null,null,null,null,null,null,null,null,null,null,null,null,null,null,null,null,null,null,null,null,null,null,null,null,null,null,{"$f":"_xlfn.NORM.INV(RAND(),$Z$4,$N$20)","v":3.103739286183643},{"$f":"_xlfn.NORM.INV(RAND(),$AA$4,$J$20)","v":3.5017470554964696},3.3027431708400563]
[null,null,null,null,null,null,null,null,null,null,null,null,null,null,null,null,null,null,null,null,null,null,null,null,null,null,null,null,null,"№36",{"$f":"_xlfn.NORM.INV(RAND(),$Z$3,$I$20)","v":1.5193961007453862},{"$f":"_xlfn.NORM.INV(RAND(),$AA$3,$O$20)","v":-0.18967627191682024},0.66485991441428305,{"$f":"ROUND(AG73,0)","v":1},{"$f":"ROUND(AG74,0)","v":1},{"$f":"IF(AH73>AI73,1,\"\")","v":""},{"$f":"IF(AH73=AI73,1,\"\")","v":1},{"$f":"IF(AH73<AI73,1,\"\")","v":""},{"$f":"AH73&\"-\"&AI73","v":"1-1"}]
[null,null,null,null,null,null,null,null,null,null,null,null,null,null,null,null,null,null,null,null,null,null,null,null,null,null,null,null,null,null,{"$f":"_xlfn.NORM.INV(RAND(),$Z$4,$N$20)","v":0.70173189074945097},{"$f":"_xlfn.NORM.INV(RAND(),$AA$4,$J$20)","v":1.8772354759052636},1.2894836833273573]
[null,null,null,null,null,null,null,null,null,null,null,null,null,null,null,null,null,null,null,null,null,null,null,null,null,null,null,null,null,"№37",{"$f":"_xlfn.NORM.INV(RAND(),$Z$3,$I$20)","v":3.2924318812180715},{"$f":"_xlfn.NORM.INV(RAND(),$AA$3,$O$20)","v":0.13708647156320442},1.714759176390638,{"$f":"ROUND(AG75,0)","v":2},{"$f":"ROUND(AG76,0)","v":3},{"$f":"IF(AH75>AI75,1,\"\")","v":""},{"$f":"IF(AH75=AI75,1,\"\")","v":""},{"$f":"IF(AH75<AI75,1,\"\")","v":1},{"$f":"AH75&\"-\"&AI75","v":"2-3"}]
[null,null,null,null,null,null,null,null,null,null,null,null,null,null,null,null,null,null,null,null,null,null,null,null,null,null,null,null,null,null,{"$f":"_xlfn.NORM.INV(RAND(),$Z$4,$N$20)","v":2.712644273063213},{"$f":"_xlfn.NORM.INV(RAND(),$AA$4,$J$20)","v":2.4431844760139594},2.5779143745385862]
[null,null,null,null,null,null,null,null,null,null,null,null,null,null,null,null,null,null,null,null,null,null,null,null,null,null,null,null,null,"№38",{"$f":"_xlfn.NORM.INV(RAND(),$Z$3,$I$20)","v":5.0538490931133531},{"$f":"_xlfn.NORM.INV(RAND(),$AA$3,$O$20)","v":1.957568565328768},3.5057088292210605,{"$f":"ROUND(AG77,0)","v":4},{"$f":"ROUND(AG78,0)","v":2},{"$f":"IF(AH77>AI77,1,\"\")","v":1},{"$f":"IF(AH77=AI77,1,\"\")","v":""},{"$f":"IF(AH77<AI77,1,\"\")","v":""},{"$f":"AH77&\"-\"&AI77","v":"4-2"}]
[null,null,null,null,null,null,null,null,null,null,null,null,null,null,null,null,null,null,null,null,null,null,null,null,null,null,null,null,null,null,{"$f":"_xlfn.NORM.INV(RAND(),$Z$4,$N$20)","v":3.2202918316704023},{"$f":"_xlfn.NORM.INV(RAND(),$AA$4,$J$20)","v":0.63267160774492615},1.9264817197076642]
[null,null,null,null,null,null,null,null,null,null,null,null,null,null,null,null,null,null,null,null,null,null,null,null,null,null,null,null,null,"№39",{"$f":"_xlfn.NORM.INV(RAND(),$Z$3,$I$20)","v":4.7795945438490763},{"$f":"_xlfn.NORM.INV(RAND(),$AA$3,$O$20)","v":0.29712725391008388},2.5383608988795801,{"$f":"ROUND(AG79,0)","v":3},{"$f":"ROUND(AG80,0)","v":1},{"$f":"IF(AH79>AI79,1,\"\")","v":1},{"$f":"IF(AH79=AI79,1,\"\")","v":""},{"$f":"IF(AH79<AI79,1,\"\")","v":""},{"$f":"AH79&\"-\"&AI79","v":"3-1"}]
[null,null,null,null,null,null,null,null,null,null,null,null,null,null,null,null,null,null,null,null,null,null,null,null,null,null,null,null,null,null,{"$f":"_xlfn.NORM.INV(RAND(),$Z$4,$N$20)","v":2.0846091422992634},{"$f":"_xlfn.NORM.INV(RAND(),$AA$4,$J$20)","v":0.43357024618920925},1.2590896942442362]
[null,null,null,null,null,null,null,null,null,null,null,null,null,null,null,null,null,null,null,null,null,null,null,null,null,null,null,null,null,"№40",{"$f":"_xlfn.NORM.INV(RAND(),$Z$3,$I$20)","v":1.2606413332658053},{"$f":"_xlfn.NORM.INV(RAND(),$AA$3,$O$20)","v":1.3211091011830354},1.2908752172244204,{"$f":"ROUND(AG81,0)","v":1},{"$f":"ROUND(AG82,0)","v":1},{"$f":"IF(AH81>AI81,1,\"\")","v":""},{"$f":"IF(AH81=AI81,1,\"\")","v":1},{"$f":"IF(AH81<AI81,1,\"\")","v":""},{"$f":"AH81&\"-\"&AI81","v":"1-1"}]
[null,null,null,null,null,null,null,null,null,null,null,null,null,null,null,null,null,null,null,null,null,null,null,null,null,null,null,null,null,null,{"$f":"_xlfn.NORM.INV(RAND(),$Z$4,$N$20)","v":1.7784635687738231},{"$f":"_xlfn.NORM.INV(RAND(),$AA$4,$J$20)","v":0.96625582300763446},1.3723596958907287]
[null,null,null,null,null,null,null,null,null,null,null,null,null,null,null,null,null,null,null,null,null,null,null,null,null,null,null,null,null,"№41",{"$f":"_xlfn.NORM.INV(RAND(),$Z$3,$I$20)","v":5.4589444230263098},{"$f":"_xlfn.NORM.INV(RAND(),$AA$3,$O$20)","v":-1.3873875948910073},2.0357784140676514,{"$f":"ROUND(AG83,0)","v":2},{"$f":"ROUND(AG84,0)","v":2},{"$f":"IF(AH83>AI83,1,\"\")","v":""},{"$f":"IF(AH83=AI83,1,\"\")","v":1},{"$f":"IF(AH83<AI83,1,\"\")","v":""},{"$f":"AH83&\"-\"&AI83","v":"2-2"}]
[null,null,null,null,null,null,null,null,null,null,null,null,null,null,null,null,null,null,null,null,null,null,null,null,null,null,null,null,null,null,{"$f":"_xlfn.NORM.INV(RAND(),$Z$4,$N$20)","v":2.3864592885396401},{"$f":"_xlfn.NORM.INV(RAND(),$AA$4,$J$20)","v":1.8887822349814534},2.1376207617605467]
[null,null,null,null,null,null,null,null,null,null,null,null,null,null,null,null,null,null,null,null,null,null,null,null,null,null,null,null,null,"№42",{"$f":"_xlfn.NORM.INV(RAND(),$Z$3,$I$20)","v":4.1838942783128683},{"$f":"_xlfn.NORM.INV(RAND(),$AA$3,$O$20)","v":0.94422157198828782},2.564057925150578,{"$f":"ROUND(AG85,0)","v":3},{"$f":"ROUND(AG86,0)","v":2},{"$f":"IF(AH85>AI85,1,\"\")","v":1},{"$f":"IF(AH85=AI85,1,\"\")","v":""},{"$f":"IF(AH85<AI85,1,\"\")","v":""},{"$f":"AH85&\"-\"&AI85","v":"3-2"}]
[null,null,null,null,null,null,null,null,null,null,null,null,null,null,null,null,null,null,null,null,null,null,null,null,null,null,null,null,null,null,{"$f":"_xlfn.NORM.INV(RAND(),$Z$4,$N$20)","v":1.7476484317364633},{"$f":"_xlfn.NORM.INV(RAND(),$AA$4,$J$20)","v":2.063809572960762},1.9057290023486126]
[null,null,null,null,null,null,null,null,null,null,null,null,null,null,null,null,null,null,null,null,null,null,null,null,null,null,null,null,null,"№43",{"$f":"_xlfn.NORM.INV(RAND(),$Z$3,$I$20)","v":4.2666468630824292},{"$f":"_xlfn.NORM.INV(RAND(),$AA$3,$O$20)","v":0.68435148749452535},2.4754991752884772,{"$f":"ROUND(AG87,0)","v":2},{"$f":"ROUND(AG88,0)","v":1},{"$f":"IF(AH87>AI87,1,\"\")","v":1},{"$f":"IF(AH87=AI87,1,\"\")","v":""},{"$f":"IF(AH87<AI87,1,\"\")","v":""},{"$f":"AH87&\"-\"&AI87","v":"2-1"}]
[null,null,null,null,null,null,null,null,null,null,null,null,null,null,null,null,null,null,null,null,null,null,null,null,null,null,null,null,null,null,{"$f":"_xlfn.NORM.INV(RAND(),$Z$4,$N$20)","v":2.2203598541324792},{"$f":"_xlfn.NORM.INV(RAND(),$AA$4,$J$20)","v":0.37360551565983746},1.2969826848961583]
[null,null,null,null,null,null,null,null,null,null,null,null,null,null,null,null,null,null,null,null,null,null,null,null,null,null,null,null,null,"№44",{"$f":"_xlfn.NORM.INV(RAND(),$Z$3,$I$20)","v":4.6041155406627094},{"$f":"_xlfn.NORM.INV(RAND(),$AA$3,$O$20)","v":1.5776474827542271},3.090881511708468,{"$f":"ROUND(AG89,0)","v":3},{"$f":"ROUND(AG90,0)","v":2},{"$f":"IF(AH89>AI89,1,\"\")","v":1},{"$f":"IF(AH89=AI89,1,\"\")","v":""},{"$f":"IF(AH89<AI89,1,\"\")","v":""},{"$f":"AH89&\"-\"&AI89","v":"3-2"}]
[null,null,null,null,null,null,null,null,null,null,null,null,null,null,null,null,null,null,null,null,null,null,null,null,null,null,null,null,null,null,{"$f":"_xlfn.NORM.INV(RAND(),$Z$4,$N$20)","v":1.0744133193321583},{"$f":"_xlfn.NORM.INV(RAND(),$AA$4,$J$20)","v":1.9968498271305153},1.5356315732313368]
[null,null,null,null,null,null,null,null,null,null,null,null,null,null,null,null,null,null,null,null,null,null,null,null,null,null,null,null,null,"№45",{"$f":"_xlfn.NORM.INV(RAND(),$Z$3,$I$20)","v":3.7189876343400257},{"$f":"_xlfn.NORM.INV(RAND(),$AA$3,$O$20)","v":0.84743245879018569},2.2832100465651055,{"$f":"ROUND(AG91,0)","v":2},{"$f":"ROUND(AG92,0)","v":1},{"$f":"IF(AH91>AI91,1,\"\")","v":1},{"$f":"IF(AH91=AI91,1,\"\")","v":""},{"$f":"IF(AH91<AI91,1,\"\")","v":""},{"$f":"AH91&\"-\"&AI91","v":"2-1"}]
[null,null,null,null,null,null,null,null,null,null,null,null,null,null,null,null,null,null,null,null,null,null,null,null,null,null,null,null,null,null,{"$f":"_xlfn.NORM.INV(RAND(),$Z$4,$N$20)","v":1.707403422797432},{"$f":"_xlfn.NORM.INV(RAND(),$AA$4,$J$20)","v":0.48724919675749456},1.0973263097774633]
[null,null,null,null,null,null,null,null,null,null,null,null,null,null,null,null,null,null,null,null,null,null,null,null,null,null,null,null,null,"№46",{"$f":"_xlfn.NORM.INV(RAND(),$Z$3,$I$20)","v":4.1112508954948463},{"$f":"_xlfn.NORM.INV(RAND(),$AA$3,$O$20)","v":1.3170657831867492},2.7141583393407975,{"$f":"ROUND(AG93,0)","v":3},{"$f":"ROUND(AG94,0)","v":3},{"$f":"IF(AH93>AI93,1,\"\")","v":""},{"$f":"IF(AH93=AI93,1,\"\")","v":1},{"$f":"IF(AH93<AI93,1,\"\")","v":""},{"$f":"AH93&\"-\"&AI93","v":"3-3"}]
[null,null,null,null,null,null,null,null,null,null,null,null,null,null,null,null,null,null,null,null,null,null,null,null,null,null,null,null,null,null,{"$f":"_xlfn.NORM.INV(RAND(),$Z$4,$N$20)","v":1.8676159079979464},{"$f":"_xlfn.NORM.INV(RAND(),$AA$4,$J$20)","v":3.6100778823736861},2.7388468951858163]
[null,null,null,null,null,null,null,null,null,null,null,null,null,null,null,null,null,null,null,null,null,null,null,null,null,null,null,null,null,"№47",{"$f":"_xlfn.NORM.INV(RAND(),$Z$3,$I$20)","v":1.9871292432147736},{"$f":"_xlfn.NORM.INV(RAND(),$AA$3,$O$20)","v":-0.86367167314992899},0.5617287850324223,{"$f":"ROUND(AG95,0)","v":1},{"$f":"ROUND(AG96,0)","v":2},{"$f":"IF(AH95>AI95,1,\"\")","v":""},{"$f":"IF(AH95=AI95,1,\"\")","v":""},{"$f":"IF(AH95<AI95,1,\"\")","v":1},{"$f":"AH95&\"-\"&AI95","v":"1-2"}]
[null,null,null,null,null,null,null,null,null,null,null,null,null,null,null,null,null,null,null,null,null,null,null,null,null,null,null,null,null,null,{"$f":"_xlfn.NORM.INV(RAND(),$Z$4,$N$20)","v":2.5888067842092743},{"$f":"_xlfn.NORM.INV(RAND(),$AA$4,$J$20)","v":0.54899604065206797},1.5689014124306713]
[null,null,null,null,null,null,null,null,null,null,null,null,null,null,null,null,null,null,null,null,null,null,null,null,null,null,null,null,null,"№48",{"$f":"_xlfn.NORM.INV(RAND(),$Z$3,$I$20)","v":-0.61379667416721295},{"$f":"_xlfn.NORM.INV(RAND(),$AA$3,$O$20)","v":0.38159401609436389},-0.11610132903642453,{"$f":"ROUND(AG97,0)","v":0},{"$f":"ROUND(AG98,0)","v":1},{"$f":"IF(AH97>AI97,1,\"\")","v":""},{"$f":"IF(AH97=AI97,1,\"\")","v":""},{"$f":"IF(AH97<AI97,1,\"\")","v":1},{"$f":"AH97&\"-\"&AI97","v":"0-1"}]
[null,null,null,null,null,null,null,null,null,null,null,null,null,null,null,null,null,null,null,null,null,null,null,null,null,null,null,null,null,null,{"$f":"_xlfn.NORM.INV(RAND(),$Z$4,$N$20)","v":1.440643481164269},{"$f":"_xlfn.NORM.INV(RAND(),$AA$4,$J$20)","v":0.17718062257577416},0.80891205187002158]
[null,null,null,null,null,null,null,null,null,null,null,null,null,null,null,null,null,null,null,null,null,null,null,null,null,null,null,null,null,"№49",{"$f":"_xlfn.NORM.INV(RAND(),$Z$3,$I$20)","v":1.3144101325383368},{"$f":"_xlfn.NORM.INV(RAND(),$AA$3,$O$20)","v":0.27631733841874007},0.79536373547853845,{"$f":"ROUND(AG99,0)","v":1},{"$f":"ROUND(AG100,0)","v":1},{"$f":"IF(AH99>AI99,1,\"\")","v":""},{"$f":"IF(AH99=AI99,1,\"\")","v":1},{"$f":"IF(AH99<AI99,1,\"\")","v":""},{"$f":"AH99&\"-\"&AI99","v":"1-1"}]
[null,null,null,null,null,null,null,null,null,null,null,null,null,null,null,null,null,null,null,null,null,null,null,null,null,null,null,null,null,null,{"$f":"_xlfn.NORM.INV(RAND(),$Z$4,$N$20)","v":2.3044148793256363},{"$f":"_xlfn.NORM.INV(RAND(),$AA$4,$J$20)","v":-2.3489528074630783E-2},1.1404626756255027]
[null,null,null,null,null,null,null,null,null,null,null,null,null,null,null,null,null,null,null,null,null,null,null,null,null,null,null,null,null,"№50",{"$f":"_xlfn.NORM.INV(RAND(),$Z$3,$I$20)","v":5.3899444423001688},{"$f":"_xlfn.NORM.INV(RAND(),$AA$3,$O$20)","v":0.38375824747270471},2.8868513448864368,{"$f":"ROUND(AG101,0)","v":3},{"$f":"ROUND(AG102,0)","v":3},{"$f":"IF(AH101>AI101,1,\"\")","v":""},{"$f":"IF(AH101=AI101,1,\"\")","v":1},{"$f":"IF(AH101<AI101,1,\"\")","v":""},{"$f":"AH101&\"-\"&AI101","v":"3-3"}]
[null,null,null,null,null,null,null,null,null,null,null,null,null,null,null,null,null,null,null,null,null,null,null,null,null,null,null,null,null,null,{"$f":"_xlfn.NORM.INV(RAND(),$Z$4,$N$20)","v":1.8328613048208549},{"$f":"_xlfn.NORM.INV(RAND(),$AA$4,$J$20)","v":3.4213468783911409},2.627104091605998]
[null,null,null,null,null,null,null,null,null,null,null,null,null,null,null,null,null,null,null,null,null,null,null,null,null,null,null,null,null,"№51",{"$f":"_xlfn.NORM.INV(RAND(),$Z$3,$I$20)","v":1.0604420580673457},{"$f":"_xlfn.NORM.INV(RAND(),$AA$3,$O$20)","v":0.67467380344988592},0.86755793075861587,{"$f":"ROUND(AG103,0)","v":1},{"$f":"ROUND(AG104,0)","v":3},{"$f":"IF(AH103>AI103,1,\"\")","v":""},{"$f":"IF(AH103=AI103,1,\"\")","v":""},{"$f":"IF(AH103<AI103,1,\"\")","v":1},{"$f":"AH103&\"-\"&AI103","v":"1-3"}]
[null,null,null,null,null,null,null,null,null,null,null,null,null,null,null,null,null,null,null,null,null,null,null,null,null,null,null,null,null,null,{"$f":"_xlfn.NORM.INV(RAND(),$Z$4,$N$20)","v":1.9856530809760431},{"$f":"_xlfn.NORM.INV(RAND(),$AA$4,$J$20)","v":3.8590518654050632},2.922352473190553]
[null,null,null,null,null,null,null,null,null,null,null,null,null,null,null,null,null,null,null,null,null,null,null,null,null,null,null,null,null,"№52",{"$f":"_xlfn.NORM.INV(RAND(),$Z$3,$I$20)","v":6.9822011511654569E-2},{"$f":"_xlfn.NORM.INV(RAND(),$AA$3,$O$20)","v":-8.8989615541132161E-2},-9.5838020147387959E-3,{"$f":"ROUND(AG105,0)","v":0},{"$f":"ROUND(AG106,0)","v":1},{"$f":"IF(AH105>AI105,1,\"\")","v":""},{"$f":"IF(AH105=AI105,1,\"\")","v":""},{"$f":"IF(AH105<AI105,1,\"\")","v":1},{"$f":"AH105&\"-\"&AI105","v":"0-1"}]
[null,null,null,null,null,null,null,null,null,null,null,null,null,null,null,null,null,null,null,null,null,null,null,null,null,null,null,null,null,null,{"$f":"_xlfn.NORM.INV(RAND(),$Z$4,$N$20)","v":1.4535791762325014},{"$f":"_xlfn.NORM.INV(RAND(),$AA$4,$J$20)","v":0.18116349605291515},0.81737133614270829]
[null,null,null,null,null,null,null,null,null,null,null,null,null,null,null,null,null,null,null,null,null,null,null,null,null,null,null,null,null,"№53",{"$f":"_xlfn.NORM.INV(RAND(),$Z$3,$I$20)","v":4.6664252693226933},{"$f":"_xlfn.NORM.INV(RAND(),$AA$3,$O$20)","v":1.9668689766682164},3.3166471229954548,{"$f":"ROUND(AG107,0)","v":3},{"$f":"ROUND(AG108,0)","v":2},{"$f":"IF(AH107>AI107,1,\"\")","v":1},{"$f":"IF(AH107=AI107,1,\"\")","v":""},{"$f":"IF(AH107<AI107,1,\"\")","v":""},{"$f":"AH107&\"-\"&AI107","v":"3-2"}]
[null,null,null,null,null,null,null,null,null,null,null,null,null,null,null,null,null,null,null,null,null,null,null,null,null,null,null,null,null,null,{"$f":"_xlfn.NORM.INV(RAND(),$Z$4,$N$20)","v":3.0793187954770271},{"$f":"_xlfn.NORM.INV(RAND(),$AA$4,$J$20)","v":0.68870364871445211},1.8840112220957397]
[null,null,null,null,null,null,null,null,null,null,null,null,null,null,null,null,null,null,null,null,null,null,null,null,null,null,null,null,null,"№54",{"$f":"_xlfn.NORM.INV(RAND(),$Z$3,$I$20)","v":1.8880512958749629},{"$f":"_xlfn.NORM.INV(RAND(),$AA$3,$O$20)","v":0.70487537008649681},1.2964633329807298,{"$f":"ROUND(AG109,0)","v":1},{"$f":"ROUND(AG110,0)","v":3},{"$f":"IF(AH109>AI109,1,\"\")","v":""},{"$f":"IF(AH109=AI109,1,\"\")","v":""},{"$f":"IF(AH109<AI109,1,\"\")","v":1},{"$f":"AH109&\"-\"&AI109","v":"1-3"}]
[null,null,null,null,null,null,null,null,null,null,null,null,null,null,null,null,null,null,null,null,null,null,null,null,null,null,null,null,null,null,{"$f":"_xlfn.NORM.INV(RAND(),$Z$4,$N$20)","v":2.4894722849813591},{"$f":"_xlfn.NORM.INV(RAND(),$AA$4,$J$20)","v":3.0592841797907999},2.7743782323860797]
[null,null,null,null,null,null,null,null,null,null,null,null,null,null,null,null,null,null,null,null,null,null,null,null,null,null,null,null,null,"№55",{"$f":"_xlfn.NORM.INV(RAND(),$Z$3,$I$20)","v":3.0730808001900041},{"$f":"_xlfn.NORM.INV(RAND(),$AA$3,$O$20)","v":-0.78638376067564475},1.1433485197571795,{"$f":"ROUND(AG111,0)","v":1},{"$f":"ROUND(AG112,0)","v":2},{"$f":"IF(AH111>AI111,1,\"\")","v":""},{"$f":"IF(AH111=AI111,1,\"\")","v":""},{"$f":"IF(AH111<AI111,1,\"\")","v":1},{"$f":"AH111&\"-\"&AI111","v":"1-2"}]
[null,null,null,null,null,null,null,null,null,null,null,null,null,null,null,null,null,null,null,null,null,null,null,null,null,null,null,null,null,null,{"$f":"_xlfn.NORM.INV(RAND(),$Z$4,$N$20)","v":2.2532214415430651},{"$f":"_xlfn.NORM.INV(RAND(),$AA$4,$J$20)","v":2.6348735043098062},2.4440474729264356]
[null,null,null,null,null,null,null,null,null,null,null,null,null,null,null,null,null,null,null,null,null,null,null,null,null,null,null,null,null,"№56",{"$f":"_xlfn.NORM.INV(RAND(),$Z$3,$I$20)","v":2.5546443598126025},{"$f":"_xlfn.NORM.INV(RAND(),$AA$3,$O$20)","v":1.4765889186014731},2.015616639207038,{"$f":"ROUND(AG113,0)","v":2},{"$f":"ROUND(AG114,0)","v":0},{"$f":"IF(AH113>AI113,1,\"\")","v":1},{"$f":"IF(AH113=AI113,1,\"\")","v":""},{"$f":"IF(AH113<AI113,1,\"\")","v":""},{"$f":"AH113&\"-\"&AI113","v":"2-0"}]
[null,null,null,null,null,null,null,null,null,null,null,null,null,null,null,null,null,null,null,null,null,null,null,null,null,null,null,null,null,null,{"$f":"_xlfn.NORM.INV(RAND(),$Z$4,$N$20)","v":1.5858672412640413},{"$f":"_xlfn.NORM.INV(RAND(),$AA$4,$J$20)","v":-1.1653012272276371},0.21028300701820213]
[null,null,null,null,null,null,null,null,null,null,null,null,null,null,null,null,null,null,null,null,null,null,null,null,null,null,null,null,null,"№57",{"$f":"_xlfn.NORM.INV(RAND(),$Z$3,$I$20)","v":3.8145190491522869},{"$f":"_xlfn.NORM.INV(RAND(),$AA$3,$O$20)","v":0.19809289338536984},2.0063059712688283,{"$f":"ROUND(AG115,0)","v":2},{"$f":"ROUND(AG116,0)","v":2},{"$f":"IF(AH115>AI115,1,\"\")","v":""},{"$f":"IF(AH115=AI115,1,\"\")","v":1},{"$f":"IF(AH115<AI115,1,\"\")","v":""},{"$f":"AH115&\"-\"&AI115","v":"2-2"}]
[null,null,null,null,null,null,null,null,null,null,null,null,null,null,null,null,null,null,null,null,null,null,null,null,null,null,null,null,null,null,{"$f":"_xlfn.NORM.INV(RAND(),$Z$4,$N$20)","v":2.6378893725060677},{"$f":"_xlfn.NORM.INV(RAND(),$AA$4,$J$20)","v":0.62936001209369352},1.6336246922998807]
[null,null,null,null,null,null,null,null,null,null,null,null,null,null,null,null,null,null,null,null,null,null,null,null,null,null,null,null,null,"№58",{"$f":"_xlfn.NORM.INV(RAND(),$Z$3,$I$20)","v":3.8297803832457862},{"$f":"_xlfn.NORM.INV(RAND(),$AA$3,$O$20)","v":0.57958740485199967},2.2046838940488929,{"$f":"ROUND(AG117,0)","v":2},{"$f":"ROUND(AG118,0)","v":3},{"$f":"IF(AH117>AI117,1,\"\")","v":""},{"$f":"IF(AH117=AI117,1,\"\")","v":""},{"$f":"IF(AH117<AI117,1,\"\")","v":1},{"$f":"AH117&\"-\"&AI117","v":"2-3"}]
[null,null,null,null,null,null,null,null,null,null,null,null,null,null,null,null,null,null,null,null,null,null,null,null,null,null,null,null,null,null,{"$f":"_xlfn.NORM.INV(RAND(),$Z$4,$N$20)","v":2.0419290475286025},{"$f":"_xlfn.NORM.INV(RAND(),$AA$4,$J$20)","v":3.1463636381593432},2.5941463428439731]
[null,null,null,null,null,null,null,null,null,null,null,null,null,null,null,null,null,null,null,null,null,null,null,null,null,null,null,null,null,"№59",{"$f":"_xlfn.NORM.INV(RAND(),$Z$3,$I$20)","v":3.1756914684085649},{"$f":"_xlfn.NORM.INV(RAND(),$AA$3,$O$20)","v":0.86625194764814295},2.020971708028354,{"$f":"ROUND(AG119,0)","v":2},{"$f":"ROUND(AG120,0)","v":1},{"$f":"IF(AH119>AI119,1,\"\")","v":1},{"$f":"IF(AH119=AI119,1,\"\")","v":""},{"$f":"IF(AH119<AI119,1,\"\")","v":""},{"$f":"AH119&\"-\"&AI119","v":"2-1"}]
[null,null,null,null,null,null,null,null,null,null,null,null,null,null,null,null,null,null,null,null,null,null,null,null,null,null,null,null,null,null,{"$f":"_xlfn.NORM.INV(RAND(),$Z$4,$N$20)","v":2.5560091624856911},{"$f":"_xlfn.NORM.INV(RAND(),$AA$4,$J$20)","v":-0.80928671641398964},0.87336122303585073]
[null,null,null,null,null,null,null,null,null,null,null,null,null,null,null,null,null,null,null,null,null,null,null,null,null,null,null,null,null,"№60",{"$f":"_xlfn.NORM.INV(RAND(),$Z$3,$I$20)","v":2.2424962021421493},{"$f":"_xlfn.NORM.INV(RAND(),$AA$3,$O$20)","v":-0.48487893480837285},0.87880863366688822,{"$f":"ROUND(AG121,0)","v":1},{"$f":"ROUND(AG122,0)","v":1},{"$f":"IF(AH121>AI121,1,\"\")","v":""},{"$f":"IF(AH121=AI121,1,\"\")","v":1},{"$f":"IF(AH121<AI121,1,\"\")","v":""},{"$f":"AH121&\"-\"&AI121","v":"1-1"}]
[null,null,null,null,null,null,null,null,null,null,null,null,null,null,null,null,null,null,null,null,null,null,null,null,null,null,null,null,null,null,{"$f":"_xlfn.NORM.INV(RAND(),$Z$4,$N$20)","v":2.011890676994434},{"$f":"_xlfn.NORM.INV(RAND(),$AA$4,$J$20)","v":0.94444782693356177},1.478169251963998]
[null,null,null,null,null,null,null,null,null,null,null,null,null,null,null,null,null,null,null,null,null,null,null,null,null,null,null,null,null,"№61",{"$f":"_xlfn.NORM.INV(RAND(),$Z$3,$I$20)","v":2.6920526212976679},{"$f":"_xlfn.NORM.INV(RAND(),$AA$3,$O$20)","v":-0.64420627696923005},1.0239231721642188,{"$f":"ROUND(AG123,0)","v":1},{"$f":"ROUND(AG124,0)","v":1},{"$f":"IF(AH123>AI123,1,\"\")","v":""},{"$f":"IF(AH123=AI123,1,\"\")","v":1},{"$f":"IF(AH123<AI123,1,\"\")","v":""},{"$f":"AH123&\"-\"&AI123","v":"1-1"}]
[null,null,null,null,null,null,null,null,null,null,null,null,null,null,null,null,null,null,null,null,null,null,null,null,null,null,null,null,null,null,{"$f":"_xlfn.NORM.INV(RAND(),$Z$4,$N$20)","v":2.726617590157697},{"$f":"_xlfn.NORM.INV(RAND(),$AA$4,$J$20)","v":-0.95677214413703116},0.88492272301033292]
[null,null,null,null,null,null,null,null,null,null,null,null,null,null,null,null,null,null,null,null,null,null,null,null,null,null,null,null,null,"№62",{"$f":"_xlfn.NORM.INV(RAND(),$Z$3,$I$20)","v":3.2608350017910679},{"$f":"_xlfn.NORM.INV(RAND(),$AA$3,$O$20)","v":-0.57440903861453196},1.3432129815882679,{"$f":"ROUND(AG125,0)","v":1},{"$f":"ROUND(AG126,0)","v":2},{"$f":"IF(AH125>AI125,1,\"\")","v":""},{"$f":"IF(AH125=AI125,1,\"\")","v":""},{"$f":"IF(AH125<AI125,1,\"\")","v":1},{"$f":"AH125&\"-\"&AI125","v":"1-2"}]
[null,null,null,null,null,null,null,null,null,null,null,null,null,null,null,null,null,null,null,null,null,null,null,null,null,null,null,null,null,null,{"$f":"_xlfn.NORM.INV(RAND(),$Z$4,$N$20)","v":2.6926698495813666},{"$f":"_xlfn.NORM.INV(RAND(),$AA$4,$J$20)","v":2.1487665401624141},2.4207181948718901]
[null,null,null,null,null,null,null,null,null,null,null,null,null,null,null,null,null,null,null,null,null,null,null,null,null,null,null,null,null,"№63",{"$f":"_xlfn.NORM.INV(RAND(),$Z$3,$I$20)","v":1.372088542722731},{"$f":"_xlfn.NORM.INV(RAND(),$AA$3,$O$20)","v":-0.1753388687838483},0.59837483696944127,{"$f":"ROUND(AG127,0)","v":1},{"$f":"ROUND(AG128,0)","v":3},{"$f":"IF(AH127>AI127,1,\"\")","v":""},{"$f":"IF(AH127=AI127,1,\"\")","v":""},{"$f":"IF(AH127<AI127,1,\"\")","v":1},{"$f":"AH127&\"-\"&AI127","v":"1-3"}]
[null,null,null,null,null,null,null,null,null,null,null,null,null,null,null,null,null,null,null,null,null,null,null,null,null,null,null,null,null,null,{"$f":"_xlfn.NORM.INV(RAND(),$Z$4,$N$20)","v":2.823659051636715},{"$f":"_xlfn.NORM.INV(RAND(),$AA$4,$J$20)","v":2.5455000699096568},2.6845795607731859]
[null,null,null,null,null,null,null,null,null,null,null,null,null,null,null,null,null,null,null,null,null,null,null,null,null,null,null,null,null,"№64",{"$f":"_xlfn.NORM.INV(RAND(),$Z$3,$I$20)","v":1.6398890177587671},{"$f":"_xlfn.NORM.INV(RAND(),$AA$3,$O$20)","v":0.21630522304735911},0.92809712040306303,{"$f":"ROUND(AG129,0)","v":1},{"$f":"ROUND(AG130,0)","v":2},{"$f":"IF(AH129>AI129,1,\"\")","v":""},{"$f":"IF(AH129=AI129,1,\"\")","v":""},{"$f":"IF(AH129<AI129,1,\"\")","v":1},{"$f":"AH129&\"-\"&AI129","v":"1-2"}]
[null,null,null,null,null,null,null,null,null,null,null,null,null,null,null,null,null,null,null,null,null,null,null,null,null,null,null,null,null,null,{"$f":"_xlfn.NORM.INV(RAND(),$Z$4,$N$20)","v":1.5733514645340252},{"$f":"_xlfn.NORM.INV(RAND(),$AA$4,$J$20)","v":1.5756159090133317},1.5744836867736784]
[null,null,null,null,null,null,null,null,null,null,null,null,null,null,null,null,null,null,null,null,null,null,null,null,null,null,null,null,null,"№65",{"$f":"_xlfn.NORM.INV(RAND(),$Z$3,$I$20)","v":4.3548324184597664},{"$f":"_xlfn.NORM.INV(RAND(),$AA$3,$O$20)","v":-0.24698734577512482},2.0539225363423208,{"$f":"ROUND(AG131,0)","v":2},{"$f":"ROUND(AG132,0)","v":1},{"$f":"IF(AH131>AI131,1,\"\")","v":1},{"$f":"IF(AH131=AI131,1,\"\")","v":""},{"$f":"IF(AH131<AI131,1,\"\")","v":""},{"$f":"AH131&\"-\"&AI131","v":"2-1"}]
[null,null,null,null,null,null,null,null,null,null,null,null,null,null,null,null,null,null,null,null,null,null,null,null,null,null,null,null,null,null,{"$f":"_xlfn.NORM.INV(RAND(),$Z$4,$N$20)","v":2.267868363918033},{"$f":"_xlfn.NORM.INV(RAND(),$AA$4,$J$20)","v":-0.7529604515131374},0.75745395620244782]
[null,null,null,null,null,null,null,null,null,null,null,null,null,null,null,null,null,null,null,null,null,null,null,null,null,null,null,null,null,"№66",{"$f":"_xlfn.NORM.INV(RAND(),$Z$3,$I$20)","v":4.1421641348863663},{"$f":"_xlfn.NORM.INV(RAND(),$AA$3,$O$20)","v":1.4525748259052718},{"$f":"(AE133+AF133)/2","v":2.7973694803958189},{"$f":"ROUND(AG133,0)","v":3},{"$f":"ROUND(AG134,0)","v":2},{"$f":"IF(AH133>AI133,1,\"\")","v":1},{"$f":"IF(AH133=AI133,1,\"\")","v":""},{"$f":"IF(AH133<AI133,1,\"\")","v":""},{"$f":"AH133&\"-\"&AI133","v":"3-2"}]
[null,null,null,null,null,null,null,null,null,null,null,null,null,null,null,null,null,null,null,null,null,null,null,null,null,null,null,null,null,null,{"$f":"_xlfn.NORM.INV(RAND(),$Z$4,$N$20)","v":2.2162847010639899},{"$f":"_xlfn.NORM.INV(RAND(),$AA$4,$J$20)","v":1.0982160058101496},1.6572503534370697]
[null,null,null,null,null,null,null,null,null,null,null,null,null,null,null,null,null,null,null,null,null,null,null,null,null,null,null,null,null,"№67",{"$f":"_xlfn.NORM.INV(RAND(),$Z$3,$I$20)","v":4.2083014511013612},{"$f":"_xlfn.NORM.INV(RAND(),$AA$3,$O$20)","v":1.0500370161143524},2.6291692336078567,{"$f":"ROUND(AG135,0)","v":3},{"$f":"ROUND(AG136,0)","v":1},{"$f":"IF(AH135>AI135,1,\"\")","v":1},{"$f":"IF(AH135=AI135,1,\"\")","v":""},{"$f":"IF(AH135<AI135,1,\"\")","v":""},{"$f":"AH135&\"-\"&AI135","v":"3-1"}]
[null,null,null,null,null,null,null,null,null,null,null,null,null,null,null,null,null,null,null,null,null,null,null,null,null,null,null,null,null,null,{"$f":"_xlfn.NORM.INV(RAND(),$Z$4,$N$20)","v":1.3567600265622413},{"$f":"_xlfn.NORM.INV(RAND(),$AA$4,$J$20)","v":0.57197034835663363},0.96436518745943745]
[null,null,null,null,null,null,null,null,null,null,null,null,null,null,null,null,null,null,null,null,null,null,null,null,null,null,null,null,null,"№68",{"$f":"_xlfn.NORM.INV(RAND(),$Z$3,$I$20)","v":1.9811076712487632},{"$f":"_xlfn.NORM.INV(RAND(),$AA$3,$O$20)","v":0.35919470748001114},1.1701511893643872,{"$f":"ROUND(AG137,0)","v":1},{"$f":"ROUND(AG138,0)","v":0},{"$f":"IF(AH137>AI137,1,\"\")","v":1},{"$f":"IF(AH137=AI137,1,\"\")","v":""},{"$f":"IF(AH137<AI137,1,\"\")","v":""},{"$f":"AH137&\"-\"&AI137","v":"1-0"}]
[null,null,null,null,null,null,null,null,null,null,null,null,null,null,null,null,null,null,null,null,null,null,null,null,null,null,null,null,null,null,{"$f":"_xlfn.NORM.INV(RAND(),$Z$4,$N$20)","v":2.8392989320108719},{"$f":"_xlfn.NORM.INV(RAND(),$AA$4,$J$20)","v":-1.9780925816805075},0.43060317516518221]
[null,null,null,null,null,null,null,null,null,null,null,null,null,null,null,null,null,null,null,null,null,null,null,null,null,null,null,null,null,"№69",{"$f":"_xlfn.NORM.INV(RAND(),$Z$3,$I$20)","v":2.9057360061706969},{"$f":"_xlfn.NORM.INV(RAND(),$AA$3,$O$20)","v":1.7180452288344732},2.3118906175025851,{"$f":"ROUND(AG139,0)","v":2},{"$f":"ROUND(AG140,0)","v":2},{"$f":"IF(AH139>AI139,1,\"\")","v":""},{"$f":"IF(AH139=AI139,1,\"\")","v":1},{"$f":"IF(AH139<AI139,1,\"\")","v":""},{"$f":"AH139&\"-\"&AI139","v":"2-2"}]
[null,null,null,null,null,null,null,null,null,null,null,null,null,null,null,null,null,null,null,null,null,null,null,null,null,null,null,null,null,null,{"$f":"_xlfn.NORM.INV(RAND(),$Z$4,$N$20)","v":1.5035085065471352},{"$f":"_xlfn.NORM.INV(RAND(),$AA$4,$J$20)","v":1.7973999383372965},1.6504542224422158]
[null,null,null,null,null,null,null,null,null,null,null,null,null,null,null,null,null,null,null,null,null,null,null,null,null,null,null,null,null,"№70",{"$f":"_xlfn.NORM.INV(RAND(),$Z$3,$I$20)","v":2.7495089171980198},{"$f":"_xlfn.NORM.INV(RAND(),$AA$3,$O$20)","v":1.5378869693286532},2.1436979432633363,{"$f":"ROUND(AG141,0)","v":2},{"$f":"ROUND(AG142,0)","v":1},{"$f":"IF(AH141>AI141,1,\"\")","v":1},{"$f":"IF(AH141=AI141,1,\"\")","v":""},{"$f":"IF(AH141<AI141,1,\"\")","v":""},{"$f":"AH141&\"-\"&AI141","v":"2-1"}]
[null,null,null,null,null,null,null,null,null,null,null,null,null,null,null,null,null,null,null,null,null,null,null,null,null,null,null,null,null,null,{"$f":"_xlfn.NORM.INV(RAND(),$Z$4,$N$20)","v":2.2183329753193721},{"$f":"_xlfn.NORM.INV(RAND(),$AA$4,$J$20)","v":-0.5376174046596689},0.84035778532985161]
[null,null,null,null,null,null,null,null,null,null,null,null,null,null,null,null,null,null,null,null,null,null,null,null,null,null,null,null,null,"№71",{"$f":"_xlfn.NORM.INV(RAND(),$Z$3,$I$20)","v":3.0602174248092786},{"$f":"_xlfn.NORM.INV(RAND(),$AA$3,$O$20)","v":-1.113019110087627},0.97359915736082581,{"$f":"ROUND(AG143,0)","v":1},{"$f":"ROUND(AG144,0)","v":4},{"$f":"IF(AH143>AI143,1,\"\")","v":""},{"$f":"IF(AH143=AI143,1,\"\")","v":""},{"$f":"IF(AH143<AI143,1,\"\")","v":1},{"$f":"AH143&\"-\"&AI143","v":"1-4"}]
[null,null,null,null,null,null,null,null,null,null,null,null,null,null,null,null,null,null,null,null,null,null,null,null,null,null,null,null,null,null,{"$f":"_xlfn.NORM.INV(RAND(),$Z$4,$N$20)","v":2.4880348077041039},{"$f":"_xlfn.NORM.INV(RAND(),$AA$4,$J$20)","v":5.2623907433105908},3.8752127755073476]
[null,null,null,null,null,null,null,null,null,null,null,null,null,null,null,null,null,null,null,null,null,null,null,null,null,null,null,null,null,"№72",{"$f":"_xlfn.NORM.INV(RAND(),$Z$3,$I$20)","v":2.6978312736162802},{"$f":"_xlfn.NORM.INV(RAND(),$AA$3,$O$20)","v":1.8351568868670431},2.2664940802416615,{"$f":"ROUND(AG145,0)","v":2},{"$f":"ROUND(AG146,0)","v":3},{"$f":"IF(AH145>AI145,1,\"\")","v":""},{"$f":"IF(AH145=AI145,1,\"\")","v":""},{"$f":"IF(AH145<AI145,1,\"\")","v":1},{"$f":"AH145&\"-\"&AI145","v":"2-3"}]
[null,null,null,null,null,null,null,null,null,null,null,null,null,null,null,null,null,null,null,null,null,null,null,null,null,null,null,null,null,null,{"$f":"_xlfn.NORM.INV(RAND(),$Z$4,$N$20)","v":3.6053654405414415},{"$f":"_xlfn.NORM.INV(RAND(),$AA$4,$J$20)","v":2.8353902222774963},3.2203778314094689]
[null,null,null,null,null,null,null,null,null,null,null,null,null,null,null,null,null,null,null,null,null,null,null,null,null,null,null,null,null,"№73",{"$f":"_xlfn.NORM.INV(RAND(),$Z$3,$I$20)","v":5.4602031499971737},{"$f":"_xlfn.NORM.INV(RAND(),$AA$3,$O$20)","v":0.65029996325634565},3.0552515566267595,{"$f":"ROUND(AG147,0)","v":3},{"$f":"ROUND(AG148,0)","v":3},{"$f":"IF(AH147>AI147,1,\"\")","v":""},{"$f":"IF(AH147=AI147,1,\"\")","v":1},{"$f":"IF(AH147<AI147,1,\"\")","v":""},{"$f":"AH147&\"-\"&AI147","v":"3-3"}]
[null,null,null,null,null,null,null,null,null,null,null,null,null,null,null,null,null,null,null,null,null,null,null,null,null,null,null,null,null,null,{"$f":"_xlfn.NORM.INV(RAND(),$Z$4,$N$20)","v":2.7042099122034204},{"$f":"_xlfn.NORM.INV(RAND(),$AA$4,$J$20)","v":4.0569909039328129},3.3806004080681165]
[null,null,null,null,null,null,null,null,null,null,null,null,null,null,null,null,null,null,null,null,null,null,null,null,null,null,null,null,null,"№74",{"$f":"_xlfn.NORM.INV(RAND(),$Z$3,$I$20)","v":3.7292473959195678},{"$f":"_xlfn.NORM.INV(RAND(),$AA$3,$O$20)","v":1.3819035068661787},2.5555754513928735,{"$f":"ROUND(AG149,0)","v":3},{"$f":"ROUND(AG150,0)","v":1},{"$f":"IF(AH149>AI149,1,\"\")","v":1},{"$f":"IF(AH149=AI149,1,\"\")","v":""},{"$f":"IF(AH149<AI149,1,\"\")","v":""},{"$f":"AH149&\"-\"&AI149","v":"3-1"}]
[null,null,null,null,null,null,null,null,null,null,null,null,null,null,null,null,null,null,null,null,null,null,null,null,null,null,null,null,null,null,{"$f":"_xlfn.NORM.INV(RAND(),$Z$4,$N$20)","v":1.8719318467343644},{"$f":"_xlfn.NORM.INV(RAND(),$AA$4,$J$20)","v":1.0124704314745254},1.4422011391044449]
[null,null,null,null,null,null,null,null,null,null,null,null,null,null,null,null,null,null,null,null,null,null,null,null,null,null,null,null,null,"№75",{"$f":"_xlfn.NORM.INV(RAND(),$Z$3,$I$20)","v":5.8439020810226214},{"$f":"_xlfn.NORM.INV(RAND(),$AA$3,$O$20)","v":-0.2497773672930268},2.7970623568647972,{"$f":"ROUND(AG151,0)","v":3},{"$f":"ROUND(AG152,0)","v":2},{"$f":"IF(AH151>AI151,1,\"\")","v":1},{"$f":"IF(AH151=AI151,1,\"\")","v":""},{"$f":"IF(AH151<AI151,1,\"\")","v":""},{"$f":"AH151&\"-\"&AI151","v":"3-2"}]
[null,null,null,null,null,null,null,null,null,null,null,null,null,null,null,null,null,null,null,null,null,null,null,null,null,null,null,null,null,null,{"$f":"_xlfn.NORM.INV(RAND(),$Z$4,$N$20)","v":2.4855664504561541},{"$f":"_xlfn.NORM.INV(RAND(),$AA$4,$J$20)","v":1.8114603872486574},2.1485134188524055]
[null,null,null,null,null,null,null,null,null,null,null,null,null,null,null,null,null,null,null,null,null,null,null,null,null,null,null,null,null,"№76",{"$f":"_xlfn.NORM.INV(RAND(),$Z$3,$I$20)","v":3.7064341160411116},{"$f":"_xlfn.NORM.INV(RAND(),$AA$3,$O$20)","v":1.7832819411171685},2.7448580285791402,{"$f":"ROUND(AG153,0)","v":3},{"$f":"ROUND(AG154,0)","v":3},{"$f":"IF(AH153>AI153,1,\"\")","v":""},{"$f":"IF(AH153=AI153,1,\"\")","v":1},{"$f":"IF(AH153<AI153,1,\"\")","v":""},{"$f":"AH153&\"-\"&AI153","v":"3-3"}]
[null,null,null,null,null,null,null,null,null,null,null,null,null,null,null,null,null,null,null,null,null,null,null,null,null,null,null,null,null,null,{"$f":"_xlfn.NORM.INV(RAND(),$Z$4,$N$20)","v":1.8526127444876999},{"$f":"_xlfn.NORM.INV(RAND(),$AA$4,$J$20)","v":4.1308606699380297},2.9917367072128647]
[null,null,null,null,null,null,null,null,null,null,null,null,null,null,null,null,null,null,null,null,null,null,null,null,null,null,null,null,null,"№77",{"$f":"_xlfn.NORM.INV(RAND(),$Z$3,$I$20)","v":2.8423912340207194},{"$f":"_xlfn.NORM.INV(RAND(),$AA$3,$O$20)","v":4.5171976747616416E-2},1.4437816053841679,{"$f":"ROUND(AG155,0)","v":1},{"$f":"ROUND(AG156,0)","v":1},{"$f":"IF(AH155>AI155,1,\"\")","v":""},{"$f":"IF(AH155=AI155,1,\"\")","v":1},{"$f":"IF(AH155<AI155,1,\"\")","v":""},{"$f":"AH155&\"-\"&AI155","v":"1-1"}]
[null,null,null,null,null,null,null,null,null,null,null,null,null,null,null,null,null,null,null,null,null,null,null,null,null,null,null,null,null,null,{"$f":"_xlfn.NORM.INV(RAND(),$Z$4,$N$20)","v":2.2857107530052985},{"$f":"_xlfn.NORM.INV(RAND(),$AA$4,$J$20)","v":0.64417168902213962},1.4649412210137189]
[null,null,null,null,null,null,null,null,null,null,null,null,null,null,null,null,null,null,null,null,null,null,null,null,null,null,null,null,null,"№78",{"$f":"_xlfn.NORM.INV(RAND(),$Z$3,$I$20)","v":3.4579473964562584},{"$f":"_xlfn.NORM.INV(RAND(),$AA$3,$O$20)","v":0.13344318059935167},1.795695288527805,{"$f":"ROUND(AG157,0)","v":2},{"$f":"ROUND(AG158,0)","v":2},{"$f":"IF(AH157>AI157,1,\"\")","v":""},{"$f":"IF(AH157=AI157,1,\"\")","v":1},{"$f":"IF(AH157<AI157,1,\"\")","v":""},{"$f":"AH157&\"-\"&AI157","v":"2-2"}]
[null,null,null,null,null,null,null,null,null,null,null,null,null,null,null,null,null,null,null,null,null,null,null,null,null,null,null,null,null,null,{"$f":"_xlfn.NORM.INV(RAND(),$Z$4,$N$20)","v":3.8457853399506208},{"$f":"_xlfn.NORM.INV(RAND(),$AA$4,$J$20)","v":0.6826846172939175},2.2642349786222691]
[null,null,null,null,null,null,null,null,null,null,null,null,null,null,null,null,null,null,null,null,null,null,null,null,null,null,null,null,null,"№79",{"$f":"_xlfn.NORM.INV(RAND(),$Z$3,$I$20)","v":1.7571791622236301},{"$f":"_xlfn.NORM.INV(RAND(),$AA$3,$O$20)","v":1.1030598702755892},1.4301195162496096,{"$f":"ROUND(AG159,0)","v":1},{"$f":"ROUND(AG160,0)","v":3},{"$f":"IF(AH159>AI159,1,\"\")","v":""},{"$f":"IF(AH159=AI159,1,\"\")","v":""},{"$f":"IF(AH159<AI159,1,\"\")","v":1},{"$f":"AH159&\"-\"&AI159","v":"1-3"}]
[null,null,null,null,null,null,null,null,null,null,null,null,null,null,null,null,null,null,null,null,null,null,null,null,null,null,null,null,null,null,{"$f":"_xlfn.NORM.INV(RAND(),$Z$4,$N$20)","v":3.42770108397628},{"$f":"_xlfn.NORM.INV(RAND(),$AA$4,$J$20)","v":2.2479833228169772},2.8378422033966286]
[null,null,null,null,null,null,null,null,null,null,null,null,null,null,null,null,null,null,null,null,null,null,null,null,null,null,null,null,null,"№80",{"$f":"_xlfn.NORM.INV(RAND(),$Z$3,$I$20)","v":4.7530224677034179},{"$f":"_xlfn.NORM.INV(RAND(),$AA$3,$O$20)","v":0.68279162361832468},2.7179070456608714,{"$f":"ROUND(AG161,0)","v":3},{"$f":"ROUND(AG162,0)","v":2},{"$f":"IF(AH161>AI161,1,\"\")","v":1},{"$f":"IF(AH161=AI161,1,\"\")","v":""},{"$f":"IF(AH161<AI161,1,\"\")","v":""},{"$f":"AH161&\"-\"&AI161","v":"3-2"}]
[null,null,null,null,null,null,null,null,null,null,null,null,null,null,null,null,null,null,null,null,null,null,null,null,null,null,null,null,null,null,{"$f":"_xlfn.NORM.INV(RAND(),$Z$4,$N$20)","v":1.5460487476548668},{"$f":"_xlfn.NORM.INV(RAND(),$AA$4,$J$20)","v":2.082766704391477},1.8144077260231719]
[null,null,null,null,null,null,null,null,null,null,null,null,null,null,null,null,null,null,null,null,null,null,null,null,null,null,null,null,null,"№81",{"$f":"_xlfn.NORM.INV(RAND(),$Z$3,$I$20)","v":2.2851084624968285},{"$f":"_xlfn.NORM.INV(RAND(),$AA$3,$O$20)","v":-0.10408394550317512},1.0905122584968268,{"$f":"ROUND(AG163,0)","v":1},{"$f":"ROUND(AG164,0)","v":2},{"$f":"IF(AH163>AI163,1,\"\")","v":""},{"$f":"IF(AH163=AI163,1,\"\")","v":""},{"$f":"IF(AH163<AI163,1,\"\")","v":1},{"$f":"AH163&\"-\"&AI163","v":"1-2"}]
[null,null,null,null,null,null,null,null,null,null,null,null,null,null,null,null,null,null,null,null,null,null,null,null,null,null,null,null,null,null,{"$f":"_xlfn.NORM.INV(RAND(),$Z$4,$N$20)","v":2.0235529238905978},{"$f":"_xlfn.NORM.INV(RAND(),$AA$4,$J$20)","v":1.486828713034958},1.7551908184627778]
[null,null,null,null,null,null,null,null,null,null,null,null,null,null,null,null,null,null,null,null,null,null,null,null,null,null,null,null,null,"№82",{"$f":"_xlfn.NORM.INV(RAND(),$Z$3,$I$20)","v":3.1056919139489265},{"$f":"_xlfn.NORM.INV(RAND(),$AA$3,$O$20)","v":0.89472267078702505},2.0002072923679757,{"$f":"ROUND(AG165,0)","v":2},{"$f":"ROUND(AG166,0)","v":1},{"$f":"IF(AH165>AI165,1,\"\")","v":1},{"$f":"IF(AH165=AI165,1,\"\")","v":""},{"$f":"IF(AH165<AI165,1,\"\")","v":""},{"$f":"AH165&\"-\"&AI165","v":"2-1"}]
[null,null,null,null,null,null,null,null,null,null,null,null,null,null,null,null,null,null,null,null,null,null,null,null,null,null,null,null,null,null,{"$f":"_xlfn.NORM.INV(RAND(),$Z$4,$N$20)","v":2.3147095291695181},{"$f":"_xlfn.NORM.INV(RAND(),$AA$4,$J$20)","v":-0.22815647148067808},1.0432765288444199]
[null,null,null,null,null,null,null,null,null,null,null,null,null,null,null,null,null,null,null,null,null,null,null,null,null,null,null,null,null,"№83",{"$f":"_xlfn.NORM.INV(RAND(),$Z$3,$I$20)","v":3.5158814799372471},{"$f":"_xlfn.NORM.INV(RAND(),$AA$3,$O$20)","v":1.0541020084516501},2.2849917441944485,{"$f":"ROUND(AG167,0)","v":2},{"$f":"ROUND(AG168,0)","v":2},{"$f":"IF(AH167>AI167,1,\"\")","v":""},{"$f":"IF(AH167=AI167,1,\"\")","v":1},{"$f":"IF(AH167<AI167,1,\"\")","v":""},{"$f":"AH167&\"-\"&AI167","v":"2-2"}]
[null,null,null,null,null,null,null,null,null,null,null,null,null,null,null,null,null,null,null,null,null,null,null,null,null,null,null,null,null,null,{"$f":"_xlfn.NORM.INV(RAND(),$Z$4,$N$20)","v":2.355213844378329},{"$f":"_xlfn.NORM.INV(RAND(),$AA$4,$J$20)","v":2.4696292833042719},2.4124215638413005]
[null,null,null,null,null,null,null,null,null,null,null,null,null,null,null,null,null,null,null,null,null,null,null,null,null,null,null,null,null,"№84",{"$f":"_xlfn.NORM.INV(RAND(),$Z$3,$I$20)","v":4.3263267791379434},{"$f":"_xlfn.NORM.INV(RAND(),$AA$3,$O$20)","v":1.2868977818762253},2.8066122805070846,{"$f":"ROUND(AG169,0)","v":3},{"$f":"ROUND(AG170,0)","v":3},{"$f":"IF(AH169>AI169,1,\"\")","v":""},{"$f":"IF(AH169=AI169,1,\"\")","v":1},{"$f":"IF(AH169<AI169,1,\"\")","v":""},{"$f":"AH169&\"-\"&AI169","v":"3-3"}]
[null,null,null,null,null,null,null,null,null,null,null,null,null,null,null,null,null,null,null,null,null,null,null,null,null,null,null,null,null,null,{"$f":"_xlfn.NORM.INV(RAND(),$Z$4,$N$20)","v":1.8081953425495945},{"$f":"_xlfn.NORM.INV(RAND(),$AA$4,$J$20)","v":3.2095116192025674},2.508853480876081]
[null,null,null,null,null,null,null,null,null,null,null,null,null,null,null,null,null,null,null,null,null,null,null,null,null,null,null,null,null,"№85",{"$f":"_xlfn.NORM.INV(RAND(),$Z$3,$I$20)","v":4.421940701232753},{"$f":"_xlfn.NORM.INV(RAND(),$AA$3,$O$20)","v":-0.23542521080309831},2.0932577452148271,{"$f":"ROUND(AG171,0)","v":2},{"$f":"ROUND(AG172,0)","v":3},{"$f":"IF(AH171>AI171,1,\"\")","v":""},{"$f":"IF(AH171=AI171,1,\"\")","v":""},{"$f":"IF(AH171<AI171,1,\"\")","v":1},{"$f":"AH171&\"-\"&AI171","v":"2-3"}]
[null,null,null,null,null,null,null,null,null,null,null,null,null,null,null,null,null,null,null,null,null,null,null,null,null,null,null,null,null,null,{"$f":"_xlfn.NORM.INV(RAND(),$Z$4,$N$20)","v":2.8014158704000405},{"$f":"_xlfn.NORM.INV(RAND(),$AA$4,$J$20)","v":2.9399153260413242},2.8706655982206826]
[null,null,null,null,null,null,null,null,null,null,null,null,null,null,null,null,null,null,null,null,null,null,null,null,null,null,null,null,null,"№86",{"$f":"_xlfn.NORM.INV(RAND(),$Z$3,$I$20)","v":4.8484893305904597},{"$f":"_xlfn.NORM.INV(RAND(),$AA$3,$O$20)","v":-0.37375170592957874},2.2373688123304403,{"$f":"ROUND(AG173,0)","v":2},{"$f":"ROUND(AG174,0)","v":1},{"$f":"IF(AH173>AI173,1,\"\")","v":1},{"$f":"IF(AH173=AI173,1,\"\")","v":""},{"$f":"IF(AH173<AI173,1,\"\")","v":""},{"$f":"AH173&\"-\"&AI173","v":"2-1"}]
[null,null,null,null,null,null,null,null,null,null,null,null,null,null,null,null,null,null,null,null,null,null,null,null,null,null,null,null,null,null,{"$f":"_xlfn.NORM.INV(RAND(),$Z$4,$N$20)","v":1.9161266500855834},{"$f":"_xlfn.NORM.INV(RAND(),$AA$4,$J$20)","v":-9.3962293690536436E-2},0.91108217819752346]
[null,null,null,null,null,null,null,null,null,null,null,null,null,null,null,null,null,null,null,null,null,null,null,null,null,null,null,null,null,"№87",{"$f":"_xlfn.NORM.INV(RAND(),$Z$3,$I$20)","v":3.6832262127403377},{"$f":"_xlfn.NORM.INV(RAND(),$AA$3,$O$20)","v":0.72095551381185097},2.2020908632760943,{"$f":"ROUND(AG175,0)","v":2},{"$f":"ROUND(AG176,0)","v":0},{"$f":"IF(AH175>AI175,1,\"\")","v":1},{"$f":"IF(AH175=AI175,1,\"\")","v":""},{"$f":"IF(AH175<AI175,1,\"\")","v":""},{"$f":"AH175&\"-\"&AI175","v":"2-0"}]
[null,null,null,null,null,null,null,null,null,null,null,null,null,null,null,null,null,null,null,null,null,null,null,null,null,null,null,null,null,null,{"$f":"_xlfn.NORM.INV(RAND(),$Z$4,$N$20)","v":2.0220677420269384},{"$f":"_xlfn.NORM.INV(RAND(),$AA$4,$J$20)","v":-1.7701830621977983},0.12594233991457005]
[null,null,null,null,null,null,null,null,null,null,null,null,null,null,null,null,null,null,null,null,null,null,null,null,null,null,null,null,null,"№88",{"$f":"_xlfn.NORM.INV(RAND(),$Z$3,$I$20)","v":1.8836307213007828},{"$f":"_xlfn.NORM.INV(RAND(),$AA$3,$O$20)","v":1.2577133340274615},1.5706720276641222,{"$f":"ROUND(AG177,0)","v":2},{"$f":"ROUND(AG178,0)","v":0},{"$f":"IF(AH177>AI177,1,\"\")","v":1},{"$f":"IF(AH177=AI177,1,\"\")","v":""},{"$f":"IF(AH177<AI177,1,\"\")","v":""},{"$f":"AH177&\"-\"&AI177","v":"2-0"}]
[null,null,null,null,null,null,null,null,null,null,null,null,null,null,null,null,null,null,null,null,null,null,null,null,null,null,null,null,null,null,{"$f":"_xlfn.NORM.INV(RAND(),$Z$4,$N$20)","v":1.3908378893221873},{"$f":"_xlfn.NORM.INV(RAND(),$AA$4,$J$20)","v":-0.86908531867230954},0.26087628532493889]
[null,null,null,null,null,null,null,null,null,null,null,null,null,null,null,null,null,null,null,null,null,null,null,null,null,null,null,null,null,"№89",{"$f":"_xlfn.NORM.INV(RAND(),$Z$3,$I$20)","v":3.2766662102579716},{"$f":"_xlfn.NORM.INV(RAND(),$AA$3,$O$20)","v":0.59293366042431161},1.9347999353411416,{"$f":"ROUND(AG179,0)","v":2},{"$f":"ROUND(AG180,0)","v":1},{"$f":"IF(AH179>AI179,1,\"\")","v":1},{"$f":"IF(AH179=AI179,1,\"\")","v":""},{"$f":"IF(AH179<AI179,1,\"\")","v":""},{"$f":"AH179&\"-\"&AI179","v":"2-1"}]
[null,null,null,null,null,null,null,null,null,null,null,null,null,null,null,null,null,null,null,null,null,null,null,null,null,null,null,null,null,null,{"$f":"_xlfn.NORM.INV(RAND(),$Z$4,$N$20)","v":1.3125896226170397},{"$f":"_xlfn.NORM.INV(RAND(),$AA$4,$J$20)","v":0.59723310198689816},0.95491136230196894]
[null,null,null,null,null,null,null,null,null,null,null,null,null,null,null,null,null,null,null,null,null,null,null,null,null,null,null,null,null,"№90",{"$f":"_xlfn.NORM.INV(RAND(),$Z$3,$I$20)","v":2.6733040246243545},{"$f":"_xlfn.NORM.INV(RAND(),$AA$3,$O$20)","v":0.27450091909320495},1.4739024718587797,{"$f":"ROUND(AG181,0)","v":1},{"$f":"ROUND(AG182,0)","v":0},{"$f":"IF(AH181>AI181,1,\"\")","v":1},{"$f":"IF(AH181=AI181,1,\"\")","v":""},{"$f":"IF(AH181<AI181,1,\"\")","v":""},{"$f":"AH181&\"-\"&AI181","v":"1-0"}]
[null,null,null,null,null,null,null,null,null,null,null,null,null,null,null,null,null,null,null,null,null,null,null,null,null,null,null,null,null,null,{"$f":"_xlfn.NORM.INV(RAND(),$Z$4,$N$20)","v":1.1537524143402451},{"$f":"_xlfn.NORM.INV(RAND(),$AA$4,$J$20)","v":-0.77924626564755384},0.18725307434634564]
[null,null,null,null,null,null,null,null,null,null,null,null,null,null,null,null,null,null,null,null,null,null,null,null,null,null,null,null,null,"№91",{"$f":"_xlfn.NORM.INV(RAND(),$Z$3,$I$20)","v":4.2037817860559858},{"$f":"_xlfn.NORM.INV(RAND(),$AA$3,$O$20)","v":0.58017774921347209},2.3919797676347292,{"$f":"ROUND(AG183,0)","v":2},{"$f":"ROUND(AG184,0)","v":2},{"$f":"IF(AH183>AI183,1,\"\")","v":""},{"$f":"IF(AH183=AI183,1,\"\")","v":1},{"$f":"IF(AH183<AI183,1,\"\")","v":""},{"$f":"AH183&\"-\"&AI183","v":"2-2"}]
[null,null,null,null,null,null,null,null,null,null,null,null,null,null,null,null,null,null,null,null,null,null,null,null,null,null,null,null,null,null,{"$f":"_xlfn.NORM.INV(RAND(),$Z$4,$N$20)","v":2.291393812368141},{"$f":"_xlfn.NORM.INV(RAND(),$AA$4,$J$20)","v":1.7019315195146938},1.9966626659414173]
[null,null,null,null,null,null,null,null,null,null,null,null,null,null,null,null,null,null,null,null,null,null,null,null,null,null,null,null,null,"№92",{"$f":"_xlfn.NORM.INV(RAND(),$Z$3,$I$20)","v":0.87903956694564211},{"$f":"_xlfn.NORM.INV(RAND(),$AA$3,$O$20)","v":1.1484740849921333},1.0137568259688878,{"$f":"ROUND(AG185,0)","v":1},{"$f":"ROUND(AG186,0)","v":2},{"$f":"IF(AH185>AI185,1,\"\")","v":""},{"$f":"IF(AH185=AI185,1,\"\")","v":""},{"$f":"IF(AH185<AI185,1,\"\")","v":1},{"$f":"AH185&\"-\"&AI185","v":"1-2"}]
[null,null,null,null,null,null,null,null,null,null,null,null,null,null,null,null,null,null,null,null,null,null,null,null,null,null,null,null,null,null,{"$f":"_xlfn.NORM.INV(RAND(),$Z$4,$N$20)","v":1.9569533989293608},{"$f":"_xlfn.NORM.INV(RAND(),$AA$4,$J$20)","v":2.195257735960042},2.0761055674447015]
[null,null,null,null,null,null,null,null,null,null,null,null,null,null,null,null,null,null,null,null,null,null,null,null,null,null,null,null,null,"№93",{"$f":"_xlfn.NORM.INV(RAND(),$Z$3,$I$20)","v":4.268215578542792},{"$f":"_xlfn.NORM.INV(RAND(),$AA$3,$O$20)","v":0.81338273325070287},2.5407991558967473,{"$f":"ROUND(AG187,0)","v":3},{"$f":"ROUND(AG188,0)","v":3},{"$f":"IF(AH187>AI187,1,\"\")","v":""},{"$f":"IF(AH187=AI187,1,\"\")","v":1},{"$f":"IF(AH187<AI187,1,\"\")","v":""},{"$f":"AH187&\"-\"&AI187","v":"3-3"}]
[null,null,null,null,null,null,null,null,null,null,null,null,null,null,null,null,null,null,null,null,null,null,null,null,null,null,null,null,null,null,{"$f":"_xlfn.NORM.INV(RAND(),$Z$4,$N$20)","v":1.7849732434205938},{"$f":"_xlfn.NORM.INV(RAND(),$AA$4,$J$20)","v":4.1537664763570064},2.9693698598888001]
[null,null,null,null,null,null,null,null,null,null,null,null,null,null,null,null,null,null,null,null,null,null,null,null,null,null,null,null,null,"№94",{"$f":"_xlfn.NORM.INV(RAND(),$Z$3,$I$20)","v":1.3418362753462629},{"$f":"_xlfn.NORM.INV(RAND(),$AA$3,$O$20)","v":-0.86197819468786263},0.23992904032920015,{"$f":"ROUND(AG189,0)","v":0},{"$f":"ROUND(AG190,0)","v":2},{"$f":"IF(AH189>AI189,1,\"\")","v":""},{"$f":"IF(AH189=AI189,1,\"\")","v":""},{"$f":"IF(AH189<AI189,1,\"\")","v":1},{"$f":"AH189&\"-\"&AI189","v":"0-2"}]
[null,null,null,null,null,null,null,null,null,null,null,null,null,null,null,null,null,null,null,null,null,null,null,null,null,null,null,null,null,null,{"$f":"_xlfn.NORM.INV(RAND(),$Z$4,$N$20)","v":0.98471780282498944},{"$f":"_xlfn.NORM.INV(RAND(),$AA$4,$J$20)","v":2.4232334366586699},1.7039756197418297]
[null,null,null,null,null,null,null,null,null,null,null,null,null,null,null,null,null,null,null,null,null,null,null,null,null,null,null,null,null,"№95",{"$f":"_xlfn.NORM.INV(RAND(),$Z$3,$I$20)","v":1.5935519161451543},{"$f":"_xlfn.NORM.INV(RAND(),$AA$3,$O$20)","v":1.5514075878517923},1.5724797519984732,{"$f":"ROUND(AG191,0)","v":2},{"$f":"ROUND(AG192,0)","v":2},{"$f":"IF(AH191>AI191,1,\"\")","v":""},{"$f":"IF(AH191=AI191,1,\"\")","v":1},{"$f":"IF(AH191<AI191,1,\"\")","v":""},{"$f":"AH191&\"-\"&AI191","v":"2-2"}]
[null,null,null,null,null,null,null,null,null,null,null,null,null,null,null,null,null,null,null,null,null,null,null,null,null,null,null,null,null,null,{"$f":"_xlfn.NORM.INV(RAND(),$Z$4,$N$20)","v":2.1750340582688277},{"$f":"_xlfn.NORM.INV(RAND(),$AA$4,$J$20)","v":1.3603752100742856},1.7677046341715568]
[null,null,null,null,null,null,null,null,null,null,null,null,null,null,null,null,null,null,null,null,null,null,null,null,null,null,null,null,null,"№96",{"$f":"_xlfn.NORM.INV(RAND(),$Z$3,$I$20)","v":1.2534827548181808},{"$f":"_xlfn.NORM.INV(RAND(),$AA$3,$O$20)","v":-1.4666032978476158},-0.10656027151471748,{"$f":"ROUND(AG193,0)","v":0},{"$f":"ROUND(AG194,0)","v":3},{"$f":"IF(AH193>AI193,1,\"\")","v":""},{"$f":"IF(AH193=AI193,1,\"\")","v":""},{"$f":"IF(AH193<AI193,1,\"\")","v":1},{"$f":"AH193&\"-\"&AI193","v":"0-3"}]
[null,null,null,null,null,null,null,null,null,null,null,null,null,null,null,null,null,null,null,null,null,null,null,null,null,null,null,null,null,null,{"$f":"_xlfn.NORM.INV(RAND(),$Z$4,$N$20)","v":2.0659787971348309},{"$f":"_xlfn.NORM.INV(RAND(),$AA$4,$J$20)","v":4.5871161659143258},3.3265474815245781]
[null,null,null,null,null,null,null,null,null,null,null,null,null,null,null,null,null,null,null,null,null,null,null,null,null,null,null,null,null,"№97",{"$f":"_xlfn.NORM.INV(RAND(),$Z$3,$I$20)","v":2.5000149943179633},{"$f":"_xlfn.NORM.INV(RAND(),$AA$3,$O$20)","v":-0.84559524377498452},0.82720987527148937,{"$f":"ROUND(AG195,0)","v":1},{"$f":"ROUND(AG196,0)","v":2},{"$f":"IF(AH195>AI195,1,\"\")","v":""},{"$f":"IF(AH195=AI195,1,\"\")","v":""},{"$f":"IF(AH195<AI195,1,\"\")","v":1},{"$f":"AH195&\"-\"&AI195","v":"1-2"}]
[null,null,null,null,null,null,null,null,null,null,null,null,null,null,null,null,null,null,null,null,null,null,null,null,null,null,null,null,null,null,{"$f":"_xlfn.NORM.INV(RAND(),$Z$4,$N$20)","v":2.4356201021900139},{"$f":"_xlfn.NORM.INV(RAND(),$AA$4,$J$20)","v":1.9573928316540499},2.196506466922032]
[null,null,null,null,null,null,null,null,null,null,null,null,null,null,null,null,null,null,null,null,null,null,null,null,null,null,null,null,null,"№98",{"$f":"_xlfn.NORM.INV(RAND(),$Z$3,$I$20)","v":4.2396524837977925},{"$f":"_xlfn.NORM.INV(RAND(),$AA$3,$O$20)","v":0.30136389326019175},{"$f":"(AE197+AF197)/2","v":2.2705081885289919},{"$f":"ROUND(AG197,0)","v":2},{"$f":"ROUND(AG198,0)","v":2},{"$f":"IF(AH197>AI197,1,\"\")","v":""},{"$f":"IF(AH197=AI197,1,\"\")","v":1},{"$f":"IF(AH197<AI197,1,\"\")","v":""},{"$f":"AH197&\"-\"&AI197","v":"2-2"}]
[null,null,null,null,null,null,null,null,null,null,null,null,null,null,null,null,null,null,null,null,null,null,null,null,null,null,null,null,null,null,{"$f":"_xlfn.NORM.INV(RAND(),$Z$4,$N$20)","v":2.4320657324570605},{"$f":"_xlfn.NORM.INV(RAND(),$AA$4,$J$20)","v":2.4462722865552746},2.4391690095061676]
[null,null,null,null,null,null,null,null,null,null,null,null,null,null,null,null,null,null,null,null,null,null,null,null,null,null,null,null,null,"№99",{"$f":"_xlfn.NORM.INV(RAND(),$Z$3,$I$20)","v":0.88498129958067828},{"$f":"_xlfn.NORM.INV(RAND(),$AA$3,$O$20)","v":1.9081735320313848},1.3965774158060316,{"$f":"ROUND(AG199,0)","v":1},{"$f":"ROUND(AG200,0)","v":1},{"$f":"IF(AH199>AI199,1,\"\")","v":""},{"$f":"IF(AH199=AI199,1,\"\")","v":1},{"$f":"IF(AH199<AI199,1,\"\")","v":""},{"$f":"AH199&\"-\"&AI199","v":"1-1"}]
[null,null,null,null,null,null,null,null,null,null,null,null,null,null,null,null,null,null,null,null,null,null,null,null,null,null,null,null,null,null,{"$f":"_xlfn.NORM.INV(RAND(),$Z$4,$N$20)","v":2.0476010088658478},{"$f":"_xlfn.NORM.INV(RAND(),$AA$4,$J$20)","v":0.40854570725538353},1.2280733580606156]
[null,null,null,null,null,null,null,null,null,null,null,null,null,null,null,null,null,null,null,null,null,null,null,null,null,null,null,null,null,"№100",{"$f":"_xlfn.NORM.INV(RAND(),$Z$3,$I$20)","v":4.182865456784743},{"$f":"_xlfn.NORM.INV(RAND(),$AA$3,$O$20)","v":0.427482527599231},2.3051739921919872,{"$f":"ROUND(AG201,0)","v":2},{"$f":"ROUND(AG202,0)","v":2},{"$f":"IF(AH201>AI201,1,\"\")","v":""},{"$f":"IF(AH201=AI201,1,\"\")","v":1},{"$f":"IF(AH201<AI201,1,\"\")","v":""},{"$f":"AH201&\"-\"&AI201","v":"2-2"}]
[null,null,null,null,null,null,null,null,null,null,null,null,null,null,null,null,null,null,null,null,null,null,null,null,null,null,null,null,null,null,{"$f":"_xlfn.NORM.INV(RAND(),$Z$4,$N$20)","v":1.8069280700794199},{"$f":"_xlfn.NORM.INV(RAND(),$AA$4,$J$20)","v":1.695561813500194},1.7512449417898068]
[null,null,null,null,null,null,null,null,null,null,null,null,null,null,null,null,null,null,null,null,null,null,null,null,null,null,null,null,null,"№101",{"$f":"_xlfn.NORM.INV(RAND(),$Z$3,$I$20)","v":5.7013757461813519},{"$f":"_xlfn.NORM.INV(RAND(),$AA$3,$O$20)","v":-0.18025322107792474},2.7605612625517137,{"$f":"ROUND(AG203,0)","v":3},{"$f":"ROUND(AG204,0)","v":3},{"$f":"IF(AH203>AI203,1,\"\")","v":""},{"$f":"IF(AH203=AI203,1,\"\")","v":1},{"$f":"IF(AH203<AI203,1,\"\")","v":""},{"$f":"AH203&\"-\"&AI203","v":"3-3"}]
[null,null,null,null,null,null,null,null,null,null,null,null,null,null,null,null,null,null,null,null,null,null,null,null,null,null,null,null,null,null,{"$f":"_xlfn.NORM.INV(RAND(),$Z$4,$N$20)","v":2.8343311856649209},{"$f":"_xlfn.NORM.INV(RAND(),$AA$4,$J$20)","v":2.6591161300294099},2.7467236578471654]
[null,null,null,null,null,null,null,null,null,null,null,null,null,null,null,null,null,null,null,null,null,null,null,null,null,null,null,null,null,"№102",{"$f":"_xlfn.NORM.INV(RAND(),$Z$3,$I$20)","v":3.2132351208825094},{"$f":"_xlfn.NORM.INV(RAND(),$AA$3,$O$20)","v":2.0497389939626327},2.6314870574225711,{"$f":"ROUND(AG205,0)","v":3},{"$f":"ROUND(AG206,0)","v":2},{"$f":"IF(AH205>AI205,1,\"\")","v":1},{"$f":"IF(AH205=AI205,1,\"\")","v":""},{"$f":"IF(AH205<AI205,1,\"\")","v":""},{"$f":"AH205&\"-\"&AI205","v":"3-2"}]
[null,null,null,null,null,null,null,null,null,null,null,null,null,null,null,null,null,null,null,null,null,null,null,null,null,null,null,null,null,null,{"$f":"_xlfn.NORM.INV(RAND(),$Z$4,$N$20)","v":2.6206535337753847},{"$f":"_xlfn.NORM.INV(RAND(),$AA$4,$J$20)","v":1.5789629307785706},2.0998082322769775]
[null,null,null,null,null,null,null,null,null,null,null,null,null,null,null,null,null,null,null,null,null,null,null,null,null,null,null,null,null,"№103",{"$f":"_xlfn.NORM.INV(RAND(),$Z$3,$I$20)","v":2.8095249196106948},{"$f":"_xlfn.NORM.INV(RAND(),$AA$3,$O$20)","v":0.93032616544394753},1.8699255425273211,{"$f":"ROUND(AG207,0)","v":2},{"$f":"ROUND(AG208,0)","v":2},{"$f":"IF(AH207>AI207,1,\"\")","v":""},{"$f":"IF(AH207=AI207,1,\"\")","v":1},{"$f":"IF(AH207<AI207,1,\"\")","v":""},{"$f":"AH207&\"-\"&AI207","v":"2-2"}]
[null,null,null,null,null,null,null,null,null,null,null,null,null,null,null,null,null,null,null,null,null,null,null,null,null,null,null,null,null,null,{"$f":"_xlfn.NORM.INV(RAND(),$Z$4,$N$20)","v":1.4113668029870765},{"$f":"_xlfn.NORM.INV(RAND(),$AA$4,$J$20)","v":1.7678999484875273},1.5896333757373018]
[null,null,null,null,null,null,null,null,null,null,null,null,null,null,null,null,null,null,null,null,null,null,null,null,null,null,null,null,null,"№104",{"$f":"_xlfn.NORM.INV(RAND(),$Z$3,$I$20)","v":1.4658826856515805},{"$f":"_xlfn.NORM.INV(RAND(),$AA$3,$O$20)","v":-0.46502840558365488},0.50042714003396283,{"$f":"ROUND(AG209,0)","v":1},{"$f":"ROUND(AG210,0)","v":2},{"$f":"IF(AH209>AI209,1,\"\")","v":""},{"$f":"IF(AH209=AI209,1,\"\")","v":""},{"$f":"IF(AH209<AI209,1,\"\")","v":1},{"$f":"AH209&\"-\"&AI209","v":"1-2"}]
[null,null,null,null,null,null,null,null,null,null,null,null,null,null,null,null,null,null,null,null,null,null,null,null,null,null,null,null,null,null,{"$f":"_xlfn.NORM.INV(RAND(),$Z$4,$N$20)","v":2.1310282601378563},{"$f":"_xlfn.NORM.INV(RAND(),$AA$4,$J$20)","v":2.5808789726355399},2.3559536163866981]
[null,null,null,null,null,null,null,null,null,null,null,null,null,null,null,null,null,null,null,null,null,null,null,null,null,null,null,null,null,"№105",{"$f":"_xlfn.NORM.INV(RAND(),$Z$3,$I$20)","v":3.3461949829656743},{"$f":"_xlfn.NORM.INV(RAND(),$AA$3,$O$20)","v":1.425483512946677},2.3858392479561754,{"$f":"ROUND(AG211,0)","v":2},{"$f":"ROUND(AG212,0)","v":2},{"$f":"IF(AH211>AI211,1,\"\")","v":""},{"$f":"IF(AH211=AI211,1,\"\")","v":1},{"$f":"IF(AH211<AI211,1,\"\")","v":""},{"$f":"AH211&\"-\"&AI211","v":"2-2"}]
[null,null,null,null,null,null,null,null,null,null,null,null,null,null,null,null,null,null,null,null,null,null,null,null,null,null,null,null,null,null,{"$f":"_xlfn.NORM.INV(RAND(),$Z$4,$N$20)","v":2.8761864454007462},{"$f":"_xlfn.NORM.INV(RAND(),$AA$4,$J$20)","v":1.2339710784646392},2.0550787619326929]
[null,null,null,null,null,null,null,null,null,null,null,null,null,null,null,null,null,null,null,null,null,null,null,null,null,null,null,null,null,"№106",{"$f":"_xlfn.NORM.INV(RAND(),$Z$3,$I$20)","v":4.4702592704120221},{"$f":"_xlfn.NORM.INV(RAND(),$AA$3,$O$20)","v":-0.65476206114989655},1.9077486046310628,{"$f":"ROUND(AG213,0)","v":2},{"$f":"ROUND(AG214,0)","v":2},{"$f":"IF(AH213>AI213,1,\"\")","v":""},{"$f":"IF(AH213=AI213,1,\"\")","v":1},{"$f":"IF(AH213<AI213,1,\"\")","v":""},{"$f":"AH213&\"-\"&AI213","v":"2-2"}]
[null,null,null,null,null,null,null,null,null,null,null,null,null,null,null,null,null,null,null,null,null,null,null,null,null,null,null,null,null,null,{"$f":"_xlfn.NORM.INV(RAND(),$Z$4,$N$20)","v":1.8092122183756509},{"$f":"_xlfn.NORM.INV(RAND(),$AA$4,$J$20)","v":3.1189035841249662},2.4640579012503085]
[null,null,null,null,null,null,null,null,null,null,null,null,null,null,null,null,null,null,null,null,null,null,null,null,null,null,null,null,null,"№107",{"$f":"_xlfn.NORM.INV(RAND(),$Z$3,$I$20)","v":2.7675959334893832},{"$f":"_xlfn.NORM.INV(RAND(),$AA$3,$O$20)","v":9.7840385027341048E-2},1.432718159258362,{"$f":"ROUND(AG215,0)","v":1},{"$f":"ROUND(AG216,0)","v":3},{"$f":"IF(AH215>AI215,1,\"\")","v":""},{"$f":"IF(AH215=AI215,1,\"\")","v":""},{"$f":"IF(AH215<AI215,1,\"\")","v":1},{"$f":"AH215&\"-\"&AI215","v":"1-3"}]
[null,null,null,null,null,null,null,null,null,null,null,null,null,null,null,null,null,null,null,null,null,null,null,null,null,null,null,null,null,null,{"$f":"_xlfn.NORM.INV(RAND(),$Z$4,$N$20)","v":2.7758940039751252},{"$f":"_xlfn.NORM.INV(RAND(),$AA$4,$J$20)","v":2.9086505527147009},2.8422722783449128]
[null,null,null,null,null,null,null,null,null,null,null,null,null,null,null,null,null,null,null,null,null,null,null,null,null,null,null,null,null,"№108",{"$f":"_xlfn.NORM.INV(RAND(),$Z$3,$I$20)","v":1.6758382764027409},{"$f":"_xlfn.NORM.INV(RAND(),$AA$3,$O$20)","v":1.4525391365984586},1.5641887065005997,{"$f":"ROUND(AG217,0)","v":2},{"$f":"ROUND(AG218,0)","v":2},{"$f":"IF(AH217>AI217,1,\"\")","v":""},{"$f":"IF(AH217=AI217,1,\"\")","v":1},{"$f":"IF(AH217<AI217,1,\"\")","v":""},{"$f":"AH217&\"-\"&AI217","v":"2-2"}]
[null,null,null,null,null,null,null,null,null,null,null,null,null,null,null,null,null,null,null,null,null,null,null,null,null,null,null,null,null,null,{"$f":"_xlfn.NORM.INV(RAND(),$Z$4,$N$20)","v":1.654382387574727},{"$f":"_xlfn.NORM.INV(RAND(),$AA$4,$J$20)","v":2.5298242141453664},2.0921033008600469]
[null,null,null,null,null,null,null,null,null,null,null,null,null,null,null,null,null,null,null,null,null,null,null,null,null,null,null,null,null,"№109",{"$f":"_xlfn.NORM.INV(RAND(),$Z$3,$I$20)","v":4.6121695463506587},{"$f":"_xlfn.NORM.INV(RAND(),$AA$3,$O$20)","v":4.1698430566633249E-2},2.326933988458646,{"$f":"ROUND(AG219,0)","v":2},{"$f":"ROUND(AG220,0)","v":2},{"$f":"IF(AH219>AI219,1,\"\")","v":""},{"$f":"IF(AH219=AI219,1,\"\")","v":1},{"$f":"IF(AH219<AI219,1,\"\")","v":""},{"$f":"AH219&\"-\"&AI219","v":"2-2"}]
[null,null,null,null,null,null,null,null,null,null,null,null,null,null,null,null,null,null,null,null,null,null,null,null,null,null,null,null,null,null,{"$f":"_xlfn.NORM.INV(RAND(),$Z$4,$N$20)","v":2.3289839695825054},{"$f":"_xlfn.NORM.INV(RAND(),$AA$4,$J$20)","v":1.5810007548982195},1.9549923622403624]
[null,null,null,null,null,null,null,null,null,null,null,null,null,null,null,null,null,null,null,null,null,null,null,null,null,null,null,null,null,"№110",{"$f":"_xlfn.NORM.INV(RAND(),$Z$3,$I$20)","v":1.9062767624155281},{"$f":"_xlfn.NORM.INV(RAND(),$AA$3,$O$20)","v":0.3967929122785171},1.1515348373470227,{"$f":"ROUND(AG221,0)","v":1},{"$f":"ROUND(AG222,0)","v":3},{"$f":"IF(AH221>AI221,1,\"\")","v":""},{"$f":"IF(AH221=AI221,1,\"\")","v":""},{"$f":"IF(AH221<AI221,1,\"\")","v":1},{"$f":"AH221&\"-\"&AI221","v":"1-3"}]
[null,null,null,null,null,null,null,null,null,null,null,null,null,null,null,null,null,null,null,null,null,null,null,null,null,null,null,null,null,null,{"$f":"_xlfn.NORM.INV(RAND(),$Z$4,$N$20)","v":2.2727501016199962},{"$f":"_xlfn.NORM.INV(RAND(),$AA$4,$J$20)","v":4.401758756777971},3.3372544291989836]
[null,null,null,null,null,null,null,null,null,null,null,null,null,null,null,null,null,null,null,null,null,null,null,null,null,null,null,null,null,"№111",{"$f":"_xlfn.NORM.INV(RAND(),$Z$3,$I$20)","v":2.7478903168051101},{"$f":"_xlfn.NORM.INV(RAND(),$AA$3,$O$20)","v":1.5103027684217896},2.1290965426134498,{"$f":"ROUND(AG223,0)","v":2},{"$f":"ROUND(AG224,0)","v":1},{"$f":"IF(AH223>AI223,1,\"\")","v":1},{"$f":"IF(AH223=AI223,1,\"\")","v":""},{"$f":"IF(AH223<AI223,1,\"\")","v":""},{"$f":"AH223&\"-\"&AI223","v":"2-1"}]
[null,null,null,null,null,null,null,null,null,null,null,null,null,null,null,null,null,null,null,null,null,null,null,null,null,null,null,null,null,null,{"$f":"_xlfn.NORM.INV(RAND(),$Z$4,$N$20)","v":1.0298824310487178},{"$f":"_xlfn.NORM.INV(RAND(),$AA$4,$J$20)","v":1.3349394072631393},1.1824109191559287]
[null,null,null,null,null,null,null,null,null,null,null,null,null,null,null,null,null,null,null,null,null,null,null,null,null,null,null,null,null,"№112",{"$f":"_xlfn.NORM.INV(RAND(),$Z$3,$I$20)","v":7.870338018261295},{"$f":"_xlfn.NORM.INV(RAND(),$AA$3,$O$20)","v":0.82001985824731127},4.3451789382543033,{"$f":"ROUND(AG225,0)","v":4},{"$f":"ROUND(AG226,0)","v":2},{"$f":"IF(AH225>AI225,1,\"\")","v":1},{"$f":"IF(AH225=AI225,1,\"\")","v":""},{"$f":"IF(AH225<AI225,1,\"\")","v":""},{"$f":"AH225&\"-\"&AI225","v":"4-2"}]
[null,null,null,null,null,null,null,null,null,null,null,null,null,null,null,null,null,null,null,null,null,null,null,null,null,null,null,null,null,null,{"$f":"_xlfn.NORM.INV(RAND(),$Z$4,$N$20)","v":1.2648944199638392},{"$f":"_xlfn.NORM.INV(RAND(),$AA$4,$J$20)","v":2.1003798988996887},1.682637159431764]
[null,null,null,null,null,null,null,null,null,null,null,null,null,null,null,null,null,null,null,null,null,null,null,null,null,null,null,null,null,"№113",{"$f":"_xlfn.NORM.INV(RAND(),$Z$3,$I$20)","v":3.8212733400206647},{"$f":"_xlfn.NORM.INV(RAND(),$AA$3,$O$20)","v":0.46263198996616617},2.1419526649934153,{"$f":"ROUND(AG227,0)","v":2},{"$f":"ROUND(AG228,0)","v":2},{"$f":"IF(AH227>AI227,1,\"\")","v":""},{"$f":"IF(AH227=AI227,1,\"\")","v":1},{"$f":"IF(AH227<AI227,1,\"\")","v":""},{"$f":"AH227&\"-\"&AI227","v":"2-2"}]
[null,null,null,null,null,null,null,null,null,null,null,null,null,null,null,null,null,null,null,null,null,null,null,null,null,null,null,null,null,null,{"$f":"_xlfn.NORM.INV(RAND(),$Z$4,$N$20)","v":1.3451571681381349},{"$f":"_xlfn.NORM.INV(RAND(),$AA$4,$J$20)","v":2.8004402011424556},2.0727986846402953]
[null,null,null,null,null,null,null,null,null,null,null,null,null,null,null,null,null,null,null,null,null,null,null,null,null,null,null,null,null,"№114",{"$f":"_xlfn.NORM.INV(RAND(),$Z$3,$I$20)","v":3.4730653181768978},{"$f":"_xlfn.NORM.INV(RAND(),$AA$3,$O$20)","v":1.9917815204954306},2.7324234193361643,{"$f":"ROUND(AG229,0)","v":3},{"$f":"ROUND(AG230,0)","v":3},{"$f":"IF(AH229>AI229,1,\"\")","v":""},{"$f":"IF(AH229=AI229,1,\"\")","v":1},{"$f":"IF(AH229<AI229,1,\"\")","v":""},{"$f":"AH229&\"-\"&AI229","v":"3-3"}]
[null,null,null,null,null,null,null,null,null,null,null,null,null,null,null,null,null,null,null,null,null,null,null,null,null,null,null,null,null,null,{"$f":"_xlfn.NORM.INV(RAND(),$Z$4,$N$20)","v":2.5330014059758494},{"$f":"_xlfn.NORM.INV(RAND(),$AA$4,$J$20)","v":2.7734157248249423},2.6532085654003961]
[null,null,null,null,null,null,null,null,null,null,null,null,null,null,null,null,null,null,null,null,null,null,null,null,null,null,null,null,null,"№115",{"$f":"_xlfn.NORM.INV(RAND(),$Z$3,$I$20)","v":3.98360562021433},{"$f":"_xlfn.NORM.INV(RAND(),$AA$3,$O$20)","v":0.36620479333186845},2.1749052067730994,{"$f":"ROUND(AG231,0)","v":2},{"$f":"ROUND(AG232,0)","v":3},{"$f":"IF(AH231>AI231,1,\"\")","v":""},{"$f":"IF(AH231=AI231,1,\"\")","v":""},{"$f":"IF(AH231<AI231,1,\"\")","v":1},{"$f":"AH231&\"-\"&AI231","v":"2-3"}]
[null,null,null,null,null,null,null,null,null,null,null,null,null,null,null,null,null,null,null,null,null,null,null,null,null,null,null,null,null,null,{"$f":"_xlfn.NORM.INV(RAND(),$Z$4,$N$20)","v":2.1650605109281313},{"$f":"_xlfn.NORM.INV(RAND(),$AA$4,$J$20)","v":3.2882773899215385},2.7266689504248349]
[null,null,null,null,null,null,null,null,null,null,null,null,null,null,null,null,null,null,null,null,null,null,null,null,null,null,null,null,null,"№116",{"$f":"_xlfn.NORM.INV(RAND(),$Z$3,$I$20)","v":4.3331096785246253},{"$f":"_xlfn.NORM.INV(RAND(),$AA$3,$O$20)","v":1.266147463365328},2.7996285709449769,{"$f":"ROUND(AG233,0)","v":3},{"$f":"ROUND(AG234,0)","v":3},{"$f":"IF(AH233>AI233,1,\"\")","v":""},{"$f":"IF(AH233=AI233,1,\"\")","v":1},{"$f":"IF(AH233<AI233,1,\"\")","v":""},{"$f":"AH233&\"-\"&AI233","v":"3-3"}]
[null,null,null,null,null,null,null,null,null,null,null,null,null,null,null,null,null,null,null,null,null,null,null,null,null,null,null,null,null,null,{"$f":"_xlfn.NORM.INV(RAND(),$Z$4,$N$20)","v":2.3548070583944001},{"$f":"_xlfn.NORM.INV(RAND(),$AA$4,$J$20)","v":3.6036742574682545},2.9792406579313271]
[null,null,null,null,null,null,null,null,null,null,null,null,null,null,null,null,null,null,null,null,null,null,null,null,null,null,null,null,null,"№117",{"$f":"_xlfn.NORM.INV(RAND(),$Z$3,$I$20)","v":2.7638362775460386},{"$f":"_xlfn.NORM.INV(RAND(),$AA$3,$O$20)","v":3.6190697673365024E-2},1.4000134876097019,{"$f":"ROUND(AG235,0)","v":1},{"$f":"ROUND(AG236,0)","v":0},{"$f":"IF(AH235>AI235,1,\"\")","v":1},{"$f":"IF(AH235=AI235,1,\"\")","v":""},{"$f":"IF(AH235<AI235,1,\"\")","v":""},{"$f":"AH235&\"-\"&AI235","v":"1-0"}]
[null,null,null,null,null,null,null,null,null,null,null,null,null,null,null,null,null,null,null,null,null,null,null,null,null,null,null,null,null,null,{"$f":"_xlfn.NORM.INV(RAND(),$Z$4,$N$20)","v":0.44529217715242653},{"$f":"_xlfn.NORM.INV(RAND(),$AA$4,$J$20)","v":0.37900298450322678},0.41214758082782665]
[null,null,null,null,null,null,null,null,null,null,null,null,null,null,null,null,null,null,null,null,null,null,null,null,null,null,null,null,null,"№118",{"$f":"_xlfn.NORM.INV(RAND(),$Z$3,$I$20)","v":3.7300650249899223},{"$f":"_xlfn.NORM.INV(RAND(),$AA$3,$O$20)","v":-0.72059224866511085},1.5047363881624056,{"$f":"ROUND(AG237,0)","v":2},{"$f":"ROUND(AG238,0)","v":2},{"$f":"IF(AH237>AI237,1,\"\")","v":""},{"$f":"IF(AH237=AI237,1,\"\")","v":1},{"$f":"IF(AH237<AI237,1,\"\")","v":""},{"$f":"AH237&\"-\"&AI237","v":"2-2"}]
[null,null,null,null,null,null,null,null,null,null,null,null,null,null,null,null,null,null,null,null,null,null,null,null,null,null,null,null,null,null,{"$f":"_xlfn.NORM.INV(RAND(),$Z$4,$N$20)","v":2.3925209909940448},{"$f":"_xlfn.NORM.INV(RAND(),$AA$4,$J$20)","v":0.75264275361104438},1.5725818723025446]
[null,null,null,null,null,null,null,null,null,null,null,null,null,null,null,null,null,null,null,null,null,null,null,null,null,null,null,null,null,"№119",{"$f":"_xlfn.NORM.INV(RAND(),$Z$3,$I$20)","v":5.1276000649627589},{"$f":"_xlfn.NORM.INV(RAND(),$AA$3,$O$20)","v":1.6828469965064996},3.405223530734629,{"$f":"ROUND(AG239,0)","v":3},{"$f":"ROUND(AG240,0)","v":2},{"$f":"IF(AH239>AI239,1,\"\")","v":1},{"$f":"IF(AH239=AI239,1,\"\")","v":""},{"$f":"IF(AH239<AI239,1,\"\")","v":""},{"$f":"AH239&\"-\"&AI239","v":"3-2"}]
[null,null,null,null,null,null,null,null,null,null,null,null,null,null,null,null,null,null,null,null,null,null,null,null,null,null,null,null,null,null,{"$f":"_xlfn.NORM.INV(RAND(),$Z$4,$N$20)","v":2.2091408491437012},{"$f":"_xlfn.NORM.INV(RAND(),$AA$4,$J$20)","v":2.1218420334581269},2.1654914413009143]
[null,null,null,null,null,null,null,null,null,null,null,null,null,null,null,null,null,null,null,null,null,null,null,null,null,null,null,null,null,"№120",{"$f":"_xlfn.NORM.INV(RAND(),$Z$3,$I$20)","v":2.0812088362405214},{"$f":"_xlfn.NORM.INV(RAND(),$AA$3,$O$20)","v":1.8942875990634993},1.9877482176520105,{"$f":"ROUND(AG241,0)","v":2},{"$f":"ROUND(AG242,0)","v":2},{"$f":"IF(AH241>AI241,1,\"\")","v":""},{"$f":"IF(AH241=AI241,1,\"\")","v":1},{"$f":"IF(AH241<AI241,1,\"\")","v":""},{"$f":"AH241&\"-\"&AI241","v":"2-2"}]
[null,null,null,null,null,null,null,null,null,null,null,null,null,null,null,null,null,null,null,null,null,null,null,null,null,null,null,null,null,null,{"$f":"_xlfn.NORM.INV(RAND(),$Z$4,$N$20)","v":2.9006071670052664},{"$f":"_xlfn.NORM.INV(RAND(),$AA$4,$J$20)","v":1.5403241051289789},2.2204656360671224]
[null,null,null,null,null,null,null,null,null,null,null,null,null,null,null,null,null,null,null,null,null,null,null,null,null,null,null,null,null,"№121",{"$f":"_xlfn.NORM.INV(RAND(),$Z$3,$I$20)","v":3.0521834424216006},{"$f":"_xlfn.NORM.INV(RAND(),$AA$3,$O$20)","v":2.4579534605186009},2.7550684514701009,{"$f":"ROUND(AG243,0)","v":3},{"$f":"ROUND(AG244,0)","v":1},{"$f":"IF(AH243>AI243,1,\"\")","v":1},{"$f":"IF(AH243=AI243,1,\"\")","v":""},{"$f":"IF(AH243<AI243,1,\"\")","v":""},{"$f":"AH243&\"-\"&AI243","v":"3-1"}]
[null,null,null,null,null,null,null,null,null,null,null,null,null,null,null,null,null,null,null,null,null,null,null,null,null,null,null,null,null,null,{"$f":"_xlfn.NORM.INV(RAND(),$Z$4,$N$20)","v":1.1045637801280632},{"$f":"_xlfn.NORM.INV(RAND(),$AA$4,$J$20)","v":0.59120884775693994},0.84788631394250158]
[null,null,null,null,null,null,null,null,null,null,null,null,null,null,null,null,null,null,null,null,null,null,null,null,null,null,null,null,null,"№122",{"$f":"_xlfn.NORM.INV(RAND(),$Z$3,$I$20)","v":4.9156830606828787},{"$f":"_xlfn.NORM.INV(RAND(),$AA$3,$O$20)","v":1.8626494623866818},3.3891662615347804,{"$f":"ROUND(AG245,0)","v":3},{"$f":"ROUND(AG246,0)","v":1},{"$f":"IF(AH245>AI245,1,\"\")","v":1},{"$f":"IF(AH245=AI245,1,\"\")","v":""},{"$f":"IF(AH245<AI245,1,\"\")","v":""},{"$f":"AH245&\"-\"&AI245","v":"3-1"}]
[null,null,null,null,null,null,null,null,null,null,null,null,null,null,null,null,null,null,null,null,null,null,null,null,null,null,null,null,null,null,{"$f":"_xlfn.NORM.INV(RAND(),$Z$4,$N$20)","v":1.8824533889606496},{"$f":"_xlfn.NORM.INV(RAND(),$AA$4,$J$20)","v":-0.21181398762853942},0.8353197006660551]
[null,null,null,null,null,null,null,null,null,null,null,null,null,null,null,null,null,null,null,null,null,null,null,null,null,null,null,null,null,"№123",{"$f":"_xlfn.NORM.INV(RAND(),$Z$3,$I$20)","v":1.7586126805760494},{"$f":"_xlfn.NORM.INV(RAND(),$AA$3,$O$20)","v":-0.27278049985169561},0.74291609036217687,{"$f":"ROUND(AG247,0)","v":1},{"$f":"ROUND(AG248,0)","v":3},{"$f":"IF(AH247>AI247,1,\"\")","v":""},{"$f":"IF(AH247=AI247,1,\"\")","v":""},{"$f":"IF(AH247<AI247,1,\"\")","v":1},{"$f":"AH247&\"-\"&AI247","v":"1-3"}]
[null,null,null,null,null,null,null,null,null,null,null,null,null,null,null,null,null,null,null,null,null,null,null,null,null,null,null,null,null,null,{"$f":"_xlfn.NORM.INV(RAND(),$Z$4,$N$20)","v":1.8298474925278727},{"$f":"_xlfn.NORM.INV(RAND(),$AA$4,$J$20)","v":3.2450093813768746},2.5374284369523736]
[null,null,null,null,null,null,null,null,null,null,null,null,null,null,null,null,null,null,null,null,null,null,null,null,null,null,null,null,null,"№124",{"$f":"_xlfn.NORM.INV(RAND(),$Z$3,$I$20)","v":1.3163362764011621},{"$f":"_xlfn.NORM.INV(RAND(),$AA$3,$O$20)","v":0.61715839411449158},0.96674733525782686,{"$f":"ROUND(AG249,0)","v":1},{"$f":"ROUND(AG250,0)","v":2},{"$f":"IF(AH249>AI249,1,\"\")","v":""},{"$f":"IF(AH249=AI249,1,\"\")","v":""},{"$f":"IF(AH249<AI249,1,\"\")","v":1},{"$f":"AH249&\"-\"&AI249","v":"1-2"}]
[null,null,null,null,null,null,null,null,null,null,null,null,null,null,null,null,null,null,null,null,null,null,null,null,null,null,null,null,null,null,{"$f":"_xlfn.NORM.INV(RAND(),$Z$4,$N$20)","v":3.5228803422467028},{"$f":"_xlfn.NORM.INV(RAND(),$AA$4,$J$20)","v":-1.5566611974220379E-2},1.7536568651362412]
[null,null,null,null,null,null,null,null,null,null,null,null,null,null,null,null,null,null,null,null,null,null,null,null,null,null,null,null,null,"№125",{"$f":"_xlfn.NORM.INV(RAND(),$Z$3,$I$20)","v":1.3942729442205479},{"$f":"_xlfn.NORM.INV(RAND(),$AA$3,$O$20)","v":0.67623955866937335},1.0352562514449606,{"$f":"ROUND(AG251,0)","v":1},{"$f":"ROUND(AG252,0)","v":1},{"$f":"IF(AH251>AI251,1,\"\")","v":""},{"$f":"IF(AH251=AI251,1,\"\")","v":1},{"$f":"IF(AH251<AI251,1,\"\")","v":""},{"$f":"AH251&\"-\"&AI251","v":"1-1"}]
[null,null,null,null,null,null,null,null,null,null,null,null,null,null,null,null,null,null,null,null,null,null,null,null,null,null,null,null,null,null,{"$f":"_xlfn.NORM.INV(RAND(),$Z$4,$N$20)","v":2.2890071747992415},{"$f":"_xlfn.NORM.INV(RAND(),$AA$4,$J$20)","v":0.13183492221356929},1.2104210485064053]
[null,null,null,null,null,null,null,null,null,null,null,null,null,null,null,null,null,null,null,null,null,null,null,null,null,null,null,null,null,"№126",{"$f":"_xlfn.NORM.INV(RAND(),$Z$3,$I$20)","v":4.6647409446797408},{"$f":"_xlfn.NORM.INV(RAND(),$AA$3,$O$20)","v":2.2772051687407653},3.4709730567102532,{"$f":"ROUND(AG253,0)","v":3},{"$f":"ROUND(AG254,0)","v":3},{"$f":"IF(AH253>AI253,1,\"\")","v":""},{"$f":"IF(AH253=AI253,1,\"\")","v":1},{"$f":"IF(AH253<AI253,1,\"\")","v":""},{"$f":"AH253&\"-\"&AI253","v":"3-3"}]
[null,null,null,null,null,null,null,null,null,null,null,null,null,null,null,null,null,null,null,null,null,null,null,null,null,null,null,null,null,null,{"$f":"_xlfn.NORM.INV(RAND(),$Z$4,$N$20)","v":4.5005937404942671},{"$f":"_xlfn.NORM.INV(RAND(),$AA$4,$J$20)","v":1.9023889360106656},3.2014913382524663]
[null,null,null,null,null,null,null,null,null,null,null,null,null,null,null,null,null,null,null,null,null,null,null,null,null,null,null,null,null,"№127",{"$f":"_xlfn.NORM.INV(RAND(),$Z$3,$I$20)","v":4.1894553205288689},{"$f":"_xlfn.NORM.INV(RAND(),$AA$3,$O$20)","v":1.4356900755144406},2.812572698021655,{"$f":"ROUND(AG255,0)","v":3},{"$f":"ROUND(AG256,0)","v":3},{"$f":"IF(AH255>AI255,1,\"\")","v":""},{"$f":"IF(AH255=AI255,1,\"\")","v":1},{"$f":"IF(AH255<AI255,1,\"\")","v":""},{"$f":"AH255&\"-\"&AI255","v":"3-3"}]
[null,null,null,null,null,null,null,null,null,null,null,null,null,null,null,null,null,null,null,null,null,null,null,null,null,null,null,null,null,null,{"$f":"_xlfn.NORM.INV(RAND(),$Z$4,$N$20)","v":3.1581148685101468},{"$f":"_xlfn.NORM.INV(RAND(),$AA$4,$J$20)","v":2.5411349062119015},2.8496248873610242]
[null,null,null,null,null,null,null,null,null,null,null,null,null,null,null,null,null,null,null,null,null,null,null,null,null,null,null,null,null,"№128",{"$f":"_xlfn.NORM.INV(RAND(),$Z$3,$I$20)","v":3.7823239407091611},{"$f":"_xlfn.NORM.INV(RAND(),$AA$3,$O$20)","v":1.9887073807893469},2.8855156607492543,{"$f":"ROUND(AG257,0)","v":3},{"$f":"ROUND(AG258,0)","v":2},{"$f":"IF(AH257>AI257,1,\"\")","v":1},{"$f":"IF(AH257=AI257,1,\"\")","v":""},{"$f":"IF(AH257<AI257,1,\"\")","v":""},{"$f":"AH257&\"-\"&AI257","v":"3-2"}]
[null,null,null,null,null,null,null,null,null,null,null,null,null,null,null,null,null,null,null,null,null,null,null,null,null,null,null,null,null,null,{"$f":"_xlfn.NORM.INV(RAND(),$Z$4,$N$20)","v":3.9232655572350108},{"$f":"_xlfn.NORM.INV(RAND(),$AA$4,$J$20)","v":-0.33211263451006268},1.7955764613624741]
[null,null,null,null,null,null,null,null,null,null,null,null,null,null,null,null,null,null,null,null,null,null,null,null,null,null,null,null,null,"№129",{"$f":"_xlfn.NORM.INV(RAND(),$Z$3,$I$20)","v":2.7084225994269362},{"$f":"_xlfn.NORM.INV(RAND(),$AA$3,$O$20)","v":-1.5228967301656302},0.59276293463065299,{"$f":"ROUND(AG259,0)","v":1},{"$f":"ROUND(AG260,0)","v":3},{"$f":"IF(AH259>AI259,1,\"\")","v":""},{"$f":"IF(AH259=AI259,1,\"\")","v":""},{"$f":"IF(AH259<AI259,1,\"\")","v":1},{"$f":"AH259&\"-\"&AI259","v":"1-3"}]
[null,null,null,null,null,null,null,null,null,null,null,null,null,null,null,null,null,null,null,null,null,null,null,null,null,null,null,null,null,null,{"$f":"_xlfn.NORM.INV(RAND(),$Z$4,$N$20)","v":2.3670572844360227},{"$f":"_xlfn.NORM.INV(RAND(),$AA$4,$J$20)","v":2.7036332068388043},2.5353452456374135]
[null,null,null,null,null,null,null,null,null,null,null,null,null,null,null,null,null,null,null,null,null,null,null,null,null,null,null,null,null,"№130",{"$f":"_xlfn.NORM.INV(RAND(),$Z$3,$I$20)","v":5.0058889814218457},{"$f":"_xlfn.NORM.INV(RAND(),$AA$3,$O$20)","v":1.1354540520531389},{"$f":"(AE261+AF261)/2","v":3.0706715167374923},{"$f":"ROUND(AG261,0)","v":3},{"$f":"ROUND(AG262,0)","v":2},{"$f":"IF(AH261>AI261,1,\"\")","v":1},{"$f":"IF(AH261=AI261,1,\"\")","v":""},{"$f":"IF(AH261<AI261,1,\"\")","v":""},{"$f":"AH261&\"-\"&AI261","v":"3-2"}]
[null,null,null,null,null,null,null,null,null,null,null,null,null,null,null,null,null,null,null,null,null,null,null,null,null,null,null,null,null,null,{"$f":"_xlfn.NORM.INV(RAND(),$Z$4,$N$20)","v":2.7909902941450961},{"$f":"_xlfn.NORM.INV(RAND(),$AA$4,$J$20)","v":0.44713256349134278},1.6190614288182195]
[null,null,null,null,null,null,null,null,null,null,null,null,null,null,null,null,null,null,null,null,null,null,null,null,null,null,null,null,null,"№131",{"$f":"_xlfn.NORM.INV(RAND(),$Z$3,$I$20)","v":4.0745440688888337},{"$f":"_xlfn.NORM.INV(RAND(),$AA$3,$O$20)","v":0.11116682046279525},2.0928554446758145,{"$f":"ROUND(AG263,0)","v":2},{"$f":"ROUND(AG264,0)","v":2},{"$f":"IF(AH263>AI263,1,\"\")","v":""},{"$f":"IF(AH263=AI263,1,\"\")","v":1},{"$f":"IF(AH263<AI263,1,\"\")","v":""},{"$f":"AH263&\"-\"&AI263","v":"2-2"}]
[null,null,null,null,null,null,null,null,null,null,null,null,null,null,null,null,null,null,null,null,null,null,null,null,null,null,null,null,null,null,{"$f":"_xlfn.NORM.INV(RAND(),$Z$4,$N$20)","v":2.1194160075121515},{"$f":"_xlfn.NORM.INV(RAND(),$AA$4,$J$20)","v":1.6948686660674834},1.9071423367898175]
[null,null,null,null,null,null,null,null,null,null,null,null,null,null,null,null,null,null,null,null,null,null,null,null,null,null,null,null,null,"№132",{"$f":"_xlfn.NORM.INV(RAND(),$Z$3,$I$20)","v":1.7413940135435209},{"$f":"_xlfn.NORM.INV(RAND(),$AA$3,$O$20)","v":0.92202107159551183},1.3317075425695164,{"$f":"ROUND(AG265,0)","v":1},{"$f":"ROUND(AG266,0)","v":3},{"$f":"IF(AH265>AI265,1,\"\")","v":""},{"$f":"IF(AH265=AI265,1,\"\")","v":""},{"$f":"IF(AH265<AI265,1,\"\")","v":1},{"$f":"AH265&\"-\"&AI265","v":"1-3"}]
[null,null,null,null,null,null,null,null,null,null,null,null,null,null,null,null,null,null,null,null,null,null,null,null,null,null,null,null,null,null,{"$f":"_xlfn.NORM.INV(RAND(),$Z$4,$N$20)","v":2.0877235128740002},{"$f":"_xlfn.NORM.INV(RAND(),$AA$4,$J$20)","v":4.1977388692433735},3.1427311910586866]
[null,null,null,null,null,null,null,null,null,null,null,null,null,null,null,null,null,null,null,null,null,null,null,null,null,null,null,null,null,"№133",{"$f":"_xlfn.NORM.INV(RAND(),$Z$3,$I$20)","v":4.270867779081998},{"$f":"_xlfn.NORM.INV(RAND(),$AA$3,$O$20)","v":0.6230764981702881},2.4469721386261432,{"$f":"ROUND(AG267,0)","v":2},{"$f":"ROUND(AG268,0)","v":3},{"$f":"IF(AH267>AI267,1,\"\")","v":""},{"$f":"IF(AH267=AI267,1,\"\")","v":""},{"$f":"IF(AH267<AI267,1,\"\")","v":1},{"$f":"AH267&\"-\"&AI267","v":"2-3"}]
[null,null,null,null,null,null,null,null,null,null,null,null,null,null,null,null,null,null,null,null,null,null,null,null,null,null,null,null,null,null,{"$f":"_xlfn.NORM.INV(RAND(),$Z$4,$N$20)","v":2.4612757412640383},{"$f":"_xlfn.NORM.INV(RAND(),$AA$4,$J$20)","v":2.9234221792748505},2.6923489602694444]
[null,null,null,null,null,null,null,null,null,null,null,null,null,null,null,null,null,null,null,null,null,null,null,null,null,null,null,null,null,"№134",{"$f":"_xlfn.NORM.INV(RAND(),$Z$3,$I$20)","v":-1.8037443338039281},{"$f":"_xlfn.NORM.INV(RAND(),$AA$3,$O$20)","v":1.2548093302705008},-0.27446750176671364,{"$f":"ROUND(AG269,0)","v":0},{"$f":"ROUND(AG270,0)","v":1},{"$f":"IF(AH269>AI269,1,\"\")","v":""},{"$f":"IF(AH269=AI269,1,\"\")","v":""},{"$f":"IF(AH269<AI269,1,\"\")","v":1},{"$f":"AH269&\"-\"&AI269","v":"0-1"}]
[null,null,null,null,null,null,null,null,null,null,null,null,null,null,null,null,null,null,null,null,null,null,null,null,null,null,null,null,null,null,{"$f":"_xlfn.NORM.INV(RAND(),$Z$4,$N$20)","v":2.0881584675808926},{"$f":"_xlfn.NORM.INV(RAND(),$AA$4,$J$20)","v":-0.70957987020700664},0.689289298686943]
[null,null,null,null,null,null,null,null,null,null,null,null,null,null,null,null,null,null,null,null,null,null,null,null,null,null,null,null,null,"№135",{"$f":"_xlfn.NORM.INV(RAND(),$Z$3,$I$20)","v":4.3969083657250776},{"$f":"_xlfn.NORM.INV(RAND(),$AA$3,$O$20)","v":0.40240779700933055},2.3996580813672042,{"$f":"ROUND(AG271,0)","v":2},{"$f":"ROUND(AG272,0)","v":2},{"$f":"IF(AH271>AI271,1,\"\")","v":""},{"$f":"IF(AH271=AI271,1,\"\")","v":1},{"$f":"IF(AH271<AI271,1,\"\")","v":""},{"$f":"AH271&\"-\"&AI271","v":"2-2"}]
[null,null,null,null,null,null,null,null,null,null,null,null,null,null,null,null,null,null,null,null,null,null,null,null,null,null,null,null,null,null,{"$f":"_xlfn.NORM.INV(RAND(),$Z$4,$N$20)","v":1.9507301996685285},{"$f":"_xlfn.NORM.INV(RAND(),$AA$4,$J$20)","v":2.3178581225379711},2.1342941611032495]
[null,null,null,null,null,null,null,null,null,null,null,null,null,null,null,null,null,null,null,null,null,null,null,null,null,null,null,null,null,"№136",{"$f":"_xlfn.NORM.INV(RAND(),$Z$3,$I$20)","v":7.2938335087096959},{"$f":"_xlfn.NORM.INV(RAND(),$AA$3,$O$20)","v":-0.26286986454901795},3.5154818220803392,{"$f":"ROUND(AG273,0)","v":4},{"$f":"ROUND(AG274,0)","v":1},{"$f":"IF(AH273>AI273,1,\"\")","v":1},{"$f":"IF(AH273=AI273,1,\"\")","v":""},{"$f":"IF(AH273<AI273,1,\"\")","v":""},{"$f":"AH273&\"-\"&AI273","v":"4-1"}]
[null,null,null,null,null,null,null,null,null,null,null,null,null,null,null,null,null,null,null,null,null,null,null,null,null,null,null,null,null,null,{"$f":"_xlfn.NORM.INV(RAND(),$Z$4,$N$20)","v":2.7022519571915544},{"$f":"_xlfn.NORM.INV(RAND(),$AA$4,$J$20)","v":-0.32487319348842258},1.188689381851566]
[null,null,null,null,null,null,null,null,null,null,null,null,null,null,null,null,null,null,null,null,null,null,null,null,null,null,null,null,null,"№137",{"$f":"_xlfn.NORM.INV(RAND(),$Z$3,$I$20)","v":2.207260042995574},{"$f":"_xlfn.NORM.INV(RAND(),$AA$3,$O$20)","v":1.3094390399002078},1.7583495414478909,{"$f":"ROUND(AG275,0)","v":2},{"$f":"ROUND(AG276,0)","v":0},{"$f":"IF(AH275>AI275,1,\"\")","v":1},{"$f":"IF(AH275=AI275,1,\"\")","v":""},{"$f":"IF(AH275<AI275,1,\"\")","v":""},{"$f":"AH275&\"-\"&AI275","v":"2-0"}]
[null,null,null,null,null,null,null,null,null,null,null,null,null,null,null,null,null,null,null,null,null,null,null,null,null,null,null,null,null,null,{"$f":"_xlfn.NORM.INV(RAND(),$Z$4,$N$20)","v":3.0788738864062659},{"$f":"_xlfn.NORM.INV(RAND(),$AA$4,$J$20)","v":-2.0916370134583961},0.49361843647393489]
[null,null,null,null,null,null,null,null,null,null,null,null,null,null,null,null,null,null,null,null,null,null,null,null,null,null,null,null,null,"№138",{"$f":"_xlfn.NORM.INV(RAND(),$Z$3,$I$20)","v":5.4136240674402067},{"$f":"_xlfn.NORM.INV(RAND(),$AA$3,$O$20)","v":0.18526078527836642},2.7994424263592865,{"$f":"ROUND(AG277,0)","v":3},{"$f":"ROUND(AG278,0)","v":3},{"$f":"IF(AH277>AI277,1,\"\")","v":""},{"$f":"IF(AH277=AI277,1,\"\")","v":1},{"$f":"IF(AH277<AI277,1,\"\")","v":""},{"$f":"AH277&\"-\"&AI277","v":"3-3"}]
[null,null,null,null,null,null,null,null,null,null,null,null,null,null,null,null,null,null,null,null,null,null,null,null,null,null,null,null,null,null,{"$f":"_xlfn.NORM.INV(RAND(),$Z$4,$N$20)","v":2.0592687573616475},{"$f":"_xlfn.NORM.INV(RAND(),$AA$4,$J$20)","v":3.2934893987012175},2.6763790780314327]
[null,null,null,null,null,null,null,null,null,null,null,null,null,null,null,null,null,null,null,null,null,null,null,null,null,null,null,null,null,"№139",{"$f":"_xlfn.NORM.INV(RAND(),$Z$3,$I$20)","v":4.7515531365111965},{"$f":"_xlfn.NORM.INV(RAND(),$AA$3,$O$20)","v":1.4045137449722667},3.0780334407417316,{"$f":"ROUND(AG279,0)","v":3},{"$f":"ROUND(AG280,0)","v":0},{"$f":"IF(AH279>AI279,1,\"\")","v":1},{"$f":"IF(AH279=AI279,1,\"\")","v":""},{"$f":"IF(AH279<AI279,1,\"\")","v":""},{"$f":"AH279&\"-\"&AI279","v":"3-0"}]
[null,null,null,null,null,null,null,null,null,null,null,null,null,null,null,null,null,null,null,null,null,null,null,null,null,null,null,null,null,null,{"$f":"_xlfn.NORM.INV(RAND(),$Z$4,$N$20)","v":1.4129583176066576},{"$f":"_xlfn.NORM.INV(RAND(),$AA$4,$J$20)","v":-1.721089794059667},-0.15406573822650471]
[null,null,null,null,null,null,null,null,null,null,null,null,null,null,null,null,null,null,null,null,null,null,null,null,null,null,null,null,null,"№140",{"$f":"_xlfn.NORM.INV(RAND(),$Z$3,$I$20)","v":3.114698592634511},{"$f":"_xlfn.NORM.INV(RAND(),$AA$3,$O$20)","v":2.1307580512705653},2.6227283219525379,{"$f":"ROUND(AG281,0)","v":3},{"$f":"ROUND(AG282,0)","v":2},{"$f":"IF(AH281>AI281,1,\"\")","v":1},{"$f":"IF(AH281=AI281,1,\"\")","v":""},{"$f":"IF(AH281<AI281,1,\"\")","v":""},{"$f":"AH281&\"-\"&AI281","v":"3-2"}]
[null,null,null,null,null,null,null,null,null,null,null,null,null,null,null,null,null,null,null,null,null,null,null,null,null,null,null,null,null,null,{"$f":"_xlfn.NORM.INV(RAND(),$Z$4,$N$20)","v":1.4714550493551115},{"$f":"_xlfn.NORM.INV(RAND(),$AA$4,$J$20)","v":2.6952556278099333},2.0833553385825225]
[null,null,null,null,null,null,null,null,null,null,null,null,null,null,null,null,null,null,null,null,null,null,null,null,null,null,null,null,null,"№141",{"$f":"_xlfn.NORM.INV(RAND(),$Z$3,$I$20)","v":3.2064638501531095},{"$f":"_xlfn.NORM.INV(RAND(),$AA$3,$O$20)","v":0.25979833337000169},1.7331310917615557,{"$f":"ROUND(AG283,0)","v":2},{"$f":"ROUND(AG284,0)","v":3},{"$f":"IF(AH283>AI283,1,\"\")","v":""},{"$f":"IF(AH283=AI283,1,\"\")","v":""},{"$f":"IF(AH283<AI283,1,\"\")","v":1},{"$f":"AH283&\"-\"&AI283","v":"2-3"}]
[null,null,null,null,null,null,null,null,null,null,null,null,null,null,null,null,null,null,null,null,null,null,null,null,null,null,null,null,null,null,{"$f":"_xlfn.NORM.INV(RAND(),$Z$4,$N$20)","v":2.2230846274351461},{"$f":"_xlfn.NORM.INV(RAND(),$AA$4,$J$20)","v":2.9047283632420635},2.563906495338605]
[null,null,null,null,null,null,null,null,null,null,null,null,null,null,null,null,null,null,null,null,null,null,null,null,null,null,null,null,null,"№142",{"$f":"_xlfn.NORM.INV(RAND(),$Z$3,$I$20)","v":2.6841896974102952},{"$f":"_xlfn.NORM.INV(RAND(),$AA$3,$O$20)","v":1.6244032196050697},2.1542964585076825,{"$f":"ROUND(AG285,0)","v":2},{"$f":"ROUND(AG286,0)","v":1},{"$f":"IF(AH285>AI285,1,\"\")","v":1},{"$f":"IF(AH285=AI285,1,\"\")","v":""},{"$f":"IF(AH285<AI285,1,\"\")","v":""},{"$f":"AH285&\"-\"&AI285","v":"2-1"}]
[null,null,null,null,null,null,null,null,null,null,null,null,null,null,null,null,null,null,null,null,null,null,null,null,null,null,null,null,null,null,{"$f":"_xlfn.NORM.INV(RAND(),$Z$4,$N$20)","v":0.89788113697899097},{"$f":"_xlfn.NORM.INV(RAND(),$AA$4,$J$20)","v":1.4097414065024934},1.1538112717407421]
[null,null,null,null,null,null,null,null,null,null,null,null,null,null,null,null,null,null,null,null,null,null,null,null,null,null,null,null,null,"№143",{"$f":"_xlfn.NORM.INV(RAND(),$Z$3,$I$20)","v":4.3506521419519988},{"$f":"_xlfn.NORM.INV(RAND(),$AA$3,$O$20)","v":-1.0430291782148546},1.6538114818685721,{"$f":"ROUND(AG287,0)","v":2},{"$f":"ROUND(AG288,0)","v":3},{"$f":"IF(AH287>AI287,1,\"\")","v":""},{"$f":"IF(AH287=AI287,1,\"\")","v":""},{"$f":"IF(AH287<AI287,1,\"\")","v":1},{"$f":"AH287&\"-\"&AI287","v":"2-3"}]
[null,null,null,null,null,null,null,null,null,null,null,null,null,null,null,null,null,null,null,null,null,null,null,null,null,null,null,null,null,null,{"$f":"_xlfn.NORM.INV(RAND(),$Z$4,$N$20)","v":2.3361017424875601},{"$f":"_xlfn.NORM.INV(RAND(),$AA$4,$J$20)","v":4.6175689754049642},3.4768353589462624]
[null,null,null,null,null,null,null,null,null,null,null,null,null,null,null,null,null,null,null,null,null,null,null,null,null,null,null,null,null,"№144",{"$f":"_xlfn.NORM.INV(RAND(),$Z$3,$I$20)","v":4.9389747099640209},{"$f":"_xlfn.NORM.INV(RAND(),$AA$3,$O$20)","v":1.5734354532241035},3.2562050815940622,{"$f":"ROUND(AG289,0)","v":3},{"$f":"ROUND(AG290,0)","v":2},{"$f":"IF(AH289>AI289,1,\"\")","v":1},{"$f":"IF(AH289=AI289,1,\"\")","v":""},{"$f":"IF(AH289<AI289,1,\"\")","v":""},{"$f":"AH289&\"-\"&AI289","v":"3-2"}]
[null,null,null,null,null,null,null,null,null,null,null,null,null,null,null,null,null,null,null,null,null,null,null,null,null,null,null,null,null,null,{"$f":"_xlfn.NORM.INV(RAND(),$Z$4,$N$20)","v":2.2751390143814745},{"$f":"_xlfn.NORM.INV(RAND(),$AA$4,$J$20)","v":2.0694431404167002},2.1722910773990876]
[null,null,null,null,null,null,null,null,null,null,null,null,null,null,null,null,null,null,null,null,null,null,null,null,null,null,null,null,null,"№145",{"$f":"_xlfn.NORM.INV(RAND(),$Z$3,$I$20)","v":0.95821208488315435},{"$f":"_xlfn.NORM.INV(RAND(),$AA$3,$O$20)","v":2.5282597647265361},1.7432359248048452,{"$f":"ROUND(AG291,0)","v":2},{"$f":"ROUND(AG292,0)","v":2},{"$f":"IF(AH291>AI291,1,\"\")","v":""},{"$f":"IF(AH291=AI291,1,\"\")","v":1},{"$f":"IF(AH291<AI291,1,\"\")","v":""},{"$f":"AH291&\"-\"&AI291","v":"2-2"}]
[null,null,null,null,null,null,null,null,null,null,null,null,null,null,null,null,null,null,null,null,null,null,null,null,null,null,null,null,null,null,{"$f":"_xlfn.NORM.INV(RAND(),$Z$4,$N$20)","v":3.0842900024434878},{"$f":"_xlfn.NORM.INV(RAND(),$AA$4,$J$20)","v":1.0823257717508619},2.0833078870971748]
[null,null,null,null,null,null,null,null,null,null,null,null,null,null,null,null,null,null,null,null,null,null,null,null,null,null,null,null,null,"№146",{"$f":"_xlfn.NORM.INV(RAND(),$Z$3,$I$20)","v":3.8397059203438646},{"$f":"_xlfn.NORM.INV(RAND(),$AA$3,$O$20)","v":-0.62651156646258244},1.6065971769406411,{"$f":"ROUND(AG293,0)","v":2},{"$f":"ROUND(AG294,0)","v":3},{"$f":"IF(AH293>AI293,1,\"\")","v":""},{"$f":"IF(AH293=AI293,1,\"\")","v":""},{"$f":"IF(AH293<AI293,1,\"\")","v":1},{"$f":"AH293&\"-\"&AI293","v":"2-3"}]
[null,null,null,null,null,null,null,null,null,null,null,null,null,null,null,null,null,null,null,null,null,null,null,null,null,null,null,null,null,null,{"$f":"_xlfn.NORM.INV(RAND(),$Z$4,$N$20)","v":2.7855027547125562},{"$f":"_xlfn.NORM.INV(RAND(),$AA$4,$J$20)","v":2.6819647974382463},2.7337337760754012]
[null,null,null,null,null,null,null,null,null,null,null,null,null,null,null,null,null,null,null,null,null,null,null,null,null,null,null,null,null,"№147",{"$f":"_xlfn.NORM.INV(RAND(),$Z$3,$I$20)","v":6.5576629729691271},{"$f":"_xlfn.NORM.INV(RAND(),$AA$3,$O$20)","v":0.67259769680295045},3.6151303348860386,{"$f":"ROUND(AG295,0)","v":4},{"$f":"ROUND(AG296,0)","v":1},{"$f":"IF(AH295>AI295,1,\"\")","v":1},{"$f":"IF(AH295=AI295,1,\"\")","v":""},{"$f":"IF(AH295<AI295,1,\"\")","v":""},{"$f":"AH295&\"-\"&AI295","v":"4-1"}]
[null,null,null,null,null,null,null,null,null,null,null,null,null,null,null,null,null,null,null,null,null,null,null,null,null,null,null,null,null,null,{"$f":"_xlfn.NORM.INV(RAND(),$Z$4,$N$20)","v":1.6915146747743099},{"$f":"_xlfn.NORM.INV(RAND(),$AA$4,$J$20)","v":0.96257439379339482},1.3270445342838524]
[null,null,null,null,null,null,null,null,null,null,null,null,null,null,null,null,null,null,null,null,null,null,null,null,null,null,null,null,null,"№148",{"$f":"_xlfn.NORM.INV(RAND(),$Z$3,$I$20)","v":0.73073975027203009},{"$f":"_xlfn.NORM.INV(RAND(),$AA$3,$O$20)","v":0.52280092863873739},0.62677033945538374,{"$f":"ROUND(AG297,0)","v":1},{"$f":"ROUND(AG298,0)","v":1},{"$f":"IF(AH297>AI297,1,\"\")","v":""},{"$f":"IF(AH297=AI297,1,\"\")","v":1},{"$f":"IF(AH297<AI297,1,\"\")","v":""},{"$f":"AH297&\"-\"&AI297","v":"1-1"}]
[null,null,null,null,null,null,null,null,null,null,null,null,null,null,null,null,null,null,null,null,null,null,null,null,null,null,null,null,null,null,{"$f":"_xlfn.NORM.INV(RAND(),$Z$4,$N$20)","v":1.461913471684221},{"$f":"_xlfn.NORM.INV(RAND(),$AA$4,$J$20)","v":1.2068071554888333},1.3343603135865272]
[null,null,null,null,null,null,null,null,null,null,null,null,null,null,null,null,null,null,null,null,null,null,null,null,null,null,null,null,null,"№149",{"$f":"_xlfn.NORM.INV(RAND(),$Z$3,$I$20)","v":2.3674887054150533},{"$f":"_xlfn.NORM.INV(RAND(),$AA$3,$O$20)","v":1.0197632541388368},1.6936259797769451,{"$f":"ROUND(AG299,0)","v":2},{"$f":"ROUND(AG300,0)","v":2},{"$f":"IF(AH299>AI299,1,\"\")","v":""},{"$f":"IF(AH299=AI299,1,\"\")","v":1},{"$f":"IF(AH299<AI299,1,\"\")","v":""},{"$f":"AH299&\"-\"&AI299","v":"2-2"}]
[null,null,null,null,null,null,null,null,null,null,null,null,null,null,null,null,null,null,null,null,null,null,null,null,null,null,null,null,null,null,{"$f":"_xlfn.NORM.INV(RAND(),$Z$4,$N$20)","v":3.3594164353654703},{"$f":"_xlfn.NORM.INV(RAND(),$AA$4,$J$20)","v":0.1921749935567898},1.77579571446113]
[null,null,null,null,null,null,null,null,null,null,null,null,null,null,null,null,null,null,null,null,null,null,null,null,null,null,null,null,null,"№150",{"$f":"_xlfn.NORM.INV(RAND(),$Z$3,$I$20)","v":1.2852459517874908},{"$f":"_xlfn.NORM.INV(RAND(),$AA$3,$O$20)","v":1.1935842065617401},1.2394150791746155,{"$f":"ROUND(AG301,0)","v":1},{"$f":"ROUND(AG302,0)","v":2},{"$f":"IF(AH301>AI301,1,\"\")","v":""},{"$f":"IF(AH301=AI301,1,\"\")","v":""},{"$f":"IF(AH301<AI301,1,\"\")","v":1},{"$f":"AH301&\"-\"&AI301","v":"1-2"}]
[null,null,null,null,null,null,null,null,null,null,null,null,null,null,null,null,null,null,null,null,null,null,null,null,null,null,null,null,null,null,{"$f":"_xlfn.NORM.INV(RAND(),$Z$4,$N$20)","v":2.6292371291832564},{"$f":"_xlfn.NORM.INV(RAND(),$AA$4,$J$20)","v":2.1749916446895403},2.4021143869363986]
[null,null,null,null,null,null,null,null,null,null,null,null,null,null,null,null,null,null,null,null,null,null,null,null,null,null,null,null,null,"№151",{"$f":"_xlfn.NORM.INV(RAND(),$Z$3,$I$20)","v":1.8878289222228914},{"$f":"_xlfn.NORM.INV(RAND(),$AA$3,$O$20)","v":-0.137427883601693},0.87520051931059917,{"$f":"ROUND(AG303,0)","v":1},{"$f":"ROUND(AG304,0)","v":1},{"$f":"IF(AH303>AI303,1,\"\")","v":""},{"$f":"IF(AH303=AI303,1,\"\")","v":1},{"$f":"IF(AH303<AI303,1,\"\")","v":""},{"$f":"AH303&\"-\"&AI303","v":"1-1"}]
[null,null,null,null,null,null,null,null,null,null,null,null,null,null,null,null,null,null,null,null,null,null,null,null,null,null,null,null,null,null,{"$f":"_xlfn.NORM.INV(RAND(),$Z$4,$N$20)","v":3.088049779512108},{"$f":"_xlfn.NORM.INV(RAND(),$AA$4,$J$20)","v":-0.90654012179728127},1.0907548288574134]
[null,null,null,null,null,null,null,null,null,null,null,null,null,null,null,null,null,null,null,null,null,null,null,null,null,null,null,null,null,"№152",{"$f":"_xlfn.NORM.INV(RAND(),$Z$3,$I$20)","v":5.1678343310626147},{"$f":"_xlfn.NORM.INV(RAND(),$AA$3,$O$20)","v":0.59882852295046352},2.8833314270065391,{"$f":"ROUND(AG305,0)","v":3},{"$f":"ROUND(AG306,0)","v":1},{"$f":"IF(AH305>AI305,1,\"\")","v":1},{"$f":"IF(AH305=AI305,1,\"\")","v":""},{"$f":"IF(AH305<AI305,1,\"\")","v":""},{"$f":"AH305&\"-\"&AI305","v":"3-1"}]
[null,null,null,null,null,null,null,null,null,null,null,null,null,null,null,null,null,null,null,null,null,null,null,null,null,null,null,null,null,null,{"$f":"_xlfn.NORM.INV(RAND(),$Z$4,$N$20)","v":2.0265659740109894},{"$f":"_xlfn.NORM.INV(RAND(),$AA$4,$J$20)","v":0.18209014303628468},1.104328058523637]
[null,null,null,null,null,null,null,null,null,null,null,null,null,null,null,null,null,null,null,null,null,null,null,null,null,null,null,null,null,"№153",{"$f":"_xlfn.NORM.INV(RAND(),$Z$3,$I$20)","v":3.0167772849396344},{"$f":"_xlfn.NORM.INV(RAND(),$AA$3,$O$20)","v":-0.23782824401505254},1.3894745204622909,{"$f":"ROUND(AG307,0)","v":1},{"$f":"ROUND(AG308,0)","v":2},{"$f":"IF(AH307>AI307,1,\"\")","v":""},{"$f":"IF(AH307=AI307,1,\"\")","v":""},{"$f":"IF(AH307<AI307,1,\"\")","v":1},{"$f":"AH307&\"-\"&AI307","v":"1-2"}]
[null,null,null,null,null,null,null,null,null,null,null,null,null,null,null,null,null,null,null,null,null,null,null,null,null,null,null,null,null,null,{"$f":"_xlfn.NORM.INV(RAND(),$Z$4,$N$20)","v":1.9127016537457484},{"$f":"_xlfn.NORM.INV(RAND(),$AA$4,$J$20)","v":2.6774500669139365},2.2950758603298427]
[null,null,null,null,null,null,null,null,null,null,null,null,null,null,null,null,null,null,null,null,null,null,null,null,null,null,null,null,null,"№154",{"$f":"_xlfn.NORM.INV(RAND(),$Z$3,$I$20)","v":6.0610309548644494},{"$f":"_xlfn.NORM.INV(RAND(),$AA$3,$O$20)","v":-0.61737360671426034},2.7218286740750948,{"$f":"ROUND(AG309,0)","v":3},{"$f":"ROUND(AG310,0)","v":1},{"$f":"IF(AH309>AI309,1,\"\")","v":1},{"$f":"IF(AH309=AI309,1,\"\")","v":""},{"$f":"IF(AH309<AI309,1,\"\")","v":""},{"$f":"AH309&\"-\"&AI309","v":"3-1"}]
[null,null,null,null,null,null,null,null,null,null,null,null,null,null,null,null,null,null,null,null,null,null,null,null,null,null,null,null,null,null,{"$f":"_xlfn.NORM.INV(RAND(),$Z$4,$N$20)","v":1.0251819741175516},{"$f":"_xlfn.NORM.INV(RAND(),$AA$4,$J$20)","v":0.40492757345000885},0.71505477378378024]
[null,null,null,null,null,null,null,null,null,null,null,null,null,null,null,null,null,null,null,null,null,null,null,null,null,null,null,null,null,"№155",{"$f":"_xlfn.NORM.INV(RAND(),$Z$3,$I$20)","v":-8.1914532604721924E-2},{"$f":"_xlfn.NORM.INV(RAND(),$AA$3,$O$20)","v":0.60519818144675464},0.26164182442101636,{"$f":"ROUND(AG311,0)","v":0},{"$f":"ROUND(AG312,0)","v":3},{"$f":"IF(AH311>AI311,1,\"\")","v":""},{"$f":"IF(AH311=AI311,1,\"\")","v":""},{"$f":"IF(AH311<AI311,1,\"\")","v":1},{"$f":"AH311&\"-\"&AI311","v":"0-3"}]
[null,null,null,null,null,null,null,null,null,null,null,null,null,null,null,null,null,null,null,null,null,null,null,null,null,null,null,null,null,null,{"$f":"_xlfn.NORM.INV(RAND(),$Z$4,$N$20)","v":2.5160664273489344},{"$f":"_xlfn.NORM.INV(RAND(),$AA$4,$J$20)","v":3.9716965075607358},3.2438814674548349]
[null,null,null,null,null,null,null,null,null,null,null,null,null,null,null,null,null,null,null,null,null,null,null,null,null,null,null,null,null,"№156",{"$f":"_xlfn.NORM.INV(RAND(),$Z$3,$I$20)","v":4.9479299996380153},{"$f":"_xlfn.NORM.INV(RAND(),$AA$3,$O$20)","v":3.1301185515695247},4.0390242756037704,{"$f":"ROUND(AG313,0)","v":4},{"$f":"ROUND(AG314,0)","v":1},{"$f":"IF(AH313>AI313,1,\"\")","v":1},{"$f":"IF(AH313=AI313,1,\"\")","v":""},{"$f":"IF(AH313<AI313,1,\"\")","v":""},{"$f":"AH313&\"-\"&AI313","v":"4-1"}]
[null,null,null,null,null,null,null,null,null,null,null,null,null,null,null,null,null,null,null,null,null,null,null,null,null,null,null,null,null,null,{"$f":"_xlfn.NORM.INV(RAND(),$Z$4,$N$20)","v":1.4359528618277995},{"$f":"_xlfn.NORM.INV(RAND(),$AA$4,$J$20)","v":-0.38762186211458305},0.52416549985660821]
[null,null,null,null,null,null,null,null,null,null,null,null,null,null,null,null,null,null,null,null,null,null,null,null,null,null,null,null,null,"№157",{"$f":"_xlfn.NORM.INV(RAND(),$Z$3,$I$20)","v":1.621055436608255},{"$f":"_xlfn.NORM.INV(RAND(),$AA$3,$O$20)","v":1.0357926294618816},1.3284240330350683,{"$f":"ROUND(AG315,0)","v":1},{"$f":"ROUND(AG316,0)","v":1},{"$f":"IF(AH315>AI315,1,\"\")","v":""},{"$f":"IF(AH315=AI315,1,\"\")","v":1},{"$f":"IF(AH315<AI315,1,\"\")","v":""},{"$f":"AH315&\"-\"&AI315","v":"1-1"}]
[null,null,null,null,null,null,null,null,null,null,null,null,null,null,null,null,null,null,null,null,null,null,null,null,null,null,null,null,null,null,{"$f":"_xlfn.NORM.INV(RAND(),$Z$4,$N$20)","v":1.9096823067465158},{"$f":"_xlfn.NORM.INV(RAND(),$AA$4,$J$20)","v":-0.46720799679928282},0.72123715497361651]
[null,null,null,null,null,null,null,null,null,null,null,null,null,null,null,null,null,null,null,null,null,null,null,null,null,null,null,null,null,"№158",{"$f":"_xlfn.NORM.INV(RAND(),$Z$3,$I$20)","v":2.5434555831435866},{"$f":"_xlfn.NORM.INV(RAND(),$AA$3,$O$20)","v":1.1422175521771418},1.8428365676603642,{"$f":"ROUND(AG317,0)","v":2},{"$f":"ROUND(AG318,0)","v":1},{"$f":"IF(AH317>AI317,1,\"\")","v":1},{"$f":"IF(AH317=AI317,1,\"\")","v":""},{"$f":"IF(AH317<AI317,1,\"\")","v":""},{"$f":"AH317&\"-\"&AI317","v":"2-1"}]
[null,null,null,null,null,null,null,null,null,null,null,null,null,null,null,null,null,null,null,null,null,null,null,null,null,null,null,null,null,null,{"$f":"_xlfn.NORM.INV(RAND(),$Z$4,$N$20)","v":2.3773337563514603},{"$f":"_xlfn.NORM.INV(RAND(),$AA$4,$J$20)","v":0.10971428967832098},1.2435240230148907]
[null,null,null,null,null,null,null,null,null,null,null,null,null,null,null,null,null,null,null,null,null,null,null,null,null,null,null,null,null,"№159",{"$f":"_xlfn.NORM.INV(RAND(),$Z$3,$I$20)","v":2.8923345968874679},{"$f":"_xlfn.NORM.INV(RAND(),$AA$3,$O$20)","v":0.54336513295792233},1.717849864922695,{"$f":"ROUND(AG319,0)","v":2},{"$f":"ROUND(AG320,0)","v":1},{"$f":"IF(AH319>AI319,1,\"\")","v":1},{"$f":"IF(AH319=AI319,1,\"\")","v":""},{"$f":"IF(AH319<AI319,1,\"\")","v":""},{"$f":"AH319&\"-\"&AI319","v":"2-1"}]
[null,null,null,null,null,null,null,null,null,null,null,null,null,null,null,null,null,null,null,null,null,null,null,null,null,null,null,null,null,null,{"$f":"_xlfn.NORM.INV(RAND(),$Z$4,$N$20)","v":2.2405380879217063},{"$f":"_xlfn.NORM.INV(RAND(),$AA$4,$J$20)","v":-8.5563373832794554E-2},1.0774873570444559]
[null,null,null,null,null,null,null,null,null,null,null,null,null,null,null,null,null,null,null,null,null,null,null,null,null,null,null,null,null,"№160",{"$f":"_xlfn.NORM.INV(RAND(),$Z$3,$I$20)","v":3.2903185472888605},{"$f":"_xlfn.NORM.INV(RAND(),$AA$3,$O$20)","v":-0.81298613375489781},1.2386662067669814,{"$f":"ROUND(AG321,0)","v":1},{"$f":"ROUND(AG322,0)","v":2},{"$f":"IF(AH321>AI321,1,\"\")","v":""},{"$f":"IF(AH321=AI321,1,\"\")","v":""},{"$f":"IF(AH321<AI321,1,\"\")","v":1},{"$f":"AH321&\"-\"&AI321","v":"1-2"}]
[null,null,null,null,null,null,null,null,null,null,null,null,null,null,null,null,null,null,null,null,null,null,null,null,null,null,null,null,null,null,{"$f":"_xlfn.NORM.INV(RAND(),$Z$4,$N$20)","v":1.8607989286307078},{"$f":"_xlfn.NORM.INV(RAND(),$AA$4,$J$20)","v":2.927359210465112},2.3940790695479102]
[null,null,null,null,null,null,null,null,null,null,null,null,null,null,null,null,null,null,null,null,null,null,null,null,null,null,null,null,null,"№161",{"$f":"_xlfn.NORM.INV(RAND(),$Z$3,$I$20)","v":2.8263473750405375},{"$f":"_xlfn.NORM.INV(RAND(),$AA$3,$O$20)","v":0.34387743295490125},1.5851124039977194,{"$f":"ROUND(AG323,0)","v":2},{"$f":"ROUND(AG324,0)","v":2},{"$f":"IF(AH323>AI323,1,\"\")","v":""},{"$f":"IF(AH323=AI323,1,\"\")","v":1},{"$f":"IF(AH323<AI323,1,\"\")","v":""},{"$f":"AH323&\"-\"&AI323","v":"2-2"}]
[null,null,null,null,null,null,null,null,null,null,null,null,null,null,null,null,null,null,null,null,null,null,null,null,null,null,null,null,null,null,{"$f":"_xlfn.NORM.INV(RAND(),$Z$4,$N$20)","v":2.6449179530793305},{"$f":"_xlfn.NORM.INV(RAND(),$AA$4,$J$20)","v":1.830912449638288},2.2379152013588093]
[null,null,null,null,null,null,null,null,null,null,null,null,null,null,null,null,null,null,null,null,null,null,null,null,null,null,null,null,null,"№162",{"$f":"_xlfn.NORM.INV(RAND(),$Z$3,$I$20)","v":4.2090477842163923},{"$f":"_xlfn.NORM.INV(RAND(),$AA$3,$O$20)","v":-0.69250809642383571},{"$f":"(AE325+AF325)/2","v":1.7582698438962783},{"$f":"ROUND(AG325,0)","v":2},{"$f":"ROUND(AG326,0)","v":3},{"$f":"IF(AH325>AI325,1,\"\")","v":""},{"$f":"IF(AH325=AI325,1,\"\")","v":""},{"$f":"IF(AH325<AI325,1,\"\")","v":1},{"$f":"AH325&\"-\"&AI325","v":"2-3"}]
[null,null,null,null,null,null,null,null,null,null,null,null,null,null,null,null,null,null,null,null,null,null,null,null,null,null,null,null,null,null,{"$f":"_xlfn.NORM.INV(RAND(),$Z$4,$N$20)","v":2.6375185013522375},{"$f":"_xlfn.NORM.INV(RAND(),$AA$4,$J$20)","v":2.6867471077046341},2.6621328045284356]
[null,null,null,null,null,null,null,null,null,null,null,null,null,null,null,null,null,null,null,null,null,null,null,null,null,null,null,null,null,"№163",{"$f":"_xlfn.NORM.INV(RAND(),$Z$3,$I$20)","v":5.5508749938307727},{"$f":"_xlfn.NORM.INV(RAND(),$AA$3,$O$20)","v":1.0274102168703378},3.2891426053505555,{"$f":"ROUND(AG327,0)","v":3},{"$f":"ROUND(AG328,0)","v":2},{"$f":"IF(AH327>AI327,1,\"\")","v":1},{"$f":"IF(AH327=AI327,1,\"\")","v":""},{"$f":"IF(AH327<AI327,1,\"\")","v":""},{"$f":"AH327&\"-\"&AI327","v":"3-2"}]
[null,null,null,null,null,null,null,null,null,null,null,null,null,null,null,null,null,null,null,null,null,null,null,null,null,null,null,null,null,null,{"$f":"_xlfn.NORM.INV(RAND(),$Z$4,$N$20)","v":1.8527949222429454},{"$f":"_xlfn.NORM.INV(RAND(),$AA$4,$J$20)","v":2.1064275253771414},1.9796112238100434]
[null,null,null,null,null,null,null,null,null,null,null,null,null,null,null,null,null,null,null,null,null,null,null,null,null,null,null,null,null,"№164",{"$f":"_xlfn.NORM.INV(RAND(),$Z$3,$I$20)","v":3.0135649031722265},{"$f":"_xlfn.NORM.INV(RAND(),$AA$3,$O$20)","v":0.73466168172045432},1.8741132924463404,{"$f":"ROUND(AG329,0)","v":2},{"$f":"ROUND(AG330,0)","v":1},{"$f":"IF(AH329>AI329,1,\"\")","v":1},{"$f":"IF(AH329=AI329,1,\"\")","v":""},{"$f":"IF(AH329<AI329,1,\"\")","v":""},{"$f":"AH329&\"-\"&AI329","v":"2-1"}]
[null,null,null,null,null,null,null,null,null,null,null,null,null,null,null,null,null,null,null,null,null,null,null,null,null,null,null,null,null,null,{"$f":"_xlfn.NORM.INV(RAND(),$Z$4,$N$20)","v":1.4184729123368884},{"$f":"_xlfn.NORM.INV(RAND(),$AA$4,$J$20)","v":1.2735669653157544},1.3460199388263214]
[null,null,null,null,null,null,null,null,null,null,null,null,null,null,null,null,null,null,null,null,null,null,null,null,null,null,null,null,null,"№165",{"$f":"_xlfn.NORM.INV(RAND(),$Z$3,$I$20)","v":3.4330743981370491},{"$f":"_xlfn.NORM.INV(RAND(),$AA$3,$O$20)","v":-1.1223923494705692},1.1553410243332398,{"$f":"ROUND(AG331,0)","v":1},{"$f":"ROUND(AG332,0)","v":2},{"$f":"IF(AH331>AI331,1,\"\")","v":""},{"$f":"IF(AH331=AI331,1,\"\")","v":""},{"$f":"IF(AH331<AI331,1,\"\")","v":1},{"$f":"AH331&\"-\"&AI331","v":"1-2"}]
[null,null,null,null,null,null,null,null,null,null,null,null,null,null,null,null,null,null,null,null,null,null,null,null,null,null,null,null,null,null,{"$f":"_xlfn.NORM.INV(RAND(),$Z$4,$N$20)","v":1.2636818527526312},{"$f":"_xlfn.NORM.INV(RAND(),$AA$4,$J$20)","v":3.5196691938852922},2.3916755233189617]
[null,null,null,null,null,null,null,null,null,null,null,null,null,null,null,null,null,null,null,null,null,null,null,null,null,null,null,null,null,"№166",{"$f":"_xlfn.NORM.INV(RAND(),$Z$3,$I$20)","v":0.60127575561717883},{"$f":"_xlfn.NORM.INV(RAND(),$AA$3,$O$20)","v":1.199795864082249},0.90053580984971393,{"$f":"ROUND(AG333,0)","v":1},{"$f":"ROUND(AG334,0)","v":2},{"$f":"IF(AH333>AI333,1,\"\")","v":""},{"$f":"IF(AH333=AI333,1,\"\")","v":""},{"$f":"IF(AH333<AI333,1,\"\")","v":1},{"$f":"AH333&\"-\"&AI333","v":"1-2"}]
[null,null,null,null,null,null,null,null,null,null,null,null,null,null,null,null,null,null,null,null,null,null,null,null,null,null,null,null,null,null,{"$f":"_xlfn.NORM.INV(RAND(),$Z$4,$N$20)","v":1.9320668776200467},{"$f":"_xlfn.NORM.INV(RAND(),$AA$4,$J$20)","v":2.1604206357247713},2.0462437566724088]
[null,null,null,null,null,null,null,null,null,null,null,null,null,null,null,null,null,null,null,null,null,null,null,null,null,null,null,null,null,"№167",{"$f":"_xlfn.NORM.INV(RAND(),$Z$3,$I$20)","v":2.1111769274254839},{"$f":"_xlfn.NORM.INV(RAND(),$AA$3,$O$20)","v":1.689193459100798},1.9001851932631411,{"$f":"ROUND(AG335,0)","v":2},{"$f":"ROUND(AG336,0)","v":2},{"$f":"IF(AH335>AI335,1,\"\")","v":""},{"$f":"IF(AH335=AI335,1,\"\")","v":1},{"$f":"IF(AH335<AI335,1,\"\")","v":""},{"$f":"AH335&\"-\"&AI335","v":"2-2"}]
[null,null,null,null,null,null,null,null,null,null,null,null,null,null,null,null,null,null,null,null,null,null,null,null,null,null,null,null,null,null,{"$f":"_xlfn.NORM.INV(RAND(),$Z$4,$N$20)","v":2.9180139928911339},{"$f":"_xlfn.NORM.INV(RAND(),$AA$4,$J$20)","v":0.97137704504358058},1.9446955189673574]
[null,null,null,null,null,null,null,null,null,null,null,null,null,null,null,null,null,null,null,null,null,null,null,null,null,null,null,null,null,"№168",{"$f":"_xlfn.NORM.INV(RAND(),$Z$3,$I$20)","v":3.7351597631949609},{"$f":"_xlfn.NORM.INV(RAND(),$AA$3,$O$20)","v":0.26704434548647937},2.0011020543407203,{"$f":"ROUND(AG337,0)","v":2},{"$f":"ROUND(AG338,0)","v":0},{"$f":"IF(AH337>AI337,1,\"\")","v":1},{"$f":"IF(AH337=AI337,1,\"\")","v":""},{"$f":"IF(AH337<AI337,1,\"\")","v":""},{"$f":"AH337&\"-\"&AI337","v":"2-0"}]
[null,null,null,null,null,null,null,null,null,null,null,null,null,null,null,null,null,null,null,null,null,null,null,null,null,null,null,null,null,null,{"$f":"_xlfn.NORM.INV(RAND(),$Z$4,$N$20)","v":1.2196728554222673},{"$f":"_xlfn.NORM.INV(RAND(),$AA$4,$J$20)","v":-0.52460098164531876},0.34753593688847428]
[null,null,null,null,null,null,null,null,null,null,null,null,null,null,null,null,null,null,null,null,null,null,null,null,null,null,null,null,null,"№169",{"$f":"_xlfn.NORM.INV(RAND(),$Z$3,$I$20)","v":1.4792837570072659},{"$f":"_xlfn.NORM.INV(RAND(),$AA$3,$O$20)","v":0.11910269900277159},0.79919322800501869,{"$f":"ROUND(AG339,0)","v":1},{"$f":"ROUND(AG340,0)","v":2},{"$f":"IF(AH339>AI339,1,\"\")","v":""},{"$f":"IF(AH339=AI339,1,\"\")","v":""},{"$f":"IF(AH339<AI339,1,\"\")","v":1},{"$f":"AH339&\"-\"&AI339","v":"1-2"}]
[null,null,null,null,null,null,null,null,null,null,null,null,null,null,null,null,null,null,null,null,null,null,null,null,null,null,null,null,null,null,{"$f":"_xlfn.NORM.INV(RAND(),$Z$4,$N$20)","v":2.0140864243630059},{"$f":"_xlfn.NORM.INV(RAND(),$AA$4,$J$20)","v":1.3412811152411301},1.6776837698020679]
[null,null,null,null,null,null,null,null,null,null,null,null,null,null,null,null,null,null,null,null,null,null,null,null,null,null,null,null,null,"№170",{"$f":"_xlfn.NORM.INV(RAND(),$Z$3,$I$20)","v":4.0844419026459704},{"$f":"_xlfn.NORM.INV(RAND(),$AA$3,$O$20)","v":0.68221366736302347},2.3833277850044969,{"$f":"ROUND(AG341,0)","v":2},{"$f":"ROUND(AG342,0)","v":2},{"$f":"IF(AH341>AI341,1,\"\")","v":""},{"$f":"IF(AH341=AI341,1,\"\")","v":1},{"$f":"IF(AH341<AI341,1,\"\")","v":""},{"$f":"AH341&\"-\"&AI341","v":"2-2"}]
[null,null,null,null,null,null,null,null,null,null,null,null,null,null,null,null,null,null,null,null,null,null,null,null,null,null,null,null,null,null,{"$f":"_xlfn.NORM.INV(RAND(),$Z$4,$N$20)","v":2.6573903838813138},{"$f":"_xlfn.NORM.INV(RAND(),$AA$4,$J$20)","v":0.49547427911113351},1.5764323314962236]
[null,null,null,null,null,null,null,null,null,null,null,null,null,null,null,null,null,null,null,null,null,null,null,null,null,null,null,null,null,"№171",{"$f":"_xlfn.NORM.INV(RAND(),$Z$3,$I$20)","v":1.6744128023795553},{"$f":"_xlfn.NORM.INV(RAND(),$AA$3,$O$20)","v":1.0663095618087484},1.3703611820941517,{"$f":"ROUND(AG343,0)","v":1},{"$f":"ROUND(AG344,0)","v":3},{"$f":"IF(AH343>AI343,1,\"\")","v":""},{"$f":"IF(AH343=AI343,1,\"\")","v":""},{"$f":"IF(AH343<AI343,1,\"\")","v":1},{"$f":"AH343&\"-\"&AI343","v":"1-3"}]
[null,null,null,null,null,null,null,null,null,null,null,null,null,null,null,null,null,null,null,null,null,null,null,null,null,null,null,null,null,null,{"$f":"_xlfn.NORM.INV(RAND(),$Z$4,$N$20)","v":3.7177701607165181},{"$f":"_xlfn.NORM.INV(RAND(),$AA$4,$J$20)","v":2.30526412617917},3.0115171434478443]
[null,null,null,null,null,null,null,null,null,null,null,null,null,null,null,null,null,null,null,null,null,null,null,null,null,null,null,null,null,"№172",{"$f":"_xlfn.NORM.INV(RAND(),$Z$3,$I$20)","v":2.6151160146976453},{"$f":"_xlfn.NORM.INV(RAND(),$AA$3,$O$20)","v":0.1612673847221191},1.3881916997098822,{"$f":"ROUND(AG345,0)","v":1},{"$f":"ROUND(AG346,0)","v":1},{"$f":"IF(AH345>AI345,1,\"\")","v":""},{"$f":"IF(AH345=AI345,1,\"\")","v":1},{"$f":"IF(AH345<AI345,1,\"\")","v":""},{"$f":"AH345&\"-\"&AI345","v":"1-1"}]
[null,null,null,null,null,null,null,null,null,null,null,null,null,null,null,null,null,null,null,null,null,null,null,null,null,null,null,null,null,null,{"$f":"_xlfn.NORM.INV(RAND(),$Z$4,$N$20)","v":1.648445508297961},{"$f":"_xlfn.NORM.INV(RAND(),$AA$4,$J$20)","v":0.7989527512577923},1.2236991297778768]
[null,null,null,null,null,null,null,null,null,null,null,null,null,null,null,null,null,null,null,null,null,null,null,null,null,null,null,null,null,"№173",{"$f":"_xlfn.NORM.INV(RAND(),$Z$3,$I$20)","v":3.2153122370872209},{"$f":"_xlfn.NORM.INV(RAND(),$AA$3,$O$20)","v":1.2087087420350366},2.2120104895611288,{"$f":"ROUND(AG347,0)","v":2},{"$f":"ROUND(AG348,0)","v":1},{"$f":"IF(AH347>AI347,1,\"\")","v":1},{"$f":"IF(AH347=AI347,1,\"\")","v":""},{"$f":"IF(AH347<AI347,1,\"\")","v":""},{"$f":"AH347&\"-\"&AI347","v":"2-1"}]
[null,null,null,null,null,null,null,null,null,null,null,null,null,null,null,null,null,null,null,null,null,null,null,null,null,null,null,null,null,null,{"$f":"_xlfn.NORM.INV(RAND(),$Z$4,$N$20)","v":2.7071849566018917},{"$f":"_xlfn.NORM.INV(RAND(),$AA$4,$J$20)","v":-7.8485436233808326E-3},1.3496682064892553]
[null,null,null,null,null,null,null,null,null,null,null,null,null,null,null,null,null,null,null,null,null,null,null,null,null,null,null,null,null,"№174",{"$f":"_xlfn.NORM.INV(RAND(),$Z$3,$I$20)","v":3.3188360883703547},{"$f":"_xlfn.NORM.INV(RAND(),$AA$3,$O$20)","v":0.98950014601876723},2.154168117194561,{"$f":"ROUND(AG349,0)","v":2},{"$f":"ROUND(AG350,0)","v":1},{"$f":"IF(AH349>AI349,1,\"\")","v":1},{"$f":"IF(AH349=AI349,1,\"\")","v":""},{"$f":"IF(AH349<AI349,1,\"\")","v":""},{"$f":"AH349&\"-\"&AI349","v":"2-1"}]
[null,null,null,null,null,null,null,null,null,null,null,null,null,null,null,null,null,null,null,null,null,null,null,null,null,null,null,null,null,null,{"$f":"_xlfn.NORM.INV(RAND(),$Z$4,$N$20)","v":2.2854032104193331},{"$f":"_xlfn.NORM.INV(RAND(),$AA$4,$J$20)","v":-0.38459168645610853},0.95040576198161231]
[null,null,null,null,null,null,null,null,null,null,null,null,null,null,null,null,null,null,null,null,null,null,null,null,null,null,null,null,null,"№175",{"$f":"_xlfn.NORM.INV(RAND(),$Z$3,$I$20)","v":2.3889113787938498},{"$f":"_xlfn.NORM.INV(RAND(),$AA$3,$O$20)","v":0.22652829847413647},1.3077198386339932,{"$f":"ROUND(AG351,0)","v":1},{"$f":"ROUND(AG352,0)","v":0},{"$f":"IF(AH351>AI351,1,\"\")","v":1},{"$f":"IF(AH351=AI351,1,\"\")","v":""},{"$f":"IF(AH351<AI351,1,\"\")","v":""},{"$f":"AH351&\"-\"&AI351","v":"1-0"}]
[null,null,null,null,null,null,null,null,null,null,null,null,null,null,null,null,null,null,null,null,null,null,null,null,null,null,null,null,null,null,{"$f":"_xlfn.NORM.INV(RAND(),$Z$4,$N$20)","v":2.202229972426565},{"$f":"_xlfn.NORM.INV(RAND(),$AA$4,$J$20)","v":-2.1959952494900175},3.1173614682737938E-3]
[null,null,null,null,null,null,null,null,null,null,null,null,null,null,null,null,null,null,null,null,null,null,null,null,null,null,null,null,null,"№176",{"$f":"_xlfn.NORM.INV(RAND(),$Z$3,$I$20)","v":3.1443289820131559},{"$f":"_xlfn.NORM.INV(RAND(),$AA$3,$O$20)","v":1.2245978619892515},2.1844634220012038,{"$f":"ROUND(AG353,0)","v":2},{"$f":"ROUND(AG354,0)","v":3},{"$f":"IF(AH353>AI353,1,\"\")","v":""},{"$f":"IF(AH353=AI353,1,\"\")","v":""},{"$f":"IF(AH353<AI353,1,\"\")","v":1},{"$f":"AH353&\"-\"&AI353","v":"2-3"}]
[null,null,null,null,null,null,null,null,null,null,null,null,null,null,null,null,null,null,null,null,null,null,null,null,null,null,null,null,null,null,{"$f":"_xlfn.NORM.INV(RAND(),$Z$4,$N$20)","v":2.9725862820624642},{"$f":"_xlfn.NORM.INV(RAND(),$AA$4,$J$20)","v":3.8585161241946877},3.415551203128576]
[null,null,null,null,null,null,null,null,null,null,null,null,null,null,null,null,null,null,null,null,null,null,null,null,null,null,null,null,null,"№177",{"$f":"_xlfn.NORM.INV(RAND(),$Z$3,$I$20)","v":2.5690049275308748},{"$f":"_xlfn.NORM.INV(RAND(),$AA$3,$O$20)","v":2.3186865685923275},2.4438457480616012,{"$f":"ROUND(AG355,0)","v":2},{"$f":"ROUND(AG356,0)","v":2},{"$f":"IF(AH355>AI355,1,\"\")","v":""},{"$f":"IF(AH355=AI355,1,\"\")","v":1},{"$f":"IF(AH355<AI355,1,\"\")","v":""},{"$f":"AH355&\"-\"&AI355","v":"2-2"}]
[null,null,null,null,null,null,null,null,null,null,null,null,null,null,null,null,null,null,null,null,null,null,null,null,null,null,null,null,null,null,{"$f":"_xlfn.NORM.INV(RAND(),$Z$4,$N$20)","v":1.9900636768990481},{"$f":"_xlfn.NORM.INV(RAND(),$AA$4,$J$20)","v":2.5157887416675795},2.2529262092833138]
[null,null,null,null,null,null,null,null,null,null,null,null,null,null,null,null,null,null,null,null,null,null,null,null,null,null,null,null,null,"№178",{"$f":"_xlfn.NORM.INV(RAND(),$Z$3,$I$20)","v":2.1238863892547668},{"$f":"_xlfn.NORM.INV(RAND(),$AA$3,$O$20)","v":1.9055963058191314},2.0147413475369493,{"$f":"ROUND(AG357,0)","v":2},{"$f":"ROUND(AG358,0)","v":2},{"$f":"IF(AH357>AI357,1,\"\")","v":""},{"$f":"IF(AH357=AI357,1,\"\")","v":1},{"$f":"IF(AH357<AI357,1,\"\")","v":""},{"$f":"AH357&\"-\"&AI357","v":"2-2"}]
[null,null,null,null,null,null,null,null,null,null,null,null,null,null,null,null,null,null,null,null,null,null,null,null,null,null,null,null,null,null,{"$f":"_xlfn.NORM.INV(RAND(),$Z$4,$N$20)","v":2.8407870969155233},{"$f":"_xlfn.NORM.INV(RAND(),$AA$4,$J$20)","v":2.0115965848505435},2.4261918408830336]
[null,null,null,null,null,null,null,null,null,null,null,null,null,null,null,null,null,null,null,null,null,null,null,null,null,null,null,null,null,"№179",{"$f":"_xlfn.NORM.INV(RAND(),$Z$3,$I$20)","v":2.3919799827521233},{"$f":"_xlfn.NORM.INV(RAND(),$AA$3,$O$20)","v":1.0649750622932064},1.728477522522665,{"$f":"ROUND(AG359,0)","v":2},{"$f":"ROUND(AG360,0)","v":1},{"$f":"IF(AH359>AI359,1,\"\")","v":1},{"$f":"IF(AH359=AI359,1,\"\")","v":""},{"$f":"IF(AH359<AI359,1,\"\")","v":""},{"$f":"AH359&\"-\"&AI359","v":"2-1"}]
[null,null,null,null,null,null,null,null,null,null,null,null,null,null,null,null,null,null,null,null,null,null,null,null,null,null,null,null,null,null,{"$f":"_xlfn.NORM.INV(RAND(),$Z$4,$N$20)","v":1.2870854944186023},{"$f":"_xlfn.NORM.INV(RAND(),$AA$4,$J$20)","v":1.4128411224880013},1.3499633084533018]
[null,null,null,null,null,null,null,null,null,null,null,null,null,null,null,null,null,null,null,null,null,null,null,null,null,null,null,null,null,"№180",{"$f":"_xlfn.NORM.INV(RAND(),$Z$3,$I$20)","v":8.1794617237283589},{"$f":"_xlfn.NORM.INV(RAND(),$AA$3,$O$20)","v":0.60686873969598476},4.3931652317121719,{"$f":"ROUND(AG361,0)","v":4},{"$f":"ROUND(AG362,0)","v":1},{"$f":"IF(AH361>AI361,1,\"\")","v":1},{"$f":"IF(AH361=AI361,1,\"\")","v":""},{"$f":"IF(AH361<AI361,1,\"\")","v":""},{"$f":"AH361&\"-\"&AI361","v":"4-1"}]
[null,null,null,null,null,null,null,null,null,null,null,null,null,null,null,null,null,null,null,null,null,null,null,null,null,null,null,null,null,null,{"$f":"_xlfn.NORM.INV(RAND(),$Z$4,$N$20)","v":1.0356358330284832},{"$f":"_xlfn.NORM.INV(RAND(),$AA$4,$J$20)","v":-1.6572009077464811E-2},0.50953191197550918]
[null,null,null,null,null,null,null,null,null,null,null,null,null,null,null,null,null,null,null,null,null,null,null,null,null,null,null,null,null,"№181",{"$f":"_xlfn.NORM.INV(RAND(),$Z$3,$I$20)","v":4.3479964908909032},{"$f":"_xlfn.NORM.INV(RAND(),$AA$3,$O$20)","v":1.9313337100893582},3.1396651004901308,{"$f":"ROUND(AG363,0)","v":3},{"$f":"ROUND(AG364,0)","v":3},{"$f":"IF(AH363>AI363,1,\"\")","v":""},{"$f":"IF(AH363=AI363,1,\"\")","v":1},{"$f":"IF(AH363<AI363,1,\"\")","v":""},{"$f":"AH363&\"-\"&AI363","v":"3-3"}]
[null,null,null,null,null,null,null,null,null,null,null,null,null,null,null,null,null,null,null,null,null,null,null,null,null,null,null,null,null,null,{"$f":"_xlfn.NORM.INV(RAND(),$Z$4,$N$20)","v":3.4451369607760207},{"$f":"_xlfn.NORM.INV(RAND(),$AA$4,$J$20)","v":2.5397522182834495},2.9924445895297351]
[null,null,null,null,null,null,null,null,null,null,null,null,null,null,null,null,null,null,null,null,null,null,null,null,null,null,null,null,null,"№182",{"$f":"_xlfn.NORM.INV(RAND(),$Z$3,$I$20)","v":2.9966123133382396},{"$f":"_xlfn.NORM.INV(RAND(),$AA$3,$O$20)","v":1.7651950047945926},2.3809036590664161,{"$f":"ROUND(AG365,0)","v":2},{"$f":"ROUND(AG366,0)","v":3},{"$f":"IF(AH365>AI365,1,\"\")","v":""},{"$f":"IF(AH365=AI365,1,\"\")","v":""},{"$f":"IF(AH365<AI365,1,\"\")","v":1},{"$f":"AH365&\"-\"&AI365","v":"2-3"}]
[null,null,null,null,null,null,null,null,null,null,null,null,null,null,null,null,null,null,null,null,null,null,null,null,null,null,null,null,null,null,{"$f":"_xlfn.NORM.INV(RAND(),$Z$4,$N$20)","v":2.1547207347658865},{"$f":"_xlfn.NORM.INV(RAND(),$AA$4,$J$20)","v":4.2110830343250036},3.1829018845454451]
[null,null,null,null,null,null,null,null,null,null,null,null,null,null,null,null,null,null,null,null,null,null,null,null,null,null,null,null,null,"№183",{"$f":"_xlfn.NORM.INV(RAND(),$Z$3,$I$20)","v":1.790751918083249},{"$f":"_xlfn.NORM.INV(RAND(),$AA$3,$O$20)","v":0.22473990768326146},1.0077459128832551,{"$f":"ROUND(AG367,0)","v":1},{"$f":"ROUND(AG368,0)","v":1},{"$f":"IF(AH367>AI367,1,\"\")","v":""},{"$f":"IF(AH367=AI367,1,\"\")","v":1},{"$f":"IF(AH367<AI367,1,\"\")","v":""},{"$f":"AH367&\"-\"&AI367","v":"1-1"}]
[null,null,null,null,null,null,null,null,null,null,null,null,null,null,null,null,null,null,null,null,null,null,null,null,null,null,null,null,null,null,{"$f":"_xlfn.NORM.INV(RAND(),$Z$4,$N$20)","v":1.9306417102532056},{"$f":"_xlfn.NORM.INV(RAND(),$AA$4,$J$20)","v":0.98278553261333279},1.4567136214332692]
[null,null,null,null,null,null,null,null,null,null,null,null,null,null,null,null,null,null,null,null,null,null,null,null,null,null,null,null,null,"№184",{"$f":"_xlfn.NORM.INV(RAND(),$Z$3,$I$20)","v":3.9431352890474649},{"$f":"_xlfn.NORM.INV(RAND(),$AA$3,$O$20)","v":2.883799151765432},3.4134672204064485,{"$f":"ROUND(AG369,0)","v":3},{"$f":"ROUND(AG370,0)","v":2},{"$f":"IF(AH369>AI369,1,\"\")","v":1},{"$f":"IF(AH369=AI369,1,\"\")","v":""},{"$f":"IF(AH369<AI369,1,\"\")","v":""},{"$f":"AH369&\"-\"&AI369","v":"3-2"}]
[null,null,null,null,null,null,null,null,null,null,null,null,null,null,null,null,null,null,null,null,null,null,null,null,null,null,null,null,null,null,{"$f":"_xlfn.NORM.INV(RAND(),$Z$4,$N$20)","v":2.623001593029167},{"$f":"_xlfn.NORM.INV(RAND(),$AA$4,$J$20)","v":0.64080341215637626},1.6319025025927716]
[null,null,null,null,null,null,null,null,null,null,null,null,null,null,null,null,null,null,null,null,null,null,null,null,null,null,null,null,null,"№185",{"$f":"_xlfn.NORM.INV(RAND(),$Z$3,$I$20)","v":3.1336952880420403},{"$f":"_xlfn.NORM.INV(RAND(),$AA$3,$O$20)","v":-1.1743182645116763},0.97968851176518201,{"$f":"ROUND(AG371,0)","v":1},{"$f":"ROUND(AG372,0)","v":1},{"$f":"IF(AH371>AI371,1,\"\")","v":""},{"$f":"IF(AH371=AI371,1,\"\")","v":1},{"$f":"IF(AH371<AI371,1,\"\")","v":""},{"$f":"AH371&\"-\"&AI371","v":"1-1"}]
[null,null,null,null,null,null,null,null,null,null,null,null,null,null,null,null,null,null,null,null,null,null,null,null,null,null,null,null,null,null,{"$f":"_xlfn.NORM.INV(RAND(),$Z$4,$N$20)","v":2.3427789007146069},{"$f":"_xlfn.NORM.INV(RAND(),$AA$4,$J$20)","v":0.48539439078658542},1.4140866457505963]
[null,null,null,null,null,null,null,null,null,null,null,null,null,null,null,null,null,null,null,null,null,null,null,null,null,null,null,null,null,"№186",{"$f":"_xlfn.NORM.INV(RAND(),$Z$3,$I$20)","v":2.0357161437488278},{"$f":"_xlfn.NORM.INV(RAND(),$AA$3,$O$20)","v":1.5846912465112668},1.8102036951300473,{"$f":"ROUND(AG373,0)","v":2},{"$f":"ROUND(AG374,0)","v":2},{"$f":"IF(AH373>AI373,1,\"\")","v":""},{"$f":"IF(AH373=AI373,1,\"\")","v":1},{"$f":"IF(AH373<AI373,1,\"\")","v":""},{"$f":"AH373&\"-\"&AI373","v":"2-2"}]
[null,null,null,null,null,null,null,null,null,null,null,null,null,null,null,null,null,null,null,null,null,null,null,null,null,null,null,null,null,null,{"$f":"_xlfn.NORM.INV(RAND(),$Z$4,$N$20)","v":3.0550621628285373},{"$f":"_xlfn.NORM.INV(RAND(),$AA$4,$J$20)","v":0.23367032876946836},1.6443662457990027]
[null,null,null,null,null,null,null,null,null,null,null,null,null,null,null,null,null,null,null,null,null,null,null,null,null,null,null,null,null,"№187",{"$f":"_xlfn.NORM.INV(RAND(),$Z$3,$I$20)","v":4.2601759773058303},{"$f":"_xlfn.NORM.INV(RAND(),$AA$3,$O$20)","v":1.9605792847001149},3.1103776310029727,{"$f":"ROUND(AG375,0)","v":3},{"$f":"ROUND(AG376,0)","v":3},{"$f":"IF(AH375>AI375,1,\"\")","v":""},{"$f":"IF(AH375=AI375,1,\"\")","v":1},{"$f":"IF(AH375<AI375,1,\"\")","v":""},{"$f":"AH375&\"-\"&AI375","v":"3-3"}]
[null,null,null,null,null,null,null,null,null,null,null,null,null,null,null,null,null,null,null,null,null,null,null,null,null,null,null,null,null,null,{"$f":"_xlfn.NORM.INV(RAND(),$Z$4,$N$20)","v":2.5945619467924077},{"$f":"_xlfn.NORM.INV(RAND(),$AA$4,$J$20)","v":2.9351634513498626},2.7648626990711351]
[null,null,null,null,null,null,null,null,null,null,null,null,null,null,null,null,null,null,null,null,null,null,null,null,null,null,null,null,null,"№188",{"$f":"_xlfn.NORM.INV(RAND(),$Z$3,$I$20)","v":3.2863505710769396},{"$f":"_xlfn.NORM.INV(RAND(),$AA$3,$O$20)","v":0.63212526282963788},1.9592379169532887,{"$f":"ROUND(AG377,0)","v":2},{"$f":"ROUND(AG378,0)","v":0},{"$f":"IF(AH377>AI377,1,\"\")","v":1},{"$f":"IF(AH377=AI377,1,\"\")","v":""},{"$f":"IF(AH377<AI377,1,\"\")","v":""},{"$f":"AH377&\"-\"&AI377","v":"2-0"}]
[null,null,null,null,null,null,null,null,null,null,null,null,null,null,null,null,null,null,null,null,null,null,null,null,null,null,null,null,null,null,{"$f":"_xlfn.NORM.INV(RAND(),$Z$4,$N$20)","v":2.940948228239546},{"$f":"_xlfn.NORM.INV(RAND(),$AA$4,$J$20)","v":-2.2485770918707106},0.3461855681844177]
[null,null,null,null,null,null,null,null,null,null,null,null,null,null,null,null,null,null,null,null,null,null,null,null,null,null,null,null,null,"№189",{"$f":"_xlfn.NORM.INV(RAND(),$Z$3,$I$20)","v":4.3657961278311648},{"$f":"_xlfn.NORM.INV(RAND(),$AA$3,$O$20)","v":1.0320946430667461},2.6989453854489556,{"$f":"ROUND(AG379,0)","v":3},{"$f":"ROUND(AG380,0)","v":0},{"$f":"IF(AH379>AI379,1,\"\")","v":1},{"$f":"IF(AH379=AI379,1,\"\")","v":""},{"$f":"IF(AH379<AI379,1,\"\")","v":""},{"$f":"AH379&\"-\"&AI379","v":"3-0"}]
[null,null,null,null,null,null,null,null,null,null,null,null,null,null,null,null,null,null,null,null,null,null,null,null,null,null,null,null,null,null,{"$f":"_xlfn.NORM.INV(RAND(),$Z$4,$N$20)","v":2.1862504868844148},{"$f":"_xlfn.NORM.INV(RAND(),$AA$4,$J$20)","v":-1.2910352753557306},0.44760760576434211]
[null,null,null,null,null,null,null,null,null,null,null,null,null,null,null,null,null,null,null,null,null,null,null,null,null,null,null,null,null,"№190",{"$f":"_xlfn.NORM.INV(RAND(),$Z$3,$I$20)","v":3.3142591023039825},{"$f":"_xlfn.NORM.INV(RAND(),$AA$3,$O$20)","v":0.30523304093605125},1.8097460716200169,{"$f":"ROUND(AG381,0)","v":2},{"$f":"ROUND(AG382,0)","v":2},{"$f":"IF(AH381>AI381,1,\"\")","v":""},{"$f":"IF(AH381=AI381,1,\"\")","v":1},{"$f":"IF(AH381<AI381,1,\"\")","v":""},{"$f":"AH381&\"-\"&AI381","v":"2-2"}]
[null,null,null,null,null,null,null,null,null,null,null,null,null,null,null,null,null,null,null,null,null,null,null,null,null,null,null,null,null,null,{"$f":"_xlfn.NORM.INV(RAND(),$Z$4,$N$20)","v":2.8380237851249106},{"$f":"_xlfn.NORM.INV(RAND(),$AA$4,$J$20)","v":1.314583962856938},2.0763038739909243]
[null,null,null,null,null,null,null,null,null,null,null,null,null,null,null,null,null,null,null,null,null,null,null,null,null,null,null,null,null,"№191",{"$f":"_xlfn.NORM.INV(RAND(),$Z$3,$I$20)","v":0.76178560595423361},{"$f":"_xlfn.NORM.INV(RAND(),$AA$3,$O$20)","v":1.8040092533361227},1.2828974296451783,{"$f":"ROUND(AG383,0)","v":1},{"$f":"ROUND(AG384,0)","v":2},{"$f":"IF(AH383>AI383,1,\"\")","v":""},{"$f":"IF(AH383=AI383,1,\"\")","v":""},{"$f":"IF(AH383<AI383,1,\"\")","v":1},{"$f":"AH383&\"-\"&AI383","v":"1-2"}]
[null,null,null,null,null,null,null,null,null,null,null,null,null,null,null,null,null,null,null,null,null,null,null,null,null,null,null,null,null,null,{"$f":"_xlfn.NORM.INV(RAND(),$Z$4,$N$20)","v":0.78472951294174642},{"$f":"_xlfn.NORM.INV(RAND(),$AA$4,$J$20)","v":2.3721891372532031},1.5784593250974748]
[null,null,null,null,null,null,null,null,null,null,null,null,null,null,null,null,null,null,null,null,null,null,null,null,null,null,null,null,null,"№192",{"$f":"_xlfn.NORM.INV(RAND(),$Z$3,$I$20)","v":2.0778344607010233},{"$f":"_xlfn.NORM.INV(RAND(),$AA$3,$O$20)","v":0.65273621529950021},1.3652853380002616,{"$f":"ROUND(AG385,0)","v":1},{"$f":"ROUND(AG386,0)","v":2},{"$f":"IF(AH385>AI385,1,\"\")","v":""},{"$f":"IF(AH385=AI385,1,\"\")","v":""},{"$f":"IF(AH385<AI385,1,\"\")","v":1},{"$f":"AH385&\"-\"&AI385","v":"1-2"}]
[null,null,null,null,null,null,null,null,null,null,null,null,null,null,null,null,null,null,null,null,null,null,null,null,null,null,null,null,null,null,{"$f":"_xlfn.NORM.INV(RAND(),$Z$4,$N$20)","v":1.9321966488937274},{"$f":"_xlfn.NORM.INV(RAND(),$AA$4,$J$20)","v":2.1398132460800805},2.0360049474869042]
[null,null,null,null,null,null,null,null,null,null,null,null,null,null,null,null,null,null,null,null,null,null,null,null,null,null,null,null,null,"№193",{"$f":"_xlfn.NORM.INV(RAND(),$Z$3,$I$20)","v":4.0462205433177116},{"$f":"_xlfn.NORM.INV(RAND(),$AA$3,$O$20)","v":0.12640693179046636},2.086313737554089,{"$f":"ROUND(AG387,0)","v":2},{"$f":"ROUND(AG388,0)","v":4},{"$f":"IF(AH387>AI387,1,\"\")","v":""},{"$f":"IF(AH387=AI387,1,\"\")","v":""},{"$f":"IF(AH387<AI387,1,\"\")","v":1},{"$f":"AH387&\"-\"&AI387","v":"2-4"}]
[null,null,null,null,null,null,null,null,null,null,null,null,null,null,null,null,null,null,null,null,null,null,null,null,null,null,null,null,null,null,{"$f":"_xlfn.NORM.INV(RAND(),$Z$4,$N$20)","v":3.2360504412926145},{"$f":"_xlfn.NORM.INV(RAND(),$AA$4,$J$20)","v":4.2559713343111714},3.746010887801893]
[null,null,null,null,null,null,null,null,null,null,null,null,null,null,null,null,null,null,null,null,null,null,null,null,null,null,null,null,null,"№194",{"$f":"_xlfn.NORM.INV(RAND(),$Z$3,$I$20)","v":1.6708003146158437},{"$f":"_xlfn.NORM.INV(RAND(),$AA$3,$O$20)","v":1.9439946694635197},{"$f":"(AE389+AF389)/2","v":1.8073974920396818},{"$f":"ROUND(AG389,0)","v":2},{"$f":"ROUND(AG390,0)","v":1},{"$f":"IF(AH389>AI389,1,\"\")","v":1},{"$f":"IF(AH389=AI389,1,\"\")","v":""},{"$f":"IF(AH389<AI389,1,\"\")","v":""},{"$f":"AH389&\"-\"&AI389","v":"2-1"}]
[null,null,null,null,null,null,null,null,null,null,null,null,null,null,null,null,null,null,null,null,null,null,null,null,null,null,null,null,null,null,{"$f":"_xlfn.NORM.INV(RAND(),$Z$4,$N$20)","v":2.8361253242500055},{"$f":"_xlfn.NORM.INV(RAND(),$AA$4,$J$20)","v":-0.40510776957280914},1.2155087773385982]
[null,null,null,null,null,null,null,null,null,null,null,null,null,null,null,null,null,null,null,null,null,null,null,null,null,null,null,null,null,"№195",{"$f":"_xlfn.NORM.INV(RAND(),$Z$3,$I$20)","v":6.9719925664678435},{"$f":"_xlfn.NORM.INV(RAND(),$AA$3,$O$20)","v":0.95577965918990371},3.9638861128288738,{"$f":"ROUND(AG391,0)","v":4},{"$f":"ROUND(AG392,0)","v":1},{"$f":"IF(AH391>AI391,1,\"\")","v":1},{"$f":"IF(AH391=AI391,1,\"\")","v":""},{"$f":"IF(AH391<AI391,1,\"\")","v":""},{"$f":"AH391&\"-\"&AI391","v":"4-1"}]
[null,null,null,null,null,null,null,null,null,null,null,null,null,null,null,null,null,null,null,null,null,null,null,null,null,null,null,null,null,null,{"$f":"_xlfn.NORM.INV(RAND(),$Z$4,$N$20)","v":1.6979062377822767},{"$f":"_xlfn.NORM.INV(RAND(),$AA$4,$J$20)","v":0.65303497891775109},1.1754706083500139]
[null,null,null,null,null,null,null,null,null,null,null,null,null,null,null,null,null,null,null,null,null,null,null,null,null,null,null,null,null,"№196",{"$f":"_xlfn.NORM.INV(RAND(),$Z$3,$I$20)","v":3.5316097452176645},{"$f":"_xlfn.NORM.INV(RAND(),$AA$3,$O$20)","v":-1.1249138105622678},1.2033479673276983,{"$f":"ROUND(AG393,0)","v":1},{"$f":"ROUND(AG394,0)","v":1},{"$f":"IF(AH393>AI393,1,\"\")","v":""},{"$f":"IF(AH393=AI393,1,\"\")","v":1},{"$f":"IF(AH393<AI393,1,\"\")","v":""},{"$f":"AH393&\"-\"&AI393","v":"1-1"}]
[null,null,null,null,null,null,null,null,null,null,null,null,null,null,null,null,null,null,null,null,null,null,null,null,null,null,null,null,null,null,{"$f":"_xlfn.NORM.INV(RAND(),$Z$4,$N$20)","v":1.9548631537335648},{"$f":"_xlfn.NORM.INV(RAND(),$AA$4,$J$20)","v":-0.50088652236427311},0.72698831568464584]
[null,null,null,null,null,null,null,null,null,null,null,null,null,null,null,null,null,null,null,null,null,null,null,null,null,null,null,null,null,"№197",{"$f":"_xlfn.NORM.INV(RAND(),$Z$3,$I$20)","v":2.9389567986382277},{"$f":"_xlfn.NORM.INV(RAND(),$AA$3,$O$20)","v":1.788007842924022},2.3634823207811246,{"$f":"ROUND(AG395,0)","v":2},{"$f":"ROUND(AG396,0)","v":2},{"$f":"IF(AH395>AI395,1,\"\")","v":""},{"$f":"IF(AH395=AI395,1,\"\")","v":1},{"$f":"IF(AH395<AI395,1,\"\")","v":""},{"$f":"AH395&\"-\"&AI395","v":"2-2"}]
[null,null,null,null,null,null,null,null,null,null,null,null,null,null,null,null,null,null,null,null,null,null,null,null,null,null,null,null,null,null,{"$f":"_xlfn.NORM.INV(RAND(),$Z$4,$N$20)","v":2.6450979788700706},{"$f":"_xlfn.NORM.INV(RAND(),$AA$4,$J$20)","v":2.2909851439073776},2.4680415613887243]
[null,null,null,null,null,null,null,null,null,null,null,null,null,null,null,null,null,null,null,null,null,null,null,null,null,null,null,null,null,"№198",{"$f":"_xlfn.NORM.INV(RAND(),$Z$3,$I$20)","v":3.5783149816523849},{"$f":"_xlfn.NORM.INV(RAND(),$AA$3,$O$20)","v":1.6745615671132676},2.6264382743828261,{"$f":"ROUND(AG397,0)","v":3},{"$f":"ROUND(AG398,0)","v":3},{"$f":"IF(AH397>AI397,1,\"\")","v":""},{"$f":"IF(AH397=AI397,1,\"\")","v":1},{"$f":"IF(AH397<AI397,1,\"\")","v":""},{"$f":"AH397&\"-\"&AI397","v":"3-3"}]
[null,null,null,null,null,null,null,null,null,null,null,null,null,null,null,null,null,null,null,null,null,null,null,null,null,null,null,null,null,null,{"$f":"_xlfn.NORM.INV(RAND(),$Z$4,$N$20)","v":3.5370251727627076},{"$f":"_xlfn.NORM.INV(RAND(),$AA$4,$J$20)","v":2.9424574811204418},3.2397413269415747]
[null,null,null,null,null,null,null,null,null,null,null,null,null,null,null,null,null,null,null,null,null,null,null,null,null,null,null,null,null,"№199",{"$f":"_xlfn.NORM.INV(RAND(),$Z$3,$I$20)","v":3.1709256750766897},{"$f":"_xlfn.NORM.INV(RAND(),$AA$3,$O$20)","v":0.5433344037993173},1.8571300394380035,{"$f":"ROUND(AG399,0)","v":2},{"$f":"ROUND(AG400,0)","v":2},{"$f":"IF(AH399>AI399,1,\"\")","v":""},{"$f":"IF(AH399=AI399,1,\"\")","v":1},{"$f":"IF(AH399<AI399,1,\"\")","v":""},{"$f":"AH399&\"-\"&AI399","v":"2-2"}]
[null,null,null,null,null,null,null,null,null,null,null,null,null,null,null,null,null,null,null,null,null,null,null,null,null,null,null,null,null,null,{"$f":"_xlfn.NORM.INV(RAND(),$Z$4,$N$20)","v":1.0467048606859821},{"$f":"_xlfn.NORM.INV(RAND(),$AA$4,$J$20)","v":2.237748318475457},1.6422265895807195]
[null,null,null,null,null,null,null,null,null,null,null,null,null,null,null,null,null,null,null,null,null,null,null,null,null,null,null,null,null,"№200",{"$f":"_xlfn.NORM.INV(RAND(),$Z$3,$I$20)","v":4.6270653819797074},{"$f":"_xlfn.NORM.INV(RAND(),$AA$3,$O$20)","v":0.61943352278006381},2.6232494523798855,{"$f":"ROUND(AG401,0)","v":3},{"$f":"ROUND(AG402,0)","v":3},{"$f":"IF(AH401>AI401,1,\"\")","v":""},{"$f":"IF(AH401=AI401,1,\"\")","v":1},{"$f":"IF(AH401<AI401,1,\"\")","v":""},{"$f":"AH401&\"-\"&AI401","v":"3-3"}]
[null,null,null,null,null,null,null,null,null,null,null,null,null,null,null,null,null,null,null,null,null,null,null,null,null,null,null,null,null,null,{"$f":"_xlfn.NORM.INV(RAND(),$Z$4,$N$20)","v":1.2589599836603975},{"$f":"_xlfn.NORM.INV(RAND(),$AA$4,$J$20)","v":5.7171151551536212},3.4880375694070094]
[null,null,null,null,null,null,null,null,null,null,null,null,null,null,null,null,null,null,null,null,null,null,null,null,null,null,null,null,null,"№201",{"$f":"_xlfn.NORM.INV(RAND(),$Z$3,$I$20)","v":3.3667694486612807},{"$f":"_xlfn.NORM.INV(RAND(),$AA$3,$O$20)","v":-0.93911108255153586},1.2138291830548724,{"$f":"ROUND(AG403,0)","v":1},{"$f":"ROUND(AG404,0)","v":2},{"$f":"IF(AH403>AI403,1,\"\")","v":""},{"$f":"IF(AH403=AI403,1,\"\")","v":""},{"$f":"IF(AH403<AI403,1,\"\")","v":1},{"$f":"AH403&\"-\"&AI403","v":"1-2"}]
[null,null,null,null,null,null,null,null,null,null,null,null,null,null,null,null,null,null,null,null,null,null,null,null,null,null,null,null,null,null,{"$f":"_xlfn.NORM.INV(RAND(),$Z$4,$N$20)","v":2.7595185231874537},{"$f":"_xlfn.NORM.INV(RAND(),$AA$4,$J$20)","v":0.5588660373083516},1.6591922802479027]
[null,null,null,null,null,null,null,null,null,null,null,null,null,null,null,null,null,null,null,null,null,null,null,null,null,null,null,null,null,"№202",{"$f":"_xlfn.NORM.INV(RAND(),$Z$3,$I$20)","v":2.8832669883160276},{"$f":"_xlfn.NORM.INV(RAND(),$AA$3,$O$20)","v":1.0712474062225623},1.9772571972692949,{"$f":"ROUND(AG405,0)","v":2},{"$f":"ROUND(AG406,0)","v":1},{"$f":"IF(AH405>AI405,1,\"\")","v":1},{"$f":"IF(AH405=AI405,1,\"\")","v":""},{"$f":"IF(AH405<AI405,1,\"\")","v":""},{"$f":"AH405&\"-\"&AI405","v":"2-1"}]
[null,null,null,null,null,null,null,null,null,null,null,null,null,null,null,null,null,null,null,null,null,null,null,null,null,null,null,null,null,null,{"$f":"_xlfn.NORM.INV(RAND(),$Z$4,$N$20)","v":0.84868391174493851},{"$f":"_xlfn.NORM.INV(RAND(),$AA$4,$J$20)","v":1.6234686246347583},1.2360762681898483]
[null,null,null,null,null,null,null,null,null,null,null,null,null,null,null,null,null,null,null,null,null,null,null,null,null,null,null,null,null,"№203",{"$f":"_xlfn.NORM.INV(RAND(),$Z$3,$I$20)","v":0.78272867688503167},{"$f":"_xlfn.NORM.INV(RAND(),$AA$3,$O$20)","v":0.50832410185071986},0.64552638936787576,{"$f":"ROUND(AG407,0)","v":1},{"$f":"ROUND(AG408,0)","v":1},{"$f":"IF(AH407>AI407,1,\"\")","v":""},{"$f":"IF(AH407=AI407,1,\"\")","v":1},{"$f":"IF(AH407<AI407,1,\"\")","v":""},{"$f":"AH407&\"-\"&AI407","v":"1-1"}]
[null,null,null,null,null,null,null,null,null,null,null,null,null,null,null,null,null,null,null,null,null,null,null,null,null,null,null,null,null,null,{"$f":"_xlfn.NORM.INV(RAND(),$Z$4,$N$20)","v":2.2047766374772042},{"$f":"_xlfn.NORM.INV(RAND(),$AA$4,$J$20)","v":6.9624471611374084E-2},1.1372005545442891]
[null,null,null,null,null,null,null,null,null,null,null,null,null,null,null,null,null,null,null,null,null,null,null,null,null,null,null,null,null,"№204",{"$f":"_xlfn.NORM.INV(RAND(),$Z$3,$I$20)","v":3.9206661170286732},{"$f":"_xlfn.NORM.INV(RAND(),$AA$3,$O$20)","v":1.1881031606619639},2.5543846388453186,{"$f":"ROUND(AG409,0)","v":3},{"$f":"ROUND(AG410,0)","v":2},{"$f":"IF(AH409>AI409,1,\"\")","v":1},{"$f":"IF(AH409=AI409,1,\"\")","v":""},{"$f":"IF(AH409<AI409,1,\"\")","v":""},{"$f":"AH409&\"-\"&AI409","v":"3-2"}]
[null,null,null,null,null,null,null,null,null,null,null,null,null,null,null,null,null,null,null,null,null,null,null,null,null,null,null,null,null,null,{"$f":"_xlfn.NORM.INV(RAND(),$Z$4,$N$20)","v":1.3584492696772419},{"$f":"_xlfn.NORM.INV(RAND(),$AA$4,$J$20)","v":1.7729905608661374},1.5657199152716896]
[null,null,null,null,null,null,null,null,null,null,null,null,null,null,null,null,null,null,null,null,null,null,null,null,null,null,null,null,null,"№205",{"$f":"_xlfn.NORM.INV(RAND(),$Z$3,$I$20)","v":2.0156002558534194},{"$f":"_xlfn.NORM.INV(RAND(),$AA$3,$O$20)","v":0.9253686061827604},1.47048443101809,{"$f":"ROUND(AG411,0)","v":1},{"$f":"ROUND(AG412,0)","v":2},{"$f":"IF(AH411>AI411,1,\"\")","v":""},{"$f":"IF(AH411=AI411,1,\"\")","v":""},{"$f":"IF(AH411<AI411,1,\"\")","v":1},{"$f":"AH411&\"-\"&AI411","v":"1-2"}]
[null,null,null,null,null,null,null,null,null,null,null,null,null,null,null,null,null,null,null,null,null,null,null,null,null,null,null,null,null,null,{"$f":"_xlfn.NORM.INV(RAND(),$Z$4,$N$20)","v":1.7499565656228318},{"$f":"_xlfn.NORM.INV(RAND(),$AA$4,$J$20)","v":1.7671664692554607},1.7585615174391462]
[null,null,null,null,null,null,null,null,null,null,null,null,null,null,null,null,null,null,null,null,null,null,null,null,null,null,null,null,null,"№206",{"$f":"_xlfn.NORM.INV(RAND(),$Z$3,$I$20)","v":1.720166364869723},{"$f":"_xlfn.NORM.INV(RAND(),$AA$3,$O$20)","v":3.9123914296415485E-2},0.87964513958306922,{"$f":"ROUND(AG413,0)","v":1},{"$f":"ROUND(AG414,0)","v":2},{"$f":"IF(AH413>AI413,1,\"\")","v":""},{"$f":"IF(AH413=AI413,1,\"\")","v":""},{"$f":"IF(AH413<AI413,1,\"\")","v":1},{"$f":"AH413&\"-\"&AI413","v":"1-2"}]
[null,null,null,null,null,null,null,null,null,null,null,null,null,null,null,null,null,null,null,null,null,null,null,null,null,null,null,null,null,null,{"$f":"_xlfn.NORM.INV(RAND(),$Z$4,$N$20)","v":2.7904119504913822},{"$f":"_xlfn.NORM.INV(RAND(),$AA$4,$J$20)","v":1.7041604526352123},2.2472862015632975]
[null,null,null,null,null,null,null,null,null,null,null,null,null,null,null,null,null,null,null,null,null,null,null,null,null,null,null,null,null,"№207",{"$f":"_xlfn.NORM.INV(RAND(),$Z$3,$I$20)","v":3.4927044508661238},{"$f":"_xlfn.NORM.INV(RAND(),$AA$3,$O$20)","v":0.92137274663533464},2.2070385987507293,{"$f":"ROUND(AG415,0)","v":2},{"$f":"ROUND(AG416,0)","v":1},{"$f":"IF(AH415>AI415,1,\"\")","v":1},{"$f":"IF(AH415=AI415,1,\"\")","v":""},{"$f":"IF(AH415<AI415,1,\"\")","v":""},{"$f":"AH415&\"-\"&AI415","v":"2-1"}]
[null,null,null,null,null,null,null,null,null,null,null,null,null,null,null,null,null,null,null,null,null,null,null,null,null,null,null,null,null,null,{"$f":"_xlfn.NORM.INV(RAND(),$Z$4,$N$20)","v":2.2741477564760264},{"$f":"_xlfn.NORM.INV(RAND(),$AA$4,$J$20)","v":0.26088594927629827},1.2675168528761622]
[null,null,null,null,null,null,null,null,null,null,null,null,null,null,null,null,null,null,null,null,null,null,null,null,null,null,null,null,null,"№208",{"$f":"_xlfn.NORM.INV(RAND(),$Z$3,$I$20)","v":3.2110792859925561},{"$f":"_xlfn.NORM.INV(RAND(),$AA$3,$O$20)","v":1.0042998941180239},2.1076895900552901,{"$f":"ROUND(AG417,0)","v":2},{"$f":"ROUND(AG418,0)","v":2},{"$f":"IF(AH417>AI417,1,\"\")","v":""},{"$f":"IF(AH417=AI417,1,\"\")","v":1},{"$f":"IF(AH417<AI417,1,\"\")","v":""},{"$f":"AH417&\"-\"&AI417","v":"2-2"}]
[null,null,null,null,null,null,null,null,null,null,null,null,null,null,null,null,null,null,null,null,null,null,null,null,null,null,null,null,null,null,{"$f":"_xlfn.NORM.INV(RAND(),$Z$4,$N$20)","v":2.8876208246533253},{"$f":"_xlfn.NORM.INV(RAND(),$AA$4,$J$20)","v":1.3739501385361761},2.1307854815947507]
[null,null,null,null,null,null,null,null,null,null,null,null,null,null,null,null,null,null,null,null,null,null,null,null,null,null,null,null,null,"№209",{"$f":"_xlfn.NORM.INV(RAND(),$Z$3,$I$20)","v":2.1750180036513731},{"$f":"_xlfn.NORM.INV(RAND(),$AA$3,$O$20)","v":0.23721267951096847},1.2061153415811707,{"$f":"ROUND(AG419,0)","v":1},{"$f":"ROUND(AG420,0)","v":2},{"$f":"IF(AH419>AI419,1,\"\")","v":""},{"$f":"IF(AH419=AI419,1,\"\")","v":""},{"$f":"IF(AH419<AI419,1,\"\")","v":1},{"$f":"AH419&\"-\"&AI419","v":"1-2"}]
[null,null,null,null,null,null,null,null,null,null,null,null,null,null,null,null,null,null,null,null,null,null,null,null,null,null,null,null,null,null,{"$f":"_xlfn.NORM.INV(RAND(),$Z$4,$N$20)","v":2.6985960953997834},{"$f":"_xlfn.NORM.INV(RAND(),$AA$4,$J$20)","v":0.69843003370559276},1.698513064552688]
[null,null,null,null,null,null,null,null,null,null,null,null,null,null,null,null,null,null,null,null,null,null,null,null,null,null,null,null,null,"№210",{"$f":"_xlfn.NORM.INV(RAND(),$Z$3,$I$20)","v":4.2163531307363353},{"$f":"_xlfn.NORM.INV(RAND(),$AA$3,$O$20)","v":0.77428777162776596},2.4953204511820508,{"$f":"ROUND(AG421,0)","v":2},{"$f":"ROUND(AG422,0)","v":3},{"$f":"IF(AH421>AI421,1,\"\")","v":""},{"$f":"IF(AH421=AI421,1,\"\")","v":""},{"$f":"IF(AH421<AI421,1,\"\")","v":1},{"$f":"AH421&\"-\"&AI421","v":"2-3"}]
[null,null,null,null,null,null,null,null,null,null,null,null,null,null,null,null,null,null,null,null,null,null,null,null,null,null,null,null,null,null,{"$f":"_xlfn.NORM.INV(RAND(),$Z$4,$N$20)","v":0.79119467781047637},{"$f":"_xlfn.NORM.INV(RAND(),$AA$4,$J$20)","v":5.2020974087060345},2.9966460432582553]
[null,null,null,null,null,null,null,null,null,null,null,null,null,null,null,null,null,null,null,null,null,null,null,null,null,null,null,null,null,"№211",{"$f":"_xlfn.NORM.INV(RAND(),$Z$3,$I$20)","v":3.4053039290257989},{"$f":"_xlfn.NORM.INV(RAND(),$AA$3,$O$20)","v":1.1266506204442506},2.2659772747350249,{"$f":"ROUND(AG423,0)","v":2},{"$f":"ROUND(AG424,0)","v":3},{"$f":"IF(AH423>AI423,1,\"\")","v":""},{"$f":"IF(AH423=AI423,1,\"\")","v":""},{"$f":"IF(AH423<AI423,1,\"\")","v":1},{"$f":"AH423&\"-\"&AI423","v":"2-3"}]
[null,null,null,null,null,null,null,null,null,null,null,null,null,null,null,null,null,null,null,null,null,null,null,null,null,null,null,null,null,null,{"$f":"_xlfn.NORM.INV(RAND(),$Z$4,$N$20)","v":3.4170228116267722},{"$f":"_xlfn.NORM.INV(RAND(),$AA$4,$J$20)","v":2.4375498206795143},2.9272863161531433]
[null,null,null,null,null,null,null,null,null,null,null,null,null,null,null,null,null,null,null,null,null,null,null,null,null,null,null,null,null,"№212",{"$f":"_xlfn.NORM.INV(RAND(),$Z$3,$I$20)","v":1.0484434230155828},{"$f":"_xlfn.NORM.INV(RAND(),$AA$3,$O$20)","v":0.39935086087268212},0.72389714194413246,{"$f":"ROUND(AG425,0)","v":1},{"$f":"ROUND(AG426,0)","v":2},{"$f":"IF(AH425>AI425,1,\"\")","v":""},{"$f":"IF(AH425=AI425,1,\"\")","v":""},{"$f":"IF(AH425<AI425,1,\"\")","v":1},{"$f":"AH425&\"-\"&AI425","v":"1-2"}]
[null,null,null,null,null,null,null,null,null,null,null,null,null,null,null,null,null,null,null,null,null,null,null,null,null,null,null,null,null,null,{"$f":"_xlfn.NORM.INV(RAND(),$Z$4,$N$20)","v":2.6801532919694631},{"$f":"_xlfn.NORM.INV(RAND(),$AA$4,$J$20)","v":1.2359502942370215},1.9580517931032424]
[null,null,null,null,null,null,null,null,null,null,null,null,null,null,null,null,null,null,null,null,null,null,null,null,null,null,null,null,null,"№213",{"$f":"_xlfn.NORM.INV(RAND(),$Z$3,$I$20)","v":4.2914412010977365},{"$f":"_xlfn.NORM.INV(RAND(),$AA$3,$O$20)","v":0.45960369844143883},2.3755224497695875,{"$f":"ROUND(AG427,0)","v":2},{"$f":"ROUND(AG428,0)","v":2},{"$f":"IF(AH427>AI427,1,\"\")","v":""},{"$f":"IF(AH427=AI427,1,\"\")","v":1},{"$f":"IF(AH427<AI427,1,\"\")","v":""},{"$f":"AH427&\"-\"&AI427","v":"2-2"}]
[null,null,null,null,null,null,null,null,null,null,null,null,null,null,null,null,null,null,null,null,null,null,null,null,null,null,null,null,null,null,{"$f":"_xlfn.NORM.INV(RAND(),$Z$4,$N$20)","v":1.6074955445683918},{"$f":"_xlfn.NORM.INV(RAND(),$AA$4,$J$20)","v":1.4627021270079075},1.5350988357881497]
[null,null,null,null,null,null,null,null,null,null,null,null,null,null,null,null,null,null,null,null,null,null,null,null,null,null,null,null,null,"№214",{"$f":"_xlfn.NORM.INV(RAND(),$Z$3,$I$20)","v":2.8158389584711041},{"$f":"_xlfn.NORM.INV(RAND(),$AA$3,$O$20)","v":-0.59326921718086045},1.1112848706451217,{"$f":"ROUND(AG429,0)","v":1},{"$f":"ROUND(AG430,0)","v":2},{"$f":"IF(AH429>AI429,1,\"\")","v":""},{"$f":"IF(AH429=AI429,1,\"\")","v":""},{"$f":"IF(AH429<AI429,1,\"\")","v":1},{"$f":"AH429&\"-\"&AI429","v":"1-2"}]
[null,null,null,null,null,null,null,null,null,null,null,null,null,null,null,null,null,null,null,null,null,null,null,null,null,null,null,null,null,null,{"$f":"_xlfn.NORM.INV(RAND(),$Z$4,$N$20)","v":1.7234055364170551},{"$f":"_xlfn.NORM.INV(RAND(),$AA$4,$J$20)","v":3.0306940635158162},2.3770497999664357]
[null,null,null,null,null,null,null,null,null,null,null,null,null,null,null,null,null,null,null,null,null,null,null,null,null,null,null,null,null,"№215",{"$f":"_xlfn.NORM.INV(RAND(),$Z$3,$I$20)","v":2.6009346392511956},{"$f":"_xlfn.NORM.INV(RAND(),$AA$3,$O$20)","v":0.86378604803980141},1.7323603436454986,{"$f":"ROUND(AG431,0)","v":2},{"$f":"ROUND(AG432,0)","v":2},{"$f":"IF(AH431>AI431,1,\"\")","v":""},{"$f":"IF(AH431=AI431,1,\"\")","v":1},{"$f":"IF(AH431<AI431,1,\"\")","v":""},{"$f":"AH431&\"-\"&AI431","v":"2-2"}]
[null,null,null,null,null,null,null,null,null,null,null,null,null,null,null,null,null,null,null,null,null,null,null,null,null,null,null,null,null,null,{"$f":"_xlfn.NORM.INV(RAND(),$Z$4,$N$20)","v":1.6727205100600577},{"$f":"_xlfn.NORM.INV(RAND(),$AA$4,$J$20)","v":1.802750394562739},1.7377354523113984]
[null,null,null,null,null,null,null,null,null,null,null,null,null,null,null,null,null,null,null,null,null,null,null,null,null,null,null,null,null,"№216",{"$f":"_xlfn.NORM.INV(RAND(),$Z$3,$I$20)","v":4.5684921157680938},{"$f":"_xlfn.NORM.INV(RAND(),$AA$3,$O$20)","v":0.15319974437770256},2.3608459300728981,{"$f":"ROUND(AG433,0)","v":2},{"$f":"ROUND(AG434,0)","v":1},{"$f":"IF(AH433>AI433,1,\"\")","v":1},{"$f":"IF(AH433=AI433,1,\"\")","v":""},{"$f":"IF(AH433<AI433,1,\"\")","v":""},{"$f":"AH433&\"-\"&AI433","v":"2-1"}]
[null,null,null,null,null,null,null,null,null,null,null,null,null,null,null,null,null,null,null,null,null,null,null,null,null,null,null,null,null,null,{"$f":"_xlfn.NORM.INV(RAND(),$Z$4,$N$20)","v":2.0213459106506879},{"$f":"_xlfn.NORM.INV(RAND(),$AA$4,$J$20)","v":-0.20790321339630791},0.90672134862719]
[null,null,null,null,null,null,null,null,null,null,null,null,null,null,null,null,null,null,null,null,null,null,null,null,null,null,null,null,null,"№217",{"$f":"_xlfn.NORM.INV(RAND(),$Z$3,$I$20)","v":4.276013035917031},{"$f":"_xlfn.NORM.INV(RAND(),$AA$3,$O$20)","v":1.5814511633237038},2.9287320996203672,{"$f":"ROUND(AG435,0)","v":3},{"$f":"ROUND(AG436,0)","v":2},{"$f":"IF(AH435>AI435,1,\"\")","v":1},{"$f":"IF(AH435=AI435,1,\"\")","v":""},{"$f":"IF(AH435<AI435,1,\"\")","v":""},{"$f":"AH435&\"-\"&AI435","v":"3-2"}]
[null,null,null,null,null,null,null,null,null,null,null,null,null,null,null,null,null,null,null,null,null,null,null,null,null,null,null,null,null,null,{"$f":"_xlfn.NORM.INV(RAND(),$Z$4,$N$20)","v":0.72285704444381138},{"$f":"_xlfn.NORM.INV(RAND(),$AA$4,$J$20)","v":4.1780431641309708},2.4504501042873912]
[null,null,null,null,null,null,null,null,null,null,null,null,null,null,null,null,null,null,null,null,null,null,null,null,null,null,null,null,null,"№218",{"$f":"_xlfn.NORM.INV(RAND(),$Z$3,$I$20)","v":5.7930859312003324},{"$f":"_xlfn.NORM.INV(RAND(),$AA$3,$O$20)","v":-1.1130271808258005},2.3400293751872661,{"$f":"ROUND(AG437,0)","v":2},{"$f":"ROUND(AG438,0)","v":2},{"$f":"IF(AH437>AI437,1,\"\")","v":""},{"$f":"IF(AH437=AI437,1,\"\")","v":1},{"$f":"IF(AH437<AI437,1,\"\")","v":""},{"$f":"AH437&\"-\"&AI437","v":"2-2"}]
[null,null,null,null,null,null,null,null,null,null,null,null,null,null,null,null,null,null,null,null,null,null,null,null,null,null,null,null,null,null,{"$f":"_xlfn.NORM.INV(RAND(),$Z$4,$N$20)","v":1.862034538397507},{"$f":"_xlfn.NORM.INV(RAND(),$AA$4,$J$20)","v":2.663996633116315},2.2630155857569108]
[null,null,null,null,null,null,null,null,null,null,null,null,null,null,null,null,null,null,null,null,null,null,null,null,null,null,null,null,null,"№219",{"$f":"_xlfn.NORM.INV(RAND(),$Z$3,$I$20)","v":4.4593780631024309},{"$f":"_xlfn.NORM.INV(RAND(),$AA$3,$O$20)","v":0.82415787991893286},2.6417679715106819,{"$f":"ROUND(AG439,0)","v":3},{"$f":"ROUND(AG440,0)","v":0},{"$f":"IF(AH439>AI439,1,\"\")","v":1},{"$f":"IF(AH439=AI439,1,\"\")","v":""},{"$f":"IF(AH439<AI439,1,\"\")","v":""},{"$f":"AH439&\"-\"&AI439","v":"3-0"}]
[null,null,null,null,null,null,null,null,null,null,null,null,null,null,null,null,null,null,null,null,null,null,null,null,null,null,null,null,null,null,{"$f":"_xlfn.NORM.INV(RAND(),$Z$4,$N$20)","v":1.5390943339633001},{"$f":"_xlfn.NORM.INV(RAND(),$AA$4,$J$20)","v":-0.81406227817967469},0.3625160278918127]
[null,null,null,null,null,null,null,null,null,null,null,null,null,null,null,null,null,null,null,null,null,null,null,null,null,null,null,null,null,"№220",{"$f":"_xlfn.NORM.INV(RAND(),$Z$3,$I$20)","v":3.5237964242457185},{"$f":"_xlfn.NORM.INV(RAND(),$AA$3,$O$20)","v":0.75200905285340269},2.1379027385495606,{"$f":"ROUND(AG441,0)","v":2},{"$f":"ROUND(AG442,0)","v":2},{"$f":"IF(AH441>AI441,1,\"\")","v":""},{"$f":"IF(AH441=AI441,1,\"\")","v":1},{"$f":"IF(AH441<AI441,1,\"\")","v":""},{"$f":"AH441&\"-\"&AI441","v":"2-2"}]
[null,null,null,null,null,null,null,null,null,null,null,null,null,null,null,null,null,null,null,null,null,null,null,null,null,null,null,null,null,null,{"$f":"_xlfn.NORM.INV(RAND(),$Z$4,$N$20)","v":3.3772238659833125},{"$f":"_xlfn.NORM.INV(RAND(),$AA$4,$J$20)","v":-0.1249250698464297},1.6261493980684414]
[null,null,null,null,null,null,null,null,null,null,null,null,null,null,null,null,null,null,null,null,null,null,null,null,null,null,null,null,null,"№221",{"$f":"_xlfn.NORM.INV(RAND(),$Z$3,$I$20)","v":4.4672313016872147},{"$f":"_xlfn.NORM.INV(RAND(),$AA$3,$O$20)","v":1.8342734189995737},3.150752360343394,{"$f":"ROUND(AG443,0)","v":3},{"$f":"ROUND(AG444,0)","v":2},{"$f":"IF(AH443>AI443,1,\"\")","v":1},{"$f":"IF(AH443=AI443,1,\"\")","v":""},{"$f":"IF(AH443<AI443,1,\"\")","v":""},{"$f":"AH443&\"-\"&AI443","v":"3-2"}]
[null,null,null,null,null,null,null,null,null,null,null,null,null,null,null,null,null,null,null,null,null,null,null,null,null,null,null,null,null,null,{"$f":"_xlfn.NORM.INV(RAND(),$Z$4,$N$20)","v":2.7358181833957058},{"$f":"_xlfn.NORM.INV(RAND(),$AA$4,$J$20)","v":2.0180525919048113},2.3769353876502586]
[null,null,null,null,null,null,null,null,null,null,null,null,null,null,null,null,null,null,null,null,null,null,null,null,null,null,null,null,null,"№222",{"$f":"_xlfn.NORM.INV(RAND(),$Z$3,$I$20)","v":1.7832407079568644},{"$f":"_xlfn.NORM.INV(RAND(),$AA$3,$O$20)","v":0.92379170226694352},1.3535162051119038,{"$f":"ROUND(AG445,0)","v":1},{"$f":"ROUND(AG446,0)","v":1},{"$f":"IF(AH445>AI445,1,\"\")","v":""},{"$f":"IF(AH445=AI445,1,\"\")","v":1},{"$f":"IF(AH445<AI445,1,\"\")","v":""},{"$f":"AH445&\"-\"&AI445","v":"1-1"}]
[null,null,null,null,null,null,null,null,null,null,null,null,null,null,null,null,null,null,null,null,null,null,null,null,null,null,null,null,null,null,{"$f":"_xlfn.NORM.INV(RAND(),$Z$4,$N$20)","v":2.4925893093205476},{"$f":"_xlfn.NORM.INV(RAND(),$AA$4,$J$20)","v":-0.92136255611733286},0.78561337660160735]
[null,null,null,null,null,null,null,null,null,null,null,null,null,null,null,null,null,null,null,null,null,null,null,null,null,null,null,null,null,"№223",{"$f":"_xlfn.NORM.INV(RAND(),$Z$3,$I$20)","v":4.8375783332135995},{"$f":"_xlfn.NORM.INV(RAND(),$AA$3,$O$20)","v":1.1469223766885235},2.9922503549510617,{"$f":"ROUND(AG447,0)","v":3},{"$f":"ROUND(AG448,0)","v":1},{"$f":"IF(AH447>AI447,1,\"\")","v":1},{"$f":"IF(AH447=AI447,1,\"\")","v":""},{"$f":"IF(AH447<AI447,1,\"\")","v":""},{"$f":"AH447&\"-\"&AI447","v":"3-1"}]
[null,null,null,null,null,null,null,null,null,null,null,null,null,null,null,null,null,null,null,null,null,null,null,null,null,null,null,null,null,null,{"$f":"_xlfn.NORM.INV(RAND(),$Z$4,$N$20)","v":0.55357034131596072},{"$f":"_xlfn.NORM.INV(RAND(),$AA$4,$J$20)","v":0.70130785209084168},0.62743909670340114]
[null,null,null,null,null,null,null,null,null,null,null,null,null,null,null,null,null,null,null,null,null,null,null,null,null,null,null,null,null,"№224",{"$f":"_xlfn.NORM.INV(RAND(),$Z$3,$I$20)","v":4.1061203797610464},{"$f":"_xlfn.NORM.INV(RAND(),$AA$3,$O$20)","v":0.57591850377523301},2.3410194417681396,{"$f":"ROUND(AG449,0)","v":2},{"$f":"ROUND(AG450,0)","v":0},{"$f":"IF(AH449>AI449,1,\"\")","v":1},{"$f":"IF(AH449=AI449,1,\"\")","v":""},{"$f":"IF(AH449<AI449,1,\"\")","v":""},{"$f":"AH449&\"-\"&AI449","v":"2-0"}]
[null,null,null,null,null,null,null,null,null,null,null,null,null,null,null,null,null,null,null,null,null,null,null,null,null,null,null,null,null,null,{"$f":"_xlfn.NORM.INV(RAND(),$Z$4,$N$20)","v":1.8254747518721977},{"$f":"_xlfn.NORM.INV(RAND(),$AA$4,$J$20)","v":-1.2261446224521069},0.29966506471004539]
[null,null,null,null,null,null,null,null,null,null,null,null,null,null,null,null,null,null,null,null,null,null,null,null,null,null,null,null,null,"№225",{"$f":"_xlfn.NORM.INV(RAND(),$Z$3,$I$20)","v":2.3632786297605013},{"$f":"_xlfn.NORM.INV(RAND(),$AA$3,$O$20)","v":2.8031466525172526},2.5832126411388767,{"$f":"ROUND(AG451,0)","v":3},{"$f":"ROUND(AG452,0)","v":2},{"$f":"IF(AH451>AI451,1,\"\")","v":1},{"$f":"IF(AH451=AI451,1,\"\")","v":""},{"$f":"IF(AH451<AI451,1,\"\")","v":""},{"$f":"AH451&\"-\"&AI451","v":"3-2"}]
[null,null,null,null,null,null,null,null,null,null,null,null,null,null,null,null,null,null,null,null,null,null,null,null,null,null,null,null,null,null,{"$f":"_xlfn.NORM.INV(RAND(),$Z$4,$N$20)","v":2.0803759619020021},{"$f":"_xlfn.NORM.INV(RAND(),$AA$4,$J$20)","v":1.1838667419652962},1.632121351933649]
[null,null,null,null,null,null,null,null,null,null,null,null,null,null,null,null,null,null,null,null,null,null,null,null,null,null,null,null,null,"№226",{"$f":"_xlfn.NORM.INV(RAND(),$Z$3,$I$20)","v":3.9896703641040765},{"$f":"_xlfn.NORM.INV(RAND(),$AA$3,$O$20)","v":-0.18039221184314747},{"$f":"(AE453+AF453)/2","v":1.9046390761304646},{"$f":"ROUND(AG453,0)","v":2},{"$f":"ROUND(AG454,0)","v":2},{"$f":"IF(AH453>AI453,1,\"\")","v":""},{"$f":"IF(AH453=AI453,1,\"\")","v":1},{"$f":"IF(AH453<AI453,1,\"\")","v":""},{"$f":"AH453&\"-\"&AI453","v":"2-2"}]
[null,null,null,null,null,null,null,null,null,null,null,null,null,null,null,null,null,null,null,null,null,null,null,null,null,null,null,null,null,null,{"$f":"_xlfn.NORM.INV(RAND(),$Z$4,$N$20)","v":1.9337975736940525},{"$f":"_xlfn.NORM.INV(RAND(),$AA$4,$J$20)","v":1.8528062104034992},1.8933018920487759]
[null,null,null,null,null,null,null,null,null,null,null,null,null,null,null,null,null,null,null,null,null,null,null,null,null,null,null,null,null,"№227",{"$f":"_xlfn.NORM.INV(RAND(),$Z$3,$I$20)","v":4.6596182332823224},{"$f":"_xlfn.NORM.INV(RAND(),$AA$3,$O$20)","v":0.55647687910596055},2.6080475561941414,{"$f":"ROUND(AG455,0)","v":3},{"$f":"ROUND(AG456,0)","v":2},{"$f":"IF(AH455>AI455,1,\"\")","v":1},{"$f":"IF(AH455=AI455,1,\"\")","v":""},{"$f":"IF(AH455<AI455,1,\"\")","v":""},{"$f":"AH455&\"-\"&AI455","v":"3-2"}]
[null,null,null,null,null,null,null,null,null,null,null,null,null,null,null,null,null,null,null,null,null,null,null,null,null,null,null,null,null,null,{"$f":"_xlfn.NORM.INV(RAND(),$Z$4,$N$20)","v":1.909035663082407},{"$f":"_xlfn.NORM.INV(RAND(),$AA$4,$J$20)","v":2.8959854375785272},2.4025105503304669]
[null,null,null,null,null,null,null,null,null,null,null,null,null,null,null,null,null,null,null,null,null,null,null,null,null,null,null,null,null,"№228",{"$f":"_xlfn.NORM.INV(RAND(),$Z$3,$I$20)","v":5.236687709908078},{"$f":"_xlfn.NORM.INV(RAND(),$AA$3,$O$20)","v":0.72344610824493161},2.9800669090765046,{"$f":"ROUND(AG457,0)","v":3},{"$f":"ROUND(AG458,0)","v":3},{"$f":"IF(AH457>AI457,1,\"\")","v":""},{"$f":"IF(AH457=AI457,1,\"\")","v":1},{"$f":"IF(AH457<AI457,1,\"\")","v":""},{"$f":"AH457&\"-\"&AI457","v":"3-3"}]
[null,null,null,null,null,null,null,null,null,null,null,null,null,null,null,null,null,null,null,null,null,null,null,null,null,null,null,null,null,null,{"$f":"_xlfn.NORM.INV(RAND(),$Z$4,$N$20)","v":2.5342287094129001},{"$f":"_xlfn.NORM.INV(RAND(),$AA$4,$J$20)","v":2.5941569111922362},2.5641928103025684]
[null,null,null,null,null,null,null,null,null,null,null,null,null,null,null,null,null,null,null,null,null,null,null,null,null,null,null,null,null,"№229",{"$f":"_xlfn.NORM.INV(RAND(),$Z$3,$I$20)","v":1.4773302826156516},{"$f":"_xlfn.NORM.INV(RAND(),$AA$3,$O$20)","v":1.4596204344043788},1.4684753585100152,{"$f":"ROUND(AG459,0)","v":1},{"$f":"ROUND(AG460,0)","v":1},{"$f":"IF(AH459>AI459,1,\"\")","v":""},{"$f":"IF(AH459=AI459,1,\"\")","v":1},{"$f":"IF(AH459<AI459,1,\"\")","v":""},{"$f":"AH459&\"-\"&AI459","v":"1-1"}]
[null,null,null,null,null,null,null,null,null,null,null,null,null,null,null,null,null,null,null,null,null,null,null,null,null,null,null,null,null,null,{"$f":"_xlfn.NORM.INV(RAND(),$Z$4,$N$20)","v":2.2511584800550994},{"$f":"_xlfn.NORM.INV(RAND(),$AA$4,$J$20)","v":-0.89591468234340255},0.67762189885584845]
[null,null,null,null,null,null,null,null,null,null,null,null,null,null,null,null,null,null,null,null,null,null,null,null,null,null,null,null,null,"№230",{"$f":"_xlfn.NORM.INV(RAND(),$Z$3,$I$20)","v":2.9095270332372278},{"$f":"_xlfn.NORM.INV(RAND(),$AA$3,$O$20)","v":2.3183808162834922},2.6139539247603603,{"$f":"ROUND(AG461,0)","v":3},{"$f":"ROUND(AG462,0)","v":1},{"$f":"IF(AH461>AI461,1,\"\")","v":1},{"$f":"IF(AH461=AI461,1,\"\")","v":""},{"$f":"IF(AH461<AI461,1,\"\")","v":""},{"$f":"AH461&\"-\"&AI461","v":"3-1"}]
[null,null,null,null,null,null,null,null,null,null,null,null,null,null,null,null,null,null,null,null,null,null,null,null,null,null,null,null,null,null,{"$f":"_xlfn.NORM.INV(RAND(),$Z$4,$N$20)","v":2.4087002573979439},{"$f":"_xlfn.NORM.INV(RAND(),$AA$4,$J$20)","v":-0.35721648866631472},1.0257418843658146]
[null,null,null,null,null,null,null,null,null,null,null,null,null,null,null,null,null,null,null,null,null,null,null,null,null,null,null,null,null,"№231",{"$f":"_xlfn.NORM.INV(RAND(),$Z$3,$I$20)","v":-5.1856512064726523E-2},{"$f":"_xlfn.NORM.INV(RAND(),$AA$3,$O$20)","v":0.48380771808531886},0.21597560301029617,{"$f":"ROUND(AG463,0)","v":0},{"$f":"ROUND(AG464,0)","v":0},{"$f":"IF(AH463>AI463,1,\"\")","v":""},{"$f":"IF(AH463=AI463,1,\"\")","v":1},{"$f":"IF(AH463<AI463,1,\"\")","v":""},{"$f":"AH463&\"-\"&AI463","v":"0-0"}]
[null,null,null,null,null,null,null,null,null,null,null,null,null,null,null,null,null,null,null,null,null,null,null,null,null,null,null,null,null,null,{"$f":"_xlfn.NORM.INV(RAND(),$Z$4,$N$20)","v":1.4976819944167992},{"$f":"_xlfn.NORM.INV(RAND(),$AA$4,$J$20)","v":-1.5517435799464767},-2.7030792764838774E-2]
[null,null,null,null,null,null,null,null,null,null,null,null,null,null,null,null,null,null,null,null,null,null,null,null,null,null,null,null,null,"№232",{"$f":"_xlfn.NORM.INV(RAND(),$Z$3,$I$20)","v":0.42310276759736531},{"$f":"_xlfn.NORM.INV(RAND(),$AA$3,$O$20)","v":0.74087253190024238},0.5819876497488039,{"$f":"ROUND(AG465,0)","v":1},{"$f":"ROUND(AG466,0)","v":3},{"$f":"IF(AH465>AI465,1,\"\")","v":""},{"$f":"IF(AH465=AI465,1,\"\")","v":""},{"$f":"IF(AH465<AI465,1,\"\")","v":1},{"$f":"AH465&\"-\"&AI465","v":"1-3"}]
[null,null,null,null,null,null,null,null,null,null,null,null,null,null,null,null,null,null,null,null,null,null,null,null,null,null,null,null,null,null,{"$f":"_xlfn.NORM.INV(RAND(),$Z$4,$N$20)","v":3.6076462488554166},{"$f":"_xlfn.NORM.INV(RAND(),$AA$4,$J$20)","v":1.8031170756237069},2.7053816622395619]
[null,null,null,null,null,null,null,null,null,null,null,null,null,null,null,null,null,null,null,null,null,null,null,null,null,null,null,null,null,"№233",{"$f":"_xlfn.NORM.INV(RAND(),$Z$3,$I$20)","v":1.0072051140796061},{"$f":"_xlfn.NORM.INV(RAND(),$AA$3,$O$20)","v":0.5671944286839633},0.78719977138178465,{"$f":"ROUND(AG467,0)","v":1},{"$f":"ROUND(AG468,0)","v":3},{"$f":"IF(AH467>AI467,1,\"\")","v":""},{"$f":"IF(AH467=AI467,1,\"\")","v":""},{"$f":"IF(AH467<AI467,1,\"\")","v":1},{"$f":"AH467&\"-\"&AI467","v":"1-3"}]
[null,null,null,null,null,null,null,null,null,null,null,null,null,null,null,null,null,null,null,null,null,null,null,null,null,null,null,null,null,null,{"$f":"_xlfn.NORM.INV(RAND(),$Z$4,$N$20)","v":1.1753368021542576},{"$f":"_xlfn.NORM.INV(RAND(),$AA$4,$J$20)","v":3.8460715986681722},2.5107042004112148]
[null,null,null,null,null,null,null,null,null,null,null,null,null,null,null,null,null,null,null,null,null,null,null,null,null,null,null,null,null,"№234",{"$f":"_xlfn.NORM.INV(RAND(),$Z$3,$I$20)","v":3.5439464632441995},{"$f":"_xlfn.NORM.INV(RAND(),$AA$3,$O$20)","v":0.47002621012135481},2.0069863366827772,{"$f":"ROUND(AG469,0)","v":2},{"$f":"ROUND(AG470,0)","v":1},{"$f":"IF(AH469>AI469,1,\"\")","v":1},{"$f":"IF(AH469=AI469,1,\"\")","v":""},{"$f":"IF(AH469<AI469,1,\"\")","v":""},{"$f":"AH469&\"-\"&AI469","v":"2-1"}]
[null,null,null,null,null,null,null,null,null,null,null,null,null,null,null,null,null,null,null,null,null,null,null,null,null,null,null,null,null,null,{"$f":"_xlfn.NORM.INV(RAND(),$Z$4,$N$20)","v":2.1055190867453226},{"$f":"_xlfn.NORM.INV(RAND(),$AA$4,$J$20)","v":0.58086991655543829},1.3431945016503803]
[null,null,null,null,null,null,null,null,null,null,null,null,null,null,null,null,null,null,null,null,null,null,null,null,null,null,null,null,null,"№235",{"$f":"_xlfn.NORM.INV(RAND(),$Z$3,$I$20)","v":6.374935433432114},{"$f":"_xlfn.NORM.INV(RAND(),$AA$3,$O$20)","v":1.0472352227757642},3.7110853281039393,{"$f":"ROUND(AG471,0)","v":4},{"$f":"ROUND(AG472,0)","v":2},{"$f":"IF(AH471>AI471,1,\"\")","v":1},{"$f":"IF(AH471=AI471,1,\"\")","v":""},{"$f":"IF(AH471<AI471,1,\"\")","v":""},{"$f":"AH471&\"-\"&AI471","v":"4-2"}]
[null,null,null,null,null,null,null,null,null,null,null,null,null,null,null,null,null,null,null,null,null,null,null,null,null,null,null,null,null,null,{"$f":"_xlfn.NORM.INV(RAND(),$Z$4,$N$20)","v":2.0309012649869409},{"$f":"_xlfn.NORM.INV(RAND(),$AA$4,$J$20)","v":2.891816780115072},2.4613590225510062]
[null,null,null,null,null,null,null,null,null,null,null,null,null,null,null,null,null,null,null,null,null,null,null,null,null,null,null,null,null,"№236",{"$f":"_xlfn.NORM.INV(RAND(),$Z$3,$I$20)","v":-1.5121680525672865E-2},{"$f":"_xlfn.NORM.INV(RAND(),$AA$3,$O$20)","v":1.5941570092138981},0.78951766434411264,{"$f":"ROUND(AG473,0)","v":1},{"$f":"ROUND(AG474,0)","v":2},{"$f":"IF(AH473>AI473,1,\"\")","v":""},{"$f":"IF(AH473=AI473,1,\"\")","v":""},{"$f":"IF(AH473<AI473,1,\"\")","v":1},{"$f":"AH473&\"-\"&AI473","v":"1-2"}]
[null,null,null,null,null,null,null,null,null,null,null,null,null,null,null,null,null,null,null,null,null,null,null,null,null,null,null,null,null,null,{"$f":"_xlfn.NORM.INV(RAND(),$Z$4,$N$20)","v":2.4417764404904592},{"$f":"_xlfn.NORM.INV(RAND(),$AA$4,$J$20)","v":1.5410365902218366},1.991406515356148]
[null,null,null,null,null,null,null,null,null,null,null,null,null,null,null,null,null,null,null,null,null,null,null,null,null,null,null,null,null,"№237",{"$f":"_xlfn.NORM.INV(RAND(),$Z$3,$I$20)","v":2.3477429778786432},{"$f":"_xlfn.NORM.INV(RAND(),$AA$3,$O$20)","v":1.5375532206337335},1.9426480992561883,{"$f":"ROUND(AG475,0)","v":2},{"$f":"ROUND(AG476,0)","v":1},{"$f":"IF(AH475>AI475,1,\"\")","v":1},{"$f":"IF(AH475=AI475,1,\"\")","v":""},{"$f":"IF(AH475<AI475,1,\"\")","v":""},{"$f":"AH475&\"-\"&AI475","v":"2-1"}]
[null,null,null,null,null,null,null,null,null,null,null,null,null,null,null,null,null,null,null,null,null,null,null,null,null,null,null,null,null,null,{"$f":"_xlfn.NORM.INV(RAND(),$Z$4,$N$20)","v":2.3902017017010317},{"$f":"_xlfn.NORM.INV(RAND(),$AA$4,$J$20)","v":-0.1517823880885576},1.1192096568062371]
[null,null,null,null,null,null,null,null,null,null,null,null,null,null,null,null,null,null,null,null,null,null,null,null,null,null,null,null,null,"№238",{"$f":"_xlfn.NORM.INV(RAND(),$Z$3,$I$20)","v":4.673107050190934},{"$f":"_xlfn.NORM.INV(RAND(),$AA$3,$O$20)","v":-0.43826755023206299},2.1174197499794354,{"$f":"ROUND(AG477,0)","v":2},{"$f":"ROUND(AG478,0)","v":3},{"$f":"IF(AH477>AI477,1,\"\")","v":""},{"$f":"IF(AH477=AI477,1,\"\")","v":""},{"$f":"IF(AH477<AI477,1,\"\")","v":1},{"$f":"AH477&\"-\"&AI477","v":"2-3"}]
[null,null,null,null,null,null,null,null,null,null,null,null,null,null,null,null,null,null,null,null,null,null,null,null,null,null,null,null,null,null,{"$f":"_xlfn.NORM.INV(RAND(),$Z$4,$N$20)","v":2.8229652849694102},{"$f":"_xlfn.NORM.INV(RAND(),$AA$4,$J$20)","v":3.5469148069942147},3.1849400459818122]
[null,null,null,null,null,null,null,null,null,null,null,null,null,null,null,null,null,null,null,null,null,null,null,null,null,null,null,null,null,"№239",{"$f":"_xlfn.NORM.INV(RAND(),$Z$3,$I$20)","v":2.8749493744380672},{"$f":"_xlfn.NORM.INV(RAND(),$AA$3,$O$20)","v":0.14187269042626016},1.5084110324321638,{"$f":"ROUND(AG479,0)","v":2},{"$f":"ROUND(AG480,0)","v":2},{"$f":"IF(AH479>AI479,1,\"\")","v":""},{"$f":"IF(AH479=AI479,1,\"\")","v":1},{"$f":"IF(AH479<AI479,1,\"\")","v":""},{"$f":"AH479&\"-\"&AI479","v":"2-2"}]
[null,null,null,null,null,null,null,null,null,null,null,null,null,null,null,null,null,null,null,null,null,null,null,null,null,null,null,null,null,null,{"$f":"_xlfn.NORM.INV(RAND(),$Z$4,$N$20)","v":1.7410322452820974},{"$f":"_xlfn.NORM.INV(RAND(),$AA$4,$J$20)","v":2.5203014345612629},2.1306668399216804]
[null,null,null,null,null,null,null,null,null,null,null,null,null,null,null,null,null,null,null,null,null,null,null,null,null,null,null,null,null,"№240",{"$f":"_xlfn.NORM.INV(RAND(),$Z$3,$I$20)","v":4.5735326219667085},{"$f":"_xlfn.NORM.INV(RAND(),$AA$3,$O$20)","v":0.9845487487820811},2.7790406853743947,{"$f":"ROUND(AG481,0)","v":3},{"$f":"ROUND(AG482,0)","v":3},{"$f":"IF(AH481>AI481,1,\"\")","v":""},{"$f":"IF(AH481=AI481,1,\"\")","v":1},{"$f":"IF(AH481<AI481,1,\"\")","v":""},{"$f":"AH481&\"-\"&AI481","v":"3-3"}]
[null,null,null,null,null,null,null,null,null,null,null,null,null,null,null,null,null,null,null,null,null,null,null,null,null,null,null,null,null,null,{"$f":"_xlfn.NORM.INV(RAND(),$Z$4,$N$20)","v":2.8949620542391727},{"$f":"_xlfn.NORM.INV(RAND(),$AA$4,$J$20)","v":2.1970636316644114},2.5460128429517921]
[null,null,null,null,null,null,null,null,null,null,null,null,null,null,null,null,null,null,null,null,null,null,null,null,null,null,null,null,null,"№241",{"$f":"_xlfn.NORM.INV(RAND(),$Z$3,$I$20)","v":3.5141421558202772},{"$f":"_xlfn.NORM.INV(RAND(),$AA$3,$O$20)","v":0.66304378687456011},2.0885929713474187,{"$f":"ROUND(AG483,0)","v":2},{"$f":"ROUND(AG484,0)","v":1},{"$f":"IF(AH483>AI483,1,\"\")","v":1},{"$f":"IF(AH483=AI483,1,\"\")","v":""},{"$f":"IF(AH483<AI483,1,\"\")","v":""},{"$f":"AH483&\"-\"&AI483","v":"2-1"}]
[null,null,null,null,null,null,null,null,null,null,null,null,null,null,null,null,null,null,null,null,null,null,null,null,null,null,null,null,null,null,{"$f":"_xlfn.NORM.INV(RAND(),$Z$4,$N$20)","v":2.5559462026781263},{"$f":"_xlfn.NORM.INV(RAND(),$AA$4,$J$20)","v":-3.8044758013017654E-2},1.2589507223325542]
[null,null,null,null,null,null,null,null,null,null,null,null,null,null,null,null,null,null,null,null,null,null,null,null,null,null,null,null,null,"№242",{"$f":"_xlfn.NORM.INV(RAND(),$Z$3,$I$20)","v":4.0531365836805016},{"$f":"_xlfn.NORM.INV(RAND(),$AA$3,$O$20)","v":1.1353384463321436},2.5942375150063226,{"$f":"ROUND(AG485,0)","v":3},{"$f":"ROUND(AG486,0)","v":2},{"$f":"IF(AH485>AI485,1,\"\")","v":1},{"$f":"IF(AH485=AI485,1,\"\")","v":""},{"$f":"IF(AH485<AI485,1,\"\")","v":""},{"$f":"AH485&\"-\"&AI485","v":"3-2"}]
[null,null,null,null,null,null,null,null,null,null,null,null,null,null,null,null,null,null,null,null,null,null,null,null,null,null,null,null,null,null,{"$f":"_xlfn.NORM.INV(RAND(),$Z$4,$N$20)","v":2.0834043407779097},{"$f":"_xlfn.NORM.INV(RAND(),$AA$4,$J$20)","v":1.1967319458588981},1.6400681433184039]
[null,null,null,null,null,null,null,null,null,null,null,null,null,null,null,null,null,null,null,null,null,null,null,null,null,null,null,null,null,"№243",{"$f":"_xlfn.NORM.INV(RAND(),$Z$3,$I$20)","v":5.4139163893464897},{"$f":"_xlfn.NORM.INV(RAND(),$AA$3,$O$20)","v":0.64414673840554759},3.0290315638760186,{"$f":"ROUND(AG487,0)","v":3},{"$f":"ROUND(AG488,0)","v":3},{"$f":"IF(AH487>AI487,1,\"\")","v":""},{"$f":"IF(AH487=AI487,1,\"\")","v":1},{"$f":"IF(AH487<AI487,1,\"\")","v":""},{"$f":"AH487&\"-\"&AI487","v":"3-3"}]
[null,null,null,null,null,null,null,null,null,null,null,null,null,null,null,null,null,null,null,null,null,null,null,null,null,null,null,null,null,null,{"$f":"_xlfn.NORM.INV(RAND(),$Z$4,$N$20)","v":2.3022213108654079},{"$f":"_xlfn.NORM.INV(RAND(),$AA$4,$J$20)","v":3.7571035999740037},3.0296624554197056]
[null,null,null,null,null,null,null,null,null,null,null,null,null,null,null,null,null,null,null,null,null,null,null,null,null,null,null,null,null,"№244",{"$f":"_xlfn.NORM.INV(RAND(),$Z$3,$I$20)","v":2.8616349383725526},{"$f":"_xlfn.NORM.INV(RAND(),$AA$3,$O$20)","v":1.2037281517923781},2.0326815450824656,{"$f":"ROUND(AG489,0)","v":2},{"$f":"ROUND(AG490,0)","v":1},{"$f":"IF(AH489>AI489,1,\"\")","v":1},{"$f":"IF(AH489=AI489,1,\"\")","v":""},{"$f":"IF(AH489<AI489,1,\"\")","v":""},{"$f":"AH489&\"-\"&AI489","v":"2-1"}]
[null,null,null,null,null,null,null,null,null,null,null,null,null,null,null,null,null,null,null,null,null,null,null,null,null,null,null,null,null,null,{"$f":"_xlfn.NORM.INV(RAND(),$Z$4,$N$20)","v":2.2217283157610055},{"$f":"_xlfn.NORM.INV(RAND(),$AA$4,$J$20)","v":-0.9297873060750601},0.64597050484297269]
[null,null,null,null,null,null,null,null,null,null,null,null,null,null,null,null,null,null,null,null,null,null,null,null,null,null,null,null,null,"№245",{"$f":"_xlfn.NORM.INV(RAND(),$Z$3,$I$20)","v":3.0367319205840704},{"$f":"_xlfn.NORM.INV(RAND(),$AA$3,$O$20)","v":1.4289266850907862},2.2328293028374282,{"$f":"ROUND(AG491,0)","v":2},{"$f":"ROUND(AG492,0)","v":2},{"$f":"IF(AH491>AI491,1,\"\")","v":""},{"$f":"IF(AH491=AI491,1,\"\")","v":1},{"$f":"IF(AH491<AI491,1,\"\")","v":""},{"$f":"AH491&\"-\"&AI491","v":"2-2"}]
[null,null,null,null,null,null,null,null,null,null,null,null,null,null,null,null,null,null,null,null,null,null,null,null,null,null,null,null,null,null,{"$f":"_xlfn.NORM.INV(RAND(),$Z$4,$N$20)","v":2.1277364938686967},{"$f":"_xlfn.NORM.INV(RAND(),$AA$4,$J$20)","v":1.2708615972322947},1.6992990455504957]
[null,null,null,null,null,null,null,null,null,null,null,null,null,null,null,null,null,null,null,null,null,null,null,null,null,null,null,null,null,"№246",{"$f":"_xlfn.NORM.INV(RAND(),$Z$3,$I$20)","v":4.1455118684964907},{"$f":"_xlfn.NORM.INV(RAND(),$AA$3,$O$20)","v":2.4490942459157599},3.2973030572061255,{"$f":"ROUND(AG493,0)","v":3},{"$f":"ROUND(AG494,0)","v":1},{"$f":"IF(AH493>AI493,1,\"\")","v":1},{"$f":"IF(AH493=AI493,1,\"\")","v":""},{"$f":"IF(AH493<AI493,1,\"\")","v":""},{"$f":"AH493&\"-\"&AI493","v":"3-1"}]
[null,null,null,null,null,null,null,null,null,null,null,null,null,null,null,null,null,null,null,null,null,null,null,null,null,null,null,null,null,null,{"$f":"_xlfn.NORM.INV(RAND(),$Z$4,$N$20)","v":1.356797663918544},{"$f":"_xlfn.NORM.INV(RAND(),$AA$4,$J$20)","v":0.44599394289989003},0.90139580340921699]
[null,null,null,null,null,null,null,null,null,null,null,null,null,null,null,null,null,null,null,null,null,null,null,null,null,null,null,null,null,"№247",{"$f":"_xlfn.NORM.INV(RAND(),$Z$3,$I$20)","v":4.362424125143268},{"$f":"_xlfn.NORM.INV(RAND(),$AA$3,$O$20)","v":1.799775192997374},3.081099659070321,{"$f":"ROUND(AG495,0)","v":3},{"$f":"ROUND(AG496,0)","v":3},{"$f":"IF(AH495>AI495,1,\"\")","v":""},{"$f":"IF(AH495=AI495,1,\"\")","v":1},{"$f":"IF(AH495<AI495,1,\"\")","v":""},{"$f":"AH495&\"-\"&AI495","v":"3-3"}]
[null,null,null,null,null,null,null,null,null,null,null,null,null,null,null,null,null,null,null,null,null,null,null,null,null,null,null,null,null,null,{"$f":"_xlfn.NORM.INV(RAND(),$Z$4,$N$20)","v":1.6124241564743278},{"$f":"_xlfn.NORM.INV(RAND(),$AA$4,$J$20)","v":4.5635453568255659},3.0879847566499468]
[null,null,null,null,null,null,null,null,null,null,null,null,null,null,null,null,null,null,null,null,null,null,null,null,null,null,null,null,null,"№248",{"$f":"_xlfn.NORM.INV(RAND(),$Z$3,$I$20)","v":3.0599044887638334},{"$f":"_xlfn.NORM.INV(RAND(),$AA$3,$O$20)","v":-0.11490335167302401},1.4725005685454047,{"$f":"ROUND(AG497,0)","v":1},{"$f":"ROUND(AG498,0)","v":3},{"$f":"IF(AH497>AI497,1,\"\")","v":""},{"$f":"IF(AH497=AI497,1,\"\")","v":""},{"$f":"IF(AH497<AI497,1,\"\")","v":1},{"$f":"AH497&\"-\"&AI497","v":"1-3"}]
[null,null,null,null,null,null,null,null,null,null,null,null,null,null,null,null,null,null,null,null,null,null,null,null,null,null,null,null,null,null,{"$f":"_xlfn.NORM.INV(RAND(),$Z$4,$N$20)","v":2.3375323805198969},{"$f":"_xlfn.NORM.INV(RAND(),$AA$4,$J$20)","v":4.3864253574941205},3.3619788690070087]
[null,null,null,null,null,null,null,null,null,null,null,null,null,null,null,null,null,null,null,null,null,null,null,null,null,null,null,null,null,"№249",{"$f":"_xlfn.NORM.INV(RAND(),$Z$3,$I$20)","v":4.9145579916714635},{"$f":"_xlfn.NORM.INV(RAND(),$AA$3,$O$20)","v":1.6441634220041972},3.2793607068378305,{"$f":"ROUND(AG499,0)","v":3},{"$f":"ROUND(AG500,0)","v":1},{"$f":"IF(AH499>AI499,1,\"\")","v":1},{"$f":"IF(AH499=AI499,1,\"\")","v":""},{"$f":"IF(AH499<AI499,1,\"\")","v":""},{"$f":"AH499&\"-\"&AI499","v":"3-1"}]
[null,null,null,null,null,null,null,null,null,null,null,null,null,null,null,null,null,null,null,null,null,null,null,null,null,null,null,null,null,null,{"$f":"_xlfn.NORM.INV(RAND(),$Z$4,$N$20)","v":2.9210923751076874},{"$f":"_xlfn.NORM.INV(RAND(),$AA$4,$J$20)","v":-0.3623549287697434},1.2793687231689721]
[null,null,null,null,null,null,null,null,null,null,null,null,null,null,null,null,null,null,null,null,null,null,null,null,null,null,null,null,null,"№250",{"$f":"_xlfn.NORM.INV(RAND(),$Z$3,$I$20)","v":3.3329227074010768},{"$f":"_xlfn.NORM.INV(RAND(),$AA$3,$O$20)","v":2.9816402500855599},3.1572814787433181,{"$f":"ROUND(AG501,0)","v":3},{"$f":"ROUND(AG502,0)","v":4},{"$f":"IF(AH501>AI501,1,\"\")","v":""},{"$f":"IF(AH501=AI501,1,\"\")","v":""},{"$f":"IF(AH501<AI501,1,\"\")","v":1},{"$f":"AH501&\"-\"&AI501","v":"3-4"}]
[null,null,null,null,null,null,null,null,null,null,null,null,null,null,null,null,null,null,null,null,null,null,null,null,null,null,null,null,null,null,{"$f":"_xlfn.NORM.INV(RAND(),$Z$4,$N$20)","v":2.6160177980954873},{"$f":"_xlfn.NORM.INV(RAND(),$AA$4,$J$20)","v":4.5065236241670394},3.5612707111312636]
[null,null,null,null,null,null,null,null,null,null,null,null,null,null,null,null,null,null,null,null,null,null,null,null,null,null,null,null,null,"№251",{"$f":"_xlfn.NORM.INV(RAND(),$Z$3,$I$20)","v":3.1301990062367322},{"$f":"_xlfn.NORM.INV(RAND(),$AA$3,$O$20)","v":0.79349071565348883},1.9618448609451105,{"$f":"ROUND(AG503,0)","v":2},{"$f":"ROUND(AG504,0)","v":3},{"$f":"IF(AH503>AI503,1,\"\")","v":""},{"$f":"IF(AH503=AI503,1,\"\")","v":""},{"$f":"IF(AH503<AI503,1,\"\")","v":1},{"$f":"AH503&\"-\"&AI503","v":"2-3"}]
[null,null,null,null,null,null,null,null,null,null,null,null,null,null,null,null,null,null,null,null,null,null,null,null,null,null,null,null,null,null,{"$f":"_xlfn.NORM.INV(RAND(),$Z$4,$N$20)","v":2.4984831985395659},{"$f":"_xlfn.NORM.INV(RAND(),$AA$4,$J$20)","v":2.8037062306980136},2.6510947146187895]
[null,null,null,null,null,null,null,null,null,null,null,null,null,null,null,null,null,null,null,null,null,null,null,null,null,null,null,null,null,"№252",{"$f":"_xlfn.NORM.INV(RAND(),$Z$3,$I$20)","v":0.14605172962629887},{"$f":"_xlfn.NORM.INV(RAND(),$AA$3,$O$20)","v":2.3162594940177401},1.2311556118220195,{"$f":"ROUND(AG505,0)","v":1},{"$f":"ROUND(AG506,0)","v":1},{"$f":"IF(AH505>AI505,1,\"\")","v":""},{"$f":"IF(AH505=AI505,1,\"\")","v":1},{"$f":"IF(AH505<AI505,1,\"\")","v":""},{"$f":"AH505&\"-\"&AI505","v":"1-1"}]
[null,null,null,null,null,null,null,null,null,null,null,null,null,null,null,null,null,null,null,null,null,null,null,null,null,null,null,null,null,null,{"$f":"_xlfn.NORM.INV(RAND(),$Z$4,$N$20)","v":2.3276438246808251},{"$f":"_xlfn.NORM.INV(RAND(),$AA$4,$J$20)","v":-0.34672684098572715},0.99045849184754897]
[null,null,null,null,null,null,null,null,null,null,null,null,null,null,null,null,null,null,null,null,null,null,null,null,null,null,null,null,null,"№253",{"$f":"_xlfn.NORM.INV(RAND(),$Z$3,$I$20)","v":4.3433792169902556},{"$f":"_xlfn.NORM.INV(RAND(),$AA$3,$O$20)","v":1.0351103081561976},2.6892447625732268,{"$f":"ROUND(AG507,0)","v":3},{"$f":"ROUND(AG508,0)","v":1},{"$f":"IF(AH507>AI507,1,\"\")","v":1},{"$f":"IF(AH507=AI507,1,\"\")","v":""},{"$f":"IF(AH507<AI507,1,\"\")","v":""},{"$f":"AH507&\"-\"&AI507","v":"3-1"}]
[null,null,null,null,null,null,null,null,null,null,null,null,null,null,null,null,null,null,null,null,null,null,null,null,null,null,null,null,null,null,{"$f":"_xlfn.NORM.INV(RAND(),$Z$4,$N$20)","v":1.5574560322223117},{"$f":"_xlfn.NORM.INV(RAND(),$AA$4,$J$20)","v":0.62875814413969211},1.0931070881810019]
[null,null,null,null,null,null,null,null,null,null,null,null,null,null,null,null,null,null,null,null,null,null,null,null,null,null,null,null,null,"№254",{"$f":"_xlfn.NORM.INV(RAND(),$Z$3,$I$20)","v":2.4280740645881371},{"$f":"_xlfn.NORM.INV(RAND(),$AA$3,$O$20)","v":4.7964820129157815E-2},1.2380194423586475,{"$f":"ROUND(AG509,0)","v":1},{"$f":"ROUND(AG510,0)","v":3},{"$f":"IF(AH509>AI509,1,\"\")","v":""},{"$f":"IF(AH509=AI509,1,\"\")","v":""},{"$f":"IF(AH509<AI509,1,\"\")","v":1},{"$f":"AH509&\"-\"&AI509","v":"1-3"}]
[null,null,null,null,null,null,null,null,null,null,null,null,null,null,null,null,null,null,null,null,null,null,null,null,null,null,null,null,null,null,{"$f":"_xlfn.NORM.INV(RAND(),$Z$4,$N$20)","v":2.5796275814555871},{"$f":"_xlfn.NORM.INV(RAND(),$AA$4,$J$20)","v":2.6437728190008718},2.6117002002282295]
[null,null,null,null,null,null,null,null,null,null,null,null,null,null,null,null,null,null,null,null,null,null,null,null,null,null,null,null,null,"№255",{"$f":"_xlfn.NORM.INV(RAND(),$Z$3,$I$20)","v":4.3513772422215604},{"$f":"_xlfn.NORM.INV(RAND(),$AA$3,$O$20)","v":2.4694025318694575},3.4103898870455089,{"$f":"ROUND(AG511,0)","v":3},{"$f":"ROUND(AG512,0)","v":2},{"$f":"IF(AH511>AI511,1,\"\")","v":1},{"$f":"IF(AH511=AI511,1,\"\")","v":""},{"$f":"IF(AH511<AI511,1,\"\")","v":""},{"$f":"AH511&\"-\"&AI511","v":"3-2"}]
[null,null,null,null,null,null,null,null,null,null,null,null,null,null,null,null,null,null,null,null,null,null,null,null,null,null,null,null,null,null,{"$f":"_xlfn.NORM.INV(RAND(),$Z$4,$N$20)","v":3.3615802368325158},{"$f":"_xlfn.NORM.INV(RAND(),$AA$4,$J$20)","v":0.75606124240344719},2.0588207396179814]
[null,null,null,null,null,null,null,null,null,null,null,null,null,null,null,null,null,null,null,null,null,null,null,null,null,null,null,null,null,"№256",{"$f":"_xlfn.NORM.INV(RAND(),$Z$3,$I$20)","v":3.3508978437328047},{"$f":"_xlfn.NORM.INV(RAND(),$AA$3,$O$20)","v":0.42173009191352961},1.8863139678231673,{"$f":"ROUND(AG513,0)","v":2},{"$f":"ROUND(AG514,0)","v":3},{"$f":"IF(AH513>AI513,1,\"\")","v":""},{"$f":"IF(AH513=AI513,1,\"\")","v":""},{"$f":"IF(AH513<AI513,1,\"\")","v":1},{"$f":"AH513&\"-\"&AI513","v":"2-3"}]
[null,null,null,null,null,null,null,null,null,null,null,null,null,null,null,null,null,null,null,null,null,null,null,null,null,null,null,null,null,null,{"$f":"_xlfn.NORM.INV(RAND(),$Z$4,$N$20)","v":2.0328125027837549},{"$f":"_xlfn.NORM.INV(RAND(),$AA$4,$J$20)","v":4.651442053249073},3.342127278016414]
[null,null,null,null,null,null,null,null,null,null,null,null,null,null,null,null,null,null,null,null,null,null,null,null,null,null,null,null,null,"№257",{"$f":"_xlfn.NORM.INV(RAND(),$Z$3,$I$20)","v":3.7393714491365859},{"$f":"_xlfn.NORM.INV(RAND(),$AA$3,$O$20)","v":0.93555012508102775},2.3374607871088067,{"$f":"ROUND(AG515,0)","v":2},{"$f":"ROUND(AG516,0)","v":1},{"$f":"IF(AH515>AI515,1,\"\")","v":1},{"$f":"IF(AH515=AI515,1,\"\")","v":""},{"$f":"IF(AH515<AI515,1,\"\")","v":""},{"$f":"AH515&\"-\"&AI515","v":"2-1"}]
[null,null,null,null,null,null,null,null,null,null,null,null,null,null,null,null,null,null,null,null,null,null,null,null,null,null,null,null,null,null,{"$f":"_xlfn.NORM.INV(RAND(),$Z$4,$N$20)","v":1.2037051433802297},{"$f":"_xlfn.NORM.INV(RAND(),$AA$4,$J$20)","v":1.5166445069637584},1.3601748251719941]
[null,null,null,null,null,null,null,null,null,null,null,null,null,null,null,null,null,null,null,null,null,null,null,null,null,null,null,null,null,"№258",{"$f":"_xlfn.NORM.INV(RAND(),$Z$3,$I$20)","v":4.1374300635539063},{"$f":"_xlfn.NORM.INV(RAND(),$AA$3,$O$20)","v":-1.3120570142496188},{"$f":"(AE517+AF517)/2","v":1.4126865246521438},{"$f":"ROUND(AG517,0)","v":1},{"$f":"ROUND(AG518,0)","v":2},{"$f":"IF(AH517>AI517,1,\"\")","v":""},{"$f":"IF(AH517=AI517,1,\"\")","v":""},{"$f":"IF(AH517<AI517,1,\"\")","v":1},{"$f":"AH517&\"-\"&AI517","v":"1-2"}]
[null,null,null,null,null,null,null,null,null,null,null,null,null,null,null,null,null,null,null,null,null,null,null,null,null,null,null,null,null,null,{"$f":"_xlfn.NORM.INV(RAND(),$Z$4,$N$20)","v":1.7649331675263444},{"$f":"_xlfn.NORM.INV(RAND(),$AA$4,$J$20)","v":2.646435587786117},2.2056843776562305]
[null,null,null,null,null,null,null,null,null,null,null,null,null,null,null,null,null,null,null,null,null,null,null,null,null,null,null,null,null,"№259",{"$f":"_xlfn.NORM.INV(RAND(),$Z$3,$I$20)","v":5.7118910584233475},{"$f":"_xlfn.NORM.INV(RAND(),$AA$3,$O$20)","v":0.41093896917282924},3.0614150137980882,{"$f":"ROUND(AG519,0)","v":3},{"$f":"ROUND(AG520,0)","v":2},{"$f":"IF(AH519>AI519,1,\"\")","v":1},{"$f":"IF(AH519=AI519,1,\"\")","v":""},{"$f":"IF(AH519<AI519,1,\"\")","v":""},{"$f":"AH519&\"-\"&AI519","v":"3-2"}]
[null,null,null,null,null,null,null,null,null,null,null,null,null,null,null,null,null,null,null,null,null,null,null,null,null,null,null,null,null,null,{"$f":"_xlfn.NORM.INV(RAND(),$Z$4,$N$20)","v":1.654155452137605},{"$f":"_xlfn.NORM.INV(RAND(),$AA$4,$J$20)","v":1.7705408689873086},1.7123481605624566]
[null,null,null,null,null,null,null,null,null,null,null,null,null,null,null,null,null,null,null,null,null,null,null,null,null,null,null,null,null,"№260",{"$f":"_xlfn.NORM.INV(RAND(),$Z$3,$I$20)","v":0.79679331570406964},{"$f":"_xlfn.NORM.INV(RAND(),$AA$3,$O$20)","v":1.1604391635180797},0.97861623961107469,{"$f":"ROUND(AG521,0)","v":1},{"$f":"ROUND(AG522,0)","v":2},{"$f":"IF(AH521>AI521,1,\"\")","v":""},{"$f":"IF(AH521=AI521,1,\"\")","v":""},{"$f":"IF(AH521<AI521,1,\"\")","v":1},{"$f":"AH521&\"-\"&AI521","v":"1-2"}]
[null,null,null,null,null,null,null,null,null,null,null,null,null,null,null,null,null,null,null,null,null,null,null,null,null,null,null,null,null,null,{"$f":"_xlfn.NORM.INV(RAND(),$Z$4,$N$20)","v":1.1476911158556453},{"$f":"_xlfn.NORM.INV(RAND(),$AA$4,$J$20)","v":3.1633234296984618},2.1555072727770535]
[null,null,null,null,null,null,null,null,null,null,null,null,null,null,null,null,null,null,null,null,null,null,null,null,null,null,null,null,null,"№261",{"$f":"_xlfn.NORM.INV(RAND(),$Z$3,$I$20)","v":2.7495618947964298},{"$f":"_xlfn.NORM.INV(RAND(),$AA$3,$O$20)","v":-0.55261640272343682},1.0984727460364965,{"$f":"ROUND(AG523,0)","v":1},{"$f":"ROUND(AG524,0)","v":2},{"$f":"IF(AH523>AI523,1,\"\")","v":""},{"$f":"IF(AH523=AI523,1,\"\")","v":""},{"$f":"IF(AH523<AI523,1,\"\")","v":1},{"$f":"AH523&\"-\"&AI523","v":"1-2"}]
[null,null,null,null,null,null,null,null,null,null,null,null,null,null,null,null,null,null,null,null,null,null,null,null,null,null,null,null,null,null,{"$f":"_xlfn.NORM.INV(RAND(),$Z$4,$N$20)","v":2.229394497762792},{"$f":"_xlfn.NORM.INV(RAND(),$AA$4,$J$20)","v":2.5168872649801659},2.3731408813714792]
[null,null,null,null,null,null,null,null,null,null,null,null,null,null,null,null,null,null,null,null,null,null,null,null,null,null,null,null,null,"№262",{"$f":"_xlfn.NORM.INV(RAND(),$Z$3,$I$20)","v":0.77588713102899254},{"$f":"_xlfn.NORM.INV(RAND(),$AA$3,$O$20)","v":0.88772697520494248},0.83180705311696745,{"$f":"ROUND(AG525,0)","v":1},{"$f":"ROUND(AG526,0)","v":1},{"$f":"IF(AH525>AI525,1,\"\")","v":""},{"$f":"IF(AH525=AI525,1,\"\")","v":1},{"$f":"IF(AH525<AI525,1,\"\")","v":""},{"$f":"AH525&\"-\"&AI525","v":"1-1"}]
[null,null,null,null,null,null,null,null,null,null,null,null,null,null,null,null,null,null,null,null,null,null,null,null,null,null,null,null,null,null,{"$f":"_xlfn.NORM.INV(RAND(),$Z$4,$N$20)","v":2.1928125732670605},{"$f":"_xlfn.NORM.INV(RAND(),$AA$4,$J$20)","v":0.54118336540515077},1.3669979693361056]
[null,null,null,null,null,null,null,null,null,null,null,null,null,null,null,null,null,null,null,null,null,null,null,null,null,null,null,null,null,"№263",{"$f":"_xlfn.NORM.INV(RAND(),$Z$3,$I$20)","v":5.1016815310241661},{"$f":"_xlfn.NORM.INV(RAND(),$AA$3,$O$20)","v":1.369021238678378},3.2353513848512723,{"$f":"ROUND(AG527,0)","v":3},{"$f":"ROUND(AG528,0)","v":3},{"$f":"IF(AH527>AI527,1,\"\")","v":""},{"$f":"IF(AH527=AI527,1,\"\")","v":1},{"$f":"IF(AH527<AI527,1,\"\")","v":""},{"$f":"AH527&\"-\"&AI527","v":"3-3"}]
[null,null,null,null,null,null,null,null,null,null,null,null,null,null,null,null,null,null,null,null,null,null,null,null,null,null,null,null,null,null,{"$f":"_xlfn.NORM.INV(RAND(),$Z$4,$N$20)","v":2.8953149926884052},{"$f":"_xlfn.NORM.INV(RAND(),$AA$4,$J$20)","v":3.7795669636478113},3.3374409781681083]
[null,null,null,null,null,null,null,null,null,null,null,null,null,null,null,null,null,null,null,null,null,null,null,null,null,null,null,null,null,"№264",{"$f":"_xlfn.NORM.INV(RAND(),$Z$3,$I$20)","v":3.0963881901188008},{"$f":"_xlfn.NORM.INV(RAND(),$AA$3,$O$20)","v":1.6659373016804802},2.3811627458996405,{"$f":"ROUND(AG529,0)","v":2},{"$f":"ROUND(AG530,0)","v":3},{"$f":"IF(AH529>AI529,1,\"\")","v":""},{"$f":"IF(AH529=AI529,1,\"\")","v":""},{"$f":"IF(AH529<AI529,1,\"\")","v":1},{"$f":"AH529&\"-\"&AI529","v":"2-3"}]
[null,null,null,null,null,null,null,null,null,null,null,null,null,null,null,null,null,null,null,null,null,null,null,null,null,null,null,null,null,null,{"$f":"_xlfn.NORM.INV(RAND(),$Z$4,$N$20)","v":1.6588657589539622},{"$f":"_xlfn.NORM.INV(RAND(),$AA$4,$J$20)","v":3.4405391289525511},2.5497024439532567]
[null,null,null,null,null,null,null,null,null,null,null,null,null,null,null,null,null,null,null,null,null,null,null,null,null,null,null,null,null,"№265",{"$f":"_xlfn.NORM.INV(RAND(),$Z$3,$I$20)","v":0.65236502030833066},{"$f":"_xlfn.NORM.INV(RAND(),$AA$3,$O$20)","v":1.3323446317884879},0.9923548260484093,{"$f":"ROUND(AG531,0)","v":1},{"$f":"ROUND(AG532,0)","v":3},{"$f":"IF(AH531>AI531,1,\"\")","v":""},{"$f":"IF(AH531=AI531,1,\"\")","v":""},{"$f":"IF(AH531<AI531,1,\"\")","v":1},{"$f":"AH531&\"-\"&AI531","v":"1-3"}]
[null,null,null,null,null,null,null,null,null,null,null,null,null,null,null,null,null,null,null,null,null,null,null,null,null,null,null,null,null,null,{"$f":"_xlfn.NORM.INV(RAND(),$Z$4,$N$20)","v":3.7839295291396304},{"$f":"_xlfn.NORM.INV(RAND(),$AA$4,$J$20)","v":2.2599938967585924},3.0219617129491114]
[null,null,null,null,null,null,null,null,null,null,null,null,null,null,null,null,null,null,null,null,null,null,null,null,null,null,null,null,null,"№266",{"$f":"_xlfn.NORM.INV(RAND(),$Z$3,$I$20)","v":6.9669893670651},{"$f":"_xlfn.NORM.INV(RAND(),$AA$3,$O$20)","v":2.3719127829006994},4.6694510749828995,{"$f":"ROUND(AG533,0)","v":5},{"$f":"ROUND(AG534,0)","v":3},{"$f":"IF(AH533>AI533,1,\"\")","v":1},{"$f":"IF(AH533=AI533,1,\"\")","v":""},{"$f":"IF(AH533<AI533,1,\"\")","v":""},{"$f":"AH533&\"-\"&AI533","v":"5-3"}]
[null,null,null,null,null,null,null,null,null,null,null,null,null,null,null,null,null,null,null,null,null,null,null,null,null,null,null,null,null,null,{"$f":"_xlfn.NORM.INV(RAND(),$Z$4,$N$20)","v":2.5795991146498332},{"$f":"_xlfn.NORM.INV(RAND(),$AA$4,$J$20)","v":2.5000581135904056},2.5398286141201192]
[null,null,null,null,null,null,null,null,null,null,null,null,null,null,null,null,null,null,null,null,null,null,null,null,null,null,null,null,null,"№267",{"$f":"_xlfn.NORM.INV(RAND(),$Z$3,$I$20)","v":2.7667355408166419},{"$f":"_xlfn.NORM.INV(RAND(),$AA$3,$O$20)","v":-9.2026251447082097E-2},1.3373546446847799,{"$f":"ROUND(AG535,0)","v":1},{"$f":"ROUND(AG536,0)","v":4},{"$f":"IF(AH535>AI535,1,\"\")","v":""},{"$f":"IF(AH535=AI535,1,\"\")","v":""},{"$f":"IF(AH535<AI535,1,\"\")","v":1},{"$f":"AH535&\"-\"&AI535","v":"1-4"}]
[null,null,null,null,null,null,null,null,null,null,null,null,null,null,null,null,null,null,null,null,null,null,null,null,null,null,null,null,null,null,{"$f":"_xlfn.NORM.INV(RAND(),$Z$4,$N$20)","v":2.7808170130771286},{"$f":"_xlfn.NORM.INV(RAND(),$AA$4,$J$20)","v":4.2294231381670144},3.5051200756220715]
[null,null,null,null,null,null,null,null,null,null,null,null,null,null,null,null,null,null,null,null,null,null,null,null,null,null,null,null,null,"№268",{"$f":"_xlfn.NORM.INV(RAND(),$Z$3,$I$20)","v":3.8829484371366076},{"$f":"_xlfn.NORM.INV(RAND(),$AA$3,$O$20)","v":0.26051798573132701},2.0717332114339673,{"$f":"ROUND(AG537,0)","v":2},{"$f":"ROUND(AG538,0)","v":4},{"$f":"IF(AH537>AI537,1,\"\")","v":""},{"$f":"IF(AH537=AI537,1,\"\")","v":""},{"$f":"IF(AH537<AI537,1,\"\")","v":1},{"$f":"AH537&\"-\"&AI537","v":"2-4"}]
[null,null,null,null,null,null,null,null,null,null,null,null,null,null,null,null,null,null,null,null,null,null,null,null,null,null,null,null,null,null,{"$f":"_xlfn.NORM.INV(RAND(),$Z$4,$N$20)","v":3.0362417992660782},{"$f":"_xlfn.NORM.INV(RAND(),$AA$4,$J$20)","v":5.6325948056321149},4.3344183024490963]
[null,null,null,null,null,null,null,null,null,null,null,null,null,null,null,null,null,null,null,null,null,null,null,null,null,null,null,null,null,"№269",{"$f":"_xlfn.NORM.INV(RAND(),$Z$3,$I$20)","v":4.2436194852531965},{"$f":"_xlfn.NORM.INV(RAND(),$AA$3,$O$20)","v":3.3796827924915354},3.811651138872366,{"$f":"ROUND(AG539,0)","v":4},{"$f":"ROUND(AG540,0)","v":3},{"$f":"IF(AH539>AI539,1,\"\")","v":1},{"$f":"IF(AH539=AI539,1,\"\")","v":""},{"$f":"IF(AH539<AI539,1,\"\")","v":""},{"$f":"AH539&\"-\"&AI539","v":"4-3"}]
[null,null,null,null,null,null,null,null,null,null,null,null,null,null,null,null,null,null,null,null,null,null,null,null,null,null,null,null,null,null,{"$f":"_xlfn.NORM.INV(RAND(),$Z$4,$N$20)","v":2.6737823622843417},{"$f":"_xlfn.NORM.INV(RAND(),$AA$4,$J$20)","v":2.989821828714434},2.8318020954993877]
[null,null,null,null,null,null,null,null,null,null,null,null,null,null,null,null,null,null,null,null,null,null,null,null,null,null,null,null,null,"№270",{"$f":"_xlfn.NORM.INV(RAND(),$Z$3,$I$20)","v":5.2491656768037913},{"$f":"_xlfn.NORM.INV(RAND(),$AA$3,$O$20)","v":-1.0574122758829987},2.0958767004603964,{"$f":"ROUND(AG541,0)","v":2},{"$f":"ROUND(AG542,0)","v":2},{"$f":"IF(AH541>AI541,1,\"\")","v":""},{"$f":"IF(AH541=AI541,1,\"\")","v":1},{"$f":"IF(AH541<AI541,1,\"\")","v":""},{"$f":"AH541&\"-\"&AI541","v":"2-2"}]
[null,null,null,null,null,null,null,null,null,null,null,null,null,null,null,null,null,null,null,null,null,null,null,null,null,null,null,null,null,null,{"$f":"_xlfn.NORM.INV(RAND(),$Z$4,$N$20)","v":2.7888862422404328},{"$f":"_xlfn.NORM.INV(RAND(),$AA$4,$J$20)","v":2.0438424487655693},2.4163643455030011]
[null,null,null,null,null,null,null,null,null,null,null,null,null,null,null,null,null,null,null,null,null,null,null,null,null,null,null,null,null,"№271",{"$f":"_xlfn.NORM.INV(RAND(),$Z$3,$I$20)","v":2.9634324357721598},{"$f":"_xlfn.NORM.INV(RAND(),$AA$3,$O$20)","v":-1.3247356238371435},0.81934840596750813,{"$f":"ROUND(AG543,0)","v":1},{"$f":"ROUND(AG544,0)","v":3},{"$f":"IF(AH543>AI543,1,\"\")","v":""},{"$f":"IF(AH543=AI543,1,\"\")","v":""},{"$f":"IF(AH543<AI543,1,\"\")","v":1},{"$f":"AH543&\"-\"&AI543","v":"1-3"}]
[null,null,null,null,null,null,null,null,null,null,null,null,null,null,null,null,null,null,null,null,null,null,null,null,null,null,null,null,null,null,{"$f":"_xlfn.NORM.INV(RAND(),$Z$4,$N$20)","v":3.4829585594343815},{"$f":"_xlfn.NORM.INV(RAND(),$AA$4,$J$20)","v":1.5314521780268073},2.5072053687305944]
[null,null,null,null,null,null,null,null,null,null,null,null,null,null,null,null,null,null,null,null,null,null,null,null,null,null,null,null,null,"№272",{"$f":"_xlfn.NORM.INV(RAND(),$Z$3,$I$20)","v":3.5218007579907895},{"$f":"_xlfn.NORM.INV(RAND(),$AA$3,$O$20)","v":0.52471303972460692},2.0232568988576984,{"$f":"ROUND(AG545,0)","v":2},{"$f":"ROUND(AG546,0)","v":2},{"$f":"IF(AH545>AI545,1,\"\")","v":""},{"$f":"IF(AH545=AI545,1,\"\")","v":1},{"$f":"IF(AH545<AI545,1,\"\")","v":""},{"$f":"AH545&\"-\"&AI545","v":"2-2"}]
[null,null,null,null,null,null,null,null,null,null,null,null,null,null,null,null,null,null,null,null,null,null,null,null,null,null,null,null,null,null,{"$f":"_xlfn.NORM.INV(RAND(),$Z$4,$N$20)","v":2.1058132623159134},{"$f":"_xlfn.NORM.INV(RAND(),$AA$4,$J$20)","v":2.3422340301193239},2.2240236462176188]
[null,null,null,null,null,null,null,null,null,null,null,null,null,null,null,null,null,null,null,null,null,null,null,null,null,null,null,null,null,"№273",{"$f":"_xlfn.NORM.INV(RAND(),$Z$3,$I$20)","v":4.1177593024707981},{"$f":"_xlfn.NORM.INV(RAND(),$AA$3,$O$20)","v":0.69319208249248354},2.4054756924816409,{"$f":"ROUND(AG547,0)","v":2},{"$f":"ROUND(AG548,0)","v":0},{"$f":"IF(AH547>AI547,1,\"\")","v":1},{"$f":"IF(AH547=AI547,1,\"\")","v":""},{"$f":"IF(AH547<AI547,1,\"\")","v":""},{"$f":"AH547&\"-\"&AI547","v":"2-0"}]
[null,null,null,null,null,null,null,null,null,null,null,null,null,null,null,null,null,null,null,null,null,null,null,null,null,null,null,null,null,null,{"$f":"_xlfn.NORM.INV(RAND(),$Z$4,$N$20)","v":1.6266183927610363},{"$f":"_xlfn.NORM.INV(RAND(),$AA$4,$J$20)","v":-0.68187254253200313},0.47237292511451656]
[null,null,null,null,null,null,null,null,null,null,null,null,null,null,null,null,null,null,null,null,null,null,null,null,null,null,null,null,null,"№274",{"$f":"_xlfn.NORM.INV(RAND(),$Z$3,$I$20)","v":6.2864411064462749},{"$f":"_xlfn.NORM.INV(RAND(),$AA$3,$O$20)","v":0.39356769561380145},3.340004401030038,{"$f":"ROUND(AG549,0)","v":3},{"$f":"ROUND(AG550,0)","v":0},{"$f":"IF(AH549>AI549,1,\"\")","v":1},{"$f":"IF(AH549=AI549,1,\"\")","v":""},{"$f":"IF(AH549<AI549,1,\"\")","v":""},{"$f":"AH549&\"-\"&AI549","v":"3-0"}]
[null,null,null,null,null,null,null,null,null,null,null,null,null,null,null,null,null,null,null,null,null,null,null,null,null,null,null,null,null,null,{"$f":"_xlfn.NORM.INV(RAND(),$Z$4,$N$20)","v":1.0303644411638999},{"$f":"_xlfn.NORM.INV(RAND(),$AA$4,$J$20)","v":-0.75375890858588335},0.13830276628900828]
[null,null,null,null,null,null,null,null,null,null,null,null,null,null,null,null,null,null,null,null,null,null,null,null,null,null,null,null,null,"№275",{"$f":"_xlfn.NORM.INV(RAND(),$Z$3,$I$20)","v":2.2455453574203905},{"$f":"_xlfn.NORM.INV(RAND(),$AA$3,$O$20)","v":1.5795910310412351},1.9125681942308128,{"$f":"ROUND(AG551,0)","v":2},{"$f":"ROUND(AG552,0)","v":3},{"$f":"IF(AH551>AI551,1,\"\")","v":""},{"$f":"IF(AH551=AI551,1,\"\")","v":""},{"$f":"IF(AH551<AI551,1,\"\")","v":1},{"$f":"AH551&\"-\"&AI551","v":"2-3"}]
[null,null,null,null,null,null,null,null,null,null,null,null,null,null,null,null,null,null,null,null,null,null,null,null,null,null,null,null,null,null,{"$f":"_xlfn.NORM.INV(RAND(),$Z$4,$N$20)","v":2.8053240665656691},{"$f":"_xlfn.NORM.INV(RAND(),$AA$4,$J$20)","v":3.3223519358916809},3.063838001228675]
[null,null,null,null,null,null,null,null,null,null,null,null,null,null,null,null,null,null,null,null,null,null,null,null,null,null,null,null,null,"№276",{"$f":"_xlfn.NORM.INV(RAND(),$Z$3,$I$20)","v":3.8776900102779814},{"$f":"_xlfn.NORM.INV(RAND(),$AA$3,$O$20)","v":-1.2902439924352038},1.2937230089213889,{"$f":"ROUND(AG553,0)","v":1},{"$f":"ROUND(AG554,0)","v":2},{"$f":"IF(AH553>AI553,1,\"\")","v":""},{"$f":"IF(AH553=AI553,1,\"\")","v":""},{"$f":"IF(AH553<AI553,1,\"\")","v":1},{"$f":"AH553&\"-\"&AI553","v":"1-2"}]
[null,null,null,null,null,null,null,null,null,null,null,null,null,null,null,null,null,null,null,null,null,null,null,null,null,null,null,null,null,null,{"$f":"_xlfn.NORM.INV(RAND(),$Z$4,$N$20)","v":1.7179136949095417},{"$f":"_xlfn.NORM.INV(RAND(),$AA$4,$J$20)","v":2.7920479296071505},2.2549808122583461]
[null,null,null,null,null,null,null,null,null,null,null,null,null,null,null,null,null,null,null,null,null,null,null,null,null,null,null,null,null,"№277",{"$f":"_xlfn.NORM.INV(RAND(),$Z$3,$I$20)","v":4.2266889042442903},{"$f":"_xlfn.NORM.INV(RAND(),$AA$3,$O$20)","v":2.6316608472194796},3.429174875731885,{"$f":"ROUND(AG555,0)","v":3},{"$f":"ROUND(AG556,0)","v":2},{"$f":"IF(AH555>AI555,1,\"\")","v":1},{"$f":"IF(AH555=AI555,1,\"\")","v":""},{"$f":"IF(AH555<AI555,1,\"\")","v":""},{"$f":"AH555&\"-\"&AI555","v":"3-2"}]
[null,null,null,null,null,null,null,null,null,null,null,null,null,null,null,null,null,null,null,null,null,null,null,null,null,null,null,null,null,null,{"$f":"_xlfn.NORM.INV(RAND(),$Z$4,$N$20)","v":2.5862205137976293},{"$f":"_xlfn.NORM.INV(RAND(),$AA$4,$J$20)","v":1.6953519321635251},2.1407862229805774]
[null,null,null,null,null,null,null,null,null,null,null,null,null,null,null,null,null,null,null,null,null,null,null,null,null,null,null,null,null,"№278",{"$f":"_xlfn.NORM.INV(RAND(),$Z$3,$I$20)","v":2.1641100115420677},{"$f":"_xlfn.NORM.INV(RAND(),$AA$3,$O$20)","v":0.3792940329816647},1.2717020222618662,{"$f":"ROUND(AG557,0)","v":1},{"$f":"ROUND(AG558,0)","v":3},{"$f":"IF(AH557>AI557,1,\"\")","v":""},{"$f":"IF(AH557=AI557,1,\"\")","v":""},{"$f":"IF(AH557<AI557,1,\"\")","v":1},{"$f":"AH557&\"-\"&AI557","v":"1-3"}]
[null,null,null,null,null,null,null,null,null,null,null,null,null,null,null,null,null,null,null,null,null,null,null,null,null,null,null,null,null,null,{"$f":"_xlfn.NORM.INV(RAND(),$Z$4,$N$20)","v":2.3803108838949347},{"$f":"_xlfn.NORM.INV(RAND(),$AA$4,$J$20)","v":3.8578601769009433},3.119085530397939]
[null,null,null,null,null,null,null,null,null,null,null,null,null,null,null,null,null,null,null,null,null,null,null,null,null,null,null,null,null,"№279",{"$f":"_xlfn.NORM.INV(RAND(),$Z$3,$I$20)","v":2.5162314647082296},{"$f":"_xlfn.NORM.INV(RAND(),$AA$3,$O$20)","v":-1.3829812863209876},0.56662508919362098,{"$f":"ROUND(AG559,0)","v":1},{"$f":"ROUND(AG560,0)","v":1},{"$f":"IF(AH559>AI559,1,\"\")","v":""},{"$f":"IF(AH559=AI559,1,\"\")","v":1},{"$f":"IF(AH559<AI559,1,\"\")","v":""},{"$f":"AH559&\"-\"&AI559","v":"1-1"}]
[null,null,null,null,null,null,null,null,null,null,null,null,null,null,null,null,null,null,null,null,null,null,null,null,null,null,null,null,null,null,{"$f":"_xlfn.NORM.INV(RAND(),$Z$4,$N$20)","v":2.687723627185334},{"$f":"_xlfn.NORM.INV(RAND(),$AA$4,$J$20)","v":-0.21880340223901684},1.2344601124731587]
[null,null,null,null,null,null,null,null,null,null,null,null,null,null,null,null,null,null,null,null,null,null,null,null,null,null,null,null,null,"№280",{"$f":"_xlfn.NORM.INV(RAND(),$Z$3,$I$20)","v":1.2345010545851673},{"$f":"_xlfn.NORM.INV(RAND(),$AA$3,$O$20)","v":2.3746855394318862},1.8045932970085268,{"$f":"ROUND(AG561,0)","v":2},{"$f":"ROUND(AG562,0)","v":3},{"$f":"IF(AH561>AI561,1,\"\")","v":""},{"$f":"IF(AH561=AI561,1,\"\")","v":""},{"$f":"IF(AH561<AI561,1,\"\")","v":1},{"$f":"AH561&\"-\"&AI561","v":"2-3"}]
[null,null,null,null,null,null,null,null,null,null,null,null,null,null,null,null,null,null,null,null,null,null,null,null,null,null,null,null,null,null,{"$f":"_xlfn.NORM.INV(RAND(),$Z$4,$N$20)","v":2.3962324572153784},{"$f":"_xlfn.NORM.INV(RAND(),$AA$4,$J$20)","v":4.1831310200971412},3.2896817386562596]
[null,null,null,null,null,null,null,null,null,null,null,null,null,null,null,null,null,null,null,null,null,null,null,null,null,null,null,null,null,"№281",{"$f":"_xlfn.NORM.INV(RAND(),$Z$3,$I$20)","v":2.899353245871648},{"$f":"_xlfn.NORM.INV(RAND(),$AA$3,$O$20)","v":9.3946817594611542E-2},1.4966500317331297,{"$f":"ROUND(AG563,0)","v":1},{"$f":"ROUND(AG564,0)","v":2},{"$f":"IF(AH563>AI563,1,\"\")","v":""},{"$f":"IF(AH563=AI563,1,\"\")","v":""},{"$f":"IF(AH563<AI563,1,\"\")","v":1},{"$f":"AH563&\"-\"&AI563","v":"1-2"}]
[null,null,null,null,null,null,null,null,null,null,null,null,null,null,null,null,null,null,null,null,null,null,null,null,null,null,null,null,null,null,{"$f":"_xlfn.NORM.INV(RAND(),$Z$4,$N$20)","v":2.2108018904298521},{"$f":"_xlfn.NORM.INV(RAND(),$AA$4,$J$20)","v":2.6507042383516093},2.4307530643907307]
[null,null,null,null,null,null,null,null,null,null,null,null,null,null,null,null,null,null,null,null,null,null,null,null,null,null,null,null,null,"№282",{"$f":"_xlfn.NORM.INV(RAND(),$Z$3,$I$20)","v":1.1301936478464381},{"$f":"_xlfn.NORM.INV(RAND(),$AA$3,$O$20)","v":1.4485739969678342},1.2893838224071361,{"$f":"ROUND(AG565,0)","v":1},{"$f":"ROUND(AG566,0)","v":3},{"$f":"IF(AH565>AI565,1,\"\")","v":""},{"$f":"IF(AH565=AI565,1,\"\")","v":""},{"$f":"IF(AH565<AI565,1,\"\")","v":1},{"$f":"AH565&\"-\"&AI565","v":"1-3"}]
[null,null,null,null,null,null,null,null,null,null,null,null,null,null,null,null,null,null,null,null,null,null,null,null,null,null,null,null,null,null,{"$f":"_xlfn.NORM.INV(RAND(),$Z$4,$N$20)","v":4.2927117265118628},{"$f":"_xlfn.NORM.INV(RAND(),$AA$4,$J$20)","v":2.5918419379793765},3.4422768322456196]
[null,null,null,null,null,null,null,null,null,null,null,null,null,null,null,null,null,null,null,null,null,null,null,null,null,null,null,null,null,"№283",{"$f":"_xlfn.NORM.INV(RAND(),$Z$3,$I$20)","v":4.5186510748837954},{"$f":"_xlfn.NORM.INV(RAND(),$AA$3,$O$20)","v":0.79877954188053579},2.6587153083821655,{"$f":"ROUND(AG567,0)","v":3},{"$f":"ROUND(AG568,0)","v":1},{"$f":"IF(AH567>AI567,1,\"\")","v":1},{"$f":"IF(AH567=AI567,1,\"\")","v":""},{"$f":"IF(AH567<AI567,1,\"\")","v":""},{"$f":"AH567&\"-\"&AI567","v":"3-1"}]
[null,null,null,null,null,null,null,null,null,null,null,null,null,null,null,null,null,null,null,null,null,null,null,null,null,null,null,null,null,null,{"$f":"_xlfn.NORM.INV(RAND(),$Z$4,$N$20)","v":1.4219815156942288},{"$f":"_xlfn.NORM.INV(RAND(),$AA$4,$J$20)","v":-0.21261973230407105},0.60468089169507888]
[null,null,null,null,null,null,null,null,null,null,null,null,null,null,null,null,null,null,null,null,null,null,null,null,null,null,null,null,null,"№284",{"$f":"_xlfn.NORM.INV(RAND(),$Z$3,$I$20)","v":3.2838372823227555},{"$f":"_xlfn.NORM.INV(RAND(),$AA$3,$O$20)","v":-0.52117834871402913},1.3813294668043632,{"$f":"ROUND(AG569,0)","v":1},{"$f":"ROUND(AG570,0)","v":1},{"$f":"IF(AH569>AI569,1,\"\")","v":""},{"$f":"IF(AH569=AI569,1,\"\")","v":1},{"$f":"IF(AH569<AI569,1,\"\")","v":""},{"$f":"AH569&\"-\"&AI569","v":"1-1"}]
[null,null,null,null,null,null,null,null,null,null,null,null,null,null,null,null,null,null,null,null,null,null,null,null,null,null,null,null,null,null,{"$f":"_xlfn.NORM.INV(RAND(),$Z$4,$N$20)","v":3.0545216980568384},{"$f":"_xlfn.NORM.INV(RAND(),$AA$4,$J$20)","v":-0.92432468555150837},1.065098506252665]
[null,null,null,null,null,null,null,null,null,null,null,null,null,null,null,null,null,null,null,null,null,null,null,null,null,null,null,null,null,"№285",{"$f":"_xlfn.NORM.INV(RAND(),$Z$3,$I$20)","v":3.6097418808753545},{"$f":"_xlfn.NORM.INV(RAND(),$AA$3,$O$20)","v":1.2551246930690108},2.4324332869721825,{"$f":"ROUND(AG571,0)","v":2},{"$f":"ROUND(AG572,0)","v":2},{"$f":"IF(AH571>AI571,1,\"\")","v":""},{"$f":"IF(AH571=AI571,1,\"\")","v":1},{"$f":"IF(AH571<AI571,1,\"\")","v":""},{"$f":"AH571&\"-\"&AI571","v":"2-2"}]
[null,null,null,null,null,null,null,null,null,null,null,null,null,null,null,null,null,null,null,null,null,null,null,null,null,null,null,null,null,null,{"$f":"_xlfn.NORM.INV(RAND(),$Z$4,$N$20)","v":1.6092714716545622},{"$f":"_xlfn.NORM.INV(RAND(),$AA$4,$J$20)","v":2.5720192120413992},2.0906453418479805]
[null,null,null,null,null,null,null,null,null,null,null,null,null,null,null,null,null,null,null,null,null,null,null,null,null,null,null,null,null,"№286",{"$f":"_xlfn.NORM.INV(RAND(),$Z$3,$I$20)","v":3.3337888617116049},{"$f":"_xlfn.NORM.INV(RAND(),$AA$3,$O$20)","v":1.080361814992894},2.2070753383522494,{"$f":"ROUND(AG573,0)","v":2},{"$f":"ROUND(AG574,0)","v":1},{"$f":"IF(AH573>AI573,1,\"\")","v":1},{"$f":"IF(AH573=AI573,1,\"\")","v":""},{"$f":"IF(AH573<AI573,1,\"\")","v":""},{"$f":"AH573&\"-\"&AI573","v":"2-1"}]
[null,null,null,null,null,null,null,null,null,null,null,null,null,null,null,null,null,null,null,null,null,null,null,null,null,null,null,null,null,null,{"$f":"_xlfn.NORM.INV(RAND(),$Z$4,$N$20)","v":2.9048529287186993},{"$f":"_xlfn.NORM.INV(RAND(),$AA$4,$J$20)","v":-0.47023457211416542},1.2173091783022669]
[null,null,null,null,null,null,null,null,null,null,null,null,null,null,null,null,null,null,null,null,null,null,null,null,null,null,null,null,null,"№287",{"$f":"_xlfn.NORM.INV(RAND(),$Z$3,$I$20)","v":1.7292029680879861},{"$f":"_xlfn.NORM.INV(RAND(),$AA$3,$O$20)","v":1.8873462353350989},1.8082746017115425,{"$f":"ROUND(AG575,0)","v":2},{"$f":"ROUND(AG576,0)","v":2},{"$f":"IF(AH575>AI575,1,\"\")","v":""},{"$f":"IF(AH575=AI575,1,\"\")","v":1},{"$f":"IF(AH575<AI575,1,\"\")","v":""},{"$f":"AH575&\"-\"&AI575","v":"2-2"}]
[null,null,null,null,null,null,null,null,null,null,null,null,null,null,null,null,null,null,null,null,null,null,null,null,null,null,null,null,null,null,{"$f":"_xlfn.NORM.INV(RAND(),$Z$4,$N$20)","v":2.5666387878738894},{"$f":"_xlfn.NORM.INV(RAND(),$AA$4,$J$20)","v":1.9092876253210029},2.2379632065974464]
[null,null,null,null,null,null,null,null,null,null,null,null,null,null,null,null,null,null,null,null,null,null,null,null,null,null,null,null,null,"№288",{"$f":"_xlfn.NORM.INV(RAND(),$Z$3,$I$20)","v":4.5254103725112236},{"$f":"_xlfn.NORM.INV(RAND(),$AA$3,$O$20)","v":7.0732467999996773E-2},2.2980714202556101,{"$f":"ROUND(AG577,0)","v":2},{"$f":"ROUND(AG578,0)","v":4},{"$f":"IF(AH577>AI577,1,\"\")","v":""},{"$f":"IF(AH577=AI577,1,\"\")","v":""},{"$f":"IF(AH577<AI577,1,\"\")","v":1},{"$f":"AH577&\"-\"&AI577","v":"2-4"}]
[null,null,null,null,null,null,null,null,null,null,null,null,null,null,null,null,null,null,null,null,null,null,null,null,null,null,null,null,null,null,{"$f":"_xlfn.NORM.INV(RAND(),$Z$4,$N$20)","v":2.8769358374158593},{"$f":"_xlfn.NORM.INV(RAND(),$AA$4,$J$20)","v":4.3811061933420508},3.6290210153789548]
[null,null,null,null,null,null,null,null,null,null,null,null,null,null,null,null,null,null,null,null,null,null,null,null,null,null,null,null,null,"№289",{"$f":"_xlfn.NORM.INV(RAND(),$Z$3,$I$20)","v":0.67211546723449134},{"$f":"_xlfn.NORM.INV(RAND(),$AA$3,$O$20)","v":0.6628143406854945},0.66746490395999292,{"$f":"ROUND(AG579,0)","v":1},{"$f":"ROUND(AG580,0)","v":3},{"$f":"IF(AH579>AI579,1,\"\")","v":""},{"$f":"IF(AH579=AI579,1,\"\")","v":""},{"$f":"IF(AH579<AI579,1,\"\")","v":1},{"$f":"AH579&\"-\"&AI579","v":"1-3"}]
[null,null,null,null,null,null,null,null,null,null,null,null,null,null,null,null,null,null,null,null,null,null,null,null,null,null,null,null,null,null,{"$f":"_xlfn.NORM.INV(RAND(),$Z$4,$N$20)","v":2.2980254032308594},{"$f":"_xlfn.NORM.INV(RAND(),$AA$4,$J$20)","v":4.0245672870507594},3.1612963451408094]
[null,null,null,null,null,null,null,null,null,null,null,null,null,null,null,null,null,null,null,null,null,null,null,null,null,null,null,null,null,"№290",{"$f":"_xlfn.NORM.INV(RAND(),$Z$3,$I$20)","v":0.19522726683489466},{"$f":"_xlfn.NORM.INV(RAND(),$AA$3,$O$20)","v":2.2190364612509468},{"$f":"(AE581+AF581)/2","v":1.2071318640429207},{"$f":"ROUND(AG581,0)","v":1},{"$f":"ROUND(AG582,0)","v":3},{"$f":"IF(AH581>AI581,1,\"\")","v":""},{"$f":"IF(AH581=AI581,1,\"\")","v":""},{"$f":"IF(AH581<AI581,1,\"\")","v":1},{"$f":"AH581&\"-\"&AI581","v":"1-3"}]
[null,null,null,null,null,null,null,null,null,null,null,null,null,null,null,null,null,null,null,null,null,null,null,null,null,null,null,null,null,null,{"$f":"_xlfn.NORM.INV(RAND(),$Z$4,$N$20)","v":1.542959864304144},{"$f":"_xlfn.NORM.INV(RAND(),$AA$4,$J$20)","v":3.8313238610453682},2.6871418626747561]
[null,null,null,null,null,null,null,null,null,null,null,null,null,null,null,null,null,null,null,null,null,null,null,null,null,null,null,null,null,"№291",{"$f":"_xlfn.NORM.INV(RAND(),$Z$3,$I$20)","v":3.2734227011029322},{"$f":"_xlfn.NORM.INV(RAND(),$AA$3,$O$20)","v":1.0308340121005808},2.1521283566017564,{"$f":"ROUND(AG583,0)","v":2},{"$f":"ROUND(AG584,0)","v":1},{"$f":"IF(AH583>AI583,1,\"\")","v":1},{"$f":"IF(AH583=AI583,1,\"\")","v":""},{"$f":"IF(AH583<AI583,1,\"\")","v":""},{"$f":"AH583&\"-\"&AI583","v":"2-1"}]
[null,null,null,null,null,null,null,null,null,null,null,null,null,null,null,null,null,null,null,null,null,null,null,null,null,null,null,null,null,null,{"$f":"_xlfn.NORM.INV(RAND(),$Z$4,$N$20)","v":1.7725365285438093},{"$f":"_xlfn.NORM.INV(RAND(),$AA$4,$J$20)","v":0.98260104060062636},1.3775687845722178]
[null,null,null,null,null,null,null,null,null,null,null,null,null,null,null,null,null,null,null,null,null,null,null,null,null,null,null,null,null,"№292",{"$f":"_xlfn.NORM.INV(RAND(),$Z$3,$I$20)","v":4.1278765840292149},{"$f":"_xlfn.NORM.INV(RAND(),$AA$3,$O$20)","v":1.5571300220827071},2.842503303055961,{"$f":"ROUND(AG585,0)","v":3},{"$f":"ROUND(AG586,0)","v":1},{"$f":"IF(AH585>AI585,1,\"\")","v":1},{"$f":"IF(AH585=AI585,1,\"\")","v":""},{"$f":"IF(AH585<AI585,1,\"\")","v":""},{"$f":"AH585&\"-\"&AI585","v":"3-1"}]
[null,null,null,null,null,null,null,null,null,null,null,null,null,null,null,null,null,null,null,null,null,null,null,null,null,null,null,null,null,null,{"$f":"_xlfn.NORM.INV(RAND(),$Z$4,$N$20)","v":1.5769798442208987},{"$f":"_xlfn.NORM.INV(RAND(),$AA$4,$J$20)","v":0.79120978862328717},1.184094816422093]
[null,null,null,null,null,null,null,null,null,null,null,null,null,null,null,null,null,null,null,null,null,null,null,null,null,null,null,null,null,"№293",{"$f":"_xlfn.NORM.INV(RAND(),$Z$3,$I$20)","v":2.3880517832831005},{"$f":"_xlfn.NORM.INV(RAND(),$AA$3,$O$20)","v":-6.9692101850821309E-2},1.1591798407161396,{"$f":"ROUND(AG587,0)","v":1},{"$f":"ROUND(AG588,0)","v":2},{"$f":"IF(AH587>AI587,1,\"\")","v":""},{"$f":"IF(AH587=AI587,1,\"\")","v":""},{"$f":"IF(AH587<AI587,1,\"\")","v":1},{"$f":"AH587&\"-\"&AI587","v":"1-2"}]
[null,null,null,null,null,null,null,null,null,null,null,null,null,null,null,null,null,null,null,null,null,null,null,null,null,null,null,null,null,null,{"$f":"_xlfn.NORM.INV(RAND(),$Z$4,$N$20)","v":1.9598704894434593},{"$f":"_xlfn.NORM.INV(RAND(),$AA$4,$J$20)","v":1.6279165757099896},1.7938935325767245]
[null,null,null,null,null,null,null,null,null,null,null,null,null,null,null,null,null,null,null,null,null,null,null,null,null,null,null,null,null,"№294",{"$f":"_xlfn.NORM.INV(RAND(),$Z$3,$I$20)","v":2.9491574323043954},{"$f":"_xlfn.NORM.INV(RAND(),$AA$3,$O$20)","v":-0.73652257331783799},1.1063174294932787,{"$f":"ROUND(AG589,0)","v":1},{"$f":"ROUND(AG590,0)","v":3},{"$f":"IF(AH589>AI589,1,\"\")","v":""},{"$f":"IF(AH589=AI589,1,\"\")","v":""},{"$f":"IF(AH589<AI589,1,\"\")","v":1},{"$f":"AH589&\"-\"&AI589","v":"1-3"}]
[null,null,null,null,null,null,null,null,null,null,null,null,null,null,null,null,null,null,null,null,null,null,null,null,null,null,null,null,null,null,{"$f":"_xlfn.NORM.INV(RAND(),$Z$4,$N$20)","v":2.884438320310037},{"$f":"_xlfn.NORM.INV(RAND(),$AA$4,$J$20)","v":3.201063028862225},3.0427506745861308]
[null,null,null,null,null,null,null,null,null,null,null,null,null,null,null,null,null,null,null,null,null,null,null,null,null,null,null,null,null,"№295",{"$f":"_xlfn.NORM.INV(RAND(),$Z$3,$I$20)","v":1.7681448556966539},{"$f":"_xlfn.NORM.INV(RAND(),$AA$3,$O$20)","v":1.1307190377621552},1.4494319467294046,{"$f":"ROUND(AG591,0)","v":1},{"$f":"ROUND(AG592,0)","v":2},{"$f":"IF(AH591>AI591,1,\"\")","v":""},{"$f":"IF(AH591=AI591,1,\"\")","v":""},{"$f":"IF(AH591<AI591,1,\"\")","v":1},{"$f":"AH591&\"-\"&AI591","v":"1-2"}]
[null,null,null,null,null,null,null,null,null,null,null,null,null,null,null,null,null,null,null,null,null,null,null,null,null,null,null,null,null,null,{"$f":"_xlfn.NORM.INV(RAND(),$Z$4,$N$20)","v":2.3535490817638371},{"$f":"_xlfn.NORM.INV(RAND(),$AA$4,$J$20)","v":2.0436240806164725},2.1985865811901548]
[null,null,null,null,null,null,null,null,null,null,null,null,null,null,null,null,null,null,null,null,null,null,null,null,null,null,null,null,null,"№296",{"$f":"_xlfn.NORM.INV(RAND(),$Z$3,$I$20)","v":4.1553198643827773},{"$f":"_xlfn.NORM.INV(RAND(),$AA$3,$O$20)","v":-1.0779975239094943},1.5386611702366415,{"$f":"ROUND(AG593,0)","v":2},{"$f":"ROUND(AG594,0)","v":2},{"$f":"IF(AH593>AI593,1,\"\")","v":""},{"$f":"IF(AH593=AI593,1,\"\")","v":1},{"$f":"IF(AH593<AI593,1,\"\")","v":""},{"$f":"AH593&\"-\"&AI593","v":"2-2"}]
[null,null,null,null,null,null,null,null,null,null,null,null,null,null,null,null,null,null,null,null,null,null,null,null,null,null,null,null,null,null,{"$f":"_xlfn.NORM.INV(RAND(),$Z$4,$N$20)","v":2.5855799900104879},{"$f":"_xlfn.NORM.INV(RAND(),$AA$4,$J$20)","v":1.1888464427026333},1.8872132163565607]
[null,null,null,null,null,null,null,null,null,null,null,null,null,null,null,null,null,null,null,null,null,null,null,null,null,null,null,null,null,"№297",{"$f":"_xlfn.NORM.INV(RAND(),$Z$3,$I$20)","v":6.3125177101337853},{"$f":"_xlfn.NORM.INV(RAND(),$AA$3,$O$20)","v":1.4354781892993853},3.8739979497165855,{"$f":"ROUND(AG595,0)","v":4},{"$f":"ROUND(AG596,0)","v":1},{"$f":"IF(AH595>AI595,1,\"\")","v":1},{"$f":"IF(AH595=AI595,1,\"\")","v":""},{"$f":"IF(AH595<AI595,1,\"\")","v":""},{"$f":"AH595&\"-\"&AI595","v":"4-1"}]
[null,null,null,null,null,null,null,null,null,null,null,null,null,null,null,null,null,null,null,null,null,null,null,null,null,null,null,null,null,null,{"$f":"_xlfn.NORM.INV(RAND(),$Z$4,$N$20)","v":2.3825238501352919},{"$f":"_xlfn.NORM.INV(RAND(),$AA$4,$J$20)","v":0.35021472620406713},1.3663692881696794]
[null,null,null,null,null,null,null,null,null,null,null,null,null,null,null,null,null,null,null,null,null,null,null,null,null,null,null,null,null,"№298",{"$f":"_xlfn.NORM.INV(RAND(),$Z$3,$I$20)","v":4.4464334769283704},{"$f":"_xlfn.NORM.INV(RAND(),$AA$3,$O$20)","v":0.87395536730760226},2.6601944221179865,{"$f":"ROUND(AG597,0)","v":3},{"$f":"ROUND(AG598,0)","v":2},{"$f":"IF(AH597>AI597,1,\"\")","v":1},{"$f":"IF(AH597=AI597,1,\"\")","v":""},{"$f":"IF(AH597<AI597,1,\"\")","v":""},{"$f":"AH597&\"-\"&AI597","v":"3-2"}]
[null,null,null,null,null,null,null,null,null,null,null,null,null,null,null,null,null,null,null,null,null,null,null,null,null,null,null,null,null,null,{"$f":"_xlfn.NORM.INV(RAND(),$Z$4,$N$20)","v":1.8486637653854237},{"$f":"_xlfn.NORM.INV(RAND(),$AA$4,$J$20)","v":2.3392201628979317},2.0939419641416777]
[null,null,null,null,null,null,null,null,null,null,null,null,null,null,null,null,null,null,null,null,null,null,null,null,null,null,null,null,null,"№299",{"$f":"_xlfn.NORM.INV(RAND(),$Z$3,$I$20)","v":3.1671303851034187},{"$f":"_xlfn.NORM.INV(RAND(),$AA$3,$O$20)","v":2.4771957861570102},2.8221630856302147,{"$f":"ROUND(AG599,0)","v":3},{"$f":"ROUND(AG600,0)","v":2},{"$f":"IF(AH599>AI599,1,\"\")","v":1},{"$f":"IF(AH599=AI599,1,\"\")","v":""},{"$f":"IF(AH599<AI599,1,\"\")","v":""},{"$f":"AH599&\"-\"&AI599","v":"3-2"}]
[null,null,null,null,null,null,null,null,null,null,null,null,null,null,null,null,null,null,null,null,null,null,null,null,null,null,null,null,null,null,{"$f":"_xlfn.NORM.INV(RAND(),$Z$4,$N$20)","v":2.3414875149602161},{"$f":"_xlfn.NORM.INV(RAND(),$AA$4,$J$20)","v":1.2000672127922953},1.7707773638762556]
[null,null,null,null,null,null,null,null,null,null,null,null,null,null,null,null,null,null,null,null,null,null,null,null,null,null,null,null,null,"№300",{"$f":"_xlfn.NORM.INV(RAND(),$Z$3,$I$20)","v":5.6947807341966836},{"$f":"_xlfn.NORM.INV(RAND(),$AA$3,$O$20)","v":3.6449982387590092},4.669889486477846,{"$f":"ROUND(AG601,0)","v":5},{"$f":"ROUND(AG602,0)","v":3},{"$f":"IF(AH601>AI601,1,\"\")","v":1},{"$f":"IF(AH601=AI601,1,\"\")","v":""},{"$f":"IF(AH601<AI601,1,\"\")","v":""},{"$f":"AH601&\"-\"&AI601","v":"5-3"}]
[null,null,null,null,null,null,null,null,null,null,null,null,null,null,null,null,null,null,null,null,null,null,null,null,null,null,null,null,null,null,{"$f":"_xlfn.NORM.INV(RAND(),$Z$4,$N$20)","v":2.7093298614862418},{"$f":"_xlfn.NORM.INV(RAND(),$AA$4,$J$20)","v":3.8048434483564391},3.2570866549213404]
[null,null,null,null,null,null,null,null,null,null,null,null,null,null,null,null,null,null,null,null,null,null,null,null,null,null,null,null,null,"№301",{"$f":"_xlfn.NORM.INV(RAND(),$Z$3,$I$20)","v":3.4567782444846555},{"$f":"_xlfn.NORM.INV(RAND(),$AA$3,$O$20)","v":0.7211562899510694},2.0889672672178623,{"$f":"ROUND(AG603,0)","v":2},{"$f":"ROUND(AG604,0)","v":-1},{"$f":"IF(AH603>AI603,1,\"\")","v":1},{"$f":"IF(AH603=AI603,1,\"\")","v":""},{"$f":"IF(AH603<AI603,1,\"\")","v":""},{"$f":"AH603&\"-\"&AI603","v":"2--1"}]
[null,null,null,null,null,null,null,null,null,null,null,null,null,null,null,null,null,null,null,null,null,null,null,null,null,null,null,null,null,null,{"$f":"_xlfn.NORM.INV(RAND(),$Z$4,$N$20)","v":1.4046529015499449},{"$f":"_xlfn.NORM.INV(RAND(),$AA$4,$J$20)","v":-2.5298912350174301},-0.56261916673374257]
[null,null,null,null,null,null,null,null,null,null,null,null,null,null,null,null,null,null,null,null,null,null,null,null,null,null,null,null,null,"№302",{"$f":"_xlfn.NORM.INV(RAND(),$Z$3,$I$20)","v":1.6626609194509814},{"$f":"_xlfn.NORM.INV(RAND(),$AA$3,$O$20)","v":1.2887132745052765},1.4756870969781288,{"$f":"ROUND(AG605,0)","v":1},{"$f":"ROUND(AG606,0)","v":1},{"$f":"IF(AH605>AI605,1,\"\")","v":""},{"$f":"IF(AH605=AI605,1,\"\")","v":1},{"$f":"IF(AH605<AI605,1,\"\")","v":""},{"$f":"AH605&\"-\"&AI605","v":"1-1"}]
[null,null,null,null,null,null,null,null,null,null,null,null,null,null,null,null,null,null,null,null,null,null,null,null,null,null,null,null,null,null,{"$f":"_xlfn.NORM.INV(RAND(),$Z$4,$N$20)","v":2.6528513111911467},{"$f":"_xlfn.NORM.INV(RAND(),$AA$4,$J$20)","v":-0.69955365882446019},0.97664882618334325]
[null,null,null,null,null,null,null,null,null,null,null,null,null,null,null,null,null,null,null,null,null,null,null,null,null,null,null,null,null,"№303",{"$f":"_xlfn.NORM.INV(RAND(),$Z$3,$I$20)","v":2.2175059366053156},{"$f":"_xlfn.NORM.INV(RAND(),$AA$3,$O$20)","v":1.74559093611053},1.9815484363579228,{"$f":"ROUND(AG607,0)","v":2},{"$f":"ROUND(AG608,0)","v":2},{"$f":"IF(AH607>AI607,1,\"\")","v":""},{"$f":"IF(AH607=AI607,1,\"\")","v":1},{"$f":"IF(AH607<AI607,1,\"\")","v":""},{"$f":"AH607&\"-\"&AI607","v":"2-2"}]
[null,null,null,null,null,null,null,null,null,null,null,null,null,null,null,null,null,null,null,null,null,null,null,null,null,null,null,null,null,null,{"$f":"_xlfn.NORM.INV(RAND(),$Z$4,$N$20)","v":2.7013243680534824},{"$f":"_xlfn.NORM.INV(RAND(),$AA$4,$J$20)","v":2.0703196883106587},2.3858220281820706]
[null,null,null,null,null,null,null,null,null,null,null,null,null,null,null,null,null,null,null,null,null,null,null,null,null,null,null,null,null,"№304",{"$f":"_xlfn.NORM.INV(RAND(),$Z$3,$I$20)","v":2.0368080497054355},{"$f":"_xlfn.NORM.INV(RAND(),$AA$3,$O$20)","v":-3.9356698531189727E-2},0.99872567558712289,{"$f":"ROUND(AG609,0)","v":1},{"$f":"ROUND(AG610,0)","v":3},{"$f":"IF(AH609>AI609,1,\"\")","v":""},{"$f":"IF(AH609=AI609,1,\"\")","v":""},{"$f":"IF(AH609<AI609,1,\"\")","v":1},{"$f":"AH609&\"-\"&AI609","v":"1-3"}]
[null,null,null,null,null,null,null,null,null,null,null,null,null,null,null,null,null,null,null,null,null,null,null,null,null,null,null,null,null,null,{"$f":"_xlfn.NORM.INV(RAND(),$Z$4,$N$20)","v":3.1127441473503521},{"$f":"_xlfn.NORM.INV(RAND(),$AA$4,$J$20)","v":2.5534600074286478},2.8331020773894999]
[null,null,null,null,null,null,null,null,null,null,null,null,null,null,null,null,null,null,null,null,null,null,null,null,null,null,null,null,null,"№305",{"$f":"_xlfn.NORM.INV(RAND(),$Z$3,$I$20)","v":2.6413864414021031},{"$f":"_xlfn.NORM.INV(RAND(),$AA$3,$O$20)","v":1.3900039802562985},2.0156952108292008,{"$f":"ROUND(AG611,0)","v":2},{"$f":"ROUND(AG612,0)","v":2},{"$f":"IF(AH611>AI611,1,\"\")","v":""},{"$f":"IF(AH611=AI611,1,\"\")","v":1},{"$f":"IF(AH611<AI611,1,\"\")","v":""},{"$f":"AH611&\"-\"&AI611","v":"2-2"}]
[null,null,null,null,null,null,null,null,null,null,null,null,null,null,null,null,null,null,null,null,null,null,null,null,null,null,null,null,null,null,{"$f":"_xlfn.NORM.INV(RAND(),$Z$4,$N$20)","v":1.2803822075475775},{"$f":"_xlfn.NORM.INV(RAND(),$AA$4,$J$20)","v":2.0606465636185431},1.6705143855830604]
[null,null,null,null,null,null,null,null,null,null,null,null,null,null,null,null,null,null,null,null,null,null,null,null,null,null,null,null,null,"№306",{"$f":"_xlfn.NORM.INV(RAND(),$Z$3,$I$20)","v":4.4813050268599621},{"$f":"_xlfn.NORM.INV(RAND(),$AA$3,$O$20)","v":1.5079944057674783},2.9946497163137202,{"$f":"ROUND(AG613,0)","v":3},{"$f":"ROUND(AG614,0)","v":2},{"$f":"IF(AH613>AI613,1,\"\")","v":1},{"$f":"IF(AH613=AI613,1,\"\")","v":""},{"$f":"IF(AH613<AI613,1,\"\")","v":""},{"$f":"AH613&\"-\"&AI613","v":"3-2"}]
[null,null,null,null,null,null,null,null,null,null,null,null,null,null,null,null,null,null,null,null,null,null,null,null,null,null,null,null,null,null,{"$f":"_xlfn.NORM.INV(RAND(),$Z$4,$N$20)","v":0.61500462511336496},{"$f":"_xlfn.NORM.INV(RAND(),$AA$4,$J$20)","v":3.7526148202695389},2.1838097226914517]
[null,null,null,null,null,null,null,null,null,null,null,null,null,null,null,null,null,null,null,null,null,null,null,null,null,null,null,null,null,"№307",{"$f":"_xlfn.NORM.INV(RAND(),$Z$3,$I$20)","v":2.3836426875212742},{"$f":"_xlfn.NORM.INV(RAND(),$AA$3,$O$20)","v":0.36861016624343906},1.3761264268823565,{"$f":"ROUND(AG615,0)","v":1},{"$f":"ROUND(AG616,0)","v":1},{"$f":"IF(AH615>AI615,1,\"\")","v":""},{"$f":"IF(AH615=AI615,1,\"\")","v":1},{"$f":"IF(AH615<AI615,1,\"\")","v":""},{"$f":"AH615&\"-\"&AI615","v":"1-1"}]
[null,null,null,null,null,null,null,null,null,null,null,null,null,null,null,null,null,null,null,null,null,null,null,null,null,null,null,null,null,null,{"$f":"_xlfn.NORM.INV(RAND(),$Z$4,$N$20)","v":2.9444608898843279},{"$f":"_xlfn.NORM.INV(RAND(),$AA$4,$J$20)","v":-0.68726432946511418},1.1285982802096068]
[null,null,null,null,null,null,null,null,null,null,null,null,null,null,null,null,null,null,null,null,null,null,null,null,null,null,null,null,null,"№308",{"$f":"_xlfn.NORM.INV(RAND(),$Z$3,$I$20)","v":3.339469543068847},{"$f":"_xlfn.NORM.INV(RAND(),$AA$3,$O$20)","v":1.1435782294060193},2.2415238862374331,{"$f":"ROUND(AG617,0)","v":2},{"$f":"ROUND(AG618,0)","v":2},{"$f":"IF(AH617>AI617,1,\"\")","v":""},{"$f":"IF(AH617=AI617,1,\"\")","v":1},{"$f":"IF(AH617<AI617,1,\"\")","v":""},{"$f":"AH617&\"-\"&AI617","v":"2-2"}]
[null,null,null,null,null,null,null,null,null,null,null,null,null,null,null,null,null,null,null,null,null,null,null,null,null,null,null,null,null,null,{"$f":"_xlfn.NORM.INV(RAND(),$Z$4,$N$20)","v":2.6318756789997186},{"$f":"_xlfn.NORM.INV(RAND(),$AA$4,$J$20)","v":1.5673952396509616},2.0996354593253401]
[null,null,null,null,null,null,null,null,null,null,null,null,null,null,null,null,null,null,null,null,null,null,null,null,null,null,null,null,null,"№309",{"$f":"_xlfn.NORM.INV(RAND(),$Z$3,$I$20)","v":2.4394598001334717},{"$f":"_xlfn.NORM.INV(RAND(),$AA$3,$O$20)","v":1.4261194138789355},1.9327896070062036,{"$f":"ROUND(AG619,0)","v":2},{"$f":"ROUND(AG620,0)","v":1},{"$f":"IF(AH619>AI619,1,\"\")","v":1},{"$f":"IF(AH619=AI619,1,\"\")","v":""},{"$f":"IF(AH619<AI619,1,\"\")","v":""},{"$f":"AH619&\"-\"&AI619","v":"2-1"}]
[null,null,null,null,null,null,null,null,null,null,null,null,null,null,null,null,null,null,null,null,null,null,null,null,null,null,null,null,null,null,{"$f":"_xlfn.NORM.INV(RAND(),$Z$4,$N$20)","v":1.6117884363355184},{"$f":"_xlfn.NORM.INV(RAND(),$AA$4,$J$20)","v":0.74418177963668142},1.1779851079860999]
[null,null,null,null,null,null,null,null,null,null,null,null,null,null,null,null,null,null,null,null,null,null,null,null,null,null,null,null,null,"№310",{"$f":"_xlfn.NORM.INV(RAND(),$Z$3,$I$20)","v":1.3525190969753309},{"$f":"_xlfn.NORM.INV(RAND(),$AA$3,$O$20)","v":-1.78876856735217},-0.21812473518841957,{"$f":"ROUND(AG621,0)","v":0},{"$f":"ROUND(AG622,0)","v":2},{"$f":"IF(AH621>AI621,1,\"\")","v":""},{"$f":"IF(AH621=AI621,1,\"\")","v":""},{"$f":"IF(AH621<AI621,1,\"\")","v":1},{"$f":"AH621&\"-\"&AI621","v":"0-2"}]
[null,null,null,null,null,null,null,null,null,null,null,null,null,null,null,null,null,null,null,null,null,null,null,null,null,null,null,null,null,null,{"$f":"_xlfn.NORM.INV(RAND(),$Z$4,$N$20)","v":2.6920526496413069},{"$f":"_xlfn.NORM.INV(RAND(),$AA$4,$J$20)","v":2.0499920175889268},2.3710223336151168]
[null,null,null,null,null,null,null,null,null,null,null,null,null,null,null,null,null,null,null,null,null,null,null,null,null,null,null,null,null,"№311",{"$f":"_xlfn.NORM.INV(RAND(),$Z$3,$I$20)","v":3.2740614407841822},{"$f":"_xlfn.NORM.INV(RAND(),$AA$3,$O$20)","v":0.66766058232328962},1.9708610115537359,{"$f":"ROUND(AG623,0)","v":2},{"$f":"ROUND(AG624,0)","v":1},{"$f":"IF(AH623>AI623,1,\"\")","v":1},{"$f":"IF(AH623=AI623,1,\"\")","v":""},{"$f":"IF(AH623<AI623,1,\"\")","v":""},{"$f":"AH623&\"-\"&AI623","v":"2-1"}]
[null,null,null,null,null,null,null,null,null,null,null,null,null,null,null,null,null,null,null,null,null,null,null,null,null,null,null,null,null,null,{"$f":"_xlfn.NORM.INV(RAND(),$Z$4,$N$20)","v":2.5547686519465458},{"$f":"_xlfn.NORM.INV(RAND(),$AA$4,$J$20)","v":-0.71057064065516107},0.92209900564569236]
[null,null,null,null,null,null,null,null,null,null,null,null,null,null,null,null,null,null,null,null,null,null,null,null,null,null,null,null,null,"№312",{"$f":"_xlfn.NORM.INV(RAND(),$Z$3,$I$20)","v":3.2286850775675857},{"$f":"_xlfn.NORM.INV(RAND(),$AA$3,$O$20)","v":-0.60623303937442086},1.3112260190965825,{"$f":"ROUND(AG625,0)","v":1},{"$f":"ROUND(AG626,0)","v":1},{"$f":"IF(AH625>AI625,1,\"\")","v":""},{"$f":"IF(AH625=AI625,1,\"\")","v":1},{"$f":"IF(AH625<AI625,1,\"\")","v":""},{"$f":"AH625&\"-\"&AI625","v":"1-1"}]
[null,null,null,null,null,null,null,null,null,null,null,null,null,null,null,null,null,null,null,null,null,null,null,null,null,null,null,null,null,null,{"$f":"_xlfn.NORM.INV(RAND(),$Z$4,$N$20)","v":1.7936182872544275},{"$f":"_xlfn.NORM.INV(RAND(),$AA$4,$J$20)","v":-0.15207181550279159},0.82077323587581796]
[null,null,null,null,null,null,null,null,null,null,null,null,null,null,null,null,null,null,null,null,null,null,null,null,null,null,null,null,null,"№313",{"$f":"_xlfn.NORM.INV(RAND(),$Z$3,$I$20)","v":4.1474804592649619},{"$f":"_xlfn.NORM.INV(RAND(),$AA$3,$O$20)","v":1.0923693105641665},2.619924884914564,{"$f":"ROUND(AG627,0)","v":3},{"$f":"ROUND(AG628,0)","v":1},{"$f":"IF(AH627>AI627,1,\"\")","v":1},{"$f":"IF(AH627=AI627,1,\"\")","v":""},{"$f":"IF(AH627<AI627,1,\"\")","v":""},{"$f":"AH627&\"-\"&AI627","v":"3-1"}]
[null,null,null,null,null,null,null,null,null,null,null,null,null,null,null,null,null,null,null,null,null,null,null,null,null,null,null,null,null,null,{"$f":"_xlfn.NORM.INV(RAND(),$Z$4,$N$20)","v":1.3438070081958808},{"$f":"_xlfn.NORM.INV(RAND(),$AA$4,$J$20)","v":1.2322672015208336},1.2880371048583572]
[null,null,null,null,null,null,null,null,null,null,null,null,null,null,null,null,null,null,null,null,null,null,null,null,null,null,null,null,null,"№314",{"$f":"_xlfn.NORM.INV(RAND(),$Z$3,$I$20)","v":2.6124890085013375},{"$f":"_xlfn.NORM.INV(RAND(),$AA$3,$O$20)","v":2.0567822695337528},2.3346356390175451,{"$f":"ROUND(AG629,0)","v":2},{"$f":"ROUND(AG630,0)","v":3},{"$f":"IF(AH629>AI629,1,\"\")","v":""},{"$f":"IF(AH629=AI629,1,\"\")","v":""},{"$f":"IF(AH629<AI629,1,\"\")","v":1},{"$f":"AH629&\"-\"&AI629","v":"2-3"}]
[null,null,null,null,null,null,null,null,null,null,null,null,null,null,null,null,null,null,null,null,null,null,null,null,null,null,null,null,null,null,{"$f":"_xlfn.NORM.INV(RAND(),$Z$4,$N$20)","v":2.7121401638174794},{"$f":"_xlfn.NORM.INV(RAND(),$AA$4,$J$20)","v":3.2976312806192194},3.0048857222183494]
[null,null,null,null,null,null,null,null,null,null,null,null,null,null,null,null,null,null,null,null,null,null,null,null,null,null,null,null,null,"№315",{"$f":"_xlfn.NORM.INV(RAND(),$Z$3,$I$20)","v":2.8562371505193673},{"$f":"_xlfn.NORM.INV(RAND(),$AA$3,$O$20)","v":-0.2100822950074388},1.3230774277559643,{"$f":"ROUND(AG631,0)","v":1},{"$f":"ROUND(AG632,0)","v":3},{"$f":"IF(AH631>AI631,1,\"\")","v":""},{"$f":"IF(AH631=AI631,1,\"\")","v":""},{"$f":"IF(AH631<AI631,1,\"\")","v":1},{"$f":"AH631&\"-\"&AI631","v":"1-3"}]
[null,null,null,null,null,null,null,null,null,null,null,null,null,null,null,null,null,null,null,null,null,null,null,null,null,null,null,null,null,null,{"$f":"_xlfn.NORM.INV(RAND(),$Z$4,$N$20)","v":3.0147371690994627},{"$f":"_xlfn.NORM.INV(RAND(),$AA$4,$J$20)","v":2.7388653210654765},2.8768012450824694]
[null,null,null,null,null,null,null,null,null,null,null,null,null,null,null,null,null,null,null,null,null,null,null,null,null,null,null,null,null,"№316",{"$f":"_xlfn.NORM.INV(RAND(),$Z$3,$I$20)","v":2.0900966513807488},{"$f":"_xlfn.NORM.INV(RAND(),$AA$3,$O$20)","v":0.86803001975627525},1.4790633355685121,{"$f":"ROUND(AG633,0)","v":1},{"$f":"ROUND(AG634,0)","v":1},{"$f":"IF(AH633>AI633,1,\"\")","v":""},{"$f":"IF(AH633=AI633,1,\"\")","v":1},{"$f":"IF(AH633<AI633,1,\"\")","v":""},{"$f":"AH633&\"-\"&AI633","v":"1-1"}]
[null,null,null,null,null,null,null,null,null,null,null,null,null,null,null,null,null,null,null,null,null,null,null,null,null,null,null,null,null,null,{"$f":"_xlfn.NORM.INV(RAND(),$Z$4,$N$20)","v":1.2267638547879371},{"$f":"_xlfn.NORM.INV(RAND(),$AA$4,$J$20)","v":0.38049655362667534},0.80363020420730624]
[null,null,null,null,null,null,null,null,null,null,null,null,null,null,null,null,null,null,null,null,null,null,null,null,null,null,null,null,null,"№317",{"$f":"_xlfn.NORM.INV(RAND(),$Z$3,$I$20)","v":1.32802337843136},{"$f":"_xlfn.NORM.INV(RAND(),$AA$3,$O$20)","v":1.4320421264181828},1.3800327524247713,{"$f":"ROUND(AG635,0)","v":1},{"$f":"ROUND(AG636,0)","v":3},{"$f":"IF(AH635>AI635,1,\"\")","v":""},{"$f":"IF(AH635=AI635,1,\"\")","v":""},{"$f":"IF(AH635<AI635,1,\"\")","v":1},{"$f":"AH635&\"-\"&AI635","v":"1-3"}]
[null,null,null,null,null,null,null,null,null,null,null,null,null,null,null,null,null,null,null,null,null,null,null,null,null,null,null,null,null,null,{"$f":"_xlfn.NORM.INV(RAND(),$Z$4,$N$20)","v":2.0051317806055855},{"$f":"_xlfn.NORM.INV(RAND(),$AA$4,$J$20)","v":3.0523028709911384},2.5287173257983619]
[null,null,null,null,null,null,null,null,null,null,null,null,null,null,null,null,null,null,null,null,null,null,null,null,null,null,null,null,null,"№318",{"$f":"_xlfn.NORM.INV(RAND(),$Z$3,$I$20)","v":3.7364731212919908},{"$f":"_xlfn.NORM.INV(RAND(),$AA$3,$O$20)","v":2.2311558376050522},2.9838144794485215,{"$f":"ROUND(AG637,0)","v":3},{"$f":"ROUND(AG638,0)","v":2},{"$f":"IF(AH637>AI637,1,\"\")","v":1},{"$f":"IF(AH637=AI637,1,\"\")","v":""},{"$f":"IF(AH637<AI637,1,\"\")","v":""},{"$f":"AH637&\"-\"&AI637","v":"3-2"}]
[null,null,null,null,null,null,null,null,null,null,null,null,null,null,null,null,null,null,null,null,null,null,null,null,null,null,null,null,null,null,{"$f":"_xlfn.NORM.INV(RAND(),$Z$4,$N$20)","v":2.7604218002072165},{"$f":"_xlfn.NORM.INV(RAND(),$AA$4,$J$20)","v":1.2090022956929889},1.9847120479501026]
[null,null,null,null,null,null,null,null,null,null,null,null,null,null,null,null,null,null,null,null,null,null,null,null,null,null,null,null,null,"№319",{"$f":"_xlfn.NORM.INV(RAND(),$Z$3,$I$20)","v":5.084669667009841},{"$f":"_xlfn.NORM.INV(RAND(),$AA$3,$O$20)","v":-0.68939444917194059},2.1976376089189502,{"$f":"ROUND(AG639,0)","v":2},{"$f":"ROUND(AG640,0)","v":3},{"$f":"IF(AH639>AI639,1,\"\")","v":""},{"$f":"IF(AH639=AI639,1,\"\")","v":""},{"$f":"IF(AH639<AI639,1,\"\")","v":1},{"$f":"AH639&\"-\"&AI639","v":"2-3"}]
[null,null,null,null,null,null,null,null,null,null,null,null,null,null,null,null,null,null,null,null,null,null,null,null,null,null,null,null,null,null,{"$f":"_xlfn.NORM.INV(RAND(),$Z$4,$N$20)","v":1.8946108818100784},{"$f":"_xlfn.NORM.INV(RAND(),$AA$4,$J$20)","v":3.6121793044828814},2.7533950931464801]
[null,null,null,null,null,null,null,null,null,null,null,null,null,null,null,null,null,null,null,null,null,null,null,null,null,null,null,null,null,"№320",{"$f":"_xlfn.NORM.INV(RAND(),$Z$3,$I$20)","v":4.281680426956842},{"$f":"_xlfn.NORM.INV(RAND(),$AA$3,$O$20)","v":1.1679229734686851},2.7248017002127636,{"$f":"ROUND(AG641,0)","v":3},{"$f":"ROUND(AG642,0)","v":3},{"$f":"IF(AH641>AI641,1,\"\")","v":""},{"$f":"IF(AH641=AI641,1,\"\")","v":1},{"$f":"IF(AH641<AI641,1,\"\")","v":""},{"$f":"AH641&\"-\"&AI641","v":"3-3"}]
[null,null,null,null,null,null,null,null,null,null,null,null,null,null,null,null,null,null,null,null,null,null,null,null,null,null,null,null,null,null,{"$f":"_xlfn.NORM.INV(RAND(),$Z$4,$N$20)","v":1.7865005887329906},{"$f":"_xlfn.NORM.INV(RAND(),$AA$4,$J$20)","v":4.0882020892788571},2.9373513390059238]
[null,null,null,null,null,null,null,null,null,null,null,null,null,null,null,null,null,null,null,null,null,null,null,null,null,null,null,null,null,"№321",{"$f":"_xlfn.NORM.INV(RAND(),$Z$3,$I$20)","v":5.1478539268093773},{"$f":"_xlfn.NORM.INV(RAND(),$AA$3,$O$20)","v":1.6837870843453848},3.4158205055773809,{"$f":"ROUND(AG643,0)","v":3},{"$f":"ROUND(AG644,0)","v":2},{"$f":"IF(AH643>AI643,1,\"\")","v":1},{"$f":"IF(AH643=AI643,1,\"\")","v":""},{"$f":"IF(AH643<AI643,1,\"\")","v":""},{"$f":"AH643&\"-\"&AI643","v":"3-2"}]
[null,null,null,null,null,null,null,null,null,null,null,null,null,null,null,null,null,null,null,null,null,null,null,null,null,null,null,null,null,null,{"$f":"_xlfn.NORM.INV(RAND(),$Z$4,$N$20)","v":2.1983759652176791},{"$f":"_xlfn.NORM.INV(RAND(),$AA$4,$J$20)","v":1.4999032948415409},1.8491396300296099]
[null,null,null,null,null,null,null,null,null,null,null,null,null,null,null,null,null,null,null,null,null,null,null,null,null,null,null,null,null,"№322",{"$f":"_xlfn.NORM.INV(RAND(),$Z$3,$I$20)","v":5.8092004514235391},{"$f":"_xlfn.NORM.INV(RAND(),$AA$3,$O$20)","v":-0.94912976341675903},{"$f":"(AE645+AF645)/2","v":2.4300353440033899},{"$f":"ROUND(AG645,0)","v":2},{"$f":"ROUND(AG646,0)","v":2},{"$f":"IF(AH645>AI645,1,\"\")","v":""},{"$f":"IF(AH645=AI645,1,\"\")","v":1},{"$f":"IF(AH645<AI645,1,\"\")","v":""},{"$f":"AH645&\"-\"&AI645","v":"2-2"}]
[null,null,null,null,null,null,null,null,null,null,null,null,null,null,null,null,null,null,null,null,null,null,null,null,null,null,null,null,null,null,{"$f":"_xlfn.NORM.INV(RAND(),$Z$4,$N$20)","v":2.7158524114547102},{"$f":"_xlfn.NORM.INV(RAND(),$AA$4,$J$20)","v":1.0630941135145355},1.8894732624846229]
[null,null,null,null,null,null,null,null,null,null,null,null,null,null,null,null,null,null,null,null,null,null,null,null,null,null,null,null,null,"№323",{"$f":"_xlfn.NORM.INV(RAND(),$Z$3,$I$20)","v":5.7043898362542009},{"$f":"_xlfn.NORM.INV(RAND(),$AA$3,$O$20)","v":1.4140373716320231},3.5592136039431121,{"$f":"ROUND(AG647,0)","v":4},{"$f":"ROUND(AG648,0)","v":1},{"$f":"IF(AH647>AI647,1,\"\")","v":1},{"$f":"IF(AH647=AI647,1,\"\")","v":""},{"$f":"IF(AH647<AI647,1,\"\")","v":""},{"$f":"AH647&\"-\"&AI647","v":"4-1"}]
[null,null,null,null,null,null,null,null,null,null,null,null,null,null,null,null,null,null,null,null,null,null,null,null,null,null,null,null,null,null,{"$f":"_xlfn.NORM.INV(RAND(),$Z$4,$N$20)","v":1.627773422687059},{"$f":"_xlfn.NORM.INV(RAND(),$AA$4,$J$20)","v":0.20678690574119063},0.91728016421412484]
[null,null,null,null,null,null,null,null,null,null,null,null,null,null,null,null,null,null,null,null,null,null,null,null,null,null,null,null,null,"№324",{"$f":"_xlfn.NORM.INV(RAND(),$Z$3,$I$20)","v":2.5023746339338286},{"$f":"_xlfn.NORM.INV(RAND(),$AA$3,$O$20)","v":1.5548235675452913},2.0285991007395601,{"$f":"ROUND(AG649,0)","v":2},{"$f":"ROUND(AG650,0)","v":1},{"$f":"IF(AH649>AI649,1,\"\")","v":1},{"$f":"IF(AH649=AI649,1,\"\")","v":""},{"$f":"IF(AH649<AI649,1,\"\")","v":""},{"$f":"AH649&\"-\"&AI649","v":"2-1"}]
[null,null,null,null,null,null,null,null,null,null,null,null,null,null,null,null,null,null,null,null,null,null,null,null,null,null,null,null,null,null,{"$f":"_xlfn.NORM.INV(RAND(),$Z$4,$N$20)","v":1.5935994319397064},{"$f":"_xlfn.NORM.INV(RAND(),$AA$4,$J$20)","v":1.2892329160740807},1.4414161740068936]
[null,null,null,null,null,null,null,null,null,null,null,null,null,null,null,null,null,null,null,null,null,null,null,null,null,null,null,null,null,"№325",{"$f":"_xlfn.NORM.INV(RAND(),$Z$3,$I$20)","v":4.6247759310077816},{"$f":"_xlfn.NORM.INV(RAND(),$AA$3,$O$20)","v":-0.36661282769953751},2.1290815516541222,{"$f":"ROUND(AG651,0)","v":2},{"$f":"ROUND(AG652,0)","v":2},{"$f":"IF(AH651>AI651,1,\"\")","v":""},{"$f":"IF(AH651=AI651,1,\"\")","v":1},{"$f":"IF(AH651<AI651,1,\"\")","v":""},{"$f":"AH651&\"-\"&AI651","v":"2-2"}]
[null,null,null,null,null,null,null,null,null,null,null,null,null,null,null,null,null,null,null,null,null,null,null,null,null,null,null,null,null,null,{"$f":"_xlfn.NORM.INV(RAND(),$Z$4,$N$20)","v":2.0944070254557174},{"$f":"_xlfn.NORM.INV(RAND(),$AA$4,$J$20)","v":1.1314607137228494},1.6129338695892834]
[null,null,null,null,null,null,null,null,null,null,null,null,null,null,null,null,null,null,null,null,null,null,null,null,null,null,null,null,null,"№326",{"$f":"_xlfn.NORM.INV(RAND(),$Z$3,$I$20)","v":4.603268071886359},{"$f":"_xlfn.NORM.INV(RAND(),$AA$3,$O$20)","v":0.31081107380921807},2.4570395728477887,{"$f":"ROUND(AG653,0)","v":2},{"$f":"ROUND(AG654,0)","v":1},{"$f":"IF(AH653>AI653,1,\"\")","v":1},{"$f":"IF(AH653=AI653,1,\"\")","v":""},{"$f":"IF(AH653<AI653,1,\"\")","v":""},{"$f":"AH653&\"-\"&AI653","v":"2-1"}]
[null,null,null,null,null,null,null,null,null,null,null,null,null,null,null,null,null,null,null,null,null,null,null,null,null,null,null,null,null,null,{"$f":"_xlfn.NORM.INV(RAND(),$Z$4,$N$20)","v":2.3739967928320498},{"$f":"_xlfn.NORM.INV(RAND(),$AA$4,$J$20)","v":-0.58205075818244412},0.89597301732480283]
[null,null,null,null,null,null,null,null,null,null,null,null,null,null,null,null,null,null,null,null,null,null,null,null,null,null,null,null,null,"№327",{"$f":"_xlfn.NORM.INV(RAND(),$Z$3,$I$20)","v":2.4645447599059001},{"$f":"_xlfn.NORM.INV(RAND(),$AA$3,$O$20)","v":1.6307370686750589E-2},1.2404260652963253,{"$f":"ROUND(AG655,0)","v":1},{"$f":"ROUND(AG656,0)","v":0},{"$f":"IF(AH655>AI655,1,\"\")","v":1},{"$f":"IF(AH655=AI655,1,\"\")","v":""},{"$f":"IF(AH655<AI655,1,\"\")","v":""},{"$f":"AH655&\"-\"&AI655","v":"1-0"}]
[null,null,null,null,null,null,null,null,null,null,null,null,null,null,null,null,null,null,null,null,null,null,null,null,null,null,null,null,null,null,{"$f":"_xlfn.NORM.INV(RAND(),$Z$4,$N$20)","v":2.0497724313660992},{"$f":"_xlfn.NORM.INV(RAND(),$AA$4,$J$20)","v":-2.4813937223614455},-0.21581064549767315]
[null,null,null,null,null,null,null,null,null,null,null,null,null,null,null,null,null,null,null,null,null,null,null,null,null,null,null,null,null,"№328",{"$f":"_xlfn.NORM.INV(RAND(),$Z$3,$I$20)","v":3.7381752948983644},{"$f":"_xlfn.NORM.INV(RAND(),$AA$3,$O$20)","v":-6.3420088391136997E-2},1.8373776032536138,{"$f":"ROUND(AG657,0)","v":2},{"$f":"ROUND(AG658,0)","v":3},{"$f":"IF(AH657>AI657,1,\"\")","v":""},{"$f":"IF(AH657=AI657,1,\"\")","v":""},{"$f":"IF(AH657<AI657,1,\"\")","v":1},{"$f":"AH657&\"-\"&AI657","v":"2-3"}]
[null,null,null,null,null,null,null,null,null,null,null,null,null,null,null,null,null,null,null,null,null,null,null,null,null,null,null,null,null,null,{"$f":"_xlfn.NORM.INV(RAND(),$Z$4,$N$20)","v":2.8343518995007417},{"$f":"_xlfn.NORM.INV(RAND(),$AA$4,$J$20)","v":3.7562890234675179},3.2953204614841298]
[null,null,null,null,null,null,null,null,null,null,null,null,null,null,null,null,null,null,null,null,null,null,null,null,null,null,null,null,null,"№329",{"$f":"_xlfn.NORM.INV(RAND(),$Z$3,$I$20)","v":4.6610337621910745},{"$f":"_xlfn.NORM.INV(RAND(),$AA$3,$O$20)","v":1.4516945050816763},3.0563641336363752,{"$f":"ROUND(AG659,0)","v":3},{"$f":"ROUND(AG660,0)","v":4},{"$f":"IF(AH659>AI659,1,\"\")","v":""},{"$f":"IF(AH659=AI659,1,\"\")","v":""},{"$f":"IF(AH659<AI659,1,\"\")","v":1},{"$f":"AH659&\"-\"&AI659","v":"3-4"}]
[null,null,null,null,null,null,null,null,null,null,null,null,null,null,null,null,null,null,null,null,null,null,null,null,null,null,null,null,null,null,{"$f":"_xlfn.NORM.INV(RAND(),$Z$4,$N$20)","v":3.7818101198687111},{"$f":"_xlfn.NORM.INV(RAND(),$AA$4,$J$20)","v":3.3795307906483614},3.5806704552585362]
[null,null,null,null,null,null,null,null,null,null,null,null,null,null,null,null,null,null,null,null,null,null,null,null,null,null,null,null,null,"№330",{"$f":"_xlfn.NORM.INV(RAND(),$Z$3,$I$20)","v":1.2289156834149071},{"$f":"_xlfn.NORM.INV(RAND(),$AA$3,$O$20)","v":2.6541066194337235},1.9415111514243153,{"$f":"ROUND(AG661,0)","v":2},{"$f":"ROUND(AG662,0)","v":1},{"$f":"IF(AH661>AI661,1,\"\")","v":1},{"$f":"IF(AH661=AI661,1,\"\")","v":""},{"$f":"IF(AH661<AI661,1,\"\")","v":""},{"$f":"AH661&\"-\"&AI661","v":"2-1"}]
[null,null,null,null,null,null,null,null,null,null,null,null,null,null,null,null,null,null,null,null,null,null,null,null,null,null,null,null,null,null,{"$f":"_xlfn.NORM.INV(RAND(),$Z$4,$N$20)","v":1.9280239629036346},{"$f":"_xlfn.NORM.INV(RAND(),$AA$4,$J$20)","v":-0.92800649490623499},0.50000873399869983]
[null,null,null,null,null,null,null,null,null,null,null,null,null,null,null,null,null,null,null,null,null,null,null,null,null,null,null,null,null,"№331",{"$f":"_xlfn.NORM.INV(RAND(),$Z$3,$I$20)","v":6.1479349907819749},{"$f":"_xlfn.NORM.INV(RAND(),$AA$3,$O$20)","v":0.84949661166755031},3.4987158012247628,{"$f":"ROUND(AG663,0)","v":3},{"$f":"ROUND(AG664,0)","v":2},{"$f":"IF(AH663>AI663,1,\"\")","v":1},{"$f":"IF(AH663=AI663,1,\"\")","v":""},{"$f":"IF(AH663<AI663,1,\"\")","v":""},{"$f":"AH663&\"-\"&AI663","v":"3-2"}]
[null,null,null,null,null,null,null,null,null,null,null,null,null,null,null,null,null,null,null,null,null,null,null,null,null,null,null,null,null,null,{"$f":"_xlfn.NORM.INV(RAND(),$Z$4,$N$20)","v":2.682466866310834},{"$f":"_xlfn.NORM.INV(RAND(),$AA$4,$J$20)","v":0.90776474630741721},1.7951158063091257]
[null,null,null,null,null,null,null,null,null,null,null,null,null,null,null,null,null,null,null,null,null,null,null,null,null,null,null,null,null,"№332",{"$f":"_xlfn.NORM.INV(RAND(),$Z$3,$I$20)","v":2.9947733459750263},{"$f":"_xlfn.NORM.INV(RAND(),$AA$3,$O$20)","v":1.7508031935695429},2.3727882697722844,{"$f":"ROUND(AG665,0)","v":2},{"$f":"ROUND(AG666,0)","v":0},{"$f":"IF(AH665>AI665,1,\"\")","v":1},{"$f":"IF(AH665=AI665,1,\"\")","v":""},{"$f":"IF(AH665<AI665,1,\"\")","v":""},{"$f":"AH665&\"-\"&AI665","v":"2-0"}]
[null,null,null,null,null,null,null,null,null,null,null,null,null,null,null,null,null,null,null,null,null,null,null,null,null,null,null,null,null,null,{"$f":"_xlfn.NORM.INV(RAND(),$Z$4,$N$20)","v":1.3116531756403096},{"$f":"_xlfn.NORM.INV(RAND(),$AA$4,$J$20)","v":-1.017265467601423},0.14719385401944329]
[null,null,null,null,null,null,null,null,null,null,null,null,null,null,null,null,null,null,null,null,null,null,null,null,null,null,null,null,null,"№333",{"$f":"_xlfn.NORM.INV(RAND(),$Z$3,$I$20)","v":2.3736765136497371},{"$f":"_xlfn.NORM.INV(RAND(),$AA$3,$O$20)","v":2.2560980270216846},2.3148872703357108,{"$f":"ROUND(AG667,0)","v":2},{"$f":"ROUND(AG668,0)","v":2},{"$f":"IF(AH667>AI667,1,\"\")","v":""},{"$f":"IF(AH667=AI667,1,\"\")","v":1},{"$f":"IF(AH667<AI667,1,\"\")","v":""},{"$f":"AH667&\"-\"&AI667","v":"2-2"}]
[null,null,null,null,null,null,null,null,null,null,null,null,null,null,null,null,null,null,null,null,null,null,null,null,null,null,null,null,null,null,{"$f":"_xlfn.NORM.INV(RAND(),$Z$4,$N$20)","v":1.9256024770504394},{"$f":"_xlfn.NORM.INV(RAND(),$AA$4,$J$20)","v":2.6987127416238521},2.3121576093371456]
[null,null,null,null,null,null,null,null,null,null,null,null,null,null,null,null,null,null,null,null,null,null,null,null,null,null,null,null,null,"№334",{"$f":"_xlfn.NORM.INV(RAND(),$Z$3,$I$20)","v":1.9159572850171591},{"$f":"_xlfn.NORM.INV(RAND(),$AA$3,$O$20)","v":1.5266737377584465},1.7213155113878029,{"$f":"ROUND(AG669,0)","v":2},{"$f":"ROUND(AG670,0)","v":2},{"$f":"IF(AH669>AI669,1,\"\")","v":""},{"$f":"IF(AH669=AI669,1,\"\")","v":1},{"$f":"IF(AH669<AI669,1,\"\")","v":""},{"$f":"AH669&\"-\"&AI669","v":"2-2"}]
[null,null,null,null,null,null,null,null,null,null,null,null,null,null,null,null,null,null,null,null,null,null,null,null,null,null,null,null,null,null,{"$f":"_xlfn.NORM.INV(RAND(),$Z$4,$N$20)","v":2.7564316146987338},{"$f":"_xlfn.NORM.INV(RAND(),$AA$4,$J$20)","v":0.35651238775408434},1.5564720012264091]
[null,null,null,null,null,null,null,null,null,null,null,null,null,null,null,null,null,null,null,null,null,null,null,null,null,null,null,null,null,"№335",{"$f":"_xlfn.NORM.INV(RAND(),$Z$3,$I$20)","v":0.51192233416068067},{"$f":"_xlfn.NORM.INV(RAND(),$AA$3,$O$20)","v":-0.79766978946026001},-0.14287372764978967,{"$f":"ROUND(AG671,0)","v":0},{"$f":"ROUND(AG672,0)","v":2},{"$f":"IF(AH671>AI671,1,\"\")","v":""},{"$f":"IF(AH671=AI671,1,\"\")","v":""},{"$f":"IF(AH671<AI671,1,\"\")","v":1},{"$f":"AH671&\"-\"&AI671","v":"0-2"}]
[null,null,null,null,null,null,null,null,null,null,null,null,null,null,null,null,null,null,null,null,null,null,null,null,null,null,null,null,null,null,{"$f":"_xlfn.NORM.INV(RAND(),$Z$4,$N$20)","v":1.9348633902264638},{"$f":"_xlfn.NORM.INV(RAND(),$AA$4,$J$20)","v":2.7612865158894087},2.3480749530579361]
[null,null,null,null,null,null,null,null,null,null,null,null,null,null,null,null,null,null,null,null,null,null,null,null,null,null,null,null,null,"№336",{"$f":"_xlfn.NORM.INV(RAND(),$Z$3,$I$20)","v":1.8608522295344843},{"$f":"_xlfn.NORM.INV(RAND(),$AA$3,$O$20)","v":1.2428957893643358},1.5518740094494099,{"$f":"ROUND(AG673,0)","v":2},{"$f":"ROUND(AG674,0)","v":2},{"$f":"IF(AH673>AI673,1,\"\")","v":""},{"$f":"IF(AH673=AI673,1,\"\")","v":1},{"$f":"IF(AH673<AI673,1,\"\")","v":""},{"$f":"AH673&\"-\"&AI673","v":"2-2"}]
[null,null,null,null,null,null,null,null,null,null,null,null,null,null,null,null,null,null,null,null,null,null,null,null,null,null,null,null,null,null,{"$f":"_xlfn.NORM.INV(RAND(),$Z$4,$N$20)","v":2.3396003696508254},{"$f":"_xlfn.NORM.INV(RAND(),$AA$4,$J$20)","v":0.88326739587033698},1.6114338827605812]
[null,null,null,null,null,null,null,null,null,null,null,null,null,null,null,null,null,null,null,null,null,null,null,null,null,null,null,null,null,"№337",{"$f":"_xlfn.NORM.INV(RAND(),$Z$3,$I$20)","v":3.0156567074721812},{"$f":"_xlfn.NORM.INV(RAND(),$AA$3,$O$20)","v":1.346085909932182},2.1808713087021818,{"$f":"ROUND(AG675,0)","v":2},{"$f":"ROUND(AG676,0)","v":2},{"$f":"IF(AH675>AI675,1,\"\")","v":""},{"$f":"IF(AH675=AI675,1,\"\")","v":1},{"$f":"IF(AH675<AI675,1,\"\")","v":""},{"$f":"AH675&\"-\"&AI675","v":"2-2"}]
[null,null,null,null,null,null,null,null,null,null,null,null,null,null,null,null,null,null,null,null,null,null,null,null,null,null,null,null,null,null,{"$f":"_xlfn.NORM.INV(RAND(),$Z$4,$N$20)","v":1.8388593957526111},{"$f":"_xlfn.NORM.INV(RAND(),$AA$4,$J$20)","v":2.4942722666973709},2.1665658312249909]
[null,null,null,null,null,null,null,null,null,null,null,null,null,null,null,null,null,null,null,null,null,null,null,null,null,null,null,null,null,"№338",{"$f":"_xlfn.NORM.INV(RAND(),$Z$3,$I$20)","v":3.3172656005845429},{"$f":"_xlfn.NORM.INV(RAND(),$AA$3,$O$20)","v":0.68806004271856103},2.0026628216515521,{"$f":"ROUND(AG677,0)","v":2},{"$f":"ROUND(AG678,0)","v":1},{"$f":"IF(AH677>AI677,1,\"\")","v":1},{"$f":"IF(AH677=AI677,1,\"\")","v":""},{"$f":"IF(AH677<AI677,1,\"\")","v":""},{"$f":"AH677&\"-\"&AI677","v":"2-1"}]
[null,null,null,null,null,null,null,null,null,null,null,null,null,null,null,null,null,null,null,null,null,null,null,null,null,null,null,null,null,null,{"$f":"_xlfn.NORM.INV(RAND(),$Z$4,$N$20)","v":2.5222989405530765},{"$f":"_xlfn.NORM.INV(RAND(),$AA$4,$J$20)","v":-0.8631506408442311},0.82957414985442268]
[null,null,null,null,null,null,null,null,null,null,null,null,null,null,null,null,null,null,null,null,null,null,null,null,null,null,null,null,null,"№339",{"$f":"_xlfn.NORM.INV(RAND(),$Z$3,$I$20)","v":5.605031871736986},{"$f":"_xlfn.NORM.INV(RAND(),$AA$3,$O$20)","v":1.1181309128954033},3.3615813923161948,{"$f":"ROUND(AG679,0)","v":3},{"$f":"ROUND(AG680,0)","v":2},{"$f":"IF(AH679>AI679,1,\"\")","v":1},{"$f":"IF(AH679=AI679,1,\"\")","v":""},{"$f":"IF(AH679<AI679,1,\"\")","v":""},{"$f":"AH679&\"-\"&AI679","v":"3-2"}]
[null,null,null,null,null,null,null,null,null,null,null,null,null,null,null,null,null,null,null,null,null,null,null,null,null,null,null,null,null,null,{"$f":"_xlfn.NORM.INV(RAND(),$Z$4,$N$20)","v":2.2807927301427418},{"$f":"_xlfn.NORM.INV(RAND(),$AA$4,$J$20)","v":2.553563551136333},2.4171781406395372]
[null,null,null,null,null,null,null,null,null,null,null,null,null,null,null,null,null,null,null,null,null,null,null,null,null,null,null,null,null,"№340",{"$f":"_xlfn.NORM.INV(RAND(),$Z$3,$I$20)","v":3.423566553851229},{"$f":"_xlfn.NORM.INV(RAND(),$AA$3,$O$20)","v":-0.33607690246104927},1.5437448256950899,{"$f":"ROUND(AG681,0)","v":2},{"$f":"ROUND(AG682,0)","v":2},{"$f":"IF(AH681>AI681,1,\"\")","v":""},{"$f":"IF(AH681=AI681,1,\"\")","v":1},{"$f":"IF(AH681<AI681,1,\"\")","v":""},{"$f":"AH681&\"-\"&AI681","v":"2-2"}]
[null,null,null,null,null,null,null,null,null,null,null,null,null,null,null,null,null,null,null,null,null,null,null,null,null,null,null,null,null,null,{"$f":"_xlfn.NORM.INV(RAND(),$Z$4,$N$20)","v":2.4806656363415938},{"$f":"_xlfn.NORM.INV(RAND(),$AA$4,$J$20)","v":1.0643135583726777},1.7724895973571357]
[null,null,null,null,null,null,null,null,null,null,null,null,null,null,null,null,null,null,null,null,null,null,null,null,null,null,null,null,null,"№341",{"$f":"_xlfn.NORM.INV(RAND(),$Z$3,$I$20)","v":2.6453815491043216},{"$f":"_xlfn.NORM.INV(RAND(),$AA$3,$O$20)","v":-0.71763532583188971},0.96387311163621592,{"$f":"ROUND(AG683,0)","v":1},{"$f":"ROUND(AG684,0)","v":3},{"$f":"IF(AH683>AI683,1,\"\")","v":""},{"$f":"IF(AH683=AI683,1,\"\")","v":""},{"$f":"IF(AH683<AI683,1,\"\")","v":1},{"$f":"AH683&\"-\"&AI683","v":"1-3"}]
[null,null,null,null,null,null,null,null,null,null,null,null,null,null,null,null,null,null,null,null,null,null,null,null,null,null,null,null,null,null,{"$f":"_xlfn.NORM.INV(RAND(),$Z$4,$N$20)","v":1.5637131730165916},{"$f":"_xlfn.NORM.INV(RAND(),$AA$4,$J$20)","v":4.2526226613629952},2.9081679171897932]
[null,null,null,null,null,null,null,null,null,null,null,null,null,null,null,null,null,null,null,null,null,null,null,null,null,null,null,null,null,"№342",{"$f":"_xlfn.NORM.INV(RAND(),$Z$3,$I$20)","v":3.3362344199200709},{"$f":"_xlfn.NORM.INV(RAND(),$AA$3,$O$20)","v":2.7924748859209103},3.0643546529204908,{"$f":"ROUND(AG685,0)","v":3},{"$f":"ROUND(AG686,0)","v":1},{"$f":"IF(AH685>AI685,1,\"\")","v":1},{"$f":"IF(AH685=AI685,1,\"\")","v":""},{"$f":"IF(AH685<AI685,1,\"\")","v":""},{"$f":"AH685&\"-\"&AI685","v":"3-1"}]
[null,null,null,null,null,null,null,null,null,null,null,null,null,null,null,null,null,null,null,null,null,null,null,null,null,null,null,null,null,null,{"$f":"_xlfn.NORM.INV(RAND(),$Z$4,$N$20)","v":1.9991004563161359},{"$f":"_xlfn.NORM.INV(RAND(),$AA$4,$J$20)","v":0.19214943632212678},1.0956249463191314]
[null,null,null,null,null,null,null,null,null,null,null,null,null,null,null,null,null,null,null,null,null,null,null,null,null,null,null,null,null,"№343",{"$f":"_xlfn.NORM.INV(RAND(),$Z$3,$I$20)","v":2.7417887086910517},{"$f":"_xlfn.NORM.INV(RAND(),$AA$3,$O$20)","v":0.6322924195555526},1.6870405641233022,{"$f":"ROUND(AG687,0)","v":2},{"$f":"ROUND(AG688,0)","v":0},{"$f":"IF(AH687>AI687,1,\"\")","v":1},{"$f":"IF(AH687=AI687,1,\"\")","v":""},{"$f":"IF(AH687<AI687,1,\"\")","v":""},{"$f":"AH687&\"-\"&AI687","v":"2-0"}]
[null,null,null,null,null,null,null,null,null,null,null,null,null,null,null,null,null,null,null,null,null,null,null,null,null,null,null,null,null,null,{"$f":"_xlfn.NORM.INV(RAND(),$Z$4,$N$20)","v":1.2820982316728684},{"$f":"_xlfn.NORM.INV(RAND(),$AA$4,$J$20)","v":-0.55853124135804455},0.36178349515741193]
[null,null,null,null,null,null,null,null,null,null,null,null,null,null,null,null,null,null,null,null,null,null,null,null,null,null,null,null,null,"№344",{"$f":"_xlfn.NORM.INV(RAND(),$Z$3,$I$20)","v":2.8553454503709239},{"$f":"_xlfn.NORM.INV(RAND(),$AA$3,$O$20)","v":1.6102551640764324},2.2328003072236782,{"$f":"ROUND(AG689,0)","v":2},{"$f":"ROUND(AG690,0)","v":2},{"$f":"IF(AH689>AI689,1,\"\")","v":""},{"$f":"IF(AH689=AI689,1,\"\")","v":1},{"$f":"IF(AH689<AI689,1,\"\")","v":""},{"$f":"AH689&\"-\"&AI689","v":"2-2"}]
[null,null,null,null,null,null,null,null,null,null,null,null,null,null,null,null,null,null,null,null,null,null,null,null,null,null,null,null,null,null,{"$f":"_xlfn.NORM.INV(RAND(),$Z$4,$N$20)","v":3.1019579764156311},{"$f":"_xlfn.NORM.INV(RAND(),$AA$4,$J$20)","v":0.14097776019221575},1.6214678683039234]
[null,null,null,null,null,null,null,null,null,null,null,null,null,null,null,null,null,null,null,null,null,null,null,null,null,null,null,null,null,"№345",{"$f":"_xlfn.NORM.INV(RAND(),$Z$3,$I$20)","v":4.5417299519501899},{"$f":"_xlfn.NORM.INV(RAND(),$AA$3,$O$20)","v":0.74163373958233536},2.6416818457662625,{"$f":"ROUND(AG691,0)","v":3},{"$f":"ROUND(AG692,0)","v":1},{"$f":"IF(AH691>AI691,1,\"\")","v":1},{"$f":"IF(AH691=AI691,1,\"\")","v":""},{"$f":"IF(AH691<AI691,1,\"\")","v":""},{"$f":"AH691&\"-\"&AI691","v":"3-1"}]
[null,null,null,null,null,null,null,null,null,null,null,null,null,null,null,null,null,null,null,null,null,null,null,null,null,null,null,null,null,null,{"$f":"_xlfn.NORM.INV(RAND(),$Z$4,$N$20)","v":1.3968796502407264},{"$f":"_xlfn.NORM.INV(RAND(),$AA$4,$J$20)","v":0.1385711116938726},0.76772538096729948]
[null,null,null,null,null,null,null,null,null,null,null,null,null,null,null,null,null,null,null,null,null,null,null,null,null,null,null,null,null,"№346",{"$f":"_xlfn.NORM.INV(RAND(),$Z$3,$I$20)","v":3.0867368311150916},{"$f":"_xlfn.NORM.INV(RAND(),$AA$3,$O$20)","v":2.155082241255553},2.6209095361853221,{"$f":"ROUND(AG693,0)","v":3},{"$f":"ROUND(AG694,0)","v":2},{"$f":"IF(AH693>AI693,1,\"\")","v":1},{"$f":"IF(AH693=AI693,1,\"\")","v":""},{"$f":"IF(AH693<AI693,1,\"\")","v":""},{"$f":"AH693&\"-\"&AI693","v":"3-2"}]
[null,null,null,null,null,null,null,null,null,null,null,null,null,null,null,null,null,null,null,null,null,null,null,null,null,null,null,null,null,null,{"$f":"_xlfn.NORM.INV(RAND(),$Z$4,$N$20)","v":2.9439007968352886},{"$f":"_xlfn.NORM.INV(RAND(),$AA$4,$J$20)","v":1.1055029239443599},2.0247018603898241]
[null,null,null,null,null,null,null,null,null,null,null,null,null,null,null,null,null,null,null,null,null,null,null,null,null,null,null,null,null,"№347",{"$f":"_xlfn.NORM.INV(RAND(),$Z$3,$I$20)","v":1.5958746997503483},{"$f":"_xlfn.NORM.INV(RAND(),$AA$3,$O$20)","v":0.69310996856823259},1.1444923341592905,{"$f":"ROUND(AG695,0)","v":1},{"$f":"ROUND(AG696,0)","v":2},{"$f":"IF(AH695>AI695,1,\"\")","v":""},{"$f":"IF(AH695=AI695,1,\"\")","v":""},{"$f":"IF(AH695<AI695,1,\"\")","v":1},{"$f":"AH695&\"-\"&AI695","v":"1-2"}]
[null,null,null,null,null,null,null,null,null,null,null,null,null,null,null,null,null,null,null,null,null,null,null,null,null,null,null,null,null,null,{"$f":"_xlfn.NORM.INV(RAND(),$Z$4,$N$20)","v":2.5645296440866763},{"$f":"_xlfn.NORM.INV(RAND(),$AA$4,$J$20)","v":1.0561888210315762},1.8103592325591262]
[null,null,null,null,null,null,null,null,null,null,null,null,null,null,null,null,null,null,null,null,null,null,null,null,null,null,null,null,null,"№348",{"$f":"_xlfn.NORM.INV(RAND(),$Z$3,$I$20)","v":2.5182776985810338},{"$f":"_xlfn.NORM.INV(RAND(),$AA$3,$O$20)","v":0.9690355361275842},1.7436566173543091,{"$f":"ROUND(AG697,0)","v":2},{"$f":"ROUND(AG698,0)","v":2},{"$f":"IF(AH697>AI697,1,\"\")","v":""},{"$f":"IF(AH697=AI697,1,\"\")","v":1},{"$f":"IF(AH697<AI697,1,\"\")","v":""},{"$f":"AH697&\"-\"&AI697","v":"2-2"}]
[null,null,null,null,null,null,null,null,null,null,null,null,null,null,null,null,null,null,null,null,null,null,null,null,null,null,null,null,null,null,{"$f":"_xlfn.NORM.INV(RAND(),$Z$4,$N$20)","v":3.0733337134723184},{"$f":"_xlfn.NORM.INV(RAND(),$AA$4,$J$20)","v":1.0028157895267147},2.0380747514995168]
[null,null,null,null,null,null,null,null,null,null,null,null,null,null,null,null,null,null,null,null,null,null,null,null,null,null,null,null,null,"№349",{"$f":"_xlfn.NORM.INV(RAND(),$Z$3,$I$20)","v":2.8305339204282678},{"$f":"_xlfn.NORM.INV(RAND(),$AA$3,$O$20)","v":2.9195583894674977},2.8750461549478827,{"$f":"ROUND(AG699,0)","v":3},{"$f":"ROUND(AG700,0)","v":1},{"$f":"IF(AH699>AI699,1,\"\")","v":1},{"$f":"IF(AH699=AI699,1,\"\")","v":""},{"$f":"IF(AH699<AI699,1,\"\")","v":""},{"$f":"AH699&\"-\"&AI699","v":"3-1"}]
[null,null,null,null,null,null,null,null,null,null,null,null,null,null,null,null,null,null,null,null,null,null,null,null,null,null,null,null,null,null,{"$f":"_xlfn.NORM.INV(RAND(),$Z$4,$N$20)","v":1.5822608944424634},{"$f":"_xlfn.NORM.INV(RAND(),$AA$4,$J$20)","v":8.2843011458800575E-2},0.832551952950632]
[null,null,null,null,null,null,null,null,null,null,null,null,null,null,null,null,null,null,null,null,null,null,null,null,null,null,null,null,null,"№350",{"$f":"_xlfn.NORM.INV(RAND(),$Z$3,$I$20)","v":4.4169558694534299},{"$f":"_xlfn.NORM.INV(RAND(),$AA$3,$O$20)","v":2.9234025978572795},3.6701792336553547,{"$f":"ROUND(AG701,0)","v":4},{"$f":"ROUND(AG702,0)","v":2},{"$f":"IF(AH701>AI701,1,\"\")","v":1},{"$f":"IF(AH701=AI701,1,\"\")","v":""},{"$f":"IF(AH701<AI701,1,\"\")","v":""},{"$f":"AH701&\"-\"&AI701","v":"4-2"}]
[null,null,null,null,null,null,null,null,null,null,null,null,null,null,null,null,null,null,null,null,null,null,null,null,null,null,null,null,null,null,{"$f":"_xlfn.NORM.INV(RAND(),$Z$4,$N$20)","v":2.8574004240061348},{"$f":"_xlfn.NORM.INV(RAND(),$AA$4,$J$20)","v":1.9418080474440251},2.39960423572508]
[null,null,null,null,null,null,null,null,null,null,null,null,null,null,null,null,null,null,null,null,null,null,null,null,null,null,null,null,null,"№351",{"$f":"_xlfn.NORM.INV(RAND(),$Z$3,$I$20)","v":2.6305017928155019},{"$f":"_xlfn.NORM.INV(RAND(),$AA$3,$O$20)","v":-0.73279132850779471},0.94885523215385359,{"$f":"ROUND(AG703,0)","v":1},{"$f":"ROUND(AG704,0)","v":2},{"$f":"IF(AH703>AI703,1,\"\")","v":""},{"$f":"IF(AH703=AI703,1,\"\")","v":""},{"$f":"IF(AH703<AI703,1,\"\")","v":1},{"$f":"AH703&\"-\"&AI703","v":"1-2"}]
[null,null,null,null,null,null,null,null,null,null,null,null,null,null,null,null,null,null,null,null,null,null,null,null,null,null,null,null,null,null,{"$f":"_xlfn.NORM.INV(RAND(),$Z$4,$N$20)","v":1.9989105501921767},{"$f":"_xlfn.NORM.INV(RAND(),$AA$4,$J$20)","v":1.5984167181666862},1.7986636341794315]
[null,null,null,null,null,null,null,null,null,null,null,null,null,null,null,null,null,null,null,null,null,null,null,null,null,null,null,null,null,"№352",{"$f":"_xlfn.NORM.INV(RAND(),$Z$3,$I$20)","v":1.6775456718758948},{"$f":"_xlfn.NORM.INV(RAND(),$AA$3,$O$20)","v":0.65054554277373433},1.1640456073248147,{"$f":"ROUND(AG705,0)","v":1},{"$f":"ROUND(AG706,0)","v":1},{"$f":"IF(AH705>AI705,1,\"\")","v":""},{"$f":"IF(AH705=AI705,1,\"\")","v":1},{"$f":"IF(AH705<AI705,1,\"\")","v":""},{"$f":"AH705&\"-\"&AI705","v":"1-1"}]
[null,null,null,null,null,null,null,null,null,null,null,null,null,null,null,null,null,null,null,null,null,null,null,null,null,null,null,null,null,null,{"$f":"_xlfn.NORM.INV(RAND(),$Z$4,$N$20)","v":1.9648071019908719},{"$f":"_xlfn.NORM.INV(RAND(),$AA$4,$J$20)","v":0.43629999873280667},1.2005535503618394]
[null,null,null,null,null,null,null,null,null,null,null,null,null,null,null,null,null,null,null,null,null,null,null,null,null,null,null,null,null,"№353",{"$f":"_xlfn.NORM.INV(RAND(),$Z$3,$I$20)","v":3.5662290310397169},{"$f":"_xlfn.NORM.INV(RAND(),$AA$3,$O$20)","v":1.6505509077182721},2.6083899693789947,{"$f":"ROUND(AG707,0)","v":3},{"$f":"ROUND(AG708,0)","v":2},{"$f":"IF(AH707>AI707,1,\"\")","v":1},{"$f":"IF(AH707=AI707,1,\"\")","v":""},{"$f":"IF(AH707<AI707,1,\"\")","v":""},{"$f":"AH707&\"-\"&AI707","v":"3-2"}]
[null,null,null,null,null,null,null,null,null,null,null,null,null,null,null,null,null,null,null,null,null,null,null,null,null,null,null,null,null,null,{"$f":"_xlfn.NORM.INV(RAND(),$Z$4,$N$20)","v":2.4562333846156603},{"$f":"_xlfn.NORM.INV(RAND(),$AA$4,$J$20)","v":1.8721962639520502},2.1642148242838553]
[null,null,null,null,null,null,null,null,null,null,null,null,null,null,null,null,null,null,null,null,null,null,null,null,null,null,null,null,null,"№354",{"$f":"_xlfn.NORM.INV(RAND(),$Z$3,$I$20)","v":4.0523888838435944},{"$f":"_xlfn.NORM.INV(RAND(),$AA$3,$O$20)","v":0.31972784933719572},{"$f":"(AE709+AF709)/2","v":2.186058366590395},{"$f":"ROUND(AG709,0)","v":2},{"$f":"ROUND(AG710,0)","v":1},{"$f":"IF(AH709>AI709,1,\"\")","v":1},{"$f":"IF(AH709=AI709,1,\"\")","v":""},{"$f":"IF(AH709<AI709,1,\"\")","v":""},{"$f":"AH709&\"-\"&AI709","v":"2-1"}]
[null,null,null,null,null,null,null,null,null,null,null,null,null,null,null,null,null,null,null,null,null,null,null,null,null,null,null,null,null,null,{"$f":"_xlfn.NORM.INV(RAND(),$Z$4,$N$20)","v":2.4036597269516191},{"$f":"_xlfn.NORM.INV(RAND(),$AA$4,$J$20)","v":0.39054853093153175},1.3971041289415753]
[null,null,null,null,null,null,null,null,null,null,null,null,null,null,null,null,null,null,null,null,null,null,null,null,null,null,null,null,null,"№355",{"$f":"_xlfn.NORM.INV(RAND(),$Z$3,$I$20)","v":2.384218076486607},{"$f":"_xlfn.NORM.INV(RAND(),$AA$3,$O$20)","v":0.22317955252196686},1.3036988145042869,{"$f":"ROUND(AG711,0)","v":1},{"$f":"ROUND(AG712,0)","v":1},{"$f":"IF(AH711>AI711,1,\"\")","v":""},{"$f":"IF(AH711=AI711,1,\"\")","v":1},{"$f":"IF(AH711<AI711,1,\"\")","v":""},{"$f":"AH711&\"-\"&AI711","v":"1-1"}]
[null,null,null,null,null,null,null,null,null,null,null,null,null,null,null,null,null,null,null,null,null,null,null,null,null,null,null,null,null,null,{"$f":"_xlfn.NORM.INV(RAND(),$Z$4,$N$20)","v":1.6785825376507029},{"$f":"_xlfn.NORM.INV(RAND(),$AA$4,$J$20)","v":0.79383421567491541},1.2362083766628091]
[null,null,null,null,null,null,null,null,null,null,null,null,null,null,null,null,null,null,null,null,null,null,null,null,null,null,null,null,null,"№356",{"$f":"_xlfn.NORM.INV(RAND(),$Z$3,$I$20)","v":3.2879846625480158},{"$f":"_xlfn.NORM.INV(RAND(),$AA$3,$O$20)","v":-0.2080173778501806},1.5399836423489175,{"$f":"ROUND(AG713,0)","v":2},{"$f":"ROUND(AG714,0)","v":1},{"$f":"IF(AH713>AI713,1,\"\")","v":1},{"$f":"IF(AH713=AI713,1,\"\")","v":""},{"$f":"IF(AH713<AI713,1,\"\")","v":""},{"$f":"AH713&\"-\"&AI713","v":"2-1"}]
[null,null,null,null,null,null,null,null,null,null,null,null,null,null,null,null,null,null,null,null,null,null,null,null,null,null,null,null,null,null,{"$f":"_xlfn.NORM.INV(RAND(),$Z$4,$N$20)","v":2.091015409382972},{"$f":"_xlfn.NORM.INV(RAND(),$AA$4,$J$20)","v":8.8526791076055877E-2},1.0897711002295138]
[null,null,null,null,null,null,null,null,null,null,null,null,null,null,null,null,null,null,null,null,null,null,null,null,null,null,null,null,null,"№357",{"$f":"_xlfn.NORM.INV(RAND(),$Z$3,$I$20)","v":3.2230094547653496},{"$f":"_xlfn.NORM.INV(RAND(),$AA$3,$O$20)","v":-0.31243091795860867},1.4552892684033705,{"$f":"ROUND(AG715,0)","v":1},{"$f":"ROUND(AG716,0)","v":1},{"$f":"IF(AH715>AI715,1,\"\")","v":""},{"$f":"IF(AH715=AI715,1,\"\")","v":1},{"$f":"IF(AH715<AI715,1,\"\")","v":""},{"$f":"AH715&\"-\"&AI715","v":"1-1"}]
[null,null,null,null,null,null,null,null,null,null,null,null,null,null,null,null,null,null,null,null,null,null,null,null,null,null,null,null,null,null,{"$f":"_xlfn.NORM.INV(RAND(),$Z$4,$N$20)","v":0.39455987617829336},{"$f":"_xlfn.NORM.INV(RAND(),$AA$4,$J$20)","v":2.1155143931549127},1.2550371346666029]
[null,null,null,null,null,null,null,null,null,null,null,null,null,null,null,null,null,null,null,null,null,null,null,null,null,null,null,null,null,"№358",{"$f":"_xlfn.NORM.INV(RAND(),$Z$3,$I$20)","v":3.4143412786449368},{"$f":"_xlfn.NORM.INV(RAND(),$AA$3,$O$20)","v":0.43217185780642392},1.9232565682256804,{"$f":"ROUND(AG717,0)","v":2},{"$f":"ROUND(AG718,0)","v":1},{"$f":"IF(AH717>AI717,1,\"\")","v":1},{"$f":"IF(AH717=AI717,1,\"\")","v":""},{"$f":"IF(AH717<AI717,1,\"\")","v":""},{"$f":"AH717&\"-\"&AI717","v":"2-1"}]
[null,null,null,null,null,null,null,null,null,null,null,null,null,null,null,null,null,null,null,null,null,null,null,null,null,null,null,null,null,null,{"$f":"_xlfn.NORM.INV(RAND(),$Z$4,$N$20)","v":1.6100713540036256},{"$f":"_xlfn.NORM.INV(RAND(),$AA$4,$J$20)","v":1.108450771275554},1.3592610626395898]
[null,null,null,null,null,null,null,null,null,null,null,null,null,null,null,null,null,null,null,null,null,null,null,null,null,null,null,null,null,"№359",{"$f":"_xlfn.NORM.INV(RAND(),$Z$3,$I$20)","v":3.2313561724404689},{"$f":"_xlfn.NORM.INV(RAND(),$AA$3,$O$20)","v":0.70192026802447338},1.966638220232471,{"$f":"ROUND(AG719,0)","v":2},{"$f":"ROUND(AG720,0)","v":2},{"$f":"IF(AH719>AI719,1,\"\")","v":""},{"$f":"IF(AH719=AI719,1,\"\")","v":1},{"$f":"IF(AH719<AI719,1,\"\")","v":""},{"$f":"AH719&\"-\"&AI719","v":"2-2"}]
[null,null,null,null,null,null,null,null,null,null,null,null,null,null,null,null,null,null,null,null,null,null,null,null,null,null,null,null,null,null,{"$f":"_xlfn.NORM.INV(RAND(),$Z$4,$N$20)","v":2.2033703390250459},{"$f":"_xlfn.NORM.INV(RAND(),$AA$4,$J$20)","v":2.1035109918791797},2.1534406654521128]
[null,null,null,null,null,null,null,null,null,null,null,null,null,null,null,null,null,null,null,null,null,null,null,null,null,null,null,null,null,"№360",{"$f":"_xlfn.NORM.INV(RAND(),$Z$3,$I$20)","v":0.53443634271512641},{"$f":"_xlfn.NORM.INV(RAND(),$AA$3,$O$20)","v":0.77730801929679971},0.65587218100596312,{"$f":"ROUND(AG721,0)","v":1},{"$f":"ROUND(AG722,0)","v":3},{"$f":"IF(AH721>AI721,1,\"\")","v":""},{"$f":"IF(AH721=AI721,1,\"\")","v":""},{"$f":"IF(AH721<AI721,1,\"\")","v":1},{"$f":"AH721&\"-\"&AI721","v":"1-3"}]
[null,null,null,null,null,null,null,null,null,null,null,null,null,null,null,null,null,null,null,null,null,null,null,null,null,null,null,null,null,null,{"$f":"_xlfn.NORM.INV(RAND(),$Z$4,$N$20)","v":2.8581119062094444},{"$f":"_xlfn.NORM.INV(RAND(),$AA$4,$J$20)","v":2.6198349599454254},2.7389734330774349]
[null,null,null,null,null,null,null,null,null,null,null,null,null,null,null,null,null,null,null,null,null,null,null,null,null,null,null,null,null,"№361",{"$f":"_xlfn.NORM.INV(RAND(),$Z$3,$I$20)","v":3.9585521840439464},{"$f":"_xlfn.NORM.INV(RAND(),$AA$3,$O$20)","v":0.86899541055210261},2.4137737972980244,{"$f":"ROUND(AG723,0)","v":2},{"$f":"ROUND(AG724,0)","v":3},{"$f":"IF(AH723>AI723,1,\"\")","v":""},{"$f":"IF(AH723=AI723,1,\"\")","v":""},{"$f":"IF(AH723<AI723,1,\"\")","v":1},{"$f":"AH723&\"-\"&AI723","v":"2-3"}]
[null,null,null,null,null,null,null,null,null,null,null,null,null,null,null,null,null,null,null,null,null,null,null,null,null,null,null,null,null,null,{"$f":"_xlfn.NORM.INV(RAND(),$Z$4,$N$20)","v":2.8131051695129279},{"$f":"_xlfn.NORM.INV(RAND(),$AA$4,$J$20)","v":2.2402000322656748},2.5266526008893013]
[null,null,null,null,null,null,null,null,null,null,null,null,null,null,null,null,null,null,null,null,null,null,null,null,null,null,null,null,null,"№362",{"$f":"_xlfn.NORM.INV(RAND(),$Z$3,$I$20)","v":1.2680174110172029},{"$f":"_xlfn.NORM.INV(RAND(),$AA$3,$O$20)","v":1.0816363612865494},1.1748268861518762,{"$f":"ROUND(AG725,0)","v":1},{"$f":"ROUND(AG726,0)","v":1},{"$f":"IF(AH725>AI725,1,\"\")","v":""},{"$f":"IF(AH725=AI725,1,\"\")","v":1},{"$f":"IF(AH725<AI725,1,\"\")","v":""},{"$f":"AH725&\"-\"&AI725","v":"1-1"}]
[null,null,null,null,null,null,null,null,null,null,null,null,null,null,null,null,null,null,null,null,null,null,null,null,null,null,null,null,null,null,{"$f":"_xlfn.NORM.INV(RAND(),$Z$4,$N$20)","v":2.5613823252309906},{"$f":"_xlfn.NORM.INV(RAND(),$AA$4,$J$20)","v":-8.0255116290703921E-2},1.2405636044701434]
[null,null,null,null,null,null,null,null,null,null,null,null,null,null,null,null,null,null,null,null,null,null,null,null,null,null,null,null,null,"№363",{"$f":"_xlfn.NORM.INV(RAND(),$Z$3,$I$20)","v":3.1409285179071018},{"$f":"_xlfn.NORM.INV(RAND(),$AA$3,$O$20)","v":0.16117940974739819},1.6510539638272501,{"$f":"ROUND(AG727,0)","v":2},{"$f":"ROUND(AG728,0)","v":2},{"$f":"IF(AH727>AI727,1,\"\")","v":""},{"$f":"IF(AH727=AI727,1,\"\")","v":1},{"$f":"IF(AH727<AI727,1,\"\")","v":""},{"$f":"AH727&\"-\"&AI727","v":"2-2"}]
[null,null,null,null,null,null,null,null,null,null,null,null,null,null,null,null,null,null,null,null,null,null,null,null,null,null,null,null,null,null,{"$f":"_xlfn.NORM.INV(RAND(),$Z$4,$N$20)","v":2.4717095378570231},{"$f":"_xlfn.NORM.INV(RAND(),$AA$4,$J$20)","v":2.3376147940507974},2.4046621659539102]
[null,null,null,null,null,null,null,null,null,null,null,null,null,null,null,null,null,null,null,null,null,null,null,null,null,null,null,null,null,"№364",{"$f":"_xlfn.NORM.INV(RAND(),$Z$3,$I$20)","v":4.4689384212056904},{"$f":"_xlfn.NORM.INV(RAND(),$AA$3,$O$20)","v":1.8369291414894195},3.1529337813475551,{"$f":"ROUND(AG729,0)","v":3},{"$f":"ROUND(AG730,0)","v":2},{"$f":"IF(AH729>AI729,1,\"\")","v":1},{"$f":"IF(AH729=AI729,1,\"\")","v":""},{"$f":"IF(AH729<AI729,1,\"\")","v":""},{"$f":"AH729&\"-\"&AI729","v":"3-2"}]
[null,null,null,null,null,null,null,null,null,null,null,null,null,null,null,null,null,null,null,null,null,null,null,null,null,null,null,null,null,null,{"$f":"_xlfn.NORM.INV(RAND(),$Z$4,$N$20)","v":2.1793269044487236},{"$f":"_xlfn.NORM.INV(RAND(),$AA$4,$J$20)","v":1.6896012212503915},1.9344640628495575]
[null,null,null,null,null,null,null,null,null,null,null,null,null,null,null,null,null,null,null,null,null,null,null,null,null,null,null,null,null,"№365",{"$f":"_xlfn.NORM.INV(RAND(),$Z$3,$I$20)","v":0.46574613455375902},{"$f":"_xlfn.NORM.INV(RAND(),$AA$3,$O$20)","v":0.65983868347867713},0.56279240901621808,{"$f":"ROUND(AG731,0)","v":1},{"$f":"ROUND(AG732,0)","v":3},{"$f":"IF(AH731>AI731,1,\"\")","v":""},{"$f":"IF(AH731=AI731,1,\"\")","v":""},{"$f":"IF(AH731<AI731,1,\"\")","v":1},{"$f":"AH731&\"-\"&AI731","v":"1-3"}]
[null,null,null,null,null,null,null,null,null,null,null,null,null,null,null,null,null,null,null,null,null,null,null,null,null,null,null,null,null,null,{"$f":"_xlfn.NORM.INV(RAND(),$Z$4,$N$20)","v":2.8875271242030109},{"$f":"_xlfn.NORM.INV(RAND(),$AA$4,$J$20)","v":2.5465191000128371},2.717023112107924]
[null,null,null,null,null,null,null,null,null,null,null,null,null,null,null,null,null,null,null,null,null,null,null,null,null,null,null,null,null,"№366",{"$f":"_xlfn.NORM.INV(RAND(),$Z$3,$I$20)","v":3.5175759267764288},{"$f":"_xlfn.NORM.INV(RAND(),$AA$3,$O$20)","v":-0.85750916120485243},1.3300333827857882,{"$f":"ROUND(AG733,0)","v":1},{"$f":"ROUND(AG734,0)","v":2},{"$f":"IF(AH733>AI733,1,\"\")","v":""},{"$f":"IF(AH733=AI733,1,\"\")","v":""},{"$f":"IF(AH733<AI733,1,\"\")","v":1},{"$f":"AH733&\"-\"&AI733","v":"1-2"}]
[null,null,null,null,null,null,null,null,null,null,null,null,null,null,null,null,null,null,null,null,null,null,null,null,null,null,null,null,null,null,{"$f":"_xlfn.NORM.INV(RAND(),$Z$4,$N$20)","v":3.2304805555269906},{"$f":"_xlfn.NORM.INV(RAND(),$AA$4,$J$20)","v":1.6305909326286583},2.4305357440778246]
[null,null,null,null,null,null,null,null,null,null,null,null,null,null,null,null,null,null,null,null,null,null,null,null,null,null,null,null,null,"№367",{"$f":"_xlfn.NORM.INV(RAND(),$Z$3,$I$20)","v":3.721972403902285},{"$f":"_xlfn.NORM.INV(RAND(),$AA$3,$O$20)","v":1.1100134458175479},2.4159929248599163,{"$f":"ROUND(AG735,0)","v":2},{"$f":"ROUND(AG736,0)","v":1},{"$f":"IF(AH735>AI735,1,\"\")","v":1},{"$f":"IF(AH735=AI735,1,\"\")","v":""},{"$f":"IF(AH735<AI735,1,\"\")","v":""},{"$f":"AH735&\"-\"&AI735","v":"2-1"}]
[null,null,null,null,null,null,null,null,null,null,null,null,null,null,null,null,null,null,null,null,null,null,null,null,null,null,null,null,null,null,{"$f":"_xlfn.NORM.INV(RAND(),$Z$4,$N$20)","v":2.3464295761168072},{"$f":"_xlfn.NORM.INV(RAND(),$AA$4,$J$20)","v":0.58300803311961213},1.4647188046182098]
[null,null,null,null,null,null,null,null,null,null,null,null,null,null,null,null,null,null,null,null,null,null,null,null,null,null,null,null,null,"№368",{"$f":"_xlfn.NORM.INV(RAND(),$Z$3,$I$20)","v":3.8591517618045779},{"$f":"_xlfn.NORM.INV(RAND(),$AA$3,$O$20)","v":2.1176855729262236},2.9884186673654005,{"$f":"ROUND(AG737,0)","v":3},{"$f":"ROUND(AG738,0)","v":0},{"$f":"IF(AH737>AI737,1,\"\")","v":1},{"$f":"IF(AH737=AI737,1,\"\")","v":""},{"$f":"IF(AH737<AI737,1,\"\")","v":""},{"$f":"AH737&\"-\"&AI737","v":"3-0"}]
[null,null,null,null,null,null,null,null,null,null,null,null,null,null,null,null,null,null,null,null,null,null,null,null,null,null,null,null,null,null,{"$f":"_xlfn.NORM.INV(RAND(),$Z$4,$N$20)","v":2.2182289888454796},{"$f":"_xlfn.NORM.INV(RAND(),$AA$4,$J$20)","v":-2.1876326862660664},1.5298151289706574E-2]
[null,null,null,null,null,null,null,null,null,null,null,null,null,null,null,null,null,null,null,null,null,null,null,null,null,null,null,null,null,"№369",{"$f":"_xlfn.NORM.INV(RAND(),$Z$3,$I$20)","v":2.7833320284468339},{"$f":"_xlfn.NORM.INV(RAND(),$AA$3,$O$20)","v":-3.1802103691835004E-2},1.3757649623774995,{"$f":"ROUND(AG739,0)","v":1},{"$f":"ROUND(AG740,0)","v":2},{"$f":"IF(AH739>AI739,1,\"\")","v":""},{"$f":"IF(AH739=AI739,1,\"\")","v":""},{"$f":"IF(AH739<AI739,1,\"\")","v":1},{"$f":"AH739&\"-\"&AI739","v":"1-2"}]
[null,null,null,null,null,null,null,null,null,null,null,null,null,null,null,null,null,null,null,null,null,null,null,null,null,null,null,null,null,null,{"$f":"_xlfn.NORM.INV(RAND(),$Z$4,$N$20)","v":2.6329490250539442},{"$f":"_xlfn.NORM.INV(RAND(),$AA$4,$J$20)","v":0.74335380724789379},1.688151416150919]
[null,null,null,null,null,null,null,null,null,null,null,null,null,null,null,null,null,null,null,null,null,null,null,null,null,null,null,null,null,"№370",{"$f":"_xlfn.NORM.INV(RAND(),$Z$3,$I$20)","v":0.50310875781425191},{"$f":"_xlfn.NORM.INV(RAND(),$AA$3,$O$20)","v":1.9992867650504602},1.2511977614323562,{"$f":"ROUND(AG741,0)","v":1},{"$f":"ROUND(AG742,0)","v":1},{"$f":"IF(AH741>AI741,1,\"\")","v":""},{"$f":"IF(AH741=AI741,1,\"\")","v":1},{"$f":"IF(AH741<AI741,1,\"\")","v":""},{"$f":"AH741&\"-\"&AI741","v":"1-1"}]
[null,null,null,null,null,null,null,null,null,null,null,null,null,null,null,null,null,null,null,null,null,null,null,null,null,null,null,null,null,null,{"$f":"_xlfn.NORM.INV(RAND(),$Z$4,$N$20)","v":2.4597358248263101},{"$f":"_xlfn.NORM.INV(RAND(),$AA$4,$J$20)","v":-0.58390306497791755},0.9379163799241963]
[null,null,null,null,null,null,null,null,null,null,null,null,null,null,null,null,null,null,null,null,null,null,null,null,null,null,null,null,null,"№371",{"$f":"_xlfn.NORM.INV(RAND(),$Z$3,$I$20)","v":1.174272620345016},{"$f":"_xlfn.NORM.INV(RAND(),$AA$3,$O$20)","v":-0.72485559264427768},0.22470851385036916,{"$f":"ROUND(AG743,0)","v":0},{"$f":"ROUND(AG744,0)","v":0},{"$f":"IF(AH743>AI743,1,\"\")","v":""},{"$f":"IF(AH743=AI743,1,\"\")","v":1},{"$f":"IF(AH743<AI743,1,\"\")","v":""},{"$f":"AH743&\"-\"&AI743","v":"0-0"}]
[null,null,null,null,null,null,null,null,null,null,null,null,null,null,null,null,null,null,null,null,null,null,null,null,null,null,null,null,null,null,{"$f":"_xlfn.NORM.INV(RAND(),$Z$4,$N$20)","v":2.1419055202294808},{"$f":"_xlfn.NORM.INV(RAND(),$AA$4,$J$20)","v":-2.3981374219861054},-0.12811595087831229]
[null,null,null,null,null,null,null,null,null,null,null,null,null,null,null,null,null,null,null,null,null,null,null,null,null,null,null,null,null,"№372",{"$f":"_xlfn.NORM.INV(RAND(),$Z$3,$I$20)","v":1.988030330726591},{"$f":"_xlfn.NORM.INV(RAND(),$AA$3,$O$20)","v":1.6882601510181319},1.8381452408723615,{"$f":"ROUND(AG745,0)","v":2},{"$f":"ROUND(AG746,0)","v":1},{"$f":"IF(AH745>AI745,1,\"\")","v":1},{"$f":"IF(AH745=AI745,1,\"\")","v":""},{"$f":"IF(AH745<AI745,1,\"\")","v":""},{"$f":"AH745&\"-\"&AI745","v":"2-1"}]
[null,null,null,null,null,null,null,null,null,null,null,null,null,null,null,null,null,null,null,null,null,null,null,null,null,null,null,null,null,null,{"$f":"_xlfn.NORM.INV(RAND(),$Z$4,$N$20)","v":2.1690988804476095},{"$f":"_xlfn.NORM.INV(RAND(),$AA$4,$J$20)","v":0.60933751415191384},1.3892181972997617]
[null,null,null,null,null,null,null,null,null,null,null,null,null,null,null,null,null,null,null,null,null,null,null,null,null,null,null,null,null,"№373",{"$f":"_xlfn.NORM.INV(RAND(),$Z$3,$I$20)","v":5.0307630109629002},{"$f":"_xlfn.NORM.INV(RAND(),$AA$3,$O$20)","v":-0.39182785281282162},2.3194675790750394,{"$f":"ROUND(AG747,0)","v":2},{"$f":"ROUND(AG748,0)","v":1},{"$f":"IF(AH747>AI747,1,\"\")","v":1},{"$f":"IF(AH747=AI747,1,\"\")","v":""},{"$f":"IF(AH747<AI747,1,\"\")","v":""},{"$f":"AH747&\"-\"&AI747","v":"2-1"}]
[null,null,null,null,null,null,null,null,null,null,null,null,null,null,null,null,null,null,null,null,null,null,null,null,null,null,null,null,null,null,{"$f":"_xlfn.NORM.INV(RAND(),$Z$4,$N$20)","v":1.0157467069225306},{"$f":"_xlfn.NORM.INV(RAND(),$AA$4,$J$20)","v":0.50604340888993349},0.76089505790623202]
[null,null,null,null,null,null,null,null,null,null,null,null,null,null,null,null,null,null,null,null,null,null,null,null,null,null,null,null,null,"№374",{"$f":"_xlfn.NORM.INV(RAND(),$Z$3,$I$20)","v":4.6076726163888839},{"$f":"_xlfn.NORM.INV(RAND(),$AA$3,$O$20)","v":-1.4903199556346338},1.5586763303771249,{"$f":"ROUND(AG749,0)","v":2},{"$f":"ROUND(AG750,0)","v":3},{"$f":"IF(AH749>AI749,1,\"\")","v":""},{"$f":"IF(AH749=AI749,1,\"\")","v":""},{"$f":"IF(AH749<AI749,1,\"\")","v":1},{"$f":"AH749&\"-\"&AI749","v":"2-3"}]
[null,null,null,null,null,null,null,null,null,null,null,null,null,null,null,null,null,null,null,null,null,null,null,null,null,null,null,null,null,null,{"$f":"_xlfn.NORM.INV(RAND(),$Z$4,$N$20)","v":3.2063098361749889},{"$f":"_xlfn.NORM.INV(RAND(),$AA$4,$J$20)","v":2.9395728892594528},3.0729413627172208]
[null,null,null,null,null,null,null,null,null,null,null,null,null,null,null,null,null,null,null,null,null,null,null,null,null,null,null,null,null,"№375",{"$f":"_xlfn.NORM.INV(RAND(),$Z$3,$I$20)","v":4.5266987871307629},{"$f":"_xlfn.NORM.INV(RAND(),$AA$3,$O$20)","v":1.4780283269863359},3.0023635570585494,{"$f":"ROUND(AG751,0)","v":3},{"$f":"ROUND(AG752,0)","v":3},{"$f":"IF(AH751>AI751,1,\"\")","v":""},{"$f":"IF(AH751=AI751,1,\"\")","v":1},{"$f":"IF(AH751<AI751,1,\"\")","v":""},{"$f":"AH751&\"-\"&AI751","v":"3-3"}]
[null,null,null,null,null,null,null,null,null,null,null,null,null,null,null,null,null,null,null,null,null,null,null,null,null,null,null,null,null,null,{"$f":"_xlfn.NORM.INV(RAND(),$Z$4,$N$20)","v":2.9132730462255081},{"$f":"_xlfn.NORM.INV(RAND(),$AA$4,$J$20)","v":2.2989222869581365},2.6060976665918223]
[null,null,null,null,null,null,null,null,null,null,null,null,null,null,null,null,null,null,null,null,null,null,null,null,null,null,null,null,null,"№376",{"$f":"_xlfn.NORM.INV(RAND(),$Z$3,$I$20)","v":3.666293968088012},{"$f":"_xlfn.NORM.INV(RAND(),$AA$3,$O$20)","v":0.4180879144458271},2.0421909412669197,{"$f":"ROUND(AG753,0)","v":2},{"$f":"ROUND(AG754,0)","v":2},{"$f":"IF(AH753>AI753,1,\"\")","v":""},{"$f":"IF(AH753=AI753,1,\"\")","v":1},{"$f":"IF(AH753<AI753,1,\"\")","v":""},{"$f":"AH753&\"-\"&AI753","v":"2-2"}]
[null,null,null,null,null,null,null,null,null,null,null,null,null,null,null,null,null,null,null,null,null,null,null,null,null,null,null,null,null,null,{"$f":"_xlfn.NORM.INV(RAND(),$Z$4,$N$20)","v":1.6370766605026885},{"$f":"_xlfn.NORM.INV(RAND(),$AA$4,$J$20)","v":2.3386549198154873},1.9878657901590879]
[null,null,null,null,null,null,null,null,null,null,null,null,null,null,null,null,null,null,null,null,null,null,null,null,null,null,null,null,null,"№377",{"$f":"_xlfn.NORM.INV(RAND(),$Z$3,$I$20)","v":3.3768411755976402},{"$f":"_xlfn.NORM.INV(RAND(),$AA$3,$O$20)","v":0.42260979684075461},1.8997254862191975,{"$f":"ROUND(AG755,0)","v":2},{"$f":"ROUND(AG756,0)","v":2},{"$f":"IF(AH755>AI755,1,\"\")","v":""},{"$f":"IF(AH755=AI755,1,\"\")","v":1},{"$f":"IF(AH755<AI755,1,\"\")","v":""},{"$f":"AH755&\"-\"&AI755","v":"2-2"}]
[null,null,null,null,null,null,null,null,null,null,null,null,null,null,null,null,null,null,null,null,null,null,null,null,null,null,null,null,null,null,{"$f":"_xlfn.NORM.INV(RAND(),$Z$4,$N$20)","v":2.6895171059931773},{"$f":"_xlfn.NORM.INV(RAND(),$AA$4,$J$20)","v":0.68812677669240141},1.6888219413427894]
[null,null,null,null,null,null,null,null,null,null,null,null,null,null,null,null,null,null,null,null,null,null,null,null,null,null,null,null,null,"№378",{"$f":"_xlfn.NORM.INV(RAND(),$Z$3,$I$20)","v":4.551100056362789},{"$f":"_xlfn.NORM.INV(RAND(),$AA$3,$O$20)","v":-5.0514223220483601E-2},2.2502929165711527,{"$f":"ROUND(AG757,0)","v":2},{"$f":"ROUND(AG758,0)","v":3},{"$f":"IF(AH757>AI757,1,\"\")","v":""},{"$f":"IF(AH757=AI757,1,\"\")","v":""},{"$f":"IF(AH757<AI757,1,\"\")","v":1},{"$f":"AH757&\"-\"&AI757","v":"2-3"}]
[null,null,null,null,null,null,null,null,null,null,null,null,null,null,null,null,null,null,null,null,null,null,null,null,null,null,null,null,null,null,{"$f":"_xlfn.NORM.INV(RAND(),$Z$4,$N$20)","v":3.0214726858928684},{"$f":"_xlfn.NORM.INV(RAND(),$AA$4,$J$20)","v":3.1593914548592243},3.0904320703760462]
[null,null,null,null,null,null,null,null,null,null,null,null,null,null,null,null,null,null,null,null,null,null,null,null,null,null,null,null,null,"№379",{"$f":"_xlfn.NORM.INV(RAND(),$Z$3,$I$20)","v":3.802702275558858},{"$f":"_xlfn.NORM.INV(RAND(),$AA$3,$O$20)","v":1.0828393473693498},2.4427708114641038,{"$f":"ROUND(AG759,0)","v":2},{"$f":"ROUND(AG760,0)","v":1},{"$f":"IF(AH759>AI759,1,\"\")","v":1},{"$f":"IF(AH759=AI759,1,\"\")","v":""},{"$f":"IF(AH759<AI759,1,\"\")","v":""},{"$f":"AH759&\"-\"&AI759","v":"2-1"}]
[null,null,null,null,null,null,null,null,null,null,null,null,null,null,null,null,null,null,null,null,null,null,null,null,null,null,null,null,null,null,{"$f":"_xlfn.NORM.INV(RAND(),$Z$4,$N$20)","v":1.8397742064981668},{"$f":"_xlfn.NORM.INV(RAND(),$AA$4,$J$20)","v":0.40813204399886582},1.1239531252485162]
[null,null,null,null,null,null,null,null,null,null,null,null,null,null,null,null,null,null,null,null,null,null,null,null,null,null,null,null,null,"№380",{"$f":"_xlfn.NORM.INV(RAND(),$Z$3,$I$20)","v":1.5746011966482194},{"$f":"_xlfn.NORM.INV(RAND(),$AA$3,$O$20)","v":-0.67632388666395293},0.44913865499213323,{"$f":"ROUND(AG761,0)","v":0},{"$f":"ROUND(AG762,0)","v":3},{"$f":"IF(AH761>AI761,1,\"\")","v":""},{"$f":"IF(AH761=AI761,1,\"\")","v":""},{"$f":"IF(AH761<AI761,1,\"\")","v":1},{"$f":"AH761&\"-\"&AI761","v":"0-3"}]
[null,null,null,null,null,null,null,null,null,null,null,null,null,null,null,null,null,null,null,null,null,null,null,null,null,null,null,null,null,null,{"$f":"_xlfn.NORM.INV(RAND(),$Z$4,$N$20)","v":3.6752678978912523},{"$f":"_xlfn.NORM.INV(RAND(),$AA$4,$J$20)","v":1.4800466803678618},2.577657289129557]
[null,null,null,null,null,null,null,null,null,null,null,null,null,null,null,null,null,null,null,null,null,null,null,null,null,null,null,null,null,"№381",{"$f":"_xlfn.NORM.INV(RAND(),$Z$3,$I$20)","v":1.9106185658166563},{"$f":"_xlfn.NORM.INV(RAND(),$AA$3,$O$20)","v":1.6719590054362399},1.7912887856264481,{"$f":"ROUND(AG763,0)","v":2},{"$f":"ROUND(AG764,0)","v":2},{"$f":"IF(AH763>AI763,1,\"\")","v":""},{"$f":"IF(AH763=AI763,1,\"\")","v":1},{"$f":"IF(AH763<AI763,1,\"\")","v":""},{"$f":"AH763&\"-\"&AI763","v":"2-2"}]
[null,null,null,null,null,null,null,null,null,null,null,null,null,null,null,null,null,null,null,null,null,null,null,null,null,null,null,null,null,null,{"$f":"_xlfn.NORM.INV(RAND(),$Z$4,$N$20)","v":3.3799060262908984},{"$f":"_xlfn.NORM.INV(RAND(),$AA$4,$J$20)","v":1.1627831943360074},2.2713446103134531]
[null,null,null,null,null,null,null,null,null,null,null,null,null,null,null,null,null,null,null,null,null,null,null,null,null,null,null,null,null,"№382",{"$f":"_xlfn.NORM.INV(RAND(),$Z$3,$I$20)","v":5.3833873806601957},{"$f":"_xlfn.NORM.INV(RAND(),$AA$3,$O$20)","v":6.3457095172705369E-2},2.7234222379164503,{"$f":"ROUND(AG765,0)","v":3},{"$f":"ROUND(AG766,0)","v":1},{"$f":"IF(AH765>AI765,1,\"\")","v":1},{"$f":"IF(AH765=AI765,1,\"\")","v":""},{"$f":"IF(AH765<AI765,1,\"\")","v":""},{"$f":"AH765&\"-\"&AI765","v":"3-1"}]
[null,null,null,null,null,null,null,null,null,null,null,null,null,null,null,null,null,null,null,null,null,null,null,null,null,null,null,null,null,null,{"$f":"_xlfn.NORM.INV(RAND(),$Z$4,$N$20)","v":2.2890724731066694},{"$f":"_xlfn.NORM.INV(RAND(),$AA$4,$J$20)","v":-0.7027124247748695},0.79318002416589994]
[null,null,null,null,null,null,null,null,null,null,null,null,null,null,null,null,null,null,null,null,null,null,null,null,null,null,null,null,null,"№383",{"$f":"_xlfn.NORM.INV(RAND(),$Z$3,$I$20)","v":4.931303757240376},{"$f":"_xlfn.NORM.INV(RAND(),$AA$3,$O$20)","v":0.25301130077293954},2.5921575290066579,{"$f":"ROUND(AG767,0)","v":3},{"$f":"ROUND(AG768,0)","v":1},{"$f":"IF(AH767>AI767,1,\"\")","v":1},{"$f":"IF(AH767=AI767,1,\"\")","v":""},{"$f":"IF(AH767<AI767,1,\"\")","v":""},{"$f":"AH767&\"-\"&AI767","v":"3-1"}]
[null,null,null,null,null,null,null,null,null,null,null,null,null,null,null,null,null,null,null,null,null,null,null,null,null,null,null,null,null,null,{"$f":"_xlfn.NORM.INV(RAND(),$Z$4,$N$20)","v":1.3901073854975134},{"$f":"_xlfn.NORM.INV(RAND(),$AA$4,$J$20)","v":1.0606946151846359},1.2254010003410747]
[null,null,null,null,null,null,null,null,null,null,null,null,null,null,null,null,null,null,null,null,null,null,null,null,null,null,null,null,null,"№384",{"$f":"_xlfn.NORM.INV(RAND(),$Z$3,$I$20)","v":3.575180365621931},{"$f":"_xlfn.NORM.INV(RAND(),$AA$3,$O$20)","v":0.20205698605154387},1.8886186758367374,{"$f":"ROUND(AG769,0)","v":2},{"$f":"ROUND(AG770,0)","v":1},{"$f":"IF(AH769>AI769,1,\"\")","v":1},{"$f":"IF(AH769=AI769,1,\"\")","v":""},{"$f":"IF(AH769<AI769,1,\"\")","v":""},{"$f":"AH769&\"-\"&AI769","v":"2-1"}]
[null,null,null,null,null,null,null,null,null,null,null,null,null,null,null,null,null,null,null,null,null,null,null,null,null,null,null,null,null,null,{"$f":"_xlfn.NORM.INV(RAND(),$Z$4,$N$20)","v":3.2635803273178836},{"$f":"_xlfn.NORM.INV(RAND(),$AA$4,$J$20)","v":-0.67653606443618886},1.2935221314408474]
[null,null,null,null,null,null,null,null,null,null,null,null,null,null,null,null,null,null,null,null,null,null,null,null,null,null,null,null,null,"№385",{"$f":"_xlfn.NORM.INV(RAND(),$Z$3,$I$20)","v":4.8477515009173819},{"$f":"_xlfn.NORM.INV(RAND(),$AA$3,$O$20)","v":1.0090499880052062},2.9284007444612943,{"$f":"ROUND(AG771,0)","v":3},{"$f":"ROUND(AG772,0)","v":0},{"$f":"IF(AH771>AI771,1,\"\")","v":1},{"$f":"IF(AH771=AI771,1,\"\")","v":""},{"$f":"IF(AH771<AI771,1,\"\")","v":""},{"$f":"AH771&\"-\"&AI771","v":"3-0"}]
[null,null,null,null,null,null,null,null,null,null,null,null,null,null,null,null,null,null,null,null,null,null,null,null,null,null,null,null,null,null,{"$f":"_xlfn.NORM.INV(RAND(),$Z$4,$N$20)","v":1.7408548823721124},{"$f":"_xlfn.NORM.INV(RAND(),$AA$4,$J$20)","v":-1.7850075995237953},-2.2076358575841448E-2]
[null,null,null,null,null,null,null,null,null,null,null,null,null,null,null,null,null,null,null,null,null,null,null,null,null,null,null,null,null,"№386",{"$f":"_xlfn.NORM.INV(RAND(),$Z$3,$I$20)","v":4.3787999456467199},{"$f":"_xlfn.NORM.INV(RAND(),$AA$3,$O$20)","v":1.538766188495996},{"$f":"(AE773+AF773)/2","v":2.9587830670713577},{"$f":"ROUND(AG773,0)","v":3},{"$f":"ROUND(AG774,0)","v":2},{"$f":"IF(AH773>AI773,1,\"\")","v":1},{"$f":"IF(AH773=AI773,1,\"\")","v":""},{"$f":"IF(AH773<AI773,1,\"\")","v":""},{"$f":"AH773&\"-\"&AI773","v":"3-2"}]
[null,null,null,null,null,null,null,null,null,null,null,null,null,null,null,null,null,null,null,null,null,null,null,null,null,null,null,null,null,null,{"$f":"_xlfn.NORM.INV(RAND(),$Z$4,$N$20)","v":2.3285121907712689},{"$f":"_xlfn.NORM.INV(RAND(),$AA$4,$J$20)","v":2.4954334206721072},2.411972805721688]
[null,null,null,null,null,null,null,null,null,null,null,null,null,null,null,null,null,null,null,null,null,null,null,null,null,null,null,null,null,"№387",{"$f":"_xlfn.NORM.INV(RAND(),$Z$3,$I$20)","v":2.553073806660878},{"$f":"_xlfn.NORM.INV(RAND(),$AA$3,$O$20)","v":0.53851120592615009},1.5457925062935141,{"$f":"ROUND(AG775,0)","v":2},{"$f":"ROUND(AG776,0)","v":2},{"$f":"IF(AH775>AI775,1,\"\")","v":""},{"$f":"IF(AH775=AI775,1,\"\")","v":1},{"$f":"IF(AH775<AI775,1,\"\")","v":""},{"$f":"AH775&\"-\"&AI775","v":"2-2"}]
[null,null,null,null,null,null,null,null,null,null,null,null,null,null,null,null,null,null,null,null,null,null,null,null,null,null,null,null,null,null,{"$f":"_xlfn.NORM.INV(RAND(),$Z$4,$N$20)","v":2.6448010192887086},{"$f":"_xlfn.NORM.INV(RAND(),$AA$4,$J$20)","v":0.79692963638964986},1.7208653278391792]
[null,null,null,null,null,null,null,null,null,null,null,null,null,null,null,null,null,null,null,null,null,null,null,null,null,null,null,null,null,"№388",{"$f":"_xlfn.NORM.INV(RAND(),$Z$3,$I$20)","v":5.8586080278276729},{"$f":"_xlfn.NORM.INV(RAND(),$AA$3,$O$20)","v":1.0839435487566074},3.4712757882921403,{"$f":"ROUND(AG777,0)","v":3},{"$f":"ROUND(AG778,0)","v":0},{"$f":"IF(AH777>AI777,1,\"\")","v":1},{"$f":"IF(AH777=AI777,1,\"\")","v":""},{"$f":"IF(AH777<AI777,1,\"\")","v":""},{"$f":"AH777&\"-\"&AI777","v":"3-0"}]
[null,null,null,null,null,null,null,null,null,null,null,null,null,null,null,null,null,null,null,null,null,null,null,null,null,null,null,null,null,null,{"$f":"_xlfn.NORM.INV(RAND(),$Z$4,$N$20)","v":0.84237438143684185},{"$f":"_xlfn.NORM.INV(RAND(),$AA$4,$J$20)","v":-4.8325319592792404E-3},0.4187709247387813]
[null,null,null,null,null,null,null,null,null,null,null,null,null,null,null,null,null,null,null,null,null,null,null,null,null,null,null,null,null,"№389",{"$f":"_xlfn.NORM.INV(RAND(),$Z$3,$I$20)","v":5.1795142870490034},{"$f":"_xlfn.NORM.INV(RAND(),$AA$3,$O$20)","v":1.4935659307227569},3.3365401088858802,{"$f":"ROUND(AG779,0)","v":3},{"$f":"ROUND(AG780,0)","v":1},{"$f":"IF(AH779>AI779,1,\"\")","v":1},{"$f":"IF(AH779=AI779,1,\"\")","v":""},{"$f":"IF(AH779<AI779,1,\"\")","v":""},{"$f":"AH779&\"-\"&AI779","v":"3-1"}]
[null,null,null,null,null,null,null,null,null,null,null,null,null,null,null,null,null,null,null,null,null,null,null,null,null,null,null,null,null,null,{"$f":"_xlfn.NORM.INV(RAND(),$Z$4,$N$20)","v":2.1859034307404381},{"$f":"_xlfn.NORM.INV(RAND(),$AA$4,$J$20)","v":6.8289005636997802E-2},1.1270962181887181]
[null,null,null,null,null,null,null,null,null,null,null,null,null,null,null,null,null,null,null,null,null,null,null,null,null,null,null,null,null,"№390",{"$f":"_xlfn.NORM.INV(RAND(),$Z$3,$I$20)","v":3.5390716470938641},{"$f":"_xlfn.NORM.INV(RAND(),$AA$3,$O$20)","v":1.6434215786523283},2.5912466128730962,{"$f":"ROUND(AG781,0)","v":3},{"$f":"ROUND(AG782,0)","v":3},{"$f":"IF(AH781>AI781,1,\"\")","v":""},{"$f":"IF(AH781=AI781,1,\"\")","v":1},{"$f":"IF(AH781<AI781,1,\"\")","v":""},{"$f":"AH781&\"-\"&AI781","v":"3-3"}]
[null,null,null,null,null,null,null,null,null,null,null,null,null,null,null,null,null,null,null,null,null,null,null,null,null,null,null,null,null,null,{"$f":"_xlfn.NORM.INV(RAND(),$Z$4,$N$20)","v":0.91444939968196337},{"$f":"_xlfn.NORM.INV(RAND(),$AA$4,$J$20)","v":6.002469501429891},3.4584594505559272]
[null,null,null,null,null,null,null,null,null,null,null,null,null,null,null,null,null,null,null,null,null,null,null,null,null,null,null,null,null,"№391",{"$f":"_xlfn.NORM.INV(RAND(),$Z$3,$I$20)","v":4.2841761611646412},{"$f":"_xlfn.NORM.INV(RAND(),$AA$3,$O$20)","v":0.29193202216420777},2.2880540916644243,{"$f":"ROUND(AG783,0)","v":2},{"$f":"ROUND(AG784,0)","v":3},{"$f":"IF(AH783>AI783,1,\"\")","v":""},{"$f":"IF(AH783=AI783,1,\"\")","v":""},{"$f":"IF(AH783<AI783,1,\"\")","v":1},{"$f":"AH783&\"-\"&AI783","v":"2-3"}]
[null,null,null,null,null,null,null,null,null,null,null,null,null,null,null,null,null,null,null,null,null,null,null,null,null,null,null,null,null,null,{"$f":"_xlfn.NORM.INV(RAND(),$Z$4,$N$20)","v":2.3998942756582262},{"$f":"_xlfn.NORM.INV(RAND(),$AA$4,$J$20)","v":3.0212547415435083},2.7105745086008675]
[null,null,null,null,null,null,null,null,null,null,null,null,null,null,null,null,null,null,null,null,null,null,null,null,null,null,null,null,null,"№392",{"$f":"_xlfn.NORM.INV(RAND(),$Z$3,$I$20)","v":3.4480599670452388},{"$f":"_xlfn.NORM.INV(RAND(),$AA$3,$O$20)","v":0.3596897915345324},1.9038748792898856,{"$f":"ROUND(AG785,0)","v":2},{"$f":"ROUND(AG786,0)","v":1},{"$f":"IF(AH785>AI785,1,\"\")","v":1},{"$f":"IF(AH785=AI785,1,\"\")","v":""},{"$f":"IF(AH785<AI785,1,\"\")","v":""},{"$f":"AH785&\"-\"&AI785","v":"2-1"}]
[null,null,null,null,null,null,null,null,null,null,null,null,null,null,null,null,null,null,null,null,null,null,null,null,null,null,null,null,null,null,{"$f":"_xlfn.NORM.INV(RAND(),$Z$4,$N$20)","v":1.1698219210551926},{"$f":"_xlfn.NORM.INV(RAND(),$AA$4,$J$20)","v":1.5020554065139182},1.3359386637845554]
[null,null,null,null,null,null,null,null,null,null,null,null,null,null,null,null,null,null,null,null,null,null,null,null,null,null,null,null,null,"№393",{"$f":"_xlfn.NORM.INV(RAND(),$Z$3,$I$20)","v":5.4292048434073292},{"$f":"_xlfn.NORM.INV(RAND(),$AA$3,$O$20)","v":1.356314563086259},3.392759703246794,{"$f":"ROUND(AG787,0)","v":3},{"$f":"ROUND(AG788,0)","v":3},{"$f":"IF(AH787>AI787,1,\"\")","v":""},{"$f":"IF(AH787=AI787,1,\"\")","v":1},{"$f":"IF(AH787<AI787,1,\"\")","v":""},{"$f":"AH787&\"-\"&AI787","v":"3-3"}]
[null,null,null,null,null,null,null,null,null,null,null,null,null,null,null,null,null,null,null,null,null,null,null,null,null,null,null,null,null,null,{"$f":"_xlfn.NORM.INV(RAND(),$Z$4,$N$20)","v":2.5320956343894707},{"$f":"_xlfn.NORM.INV(RAND(),$AA$4,$J$20)","v":3.4265885979039812},2.9793421161467259]
[null,null,null,null,null,null,null,null,null,null,null,null,null,null,null,null,null,null,null,null,null,null,null,null,null,null,null,null,null,"№394",{"$f":"_xlfn.NORM.INV(RAND(),$Z$3,$I$20)","v":3.5076398658857086},{"$f":"_xlfn.NORM.INV(RAND(),$AA$3,$O$20)","v":8.6341065242852566E-2},1.7969904655642805,{"$f":"ROUND(AG789,0)","v":2},{"$f":"ROUND(AG790,0)","v":2},{"$f":"IF(AH789>AI789,1,\"\")","v":""},{"$f":"IF(AH789=AI789,1,\"\")","v":1},{"$f":"IF(AH789<AI789,1,\"\")","v":""},{"$f":"AH789&\"-\"&AI789","v":"2-2"}]
[null,null,null,null,null,null,null,null,null,null,null,null,null,null,null,null,null,null,null,null,null,null,null,null,null,null,null,null,null,null,{"$f":"_xlfn.NORM.INV(RAND(),$Z$4,$N$20)","v":1.5755612614790757},{"$f":"_xlfn.NORM.INV(RAND(),$AA$4,$J$20)","v":2.5315193175346313},2.0535402895068535]
[null,null,null,null,null,null,null,null,null,null,null,null,null,null,null,null,null,null,null,null,null,null,null,null,null,null,null,null,null,"№395",{"$f":"_xlfn.NORM.INV(RAND(),$Z$3,$I$20)","v":6.1410321111419659},{"$f":"_xlfn.NORM.INV(RAND(),$AA$3,$O$20)","v":-1.2202362635230675},2.4603979238094493,{"$f":"ROUND(AG791,0)","v":2},{"$f":"ROUND(AG792,0)","v":2},{"$f":"IF(AH791>AI791,1,\"\")","v":""},{"$f":"IF(AH791=AI791,1,\"\")","v":1},{"$f":"IF(AH791<AI791,1,\"\")","v":""},{"$f":"AH791&\"-\"&AI791","v":"2-2"}]
[null,null,null,null,null,null,null,null,null,null,null,null,null,null,null,null,null,null,null,null,null,null,null,null,null,null,null,null,null,null,{"$f":"_xlfn.NORM.INV(RAND(),$Z$4,$N$20)","v":2.5448453993940263},{"$f":"_xlfn.NORM.INV(RAND(),$AA$4,$J$20)","v":1.142951161235441},1.8438982803147337]
[null,null,null,null,null,null,null,null,null,null,null,null,null,null,null,null,null,null,null,null,null,null,null,null,null,null,null,null,null,"№396",{"$f":"_xlfn.NORM.INV(RAND(),$Z$3,$I$20)","v":0.78124998907959364},{"$f":"_xlfn.NORM.INV(RAND(),$AA$3,$O$20)","v":1.2465171877178369},1.0138835883987154,{"$f":"ROUND(AG793,0)","v":1},{"$f":"ROUND(AG794,0)","v":1},{"$f":"IF(AH793>AI793,1,\"\")","v":""},{"$f":"IF(AH793=AI793,1,\"\")","v":1},{"$f":"IF(AH793<AI793,1,\"\")","v":""},{"$f":"AH793&\"-\"&AI793","v":"1-1"}]
[null,null,null,null,null,null,null,null,null,null,null,null,null,null,null,null,null,null,null,null,null,null,null,null,null,null,null,null,null,null,{"$f":"_xlfn.NORM.INV(RAND(),$Z$4,$N$20)","v":1.9260188104747762},{"$f":"_xlfn.NORM.INV(RAND(),$AA$4,$J$20)","v":-4.4986521114493749E-2},0.94051614468014122]
[null,null,null,null,null,null,null,null,null,null,null,null,null,null,null,null,null,null,null,null,null,null,null,null,null,null,null,null,null,"№397",{"$f":"_xlfn.NORM.INV(RAND(),$Z$3,$I$20)","v":3.5956259321229926},{"$f":"_xlfn.NORM.INV(RAND(),$AA$3,$O$20)","v":1.8169033027907411},2.706264617456867,{"$f":"ROUND(AG795,0)","v":3},{"$f":"ROUND(AG796,0)","v":2},{"$f":"IF(AH795>AI795,1,\"\")","v":1},{"$f":"IF(AH795=AI795,1,\"\")","v":""},{"$f":"IF(AH795<AI795,1,\"\")","v":""},{"$f":"AH795&\"-\"&AI795","v":"3-2"}]
[null,null,null,null,null,null,null,null,null,null,null,null,null,null,null,null,null,null,null,null,null,null,null,null,null,null,null,null,null,null,{"$f":"_xlfn.NORM.INV(RAND(),$Z$4,$N$20)","v":1.2387589347872794},{"$f":"_xlfn.NORM.INV(RAND(),$AA$4,$J$20)","v":2.5586790458829212},1.8987189903351003]
[null,null,null,null,null,null,null,null,null,null,null,null,null,null,null,null,null,null,null,null,null,null,null,null,null,null,null,null,null,"№398",{"$f":"_xlfn.NORM.INV(RAND(),$Z$3,$I$20)","v":1.9813583054766701},{"$f":"_xlfn.NORM.INV(RAND(),$AA$3,$O$20)","v":0.37381426083752139},1.1775862831570958,{"$f":"ROUND(AG797,0)","v":1},{"$f":"ROUND(AG798,0)","v":2},{"$f":"IF(AH797>AI797,1,\"\")","v":""},{"$f":"IF(AH797=AI797,1,\"\")","v":""},{"$f":"IF(AH797<AI797,1,\"\")","v":1},{"$f":"AH797&\"-\"&AI797","v":"1-2"}]
[null,null,null,null,null,null,null,null,null,null,null,null,null,null,null,null,null,null,null,null,null,null,null,null,null,null,null,null,null,null,{"$f":"_xlfn.NORM.INV(RAND(),$Z$4,$N$20)","v":1.9269038036219697},{"$f":"_xlfn.NORM.INV(RAND(),$AA$4,$J$20)","v":1.9205920071197775},1.9237479053708735]
[null,null,null,null,null,null,null,null,null,null,null,null,null,null,null,null,null,null,null,null,null,null,null,null,null,null,null,null,null,"№399",{"$f":"_xlfn.NORM.INV(RAND(),$Z$3,$I$20)","v":4.3244157057478896},{"$f":"_xlfn.NORM.INV(RAND(),$AA$3,$O$20)","v":1.9826270881967794},3.1535213969723346,{"$f":"ROUND(AG799,0)","v":3},{"$f":"ROUND(AG800,0)","v":2},{"$f":"IF(AH799>AI799,1,\"\")","v":1},{"$f":"IF(AH799=AI799,1,\"\")","v":""},{"$f":"IF(AH799<AI799,1,\"\")","v":""},{"$f":"AH799&\"-\"&AI799","v":"3-2"}]
[null,null,null,null,null,null,null,null,null,null,null,null,null,null,null,null,null,null,null,null,null,null,null,null,null,null,null,null,null,null,{"$f":"_xlfn.NORM.INV(RAND(),$Z$4,$N$20)","v":2.0084546793779579},{"$f":"_xlfn.NORM.INV(RAND(),$AA$4,$J$20)","v":1.1854625486104431},1.5969586139942005]
[null,null,null,null,null,null,null,null,null,null,null,null,null,null,null,null,null,null,null,null,null,null,null,null,null,null,null,null,null,"№400",{"$f":"_xlfn.NORM.INV(RAND(),$Z$3,$I$20)","v":3.3591129089844953},{"$f":"_xlfn.NORM.INV(RAND(),$AA$3,$O$20)","v":1.1671921062785844},2.2631525076315397,{"$f":"ROUND(AG801,0)","v":2},{"$f":"ROUND(AG802,0)","v":2},{"$f":"IF(AH801>AI801,1,\"\")","v":""},{"$f":"IF(AH801=AI801,1,\"\")","v":1},{"$f":"IF(AH801<AI801,1,\"\")","v":""},{"$f":"AH801&\"-\"&AI801","v":"2-2"}]
[null,null,null,null,null,null,null,null,null,null,null,null,null,null,null,null,null,null,null,null,null,null,null,null,null,null,null,null,null,null,{"$f":"_xlfn.NORM.INV(RAND(),$Z$4,$N$20)","v":2.7996233213314272},{"$f":"_xlfn.NORM.INV(RAND(),$AA$4,$J$20)","v":1.5394654958563629},2.1695444085938949]
[null,null,null,null,null,null,null,null,null,null,null,null,null,null,null,null,null,null,null,null,null,null,null,null,null,null,null,null,null,"№401",{"$f":"_xlfn.NORM.INV(RAND(),$Z$3,$I$20)","v":1.0536002519925671},{"$f":"_xlfn.NORM.INV(RAND(),$AA$3,$O$20)","v":1.4384815746616821},1.2460409133271246,{"$f":"ROUND(AG803,0)","v":1},{"$f":"ROUND(AG804,0)","v":2},{"$f":"IF(AH803>AI803,1,\"\")","v":""},{"$f":"IF(AH803=AI803,1,\"\")","v":""},{"$f":"IF(AH803<AI803,1,\"\")","v":1},{"$f":"AH803&\"-\"&AI803","v":"1-2"}]
[null,null,null,null,null,null,null,null,null,null,null,null,null,null,null,null,null,null,null,null,null,null,null,null,null,null,null,null,null,null,{"$f":"_xlfn.NORM.INV(RAND(),$Z$4,$N$20)","v":2.1113927232190761},{"$f":"_xlfn.NORM.INV(RAND(),$AA$4,$J$20)","v":1.959631171778293},2.0355119474986845]
[null,null,null,null,null,null,null,null,null,null,null,null,null,null,null,null,null,null,null,null,null,null,null,null,null,null,null,null,null,"№402",{"$f":"_xlfn.NORM.INV(RAND(),$Z$3,$I$20)","v":0.73971269183516597},{"$f":"_xlfn.NORM.INV(RAND(),$AA$3,$O$20)","v":1.0226356283811446},0.8811741601081553,{"$f":"ROUND(AG805,0)","v":1},{"$f":"ROUND(AG806,0)","v":3},{"$f":"IF(AH805>AI805,1,\"\")","v":""},{"$f":"IF(AH805=AI805,1,\"\")","v":""},{"$f":"IF(AH805<AI805,1,\"\")","v":1},{"$f":"AH805&\"-\"&AI805","v":"1-3"}]
[null,null,null,null,null,null,null,null,null,null,null,null,null,null,null,null,null,null,null,null,null,null,null,null,null,null,null,null,null,null,{"$f":"_xlfn.NORM.INV(RAND(),$Z$4,$N$20)","v":2.8530758905718092},{"$f":"_xlfn.NORM.INV(RAND(),$AA$4,$J$20)","v":2.2800235655146839},2.5665497280432463]
[null,null,null,null,null,null,null,null,null,null,null,null,null,null,null,null,null,null,null,null,null,null,null,null,null,null,null,null,null,"№403",{"$f":"_xlfn.NORM.INV(RAND(),$Z$3,$I$20)","v":4.1424907936475268},{"$f":"_xlfn.NORM.INV(RAND(),$AA$3,$O$20)","v":2.7053765473734059E-2},2.0847722795606303,{"$f":"ROUND(AG807,0)","v":2},{"$f":"ROUND(AG808,0)","v":1},{"$f":"IF(AH807>AI807,1,\"\")","v":1},{"$f":"IF(AH807=AI807,1,\"\")","v":""},{"$f":"IF(AH807<AI807,1,\"\")","v":""},{"$f":"AH807&\"-\"&AI807","v":"2-1"}]
[null,null,null,null,null,null,null,null,null,null,null,null,null,null,null,null,null,null,null,null,null,null,null,null,null,null,null,null,null,null,{"$f":"_xlfn.NORM.INV(RAND(),$Z$4,$N$20)","v":1.6133316463591252},{"$f":"_xlfn.NORM.INV(RAND(),$AA$4,$J$20)","v":1.3318045549748141},1.4725681006669697]
[null,null,null,null,null,null,null,null,null,null,null,null,null,null,null,null,null,null,null,null,null,null,null,null,null,null,null,null,null,"№404",{"$f":"_xlfn.NORM.INV(RAND(),$Z$3,$I$20)","v":4.936110999591822},{"$f":"_xlfn.NORM.INV(RAND(),$AA$3,$O$20)","v":0.78503366757357895},2.8605723335827005,{"$f":"ROUND(AG809,0)","v":3},{"$f":"ROUND(AG810,0)","v":2},{"$f":"IF(AH809>AI809,1,\"\")","v":1},{"$f":"IF(AH809=AI809,1,\"\")","v":""},{"$f":"IF(AH809<AI809,1,\"\")","v":""},{"$f":"AH809&\"-\"&AI809","v":"3-2"}]
[null,null,null,null,null,null,null,null,null,null,null,null,null,null,null,null,null,null,null,null,null,null,null,null,null,null,null,null,null,null,{"$f":"_xlfn.NORM.INV(RAND(),$Z$4,$N$20)","v":3.0448807149545112},{"$f":"_xlfn.NORM.INV(RAND(),$AA$4,$J$20)","v":0.3592864320814757},1.7020835735179936]
[null,null,null,null,null,null,null,null,null,null,null,null,null,null,null,null,null,null,null,null,null,null,null,null,null,null,null,null,null,"№405",{"$f":"_xlfn.NORM.INV(RAND(),$Z$3,$I$20)","v":5.1706378916452653},{"$f":"_xlfn.NORM.INV(RAND(),$AA$3,$O$20)","v":1.3763206074467909},3.2734792495460283,{"$f":"ROUND(AG811,0)","v":3},{"$f":"ROUND(AG812,0)","v":0},{"$f":"IF(AH811>AI811,1,\"\")","v":1},{"$f":"IF(AH811=AI811,1,\"\")","v":""},{"$f":"IF(AH811<AI811,1,\"\")","v":""},{"$f":"AH811&\"-\"&AI811","v":"3-0"}]
[null,null,null,null,null,null,null,null,null,null,null,null,null,null,null,null,null,null,null,null,null,null,null,null,null,null,null,null,null,null,{"$f":"_xlfn.NORM.INV(RAND(),$Z$4,$N$20)","v":0.88469440726343573},{"$f":"_xlfn.NORM.INV(RAND(),$AA$4,$J$20)","v":-0.13122054329114619},0.37673693198614477]
[null,null,null,null,null,null,null,null,null,null,null,null,null,null,null,null,null,null,null,null,null,null,null,null,null,null,null,null,null,"№406",{"$f":"_xlfn.NORM.INV(RAND(),$Z$3,$I$20)","v":2.1689925763987663},{"$f":"_xlfn.NORM.INV(RAND(),$AA$3,$O$20)","v":1.7446044033529233},1.9567984898758448,{"$f":"ROUND(AG813,0)","v":2},{"$f":"ROUND(AG814,0)","v":2},{"$f":"IF(AH813>AI813,1,\"\")","v":""},{"$f":"IF(AH813=AI813,1,\"\")","v":1},{"$f":"IF(AH813<AI813,1,\"\")","v":""},{"$f":"AH813&\"-\"&AI813","v":"2-2"}]
[null,null,null,null,null,null,null,null,null,null,null,null,null,null,null,null,null,null,null,null,null,null,null,null,null,null,null,null,null,null,{"$f":"_xlfn.NORM.INV(RAND(),$Z$4,$N$20)","v":1.9450750835723776},{"$f":"_xlfn.NORM.INV(RAND(),$AA$4,$J$20)","v":2.9633759373416377},2.4542255104570074]
[null,null,null,null,null,null,null,null,null,null,null,null,null,null,null,null,null,null,null,null,null,null,null,null,null,null,null,null,null,"№407",{"$f":"_xlfn.NORM.INV(RAND(),$Z$3,$I$20)","v":3.0971047267593206},{"$f":"_xlfn.NORM.INV(RAND(),$AA$3,$O$20)","v":0.53176961674322565},1.8144371717512731,{"$f":"ROUND(AG815,0)","v":2},{"$f":"ROUND(AG816,0)","v":0},{"$f":"IF(AH815>AI815,1,\"\")","v":1},{"$f":"IF(AH815=AI815,1,\"\")","v":""},{"$f":"IF(AH815<AI815,1,\"\")","v":""},{"$f":"AH815&\"-\"&AI815","v":"2-0"}]
[null,null,null,null,null,null,null,null,null,null,null,null,null,null,null,null,null,null,null,null,null,null,null,null,null,null,null,null,null,null,{"$f":"_xlfn.NORM.INV(RAND(),$Z$4,$N$20)","v":1.1132841279548795},{"$f":"_xlfn.NORM.INV(RAND(),$AA$4,$J$20)","v":-1.5455863601170772},-0.21615111608109883]
[null,null,null,null,null,null,null,null,null,null,null,null,null,null,null,null,null,null,null,null,null,null,null,null,null,null,null,null,null,"№408",{"$f":"_xlfn.NORM.INV(RAND(),$Z$3,$I$20)","v":3.8772294306732316},{"$f":"_xlfn.NORM.INV(RAND(),$AA$3,$O$20)","v":0.32253215427166387},2.0998807924724479,{"$f":"ROUND(AG817,0)","v":2},{"$f":"ROUND(AG818,0)","v":1},{"$f":"IF(AH817>AI817,1,\"\")","v":1},{"$f":"IF(AH817=AI817,1,\"\")","v":""},{"$f":"IF(AH817<AI817,1,\"\")","v":""},{"$f":"AH817&\"-\"&AI817","v":"2-1"}]
[null,null,null,null,null,null,null,null,null,null,null,null,null,null,null,null,null,null,null,null,null,null,null,null,null,null,null,null,null,null,{"$f":"_xlfn.NORM.INV(RAND(),$Z$4,$N$20)","v":2.0338443337992929},{"$f":"_xlfn.NORM.INV(RAND(),$AA$4,$J$20)","v":-0.29785174465137421},0.86799629457395933]
[null,null,null,null,null,null,null,null,null,null,null,null,null,null,null,null,null,null,null,null,null,null,null,null,null,null,null,null,null,"№409",{"$f":"_xlfn.NORM.INV(RAND(),$Z$3,$I$20)","v":1.6148805148407446},{"$f":"_xlfn.NORM.INV(RAND(),$AA$3,$O$20)","v":0.59960071207630827},1.1072406134585264,{"$f":"ROUND(AG819,0)","v":1},{"$f":"ROUND(AG820,0)","v":2},{"$f":"IF(AH819>AI819,1,\"\")","v":""},{"$f":"IF(AH819=AI819,1,\"\")","v":""},{"$f":"IF(AH819<AI819,1,\"\")","v":1},{"$f":"AH819&\"-\"&AI819","v":"1-2"}]
[null,null,null,null,null,null,null,null,null,null,null,null,null,null,null,null,null,null,null,null,null,null,null,null,null,null,null,null,null,null,{"$f":"_xlfn.NORM.INV(RAND(),$Z$4,$N$20)","v":1.7495868558916761},{"$f":"_xlfn.NORM.INV(RAND(),$AA$4,$J$20)","v":2.679978469759436},2.2147826628255558]
[null,null,null,null,null,null,null,null,null,null,null,null,null,null,null,null,null,null,null,null,null,null,null,null,null,null,null,null,null,"№410",{"$f":"_xlfn.NORM.INV(RAND(),$Z$3,$I$20)","v":4.6225560296645547},{"$f":"_xlfn.NORM.INV(RAND(),$AA$3,$O$20)","v":0.68690427048942393},2.6547301500769893,{"$f":"ROUND(AG821,0)","v":3},{"$f":"ROUND(AG822,0)","v":2},{"$f":"IF(AH821>AI821,1,\"\")","v":1},{"$f":"IF(AH821=AI821,1,\"\")","v":""},{"$f":"IF(AH821<AI821,1,\"\")","v":""},{"$f":"AH821&\"-\"&AI821","v":"3-2"}]
[null,null,null,null,null,null,null,null,null,null,null,null,null,null,null,null,null,null,null,null,null,null,null,null,null,null,null,null,null,null,{"$f":"_xlfn.NORM.INV(RAND(),$Z$4,$N$20)","v":1.7786297169491943},{"$f":"_xlfn.NORM.INV(RAND(),$AA$4,$J$20)","v":2.2887290404123393},2.033679378680767]
[null,null,null,null,null,null,null,null,null,null,null,null,null,null,null,null,null,null,null,null,null,null,null,null,null,null,null,null,null,"№411",{"$f":"_xlfn.NORM.INV(RAND(),$Z$3,$I$20)","v":4.7678553196013755},{"$f":"_xlfn.NORM.INV(RAND(),$AA$3,$O$20)","v":1.1105815975787627},2.9392184585900694,{"$f":"ROUND(AG823,0)","v":3},{"$f":"ROUND(AG824,0)","v":1},{"$f":"IF(AH823>AI823,1,\"\")","v":1},{"$f":"IF(AH823=AI823,1,\"\")","v":""},{"$f":"IF(AH823<AI823,1,\"\")","v":""},{"$f":"AH823&\"-\"&AI823","v":"3-1"}]
[null,null,null,null,null,null,null,null,null,null,null,null,null,null,null,null,null,null,null,null,null,null,null,null,null,null,null,null,null,null,{"$f":"_xlfn.NORM.INV(RAND(),$Z$4,$N$20)","v":2.511320053872006},{"$f":"_xlfn.NORM.INV(RAND(),$AA$4,$J$20)","v":-0.15603180813990458},1.1776441228660506]
[null,null,null,null,null,null,null,null,null,null,null,null,null,null,null,null,null,null,null,null,null,null,null,null,null,null,null,null,null,"№412",{"$f":"_xlfn.NORM.INV(RAND(),$Z$3,$I$20)","v":3.2243498785166254},{"$f":"_xlfn.NORM.INV(RAND(),$AA$3,$O$20)","v":1.3129899434729948},2.2686699109948103,{"$f":"ROUND(AG825,0)","v":2},{"$f":"ROUND(AG826,0)","v":3},{"$f":"IF(AH825>AI825,1,\"\")","v":""},{"$f":"IF(AH825=AI825,1,\"\")","v":""},{"$f":"IF(AH825<AI825,1,\"\")","v":1},{"$f":"AH825&\"-\"&AI825","v":"2-3"}]
[null,null,null,null,null,null,null,null,null,null,null,null,null,null,null,null,null,null,null,null,null,null,null,null,null,null,null,null,null,null,{"$f":"_xlfn.NORM.INV(RAND(),$Z$4,$N$20)","v":3.1057437817092231},{"$f":"_xlfn.NORM.INV(RAND(),$AA$4,$J$20)","v":2.453533979514043},2.7796388806116328]
[null,null,null,null,null,null,null,null,null,null,null,null,null,null,null,null,null,null,null,null,null,null,null,null,null,null,null,null,null,"№413",{"$f":"_xlfn.NORM.INV(RAND(),$Z$3,$I$20)","v":2.3701978038169984},{"$f":"_xlfn.NORM.INV(RAND(),$AA$3,$O$20)","v":0.40308788889802932},1.3866428463575138,{"$f":"ROUND(AG827,0)","v":1},{"$f":"ROUND(AG828,0)","v":2},{"$f":"IF(AH827>AI827,1,\"\")","v":""},{"$f":"IF(AH827=AI827,1,\"\")","v":""},{"$f":"IF(AH827<AI827,1,\"\")","v":1},{"$f":"AH827&\"-\"&AI827","v":"1-2"}]
[null,null,null,null,null,null,null,null,null,null,null,null,null,null,null,null,null,null,null,null,null,null,null,null,null,null,null,null,null,null,{"$f":"_xlfn.NORM.INV(RAND(),$Z$4,$N$20)","v":0.34614914271590425},{"$f":"_xlfn.NORM.INV(RAND(),$AA$4,$J$20)","v":3.2664828897025981},1.8063160162092511]
[null,null,null,null,null,null,null,null,null,null,null,null,null,null,null,null,null,null,null,null,null,null,null,null,null,null,null,null,null,"№414",{"$f":"_xlfn.NORM.INV(RAND(),$Z$3,$I$20)","v":4.3160833630312467},{"$f":"_xlfn.NORM.INV(RAND(),$AA$3,$O$20)","v":1.4656991028587329},2.8908912329449898,{"$f":"ROUND(AG829,0)","v":3},{"$f":"ROUND(AG830,0)","v":2},{"$f":"IF(AH829>AI829,1,\"\")","v":1},{"$f":"IF(AH829=AI829,1,\"\")","v":""},{"$f":"IF(AH829<AI829,1,\"\")","v":""},{"$f":"AH829&\"-\"&AI829","v":"3-2"}]
[null,null,null,null,null,null,null,null,null,null,null,null,null,null,null,null,null,null,null,null,null,null,null,null,null,null,null,null,null,null,{"$f":"_xlfn.NORM.INV(RAND(),$Z$4,$N$20)","v":2.8949779687290653},{"$f":"_xlfn.NORM.INV(RAND(),$AA$4,$J$20)","v":1.3657185200378867},2.1303482443834758]
[null,null,null,null,null,null,null,null,null,null,null,null,null,null,null,null,null,null,null,null,null,null,null,null,null,null,null,null,null,"№415",{"$f":"_xlfn.NORM.INV(RAND(),$Z$3,$I$20)","v":0.40514975177777712},{"$f":"_xlfn.NORM.INV(RAND(),$AA$3,$O$20)","v":0.52610477538422518},0.46562726358100115,{"$f":"ROUND(AG831,0)","v":0},{"$f":"ROUND(AG832,0)","v":3},{"$f":"IF(AH831>AI831,1,\"\")","v":""},{"$f":"IF(AH831=AI831,1,\"\")","v":""},{"$f":"IF(AH831<AI831,1,\"\")","v":1},{"$f":"AH831&\"-\"&AI831","v":"0-3"}]
[null,null,null,null,null,null,null,null,null,null,null,null,null,null,null,null,null,null,null,null,null,null,null,null,null,null,null,null,null,null,{"$f":"_xlfn.NORM.INV(RAND(),$Z$4,$N$20)","v":3.0300709466075362},{"$f":"_xlfn.NORM.INV(RAND(),$AA$4,$J$20)","v":2.4841137898514929},2.7570923682295145]
[null,null,null,null,null,null,null,null,null,null,null,null,null,null,null,null,null,null,null,null,null,null,null,null,null,null,null,null,null,"№416",{"$f":"_xlfn.NORM.INV(RAND(),$Z$3,$I$20)","v":4.7398204253118879},{"$f":"_xlfn.NORM.INV(RAND(),$AA$3,$O$20)","v":6.7947278840883474E-2},2.4038838520763859,{"$f":"ROUND(AG833,0)","v":2},{"$f":"ROUND(AG834,0)","v":0},{"$f":"IF(AH833>AI833,1,\"\")","v":1},{"$f":"IF(AH833=AI833,1,\"\")","v":""},{"$f":"IF(AH833<AI833,1,\"\")","v":""},{"$f":"AH833&\"-\"&AI833","v":"2-0"}]
[null,null,null,null,null,null,null,null,null,null,null,null,null,null,null,null,null,null,null,null,null,null,null,null,null,null,null,null,null,null,{"$f":"_xlfn.NORM.INV(RAND(),$Z$4,$N$20)","v":1.6016787969529653},{"$f":"_xlfn.NORM.INV(RAND(),$AA$4,$J$20)","v":-0.89001028541947136},0.35583425576674699]
[null,null,null,null,null,null,null,null,null,null,null,null,null,null,null,null,null,null,null,null,null,null,null,null,null,null,null,null,null,"№417",{"$f":"_xlfn.NORM.INV(RAND(),$Z$3,$I$20)","v":2.4870278108272275},{"$f":"_xlfn.NORM.INV(RAND(),$AA$3,$O$20)","v":-1.1748963628652289},0.65606572398099927,{"$f":"ROUND(AG835,0)","v":1},{"$f":"ROUND(AG836,0)","v":3},{"$f":"IF(AH835>AI835,1,\"\")","v":""},{"$f":"IF(AH835=AI835,1,\"\")","v":""},{"$f":"IF(AH835<AI835,1,\"\")","v":1},{"$f":"AH835&\"-\"&AI835","v":"1-3"}]
[null,null,null,null,null,null,null,null,null,null,null,null,null,null,null,null,null,null,null,null,null,null,null,null,null,null,null,null,null,null,{"$f":"_xlfn.NORM.INV(RAND(),$Z$4,$N$20)","v":2.7752275109653239},{"$f":"_xlfn.NORM.INV(RAND(),$AA$4,$J$20)","v":3.810279351544946},3.292753431255135]
[null,null,null,null,null,null,null,null,null,null,null,null,null,null,null,null,null,null,null,null,null,null,null,null,null,null,null,null,null,"№418",{"$f":"_xlfn.NORM.INV(RAND(),$Z$3,$I$20)","v":0.94407788678007609},{"$f":"_xlfn.NORM.INV(RAND(),$AA$3,$O$20)","v":2.5427594961854334},{"$f":"(AE837+AF837)/2","v":1.7434186914827547},{"$f":"ROUND(AG837,0)","v":2},{"$f":"ROUND(AG838,0)","v":3},{"$f":"IF(AH837>AI837,1,\"\")","v":""},{"$f":"IF(AH837=AI837,1,\"\")","v":""},{"$f":"IF(AH837<AI837,1,\"\")","v":1},{"$f":"AH837&\"-\"&AI837","v":"2-3"}]
[null,null,null,null,null,null,null,null,null,null,null,null,null,null,null,null,null,null,null,null,null,null,null,null,null,null,null,null,null,null,{"$f":"_xlfn.NORM.INV(RAND(),$Z$4,$N$20)","v":1.1159063304298844},{"$f":"_xlfn.NORM.INV(RAND(),$AA$4,$J$20)","v":4.05991438393227},2.5879103571810771]
[null,null,null,null,null,null,null,null,null,null,null,null,null,null,null,null,null,null,null,null,null,null,null,null,null,null,null,null,null,"№419",{"$f":"_xlfn.NORM.INV(RAND(),$Z$3,$I$20)","v":1.1014610674222514},{"$f":"_xlfn.NORM.INV(RAND(),$AA$3,$O$20)","v":1.1868476641497923},1.1441543657860218,{"$f":"ROUND(AG839,0)","v":1},{"$f":"ROUND(AG840,0)","v":1},{"$f":"IF(AH839>AI839,1,\"\")","v":""},{"$f":"IF(AH839=AI839,1,\"\")","v":1},{"$f":"IF(AH839<AI839,1,\"\")","v":""},{"$f":"AH839&\"-\"&AI839","v":"1-1"}]
[null,null,null,null,null,null,null,null,null,null,null,null,null,null,null,null,null,null,null,null,null,null,null,null,null,null,null,null,null,null,{"$f":"_xlfn.NORM.INV(RAND(),$Z$4,$N$20)","v":2.8402600049395303},{"$f":"_xlfn.NORM.INV(RAND(),$AA$4,$J$20)","v":-8.4408456411155797E-3},1.4159095796492074]
[null,null,null,null,null,null,null,null,null,null,null,null,null,null,null,null,null,null,null,null,null,null,null,null,null,null,null,null,null,"№420",{"$f":"_xlfn.NORM.INV(RAND(),$Z$3,$I$20)","v":3.5918888903178021},{"$f":"_xlfn.NORM.INV(RAND(),$AA$3,$O$20)","v":0.15224157286656104},1.8720652315921815,{"$f":"ROUND(AG841,0)","v":2},{"$f":"ROUND(AG842,0)","v":1},{"$f":"IF(AH841>AI841,1,\"\")","v":1},{"$f":"IF(AH841=AI841,1,\"\")","v":""},{"$f":"IF(AH841<AI841,1,\"\")","v":""},{"$f":"AH841&\"-\"&AI841","v":"2-1"}]
[null,null,null,null,null,null,null,null,null,null,null,null,null,null,null,null,null,null,null,null,null,null,null,null,null,null,null,null,null,null,{"$f":"_xlfn.NORM.INV(RAND(),$Z$4,$N$20)","v":2.2708431842716186},{"$f":"_xlfn.NORM.INV(RAND(),$AA$4,$J$20)","v":-0.35815730226354336},0.95634294100403761]
[null,null,null,null,null,null,null,null,null,null,null,null,null,null,null,null,null,null,null,null,null,null,null,null,null,null,null,null,null,"№421",{"$f":"_xlfn.NORM.INV(RAND(),$Z$3,$I$20)","v":4.5586170725304642},{"$f":"_xlfn.NORM.INV(RAND(),$AA$3,$O$20)","v":1.5431459491527615},3.050881510841613,{"$f":"ROUND(AG843,0)","v":3},{"$f":"ROUND(AG844,0)","v":1},{"$f":"IF(AH843>AI843,1,\"\")","v":1},{"$f":"IF(AH843=AI843,1,\"\")","v":""},{"$f":"IF(AH843<AI843,1,\"\")","v":""},{"$f":"AH843&\"-\"&AI843","v":"3-1"}]
[null,null,null,null,null,null,null,null,null,null,null,null,null,null,null,null,null,null,null,null,null,null,null,null,null,null,null,null,null,null,{"$f":"_xlfn.NORM.INV(RAND(),$Z$4,$N$20)","v":1.700285505868586},{"$f":"_xlfn.NORM.INV(RAND(),$AA$4,$J$20)","v":4.2115643378448642E-3},0.85224853510321541]
[null,null,null,null,null,null,null,null,null,null,null,null,null,null,null,null,null,null,null,null,null,null,null,null,null,null,null,null,null,"№422",{"$f":"_xlfn.NORM.INV(RAND(),$Z$3,$I$20)","v":3.1620599920901737},{"$f":"_xlfn.NORM.INV(RAND(),$AA$3,$O$20)","v":2.1623522702537139},2.6622061311719438,{"$f":"ROUND(AG845,0)","v":3},{"$f":"ROUND(AG846,0)","v":1},{"$f":"IF(AH845>AI845,1,\"\")","v":1},{"$f":"IF(AH845=AI845,1,\"\")","v":""},{"$f":"IF(AH845<AI845,1,\"\")","v":""},{"$f":"AH845&\"-\"&AI845","v":"3-1"}]
[null,null,null,null,null,null,null,null,null,null,null,null,null,null,null,null,null,null,null,null,null,null,null,null,null,null,null,null,null,null,{"$f":"_xlfn.NORM.INV(RAND(),$Z$4,$N$20)","v":1.7596948989870631},{"$f":"_xlfn.NORM.INV(RAND(),$AA$4,$J$20)","v":0.96522332847158987},1.3624591137293265]
[null,null,null,null,null,null,null,null,null,null,null,null,null,null,null,null,null,null,null,null,null,null,null,null,null,null,null,null,null,"№423",{"$f":"_xlfn.NORM.INV(RAND(),$Z$3,$I$20)","v":5.7755428205511006},{"$f":"_xlfn.NORM.INV(RAND(),$AA$3,$O$20)","v":-0.3967801690732522},2.6893813257389243,{"$f":"ROUND(AG847,0)","v":3},{"$f":"ROUND(AG848,0)","v":2},{"$f":"IF(AH847>AI847,1,\"\")","v":1},{"$f":"IF(AH847=AI847,1,\"\")","v":""},{"$f":"IF(AH847<AI847,1,\"\")","v":""},{"$f":"AH847&\"-\"&AI847","v":"3-2"}]
[null,null,null,null,null,null,null,null,null,null,null,null,null,null,null,null,null,null,null,null,null,null,null,null,null,null,null,null,null,null,{"$f":"_xlfn.NORM.INV(RAND(),$Z$4,$N$20)","v":2.4917621203411571},{"$f":"_xlfn.NORM.INV(RAND(),$AA$4,$J$20)","v":2.0766878247463403},2.2842249725437487]
[null,null,null,null,null,null,null,null,null,null,null,null,null,null,null,null,null,null,null,null,null,null,null,null,null,null,null,null,null,"№424",{"$f":"_xlfn.NORM.INV(RAND(),$Z$3,$I$20)","v":3.9555576567962083},{"$f":"_xlfn.NORM.INV(RAND(),$AA$3,$O$20)","v":-1.2239570744506383},1.3658002911727851,{"$f":"ROUND(AG849,0)","v":1},{"$f":"ROUND(AG850,0)","v":2},{"$f":"IF(AH849>AI849,1,\"\")","v":""},{"$f":"IF(AH849=AI849,1,\"\")","v":""},{"$f":"IF(AH849<AI849,1,\"\")","v":1},{"$f":"AH849&\"-\"&AI849","v":"1-2"}]
[null,null,null,null,null,null,null,null,null,null,null,null,null,null,null,null,null,null,null,null,null,null,null,null,null,null,null,null,null,null,{"$f":"_xlfn.NORM.INV(RAND(),$Z$4,$N$20)","v":1.7329044547863544},{"$f":"_xlfn.NORM.INV(RAND(),$AA$4,$J$20)","v":1.4863549673745036},1.609629711080429]
[null,null,null,null,null,null,null,null,null,null,null,null,null,null,null,null,null,null,null,null,null,null,null,null,null,null,null,null,null,"№425",{"$f":"_xlfn.NORM.INV(RAND(),$Z$3,$I$20)","v":2.6037794046866383},{"$f":"_xlfn.NORM.INV(RAND(),$AA$3,$O$20)","v":-3.2028004332880888E-2},1.2858757001768786,{"$f":"ROUND(AG851,0)","v":1},{"$f":"ROUND(AG852,0)","v":1},{"$f":"IF(AH851>AI851,1,\"\")","v":""},{"$f":"IF(AH851=AI851,1,\"\")","v":1},{"$f":"IF(AH851<AI851,1,\"\")","v":""},{"$f":"AH851&\"-\"&AI851","v":"1-1"}]
[null,null,null,null,null,null,null,null,null,null,null,null,null,null,null,null,null,null,null,null,null,null,null,null,null,null,null,null,null,null,{"$f":"_xlfn.NORM.INV(RAND(),$Z$4,$N$20)","v":1.3790795434690346},{"$f":"_xlfn.NORM.INV(RAND(),$AA$4,$J$20)","v":-0.1989150783230853},0.59008223257297465]
[null,null,null,null,null,null,null,null,null,null,null,null,null,null,null,null,null,null,null,null,null,null,null,null,null,null,null,null,null,"№426",{"$f":"_xlfn.NORM.INV(RAND(),$Z$3,$I$20)","v":2.9685125269518142},{"$f":"_xlfn.NORM.INV(RAND(),$AA$3,$O$20)","v":0.61411269303265659},1.7913126099922354,{"$f":"ROUND(AG853,0)","v":2},{"$f":"ROUND(AG854,0)","v":2},{"$f":"IF(AH853>AI853,1,\"\")","v":""},{"$f":"IF(AH853=AI853,1,\"\")","v":1},{"$f":"IF(AH853<AI853,1,\"\")","v":""},{"$f":"AH853&\"-\"&AI853","v":"2-2"}]
[null,null,null,null,null,null,null,null,null,null,null,null,null,null,null,null,null,null,null,null,null,null,null,null,null,null,null,null,null,null,{"$f":"_xlfn.NORM.INV(RAND(),$Z$4,$N$20)","v":0.93941624462785112},{"$f":"_xlfn.NORM.INV(RAND(),$AA$4,$J$20)","v":2.7937386019498849},1.8665774232888679]
[null,null,null,null,null,null,null,null,null,null,null,null,null,null,null,null,null,null,null,null,null,null,null,null,null,null,null,null,null,"№427",{"$f":"_xlfn.NORM.INV(RAND(),$Z$3,$I$20)","v":5.6635773155047691},{"$f":"_xlfn.NORM.INV(RAND(),$AA$3,$O$20)","v":0.82753582595694219},3.2455565707308556,{"$f":"ROUND(AG855,0)","v":3},{"$f":"ROUND(AG856,0)","v":1},{"$f":"IF(AH855>AI855,1,\"\")","v":1},{"$f":"IF(AH855=AI855,1,\"\")","v":""},{"$f":"IF(AH855<AI855,1,\"\")","v":""},{"$f":"AH855&\"-\"&AI855","v":"3-1"}]
[null,null,null,null,null,null,null,null,null,null,null,null,null,null,null,null,null,null,null,null,null,null,null,null,null,null,null,null,null,null,{"$f":"_xlfn.NORM.INV(RAND(),$Z$4,$N$20)","v":1.6326961610246187},{"$f":"_xlfn.NORM.INV(RAND(),$AA$4,$J$20)","v":0.42918691710820212},1.0309415390664105]
[null,null,null,null,null,null,null,null,null,null,null,null,null,null,null,null,null,null,null,null,null,null,null,null,null,null,null,null,null,"№428",{"$f":"_xlfn.NORM.INV(RAND(),$Z$3,$I$20)","v":4.9073472392874189},{"$f":"_xlfn.NORM.INV(RAND(),$AA$3,$O$20)","v":2.54041497534954},3.7238811073184794,{"$f":"ROUND(AG857,0)","v":4},{"$f":"ROUND(AG858,0)","v":2},{"$f":"IF(AH857>AI857,1,\"\")","v":1},{"$f":"IF(AH857=AI857,1,\"\")","v":""},{"$f":"IF(AH857<AI857,1,\"\")","v":""},{"$f":"AH857&\"-\"&AI857","v":"4-2"}]
[null,null,null,null,null,null,null,null,null,null,null,null,null,null,null,null,null,null,null,null,null,null,null,null,null,null,null,null,null,null,{"$f":"_xlfn.NORM.INV(RAND(),$Z$4,$N$20)","v":2.3643864005498632},{"$f":"_xlfn.NORM.INV(RAND(),$AA$4,$J$20)","v":1.1529946216034592},1.7586905110766611]
[null,null,null,null,null,null,null,null,null,null,null,null,null,null,null,null,null,null,null,null,null,null,null,null,null,null,null,null,null,"№429",{"$f":"_xlfn.NORM.INV(RAND(),$Z$3,$I$20)","v":6.389179592524215},{"$f":"_xlfn.NORM.INV(RAND(),$AA$3,$O$20)","v":-0.72313475120153226},2.8330224206613415,{"$f":"ROUND(AG859,0)","v":3},{"$f":"ROUND(AG860,0)","v":1},{"$f":"IF(AH859>AI859,1,\"\")","v":1},{"$f":"IF(AH859=AI859,1,\"\")","v":""},{"$f":"IF(AH859<AI859,1,\"\")","v":""},{"$f":"AH859&\"-\"&AI859","v":"3-1"}]
[null,null,null,null,null,null,null,null,null,null,null,null,null,null,null,null,null,null,null,null,null,null,null,null,null,null,null,null,null,null,{"$f":"_xlfn.NORM.INV(RAND(),$Z$4,$N$20)","v":3.3497029268561809},{"$f":"_xlfn.NORM.INV(RAND(),$AA$4,$J$20)","v":-0.68557692610060261},1.3320630003777891]
[null,null,null,null,null,null,null,null,null,null,null,null,null,null,null,null,null,null,null,null,null,null,null,null,null,null,null,null,null,"№430",{"$f":"_xlfn.NORM.INV(RAND(),$Z$3,$I$20)","v":2.5072270672634591},{"$f":"_xlfn.NORM.INV(RAND(),$AA$3,$O$20)","v":0.60180345666876578},1.5545152619661124,{"$f":"ROUND(AG861,0)","v":2},{"$f":"ROUND(AG862,0)","v":1},{"$f":"IF(AH861>AI861,1,\"\")","v":1},{"$f":"IF(AH861=AI861,1,\"\")","v":""},{"$f":"IF(AH861<AI861,1,\"\")","v":""},{"$f":"AH861&\"-\"&AI861","v":"2-1"}]
[null,null,null,null,null,null,null,null,null,null,null,null,null,null,null,null,null,null,null,null,null,null,null,null,null,null,null,null,null,null,{"$f":"_xlfn.NORM.INV(RAND(),$Z$4,$N$20)","v":2.051607905639218},{"$f":"_xlfn.NORM.INV(RAND(),$AA$4,$J$20)","v":0.1733894259368487},1.1124986657880334]
[null,null,null,null,null,null,null,null,null,null,null,null,null,null,null,null,null,null,null,null,null,null,null,null,null,null,null,null,null,"№431",{"$f":"_xlfn.NORM.INV(RAND(),$Z$3,$I$20)","v":0.46266094652327272},{"$f":"_xlfn.NORM.INV(RAND(),$AA$3,$O$20)","v":0.98734941064217085},0.72500517858272184,{"$f":"ROUND(AG863,0)","v":1},{"$f":"ROUND(AG864,0)","v":0},{"$f":"IF(AH863>AI863,1,\"\")","v":1},{"$f":"IF(AH863=AI863,1,\"\")","v":""},{"$f":"IF(AH863<AI863,1,\"\")","v":""},{"$f":"AH863&\"-\"&AI863","v":"1-0"}]
[null,null,null,null,null,null,null,null,null,null,null,null,null,null,null,null,null,null,null,null,null,null,null,null,null,null,null,null,null,null,{"$f":"_xlfn.NORM.INV(RAND(),$Z$4,$N$20)","v":0.96619977709762517},{"$f":"_xlfn.NORM.INV(RAND(),$AA$4,$J$20)","v":-0.29829685217473734},0.33395146246144392]
[null,null,null,null,null,null,null,null,null,null,null,null,null,null,null,null,null,null,null,null,null,null,null,null,null,null,null,null,null,"№432",{"$f":"_xlfn.NORM.INV(RAND(),$Z$3,$I$20)","v":2.1496168802893543},{"$f":"_xlfn.NORM.INV(RAND(),$AA$3,$O$20)","v":1.3634404243900526},1.7565286523397035,{"$f":"ROUND(AG865,0)","v":2},{"$f":"ROUND(AG866,0)","v":3},{"$f":"IF(AH865>AI865,1,\"\")","v":""},{"$f":"IF(AH865=AI865,1,\"\")","v":""},{"$f":"IF(AH865<AI865,1,\"\")","v":1},{"$f":"AH865&\"-\"&AI865","v":"2-3"}]
[null,null,null,null,null,null,null,null,null,null,null,null,null,null,null,null,null,null,null,null,null,null,null,null,null,null,null,null,null,null,{"$f":"_xlfn.NORM.INV(RAND(),$Z$4,$N$20)","v":3.2022729058064527},{"$f":"_xlfn.NORM.INV(RAND(),$AA$4,$J$20)","v":2.1978850111497916},2.7000789584781222]
[null,null,null,null,null,null,null,null,null,null,null,null,null,null,null,null,null,null,null,null,null,null,null,null,null,null,null,null,null,"№433",{"$f":"_xlfn.NORM.INV(RAND(),$Z$3,$I$20)","v":1.3059041636500024},{"$f":"_xlfn.NORM.INV(RAND(),$AA$3,$O$20)","v":1.6851909570113213},1.4955475603306618,{"$f":"ROUND(AG867,0)","v":1},{"$f":"ROUND(AG868,0)","v":2},{"$f":"IF(AH867>AI867,1,\"\")","v":""},{"$f":"IF(AH867=AI867,1,\"\")","v":""},{"$f":"IF(AH867<AI867,1,\"\")","v":1},{"$f":"AH867&\"-\"&AI867","v":"1-2"}]
[null,null,null,null,null,null,null,null,null,null,null,null,null,null,null,null,null,null,null,null,null,null,null,null,null,null,null,null,null,null,{"$f":"_xlfn.NORM.INV(RAND(),$Z$4,$N$20)","v":2.790544199901718},{"$f":"_xlfn.NORM.INV(RAND(),$AA$4,$J$20)","v":1.5579640386847613},2.1742541192932396]
[null,null,null,null,null,null,null,null,null,null,null,null,null,null,null,null,null,null,null,null,null,null,null,null,null,null,null,null,null,"№434",{"$f":"_xlfn.NORM.INV(RAND(),$Z$3,$I$20)","v":3.8891149844889892},{"$f":"_xlfn.NORM.INV(RAND(),$AA$3,$O$20)","v":0.1755437758078634},2.0323293801484263,{"$f":"ROUND(AG869,0)","v":2},{"$f":"ROUND(AG870,0)","v":3},{"$f":"IF(AH869>AI869,1,\"\")","v":""},{"$f":"IF(AH869=AI869,1,\"\")","v":""},{"$f":"IF(AH869<AI869,1,\"\")","v":1},{"$f":"AH869&\"-\"&AI869","v":"2-3"}]
[null,null,null,null,null,null,null,null,null,null,null,null,null,null,null,null,null,null,null,null,null,null,null,null,null,null,null,null,null,null,{"$f":"_xlfn.NORM.INV(RAND(),$Z$4,$N$20)","v":2.0717446929572723},{"$f":"_xlfn.NORM.INV(RAND(),$AA$4,$J$20)","v":3.5212798482160661},2.7965122705866694]
[null,null,null,null,null,null,null,null,null,null,null,null,null,null,null,null,null,null,null,null,null,null,null,null,null,null,null,null,null,"№435",{"$f":"_xlfn.NORM.INV(RAND(),$Z$3,$I$20)","v":5.2811805947033656},{"$f":"_xlfn.NORM.INV(RAND(),$AA$3,$O$20)","v":0.46661054861857348},2.8738955716609698,{"$f":"ROUND(AG871,0)","v":3},{"$f":"ROUND(AG872,0)","v":3},{"$f":"IF(AH871>AI871,1,\"\")","v":""},{"$f":"IF(AH871=AI871,1,\"\")","v":1},{"$f":"IF(AH871<AI871,1,\"\")","v":""},{"$f":"AH871&\"-\"&AI871","v":"3-3"}]
[null,null,null,null,null,null,null,null,null,null,null,null,null,null,null,null,null,null,null,null,null,null,null,null,null,null,null,null,null,null,{"$f":"_xlfn.NORM.INV(RAND(),$Z$4,$N$20)","v":2.4852569795649133},{"$f":"_xlfn.NORM.INV(RAND(),$AA$4,$J$20)","v":3.4802509620253268},2.9827539707951201]
[null,null,null,null,null,null,null,null,null,null,null,null,null,null,null,null,null,null,null,null,null,null,null,null,null,null,null,null,null,"№436",{"$f":"_xlfn.NORM.INV(RAND(),$Z$3,$I$20)","v":0.61081673871176978},{"$f":"_xlfn.NORM.INV(RAND(),$AA$3,$O$20)","v":-1.4726407405459192},-0.43091200091707471,{"$f":"ROUND(AG873,0)","v":0},{"$f":"ROUND(AG874,0)","v":2},{"$f":"IF(AH873>AI873,1,\"\")","v":""},{"$f":"IF(AH873=AI873,1,\"\")","v":""},{"$f":"IF(AH873<AI873,1,\"\")","v":1},{"$f":"AH873&\"-\"&AI873","v":"0-2"}]
[null,null,null,null,null,null,null,null,null,null,null,null,null,null,null,null,null,null,null,null,null,null,null,null,null,null,null,null,null,null,{"$f":"_xlfn.NORM.INV(RAND(),$Z$4,$N$20)","v":1.7615574934060805},{"$f":"_xlfn.NORM.INV(RAND(),$AA$4,$J$20)","v":1.3893559411973808},1.5754567173017306]
[null,null,null,null,null,null,null,null,null,null,null,null,null,null,null,null,null,null,null,null,null,null,null,null,null,null,null,null,null,"№437",{"$f":"_xlfn.NORM.INV(RAND(),$Z$3,$I$20)","v":3.1555260384505615},{"$f":"_xlfn.NORM.INV(RAND(),$AA$3,$O$20)","v":0.98971544725632588},2.0726207428534438,{"$f":"ROUND(AG875,0)","v":2},{"$f":"ROUND(AG876,0)","v":2},{"$f":"IF(AH875>AI875,1,\"\")","v":""},{"$f":"IF(AH875=AI875,1,\"\")","v":1},{"$f":"IF(AH875<AI875,1,\"\")","v":""},{"$f":"AH875&\"-\"&AI875","v":"2-2"}]
[null,null,null,null,null,null,null,null,null,null,null,null,null,null,null,null,null,null,null,null,null,null,null,null,null,null,null,null,null,null,{"$f":"_xlfn.NORM.INV(RAND(),$Z$4,$N$20)","v":1.6485598061813445},{"$f":"_xlfn.NORM.INV(RAND(),$AA$4,$J$20)","v":3.0689398912842094},2.3587498487327769]
[null,null,null,null,null,null,null,null,null,null,null,null,null,null,null,null,null,null,null,null,null,null,null,null,null,null,null,null,null,"№438",{"$f":"_xlfn.NORM.INV(RAND(),$Z$3,$I$20)","v":2.1098708075380737},{"$f":"_xlfn.NORM.INV(RAND(),$AA$3,$O$20)","v":0.57094260662522023},1.340406707081647,{"$f":"ROUND(AG877,0)","v":1},{"$f":"ROUND(AG878,0)","v":2},{"$f":"IF(AH877>AI877,1,\"\")","v":""},{"$f":"IF(AH877=AI877,1,\"\")","v":""},{"$f":"IF(AH877<AI877,1,\"\")","v":1},{"$f":"AH877&\"-\"&AI877","v":"1-2"}]
[null,null,null,null,null,null,null,null,null,null,null,null,null,null,null,null,null,null,null,null,null,null,null,null,null,null,null,null,null,null,{"$f":"_xlfn.NORM.INV(RAND(),$Z$4,$N$20)","v":1.1171523835749406},{"$f":"_xlfn.NORM.INV(RAND(),$AA$4,$J$20)","v":2.0090979941195313},1.5631251888472359]
[null,null,null,null,null,null,null,null,null,null,null,null,null,null,null,null,null,null,null,null,null,null,null,null,null,null,null,null,null,"№439",{"$f":"_xlfn.NORM.INV(RAND(),$Z$3,$I$20)","v":5.2485621517292405},{"$f":"_xlfn.NORM.INV(RAND(),$AA$3,$O$20)","v":1.1585693521004226},3.2035657519148315,{"$f":"ROUND(AG879,0)","v":3},{"$f":"ROUND(AG880,0)","v":1},{"$f":"IF(AH879>AI879,1,\"\")","v":1},{"$f":"IF(AH879=AI879,1,\"\")","v":""},{"$f":"IF(AH879<AI879,1,\"\")","v":""},{"$f":"AH879&\"-\"&AI879","v":"3-1"}]
[null,null,null,null,null,null,null,null,null,null,null,null,null,null,null,null,null,null,null,null,null,null,null,null,null,null,null,null,null,null,{"$f":"_xlfn.NORM.INV(RAND(),$Z$4,$N$20)","v":0.9715626735100773},{"$f":"_xlfn.NORM.INV(RAND(),$AA$4,$J$20)","v":0.70810126889644032},0.83983197120325881]
[null,null,null,null,null,null,null,null,null,null,null,null,null,null,null,null,null,null,null,null,null,null,null,null,null,null,null,null,null,"№440",{"$f":"_xlfn.NORM.INV(RAND(),$Z$3,$I$20)","v":2.6274917597909901},{"$f":"_xlfn.NORM.INV(RAND(),$AA$3,$O$20)","v":0.33750202406249524},1.4824968919267427,{"$f":"ROUND(AG881,0)","v":1},{"$f":"ROUND(AG882,0)","v":4},{"$f":"IF(AH881>AI881,1,\"\")","v":""},{"$f":"IF(AH881=AI881,1,\"\")","v":""},{"$f":"IF(AH881<AI881,1,\"\")","v":1},{"$f":"AH881&\"-\"&AI881","v":"1-4"}]
[null,null,null,null,null,null,null,null,null,null,null,null,null,null,null,null,null,null,null,null,null,null,null,null,null,null,null,null,null,null,{"$f":"_xlfn.NORM.INV(RAND(),$Z$4,$N$20)","v":2.8864720801363952},{"$f":"_xlfn.NORM.INV(RAND(),$AA$4,$J$20)","v":4.6877169431555794},3.7870945116459875]
[null,null,null,null,null,null,null,null,null,null,null,null,null,null,null,null,null,null,null,null,null,null,null,null,null,null,null,null,null,"№441",{"$f":"_xlfn.NORM.INV(RAND(),$Z$3,$I$20)","v":2.9000091962429217},{"$f":"_xlfn.NORM.INV(RAND(),$AA$3,$O$20)","v":-0.89924622197580395},1.0003814871335588,{"$f":"ROUND(AG883,0)","v":1},{"$f":"ROUND(AG884,0)","v":2},{"$f":"IF(AH883>AI883,1,\"\")","v":""},{"$f":"IF(AH883=AI883,1,\"\")","v":""},{"$f":"IF(AH883<AI883,1,\"\")","v":1},{"$f":"AH883&\"-\"&AI883","v":"1-2"}]
[null,null,null,null,null,null,null,null,null,null,null,null,null,null,null,null,null,null,null,null,null,null,null,null,null,null,null,null,null,null,{"$f":"_xlfn.NORM.INV(RAND(),$Z$4,$N$20)","v":2.0851115298249265},{"$f":"_xlfn.NORM.INV(RAND(),$AA$4,$J$20)","v":2.0942945811116735},2.0897030554683003]
[null,null,null,null,null,null,null,null,null,null,null,null,null,null,null,null,null,null,null,null,null,null,null,null,null,null,null,null,null,"№442",{"$f":"_xlfn.NORM.INV(RAND(),$Z$3,$I$20)","v":3.302016972677261},{"$f":"_xlfn.NORM.INV(RAND(),$AA$3,$O$20)","v":0.49699551818568594},1.8995062454314735,{"$f":"ROUND(AG885,0)","v":2},{"$f":"ROUND(AG886,0)","v":2},{"$f":"IF(AH885>AI885,1,\"\")","v":""},{"$f":"IF(AH885=AI885,1,\"\")","v":1},{"$f":"IF(AH885<AI885,1,\"\")","v":""},{"$f":"AH885&\"-\"&AI885","v":"2-2"}]
[null,null,null,null,null,null,null,null,null,null,null,null,null,null,null,null,null,null,null,null,null,null,null,null,null,null,null,null,null,null,{"$f":"_xlfn.NORM.INV(RAND(),$Z$4,$N$20)","v":3.2900252649511472},{"$f":"_xlfn.NORM.INV(RAND(),$AA$4,$J$20)","v":0.3032776175860652},1.7966514412686063]
[null,null,null,null,null,null,null,null,null,null,null,null,null,null,null,null,null,null,null,null,null,null,null,null,null,null,null,null,null,"№443",{"$f":"_xlfn.NORM.INV(RAND(),$Z$3,$I$20)","v":3.5618561788980876},{"$f":"_xlfn.NORM.INV(RAND(),$AA$3,$O$20)","v":0.27976482846226436},1.9208105036801759,{"$f":"ROUND(AG887,0)","v":2},{"$f":"ROUND(AG888,0)","v":2},{"$f":"IF(AH887>AI887,1,\"\")","v":""},{"$f":"IF(AH887=AI887,1,\"\")","v":1},{"$f":"IF(AH887<AI887,1,\"\")","v":""},{"$f":"AH887&\"-\"&AI887","v":"2-2"}]
[null,null,null,null,null,null,null,null,null,null,null,null,null,null,null,null,null,null,null,null,null,null,null,null,null,null,null,null,null,null,{"$f":"_xlfn.NORM.INV(RAND(),$Z$4,$N$20)","v":2.4307025099466149},{"$f":"_xlfn.NORM.INV(RAND(),$AA$4,$J$20)","v":1.6450148755491614},2.0378586927478883]
[null,null,null,null,null,null,null,null,null,null,null,null,null,null,null,null,null,null,null,null,null,null,null,null,null,null,null,null,null,"№444",{"$f":"_xlfn.NORM.INV(RAND(),$Z$3,$I$20)","v":2.6115589819732605},{"$f":"_xlfn.NORM.INV(RAND(),$AA$3,$O$20)","v":0.5847031893172564},1.5981310856452584,{"$f":"ROUND(AG889,0)","v":2},{"$f":"ROUND(AG890,0)","v":1},{"$f":"IF(AH889>AI889,1,\"\")","v":1},{"$f":"IF(AH889=AI889,1,\"\")","v":""},{"$f":"IF(AH889<AI889,1,\"\")","v":""},{"$f":"AH889&\"-\"&AI889","v":"2-1"}]
[null,null,null,null,null,null,null,null,null,null,null,null,null,null,null,null,null,null,null,null,null,null,null,null,null,null,null,null,null,null,{"$f":"_xlfn.NORM.INV(RAND(),$Z$4,$N$20)","v":1.7881728726016681},{"$f":"_xlfn.NORM.INV(RAND(),$AA$4,$J$20)","v":0.8424814928945179},1.315327182748093]
[null,null,null,null,null,null,null,null,null,null,null,null,null,null,null,null,null,null,null,null,null,null,null,null,null,null,null,null,null,"№445",{"$f":"_xlfn.NORM.INV(RAND(),$Z$3,$I$20)","v":1.6619846318426046},{"$f":"_xlfn.NORM.INV(RAND(),$AA$3,$O$20)","v":1.381606197312701},1.5217954145776527,{"$f":"ROUND(AG891,0)","v":2},{"$f":"ROUND(AG892,0)","v":2},{"$f":"IF(AH891>AI891,1,\"\")","v":""},{"$f":"IF(AH891=AI891,1,\"\")","v":1},{"$f":"IF(AH891<AI891,1,\"\")","v":""},{"$f":"AH891&\"-\"&AI891","v":"2-2"}]
[null,null,null,null,null,null,null,null,null,null,null,null,null,null,null,null,null,null,null,null,null,null,null,null,null,null,null,null,null,null,{"$f":"_xlfn.NORM.INV(RAND(),$Z$4,$N$20)","v":2.7872643476819867},{"$f":"_xlfn.NORM.INV(RAND(),$AA$4,$J$20)","v":1.7234094490505028},2.2553368983662447]
[null,null,null,null,null,null,null,null,null,null,null,null,null,null,null,null,null,null,null,null,null,null,null,null,null,null,null,null,null,"№446",{"$f":"_xlfn.NORM.INV(RAND(),$Z$3,$I$20)","v":2.6008123134513226},{"$f":"_xlfn.NORM.INV(RAND(),$AA$3,$O$20)","v":1.8797553533496134},2.240283833400468,{"$f":"ROUND(AG893,0)","v":2},{"$f":"ROUND(AG894,0)","v":1},{"$f":"IF(AH893>AI893,1,\"\")","v":1},{"$f":"IF(AH893=AI893,1,\"\")","v":""},{"$f":"IF(AH893<AI893,1,\"\")","v":""},{"$f":"AH893&\"-\"&AI893","v":"2-1"}]
[null,null,null,null,null,null,null,null,null,null,null,null,null,null,null,null,null,null,null,null,null,null,null,null,null,null,null,null,null,null,{"$f":"_xlfn.NORM.INV(RAND(),$Z$4,$N$20)","v":2.4360624464679597},{"$f":"_xlfn.NORM.INV(RAND(),$AA$4,$J$20)","v":-0.45347738314146824},0.99129253166324571]
[null,null,null,null,null,null,null,null,null,null,null,null,null,null,null,null,null,null,null,null,null,null,null,null,null,null,null,null,null,"№447",{"$f":"_xlfn.NORM.INV(RAND(),$Z$3,$I$20)","v":4.9439123536565859},{"$f":"_xlfn.NORM.INV(RAND(),$AA$3,$O$20)","v":0.22930169992290195},2.5866070267897441,{"$f":"ROUND(AG895,0)","v":3},{"$f":"ROUND(AG896,0)","v":4},{"$f":"IF(AH895>AI895,1,\"\")","v":""},{"$f":"IF(AH895=AI895,1,\"\")","v":""},{"$f":"IF(AH895<AI895,1,\"\")","v":1},{"$f":"AH895&\"-\"&AI895","v":"3-4"}]
[null,null,null,null,null,null,null,null,null,null,null,null,null,null,null,null,null,null,null,null,null,null,null,null,null,null,null,null,null,null,{"$f":"_xlfn.NORM.INV(RAND(),$Z$4,$N$20)","v":3.8478305707613329},{"$f":"_xlfn.NORM.INV(RAND(),$AA$4,$J$20)","v":3.7485286547792085},3.7981796127702707]
[null,null,null,null,null,null,null,null,null,null,null,null,null,null,null,null,null,null,null,null,null,null,null,null,null,null,null,null,null,"№448",{"$f":"_xlfn.NORM.INV(RAND(),$Z$3,$I$20)","v":5.694006445040193},{"$f":"_xlfn.NORM.INV(RAND(),$AA$3,$O$20)","v":1.2483400267464453},3.4711732358933194,{"$f":"ROUND(AG897,0)","v":3},{"$f":"ROUND(AG898,0)","v":4},{"$f":"IF(AH897>AI897,1,\"\")","v":""},{"$f":"IF(AH897=AI897,1,\"\")","v":""},{"$f":"IF(AH897<AI897,1,\"\")","v":1},{"$f":"AH897&\"-\"&AI897","v":"3-4"}]
[null,null,null,null,null,null,null,null,null,null,null,null,null,null,null,null,null,null,null,null,null,null,null,null,null,null,null,null,null,null,{"$f":"_xlfn.NORM.INV(RAND(),$Z$4,$N$20)","v":1.1768653571276475},{"$f":"_xlfn.NORM.INV(RAND(),$AA$4,$J$20)","v":6.0233770574869983},3.600121207307323]
[null,null,null,null,null,null,null,null,null,null,null,null,null,null,null,null,null,null,null,null,null,null,null,null,null,null,null,null,null,"№449",{"$f":"_xlfn.NORM.INV(RAND(),$Z$3,$I$20)","v":3.563501619949105},{"$f":"_xlfn.NORM.INV(RAND(),$AA$3,$O$20)","v":1.8890625020194383},2.7262820609842717,{"$f":"ROUND(AG899,0)","v":3},{"$f":"ROUND(AG900,0)","v":2},{"$f":"IF(AH899>AI899,1,\"\")","v":1},{"$f":"IF(AH899=AI899,1,\"\")","v":""},{"$f":"IF(AH899<AI899,1,\"\")","v":""},{"$f":"AH899&\"-\"&AI899","v":"3-2"}]
[null,null,null,null,null,null,null,null,null,null,null,null,null,null,null,null,null,null,null,null,null,null,null,null,null,null,null,null,null,null,{"$f":"_xlfn.NORM.INV(RAND(),$Z$4,$N$20)","v":2.2023648426790889},{"$f":"_xlfn.NORM.INV(RAND(),$AA$4,$J$20)","v":1.197992994960432},1.7001789188197605]
[null,null,null,null,null,null,null,null,null,null,null,null,null,null,null,null,null,null,null,null,null,null,null,null,null,null,null,null,null,"№450",{"$f":"_xlfn.NORM.INV(RAND(),$Z$3,$I$20)","v":4.2372257086428142},{"$f":"_xlfn.NORM.INV(RAND(),$AA$3,$O$20)","v":-0.37783249349442904},{"$f":"(AE901+AF901)/2","v":1.9296966075741926},{"$f":"ROUND(AG901,0)","v":2},{"$f":"ROUND(AG902,0)","v":2},{"$f":"IF(AH901>AI901,1,\"\")","v":""},{"$f":"IF(AH901=AI901,1,\"\")","v":1},{"$f":"IF(AH901<AI901,1,\"\")","v":""},{"$f":"AH901&\"-\"&AI901","v":"2-2"}]
[null,null,null,null,null,null,null,null,null,null,null,null,null,null,null,null,null,null,null,null,null,null,null,null,null,null,null,null,null,null,{"$f":"_xlfn.NORM.INV(RAND(),$Z$4,$N$20)","v":2.1774104845399282},{"$f":"_xlfn.NORM.INV(RAND(),$AA$4,$J$20)","v":1.0520275464940732},1.6147190155170006]
[null,null,null,null,null,null,null,null,null,null,null,null,null,null,null,null,null,null,null,null,null,null,null,null,null,null,null,null,null,"№451",{"$f":"_xlfn.NORM.INV(RAND(),$Z$3,$I$20)","v":1.5276849763282523},{"$f":"_xlfn.NORM.INV(RAND(),$AA$3,$O$20)","v":0.6078991786492004},1.0677920774887264,{"$f":"ROUND(AG903,0)","v":1},{"$f":"ROUND(AG904,0)","v":1},{"$f":"IF(AH903>AI903,1,\"\")","v":""},{"$f":"IF(AH903=AI903,1,\"\")","v":1},{"$f":"IF(AH903<AI903,1,\"\")","v":""},{"$f":"AH903&\"-\"&AI903","v":"1-1"}]
[null,null,null,null,null,null,null,null,null,null,null,null,null,null,null,null,null,null,null,null,null,null,null,null,null,null,null,null,null,null,{"$f":"_xlfn.NORM.INV(RAND(),$Z$4,$N$20)","v":3.1954113454652426},{"$f":"_xlfn.NORM.INV(RAND(),$AA$4,$J$20)","v":-1.6956444985099322},0.74988342347765524]
[null,null,null,null,null,null,null,null,null,null,null,null,null,null,null,null,null,null,null,null,null,null,null,null,null,null,null,null,null,"№452",{"$f":"_xlfn.NORM.INV(RAND(),$Z$3,$I$20)","v":0.92297257354965456},{"$f":"_xlfn.NORM.INV(RAND(),$AA$3,$O$20)","v":-0.91998117156212755},1.4957009937635046E-3,{"$f":"ROUND(AG905,0)","v":0},{"$f":"ROUND(AG906,0)","v":3},{"$f":"IF(AH905>AI905,1,\"\")","v":""},{"$f":"IF(AH905=AI905,1,\"\")","v":""},{"$f":"IF(AH905<AI905,1,\"\")","v":1},{"$f":"AH905&\"-\"&AI905","v":"0-3"}]
[null,null,null,null,null,null,null,null,null,null,null,null,null,null,null,null,null,null,null,null,null,null,null,null,null,null,null,null,null,null,{"$f":"_xlfn.NORM.INV(RAND(),$Z$4,$N$20)","v":2.6841197797355782},{"$f":"_xlfn.NORM.INV(RAND(),$AA$4,$J$20)","v":2.3314639243461404},2.5077918520408593]
[null,null,null,null,null,null,null,null,null,null,null,null,null,null,null,null,null,null,null,null,null,null,null,null,null,null,null,null,null,"№453",{"$f":"_xlfn.NORM.INV(RAND(),$Z$3,$I$20)","v":7.2177918815996671},{"$f":"_xlfn.NORM.INV(RAND(),$AA$3,$O$20)","v":-0.19463650699235036},3.5115776873036584,{"$f":"ROUND(AG907,0)","v":4},{"$f":"ROUND(AG908,0)","v":2},{"$f":"IF(AH907>AI907,1,\"\")","v":1},{"$f":"IF(AH907=AI907,1,\"\")","v":""},{"$f":"IF(AH907<AI907,1,\"\")","v":""},{"$f":"AH907&\"-\"&AI907","v":"4-2"}]
[null,null,null,null,null,null,null,null,null,null,null,null,null,null,null,null,null,null,null,null,null,null,null,null,null,null,null,null,null,null,{"$f":"_xlfn.NORM.INV(RAND(),$Z$4,$N$20)","v":3.4446005416841334},{"$f":"_xlfn.NORM.INV(RAND(),$AA$4,$J$20)","v":-0.4318923879005645},1.5063540768917845]
[null,null,null,null,null,null,null,null,null,null,null,null,null,null,null,null,null,null,null,null,null,null,null,null,null,null,null,null,null,"№454",{"$f":"_xlfn.NORM.INV(RAND(),$Z$3,$I$20)","v":1.8238788382706359},{"$f":"_xlfn.NORM.INV(RAND(),$AA$3,$O$20)","v":9.6476869920595232E-2},0.96017785409561562,{"$f":"ROUND(AG909,0)","v":1},{"$f":"ROUND(AG910,0)","v":2},{"$f":"IF(AH909>AI909,1,\"\")","v":""},{"$f":"IF(AH909=AI909,1,\"\")","v":""},{"$f":"IF(AH909<AI909,1,\"\")","v":1},{"$f":"AH909&\"-\"&AI909","v":"1-2"}]
[null,null,null,null,null,null,null,null,null,null,null,null,null,null,null,null,null,null,null,null,null,null,null,null,null,null,null,null,null,null,{"$f":"_xlfn.NORM.INV(RAND(),$Z$4,$N$20)","v":2.4233285683364802},{"$f":"_xlfn.NORM.INV(RAND(),$AA$4,$J$20)","v":1.2626401715882356},1.842984369962358]
[null,null,null,null,null,null,null,null,null,null,null,null,null,null,null,null,null,null,null,null,null,null,null,null,null,null,null,null,null,"№455",{"$f":"_xlfn.NORM.INV(RAND(),$Z$3,$I$20)","v":4.6483129354071604},{"$f":"_xlfn.NORM.INV(RAND(),$AA$3,$O$20)","v":-0.99225478177575455},1.828029076815703,{"$f":"ROUND(AG911,0)","v":2},{"$f":"ROUND(AG912,0)","v":2},{"$f":"IF(AH911>AI911,1,\"\")","v":""},{"$f":"IF(AH911=AI911,1,\"\")","v":1},{"$f":"IF(AH911<AI911,1,\"\")","v":""},{"$f":"AH911&\"-\"&AI911","v":"2-2"}]
[null,null,null,null,null,null,null,null,null,null,null,null,null,null,null,null,null,null,null,null,null,null,null,null,null,null,null,null,null,null,{"$f":"_xlfn.NORM.INV(RAND(),$Z$4,$N$20)","v":2.472173979738185},{"$f":"_xlfn.NORM.INV(RAND(),$AA$4,$J$20)","v":1.140061819002971},1.806117899370578]
[null,null,null,null,null,null,null,null,null,null,null,null,null,null,null,null,null,null,null,null,null,null,null,null,null,null,null,null,null,"№456",{"$f":"_xlfn.NORM.INV(RAND(),$Z$3,$I$20)","v":5.0587036906001686},{"$f":"_xlfn.NORM.INV(RAND(),$AA$3,$O$20)","v":-0.54297942349897266},2.2578621335505979,{"$f":"ROUND(AG913,0)","v":2},{"$f":"ROUND(AG914,0)","v":1},{"$f":"IF(AH913>AI913,1,\"\")","v":1},{"$f":"IF(AH913=AI913,1,\"\")","v":""},{"$f":"IF(AH913<AI913,1,\"\")","v":""},{"$f":"AH913&\"-\"&AI913","v":"2-1"}]
[null,null,null,null,null,null,null,null,null,null,null,null,null,null,null,null,null,null,null,null,null,null,null,null,null,null,null,null,null,null,{"$f":"_xlfn.NORM.INV(RAND(),$Z$4,$N$20)","v":3.1749509262517046},{"$f":"_xlfn.NORM.INV(RAND(),$AA$4,$J$20)","v":-2.0031315179579328},0.58590970414688592]
[null,null,null,null,null,null,null,null,null,null,null,null,null,null,null,null,null,null,null,null,null,null,null,null,null,null,null,null,null,"№457",{"$f":"_xlfn.NORM.INV(RAND(),$Z$3,$I$20)","v":2.1045599982769039},{"$f":"_xlfn.NORM.INV(RAND(),$AA$3,$O$20)","v":0.60661383931889745},1.3555869187979006,{"$f":"ROUND(AG915,0)","v":1},{"$f":"ROUND(AG916,0)","v":0},{"$f":"IF(AH915>AI915,1,\"\")","v":1},{"$f":"IF(AH915=AI915,1,\"\")","v":""},{"$f":"IF(AH915<AI915,1,\"\")","v":""},{"$f":"AH915&\"-\"&AI915","v":"1-0"}]
[null,null,null,null,null,null,null,null,null,null,null,null,null,null,null,null,null,null,null,null,null,null,null,null,null,null,null,null,null,null,{"$f":"_xlfn.NORM.INV(RAND(),$Z$4,$N$20)","v":1.925794045625268},{"$f":"_xlfn.NORM.INV(RAND(),$AA$4,$J$20)","v":-1.0145831603592494},0.45560544263300928]
[null,null,null,null,null,null,null,null,null,null,null,null,null,null,null,null,null,null,null,null,null,null,null,null,null,null,null,null,null,"№458",{"$f":"_xlfn.NORM.INV(RAND(),$Z$3,$I$20)","v":3.2984871219215512},{"$f":"_xlfn.NORM.INV(RAND(),$AA$3,$O$20)","v":6.0392601221432418E-2},1.6794398615714918,{"$f":"ROUND(AG917,0)","v":2},{"$f":"ROUND(AG918,0)","v":3},{"$f":"IF(AH917>AI917,1,\"\")","v":""},{"$f":"IF(AH917=AI917,1,\"\")","v":""},{"$f":"IF(AH917<AI917,1,\"\")","v":1},{"$f":"AH917&\"-\"&AI917","v":"2-3"}]
[null,null,null,null,null,null,null,null,null,null,null,null,null,null,null,null,null,null,null,null,null,null,null,null,null,null,null,null,null,null,{"$f":"_xlfn.NORM.INV(RAND(),$Z$4,$N$20)","v":2.0066787517810423},{"$f":"_xlfn.NORM.INV(RAND(),$AA$4,$J$20)","v":3.6556036176848292},2.8311411847329357]
[null,null,null,null,null,null,null,null,null,null,null,null,null,null,null,null,null,null,null,null,null,null,null,null,null,null,null,null,null,"№459",{"$f":"_xlfn.NORM.INV(RAND(),$Z$3,$I$20)","v":4.5670005169595091},{"$f":"_xlfn.NORM.INV(RAND(),$AA$3,$O$20)","v":0.89483014448838494},2.7309153307239469,{"$f":"ROUND(AG919,0)","v":3},{"$f":"ROUND(AG920,0)","v":2},{"$f":"IF(AH919>AI919,1,\"\")","v":1},{"$f":"IF(AH919=AI919,1,\"\")","v":""},{"$f":"IF(AH919<AI919,1,\"\")","v":""},{"$f":"AH919&\"-\"&AI919","v":"3-2"}]
[null,null,null,null,null,null,null,null,null,null,null,null,null,null,null,null,null,null,null,null,null,null,null,null,null,null,null,null,null,null,{"$f":"_xlfn.NORM.INV(RAND(),$Z$4,$N$20)","v":2.3862175257250859},{"$f":"_xlfn.NORM.INV(RAND(),$AA$4,$J$20)","v":0.80094361013712223},1.5935805679311041]
[null,null,null,null,null,null,null,null,null,null,null,null,null,null,null,null,null,null,null,null,null,null,null,null,null,null,null,null,null,"№460",{"$f":"_xlfn.NORM.INV(RAND(),$Z$3,$I$20)","v":0.76142031680996247},{"$f":"_xlfn.NORM.INV(RAND(),$AA$3,$O$20)","v":1.2464367774811618},1.0039285471455621,{"$f":"ROUND(AG921,0)","v":1},{"$f":"ROUND(AG922,0)","v":2},{"$f":"IF(AH921>AI921,1,\"\")","v":""},{"$f":"IF(AH921=AI921,1,\"\")","v":""},{"$f":"IF(AH921<AI921,1,\"\")","v":1},{"$f":"AH921&\"-\"&AI921","v":"1-2"}]
[null,null,null,null,null,null,null,null,null,null,null,null,null,null,null,null,null,null,null,null,null,null,null,null,null,null,null,null,null,null,{"$f":"_xlfn.NORM.INV(RAND(),$Z$4,$N$20)","v":2.2389935362308977},{"$f":"_xlfn.NORM.INV(RAND(),$AA$4,$J$20)","v":1.4120737943011243},1.825533665266011]
[null,null,null,null,null,null,null,null,null,null,null,null,null,null,null,null,null,null,null,null,null,null,null,null,null,null,null,null,null,"№461",{"$f":"_xlfn.NORM.INV(RAND(),$Z$3,$I$20)","v":2.0319137507815239},{"$f":"_xlfn.NORM.INV(RAND(),$AA$3,$O$20)","v":2.0987160770411526},2.0653149139113385,{"$f":"ROUND(AG923,0)","v":2},{"$f":"ROUND(AG924,0)","v":2},{"$f":"IF(AH923>AI923,1,\"\")","v":""},{"$f":"IF(AH923=AI923,1,\"\")","v":1},{"$f":"IF(AH923<AI923,1,\"\")","v":""},{"$f":"AH923&\"-\"&AI923","v":"2-2"}]
[null,null,null,null,null,null,null,null,null,null,null,null,null,null,null,null,null,null,null,null,null,null,null,null,null,null,null,null,null,null,{"$f":"_xlfn.NORM.INV(RAND(),$Z$4,$N$20)","v":3.5162880978600861},{"$f":"_xlfn.NORM.INV(RAND(),$AA$4,$J$20)","v":0.90928244399942215},2.212785270929754]
[null,null,null,null,null,null,null,null,null,null,null,null,null,null,null,null,null,null,null,null,null,null,null,null,null,null,null,null,null,"№462",{"$f":"_xlfn.NORM.INV(RAND(),$Z$3,$I$20)","v":3.7470081068866596},{"$f":"_xlfn.NORM.INV(RAND(),$AA$3,$O$20)","v":0.58203481105606114},2.1645214589713602,{"$f":"ROUND(AG925,0)","v":2},{"$f":"ROUND(AG926,0)","v":1},{"$f":"IF(AH925>AI925,1,\"\")","v":1},{"$f":"IF(AH925=AI925,1,\"\")","v":""},{"$f":"IF(AH925<AI925,1,\"\")","v":""},{"$f":"AH925&\"-\"&AI925","v":"2-1"}]
[null,null,null,null,null,null,null,null,null,null,null,null,null,null,null,null,null,null,null,null,null,null,null,null,null,null,null,null,null,null,{"$f":"_xlfn.NORM.INV(RAND(),$Z$4,$N$20)","v":0.72311416010143836},{"$f":"_xlfn.NORM.INV(RAND(),$AA$4,$J$20)","v":1.7162524397137324},1.2196832999075853]
[null,null,null,null,null,null,null,null,null,null,null,null,null,null,null,null,null,null,null,null,null,null,null,null,null,null,null,null,null,"№463",{"$f":"_xlfn.NORM.INV(RAND(),$Z$3,$I$20)","v":5.5970404466060852},{"$f":"_xlfn.NORM.INV(RAND(),$AA$3,$O$20)","v":2.2932851866580846},3.9451628166320849,{"$f":"ROUND(AG927,0)","v":4},{"$f":"ROUND(AG928,0)","v":4},{"$f":"IF(AH927>AI927,1,\"\")","v":""},{"$f":"IF(AH927=AI927,1,\"\")","v":1},{"$f":"IF(AH927<AI927,1,\"\")","v":""},{"$f":"AH927&\"-\"&AI927","v":"4-4"}]
[null,null,null,null,null,null,null,null,null,null,null,null,null,null,null,null,null,null,null,null,null,null,null,null,null,null,null,null,null,null,{"$f":"_xlfn.NORM.INV(RAND(),$Z$4,$N$20)","v":2.7346815527925061},{"$f":"_xlfn.NORM.INV(RAND(),$AA$4,$J$20)","v":4.4387888128774868},3.5867351828349965]
[null,null,null,null,null,null,null,null,null,null,null,null,null,null,null,null,null,null,null,null,null,null,null,null,null,null,null,null,null,"№464",{"$f":"_xlfn.NORM.INV(RAND(),$Z$3,$I$20)","v":1.448027892409282},{"$f":"_xlfn.NORM.INV(RAND(),$AA$3,$O$20)","v":0.6087611943752036},1.0283945433922428,{"$f":"ROUND(AG929,0)","v":1},{"$f":"ROUND(AG930,0)","v":2},{"$f":"IF(AH929>AI929,1,\"\")","v":""},{"$f":"IF(AH929=AI929,1,\"\")","v":""},{"$f":"IF(AH929<AI929,1,\"\")","v":1},{"$f":"AH929&\"-\"&AI929","v":"1-2"}]
[null,null,null,null,null,null,null,null,null,null,null,null,null,null,null,null,null,null,null,null,null,null,null,null,null,null,null,null,null,null,{"$f":"_xlfn.NORM.INV(RAND(),$Z$4,$N$20)","v":2.665034897289249},{"$f":"_xlfn.NORM.INV(RAND(),$AA$4,$J$20)","v":1.5441825620445655},2.1046087296669072]
[null,null,null,null,null,null,null,null,null,null,null,null,null,null,null,null,null,null,null,null,null,null,null,null,null,null,null,null,null,"№465",{"$f":"_xlfn.NORM.INV(RAND(),$Z$3,$I$20)","v":4.8299559298891772},{"$f":"_xlfn.NORM.INV(RAND(),$AA$3,$O$20)","v":0.52275201482690281},2.6763539723580401,{"$f":"ROUND(AG931,0)","v":3},{"$f":"ROUND(AG932,0)","v":2},{"$f":"IF(AH931>AI931,1,\"\")","v":1},{"$f":"IF(AH931=AI931,1,\"\")","v":""},{"$f":"IF(AH931<AI931,1,\"\")","v":""},{"$f":"AH931&\"-\"&AI931","v":"3-2"}]
[null,null,null,null,null,null,null,null,null,null,null,null,null,null,null,null,null,null,null,null,null,null,null,null,null,null,null,null,null,null,{"$f":"_xlfn.NORM.INV(RAND(),$Z$4,$N$20)","v":1.894856445791343},{"$f":"_xlfn.NORM.INV(RAND(),$AA$4,$J$20)","v":1.6788439703080889},1.7868502080497159]
[null,null,null,null,null,null,null,null,null,null,null,null,null,null,null,null,null,null,null,null,null,null,null,null,null,null,null,null,null,"№466",{"$f":"_xlfn.NORM.INV(RAND(),$Z$3,$I$20)","v":4.8615503395880131},{"$f":"_xlfn.NORM.INV(RAND(),$AA$3,$O$20)","v":1.4627873862914922},3.1621688629397529,{"$f":"ROUND(AG933,0)","v":3},{"$f":"ROUND(AG934,0)","v":2},{"$f":"IF(AH933>AI933,1,\"\")","v":1},{"$f":"IF(AH933=AI933,1,\"\")","v":""},{"$f":"IF(AH933<AI933,1,\"\")","v":""},{"$f":"AH933&\"-\"&AI933","v":"3-2"}]
[null,null,null,null,null,null,null,null,null,null,null,null,null,null,null,null,null,null,null,null,null,null,null,null,null,null,null,null,null,null,{"$f":"_xlfn.NORM.INV(RAND(),$Z$4,$N$20)","v":1.9898204764256311},{"$f":"_xlfn.NORM.INV(RAND(),$AA$4,$J$20)","v":2.4933465792417695},2.2415835278337002]
[null,null,null,null,null,null,null,null,null,null,null,null,null,null,null,null,null,null,null,null,null,null,null,null,null,null,null,null,null,"№467",{"$f":"_xlfn.NORM.INV(RAND(),$Z$3,$I$20)","v":2.9623657613943402},{"$f":"_xlfn.NORM.INV(RAND(),$AA$3,$O$20)","v":1.0483479158882281},2.0053568386412843,{"$f":"ROUND(AG935,0)","v":2},{"$f":"ROUND(AG936,0)","v":2},{"$f":"IF(AH935>AI935,1,\"\")","v":""},{"$f":"IF(AH935=AI935,1,\"\")","v":1},{"$f":"IF(AH935<AI935,1,\"\")","v":""},{"$f":"AH935&\"-\"&AI935","v":"2-2"}]
[null,null,null,null,null,null,null,null,null,null,null,null,null,null,null,null,null,null,null,null,null,null,null,null,null,null,null,null,null,null,{"$f":"_xlfn.NORM.INV(RAND(),$Z$4,$N$20)","v":1.9246491879455392},{"$f":"_xlfn.NORM.INV(RAND(),$AA$4,$J$20)","v":2.1731769667467877},2.0489130773461635]
[null,null,null,null,null,null,null,null,null,null,null,null,null,null,null,null,null,null,null,null,null,null,null,null,null,null,null,null,null,"№468",{"$f":"_xlfn.NORM.INV(RAND(),$Z$3,$I$20)","v":3.8712604309945116},{"$f":"_xlfn.NORM.INV(RAND(),$AA$3,$O$20)","v":-0.30204455217014226},1.7846079394121848,{"$f":"ROUND(AG937,0)","v":2},{"$f":"ROUND(AG938,0)","v":1},{"$f":"IF(AH937>AI937,1,\"\")","v":1},{"$f":"IF(AH937=AI937,1,\"\")","v":""},{"$f":"IF(AH937<AI937,1,\"\")","v":""},{"$f":"AH937&\"-\"&AI937","v":"2-1"}]
[null,null,null,null,null,null,null,null,null,null,null,null,null,null,null,null,null,null,null,null,null,null,null,null,null,null,null,null,null,null,{"$f":"_xlfn.NORM.INV(RAND(),$Z$4,$N$20)","v":2.648676356862496},{"$f":"_xlfn.NORM.INV(RAND(),$AA$4,$J$20)","v":-0.35925210487725989},1.1447121259926181]
[null,null,null,null,null,null,null,null,null,null,null,null,null,null,null,null,null,null,null,null,null,null,null,null,null,null,null,null,null,"№469",{"$f":"_xlfn.NORM.INV(RAND(),$Z$3,$I$20)","v":3.4172143687446961},{"$f":"_xlfn.NORM.INV(RAND(),$AA$3,$O$20)","v":0.74863017999581261},2.0829222743702545,{"$f":"ROUND(AG939,0)","v":2},{"$f":"ROUND(AG940,0)","v":3},{"$f":"IF(AH939>AI939,1,\"\")","v":""},{"$f":"IF(AH939=AI939,1,\"\")","v":""},{"$f":"IF(AH939<AI939,1,\"\")","v":1},{"$f":"AH939&\"-\"&AI939","v":"2-3"}]
[null,null,null,null,null,null,null,null,null,null,null,null,null,null,null,null,null,null,null,null,null,null,null,null,null,null,null,null,null,null,{"$f":"_xlfn.NORM.INV(RAND(),$Z$4,$N$20)","v":2.4270938878302752},{"$f":"_xlfn.NORM.INV(RAND(),$AA$4,$J$20)","v":2.802215006207426},2.6146544470188506]
[null,null,null,null,null,null,null,null,null,null,null,null,null,null,null,null,null,null,null,null,null,null,null,null,null,null,null,null,null,"№470",{"$f":"_xlfn.NORM.INV(RAND(),$Z$3,$I$20)","v":2.6838843573488509},{"$f":"_xlfn.NORM.INV(RAND(),$AA$3,$O$20)","v":1.1144801864754477},1.8991822719121494,{"$f":"ROUND(AG941,0)","v":2},{"$f":"ROUND(AG942,0)","v":1},{"$f":"IF(AH941>AI941,1,\"\")","v":1},{"$f":"IF(AH941=AI941,1,\"\")","v":""},{"$f":"IF(AH941<AI941,1,\"\")","v":""},{"$f":"AH941&\"-\"&AI941","v":"2-1"}]
[null,null,null,null,null,null,null,null,null,null,null,null,null,null,null,null,null,null,null,null,null,null,null,null,null,null,null,null,null,null,{"$f":"_xlfn.NORM.INV(RAND(),$Z$4,$N$20)","v":1.4459560648928194},{"$f":"_xlfn.NORM.INV(RAND(),$AA$4,$J$20)","v":1.0594935741476763},1.2527248195202478]
[null,null,null,null,null,null,null,null,null,null,null,null,null,null,null,null,null,null,null,null,null,null,null,null,null,null,null,null,null,"№471",{"$f":"_xlfn.NORM.INV(RAND(),$Z$3,$I$20)","v":6.8749181249479712},{"$f":"_xlfn.NORM.INV(RAND(),$AA$3,$O$20)","v":-0.94179291486959027},2.9665626050391904,{"$f":"ROUND(AG943,0)","v":3},{"$f":"ROUND(AG944,0)","v":2},{"$f":"IF(AH943>AI943,1,\"\")","v":1},{"$f":"IF(AH943=AI943,1,\"\")","v":""},{"$f":"IF(AH943<AI943,1,\"\")","v":""},{"$f":"AH943&\"-\"&AI943","v":"3-2"}]
[null,null,null,null,null,null,null,null,null,null,null,null,null,null,null,null,null,null,null,null,null,null,null,null,null,null,null,null,null,null,{"$f":"_xlfn.NORM.INV(RAND(),$Z$4,$N$20)","v":1.2748735936507747},{"$f":"_xlfn.NORM.INV(RAND(),$AA$4,$J$20)","v":2.2097506625177412},1.7423121280842579]
[null,null,null,null,null,null,null,null,null,null,null,null,null,null,null,null,null,null,null,null,null,null,null,null,null,null,null,null,null,"№472",{"$f":"_xlfn.NORM.INV(RAND(),$Z$3,$I$20)","v":0.69396653407424047},{"$f":"_xlfn.NORM.INV(RAND(),$AA$3,$O$20)","v":0.59209261008184089},0.64302957207804068,{"$f":"ROUND(AG945,0)","v":1},{"$f":"ROUND(AG946,0)","v":1},{"$f":"IF(AH945>AI945,1,\"\")","v":""},{"$f":"IF(AH945=AI945,1,\"\")","v":1},{"$f":"IF(AH945<AI945,1,\"\")","v":""},{"$f":"AH945&\"-\"&AI945","v":"1-1"}]
[null,null,null,null,null,null,null,null,null,null,null,null,null,null,null,null,null,null,null,null,null,null,null,null,null,null,null,null,null,null,{"$f":"_xlfn.NORM.INV(RAND(),$Z$4,$N$20)","v":1.5932326673644805},{"$f":"_xlfn.NORM.INV(RAND(),$AA$4,$J$20)","v":1.0104872268433558},1.3018599471039183]
[null,null,null,null,null,null,null,null,null,null,null,null,null,null,null,null,null,null,null,null,null,null,null,null,null,null,null,null,null,"№473",{"$f":"_xlfn.NORM.INV(RAND(),$Z$3,$I$20)","v":2.371702432831456},{"$f":"_xlfn.NORM.INV(RAND(),$AA$3,$O$20)","v":1.9211776459266214},2.1464400393790388,{"$f":"ROUND(AG947,0)","v":2},{"$f":"ROUND(AG948,0)","v":2},{"$f":"IF(AH947>AI947,1,\"\")","v":""},{"$f":"IF(AH947=AI947,1,\"\")","v":1},{"$f":"IF(AH947<AI947,1,\"\")","v":""},{"$f":"AH947&\"-\"&AI947","v":"2-2"}]
[null,null,null,null,null,null,null,null,null,null,null,null,null,null,null,null,null,null,null,null,null,null,null,null,null,null,null,null,null,null,{"$f":"_xlfn.NORM.INV(RAND(),$Z$4,$N$20)","v":2.1499025550597639},{"$f":"_xlfn.NORM.INV(RAND(),$AA$4,$J$20)","v":1.2797517317596305},1.7148271434096971]
[null,null,null,null,null,null,null,null,null,null,null,null,null,null,null,null,null,null,null,null,null,null,null,null,null,null,null,null,null,"№474",{"$f":"_xlfn.NORM.INV(RAND(),$Z$3,$I$20)","v":4.1507786494267078},{"$f":"_xlfn.NORM.INV(RAND(),$AA$3,$O$20)","v":1.3599505322878267},2.7553645908572673,{"$f":"ROUND(AG949,0)","v":3},{"$f":"ROUND(AG950,0)","v":2},{"$f":"IF(AH949>AI949,1,\"\")","v":1},{"$f":"IF(AH949=AI949,1,\"\")","v":""},{"$f":"IF(AH949<AI949,1,\"\")","v":""},{"$f":"AH949&\"-\"&AI949","v":"3-2"}]
[null,null,null,null,null,null,null,null,null,null,null,null,null,null,null,null,null,null,null,null,null,null,null,null,null,null,null,null,null,null,{"$f":"_xlfn.NORM.INV(RAND(),$Z$4,$N$20)","v":2.5822012674894683},{"$f":"_xlfn.NORM.INV(RAND(),$AA$4,$J$20)","v":2.3219402966679565},2.4520707820787124]
[null,null,null,null,null,null,null,null,null,null,null,null,null,null,null,null,null,null,null,null,null,null,null,null,null,null,null,null,null,"№475",{"$f":"_xlfn.NORM.INV(RAND(),$Z$3,$I$20)","v":6.0715522496165431},{"$f":"_xlfn.NORM.INV(RAND(),$AA$3,$O$20)","v":-0.10721590331880371},2.9821681731488696,{"$f":"ROUND(AG951,0)","v":3},{"$f":"ROUND(AG952,0)","v":2},{"$f":"IF(AH951>AI951,1,\"\")","v":1},{"$f":"IF(AH951=AI951,1,\"\")","v":""},{"$f":"IF(AH951<AI951,1,\"\")","v":""},{"$f":"AH951&\"-\"&AI951","v":"3-2"}]
[null,null,null,null,null,null,null,null,null,null,null,null,null,null,null,null,null,null,null,null,null,null,null,null,null,null,null,null,null,null,{"$f":"_xlfn.NORM.INV(RAND(),$Z$4,$N$20)","v":1.6392970927495274},{"$f":"_xlfn.NORM.INV(RAND(),$AA$4,$J$20)","v":2.1025164513109447},1.8709067720302359]
[null,null,null,null,null,null,null,null,null,null,null,null,null,null,null,null,null,null,null,null,null,null,null,null,null,null,null,null,null,"№476",{"$f":"_xlfn.NORM.INV(RAND(),$Z$3,$I$20)","v":4.1789859293127476},{"$f":"_xlfn.NORM.INV(RAND(),$AA$3,$O$20)","v":0.99694568139480388},2.5879658053537757,{"$f":"ROUND(AG953,0)","v":3},{"$f":"ROUND(AG954,0)","v":2},{"$f":"IF(AH953>AI953,1,\"\")","v":1},{"$f":"IF(AH953=AI953,1,\"\")","v":""},{"$f":"IF(AH953<AI953,1,\"\")","v":""},{"$f":"AH953&\"-\"&AI953","v":"3-2"}]
[null,null,null,null,null,null,null,null,null,null,null,null,null,null,null,null,null,null,null,null,null,null,null,null,null,null,null,null,null,null,{"$f":"_xlfn.NORM.INV(RAND(),$Z$4,$N$20)","v":2.089558163725072},{"$f":"_xlfn.NORM.INV(RAND(),$AA$4,$J$20)","v":2.0213652592139359},2.055461711469504]
[null,null,null,null,null,null,null,null,null,null,null,null,null,null,null,null,null,null,null,null,null,null,null,null,null,null,null,null,null,"№477",{"$f":"_xlfn.NORM.INV(RAND(),$Z$3,$I$20)","v":4.3996513075465939},{"$f":"_xlfn.NORM.INV(RAND(),$AA$3,$O$20)","v":0.89379236773780035},2.6467218376421973,{"$f":"ROUND(AG955,0)","v":3},{"$f":"ROUND(AG956,0)","v":1},{"$f":"IF(AH955>AI955,1,\"\")","v":1},{"$f":"IF(AH955=AI955,1,\"\")","v":""},{"$f":"IF(AH955<AI955,1,\"\")","v":""},{"$f":"AH955&\"-\"&AI955","v":"3-1"}]
[null,null,null,null,null,null,null,null,null,null,null,null,null,null,null,null,null,null,null,null,null,null,null,null,null,null,null,null,null,null,{"$f":"_xlfn.NORM.INV(RAND(),$Z$4,$N$20)","v":1.6554748665397536},{"$f":"_xlfn.NORM.INV(RAND(),$AA$4,$J$20)","v":1.0466179438598917},1.3510464051998228]
[null,null,null,null,null,null,null,null,null,null,null,null,null,null,null,null,null,null,null,null,null,null,null,null,null,null,null,null,null,"№478",{"$f":"_xlfn.NORM.INV(RAND(),$Z$3,$I$20)","v":6.7119344552282119},{"$f":"_xlfn.NORM.INV(RAND(),$AA$3,$O$20)","v":0.56679278509908282},3.6393636201636475,{"$f":"ROUND(AG957,0)","v":4},{"$f":"ROUND(AG958,0)","v":1},{"$f":"IF(AH957>AI957,1,\"\")","v":1},{"$f":"IF(AH957=AI957,1,\"\")","v":""},{"$f":"IF(AH957<AI957,1,\"\")","v":""},{"$f":"AH957&\"-\"&AI957","v":"4-1"}]
[null,null,null,null,null,null,null,null,null,null,null,null,null,null,null,null,null,null,null,null,null,null,null,null,null,null,null,null,null,null,{"$f":"_xlfn.NORM.INV(RAND(),$Z$4,$N$20)","v":0.48106830887960661},{"$f":"_xlfn.NORM.INV(RAND(),$AA$4,$J$20)","v":2.0996719568135096},1.290370132846558]
[null,null,null,null,null,null,null,null,null,null,null,null,null,null,null,null,null,null,null,null,null,null,null,null,null,null,null,null,null,"№479",{"$f":"_xlfn.NORM.INV(RAND(),$Z$3,$I$20)","v":5.503308591711491},{"$f":"_xlfn.NORM.INV(RAND(),$AA$3,$O$20)","v":0.28995004314635286},2.8966293174289222,{"$f":"ROUND(AG959,0)","v":3},{"$f":"ROUND(AG960,0)","v":2},{"$f":"IF(AH959>AI959,1,\"\")","v":1},{"$f":"IF(AH959=AI959,1,\"\")","v":""},{"$f":"IF(AH959<AI959,1,\"\")","v":""},{"$f":"AH959&\"-\"&AI959","v":"3-2"}]
[null,null,null,null,null,null,null,null,null,null,null,null,null,null,null,null,null,null,null,null,null,null,null,null,null,null,null,null,null,null,{"$f":"_xlfn.NORM.INV(RAND(),$Z$4,$N$20)","v":2.404389273578031},{"$f":"_xlfn.NORM.INV(RAND(),$AA$4,$J$20)","v":2.579292025463765},2.4918406495208982]
[null,null,null,null,null,null,null,null,null,null,null,null,null,null,null,null,null,null,null,null,null,null,null,null,null,null,null,null,null,"№480",{"$f":"_xlfn.NORM.INV(RAND(),$Z$3,$I$20)","v":2.8253386151415101},{"$f":"_xlfn.NORM.INV(RAND(),$AA$3,$O$20)","v":1.4174436815362628},2.1213911483388865,{"$f":"ROUND(AG961,0)","v":2},{"$f":"ROUND(AG962,0)","v":1},{"$f":"IF(AH961>AI961,1,\"\")","v":1},{"$f":"IF(AH961=AI961,1,\"\")","v":""},{"$f":"IF(AH961<AI961,1,\"\")","v":""},{"$f":"AH961&\"-\"&AI961","v":"2-1"}]
[null,null,null,null,null,null,null,null,null,null,null,null,null,null,null,null,null,null,null,null,null,null,null,null,null,null,null,null,null,null,{"$f":"_xlfn.NORM.INV(RAND(),$Z$4,$N$20)","v":2.8374876996645262},{"$f":"_xlfn.NORM.INV(RAND(),$AA$4,$J$20)","v":-0.86743326947353872},0.98502721509549374]
[null,null,null,null,null,null,null,null,null,null,null,null,null,null,null,null,null,null,null,null,null,null,null,null,null,null,null,null,null,"№481",{"$f":"_xlfn.NORM.INV(RAND(),$Z$3,$I$20)","v":3.0463185677918871},{"$f":"_xlfn.NORM.INV(RAND(),$AA$3,$O$20)","v":0.89596882944962131},1.9711436986207542,{"$f":"ROUND(AG963,0)","v":2},{"$f":"ROUND(AG964,0)","v":2},{"$f":"IF(AH963>AI963,1,\"\")","v":""},{"$f":"IF(AH963=AI963,1,\"\")","v":1},{"$f":"IF(AH963<AI963,1,\"\")","v":""},{"$f":"AH963&\"-\"&AI963","v":"2-2"}]
[null,null,null,null,null,null,null,null,null,null,null,null,null,null,null,null,null,null,null,null,null,null,null,null,null,null,null,null,null,null,{"$f":"_xlfn.NORM.INV(RAND(),$Z$4,$N$20)","v":0.85415314635939077},{"$f":"_xlfn.NORM.INV(RAND(),$AA$4,$J$20)","v":2.3363610272460216},1.5952570868027061]
[null,null,null,null,null,null,null,null,null,null,null,null,null,null,null,null,null,null,null,null,null,null,null,null,null,null,null,null,null,"№482",{"$f":"_xlfn.NORM.INV(RAND(),$Z$3,$I$20)","v":2.6130143241560781},{"$f":"_xlfn.NORM.INV(RAND(),$AA$3,$O$20)","v":-2.3653536375008999E-2},{"$f":"(AE965+AF965)/2","v":1.2946803938905345},{"$f":"ROUND(AG965,0)","v":1},{"$f":"ROUND(AG966,0)","v":1},{"$f":"IF(AH965>AI965,1,\"\")","v":""},{"$f":"IF(AH965=AI965,1,\"\")","v":1},{"$f":"IF(AH965<AI965,1,\"\")","v":""},{"$f":"AH965&\"-\"&AI965","v":"1-1"}]
[null,null,null,null,null,null,null,null,null,null,null,null,null,null,null,null,null,null,null,null,null,null,null,null,null,null,null,null,null,null,{"$f":"_xlfn.NORM.INV(RAND(),$Z$4,$N$20)","v":2.0702630286363846},{"$f":"_xlfn.NORM.INV(RAND(),$AA$4,$J$20)","v":0.59492878460977017},1.3325959066230775]
[null,null,null,null,null,null,null,null,null,null,null,null,null,null,null,null,null,null,null,null,null,null,null,null,null,null,null,null,null,"№483",{"$f":"_xlfn.NORM.INV(RAND(),$Z$3,$I$20)","v":4.5558063197243142},{"$f":"_xlfn.NORM.INV(RAND(),$AA$3,$O$20)","v":-3.4599359907789173E-2},2.2606034799082626,{"$f":"ROUND(AG967,0)","v":2},{"$f":"ROUND(AG968,0)","v":1},{"$f":"IF(AH967>AI967,1,\"\")","v":1},{"$f":"IF(AH967=AI967,1,\"\")","v":""},{"$f":"IF(AH967<AI967,1,\"\")","v":""},{"$f":"AH967&\"-\"&AI967","v":"2-1"}]
[null,null,null,null,null,null,null,null,null,null,null,null,null,null,null,null,null,null,null,null,null,null,null,null,null,null,null,null,null,null,{"$f":"_xlfn.NORM.INV(RAND(),$Z$4,$N$20)","v":3.1274988420190737},{"$f":"_xlfn.NORM.INV(RAND(),$AA$4,$J$20)","v":-1.1560846267219937},0.98570710764853997]
[null,null,null,null,null,null,null,null,null,null,null,null,null,null,null,null,null,null,null,null,null,null,null,null,null,null,null,null,null,"№484",{"$f":"_xlfn.NORM.INV(RAND(),$Z$3,$I$20)","v":6.0188887999159668},{"$f":"_xlfn.NORM.INV(RAND(),$AA$3,$O$20)","v":0.70991471310134147},3.3644017565086539,{"$f":"ROUND(AG969,0)","v":3},{"$f":"ROUND(AG970,0)","v":3},{"$f":"IF(AH969>AI969,1,\"\")","v":""},{"$f":"IF(AH969=AI969,1,\"\")","v":1},{"$f":"IF(AH969<AI969,1,\"\")","v":""},{"$f":"AH969&\"-\"&AI969","v":"3-3"}]
[null,null,null,null,null,null,null,null,null,null,null,null,null,null,null,null,null,null,null,null,null,null,null,null,null,null,null,null,null,null,{"$f":"_xlfn.NORM.INV(RAND(),$Z$4,$N$20)","v":3.5242247457333979},{"$f":"_xlfn.NORM.INV(RAND(),$AA$4,$J$20)","v":2.2409422959275891},2.8825835208304937]
[null,null,null,null,null,null,null,null,null,null,null,null,null,null,null,null,null,null,null,null,null,null,null,null,null,null,null,null,null,"№485",{"$f":"_xlfn.NORM.INV(RAND(),$Z$3,$I$20)","v":4.916988054051429},{"$f":"_xlfn.NORM.INV(RAND(),$AA$3,$O$20)","v":1.0146323714509231},2.9658102127511761,{"$f":"ROUND(AG971,0)","v":3},{"$f":"ROUND(AG972,0)","v":1},{"$f":"IF(AH971>AI971,1,\"\")","v":1},{"$f":"IF(AH971=AI971,1,\"\")","v":""},{"$f":"IF(AH971<AI971,1,\"\")","v":""},{"$f":"AH971&\"-\"&AI971","v":"3-1"}]
[null,null,null,null,null,null,null,null,null,null,null,null,null,null,null,null,null,null,null,null,null,null,null,null,null,null,null,null,null,null,{"$f":"_xlfn.NORM.INV(RAND(),$Z$4,$N$20)","v":2.1250049881566819},{"$f":"_xlfn.NORM.INV(RAND(),$AA$4,$J$20)","v":0.82226911344532128},1.4736370508010017]
[null,null,null,null,null,null,null,null,null,null,null,null,null,null,null,null,null,null,null,null,null,null,null,null,null,null,null,null,null,"№486",{"$f":"_xlfn.NORM.INV(RAND(),$Z$3,$I$20)","v":3.0279222557200742},{"$f":"_xlfn.NORM.INV(RAND(),$AA$3,$O$20)","v":3.7667788375115006},3.3973505466157876,{"$f":"ROUND(AG973,0)","v":3},{"$f":"ROUND(AG974,0)","v":3},{"$f":"IF(AH973>AI973,1,\"\")","v":""},{"$f":"IF(AH973=AI973,1,\"\")","v":1},{"$f":"IF(AH973<AI973,1,\"\")","v":""},{"$f":"AH973&\"-\"&AI973","v":"3-3"}]
[null,null,null,null,null,null,null,null,null,null,null,null,null,null,null,null,null,null,null,null,null,null,null,null,null,null,null,null,null,null,{"$f":"_xlfn.NORM.INV(RAND(),$Z$4,$N$20)","v":2.1141350866742026},{"$f":"_xlfn.NORM.INV(RAND(),$AA$4,$J$20)","v":4.6007613173238706},3.3574482019990368]
[null,null,null,null,null,null,null,null,null,null,null,null,null,null,null,null,null,null,null,null,null,null,null,null,null,null,null,null,null,"№487",{"$f":"_xlfn.NORM.INV(RAND(),$Z$3,$I$20)","v":5.4385863628584721},{"$f":"_xlfn.NORM.INV(RAND(),$AA$3,$O$20)","v":-0.56223811112565492},2.4381741258664085,{"$f":"ROUND(AG975,0)","v":2},{"$f":"ROUND(AG976,0)","v":2},{"$f":"IF(AH975>AI975,1,\"\")","v":""},{"$f":"IF(AH975=AI975,1,\"\")","v":1},{"$f":"IF(AH975<AI975,1,\"\")","v":""},{"$f":"AH975&\"-\"&AI975","v":"2-2"}]
[null,null,null,null,null,null,null,null,null,null,null,null,null,null,null,null,null,null,null,null,null,null,null,null,null,null,null,null,null,null,{"$f":"_xlfn.NORM.INV(RAND(),$Z$4,$N$20)","v":1.2050270677951838},{"$f":"_xlfn.NORM.INV(RAND(),$AA$4,$J$20)","v":2.1306495807123795},1.6678383242537818]
[null,null,null,null,null,null,null,null,null,null,null,null,null,null,null,null,null,null,null,null,null,null,null,null,null,null,null,null,null,"№488",{"$f":"_xlfn.NORM.INV(RAND(),$Z$3,$I$20)","v":2.5020504682070475},{"$f":"_xlfn.NORM.INV(RAND(),$AA$3,$O$20)","v":2.3903387818395538},2.4461946250233009,{"$f":"ROUND(AG977,0)","v":2},{"$f":"ROUND(AG978,0)","v":2},{"$f":"IF(AH977>AI977,1,\"\")","v":""},{"$f":"IF(AH977=AI977,1,\"\")","v":1},{"$f":"IF(AH977<AI977,1,\"\")","v":""},{"$f":"AH977&\"-\"&AI977","v":"2-2"}]
[null,null,null,null,null,null,null,null,null,null,null,null,null,null,null,null,null,null,null,null,null,null,null,null,null,null,null,null,null,null,{"$f":"_xlfn.NORM.INV(RAND(),$Z$4,$N$20)","v":1.5457362069257354},{"$f":"_xlfn.NORM.INV(RAND(),$AA$4,$J$20)","v":3.0876099276521147},2.3166730672889253]
[null,null,null,null,null,null,null,null,null,null,null,null,null,null,null,null,null,null,null,null,null,null,null,null,null,null,null,null,null,"№489",{"$f":"_xlfn.NORM.INV(RAND(),$Z$3,$I$20)","v":1.5045969338426584},{"$f":"_xlfn.NORM.INV(RAND(),$AA$3,$O$20)","v":0.57479219544020888},1.0396945646414335,{"$f":"ROUND(AG979,0)","v":1},{"$f":"ROUND(AG980,0)","v":1},{"$f":"IF(AH979>AI979,1,\"\")","v":""},{"$f":"IF(AH979=AI979,1,\"\")","v":1},{"$f":"IF(AH979<AI979,1,\"\")","v":""},{"$f":"AH979&\"-\"&AI979","v":"1-1"}]
[null,null,null,null,null,null,null,null,null,null,null,null,null,null,null,null,null,null,null,null,null,null,null,null,null,null,null,null,null,null,{"$f":"_xlfn.NORM.INV(RAND(),$Z$4,$N$20)","v":3.6862484633595849},{"$f":"_xlfn.NORM.INV(RAND(),$AA$4,$J$20)","v":-1.1270745728858693},1.2795869452368578]
[null,null,null,null,null,null,null,null,null,null,null,null,null,null,null,null,null,null,null,null,null,null,null,null,null,null,null,null,null,"№490",{"$f":"_xlfn.NORM.INV(RAND(),$Z$3,$I$20)","v":3.4146535276429049},{"$f":"_xlfn.NORM.INV(RAND(),$AA$3,$O$20)","v":1.6426809036694614},2.5286672156561831,{"$f":"ROUND(AG981,0)","v":3},{"$f":"ROUND(AG982,0)","v":2},{"$f":"IF(AH981>AI981,1,\"\")","v":1},{"$f":"IF(AH981=AI981,1,\"\")","v":""},{"$f":"IF(AH981<AI981,1,\"\")","v":""},{"$f":"AH981&\"-\"&AI981","v":"3-2"}]
[null,null,null,null,null,null,null,null,null,null,null,null,null,null,null,null,null,null,null,null,null,null,null,null,null,null,null,null,null,null,{"$f":"_xlfn.NORM.INV(RAND(),$Z$4,$N$20)","v":2.8083080779122871},{"$f":"_xlfn.NORM.INV(RAND(),$AA$4,$J$20)","v":1.796031220093161},2.3021696490027241]
[null,null,null,null,null,null,null,null,null,null,null,null,null,null,null,null,null,null,null,null,null,null,null,null,null,null,null,null,null,"№491",{"$f":"_xlfn.NORM.INV(RAND(),$Z$3,$I$20)","v":3.6615248172700401},{"$f":"_xlfn.NORM.INV(RAND(),$AA$3,$O$20)","v":0.57522642255755663},2.1183756199137984,{"$f":"ROUND(AG983,0)","v":2},{"$f":"ROUND(AG984,0)","v":3},{"$f":"IF(AH983>AI983,1,\"\")","v":""},{"$f":"IF(AH983=AI983,1,\"\")","v":""},{"$f":"IF(AH983<AI983,1,\"\")","v":1},{"$f":"AH983&\"-\"&AI983","v":"2-3"}]
[null,null,null,null,null,null,null,null,null,null,null,null,null,null,null,null,null,null,null,null,null,null,null,null,null,null,null,null,null,null,{"$f":"_xlfn.NORM.INV(RAND(),$Z$4,$N$20)","v":2.3418712582930685},{"$f":"_xlfn.NORM.INV(RAND(),$AA$4,$J$20)","v":3.0199955289664566},2.6809333936297626]
[null,null,null,null,null,null,null,null,null,null,null,null,null,null,null,null,null,null,null,null,null,null,null,null,null,null,null,null,null,"№492",{"$f":"_xlfn.NORM.INV(RAND(),$Z$3,$I$20)","v":3.9772155018178728},{"$f":"_xlfn.NORM.INV(RAND(),$AA$3,$O$20)","v":0.93883210524238958},2.4580238035301312,{"$f":"ROUND(AG985,0)","v":2},{"$f":"ROUND(AG986,0)","v":3},{"$f":"IF(AH985>AI985,1,\"\")","v":""},{"$f":"IF(AH985=AI985,1,\"\")","v":""},{"$f":"IF(AH985<AI985,1,\"\")","v":1},{"$f":"AH985&\"-\"&AI985","v":"2-3"}]
[null,null,null,null,null,null,null,null,null,null,null,null,null,null,null,null,null,null,null,null,null,null,null,null,null,null,null,null,null,null,{"$f":"_xlfn.NORM.INV(RAND(),$Z$4,$N$20)","v":3.9283148067381699},{"$f":"_xlfn.NORM.INV(RAND(),$AA$4,$J$20)","v":1.2600148107496634},2.5941648087439164]
[null,null,null,null,null,null,null,null,null,null,null,null,null,null,null,null,null,null,null,null,null,null,null,null,null,null,null,null,null,"№493",{"$f":"_xlfn.NORM.INV(RAND(),$Z$3,$I$20)","v":3.1464301672894908},{"$f":"_xlfn.NORM.INV(RAND(),$AA$3,$O$20)","v":0.32574304372424873},1.7360866055068698,{"$f":"ROUND(AG987,0)","v":2},{"$f":"ROUND(AG988,0)","v":1},{"$f":"IF(AH987>AI987,1,\"\")","v":1},{"$f":"IF(AH987=AI987,1,\"\")","v":""},{"$f":"IF(AH987<AI987,1,\"\")","v":""},{"$f":"AH987&\"-\"&AI987","v":"2-1"}]
[null,null,null,null,null,null,null,null,null,null,null,null,null,null,null,null,null,null,null,null,null,null,null,null,null,null,null,null,null,null,{"$f":"_xlfn.NORM.INV(RAND(),$Z$4,$N$20)","v":2.4447873704241267},{"$f":"_xlfn.NORM.INV(RAND(),$AA$4,$J$20)","v":-0.33815861214954279},1.0533143791372921]
[null,null,null,null,null,null,null,null,null,null,null,null,null,null,null,null,null,null,null,null,null,null,null,null,null,null,null,null,null,"№494",{"$f":"_xlfn.NORM.INV(RAND(),$Z$3,$I$20)","v":2.6331571901239701},{"$f":"_xlfn.NORM.INV(RAND(),$AA$3,$O$20)","v":1.5905822188032823},2.1118697044636261,{"$f":"ROUND(AG989,0)","v":2},{"$f":"ROUND(AG990,0)","v":3},{"$f":"IF(AH989>AI989,1,\"\")","v":""},{"$f":"IF(AH989=AI989,1,\"\")","v":""},{"$f":"IF(AH989<AI989,1,\"\")","v":1},{"$f":"AH989&\"-\"&AI989","v":"2-3"}]
[null,null,null,null,null,null,null,null,null,null,null,null,null,null,null,null,null,null,null,null,null,null,null,null,null,null,null,null,null,null,{"$f":"_xlfn.NORM.INV(RAND(),$Z$4,$N$20)","v":3.7302911103307972},{"$f":"_xlfn.NORM.INV(RAND(),$AA$4,$J$20)","v":1.7941285053160068},2.7622098078234019]
[null,null,null,null,null,null,null,null,null,null,null,null,null,null,null,null,null,null,null,null,null,null,null,null,null,null,null,null,null,"№495",{"$f":"_xlfn.NORM.INV(RAND(),$Z$3,$I$20)","v":3.4141364440878603},{"$f":"_xlfn.NORM.INV(RAND(),$AA$3,$O$20)","v":1.8860402379657082},2.6500883410267844,{"$f":"ROUND(AG991,0)","v":3},{"$f":"ROUND(AG992,0)","v":2},{"$f":"IF(AH991>AI991,1,\"\")","v":1},{"$f":"IF(AH991=AI991,1,\"\")","v":""},{"$f":"IF(AH991<AI991,1,\"\")","v":""},{"$f":"AH991&\"-\"&AI991","v":"3-2"}]
[null,null,null,null,null,null,null,null,null,null,null,null,null,null,null,null,null,null,null,null,null,null,null,null,null,null,null,null,null,null,{"$f":"_xlfn.NORM.INV(RAND(),$Z$4,$N$20)","v":0.90663416571578237},{"$f":"_xlfn.NORM.INV(RAND(),$AA$4,$J$20)","v":2.1592355636489651},1.5329348646823737]
[null,null,null,null,null,null,null,null,null,null,null,null,null,null,null,null,null,null,null,null,null,null,null,null,null,null,null,null,null,"№496",{"$f":"_xlfn.NORM.INV(RAND(),$Z$3,$I$20)","v":2.9225072111425887},{"$f":"_xlfn.NORM.INV(RAND(),$AA$3,$O$20)","v":1.160068535648068},2.0412878733953281,{"$f":"ROUND(AG993,0)","v":2},{"$f":"ROUND(AG994,0)","v":3},{"$f":"IF(AH993>AI993,1,\"\")","v":""},{"$f":"IF(AH993=AI993,1,\"\")","v":""},{"$f":"IF(AH993<AI993,1,\"\")","v":1},{"$f":"AH993&\"-\"&AI993","v":"2-3"}]
[null,null,null,null,null,null,null,null,null,null,null,null,null,null,null,null,null,null,null,null,null,null,null,null,null,null,null,null,null,null,{"$f":"_xlfn.NORM.INV(RAND(),$Z$4,$N$20)","v":3.2763886427699651},{"$f":"_xlfn.NORM.INV(RAND(),$AA$4,$J$20)","v":3.2342313207430511},3.2553099817565081]
[null,null,null,null,null,null,null,null,null,null,null,null,null,null,null,null,null,null,null,null,null,null,null,null,null,null,null,null,null,"№497",{"$f":"_xlfn.NORM.INV(RAND(),$Z$3,$I$20)","v":4.8249185344530208},{"$f":"_xlfn.NORM.INV(RAND(),$AA$3,$O$20)","v":-0.41232761244846339},2.2062954610022789,{"$f":"ROUND(AG995,0)","v":2},{"$f":"ROUND(AG996,0)","v":3},{"$f":"IF(AH995>AI995,1,\"\")","v":""},{"$f":"IF(AH995=AI995,1,\"\")","v":""},{"$f":"IF(AH995<AI995,1,\"\")","v":1},{"$f":"AH995&\"-\"&AI995","v":"2-3"}]
[null,null,null,null,null,null,null,null,null,null,null,null,null,null,null,null,null,null,null,null,null,null,null,null,null,null,null,null,null,null,{"$f":"_xlfn.NORM.INV(RAND(),$Z$4,$N$20)","v":2.4529988766438042},{"$f":"_xlfn.NORM.INV(RAND(),$AA$4,$J$20)","v":3.9321237968346043},3.1925613367392041]
[null,null,null,null,null,null,null,null,null,null,null,null,null,null,null,null,null,null,null,null,null,null,null,null,null,null,null,null,null,"№498",{"$f":"_xlfn.NORM.INV(RAND(),$Z$3,$I$20)","v":3.413984698042988},{"$f":"_xlfn.NORM.INV(RAND(),$AA$3,$O$20)","v":2.12629197260806},2.770138335325524,{"$f":"ROUND(AG997,0)","v":3},{"$f":"ROUND(AG998,0)","v":2},{"$f":"IF(AH997>AI997,1,\"\")","v":1},{"$f":"IF(AH997=AI997,1,\"\")","v":""},{"$f":"IF(AH997<AI997,1,\"\")","v":""},{"$f":"AH997&\"-\"&AI997","v":"3-2"}]
[null,null,null,null,null,null,null,null,null,null,null,null,null,null,null,null,null,null,null,null,null,null,null,null,null,null,null,null,null,null,{"$f":"_xlfn.NORM.INV(RAND(),$Z$4,$N$20)","v":2.2188183175494083},{"$f":"_xlfn.NORM.INV(RAND(),$AA$4,$J$20)","v":1.9756842651426398},2.0972512913460242]
[null,null,null,null,null,null,null,null,null,null,null,null,null,null,null,null,null,null,null,null,null,null,null,null,null,null,null,null,null,"№499",{"$f":"_xlfn.NORM.INV(RAND(),$Z$3,$I$20)","v":6.5199603665368588},{"$f":"_xlfn.NORM.INV(RAND(),$AA$3,$O$20)","v":9.146701379293054E-2},3.3057136901648949,{"$f":"ROUND(AG999,0)","v":3},{"$f":"ROUND(AG1000,0)","v":2},{"$f":"IF(AH999>AI999,1,\"\")","v":1},{"$f":"IF(AH999=AI999,1,\"\")","v":""},{"$f":"IF(AH999<AI999,1,\"\")","v":""},{"$f":"AH999&\"-\"&AI999","v":"3-2"}]
[null,null,null,null,null,null,null,null,null,null,null,null,null,null,null,null,null,null,null,null,null,null,null,null,null,null,null,null,null,null,{"$f":"_xlfn.NORM.INV(RAND(),$Z$4,$N$20)","v":1.8800248424337753},{"$f":"_xlfn.NORM.INV(RAND(),$AA$4,$J$20)","v":2.1432978119261978},2.0116613271799864]
[null,null,null,null,null,null,null,null,null,null,null,null,null,null,null,null,null,null,null,null,null,null,null,null,null,null,null,null,null,null,{"$f":"_xlfn.NORM.INV(RAND(),$Z$4,$N$20)","v":2.1453527781145421},{"$f":"_xlfn.NORM.INV(RAND(),$AA$4,$J$20)","v":3.6596062845151667},2.9024795313148544]
[null,null,null,null,null,null,null,null,null,null,null,null,null,null,null,null,null,null,null,null,null,null,null,null,null,null,null,null,null,null,{"$f":"_xlfn.NORM.INV(RAND(),$Z$4,$N$20)","v":1.4930981719650704},{"$f":"_xlfn.NORM.INV(RAND(),$AA$4,$J$20)","v":1.1274331318266702},1.3102656518958704]
[null,null,null,null,null,null,null,null,null,null,null,null,null,null,null,null,null,null,null,null,null,null,null,null,null,null,null,null,null,null,{"$f":"_xlfn.NORM.INV(RAND(),$Z$4,$N$20)","v":1.7278401279725624},{"$f":"_xlfn.NORM.INV(RAND(),$AA$4,$J$20)","v":1.0364814777548657},1.382160802863714]
[null,null,null,null,null,null,null,null,null,null,null,null,null,null,null,null,null,null,null,null,null,null,null,null,null,null,null,null,null,null,{"$f":"_xlfn.NORM.INV(RAND(),$Z$4,$N$20)","v":1.195405390177781},{"$f":"_xlfn.NORM.INV(RAND(),$AA$4,$J$20)","v":2.7711911532010252},1.983298271689403]
[null,null,null,null,null,null,null,null,null,null,null,null,null,null,null,null,null,null,null,null,null,null,null,null,null,null,null,null,null,"№744",{"$f":"_xlfn.NORM.INV(RAND(),$Z$3,$I$20)","v":3.3803340892049469},{"$f":"_xlfn.NORM.INV(RAND(),$AA$3,$O$20)","v":0.77739512739440964},2.0788646082996785,{"$f":"ROUND(AG1489,0)","v":2},{"$f":"ROUND(AG1490,0)","v":1},{"$f":"IF(AH1489>AI1489,1,\"\")","v":1},{"$f":"IF(AH1489=AI1489,1,\"\")","v":""},{"$f":"IF(AH1489<AI1489,1,\"\")","v":""},{"$f":"AH1489&\"-\"&AI1489","v":"2-1"}]
[null,null,null,null,null,null,null,null,null,null,null,null,null,null,null,null,null,null,null,null,null,null,null,null,null,null,null,null,null,null,{"$f":"_xlfn.NORM.INV(RAND(),$Z$4,$N$20)","v":1.5830666553834232},{"$f":"_xlfn.NORM.INV(RAND(),$AA$4,$J$20)","v":2.7560816569310109},2.1695741561572168]
[null,null,null,null,null,null,null,null,null,null,null,null,null,null,null,null,null,null,null,null,null,null,null,null,null,null,null,null,null,"№805",{"$f":"_xlfn.NORM.INV(RAND(),$Z$3,$I$20)","v":2.272834144199428},{"$f":"_xlfn.NORM.INV(RAND(),$AA$3,$O$20)","v":0.57519145056766763},1.4240127973835479,{"$f":"ROUND(AG1611,0)","v":1},{"$f":"ROUND(AG1612,0)","v":3},{"$f":"IF(AH1611>AI1611,1,\"\")","v":""},{"$f":"IF(AH1611=AI1611,1,\"\")","v":""},{"$f":"IF(AH1611<AI1611,1,\"\")","v":1},{"$f":"AH1611&\"-\"&AI1611","v":"1-3"}]
[null,null,null,null,null,null,null,null,null,null,null,null,null,null,null,null,null,null,null,null,null,null,null,null,null,null,null,null,null,"№874",{"$f":"_xlfn.NORM.INV(RAND(),$Z$3,$I$20)","v":1.9517900607882948},{"$f":"_xlfn.NORM.INV(RAND(),$AA$3,$O$20)","v":-0.57288138420243495},0.6894543382929299,{"$f":"ROUND(AG1749,0)","v":1},{"$f":"ROUND(AG1750,0)","v":3},{"$f":"IF(AH1749>AI1749,1,\"\")","v":""},{"$f":"IF(AH1749=AI1749,1,\"\")","v":""},{"$f":"IF(AH1749<AI1749,1,\"\")","v":1},{"$f":"AH1749&\"-\"&AI1749","v":"1-3"}]
[null,null,null,null,null,null,null,null,null,null,null,null,null,null,null,null,null,null,null,null,null,null,null,null,null,null,null,null,null,null,{"$f":"_xlfn.NORM.INV(RAND(),$Z$4,$N$20)","v":2.9334963959445841},{"$f":"_xlfn.NORM.INV(RAND(),$AA$4,$J$20)","v":2.4206296886514629},2.6770630422980233]
[null,null,null,null,null,null,null,null,null,null,null,null,null,null,null,null,null,null,null,null,null,null,null,null,null,null,null,null,null,"№964",{"$f":"_xlfn.NORM.INV(RAND(),$Z$3,$I$20)","v":5.9030779209782889},{"$f":"_xlfn.NORM.INV(RAND(),$AA$3,$O$20)","v":1.4149145146904729},3.6589962178343809,{"$f":"ROUND(AG1929,0)","v":4},{"$f":"ROUND(AG1930,0)","v":2},{"$f":"IF(AH1929>AI1929,1,\"\")","v":1},{"$f":"IF(AH1929=AI1929,1,\"\")","v":""},{"$f":"IF(AH1929<AI1929,1,\"\")","v":""},{"$f":"AH1929&\"-\"&AI1929","v":"4-2"}]
[null,null,null,null,null,null,null,null,null,null,null,null,null,null,null,null,null,null,null,null,null,null,null,null,null,null,null,null,null,"№1033",{"$f":"_xlfn.NORM.INV(RAND(),$Z$3,$I$20)","v":0.25881178155354601},{"$f":"_xlfn.NORM.INV(RAND(),$AA$3,$O$20)","v":0.64243438996587265},0.45062308575970933,{"$f":"ROUND(AG2067,0)","v":0},{"$f":"ROUND(AG2068,0)","v":3},{"$f":"IF(AH2067>AI2067,1,\"\")","v":""},{"$f":"IF(AH2067=AI2067,1,\"\")","v":""},{"$f":"IF(AH2067<AI2067,1,\"\")","v":1},{"$f":"AH2067&\"-\"&AI2067","v":"0-3"}]
[null,null,null,null,null,null,null,null,null,null,null,null,null,null,null,null,null,null,null,null,null,null,null,null,null,null,null,null,null,null,{"$f":"_xlfn.NORM.INV(RAND(),$Z$4,$N$20)","v":2.7305480217851268},{"$f":"_xlfn.NORM.INV(RAND(),$AA$4,$J$20)","v":0.65167066569921017},1.6911093437421685]
[null,null,null,null,null,null,null,null,null,null,null,null,null,null,null,null,null,null,null,null,null,null,null,null,null,null,null,null,null,"№1093",{"$f":"_xlfn.NORM.INV(RAND(),$Z$3,$I$20)","v":4.7657793543875684},{"$f":"_xlfn.NORM.INV(RAND(),$AA$3,$O$20)","v":1.042106354941176},2.903942854664372,{"$f":"ROUND(AG2187,0)","v":3},{"$f":"ROUND(AG2188,0)","v":2},{"$f":"IF(AH2187>AI2187,1,\"\")","v":1},{"$f":"IF(AH2187=AI2187,1,\"\")","v":""},{"$f":"IF(AH2187<AI2187,1,\"\")","v":""},{"$f":"AH2187&\"-\"&AI2187","v":"3-2"}]
[null,null,null,null,null,null,null,null,null,null,null,null,null,null,null,null,null,null,null,null,null,null,null,null,null,null,null,null,null,null,{"$f":"_xlfn.NORM.INV(RAND(),$Z$4,$N$20)","v":2.8554679467588597},{"$f":"_xlfn.NORM.INV(RAND(),$AA$4,$J$20)","v":3.1221915304713903},2.988829738615125]
[null,null,null,null,null,null,null,null,null,null,null,null,null,null,null,null,null,null,null,null,null,null,null,null,null,null,null,null,null,null,{"$f":"_xlfn.NORM.INV(RAND(),$Z$4,$N$20)","v":3.5810999235010499},{"$f":"_xlfn.NORM.INV(RAND(),$AA$4,$J$20)","v":-1.400622094594846},1.0902389144531019]
[null,null,null,null,null,null,null,null,null,null,null,null,null,null,null,null,null,null,null,null,null,null,null,null,null,null,null,null,null,null,{"$f":"_xlfn.NORM.INV(RAND(),$Z$4,$N$20)","v":2.7717624850756817},{"$f":"_xlfn.NORM.INV(RAND(),$AA$4,$J$20)","v":1.3065721843933329},2.0391673347345072]
[null,null,null,null,null,null,null,null,null,null,null,null,null,null,null,null,null,null,null,null,null,null,null,null,null,null,null,null,null,null,{"$f":"_xlfn.NORM.INV(RAND(),$Z$4,$N$20)","v":2.3608754486308361},{"$f":"_xlfn.NORM.INV(RAND(),$AA$4,$J$20)","v":3.3539344534564011},2.8574049510436188]
[null,null,null,null,null,null,null,null,null,null,null,null,null,null,null,null,null,null,null,null,null,null,null,null,null,null,null,null,null,null,{"$f":"_xlfn.NORM.INV(RAND(),$Z$4,$N$20)","v":1.6114124767315483},{"$f":"_xlfn.NORM.INV(RAND(),$AA$4,$J$20)","v":-2.3325522992914793E-2},0.79404347686931676]
[null,null,null,null,null,null,null,null,null,null,null,null,null,null,null,null,null,null,null,null,null,null,null,null,null,null,null,null,null,"№1392",{"$f":"_xlfn.NORM.INV(RAND(),$Z$3,$I$20)","v":2.8718395820483087},{"$f":"_xlfn.NORM.INV(RAND(),$AA$3,$O$20)","v":1.4268443112121791},2.1493419466302441,{"$f":"ROUND(AG2785,0)","v":2},{"$f":"ROUND(AG2786,0)","v":1},{"$f":"IF(AH2785>AI2785,1,\"\")","v":1},{"$f":"IF(AH2785=AI2785,1,\"\")","v":""},{"$f":"IF(AH2785<AI2785,1,\"\")","v":""},{"$f":"AH2785&\"-\"&AI2785","v":"2-1"}]
[null,null,null,null,null,null,null,null,null,null,null,null,null,null,null,null,null,null,null,null,null,null,null,null,null,null,null,null,null,"№1463",{"$f":"_xlfn.NORM.INV(RAND(),$Z$3,$I$20)","v":2.3515868439610585},{"$f":"_xlfn.NORM.INV(RAND(),$AA$3,$O$20)","v":0.22593108410367746},1.288758964032368,{"$f":"ROUND(AG2927,0)","v":1},{"$f":"ROUND(AG2928,0)","v":0},{"$f":"IF(AH2927>AI2927,1,\"\")","v":1},{"$f":"IF(AH2927=AI2927,1,\"\")","v":""},{"$f":"IF(AH2927<AI2927,1,\"\")","v":""},{"$f":"AH2927&\"-\"&AI2927","v":"1-0"}]
[null,null,null,null,null,null,null,null,null,null,null,null,null,null,null,null,null,null,null,null,null,null,null,null,null,null,null,null,null,"№1491",{"$f":"_xlfn.NORM.INV(RAND(),$Z$3,$I$20)","v":2.461399223217688},{"$f":"_xlfn.NORM.INV(RAND(),$AA$3,$O$20)","v":2.6248941176582314},2.5431466704379595,{"$f":"ROUND(AG2983,0)","v":3},{"$f":"ROUND(AG2984,0)","v":2},{"$f":"IF(AH2983>AI2983,1,\"\")","v":1},{"$f":"IF(AH2983=AI2983,1,\"\")","v":""},{"$f":"IF(AH2983<AI2983,1,\"\")","v":""},{"$f":"AH2983&\"-\"&AI2983","v":"3-2"}]
[null,null,null,null,null,null,null,null,null,null,null,null,null,null,null,null,null,null,null,null,null,null,null,null,null,null,null,null,null,"№1553",{"$f":"_xlfn.NORM.INV(RAND(),$Z$3,$I$20)","v":4.5245576284771429},{"$f":"_xlfn.NORM.INV(RAND(),$AA$3,$O$20)","v":0.93781101029297487},2.7311843193850587,{"$f":"ROUND(AG3107,0)","v":3},{"$f":"ROUND(AG3108,0)","v":4},{"$f":"IF(AH3107>AI3107,1,\"\")","v":""},{"$f":"IF(AH3107=AI3107,1,\"\")","v":""},{"$f":"IF(AH3107<AI3107,1,\"\")","v":1},{"$f":"AH3107&\"-\"&AI3107","v":"3-4"}]
[null,null,null,null,null,null,null,null,null,null,null,null,null,null,null,null,null,null,null,null,null,null,null,null,null,null,null,null,null,"№1622",{"$f":"_xlfn.NORM.INV(RAND(),$Z$3,$I$20)","v":3.3664413949804746},{"$f":"_xlfn.NORM.INV(RAND(),$AA$3,$O$20)","v":0.42521064349106824},1.8958260192357714,{"$f":"ROUND(AG3245,0)","v":2},{"$f":"ROUND(AG3246,0)","v":4},{"$f":"IF(AH3245>AI3245,1,\"\")","v":""},{"$f":"IF(AH3245=AI3245,1,\"\")","v":""},{"$f":"IF(AH3245<AI3245,1,\"\")","v":1},{"$f":"AH3245&\"-\"&AI3245","v":"2-4"}]
[null,null,null,null,null,null,null,null,null,null,null,null,null,null,null,null,null,null,null,null,null,null,null,null,null,null,null,null,null,null,{"$f":"_xlfn.NORM.INV(RAND(),$Z$4,$N$20)","v":1.9416843942280293},{"$f":"_xlfn.NORM.INV(RAND(),$AA$4,$J$20)","v":-1.6247198012639541},0.1584822964820376]
[null,null,null,null,null,null,null,null,null,null,null,null,null,null,null,null,null,null,null,null,null,null,null,null,null,null,null,null,null,null,{"$f":"_xlfn.NORM.INV(RAND(),$Z$4,$N$20)","v":2.0317630446353192},{"$f":"_xlfn.NORM.INV(RAND(),$AA$4,$J$20)","v":0.67748085673164304},1.3546219506834811]
[null,null,null,null,null,null,null,null,null,null,null,null,null,null,null,null,null,null,null,null,null,null,null,null,null,null,null,null,null,"№1781",{"$f":"_xlfn.NORM.INV(RAND(),$Z$3,$I$20)","v":5.5544526664465579},{"$f":"_xlfn.NORM.INV(RAND(),$AA$3,$O$20)","v":2.8319853650651954},4.1932190157558766,{"$f":"ROUND(AG3563,0)","v":4},{"$f":"ROUND(AG3564,0)","v":2},{"$f":"IF(AH3563>AI3563,1,\"\")","v":1},{"$f":"IF(AH3563=AI3563,1,\"\")","v":""},{"$f":"IF(AH3563<AI3563,1,\"\")","v":""},{"$f":"AH3563&\"-\"&AI3563","v":"4-2"}]
[null,null,null,null,null,null,null,null,null,null,null,null,null,null,null,null,null,null,null,null,null,null,null,null,null,null,null,null,null,null,{"$f":"_xlfn.NORM.INV(RAND(),$Z$4,$N$20)","v":2.6772668936084414},{"$f":"_xlfn.NORM.INV(RAND(),$AA$4,$J$20)","v":3.6986359571793903},3.1879514253939156]
[null,null,null,null,null,null,null,null,null,null,null,null,null,null,null,null,null,null,null,null,null,null,null,null,null,null,null,null,null,null,{"$f":"_xlfn.NORM.INV(RAND(),$Z$4,$N$20)","v":1.6196031499409165},{"$f":"_xlfn.NORM.INV(RAND(),$AA$4,$J$20)","v":1.0765557850436049},1.3480794674922607]
[null,null,null,null,null,null,null,null,null,null,null,null,null,null,null,null,null,null,null,null,null,null,null,null,null,null,null,null,null,"№1889",{"$f":"_xlfn.NORM.INV(RAND(),$Z$3,$I$20)","v":5.9161177897575907},{"$f":"_xlfn.NORM.INV(RAND(),$AA$3,$O$20)","v":0.73872871227997705},3.327423251018784,{"$f":"ROUND(AG3779,0)","v":3},{"$f":"ROUND(AG3780,0)","v":3},{"$f":"IF(AH3779>AI3779,1,\"\")","v":""},{"$f":"IF(AH3779=AI3779,1,\"\")","v":1},{"$f":"IF(AH3779<AI3779,1,\"\")","v":""},{"$f":"AH3779&\"-\"&AI3779","v":"3-3"}]
[null,null,null,null,null,null,null,null,null,null,null,null,null,null,null,null,null,null,null,null,null,null,null,null,null,null,null,null,null,null,{"$f":"_xlfn.NORM.INV(RAND(),$Z$4,$N$20)","v":1.6011614312279612},{"$f":"_xlfn.NORM.INV(RAND(),$AA$4,$J$20)","v":0.41951562898329997},1.0103385301056305]
[null,null,null,null,null,null,null,null,null,null,null,null,null,null,null,null,null,null,null,null,null,null,null,null,null,null,null,null,null,"№1981",{"$f":"_xlfn.NORM.INV(RAND(),$Z$3,$I$20)","v":2.3304891039380085},{"$f":"_xlfn.NORM.INV(RAND(),$AA$3,$O$20)","v":1.4070312783420453},1.8687601911400269,{"$f":"ROUND(AG3963,0)","v":2},{"$f":"ROUND(AG3964,0)","v":2},{"$f":"IF(AH3963>AI3963,1,\"\")","v":""},{"$f":"IF(AH3963=AI3963,1,\"\")","v":1},{"$f":"IF(AH3963<AI3963,1,\"\")","v":""},{"$f":"AH3963&\"-\"&AI3963","v":"2-2"}]
[null,null,null,null,null,null,null,null,null,null,null,null,null,null,null,null,null,null,null,null,null,null,null,null,null,null,null,null,null,"№2050",{"$f":"_xlfn.NORM.INV(RAND(),$Z$3,$I$20)","v":3.6862553903072963},{"$f":"_xlfn.NORM.INV(RAND(),$AA$3,$O$20)","v":0.61261776656097378},{"$f":"(AE4101+AF4101)/2","v":2.1494365784341349},{"$f":"ROUND(AG4101,0)","v":2},{"$f":"ROUND(AG4102,0)","v":2},{"$f":"IF(AH4101>AI4101,1,\"\")","v":""},{"$f":"IF(AH4101=AI4101,1,\"\")","v":1},{"$f":"IF(AH4101<AI4101,1,\"\")","v":""},{"$f":"AH4101&\"-\"&AI4101","v":"2-2"}]
[null,null,null,null,null,null,null,null,null,null,null,null,null,null,null,null,null,null,null,null,null,null,null,null,null,null,null,null,null,null,{"$f":"_xlfn.NORM.INV(RAND(),$Z$4,$N$20)","v":2.1880156938609683},{"$f":"_xlfn.NORM.INV(RAND(),$AA$4,$J$20)","v":7.8042861724991086E-2},1.1330292777929798]
[null,null,null,null,null,null,null,null,null,null,null,null,null,null,null,null,null,null,null,null,null,null,null,null,null,null,null,null,null,"№2140",{"$f":"_xlfn.NORM.INV(RAND(),$Z$3,$I$20)","v":3.5691612969094924},{"$f":"_xlfn.NORM.INV(RAND(),$AA$3,$O$20)","v":0.14137644934792237},1.8552688731287073,{"$f":"ROUND(AG4281,0)","v":2},{"$f":"ROUND(AG4282,0)","v":0},{"$f":"IF(AH4281>AI4281,1,\"\")","v":1},{"$f":"IF(AH4281=AI4281,1,\"\")","v":""},{"$f":"IF(AH4281<AI4281,1,\"\")","v":""},{"$f":"AH4281&\"-\"&AI4281","v":"2-0"}]
[null,null,null,null,null,null,null,null,null,null,null,null,null,null,null,null,null,null,null,null,null,null,null,null,null,null,null,null,null,"№2209",{"$f":"_xlfn.NORM.INV(RAND(),$Z$3,$I$20)","v":4.3570286930123103},{"$f":"_xlfn.NORM.INV(RAND(),$AA$3,$O$20)","v":0.97036423726757293},2.6636964651399415,{"$f":"ROUND(AG4419,0)","v":3},{"$f":"ROUND(AG4420,0)","v":2},{"$f":"IF(AH4419>AI4419,1,\"\")","v":1},{"$f":"IF(AH4419=AI4419,1,\"\")","v":""},{"$f":"IF(AH4419<AI4419,1,\"\")","v":""},{"$f":"AH4419&\"-\"&AI4419","v":"3-2"}]
[null,null,null,null,null,null,null,null,null,null,null,null,null,null,null,null,null,null,null,null,null,null,null,null,null,null,null,null,null,null,{"$f":"_xlfn.NORM.INV(RAND(),$Z$4,$N$20)","v":1.9388748388740744},{"$f":"_xlfn.NORM.INV(RAND(),$AA$4,$J$20)","v":-0.53604717159515047},0.70141383363946197]
[null,null,null,null,null,null,null,null,null,null,null,null,null,null,null,null,null,null,null,null,null,null,null,null,null,null,null,null,null,"№2287",{"$f":"_xlfn.NORM.INV(RAND(),$Z$3,$I$20)","v":3.2933874840097728},{"$f":"_xlfn.NORM.INV(RAND(),$AA$3,$O$20)","v":-2.6198285378172925E-2},1.6335945993157999,{"$f":"ROUND(AG4575,0)","v":2},{"$f":"ROUND(AG4576,0)","v":3},{"$f":"IF(AH4575>AI4575,1,\"\")","v":""},{"$f":"IF(AH4575=AI4575,1,\"\")","v":""},{"$f":"IF(AH4575<AI4575,1,\"\")","v":1},{"$f":"AH4575&\"-\"&AI4575","v":"2-3"}]
[null,null,null,null,null,null,null,null,null,null,null,null,null,null,null,null,null,null,null,null,null,null,null,null,null,null,null,null,null,"№2370",{"$f":"_xlfn.NORM.INV(RAND(),$Z$3,$I$20)","v":4.9466626702238585},{"$f":"_xlfn.NORM.INV(RAND(),$AA$3,$O$20)","v":0.44288967360497417},{"$f":"(AE4741+AF4741)/2","v":2.6947761719144165},{"$f":"ROUND(AG4741,0)","v":3},{"$f":"ROUND(AG4742,0)","v":3},{"$f":"IF(AH4741>AI4741,1,\"\")","v":""},{"$f":"IF(AH4741=AI4741,1,\"\")","v":1},{"$f":"IF(AH4741<AI4741,1,\"\")","v":""},{"$f":"AH4741&\"-\"&AI4741","v":"3-3"}]
[null,null,null,null,null,null,null,null,null,null,null,null,null,null,null,null,null,null,null,null,null,null,null,null,null,null,null,null,null,null,{"$f":"_xlfn.NORM.INV(RAND(),$Z$4,$N$20)","v":1.700433877228005},{"$f":"_xlfn.NORM.INV(RAND(),$AA$4,$J$20)","v":1.3195553636984347},1.5099946204632197]
[null,null,null,null,null,null,null,null,null,null,null,null,null,null,null,null,null,null,null,null,null,null,null,null,null,null,null,null,null,null,{"$f":"_xlfn.NORM.INV(RAND(),$Z$4,$N$20)","v":2.3333597361660781},{"$f":"_xlfn.NORM.INV(RAND(),$AA$4,$J$20)","v":2.154485435512421},2.2439225858392495]
[null,null,null,null,null,null,null,null,null,null,null,null,null,null,null,null,null,null,null,null,null,null,null,null,null,null,null,null,null,null,{"$f":"_xlfn.NORM.INV(RAND(),$Z$4,$N$20)","v":1.6197580293595841},{"$f":"_xlfn.NORM.INV(RAND(),$AA$4,$J$20)","v":1.7123606854703437},1.666059357414964]
[null,null,null,null,null,null,null,null,null,null,null,null,null,null,null,null,null,null,null,null,null,null,null,null,null,null,null,null,null,null,{"$f":"_xlfn.NORM.INV(RAND(),$Z$4,$N$20)","v":2.8071596171952629},{"$f":"_xlfn.NORM.INV(RAND(),$AA$4,$J$20)","v":5.2015331206601418},4.0043463689277026]
[null,null,null,null,null,null,null,null,null,null,null,null,null,null,null,null,null,null,null,null,null,null,null,null,null,null,null,null,null,null,{"$f":"_xlfn.NORM.INV(RAND(),$Z$4,$N$20)","v":1.0766649242049728},{"$f":"_xlfn.NORM.INV(RAND(),$AA$4,$J$20)","v":4.3121971077701788},2.694431015987576]
[null,null,null,null,null,null,null,null,null,null,null,null,null,null,null,null,null,null,null,null,null,null,null,null,null,null,null,null,null,"№2639",{"$f":"_xlfn.NORM.INV(RAND(),$Z$3,$I$20)","v":2.0057383787637773},{"$f":"_xlfn.NORM.INV(RAND(),$AA$3,$O$20)","v":0.98096289235616196},1.4933506355599695,{"$f":"ROUND(AG5279,0)","v":1},{"$f":"ROUND(AG5280,0)","v":2},{"$f":"IF(AH5279>AI5279,1,\"\")","v":""},{"$f":"IF(AH5279=AI5279,1,\"\")","v":""},{"$f":"IF(AH5279<AI5279,1,\"\")","v":1},{"$f":"AH5279&\"-\"&AI5279","v":"1-2"}]
[null,null,null,null,null,null,null,null,null,null,null,null,null,null,null,null,null,null,null,null,null,null,null,null,null,null,null,null,null,"№2685",{"$f":"_xlfn.NORM.INV(RAND(),$Z$3,$I$20)","v":2.8774721280012465},{"$f":"_xlfn.NORM.INV(RAND(),$AA$3,$O$20)","v":1.6126303561395923},2.2450512420704194,{"$f":"ROUND(AG5371,0)","v":2},{"$f":"ROUND(AG5372,0)","v":2},{"$f":"IF(AH5371>AI5371,1,\"\")","v":""},{"$f":"IF(AH5371=AI5371,1,\"\")","v":1},{"$f":"IF(AH5371<AI5371,1,\"\")","v":""},{"$f":"AH5371&\"-\"&AI5371","v":"2-2"}]
[null,null,null,null,null,null,null,null,null,null,null,null,null,null,null,null,null,null,null,null,null,null,null,null,null,null,null,null,null,"№2729",{"$f":"_xlfn.NORM.INV(RAND(),$Z$3,$I$20)","v":3.408771466911205},{"$f":"_xlfn.NORM.INV(RAND(),$AA$3,$O$20)","v":2.5087041053301817},2.9587377861206932,{"$f":"ROUND(AG5459,0)","v":3},{"$f":"ROUND(AG5460,0)","v":2},{"$f":"IF(AH5459>AI5459,1,\"\")","v":1},{"$f":"IF(AH5459=AI5459,1,\"\")","v":""},{"$f":"IF(AH5459<AI5459,1,\"\")","v":""},{"$f":"AH5459&\"-\"&AI5459","v":"3-2"}]
[null,null,null,null,null,null,null,null,null,null,null,null,null,null,null,null,null,null,null,null,null,null,null,null,null,null,null,null,null,"№2798",{"$f":"_xlfn.NORM.INV(RAND(),$Z$3,$I$20)","v":1.3059042250127075},{"$f":"_xlfn.NORM.INV(RAND(),$AA$3,$O$20)","v":0.28023668790980949},0.79307045646125851,{"$f":"ROUND(AG5597,0)","v":1},{"$f":"ROUND(AG5598,0)","v":1},{"$f":"IF(AH5597>AI5597,1,\"\")","v":""},{"$f":"IF(AH5597=AI5597,1,\"\")","v":1},{"$f":"IF(AH5597<AI5597,1,\"\")","v":""},{"$f":"AH5597&\"-\"&AI5597","v":"1-1"}]
[null,null,null,null,null,null,null,null,null,null,null,null,null,null,null,null,null,null,null,null,null,null,null,null,null,null,null,null,null,"№2867",{"$f":"_xlfn.NORM.INV(RAND(),$Z$3,$I$20)","v":2.0333289399016694},{"$f":"_xlfn.NORM.INV(RAND(),$AA$3,$O$20)","v":-0.12471984697019156},0.95430454646573892,{"$f":"ROUND(AG5735,0)","v":1},{"$f":"ROUND(AG5736,0)","v":1},{"$f":"IF(AH5735>AI5735,1,\"\")","v":""},{"$f":"IF(AH5735=AI5735,1,\"\")","v":1},{"$f":"IF(AH5735<AI5735,1,\"\")","v":""},{"$f":"AH5735&\"-\"&AI5735","v":"1-1"}]
[null,null,null,null,null,null,null,null,null,null,null,null,null,null,null,null,null,null,null,null,null,null,null,null,null,null,null,null,null,null,{"$f":"_xlfn.NORM.INV(RAND(),$Z$4,$N$20)","v":1.8852649920385445},{"$f":"_xlfn.NORM.INV(RAND(),$AA$4,$J$20)","v":2.7448359649894396},2.3150504785139923]
[null,null,null,null,null,null,null,null,null,null,null,null,null,null,null,null,null,null,null,null,null,null,null,null,null,null,null,null,null,"№2957",{"$f":"_xlfn.NORM.INV(RAND(),$Z$3,$I$20)","v":5.528812129661917},{"$f":"_xlfn.NORM.INV(RAND(),$AA$3,$O$20)","v":0.37924443091386623},2.9540282802878917,{"$f":"ROUND(AG5915,0)","v":3},{"$f":"ROUND(AG5916,0)","v":2},{"$f":"IF(AH5915>AI5915,1,\"\")","v":1},{"$f":"IF(AH5915=AI5915,1,\"\")","v":""},{"$f":"IF(AH5915<AI5915,1,\"\")","v":""},{"$f":"AH5915&\"-\"&AI5915","v":"3-2"}]
[null,null,null,null,null,null,null,null,null,null,null,null,null,null,null,null,null,null,null,null,null,null,null,null,null,null,null,null,null,null,{"$f":"_xlfn.NORM.INV(RAND(),$Z$4,$N$20)","v":1.3756962448116239},{"$f":"_xlfn.NORM.INV(RAND(),$AA$4,$J$20)","v":4.3631478106891652},2.8694220277503946]
[null,null,null,null,null,null,null,null,null,null,null,null,null,null,null,null,null,null,null,null,null,null,null,null,null,null,null,null,null,null,{"$f":"_xlfn.NORM.INV(RAND(),$Z$4,$N$20)","v":2.4705864541886311},{"$f":"_xlfn.NORM.INV(RAND(),$AA$4,$J$20)","v":3.084841161373661},2.7777138077811463]
[null,null,null,null,null,null,null,null,null,null,null,null,null,null,null,null,null,null,null,null,null,null,null,null,null,null,null,null,null,"№3083",{"$f":"_xlfn.NORM.INV(RAND(),$Z$3,$I$20)","v":2.1281076059831809},{"$f":"_xlfn.NORM.INV(RAND(),$AA$3,$O$20)","v":-0.20808432213745065},0.96001164192286514,{"$f":"ROUND(AG6167,0)","v":1},{"$f":"ROUND(AG6168,0)","v":2},{"$f":"IF(AH6167>AI6167,1,\"\")","v":""},{"$f":"IF(AH6167=AI6167,1,\"\")","v":""},{"$f":"IF(AH6167<AI6167,1,\"\")","v":1},{"$f":"AH6167&\"-\"&AI6167","v":"1-2"}]
[null,null,null,null,null,null,null,null,null,null,null,null,null,null,null,null,null,null,null,null,null,null,null,null,null,null,null,null,null,null,{"$f":"_xlfn.NORM.INV(RAND(),$Z$4,$N$20)","v":2.1805291567212706},{"$f":"_xlfn.NORM.INV(RAND(),$AA$4,$J$20)","v":1.3473824607599731},1.7639558087406217]
[null,null,null,null,null,null,null,null,null,null,null,null,null,null,null,null,null,null,null,null,null,null,null,null,null,null,null,null,null,null,{"$f":"_xlfn.NORM.INV(RAND(),$Z$4,$N$20)","v":2.8998135317509979},{"$f":"_xlfn.NORM.INV(RAND(),$AA$4,$J$20)","v":2.462158656653588},2.6809860942022929]
[null,null,null,null,null,null,null,null,null,null,null,null,null,null,null,null,null,null,null,null,null,null,null,null,null,null,null,null,null,"№3228",{"$f":"_xlfn.NORM.INV(RAND(),$Z$3,$I$20)","v":0.38425794229053167},{"$f":"_xlfn.NORM.INV(RAND(),$AA$3,$O$20)","v":1.3426950892633129},0.8634765157769223,{"$f":"ROUND(AG6457,0)","v":1},{"$f":"ROUND(AG6458,0)","v":4},{"$f":"IF(AH6457>AI6457,1,\"\")","v":""},{"$f":"IF(AH6457=AI6457,1,\"\")","v":""},{"$f":"IF(AH6457<AI6457,1,\"\")","v":1},{"$f":"AH6457&\"-\"&AI6457","v":"1-4"}]
[null,null,null,null,null,null,null,null,null,null,null,null,null,null,null,null,null,null,null,null,null,null,null,null,null,null,null,null,null,null,{"$f":"_xlfn.NORM.INV(RAND(),$Z$4,$N$20)","v":1.9992789409932119},{"$f":"_xlfn.NORM.INV(RAND(),$AA$4,$J$20)","v":3.0814075514378185},2.5403432462155151]
[null,null,null,null,null,null,null,null,null,null,null,null,null,null,null,null,null,null,null,null,null,null,null,null,null,null,null,null,null,"№3316",{"$f":"_xlfn.NORM.INV(RAND(),$Z$3,$I$20)","v":3.8113748214961545},{"$f":"_xlfn.NORM.INV(RAND(),$AA$3,$O$20)","v":2.1359821286289526},2.9736784750625533,{"$f":"ROUND(AG6633,0)","v":3},{"$f":"ROUND(AG6634,0)","v":3},{"$f":"IF(AH6633>AI6633,1,\"\")","v":""},{"$f":"IF(AH6633=AI6633,1,\"\")","v":1},{"$f":"IF(AH6633<AI6633,1,\"\")","v":""},{"$f":"AH6633&\"-\"&AI6633","v":"3-3"}]
[null,null,null,null,null,null,null,null,null,null,null,null,null,null,null,null,null,null,null,null,null,null,null,null,null,null,null,null,null,"№3387",{"$f":"_xlfn.NORM.INV(RAND(),$Z$3,$I$20)","v":6.4817264549730425},{"$f":"_xlfn.NORM.INV(RAND(),$AA$3,$O$20)","v":0.90568605566358829},3.6937062553183155,{"$f":"ROUND(AG6775,0)","v":4},{"$f":"ROUND(AG6776,0)","v":3},{"$f":"IF(AH6775>AI6775,1,\"\")","v":1},{"$f":"IF(AH6775=AI6775,1,\"\")","v":""},{"$f":"IF(AH6775<AI6775,1,\"\")","v":""},{"$f":"AH6775&\"-\"&AI6775","v":"4-3"}]
[null,null,null,null,null,null,null,null,null,null,null,null,null,null,null,null,null,null,null,null,null,null,null,null,null,null,null,null,null,"№3456",{"$f":"_xlfn.NORM.INV(RAND(),$Z$3,$I$20)","v":2.9129680393902122},{"$f":"_xlfn.NORM.INV(RAND(),$AA$3,$O$20)","v":1.6302719070460581},2.2716199732181352,{"$f":"ROUND(AG6913,0)","v":2},{"$f":"ROUND(AG6914,0)","v":1},{"$f":"IF(AH6913>AI6913,1,\"\")","v":1},{"$f":"IF(AH6913=AI6913,1,\"\")","v":""},{"$f":"IF(AH6913<AI6913,1,\"\")","v":""},{"$f":"AH6913&\"-\"&AI6913","v":"2-1"}]
[null,null,null,null,null,null,null,null,null,null,null,null,null,null,null,null,null,null,null,null,null,null,null,null,null,null,null,null,null,"№3481",{"$f":"_xlfn.NORM.INV(RAND(),$Z$3,$I$20)","v":2.4604568464521073},{"$f":"_xlfn.NORM.INV(RAND(),$AA$3,$O$20)","v":1.7057263833604197},2.0830916149062633,{"$f":"ROUND(AG6963,0)","v":2},{"$f":"ROUND(AG6964,0)","v":2},{"$f":"IF(AH6963>AI6963,1,\"\")","v":""},{"$f":"IF(AH6963=AI6963,1,\"\")","v":1},{"$f":"IF(AH6963<AI6963,1,\"\")","v":""},{"$f":"AH6963&\"-\"&AI6963","v":"2-2"}]
[null,null,null,null,null,null,null,null,null,null,null,null,null,null,null,null,null,null,null,null,null,null,null,null,null,null,null,null,null,"№3546",{"$f":"_xlfn.NORM.INV(RAND(),$Z$3,$I$20)","v":5.0155253078075326},{"$f":"_xlfn.NORM.INV(RAND(),$AA$3,$O$20)","v":0.17881134134790289},2.5971683245777175,{"$f":"ROUND(AG7093,0)","v":3},{"$f":"ROUND(AG7094,0)","v":3},{"$f":"IF(AH7093>AI7093,1,\"\")","v":""},{"$f":"IF(AH7093=AI7093,1,\"\")","v":1},{"$f":"IF(AH7093<AI7093,1,\"\")","v":""},{"$f":"AH7093&\"-\"&AI7093","v":"3-3"}]
[null,null,null,null,null,null,null,null,null,null,null,null,null,null,null,null,null,null,null,null,null,null,null,null,null,null,null,null,null,null,{"$f":"_xlfn.NORM.INV(RAND(),$Z$4,$N$20)","v":3.4792074604993237},{"$f":"_xlfn.NORM.INV(RAND(),$AA$4,$J$20)","v":4.6119009659970924},4.0455542132482076]
[null,null,null,null,null,null,null,null,null,null,null,null,null,null,null,null,null,null,null,null,null,null,null,null,null,null,null,null,null,null,{"$f":"_xlfn.NORM.INV(RAND(),$Z$4,$N$20)","v":2.0826387275338933},{"$f":"_xlfn.NORM.INV(RAND(),$AA$4,$J$20)","v":4.3323071762553678E-2},1.0629808996482235]
[null,null,null,null,null,null,null,null,null,null,null,null,null,null,null,null,null,null,null,null,null,null,null,null,null,null,null,null,null,null,{"$f":"_xlfn.NORM.INV(RAND(),$Z$4,$N$20)","v":2.4533084428452216},{"$f":"_xlfn.NORM.INV(RAND(),$AA$4,$J$20)","v":1.4037256268044582},1.9285170348248399]
[null,null,null,null,null,null,null,null,null,null,null,null,null,null,null,null,null,null,null,null,null,null,null,null,null,null,null,null,null,null,{"$f":"_xlfn.NORM.INV(RAND(),$Z$4,$N$20)","v":2.0346122146130212},{"$f":"_xlfn.NORM.INV(RAND(),$AA$4,$J$20)","v":1.3209122646041807},1.6777622396086009]
[null,null,null,null,null,null,null,null,null,null,null,null,null,null,null,null,null,null,null,null,null,null,null,null,null,null,null,null,null,null,{"$f":"_xlfn.NORM.INV(RAND(),$Z$4,$N$20)","v":2.312045888161474},{"$f":"_xlfn.NORM.INV(RAND(),$AA$4,$J$20)","v":3.5664758382601862},2.9392608632108299]
[null,null,null,null,null,null,null,null,null,null,null,null,null,null,null,null,null,null,null,null,null,null,null,null,null,null,null,null,null,"№3815",{"$f":"_xlfn.NORM.INV(RAND(),$Z$3,$I$20)","v":3.6489166045504748},{"$f":"_xlfn.NORM.INV(RAND(),$AA$3,$O$20)","v":0.80258974663924032},2.2257531755948574,{"$f":"ROUND(AG7631,0)","v":2},{"$f":"ROUND(AG7632,0)","v":3},{"$f":"IF(AH7631>AI7631,1,\"\")","v":""},{"$f":"IF(AH7631=AI7631,1,\"\")","v":""},{"$f":"IF(AH7631<AI7631,1,\"\")","v":1},{"$f":"AH7631&\"-\"&AI7631","v":"2-3"}]
[null,null,null,null,null,null,null,null,null,null,null,null,null,null,null,null,null,null,null,null,null,null,null,null,null,null,null,null,null,"№3879",{"$f":"_xlfn.NORM.INV(RAND(),$Z$3,$I$20)","v":3.8280413217830693},{"$f":"_xlfn.NORM.INV(RAND(),$AA$3,$O$20)","v":8.3128469285980167E-2},1.9555848955345247,{"$f":"ROUND(AG7759,0)","v":2},{"$f":"ROUND(AG7760,0)","v":2},{"$f":"IF(AH7759>AI7759,1,\"\")","v":""},{"$f":"IF(AH7759=AI7759,1,\"\")","v":1},{"$f":"IF(AH7759<AI7759,1,\"\")","v":""},{"$f":"AH7759&\"-\"&AI7759","v":"2-2"}]
[null,null,null,null,null,null,null,null,null,null,null,null,null,null,null,null,null,null,null,null,null,null,null,null,null,null,null,null,null,null,{"$f":"_xlfn.NORM.INV(RAND(),$Z$4,$N$20)","v":2.4335673625276635},{"$f":"_xlfn.NORM.INV(RAND(),$AA$4,$J$20)","v":1.3994126756639012},1.9164900190957823]
[null,null,null,null,null,null,null,null,null,null,null,null,null,null,null,null,null,null,null,null,null,null,null,null,null,null,null,null,null,"№3974",{"$f":"_xlfn.NORM.INV(RAND(),$Z$3,$I$20)","v":4.6344149984010663},{"$f":"_xlfn.NORM.INV(RAND(),$AA$3,$O$20)","v":0.25108222721500917},2.4427486128080376,{"$f":"ROUND(AG7949,0)","v":2},{"$f":"ROUND(AG7950,0)","v":2},{"$f":"IF(AH7949>AI7949,1,\"\")","v":""},{"$f":"IF(AH7949=AI7949,1,\"\")","v":1},{"$f":"IF(AH7949<AI7949,1,\"\")","v":""},{"$f":"AH7949&\"-\"&AI7949","v":"2-2"}]
[null,null,null,null,null,null,null,null,null,null,null,null,null,null,null,null,null,null,null,null,null,null,null,null,null,null,null,null,null,"№4045",{"$f":"_xlfn.NORM.INV(RAND(),$Z$3,$I$20)","v":3.7595402038421639},{"$f":"_xlfn.NORM.INV(RAND(),$AA$3,$O$20)","v":2.8569401155659726},3.3082401597040683,{"$f":"ROUND(AG8091,0)","v":3},{"$f":"ROUND(AG8092,0)","v":2},{"$f":"IF(AH8091>AI8091,1,\"\")","v":1},{"$f":"IF(AH8091=AI8091,1,\"\")","v":""},{"$f":"IF(AH8091<AI8091,1,\"\")","v":""},{"$f":"AH8091&\"-\"&AI8091","v":"3-2"}]
[null,null,null,null,null,null,null,null,null,null,null,null,null,null,null,null,null,null,null,null,null,null,null,null,null,null,null,null,null,null,{"$f":"_xlfn.NORM.INV(RAND(),$Z$4,$N$20)","v":3.2372223915887455},{"$f":"_xlfn.NORM.INV(RAND(),$AA$4,$J$20)","v":-0.21726269015926047},1.5099798507147426]
[null,null,null,null,null,null,null,null,null,null,null,null,null,null,null,null,null,null,null,null,null,null,null,null,null,null,null,null,null,"№4133",{"$f":"_xlfn.NORM.INV(RAND(),$Z$3,$I$20)","v":0.16573600448400727},{"$f":"_xlfn.NORM.INV(RAND(),$AA$3,$O$20)","v":0.37149846552645482},0.26861723500523105,{"$f":"ROUND(AG8267,0)","v":0},{"$f":"ROUND(AG8268,0)","v":2},{"$f":"IF(AH8267>AI8267,1,\"\")","v":""},{"$f":"IF(AH8267=AI8267,1,\"\")","v":""},{"$f":"IF(AH8267<AI8267,1,\"\")","v":1},{"$f":"AH8267&\"-\"&AI8267","v":"0-2"}]
[null,null,null,null,null,null,null,null,null,null,null,null,null,null,null,null,null,null,null,null,null,null,null,null,null,null,null,null,null,null,{"$f":"_xlfn.NORM.INV(RAND(),$Z$4,$N$20)","v":2.2684219614994512},{"$f":"_xlfn.NORM.INV(RAND(),$AA$4,$J$20)","v":3.5130982376334607E-2},1.1517764719378929]
[null,null,null,null,null,null,null,null,null,null,null,null,null,null,null,null,null,null,null,null,null,null,null,null,null,null,null,null,null,null,{"$f":"_xlfn.NORM.INV(RAND(),$Z$4,$N$20)","v":2.0046373340580064},{"$f":"_xlfn.NORM.INV(RAND(),$AA$4,$J$20)","v":-0.89458839259120682},0.55502447073339978]
[null,null,null,null,null,null,null,null,null,null,null,null,null,null,null,null,null,null,null,null,null,null,null,null,null,null,null,null,null,"№4272",{"$f":"_xlfn.NORM.INV(RAND(),$Z$3,$I$20)","v":4.4997159273041261},{"$f":"_xlfn.NORM.INV(RAND(),$AA$3,$O$20)","v":0.24041680423825629},2.3700663657711911,{"$f":"ROUND(AG8545,0)","v":2},{"$f":"ROUND(AG8546,0)","v":2},{"$f":"IF(AH8545>AI8545,1,\"\")","v":""},{"$f":"IF(AH8545=AI8545,1,\"\")","v":1},{"$f":"IF(AH8545<AI8545,1,\"\")","v":""},{"$f":"AH8545&\"-\"&AI8545","v":"2-2"}]
[null,null,null,null,null,null,null,null,null,null,null,null,null,null,null,null,null,null,null,null,null,null,null,null,null,null,null,null,null,null,{"$f":"_xlfn.NORM.INV(RAND(),$Z$4,$N$20)","v":2.2699859524263197},{"$f":"_xlfn.NORM.INV(RAND(),$AA$4,$J$20)","v":1.9657020413329889},2.1178439968796541]
[null,null,null,null,null,null,null,null,null,null,null,null,null,null,null,null,null,null,null,null,null,null,null,null,null,null,null,null,null,null,{"$f":"_xlfn.NORM.INV(RAND(),$Z$4,$N$20)","v":3.3638958329272679},{"$f":"_xlfn.NORM.INV(RAND(),$AA$4,$J$20)","v":2.0294287171620193},2.6966622750446438]
[null,null,null,null,null,null,null,null,null,null,null,null,null,null,null,null,null,null,null,null,null,null,null,null,null,null,null,null,null,"№4404",{"$f":"_xlfn.NORM.INV(RAND(),$Z$3,$I$20)","v":3.9327363309688281},{"$f":"_xlfn.NORM.INV(RAND(),$AA$3,$O$20)","v":1.4004245864926945},2.6665804587307615,{"$f":"ROUND(AG8809,0)","v":3},{"$f":"ROUND(AG8810,0)","v":2},{"$f":"IF(AH8809>AI8809,1,\"\")","v":1},{"$f":"IF(AH8809=AI8809,1,\"\")","v":""},{"$f":"IF(AH8809<AI8809,1,\"\")","v":""},{"$f":"AH8809&\"-\"&AI8809","v":"3-2"}]
[null,null,null,null,null,null,null,null,null,null,null,null,null,null,null,null,null,null,null,null,null,null,null,null,null,null,null,null,null,null,{"$f":"_xlfn.NORM.INV(RAND(),$Z$4,$N$20)","v":2.5997442172924234},{"$f":"_xlfn.NORM.INV(RAND(),$AA$4,$J$20)","v":-4.5663510813546804E-2},1.2770403532394383]
[null,null,null,null,null,null,null,null,null,null,null,null,null,null,null,null,null,null,null,null,null,null,null,null,null,null,null,null,null,null,{"$f":"_xlfn.NORM.INV(RAND(),$Z$4,$N$20)","v":2.078706916346583},{"$f":"_xlfn.NORM.INV(RAND(),$AA$4,$J$20)","v":3.8114575871577783},2.9450822517521806]
[null,null,null,null,null,null,null,null,null,null,null,null,null,null,null,null,null,null,null,null,null,null,null,null,null,null,null,null,null,"№4563",{"$f":"_xlfn.NORM.INV(RAND(),$Z$3,$I$20)","v":3.0207532188290984},{"$f":"_xlfn.NORM.INV(RAND(),$AA$3,$O$20)","v":2.9057998124666096},2.9632765156478538,{"$f":"ROUND(AG9127,0)","v":3},{"$f":"ROUND(AG9128,0)","v":1},{"$f":"IF(AH9127>AI9127,1,\"\")","v":1},{"$f":"IF(AH9127=AI9127,1,\"\")","v":""},{"$f":"IF(AH9127<AI9127,1,\"\")","v":""},{"$f":"AH9127&\"-\"&AI9127","v":"3-1"}]
[null,null,null,null,null,null,null,null,null,null,null,null,null,null,null,null,null,null,null,null,null,null,null,null,null,null,null,null,null,"№4632",{"$f":"_xlfn.NORM.INV(RAND(),$Z$3,$I$20)","v":3.149291618168224},{"$f":"_xlfn.NORM.INV(RAND(),$AA$3,$O$20)","v":1.4756302071327867},2.3124609126505051,{"$f":"ROUND(AG9265,0)","v":2},{"$f":"ROUND(AG9266,0)","v":1},{"$f":"IF(AH9265>AI9265,1,\"\")","v":1},{"$f":"IF(AH9265=AI9265,1,\"\")","v":""},{"$f":"IF(AH9265<AI9265,1,\"\")","v":""},{"$f":"AH9265&\"-\"&AI9265","v":"2-1"}]
[null,null,null,null,null,null,null,null,null,null,null,null,null,null,null,null,null,null,null,null,null,null,null,null,null,null,null,null,null,"№4670",{"$f":"_xlfn.NORM.INV(RAND(),$Z$3,$I$20)","v":3.0309392574457235},{"$f":"_xlfn.NORM.INV(RAND(),$AA$3,$O$20)","v":0.51430556561909446},1.772622411532409,{"$f":"ROUND(AG9341,0)","v":2},{"$f":"ROUND(AG9342,0)","v":3},{"$f":"IF(AH9341>AI9341,1,\"\")","v":""},{"$f":"IF(AH9341=AI9341,1,\"\")","v":""},{"$f":"IF(AH9341<AI9341,1,\"\")","v":1},{"$f":"AH9341&\"-\"&AI9341","v":"2-3"}]
[null,null,null,null,null,null,null,null,null,null,null,null,null,null,null,null,null,null,null,null,null,null,null,null,null,null,null,null,null,"№4722",{"$f":"_xlfn.NORM.INV(RAND(),$Z$3,$I$20)","v":3.2099543741729915},{"$f":"_xlfn.NORM.INV(RAND(),$AA$3,$O$20)","v":-0.11175900487961088},1.5490976846466902,{"$f":"ROUND(AG9445,0)","v":2},{"$f":"ROUND(AG9446,0)","v":2},{"$f":"IF(AH9445>AI9445,1,\"\")","v":""},{"$f":"IF(AH9445=AI9445,1,\"\")","v":1},{"$f":"IF(AH9445<AI9445,1,\"\")","v":""},{"$f":"AH9445&\"-\"&AI9445","v":"2-2"}]
[null,null,null,null,null,null,null,null,null,null,null,null,null,null,null,null,null,null,null,null,null,null,null,null,null,null,null,null,null,"№4791",{"$f":"_xlfn.NORM.INV(RAND(),$Z$3,$I$20)","v":1.6514203137117158},{"$f":"_xlfn.NORM.INV(RAND(),$AA$3,$O$20)","v":-0.10332438558851054},0.7740479640616027,{"$f":"ROUND(AG9583,0)","v":1},{"$f":"ROUND(AG9584,0)","v":2},{"$f":"IF(AH9583>AI9583,1,\"\")","v":""},{"$f":"IF(AH9583=AI9583,1,\"\")","v":""},{"$f":"IF(AH9583<AI9583,1,\"\")","v":1},{"$f":"AH9583&\"-\"&AI9583","v":"1-2"}]
[null,null,null,null,null,null,null,null,null,null,null,null,null,null,null,null,null,null,null,null,null,null,null,null,null,null,null,null,null,null,{"$f":"_xlfn.NORM.INV(RAND(),$Z$4,$N$20)","v":2.188407217976772},{"$f":"_xlfn.NORM.INV(RAND(),$AA$4,$J$20)","v":3.487941482461673},2.8381743502192225]
[null,null,null,null,null,null,null,null,null,null,null,null,null,null,null,null,null,null,null,null,null,null,null,null,null,null,null,null,null,null,{"$f":"_xlfn.NORM.INV(RAND(),$Z$4,$N$20)","v":1.9810453482241341},{"$f":"_xlfn.NORM.INV(RAND(),$AA$4,$J$20)","v":1.6612708364865112},1.8211580923553226]
[null,null,null,null,null,null,null,null,null,null,null,null,null,null,null,null,null,null,null,null,null,null,null,null,null,null,null,null,null,null,{"$f":"_xlfn.NORM.INV(RAND(),$Z$4,$N$20)","v":2.7780345366452632},{"$f":"_xlfn.NORM.INV(RAND(),$AA$4,$J$20)","v":2.5106232917881823},2.6443289142167226]
[null,null,null,null,null,null,null,null,null,null,null,null,null,null,null,null,null,null,null,null,null,null,null,null,null,null,null,null,null,null,{"$f":"_xlfn.NORM.INV(RAND(),$Z$4,$N$20)","v":2.0839913885699977},{"$f":"_xlfn.NORM.INV(RAND(),$AA$4,$J$20)","v":2.1829808734906555},2.1334861310303266]
[null,null,null,null,null,null,null,null,null,null,null,null,null,null,null,null,null,null,null,null,null,null,null,null,null,null,null,null,null,null,{"$f":"_xlfn.NORM.INV(RAND(),$Z$4,$N$20)","v":2.3981182728133188},{"$f":"_xlfn.NORM.INV(RAND(),$AA$4,$J$20)","v":2.0222446553410101},2.2101814640771646]
[null,null,null,null,null,null,null,null,null,null,null,null,null,null,null,null,null,null,null,null,null,null,null,null,null,null,null,null,null,"№5068",{"$f":"_xlfn.NORM.INV(RAND(),$Z$3,$I$20)","v":4.272732876347991},{"$f":"_xlfn.NORM.INV(RAND(),$AA$3,$O$20)","v":1.5477696538176504},2.9102512650828207,{"$f":"ROUND(AG10137,0)","v":3},{"$f":"ROUND(AG10138,0)","v":2},{"$f":"IF(AH10137>AI10137,1,\"\")","v":1},{"$f":"IF(AH10137=AI10137,1,\"\")","v":""},{"$f":"IF(AH10137<AI10137,1,\"\")","v":""},{"$f":"AH10137&\"-\"&AI10137","v":"3-2"}]
[null,null,null,null,null,null,null,null,null,null,null,null,null,null,null,null,null,null,null,null,null,null,null,null,null,null,null,null,null,null,{"$f":"_xlfn.NORM.INV(RAND(),$Z$4,$N$20)","v":2.2840963955703977},{"$f":"_xlfn.NORM.INV(RAND(),$AA$4,$J$20)","v":3.456454800140583},2.8702755978554904]
[null,null,null,null,null,null,null,null,null,null,null,null,null,null,null,null,null,null,null,null,null,null,null,null,null,null,null,null,null,"№5150",{"$f":"_xlfn.NORM.INV(RAND(),$Z$3,$I$20)","v":3.4553554344996185},{"$f":"_xlfn.NORM.INV(RAND(),$AA$3,$O$20)","v":1.2607442818823504},2.3580498581909843,{"$f":"ROUND(AG10301,0)","v":2},{"$f":"ROUND(AG10302,0)","v":3},{"$f":"IF(AH10301>AI10301,1,\"\")","v":""},{"$f":"IF(AH10301=AI10301,1,\"\")","v":""},{"$f":"IF(AH10301<AI10301,1,\"\")","v":1},{"$f":"AH10301&\"-\"&AI10301","v":"2-3"}]
[null,null,null,null,null,null,null,null,null,null,null,null,null,null,null,null,null,null,null,null,null,null,null,null,null,null,null,null,null,"№5221",{"$f":"_xlfn.NORM.INV(RAND(),$Z$3,$I$20)","v":3.1072349365372616},{"$f":"_xlfn.NORM.INV(RAND(),$AA$3,$O$20)","v":0.49006772167076784},1.7986513291040147,{"$f":"ROUND(AG10443,0)","v":2},{"$f":"ROUND(AG10444,0)","v":2},{"$f":"IF(AH10443>AI10443,1,\"\")","v":""},{"$f":"IF(AH10443=AI10443,1,\"\")","v":1},{"$f":"IF(AH10443<AI10443,1,\"\")","v":""},{"$f":"AH10443&\"-\"&AI10443","v":"2-2"}]
[null,null,null,null,null,null,null,null,null,null,null,null,null,null,null,null,null,null,null,null,null,null,null,null,null,null,null,null,null,null,{"$f":"_xlfn.NORM.INV(RAND(),$Z$4,$N$20)","v":1.8006779602202776},{"$f":"_xlfn.NORM.INV(RAND(),$AA$4,$J$20)","v":3.5955116490121677},2.6980948046162228]
[null,null,null,null,null,null,null,null,null,null,null,null,null,null,null,null,null,null,null,null,null,null,null,null,null,null,null,null,null,"№5311",{"$f":"_xlfn.NORM.INV(RAND(),$Z$3,$I$20)","v":5.245647048005794},{"$f":"_xlfn.NORM.INV(RAND(),$AA$3,$O$20)","v":0.2470242469946683},2.746335647500231,{"$f":"ROUND(AG10623,0)","v":3},{"$f":"ROUND(AG10624,0)","v":1},{"$f":"IF(AH10623>AI10623,1,\"\")","v":1},{"$f":"IF(AH10623=AI10623,1,\"\")","v":""},{"$f":"IF(AH10623<AI10623,1,\"\")","v":""},{"$f":"AH10623&\"-\"&AI10623","v":"3-1"}]
[null,null,null,null,null,null,null,null,null,null,null,null,null,null,null,null,null,null,null,null,null,null,null,null,null,null,null,null,null,"№5380",{"$f":"_xlfn.NORM.INV(RAND(),$Z$3,$I$20)","v":3.5237781898024396},{"$f":"_xlfn.NORM.INV(RAND(),$AA$3,$O$20)","v":-0.30712447809711119},1.6083268558526642,{"$f":"ROUND(AG10761,0)","v":2},{"$f":"ROUND(AG10762,0)","v":1},{"$f":"IF(AH10761>AI10761,1,\"\")","v":1},{"$f":"IF(AH10761=AI10761,1,\"\")","v":""},{"$f":"IF(AH10761<AI10761,1,\"\")","v":""},{"$f":"AH10761&\"-\"&AI10761","v":"2-1"}]
[null,null,null,null,null,null,null,null,null,null,null,null,null,null,null,null,null,null,null,null,null,null,null,null,null,null,null,null,null,null,{"$f":"_xlfn.NORM.INV(RAND(),$Z$4,$N$20)","v":2.541784525853124},{"$f":"_xlfn.NORM.INV(RAND(),$AA$4,$J$20)","v":1.6115795778032356},2.0766820518281799]
[null,null,null,null,null,null,null,null,null,null,null,null,null,null,null,null,null,null,null,null,null,null,null,null,null,null,null,null,null,"№5466",{"$f":"_xlfn.NORM.INV(RAND(),$Z$3,$I$20)","v":3.204287496620426},{"$f":"_xlfn.NORM.INV(RAND(),$AA$3,$O$20)","v":2.832818383897159},3.0185529402587923,{"$f":"ROUND(AG10933,0)","v":3},{"$f":"ROUND(AG10934,0)","v":1},{"$f":"IF(AH10933>AI10933,1,\"\")","v":1},{"$f":"IF(AH10933=AI10933,1,\"\")","v":""},{"$f":"IF(AH10933<AI10933,1,\"\")","v":""},{"$f":"AH10933&\"-\"&AI10933","v":"3-1"}]
[null,null,null,null,null,null,null,null,null,null,null,null,null,null,null,null,null,null,null,null,null,null,null,null,null,null,null,null,null,null,{"$f":"_xlfn.NORM.INV(RAND(),$Z$4,$N$20)","v":2.6508962972144823},{"$f":"_xlfn.NORM.INV(RAND(),$AA$4,$J$20)","v":3.1448217206641615},2.8978590089393217]
[null,null,null,null,null,null,null,null,null,null,null,null,null,null,null,null,null,null,null,null,null,null,null,null,null,null,null,null,null,null,{"$f":"_xlfn.NORM.INV(RAND(),$Z$4,$N$20)","v":1.5706685455882037},{"$f":"_xlfn.NORM.INV(RAND(),$AA$4,$J$20)","v":2.2000715438903473},1.8853700447392754]
[null,null,null,null,null,null,null,null,null,null,null,null,null,null,null,null,null,null,null,null,null,null,null,null,null,null,null,null,null,null,{"$f":"_xlfn.NORM.INV(RAND(),$Z$4,$N$20)","v":3.4875483373670519},{"$f":"_xlfn.NORM.INV(RAND(),$AA$4,$J$20)","v":5.9862014184685215},4.7368748779177867]
[null,null,null,null,null,null,null,null,null,null,null,null,null,null,null,null,null,null,null,null,null,null,null,null,null,null,null,null,null,null,{"$f":"_xlfn.NORM.INV(RAND(),$Z$4,$N$20)","v":2.3183335107784844},{"$f":"_xlfn.NORM.INV(RAND(),$AA$4,$J$20)","v":3.3647391856605342},2.8415363482195093]
[null,null,null,null,null,null,null,null,null,null,null,null,null,null,null,null,null,null,null,null,null,null,null,null,null,null,null,null,null,null,{"$f":"_xlfn.NORM.INV(RAND(),$Z$4,$N$20)","v":0.91475940186248739},{"$f":"_xlfn.NORM.INV(RAND(),$AA$4,$J$20)","v":-0.66034200232668061},0.12720869976790339]
[null,null,null,null,null,null,null,null,null,null,null,null,null,null,null,null,null,null,null,null,null,null,null,null,null,null,null,null,null,"№5739",{"$f":"_xlfn.NORM.INV(RAND(),$Z$3,$I$20)","v":7.2433501303940186},{"$f":"_xlfn.NORM.INV(RAND(),$AA$3,$O$20)","v":2.4377540557935067},4.8405520930937627,{"$f":"ROUND(AG11479,0)","v":5},{"$f":"ROUND(AG11480,0)","v":3},{"$f":"IF(AH11479>AI11479,1,\"\")","v":1},{"$f":"IF(AH11479=AI11479,1,\"\")","v":""},{"$f":"IF(AH11479<AI11479,1,\"\")","v":""},{"$f":"AH11479&\"-\"&AI11479","v":"5-3"}]
[null,null,null,null,null,null,null,null,null,null,null,null,null,null,null,null,null,null,null,null,null,null,null,null,null,null,null,null,null,"№5808",{"$f":"_xlfn.NORM.INV(RAND(),$Z$3,$I$20)","v":3.1652712599281263},{"$f":"_xlfn.NORM.INV(RAND(),$AA$3,$O$20)","v":-0.19754672060125456},1.4838622696634358,{"$f":"ROUND(AG11617,0)","v":1},{"$f":"ROUND(AG11618,0)","v":3},{"$f":"IF(AH11617>AI11617,1,\"\")","v":""},{"$f":"IF(AH11617=AI11617,1,\"\")","v":""},{"$f":"IF(AH11617<AI11617,1,\"\")","v":1},{"$f":"AH11617&\"-\"&AI11617","v":"1-3"}]
[null,null,null,null,null,null,null,null,null,null,null,null,null,null,null,null,null,null,null,null,null,null,null,null,null,null,null,null,null,"№5864",{"$f":"_xlfn.NORM.INV(RAND(),$Z$3,$I$20)","v":2.4531120754173719},{"$f":"_xlfn.NORM.INV(RAND(),$AA$3,$O$20)","v":0.91668177633914549},1.6848969258782587,{"$f":"ROUND(AG11729,0)","v":2},{"$f":"ROUND(AG11730,0)","v":1},{"$f":"IF(AH11729>AI11729,1,\"\")","v":1},{"$f":"IF(AH11729=AI11729,1,\"\")","v":""},{"$f":"IF(AH11729<AI11729,1,\"\")","v":""},{"$f":"AH11729&\"-\"&AI11729","v":"2-1"}]
[null,null,null,null,null,null,null,null,null,null,null,null,null,null,null,null,null,null,null,null,null,null,null,null,null,null,null,null,null,"№5898",{"$f":"_xlfn.NORM.INV(RAND(),$Z$3,$I$20)","v":2.3380143562651297},{"$f":"_xlfn.NORM.INV(RAND(),$AA$3,$O$20)","v":1.7497998128260799},2.0439070845456047,{"$f":"ROUND(AG11797,0)","v":2},{"$f":"ROUND(AG11798,0)","v":3},{"$f":"IF(AH11797>AI11797,1,\"\")","v":""},{"$f":"IF(AH11797=AI11797,1,\"\")","v":""},{"$f":"IF(AH11797<AI11797,1,\"\")","v":1},{"$f":"AH11797&\"-\"&AI11797","v":"2-3"}]
[null,null,null,null,null,null,null,null,null,null,null,null,null,null,null,null,null,null,null,null,null,null,null,null,null,null,null,null,null,"№5969",{"$f":"_xlfn.NORM.INV(RAND(),$Z$3,$I$20)","v":2.8613364883693442},{"$f":"_xlfn.NORM.INV(RAND(),$AA$3,$O$20)","v":0.99782543411325775},1.9295809612413009,{"$f":"ROUND(AG11939,0)","v":2},{"$f":"ROUND(AG11940,0)","v":2},{"$f":"IF(AH11939>AI11939,1,\"\")","v":""},{"$f":"IF(AH11939=AI11939,1,\"\")","v":1},{"$f":"IF(AH11939<AI11939,1,\"\")","v":""},{"$f":"AH11939&\"-\"&AI11939","v":"2-2"}]
[null,null,null,null,null,null,null,null,null,null,null,null,null,null,null,null,null,null,null,null,null,null,null,null,null,null,null,null,null,null,{"$f":"_xlfn.NORM.INV(RAND(),$Z$4,$N$20)","v":3.6782094570641783},{"$f":"_xlfn.NORM.INV(RAND(),$AA$4,$J$20)","v":1.3590745522315606},2.5186420046478695]
[null,null,null,null,null,null,null,null,null,null,null,null,null,null,null,null,null,null,null,null,null,null,null,null,null,null,null,null,null,null,{"$f":"_xlfn.NORM.INV(RAND(),$Z$4,$N$20)","v":2.6661647164675411},{"$f":"_xlfn.NORM.INV(RAND(),$AA$4,$J$20)","v":-0.73782331997047468},0.96417069824853319]
[null,null,null,null,null,null,null,null,null,null,null,null,null,null,null,null,null,null,null,null,null,null,null,null,null,null,null,null,null,"№6128",{"$f":"_xlfn.NORM.INV(RAND(),$Z$3,$I$20)","v":3.9463538700057756},{"$f":"_xlfn.NORM.INV(RAND(),$AA$3,$O$20)","v":-2.9321707164790212E-2},1.9585160814204927,{"$f":"ROUND(AG12257,0)","v":2},{"$f":"ROUND(AG12258,0)","v":2},{"$f":"IF(AH12257>AI12257,1,\"\")","v":""},{"$f":"IF(AH12257=AI12257,1,\"\")","v":1},{"$f":"IF(AH12257<AI12257,1,\"\")","v":""},{"$f":"AH12257&\"-\"&AI12257","v":"2-2"}]
[null,null,null,null,null,null,null,null,null,null,null,null,null,null,null,null,null,null,null,null,null,null,null,null,null,null,null,null,null,null,{"$f":"_xlfn.NORM.INV(RAND(),$Z$4,$N$20)","v":1.634839828035755},{"$f":"_xlfn.NORM.INV(RAND(),$AA$4,$J$20)","v":1.9894870008677095},1.8121634144517322]
[null,null,null,null,null,null,null,null,null,null,null,null,null,null,null,null,null,null,null,null,null,null,null,null,null,null,null,null,null,null,{"$f":"_xlfn.NORM.INV(RAND(),$Z$4,$N$20)","v":1.7503426328686014},{"$f":"_xlfn.NORM.INV(RAND(),$AA$4,$J$20)","v":0.48426896137813058},1.117305797123366]
[null,null,null,null,null,null,null,null,null,null,null,null,null,null,null,null,null,null,null,null,null,null,null,null,null,null,null,null,null,"№6262",{"$f":"_xlfn.NORM.INV(RAND(),$Z$3,$I$20)","v":1.7246364881842986},{"$f":"_xlfn.NORM.INV(RAND(),$AA$3,$O$20)","v":0.20157165011746547},0.96310406915088209,{"$f":"ROUND(AG12525,0)","v":1},{"$f":"ROUND(AG12526,0)","v":2},{"$f":"IF(AH12525>AI12525,1,\"\")","v":""},{"$f":"IF(AH12525=AI12525,1,\"\")","v":""},{"$f":"IF(AH12525<AI12525,1,\"\")","v":1},{"$f":"AH12525&\"-\"&AI12525","v":"1-2"}]
[null,null,null,null,null,null,null,null,null,null,null,null,null,null,null,null,null,null,null,null,null,null,null,null,null,null,null,null,null,null,{"$f":"_xlfn.NORM.INV(RAND(),$Z$4,$N$20)","v":2.9715055176097431},{"$f":"_xlfn.NORM.INV(RAND(),$AA$4,$J$20)","v":2.6177959879949988},2.794650752802371]
[null,null,null,null,null,null,null,null,null,null,null,null,null,null,null,null,null,null,null,null,null,null,null,null,null,null,null,null,null,"№6328",{"$f":"_xlfn.NORM.INV(RAND(),$Z$3,$I$20)","v":4.353731891071118},{"$f":"_xlfn.NORM.INV(RAND(),$AA$3,$O$20)","v":2.1204784173152564},3.2371051541931872,{"$f":"ROUND(AG12657,0)","v":3},{"$f":"ROUND(AG12658,0)","v":2},{"$f":"IF(AH12657>AI12657,1,\"\")","v":1},{"$f":"IF(AH12657=AI12657,1,\"\")","v":""},{"$f":"IF(AH12657<AI12657,1,\"\")","v":""},{"$f":"AH12657&\"-\"&AI12657","v":"3-2"}]
[null,null,null,null,null,null,null,null,null,null,null,null,null,null,null,null,null,null,null,null,null,null,null,null,null,null,null,null,null,"№6397",{"$f":"_xlfn.NORM.INV(RAND(),$Z$3,$I$20)","v":4.6417556945699729},{"$f":"_xlfn.NORM.INV(RAND(),$AA$3,$O$20)","v":1.6484021988247406},3.1450789466973568,{"$f":"ROUND(AG12795,0)","v":3},{"$f":"ROUND(AG12796,0)","v":2},{"$f":"IF(AH12795>AI12795,1,\"\")","v":1},{"$f":"IF(AH12795=AI12795,1,\"\")","v":""},{"$f":"IF(AH12795<AI12795,1,\"\")","v":""},{"$f":"AH12795&\"-\"&AI12795","v":"3-2"}]
[null,null,null,null,null,null,null,null,null,null,null,null,null,null,null,null,null,null,null,null,null,null,null,null,null,null,null,null,null,null,{"$f":"_xlfn.NORM.INV(RAND(),$Z$4,$N$20)","v":2.6759797247318318},{"$f":"_xlfn.NORM.INV(RAND(),$AA$4,$J$20)","v":3.2065814370142993},2.9412805808730655]
[null,null,null,null,null,null,null,null,null,null,null,null,null,null,null,null,null,null,null,null,null,null,null,null,null,null,null,null,null,"№6487",{"$f":"_xlfn.NORM.INV(RAND(),$Z$3,$I$20)","v":4.8905252828850285},{"$f":"_xlfn.NORM.INV(RAND(),$AA$3,$O$20)","v":0.7480457172703755},2.8192855000777022,{"$f":"ROUND(AG12975,0)","v":3},{"$f":"ROUND(AG12976,0)","v":2},{"$f":"IF(AH12975>AI12975,1,\"\")","v":1},{"$f":"IF(AH12975=AI12975,1,\"\")","v":""},{"$f":"IF(AH12975<AI12975,1,\"\")","v":""},{"$f":"AH12975&\"-\"&AI12975","v":"3-2"}]
[null,null,null,null,null,null,null,null,null,null,null,null,null,null,null,null,null,null,null,null,null,null,null,null,null,null,null,null,null,"№6556",{"$f":"_xlfn.NORM.INV(RAND(),$Z$3,$I$20)","v":1.836867260151259},{"$f":"_xlfn.NORM.INV(RAND(),$AA$3,$O$20)","v":1.1616764740472956},1.4992718670992773,{"$f":"ROUND(AG13113,0)","v":1},{"$f":"ROUND(AG13114,0)","v":2},{"$f":"IF(AH13113>AI13113,1,\"\")","v":""},{"$f":"IF(AH13113=AI13113,1,\"\")","v":""},{"$f":"IF(AH13113<AI13113,1,\"\")","v":1},{"$f":"AH13113&\"-\"&AI13113","v":"1-2"}]
[null,null,null,null,null,null,null,null,null,null,null,null,null,null,null,null,null,null,null,null,null,null,null,null,null,null,null,null,null,null,{"$f":"_xlfn.NORM.INV(RAND(),$Z$4,$N$20)","v":2.5067040361917128},{"$f":"_xlfn.NORM.INV(RAND(),$AA$4,$J$20)","v":2.5490481886353749},2.5278761124135438]
[null,null,null,null,null,null,null,null,null,null,null,null,null,null,null,null,null,null,null,null,null,null,null,null,null,null,null,null,null,null,{"$f":"_xlfn.NORM.INV(RAND(),$Z$4,$N$20)","v":1.6493520186927277},{"$f":"_xlfn.NORM.INV(RAND(),$AA$4,$J$20)","v":0.85621329036257787},1.2527826545276528]
[null,null,null,null,null,null,null,null,null,null,null,null,null,null,null,null,null,null,null,null,null,null,null,null,null,null,null,null,null,"№6675",{"$f":"_xlfn.NORM.INV(RAND(),$Z$3,$I$20)","v":3.6569018538338085},{"$f":"_xlfn.NORM.INV(RAND(),$AA$3,$O$20)","v":1.2014890431971295},2.4291954485154692,{"$f":"ROUND(AG13351,0)","v":2},{"$f":"ROUND(AG13352,0)","v":2},{"$f":"IF(AH13351>AI13351,1,\"\")","v":""},{"$f":"IF(AH13351=AI13351,1,\"\")","v":1},{"$f":"IF(AH13351<AI13351,1,\"\")","v":""},{"$f":"AH13351&\"-\"&AI13351","v":"2-2"}]
[null,null,null,null,null,null,null,null,null,null,null,null,null,null,null,null,null,null,null,null,null,null,null,null,null,null,null,null,null,null,{"$f":"_xlfn.NORM.INV(RAND(),$Z$4,$N$20)","v":2.7504084759303726},{"$f":"_xlfn.NORM.INV(RAND(),$AA$4,$J$20)","v":2.9096759749924166},2.8300422254613946]
[null,null,null,null,null,null,null,null,null,null,null,null,null,null,null,null,null,null,null,null,null,null,null,null,null,null,null,null,null,null,{"$f":"_xlfn.NORM.INV(RAND(),$Z$4,$N$20)","v":1.6178765706525819},{"$f":"_xlfn.NORM.INV(RAND(),$AA$4,$J$20)","v":-0.86485738572458004},0.37650959246400095]
[null,null,null,null,null,null,null,null,null,null,null,null,null,null,null,null,null,null,null,null,null,null,null,null,null,null,null,null,null,"№6825",{"$f":"_xlfn.NORM.INV(RAND(),$Z$3,$I$20)","v":4.4060600640144587},{"$f":"_xlfn.NORM.INV(RAND(),$AA$3,$O$20)","v":1.4609055044561887},2.9334827842353235,{"$f":"ROUND(AG13651,0)","v":3},{"$f":"ROUND(AG13652,0)","v":2},{"$f":"IF(AH13651>AI13651,1,\"\")","v":1},{"$f":"IF(AH13651=AI13651,1,\"\")","v":""},{"$f":"IF(AH13651<AI13651,1,\"\")","v":""},{"$f":"AH13651&\"-\"&AI13651","v":"3-2"}]
[null,null,null,null,null,null,null,null,null,null,null,null,null,null,null,null,null,null,null,null,null,null,null,null,null,null,null,null,null,null,{"$f":"_xlfn.NORM.INV(RAND(),$Z$4,$N$20)","v":2.5722316256795099},{"$f":"_xlfn.NORM.INV(RAND(),$AA$4,$J$20)","v":0.91390538107211028},1.74306850337581]
[null,null,null,null,null,null,null,null,null,null,null,null,null,null,null,null,null,null,null,null,null,null,null,null,null,null,null,null,null,null,{"$f":"_xlfn.NORM.INV(RAND(),$Z$4,$N$20)","v":2.2543146503461546},{"$f":"_xlfn.NORM.INV(RAND(),$AA$4,$J$20)","v":1.6843350102278807},1.9693248302870177]
[null,null,null,null,null,null,null,null,null,null,null,null,null,null,null,null,null,null,null,null,null,null,null,null,null,null,null,null,null,"№6986",{"$f":"_xlfn.NORM.INV(RAND(),$Z$3,$I$20)","v":5.6611238038319938},{"$f":"_xlfn.NORM.INV(RAND(),$AA$3,$O$20)","v":1.1898530603205082},3.4254884320762509,{"$f":"ROUND(AG13973,0)","v":3},{"$f":"ROUND(AG13974,0)","v":2},{"$f":"IF(AH13973>AI13973,1,\"\")","v":1},{"$f":"IF(AH13973=AI13973,1,\"\")","v":""},{"$f":"IF(AH13973<AI13973,1,\"\")","v":""},{"$f":"AH13973&\"-\"&AI13973","v":"3-2"}]
[null,null,null,null,null,null,null,null,null,null,null,null,null,null,null,null,null,null,null,null,null,null,null,null,null,null,null,null,null,"№7055",{"$f":"_xlfn.NORM.INV(RAND(),$Z$3,$I$20)","v":3.1528797002330746},{"$f":"_xlfn.NORM.INV(RAND(),$AA$3,$O$20)","v":0.97694577041300301},2.064912735323039,{"$f":"ROUND(AG14111,0)","v":2},{"$f":"ROUND(AG14112,0)","v":2},{"$f":"IF(AH14111>AI14111,1,\"\")","v":""},{"$f":"IF(AH14111=AI14111,1,\"\")","v":1},{"$f":"IF(AH14111<AI14111,1,\"\")","v":""},{"$f":"AH14111&\"-\"&AI14111","v":"2-2"}]
[null,null,null,null,null,null,null,null,null,null,null,null,null,null,null,null,null,null,null,null,null,null,null,null,null,null,null,null,null,"№7073",{"$f":"_xlfn.NORM.INV(RAND(),$Z$3,$I$20)","v":0.35638411941231496},{"$f":"_xlfn.NORM.INV(RAND(),$AA$3,$O$20)","v":3.2262315042662424},1.7913078118392787,{"$f":"ROUND(AG14147,0)","v":2},{"$f":"ROUND(AG14148,0)","v":3},{"$f":"IF(AH14147>AI14147,1,\"\")","v":""},{"$f":"IF(AH14147=AI14147,1,\"\")","v":""},{"$f":"IF(AH14147<AI14147,1,\"\")","v":1},{"$f":"AH14147&\"-\"&AI14147","v":"2-3"}]
[null,null,null,null,null,null,null,null,null,null,null,null,null,null,null,null,null,null,null,null,null,null,null,null,null,null,null,null,null,"№7145",{"$f":"_xlfn.NORM.INV(RAND(),$Z$3,$I$20)","v":3.0819705777877333},{"$f":"_xlfn.NORM.INV(RAND(),$AA$3,$O$20)","v":1.3479242194299879},2.2149473986088606,{"$f":"ROUND(AG14291,0)","v":2},{"$f":"ROUND(AG14292,0)","v":1},{"$f":"IF(AH14291>AI14291,1,\"\")","v":1},{"$f":"IF(AH14291=AI14291,1,\"\")","v":""},{"$f":"IF(AH14291<AI14291,1,\"\")","v":""},{"$f":"AH14291&\"-\"&AI14291","v":"2-1"}]
[null,null,null,null,null,null,null,null,null,null,null,null,null,null,null,null,null,null,null,null,null,null,null,null,null,null,null,null,null,"№7214",{"$f":"_xlfn.NORM.INV(RAND(),$Z$3,$I$20)","v":3.7286699969311794},{"$f":"_xlfn.NORM.INV(RAND(),$AA$3,$O$20)","v":-0.3035749109157051},1.7125475430077373,{"$f":"ROUND(AG14429,0)","v":2},{"$f":"ROUND(AG14430,0)","v":2},{"$f":"IF(AH14429>AI14429,1,\"\")","v":""},{"$f":"IF(AH14429=AI14429,1,\"\")","v":1},{"$f":"IF(AH14429<AI14429,1,\"\")","v":""},{"$f":"AH14429&\"-\"&AI14429","v":"2-2"}]
[null,null,null,null,null,null,null,null,null,null,null,null,null,null,null,null,null,null,null,null,null,null,null,null,null,null,null,null,null,null,{"$f":"_xlfn.NORM.INV(RAND(),$Z$4,$N$20)","v":2.163347631760641},{"$f":"_xlfn.NORM.INV(RAND(),$AA$4,$J$20)","v":1.7034887223542092},1.9334181770574252]
[null,null,null,null,null,null,null,null,null,null,null,null,null,null,null,null,null,null,null,null,null,null,null,null,null,null,null,null,null,null,{"$f":"_xlfn.NORM.INV(RAND(),$Z$4,$N$20)","v":2.2048174893363575},{"$f":"_xlfn.NORM.INV(RAND(),$AA$4,$J$20)","v":3.8682013411604679},3.0365094152484127]
[null,null,null,null,null,null,null,null,null,null,null,null,null,null,null,null,null,null,null,null,null,null,null,null,null,null,null,null,null,null,{"$f":"_xlfn.NORM.INV(RAND(),$Z$4,$N$20)","v":2.3226856050619147},{"$f":"_xlfn.NORM.INV(RAND(),$AA$4,$J$20)","v":-1.8267081431046259},0.24798873097864438]
[null,null,null,null,null,null,null,null,null,null,null,null,null,null,null,null,null,null,null,null,null,null,null,null,null,null,null,null,null,null,{"$f":"_xlfn.NORM.INV(RAND(),$Z$4,$N$20)","v":2.9453691108574711},{"$f":"_xlfn.NORM.INV(RAND(),$AA$4,$J$20)","v":0.91741593107578812},1.9313925209666296]
[null,null,null,null,null,null,null,null,null,null,null,null,null,null,null,null,null,null,null,null,null,null,null,null,null,null,null,null,null,"№7414",{"$f":"_xlfn.NORM.INV(RAND(),$Z$3,$I$20)","v":3.8565064514305343},{"$f":"_xlfn.NORM.INV(RAND(),$AA$3,$O$20)","v":0.252729930269884},2.054618190850209,{"$f":"ROUND(AG14829,0)","v":2},{"$f":"ROUND(AG14830,0)","v":2},{"$f":"IF(AH14829>AI14829,1,\"\")","v":""},{"$f":"IF(AH14829=AI14829,1,\"\")","v":1},{"$f":"IF(AH14829<AI14829,1,\"\")","v":""},{"$f":"AH14829&\"-\"&AI14829","v":"2-2"}]
[null,null,null,null,null,null,null,null,null,null,null,null,null,null,null,null,null,null,null,null,null,null,null,null,null,null,null,null,null,"№7471",{"$f":"_xlfn.NORM.INV(RAND(),$Z$3,$I$20)","v":4.4077185869003284},{"$f":"_xlfn.NORM.INV(RAND(),$AA$3,$O$20)","v":1.5899680646812775},2.9988433257908031,{"$f":"ROUND(AG14943,0)","v":3},{"$f":"ROUND(AG14944,0)","v":1},{"$f":"IF(AH14943>AI14943,1,\"\")","v":1},{"$f":"IF(AH14943=AI14943,1,\"\")","v":""},{"$f":"IF(AH14943<AI14943,1,\"\")","v":""},{"$f":"AH14943&\"-\"&AI14943","v":"3-1"}]
[null,null,null,null,null,null,null,null,null,null,null,null,null,null,null,null,null,null,null,null,null,null,null,null,null,null,null,null,null,null,{"$f":"_xlfn.NORM.INV(RAND(),$Z$4,$N$20)","v":1.6691431063437561},{"$f":"_xlfn.NORM.INV(RAND(),$AA$4,$J$20)","v":1.5458125314074243},1.6074778188755903]
[null,null,null,null,null,null,null,null,null,null,null,null,null,null,null,null,null,null,null,null,null,null,null,null,null,null,null,null,null,"№7573",{"$f":"_xlfn.NORM.INV(RAND(),$Z$3,$I$20)","v":3.3682252251113494},{"$f":"_xlfn.NORM.INV(RAND(),$AA$3,$O$20)","v":0.58735720604846586},1.9777912155799076,{"$f":"ROUND(AG15147,0)","v":2},{"$f":"ROUND(AG15148,0)","v":4},{"$f":"IF(AH15147>AI15147,1,\"\")","v":""},{"$f":"IF(AH15147=AI15147,1,\"\")","v":""},{"$f":"IF(AH15147<AI15147,1,\"\")","v":1},{"$f":"AH15147&\"-\"&AI15147","v":"2-4"}]
[null,null,null,null,null,null,null,null,null,null,null,null,null,null,null,null,null,null,null,null,null,null,null,null,null,null,null,null,null,"№7644",{"$f":"_xlfn.NORM.INV(RAND(),$Z$3,$I$20)","v":0.87481290204374762},{"$f":"_xlfn.NORM.INV(RAND(),$AA$3,$O$20)","v":-0.89530744300359011},-1.0247270479921244E-2,{"$f":"ROUND(AG15289,0)","v":0},{"$f":"ROUND(AG15290,0)","v":3},{"$f":"IF(AH15289>AI15289,1,\"\")","v":""},{"$f":"IF(AH15289=AI15289,1,\"\")","v":""},{"$f":"IF(AH15289<AI15289,1,\"\")","v":1},{"$f":"AH15289&\"-\"&AI15289","v":"0-3"}]
[null,null,null,null,null,null,null,null,null,null,null,null,null,null,null,null,null,null,null,null,null,null,null,null,null,null,null,null,null,null,{"$f":"_xlfn.NORM.INV(RAND(),$Z$4,$N$20)","v":2.2213605659752944},{"$f":"_xlfn.NORM.INV(RAND(),$AA$4,$J$20)","v":2.8194143654442483},2.5203874657097716]
[null,null,null,null,null,null,null,null,null,null,null,null,null,null,null,null,null,null,null,null,null,null,null,null,null,null,null,null,null,"№7732",{"$f":"_xlfn.NORM.INV(RAND(),$Z$3,$I$20)","v":2.4803206677259069},{"$f":"_xlfn.NORM.INV(RAND(),$AA$3,$O$20)","v":1.5055265621776144},1.9929236149517606,{"$f":"ROUND(AG15465,0)","v":2},{"$f":"ROUND(AG15466,0)","v":1},{"$f":"IF(AH15465>AI15465,1,\"\")","v":1},{"$f":"IF(AH15465=AI15465,1,\"\")","v":""},{"$f":"IF(AH15465<AI15465,1,\"\")","v":""},{"$f":"AH15465&\"-\"&AI15465","v":"2-1"}]
[null,null,null,null,null,null,null,null,null,null,null,null,null,null,null,null,null,null,null,null,null,null,null,null,null,null,null,null,null,"№7803",{"$f":"_xlfn.NORM.INV(RAND(),$Z$3,$I$20)","v":6.0305394697611732},{"$f":"_xlfn.NORM.INV(RAND(),$AA$3,$O$20)","v":-0.40052487947894333},2.8150072951411147,{"$f":"ROUND(AG15607,0)","v":3},{"$f":"ROUND(AG15608,0)","v":1},{"$f":"IF(AH15607>AI15607,1,\"\")","v":1},{"$f":"IF(AH15607=AI15607,1,\"\")","v":""},{"$f":"IF(AH15607<AI15607,1,\"\")","v":""},{"$f":"AH15607&\"-\"&AI15607","v":"3-1"}]
[null,null,null,null,null,null,null,null,null,null,null,null,null,null,null,null,null,null,null,null,null,null,null,null,null,null,null,null,null,null,{"$f":"_xlfn.NORM.INV(RAND(),$Z$4,$N$20)","v":2.5765587415142184},{"$f":"_xlfn.NORM.INV(RAND(),$AA$4,$J$20)","v":4.9007449228921551},3.7386518322031868]
[null,null,null,null,null,null,null,null,null,null,null,null,null,null,null,null,null,null,null,null,null,null,null,null,null,null,null,null,null,"№7869",{"$f":"_xlfn.NORM.INV(RAND(),$Z$3,$I$20)","v":6.2729708790445464},{"$f":"_xlfn.NORM.INV(RAND(),$AA$3,$O$20)","v":1.9445132476922165},4.1087420633683811,{"$f":"ROUND(AG15739,0)","v":4},{"$f":"ROUND(AG15740,0)","v":3},{"$f":"IF(AH15739>AI15739,1,\"\")","v":1},{"$f":"IF(AH15739=AI15739,1,\"\")","v":""},{"$f":"IF(AH15739<AI15739,1,\"\")","v":""},{"$f":"AH15739&\"-\"&AI15739","v":"4-3"}]
[null,null,null,null,null,null,null,null,null,null,null,null,null,null,null,null,null,null,null,null,null,null,null,null,null,null,null,null,null,null,{"$f":"_xlfn.NORM.INV(RAND(),$Z$4,$N$20)","v":1.6653905075819644},{"$f":"_xlfn.NORM.INV(RAND(),$AA$4,$J$20)","v":1.5323159995769533},1.5988532535794588]
[null,null,null,null,null,null,null,null,null,null,null,null,null,null,null,null,null,null,null,null,null,null,null,null,null,null,null,null,null,null,{"$f":"_xlfn.NORM.INV(RAND(),$Z$4,$N$20)","v":2.6761230175919613},{"$f":"_xlfn.NORM.INV(RAND(),$AA$4,$J$20)","v":1.4252467742278931},2.0506848959099271]
[null,null,null,null,null,null,null,null,null,null,null,null,null,null,null,null,null,null,null,null,null,null,null,null,null,null,null,null,null,null,{"$f":"_xlfn.NORM.INV(RAND(),$Z$4,$N$20)","v":1.6410519808091883},{"$f":"_xlfn.NORM.INV(RAND(),$AA$4,$J$20)","v":0.97695277147137227},1.3090023761402803]
[null,null,null,null,null,null,null,null,null,null,null,null,null,null,null,null,null,null,null,null,null,null,null,null,null,null,null,null,null,null,{"$f":"_xlfn.NORM.INV(RAND(),$Z$4,$N$20)","v":2.7470812928568442},{"$f":"_xlfn.NORM.INV(RAND(),$AA$4,$J$20)","v":-1.0630720272324838},0.84200463281218019]
[null,null,null,null,null,null,null,null,null,null,null,null,null,null,null,null,null,null,null,null,null,null,null,null,null,null,null,null,null,null,{"$f":"_xlfn.NORM.INV(RAND(),$Z$4,$N$20)","v":2.2412732701377798},{"$f":"_xlfn.NORM.INV(RAND(),$AA$4,$J$20)","v":-0.27010758654959299},0.98558284179409339]
[null,null,null,null,null,null,null,null,null,null,null,null,null,null,null,null,null,null,null,null,null,null,null,null,null,null,null,null,null,"№8162",{"$f":"_xlfn.NORM.INV(RAND(),$Z$3,$I$20)","v":5.3619601738808544},{"$f":"_xlfn.NORM.INV(RAND(),$AA$3,$O$20)","v":0.95835145681549339},{"$f":"(AE16325+AF16325)/2","v":3.1601558153481739},{"$f":"ROUND(AG16325,0)","v":3},{"$f":"ROUND(AG16326,0)","v":2},{"$f":"IF(AH16325>AI16325,1,\"\")","v":1},{"$f":"IF(AH16325=AI16325,1,\"\")","v":""},{"$f":"IF(AH16325<AI16325,1,\"\")","v":""},{"$f":"AH16325&\"-\"&AI16325","v":"3-2"}]
[null,null,null,null,null,null,null,null,null,null,null,null,null,null,null,null,null,null,null,null,null,null,null,null,null,null,null,null,null,"№8231",{"$f":"_xlfn.NORM.INV(RAND(),$Z$3,$I$20)","v":4.4081912265326348},{"$f":"_xlfn.NORM.INV(RAND(),$AA$3,$O$20)","v":-1.0459099241071452},1.6811406512127447,{"$f":"ROUND(AG16463,0)","v":2},{"$f":"ROUND(AG16464,0)","v":3},{"$f":"IF(AH16463>AI16463,1,\"\")","v":""},{"$f":"IF(AH16463=AI16463,1,\"\")","v":""},{"$f":"IF(AH16463<AI16463,1,\"\")","v":1},{"$f":"AH16463&\"-\"&AI16463","v":"2-3"}]
[null,null,null,null,null,null,null,null,null,null,null,null,null,null,null,null,null,null,null,null,null,null,null,null,null,null,null,null,null,"№8267",{"$f":"_xlfn.NORM.INV(RAND(),$Z$3,$I$20)","v":4.8665492031560476},{"$f":"_xlfn.NORM.INV(RAND(),$AA$3,$O$20)","v":0.91596629696291687},2.891257750059482,{"$f":"ROUND(AG16535,0)","v":3},{"$f":"ROUND(AG16536,0)","v":1},{"$f":"IF(AH16535>AI16535,1,\"\")","v":1},{"$f":"IF(AH16535=AI16535,1,\"\")","v":""},{"$f":"IF(AH16535<AI16535,1,\"\")","v":""},{"$f":"AH16535&\"-\"&AI16535","v":"3-1"}]
[null,null,null,null,null,null,null,null,null,null,null,null,null,null,null,null,null,null,null,null,null,null,null,null,null,null,null,null,null,"№8321",{"$f":"_xlfn.NORM.INV(RAND(),$Z$3,$I$20)","v":5.3083041583405484},{"$f":"_xlfn.NORM.INV(RAND(),$AA$3,$O$20)","v":1.2500020318453153},3.2791530950929317,{"$f":"ROUND(AG16643,0)","v":3},{"$f":"ROUND(AG16644,0)","v":3},{"$f":"IF(AH16643>AI16643,1,\"\")","v":""},{"$f":"IF(AH16643=AI16643,1,\"\")","v":1},{"$f":"IF(AH16643<AI16643,1,\"\")","v":""},{"$f":"AH16643&\"-\"&AI16643","v":"3-3"}]
[null,null,null,null,null,null,null,null,null,null,null,null,null,null,null,null,null,null,null,null,null,null,null,null,null,null,null,null,null,"№8390",{"$f":"_xlfn.NORM.INV(RAND(),$Z$3,$I$20)","v":0.90710654323539508},{"$f":"_xlfn.NORM.INV(RAND(),$AA$3,$O$20)","v":1.6470037214313935},1.2770551323333943,{"$f":"ROUND(AG16781,0)","v":1},{"$f":"ROUND(AG16782,0)","v":3},{"$f":"IF(AH16781>AI16781,1,\"\")","v":""},{"$f":"IF(AH16781=AI16781,1,\"\")","v":""},{"$f":"IF(AH16781<AI16781,1,\"\")","v":1},{"$f":"AH16781&\"-\"&AI16781","v":"1-3"}]
[null,null,null,null,null,null,null,null,null,null,null,null,null,null,null,null,null,null,null,null,null,null,null,null,null,null,null,null,null,null,{"$f":"_xlfn.NORM.INV(RAND(),$Z$4,$N$20)","v":1.7890434946242244},{"$f":"_xlfn.NORM.INV(RAND(),$AA$4,$J$20)","v":-1.7952316837282938},-3.0940945520346874E-3]
[null,null,null,null,null,null,null,null,null,null,null,null,null,null,null,null,null,null,null,null,null,null,null,null,null,null,null,null,null,null,{"$f":"_xlfn.NORM.INV(RAND(),$Z$4,$N$20)","v":2.1184333895937764},{"$f":"_xlfn.NORM.INV(RAND(),$AA$4,$J$20)","v":2.5892675785413664},2.3538504840675714]
[null,null,null,null,null,null,null,null,null,null,null,null,null,null,null,null,null,null,null,null,null,null,null,null,null,null,null,null,null,null,{"$f":"_xlfn.NORM.INV(RAND(),$Z$4,$N$20)","v":3.0485309376396539},{"$f":"_xlfn.NORM.INV(RAND(),$AA$4,$J$20)","v":3.4735419313204696},3.2610364344800615]
[null,null,null,null,null,null,null,null,null,null,null,null,null,null,null,null,null,null,null,null,null,null,null,null,null,null,null,null,null,null,{"$f":"_xlfn.NORM.INV(RAND(),$Z$4,$N$20)","v":1.8499762271675448},{"$f":"_xlfn.NORM.INV(RAND(),$AA$4,$J$20)","v":2.7311062166873823},2.2905412219274637]
[null,null,null,null,null,null,null,null,null,null,null,null,null,null,null,null,null,null,null,null,null,null,null,null,null,null,null,null,null,null,{"$f":"_xlfn.NORM.INV(RAND(),$Z$4,$N$20)","v":2.0578792631517162},{"$f":"_xlfn.NORM.INV(RAND(),$AA$4,$J$20)","v":2.695435511396723},2.3766573872742196]
[null,null,null,null,null,null,null,null,null,null,null,null,null,null,null,null,null,null,null,null,null,null,null,null,null,null,null,null,null,"№8660",{"$f":"_xlfn.NORM.INV(RAND(),$Z$3,$I$20)","v":2.8190119544036971},{"$f":"_xlfn.NORM.INV(RAND(),$AA$3,$O$20)","v":2.6192375964616783},2.7191247754326877,{"$f":"ROUND(AG17321,0)","v":3},{"$f":"ROUND(AG17322,0)","v":2},{"$f":"IF(AH17321>AI17321,1,\"\")","v":1},{"$f":"IF(AH17321=AI17321,1,\"\")","v":""},{"$f":"IF(AH17321<AI17321,1,\"\")","v":""},{"$f":"AH17321&\"-\"&AI17321","v":"3-2"}]
[null,null,null,null,null,null,null,null,null,null,null,null,null,null,null,null,null,null,null,null,null,null,null,null,null,null,null,null,null,null,{"$f":"_xlfn.NORM.INV(RAND(),$Z$4,$N$20)","v":2.0614727092815999},{"$f":"_xlfn.NORM.INV(RAND(),$AA$4,$J$20)","v":1.235105580238677},1.6482891447601384]
[null,null,null,null,null,null,null,null,null,null,null,null,null,null,null,null,null,null,null,null,null,null,null,null,null,null,null,null,null,"№8749",{"$f":"_xlfn.NORM.INV(RAND(),$Z$3,$I$20)","v":5.7696955218273631},{"$f":"_xlfn.NORM.INV(RAND(),$AA$3,$O$20)","v":-0.53687197530177522},2.6164117732627941,{"$f":"ROUND(AG17499,0)","v":3},{"$f":"ROUND(AG17500,0)","v":3},{"$f":"IF(AH17499>AI17499,1,\"\")","v":""},{"$f":"IF(AH17499=AI17499,1,\"\")","v":1},{"$f":"IF(AH17499<AI17499,1,\"\")","v":""},{"$f":"AH17499&\"-\"&AI17499","v":"3-3"}]
[null,null,null,null,null,null,null,null,null,null,null,null,null,null,null,null,null,null,null,null,null,null,null,null,null,null,null,null,null,"№8820",{"$f":"_xlfn.NORM.INV(RAND(),$Z$3,$I$20)","v":3.1568482096828365},{"$f":"_xlfn.NORM.INV(RAND(),$AA$3,$O$20)","v":2.8228767356426072},2.9898624726627219,{"$f":"ROUND(AG17641,0)","v":3},{"$f":"ROUND(AG17642,0)","v":1},{"$f":"IF(AH17641>AI17641,1,\"\")","v":1},{"$f":"IF(AH17641=AI17641,1,\"\")","v":""},{"$f":"IF(AH17641<AI17641,1,\"\")","v":""},{"$f":"AH17641&\"-\"&AI17641","v":"3-1"}]
[null,null,null,null,null,null,null,null,null,null,null,null,null,null,null,null,null,null,null,null,null,null,null,null,null,null,null,null,null,null,{"$f":"_xlfn.NORM.INV(RAND(),$Z$4,$N$20)","v":2.23305941266737},{"$f":"_xlfn.NORM.INV(RAND(),$AA$4,$J$20)","v":1.0633551028678885},1.6482072577676292]
[null,null,null,null,null,null,null,null,null,null,null,null,null,null,null,null,null,null,null,null,null,null,null,null,null,null,null,null,null,"№8908",{"$f":"_xlfn.NORM.INV(RAND(),$Z$3,$I$20)","v":3.9103391966193728},{"$f":"_xlfn.NORM.INV(RAND(),$AA$3,$O$20)","v":0.1744402701831157},2.0423897334012442,{"$f":"ROUND(AG17817,0)","v":2},{"$f":"ROUND(AG17818,0)","v":0},{"$f":"IF(AH17817>AI17817,1,\"\")","v":1},{"$f":"IF(AH17817=AI17817,1,\"\")","v":""},{"$f":"IF(AH17817<AI17817,1,\"\")","v":""},{"$f":"AH17817&\"-\"&AI17817","v":"2-0"}]
[null,null,null,null,null,null,null,null,null,null,null,null,null,null,null,null,null,null,null,null,null,null,null,null,null,null,null,null,null,"№8979",{"$f":"_xlfn.NORM.INV(RAND(),$Z$3,$I$20)","v":3.9579604410061351},{"$f":"_xlfn.NORM.INV(RAND(),$AA$3,$O$20)","v":0.11933451063287681},2.0386474758195061,{"$f":"ROUND(AG17959,0)","v":2},{"$f":"ROUND(AG17960,0)","v":2},{"$f":"IF(AH17959>AI17959,1,\"\")","v":""},{"$f":"IF(AH17959=AI17959,1,\"\")","v":1},{"$f":"IF(AH17959<AI17959,1,\"\")","v":""},{"$f":"AH17959&\"-\"&AI17959","v":"2-2"}]
[null,null,null,null,null,null,null,null,null,null,null,null,null,null,null,null,null,null,null,null,null,null,null,null,null,null,null,null,null,null,{"$f":"_xlfn.NORM.INV(RAND(),$Z$4,$N$20)","v":2.3028561513524708},{"$f":"_xlfn.NORM.INV(RAND(),$AA$4,$J$20)","v":0.81306323834320571},1.5579596948478383]
[null,null,null,null,null,null,null,null,null,null,null,null,null,null,null,null,null,null,null,null,null,null,null,null,null,null,null,null,null,"№9058",{"$f":"_xlfn.NORM.INV(RAND(),$Z$3,$I$20)","v":4.7469777431885056},{"$f":"_xlfn.NORM.INV(RAND(),$AA$3,$O$20)","v":2.5660899541935116},{"$f":"(AE18117+AF18117)/2","v":3.6565338486910086},{"$f":"ROUND(AG18117,0)","v":4},{"$f":"ROUND(AG18118,0)","v":1},{"$f":"IF(AH18117>AI18117,1,\"\")","v":1},{"$f":"IF(AH18117=AI18117,1,\"\")","v":""},{"$f":"IF(AH18117<AI18117,1,\"\")","v":""},{"$f":"AH18117&\"-\"&AI18117","v":"4-1"}]
[null,null,null,null,null,null,null,null,null,null,null,null,null,null,null,null,null,null,null,null,null,null,null,null,null,null,null,null,null,"№9138",{"$f":"_xlfn.NORM.INV(RAND(),$Z$3,$I$20)","v":3.1364868389730689},{"$f":"_xlfn.NORM.INV(RAND(),$AA$3,$O$20)","v":-0.27118245256643725},1.4326521932033158,{"$f":"ROUND(AG18277,0)","v":1},{"$f":"ROUND(AG18278,0)","v":2},{"$f":"IF(AH18277>AI18277,1,\"\")","v":""},{"$f":"IF(AH18277=AI18277,1,\"\")","v":""},{"$f":"IF(AH18277<AI18277,1,\"\")","v":1},{"$f":"AH18277&\"-\"&AI18277","v":"1-2"}]
[null,null,null,null,null,null,null,null,null,null,null,null,null,null,null,null,null,null,null,null,null,null,null,null,null,null,null,null,null,null,{"$f":"_xlfn.NORM.INV(RAND(),$Z$4,$N$20)","v":1.2856521272888226},{"$f":"_xlfn.NORM.INV(RAND(),$AA$4,$J$20)","v":4.1920885210017307},2.7388703241452768]
[null,null,null,null,null,null,null,null,null,null,null,null,null,null,null,null,null,null,null,null,null,null,null,null,null,null,null,null,null,null,{"$f":"_xlfn.NORM.INV(RAND(),$Z$4,$N$20)","v":2.309197160064306},{"$f":"_xlfn.NORM.INV(RAND(),$AA$4,$J$20)","v":0.47420774105966612},1.3917024505619859]
[null,null,null,null,null,null,null,null,null,null,null,null,null,null,null,null,null,null,null,null,null,null,null,null,null,null,null,null,null,null,{"$f":"_xlfn.NORM.INV(RAND(),$Z$4,$N$20)","v":2.3891635233855979},{"$f":"_xlfn.NORM.INV(RAND(),$AA$4,$J$20)","v":1.5051399504196374},1.9471517369026177]
[null,null,null,null,null,null,null,null,null,null,null,null,null,null,null,null,null,null,null,null,null,null,null,null,null,null,null,null,null,null,{"$f":"_xlfn.NORM.INV(RAND(),$Z$4,$N$20)","v":1.590308651630715},{"$f":"_xlfn.NORM.INV(RAND(),$AA$4,$J$20)","v":2.1575396477056574},1.8739241496681862]
[null,null,null,null,null,null,null,null,null,null,null,null,null,null,null,null,null,null,null,null,null,null,null,null,null,null,null,null,null,"№9338",{"$f":"_xlfn.NORM.INV(RAND(),$Z$3,$I$20)","v":4.3214745523244433},{"$f":"_xlfn.NORM.INV(RAND(),$AA$3,$O$20)","v":0.50975814937219477},2.4156163508483193,{"$f":"ROUND(AG18677,0)","v":2},{"$f":"ROUND(AG18678,0)","v":0},{"$f":"IF(AH18677>AI18677,1,\"\")","v":1},{"$f":"IF(AH18677=AI18677,1,\"\")","v":""},{"$f":"IF(AH18677<AI18677,1,\"\")","v":""},{"$f":"AH18677&\"-\"&AI18677","v":"2-0"}]
[null,null,null,null,null,null,null,null,null,null,null,null,null,null,null,null,null,null,null,null,null,null,null,null,null,null,null,null,null,"№9407",{"$f":"_xlfn.NORM.INV(RAND(),$Z$3,$I$20)","v":4.2747722512170423},{"$f":"_xlfn.NORM.INV(RAND(),$AA$3,$O$20)","v":1.0910664545143929},2.6829193528657176,{"$f":"ROUND(AG18815,0)","v":3},{"$f":"ROUND(AG18816,0)","v":1},{"$f":"IF(AH18815>AI18815,1,\"\")","v":1},{"$f":"IF(AH18815=AI18815,1,\"\")","v":""},{"$f":"IF(AH18815<AI18815,1,\"\")","v":""},{"$f":"AH18815&\"-\"&AI18815","v":"3-1"}]
[null,null,null,null,null,null,null,null,null,null,null,null,null,null,null,null,null,null,null,null,null,null,null,null,null,null,null,null,null,"№9456",{"$f":"_xlfn.NORM.INV(RAND(),$Z$3,$I$20)","v":4.8018819054230732},{"$f":"_xlfn.NORM.INV(RAND(),$AA$3,$O$20)","v":0.48404370248242107},2.6429628039527473,{"$f":"ROUND(AG18913,0)","v":3},{"$f":"ROUND(AG18914,0)","v":2},{"$f":"IF(AH18913>AI18913,1,\"\")","v":1},{"$f":"IF(AH18913=AI18913,1,\"\")","v":""},{"$f":"IF(AH18913<AI18913,1,\"\")","v":""},{"$f":"AH18913&\"-\"&AI18913","v":"3-2"}]
[null,null,null,null,null,null,null,null,null,null,null,null,null,null,null,null,null,null,null,null,null,null,null,null,null,null,null,null,null,"№9497",{"$f":"_xlfn.NORM.INV(RAND(),$Z$3,$I$20)","v":4.0754319878560619},{"$f":"_xlfn.NORM.INV(RAND(),$AA$3,$O$20)","v":1.5930193052643835},2.8342256465602227,{"$f":"ROUND(AG18995,0)","v":3},{"$f":"ROUND(AG18996,0)","v":3},{"$f":"IF(AH18995>AI18995,1,\"\")","v":""},{"$f":"IF(AH18995=AI18995,1,\"\")","v":1},{"$f":"IF(AH18995<AI18995,1,\"\")","v":""},{"$f":"AH18995&\"-\"&AI18995","v":"3-3"}]
[null,null,null,null,null,null,null,null,null,null,null,null,null,null,null,null,null,null,null,null,null,null,null,null,null,null,null,null,null,"№9566",{"$f":"_xlfn.NORM.INV(RAND(),$Z$3,$I$20)","v":4.8296620538108908},{"$f":"_xlfn.NORM.INV(RAND(),$AA$3,$O$20)","v":1.6798044917336452},3.2547332727722678,{"$f":"ROUND(AG19133,0)","v":3},{"$f":"ROUND(AG19134,0)","v":1},{"$f":"IF(AH19133>AI19133,1,\"\")","v":1},{"$f":"IF(AH19133=AI19133,1,\"\")","v":""},{"$f":"IF(AH19133<AI19133,1,\"\")","v":""},{"$f":"AH19133&\"-\"&AI19133","v":"3-1"}]
[null,null,null,null,null,null,null,null,null,null,null,null,null,null,null,null,null,null,null,null,null,null,null,null,null,null,null,null,null,null,{"$f":"_xlfn.NORM.INV(RAND(),$Z$4,$N$20)","v":1.8968471527401405},{"$f":"_xlfn.NORM.INV(RAND(),$AA$4,$J$20)","v":0.93045400437645742},1.4136505785582989]
[null,null,null,null,null,null,null,null,null,null,null,null,null,null,null,null,null,null,null,null,null,null,null,null,null,null,null,null,null,null,{"$f":"_xlfn.NORM.INV(RAND(),$Z$4,$N$20)","v":3.2272530343506309},{"$f":"_xlfn.NORM.INV(RAND(),$AA$4,$J$20)","v":2.6217092586230333},2.9244811464868321]
[null,null,null,null,null,null,null,null,null,null,null,null,null,null,null,null,null,null,null,null,null,null,null,null,null,null,null,null,null,"№9727",{"$f":"_xlfn.NORM.INV(RAND(),$Z$3,$I$20)","v":3.7628495668831676},{"$f":"_xlfn.NORM.INV(RAND(),$AA$3,$O$20)","v":1.4015441410049556},2.5821968539440618,{"$f":"ROUND(AG19455,0)","v":3},{"$f":"ROUND(AG19456,0)","v":2},{"$f":"IF(AH19455>AI19455,1,\"\")","v":1},{"$f":"IF(AH19455=AI19455,1,\"\")","v":""},{"$f":"IF(AH19455<AI19455,1,\"\")","v":""},{"$f":"AH19455&\"-\"&AI19455","v":"3-2"}]
[null,null,null,null,null,null,null,null,null,null,null,null,null,null,null,null,null,null,null,null,null,null,null,null,null,null,null,null,null,null,{"$f":"_xlfn.NORM.INV(RAND(),$Z$4,$N$20)","v":2.6191704370711051},{"$f":"_xlfn.NORM.INV(RAND(),$AA$4,$J$20)","v":3.0485706984559222},2.8338705677635136]
[null,null,null,null,null,null,null,null,null,null,null,null,null,null,null,null,null,null,null,null,null,null,null,null,null,null,null,null,null,null,{"$f":"_xlfn.NORM.INV(RAND(),$Z$4,$N$20)","v":2.1469375626482621},{"$f":"_xlfn.NORM.INV(RAND(),$AA$4,$J$20)","v":0.27301452859490216},1.2099760456215822]
[null,null,null,null,null,null,null,null,null,null,null,null,null,null,null,null,null,null,null,null,null,null,null,null,null,null,null,null,null,"№9854",{"$f":"_xlfn.NORM.INV(RAND(),$Z$3,$I$20)","v":1.3205520190498148},{"$f":"_xlfn.NORM.INV(RAND(),$AA$3,$O$20)","v":-0.84224876916548919},0.2391516249421628,{"$f":"ROUND(AG19709,0)","v":0},{"$f":"ROUND(AG19710,0)","v":1},{"$f":"IF(AH19709>AI19709,1,\"\")","v":""},{"$f":"IF(AH19709=AI19709,1,\"\")","v":""},{"$f":"IF(AH19709<AI19709,1,\"\")","v":1},{"$f":"AH19709&\"-\"&AI19709","v":"0-1"}]
[null,null,null,null,null,null,null,null,null,null,null,null,null,null,null,null,null,null,null,null,null,null,null,null,null,null,null,null,null,null,{"$f":"_xlfn.NORM.INV(RAND(),$Z$4,$N$20)","v":2.395288679913079},{"$f":"_xlfn.NORM.INV(RAND(),$AA$4,$J$20)","v":1.1423124095024277},1.7688005447077533]
[null,null,null,null,null,null,null,null,null,null,null,null,null,null,null,null,null,null,null,null,null,null,null,null,null,null,null,null,null,null,{"$f":"_xlfn.NORM.INV(RAND(),$Z$4,$N$20)","v":2.0969739061915642},{"$f":"_xlfn.NORM.INV(RAND(),$AA$4,$J$20)","v":-1.0423938954626961},0.52729000536443404]
[null,null,null,null,null,null,null,null,null,null,null,null,null,null,null,null,null,null,null,null,null,null,null,null,null,null,null,null,null,"№9996",{"$f":"_xlfn.NORM.INV(RAND(),$Z$3,$I$20)","v":2.3709418151560113},{"$f":"_xlfn.NORM.INV(RAND(),$AA$3,$O$20)","v":1.05003247798705},1.7104871465715306,{"$f":"ROUND(AG19993,0)","v":2},{"$f":"ROUND(AG19994,0)","v":0},{"$f":"IF(AH19993>AI19993,1,\"\")","v":1},{"$f":"IF(AH19993=AI19993,1,\"\")","v":""},{"$f":"IF(AH19993<AI19993,1,\"\")","v":""},{"$f":"AH19993&\"-\"&AI19993","v":"2-0"}]
[null,null,null,null,null,null,null,null,null,null,null,null,null,null,null,null,null,null,null,null,null,null,null,null,null,null,null,null,null,null,{"$f":"_xlfn.NORM.INV(RAND(),$Z$4,$N$20)","v":1.275423868047656},{"$f":"_xlfn.NORM.INV(RAND(),$AA$4,$J$20)","v":2.1323338956978746},1.7038788818727653]
[null,null,null,null,null,null,null,null,null,null,null,null,null,null,null,null,null,null,null,null,null,null,null,null,null,null,null,null,null,"№10086",{"$f":"_xlfn.NORM.INV(RAND(),$Z$3,$I$20)","v":5.2190645369311568},{"$f":"_xlfn.NORM.INV(RAND(),$AA$3,$O$20)","v":0.96375089082723175},3.0914077138791942,{"$f":"ROUND(AG20173,0)","v":3},{"$f":"ROUND(AG20174,0)","v":2},{"$f":"IF(AH20173>AI20173,1,\"\")","v":1},{"$f":"IF(AH20173=AI20173,1,\"\")","v":""},{"$f":"IF(AH20173<AI20173,1,\"\")","v":""},{"$f":"AH20173&\"-\"&AI20173","v":"3-2"}]
[null,null,null,null,null,null,null,null,null,null,null,null,null,null,null,null,null,null,null,null,null,null,null,null,null,null,null,null,null,"№10155",{"$f":"_xlfn.NORM.INV(RAND(),$Z$3,$I$20)","v":1.1150126844838941},{"$f":"_xlfn.NORM.INV(RAND(),$AA$3,$O$20)","v":-1.080787727325061E-2},0.5521024036053217,{"$f":"ROUND(AG20311,0)","v":1},{"$f":"ROUND(AG20312,0)","v":2},{"$f":"IF(AH20311>AI20311,1,\"\")","v":""},{"$f":"IF(AH20311=AI20311,1,\"\")","v":""},{"$f":"IF(AH20311<AI20311,1,\"\")","v":1},{"$f":"AH20311&\"-\"&AI20311","v":"1-2"}]
[null,null,null,null,null,null,null,null,null,null,null,null,null,null,null,null,null,null,null,null,null,null,null,null,null,null,null,null,null,"№10224",{"$f":"_xlfn.NORM.INV(RAND(),$Z$3,$I$20)","v":4.7662490857033859},{"$f":"_xlfn.NORM.INV(RAND(),$AA$3,$O$20)","v":3.2419621127906586},4.0041055992470227,{"$f":"ROUND(AG20449,0)","v":4},{"$f":"ROUND(AG20450,0)","v":2},{"$f":"IF(AH20449>AI20449,1,\"\")","v":1},{"$f":"IF(AH20449=AI20449,1,\"\")","v":""},{"$f":"IF(AH20449<AI20449,1,\"\")","v":""},{"$f":"AH20449&\"-\"&AI20449","v":"4-2"}]
[null,null,null,null,null,null,null,null,null,null,null,null,null,null,null,null,null,null,null,null,null,null,null,null,null,null,null,null,null,"№10252",{"$f":"_xlfn.NORM.INV(RAND(),$Z$3,$I$20)","v":3.7018475957950292},{"$f":"_xlfn.NORM.INV(RAND(),$AA$3,$O$20)","v":0.94611063084038904},2.323979113317709,{"$f":"ROUND(AG20505,0)","v":2},{"$f":"ROUND(AG20506,0)","v":1},{"$f":"IF(AH20505>AI20505,1,\"\")","v":1},{"$f":"IF(AH20505=AI20505,1,\"\")","v":""},{"$f":"IF(AH20505<AI20505,1,\"\")","v":""},{"$f":"AH20505&\"-\"&AI20505","v":"2-1"}]
[null,null,null,null,null,null,null,null,null,null,null,null,null,null,null,null,null,null,null,null,null,null,null,null,null,null,null,null,null,"№10314",{"$f":"_xlfn.NORM.INV(RAND(),$Z$3,$I$20)","v":2.1029155141707667},{"$f":"_xlfn.NORM.INV(RAND(),$AA$3,$O$20)","v":-0.45649560079640139},0.82320995668718266,{"$f":"ROUND(AG20629,0)","v":1},{"$f":"ROUND(AG20630,0)","v":1},{"$f":"IF(AH20629>AI20629,1,\"\")","v":""},{"$f":"IF(AH20629=AI20629,1,\"\")","v":1},{"$f":"IF(AH20629<AI20629,1,\"\")","v":""},{"$f":"AH20629&\"-\"&AI20629","v":"1-1"}]
[null,null,null,null,null,null,null,null,null,null,null,null,null,null,null,null,null,null,null,null,null,null,null,null,null,null,null,null,null,null,{"$f":"_xlfn.NORM.INV(RAND(),$Z$4,$N$20)","v":1.8785406991516687},{"$f":"_xlfn.NORM.INV(RAND(),$AA$4,$J$20)","v":2.9636842448804712},2.4211124720160697]
[null,null,null,null,null,null,null,null,null,null,null,null,null,null,null,null,null,null,null,null,null,null,null,null,null,null,null,null,null,null,{"$f":"_xlfn.NORM.INV(RAND(),$Z$4,$N$20)","v":2.0237156917389321},{"$f":"_xlfn.NORM.INV(RAND(),$AA$4,$J$20)","v":1.8949274349016187},1.9593215633202754]
[null,null,null,null,null,null,null,null,null,null,null,null,null,null,null,null,null,null,null,null,null,null,null,null,null,null,null,null,null,null,{"$f":"_xlfn.NORM.INV(RAND(),$Z$4,$N$20)","v":3.2298008011699251},{"$f":"_xlfn.NORM.INV(RAND(),$AA$4,$J$20)","v":4.3107980836538102},3.7702994424118677]
[null,null,null,null,null,null,null,null,null,null,null,null,null,null,null,null,null,null,null,null,null,null,null,null,null,null,null,null,null,null,{"$f":"_xlfn.NORM.INV(RAND(),$Z$4,$N$20)","v":0.80288978277183198},{"$f":"_xlfn.NORM.INV(RAND(),$AA$4,$J$20)","v":4.3570020079945513},2.5799458953831915]
[null,null,null,null,null,null,null,null,null,null,null,null,null,null,null,null,null,null,null,null,null,null,null,null,null,null,null,null,null,null,{"$f":"_xlfn.NORM.INV(RAND(),$Z$4,$N$20)","v":1.5961801324072487},{"$f":"_xlfn.NORM.INV(RAND(),$AA$4,$J$20)","v":1.250370709114125},1.4232754207606868]
[null,null,null,null,null,null,null,null,null,null,null,null,null,null,null,null,null,null,null,null,null,null,null,null,null,null,null,null,null,"№10583",{"$f":"_xlfn.NORM.INV(RAND(),$Z$3,$I$20)","v":4.4677574337511263},{"$f":"_xlfn.NORM.INV(RAND(),$AA$3,$O$20)","v":0.29310431786321434},2.3804308758071704,{"$f":"ROUND(AG21167,0)","v":2},{"$f":"ROUND(AG21168,0)","v":2},{"$f":"IF(AH21167>AI21167,1,\"\")","v":""},{"$f":"IF(AH21167=AI21167,1,\"\")","v":1},{"$f":"IF(AH21167<AI21167,1,\"\")","v":""},{"$f":"AH21167&\"-\"&AI21167","v":"2-2"}]
[null,null,null,null,null,null,null,null,null,null,null,null,null,null,null,null,null,null,null,null,null,null,null,null,null,null,null,null,null,"№10650",{"$f":"_xlfn.NORM.INV(RAND(),$Z$3,$I$20)","v":3.6940257773130769},{"$f":"_xlfn.NORM.INV(RAND(),$AA$3,$O$20)","v":2.489887415571673},3.0919565964423752,{"$f":"ROUND(AG21301,0)","v":3},{"$f":"ROUND(AG21302,0)","v":1},{"$f":"IF(AH21301>AI21301,1,\"\")","v":1},{"$f":"IF(AH21301=AI21301,1,\"\")","v":""},{"$f":"IF(AH21301<AI21301,1,\"\")","v":""},{"$f":"AH21301&\"-\"&AI21301","v":"3-1"}]
[null,null,null,null,null,null,null,null,null,null,null,null,null,null,null,null,null,null,null,null,null,null,null,null,null,null,null,null,null,"№10673",{"$f":"_xlfn.NORM.INV(RAND(),$Z$3,$I$20)","v":4.1252377487709024},{"$f":"_xlfn.NORM.INV(RAND(),$AA$3,$O$20)","v":0.91319062187783362},2.5192141853243681,{"$f":"ROUND(AG21347,0)","v":3},{"$f":"ROUND(AG21348,0)","v":2},{"$f":"IF(AH21347>AI21347,1,\"\")","v":1},{"$f":"IF(AH21347=AI21347,1,\"\")","v":""},{"$f":"IF(AH21347<AI21347,1,\"\")","v":""},{"$f":"AH21347&\"-\"&AI21347","v":"3-2"}]
[null,null,null,null,null,null,null,null,null,null,null,null,null,null,null,null,null,null,null,null,null,null,null,null,null,null,null,null,null,"№10744",{"$f":"_xlfn.NORM.INV(RAND(),$Z$3,$I$20)","v":6.5596413830824645},{"$f":"_xlfn.NORM.INV(RAND(),$AA$3,$O$20)","v":0.25966407652150525},3.409652729801985,{"$f":"ROUND(AG21489,0)","v":3},{"$f":"ROUND(AG21490,0)","v":3},{"$f":"IF(AH21489>AI21489,1,\"\")","v":""},{"$f":"IF(AH21489=AI21489,1,\"\")","v":1},{"$f":"IF(AH21489<AI21489,1,\"\")","v":""},{"$f":"AH21489&\"-\"&AI21489","v":"3-3"}]
[null,null,null,null,null,null,null,null,null,null,null,null,null,null,null,null,null,null,null,null,null,null,null,null,null,null,null,null,null,"№10813",{"$f":"_xlfn.NORM.INV(RAND(),$Z$3,$I$20)","v":3.159209533807549},{"$f":"_xlfn.NORM.INV(RAND(),$AA$3,$O$20)","v":1.0056571999399369},2.0824333668737429,{"$f":"ROUND(AG21627,0)","v":2},{"$f":"ROUND(AG21628,0)","v":2},{"$f":"IF(AH21627>AI21627,1,\"\")","v":""},{"$f":"IF(AH21627=AI21627,1,\"\")","v":1},{"$f":"IF(AH21627<AI21627,1,\"\")","v":""},{"$f":"AH21627&\"-\"&AI21627","v":"2-2"}]
[null,null,null,null,null,null,null,null,null,null,null,null,null,null,null,null,null,null,null,null,null,null,null,null,null,null,null,null,null,null,{"$f":"_xlfn.NORM.INV(RAND(),$Z$4,$N$20)","v":3.2072858149618857},{"$f":"_xlfn.NORM.INV(RAND(),$AA$4,$J$20)","v":0.67606300360533311},1.9416744092836093]
[null,null,null,null,null,null,null,null,null,null,null,null,null,null,null,null,null,null,null,null,null,null,null,null,null,null,null,null,null,"№10903",{"$f":"_xlfn.NORM.INV(RAND(),$Z$3,$I$20)","v":-1.0139717745986432},{"$f":"_xlfn.NORM.INV(RAND(),$AA$3,$O$20)","v":-0.12490441351138371},-0.56943809405501344,{"$f":"ROUND(AG21807,0)","v":-1},{"$f":"ROUND(AG21808,0)","v":1},{"$f":"IF(AH21807>AI21807,1,\"\")","v":""},{"$f":"IF(AH21807=AI21807,1,\"\")","v":""},{"$f":"IF(AH21807<AI21807,1,\"\")","v":1},{"$f":"AH21807&\"-\"&AI21807","v":"-1-1"}]
[null,null,null,null,null,null,null,null,null,null,null,null,null,null,null,null,null,null,null,null,null,null,null,null,null,null,null,null,null,null,{"$f":"_xlfn.NORM.INV(RAND(),$Z$4,$N$20)","v":2.6450664852949126},{"$f":"_xlfn.NORM.INV(RAND(),$AA$4,$J$20)","v":0.34622577645333208},1.4956461308741225]
[null,null,null,null,null,null,null,null,null,null,null,null,null,null,null,null,null,null,null,null,null,null,null,null,null,null,null,null,null,null,{"$f":"_xlfn.NORM.INV(RAND(),$Z$4,$N$20)","v":2.6218855983892393},{"$f":"_xlfn.NORM.INV(RAND(),$AA$4,$J$20)","v":0.27108988807347467},1.446487743231357]
[null,null,null,null,null,null,null,null,null,null,null,null,null,null,null,null,null,null,null,null,null,null,null,null,null,null,null,null,null,"№11048",{"$f":"_xlfn.NORM.INV(RAND(),$Z$3,$I$20)","v":2.0594386286651263},{"$f":"_xlfn.NORM.INV(RAND(),$AA$3,$O$20)","v":0.63812343078428913},1.3487810297247078,{"$f":"ROUND(AG22097,0)","v":1},{"$f":"ROUND(AG22098,0)","v":3},{"$f":"IF(AH22097>AI22097,1,\"\")","v":""},{"$f":"IF(AH22097=AI22097,1,\"\")","v":""},{"$f":"IF(AH22097<AI22097,1,\"\")","v":1},{"$f":"AH22097&\"-\"&AI22097","v":"1-3"}]
[null,null,null,null,null,null,null,null,null,null,null,null,null,null,null,null,null,null,null,null,null,null,null,null,null,null,null,null,null,null,{"$f":"_xlfn.NORM.INV(RAND(),$Z$4,$N$20)","v":3.0134909105065422},{"$f":"_xlfn.NORM.INV(RAND(),$AA$4,$J$20)","v":2.2551002571203229},2.6342955838134325]
[null,null,null,null,null,null,null,null,null,null,null,null,null,null,null,null,null,null,null,null,null,null,null,null,null,null,null,null,null,null,{"$f":"_xlfn.NORM.INV(RAND(),$Z$4,$N$20)","v":1.8240427674436452},{"$f":"_xlfn.NORM.INV(RAND(),$AA$4,$J$20)","v":0.10094751602562257},0.96249514173463391]
[null,null,null,null,null,null,null,null,null,null,null,null,null,null,null,null,null,null,null,null,null,null,null,null,null,null,null,null,null,"№11172",{"$f":"_xlfn.NORM.INV(RAND(),$Z$3,$I$20)","v":4.7177498819068262},{"$f":"_xlfn.NORM.INV(RAND(),$AA$3,$O$20)","v":0.78890180057733394},2.7533258412420802,{"$f":"ROUND(AG22345,0)","v":3},{"$f":"ROUND(AG22346,0)","v":2},{"$f":"IF(AH22345>AI22345,1,\"\")","v":1},{"$f":"IF(AH22345=AI22345,1,\"\")","v":""},{"$f":"IF(AH22345<AI22345,1,\"\")","v":""},{"$f":"AH22345&\"-\"&AI22345","v":"3-2"}]
[null,null,null,null,null,null,null,null,null,null,null,null,null,null,null,null,null,null,null,null,null,null,null,null,null,null,null,null,null,null,{"$f":"_xlfn.NORM.INV(RAND(),$Z$4,$N$20)","v":0.79063066570810125},{"$f":"_xlfn.NORM.INV(RAND(),$AA$4,$J$20)","v":0.76224832996548764},0.77643949783679445]
[null,null,null,null,null,null,null,null,null,null,null,null,null,null,null,null,null,null,null,null,null,null,null,null,null,null,null,null,null,null,{"$f":"_xlfn.NORM.INV(RAND(),$Z$4,$N$20)","v":2.4034269694404378},{"$f":"_xlfn.NORM.INV(RAND(),$AA$4,$J$20)","v":3.3469268372325889},2.8751769033365133]
[null,null,null,null,null,null,null,null,null,null,null,null,null,null,null,null,null,null,null,null,null,null,null,null,null,null,null,null,null,"№11331",{"$f":"_xlfn.NORM.INV(RAND(),$Z$3,$I$20)","v":1.17977024607237},{"$f":"_xlfn.NORM.INV(RAND(),$AA$3,$O$20)","v":0.89852068766917126},1.0391454668707707,{"$f":"ROUND(AG22663,0)","v":1},{"$f":"ROUND(AG22664,0)","v":2},{"$f":"IF(AH22663>AI22663,1,\"\")","v":""},{"$f":"IF(AH22663=AI22663,1,\"\")","v":""},{"$f":"IF(AH22663<AI22663,1,\"\")","v":1},{"$f":"AH22663&\"-\"&AI22663","v":"1-2"}]
[null,null,null,null,null,null,null,null,null,null,null,null,null,null,null,null,null,null,null,null,null,null,null,null,null,null,null,null,null,"№11402",{"$f":"_xlfn.NORM.INV(RAND(),$Z$3,$I$20)","v":2.9895324485919548},{"$f":"_xlfn.NORM.INV(RAND(),$AA$3,$O$20)","v":-0.50752375353726342},1.2410043475273458,{"$f":"ROUND(AG22805,0)","v":1},{"$f":"ROUND(AG22806,0)","v":1},{"$f":"IF(AH22805>AI22805,1,\"\")","v":""},{"$f":"IF(AH22805=AI22805,1,\"\")","v":1},{"$f":"IF(AH22805<AI22805,1,\"\")","v":""},{"$f":"AH22805&\"-\"&AI22805","v":"1-1"}]
[null,null,null,null,null,null,null,null,null,null,null,null,null,null,null,null,null,null,null,null,null,null,null,null,null,null,null,null,null,"№11446",{"$f":"_xlfn.NORM.INV(RAND(),$Z$3,$I$20)","v":4.7847989209355717},{"$f":"_xlfn.NORM.INV(RAND(),$AA$3,$O$20)","v":1.0303237873554787},2.9075613541455252,{"$f":"ROUND(AG22893,0)","v":3},{"$f":"ROUND(AG22894,0)","v":3},{"$f":"IF(AH22893>AI22893,1,\"\")","v":""},{"$f":"IF(AH22893=AI22893,1,\"\")","v":1},{"$f":"IF(AH22893<AI22893,1,\"\")","v":""},{"$f":"AH22893&\"-\"&AI22893","v":"3-3"}]
[null,null,null,null,null,null,null,null,null,null,null,null,null,null,null,null,null,null,null,null,null,null,null,null,null,null,null,null,null,"№11490",{"$f":"_xlfn.NORM.INV(RAND(),$Z$3,$I$20)","v":1.1388031086140038},{"$f":"_xlfn.NORM.INV(RAND(),$AA$3,$O$20)","v":0.34828622599318954},{"$f":"(AE22981+AF22981)/2","v":0.7435446673035967},{"$f":"ROUND(AG22981,0)","v":1},{"$f":"ROUND(AG22982,0)","v":1},{"$f":"IF(AH22981>AI22981,1,\"\")","v":""},{"$f":"IF(AH22981=AI22981,1,\"\")","v":1},{"$f":"IF(AH22981<AI22981,1,\"\")","v":""},{"$f":"AH22981&\"-\"&AI22981","v":"1-1"}]
[null,null,null,null,null,null,null,null,null,null,null,null,null,null,null,null,null,null,null,null,null,null,null,null,null,null,null,null,null,null,{"$f":"_xlfn.NORM.INV(RAND(),$Z$4,$N$20)","v":2.3023076655216874},{"$f":"_xlfn.NORM.INV(RAND(),$AA$4,$J$20)","v":0.56115775066173534},1.4317327080917113]
[null,null,null,null,null,null,null,null,null,null,null,null,null,null,null,null,null,null,null,null,null,null,null,null,null,null,null,null,null,null,{"$f":"_xlfn.NORM.INV(RAND(),$Z$4,$N$20)","v":2.4002207073422932},{"$f":"_xlfn.NORM.INV(RAND(),$AA$4,$J$20)","v":3.3026021076877159},2.8514114075150045]
[null,null,null,null,null,null,null,null,null,null,null,null,null,null,null,null,null,null,null,null,null,null,null,null,null,null,null,null,null,null,{"$f":"_xlfn.NORM.INV(RAND(),$Z$4,$N$20)","v":2.8145486881120831},{"$f":"_xlfn.NORM.INV(RAND(),$AA$4,$J$20)","v":3.0345662353712903},2.9245574617416867]
[null,null,null,null,null,null,null,null,null,null,null,null,null,null,null,null,null,null,null,null,null,null,null,null,null,null,null,null,null,null,{"$f":"_xlfn.NORM.INV(RAND(),$Z$4,$N$20)","v":3.9927777066744401},{"$f":"_xlfn.NORM.INV(RAND(),$AA$4,$J$20)","v":4.148532174391895},4.0706549405331671]
[null,null,null,null,null,null,null,null,null,null,null,null,null,null,null,null,null,null,null,null,null,null,null,null,null,null,null,null,null,null,{"$f":"_xlfn.NORM.INV(RAND(),$Z$4,$N$20)","v":1.5586709946876285},{"$f":"_xlfn.NORM.INV(RAND(),$AA$4,$J$20)","v":1.0662584892293663},1.3124647419584974]
[null,null,null,null,null,null,null,null,null,null,null,null,null,null,null,null,null,null,null,null,null,null,null,null,null,null,null,null,null,"№11761",{"$f":"_xlfn.NORM.INV(RAND(),$Z$3,$I$20)","v":5.2525349885766763},{"$f":"_xlfn.NORM.INV(RAND(),$AA$3,$O$20)","v":-1.3189054113633272},1.9668147886066745,{"$f":"ROUND(AG23523,0)","v":2},{"$f":"ROUND(AG23524,0)","v":3},{"$f":"IF(AH23523>AI23523,1,\"\")","v":""},{"$f":"IF(AH23523=AI23523,1,\"\")","v":""},{"$f":"IF(AH23523<AI23523,1,\"\")","v":1},{"$f":"AH23523&\"-\"&AI23523","v":"2-3"}]
[null,null,null,null,null,null,null,null,null,null,null,null,null,null,null,null,null,null,null,null,null,null,null,null,null,null,null,null,null,"№11844",{"$f":"_xlfn.NORM.INV(RAND(),$Z$3,$I$20)","v":5.2081851421585208},{"$f":"_xlfn.NORM.INV(RAND(),$AA$3,$O$20)","v":0.10963585335330972},2.6589104977559153,{"$f":"ROUND(AG23689,0)","v":3},{"$f":"ROUND(AG23690,0)","v":3},{"$f":"IF(AH23689>AI23689,1,\"\")","v":""},{"$f":"IF(AH23689=AI23689,1,\"\")","v":1},{"$f":"IF(AH23689<AI23689,1,\"\")","v":""},{"$f":"AH23689&\"-\"&AI23689","v":"3-3"}]
[null,null,null,null,null,null,null,null,null,null,null,null,null,null,null,null,null,null,null,null,null,null,null,null,null,null,null,null,null,null,{"$f":"_xlfn.NORM.INV(RAND(),$Z$4,$N$20)","v":2.9231868570117938},{"$f":"_xlfn.NORM.INV(RAND(),$AA$4,$J$20)","v":9.3237499269730462E-2},1.508212178140762]
[null,null,null,null,null,null,null,null,null,null,null,null,null,null,null,null,null,null,null,null,null,null,null,null,null,null,null,null,null,"№11920",{"$f":"_xlfn.NORM.INV(RAND(),$Z$3,$I$20)","v":5.221592563467282},{"$f":"_xlfn.NORM.INV(RAND(),$AA$3,$O$20)","v":0.66167597669235578},2.941634270079819,{"$f":"ROUND(AG23841,0)","v":3},{"$f":"ROUND(AG23842,0)","v":2},{"$f":"IF(AH23841>AI23841,1,\"\")","v":1},{"$f":"IF(AH23841=AI23841,1,\"\")","v":""},{"$f":"IF(AH23841<AI23841,1,\"\")","v":""},{"$f":"AH23841&\"-\"&AI23841","v":"3-2"}]
[null,null,null,null,null,null,null,null,null,null,null,null,null,null,null,null,null,null,null,null,null,null,null,null,null,null,null,null,null,"№11989",{"$f":"_xlfn.NORM.INV(RAND(),$Z$3,$I$20)","v":3.1716962486621538},{"$f":"_xlfn.NORM.INV(RAND(),$AA$3,$O$20)","v":2.3525012482114578},2.7620987484368058,{"$f":"ROUND(AG23979,0)","v":3},{"$f":"ROUND(AG23980,0)","v":3},{"$f":"IF(AH23979>AI23979,1,\"\")","v":""},{"$f":"IF(AH23979=AI23979,1,\"\")","v":1},{"$f":"IF(AH23979<AI23979,1,\"\")","v":""},{"$f":"AH23979&\"-\"&AI23979","v":"3-3"}]
[null,null,null,null,null,null,null,null,null,null,null,null,null,null,null,null,null,null,null,null,null,null,null,null,null,null,null,null,null,null,{"$f":"_xlfn.NORM.INV(RAND(),$Z$4,$N$20)","v":2.6746409585555231},{"$f":"_xlfn.NORM.INV(RAND(),$AA$4,$J$20)","v":1.6685226757223206},2.1715818171389216]
[null,null,null,null,null,null,null,null,null,null,null,null,null,null,null,null,null,null,null,null,null,null,null,null,null,null,null,null,null,"№12079",{"$f":"_xlfn.NORM.INV(RAND(),$Z$3,$I$20)","v":3.7135664833533983},{"$f":"_xlfn.NORM.INV(RAND(),$AA$3,$O$20)","v":1.9947802228259941},2.8541733530896964,{"$f":"ROUND(AG24159,0)","v":3},{"$f":"ROUND(AG24160,0)","v":2},{"$f":"IF(AH24159>AI24159,1,\"\")","v":1},{"$f":"IF(AH24159=AI24159,1,\"\")","v":""},{"$f":"IF(AH24159<AI24159,1,\"\")","v":""},{"$f":"AH24159&\"-\"&AI24159","v":"3-2"}]
[null,null,null,null,null,null,null,null,null,null,null,null,null,null,null,null,null,null,null,null,null,null,null,null,null,null,null,null,null,"№12148",{"$f":"_xlfn.NORM.INV(RAND(),$Z$3,$I$20)","v":2.5950280189030015},{"$f":"_xlfn.NORM.INV(RAND(),$AA$3,$O$20)","v":1.1550733134903104},1.8750506661966559,{"$f":"ROUND(AG24297,0)","v":2},{"$f":"ROUND(AG24298,0)","v":4},{"$f":"IF(AH24297>AI24297,1,\"\")","v":""},{"$f":"IF(AH24297=AI24297,1,\"\")","v":""},{"$f":"IF(AH24297<AI24297,1,\"\")","v":1},{"$f":"AH24297&\"-\"&AI24297","v":"2-4"}]
[null,null,null,null,null,null,null,null,null,null,null,null,null,null,null,null,null,null,null,null,null,null,null,null,null,null,null,null,null,null,{"$f":"_xlfn.NORM.INV(RAND(),$Z$4,$N$20)","v":2.0068848080629302},{"$f":"_xlfn.NORM.INV(RAND(),$AA$4,$J$20)","v":1.9495008533726579},1.9781928307177941]
[null,null,null,null,null,null,null,null,null,null,null,null,null,null,null,null,null,null,null,null,null,null,null,null,null,null,null,null,null,"№12242",{"$f":"_xlfn.NORM.INV(RAND(),$Z$3,$I$20)","v":3.7613377441782201},{"$f":"_xlfn.NORM.INV(RAND(),$AA$3,$O$20)","v":1.1500750700636018},2.4557064071209109,{"$f":"ROUND(AG24485,0)","v":2},{"$f":"ROUND(AG24486,0)","v":3},{"$f":"IF(AH24485>AI24485,1,\"\")","v":""},{"$f":"IF(AH24485=AI24485,1,\"\")","v":""},{"$f":"IF(AH24485<AI24485,1,\"\")","v":1},{"$f":"AH24485&\"-\"&AI24485","v":"2-3"}]
[null,null,null,null,null,null,null,null,null,null,null,null,null,null,null,null,null,null,null,null,null,null,null,null,null,null,null,null,null,null,{"$f":"_xlfn.NORM.INV(RAND(),$Z$4,$N$20)","v":3.2352998861372164},{"$f":"_xlfn.NORM.INV(RAND(),$AA$4,$J$20)","v":0.25972139833924435},1.7475106422382303]
[null,null,null,null,null,null,null,null,null,null,null,null,null,null,null,null,null,null,null,null,null,null,null,null,null,null,null,null,null,null,{"$f":"_xlfn.NORM.INV(RAND(),$Z$4,$N$20)","v":1.3646931988342328},{"$f":"_xlfn.NORM.INV(RAND(),$AA$4,$J$20)","v":-0.60759047769558183},0.37855136056932548]
[null,null,null,null,null,null,null,null,null,null,null,null,null,null,null,null,null,null,null,null,null,null,null,null,null,null,null,null,null,null,{"$f":"_xlfn.NORM.INV(RAND(),$Z$4,$N$20)","v":1.7750718786634971},{"$f":"_xlfn.NORM.INV(RAND(),$AA$4,$J$20)","v":-0.68229024099921221},0.54639081883214247]
[null,null,null,null,null,null,null,null,null,null,null,null,null,null,null,null,null,null,null,null,null,null,null,null,null,null,null,null,null,null,{"$f":"_xlfn.NORM.INV(RAND(),$Z$4,$N$20)","v":1.5261455749756663},{"$f":"_xlfn.NORM.INV(RAND(),$AA$4,$J$20)","v":2.4071041372452133},1.9666248561104398]
[null,null,null,null,null,null,null,null,null,null,null,null,null,null,null,null,null,null,null,null,null,null,null,null,null,null,null,null,null,null,{"$f":"_xlfn.NORM.INV(RAND(),$Z$4,$N$20)","v":2.8119524423322595},{"$f":"_xlfn.NORM.INV(RAND(),$AA$4,$J$20)","v":-0.32089951341751477},1.2455264644573725]
[null,null,null,null,null,null,null,null,null,null,null,null,null,null,null,null,null,null,null,null,null,null,null,null,null,null,null,null,null,"№12507",{"$f":"_xlfn.NORM.INV(RAND(),$Z$3,$I$20)","v":3.7025014576158841},{"$f":"_xlfn.NORM.INV(RAND(),$AA$3,$O$20)","v":1.2289560529643064},2.4657287552900953,{"$f":"ROUND(AG25015,0)","v":2},{"$f":"ROUND(AG25016,0)","v":1},{"$f":"IF(AH25015>AI25015,1,\"\")","v":1},{"$f":"IF(AH25015=AI25015,1,\"\")","v":""},{"$f":"IF(AH25015<AI25015,1,\"\")","v":""},{"$f":"AH25015&\"-\"&AI25015","v":"2-1"}]
[null,null,null,null,null,null,null,null,null,null,null,null,null,null,null,null,null,null,null,null,null,null,null,null,null,null,null,null,null,"№12578",{"$f":"_xlfn.NORM.INV(RAND(),$Z$3,$I$20)","v":7.1883928417485308},{"$f":"_xlfn.NORM.INV(RAND(),$AA$3,$O$20)","v":0.55253010146848236},{"$f":"(AE25157+AF25157)/2","v":3.8704614716085066},{"$f":"ROUND(AG25157,0)","v":4},{"$f":"ROUND(AG25158,0)","v":3},{"$f":"IF(AH25157>AI25157,1,\"\")","v":1},{"$f":"IF(AH25157=AI25157,1,\"\")","v":""},{"$f":"IF(AH25157<AI25157,1,\"\")","v":""},{"$f":"AH25157&\"-\"&AI25157","v":"4-3"}]
[null,null,null,null,null,null,null,null,null,null,null,null,null,null,null,null,null,null,null,null,null,null,null,null,null,null,null,null,null,"№12640",{"$f":"_xlfn.NORM.INV(RAND(),$Z$3,$I$20)","v":2.2543626490303694},{"$f":"_xlfn.NORM.INV(RAND(),$AA$3,$O$20)","v":0.18335170780990895},1.2188571784201392,{"$f":"ROUND(AG25281,0)","v":1},{"$f":"ROUND(AG25282,0)","v":3},{"$f":"IF(AH25281>AI25281,1,\"\")","v":""},{"$f":"IF(AH25281=AI25281,1,\"\")","v":""},{"$f":"IF(AH25281<AI25281,1,\"\")","v":1},{"$f":"AH25281&\"-\"&AI25281","v":"1-3"}]
[null,null,null,null,null,null,null,null,null,null,null,null,null,null,null,null,null,null,null,null,null,null,null,null,null,null,null,null,null,"№12666",{"$f":"_xlfn.NORM.INV(RAND(),$Z$3,$I$20)","v":1.9129661019899482},{"$f":"_xlfn.NORM.INV(RAND(),$AA$3,$O$20)","v":1.9011717536462163},1.9070689278180821,{"$f":"ROUND(AG25333,0)","v":2},{"$f":"ROUND(AG25334,0)","v":2},{"$f":"IF(AH25333>AI25333,1,\"\")","v":""},{"$f":"IF(AH25333=AI25333,1,\"\")","v":1},{"$f":"IF(AH25333<AI25333,1,\"\")","v":""},{"$f":"AH25333&\"-\"&AI25333","v":"2-2"}]
[null,null,null,null,null,null,null,null,null,null,null,null,null,null,null,null,null,null,null,null,null,null,null,null,null,null,null,null,null,"№12737",{"$f":"_xlfn.NORM.INV(RAND(),$Z$3,$I$20)","v":5.0058331708864419},{"$f":"_xlfn.NORM.INV(RAND(),$AA$3,$O$20)","v":1.2061460993208322},3.1059896351036369,{"$f":"ROUND(AG25475,0)","v":3},{"$f":"ROUND(AG25476,0)","v":1},{"$f":"IF(AH25475>AI25475,1,\"\")","v":1},{"$f":"IF(AH25475=AI25475,1,\"\")","v":""},{"$f":"IF(AH25475<AI25475,1,\"\")","v":""},{"$f":"AH25475&\"-\"&AI25475","v":"3-1"}]
[null,null,null,null,null,null,null,null,null,null,null,null,null,null,null,null,null,null,null,null,null,null,null,null,null,null,null,null,null,null,{"$f":"_xlfn.NORM.INV(RAND(),$Z$4,$N$20)","v":2.9145459026701777},{"$f":"_xlfn.NORM.INV(RAND(),$AA$4,$J$20)","v":2.0591306721852396},2.4868382874277088]
[null,null,null,null,null,null,null,null,null,null,null,null,null,null,null,null,null,null,null,null,null,null,null,null,null,null,null,null,null,null,{"$f":"_xlfn.NORM.INV(RAND(),$Z$4,$N$20)","v":3.1573964166353816},{"$f":"_xlfn.NORM.INV(RAND(),$AA$4,$J$20)","v":-0.27968996892029541},1.4388532238575431]
[null,null,null,null,null,null,null,null,null,null,null,null,null,null,null,null,null,null,null,null,null,null,null,null,null,null,null,null,null,null,{"$f":"_xlfn.NORM.INV(RAND(),$Z$4,$N$20)","v":2.0014270228821647},{"$f":"_xlfn.NORM.INV(RAND(),$AA$4,$J$20)","v":3.2053934907108363},2.6034102567965007]
[null,null,null,null,null,null,null,null,null,null,null,null,null,null,null,null,null,null,null,null,null,null,null,null,null,null,null,null,null,null,{"$f":"_xlfn.NORM.INV(RAND(),$Z$4,$N$20)","v":3.0194011738235482},{"$f":"_xlfn.NORM.INV(RAND(),$AA$4,$J$20)","v":8.5789491979322063E-2},1.552595332901435]
[null,null,null,null,null,null,null,null,null,null,null,null,null,null,null,null,null,null,null,null,null,null,null,null,null,null,null,null,null,null,{"$f":"_xlfn.NORM.INV(RAND(),$Z$4,$N$20)","v":2.1505875124781491},{"$f":"_xlfn.NORM.INV(RAND(),$AA$4,$J$20)","v":2.2989103038155951},2.2247489081468723]
[null,null,null,null,null,null,null,null,null,null,null,null,null,null,null,null,null,null,null,null,null,null,null,null,null,null,null,null,null,"№13006",{"$f":"_xlfn.NORM.INV(RAND(),$Z$3,$I$20)","v":3.1177752510459453},{"$f":"_xlfn.NORM.INV(RAND(),$AA$3,$O$20)","v":-4.5860304885985359E-2},1.5359574730799799,{"$f":"ROUND(AG26013,0)","v":2},{"$f":"ROUND(AG26014,0)","v":1},{"$f":"IF(AH26013>AI26013,1,\"\")","v":1},{"$f":"IF(AH26013=AI26013,1,\"\")","v":""},{"$f":"IF(AH26013<AI26013,1,\"\")","v":""},{"$f":"AH26013&\"-\"&AI26013","v":"2-1"}]
[null,null,null,null,null,null,null,null,null,null,null,null,null,null,null,null,null,null,null,null,null,null,null,null,null,null,null,null,null,"№13048",{"$f":"_xlfn.NORM.INV(RAND(),$Z$3,$I$20)","v":4.6331010636916528},{"$f":"_xlfn.NORM.INV(RAND(),$AA$3,$O$20)","v":0.40821587713677049},2.5206584704142116,{"$f":"ROUND(AG26097,0)","v":3},{"$f":"ROUND(AG26098,0)","v":0},{"$f":"IF(AH26097>AI26097,1,\"\")","v":1},{"$f":"IF(AH26097=AI26097,1,\"\")","v":""},{"$f":"IF(AH26097<AI26097,1,\"\")","v":""},{"$f":"AH26097&\"-\"&AI26097","v":"3-0"}]
[null,null,null,null,null,null,null,null,null,null,null,null,null,null,null,null,null,null,null,null,null,null,null,null,null,null,null,null,null,"№13096",{"$f":"_xlfn.NORM.INV(RAND(),$Z$3,$I$20)","v":3.3679995641998808},{"$f":"_xlfn.NORM.INV(RAND(),$AA$3,$O$20)","v":0.55627640573588211},1.9621379849678815,{"$f":"ROUND(AG26193,0)","v":2},{"$f":"ROUND(AG26194,0)","v":2},{"$f":"IF(AH26193>AI26193,1,\"\")","v":""},{"$f":"IF(AH26193=AI26193,1,\"\")","v":1},{"$f":"IF(AH26193<AI26193,1,\"\")","v":""},{"$f":"AH26193&\"-\"&AI26193","v":"2-2"}]
[null,null,null,null,null,null,null,null,null,null,null,null,null,null,null,null,null,null,null,null,null,null,null,null,null,null,null,null,null,"№13165",{"$f":"_xlfn.NORM.INV(RAND(),$Z$3,$I$20)","v":1.9493875679237265},{"$f":"_xlfn.NORM.INV(RAND(),$AA$3,$O$20)","v":2.1443375941382836},2.046862581031005,{"$f":"ROUND(AG26331,0)","v":2},{"$f":"ROUND(AG26332,0)","v":2},{"$f":"IF(AH26331>AI26331,1,\"\")","v":""},{"$f":"IF(AH26331=AI26331,1,\"\")","v":1},{"$f":"IF(AH26331<AI26331,1,\"\")","v":""},{"$f":"AH26331&\"-\"&AI26331","v":"2-2"}]
[null,null,null,null,null,null,null,null,null,null,null,null,null,null,null,null,null,null,null,null,null,null,null,null,null,null,null,null,null,"№13236",{"$f":"_xlfn.NORM.INV(RAND(),$Z$3,$I$20)","v":2.6491366688378992},{"$f":"_xlfn.NORM.INV(RAND(),$AA$3,$O$20)","v":0.73398352304113224},1.6915600959395158,{"$f":"ROUND(AG26473,0)","v":2},{"$f":"ROUND(AG26474,0)","v":2},{"$f":"IF(AH26473>AI26473,1,\"\")","v":""},{"$f":"IF(AH26473=AI26473,1,\"\")","v":1},{"$f":"IF(AH26473<AI26473,1,\"\")","v":""},{"$f":"AH26473&\"-\"&AI26473","v":"2-2"}]
[null,null,null,null,null,null,null,null,null,null,null,null,null,null,null,null,null,null,null,null,null,null,null,null,null,null,null,null,null,null,{"$f":"_xlfn.NORM.INV(RAND(),$Z$4,$N$20)","v":0.90820047158598149},{"$f":"_xlfn.NORM.INV(RAND(),$AA$4,$J$20)","v":0.28552302809013774},0.59686174983805962]
[null,null,null,null,null,null,null,null,null,null,null,null,null,null,null,null,null,null,null,null,null,null,null,null,null,null,null,null,null,"№13324",{"$f":"_xlfn.NORM.INV(RAND(),$Z$3,$I$20)","v":4.823655495984899},{"$f":"_xlfn.NORM.INV(RAND(),$AA$3,$O$20)","v":0.72490446411022247},2.7742799800475608,{"$f":"ROUND(AG26649,0)","v":3},{"$f":"ROUND(AG26650,0)","v":1},{"$f":"IF(AH26649>AI26649,1,\"\")","v":1},{"$f":"IF(AH26649=AI26649,1,\"\")","v":""},{"$f":"IF(AH26649<AI26649,1,\"\")","v":""},{"$f":"AH26649&\"-\"&AI26649","v":"3-1"}]
[null,null,null,null,null,null,null,null,null,null,null,null,null,null,null,null,null,null,null,null,null,null,null,null,null,null,null,null,null,null,{"$f":"_xlfn.NORM.INV(RAND(),$Z$4,$N$20)","v":2.5367488744481759},{"$f":"_xlfn.NORM.INV(RAND(),$AA$4,$J$20)","v":1.4080570019416532},1.9724029381949144]
[null,null,null,null,null,null,null,null,null,null,null,null,null,null,null,null,null,null,null,null,null,null,null,null,null,null,null,null,null,null,{"$f":"_xlfn.NORM.INV(RAND(),$Z$4,$N$20)","v":2.6355044134948411},{"$f":"_xlfn.NORM.INV(RAND(),$AA$4,$J$20)","v":-0.31632091086294656},1.1595917513159473]
[null,null,null,null,null,null,null,null,null,null,null,null,null,null,null,null,null,null,null,null,null,null,null,null,null,null,null,null,null,"№13446",{"$f":"_xlfn.NORM.INV(RAND(),$Z$3,$I$20)","v":3.6480486218814709},{"$f":"_xlfn.NORM.INV(RAND(),$AA$3,$O$20)","v":0.23041943479213389},1.9392340283368024,{"$f":"ROUND(AG26893,0)","v":2},{"$f":"ROUND(AG26894,0)","v":3},{"$f":"IF(AH26893>AI26893,1,\"\")","v":""},{"$f":"IF(AH26893=AI26893,1,\"\")","v":""},{"$f":"IF(AH26893<AI26893,1,\"\")","v":1},{"$f":"AH26893&\"-\"&AI26893","v":"2-3"}]
[null,null,null,null,null,null,null,null,null,null,null,null,null,null,null,null,null,null,null,null,null,null,null,null,null,null,null,null,null,null,{"$f":"_xlfn.NORM.INV(RAND(),$Z$4,$N$20)","v":1.8806125474579209},{"$f":"_xlfn.NORM.INV(RAND(),$AA$4,$J$20)","v":2.285654844544609},2.0831336960012647]
[null,null,null,null,null,null,null,null,null,null,null,null,null,null,null,null,null,null,null,null,null,null,null,null,null,null,null,null,null,null,{"$f":"_xlfn.NORM.INV(RAND(),$Z$4,$N$20)","v":2.2984861957404359},{"$f":"_xlfn.NORM.INV(RAND(),$AA$4,$J$20)","v":1.3320519322630229},1.8152690640017295]
[null,null,null,null,null,null,null,null,null,null,null,null,null,null,null,null,null,null,null,null,null,null,null,null,null,null,null,null,null,"№13595",{"$f":"_xlfn.NORM.INV(RAND(),$Z$3,$I$20)","v":3.987211451573804},{"$f":"_xlfn.NORM.INV(RAND(),$AA$3,$O$20)","v":0.69399883862446921},2.3406051450991368,{"$f":"ROUND(AG27191,0)","v":2},{"$f":"ROUND(AG27192,0)","v":2},{"$f":"IF(AH27191>AI27191,1,\"\")","v":""},{"$f":"IF(AH27191=AI27191,1,\"\")","v":1},{"$f":"IF(AH27191<AI27191,1,\"\")","v":""},{"$f":"AH27191&\"-\"&AI27191","v":"2-2"}]
[null,null,null,null,null,null,null,null,null,null,null,null,null,null,null,null,null,null,null,null,null,null,null,null,null,null,null,null,null,null,{"$f":"_xlfn.NORM.INV(RAND(),$Z$4,$N$20)","v":3.1661860854845356},{"$f":"_xlfn.NORM.INV(RAND(),$AA$4,$J$20)","v":3.1832752192953873},3.1747306523899614]
[null,null,null,null,null,null,null,null,null,null,null,null,null,null,null,null,null,null,null,null,null,null,null,null,null,null,null,null,null,"№13683",{"$f":"_xlfn.NORM.INV(RAND(),$Z$3,$I$20)","v":2.4703952515712468},{"$f":"_xlfn.NORM.INV(RAND(),$AA$3,$O$20)","v":-0.38940058689307744},1.0404973323390847,{"$f":"ROUND(AG27367,0)","v":1},{"$f":"ROUND(AG27368,0)","v":2},{"$f":"IF(AH27367>AI27367,1,\"\")","v":""},{"$f":"IF(AH27367=AI27367,1,\"\")","v":""},{"$f":"IF(AH27367<AI27367,1,\"\")","v":1},{"$f":"AH27367&\"-\"&AI27367","v":"1-2"}]
[null,null,null,null,null,null,null,null,null,null,null,null,null,null,null,null,null,null,null,null,null,null,null,null,null,null,null,null,null,"№13754",{"$f":"_xlfn.NORM.INV(RAND(),$Z$3,$I$20)","v":2.2946017688327558},{"$f":"_xlfn.NORM.INV(RAND(),$AA$3,$O$20)","v":-0.58899811055998885},0.85280182913638347,{"$f":"ROUND(AG27509,0)","v":1},{"$f":"ROUND(AG27510,0)","v":2},{"$f":"IF(AH27509>AI27509,1,\"\")","v":""},{"$f":"IF(AH27509=AI27509,1,\"\")","v":""},{"$f":"IF(AH27509<AI27509,1,\"\")","v":1},{"$f":"AH27509&\"-\"&AI27509","v":"1-2"}]
[null,null,null,null,null,null,null,null,null,null,null,null,null,null,null,null,null,null,null,null,null,null,null,null,null,null,null,null,null,"№13823",{"$f":"_xlfn.NORM.INV(RAND(),$Z$3,$I$20)","v":0.32744736854029055},{"$f":"_xlfn.NORM.INV(RAND(),$AA$3,$O$20)","v":0.35527369366523393},0.34136053110276221,{"$f":"ROUND(AG27647,0)","v":0},{"$f":"ROUND(AG27648,0)","v":2},{"$f":"IF(AH27647>AI27647,1,\"\")","v":""},{"$f":"IF(AH27647=AI27647,1,\"\")","v":""},{"$f":"IF(AH27647<AI27647,1,\"\")","v":1},{"$f":"AH27647&\"-\"&AI27647","v":"0-2"}]
[null,null,null,null,null,null,null,null,null,null,null,null,null,null,null,null,null,null,null,null,null,null,null,null,null,null,null,null,null,"№13844",{"$f":"_xlfn.NORM.INV(RAND(),$Z$3,$I$20)","v":3.9107879193972113},{"$f":"_xlfn.NORM.INV(RAND(),$AA$3,$O$20)","v":1.1202164272745052},2.5155021733358582,{"$f":"ROUND(AG27689,0)","v":3},{"$f":"ROUND(AG27690,0)","v":3},{"$f":"IF(AH27689>AI27689,1,\"\")","v":""},{"$f":"IF(AH27689=AI27689,1,\"\")","v":1},{"$f":"IF(AH27689<AI27689,1,\"\")","v":""},{"$f":"AH27689&\"-\"&AI27689","v":"3-3"}]
[null,null,null,null,null,null,null,null,null,null,null,null,null,null,null,null,null,null,null,null,null,null,null,null,null,null,null,null,null,"№13913",{"$f":"_xlfn.NORM.INV(RAND(),$Z$3,$I$20)","v":5.8415404035283451},{"$f":"_xlfn.NORM.INV(RAND(),$AA$3,$O$20)","v":1.7429885057835186},3.7922644546559319,{"$f":"ROUND(AG27827,0)","v":4},{"$f":"ROUND(AG27828,0)","v":1},{"$f":"IF(AH27827>AI27827,1,\"\")","v":1},{"$f":"IF(AH27827=AI27827,1,\"\")","v":""},{"$f":"IF(AH27827<AI27827,1,\"\")","v":""},{"$f":"AH27827&\"-\"&AI27827","v":"4-1"}]
[null,null,null,null,null,null,null,null,null,null,null,null,null,null,null,null,null,null,null,null,null,null,null,null,null,null,null,null,null,null,{"$f":"_xlfn.NORM.INV(RAND(),$Z$4,$N$20)","v":1.9353847199083067},{"$f":"_xlfn.NORM.INV(RAND(),$AA$4,$J$20)","v":-7.256226738665883E-2},0.93141122626082395]
[null,null,null,null,null,null,null,null,null,null,null,null,null,null,null,null,null,null,null,null,null,null,null,null,null,null,null,null,null,null,{"$f":"_xlfn.NORM.INV(RAND(),$Z$4,$N$20)","v":2.3441006407798555},{"$f":"_xlfn.NORM.INV(RAND(),$AA$4,$J$20)","v":-0.72449931688571123},0.80980066194707212]
[null,null,null,null,null,null,null,null,null,null,null,null,null,null,null,null,null,null,null,null,null,null,null,null,null,null,null,null,null,null,{"$f":"_xlfn.NORM.INV(RAND(),$Z$4,$N$20)","v":0.60285360401909482},{"$f":"_xlfn.NORM.INV(RAND(),$AA$4,$J$20)","v":3.4059512166766153},2.004402410347855]
[null,null,null,null,null,null,null,null,null,null,null,null,null,null,null,null,null,null,null,null,null,null,null,null,null,null,null,null,null,null,{"$f":"_xlfn.NORM.INV(RAND(),$Z$4,$N$20)","v":1.4384599529564732},{"$f":"_xlfn.NORM.INV(RAND(),$AA$4,$J$20)","v":1.0028708515785043},1.2206654022674888]
[null,null,null,null,null,null,null,null,null,null,null,null,null,null,null,null,null,null,null,null,null,null,null,null,null,null,null,null,null,null,{"$f":"_xlfn.NORM.INV(RAND(),$Z$4,$N$20)","v":2.9954705292143982},{"$f":"_xlfn.NORM.INV(RAND(),$AA$4,$J$20)","v":2.6412733799409303},2.818371954577664]
[null,null,null,null,null,null,null,null,null,null,null,null,null,null,null,null,null,null,null,null,null,null,null,null,null,null,null,null,null,"№14182",{"$f":"_xlfn.NORM.INV(RAND(),$Z$3,$I$20)","v":3.031991710755976},{"$f":"_xlfn.NORM.INV(RAND(),$AA$3,$O$20)","v":0.87482489922837303},1.9534083049921744,{"$f":"ROUND(AG28365,0)","v":2},{"$f":"ROUND(AG28366,0)","v":2},{"$f":"IF(AH28365>AI28365,1,\"\")","v":""},{"$f":"IF(AH28365=AI28365,1,\"\")","v":1},{"$f":"IF(AH28365<AI28365,1,\"\")","v":""},{"$f":"AH28365&\"-\"&AI28365","v":"2-2"}]
[null,null,null,null,null,null,null,null,null,null,null,null,null,null,null,null,null,null,null,null,null,null,null,null,null,null,null,null,null,"№14242",{"$f":"_xlfn.NORM.INV(RAND(),$Z$3,$I$20)","v":5.370835087634461},{"$f":"_xlfn.NORM.INV(RAND(),$AA$3,$O$20)","v":0.12694515662686978},{"$f":"(AE28485+AF28485)/2","v":2.7488901221306654},{"$f":"ROUND(AG28485,0)","v":3},{"$f":"ROUND(AG28486,0)","v":3},{"$f":"IF(AH28485>AI28485,1,\"\")","v":""},{"$f":"IF(AH28485=AI28485,1,\"\")","v":1},{"$f":"IF(AH28485<AI28485,1,\"\")","v":""},{"$f":"AH28485&\"-\"&AI28485","v":"3-3"}]
[null,null,null,null,null,null,null,null,null,null,null,null,null,null,null,null,null,null,null,null,null,null,null,null,null,null,null,null,null,null,2.6473195416135651,2.5133364141631196,2.5803279778883423]
[null,null,null,null,null,null,null,null,null,null,null,null,null,null,null,null,null,null,null,null,null,null,null,null,null,null,null,null,null,"№14341",4.5648211933917704,5.7749261803051177E-2,2.311285227597411,{"$f":"ROUND(AG28683,0)","v":2},{"$f":"ROUND(AG28684,0)","v":2},{"$f":"IF(AH28683>AI28683,1,\"\")","v":""},{"$f":"IF(AH28683=AI28683,1,\"\")","v":1},{"$f":"IF(AH28683<AI28683,1,\"\")","v":""},{"$f":"AH28683&\"-\"&AI28683","v":"2-2"}]
[null,null,null,null,null,null,null,null,null,null,null,null,null,null,null,null,null,null,null,null,null,null,null,null,null,null,null,null,null,"№14412",0.58716318838372228,2.0144890733810845,1.3008261308824034,{"$f":"ROUND(AG28825,0)","v":1},{"$f":"ROUND(AG28826,0)","v":3},{"$f":"IF(AH28825>AI28825,1,\"\")","v":""},{"$f":"IF(AH28825=AI28825,1,\"\")","v":""},{"$f":"IF(AH28825<AI28825,1,\"\")","v":1},{"$f":"AH28825&\"-\"&AI28825","v":"1-3"}]
[null,null,null,null,null,null,null,null,null,null,null,null,null,null,null,null,null,null,null,null,null,null,null,null,null,null,null,null,null,null,2.6608817947910643,1.8766447906934014,2.268763292742233]
[null,null,null,null,null,null,null,null,null,null,null,null,null,null,null,null,null,null,null,null,null,null,null,null,null,null,null,null,null,"№14502",3.1303081954309726,-0.21878172254056194,1.4557632364452053,{"$f":"ROUND(AG29005,0)","v":1},{"$f":"ROUND(AG29006,0)","v":2},{"$f":"IF(AH29005>AI29005,1,\"\")","v":""},{"$f":"IF(AH29005=AI29005,1,\"\")","v":""},{"$f":"IF(AH29005<AI29005,1,\"\")","v":1},{"$f":"AH29005&\"-\"&AI29005","v":"1-2"}]
[null,null,null,null,null,null,null,null,null,null,null,null,null,null,null,null,null,null,null,null,null,null,null,null,null,null,null,null,null,"№14571",4.6631137558081823,1.1974533968186218,2.9302835763134021,{"$f":"ROUND(AG29143,0)","v":3},{"$f":"ROUND(AG29144,0)","v":2},{"$f":"IF(AH29143>AI29143,1,\"\")","v":1},{"$f":"IF(AH29143=AI29143,1,\"\")","v":""},{"$f":"IF(AH29143<AI29143,1,\"\")","v":""},{"$f":"AH29143&\"-\"&AI29143","v":"3-2"}]
[null,null,null,null,null,null,null,null,null,null,null,null,null,null,null,null,null,null,null,null,null,null,null,null,null,null,null,null,null,null,1.5442650575686567,2.0072944879715777,1.7757797727701172]
[null,null,null,null,null,null,null,null,null,null,null,null,null,null,null,null,null,null,null,null,null,null,null,null,null,null,null,null,null,"№14640",5.4445781721371587,-0.71626392487727819,2.3641571236299401,{"$f":"ROUND(AG29281,0)","v":2},{"$f":"ROUND(AG29282,0)","v":1},{"$f":"IF(AH29281>AI29281,1,\"\")","v":1},{"$f":"IF(AH29281=AI29281,1,\"\")","v":""},{"$f":"IF(AH29281<AI29281,1,\"\")","v":""},{"$f":"AH29281&\"-\"&AI29281","v":"2-1"}]
[null,null,null,null,null,null,null,null,null,null,null,null,null,null,null,null,null,null,null,null,null,null,null,null,null,null,null,null,null,null,1.8761333215311593,2.4140972767021798,2.1451152991166698]
[null,null,null,null,null,null,null,null,null,null,null,null,null,null,null,null,null,null,null,null,null,null,null,null,null,null,null,null,null,null,2.5233819945151179,4.6459002862404084,3.5846411403777632]
[null,null,null,null,null,null,null,null,null,null,null,null,null,null,null,null,null,null,null,null,null,null,null,null,null,null,null,null,null,"№14771",4.1527170874860291,1.6148536121119565,2.8837853497989929,{"$f":"ROUND(AG29543,0)","v":3},{"$f":"ROUND(AG29544,0)","v":1},{"$f":"IF(AH29543>AI29543,1,\"\")","v":1},{"$f":"IF(AH29543=AI29543,1,\"\")","v":""},{"$f":"IF(AH29543<AI29543,1,\"\")","v":""},{"$f":"AH29543&\"-\"&AI29543","v":"3-1"}]
[null,null,null,null,null,null,null,null,null,null,null,null,null,null,null,null,null,null,null,null,null,null,null,null,null,null,null,null,null,null,2.8306958832168161,1.1833976218606952,2.0070467525387556]
[null,null,null,null,null,null,null,null,null,null,null,null,null,null,null,null,null,null,null,null,null,null,null,null,null,null,null,null,null,null,2.6270614001722614,3.9941476335476058,3.3106045168599336]
[null,null,null,null,null,null,null,null,null,null,null,null,null,null,null,null,null,null,null,null,null,null,null,null,null,null,null,null,null,"№14930",6.8291731825728945,0.88860803533442689,3.8588906089536605,{"$f":"ROUND(AG29861,0)","v":4},{"$f":"ROUND(AG29862,0)","v":2},{"$f":"IF(AH29861>AI29861,1,\"\")","v":1},{"$f":"IF(AH29861=AI29861,1,\"\")","v":""},{"$f":"IF(AH29861<AI29861,1,\"\")","v":""},{"$f":"AH29861&\"-\"&AI29861","v":"4-2"}]
[null,null,null,null,null,null,null,null,null,null,null,null,null,null,null,null,null,null,null,null,null,null,null,null,null,null,null,null,null,"№14999",5.4688571536049437,0.68699722047238609,3.0779271870386649,{"$f":"ROUND(AG29999,0)","v":3},{"$f":"ROUND(AG30000,0)","v":3},{"$f":"IF(AH29999>AI29999,1,\"\")","v":""},{"$f":"IF(AH29999=AI29999,1,\"\")","v":1},{"$f":"IF(AH29999<AI29999,1,\"\")","v":""},{"$f":"AH29999&\"-\"&AI29999","v":"3-3"}]
[null,null,null,null,null,null,null,null,null,null,null,null,null,null,null,null,null,null,null,null,null,null,null,null,null,null,null,null,null,"№15038",2.1774249607182847,1.1463521927309386,1.6618885767246117,{"$f":"ROUND(AG30077,0)","v":2},{"$f":"ROUND(AG30078,0)","v":2},{"$f":"IF(AH30077>AI30077,1,\"\")","v":""},{"$f":"IF(AH30077=AI30077,1,\"\")","v":1},{"$f":"IF(AH30077<AI30077,1,\"\")","v":""},{"$f":"AH30077&\"-\"&AI30077","v":"2-2"}]
[null,null,null,null,null,null,null,null,null,null,null,null,null,null,null,null,null,null,null,null,null,null,null,null,null,null,null,null,null,"№15089",2.1963137473495209,-0.61945062253066885,0.78843156240942602,{"$f":"ROUND(AG30179,0)","v":1},{"$f":"ROUND(AG30180,0)","v":1},{"$f":"IF(AH30179>AI30179,1,\"\")","v":""},{"$f":"IF(AH30179=AI30179,1,\"\")","v":1},{"$f":"IF(AH30179<AI30179,1,\"\")","v":""},{"$f":"AH30179&\"-\"&AI30179","v":"1-1"}]
[null,null,null,null,null,null,null,null,null,null,null,null,null,null,null,null,null,null,null,null,null,null,null,null,null,null,null,null,null,"№15160",2.9536305680507096,1.5990005760539496,2.2763155720523294,{"$f":"ROUND(AG30321,0)","v":2},{"$f":"ROUND(AG30322,0)","v":2},{"$f":"IF(AH30321>AI30321,1,\"\")","v":""},{"$f":"IF(AH30321=AI30321,1,\"\")","v":1},{"$f":"IF(AH30321<AI30321,1,\"\")","v":""},{"$f":"AH30321&\"-\"&AI30321","v":"2-2"}]
[null,null,null,null,null,null,null,null,null,null,null,null,null,null,null,null,null,null,null,null,null,null,null,null,null,null,null,null,null,null,1.9760268181411815,4.9050655814664843,3.4405461998038329]
[null,null,null,null,null,null,null,null,null,null,null,null,null,null,null,null,null,null,null,null,null,null,null,null,null,null,null,null,null,null,2.0661557367727714,1.0595941485894733,1.5628749426811224]
[null,null,null,null,null,null,null,null,null,null,null,null,null,null,null,null,null,null,null,null,null,null,null,null,null,null,null,null,null,null,2.5531775868721693,3.4280035159151261,2.9905905513936477]
[null,null,null,null,null,null,null,null,null,null,null,null,null,null,null,null,null,null,null,null,null,null,null,null,null,null,null,null,null,null,1.160331952890113,0.33700766175174168,0.74866980732092736]
[null,null,null,null,null,null,null,null,null,null,null,null,null,null,null,null,null,null,null,null,null,null,null,null,null,null,null,null,null,null,2.7185707053187977,0.33055056039889785,1.5245606328588477]
[null,null,null,null,null,null,null,null,null,null,null,null,null,null,null,null,null,null,null,null,null,null,null,null,null,null,null,null,null,"№15436",3.5490786084226618,3.2789135250839596,3.4139960667533105,{"$f":"ROUND(AG30873,0)","v":3},{"$f":"ROUND(AG30874,0)","v":2},{"$f":"IF(AH30873>AI30873,1,\"\")","v":1},{"$f":"IF(AH30873=AI30873,1,\"\")","v":""},{"$f":"IF(AH30873<AI30873,1,\"\")","v":""},{"$f":"AH30873&\"-\"&AI30873","v":"3-2"}]
[null,null,null,null,null,null,null,null,null,null,null,null,null,null,null,null,null,null,null,null,null,null,null,null,null,null,null,null,null,null,3.0513848042399592,1.150582638765727,2.1009837215028431]
[null,null,null,null,null,null,null,null,null,null,null,null,null,null,null,null,null,null,null,null,null,null,null,null,null,null,null,null,null,"№15519",2.9245061491067972,0.83411602720458566,1.8793110881556914,{"$f":"ROUND(AG31039,0)","v":2},{"$f":"ROUND(AG31040,0)","v":2},{"$f":"IF(AH31039>AI31039,1,\"\")","v":""},{"$f":"IF(AH31039=AI31039,1,\"\")","v":1},{"$f":"IF(AH31039<AI31039,1,\"\")","v":""},{"$f":"AH31039&\"-\"&AI31039","v":"2-2"}]
[null,null,null,null,null,null,null,null,null,null,null,null,null,null,null,null,null,null,null,null,null,null,null,null,null,null,null,null,null,"№15588",3.3663325486216524,0.70840032687186394,2.0373664377467584,{"$f":"ROUND(AG31177,0)","v":2},{"$f":"ROUND(AG31178,0)","v":2},{"$f":"IF(AH31177>AI31177,1,\"\")","v":""},{"$f":"IF(AH31177=AI31177,1,\"\")","v":1},{"$f":"IF(AH31177<AI31177,1,\"\")","v":""},{"$f":"AH31177&\"-\"&AI31177","v":"2-2"}]
[null,null,null,null,null,null,null,null,null,null,null,null,null,null,null,null,null,null,null,null,null,null,null,null,null,null,null,null,null,null,2.0719746926740004,-0.47136348770968617,0.8003056024821571]
[null,null,null,null,null,null,null,null,null,null,null,null,null,null,null,null,null,null,null,null,null,null,null,null,null,null,null,null,null,"№15678",4.8752653141356745,-0.41341293617515618,2.2309261889802592,{"$f":"ROUND(AG31357,0)","v":2},{"$f":"ROUND(AG31358,0)","v":3},{"$f":"IF(AH31357>AI31357,1,\"\")","v":""},{"$f":"IF(AH31357=AI31357,1,\"\")","v":""},{"$f":"IF(AH31357<AI31357,1,\"\")","v":1},{"$f":"AH31357&\"-\"&AI31357","v":"2-3"}]
[null,null,null,null,null,null,null,null,null,null,null,null,null,null,null,null,null,null,null,null,null,null,null,null,null,null,null,null,null,"№15747",-0.37258473829943917,1.1605985258711355,0.39400689378584819,{"$f":"ROUND(AG31495,0)","v":0},{"$f":"ROUND(AG31496,0)","v":1},{"$f":"IF(AH31495>AI31495,1,\"\")","v":""},{"$f":"IF(AH31495=AI31495,1,\"\")","v":""},{"$f":"IF(AH31495<AI31495,1,\"\")","v":1},{"$f":"AH31495&\"-\"&AI31495","v":"0-1"}]
[null,null,null,null,null,null,null,null,null,null,null,null,null,null,null,null,null,null,null,null,null,null,null,null,null,null,null,null,null,null,1.504971870300162,0.17010260493883456,0.83753723761949828]
[null,null,null,null,null,null,null,null,null,null,null,null,null,null,null,null,null,null,null,null,null,null,null,null,null,null,null,null,null,"№15834",3.5314230875589634,1.1036311617712342,2.3175271246650988,{"$f":"ROUND(AG31669,0)","v":2},{"$f":"ROUND(AG31670,0)","v":2},{"$f":"IF(AH31669>AI31669,1,\"\")","v":""},{"$f":"IF(AH31669=AI31669,1,\"\")","v":1},{"$f":"IF(AH31669<AI31669,1,\"\")","v":""},{"$f":"AH31669&\"-\"&AI31669","v":"2-2"}]
[null,null,null,null,null,null,null,null,null,null,null,null,null,null,null,null,null,null,null,null,null,null,null,null,null,null,null,null,null,null,2.1957584827337833,2.4241354861465325,2.3099469844401579]
[null,null,null,null,null,null,null,null,null,null,null,null,null,null,null,null,null,null,null,null,null,null,null,null,null,null,null,null,null,null,1.5169805526821405,-1.0485292699722653,0.23422564135493762]
[null,null,null,null,null,null,null,null,null,null,null,null,null,null,null,null,null,null,null,null,null,null,null,null,null,null,null,null,null,null,1.7467288524791471,1.5565319173438199,1.6516303849114835]
[null,null,null,null,null,null,null,null,null,null,null,null,null,null,null,null,null,null,null,null,null,null,null,null,null,null,null,null,null,null,2.3999055947469401,1.3621010333685373,1.8810033140577387]
[null,null,null,null,null,null,null,null,null,null,null,null,null,null,null,null,null,null,null,null,null,null,null,null,null,null,null,null,null,null,1.9142902463130631,1.9957385943397636,1.9550144203264135]
[null,null,null,null,null,null,null,null,null,null,null,null,null,null,null,null,null,null,null,null,null,null,null,null,null,null,null,null,null,"№16106",3.272137580556632,0.8647641740940839,2.068450877325358,{"$f":"ROUND(AG32213,0)","v":2},{"$f":"ROUND(AG32214,0)","v":1},{"$f":"IF(AH32213>AI32213,1,\"\")","v":1},{"$f":"IF(AH32213=AI32213,1,\"\")","v":""},{"$f":"IF(AH32213<AI32213,1,\"\")","v":""},{"$f":"AH32213&\"-\"&AI32213","v":"2-1"}]
[null,null,null,null,null,null,null,null,null,null,null,null,null,null,null,null,null,null,null,null,null,null,null,null,null,null,null,null,null,"№16177",3.7879759290927342,1.0870164011713848,2.4374961651320595,{"$f":"ROUND(AG32355,0)","v":2},{"$f":"ROUND(AG32356,0)","v":2},{"$f":"IF(AH32355>AI32355,1,\"\")","v":""},{"$f":"IF(AH32355=AI32355,1,\"\")","v":1},{"$f":"IF(AH32355<AI32355,1,\"\")","v":""},{"$f":"AH32355&\"-\"&AI32355","v":"2-2"}]
[null,null,null,null,null,null,null,null,null,null,null,null,null,null,null,null,null,null,null,null,null,null,null,null,null,null,null,null,null,"№16232",3.6003500904734067,-0.1950399381664506,1.702655076153478,{"$f":"ROUND(AG32465,0)","v":2},{"$f":"ROUND(AG32466,0)","v":2},{"$f":"IF(AH32465>AI32465,1,\"\")","v":""},{"$f":"IF(AH32465=AI32465,1,\"\")","v":1},{"$f":"IF(AH32465<AI32465,1,\"\")","v":""},{"$f":"AH32465&\"-\"&AI32465","v":"2-2"}]
[null,null,null,null,null,null,null,null,null,null,null,null,null,null,null,null,null,null,null,null,null,null,null,null,null,null,null,null,null,"№16265",4.3561979733303202,-1.1500688231409513,1.6030645750946846,{"$f":"ROUND(AG32531,0)","v":2},{"$f":"ROUND(AG32532,0)","v":1},{"$f":"IF(AH32531>AI32531,1,\"\")","v":1},{"$f":"IF(AH32531=AI32531,1,\"\")","v":""},{"$f":"IF(AH32531<AI32531,1,\"\")","v":""},{"$f":"AH32531&\"-\"&AI32531","v":"2-1"}]
[null,null,null,null,null,null,null,null,null,null,null,null,null,null,null,null,null,null,null,null,null,null,null,null,null,null,null,null,null,"№16336",1.9334131494033848,0.31577966711480998,1.1245964082590973,{"$f":"ROUND(AG32673,0)","v":1},{"$f":"ROUND(AG32674,0)","v":2},{"$f":"IF(AH32673>AI32673,1,\"\")","v":""},{"$f":"IF(AH32673=AI32673,1,\"\")","v":""},{"$f":"IF(AH32673<AI32673,1,\"\")","v":1},{"$f":"AH32673&\"-\"&AI32673","v":"1-2"}]
[null,null,null,null,null,null,null,null,null,null,null,null,null,null,null,null,null,null,null,null,null,null,null,null,null,null,null,null,null,null,2.5804489198289602,1.4377966316734259,2.0091227757511931]
[null,null,null,null,null,null,null,null,null,null,null,null,null,null,null,null,null,null,null,null,null,null,null,null,null,null,null,null,null,null,1.1432535101181271,2.4390423652466637,1.7911479376823953]
[null,null,null,null,null,null,null,null,null,null,null,null,null,null,null,null,null,null,null,null,null,null,null,null,null,null,null,null,null,"№16495",4.1225684473376152,2.3352780511064442,3.2289232492220297,{"$f":"ROUND(AG32991,0)","v":3},{"$f":"ROUND(AG32992,0)","v":2},{"$f":"IF(AH32991>AI32991,1,\"\")","v":1},{"$f":"IF(AH32991=AI32991,1,\"\")","v":""},{"$f":"IF(AH32991<AI32991,1,\"\")","v":""},{"$f":"AH32991&\"-\"&AI32991","v":"3-2"}]
[null,null,null,null,null,null,null,null,null,null,null,null,null,null,null,null,null,null,null,null,null,null,null,null,null,null,null,null,null,null,1.1153436859729062,2.6285533738780371,1.8719485299254717]
[null,null,null,null,null,null,null,null,null,null,null,null,null,null,null,null,null,null,null,null,null,null,null,null,null,null,null,null,null,null,3.5276127569289368,2.9509057449175735,3.2392592509232552]
[null,null,null,null,null,null,null,null,null,null,null,null,null,null,null,null,null,null,null,null,null,null,null,null,null,null,null,null,null,"№16630",1.2596968809380766,1.8725582422818268,1.5661275616099517,{"$f":"ROUND(AG33261,0)","v":2},{"$f":"ROUND(AG33262,0)","v":1},{"$f":"IF(AH33261>AI33261,1,\"\")","v":1},{"$f":"IF(AH33261=AI33261,1,\"\")","v":""},{"$f":"IF(AH33261<AI33261,1,\"\")","v":""},{"$f":"AH33261&\"-\"&AI33261","v":"2-1"}]
[null,null,null,null,null,null,null,null,null,null,null,null,null,null,null,null,null,null,null,null,null,null,null,null,null,null,null,null,null,null,{"$f":"_xlfn.NORM.INV(RAND(),$Z$4,$N$20)","v":2.9675064759462337},{"$f":"_xlfn.NORM.INV(RAND(),$AA$4,$J$20)","v":-0.10463482012498804},1.4314358279106227]
[null,null,null,null,null,null,null,null,null,null,null,null,null,null,null,null,null,null,null,null,null,null,null,null,null,null,null,null,null,"№16695",4.2816185381947092,0.53929036584960999,2.4104544520221598,{"$f":"ROUND(AG33391,0)","v":2},{"$f":"ROUND(AG33392,0)","v":3},{"$f":"IF(AH33391>AI33391,1,\"\")","v":""},{"$f":"IF(AH33391=AI33391,1,\"\")","v":""},{"$f":"IF(AH33391<AI33391,1,\"\")","v":1},{"$f":"AH33391&\"-\"&AI33391","v":"2-3"}]
[null,null,null,null,null,null,null,null,null,null,null,null,null,null,null,null,null,null,null,null,null,null,null,null,null,null,null,null,null,"№16764",1.7933041614247947,2.5662128529192598,2.1797585071720271,{"$f":"ROUND(AG33529,0)","v":2},{"$f":"ROUND(AG33530,0)","v":2},{"$f":"IF(AH33529>AI33529,1,\"\")","v":""},{"$f":"IF(AH33529=AI33529,1,\"\")","v":1},{"$f":"IF(AH33529<AI33529,1,\"\")","v":""},{"$f":"AH33529&\"-\"&AI33529","v":"2-2"}]
[null,null,null,null,null,null,null,null,null,null,null,null,null,null,null,null,null,null,null,null,null,null,null,null,null,null,null,null,null,null,1.9082455861538787,-0.22645345202931733,0.84089606706228071]
[null,null,null,null,null,null,null,null,null,null,null,null,null,null,null,null,null,null,null,null,null,null,null,null,null,null,null,null,null,"№16854",4.5211995843138846,1.1546461711952671,2.837922877754576,{"$f":"ROUND(AG33709,0)","v":3},{"$f":"ROUND(AG33710,0)","v":3},{"$f":"IF(AH33709>AI33709,1,\"\")","v":""},{"$f":"IF(AH33709=AI33709,1,\"\")","v":1},{"$f":"IF(AH33709<AI33709,1,\"\")","v":""},{"$f":"AH33709&\"-\"&AI33709","v":"3-3"}]
[null,null,null,null,null,null,null,null,null,null,null,null,null,null,null,null,null,null,null,null,null,null,null,null,null,null,null,null,null,"№16923",3.2121631361158629,2.2236222293037877,2.7178926827098255,{"$f":"ROUND(AG33847,0)","v":3},{"$f":"ROUND(AG33848,0)","v":2},{"$f":"IF(AH33847>AI33847,1,\"\")","v":1},{"$f":"IF(AH33847=AI33847,1,\"\")","v":""},{"$f":"IF(AH33847<AI33847,1,\"\")","v":""},{"$f":"AH33847&\"-\"&AI33847","v":"3-2"}]
[null,null,null,null,null,null,null,null,null,null,null,null,null,null,null,null,null,null,null,null,null,null,null,null,null,null,null,null,null,null,2.8663522027460737,1.7925247909807456,2.3294384968634096]
[null,null,null,null,null,null,null,null,null,null,null,null,null,null,null,null,null,null,null,null,null,null,null,null,null,null,null,null,null,"№17028",4.4240779536752894,1.9020681329616804,3.163073043318485,{"$f":"ROUND(AG34057,0)","v":3},{"$f":"ROUND(AG34058,0)","v":3},{"$f":"IF(AH34057>AI34057,1,\"\")","v":""},{"$f":"IF(AH34057=AI34057,1,\"\")","v":1},{"$f":"IF(AH34057<AI34057,1,\"\")","v":""},{"$f":"AH34057&\"-\"&AI34057","v":"3-3"}]
[null,null,null,null,null,null,null,null,null,null,null,null,null,null,null,null,null,null,null,null,null,null,null,null,null,null,null,null,null,"№17082",3.8493905316066841,1.5390804928591459,2.6942355122329151,{"$f":"ROUND(AG34165,0)","v":3},{"$f":"ROUND(AG34166,0)","v":0},{"$f":"IF(AH34165>AI34165,1,\"\")","v":1},{"$f":"IF(AH34165=AI34165,1,\"\")","v":""},{"$f":"IF(AH34165<AI34165,1,\"\")","v":""},{"$f":"AH34165&\"-\"&AI34165","v":"3-0"}]
[null,null,null,null,null,null,null,null,null,null,null,null,null,null,null,null,null,null,null,null,null,null,null,null,null,null,null,null,null,null,1.774093200212097,2.9695235012065053,2.3718083507093013]
[null,null,null,null,null,null,null,null,null,null,null,null,null,null,null,null,null,null,null,null,null,null,null,null,null,null,null,null,null,null,1.4840053511794764,0.85944362866289181,1.1717244899211841]
[null,null,null,null,null,null,null,null,null,null,null,null,null,null,null,null,null,null,null,null,null,null,null,null,null,null,null,null,null,null,2.3979737958547727,2.1501271252994512,2.2740504605771119]
[null,null,null,null,null,null,null,null,null,null,null,null,null,null,null,null,null,null,null,null,null,null,null,null,null,null,null,null,null,null,2.050700552025714,1.1234945321458016,1.5870975420857578]
[null,null,null,null,null,null,null,null,null,null,null,null,null,null,null,null,null,null,null,null,null,null,null,null,null,null,null,null,null,null,2.2699866996267408,0.54998644620372072,1.4099865729152308]
[null,null,null,null,null,null,null,null,null,null,null,null,null,null,null,null,null,null,null,null,null,null,null,null,null,null,null,null,null,"№17353",2.6032829406522362,1.1917706492014919,1.8975267949268639,{"$f":"ROUND(AG34707,0)","v":2},{"$f":"ROUND(AG34708,0)","v":1},{"$f":"IF(AH34707>AI34707,1,\"\")","v":1},{"$f":"IF(AH34707=AI34707,1,\"\")","v":""},{"$f":"IF(AH34707<AI34707,1,\"\")","v":""},{"$f":"AH34707&\"-\"&AI34707","v":"2-1"}]
[null,null,null,null,null,null,null,null,null,null,null,null,null,null,null,null,null,null,null,null,null,null,null,null,null,null,null,null,null,"№17426",6.0863047666169479,0.71267941875828633,3.3994920926876171,{"$f":"ROUND(AG34853,0)","v":3},{"$f":"ROUND(AG34854,0)","v":2},{"$f":"IF(AH34853>AI34853,1,\"\")","v":1},{"$f":"IF(AH34853=AI34853,1,\"\")","v":""},{"$f":"IF(AH34853<AI34853,1,\"\")","v":""},{"$f":"AH34853&\"-\"&AI34853","v":"3-2"}]
[null,null,null,null,null,null,null,null,null,null,null,null,null,null,null,null,null,null,null,null,null,null,null,null,null,null,null,null,null,"№17443",5.2581662023044391,0.96784740503838984,3.1130068036714142,{"$f":"ROUND(AG34887,0)","v":3},{"$f":"ROUND(AG34888,0)","v":3},{"$f":"IF(AH34887>AI34887,1,\"\")","v":""},{"$f":"IF(AH34887=AI34887,1,\"\")","v":1},{"$f":"IF(AH34887<AI34887,1,\"\")","v":""},{"$f":"AH34887&\"-\"&AI34887","v":"3-3"}]
[null,null,null,null,null,null,null,null,null,null,null,null,null,null,null,null,null,null,null,null,null,null,null,null,null,null,null,null,null,"№17512",1.2411019405637855,0.65153386498964905,0.94631790277671723,{"$f":"ROUND(AG35025,0)","v":1},{"$f":"ROUND(AG35026,0)","v":4},{"$f":"IF(AH35025>AI35025,1,\"\")","v":""},{"$f":"IF(AH35025=AI35025,1,\"\")","v":""},{"$f":"IF(AH35025<AI35025,1,\"\")","v":1},{"$f":"AH35025&\"-\"&AI35025","v":"1-4"}]
[null,null,null,null,null,null,null,null,null,null,null,null,null,null,null,null,null,null,null,null,null,null,null,null,null,null,null,null,null,"№17581",5.061969397312934,1.2832427975931013,3.1726060974530177,{"$f":"ROUND(AG35163,0)","v":3},{"$f":"ROUND(AG35164,0)","v":1},{"$f":"IF(AH35163>AI35163,1,\"\")","v":1},{"$f":"IF(AH35163=AI35163,1,\"\")","v":""},{"$f":"IF(AH35163<AI35163,1,\"\")","v":""},{"$f":"AH35163&\"-\"&AI35163","v":"3-1"}]
[null,null,null,null,null,null,null,null,null,null,null,null,null,null,null,null,null,null,null,null,null,null,null,null,null,null,null,null,null,null,3.123833212521709,-1.6817055010646391,0.72106385572853493]
[null,null,null,null,null,null,null,null,null,null,null,null,null,null,null,null,null,null,null,null,null,null,null,null,null,null,null,null,null,"№17671",3.5265715066971666,1.8950701754924011,2.7108208410947841,{"$f":"ROUND(AG35343,0)","v":3},{"$f":"ROUND(AG35344,0)","v":1},{"$f":"IF(AH35343>AI35343,1,\"\")","v":1},{"$f":"IF(AH35343=AI35343,1,\"\")","v":""},{"$f":"IF(AH35343<AI35343,1,\"\")","v":""},{"$f":"AH35343&\"-\"&AI35343","v":"3-1"}]
[null,null,null,null,null,null,null,null,null,null,null,null,null,null,null,null,null,null,null,null,null,null,null,null,null,null,null,null,null,null,1.9401767036650839,0.36405722840646537,1.1521169660357746]
[null,null,null,null,null,null,null,null,null,null,null,null,null,null,null,null,null,null,null,null,null,null,null,null,null,null,null,null,null,null,{"$f":"_xlfn.NORM.INV(RAND(),$Z$4,$N$20)","v":3.6772234724434929},{"$f":"_xlfn.NORM.INV(RAND(),$AA$4,$J$20)","v":2.0539131682058058},2.8655683203246491]
[null,null,null,null,null,null,null,null,null,null,null,null,null,null,null,null,null,null,null,null,null,null,null,null,null,null,null,null,null,"№17824",2.8816853396051241,1.0324525473770951,1.9570689434911097,{"$f":"ROUND(AG35649,0)","v":2},{"$f":"ROUND(AG35650,0)","v":1},{"$f":"IF(AH35649>AI35649,1,\"\")","v":1},{"$f":"IF(AH35649=AI35649,1,\"\")","v":""},{"$f":"IF(AH35649<AI35649,1,\"\")","v":""},{"$f":"AH35649&\"-\"&AI35649","v":"2-1"}]
[null,null,null,null,null,null,null,null,null,null,null,null,null,null,null,null,null,null,null,null,null,null,null,null,null,null,null,null,null,null,2.1233997041909558,1.9345427141479721,2.0289712091694638]
[null,null,null,null,null,null,null,null,null,null,null,null,null,null,null,null,null,null,null,null,null,null,null,null,null,null,null,null,null,null,2.1645468033314681,-7.8856715070288796E-2,1.0428450441305896]
[null,null,null,null,null,null,null,null,null,null,null,null,null,null,null,null,null,null,null,null,null,null,null,null,null,null,null,null,null,"№17940",5.7328958910323777,0.16215591012310349,2.9475259005777406,{"$f":"ROUND(AG35881,0)","v":3},{"$f":"ROUND(AG35882,0)","v":1},{"$f":"IF(AH35881>AI35881,1,\"\")","v":1},{"$f":"IF(AH35881=AI35881,1,\"\")","v":""},{"$f":"IF(AH35881<AI35881,1,\"\")","v":""},{"$f":"AH35881&\"-\"&AI35881","v":"3-1"}]
[null,null,null,null,null,null,null,null,null,null,null,null,null,null,null,null,null,null,null,null,null,null,null,null,null,null,null,null,null,null,1.1020427999290248,4.6888777077004375,2.8954602538147309]
[null,null,null,null,null,null,null,null,null,null,null,null,null,null,null,null,null,null,null,null,null,null,null,null,null,null,null,null,null,"№18030",2.5063921803804439,-7.9456609632788999E-2,1.2134677853738274,{"$f":"ROUND(AG36061,0)","v":1},{"$f":"ROUND(AG36062,0)","v":2},{"$f":"IF(AH36061>AI36061,1,\"\")","v":""},{"$f":"IF(AH36061=AI36061,1,\"\")","v":""},{"$f":"IF(AH36061<AI36061,1,\"\")","v":1},{"$f":"AH36061&\"-\"&AI36061","v":"1-2"}]
[null,null,null,null,null,null,null,null,null,null,null,null,null,null,null,null,null,null,null,null,null,null,null,null,null,null,null,null,null,"№18099",6.3185224832012121,0.23862107627236917,3.2785717797367906,{"$f":"ROUND(AG36199,0)","v":3},{"$f":"ROUND(AG36200,0)","v":1},{"$f":"IF(AH36199>AI36199,1,\"\")","v":1},{"$f":"IF(AH36199=AI36199,1,\"\")","v":""},{"$f":"IF(AH36199<AI36199,1,\"\")","v":""},{"$f":"AH36199&\"-\"&AI36199","v":"3-1"}]
[null,null,null,null,null,null,null,null,null,null,null,null,null,null,null,null,null,null,null,null,null,null,null,null,null,null,null,null,null,"№18170",-0.42013327726684002,-0.39051265442630312,-0.40532296584657157,{"$f":"ROUND(AG36341,0)","v":0},{"$f":"ROUND(AG36342,0)","v":0},{"$f":"IF(AH36341>AI36341,1,\"\")","v":""},{"$f":"IF(AH36341=AI36341,1,\"\")","v":1},{"$f":"IF(AH36341<AI36341,1,\"\")","v":""},{"$f":"AH36341&\"-\"&AI36341","v":"0-0"}]
[null,null,null,null,null,null,null,null,null,null,null,null,null,null,null,null,null,null,null,null,null,null,null,null,null,null,null,null,null,"№18222",2.9824361375576962,1.703514126136539,2.3429751318471177,{"$f":"ROUND(AG36445,0)","v":2},{"$f":"ROUND(AG36446,0)","v":2},{"$f":"IF(AH36445>AI36445,1,\"\")","v":""},{"$f":"IF(AH36445=AI36445,1,\"\")","v":1},{"$f":"IF(AH36445<AI36445,1,\"\")","v":""},{"$f":"AH36445&\"-\"&AI36445","v":"2-2"}]
[null,null,null,null,null,null,null,null,null,null,null,null,null,null,null,null,null,null,null,null,null,null,null,null,null,null,null,null,null,"№18260",4.0592137939431732,1.3085742843192607,2.6838940391312169,{"$f":"ROUND(AG36521,0)","v":3},{"$f":"ROUND(AG36522,0)","v":2},{"$f":"IF(AH36521>AI36521,1,\"\")","v":1},{"$f":"IF(AH36521=AI36521,1,\"\")","v":""},{"$f":"IF(AH36521<AI36521,1,\"\")","v":""},{"$f":"AH36521&\"-\"&AI36521","v":"3-2"}]
[null,null,null,null,null,null,null,null,null,null,null,null,null,null,null,null,null,null,null,null,null,null,null,null,null,null,null,null,null,null,1.7475498107544805,1.5093632086954076,1.6284565097249439]
[null,null,null,null,null,null,null,null,null,null,null,null,null,null,null,null,null,null,null,null,null,null,null,null,null,null,null,null,null,null,1.4238627945255957,1.3506196696047121,1.3872412320651539]
[null,null,null,null,null,null,null,null,null,null,null,null,null,null,null,null,null,null,null,null,null,null,null,null,null,null,null,null,null,null,0.99155814659219632,2.6601976613964902,1.8258779039943431]
[null,null,null,null,null,null,null,null,null,null,null,null,null,null,null,null,null,null,null,null,null,null,null,null,null,null,null,null,null,null,2.963808893952153,0.32304248873131125,1.643425691341732]
[null,null,null,null,null,null,null,null,null,null,null,null,null,null,null,null,null,null,null,null,null,null,null,null,null,null,null,null,null,null,3.6610742403388272,0.43134515843530608,2.0462096993870666]
[null,null,null,null,null,null,null,null,null,null,null,null,null,null,null,null,null,null,null,null,null,null,null,null,null,null,null,null,null,"№18529",{"$f":"_xlfn.NORM.INV(RAND(),$Z$3,$I$20)","v":0.70049386207033804},{"$f":"_xlfn.NORM.INV(RAND(),$AA$3,$O$20)","v":-1.3970609902939362},-0.34828356411179906,{"$f":"ROUND(AG37059,0)","v":0},{"$f":"ROUND(AG37060,0)","v":1},{"$f":"IF(AH37059>AI37059,1,\"\")","v":""},{"$f":"IF(AH37059=AI37059,1,\"\")","v":""},{"$f":"IF(AH37059<AI37059,1,\"\")","v":1},{"$f":"AH37059&\"-\"&AI37059","v":"0-1"}]
[null,null,null,null,null,null,null,null,null,null,null,null,null,null,null,null,null,null,null,null,null,null,null,null,null,null,null,null,null,"№18620",6.6525618036340113,0.53737268755874634,3.5949672455963788,{"$f":"ROUND(AG37241,0)","v":4},{"$f":"ROUND(AG37242,0)","v":2},{"$f":"IF(AH37241>AI37241,1,\"\")","v":1},{"$f":"IF(AH37241=AI37241,1,\"\")","v":""},{"$f":"IF(AH37241<AI37241,1,\"\")","v":""},{"$f":"AH37241&\"-\"&AI37241","v":"4-2"}]
[null,null,null,null,null,null,null,null,null,null,null,null,null,null,null,null,null,null,null,null,null,null,null,null,null,null,null,null,null,null,2.1795564527300866,2.8932430247154803,2.5363997387227837]
[null,null,null,null,null,null,null,null,null,null,null,null,null,null,null,null,null,null,null,null,null,null,null,null,null,null,null,null,null,"№18688",6.0668082036489093,0.22309946380533252,3.1449538337271208,{"$f":"ROUND(AG37377,0)","v":3},{"$f":"ROUND(AG37378,0)","v":2},{"$f":"IF(AH37377>AI37377,1,\"\")","v":1},{"$f":"IF(AH37377=AI37377,1,\"\")","v":""},{"$f":"IF(AH37377<AI37377,1,\"\")","v":""},{"$f":"AH37377&\"-\"&AI37377","v":"3-2"}]
[null,null,null,null,null,null,null,null,null,null,null,null,null,null,null,null,null,null,null,null,null,null,null,null,null,null,null,null,null,"№18757",2.5152751362858754,0.45342999568969461,1.484352565987785,{"$f":"ROUND(AG37515,0)","v":1},{"$f":"ROUND(AG37516,0)","v":2},{"$f":"IF(AH37515>AI37515,1,\"\")","v":""},{"$f":"IF(AH37515=AI37515,1,\"\")","v":""},{"$f":"IF(AH37515<AI37515,1,\"\")","v":1},{"$f":"AH37515&\"-\"&AI37515","v":"1-2"}]
[null,null,null,null,null,null,null,null,null,null,null,null,null,null,null,null,null,null,null,null,null,null,null,null,null,null,null,null,null,null,2.2704767939541979,2.6346975483063702,2.452587171130284]
[null,null,null,null,null,null,null,null,null,null,null,null,null,null,null,null,null,null,null,null,null,null,null,null,null,null,null,null,null,"№18847",2.9192901793743946,1.0549125845902709,1.9871013819823329,{"$f":"ROUND(AG37695,0)","v":2},{"$f":"ROUND(AG37696,0)","v":2},{"$f":"IF(AH37695>AI37695,1,\"\")","v":""},{"$f":"IF(AH37695=AI37695,1,\"\")","v":1},{"$f":"IF(AH37695<AI37695,1,\"\")","v":""},{"$f":"AH37695&\"-\"&AI37695","v":"2-2"}]
[null,null,null,null,null,null,null,null,null,null,null,null,null,null,null,null,null,null,null,null,null,null,null,null,null,null,null,null,null,null,2.586062212127747,-1.7833418567954671,0.40136017766613996]
[null,null,null,null,null,null,null,null,null,null,null,null,null,null,null,null,null,null,null,null,null,null,null,null,null,null,null,null,null,null,2.4283591408657967,1.2356960474449281,1.8320275941553623]
[null,null,null,null,null,null,null,null,null,null,null,null,null,null,null,null,null,null,null,null,null,null,null,null,null,null,null,null,null,null,0.36976710572474669,2.2495362892943285,1.3096516975095376]
[null,null,null,null,null,null,null,null,null,null,null,null,null,null,null,null,null,null,null,null,null,null,null,null,null,null,null,null,null,"№19028",5.451214698021972,-0.60135426438676487,2.4249302168176037,{"$f":"ROUND(AG38057,0)","v":2},{"$f":"ROUND(AG38058,0)","v":3},{"$f":"IF(AH38057>AI38057,1,\"\")","v":""},{"$f":"IF(AH38057=AI38057,1,\"\")","v":""},{"$f":"IF(AH38057<AI38057,1,\"\")","v":1},{"$f":"AH38057&\"-\"&AI38057","v":"2-3"}]
[null,null,null,null,null,null,null,null,null,null,null,null,null,null,null,null,null,null,null,null,null,null,null,null,null,null,null,null,null,null,3.3180557661811703,1.4565617746599833,2.3873087704205767]
[null,null,null,null,null,null,null,null,null,null,null,null,null,null,null,null,null,null,null,null,null,null,null,null,null,null,null,null,null,"№19118",1.9399802406836653,5.0597869226988501E-2,0.99528905495532682,{"$f":"ROUND(AG38237,0)","v":1},{"$f":"ROUND(AG38238,0)","v":2},{"$f":"IF(AH38237>AI38237,1,\"\")","v":""},{"$f":"IF(AH38237=AI38237,1,\"\")","v":""},{"$f":"IF(AH38237<AI38237,1,\"\")","v":1},{"$f":"AH38237&\"-\"&AI38237","v":"1-2"}]
[null,null,null,null,null,null,null,null,null,null,null,null,null,null,null,null,null,null,null,null,null,null,null,null,null,null,null,null,null,"№19187",4.2502213208538642,0.48202208622415099,2.3661217035390076,{"$f":"ROUND(AG38375,0)","v":2},{"$f":"ROUND(AG38376,0)","v":2},{"$f":"IF(AH38375>AI38375,1,\"\")","v":""},{"$f":"IF(AH38375=AI38375,1,\"\")","v":1},{"$f":"IF(AH38375<AI38375,1,\"\")","v":""},{"$f":"AH38375&\"-\"&AI38375","v":"2-2"}]
[null,null,null,null,null,null,null,null,null,null,null,null,null,null,null,null,null,null,null,null,null,null,null,null,null,null,null,null,null,null,2.2374627563151588,-0.19977643105301657,1.0188431626310712]
[null,null,null,null,null,null,null,null,null,null,null,null,null,null,null,null,null,null,null,null,null,null,null,null,null,null,null,null,null,"№19277",3.1803761866139406,0.84261497660196116,2.0114955816079507,{"$f":"ROUND(AG38555,0)","v":2},{"$f":"ROUND(AG38556,0)","v":1},{"$f":"IF(AH38555>AI38555,1,\"\")","v":1},{"$f":"IF(AH38555=AI38555,1,\"\")","v":""},{"$f":"IF(AH38555<AI38555,1,\"\")","v":""},{"$f":"AH38555&\"-\"&AI38555","v":"2-1"}]
[null,null,null,null,null,null,null,null,null,null,null,null,null,null,null,null,null,null,null,null,null,null,null,null,null,null,null,null,null,"№19346",4.9742991516239172,0.29993667861877693,2.6371179151213471,{"$f":"ROUND(AG38693,0)","v":3},{"$f":"ROUND(AG38694,0)","v":1},{"$f":"IF(AH38693>AI38693,1,\"\")","v":1},{"$f":"IF(AH38693=AI38693,1,\"\")","v":""},{"$f":"IF(AH38693<AI38693,1,\"\")","v":""},{"$f":"AH38693&\"-\"&AI38693","v":"3-1"}]
[null,null,null,null,null,null,null,null,null,null,null,null,null,null,null,null,null,null,null,null,null,null,null,null,null,null,null,null,null,null,2.9870909786499498,3.1362544893501312,3.0616727340000405]
[null,null,null,null,null,null,null,null,null,null,null,null,null,null,null,null,null,null,null,null,null,null,null,null,null,null,null,null,null,"№19426",4.4305759070431128,0.49277725878107986,{"$f":"(AE38853+AF38853)/2","v":2.4616765829120961},{"$f":"ROUND(AG38853,0)","v":2},{"$f":"ROUND(AG38854,0)","v":2},{"$f":"IF(AH38853>AI38853,1,\"\")","v":""},{"$f":"IF(AH38853=AI38853,1,\"\")","v":1},{"$f":"IF(AH38853<AI38853,1,\"\")","v":""},{"$f":"AH38853&\"-\"&AI38853","v":"2-2"}]
[null,null,null,null,null,null,null,null,null,null,null,null,null,null,null,null,null,null,null,null,null,null,null,null,null,null,null,null,null,"№19505",1.7282324067599337,1.9236386098107348,1.8259355082853341,{"$f":"ROUND(AG39011,0)","v":2},{"$f":"ROUND(AG39012,0)","v":2},{"$f":"IF(AH39011>AI39011,1,\"\")","v":""},{"$f":"IF(AH39011=AI39011,1,\"\")","v":1},{"$f":"IF(AH39011<AI39011,1,\"\")","v":""},{"$f":"AH39011&\"-\"&AI39011","v":"2-2"}]
[null,null,null,null,null,null,null,null,null,null,null,null,null,null,null,null,null,null,null,null,null,null,null,null,null,null,null,null,null,null,2.2696186651692956,2.5005821451160299,2.385100405142663]
[null,null,null,null,null,null,null,null,null,null,null,null,null,null,null,null,null,null,null,null,null,null,null,null,null,null,null,null,null,null,3.2092967377110089,-0.47789315893486561,1.3657017893880716]
[null,null,null,null,null,null,null,null,null,null,null,null,null,null,null,null,null,null,null,null,null,null,null,null,null,null,null,null,null,null,2.582016737151446,0.86758330562707109,1.7248000213892585]
[null,null,null,null,null,null,null,null,null,null,null,null,null,null,null,null,null,null,null,null,null,null,null,null,null,null,null,null,null,null,3.032204456696201,2.4157434600401766,2.7239739583681888]
[null,null,null,null,null,null,null,null,null,null,null,null,null,null,null,null,null,null,null,null,null,null,null,null,null,null,null,null,null,null,3.6377167560676789,0.5912667848294022,2.1144917704485406]
[null,null,null,null,null,null,null,null,null,null,null,null,null,null,null,null,null,null,null,null,null,null,null,null,null,null,null,null,null,"№19774",3.8553595268742487,-0.65080430020012958,1.6022776133370595,{"$f":"ROUND(AG39549,0)","v":2},{"$f":"ROUND(AG39550,0)","v":1},{"$f":"IF(AH39549>AI39549,1,\"\")","v":1},{"$f":"IF(AH39549=AI39549,1,\"\")","v":""},{"$f":"IF(AH39549<AI39549,1,\"\")","v":""},{"$f":"AH39549&\"-\"&AI39549","v":"2-1"}]
[null,null,null,null,null,null,null,null,null,null,null,null,null,null,null,null,null,null,null,null,null,null,null,null,null,null,null,null,null,"№19824",5.7537050254220494,-0.89967426974291675,2.4270153778395662,{"$f":"ROUND(AG39649,0)","v":2},{"$f":"ROUND(AG39650,0)","v":2},{"$f":"IF(AH39649>AI39649,1,\"\")","v":""},{"$f":"IF(AH39649=AI39649,1,\"\")","v":1},{"$f":"IF(AH39649<AI39649,1,\"\")","v":""},{"$f":"AH39649&\"-\"&AI39649","v":"2-2"}]
[null,null,null,null,null,null,null,null,null,null,null,null,null,null,null,null,null,null,null,null,null,null,null,null,null,null,null,null,null,"№19864",4.8355391173859452,2.0439141030839143,3.4397266102349295,{"$f":"ROUND(AG39729,0)","v":3},{"$f":"ROUND(AG39730,0)","v":2},{"$f":"IF(AH39729>AI39729,1,\"\")","v":1},{"$f":"IF(AH39729=AI39729,1,\"\")","v":""},{"$f":"IF(AH39729<AI39729,1,\"\")","v":""},{"$f":"AH39729&\"-\"&AI39729","v":"3-2"}]
[null,null,null,null,null,null,null,null,null,null,null,null,null,null,null,null,null,null,null,null,null,null,null,null,null,null,null,null,null,"№19935",3.6193296755324673,0.92596261517000567,2.2726461453512363,{"$f":"ROUND(AG39871,0)","v":2},{"$f":"ROUND(AG39872,0)","v":1},{"$f":"IF(AH39871>AI39871,1,\"\")","v":1},{"$f":"IF(AH39871=AI39871,1,\"\")","v":""},{"$f":"IF(AH39871<AI39871,1,\"\")","v":""},{"$f":"AH39871&\"-\"&AI39871","v":"2-1"}]
[null,null,null,null,null,null,null,null,null,null,null,null,null,null,null,null,null,null,null,null,null,null,null,null,null,null,null,null,null,null,3.091783417998113,-0.94775528108313223,1.0720140684574904]
[null,null,null,null,null,null,null,null,null,null,null,null,null,null,null,null,null,null,null,null,null,null,null,null,null,null,null,null,null,null,3.3064691583046706,1.9516095590859635,2.6290393586953171]
[null,null,null,null,null,null,null,null,null,null,null,null,null,null,null,null,null,null,null,null,null,null,null,null,null,null,null,null,null,"№20094",4.8034542075201063,1.1149602134690959,2.959207210494601,{"$f":"ROUND(AG40189,0)","v":3},{"$f":"ROUND(AG40190,0)","v":2},{"$f":"IF(AH40189>AI40189,1,\"\")","v":1},{"$f":"IF(AH40189=AI40189,1,\"\")","v":""},{"$f":"IF(AH40189<AI40189,1,\"\")","v":""},{"$f":"AH40189&\"-\"&AI40189","v":"3-2"}]
[null,null,null,null,null,null,null,null,null,null,null,null,null,null,null,null,null,null,null,null,null,null,null,null,null,null,null,null,null,null,2.5967244576280057,1.4299042602855168,2.0133143589567615]
[null,null,null,null,null,null,null,null,null,null,null,null,null,null,null,null,null,null,null,null,null,null,null,null,null,null,null,null,null,null,2.5081242505477555,1.539195563059867,2.023659906803811]
[null,null,null,null,null,null,null,null,null,null,null,null,null,null,null,null,null,null,null,null,null,null,null,null,null,null,null,null,null,"№20222",4.7454447041560517,0.57585696636340722,2.6606508352597293,{"$f":"ROUND(AG40445,0)","v":3},{"$f":"ROUND(AG40446,0)","v":2},{"$f":"IF(AH40445>AI40445,1,\"\")","v":1},{"$f":"IF(AH40445=AI40445,1,\"\")","v":""},{"$f":"IF(AH40445<AI40445,1,\"\")","v":""},{"$f":"AH40445&\"-\"&AI40445","v":"3-2"}]
[null,null,null,null,null,null,null,null,null,null,null,null,null,null,null,null,null,null,null,null,null,null,null,null,null,null,null,null,null,null,1.8281935540730654,3.6980641708269704,2.7631288624500181]
[null,null,null,null,null,null,null,null,null,null,null,null,null,null,null,null,null,null,null,null,null,null,null,null,null,null,null,null,null,null,2.5974035568996827,1.4380565471271503,2.0177300520134165]
[null,null,null,null,null,null,null,null,null,null,null,null,null,null,null,null,null,null,null,null,null,null,null,null,null,null,null,null,null,"№20363",0.88837069277433178,0.66923512895919324,0.77880291086676245,{"$f":"ROUND(AG40727,0)","v":1},{"$f":"ROUND(AG40728,0)","v":2},{"$f":"IF(AH40727>AI40727,1,\"\")","v":""},{"$f":"IF(AH40727=AI40727,1,\"\")","v":""},{"$f":"IF(AH40727<AI40727,1,\"\")","v":1},{"$f":"AH40727&\"-\"&AI40727","v":"1-2"}]
[null,null,null,null,null,null,null,null,null,null,null,null,null,null,null,null,null,null,null,null,null,null,null,null,null,null,null,null,null,null,1.2371084640982672,1.9243464116983433,1.5807274378983052]
[null,null,null,null,null,null,null,null,null,null,null,null,null,null,null,null,null,null,null,null,null,null,null,null,null,null,null,null,null,"№20453",2.5963170656452217,0.30807849378914387,1.4521977797171828,{"$f":"ROUND(AG40907,0)","v":1},{"$f":"ROUND(AG40908,0)","v":2},{"$f":"IF(AH40907>AI40907,1,\"\")","v":""},{"$f":"IF(AH40907=AI40907,1,\"\")","v":""},{"$f":"IF(AH40907<AI40907,1,\"\")","v":1},{"$f":"AH40907&\"-\"&AI40907","v":"1-2"}]
[null,null,null,null,null,null,null,null,null,null,null,null,null,null,null,null,null,null,null,null,null,null,null,null,null,null,null,null,null,"№20522",2.1466271764362963,1.178464939690957,1.6625460580636267,{"$f":"ROUND(AG41045,0)","v":2},{"$f":"ROUND(AG41046,0)","v":1},{"$f":"IF(AH41045>AI41045,1,\"\")","v":1},{"$f":"IF(AH41045=AI41045,1,\"\")","v":""},{"$f":"IF(AH41045<AI41045,1,\"\")","v":""},{"$f":"AH41045&\"-\"&AI41045","v":"2-1"}]
[null,null,null,null,null,null,null,null,null,null,null,null,null,null,null,null,null,null,null,null,null,null,null,null,null,null,null,null,null,"№20593",5.3422610873589766,-0.26857211212841547,2.5368444876152805,{"$f":"ROUND(AG41187,0)","v":3},{"$f":"ROUND(AG41188,0)","v":3},{"$f":"IF(AH41187>AI41187,1,\"\")","v":""},{"$f":"IF(AH41187=AI41187,1,\"\")","v":1},{"$f":"IF(AH41187<AI41187,1,\"\")","v":""},{"$f":"AH41187&\"-\"&AI41187","v":"3-3"}]
[null,null,null,null,null,null,null,null,null,null,null,null,null,null,null,null,null,null,null,null,null,null,null,null,null,null,null,null,null,"№20620",2.9873390460585281,0.36717756042709299,1.6772583032428106,{"$f":"ROUND(AG41241,0)","v":2},{"$f":"ROUND(AG41242,0)","v":1},{"$f":"IF(AH41241>AI41241,1,\"\")","v":1},{"$f":"IF(AH41241=AI41241,1,\"\")","v":""},{"$f":"IF(AH41241<AI41241,1,\"\")","v":""},{"$f":"AH41241&\"-\"&AI41241","v":"2-1"}]
[null,null,null,null,null,null,null,null,null,null,null,null,null,null,null,null,null,null,null,null,null,null,null,null,null,null,null,null,null,"№20681",4.415373658030866,1.2133751053541837,2.8143743816925246,{"$f":"ROUND(AG41363,0)","v":3},{"$f":"ROUND(AG41364,0)","v":3},{"$f":"IF(AH41363>AI41363,1,\"\")","v":""},{"$f":"IF(AH41363=AI41363,1,\"\")","v":1},{"$f":"IF(AH41363<AI41363,1,\"\")","v":""},{"$f":"AH41363&\"-\"&AI41363","v":"3-3"}]
[null,null,null,null,null,null,null,null,null,null,null,null,null,null,null,null,null,null,null,null,null,null,null,null,null,null,null,null,null,null,3.3280883212189734,0.94442057532934842,2.136254448274161]
[null,null,null,null,null,null,null,null,null,null,null,null,null,null,null,null,null,null,null,null,null,null,null,null,null,null,null,null,null,null,1.0829961362054303,0.87827355815224939,0.98063484717883986]
[null,null,null,null,null,null,null,null,null,null,null,null,null,null,null,null,null,null,null,null,null,null,null,null,null,null,null,null,null,null,3.4058811827947277,2.2737510660398912,2.8398161244173092]
[null,null,null,null,null,null,null,null,null,null,null,null,null,null,null,null,null,null,null,null,null,null,null,null,null,null,null,null,null,null,4.1187485982940757,2.6664598931517118,3.392604245722894]
[null,null,null,null,null,null,null,null,null,null,null,null,null,null,null,null,null,null,null,null,null,null,null,null,null,null,null,null,null,null,2.560274068201446,1.2368297448051837,1.898551906503315]
[null,null,null,null,null,null,null,null,null,null,null,null,null,null,null,null,null,null,null,null,null,null,null,null,null,null,null,null,null,"№20952",6.6358347075712434,1.2199000572432408,3.9278673824072419,{"$f":"ROUND(AG41905,0)","v":4},{"$f":"ROUND(AG41906,0)","v":2},{"$f":"IF(AH41905>AI41905,1,\"\")","v":1},{"$f":"IF(AH41905=AI41905,1,\"\")","v":""},{"$f":"IF(AH41905<AI41905,1,\"\")","v":""},{"$f":"AH41905&\"-\"&AI41905","v":"4-2"}]
[null,null,null,null,null,null,null,null,null,null,null,null,null,null,null,null,null,null,null,null,null,null,null,null,null,null,null,null,null,"№21018",4.1200245725722668,0.61064481769104773,2.3653346951316574,{"$f":"ROUND(AG42037,0)","v":2},{"$f":"ROUND(AG42038,0)","v":2},{"$f":"IF(AH42037>AI42037,1,\"\")","v":""},{"$f":"IF(AH42037=AI42037,1,\"\")","v":1},{"$f":"IF(AH42037<AI42037,1,\"\")","v":""},{"$f":"AH42037&\"-\"&AI42037","v":"2-2"}]
[null,null,null,null,null,null,null,null,null,null,null,null,null,null,null,null,null,null,null,null,null,null,null,null,null,null,null,null,null,"№21040",0.92143354155636947,1.0504859016029084,0.98595972157963896,{"$f":"ROUND(AG42081,0)","v":1},{"$f":"ROUND(AG42082,0)","v":3},{"$f":"IF(AH42081>AI42081,1,\"\")","v":""},{"$f":"IF(AH42081=AI42081,1,\"\")","v":""},{"$f":"IF(AH42081<AI42081,1,\"\")","v":1},{"$f":"AH42081&\"-\"&AI42081","v":"1-3"}]
[null,null,null,null,null,null,null,null,null,null,null,null,null,null,null,null,null,null,null,null,null,null,null,null,null,null,null,null,null,"№21111",2.7814180987060881,1.2612678392450456,2.0213429689755671,{"$f":"ROUND(AG42223,0)","v":2},{"$f":"ROUND(AG42224,0)","v":2},{"$f":"IF(AH42223>AI42223,1,\"\")","v":""},{"$f":"IF(AH42223=AI42223,1,\"\")","v":1},{"$f":"IF(AH42223<AI42223,1,\"\")","v":""},{"$f":"AH42223&\"-\"&AI42223","v":"2-2"}]
[null,null,null,null,null,null,null,null,null,null,null,null,null,null,null,null,null,null,null,null,null,null,null,null,null,null,null,null,null,"№21180",0.31145410741992796,1.2042551973812947,0.75785465240061134,{"$f":"ROUND(AG42361,0)","v":1},{"$f":"ROUND(AG42362,0)","v":2},{"$f":"IF(AH42361>AI42361,1,\"\")","v":""},{"$f":"IF(AH42361=AI42361,1,\"\")","v":""},{"$f":"IF(AH42361<AI42361,1,\"\")","v":1},{"$f":"AH42361&\"-\"&AI42361","v":"1-2"}]
[null,null,null,null,null,null,null,null,null,null,null,null,null,null,null,null,null,null,null,null,null,null,null,null,null,null,null,null,null,null,2.0918714721888243,0.82856450664628489,1.4602179894175547]
[null,null,null,null,null,null,null,null,null,null,null,null,null,null,null,null,null,null,null,null,null,null,null,null,null,null,null,null,null,"№21270",2.7442473656157023,1.4942152383195544,2.1192313019676283,{"$f":"ROUND(AG42541,0)","v":2},{"$f":"ROUND(AG42542,0)","v":2},{"$f":"IF(AH42541>AI42541,1,\"\")","v":""},{"$f":"IF(AH42541=AI42541,1,\"\")","v":1},{"$f":"IF(AH42541<AI42541,1,\"\")","v":""},{"$f":"AH42541&\"-\"&AI42541","v":"2-2"}]
[null,null,null,null,null,null,null,null,null,null,null,null,null,null,null,null,null,null,null,null,null,null,null,null,null,null,null,null,null,null,1.4056190794837478,0.19987011348621575,0.80274459648498175]
[null,null,null,null,null,null,null,null,null,null,null,null,null,null,null,null,null,null,null,null,null,null,null,null,null,null,null,null,null,null,2.0064475636736718,2.7360266451265174,2.3712371044000946]
[null,null,null,null,null,null,null,null,null,null,null,null,null,null,null,null,null,null,null,null,null,null,null,null,null,null,null,null,null,"№21416",3.876706964077016,1.7975506415215541,2.8371288027992851,{"$f":"ROUND(AG42833,0)","v":3},{"$f":"ROUND(AG42834,0)","v":2},{"$f":"IF(AH42833>AI42833,1,\"\")","v":1},{"$f":"IF(AH42833=AI42833,1,\"\")","v":""},{"$f":"IF(AH42833<AI42833,1,\"\")","v":""},{"$f":"AH42833&\"-\"&AI42833","v":"3-2"}]
[null,null,null,null,null,null,null,null,null,null,null,null,null,null,null,null,null,null,null,null,null,null,null,null,null,null,null,null,null,null,2.3691379261071779,1.4627057267143089,1.9159218264107434]
[null,null,null,null,null,null,null,null,null,null,null,null,null,null,null,null,null,null,null,null,null,null,null,null,null,null,null,null,null,null,2.5568008178305086,-0.55989056831233563,0.99845512475908649]
[null,null,null,null,null,null,null,null,null,null,null,null,null,null,null,null,null,null,null,null,null,null,null,null,null,null,null,null,null,"№21539",2.1520800338453761,0.24884734990742341,1.2004636918763998,{"$f":"ROUND(AG43079,0)","v":1},{"$f":"ROUND(AG43080,0)","v":2},{"$f":"IF(AH43079>AI43079,1,\"\")","v":""},{"$f":"IF(AH43079=AI43079,1,\"\")","v":""},{"$f":"IF(AH43079<AI43079,1,\"\")","v":1},{"$f":"AH43079&\"-\"&AI43079","v":"1-2"}]
[null,null,null,null,null,null,null,null,null,null,null,null,null,null,null,null,null,null,null,null,null,null,null,null,null,null,null,null,null,null,2.4629057438648614,0.63123396636147533,1.5470698551131683]
[null,null,null,null,null,null,null,null,null,null,null,null,null,null,null,null,null,null,null,null,null,null,null,null,null,null,null,null,null,null,2.5097796220944626,2.4144926143621785,2.4621361182283206]
[null,null,null,null,null,null,null,null,null,null,null,null,null,null,null,null,null,null,null,null,null,null,null,null,null,null,null,null,null,"№21698",3.2794774335856745,1.0520234969278348,{"$f":"(AE43397+AF43397)/2","v":2.1657504652567545},{"$f":"ROUND(AG43397,0)","v":2},{"$f":"ROUND(AG43398,0)","v":2},{"$f":"IF(AH43397>AI43397,1,\"\")","v":""},{"$f":"IF(AH43397=AI43397,1,\"\")","v":1},{"$f":"IF(AH43397<AI43397,1,\"\")","v":""},{"$f":"AH43397&\"-\"&AI43397","v":"2-2"}]
[null,null,null,null,null,null,null,null,null,null,null,null,null,null,null,null,null,null,null,null,null,null,null,null,null,null,null,null,null,"№21769",2.602485740303508,0.62466770739139643,1.6135767238474523,{"$f":"ROUND(AG43539,0)","v":2},{"$f":"ROUND(AG43540,0)","v":3},{"$f":"IF(AH43539>AI43539,1,\"\")","v":""},{"$f":"IF(AH43539=AI43539,1,\"\")","v":""},{"$f":"IF(AH43539<AI43539,1,\"\")","v":1},{"$f":"AH43539&\"-\"&AI43539","v":"2-3"}]
[null,null,null,null,null,null,null,null,null,null,null,null,null,null,null,null,null,null,null,null,null,null,null,null,null,null,null,null,null,"№21814",4.908065977402865,0.12105615252264268,2.5145610649627539,{"$f":"ROUND(AG43629,0)","v":3},{"$f":"ROUND(AG43630,0)","v":2},{"$f":"IF(AH43629>AI43629,1,\"\")","v":1},{"$f":"IF(AH43629=AI43629,1,\"\")","v":""},{"$f":"IF(AH43629<AI43629,1,\"\")","v":""},{"$f":"AH43629&\"-\"&AI43629","v":"3-2"}]
[null,null,null,null,null,null,null,null,null,null,null,null,null,null,null,null,null,null,null,null,null,null,null,null,null,null,null,null,null,"№21859",4.1489646353964158,0.7633020241816566,2.4561333297890364,{"$f":"ROUND(AG43719,0)","v":2},{"$f":"ROUND(AG43720,0)","v":2},{"$f":"IF(AH43719>AI43719,1,\"\")","v":""},{"$f":"IF(AH43719=AI43719,1,\"\")","v":1},{"$f":"IF(AH43719<AI43719,1,\"\")","v":""},{"$f":"AH43719&\"-\"&AI43719","v":"2-2"}]
[null,null,null,null,null,null,null,null,null,null,null,null,null,null,null,null,null,null,null,null,null,null,null,null,null,null,null,null,null,"№21928",2.9607433610363092,-1.6043371107438291,0.67820312514624004,{"$f":"ROUND(AG43857,0)","v":1},{"$f":"ROUND(AG43858,0)","v":2},{"$f":"IF(AH43857>AI43857,1,\"\")","v":""},{"$f":"IF(AH43857=AI43857,1,\"\")","v":""},{"$f":"IF(AH43857<AI43857,1,\"\")","v":1},{"$f":"AH43857&\"-\"&AI43857","v":"1-2"}]
[null,null,null,null,null,null,null,null,null,null,null,null,null,null,null,null,null,null,null,null,null,null,null,null,null,null,null,null,null,null,2.6555485706055255,0.85170994597355909,1.7536292582895423]
[null,null,null,null,null,null,null,null,null,null,null,null,null,null,null,null,null,null,null,null,null,null,null,null,null,null,null,null,null,null,3.3576217739876979,1.7037356004592592,2.5306786872234786]
[null,null,null,null,null,null,null,null,null,null,null,null,null,null,null,null,null,null,null,null,null,null,null,null,null,null,null,null,null,null,2.5982289083963166,1.0937495125739054,1.845989210485111]
[null,null,null,null,null,null,null,null,null,null,null,null,null,null,null,null,null,null,null,null,null,null,null,null,null,null,null,null,null,null,2.0595251275923676,0.88671742092379935,1.4731212742580835]
[null,null,null,null,null,null,null,null,null,null,null,null,null,null,null,null,null,null,null,null,null,null,null,null,null,null,null,null,null,"№22128",5.2306797821717161,1.5173215209385389,3.3740006515551277,{"$f":"ROUND(AG44257,0)","v":3},{"$f":"ROUND(AG44258,0)","v":2},{"$f":"IF(AH44257>AI44257,1,\"\")","v":1},{"$f":"IF(AH44257=AI44257,1,\"\")","v":""},{"$f":"IF(AH44257<AI44257,1,\"\")","v":""},{"$f":"AH44257&\"-\"&AI44257","v":"3-2"}]
[null,null,null,null,null,null,null,null,null,null,null,null,null,null,null,null,null,null,null,null,null,null,null,null,null,null,null,null,null,"№22212",4.0571203314281234,1.1773609294293479,2.6172406304287357,{"$f":"ROUND(AG44425,0)","v":3},{"$f":"ROUND(AG44426,0)","v":2},{"$f":"IF(AH44425>AI44425,1,\"\")","v":1},{"$f":"IF(AH44425=AI44425,1,\"\")","v":""},{"$f":"IF(AH44425<AI44425,1,\"\")","v":""},{"$f":"AH44425&\"-\"&AI44425","v":"3-2"}]
[null,null,null,null,null,null,null,null,null,null,null,null,null,null,null,null,null,null,null,null,null,null,null,null,null,null,null,null,null,null,1.7733821353177497,-1.9058856933894148,-6.625177903583257E-2]
[null,null,null,null,null,null,null,null,null,null,null,null,null,null,null,null,null,null,null,null,null,null,null,null,null,null,null,null,null,"№22287",2.4109403689773008,-0.69429621624856508,0.85832207636436786,{"$f":"ROUND(AG44575,0)","v":1},{"$f":"ROUND(AG44576,0)","v":2},{"$f":"IF(AH44575>AI44575,1,\"\")","v":""},{"$f":"IF(AH44575=AI44575,1,\"\")","v":""},{"$f":"IF(AH44575<AI44575,1,\"\")","v":1},{"$f":"AH44575&\"-\"&AI44575","v":"1-2"}]
[null,null,null,null,null,null,null,null,null,null,null,null,null,null,null,null,null,null,null,null,null,null,null,null,null,null,null,null,null,"№22356",1.4857123459170225,0.27486110569020772,0.88028672580361511,{"$f":"ROUND(AG44713,0)","v":1},{"$f":"ROUND(AG44714,0)","v":1},{"$f":"IF(AH44713>AI44713,1,\"\")","v":""},{"$f":"IF(AH44713=AI44713,1,\"\")","v":1},{"$f":"IF(AH44713<AI44713,1,\"\")","v":""},{"$f":"AH44713&\"-\"&AI44713","v":"1-1"}]
[null,null,null,null,null,null,null,null,null,null,null,null,null,null,null,null,null,null,null,null,null,null,null,null,null,null,null,null,null,null,1.1569710105590243,3.516475785021373,2.3367233977901987]
[null,null,null,null,null,null,null,null,null,null,null,null,null,null,null,null,null,null,null,null,null,null,null,null,null,null,null,null,null,"№22446",1.364353625644231,0.15280397697224468,0.75857880130823785,{"$f":"ROUND(AG44893,0)","v":1},{"$f":"ROUND(AG44894,0)","v":3},{"$f":"IF(AH44893>AI44893,1,\"\")","v":""},{"$f":"IF(AH44893=AI44893,1,\"\")","v":""},{"$f":"IF(AH44893<AI44893,1,\"\")","v":1},{"$f":"AH44893&\"-\"&AI44893","v":"1-3"}]
[null,null,null,null,null,null,null,null,null,null,null,null,null,null,null,null,null,null,null,null,null,null,null,null,null,null,null,null,null,"№22515",4.5061502586750937,1.2562870325060573,2.8812186455905753,{"$f":"ROUND(AG45031,0)","v":3},{"$f":"ROUND(AG45032,0)","v":2},{"$f":"IF(AH45031>AI45031,1,\"\")","v":1},{"$f":"IF(AH45031=AI45031,1,\"\")","v":""},{"$f":"IF(AH45031<AI45031,1,\"\")","v":""},{"$f":"AH45031&\"-\"&AI45031","v":"3-2"}]
[null,null,null,null,null,null,null,null,null,null,null,null,null,null,null,null,null,null,null,null,null,null,null,null,null,null,null,null,null,null,1.4120291346430776,2.4198523883651051,1.9159407615040913]
[null,null,null,null,null,null,null,null,null,null,null,null,null,null,null,null,null,null,null,null,null,null,null,null,null,null,null,null,null,"№22610",3.4581563284224175,0.22618000818455652,1.842168168303487,{"$f":"ROUND(AG45221,0)","v":2},{"$f":"ROUND(AG45222,0)","v":1},{"$f":"IF(AH45221>AI45221,1,\"\")","v":1},{"$f":"IF(AH45221=AI45221,1,\"\")","v":""},{"$f":"IF(AH45221<AI45221,1,\"\")","v":""},{"$f":"AH45221&\"-\"&AI45221","v":"2-1"}]
[null,null,null,null,null,null,null,null,null,null,null,null,null,null,null,null,null,null,null,null,null,null,null,null,null,null,null,null,null,null,1.9775196625577973,1.3793715536802722,1.6784456081190346]
[null,null,null,null,null,null,null,null,null,null,null,null,null,null,null,null,null,null,null,null,null,null,null,null,null,null,null,null,null,null,2.2969863692672794,2.4666407917413276,2.3818135805043035]
[null,null,null,null,null,null,null,null,null,null,null,null,null,null,null,null,null,null,null,null,null,null,null,null,null,null,null,null,null,null,2.8123942652831175,1.953162625139319,2.3827784452112182]
[null,null,null,null,null,null,null,null,null,null,null,null,null,null,null,null,null,null,null,null,null,null,null,null,null,null,null,null,null,null,1.894627508520158,1.1261115034016451,1.5103695059609015]
[null,null,null,null,null,null,null,null,null,null,null,null,null,null,null,null,null,null,null,null,null,null,null,null,null,null,null,null,null,null,2.1841814307425662,2.3178169815516756,2.2509992061471209]
[null,null,null,null,null,null,null,null,null,null,null,null,null,null,null,null,null,null,null,null,null,null,null,null,null,null,null,null,null,"№22876",2.3488350250989001,2.1808024599656006,2.2648187425322504,{"$f":"ROUND(AG45753,0)","v":2},{"$f":"ROUND(AG45754,0)","v":3},{"$f":"IF(AH45753>AI45753,1,\"\")","v":""},{"$f":"IF(AH45753=AI45753,1,\"\")","v":""},{"$f":"IF(AH45753<AI45753,1,\"\")","v":1},{"$f":"AH45753&\"-\"&AI45753","v":"2-3"}]
[null,null,null,null,null,null,null,null,null,null,null,null,null,null,null,null,null,null,null,null,null,null,null,null,null,null,null,null,null,"№22945",{"$f":"_xlfn.NORM.INV(RAND(),$Z$3,$I$20)","v":1.4493508278553464},{"$f":"_xlfn.NORM.INV(RAND(),$AA$3,$O$20)","v":0.73784992170416142},1.0936003747797538,{"$f":"ROUND(AG45891,0)","v":1},{"$f":"ROUND(AG45892,0)","v":0},{"$f":"IF(AH45891>AI45891,1,\"\")","v":1},{"$f":"IF(AH45891=AI45891,1,\"\")","v":""},{"$f":"IF(AH45891<AI45891,1,\"\")","v":""},{"$f":"AH45891&\"-\"&AI45891","v":"1-0"}]
[null,null,null,null,null,null,null,null,null,null,null,null,null,null,null,null,null,null,null,null,null,null,null,null,null,null,null,null,null,"№23008",5.2997055681844536,1.7362259195722749,3.5179657438783645,{"$f":"ROUND(AG46017,0)","v":4},{"$f":"ROUND(AG46018,0)","v":3},{"$f":"IF(AH46017>AI46017,1,\"\")","v":1},{"$f":"IF(AH46017=AI46017,1,\"\")","v":""},{"$f":"IF(AH46017<AI46017,1,\"\")","v":""},{"$f":"AH46017&\"-\"&AI46017","v":"4-3"}]
[null,null,null,null,null,null,null,null,null,null,null,null,null,null,null,null,null,null,null,null,null,null,null,null,null,null,null,null,null,"№23035",2.5473163559810539,1.1090288662910663,1.8281726111360601,{"$f":"ROUND(AG46071,0)","v":2},{"$f":"ROUND(AG46072,0)","v":2},{"$f":"IF(AH46071>AI46071,1,\"\")","v":""},{"$f":"IF(AH46071=AI46071,1,\"\")","v":1},{"$f":"IF(AH46071<AI46071,1,\"\")","v":""},{"$f":"AH46071&\"-\"&AI46071","v":"2-2"}]
[null,null,null,null,null,null,null,null,null,null,null,null,null,null,null,null,null,null,null,null,null,null,null,null,null,null,null,null,null,"№23104",5.2270245579052617,0.54746134908546062,2.887242953495361,{"$f":"ROUND(AG46209,0)","v":3},{"$f":"ROUND(AG46210,0)","v":3},{"$f":"IF(AH46209>AI46209,1,\"\")","v":""},{"$f":"IF(AH46209=AI46209,1,\"\")","v":1},{"$f":"IF(AH46209<AI46209,1,\"\")","v":""},{"$f":"AH46209&\"-\"&AI46209","v":"3-3"}]
[null,null,null,null,null,null,null,null,null,null,null,null,null,null,null,null,null,null,null,null,null,null,null,null,null,null,null,null,null,null,2.3104083562350568,3.9066031778699655,3.1085057670525114]
[null,null,null,null,null,null,null,null,null,null,null,null,null,null,null,null,null,null,null,null,null,null,null,null,null,null,null,null,null,null,2.8650939360009069,4.1797852302140814,3.5224395831074942]
[null,null,null,null,null,null,null,null,null,null,null,null,null,null,null,null,null,null,null,null,null,null,null,null,null,null,null,null,null,null,2.5800227148813408,0.4506188633413426,1.5153207891113416]
[null,null,null,null,null,null,null,null,null,null,null,null,null,null,null,null,null,null,null,null,null,null,null,null,null,null,null,null,null,null,3.0965862954519308,3.6539601321690149,3.3752732138104728]
[null,null,null,null,null,null,null,null,null,null,null,null,null,null,null,null,null,null,null,null,null,null,null,null,null,null,null,null,null,null,2.0008372619510597,2.4768441390482714,2.2388407004996655]
[null,null,null,null,null,null,null,null,null,null,null,null,null,null,null,null,null,null,null,null,null,null,null,null,null,null,null,null,null,"№23406",1.6235699017737171,1.5812781487476437,1.6024240252606803,{"$f":"ROUND(AG46813,0)","v":2},{"$f":"ROUND(AG46814,0)","v":2},{"$f":"IF(AH46813>AI46813,1,\"\")","v":""},{"$f":"IF(AH46813=AI46813,1,\"\")","v":1},{"$f":"IF(AH46813<AI46813,1,\"\")","v":""},{"$f":"AH46813&\"-\"&AI46813","v":"2-2"}]
[null,null,null,null,null,null,null,null,null,null,null,null,null,null,null,null,null,null,null,null,null,null,null,null,null,null,null,null,null,null,1.7080031184067643,-0.63608399780557967,0.53595956030059233]
[null,null,null,null,null,null,null,null,null,null,null,null,null,null,null,null,null,null,null,null,null,null,null,null,null,null,null,null,null,"№23463",4.1566293446346503,1.8057031660405736,2.9811662553376119,{"$f":"ROUND(AG46927,0)","v":3},{"$f":"ROUND(AG46928,0)","v":3},{"$f":"IF(AH46927>AI46927,1,\"\")","v":""},{"$f":"IF(AH46927=AI46927,1,\"\")","v":1},{"$f":"IF(AH46927<AI46927,1,\"\")","v":""},{"$f":"AH46927&\"-\"&AI46927","v":"3-3"}]
[null,null,null,null,null,null,null,null,null,null,null,null,null,null,null,null,null,null,null,null,null,null,null,null,null,null,null,null,null,"№23532",1.1011260396809406,-0.37310768067642397,0.36400917950225831,{"$f":"ROUND(AG47065,0)","v":0},{"$f":"ROUND(AG47066,0)","v":1},{"$f":"IF(AH47065>AI47065,1,\"\")","v":""},{"$f":"IF(AH47065=AI47065,1,\"\")","v":""},{"$f":"IF(AH47065<AI47065,1,\"\")","v":1},{"$f":"AH47065&\"-\"&AI47065","v":"0-1"}]
[null,null,null,null,null,null,null,null,null,null,null,null,null,null,null,null,null,null,null,null,null,null,null,null,null,null,null,null,null,null,2.4544605560542809,0.91288122397719962,1.6836708900157402]
[null,null,null,null,null,null,null,null,null,null,null,null,null,null,null,null,null,null,null,null,null,null,null,null,null,null,null,null,null,"№23622",2.9554880545118691,-0.8662410548728865,1.0446234998194912,{"$f":"ROUND(AG47245,0)","v":1},{"$f":"ROUND(AG47246,0)","v":3},{"$f":"IF(AH47245>AI47245,1,\"\")","v":""},{"$f":"IF(AH47245=AI47245,1,\"\")","v":""},{"$f":"IF(AH47245<AI47245,1,\"\")","v":1},{"$f":"AH47245&\"-\"&AI47245","v":"1-3"}]
[null,null,null,null,null,null,null,null,null,null,null,null,null,null,null,null,null,null,null,null,null,null,null,null,null,null,null,null,null,"№23693",1.8230679706922592,7.0907927377101831E-3,0.91507938171498471,{"$f":"ROUND(AG47387,0)","v":1},{"$f":"ROUND(AG47388,0)","v":1},{"$f":"IF(AH47387>AI47387,1,\"\")","v":""},{"$f":"IF(AH47387=AI47387,1,\"\")","v":1},{"$f":"IF(AH47387<AI47387,1,\"\")","v":""},{"$f":"AH47387&\"-\"&AI47387","v":"1-1"}]
[null,null,null,null,null,null,null,null,null,null,null,null,null,null,null,null,null,null,null,null,null,null,null,null,null,null,null,null,null,null,1.6274827378332826,5.6203409603957741,3.6239118491145286]
[null,null,null,null,null,null,null,null,null,null,null,null,null,null,null,null,null,null,null,null,null,null,null,null,null,null,null,null,null,"№23804",3.0003234048126837,2.4288075803095492,2.7145654925611167,{"$f":"ROUND(AG47609,0)","v":3},{"$f":"ROUND(AG47610,0)","v":4},{"$f":"IF(AH47609>AI47609,1,\"\")","v":""},{"$f":"IF(AH47609=AI47609,1,\"\")","v":""},{"$f":"IF(AH47609<AI47609,1,\"\")","v":1},{"$f":"AH47609&\"-\"&AI47609","v":"3-4"}]
[null,null,null,null,null,null,null,null,null,null,null,null,null,null,null,null,null,null,null,null,null,null,null,null,null,null,null,null,null,"№23852",3.4169778163333784,0.91815462900708766,2.1675662226702332,{"$f":"ROUND(AG47705,0)","v":2},{"$f":"ROUND(AG47706,0)","v":2},{"$f":"IF(AH47705>AI47705,1,\"\")","v":""},{"$f":"IF(AH47705=AI47705,1,\"\")","v":1},{"$f":"IF(AH47705<AI47705,1,\"\")","v":""},{"$f":"AH47705&\"-\"&AI47705","v":"2-2"}]
[null,null,null,null,null,null,null,null,null,null,null,null,null,null,null,null,null,null,null,null,null,null,null,null,null,null,null,null,null,null,2.1405961612873372,-0.28842292205802744,0.92608661961465488]
[null,null,null,null,null,null,null,null,null,null,null,null,null,null,null,null,null,null,null,null,null,null,null,null,null,null,null,null,null,null,3.0941984272298111,3.0791155664438135,3.0866569968368123]
[null,null,null,null,null,null,null,null,null,null,null,null,null,null,null,null,null,null,null,null,null,null,null,null,null,null,null,null,null,null,3.8733244851068296,2.1166413902068308,2.9949829376568302]
[null,null,null,null,null,null,null,null,null,null,null,null,null,null,null,null,null,null,null,null,null,null,null,null,null,null,null,null,null,null,2.4009245329117332,0.87740134790910285,1.639162940410418]
[null,null,null,null,null,null,null,null,null,null,null,null,null,null,null,null,null,null,null,null,null,null,null,null,null,null,null,null,null,"№24052",3.2448084021959245,0.74127750086086885,1.9930429515283967,{"$f":"ROUND(AG48105,0)","v":2},{"$f":"ROUND(AG48106,0)","v":3},{"$f":"IF(AH48105>AI48105,1,\"\")","v":""},{"$f":"IF(AH48105=AI48105,1,\"\")","v":""},{"$f":"IF(AH48105<AI48105,1,\"\")","v":1},{"$f":"AH48105&\"-\"&AI48105","v":"2-3"}]
[null,null,null,null,null,null,null,null,null,null,null,null,null,null,null,null,null,null,null,null,null,null,null,null,null,null,null,null,null,"№24121",3.5460134160839232,1.3611580293453422,2.4535857227146325,{"$f":"ROUND(AG48243,0)","v":2},{"$f":"ROUND(AG48244,0)","v":1},{"$f":"IF(AH48243>AI48243,1,\"\")","v":1},{"$f":"IF(AH48243=AI48243,1,\"\")","v":""},{"$f":"IF(AH48243<AI48243,1,\"\")","v":""},{"$f":"AH48243&\"-\"&AI48243","v":"2-1"}]
[null,null,null,null,null,null,null,null,null,null,null,null,null,null,null,null,null,null,null,null,null,null,null,null,null,null,null,null,null,"№24153",2.8987316110628814,1.8709727426877367,2.384852176875309,{"$f":"ROUND(AG48307,0)","v":2},{"$f":"ROUND(AG48308,0)","v":3},{"$f":"IF(AH48307>AI48307,1,\"\")","v":""},{"$f":"IF(AH48307=AI48307,1,\"\")","v":""},{"$f":"IF(AH48307<AI48307,1,\"\")","v":1},{"$f":"AH48307&\"-\"&AI48307","v":"2-3"}]
[null,null,null,null,null,null,null,null,null,null,null,null,null,null,null,null,null,null,null,null,null,null,null,null,null,null,null,null,null,"№24211",5.4955229859598393,0.79459213046073107,3.1450575582102851,{"$f":"ROUND(AG48423,0)","v":3},{"$f":"ROUND(AG48424,0)","v":1},{"$f":"IF(AH48423>AI48423,1,\"\")","v":1},{"$f":"IF(AH48423=AI48423,1,\"\")","v":""},{"$f":"IF(AH48423<AI48423,1,\"\")","v":""},{"$f":"AH48423&\"-\"&AI48423","v":"3-1"}]
[null,null,null,null,null,null,null,null,null,null,null,null,null,null,null,null,null,null,null,null,null,null,null,null,null,null,null,null,null,"№24280",2.436634234679532,2.4552938600395473,2.4459640473595394,{"$f":"ROUND(AG48561,0)","v":2},{"$f":"ROUND(AG48562,0)","v":1},{"$f":"IF(AH48561>AI48561,1,\"\")","v":1},{"$f":"IF(AH48561=AI48561,1,\"\")","v":""},{"$f":"IF(AH48561<AI48561,1,\"\")","v":""},{"$f":"AH48561&\"-\"&AI48561","v":"2-1"}]
[null,null,null,null,null,null,null,null,null,null,null,null,null,null,null,null,null,null,null,null,null,null,null,null,null,null,null,null,null,null,2.4218836410983107,0.63959809014034164,1.5307408656193262]
[null,null,null,null,null,null,null,null,null,null,null,null,null,null,null,null,null,null,null,null,null,null,null,null,null,null,null,null,null,null,2.4500874752958888,7.4552565480164867E-2,1.2623200203880267]
[null,null,null,null,null,null,null,null,null,null,null,null,null,null,null,null,null,null,null,null,null,null,null,null,null,null,null,null,null,"№24439",4.9491392396264269,1.5069391660037721,3.2280392028150997,{"$f":"ROUND(AG48879,0)","v":3},{"$f":"ROUND(AG48880,0)","v":3},{"$f":"IF(AH48879>AI48879,1,\"\")","v":""},{"$f":"IF(AH48879=AI48879,1,\"\")","v":1},{"$f":"IF(AH48879<AI48879,1,\"\")","v":""},{"$f":"AH48879&\"-\"&AI48879","v":"3-3"}]
[null,null,null,null,null,null,null,null,null,null,null,null,null,null,null,null,null,null,null,null,null,null,null,null,null,null,null,null,null,null,2.3971549282881051,-0.83757942435288957,0.77978775196760775]
[null,null,null,null,null,null,null,null,null,null,null,null,null,null,null,null,null,null,null,null,null,null,null,null,null,null,null,null,null,null,2.1866053879093528,0.76781863758392532,1.477212012746639]
[null,null,null,null,null,null,null,null,null,null,null,null,null,null,null,null,null,null,null,null,null,null,null,null,null,null,null,null,null,"№24546",4.4041881999185568,1.0117962240212499,{"$f":"(AE49093+AF49093)/2","v":2.7079922119699034},{"$f":"ROUND(AG49093,0)","v":3},{"$f":"ROUND(AG49094,0)","v":2},{"$f":"IF(AH49093>AI49093,1,\"\")","v":1},{"$f":"IF(AH49093=AI49093,1,\"\")","v":""},{"$f":"IF(AH49093<AI49093,1,\"\")","v":""},{"$f":"AH49093&\"-\"&AI49093","v":"3-2"}]
[null,null,null,null,null,null,null,null,null,null,null,null,null,null,null,null,null,null,null,null,null,null,null,null,null,null,null,null,null,null,1.5885656205632133,1.1977052744475993,1.3931354475054063]
[null,null,null,null,null,null,null,null,null,null,null,null,null,null,null,null,null,null,null,null,null,null,null,null,null,null,null,null,null,null,3.2525168125184662,5.7262168663323436,4.4893668394254052]
[null,null,null,null,null,null,null,null,null,null,null,null,null,null,null,null,null,null,null,null,null,null,null,null,null,null,null,null,null,"№24710",3.2146907681876415,-0.837776312603562,1.1884572277920398,{"$f":"ROUND(AG49421,0)","v":1},{"$f":"ROUND(AG49422,0)","v":2},{"$f":"IF(AH49421>AI49421,1,\"\")","v":""},{"$f":"IF(AH49421=AI49421,1,\"\")","v":""},{"$f":"IF(AH49421<AI49421,1,\"\")","v":1},{"$f":"AH49421&\"-\"&AI49421","v":"1-2"}]
[null,null,null,null,null,null,null,null,null,null,null,null,null,null,null,null,null,null,null,null,null,null,null,null,null,null,null,null,null,null,2.5464181726688504,4.917550257329184,3.7319842149990174]
[null,null,null,null,null,null,null,null,null,null,null,null,null,null,null,null,null,null,null,null,null,null,null,null,null,null,null,null,null,"№24798",4.1480015534736889,-1.1854638213838302,1.4812688660449294,{"$f":"ROUND(AG49597,0)","v":1},{"$f":"ROUND(AG49598,0)","v":1},{"$f":"IF(AH49597>AI49597,1,\"\")","v":""},{"$f":"IF(AH49597=AI49597,1,\"\")","v":1},{"$f":"IF(AH49597<AI49597,1,\"\")","v":""},{"$f":"AH49597&\"-\"&AI49597","v":"1-1"}]
[null,null,null,null,null,null,null,null,null,null,null,null,null,null,null,null,null,null,null,null,null,null,null,null,null,null,null,null,null,"№24869",5.1569504829527446,0.96710027271657584,3.0620253778346602,{"$f":"ROUND(AG49739,0)","v":3},{"$f":"ROUND(AG49740,0)","v":2},{"$f":"IF(AH49739>AI49739,1,\"\")","v":1},{"$f":"IF(AH49739=AI49739,1,\"\")","v":""},{"$f":"IF(AH49739<AI49739,1,\"\")","v":""},{"$f":"AH49739&\"-\"&AI49739","v":"3-2"}]
[null,null,null,null,null,null,null,null,null,null,null,null,null,null,null,null,null,null,null,null,null,null,null,null,null,null,null,null,null,"№24938",4.8081740332132306,0.1531385809329745,2.4806563070731027,{"$f":"ROUND(AG49877,0)","v":2},{"$f":"ROUND(AG49878,0)","v":1},{"$f":"IF(AH49877>AI49877,1,\"\")","v":1},{"$f":"IF(AH49877=AI49877,1,\"\")","v":""},{"$f":"IF(AH49877<AI49877,1,\"\")","v":""},{"$f":"AH49877&\"-\"&AI49877","v":"2-1"}]
[null,null,null,null,null,null,null,null,null,null,null,null,null,null,null,null,null,null,null,null,null,null,null,null,null,null,null,null,null,"№24944",1.2764766537908412,2.2064118360765788,1.74144424493371,{"$f":"ROUND(AG49889,0)","v":2},{"$f":"ROUND(AG49890,0)","v":2},{"$f":"IF(AH49889>AI49889,1,\"\")","v":""},{"$f":"IF(AH49889=AI49889,1,\"\")","v":1},{"$f":"IF(AH49889<AI49889,1,\"\")","v":""},{"$f":"AH49889&\"-\"&AI49889","v":"2-2"}]
[null,null,null,null,null,null,null,null,null,null,null,null,null,null,null,null,null,null,null,null,null,null,null,null,null,null,null,null,null,"№25028",5.4837541836621817,0.74747628091387297,3.1156152322880275,{"$f":"ROUND(AG50057,0)","v":3},{"$f":"ROUND(AG50058,0)","v":0},{"$f":"IF(AH50057>AI50057,1,\"\")","v":1},{"$f":"IF(AH50057=AI50057,1,\"\")","v":""},{"$f":"IF(AH50057<AI50057,1,\"\")","v":""},{"$f":"AH50057&\"-\"&AI50057","v":"3-0"}]
[null,null,null,null,null,null,null,null,null,null,null,null,null,null,null,null,null,null,null,null,null,null,null,null,null,null,null,null,null,null,2.9166243335535675,0.66386996762028316,1.7902471505869253]
[null,null,null,null,null,null,null,null,null,null,null,null,null,null,null,null,null,null,null,null,null,null,null,null,null,null,null,null,null,null,1.6292348476282448,3.2580543310624348,2.4436445893453396]
[null,null,null,null,null,null,null,null,null,null,null,null,null,null,null,null,null,null,null,null,null,null,null,null,null,null,null,null,null,null,2.4746796789927012,0.9447567359487431,1.7097182074707222]
[null,null,null,null,null,null,null,null,null,null,null,null,null,null,null,null,null,null,null,null,null,null,null,null,null,null,null,null,null,null,2.4796145246072143,-0.35112850032025889,1.0642430121434776]
[null,null,null,null,null,null,null,null,null,null,null,null,null,null,null,null,null,null,null,null,null,null,null,null,null,null,null,null,null,null,2.4133911638529084,0.17224589328928941,1.2928185285710989]
[null,null,null,null,null,null,null,null,null,null,null,null,null,null,null,null,null,null,null,null,null,null,null,null,null,null,null,null,null,"№25297",1.4452734197669499,0.47613928545407719,0.96070635261051351,{"$f":"ROUND(AG50595,0)","v":1},{"$f":"ROUND(AG50596,0)","v":2},{"$f":"IF(AH50595>AI50595,1,\"\")","v":""},{"$f":"IF(AH50595=AI50595,1,\"\")","v":""},{"$f":"IF(AH50595<AI50595,1,\"\")","v":1},{"$f":"AH50595&\"-\"&AI50595","v":"1-2"}]
[null,null,null,null,null,null,null,null,null,null,null,null,null,null,null,null,null,null,null,null,null,null,null,null,null,null,null,null,null,"№25368",2.4328922920590474,1.0728796802414937,1.7528859861502706,{"$f":"ROUND(AG50737,0)","v":2},{"$f":"ROUND(AG50738,0)","v":2},{"$f":"IF(AH50737>AI50737,1,\"\")","v":""},{"$f":"IF(AH50737=AI50737,1,\"\")","v":1},{"$f":"IF(AH50737<AI50737,1,\"\")","v":""},{"$f":"AH50737&\"-\"&AI50737","v":"2-2"}]
[null,null,null,null,null,null,null,null,null,null,null,null,null,null,null,null,null,null,null,null,null,null,null,null,null,null,null,null,null,"№25406",4.7223684796704255,-1.3244557253774147,1.6989563771465055,{"$f":"ROUND(AG50813,0)","v":2},{"$f":"ROUND(AG50814,0)","v":2},{"$f":"IF(AH50813>AI50813,1,\"\")","v":""},{"$f":"IF(AH50813=AI50813,1,\"\")","v":1},{"$f":"IF(AH50813<AI50813,1,\"\")","v":""},{"$f":"AH50813&\"-\"&AI50813","v":"2-2"}]
[null,null,null,null,null,null,null,null,null,null,null,null,null,null,null,null,null,null,null,null,null,null,null,null,null,null,null,null,null,"№25456",1.8821371201979902,0.81836400677313526,1.3502505634855626,{"$f":"ROUND(AG50913,0)","v":1},{"$f":"ROUND(AG50914,0)","v":2},{"$f":"IF(AH50913>AI50913,1,\"\")","v":""},{"$f":"IF(AH50913=AI50913,1,\"\")","v":""},{"$f":"IF(AH50913<AI50913,1,\"\")","v":1},{"$f":"AH50913&\"-\"&AI50913","v":"1-2"}]
[null,null,null,null,null,null,null,null,null,null,null,null,null,null,null,null,null,null,null,null,null,null,null,null,null,null,null,null,null,"№25527",3.5161772702597411,9.0432233762983039E-2,1.8033047520113621,{"$f":"ROUND(AG51055,0)","v":2},{"$f":"ROUND(AG51056,0)","v":2},{"$f":"IF(AH51055>AI51055,1,\"\")","v":""},{"$f":"IF(AH51055=AI51055,1,\"\")","v":1},{"$f":"IF(AH51055<AI51055,1,\"\")","v":""},{"$f":"AH51055&\"-\"&AI51055","v":"2-2"}]
[null,null,null,null,null,null,null,null,null,null,null,null,null,null,null,null,null,null,null,null,null,null,null,null,null,null,null,null,null,null,1.4697490762865577,0.74146285802799594,1.1056059671572769]
[null,null,null,null,null,null,null,null,null,null,null,null,null,null,null,null,null,null,null,null,null,null,null,null,null,null,null,null,null,null,2.2015410860091285,2.2126156048750154,2.2070783454420719]
[null,null,null,null,null,null,null,null,null,null,null,null,null,null,null,null,null,null,null,null,null,null,null,null,null,null,null,null,null,null,0.9002374192943885,1.0753281069120599,0.98778276310322422]
[null,null,null,null,null,null,null,null,null,null,null,null,null,null,null,null,null,null,null,null,null,null,null,null,null,null,null,null,null,null,2.597199378674333,-1.3647610770475813,0.61621915081337586]
[null,null,null,null,null,null,null,null,null,null,null,null,null,null,null,null,null,null,null,null,null,null,null,null,null,null,null,null,null,null,2.0621376626245906,0.49532761990506358,1.2787326412648272]
[null,null,null,null,null,null,null,null,null,null,null,null,null,null,null,null,null,null,null,null,null,null,null,null,null,null,null,null,null,"№25804",4.7476583155921501,1.3210089700669858,3.034333642829568,{"$f":"ROUND(AG51609,0)","v":3},{"$f":"ROUND(AG51610,0)","v":1},{"$f":"IF(AH51609>AI51609,1,\"\")","v":1},{"$f":"IF(AH51609=AI51609,1,\"\")","v":""},{"$f":"IF(AH51609<AI51609,1,\"\")","v":""},{"$f":"AH51609&\"-\"&AI51609","v":"3-1"}]
[null,null,null,null,null,null,null,null,null,null,null,null,null,null,null,null,null,null,null,null,null,null,null,null,null,null,null,null,null,null,1.9783289894097433,2.2494134506689583,2.1138712200393508]
[null,null,null,null,null,null,null,null,null,null,null,null,null,null,null,null,null,null,null,null,null,null,null,null,null,null,null,null,null,"№25886",3.8252598056525944,1.175140088412959,2.5001999470327769,{"$f":"ROUND(AG51773,0)","v":3},{"$f":"ROUND(AG51774,0)","v":2},{"$f":"IF(AH51773>AI51773,1,\"\")","v":1},{"$f":"IF(AH51773=AI51773,1,\"\")","v":""},{"$f":"IF(AH51773<AI51773,1,\"\")","v":""},{"$f":"AH51773&\"-\"&AI51773","v":"3-2"}]
[null,null,null,null,null,null,null,null,null,null,null,null,null,null,null,null,null,null,null,null,null,null,null,null,null,null,null,null,null,"№25955",3.5868773452121498,-1.0999743556843224,1.2434514947639137,{"$f":"ROUND(AG51911,0)","v":1},{"$f":"ROUND(AG51912,0)","v":1},{"$f":"IF(AH51911>AI51911,1,\"\")","v":""},{"$f":"IF(AH51911=AI51911,1,\"\")","v":1},{"$f":"IF(AH51911<AI51911,1,\"\")","v":""},{"$f":"AH51911&\"-\"&AI51911","v":"1-1"}]
[null,null,null,null,null,null,null,null,null,null,null,null,null,null,null,null,null,null,null,null,null,null,null,null,null,null,null,null,null,null,1.8683639792516478,3.5496201062953689,2.7089920427735086]
[null,null,null,null,null,null,null,null,null,null,null,null,null,null,null,null,null,null,null,null,null,null,null,null,null,null,null,null,null,"№26045",5.6983309626908287,1.7724365692649089,3.7353837659778688,{"$f":"ROUND(AG52091,0)","v":4},{"$f":"ROUND(AG52092,0)","v":1},{"$f":"IF(AH52091>AI52091,1,\"\")","v":1},{"$f":"IF(AH52091=AI52091,1,\"\")","v":""},{"$f":"IF(AH52091<AI52091,1,\"\")","v":""},{"$f":"AH52091&\"-\"&AI52091","v":"4-1"}]
[null,null,null,null,null,null,null,null,null,null,null,null,null,null,null,null,null,null,null,null,null,null,null,null,null,null,null,null,null,"№26114",2.6145350297907468,-1.1447657619513856,{"$f":"(AE52229+AF52229)/2","v":0.73488463391968062},{"$f":"ROUND(AG52229,0)","v":1},{"$f":"ROUND(AG52230,0)","v":0},{"$f":"IF(AH52229>AI52229,1,\"\")","v":1},{"$f":"IF(AH52229=AI52229,1,\"\")","v":""},{"$f":"IF(AH52229<AI52229,1,\"\")","v":""},{"$f":"AH52229&\"-\"&AI52229","v":"1-0"}]
[null,null,null,null,null,null,null,null,null,null,null,null,null,null,null,null,null,null,null,null,null,null,null,null,null,null,null,null,null,null,0.98988673077398914,0.19651436177413473,0.59320054627406194]
[null,null,null,null,null,null,null,null,null,null,null,null,null,null,null,null,null,null,null,null,null,null,null,null,null,null,null,null,null,"№26202",7.1001520039630552,2.2894320837724269,4.6947920438677411,{"$f":"ROUND(AG52405,0)","v":5},{"$f":"ROUND(AG52406,0)","v":1},{"$f":"IF(AH52405>AI52405,1,\"\")","v":1},{"$f":"IF(AH52405=AI52405,1,\"\")","v":""},{"$f":"IF(AH52405<AI52405,1,\"\")","v":""},{"$f":"AH52405&\"-\"&AI52405","v":"5-1"}]
[null,null,null,null,null,null,null,null,null,null,null,null,null,null,null,null,null,null,null,null,null,null,null,null,null,null,null,null,null,null,3.1457644152560009,1.1159836737851316,2.1308740445205663]
[null,null,null,null,null,null,null,null,null,null,null,null,null,null,null,null,null,null,null,null,null,null,null,null,null,null,null,null,null,null,3.2548184017742381,2.8617741207662646,3.0582962612702511]
[null,null,null,null,null,null,null,null,null,null,null,null,null,null,null,null,null,null,null,null,null,null,null,null,null,null,null,null,null,null,2.302577697283775,3.1905575200719722,2.7465676086778736]
[null,null,null,null,null,null,null,null,null,null,null,null,null,null,null,null,null,null,null,null,null,null,null,null,null,null,null,null,null,null,2.8722977938867227,4.0857944684698593,3.4790461311782908]
[null,null,null,null,null,null,null,null,null,null,null,null,null,null,null,null,null,null,null,null,null,null,null,null,null,null,null,null,null,null,1.8916943775793216,1.0774060439003608,1.4845502107398412]
[null,null,null,null,null,null,null,null,null,null,null,null,null,null,null,null,null,null,null,null,null,null,null,null,null,null,null,null,null,"№26473",4.4643516078744101,1.6888765525109699,3.07661408019269,{"$f":"ROUND(AG52947,0)","v":3},{"$f":"ROUND(AG52948,0)","v":2},{"$f":"IF(AH52947>AI52947,1,\"\")","v":1},{"$f":"IF(AH52947=AI52947,1,\"\")","v":""},{"$f":"IF(AH52947<AI52947,1,\"\")","v":""},{"$f":"AH52947&\"-\"&AI52947","v":"3-2"}]
[null,null,null,null,null,null,null,null,null,null,null,null,null,null,null,null,null,null,null,null,null,null,null,null,null,null,null,null,null,"№26544",2.7643495368415358,2.7058178212185195,2.7350836790300277,{"$f":"ROUND(AG53089,0)","v":3},{"$f":"ROUND(AG53090,0)","v":1},{"$f":"IF(AH53089>AI53089,1,\"\")","v":1},{"$f":"IF(AH53089=AI53089,1,\"\")","v":""},{"$f":"IF(AH53089<AI53089,1,\"\")","v":""},{"$f":"AH53089&\"-\"&AI53089","v":"3-1"}]
[null,null,null,null,null,null,null,null,null,null,null,null,null,null,null,null,null,null,null,null,null,null,null,null,null,null,null,null,null,"№26600",5.5441323628822179,-0.78217089674092199,2.3809807330706478,{"$f":"ROUND(AG53201,0)","v":2},{"$f":"ROUND(AG53202,0)","v":1},{"$f":"IF(AH53201>AI53201,1,\"\")","v":1},{"$f":"IF(AH53201=AI53201,1,\"\")","v":""},{"$f":"IF(AH53201<AI53201,1,\"\")","v":""},{"$f":"AH53201&\"-\"&AI53201","v":"2-1"}]
[null,null,null,null,null,null,null,null,null,null,null,null,null,null,null,null,null,null,null,null,null,null,null,null,null,null,null,null,null,"№26634",2.4019571022786788,1.3602964462324816,1.8811267742555802,{"$f":"ROUND(AG53269,0)","v":2},{"$f":"ROUND(AG53270,0)","v":1},{"$f":"IF(AH53269>AI53269,1,\"\")","v":1},{"$f":"IF(AH53269=AI53269,1,\"\")","v":""},{"$f":"IF(AH53269<AI53269,1,\"\")","v":""},{"$f":"AH53269&\"-\"&AI53269","v":"2-1"}]
[null,null,null,null,null,null,null,null,null,null,null,null,null,null,null,null,null,null,null,null,null,null,null,null,null,null,null,null,null,"№26703",2.2367122702844346,0.36453424072749524,1.3006232555059649,{"$f":"ROUND(AG53407,0)","v":1},{"$f":"ROUND(AG53408,0)","v":2},{"$f":"IF(AH53407>AI53407,1,\"\")","v":""},{"$f":"IF(AH53407=AI53407,1,\"\")","v":""},{"$f":"IF(AH53407<AI53407,1,\"\")","v":1},{"$f":"AH53407&\"-\"&AI53407","v":"1-2"}]
[null,null,null,null,null,null,null,null,null,null,null,null,null,null,null,null,null,null,null,null,null,null,null,null,null,null,null,null,null,null,0.23537704823848005,2.9297419609191433,1.5825595045788117]
[null,null,null,null,null,null,null,null,null,null,null,null,null,null,null,null,null,null,null,null,null,null,null,null,null,null,null,null,null,null,2.7081037331968822,1.0134235225554424,1.8607636278761623]
[null,null,null,null,null,null,null,null,null,null,null,null,null,null,null,null,null,null,null,null,null,null,null,null,null,null,null,null,null,"№26862",1.8565035333487527,0.42636291592566483,1.1414332246372088,{"$f":"ROUND(AG53725,0)","v":1},{"$f":"ROUND(AG53726,0)","v":1},{"$f":"IF(AH53725>AI53725,1,\"\")","v":""},{"$f":"IF(AH53725=AI53725,1,\"\")","v":1},{"$f":"IF(AH53725<AI53725,1,\"\")","v":""},{"$f":"AH53725&\"-\"&AI53725","v":"1-1"}]
[null,null,null,null,null,null,null,null,null,null,null,null,null,null,null,null,null,null,null,null,null,null,null,null,null,null,null,null,null,null,{"$f":"_xlfn.NORM.INV(RAND(),$Z$4,$N$20)","v":2.6832008318902787},{"$f":"_xlfn.NORM.INV(RAND(),$AA$4,$J$20)","v":2.5966045576895391},2.6399026947899089]
[null,null,null,null,null,null,null,null,null,null,null,null,null,null,null,null,null,null,null,null,null,null,null,null,null,null,null,null,null,null,3.3933409647435839,1.7889648360372927,2.5911529003904383]
[null,null,null,null,null,null,null,null,null,null,null,null,null,null,null,null,null,null,null,null,null,null,null,null,null,null,null,null,null,"№26998",2.3335957384744894,0.48458690823164513,1.4090913233530673,{"$f":"ROUND(AG53997,0)","v":1},{"$f":"ROUND(AG53998,0)","v":2},{"$f":"IF(AH53997>AI53997,1,\"\")","v":""},{"$f":"IF(AH53997=AI53997,1,\"\")","v":""},{"$f":"IF(AH53997<AI53997,1,\"\")","v":1},{"$f":"AH53997&\"-\"&AI53997","v":"1-2"}]
[null,null,null,null,null,null,null,null,null,null,null,null,null,null,null,null,null,null,null,null,null,null,null,null,null,null,null,null,null,null,2.1952023738209183,0.19378777046823514,1.1944950721445768]
[null,null,null,null,null,null,null,null,null,null,null,null,null,null,null,null,null,null,null,null,null,null,null,null,null,null,null,null,null,null,1.1225426474537579,3.3451611009106457,2.2338518741822018]
[null,null,null,null,null,null,null,null,null,null,null,null,null,null,null,null,null,null,null,null,null,null,null,null,null,null,null,null,null,"№27131",2.898387347819646,2.3085415414730361,2.6034644446463409,{"$f":"ROUND(AG54263,0)","v":3},{"$f":"ROUND(AG54264,0)","v":3},{"$f":"IF(AH54263>AI54263,1,\"\")","v":""},{"$f":"IF(AH54263=AI54263,1,\"\")","v":1},{"$f":"IF(AH54263<AI54263,1,\"\")","v":""},{"$f":"AH54263&\"-\"&AI54263","v":"3-3"}]
[null,null,null,null,null,null,null,null,null,null,null,null,null,null,null,null,null,null,null,null,null,null,null,null,null,null,null,null,null,null,3.1196181556791798,-1.7647838734228376,0.67741714112817109]
[null,null,null,null,null,null,null,null,null,null,null,null,null,null,null,null,null,null,null,null,null,null,null,null,null,null,null,null,null,"№27221",4.1869835855455042,0.1297672613874713,2.1583754234664876,{"$f":"ROUND(AG54443,0)","v":2},{"$f":"ROUND(AG54444,0)","v":1},{"$f":"IF(AH54443>AI54443,1,\"\")","v":1},{"$f":"IF(AH54443=AI54443,1,\"\")","v":""},{"$f":"IF(AH54443<AI54443,1,\"\")","v":""},{"$f":"AH54443&\"-\"&AI54443","v":"2-1"}]
[null,null,null,null,null,null,null,null,null,null,null,null,null,null,null,null,null,null,null,null,null,null,null,null,null,null,null,null,null,"№27292",5.7346677208479742,2.4745909231352927,4.1046293219916334,{"$f":"ROUND(AG54585,0)","v":4},{"$f":"ROUND(AG54586,0)","v":3},{"$f":"IF(AH54585>AI54585,1,\"\")","v":1},{"$f":"IF(AH54585=AI54585,1,\"\")","v":""},{"$f":"IF(AH54585<AI54585,1,\"\")","v":""},{"$f":"AH54585&\"-\"&AI54585","v":"4-3"}]
[null,null,null,null,null,null,null,null,null,null,null,null,null,null,null,null,null,null,null,null,null,null,null,null,null,null,null,null,null,null,2.228387855201166,4.4729801980790276,3.3506840266400966]
[null,null,null,null,null,null,null,null,null,null,null,null,null,null,null,null,null,null,null,null,null,null,null,null,null,null,null,null,null,"№27396",3.8306267372769196,0.57725222762006512,2.2039394824484924,{"$f":"ROUND(AG54793,0)","v":2},{"$f":"ROUND(AG54794,0)","v":2},{"$f":"IF(AH54793>AI54793,1,\"\")","v":""},{"$f":"IF(AH54793=AI54793,1,\"\")","v":1},{"$f":"IF(AH54793<AI54793,1,\"\")","v":""},{"$f":"AH54793&\"-\"&AI54793","v":"2-2"}]
[null,null,null,null,null,null,null,null,null,null,null,null,null,null,null,null,null,null,null,null,null,null,null,null,null,null,null,null,null,"№27451",2.7389184739565824,0.10070959847031735,1.4198140362134499,{"$f":"ROUND(AG54903,0)","v":1},{"$f":"ROUND(AG54904,0)","v":2},{"$f":"IF(AH54903>AI54903,1,\"\")","v":""},{"$f":"IF(AH54903=AI54903,1,\"\")","v":""},{"$f":"IF(AH54903<AI54903,1,\"\")","v":1},{"$f":"AH54903&\"-\"&AI54903","v":"1-2"}]
[null,null,null,null,null,null,null,null,null,null,null,null,null,null,null,null,null,null,null,null,null,null,null,null,null,null,null,null,null,null,2.1796204044222613,2.7981380089515158,2.4888792066868888]
[null,null,null,null,null,null,null,null,null,null,null,null,null,null,null,null,null,null,null,null,null,null,null,null,null,null,null,null,null,null,1.6134800563148985,1.9141716347246081,1.7638258455197533]
[null,null,null,null,null,null,null,null,null,null,null,null,null,null,null,null,null,null,null,null,null,null,null,null,null,null,null,null,null,null,2.365038207580815,1.3188800521887591,1.841959129884787]
[null,null,null,null,null,null,null,null,null,null,null,null,null,null,null,null,null,null,null,null,null,null,null,null,null,null,null,null,null,null,3.4452910570933608,0.30988347279509187,1.8775872649442262]
[null,null,null,null,null,null,null,null,null,null,null,null,null,null,null,null,null,null,null,null,null,null,null,null,null,null,null,null,null,null,1.2477885315340078,1.2280162386705662,1.237902385102287]
[null,null,null,null,null,null,null,null,null,null,null,null,null,null,null,null,null,null,null,null,null,null,null,null,null,null,null,null,null,"№27720",-0.41116568785684748,1.9104114350717476,0.74962287360745006,{"$f":"ROUND(AG55441,0)","v":1},{"$f":"ROUND(AG55442,0)","v":2},{"$f":"IF(AH55441>AI55441,1,\"\")","v":""},{"$f":"IF(AH55441=AI55441,1,\"\")","v":""},{"$f":"IF(AH55441<AI55441,1,\"\")","v":1},{"$f":"AH55441&\"-\"&AI55441","v":"1-2"}]
[null,null,null,null,null,null,null,null,null,null,null,null,null,null,null,null,null,null,null,null,null,null,null,null,null,null,null,null,null,"№27794",6.9863002733822803,1.1419786854700544,4.0641394794261672,{"$f":"ROUND(AG55589,0)","v":4},{"$f":"ROUND(AG55590,0)","v":1},{"$f":"IF(AH55589>AI55589,1,\"\")","v":1},{"$f":"IF(AH55589=AI55589,1,\"\")","v":""},{"$f":"IF(AH55589<AI55589,1,\"\")","v":""},{"$f":"AH55589&\"-\"&AI55589","v":"4-1"}]
[null,null,null,null,null,null,null,null,null,null,null,null,null,null,null,null,null,null,null,null,null,null,null,null,null,null,null,null,null,"№27810",4.4903687511861694,2.3949172514188759,{"$f":"(AE55621+AF55621)/2","v":3.4426430013025229},{"$f":"ROUND(AG55621,0)","v":3},{"$f":"ROUND(AG55622,0)","v":2},{"$f":"IF(AH55621>AI55621,1,\"\")","v":1},{"$f":"IF(AH55621=AI55621,1,\"\")","v":""},{"$f":"IF(AH55621<AI55621,1,\"\")","v":""},{"$f":"AH55621&\"-\"&AI55621","v":"3-2"}]
[null,null,null,null,null,null,null,null,null,null,null,null,null,null,null,null,null,null,null,null,null,null,null,null,null,null,null,null,null,"№27879",5.3494624071316181,1.9006712964455574,3.6250668517885876,{"$f":"ROUND(AG55759,0)","v":4},{"$f":"ROUND(AG55760,0)","v":2},{"$f":"IF(AH55759>AI55759,1,\"\")","v":1},{"$f":"IF(AH55759=AI55759,1,\"\")","v":""},{"$f":"IF(AH55759<AI55759,1,\"\")","v":""},{"$f":"AH55759&\"-\"&AI55759","v":"4-2"}]
[null,null,null,null,null,null,null,null,null,null,null,null,null,null,null,null,null,null,null,null,null,null,null,null,null,null,null,null,null,"№27948",2.4892691486089333,1.0945255417929174,1.7918973452009253,{"$f":"ROUND(AG55897,0)","v":2},{"$f":"ROUND(AG55898,0)","v":2},{"$f":"IF(AH55897>AI55897,1,\"\")","v":""},{"$f":"IF(AH55897=AI55897,1,\"\")","v":1},{"$f":"IF(AH55897<AI55897,1,\"\")","v":""},{"$f":"AH55897&\"-\"&AI55897","v":"2-2"}]
[null,null,null,null,null,null,null,null,null,null,null,null,null,null,null,null,null,null,null,null,null,null,null,null,null,null,null,null,null,null,1.5896038581712024,5.7424838015151085,3.6660438298431552]
[null,null,null,null,null,null,null,null,null,null,null,null,null,null,null,null,null,null,null,null,null,null,null,null,null,null,null,null,null,"№28038",1.8389788571913812,-0.45997676709757829,0.68950104504690146,{"$f":"ROUND(AG56077,0)","v":1},{"$f":"ROUND(AG56078,0)","v":2},{"$f":"IF(AH56077>AI56077,1,\"\")","v":""},{"$f":"IF(AH56077=AI56077,1,\"\")","v":""},{"$f":"IF(AH56077<AI56077,1,\"\")","v":1},{"$f":"AH56077&\"-\"&AI56077","v":"1-2"}]
[null,null,null,null,null,null,null,null,null,null,null,null,null,null,null,null,null,null,null,null,null,null,null,null,null,null,null,null,null,null,1.1848080558207053,2.029033661886376,1.6069208588535406]
[null,null,null,null,null,null,null,null,null,null,null,null,null,null,null,null,null,null,null,null,null,null,null,null,null,null,null,null,null,null,2.1276521851396182,0.40346020832950735,1.2655561967345628]
[null,null,null,null,null,null,null,null,null,null,null,null,null,null,null,null,null,null,null,null,null,null,null,null,null,null,null,null,null,"№28192",0.76206067458166249,1.0889124581984115,0.92548656639003701,{"$f":"ROUND(AG56385,0)","v":1},{"$f":"ROUND(AG56386,0)","v":2},{"$f":"IF(AH56385>AI56385,1,\"\")","v":""},{"$f":"IF(AH56385=AI56385,1,\"\")","v":""},{"$f":"IF(AH56385<AI56385,1,\"\")","v":1},{"$f":"AH56385&\"-\"&AI56385","v":"1-2"}]
[null,null,null,null,null,null,null,null,null,null,null,null,null,null,null,null,null,null,null,null,null,null,null,null,null,null,null,null,null,null,2.2482872165802785,1.2077916603076124,1.7280394384439455]
[null,null,null,null,null,null,null,null,null,null,null,null,null,null,null,null,null,null,null,null,null,null,null,null,null,null,null,null,null,null,2.3979410992412058,0.3061015680353194,1.3520213336382625]
[null,null,null,null,null,null,null,null,null,null,null,null,null,null,null,null,null,null,null,null,null,null,null,null,null,null,null,null,null,"№28309",2.0508277483484472,7.6016765021032384E-2,1.0634222566847398,{"$f":"ROUND(AG56619,0)","v":1},{"$f":"ROUND(AG56620,0)","v":3},{"$f":"IF(AH56619>AI56619,1,\"\")","v":""},{"$f":"IF(AH56619=AI56619,1,\"\")","v":""},{"$f":"IF(AH56619<AI56619,1,\"\")","v":1},{"$f":"AH56619&\"-\"&AI56619","v":"1-3"}]
[null,null,null,null,null,null,null,null,null,null,null,null,null,null,null,null,null,null,null,null,null,null,null,null,null,null,null,null,null,null,2.1570331463720365,4.413288870123238,3.2851610082476372]
[null,null,null,null,null,null,null,null,null,null,null,null,null,null,null,null,null,null,null,null,null,null,null,null,null,null,null,null,null,"№28397",2.9820235346749819,7.9325824882999996E-2,1.530674679778991,{"$f":"ROUND(AG56795,0)","v":2},{"$f":"ROUND(AG56796,0)","v":3},{"$f":"IF(AH56795>AI56795,1,\"\")","v":""},{"$f":"IF(AH56795=AI56795,1,\"\")","v":""},{"$f":"IF(AH56795<AI56795,1,\"\")","v":1},{"$f":"AH56795&\"-\"&AI56795","v":"2-3"}]
[null,null,null,null,null,null,null,null,null,null,null,null,null,null,null,null,null,null,null,null,null,null,null,null,null,null,null,null,null,"№28468",5.2211582542434005,-0.76600319492574531,2.2275775296588276,{"$f":"ROUND(AG56937,0)","v":2},{"$f":"ROUND(AG56938,0)","v":1},{"$f":"IF(AH56937>AI56937,1,\"\")","v":1},{"$f":"IF(AH56937=AI56937,1,\"\")","v":""},{"$f":"IF(AH56937<AI56937,1,\"\")","v":""},{"$f":"AH56937&\"-\"&AI56937","v":"2-1"}]
[null,null,null,null,null,null,null,null,null,null,null,null,null,null,null,null,null,null,null,null,null,null,null,null,null,null,null,null,null,"№28537",2.1618522551419583,0.96588486623476943,1.563868560688364,{"$f":"ROUND(AG57075,0)","v":2},{"$f":"ROUND(AG57076,0)","v":3},{"$f":"IF(AH57075>AI57075,1,\"\")","v":""},{"$f":"IF(AH57075=AI57075,1,\"\")","v":""},{"$f":"IF(AH57075<AI57075,1,\"\")","v":1},{"$f":"AH57075&\"-\"&AI57075","v":"2-3"}]
[null,null,null,null,null,null,null,null,null,null,null,null,null,null,null,null,null,null,null,null,null,null,null,null,null,null,null,null,null,"№28590",2.5210422058489699,2.5975378449133002E-2,1.2735087921490513,{"$f":"ROUND(AG57181,0)","v":1},{"$f":"ROUND(AG57182,0)","v":3},{"$f":"IF(AH57181>AI57181,1,\"\")","v":""},{"$f":"IF(AH57181=AI57181,1,\"\")","v":""},{"$f":"IF(AH57181<AI57181,1,\"\")","v":1},{"$f":"AH57181&\"-\"&AI57181","v":"1-3"}]
[null,null,null,null,null,null,null,null,null,null,null,null,null,null,null,null,null,null,null,null,null,null,null,null,null,null,null,null,null,"№28627",1.9469245385932321,0.28181673188320833,1.1143706352382203,{"$f":"ROUND(AG57255,0)","v":1},{"$f":"ROUND(AG57256,0)","v":3},{"$f":"IF(AH57255>AI57255,1,\"\")","v":""},{"$f":"IF(AH57255=AI57255,1,\"\")","v":""},{"$f":"IF(AH57255<AI57255,1,\"\")","v":1},{"$f":"AH57255&\"-\"&AI57255","v":"1-3"}]
[null,null,null,null,null,null,null,null,null,null,null,null,null,null,null,null,null,null,null,null,null,null,null,null,null,null,null,null,null,null,1.9511990739463927,1.5312603740571911,1.741229724001792]
[null,null,null,null,null,null,null,null,null,null,null,null,null,null,null,null,null,null,null,null,null,null,null,null,null,null,null,null,null,null,3.9230639756537662,-1.4404277268537324E-2,1.9543298491926144]
[null,null,null,null,null,null,null,null,null,null,null,null,null,null,null,null,null,null,null,null,null,null,null,null,null,null,null,null,null,null,2.1321113278808275,0.92835258181635938,1.5302319548485934]
[null,null,null,null,null,null,null,null,null,null,null,null,null,null,null,null,null,null,null,null,null,null,null,null,null,null,null,null,null,null,2.9858801976703422,0.45810082114941331,1.7219905094098777]
[null,null,null,null,null,null,null,null,null,null,null,null,null,null,null,null,null,null,null,null,null,null,null,null,null,null,null,null,null,null,2.5749581029614541,1.8179252756526618,2.1964416893070577]
[null,null,null,null,null,null,null,null,null,null,null,null,null,null,null,null,null,null,null,null,null,null,null,null,null,null,null,null,null,"№28896",2.8016334186147134,1.6197968743405886,2.2107151464776509,{"$f":"ROUND(AG57793,0)","v":2},{"$f":"ROUND(AG57794,0)","v":2},{"$f":"IF(AH57793>AI57793,1,\"\")","v":""},{"$f":"IF(AH57793=AI57793,1,\"\")","v":1},{"$f":"IF(AH57793<AI57793,1,\"\")","v":""},{"$f":"AH57793&\"-\"&AI57793","v":"2-2"}]
[null,null,null,null,null,null,null,null,null,null,null,null,null,null,null,null,null,null,null,null,null,null,null,null,null,null,null,null,null,"№28983",3.8367367365140099,1.5815401152777409,2.7091384258958753,{"$f":"ROUND(AG57967,0)","v":3},{"$f":"ROUND(AG57968,0)","v":3},{"$f":"IF(AH57967>AI57967,1,\"\")","v":""},{"$f":"IF(AH57967=AI57967,1,\"\")","v":1},{"$f":"IF(AH57967<AI57967,1,\"\")","v":""},{"$f":"AH57967&\"-\"&AI57967","v":"3-3"}]
[null,null,null,null,null,null,null,null,null,null,null,null,null,null,null,null,null,null,null,null,null,null,null,null,null,null,null,null,null,null,2.7088826495176779,0.13567785930335763,1.4222802544105178]
[null,null,null,null,null,null,null,null,null,null,null,null,null,null,null,null,null,null,null,null,null,null,null,null,null,null,null,null,null,"№29055",4.275731098507717,0.60257384228894084,2.4391524703983292,{"$f":"ROUND(AG58111,0)","v":2},{"$f":"ROUND(AG58112,0)","v":1},{"$f":"IF(AH58111>AI58111,1,\"\")","v":1},{"$f":"IF(AH58111=AI58111,1,\"\")","v":""},{"$f":"IF(AH58111<AI58111,1,\"\")","v":""},{"$f":"AH58111&\"-\"&AI58111","v":"2-1"}]
[null,null,null,null,null,null,null,null,null,null,null,null,null,null,null,null,null,null,null,null,null,null,null,null,null,null,null,null,null,"№29126",4.3854863019753489,2.4640947849530637,3.4247905434642063,{"$f":"ROUND(AG58253,0)","v":3},{"$f":"ROUND(AG58254,0)","v":1},{"$f":"IF(AH58253>AI58253,1,\"\")","v":1},{"$f":"IF(AH58253=AI58253,1,\"\")","v":""},{"$f":"IF(AH58253<AI58253,1,\"\")","v":""},{"$f":"AH58253&\"-\"&AI58253","v":"3-1"}]
[null,null,null,null,null,null,null,null,null,null,null,null,null,null,null,null,null,null,null,null,null,null,null,null,null,null,null,null,null,null,2.0569339708040113,1.6897808842117359,1.8733574275078735]
[null,null,null,null,null,null,null,null,null,null,null,null,null,null,null,null,null,null,null,null,null,null,null,null,null,null,null,null,null,"№29214",2.4847678880060196,-0.34627943879140499,1.0692442246073073,{"$f":"ROUND(AG58429,0)","v":1},{"$f":"ROUND(AG58430,0)","v":1},{"$f":"IF(AH58429>AI58429,1,\"\")","v":""},{"$f":"IF(AH58429=AI58429,1,\"\")","v":1},{"$f":"IF(AH58429<AI58429,1,\"\")","v":""},{"$f":"AH58429&\"-\"&AI58429","v":"1-1"}]
[null,null,null,null,null,null,null,null,null,null,null,null,null,null,null,null,null,null,null,null,null,null,null,null,null,null,null,null,null,"№29285",3.3191399213461605,1.9169808921313267,2.6180604067387439,{"$f":"ROUND(AG58571,0)","v":3},{"$f":"ROUND(AG58572,0)","v":2},{"$f":"IF(AH58571>AI58571,1,\"\")","v":1},{"$f":"IF(AH58571=AI58571,1,\"\")","v":""},{"$f":"IF(AH58571<AI58571,1,\"\")","v":""},{"$f":"AH58571&\"-\"&AI58571","v":"3-2"}]
[null,null,null,null,null,null,null,null,null,null,null,null,null,null,null,null,null,null,null,null,null,null,null,null,null,null,null,null,null,null,1.8926984153709279,-7.3969973841246039E-2,0.90936422076484091]
[null,null,null,null,null,null,null,null,null,null,null,null,null,null,null,null,null,null,null,null,null,null,null,null,null,null,null,null,null,"№29381",4.5716276180022231,-0.78560671780403624,1.8930104500990934,{"$f":"ROUND(AG58763,0)","v":2},{"$f":"ROUND(AG58764,0)","v":1},{"$f":"IF(AH58763>AI58763,1,\"\")","v":1},{"$f":"IF(AH58763=AI58763,1,\"\")","v":""},{"$f":"IF(AH58763<AI58763,1,\"\")","v":""},{"$f":"AH58763&\"-\"&AI58763","v":"2-1"}]
[null,null,null,null,null,null,null,null,null,null,null,null,null,null,null,null,null,null,null,null,null,null,null,null,null,null,null,null,null,null,1.6124175575292536,2.1698759925010727,1.8911467750151632]
[null,null,null,null,null,null,null,null,null,null,null,null,null,null,null,null,null,null,null,null,null,null,null,null,null,null,null,null,null,null,2.6809470248825233,0.70856930352615111,1.6947581642043372]
[null,null,null,null,null,null,null,null,null,null,null,null,null,null,null,null,null,null,null,null,null,null,null,null,null,null,null,null,null,"№29485",3.0771097584056508,-0.39240091695528845,1.3423544207251812,{"$f":"ROUND(AG58971,0)","v":1},{"$f":"ROUND(AG58972,0)","v":3},{"$f":"IF(AH58971>AI58971,1,\"\")","v":""},{"$f":"IF(AH58971=AI58971,1,\"\")","v":""},{"$f":"IF(AH58971<AI58971,1,\"\")","v":1},{"$f":"AH58971&\"-\"&AI58971","v":"1-3"}]
[null,null,null,null,null,null,null,null,null,null,null,null,null,null,null,null,null,null,null,null,null,null,null,null,null,null,null,null,null,null,2.8971683959190337,1.7172154143285916,2.3071919051238128]
[null,null,null,null,null,null,null,null,null,null,null,null,null,null,null,null,null,null,null,null,null,null,null,null,null,null,null,null,null,null,2.613520657867185,2.6615808811228412,2.6375507694950131]
[null,null,null,null,null,null,null,null,null,null,null,null,null,null,null,null,null,null,null,null,null,null,null,null,null,null,null,null,null,"№29644",3.166104585951282,0.36001491223768523,1.7630597490944835,{"$f":"ROUND(AG59289,0)","v":2},{"$f":"ROUND(AG59290,0)","v":3},{"$f":"IF(AH59289>AI59289,1,\"\")","v":""},{"$f":"IF(AH59289=AI59289,1,\"\")","v":""},{"$f":"IF(AH59289<AI59289,1,\"\")","v":1},{"$f":"AH59289&\"-\"&AI59289","v":"2-3"}]
[null,null,null,null,null,null,null,null,null,null,null,null,null,null,null,null,null,null,null,null,null,null,null,null,null,null,null,null,null,"№29713",2.3278969246235106,0.92808726893528959,1.6279920967794002,{"$f":"ROUND(AG59427,0)","v":2},{"$f":"ROUND(AG59428,0)","v":2},{"$f":"IF(AH59427>AI59427,1,\"\")","v":""},{"$f":"IF(AH59427=AI59427,1,\"\")","v":1},{"$f":"IF(AH59427<AI59427,1,\"\")","v":""},{"$f":"AH59427&\"-\"&AI59427","v":"2-2"}]
[null,null,null,null,null,null,null,null,null,null,null,null,null,null,null,null,null,null,null,null,null,null,null,null,null,null,null,null,null,"№29779",2.4974654589405647,-0.26817723356222278,1.1146441126891711,{"$f":"ROUND(AG59559,0)","v":1},{"$f":"ROUND(AG59560,0)","v":2},{"$f":"IF(AH59559>AI59559,1,\"\")","v":""},{"$f":"IF(AH59559=AI59559,1,\"\")","v":""},{"$f":"IF(AH59559<AI59559,1,\"\")","v":1},{"$f":"AH59559&\"-\"&AI59559","v":"1-2"}]
[null,null,null,null,null,null,null,null,null,null,null,null,null,null,null,null,null,null,null,null,null,null,null,null,null,null,null,null,null,"№29803",2.921123147642978,0.55556928300453623,1.738346215323757,{"$f":"ROUND(AG59607,0)","v":2},{"$f":"ROUND(AG59608,0)","v":2},{"$f":"IF(AH59607>AI59607,1,\"\")","v":""},{"$f":"IF(AH59607=AI59607,1,\"\")","v":1},{"$f":"IF(AH59607<AI59607,1,\"\")","v":""},{"$f":"AH59607&\"-\"&AI59607","v":"2-2"}]
[null,null,null,null,null,null,null,null,null,null,null,null,null,null,null,null,null,null,null,null,null,null,null,null,null,null,null,null,null,"№29872",3.7929052119820037,-0.60805996917837435,1.5924226214018147,{"$f":"ROUND(AG59745,0)","v":2},{"$f":"ROUND(AG59746,0)","v":1},{"$f":"IF(AH59745>AI59745,1,\"\")","v":1},{"$f":"IF(AH59745=AI59745,1,\"\")","v":""},{"$f":"IF(AH59745<AI59745,1,\"\")","v":""},{"$f":"AH59745&\"-\"&AI59745","v":"2-1"}]
[null,null,null,null,null,null,null,null,null,null,null,null,null,null,null,null,null,null,null,null,null,null,null,null,null,null,null,null,null,null,1.441586317825672,2.400481724124278,1.921034020974975]
[null,null,null,null,null,null,null,null,null,null,null,null,null,null,null,null,null,null,null,null,null,null,null,null,null,null,null,null,null,null,2.555166563418279,-0.73865113622853462,0.90825771359487217]
[null,null,null,null,null,null,null,null,null,null,null,null,null,null,null,null,null,null,null,null,null,null,null,null,null,null,null,null,null,null,1.1750247528702873,1.849929683367779,1.5124772181190331]
[null,null,null,null,null,null,null,null,null,null,null,null,null,null,null,null,null,null,null,null,null,null,null,null,null,null,null,null,null,null,1.4245694370817517,4.6507794914432772,3.0376744642625146]
[null,null,null,null,null,null,null,null,null,null,null,null,null,null,null,null,null,null,null,null,null,null,null,null,null,null,null,null,null,null,1.7365764741348255,-1.1036814582504144,0.31644750794220555]
[null,null,null,null,null,null,null,null,null,null,null,null,null,null,null,null,null,null,null,null,null,null,null,null,null,null,null,null,null,"№30128",6.2978386968404294,0.52198881543217279,3.4099137561363011,{"$f":"ROUND(AG60257,0)","v":3},{"$f":"ROUND(AG60258,0)","v":1},{"$f":"IF(AH60257>AI60257,1,\"\")","v":1},{"$f":"IF(AH60257=AI60257,1,\"\")","v":""},{"$f":"IF(AH60257<AI60257,1,\"\")","v":""},{"$f":"AH60257&\"-\"&AI60257","v":"3-1"}]
[null,null,null,null,null,null,null,null,null,null,null,null,null,null,null,null,null,null,null,null,null,null,null,null,null,null,null,null,null,null,1.3814330686475531,1.7956243528104949,1.588528710729024]
[null,null,null,null,null,null,null,null,null,null,null,null,null,null,null,null,null,null,null,null,null,null,null,null,null,null,null,null,null,"№30231",5.5387958690392702,1.0717778232635162,3.3052868461513931,{"$f":"ROUND(AG60463,0)","v":3},{"$f":"ROUND(AG60464,0)","v":3},{"$f":"IF(AH60463>AI60463,1,\"\")","v":""},{"$f":"IF(AH60463=AI60463,1,\"\")","v":1},{"$f":"IF(AH60463<AI60463,1,\"\")","v":""},{"$f":"AH60463&\"-\"&AI60463","v":"3-3"}]
[null,null,null,null,null,null,null,null,null,null,null,null,null,null,null,null,null,null,null,null,null,null,null,null,null,null,null,null,null,"№30302",2.9462909273319937,8.02597281859041E-2,1.513275327758949,{"$f":"ROUND(AG60605,0)","v":2},{"$f":"ROUND(AG60606,0)","v":3},{"$f":"IF(AH60605>AI60605,1,\"\")","v":""},{"$f":"IF(AH60605=AI60605,1,\"\")","v":""},{"$f":"IF(AH60605<AI60605,1,\"\")","v":1},{"$f":"AH60605&\"-\"&AI60605","v":"2-3"}]
[null,null,null,null,null,null,null,null,null,null,null,null,null,null,null,null,null,null,null,null,null,null,null,null,null,null,null,null,null,null,0.94624892653602188,2.9203977951327404,1.9333233608343812]
[null,null,null,null,null,null,null,null,null,null,null,null,null,null,null,null,null,null,null,null,null,null,null,null,null,null,null,null,null,"№30392",3.3826960908591852,1.5555813988536797,2.4691387448564326,{"$f":"ROUND(AG60785,0)","v":2},{"$f":"ROUND(AG60786,0)","v":3},{"$f":"IF(AH60785>AI60785,1,\"\")","v":""},{"$f":"IF(AH60785=AI60785,1,\"\")","v":""},{"$f":"IF(AH60785<AI60785,1,\"\")","v":1},{"$f":"AH60785&\"-\"&AI60785","v":"2-3"}]
[null,null,null,null,null,null,null,null,null,null,null,null,null,null,null,null,null,null,null,null,null,null,null,null,null,null,null,null,null,"№30461",0.30585500065565263,1.6288674906303107,0.96736124564298165,{"$f":"ROUND(AG60923,0)","v":1},{"$f":"ROUND(AG60924,0)","v":2},{"$f":"IF(AH60923>AI60923,1,\"\")","v":""},{"$f":"IF(AH60923=AI60923,1,\"\")","v":""},{"$f":"IF(AH60923<AI60923,1,\"\")","v":1},{"$f":"AH60923&\"-\"&AI60923","v":"1-2"}]
[null,null,null,null,null,null,null,null,null,null,null,null,null,null,null,null,null,null,null,null,null,null,null,null,null,null,null,null,null,null,2.1144407254490338,-2.2888439863983279,-8.7201630474647018E-2]
[null,null,null,null,null,null,null,null,null,null,null,null,null,null,null,null,null,null,null,null,null,null,null,null,null,null,null,null,null,"№30526",3.1969631347455536,1.2027305459709638,2.1998468403582585,{"$f":"ROUND(AG61053,0)","v":2},{"$f":"ROUND(AG61054,0)","v":2},{"$f":"IF(AH61053>AI61053,1,\"\")","v":""},{"$f":"IF(AH61053=AI61053,1,\"\")","v":1},{"$f":"IF(AH61053<AI61053,1,\"\")","v":""},{"$f":"AH61053&\"-\"&AI61053","v":"2-2"}]
[null,null,null,null,null,null,null,null,null,null,null,null,null,null,null,null,null,null,null,null,null,null,null,null,null,null,null,null,null,null,2.4697392758496983,0.99823041507603338,1.7339848454628659]
[null,null,null,null,null,null,null,null,null,null,null,null,null,null,null,null,null,null,null,null,null,null,null,null,null,null,null,null,null,null,1.1917231209877719,2.9058505461339008,2.0487868335608361]
[null,null,null,null,null,null,null,null,null,null,null,null,null,null,null,null,null,null,null,null,null,null,null,null,null,null,null,null,null,null,3.4369354364348981,2.9996814389073991,3.2183084376711486]
[null,null,null,null,null,null,null,null,null,null,null,null,null,null,null,null,null,null,null,null,null,null,null,null,null,null,null,null,null,null,2.7303997335222436,2.2328230616512523,2.481611397586748]
[null,null,null,null,null,null,null,null,null,null,null,null,null,null,null,null,null,null,null,null,null,null,null,null,null,null,null,null,null,null,2.1324324521085831,2.8046164251004333,2.4685244386045082]
[null,null,null,null,null,null,null,null,null,null,null,null,null,null,null,null,null,null,null,null,null,null,null,null,null,null,null,null,null,"№30820",4.4534336230973395,0.25985594583583249,2.3566447844665861,{"$f":"ROUND(AG61641,0)","v":2},{"$f":"ROUND(AG61642,0)","v":2},{"$f":"IF(AH61641>AI61641,1,\"\")","v":""},{"$f":"IF(AH61641=AI61641,1,\"\")","v":1},{"$f":"IF(AH61641<AI61641,1,\"\")","v":""},{"$f":"AH61641&\"-\"&AI61641","v":"2-2"}]
[null,null,null,null,null,null,null,null,null,null,null,null,null,null,null,null,null,null,null,null,null,null,null,null,null,null,null,null,null,"№30889",4.2583442066038515,1.8337497557653799,3.0460469811846158,{"$f":"ROUND(AG61779,0)","v":3},{"$f":"ROUND(AG61780,0)","v":2},{"$f":"IF(AH61779>AI61779,1,\"\")","v":1},{"$f":"IF(AH61779=AI61779,1,\"\")","v":""},{"$f":"IF(AH61779<AI61779,1,\"\")","v":""},{"$f":"AH61779&\"-\"&AI61779","v":"3-2"}]
[null,null,null,null,null,null,null,null,null,null,null,null,null,null,null,null,null,null,null,null,null,null,null,null,null,null,null,null,null,"№30924",2.9063316584518484,0.77497207450126215,1.8406518664765552,{"$f":"ROUND(AG61849,0)","v":2},{"$f":"ROUND(AG61850,0)","v":4},{"$f":"IF(AH61849>AI61849,1,\"\")","v":""},{"$f":"IF(AH61849=AI61849,1,\"\")","v":""},{"$f":"IF(AH61849<AI61849,1,\"\")","v":1},{"$f":"AH61849&\"-\"&AI61849","v":"2-4"}]
[null,null,null,null,null,null,null,null,null,null,null,null,null,null,null,null,null,null,null,null,null,null,null,null,null,null,null,null,null,"№30979",2.5405499493052415,0.83180950565110423,1.6861797274781729,{"$f":"ROUND(AG61959,0)","v":2},{"$f":"ROUND(AG61960,0)","v":3},{"$f":"IF(AH61959>AI61959,1,\"\")","v":""},{"$f":"IF(AH61959=AI61959,1,\"\")","v":""},{"$f":"IF(AH61959<AI61959,1,\"\")","v":1},{"$f":"AH61959&\"-\"&AI61959","v":"2-3"}]
[null,null,null,null,null,null,null,null,null,null,null,null,null,null,null,null,null,null,null,null,null,null,null,null,null,null,null,null,null,"№31050",2.8055050215783153,1.8738750644045918,2.3396900429914536,{"$f":"ROUND(AG62101,0)","v":2},{"$f":"ROUND(AG62102,0)","v":2},{"$f":"IF(AH62101>AI62101,1,\"\")","v":""},{"$f":"IF(AH62101=AI62101,1,\"\")","v":1},{"$f":"IF(AH62101<AI62101,1,\"\")","v":""},{"$f":"AH62101&\"-\"&AI62101","v":"2-2"}]
[null,null,null,null,null,null,null,null,null,null,null,null,null,null,null,null,null,null,null,null,null,null,null,null,null,null,null,null,null,null,3.3538958491283211,2.4167727429874208,2.885334296057871]
[null,null,null,null,null,null,null,null,null,null,null,null,null,null,null,null,null,null,null,null,null,null,null,null,null,null,null,null,null,null,1.3415757468314493,3.784196725877631,2.5628862363545402]
[null,null,null,null,null,null,null,null,null,null,null,null,null,null,null,null,null,null,null,null,null,null,null,null,null,null,null,null,null,"№31209",3.6600442334970729,-0.63842485198493137,1.5108096907560706,{"$f":"ROUND(AG62419,0)","v":2},{"$f":"ROUND(AG62420,0)","v":2},{"$f":"IF(AH62419>AI62419,1,\"\")","v":""},{"$f":"IF(AH62419=AI62419,1,\"\")","v":1},{"$f":"IF(AH62419<AI62419,1,\"\")","v":""},{"$f":"AH62419&\"-\"&AI62419","v":"2-2"}]
[null,null,null,null,null,null,null,null,null,null,null,null,null,null,null,null,null,null,null,null,null,null,null,null,null,null,null,null,null,null,2.6739100091263217,1.9744141607546009,2.3241620849404612]
[null,null,null,null,null,null,null,null,null,null,null,null,null,null,null,null,null,null,null,null,null,null,null,null,null,null,null,null,null,null,{"$f":"_xlfn.NORM.INV(RAND(),$Z$4,$N$20)","v":1.6424512982199473},{"$f":"_xlfn.NORM.INV(RAND(),$AA$4,$J$20)","v":1.506461286637838},1.5744562924288927]
[null,null,null,null,null,null,null,null,null,null,null,null,null,null,null,null,null,null,null,null,null,null,null,null,null,null,null,null,null,"№31319",5.5589762580910076,0.91381840533319281,3.2363973317121002,{"$f":"ROUND(AG62639,0)","v":3},{"$f":"ROUND(AG62640,0)","v":1},{"$f":"IF(AH62639>AI62639,1,\"\")","v":1},{"$f":"IF(AH62639=AI62639,1,\"\")","v":""},{"$f":"IF(AH62639<AI62639,1,\"\")","v":""},{"$f":"AH62639&\"-\"&AI62639","v":"3-1"}]
[null,null,null,null,null,null,null,null,null,null,null,null,null,null,null,null,null,null,null,null,null,null,null,null,null,null,null,null,null,"№31386",6.8202312063840003,0.81644625387546954,3.8183387301297351,{"$f":"ROUND(AG62773,0)","v":4},{"$f":"ROUND(AG62774,0)","v":1},{"$f":"IF(AH62773>AI62773,1,\"\")","v":1},{"$f":"IF(AH62773=AI62773,1,\"\")","v":""},{"$f":"IF(AH62773<AI62773,1,\"\")","v":""},{"$f":"AH62773&\"-\"&AI62773","v":"4-1"}]
[null,null,null,null,null,null,null,null,null,null,null,null,null,null,null,null,null,null,null,null,null,null,null,null,null,null,null,null,null,"№31409",3.4221929591212379,0.3038409622021776,1.8630169606617077,{"$f":"ROUND(AG62819,0)","v":2},{"$f":"ROUND(AG62820,0)","v":1},{"$f":"IF(AH62819>AI62819,1,\"\")","v":1},{"$f":"IF(AH62819=AI62819,1,\"\")","v":""},{"$f":"IF(AH62819<AI62819,1,\"\")","v":""},{"$f":"AH62819&\"-\"&AI62819","v":"2-1"}]
[null,null,null,null,null,null,null,null,null,null,null,null,null,null,null,null,null,null,null,null,null,null,null,null,null,null,null,null,null,"№31478",2.120723469370617,0.45922762447776194,1.2899755469241894,{"$f":"ROUND(AG62957,0)","v":1},{"$f":"ROUND(AG62958,0)","v":1},{"$f":"IF(AH62957>AI62957,1,\"\")","v":""},{"$f":"IF(AH62957=AI62957,1,\"\")","v":1},{"$f":"IF(AH62957<AI62957,1,\"\")","v":""},{"$f":"AH62957&\"-\"&AI62957","v":"1-1"}]
[null,null,null,null,null,null,null,null,null,null,null,null,null,null,null,null,null,null,null,null,null,null,null,null,null,null,null,null,null,"№31547",3.6352585796177985,1.2577343054935763,2.4464964425556874,{"$f":"ROUND(AG63095,0)","v":2},{"$f":"ROUND(AG63096,0)","v":2},{"$f":"IF(AH63095>AI63095,1,\"\")","v":""},{"$f":"IF(AH63095=AI63095,1,\"\")","v":1},{"$f":"IF(AH63095<AI63095,1,\"\")","v":""},{"$f":"AH63095&\"-\"&AI63095","v":"2-2"}]
[null,null,null,null,null,null,null,null,null,null,null,null,null,null,null,null,null,null,null,null,null,null,null,null,null,null,null,null,null,null,3.1730854200348295,2.5334670985158372,2.8532762592753333]
[null,null,null,null,null,null,null,null,null,null,null,null,null,null,null,null,null,null,null,null,null,null,null,null,null,null,null,null,null,"№31637",2.6429135472973173,-0.48003162072468042,1.0814409632863184,{"$f":"ROUND(AG63275,0)","v":1},{"$f":"ROUND(AG63276,0)","v":2},{"$f":"IF(AH63275>AI63275,1,\"\")","v":""},{"$f":"IF(AH63275=AI63275,1,\"\")","v":""},{"$f":"IF(AH63275<AI63275,1,\"\")","v":1},{"$f":"AH63275&\"-\"&AI63275","v":"1-2"}]
[null,null,null,null,null,null,null,null,null,null,null,null,null,null,null,null,null,null,null,null,null,null,null,null,null,null,null,null,null,null,1.4486756597266681,3.2816480735803464,2.3651618666535072]
[null,null,null,null,null,null,null,null,null,null,null,null,null,null,null,null,null,null,null,null,null,null,null,null,null,null,null,null,null,null,1.6585845463053088,0.81385598142656557,1.2362202638659372]
[null,null,null,null,null,null,null,null,null,null,null,null,null,null,null,null,null,null,null,null,null,null,null,null,null,null,null,null,null,"№31784",1.6557751896045507,2.3545984438067746,2.0051868167056628,{"$f":"ROUND(AG63569,0)","v":2},{"$f":"ROUND(AG63570,0)","v":0},{"$f":"IF(AH63569>AI63569,1,\"\")","v":1},{"$f":"IF(AH63569=AI63569,1,\"\")","v":""},{"$f":"IF(AH63569<AI63569,1,\"\")","v":""},{"$f":"AH63569&\"-\"&AI63569","v":"2-0"}]
[null,null,null,null,null,null,null,null,null,null,null,null,null,null,null,null,null,null,null,null,null,null,null,null,null,null,null,null,null,null,1.6875138431736394,1.7310018167680437,1.7092578299708414]
[null,null,null,null,null,null,null,null,null,null,null,null,null,null,null,null,null,null,null,null,null,null,null,null,null,null,null,null,null,null,1.727744933314024,-0.98726204838610254,0.37024144246396073]
[null,null,null,null,null,null,null,null,null,null,null,null,null,null,null,null,null,null,null,null,null,null,null,null,null,null,null,null,null,"№31906",3.7998099213409731,0.68318769490134446,{"$f":"(AE63813+AF63813)/2","v":2.2414988081211589},{"$f":"ROUND(AG63813,0)","v":2},{"$f":"ROUND(AG63814,0)","v":3},{"$f":"IF(AH63813>AI63813,1,\"\")","v":""},{"$f":"IF(AH63813=AI63813,1,\"\")","v":""},{"$f":"IF(AH63813<AI63813,1,\"\")","v":1},{"$f":"AH63813&\"-\"&AI63813","v":"2-3"}]
[null,null,null,null,null,null,null,null,null,null,null,null,null,null,null,null,null,null,null,null,null,null,null,null,null,null,null,null,null,null,2.3765145266627421,1.7013723609474383,2.0389434438050902]
[null,null,null,null,null,null,null,null,null,null,null,null,null,null,null,null,null,null,null,null,null,null,null,null,null,null,null,null,null,null,2.2876724213386632,0.96141980427035745,1.6245461128045102]
[null,null,null,null,null,null,null,null,null,null,null,null,null,null,null,null,null,null,null,null,null,null,null,null,null,null,null,null,null,"№32067",3.069354204440121,0.62846390563793431,1.8489090550390277,{"$f":"ROUND(AG64135,0)","v":2},{"$f":"ROUND(AG64136,0)","v":3},{"$f":"IF(AH64135>AI64135,1,\"\")","v":""},{"$f":"IF(AH64135=AI64135,1,\"\")","v":""},{"$f":"IF(AH64135<AI64135,1,\"\")","v":1},{"$f":"AH64135&\"-\"&AI64135","v":"2-3"}]
[null,null,null,null,null,null,null,null,null,null,null,null,null,null,null,null,null,null,null,null,null,null,null,null,null,null,null,null,null,"№32136",4.1685657225084567,-0.30168587656811563,1.9334399229701704,{"$f":"ROUND(AG64273,0)","v":2},{"$f":"ROUND(AG64274,0)","v":1},{"$f":"IF(AH64273>AI64273,1,\"\")","v":1},{"$f":"IF(AH64273=AI64273,1,\"\")","v":""},{"$f":"IF(AH64273<AI64273,1,\"\")","v":""},{"$f":"AH64273&\"-\"&AI64273","v":"2-1"}]
[null,null,null,null,null,null,null,null,null,null,null,null,null,null,null,null,null,null,null,null,null,null,null,null,null,null,null,null,null,"№32182",4.0152634944431771,-0.24721503651721299,1.8840242289629821,{"$f":"ROUND(AG64365,0)","v":2},{"$f":"ROUND(AG64366,0)","v":2},{"$f":"IF(AH64365>AI64365,1,\"\")","v":""},{"$f":"IF(AH64365=AI64365,1,\"\")","v":1},{"$f":"IF(AH64365<AI64365,1,\"\")","v":""},{"$f":"AH64365&\"-\"&AI64365","v":"2-2"}]
[null,null,null,null,null,null,null,null,null,null,null,null,null,null,null,null,null,null,null,null,null,null,null,null,null,null,null,null,null,"№32226",5.2488731035656366,1.4509747191237019,{"$f":"(AE64453+AF64453)/2","v":3.3499239113446695},{"$f":"ROUND(AG64453,0)","v":3},{"$f":"ROUND(AG64454,0)","v":1},{"$f":"IF(AH64453>AI64453,1,\"\")","v":1},{"$f":"IF(AH64453=AI64453,1,\"\")","v":""},{"$f":"IF(AH64453<AI64453,1,\"\")","v":""},{"$f":"AH64453&\"-\"&AI64453","v":"3-1"}]
[null,null,null,null,null,null,null,null,null,null,null,null,null,null,null,null,null,null,null,null,null,null,null,null,null,null,null,null,null,"№32295",3.2788762924372685,0.48407098146932831,1.8814736369532985,{"$f":"ROUND(AG64591,0)","v":2},{"$f":"ROUND(AG64592,0)","v":2},{"$f":"IF(AH64591>AI64591,1,\"\")","v":""},{"$f":"IF(AH64591=AI64591,1,\"\")","v":1},{"$f":"IF(AH64591<AI64591,1,\"\")","v":""},{"$f":"AH64591&\"-\"&AI64591","v":"2-2"}]
[null,null,null,null,null,null,null,null,null,null,null,null,null,null,null,null,null,null,null,null,null,null,null,null,null,null,null,null,null,null,2.1212056471149952,1.5892989593459774,1.8552523032304862]
[null,null,null,null,null,null,null,null,null,null,null,null,null,null,null,null,null,null,null,null,null,null,null,null,null,null,null,null,null,null,2.2748189395845984,1.2867597136862257,1.780789326635412]
[null,null,null,null,null,null,null,null,null,null,null,null,null,null,null,null,null,null,null,null,null,null,null,null,null,null,null,null,null,null,2.5608853520125092,4.3978899241621523,3.4793876380873305]
[null,null,null,null,null,null,null,null,null,null,null,null,null,null,null,null,null,null,null,null,null,null,null,null,null,null,null,null,null,null,1.6610879724363903,2.0785880443515898,1.8698380083939901]
[null,null,null,null,null,null,null,null,null,null,null,null,null,null,null,null,null,null,null,null,null,null,null,null,null,null,null,null,null,null,1.3643601907640543,0.37415615569251126,0.8692581732282828]
[null,null,null,null,null,null,null,null,null,null,null,null,null,null,null,null,null,null,null,null,null,null,null,null,null,null,null,null,null,"№32580",3.3762883323192781,2.8655328615031896,3.1209105969112336,{"$f":"ROUND(AG65161,0)","v":3},{"$f":"ROUND(AG65162,0)","v":1},{"$f":"IF(AH65161>AI65161,1,\"\")","v":1},{"$f":"IF(AH65161=AI65161,1,\"\")","v":""},{"$f":"IF(AH65161<AI65161,1,\"\")","v":""},{"$f":"AH65161&\"-\"&AI65161","v":"3-1"}]
[null,null,null,null,null,null,null,null,null,null,null,null,null,null,null,null,null,null,null,null,null,null,null,null,null,null,null,null,null,null,2.0149797336337096,1.3386884164064046,1.6768340750200572]
[null,null,null,null,null,null,null,null,null,null,null,null,null,null,null,null,null,null,null,null,null,null,null,null,null,null,null,null,null,"№32654",6.9656172512905457,0.38577422963253255,3.6756957404615389,{"$f":"ROUND(AG65309,0)","v":4},{"$f":"ROUND(AG65310,0)","v":3},{"$f":"IF(AH65309>AI65309,1,\"\")","v":1},{"$f":"IF(AH65309=AI65309,1,\"\")","v":""},{"$f":"IF(AH65309<AI65309,1,\"\")","v":""},{"$f":"AH65309&\"-\"&AI65309","v":"4-3"}]
[null,null,null,null,null,null,null,null,null,null,null,null,null,null,null,null,null,null,null,null,null,null,null,null,null,null,null,null,null,"№32725",5.1263772879332175,1.6705601314835037,3.3984687097083608,{"$f":"ROUND(AG65451,0)","v":3},{"$f":"ROUND(AG65452,0)","v":3},{"$f":"IF(AH65451>AI65451,1,\"\")","v":""},{"$f":"IF(AH65451=AI65451,1,\"\")","v":1},{"$f":"IF(AH65451<AI65451,1,\"\")","v":""},{"$f":"AH65451&\"-\"&AI65451","v":"3-3"}]
[null,null,null,null,null,null,null,null,null,null,null,null,null,null,null,null,null,null,null,null,null,null,null,null,null,null,null,null,null,null,1.9701725158909433,2.465491229351914,2.2178318726214288]
[null,null,null,null,null,null,null,null,null,null,null,null,null,null,null,null,null,null,null,null,null,null,null,null,null,null,null,null,null,"№32813",2.134834074757058,1.4824755935645473E-2,1.0748294153463518,{"$f":"ROUND(AG65627,0)","v":1},{"$f":"ROUND(AG65628,0)","v":2},{"$f":"IF(AH65627>AI65627,1,\"\")","v":""},{"$f":"IF(AH65627=AI65627,1,\"\")","v":""},{"$f":"IF(AH65627<AI65627,1,\"\")","v":1},{"$f":"AH65627&\"-\"&AI65627","v":"1-2"}]
[null,null,null,null,null,null,null,null,null,null,null,null,null,null,null,null,null,null,null,null,null,null,null,null,null,null,null,null,null,"№32884",4.9070834120689817,2.02486478821847,3.4659741001437259,{"$f":"ROUND(AG65769,0)","v":3},{"$f":"ROUND(AG65770,0)","v":1},{"$f":"IF(AH65769>AI65769,1,\"\")","v":1},{"$f":"IF(AH65769=AI65769,1,\"\")","v":""},{"$f":"IF(AH65769<AI65769,1,\"\")","v":""},{"$f":"AH65769&\"-\"&AI65769","v":"3-1"}]
[null,null,null,null,null,null,null,null,null,null,null,null,null,null,null,null,null,null,null,null,null,null,null,null,null,null,null,null,null,null,2.8358976851014459,1.9664530705704488,2.4011753778359473]
[null,null,null,null,null,null,null,null,null,null,null,null,null,null,null,null,null,null,null,null,null,null,null,null,null,null,null,null,null,"№32978",1.8875621680778381,1.66842877594119,1.7779954720095139,{"$f":"ROUND(AG65957,0)","v":2},{"$f":"ROUND(AG65958,0)","v":2},{"$f":"IF(AH65957>AI65957,1,\"\")","v":""},{"$f":"IF(AH65957=AI65957,1,\"\")","v":1},{"$f":"IF(AH65957<AI65957,1,\"\")","v":""},{"$f":"AH65957&\"-\"&AI65957","v":"2-2"}]
[null,null,null,null,null,null,null,null,null,null,null,null,null,null,null,null,null,null,null,null,null,null,null,null,null,null,null,null,null,null,{"$f":"_xlfn.NORM.INV(RAND(),$Z$4,$N$20)","v":2.5712571046885047},{"$f":"_xlfn.NORM.INV(RAND(),$AA$4,$J$20)","v":1.7453866288500606},2.1583218667692825]
[null,null,null,null,null,null,null,null,null,null,null,null,null,null,null,null,null,null,null,null,null,null,null,null,null,null,null,null,null,null,0.94277868653495278,2.0170125260776608,1.4798956063063069]
[null,null,null,null,null,null,null,null,null,null,null,null,null,null,null,null,null,null,null,null,null,null,null,null,null,null,null,null,null,null,3.4462274596461673,4.191407089186753,3.8188172744164604]
[null,null,null,null,null,null,null,null,null,null,null,null,null,null,null,null,null,null,null,null,null,null,null,null,null,null,null,null,null,null,1.1781339388934182,4.4802204084867308,2.8291771736900744]
[null,null,null,null,null,null,null,null,null,null,null,null,null,null,null,null,null,null,null,null,null,null,null,null,null,null,null,null,null,null,3.6363823938987032,0.15626861528584657,1.8963255045922749]
[null,null,null,null,null,null,null,null,null,null,null,null,null,null,null,null,null,null,null,null,null,null,null,null,null,null,null,null,null,"№33243",3.2363891061647698,0.67422080183428357,1.9553049539995266,{"$f":"ROUND(AG66487,0)","v":2},{"$f":"ROUND(AG66488,0)","v":2},{"$f":"IF(AH66487>AI66487,1,\"\")","v":""},{"$f":"IF(AH66487=AI66487,1,\"\")","v":1},{"$f":"IF(AH66487<AI66487,1,\"\")","v":""},{"$f":"AH66487&\"-\"&AI66487","v":"2-2"}]
[null,null,null,null,null,null,null,null,null,null,null,null,null,null,null,null,null,null,null,null,null,null,null,null,null,null,null,null,null,"№33312",3.6290835069123819,3.5716342386202333,3.6003588727663076,{"$f":"ROUND(AG66625,0)","v":4},{"$f":"ROUND(AG66626,0)","v":2},{"$f":"IF(AH66625>AI66625,1,\"\")","v":1},{"$f":"IF(AH66625=AI66625,1,\"\")","v":""},{"$f":"IF(AH66625<AI66625,1,\"\")","v":""},{"$f":"AH66625&\"-\"&AI66625","v":"4-2"}]
[null,null,null,null,null,null,null,null,null,null,null,null,null,null,null,null,null,null,null,null,null,null,null,null,null,null,null,null,null,"№33371",2.8979470090033272,-0.56384044123024823,1.1670532838865395,{"$f":"ROUND(AG66743,0)","v":1},{"$f":"ROUND(AG66744,0)","v":2},{"$f":"IF(AH66743>AI66743,1,\"\")","v":""},{"$f":"IF(AH66743=AI66743,1,\"\")","v":""},{"$f":"IF(AH66743<AI66743,1,\"\")","v":1},{"$f":"AH66743&\"-\"&AI66743","v":"1-2"}]
[null,null,null,null,null,null,null,null,null,null,null,null,null,null,null,null,null,null,null,null,null,null,null,null,null,null,null,null,null,"№33402",4.0442229041324849,4.753027075965921E-2,2.045876587446072,{"$f":"ROUND(AG66805,0)","v":2},{"$f":"ROUND(AG66806,0)","v":1},{"$f":"IF(AH66805>AI66805,1,\"\")","v":1},{"$f":"IF(AH66805=AI66805,1,\"\")","v":""},{"$f":"IF(AH66805<AI66805,1,\"\")","v":""},{"$f":"AH66805&\"-\"&AI66805","v":"2-1"}]
[null,null,null,null,null,null,null,null,null,null,null,null,null,null,null,null,null,null,null,null,null,null,null,null,null,null,null,null,null,"№33471",3.6768914425002732,1.5304191944348777,2.6036553184675757,{"$f":"ROUND(AG66943,0)","v":3},{"$f":"ROUND(AG66944,0)","v":1},{"$f":"IF(AH66943>AI66943,1,\"\")","v":1},{"$f":"IF(AH66943=AI66943,1,\"\")","v":""},{"$f":"IF(AH66943<AI66943,1,\"\")","v":""},{"$f":"AH66943&\"-\"&AI66943","v":"3-1"}]
[null,null,null,null,null,null,null,null,null,null,null,null,null,null,null,null,null,null,null,null,null,null,null,null,null,null,null,null,null,null,2.3541589347533596,1.2284664905156999,1.7913127126345296]
[null,null,null,null,null,null,null,null,null,null,null,null,null,null,null,null,null,null,null,null,null,null,null,null,null,null,null,null,null,null,2.5343743024156762,4.2638894281694597,3.3991318652925679]
[null,null,null,null,null,null,null,null,null,null,null,null,null,null,null,null,null,null,null,null,null,null,null,null,null,null,null,null,null,"№33630",5.3763317147832463,1.0523372505471336,3.2143344826651901,{"$f":"ROUND(AG67261,0)","v":3},{"$f":"ROUND(AG67262,0)","v":2},{"$f":"IF(AH67261>AI67261,1,\"\")","v":1},{"$f":"IF(AH67261=AI67261,1,\"\")","v":""},{"$f":"IF(AH67261<AI67261,1,\"\")","v":""},{"$f":"AH67261&\"-\"&AI67261","v":"3-2"}]
[null,null,null,null,null,null,null,null,null,null,null,null,null,null,null,null,null,null,null,null,null,null,null,null,null,null,null,null,null,null,2.6094084723766535,2.3372438004294542,2.4733261364030539]
[null,null,null,null,null,null,null,null,null,null,null,null,null,null,null,null,null,null,null,null,null,null,null,null,null,null,null,null,null,null,4.0311519838910783,3.3937879682004155,3.7124699760457469]
[null,null,null,null,null,null,null,null,null,null,null,null,null,null,null,null,null,null,null,null,null,null,null,null,null,null,null,null,null,"№33769",5.0462954782089584,2.5995088769713153,3.8229021775901368,{"$f":"ROUND(AG67539,0)","v":4},{"$f":"ROUND(AG67540,0)","v":2},{"$f":"IF(AH67539>AI67539,1,\"\")","v":1},{"$f":"IF(AH67539=AI67539,1,\"\")","v":""},{"$f":"IF(AH67539<AI67539,1,\"\")","v":""},{"$f":"AH67539&\"-\"&AI67539","v":"4-2"}]
[null,null,null,null,null,null,null,null,null,null,null,null,null,null,null,null,null,null,null,null,null,null,null,null,null,null,null,null,null,null,2.8038414649510024,1.8676300450776337,2.3357357550143183]
[null,null,null,null,null,null,null,null,null,null,null,null,null,null,null,null,null,null,null,null,null,null,null,null,null,null,null,null,null,"№33830",1.2975525224386106,0.81074215649258152,1.054147339465596,{"$f":"ROUND(AG67661,0)","v":1},{"$f":"ROUND(AG67662,0)","v":1},{"$f":"IF(AH67661>AI67661,1,\"\")","v":""},{"$f":"IF(AH67661=AI67661,1,\"\")","v":1},{"$f":"IF(AH67661<AI67661,1,\"\")","v":""},{"$f":"AH67661&\"-\"&AI67661","v":"1-1"}]
[null,null,null,null,null,null,null,null,null,null,null,null,null,null,null,null,null,null,null,null,null,null,null,null,null,null,null,null,null,"№33901",1.7250335827618084,-0.21083828799279725,0.75709764738450558,{"$f":"ROUND(AG67803,0)","v":1},{"$f":"ROUND(AG67804,0)","v":1},{"$f":"IF(AH67803>AI67803,1,\"\")","v":""},{"$f":"IF(AH67803=AI67803,1,\"\")","v":1},{"$f":"IF(AH67803<AI67803,1,\"\")","v":""},{"$f":"AH67803&\"-\"&AI67803","v":"1-1"}]
[null,null,null,null,null,null,null,null,null,null,null,null,null,null,null,null,null,null,null,null,null,null,null,null,null,null,null,null,null,null,0.59510410941142311,0.5274421219601948,0.56127311568580895]
[null,null,null,null,null,null,null,null,null,null,null,null,null,null,null,null,null,null,null,null,null,null,null,null,null,null,null,null,null,"№33989",5.1732003834631861,0.84405381189864481,3.0086270976809155,{"$f":"ROUND(AG67979,0)","v":3},{"$f":"ROUND(AG67980,0)","v":1},{"$f":"IF(AH67979>AI67979,1,\"\")","v":1},{"$f":"IF(AH67979=AI67979,1,\"\")","v":""},{"$f":"IF(AH67979<AI67979,1,\"\")","v":""},{"$f":"AH67979&\"-\"&AI67979","v":"3-1"}]
[null,null,null,null,null,null,null,null,null,null,null,null,null,null,null,null,null,null,null,null,null,null,null,null,null,null,null,null,null,"№34060",3.6102548708223559,1.1287438688747098,2.3694993698485329,{"$f":"ROUND(AG68121,0)","v":2},{"$f":"ROUND(AG68122,0)","v":2},{"$f":"IF(AH68121>AI68121,1,\"\")","v":""},{"$f":"IF(AH68121=AI68121,1,\"\")","v":1},{"$f":"IF(AH68121<AI68121,1,\"\")","v":""},{"$f":"AH68121&\"-\"&AI68121","v":"2-2"}]
[null,null,null,null,null,null,null,null,null,null,null,null,null,null,null,null,null,null,null,null,null,null,null,null,null,null,null,null,null,null,3.498499191008996,-0.48880715682196829,1.5048460170935138]
[null,null,null,null,null,null,null,null,null,null,null,null,null,null,null,null,null,null,null,null,null,null,null,null,null,null,null,null,null,"№34167",1.7401638777585944,5.3998866618086061E-2,0.89708137218834016,{"$f":"ROUND(AG68335,0)","v":1},{"$f":"ROUND(AG68336,0)","v":2},{"$f":"IF(AH68335>AI68335,1,\"\")","v":""},{"$f":"IF(AH68335=AI68335,1,\"\")","v":""},{"$f":"IF(AH68335<AI68335,1,\"\")","v":1},{"$f":"AH68335&\"-\"&AI68335","v":"1-2"}]
[null,null,null,null,null,null,null,null,null,null,null,null,null,null,null,null,null,null,null,null,null,null,null,null,null,null,null,null,null,"№34219",6.016683647869618,1.1160571338626435,3.5663703908661306,{"$f":"ROUND(AG68439,0)","v":4},{"$f":"ROUND(AG68440,0)","v":0},{"$f":"IF(AH68439>AI68439,1,\"\")","v":1},{"$f":"IF(AH68439=AI68439,1,\"\")","v":""},{"$f":"IF(AH68439<AI68439,1,\"\")","v":""},{"$f":"AH68439&\"-\"&AI68439","v":"4-0"}]
[null,null,null,null,null,null,null,null,null,null,null,null,null,null,null,null,null,null,null,null,null,null,null,null,null,null,null,null,null,null,2.7484817224983074,1.5701093150997969,2.1592955187990519]
[null,null,null,null,null,null,null,null,null,null,null,null,null,null,null,null,null,null,null,null,null,null,null,null,null,null,null,null,null,null,3.2458005848029701,0.57155034658618664,1.9086754656945784]
[null,null,null,null,null,null,null,null,null,null,null,null,null,null,null,null,null,null,null,null,null,null,null,null,null,null,null,null,null,null,2.0828880469248854,2.8391520453805179,2.4610200461527016]
[null,null,null,null,null,null,null,null,null,null,null,null,null,null,null,null,null,null,null,null,null,null,null,null,null,null,null,null,null,null,1.9396412890347241,1.8886613250823243,1.9141513070585243]
[null,null,null,null,null,null,null,null,null,null,null,null,null,null,null,null,null,null,null,null,null,null,null,null,null,null,null,null,null,null,1.9104958656612443,1.0810387531402204,1.4957673094007324]
[null,null,null,null,null,null,null,null,null,null,null,null,null,null,null,null,null,null,null,null,null,null,null,null,null,null,null,null,null,"№34488",1.1687463890662277,1.2676696058149566,1.2182079974405922,{"$f":"ROUND(AG68977,0)","v":1},{"$f":"ROUND(AG68978,0)","v":3},{"$f":"IF(AH68977>AI68977,1,\"\")","v":""},{"$f":"IF(AH68977=AI68977,1,\"\")","v":""},{"$f":"IF(AH68977<AI68977,1,\"\")","v":1},{"$f":"AH68977&\"-\"&AI68977","v":"1-3"}]
[null,null,null,null,null,null,null,null,null,null,null,null,null,null,null,null,null,null,null,null,null,null,null,null,null,null,null,null,null,"№34565",4.1352142121985542,0.76930111909577414,2.4522576656471644,{"$f":"ROUND(AG69131,0)","v":2},{"$f":"ROUND(AG69132,0)","v":1},{"$f":"IF(AH69131>AI69131,1,\"\")","v":1},{"$f":"IF(AH69131=AI69131,1,\"\")","v":""},{"$f":"IF(AH69131<AI69131,1,\"\")","v":""},{"$f":"AH69131&\"-\"&AI69131","v":"2-1"}]
[null,null,null,null,null,null,null,null,null,null,null,null,null,null,null,null,null,null,null,null,null,null,null,null,null,null,null,null,null,"№34578",5.0246281587490813,2.0760436321651397,3.5503358954571107,{"$f":"ROUND(AG69157,0)","v":4},{"$f":"ROUND(AG69158,0)","v":1},{"$f":"IF(AH69157>AI69157,1,\"\")","v":1},{"$f":"IF(AH69157=AI69157,1,\"\")","v":""},{"$f":"IF(AH69157<AI69157,1,\"\")","v":""},{"$f":"AH69157&\"-\"&AI69157","v":"4-1"}]
[null,null,null,null,null,null,null,null,null,null,null,null,null,null,null,null,null,null,null,null,null,null,null,null,null,null,null,null,null,"№34647",4.9497202350228635,1.7338397634278109,3.341779999225337,{"$f":"ROUND(AG69295,0)","v":3},{"$f":"ROUND(AG69296,0)","v":3},{"$f":"IF(AH69295>AI69295,1,\"\")","v":""},{"$f":"IF(AH69295=AI69295,1,\"\")","v":1},{"$f":"IF(AH69295<AI69295,1,\"\")","v":""},{"$f":"AH69295&\"-\"&AI69295","v":"3-3"}]
[null,null,null,null,null,null,null,null,null,null,null,null,null,null,null,null,null,null,null,null,null,null,null,null,null,null,null,null,null,null,2.0760677091263839,-0.36683504194616501,0.85461633359010947]
[null,null,null,null,null,null,null,null,null,null,null,null,null,null,null,null,null,null,null,null,null,null,null,null,null,null,null,null,null,null,3.075824666002974,3.5032419363172131,3.2895333011600938]
[null,null,null,null,null,null,null,null,null,null,null,null,null,null,null,null,null,null,null,null,null,null,null,null,null,null,null,null,null,"№34808",4.2163978043196053,2.2427314505224554,3.2295646274210306,{"$f":"ROUND(AG69617,0)","v":3},{"$f":"ROUND(AG69618,0)","v":2},{"$f":"IF(AH69617>AI69617,1,\"\")","v":1},{"$f":"IF(AH69617=AI69617,1,\"\")","v":""},{"$f":"IF(AH69617<AI69617,1,\"\")","v":""},{"$f":"AH69617&\"-\"&AI69617","v":"3-2"}]
[null,null,null,null,null,null,null,null,null,null,null,null,null,null,null,null,null,null,null,null,null,null,null,null,null,null,null,null,null,null,3.0160581246639797,2.6669292157998168,2.8414936702318982]
[null,null,null,null,null,null,null,null,null,null,null,null,null,null,null,null,null,null,null,null,null,null,null,null,null,null,null,null,null,null,0.65928105440056273,1.8282747759833569,1.2437779151919597]
[null,null,null,null,null,null,null,null,null,null,null,null,null,null,null,null,null,null,null,null,null,null,null,null,null,null,null,null,null,"№34963",5.3138157027023878,-0.54911630982629056,2.3823496964380486,{"$f":"ROUND(AG69927,0)","v":2},{"$f":"ROUND(AG69928,0)","v":1},{"$f":"IF(AH69927>AI69927,1,\"\")","v":1},{"$f":"IF(AH69927=AI69927,1,\"\")","v":""},{"$f":"IF(AH69927<AI69927,1,\"\")","v":""},{"$f":"AH69927&\"-\"&AI69927","v":"2-1"}]
[null,null,null,null,null,null,null,null,null,null,null,null,null,null,null,null,null,null,null,null,null,null,null,null,null,null,null,null,null,null,2.205416573995842,0.11523347445550791,1.1603250242256751]
[null,null,null,null,null,null,null,null,null,null,null,null,null,null,null,null,null,null,null,null,null,null,null,null,null,null,null,null,null,null,1.7690195682638916,5.1653370111308758,3.467178289697384]
[null,null,null,null,null,null,null,null,null,null,null,null,null,null,null,null,null,null,null,null,null,null,null,null,null,null,null,null,null,"№35077",2.1358878374991006,1.1549613776768599,1.6454246075879801,{"$f":"ROUND(AG70155,0)","v":2},{"$f":"ROUND(AG70156,0)","v":1},{"$f":"IF(AH70155>AI70155,1,\"\")","v":1},{"$f":"IF(AH70155=AI70155,1,\"\")","v":""},{"$f":"IF(AH70155<AI70155,1,\"\")","v":""},{"$f":"AH70155&\"-\"&AI70155","v":"2-1"}]
[null,null,null,null,null,null,null,null,null,null,null,null,null,null,null,null,null,null,null,null,null,null,null,null,null,null,null,null,null,null,0.52790146351062495,4.1995626221526976,2.3637320428316615]
[null,null,null,null,null,null,null,null,null,null,null,null,null,null,null,null,null,null,null,null,null,null,null,null,null,null,null,null,null,"№35167",3.8206427948394093,0.2811316052802102,2.05088720005981,{"$f":"ROUND(AG70335,0)","v":2},{"$f":"ROUND(AG70336,0)","v":2},{"$f":"IF(AH70335>AI70335,1,\"\")","v":""},{"$f":"IF(AH70335=AI70335,1,\"\")","v":1},{"$f":"IF(AH70335<AI70335,1,\"\")","v":""},{"$f":"AH70335&\"-\"&AI70335","v":"2-2"}]
[null,null,null,null,null,null,null,null,null,null,null,null,null,null,null,null,null,null,null,null,null,null,null,null,null,null,null,null,null,"№35236",1.9457532216051192,1.7737708859651535,1.8597620537851363,{"$f":"ROUND(AG70473,0)","v":2},{"$f":"ROUND(AG70474,0)","v":1},{"$f":"IF(AH70473>AI70473,1,\"\")","v":1},{"$f":"IF(AH70473=AI70473,1,\"\")","v":""},{"$f":"IF(AH70473<AI70473,1,\"\")","v":""},{"$f":"AH70473&\"-\"&AI70473","v":"2-1"}]
[null,null,null,null,null,null,null,null,null,null,null,null,null,null,null,null,null,null,null,null,null,null,null,null,null,null,null,null,null,"№35305",5.3106258208137538,-0.301648342547707,2.5044887391330235,{"$f":"ROUND(AG70611,0)","v":3},{"$f":"ROUND(AG70612,0)","v":1},{"$f":"IF(AH70611>AI70611,1,\"\")","v":1},{"$f":"IF(AH70611=AI70611,1,\"\")","v":""},{"$f":"IF(AH70611<AI70611,1,\"\")","v":""},{"$f":"AH70611&\"-\"&AI70611","v":"3-1"}]
[null,null,null,null,null,null,null,null,null,null,null,null,null,null,null,null,null,null,null,null,null,null,null,null,null,null,null,null,null,"№35312",0.65851212141403881,-0.33015799919205424,0.16417706111099228,{"$f":"ROUND(AG70625,0)","v":0},{"$f":"ROUND(AG70626,0)","v":3},{"$f":"IF(AH70625>AI70625,1,\"\")","v":""},{"$f":"IF(AH70625=AI70625,1,\"\")","v":""},{"$f":"IF(AH70625<AI70625,1,\"\")","v":1},{"$f":"AH70625&\"-\"&AI70625","v":"0-3"}]
[null,null,null,null,null,null,null,null,null,null,null,null,null,null,null,null,null,null,null,null,null,null,null,null,null,null,null,null,null,"№35395",3.1265573403112423,-0.13092293990110659,1.4978172002050678,{"$f":"ROUND(AG70791,0)","v":1},{"$f":"ROUND(AG70792,0)","v":2},{"$f":"IF(AH70791>AI70791,1,\"\")","v":""},{"$f":"IF(AH70791=AI70791,1,\"\")","v":""},{"$f":"IF(AH70791<AI70791,1,\"\")","v":1},{"$f":"AH70791&\"-\"&AI70791","v":"1-2"}]
[null,null,null,null,null,null,null,null,null,null,null,null,null,null,null,null,null,null,null,null,null,null,null,null,null,null,null,null,null,null,2.0681957638591046,0.64166272634411647,1.3549292451016106]
[null,null,null,null,null,null,null,null,null,null,null,null,null,null,null,null,null,null,null,null,null,null,null,null,null,null,null,null,null,null,1.2776975032315541,1.4502136769993497,1.3639555901154519]
[null,null,null,null,null,null,null,null,null,null,null,null,null,null,null,null,null,null,null,null,null,null,null,null,null,null,null,null,null,null,2.5567689035774581,2.5284102782868088,2.5425895909321334]
[null,null,null,null,null,null,null,null,null,null,null,null,null,null,null,null,null,null,null,null,null,null,null,null,null,null,null,null,null,null,2.6432724107113224,-1.4665019503936589,0.58838523015883171]
[null,null,null,null,null,null,null,null,null,null,null,null,null,null,null,null,null,null,null,null,null,null,null,null,null,null,null,null,null,null,2.3131770311440323,-0.54234563755808551,0.88541569679297338]
[null,null,null,null,null,null,null,null,null,null,null,null,null,null,null,null,null,null,null,null,null,null,null,null,null,null,null,null,null,"№35664",4.8208824164215009,2.0067853085846084,3.4138338625030547,{"$f":"ROUND(AG71329,0)","v":3},{"$f":"ROUND(AG71330,0)","v":2},{"$f":"IF(AH71329>AI71329,1,\"\")","v":1},{"$f":"IF(AH71329=AI71329,1,\"\")","v":""},{"$f":"IF(AH71329<AI71329,1,\"\")","v":""},{"$f":"AH71329&\"-\"&AI71329","v":"3-2"}]
[null,null,null,null,null,null,null,null,null,null,null,null,null,null,null,null,null,null,null,null,null,null,null,null,null,null,null,null,null,"№35710",3.2485097219091172,1.0649872574263595,2.1567484896677382,{"$f":"ROUND(AG71421,0)","v":2},{"$f":"ROUND(AG71422,0)","v":2},{"$f":"IF(AH71421>AI71421,1,\"\")","v":""},{"$f":"IF(AH71421=AI71421,1,\"\")","v":1},{"$f":"IF(AH71421<AI71421,1,\"\")","v":""},{"$f":"AH71421&\"-\"&AI71421","v":"2-2"}]
[null,null,null,null,null,null,null,null,null,null,null,null,null,null,null,null,null,null,null,null,null,null,null,null,null,null,null,null,null,"№35754",2.9097596559535903,2.0714701932653563,2.4906149246094733,{"$f":"ROUND(AG71509,0)","v":2},{"$f":"ROUND(AG71510,0)","v":2},{"$f":"IF(AH71509>AI71509,1,\"\")","v":""},{"$f":"IF(AH71509=AI71509,1,\"\")","v":1},{"$f":"IF(AH71509<AI71509,1,\"\")","v":""},{"$f":"AH71509&\"-\"&AI71509","v":"2-2"}]
[null,null,null,null,null,null,null,null,null,null,null,null,null,null,null,null,null,null,null,null,null,null,null,null,null,null,null,null,null,"№35825",3.2974694812038128,0.34307002576729279,1.8202697534855528,{"$f":"ROUND(AG71651,0)","v":2},{"$f":"ROUND(AG71652,0)","v":2},{"$f":"IF(AH71651>AI71651,1,\"\")","v":""},{"$f":"IF(AH71651=AI71651,1,\"\")","v":1},{"$f":"IF(AH71651<AI71651,1,\"\")","v":""},{"$f":"AH71651&\"-\"&AI71651","v":"2-2"}]
[null,null,null,null,null,null,null,null,null,null,null,null,null,null,null,null,null,null,null,null,null,null,null,null,null,null,null,null,null,"№35894",4.3678305198362963,2.3872301086442804,3.3775303142402882,{"$f":"ROUND(AG71789,0)","v":3},{"$f":"ROUND(AG71790,0)","v":1},{"$f":"IF(AH71789>AI71789,1,\"\")","v":1},{"$f":"IF(AH71789=AI71789,1,\"\")","v":""},{"$f":"IF(AH71789<AI71789,1,\"\")","v":""},{"$f":"AH71789&\"-\"&AI71789","v":"3-1"}]
[null,null,null,null,null,null,null,null,null,null,null,null,null,null,null,null,null,null,null,null,null,null,null,null,null,null,null,null,null,null,2.4458543662098888,2.1546258740439592,2.300240120126924]
[null,null,null,null,null,null,null,null,null,null,null,null,null,null,null,null,null,null,null,null,null,null,null,null,null,null,null,null,null,"№35984",3.1702110709067446,1.833001274596967,2.5016061727518557,{"$f":"ROUND(AG71969,0)","v":3},{"$f":"ROUND(AG71970,0)","v":2},{"$f":"IF(AH71969>AI71969,1,\"\")","v":1},{"$f":"IF(AH71969=AI71969,1,\"\")","v":""},{"$f":"IF(AH71969<AI71969,1,\"\")","v":""},{"$f":"AH71969&\"-\"&AI71969","v":"3-2"}]
[null,null,null,null,null,null,null,null,null,null,null,null,null,null,null,null,null,null,null,null,null,null,null,null,null,null,null,null,null,null,1.9053101799692176,0.25895387864817332,1.0821320293086956]
[null,null,null,null,null,null,null,null,null,null,null,null,null,null,null,null,null,null,null,null,null,null,null,null,null,null,null,null,null,null,2.023038769423402,-1.0312645152996436,0.49588712706187921]
[null,null,null,null,null,null,null,null,null,null,null,null,null,null,null,null,null,null,null,null,null,null,null,null,null,null,null,null,null,"№36108",4.4227642016459709,-0.34258304256244365,2.0400905795417636,{"$f":"ROUND(AG72217,0)","v":2},{"$f":"ROUND(AG72218,0)","v":2},{"$f":"IF(AH72217>AI72217,1,\"\")","v":""},{"$f":"IF(AH72217=AI72217,1,\"\")","v":1},{"$f":"IF(AH72217<AI72217,1,\"\")","v":""},{"$f":"AH72217&\"-\"&AI72217","v":"2-2"}]
[null,null,null,null,null,null,null,null,null,null,null,null,null,null,null,null,null,null,null,null,null,null,null,null,null,null,null,null,null,null,2.5426176122087525,0.22417468586820699,1.3833961490384796]
[null,null,null,null,null,null,null,null,null,null,null,null,null,null,null,null,null,null,null,null,null,null,null,null,null,null,null,null,null,null,1.3883257963553597,2.7595242546294303,2.0739250254923949]
[null,null,null,null,null,null,null,null,null,null,null,null,null,null,null,null,null,null,null,null,null,null,null,null,null,null,null,null,null,"№36253",6.0212786553237247,2.7375197661634649,4.3793992107435944,{"$f":"ROUND(AG72507,0)","v":4},{"$f":"ROUND(AG72508,0)","v":3},{"$f":"IF(AH72507>AI72507,1,\"\")","v":1},{"$f":"IF(AH72507=AI72507,1,\"\")","v":""},{"$f":"IF(AH72507<AI72507,1,\"\")","v":""},{"$f":"AH72507&\"-\"&AI72507","v":"4-3"}]
[null,null,null,null,null,null,null,null,null,null,null,null,null,null,null,null,null,null,null,null,null,null,null,null,null,null,null,null,null,null,1.582820673322261,1.346935766277932,1.4648782198000965]
[null,null,null,null,null,null,null,null,null,null,null,null,null,null,null,null,null,null,null,null,null,null,null,null,null,null,null,null,null,null,2.9283467625828248,3.4143208726866274,3.1713338176347259]
[null,null,null,null,null,null,null,null,null,null,null,null,null,null,null,null,null,null,null,null,null,null,null,null,null,null,null,null,null,"№36412",5.7079415917659393,0.10841356067868557,2.9081775762223123,{"$f":"ROUND(AG72825,0)","v":3},{"$f":"ROUND(AG72826,0)","v":4},{"$f":"IF(AH72825>AI72825,1,\"\")","v":""},{"$f":"IF(AH72825=AI72825,1,\"\")","v":""},{"$f":"IF(AH72825<AI72825,1,\"\")","v":1},{"$f":"AH72825&\"-\"&AI72825","v":"3-4"}]
[null,null,null,null,null,null,null,null,null,null,null,null,null,null,null,null,null,null,null,null,null,null,null,null,null,null,null,null,null,"№36483",2.8181645389520176,0.63982990408951101,1.7289972215207643,{"$f":"ROUND(AG72967,0)","v":2},{"$f":"ROUND(AG72968,0)","v":2},{"$f":"IF(AH72967>AI72967,1,\"\")","v":""},{"$f":"IF(AH72967=AI72967,1,\"\")","v":1},{"$f":"IF(AH72967<AI72967,1,\"\")","v":""},{"$f":"AH72967&\"-\"&AI72967","v":"2-2"}]
[null,null,null,null,null,null,null,null,null,null,null,null,null,null,null,null,null,null,null,null,null,null,null,null,null,null,null,null,null,"№36506",3.6735221677701695,-0.63501860141894251,1.5192517831756134,{"$f":"ROUND(AG73013,0)","v":2},{"$f":"ROUND(AG73014,0)","v":1},{"$f":"IF(AH73013>AI73013,1,\"\")","v":1},{"$f":"IF(AH73013=AI73013,1,\"\")","v":""},{"$f":"IF(AH73013<AI73013,1,\"\")","v":""},{"$f":"AH73013&\"-\"&AI73013","v":"2-1"}]
[null,null,null,null,null,null,null,null,null,null,null,null,null,null,null,null,null,null,null,null,null,null,null,null,null,null,null,null,null,"№36571",2.4504067605647259,1.2824222632948215,1.8664145119297737,{"$f":"ROUND(AG73143,0)","v":2},{"$f":"ROUND(AG73144,0)","v":2},{"$f":"IF(AH73143>AI73143,1,\"\")","v":""},{"$f":"IF(AH73143=AI73143,1,\"\")","v":1},{"$f":"IF(AH73143<AI73143,1,\"\")","v":""},{"$f":"AH73143&\"-\"&AI73143","v":"2-2"}]
[null,null,null,null,null,null,null,null,null,null,null,null,null,null,null,null,null,null,null,null,null,null,null,null,null,null,null,null,null,"№36642",2.706651294716651,-0.3915280585070342,{"$f":"(AE73285+AF73285)/2","v":1.1575616181048085},{"$f":"ROUND(AG73285,0)","v":1},{"$f":"ROUND(AG73286,0)","v":3},{"$f":"IF(AH73285>AI73285,1,\"\")","v":""},{"$f":"IF(AH73285=AI73285,1,\"\")","v":""},{"$f":"IF(AH73285<AI73285,1,\"\")","v":1},{"$f":"AH73285&\"-\"&AI73285","v":"1-3"}]
[null,null,null,null,null,null,null,null,null,null,null,null,null,null,null,null,null,null,null,null,null,null,null,null,null,null,null,null,null,null,1.8813487360524597,3.239499367888925,2.5604240519706924]
[null,null,null,null,null,null,null,null,null,null,null,null,null,null,null,null,null,null,null,null,null,null,null,null,null,null,null,null,null,null,1.6445975496659644,-0.83396429986222387,0.40531662490187026]
[null,null,null,null,null,null,null,null,null,null,null,null,null,null,null,null,null,null,null,null,null,null,null,null,null,null,null,null,null,null,2.6679398944386086,-0.38061759963335451,1.143661147402627]
[null,null,null,null,null,null,null,null,null,null,null,null,null,null,null,null,null,null,null,null,null,null,null,null,null,null,null,null,null,null,2.0762266193949115,-1.956887896493086,5.9669361450912728E-2]
[null,null,null,null,null,null,null,null,null,null,null,null,null,null,null,null,null,null,null,null,null,null,null,null,null,null,null,null,null,"№36842",3.7087856056042292,0.52397789840273612,2.1163817520034827,{"$f":"ROUND(AG73685,0)","v":2},{"$f":"ROUND(AG73686,0)","v":2},{"$f":"IF(AH73685>AI73685,1,\"\")","v":""},{"$f":"IF(AH73685=AI73685,1,\"\")","v":1},{"$f":"IF(AH73685<AI73685,1,\"\")","v":""},{"$f":"AH73685&\"-\"&AI73685","v":"2-2"}]
[null,null,null,null,null,null,null,null,null,null,null,null,null,null,null,null,null,null,null,null,null,null,null,null,null,null,null,null,null,"№36904",4.0504159872926619,0.75183007897709542,2.4011230331348785,{"$f":"ROUND(AG73809,0)","v":2},{"$f":"ROUND(AG73810,0)","v":2},{"$f":"IF(AH73809>AI73809,1,\"\")","v":""},{"$f":"IF(AH73809=AI73809,1,\"\")","v":1},{"$f":"IF(AH73809<AI73809,1,\"\")","v":""},{"$f":"AH73809&\"-\"&AI73809","v":"2-2"}]
[null,null,null,null,null,null,null,null,null,null,null,null,null,null,null,null,null,null,null,null,null,null,null,null,null,null,null,null,null,null,2.5639565388835508,2.2538033245802458,2.4088799317318985]
[null,null,null,null,null,null,null,null,null,null,null,null,null,null,null,null,null,null,null,null,null,null,null,null,null,null,null,null,null,"№37001",1.5403334573381042,0.16298054150575447,0.85165699942192941,{"$f":"ROUND(AG74003,0)","v":1},{"$f":"ROUND(AG74004,0)","v":3},{"$f":"IF(AH74003>AI74003,1,\"\")","v":""},{"$f":"IF(AH74003=AI74003,1,\"\")","v":""},{"$f":"IF(AH74003<AI74003,1,\"\")","v":1},{"$f":"AH74003&\"-\"&AI74003","v":"1-3"}]
[null,null,null,null,null,null,null,null,null,null,null,null,null,null,null,null,null,null,null,null,null,null,null,null,null,null,null,null,null,"№37070",5.2502607656852849,-1.209250955271685,2.0205049052068,{"$f":"ROUND(AG74141,0)","v":2},{"$f":"ROUND(AG74142,0)","v":3},{"$f":"IF(AH74141>AI74141,1,\"\")","v":""},{"$f":"IF(AH74141=AI74141,1,\"\")","v":""},{"$f":"IF(AH74141<AI74141,1,\"\")","v":1},{"$f":"AH74141&\"-\"&AI74141","v":"2-3"}]
[null,null,null,null,null,null,null,null,null,null,null,null,null,null,null,null,null,null,null,null,null,null,null,null,null,null,null,null,null,null,1.7913727524711291,2.0721270995996992,1.9317499260354141]
[null,null,null,null,null,null,null,null,null,null,null,null,null,null,null,null,null,null,null,null,null,null,null,null,null,null,null,null,null,"№37160",6.280576980163243,0.36158460405048576,3.3210807921068644,{"$f":"ROUND(AG74321,0)","v":3},{"$f":"ROUND(AG74322,0)","v":2},{"$f":"IF(AH74321>AI74321,1,\"\")","v":1},{"$f":"IF(AH74321=AI74321,1,\"\")","v":""},{"$f":"IF(AH74321<AI74321,1,\"\")","v":""},{"$f":"AH74321&\"-\"&AI74321","v":"3-2"}]
[null,null,null,null,null,null,null,null,null,null,null,null,null,null,null,null,null,null,null,null,null,null,null,null,null,null,null,null,null,"№37229",2.4023410433120116,-1.0289170792287787,0.68671198204161643,{"$f":"ROUND(AG74459,0)","v":1},{"$f":"ROUND(AG74460,0)","v":2},{"$f":"IF(AH74459>AI74459,1,\"\")","v":""},{"$f":"IF(AH74459=AI74459,1,\"\")","v":""},{"$f":"IF(AH74459<AI74459,1,\"\")","v":1},{"$f":"AH74459&\"-\"&AI74459","v":"1-2"}]
[null,null,null,null,null,null,null,null,null,null,null,null,null,null,null,null,null,null,null,null,null,null,null,null,null,null,null,null,null,null,1.565434022369977,-0.46661074751856058,0.5494116374257082]
[null,null,null,null,null,null,null,null,null,null,null,null,null,null,null,null,null,null,null,null,null,null,null,null,null,null,null,null,null,"№37302",3.8969638758794733,-4.9708139515323602E-2,1.9236278681820749,{"$f":"ROUND(AG74605,0)","v":2},{"$f":"ROUND(AG74606,0)","v":2},{"$f":"IF(AH74605>AI74605,1,\"\")","v":""},{"$f":"IF(AH74605=AI74605,1,\"\")","v":1},{"$f":"IF(AH74605<AI74605,1,\"\")","v":""},{"$f":"AH74605&\"-\"&AI74605","v":"2-2"}]
[null,null,null,null,null,null,null,null,null,null,null,null,null,null,null,null,null,null,null,null,null,null,null,null,null,null,null,null,null,null,2.6711260487954958,-1.3040616219835655,0.68353221340596515]
[null,null,null,null,null,null,null,null,null,null,null,null,null,null,null,null,null,null,null,null,null,null,null,null,null,null,null,null,null,null,{"$f":"_xlfn.NORM.INV(RAND(),$Z$4,$N$20)","v":2.2538573374649298},{"$f":"_xlfn.NORM.INV(RAND(),$AA$4,$J$20)","v":-0.35305374738073358},0.9504017950420981]
[null,null,null,null,null,null,null,null,null,null,null,null,null,null,null,null,null,null,null,null,null,null,null,null,null,null,null,null,null,null,2.2858704800124121,0.83201638946819667,1.5589434347403044]
[null,null,null,null,null,null,null,null,null,null,null,null,null,null,null,null,null,null,null,null,null,null,null,null,null,null,null,null,null,"№37500",2.6964799125242873,0.41092287421052986,1.5537013933674086,{"$f":"ROUND(AG75001,0)","v":2},{"$f":"ROUND(AG75002,0)","v":2},{"$f":"IF(AH75001>AI75001,1,\"\")","v":""},{"$f":"IF(AH75001=AI75001,1,\"\")","v":1},{"$f":"IF(AH75001<AI75001,1,\"\")","v":""},{"$f":"AH75001&\"-\"&AI75001","v":"2-2"}]
[null,null,null,null,null,null,null,null,null,null,null,null,null,null,null,null,null,null,null,null,null,null,null,null,null,null,null,null,null,null,2.0936615634529012,-1.1985851286268492,0.44753821741302602]
[null,null,null,null,null,null,null,null,null,null,null,null,null,null,null,null,null,null,null,null,null,null,null,null,null,null,null,null,null,"№37588",6.32343451431682,0.57682180866632871,3.4501281614915742,{"$f":"ROUND(AG75177,0)","v":3},{"$f":"ROUND(AG75178,0)","v":2},{"$f":"IF(AH75177>AI75177,1,\"\")","v":1},{"$f":"IF(AH75177=AI75177,1,\"\")","v":""},{"$f":"IF(AH75177<AI75177,1,\"\")","v":""},{"$f":"AH75177&\"-\"&AI75177","v":"3-2"}]
[null,null,null,null,null,null,null,null,null,null,null,null,null,null,null,null,null,null,null,null,null,null,null,null,null,null,null,null,null,"№37659",4.3081129140914722,2.0738744126364272,3.1909936633639497,{"$f":"ROUND(AG75319,0)","v":3},{"$f":"ROUND(AG75320,0)","v":4},{"$f":"IF(AH75319>AI75319,1,\"\")","v":""},{"$f":"IF(AH75319=AI75319,1,\"\")","v":""},{"$f":"IF(AH75319<AI75319,1,\"\")","v":1},{"$f":"AH75319&\"-\"&AI75319","v":"3-4"}]
[null,null,null,null,null,null,null,null,null,null,null,null,null,null,null,null,null,null,null,null,null,null,null,null,null,null,null,null,null,"№37728",5.0813702218404337,-8.2107093058623515E-2,2.4996315643909051,{"$f":"ROUND(AG75457,0)","v":2},{"$f":"ROUND(AG75458,0)","v":4},{"$f":"IF(AH75457>AI75457,1,\"\")","v":""},{"$f":"IF(AH75457=AI75457,1,\"\")","v":""},{"$f":"IF(AH75457<AI75457,1,\"\")","v":1},{"$f":"AH75457&\"-\"&AI75457","v":"2-4"}]
[null,null,null,null,null,null,null,null,null,null,null,null,null,null,null,null,null,null,null,null,null,null,null,null,null,null,null,null,null,"№37759",4.2498240134279053,0.41300207784401705,2.3314130456359612,{"$f":"ROUND(AG75519,0)","v":2},{"$f":"ROUND(AG75520,0)","v":2},{"$f":"IF(AH75519>AI75519,1,\"\")","v":""},{"$f":"IF(AH75519=AI75519,1,\"\")","v":1},{"$f":"IF(AH75519<AI75519,1,\"\")","v":""},{"$f":"AH75519&\"-\"&AI75519","v":"2-2"}]
[null,null,null,null,null,null,null,null,null,null,null,null,null,null,null,null,null,null,null,null,null,null,null,null,null,null,null,null,null,"№37818",3.1761833458742519,2.0618612148903659,2.6190222803823087,{"$f":"ROUND(AG75637,0)","v":3},{"$f":"ROUND(AG75638,0)","v":1},{"$f":"IF(AH75637>AI75637,1,\"\")","v":1},{"$f":"IF(AH75637=AI75637,1,\"\")","v":""},{"$f":"IF(AH75637<AI75637,1,\"\")","v":""},{"$f":"AH75637&\"-\"&AI75637","v":"3-1"}]
[null,null,null,null,null,null,null,null,null,null,null,null,null,null,null,null,null,null,null,null,null,null,null,null,null,null,null,null,null,null,2.346024824510839,1.2294513359336614,1.7877380802222502]
[null,null,null,null,null,null,null,null,null,null,null,null,null,null,null,null,null,null,null,null,null,null,null,null,null,null,null,null,null,null,2.4781388223020411,-1.796765281263228,0.34068677051940655]
[null,null,null,null,null,null,null,null,null,null,null,null,null,null,null,null,null,null,null,null,null,null,null,null,null,null,null,null,null,null,2.8510404353412619,2.6757645297350923,2.7634024825381771]
[null,null,null,null,null,null,null,null,null,null,null,null,null,null,null,null,null,null,null,null,null,null,null,null,null,null,null,null,null,null,2.1366644872862426,3.0560334846955866,2.5963489859909146]
[null,null,null,null,null,null,null,null,null,null,null,null,null,null,null,null,null,null,null,null,null,null,null,null,null,null,null,null,null,null,2.265853511957554,-1.8402483483385543,0.21280258180949985]
[null,null,null,null,null,null,null,null,null,null,null,null,null,null,null,null,null,null,null,null,null,null,null,null,null,null,null,null,null,"№38087",0.89417860657671033,-0.82554841935665846,3.4315093610025937E-2,{"$f":"ROUND(AG76175,0)","v":0},{"$f":"ROUND(AG76176,0)","v":1},{"$f":"IF(AH76175>AI76175,1,\"\")","v":""},{"$f":"IF(AH76175=AI76175,1,\"\")","v":""},{"$f":"IF(AH76175<AI76175,1,\"\")","v":1},{"$f":"AH76175&\"-\"&AI76175","v":"0-1"}]
[null,null,null,null,null,null,null,null,null,null,null,null,null,null,null,null,null,null,null,null,null,null,null,null,null,null,null,null,null,"№38157",3.0161677467763552,4.126545065896392E-2,1.5287165987176596,{"$f":"ROUND(AG76315,0)","v":2},{"$f":"ROUND(AG76316,0)","v":3},{"$f":"IF(AH76315>AI76315,1,\"\")","v":""},{"$f":"IF(AH76315=AI76315,1,\"\")","v":""},{"$f":"IF(AH76315<AI76315,1,\"\")","v":1},{"$f":"AH76315&\"-\"&AI76315","v":"2-3"}]
[null,null,null,null,null,null,null,null,null,null,null,null,null,null,null,null,null,null,null,null,null,null,null,null,null,null,null,null,null,"№38177",{"$f":"_xlfn.NORM.INV(RAND(),$Z$3,$I$20)","v":4.0663751167055864},{"$f":"_xlfn.NORM.INV(RAND(),$AA$3,$O$20)","v":0.27908250629563447},2.1727288115006105,{"$f":"ROUND(AG76355,0)","v":2},{"$f":"ROUND(AG76356,0)","v":1},{"$f":"IF(AH76355>AI76355,1,\"\")","v":1},{"$f":"IF(AH76355=AI76355,1,\"\")","v":""},{"$f":"IF(AH76355<AI76355,1,\"\")","v":""},{"$f":"AH76355&\"-\"&AI76355","v":"2-1"}]
[null,null,null,null,null,null,null,null,null,null,null,null,null,null,null,null,null,null,null,null,null,null,null,null,null,null,null,null,null,"№38246",1.4440288272385904,2.6483607894019485,2.0461948083202692,{"$f":"ROUND(AG76493,0)","v":2},{"$f":"ROUND(AG76494,0)","v":1},{"$f":"IF(AH76493>AI76493,1,\"\")","v":1},{"$f":"IF(AH76493=AI76493,1,\"\")","v":""},{"$f":"IF(AH76493<AI76493,1,\"\")","v":""},{"$f":"AH76493&\"-\"&AI76493","v":"2-1"}]
[null,null,null,null,null,null,null,null,null,null,null,null,null,null,null,null,null,null,null,null,null,null,null,null,null,null,null,null,null,"№38317",2.7639531115200402,1.0846354098507829,1.9242942606854117,{"$f":"ROUND(AG76635,0)","v":2},{"$f":"ROUND(AG76636,0)","v":0},{"$f":"IF(AH76635>AI76635,1,\"\")","v":1},{"$f":"IF(AH76635=AI76635,1,\"\")","v":""},{"$f":"IF(AH76635<AI76635,1,\"\")","v":""},{"$f":"AH76635&\"-\"&AI76635","v":"2-0"}]
[null,null,null,null,null,null,null,null,null,null,null,null,null,null,null,null,null,null,null,null,null,null,null,null,null,null,null,null,null,null,2.9287253523174455,1.6202332325472197,2.2744792924323325]
[null,null,null,null,null,null,null,null,null,null,null,null,null,null,null,null,null,null,null,null,null,null,null,null,null,null,null,null,null,"№38405",3.3288551747832771,0.79923081496292592,2.0640429948731014,{"$f":"ROUND(AG76811,0)","v":2},{"$f":"ROUND(AG76812,0)","v":1},{"$f":"IF(AH76811>AI76811,1,\"\")","v":1},{"$f":"IF(AH76811=AI76811,1,\"\")","v":""},{"$f":"IF(AH76811<AI76811,1,\"\")","v":""},{"$f":"AH76811&\"-\"&AI76811","v":"2-1"}]
[null,null,null,null,null,null,null,null,null,null,null,null,null,null,null,null,null,null,null,null,null,null,null,null,null,null,null,null,null,null,2.3021744328504714,1.1736972168301434,1.7379358248403074]
[null,null,null,null,null,null,null,null,null,null,null,null,null,null,null,null,null,null,null,null,null,null,null,null,null,null,null,null,null,null,2.6552945198730509,3.778071019179071,3.2166827695260611]
[null,null,null,null,null,null,null,null,null,null,null,null,null,null,null,null,null,null,null,null,null,null,null,null,null,null,null,null,null,"№38555",1.7670428232056583,2.2519378490419761,2.0094903361238172,{"$f":"ROUND(AG77111,0)","v":2},{"$f":"ROUND(AG77112,0)","v":1},{"$f":"IF(AH77111>AI77111,1,\"\")","v":1},{"$f":"IF(AH77111=AI77111,1,\"\")","v":""},{"$f":"IF(AH77111<AI77111,1,\"\")","v":""},{"$f":"AH77111&\"-\"&AI77111","v":"2-1"}]
[null,null,null,null,null,null,null,null,null,null,null,null,null,null,null,null,null,null,null,null,null,null,null,null,null,null,null,null,null,null,2.3489299201495322,1.6142623448310089,1.9815961324902704]
[null,null,null,null,null,null,null,null,null,null,null,null,null,null,null,null,null,null,null,null,null,null,null,null,null,null,null,null,null,null,2.5570920136810953,1.7184737474232405,2.1377828805521677]
[null,null,null,null,null,null,null,null,null,null,null,null,null,null,null,null,null,null,null,null,null,null,null,null,null,null,null,null,null,"№38676",4.8093504387124311,1.3477326418075837,3.0785415402600074,{"$f":"ROUND(AG77353,0)","v":3},{"$f":"ROUND(AG77354,0)","v":2},{"$f":"IF(AH77353>AI77353,1,\"\")","v":1},{"$f":"IF(AH77353=AI77353,1,\"\")","v":""},{"$f":"IF(AH77353<AI77353,1,\"\")","v":""},{"$f":"AH77353&\"-\"&AI77353","v":"3-2"}]
[null,null,null,null,null,null,null,null,null,null,null,null,null,null,null,null,null,null,null,null,null,null,null,null,null,null,null,null,null,null,1.3358000256942766,2.0777233812307219,1.7067617034624991]
[null,null,null,null,null,null,null,null,null,null,null,null,null,null,null,null,null,null,null,null,null,null,null,null,null,null,null,null,null,"№38766",3.3517133083090527,1.4689166652144521,2.4103149867617524,{"$f":"ROUND(AG77533,0)","v":2},{"$f":"ROUND(AG77534,0)","v":2},{"$f":"IF(AH77533>AI77533,1,\"\")","v":""},{"$f":"IF(AH77533=AI77533,1,\"\")","v":1},{"$f":"IF(AH77533<AI77533,1,\"\")","v":""},{"$f":"AH77533&\"-\"&AI77533","v":"2-2"}]
[null,null,null,null,null,null,null,null,null,null,null,null,null,null,null,null,null,null,null,null,null,null,null,null,null,null,null,null,null,"№38835",3.45970944209011,-0.96050958369717976,1.249599929196465,{"$f":"ROUND(AG77671,0)","v":1},{"$f":"ROUND(AG77672,0)","v":1},{"$f":"IF(AH77671>AI77671,1,\"\")","v":""},{"$f":"IF(AH77671=AI77671,1,\"\")","v":1},{"$f":"IF(AH77671<AI77671,1,\"\")","v":""},{"$f":"AH77671&\"-\"&AI77671","v":"1-1"}]
[null,null,null,null,null,null,null,null,null,null,null,null,null,null,null,null,null,null,null,null,null,null,null,null,null,null,null,null,null,"№38904",5.4613632475101621,0.82066141293286654,3.1410123302215145,{"$f":"ROUND(AG77809,0)","v":3},{"$f":"ROUND(AG77810,0)","v":3},{"$f":"IF(AH77809>AI77809,1,\"\")","v":""},{"$f":"IF(AH77809=AI77809,1,\"\")","v":1},{"$f":"IF(AH77809<AI77809,1,\"\")","v":""},{"$f":"AH77809&\"-\"&AI77809","v":"3-3"}]
[null,null,null,null,null,null,null,null,null,null,null,null,null,null,null,null,null,null,null,null,null,null,null,null,null,null,null,null,null,"№38953",2.0047155876557774,0.40431358764412961,1.2045145876499534,{"$f":"ROUND(AG77907,0)","v":1},{"$f":"ROUND(AG77908,0)","v":2},{"$f":"IF(AH77907>AI77907,1,\"\")","v":""},{"$f":"IF(AH77907=AI77907,1,\"\")","v":""},{"$f":"IF(AH77907<AI77907,1,\"\")","v":1},{"$f":"AH77907&\"-\"&AI77907","v":"1-2"}]
[null,null,null,null,null,null,null,null,null,null,null,null,null,null,null,null,null,null,null,null,null,null,null,null,null,null,null,null,null,"№38994",5.6478207358831121,1.6739122840478182,3.6608665099654649,{"$f":"ROUND(AG77989,0)","v":4},{"$f":"ROUND(AG77990,0)","v":1},{"$f":"IF(AH77989>AI77989,1,\"\")","v":1},{"$f":"IF(AH77989=AI77989,1,\"\")","v":""},{"$f":"IF(AH77989<AI77989,1,\"\")","v":""},{"$f":"AH77989&\"-\"&AI77989","v":"4-1"}]
[null,null,null,null,null,null,null,null,null,null,null,null,null,null,null,null,null,null,null,null,null,null,null,null,null,null,null,null,null,null,1.8812814723851889,4.3727133333963186,3.1269974028907539]
[null,null,null,null,null,null,null,null,null,null,null,null,null,null,null,null,null,null,null,null,null,null,null,null,null,null,null,null,null,null,2.0185435360987891,3.3583852849202382,2.6884644105095137]
[null,null,null,null,null,null,null,null,null,null,null,null,null,null,null,null,null,null,null,null,null,null,null,null,null,null,null,null,null,null,1.3026197764402427,0.88551883945909216,1.0940693079496675]
[null,null,null,null,null,null,null,null,null,null,null,null,null,null,null,null,null,null,null,null,null,null,null,null,null,null,null,null,null,null,1.2733243044804674,0.48271674697184874,0.87802052572615807]
[null,null,null,null,null,null,null,null,null,null,null,null,null,null,null,null,null,null,null,null,null,null,null,null,null,null,null,null,null,null,2.9832676137849274,1.7670267924772494,2.3751472031310885]
[null,null,null,null,null,null,null,null,null,null,null,null,null,null,null,null,null,null,null,null,null,null,null,null,null,null,null,null,null,"№39263",3.1047714616118012,2.0462559029657714,2.5755136822887863,{"$f":"ROUND(AG78527,0)","v":3},{"$f":"ROUND(AG78528,0)","v":1},{"$f":"IF(AH78527>AI78527,1,\"\")","v":1},{"$f":"IF(AH78527=AI78527,1,\"\")","v":""},{"$f":"IF(AH78527<AI78527,1,\"\")","v":""},{"$f":"AH78527&\"-\"&AI78527","v":"3-1"}]
[null,null,null,null,null,null,null,null,null,null,null,null,null,null,null,null,null,null,null,null,null,null,null,null,null,null,null,null,null,"№39351",4.1811807977678086,2.5594523315987958,3.3703165646833022,{"$f":"ROUND(AG78703,0)","v":3},{"$f":"ROUND(AG78704,0)","v":2},{"$f":"IF(AH78703>AI78703,1,\"\")","v":1},{"$f":"IF(AH78703=AI78703,1,\"\")","v":""},{"$f":"IF(AH78703<AI78703,1,\"\")","v":""},{"$f":"AH78703&\"-\"&AI78703","v":"3-2"}]
[null,null,null,null,null,null,null,null,null,null,null,null,null,null,null,null,null,null,null,null,null,null,null,null,null,null,null,null,null,null,0.33331974226211547,2.8188326094604612,1.5760761758612882]
[null,null,null,null,null,null,null,null,null,null,null,null,null,null,null,null,null,null,null,null,null,null,null,null,null,null,null,null,null,"№39422",4.8898172142457472,1.2997475603560877,3.0947823873009175,{"$f":"ROUND(AG78845,0)","v":3},{"$f":"ROUND(AG78846,0)","v":3},{"$f":"IF(AH78845>AI78845,1,\"\")","v":""},{"$f":"IF(AH78845=AI78845,1,\"\")","v":1},{"$f":"IF(AH78845<AI78845,1,\"\")","v":""},{"$f":"AH78845&\"-\"&AI78845","v":"3-3"}]
[null,null,null,null,null,null,null,null,null,null,null,null,null,null,null,null,null,null,null,null,null,null,null,null,null,null,null,null,null,"№39493",3.4183294305075234,2.0492866522606543,2.7338080413840888,{"$f":"ROUND(AG78987,0)","v":3},{"$f":"ROUND(AG78988,0)","v":1},{"$f":"IF(AH78987>AI78987,1,\"\")","v":1},{"$f":"IF(AH78987=AI78987,1,\"\")","v":""},{"$f":"IF(AH78987<AI78987,1,\"\")","v":""},{"$f":"AH78987&\"-\"&AI78987","v":"3-1"}]
[null,null,null,null,null,null,null,null,null,null,null,null,null,null,null,null,null,null,null,null,null,null,null,null,null,null,null,null,null,null,1.1369709113625048,-0.14430700341399794,0.49633195397425345]
[null,null,null,null,null,null,null,null,null,null,null,null,null,null,null,null,null,null,null,null,null,null,null,null,null,null,null,null,null,"№39583",3.5236988640515237,0.57607347118439745,2.0498861676179607,{"$f":"ROUND(AG79167,0)","v":2},{"$f":"ROUND(AG79168,0)","v":2},{"$f":"IF(AH79167>AI79167,1,\"\")","v":""},{"$f":"IF(AH79167=AI79167,1,\"\")","v":1},{"$f":"IF(AH79167<AI79167,1,\"\")","v":""},{"$f":"AH79167&\"-\"&AI79167","v":"2-2"}]
[null,null,null,null,null,null,null,null,null,null,null,null,null,null,null,null,null,null,null,null,null,null,null,null,null,null,null,null,null,"№39652",3.2519721304163598,1.600876897296835,2.4264245138565972,{"$f":"ROUND(AG79305,0)","v":2},{"$f":"ROUND(AG79306,0)","v":2},{"$f":"IF(AH79305>AI79305,1,\"\")","v":""},{"$f":"IF(AH79305=AI79305,1,\"\")","v":1},{"$f":"IF(AH79305<AI79305,1,\"\")","v":""},{"$f":"AH79305&\"-\"&AI79305","v":"2-2"}]
[null,null,null,null,null,null,null,null,null,null,null,null,null,null,null,null,null,null,null,null,null,null,null,null,null,null,null,null,null,null,2.8165715294306608,2.3339180953967928,2.575244812413727]
[null,null,null,null,null,null,null,null,null,null,null,null,null,null,null,null,null,null,null,null,null,null,null,null,null,null,null,null,null,"№39749",1.8035544669139194,7.0208047072093049E-2,0.93688125699300628,{"$f":"ROUND(AG79499,0)","v":1},{"$f":"ROUND(AG79500,0)","v":2},{"$f":"IF(AH79499>AI79499,1,\"\")","v":""},{"$f":"IF(AH79499=AI79499,1,\"\")","v":""},{"$f":"IF(AH79499<AI79499,1,\"\")","v":1},{"$f":"AH79499&\"-\"&AI79499","v":"1-2"}]
[null,null,null,null,null,null,null,null,null,null,null,null,null,null,null,null,null,null,null,null,null,null,null,null,null,null,null,null,null,null,1.5435604972079942,1.2760329284393419,1.4097967128236681]
[null,null,null,null,null,null,null,null,null,null,null,null,null,null,null,null,null,null,null,null,null,null,null,null,null,null,null,null,null,null,2.830772141675765,-0.53192575212482707,1.1494231947754689]
[null,null,null,null,null,null,null,null,null,null,null,null,null,null,null,null,null,null,null,null,null,null,null,null,null,null,null,null,null,null,2.45507960960756,0.89044483091048654,1.6727622202590233]
[null,null,null,null,null,null,null,null,null,null,null,null,null,null,null,null,null,null,null,null,null,null,null,null,null,null,null,null,null,null,2.0575161532855235,0.30411556709883403,1.1808158601921788]
[null,null,null,null,null,null,null,null,null,null,null,null,null,null,null,null,null,null,null,null,null,null,null,null,null,null,null,null,null,null,2.3566165935909518,-1.072823458601579,0.64189656749468638]
[null,null,null,null,null,null,null,null,null,null,null,null,null,null,null,null,null,null,null,null,null,null,null,null,null,null,null,null,null,"№40011",3.0235459710757451,0.30755646636739459,1.6655512187215697,{"$f":"ROUND(AG80023,0)","v":2},{"$f":"ROUND(AG80024,0)","v":1},{"$f":"IF(AH80023>AI80023,1,\"\")","v":1},{"$f":"IF(AH80023=AI80023,1,\"\")","v":""},{"$f":"IF(AH80023<AI80023,1,\"\")","v":""},{"$f":"AH80023&\"-\"&AI80023","v":"2-1"}]
[null,null,null,null,null,null,null,null,null,null,null,null,null,null,null,null,null,null,null,null,null,null,null,null,null,null,null,null,null,"№40080",0.60172757759476569,1.9823477957356879,1.2920376866652268,{"$f":"ROUND(AG80161,0)","v":1},{"$f":"ROUND(AG80162,0)","v":0},{"$f":"IF(AH80161>AI80161,1,\"\")","v":1},{"$f":"IF(AH80161=AI80161,1,\"\")","v":""},{"$f":"IF(AH80161<AI80161,1,\"\")","v":""},{"$f":"AH80161&\"-\"&AI80161","v":"1-0"}]
[null,null,null,null,null,null,null,null,null,null,null,null,null,null,null,null,null,null,null,null,null,null,null,null,null,null,null,null,null,"№40147",4.7779079240134514,1.1333777594954377,2.9556428417544445,{"$f":"ROUND(AG80295,0)","v":3},{"$f":"ROUND(AG80296,0)","v":2},{"$f":"IF(AH80295>AI80295,1,\"\")","v":1},{"$f":"IF(AH80295=AI80295,1,\"\")","v":""},{"$f":"IF(AH80295<AI80295,1,\"\")","v":""},{"$f":"AH80295&\"-\"&AI80295","v":"3-2"}]
[null,null,null,null,null,null,null,null,null,null,null,null,null,null,null,null,null,null,null,null,null,null,null,null,null,null,null,null,null,"№40170",3.362578881313095,2.003262345134321,2.682920613223708,{"$f":"ROUND(AG80341,0)","v":3},{"$f":"ROUND(AG80342,0)","v":2},{"$f":"IF(AH80341>AI80341,1,\"\")","v":1},{"$f":"IF(AH80341=AI80341,1,\"\")","v":""},{"$f":"IF(AH80341<AI80341,1,\"\")","v":""},{"$f":"AH80341&\"-\"&AI80341","v":"3-2"}]
[null,null,null,null,null,null,null,null,null,null,null,null,null,null,null,null,null,null,null,null,null,null,null,null,null,null,null,null,null,"№40241",5.7839147005028284,0.47456809094472657,3.1292413957237777,{"$f":"ROUND(AG80483,0)","v":3},{"$f":"ROUND(AG80484,0)","v":2},{"$f":"IF(AH80483>AI80483,1,\"\")","v":1},{"$f":"IF(AH80483=AI80483,1,\"\")","v":""},{"$f":"IF(AH80483<AI80483,1,\"\")","v":""},{"$f":"AH80483&\"-\"&AI80483","v":"3-2"}]
[null,null,null,null,null,null,null,null,null,null,null,null,null,null,null,null,null,null,null,null,null,null,null,null,null,null,null,null,null,null,2.4634163086024219,1.4453472784036987,1.9543817935030603]
[null,null,null,null,null,null,null,null,null,null,null,null,null,null,null,null,null,null,null,null,null,null,null,null,null,null,null,null,null,null,2.073910723797165,2.235894707424348,2.1549027156107563]
[null,null,null,null,null,null,null,null,null,null,null,null,null,null,null,null,null,null,null,null,null,null,null,null,null,null,null,null,null,null,1.6485141863110628,5.4426917737489227,3.5456029800299929]
[null,null,null,null,null,null,null,null,null,null,null,null,null,null,null,null,null,null,null,null,null,null,null,null,null,null,null,null,null,null,3.5048145728899307,3.9436113464944733,3.7242129596922018]
[null,null,null,null,null,null,null,null,null,null,null,null,null,null,null,null,null,null,null,null,null,null,null,null,null,null,null,null,null,null,2.1213793511319201,1.8132529671436082E-2,1.0697559404016781]
[null,null,null,null,null,null,null,null,null,null,null,null,null,null,null,null,null,null,null,null,null,null,null,null,null,null,null,null,null,"№40496",1.1037938068461184,-6.517112188471208E-2,0.51931134248070321,{"$f":"ROUND(AG80993,0)","v":1},{"$f":"ROUND(AG80994,0)","v":3},{"$f":"IF(AH80993>AI80993,1,\"\")","v":""},{"$f":"IF(AH80993=AI80993,1,\"\")","v":""},{"$f":"IF(AH80993<AI80993,1,\"\")","v":1},{"$f":"AH80993&\"-\"&AI80993","v":"1-3"}]
[null,null,null,null,null,null,null,null,null,null,null,null,null,null,null,null,null,null,null,null,null,null,null,null,null,null,null,null,null,null,1.944160637263717,-1.1214079779562049,0.41137632965375603]
[null,null,null,null,null,null,null,null,null,null,null,null,null,null,null,null,null,null,null,null,null,null,null,null,null,null,null,null,null,"№40600",3.7479758867397543,1.1994811279759303,2.4737285073578423,{"$f":"ROUND(AG81201,0)","v":2},{"$f":"ROUND(AG81202,0)","v":3},{"$f":"IF(AH81201>AI81201,1,\"\")","v":""},{"$f":"IF(AH81201=AI81201,1,\"\")","v":""},{"$f":"IF(AH81201<AI81201,1,\"\")","v":1},{"$f":"AH81201&\"-\"&AI81201","v":"2-3"}]
[null,null,null,null,null,null,null,null,null,null,null,null,null,null,null,null,null,null,null,null,null,null,null,null,null,null,null,null,null,"№40669",3.2587965248973663,-0.41595595118730433,1.421420286855031,{"$f":"ROUND(AG81339,0)","v":1},{"$f":"ROUND(AG81340,0)","v":2},{"$f":"IF(AH81339>AI81339,1,\"\")","v":""},{"$f":"IF(AH81339=AI81339,1,\"\")","v":""},{"$f":"IF(AH81339<AI81339,1,\"\")","v":1},{"$f":"AH81339&\"-\"&AI81339","v":"1-2"}]
[null,null,null,null,null,null,null,null,null,null,null,null,null,null,null,null,null,null,null,null,null,null,null,null,null,null,null,null,null,null,1.9795315980403148,3.8629754501864229,2.9212535241133688]
[null,null,null,null,null,null,null,null,null,null,null,null,null,null,null,null,null,null,null,null,null,null,null,null,null,null,null,null,null,"№40759",1.7063473346249793,1.2743510030233156,1.4903491688241475,{"$f":"ROUND(AG81519,0)","v":1},{"$f":"ROUND(AG81520,0)","v":2},{"$f":"IF(AH81519>AI81519,1,\"\")","v":""},{"$f":"IF(AH81519=AI81519,1,\"\")","v":""},{"$f":"IF(AH81519<AI81519,1,\"\")","v":1},{"$f":"AH81519&\"-\"&AI81519","v":"1-2"}]
[null,null,null,null,null,null,null,null,null,null,null,null,null,null,null,null,null,null,null,null,null,null,null,null,null,null,null,null,null,"№40828",2.235192585817555,-0.97715378987380808,0.62901939797187345,{"$f":"ROUND(AG81657,0)","v":1},{"$f":"ROUND(AG81658,0)","v":2},{"$f":"IF(AH81657>AI81657,1,\"\")","v":""},{"$f":"IF(AH81657=AI81657,1,\"\")","v":""},{"$f":"IF(AH81657<AI81657,1,\"\")","v":1},{"$f":"AH81657&\"-\"&AI81657","v":"1-2"}]
[null,null,null,null,null,null,null,null,null,null,null,null,null,null,null,null,null,null,null,null,null,null,null,null,null,null,null,null,null,null,3.1237248268393496,-2.8563512117065093E-2,1.5475806573611424]
[null,null,null,null,null,null,null,null,null,null,null,null,null,null,null,null,null,null,null,null,null,null,null,null,null,null,null,null,null,"№40894",4.3154963436461253,0.78811481518481574,2.5518055794154706,{"$f":"ROUND(AG81789,0)","v":3},{"$f":"ROUND(AG81790,0)","v":1},{"$f":"IF(AH81789>AI81789,1,\"\")","v":1},{"$f":"IF(AH81789=AI81789,1,\"\")","v":""},{"$f":"IF(AH81789<AI81789,1,\"\")","v":""},{"$f":"AH81789&\"-\"&AI81789","v":"3-1"}]
[null,null,null,null,null,null,null,null,null,null,null,null,null,null,null,null,null,null,null,null,null,null,null,null,null,null,null,null,null,"№40987",1.5147268104063119,1.2504034264640862,1.382565118435199,{"$f":"ROUND(AG81975,0)","v":1},{"$f":"ROUND(AG81976,0)","v":4},{"$f":"IF(AH81975>AI81975,1,\"\")","v":""},{"$f":"IF(AH81975=AI81975,1,\"\")","v":""},{"$f":"IF(AH81975<AI81975,1,\"\")","v":1},{"$f":"AH81975&\"-\"&AI81975","v":"1-4"}]
[null,null,null,null,null,null,null,null,null,null,null,null,null,null,null,null,null,null,null,null,null,null,null,null,null,null,null,null,null,null,2.1224811931080212,0.14002388339269212,1.1312525382503567]
[null,null,null,null,null,null,null,null,null,null,null,null,null,null,null,null,null,null,null,null,null,null,null,null,null,null,null,null,null,null,1.718375294545889,2.2244580918598311,1.9714166932028601]
[null,null,null,null,null,null,null,null,null,null,null,null,null,null,null,null,null,null,null,null,null,null,null,null,null,null,null,null,null,null,2.1193473502531939,2.5501200118612277,2.3347336810572106]
[null,null,null,null,null,null,null,null,null,null,null,null,null,null,null,null,null,null,null,null,null,null,null,null,null,null,null,null,null,null,1.3730785436644166,1.4163444186494247,1.3947114811569206]
[null,null,null,null,null,null,null,null,null,null,null,null,null,null,null,null,null,null,null,null,null,null,null,null,null,null,null,null,null,"№41187",2.5490781929089805,1.3226050681750507,1.9358416305420156,{"$f":"ROUND(AG82375,0)","v":2},{"$f":"ROUND(AG82376,0)","v":0},{"$f":"IF(AH82375>AI82375,1,\"\")","v":1},{"$f":"IF(AH82375=AI82375,1,\"\")","v":""},{"$f":"IF(AH82375<AI82375,1,\"\")","v":""},{"$f":"AH82375&\"-\"&AI82375","v":"2-0"}]
[null,null,null,null,null,null,null,null,null,null,null,null,null,null,null,null,null,null,null,null,null,null,null,null,null,null,null,null,null,"№41258",-0.53705554125068566,-0.52585293286759738,-0.53145423705914152,{"$f":"ROUND(AG82517,0)","v":-1},{"$f":"ROUND(AG82518,0)","v":3},{"$f":"IF(AH82517>AI82517,1,\"\")","v":""},{"$f":"IF(AH82517=AI82517,1,\"\")","v":""},{"$f":"IF(AH82517<AI82517,1,\"\")","v":1},{"$f":"AH82517&\"-\"&AI82517","v":"-1-3"}]
[null,null,null,null,null,null,null,null,null,null,null,null,null,null,null,null,null,null,null,null,null,null,null,null,null,null,null,null,null,"№41292",4.6709728704683018,0.24482439618888951,2.4578986333285955,{"$f":"ROUND(AG82585,0)","v":2},{"$f":"ROUND(AG82586,0)","v":2},{"$f":"IF(AH82585>AI82585,1,\"\")","v":""},{"$f":"IF(AH82585=AI82585,1,\"\")","v":1},{"$f":"IF(AH82585<AI82585,1,\"\")","v":""},{"$f":"AH82585&\"-\"&AI82585","v":"2-2"}]
[null,null,null,null,null,null,null,null,null,null,null,null,null,null,null,null,null,null,null,null,null,null,null,null,null,null,null,null,null,"№41346",1.6639661854844223,8.3433316672935076E-2,{"$f":"(AE82693+AF82693)/2","v":0.8736997510786787},{"$f":"ROUND(AG82693,0)","v":1},{"$f":"ROUND(AG82694,0)","v":3},{"$f":"IF(AH82693>AI82693,1,\"\")","v":""},{"$f":"IF(AH82693=AI82693,1,\"\")","v":""},{"$f":"IF(AH82693<AI82693,1,\"\")","v":1},{"$f":"AH82693&\"-\"&AI82693","v":"1-3"}]
[null,null,null,null,null,null,null,null,null,null,null,null,null,null,null,null,null,null,null,null,null,null,null,null,null,null,null,null,null,"№41417",3.7618243938984701,-0.12469586882257799,1.8185642625379461,{"$f":"ROUND(AG82835,0)","v":2},{"$f":"ROUND(AG82836,0)","v":4},{"$f":"IF(AH82835>AI82835,1,\"\")","v":""},{"$f":"IF(AH82835=AI82835,1,\"\")","v":""},{"$f":"IF(AH82835<AI82835,1,\"\")","v":1},{"$f":"AH82835&\"-\"&AI82835","v":"2-4"}]
[null,null,null,null,null,null,null,null,null,null,null,null,null,null,null,null,null,null,null,null,null,null,null,null,null,null,null,null,null,null,1.9942796412032369,1.0055458724875899,1.4999127568454134]
[null,null,null,null,null,null,null,null,null,null,null,null,null,null,null,null,null,null,null,null,null,null,null,null,null,null,null,null,null,null,2.2380504521391815,1.0718661164836041,1.6549582843113928]
[null,null,null,null,null,null,null,null,null,null,null,null,null,null,null,null,null,null,null,null,null,null,null,null,null,null,null,null,null,"№41576",3.1589301308939413,0.54987060866134496,1.8544003697776432,{"$f":"ROUND(AG83153,0)","v":2},{"$f":"ROUND(AG83154,0)","v":2},{"$f":"IF(AH83153>AI83153,1,\"\")","v":""},{"$f":"IF(AH83153=AI83153,1,\"\")","v":1},{"$f":"IF(AH83153<AI83153,1,\"\")","v":""},{"$f":"AH83153&\"-\"&AI83153","v":"2-2"}]
[null,null,null,null,null,null,null,null,null,null,null,null,null,null,null,null,null,null,null,null,null,null,null,null,null,null,null,null,null,null,2.7322806155703496,0.86097511584144093,1.7966278657058954]
[null,null,null,null,null,null,null,null,null,null,null,null,null,null,null,null,null,null,null,null,null,null,null,null,null,null,null,null,null,null,2.3964820842151329,0.15083572797034495,1.2736589060927388]
[null,null,null,null,null,null,null,null,null,null,null,null,null,null,null,null,null,null,null,null,null,null,null,null,null,null,null,null,null,"№41690",3.1166035493466793,0.47438120723350946,1.7954923782900944,{"$f":"ROUND(AG83381,0)","v":2},{"$f":"ROUND(AG83382,0)","v":2},{"$f":"IF(AH83381>AI83381,1,\"\")","v":""},{"$f":"IF(AH83381=AI83381,1,\"\")","v":1},{"$f":"IF(AH83381<AI83381,1,\"\")","v":""},{"$f":"AH83381&\"-\"&AI83381","v":"2-2"}]
[null,null,null,null,null,null,null,null,null,null,null,null,null,null,null,null,null,null,null,null,null,null,null,null,null,null,null,null,null,null,3.0436698174506294,4.4136913079434645,3.728680562697047]
[null,null,null,null,null,null,null,null,null,null,null,null,null,null,null,null,null,null,null,null,null,null,null,null,null,null,null,null,null,null,{"$f":"_xlfn.NORM.INV(RAND(),$Z$4,$N$20)","v":1.8731985496436565},{"$f":"_xlfn.NORM.INV(RAND(),$AA$4,$J$20)","v":2.6175272315703579},2.2453628906070073]
[null,null,null,null,null,null,null,null,null,null,null,null,null,null,null,null,null,null,null,null,null,null,null,null,null,null,null,null,null,"№41845",5.2215905868369852,0.83246247683432306,3.027026531835654,{"$f":"ROUND(AG83691,0)","v":3},{"$f":"ROUND(AG83692,0)","v":2},{"$f":"IF(AH83691>AI83691,1,\"\")","v":1},{"$f":"IF(AH83691=AI83691,1,\"\")","v":""},{"$f":"IF(AH83691<AI83691,1,\"\")","v":""},{"$f":"AH83691&\"-\"&AI83691","v":"3-2"}]
[null,null,null,null,null,null,null,null,null,null,null,null,null,null,null,null,null,null,null,null,null,null,null,null,null,null,null,null,null,null,1.2756375620746621,3.5733677930177086,2.4245026775461853]
[null,null,null,null,null,null,null,null,null,null,null,null,null,null,null,null,null,null,null,null,null,null,null,null,null,null,null,null,null,"№41935",7.2061173255510411,0.9999938019275656,4.1030555637393036,{"$f":"ROUND(AG83871,0)","v":4},{"$f":"ROUND(AG83872,0)","v":2},{"$f":"IF(AH83871>AI83871,1,\"\")","v":1},{"$f":"IF(AH83871=AI83871,1,\"\")","v":""},{"$f":"IF(AH83871<AI83871,1,\"\")","v":""},{"$f":"AH83871&\"-\"&AI83871","v":"4-2"}]
[null,null,null,null,null,null,null,null,null,null,null,null,null,null,null,null,null,null,null,null,null,null,null,null,null,null,null,null,null,"№42004",1.4166368210495375,1.2314994073405487,1.3240681141950432,{"$f":"ROUND(AG84009,0)","v":1},{"$f":"ROUND(AG84010,0)","v":1},{"$f":"IF(AH84009>AI84009,1,\"\")","v":""},{"$f":"IF(AH84009=AI84009,1,\"\")","v":1},{"$f":"IF(AH84009<AI84009,1,\"\")","v":""},{"$f":"AH84009&\"-\"&AI84009","v":"1-1"}]
[null,null,null,null,null,null,null,null,null,null,null,null,null,null,null,null,null,null,null,null,null,null,null,null,null,null,null,null,null,null,1.3203376627218253,4.1331059652509161,2.7267218139863707]
[null,null,null,null,null,null,null,null,null,null,null,null,null,null,null,null,null,null,null,null,null,null,null,null,null,null,null,null,null,"№42088",4.1523884225386514,0.23845421155684077,2.1954213170477459,{"$f":"ROUND(AG84177,0)","v":2},{"$f":"ROUND(AG84178,0)","v":2},{"$f":"IF(AH84177>AI84177,1,\"\")","v":""},{"$f":"IF(AH84177=AI84177,1,\"\")","v":1},{"$f":"IF(AH84177<AI84177,1,\"\")","v":""},{"$f":"AH84177&\"-\"&AI84177","v":"2-2"}]
[null,null,null,null,null,null,null,null,null,null,null,null,null,null,null,null,null,null,null,null,null,null,null,null,null,null,null,null,null,"№42163",5.626712030858914,2.3697902660191366,3.9982511484390253,{"$f":"ROUND(AG84327,0)","v":4},{"$f":"ROUND(AG84328,0)","v":2},{"$f":"IF(AH84327>AI84327,1,\"\")","v":1},{"$f":"IF(AH84327=AI84327,1,\"\")","v":""},{"$f":"IF(AH84327<AI84327,1,\"\")","v":""},{"$f":"AH84327&\"-\"&AI84327","v":"4-2"}]
[null,null,null,null,null,null,null,null,null,null,null,null,null,null,null,null,null,null,null,null,null,null,null,null,null,null,null,null,null,null,2.2934805572297146,-0.1010710921071023,1.096204732561306]
[null,null,null,null,null,null,null,null,null,null,null,null,null,null,null,null,null,null,null,null,null,null,null,null,null,null,null,null,null,null,2.7603202174610502,5.7017666299926102,4.2310434237268302]
[null,null,null,null,null,null,null,null,null,null,null,null,null,null,null,null,null,null,null,null,null,null,null,null,null,null,null,null,null,null,2.3231856098302694,2.6770064965279126,2.500096053179091]
[null,null,null,null,null,null,null,null,null,null,null,null,null,null,null,null,null,null,null,null,null,null,null,null,null,null,null,null,null,null,1.3448714575349183,3.146800677411651,2.2458360674732845]
[null,null,null,null,null,null,null,null,null,null,null,null,null,null,null,null,null,null,null,null,null,null,null,null,null,null,null,null,null,null,0.97555769582597263,-0.59050498083297542,0.1925263574964986]
[null,null,null,null,null,null,null,null,null,null,null,null,null,null,null,null,null,null,null,null,null,null,null,null,null,null,null,null,null,"№42434",3.8800480502702839,1.3266154814364115,{"$f":"(AE84869+AF84869)/2","v":2.6033317658533477},{"$f":"ROUND(AG84869,0)","v":3},{"$f":"ROUND(AG84870,0)","v":3},{"$f":"IF(AH84869>AI84869,1,\"\")","v":""},{"$f":"IF(AH84869=AI84869,1,\"\")","v":1},{"$f":"IF(AH84869<AI84869,1,\"\")","v":""},{"$f":"AH84869&\"-\"&AI84869","v":"3-3"}]
[null,null,null,null,null,null,null,null,null,null,null,null,null,null,null,null,null,null,null,null,null,null,null,null,null,null,null,null,null,"№42486",2.3737726254981188,-0.82686966449515298,0.77345148050148294,{"$f":"ROUND(AG84973,0)","v":1},{"$f":"ROUND(AG84974,0)","v":0},{"$f":"IF(AH84973>AI84973,1,\"\")","v":1},{"$f":"IF(AH84973=AI84973,1,\"\")","v":""},{"$f":"IF(AH84973<AI84973,1,\"\")","v":""},{"$f":"AH84973&\"-\"&AI84973","v":"1-0"}]
[null,null,null,null,null,null,null,null,null,null,null,null,null,null,null,null,null,null,null,null,null,null,null,null,null,null,null,null,null,"№42524",2.5660276599253118,-1.2955547503077474,0.63523645480878221,{"$f":"ROUND(AG85049,0)","v":1},{"$f":"ROUND(AG85050,0)","v":1},{"$f":"IF(AH85049>AI85049,1,\"\")","v":""},{"$f":"IF(AH85049=AI85049,1,\"\")","v":1},{"$f":"IF(AH85049<AI85049,1,\"\")","v":""},{"$f":"AH85049&\"-\"&AI85049","v":"1-1"}]
[null,null,null,null,null,null,null,null,null,null,null,null,null,null,null,null,null,null,null,null,null,null,null,null,null,null,null,null,null,"№42593",{"$f":"_xlfn.NORM.INV(RAND(),$Z$3,$I$20)","v":1.8699300018584291},{"$f":"_xlfn.NORM.INV(RAND(),$AA$3,$O$20)","v":0.27421665583041321},1.0720733288444211,{"$f":"ROUND(AG85187,0)","v":1},{"$f":"ROUND(AG85188,0)","v":2},{"$f":"IF(AH85187>AI85187,1,\"\")","v":""},{"$f":"IF(AH85187=AI85187,1,\"\")","v":""},{"$f":"IF(AH85187<AI85187,1,\"\")","v":1},{"$f":"AH85187&\"-\"&AI85187","v":"1-2"}]
[null,null,null,null,null,null,null,null,null,null,null,null,null,null,null,null,null,null,null,null,null,null,null,null,null,null,null,null,null,"№42662",2.1067278086743109,1.058178374893747,1.5824530917840289,{"$f":"ROUND(AG85325,0)","v":2},{"$f":"ROUND(AG85326,0)","v":2},{"$f":"IF(AH85325>AI85325,1,\"\")","v":""},{"$f":"IF(AH85325=AI85325,1,\"\")","v":1},{"$f":"IF(AH85325<AI85325,1,\"\")","v":""},{"$f":"AH85325&\"-\"&AI85325","v":"2-2"}]
[null,null,null,null,null,null,null,null,null,null,null,null,null,null,null,null,null,null,null,null,null,null,null,null,null,null,null,null,null,null,2.3523023883334204,-2.2429897708190287,5.4656308757195848E-2]
[null,null,null,null,null,null,null,null,null,null,null,null,null,null,null,null,null,null,null,null,null,null,null,null,null,null,null,null,null,"№42752",2.6900694991416443,1.8595928802189765,2.2748311896803104,{"$f":"ROUND(AG85505,0)","v":2},{"$f":"ROUND(AG85506,0)","v":2},{"$f":"IF(AH85505>AI85505,1,\"\")","v":""},{"$f":"IF(AH85505=AI85505,1,\"\")","v":1},{"$f":"IF(AH85505<AI85505,1,\"\")","v":""},{"$f":"AH85505&\"-\"&AI85505","v":"2-2"}]
[null,null,null,null,null,null,null,null,null,null,null,null,null,null,null,null,null,null,null,null,null,null,null,null,null,null,null,null,null,null,1.816409576460134,0.36922200932702998,1.092815792893582]
[null,null,null,null,null,null,null,null,null,null,null,null,null,null,null,null,null,null,null,null,null,null,null,null,null,null,null,null,null,null,3.1476668753042176,2.2833219810214263,2.7154944281628222]
[null,null,null,null,null,null,null,null,null,null,null,null,null,null,null,null,null,null,null,null,null,null,null,null,null,null,null,null,null,"№42884",4.5595161397473412,1.5281121737359542,3.0438141567416475,{"$f":"ROUND(AG85769,0)","v":3},{"$f":"ROUND(AG85770,0)","v":2},{"$f":"IF(AH85769>AI85769,1,\"\")","v":1},{"$f":"IF(AH85769=AI85769,1,\"\")","v":""},{"$f":"IF(AH85769<AI85769,1,\"\")","v":""},{"$f":"AH85769&\"-\"&AI85769","v":"3-2"}]
[null,null,null,null,null,null,null,null,null,null,null,null,null,null,null,null,null,null,null,null,null,null,null,null,null,null,null,null,null,null,2.9013978867689687,2.8880766380783935,2.8947372624236811]
[null,null,null,null,null,null,null,null,null,null,null,null,null,null,null,null,null,null,null,null,null,null,null,null,null,null,null,null,null,null,3.7885757565344704,4.3324948047599765,4.0605352806472235]
[null,null,null,null,null,null,null,null,null,null,null,null,null,null,null,null,null,null,null,null,null,null,null,null,null,null,null,null,null,"№43021",3.3874538417166051,0.95105352505375396,2.1692536833851794,{"$f":"ROUND(AG86043,0)","v":2},{"$f":"ROUND(AG86044,0)","v":2},{"$f":"IF(AH86043>AI86043,1,\"\")","v":""},{"$f":"IF(AH86043=AI86043,1,\"\")","v":1},{"$f":"IF(AH86043<AI86043,1,\"\")","v":""},{"$f":"AH86043&\"-\"&AI86043","v":"2-2"}]
[null,null,null,null,null,null,null,null,null,null,null,null,null,null,null,null,null,null,null,null,null,null,null,null,null,null,null,null,null,null,1.3069455509774128,3.0084111186052471,2.15767833479133]
[null,null,null,null,null,null,null,null,null,null,null,null,null,null,null,null,null,null,null,null,null,null,null,null,null,null,null,null,null,"№43111",2.6578138876055615,0.78458234810258831,1.7211981178540749,{"$f":"ROUND(AG86223,0)","v":2},{"$f":"ROUND(AG86224,0)","v":2},{"$f":"IF(AH86223>AI86223,1,\"\")","v":""},{"$f":"IF(AH86223=AI86223,1,\"\")","v":1},{"$f":"IF(AH86223<AI86223,1,\"\")","v":""},{"$f":"AH86223&\"-\"&AI86223","v":"2-2"}]
[null,null,null,null,null,null,null,null,null,null,null,null,null,null,null,null,null,null,null,null,null,null,null,null,null,null,null,null,null,"№43182",4.6640505610159133,2.4944801389615243,3.5792653499887188,{"$f":"ROUND(AG86365,0)","v":4},{"$f":"ROUND(AG86366,0)","v":2},{"$f":"IF(AH86365>AI86365,1,\"\")","v":1},{"$f":"IF(AH86365=AI86365,1,\"\")","v":""},{"$f":"IF(AH86365<AI86365,1,\"\")","v":""},{"$f":"AH86365&\"-\"&AI86365","v":"4-2"}]
[null,null,null,null,null,null,null,null,null,null,null,null,null,null,null,null,null,null,null,null,null,null,null,null,null,null,null,null,null,"№43251",2.8343978586629506,0.77982933842980651,1.8071135985463784,{"$f":"ROUND(AG86503,0)","v":2},{"$f":"ROUND(AG86504,0)","v":0},{"$f":"IF(AH86503>AI86503,1,\"\")","v":1},{"$f":"IF(AH86503=AI86503,1,\"\")","v":""},{"$f":"IF(AH86503<AI86503,1,\"\")","v":""},{"$f":"AH86503&\"-\"&AI86503","v":"2-0"}]
[null,null,null,null,null,null,null,null,null,null,null,null,null,null,null,null,null,null,null,null,null,null,null,null,null,null,null,null,null,"№43282",3.4744656027155543,0.57244761910733066,2.0234566109114427,{"$f":"ROUND(AG86565,0)","v":2},{"$f":"ROUND(AG86566,0)","v":2},{"$f":"IF(AH86565>AI86565,1,\"\")","v":""},{"$f":"IF(AH86565=AI86565,1,\"\")","v":1},{"$f":"IF(AH86565<AI86565,1,\"\")","v":""},{"$f":"AH86565&\"-\"&AI86565","v":"2-2"}]
[null,null,null,null,null,null,null,null,null,null,null,null,null,null,null,null,null,null,null,null,null,null,null,null,null,null,null,null,null,"№43341",2.4979778826085619,1.5871281567817779,2.0425530196951698,{"$f":"ROUND(AG86683,0)","v":2},{"$f":"ROUND(AG86684,0)","v":2},{"$f":"IF(AH86683>AI86683,1,\"\")","v":""},{"$f":"IF(AH86683=AI86683,1,\"\")","v":1},{"$f":"IF(AH86683<AI86683,1,\"\")","v":""},{"$f":"AH86683&\"-\"&AI86683","v":"2-2"}]
[null,null,null,null,null,null,null,null,null,null,null,null,null,null,null,null,null,null,null,null,null,null,null,null,null,null,null,null,null,null,1.5031880303166121,0.31261993668724153,0.9079039835019268]
[null,null,null,null,null,null,null,null,null,null,null,null,null,null,null,null,null,null,null,null,null,null,null,null,null,null,null,null,null,null,2.9170867348877203,2.4050481879467194,2.6610674614172201]
[null,null,null,null,null,null,null,null,null,null,null,null,null,null,null,null,null,null,null,null,null,null,null,null,null,null,null,null,null,null,2.7579561480202872,1.9254540055174996,2.3417050767688936]
[null,null,null,null,null,null,null,null,null,null,null,null,null,null,null,null,null,null,null,null,null,null,null,null,null,null,null,null,null,null,2.3607005239681964,4.6545798289545992,3.5076401764613978]
[null,null,null,null,null,null,null,null,null,null,null,null,null,null,null,null,null,null,null,null,null,null,null,null,null,null,null,null,null,null,1.8640907673520066,2.9607680657611315,2.4124294165565692]
[null,null,null,null,null,null,null,null,null,null,null,null,null,null,null,null,null,null,null,null,null,null,null,null,null,null,null,null,null,"№43610",4.8649809527773442,0.7334135096733374,2.7991972312253406,{"$f":"ROUND(AG87221,0)","v":3},{"$f":"ROUND(AG87222,0)","v":2},{"$f":"IF(AH87221>AI87221,1,\"\")","v":1},{"$f":"IF(AH87221=AI87221,1,\"\")","v":""},{"$f":"IF(AH87221<AI87221,1,\"\")","v":""},{"$f":"AH87221&\"-\"&AI87221","v":"3-2"}]
[null,null,null,null,null,null,null,null,null,null,null,null,null,null,null,null,null,null,null,null,null,null,null,null,null,null,null,null,null,"№43679",2.6640039655797412,-0.93699484703394842,0.86350455927289638,{"$f":"ROUND(AG87359,0)","v":1},{"$f":"ROUND(AG87360,0)","v":1},{"$f":"IF(AH87359>AI87359,1,\"\")","v":""},{"$f":"IF(AH87359=AI87359,1,\"\")","v":1},{"$f":"IF(AH87359<AI87359,1,\"\")","v":""},{"$f":"AH87359&\"-\"&AI87359","v":"1-1"}]
[null,null,null,null,null,null,null,null,null,null,null,null,null,null,null,null,null,null,null,null,null,null,null,null,null,null,null,null,null,"№43739",1.4122598321822251,2.2202961482967307,1.8162779902394779,{"$f":"ROUND(AG87479,0)","v":2},{"$f":"ROUND(AG87480,0)","v":1},{"$f":"IF(AH87479>AI87479,1,\"\")","v":1},{"$f":"IF(AH87479=AI87479,1,\"\")","v":""},{"$f":"IF(AH87479<AI87479,1,\"\")","v":""},{"$f":"AH87479&\"-\"&AI87479","v":"2-1"}]
[null,null,null,null,null,null,null,null,null,null,null,null,null,null,null,null,null,null,null,null,null,null,null,null,null,null,null,null,null,"№43769",4.112131948651923,0.43792216647622006,2.2750270575640714,{"$f":"ROUND(AG87539,0)","v":2},{"$f":"ROUND(AG87540,0)","v":1},{"$f":"IF(AH87539>AI87539,1,\"\")","v":1},{"$f":"IF(AH87539=AI87539,1,\"\")","v":""},{"$f":"IF(AH87539<AI87539,1,\"\")","v":""},{"$f":"AH87539&\"-\"&AI87539","v":"2-1"}]
[null,null,null,null,null,null,null,null,null,null,null,null,null,null,null,null,null,null,null,null,null,null,null,null,null,null,null,null,null,"№43838",4.4254061553892718,0.50380682401194266,2.464606489700607,{"$f":"ROUND(AG87677,0)","v":2},{"$f":"ROUND(AG87678,0)","v":1},{"$f":"IF(AH87677>AI87677,1,\"\")","v":1},{"$f":"IF(AH87677=AI87677,1,\"\")","v":""},{"$f":"IF(AH87677<AI87677,1,\"\")","v":""},{"$f":"AH87677&\"-\"&AI87677","v":"2-1"}]
[null,null,null,null,null,null,null,null,null,null,null,null,null,null,null,null,null,null,null,null,null,null,null,null,null,null,null,null,null,null,2.6433635913524891,0.36014183575256675,1.5017527135525279]
[null,null,null,null,null,null,null,null,null,null,null,null,null,null,null,null,null,null,null,null,null,null,null,null,null,null,null,null,null,null,1.7984344417066216,2.6074918981303794,2.2029631699185006]
[null,null,null,null,null,null,null,null,null,null,null,null,null,null,null,null,null,null,null,null,null,null,null,null,null,null,null,null,null,"№43999",3.1247218686325477,1.0830085370683458,2.1038652028504465,{"$f":"ROUND(AG87999,0)","v":2},{"$f":"ROUND(AG88000,0)","v":2},{"$f":"IF(AH87999>AI87999,1,\"\")","v":""},{"$f":"IF(AH87999=AI87999,1,\"\")","v":1},{"$f":"IF(AH87999<AI87999,1,\"\")","v":""},{"$f":"AH87999&\"-\"&AI87999","v":"2-2"}]
[null,null,null,null,null,null,null,null,null,null,null,null,null,null,null,null,null,null,null,null,null,null,null,null,null,null,null,null,null,null,2.0614577161366436,1.1361399542495909,1.5987988351931173]
[null,null,null,null,null,null,null,null,null,null,null,null,null,null,null,null,null,null,null,null,null,null,null,null,null,null,null,null,null,null,1.7269200330568375,2.5419421828593975,2.1344311079581173]
[null,null,null,null,null,null,null,null,null,null,null,null,null,null,null,null,null,null,null,null,null,null,null,null,null,null,null,null,null,"№44137",3.8547969861030889,1.9051834213330479,2.8799902037180685,{"$f":"ROUND(AG88275,0)","v":3},{"$f":"ROUND(AG88276,0)","v":2},{"$f":"IF(AH88275>AI88275,1,\"\")","v":1},{"$f":"IF(AH88275=AI88275,1,\"\")","v":""},{"$f":"IF(AH88275<AI88275,1,\"\")","v":""},{"$f":"AH88275&\"-\"&AI88275","v":"3-2"}]
[null,null,null,null,null,null,null,null,null,null,null,null,null,null,null,null,null,null,null,null,null,null,null,null,null,null,null,null,null,null,3.1616657474312224,1.5857311046505409,2.3736984260408818]
[null,null,null,null,null,null,null,null,null,null,null,null,null,null,null,null,null,null,null,null,null,null,null,null,null,null,null,null,null,"№44199",4.7337025301017208,2.8161413762364189,3.7749219531690699,{"$f":"ROUND(AG88399,0)","v":4},{"$f":"ROUND(AG88400,0)","v":1},{"$f":"IF(AH88399>AI88399,1,\"\")","v":1},{"$f":"IF(AH88399=AI88399,1,\"\")","v":""},{"$f":"IF(AH88399<AI88399,1,\"\")","v":""},{"$f":"AH88399&\"-\"&AI88399","v":"4-1"}]
[null,null,null,null,null,null,null,null,null,null,null,null,null,null,null,null,null,null,null,null,null,null,null,null,null,null,null,null,null,"№44268",3.3448823520491793,0.7801539196083952,2.0625181358287872,{"$f":"ROUND(AG88537,0)","v":2},{"$f":"ROUND(AG88538,0)","v":3},{"$f":"IF(AH88537>AI88537,1,\"\")","v":""},{"$f":"IF(AH88537=AI88537,1,\"\")","v":""},{"$f":"IF(AH88537<AI88537,1,\"\")","v":1},{"$f":"AH88537&\"-\"&AI88537","v":"2-3"}]
[null,null,null,null,null,null,null,null,null,null,null,null,null,null,null,null,null,null,null,null,null,null,null,null,null,null,null,null,null,null,1.2772635664664733,0.6431976997241905,0.96023063309533185]
[null,null,null,null,null,null,null,null,null,null,null,null,null,null,null,null,null,null,null,null,null,null,null,null,null,null,null,null,null,"№44358",2.3859372206428251,0.63994121105459656,1.5129392158487107,{"$f":"ROUND(AG88717,0)","v":2},{"$f":"ROUND(AG88718,0)","v":2},{"$f":"IF(AH88717>AI88717,1,\"\")","v":""},{"$f":"IF(AH88717=AI88717,1,\"\")","v":1},{"$f":"IF(AH88717<AI88717,1,\"\")","v":""},{"$f":"AH88717&\"-\"&AI88717","v":"2-2"}]
[null,null,null,null,null,null,null,null,null,null,null,null,null,null,null,null,null,null,null,null,null,null,null,null,null,null,null,null,null,"№44427",4.3838618803021809,1.3543696233874618,2.8691157518448214,{"$f":"ROUND(AG88855,0)","v":3},{"$f":"ROUND(AG88856,0)","v":2},{"$f":"IF(AH88855>AI88855,1,\"\")","v":1},{"$f":"IF(AH88855=AI88855,1,\"\")","v":""},{"$f":"IF(AH88855<AI88855,1,\"\")","v":""},{"$f":"AH88855&\"-\"&AI88855","v":"3-2"}]
[null,null,null,null,null,null,null,null,null,null,null,null,null,null,null,null,null,null,null,null,null,null,null,null,null,null,null,null,null,null,2.5189715593576238,3.2388945770052007,2.8789330681814125]
[null,null,null,null,null,null,null,null,null,null,null,null,null,null,null,null,null,null,null,null,null,null,null,null,null,null,null,null,null,"№44535",4.1658655494496184,2.5852812101874298,3.3755733798185243,{"$f":"ROUND(AG89071,0)","v":3},{"$f":"ROUND(AG89072,0)","v":3},{"$f":"IF(AH89071>AI89071,1,\"\")","v":""},{"$f":"IF(AH89071=AI89071,1,\"\")","v":1},{"$f":"IF(AH89071<AI89071,1,\"\")","v":""},{"$f":"AH89071&\"-\"&AI89071","v":"3-3"}]
[null,null,null,null,null,null,null,null,null,null,null,null,null,null,null,null,null,null,null,null,null,null,null,null,null,null,null,null,null,"№44586",3.2496095047398836,2.2398750887285863,2.744742296734235,{"$f":"ROUND(AG89173,0)","v":3},{"$f":"ROUND(AG89174,0)","v":2},{"$f":"IF(AH89173>AI89173,1,\"\")","v":1},{"$f":"IF(AH89173=AI89173,1,\"\")","v":""},{"$f":"IF(AH89173<AI89173,1,\"\")","v":""},{"$f":"AH89173&\"-\"&AI89173","v":"3-2"}]
[null,null,null,null,null,null,null,null,null,null,null,null,null,null,null,null,null,null,null,null,null,null,null,null,null,null,null,null,null,null,1.5537105356609726,2.4215877285460228,1.9876491321034977]
[null,null,null,null,null,null,null,null,null,null,null,null,null,null,null,null,null,null,null,null,null,null,null,null,null,null,null,null,null,null,3.4306201506474316,-0.18650335746523394,1.6220583965910988]
[null,null,null,null,null,null,null,null,null,null,null,null,null,null,null,null,null,null,null,null,null,null,null,null,null,null,null,null,null,null,1.7471051157924078,2.0204557721441918,1.8837804439682997]
[null,null,null,null,null,null,null,null,null,null,null,null,null,null,null,null,null,null,null,null,null,null,null,null,null,null,null,null,null,null,1.7933306779180251,1.5104675409206769,1.6518991094193511]
[null,null,null,null,null,null,null,null,null,null,null,null,null,null,null,null,null,null,null,null,null,null,null,null,null,null,null,null,null,null,1.468288280970647,5.3321367099179264,3.4002124954442867]
[null,null,null,null,null,null,null,null,null,null,null,null,null,null,null,null,null,null,null,null,null,null,null,null,null,null,null,null,null,"№44857",2.93255834488797,0.22539956487364821,1.5789789548808091,{"$f":"ROUND(AG89715,0)","v":2},{"$f":"ROUND(AG89716,0)","v":2},{"$f":"IF(AH89715>AI89715,1,\"\")","v":""},{"$f":"IF(AH89715=AI89715,1,\"\")","v":1},{"$f":"IF(AH89715<AI89715,1,\"\")","v":""},{"$f":"AH89715&\"-\"&AI89715","v":"2-2"}]
[null,null,null,null,null,null,null,null,null,null,null,null,null,null,null,null,null,null,null,null,null,null,null,null,null,null,null,null,null,"№44933",5.2108384933668273,1.6829851991193099,3.4469118462430686,{"$f":"ROUND(AG89867,0)","v":3},{"$f":"ROUND(AG89868,0)","v":2},{"$f":"IF(AH89867>AI89867,1,\"\")","v":1},{"$f":"IF(AH89867=AI89867,1,\"\")","v":""},{"$f":"IF(AH89867<AI89867,1,\"\")","v":""},{"$f":"AH89867&\"-\"&AI89867","v":"3-2"}]
[null,null,null,null,null,null,null,null,null,null,null,null,null,null,null,null,null,null,null,null,null,null,null,null,null,null,null,null,null,"№44945",1.455415533900789,0.20537830578813399,0.83039691984446151,{"$f":"ROUND(AG89891,0)","v":1},{"$f":"ROUND(AG89892,0)","v":2},{"$f":"IF(AH89891>AI89891,1,\"\")","v":""},{"$f":"IF(AH89891=AI89891,1,\"\")","v":""},{"$f":"IF(AH89891<AI89891,1,\"\")","v":1},{"$f":"AH89891&\"-\"&AI89891","v":"1-2"}]
[null,null,null,null,null,null,null,null,null,null,null,null,null,null,null,null,null,null,null,null,null,null,null,null,null,null,null,null,null,"№45016",2.7416047851365479,1.001551065193458,1.8715779251650031,{"$f":"ROUND(AG90033,0)","v":2},{"$f":"ROUND(AG90034,0)","v":3},{"$f":"IF(AH90033>AI90033,1,\"\")","v":""},{"$f":"IF(AH90033=AI90033,1,\"\")","v":""},{"$f":"IF(AH90033<AI90033,1,\"\")","v":1},{"$f":"AH90033&\"-\"&AI90033","v":"2-3"}]
[null,null,null,null,null,null,null,null,null,null,null,null,null,null,null,null,null,null,null,null,null,null,null,null,null,null,null,null,null,"№45085",5.0657003850830966,-1.2215475107377907,1.9220764371726529,{"$f":"ROUND(AG90171,0)","v":2},{"$f":"ROUND(AG90172,0)","v":1},{"$f":"IF(AH90171>AI90171,1,\"\")","v":1},{"$f":"IF(AH90171=AI90171,1,\"\")","v":""},{"$f":"IF(AH90171<AI90171,1,\"\")","v":""},{"$f":"AH90171&\"-\"&AI90171","v":"2-1"}]
[null,null,null,null,null,null,null,null,null,null,null,null,null,null,null,null,null,null,null,null,null,null,null,null,null,null,null,null,null,null,2.3154538628512409,1.7532080753514421,2.0343309691013416]
[null,null,null,null,null,null,null,null,null,null,null,null,null,null,null,null,null,null,null,null,null,null,null,null,null,null,null,null,null,"№45175",1.6217602122810033,-5.1839772974729192E-2,0.78496021965313711,{"$f":"ROUND(AG90351,0)","v":1},{"$f":"ROUND(AG90352,0)","v":4},{"$f":"IF(AH90351>AI90351,1,\"\")","v":""},{"$f":"IF(AH90351=AI90351,1,\"\")","v":""},{"$f":"IF(AH90351<AI90351,1,\"\")","v":1},{"$f":"AH90351&\"-\"&AI90351","v":"1-4"}]
[null,null,null,null,null,null,null,null,null,null,null,null,null,null,null,null,null,null,null,null,null,null,null,null,null,null,null,null,null,null,3.2216451570775186,1.883554009442997,2.5525995832602577]
[null,null,null,null,null,null,null,null,null,null,null,null,null,null,null,null,null,null,null,null,null,null,null,null,null,null,null,null,null,null,1.2526639952312637,4.0608318156489727,2.6567479054401182]
[null,null,null,null,null,null,null,null,null,null,null,null,null,null,null,null,null,null,null,null,null,null,null,null,null,null,null,null,null,"№45331",5.5995214445335835,2.1984503865360905,3.898985915534837,{"$f":"ROUND(AG90663,0)","v":4},{"$f":"ROUND(AG90664,0)","v":2},{"$f":"IF(AH90663>AI90663,1,\"\")","v":1},{"$f":"IF(AH90663=AI90663,1,\"\")","v":""},{"$f":"IF(AH90663<AI90663,1,\"\")","v":""},{"$f":"AH90663&\"-\"&AI90663","v":"4-2"}]
[null,null,null,null,null,null,null,null,null,null,null,null,null,null,null,null,null,null,null,null,null,null,null,null,null,null,null,null,null,null,2.1284066807334776,2.8287160655924586,2.4785613731629681]
[null,null,null,null,null,null,null,null,null,null,null,null,null,null,null,null,null,null,null,null,null,null,null,null,null,null,null,null,null,null,1.052929446945335,1.1864379213773359,1.1196836841613353]
[null,null,null,null,null,null,null,null,null,null,null,null,null,null,null,null,null,null,null,null,null,null,null,null,null,null,null,null,null,"№45444",2.7565890341135022,1.7742660901270719,2.2654275621202871,{"$f":"ROUND(AG90889,0)","v":2},{"$f":"ROUND(AG90890,0)","v":2},{"$f":"IF(AH90889>AI90889,1,\"\")","v":""},{"$f":"IF(AH90889=AI90889,1,\"\")","v":1},{"$f":"IF(AH90889<AI90889,1,\"\")","v":""},{"$f":"AH90889&\"-\"&AI90889","v":"2-2"}]
[null,null,null,null,null,null,null,null,null,null,null,null,null,null,null,null,null,null,null,null,null,null,null,null,null,null,null,null,null,null,2.6592288852261508,-0.75359855491424188,0.95281516515595444]
[null,null,null,null,null,null,null,null,null,null,null,null,null,null,null,null,null,null,null,null,null,null,null,null,null,null,null,null,null,"№45534",2.6239850858734108,-0.10722318995092861,1.2583809479612411,{"$f":"ROUND(AG91069,0)","v":1},{"$f":"ROUND(AG91070,0)","v":3},{"$f":"IF(AH91069>AI91069,1,\"\")","v":""},{"$f":"IF(AH91069=AI91069,1,\"\")","v":""},{"$f":"IF(AH91069<AI91069,1,\"\")","v":1},{"$f":"AH91069&\"-\"&AI91069","v":"1-3"}]
[null,null,null,null,null,null,null,null,null,null,null,null,null,null,null,null,null,null,null,null,null,null,null,null,null,null,null,null,null,"№45603",2.7321018724069619,-0.67867252104811171,1.026714675679425,{"$f":"ROUND(AG91207,0)","v":1},{"$f":"ROUND(AG91208,0)","v":3},{"$f":"IF(AH91207>AI91207,1,\"\")","v":""},{"$f":"IF(AH91207=AI91207,1,\"\")","v":""},{"$f":"IF(AH91207<AI91207,1,\"\")","v":1},{"$f":"AH91207&\"-\"&AI91207","v":"1-3"}]
[null,null,null,null,null,null,null,null,null,null,null,null,null,null,null,null,null,null,null,null,null,null,null,null,null,null,null,null,null,"№45674",0.38927991147348662,0.81846991330719598,0.6038749123903413,{"$f":"ROUND(AG91349,0)","v":1},{"$f":"ROUND(AG91350,0)","v":3},{"$f":"IF(AH91349>AI91349,1,\"\")","v":""},{"$f":"IF(AH91349=AI91349,1,\"\")","v":""},{"$f":"IF(AH91349<AI91349,1,\"\")","v":1},{"$f":"AH91349&\"-\"&AI91349","v":"1-3"}]
[null,null,null,null,null,null,null,null,null,null,null,null,null,null,null,null,null,null,null,null,null,null,null,null,null,null,null,null,null,"№45680",4.0983781737759646,1.3325082271165019,2.7154432004462334,{"$f":"ROUND(AG91361,0)","v":3},{"$f":"ROUND(AG91362,0)","v":1},{"$f":"IF(AH91361>AI91361,1,\"\")","v":1},{"$f":"IF(AH91361=AI91361,1,\"\")","v":""},{"$f":"IF(AH91361<AI91361,1,\"\")","v":""},{"$f":"AH91361&\"-\"&AI91361","v":"3-1"}]
[null,null,null,null,null,null,null,null,null,null,null,null,null,null,null,null,null,null,null,null,null,null,null,null,null,null,null,null,null,"№45762",4.4397099135758875,-0.14081441581199661,{"$f":"(AE91525+AF91525)/2","v":2.1494477488819452},{"$f":"ROUND(AG91525,0)","v":2},{"$f":"ROUND(AG91526,0)","v":2},{"$f":"IF(AH91525>AI91525,1,\"\")","v":""},{"$f":"IF(AH91525=AI91525,1,\"\")","v":1},{"$f":"IF(AH91525<AI91525,1,\"\")","v":""},{"$f":"AH91525&\"-\"&AI91525","v":"2-2"}]
[null,null,null,null,null,null,null,null,null,null,null,null,null,null,null,null,null,null,null,null,null,null,null,null,null,null,null,null,null,null,1.4613325079417396,1.4247836148849642,1.4430580614133519]
[null,null,null,null,null,null,null,null,null,null,null,null,null,null,null,null,null,null,null,null,null,null,null,null,null,null,null,null,null,null,1.8243400052420211,2.2576124573778742,2.0409762313099478]
[null,null,null,null,null,null,null,null,null,null,null,null,null,null,null,null,null,null,null,null,null,null,null,null,null,null,null,null,null,null,3.0793423273804539,0.92342924416123584,2.0013857857708448]
[null,null,null,null,null,null,null,null,null,null,null,null,null,null,null,null,null,null,null,null,null,null,null,null,null,null,null,null,null,null,2.0974399330989684,-0.79853405957030654,0.64945293676433091]
[null,null,null,null,null,null,null,null,null,null,null,null,null,null,null,null,null,null,null,null,null,null,null,null,null,null,null,null,null,null,2.3159685860126071,1.4372326469793251,1.8766006164959661]
[null,null,null,null,null,null,null,null,null,null,null,null,null,null,null,null,null,null,null,null,null,null,null,null,null,null,null,null,null,"№46033",4.1797190004159317,1.94119225752731,3.0604556289716207,{"$f":"ROUND(AG92067,0)","v":3},{"$f":"ROUND(AG92068,0)","v":3},{"$f":"IF(AH92067>AI92067,1,\"\")","v":""},{"$f":"IF(AH92067=AI92067,1,\"\")","v":1},{"$f":"IF(AH92067<AI92067,1,\"\")","v":""},{"$f":"AH92067&\"-\"&AI92067","v":"3-3"}]
[null,null,null,null,null,null,null,null,null,null,null,null,null,null,null,null,null,null,null,null,null,null,null,null,null,null,null,null,null,"№46078",3.2954905606672598,1.3486149362514954,2.3220527484593774,{"$f":"ROUND(AG92157,0)","v":2},{"$f":"ROUND(AG92158,0)","v":1},{"$f":"IF(AH92157>AI92157,1,\"\")","v":1},{"$f":"IF(AH92157=AI92157,1,\"\")","v":""},{"$f":"IF(AH92157<AI92157,1,\"\")","v":""},{"$f":"AH92157&\"-\"&AI92157","v":"2-1"}]
[null,null,null,null,null,null,null,null,null,null,null,null,null,null,null,null,null,null,null,null,null,null,null,null,null,null,null,null,null,null,2.2113314926218353,2.3148893371023975,2.2631104148621164]
[null,null,null,null,null,null,null,null,null,null,null,null,null,null,null,null,null,null,null,null,null,null,null,null,null,null,null,null,null,"№46192",1.5154554150624409,0.67293669624328367,1.0941960556528623,{"$f":"ROUND(AG92385,0)","v":1},{"$f":"ROUND(AG92386,0)","v":4},{"$f":"IF(AH92385>AI92385,1,\"\")","v":""},{"$f":"IF(AH92385=AI92385,1,\"\")","v":""},{"$f":"IF(AH92385<AI92385,1,\"\")","v":1},{"$f":"AH92385&\"-\"&AI92385","v":"1-4"}]
[null,null,null,null,null,null,null,null,null,null,null,null,null,null,null,null,null,null,null,null,null,null,null,null,null,null,null,null,null,"№46261",3.0672235929551892,2.3307879908178339,2.6990057918865116,{"$f":"ROUND(AG92523,0)","v":3},{"$f":"ROUND(AG92524,0)","v":2},{"$f":"IF(AH92523>AI92523,1,\"\")","v":1},{"$f":"IF(AH92523=AI92523,1,\"\")","v":""},{"$f":"IF(AH92523<AI92523,1,\"\")","v":""},{"$f":"AH92523&\"-\"&AI92523","v":"3-2"}]
[null,null,null,null,null,null,null,null,null,null,null,null,null,null,null,null,null,null,null,null,null,null,null,null,null,null,null,null,null,null,2.5469510734279277,2.888351029621063,2.7176510515244954]
[null,null,null,null,null,null,null,null,null,null,null,null,null,null,null,null,null,null,null,null,null,null,null,null,null,null,null,null,null,"№46351",1.2080849671584515,1.0003006681547399,1.1041928176565956,{"$f":"ROUND(AG92703,0)","v":1},{"$f":"ROUND(AG92704,0)","v":2},{"$f":"IF(AH92703>AI92703,1,\"\")","v":""},{"$f":"IF(AH92703=AI92703,1,\"\")","v":""},{"$f":"IF(AH92703<AI92703,1,\"\")","v":1},{"$f":"AH92703&\"-\"&AI92703","v":"1-2"}]
[null,null,null,null,null,null,null,null,null,null,null,null,null,null,null,null,null,null,null,null,null,null,null,null,null,null,null,null,null,null,2.3770893341923047,1.1524656220815064,1.7647774781369057]
[null,null,null,null,null,null,null,null,null,null,null,null,null,null,null,null,null,null,null,null,null,null,null,null,null,null,null,null,null,null,3.6981396364385395,-1.4638433762562291,1.1171481300911552]
[null,null,null,null,null,null,null,null,null,null,null,null,null,null,null,null,null,null,null,null,null,null,null,null,null,null,null,null,null,"№46476",5.9924060599267479,2.4226602584727468,4.2075331591997474,{"$f":"ROUND(AG92953,0)","v":4},{"$f":"ROUND(AG92954,0)","v":3},{"$f":"IF(AH92953>AI92953,1,\"\")","v":1},{"$f":"IF(AH92953=AI92953,1,\"\")","v":""},{"$f":"IF(AH92953<AI92953,1,\"\")","v":""},{"$f":"AH92953&\"-\"&AI92953","v":"4-3"}]
[null,null,null,null,null,null,null,null,null,null,null,null,null,null,null,null,null,null,null,null,null,null,null,null,null,null,null,null,null,null,{"$f":"_xlfn.NORM.INV(RAND(),$Z$4,$N$20)","v":1.3292568748082982},{"$f":"_xlfn.NORM.INV(RAND(),$AA$4,$J$20)","v":2.2888105542628896},1.8090337145355939]
[null,null,null,null,null,null,null,null,null,null,null,null,null,null,null,null,null,null,null,null,null,null,null,null,null,null,null,null,null,null,1.4842441404903608,3.9268054545449842,2.7055247975176724]
[null,null,null,null,null,null,null,null,null,null,null,null,null,null,null,null,null,null,null,null,null,null,null,null,null,null,null,null,null,"№46620",2.2806595894521928,1.5651404179008939,1.9229000036765433,{"$f":"ROUND(AG93241,0)","v":2},{"$f":"ROUND(AG93242,0)","v":4},{"$f":"IF(AH93241>AI93241,1,\"\")","v":""},{"$f":"IF(AH93241=AI93241,1,\"\")","v":""},{"$f":"IF(AH93241<AI93241,1,\"\")","v":1},{"$f":"AH93241&\"-\"&AI93241","v":"2-4"}]
[null,null,null,null,null,null,null,null,null,null,null,null,null,null,null,null,null,null,null,null,null,null,null,null,null,null,null,null,null,null,2.0665707558373176,-1.111583602117499,0.47749357685990934]
[null,null,null,null,null,null,null,null,null,null,null,null,null,null,null,null,null,null,null,null,null,null,null,null,null,null,null,null,null,null,1.806098896523938,1.8341906954420581,1.8201447959829982]
[null,null,null,null,null,null,null,null,null,null,null,null,null,null,null,null,null,null,null,null,null,null,null,null,null,null,null,null,null,"№46779",4.1737682950803263,1.6117658624296336,2.89276707875498,{"$f":"ROUND(AG93559,0)","v":3},{"$f":"ROUND(AG93560,0)","v":2},{"$f":"IF(AH93559>AI93559,1,\"\")","v":1},{"$f":"IF(AH93559=AI93559,1,\"\")","v":""},{"$f":"IF(AH93559<AI93559,1,\"\")","v":""},{"$f":"AH93559&\"-\"&AI93559","v":"3-2"}]
[null,null,null,null,null,null,null,null,null,null,null,null,null,null,null,null,null,null,null,null,null,null,null,null,null,null,null,null,null,"№46850",2.4783468524220105,-0.91494764043109122,{"$f":"(AE93701+AF93701)/2","v":0.78169960599545962},{"$f":"ROUND(AG93701,0)","v":1},{"$f":"ROUND(AG93702,0)","v":0},{"$f":"IF(AH93701>AI93701,1,\"\")","v":1},{"$f":"IF(AH93701=AI93701,1,\"\")","v":""},{"$f":"IF(AH93701<AI93701,1,\"\")","v":""},{"$f":"AH93701&\"-\"&AI93701","v":"1-0"}]
[null,null,null,null,null,null,null,null,null,null,null,null,null,null,null,null,null,null,null,null,null,null,null,null,null,null,null,null,null,"№46874",3.2086759561961897,-0.63579008776058021,1.2864429342178048,{"$f":"ROUND(AG93749,0)","v":1},{"$f":"ROUND(AG93750,0)","v":2},{"$f":"IF(AH93749>AI93749,1,\"\")","v":""},{"$f":"IF(AH93749=AI93749,1,\"\")","v":""},{"$f":"IF(AH93749<AI93749,1,\"\")","v":1},{"$f":"AH93749&\"-\"&AI93749","v":"1-2"}]
[null,null,null,null,null,null,null,null,null,null,null,null,null,null,null,null,null,null,null,null,null,null,null,null,null,null,null,null,null,"№46940",3.1902391549548237,1.0395150632010068,2.1148771090779155,{"$f":"ROUND(AG93881,0)","v":2},{"$f":"ROUND(AG93882,0)","v":2},{"$f":"IF(AH93881>AI93881,1,\"\")","v":""},{"$f":"IF(AH93881=AI93881,1,\"\")","v":1},{"$f":"IF(AH93881<AI93881,1,\"\")","v":""},{"$f":"AH93881&\"-\"&AI93881","v":"2-2"}]
[null,null,null,null,null,null,null,null,null,null,null,null,null,null,null,null,null,null,null,null,null,null,null,null,null,null,null,null,null,"№47009",{"$f":"_xlfn.NORM.INV(RAND(),$Z$3,$I$20)","v":2.445474240521742},{"$f":"_xlfn.NORM.INV(RAND(),$AA$3,$O$20)","v":1.787357803803397},2.1164160221625696,{"$f":"ROUND(AG94019,0)","v":2},{"$f":"ROUND(AG94020,0)","v":3},{"$f":"IF(AH94019>AI94019,1,\"\")","v":""},{"$f":"IF(AH94019=AI94019,1,\"\")","v":""},{"$f":"IF(AH94019<AI94019,1,\"\")","v":1},{"$f":"AH94019&\"-\"&AI94019","v":"2-3"}]
[null,null,null,null,null,null,null,null,null,null,null,null,null,null,null,null,null,null,null,null,null,null,null,null,null,null,null,null,null,null,2.2789532834321613,0.69562606929574522,1.4872896763639534]
[null,null,null,null,null,null,null,null,null,null,null,null,null,null,null,null,null,null,null,null,null,null,null,null,null,null,null,null,null,null,2.0687615475369197,1.9567368397839091,2.0127491936604143]
[null,null,null,null,null,null,null,null,null,null,null,null,null,null,null,null,null,null,null,null,null,null,null,null,null,null,null,null,null,null,1.5932350094185184,-0.12348289019375192,0.73487605961238323]
[null,null,null,null,null,null,null,null,null,null,null,null,null,null,null,null,null,null,null,null,null,null,null,null,null,null,null,null,null,null,1.4096511310043984,2.4201777755616405,1.9149144532830196]
[null,null,null,null,null,null,null,null,null,null,null,null,null,null,null,null,null,null,null,null,null,null,null,null,null,null,null,null,null,null,2.055351783637402,3.5796727497707446,2.8175122667040733]
[null,null,null,null,null,null,null,null,null,null,null,null,null,null,null,null,null,null,null,null,null,null,null,null,null,null,null,null,null,"№47272",4.0051269073785321,1.7386150127232451,2.8718709600508885,{"$f":"ROUND(AG94545,0)","v":3},{"$f":"ROUND(AG94546,0)","v":3},{"$f":"IF(AH94545>AI94545,1,\"\")","v":""},{"$f":"IF(AH94545=AI94545,1,\"\")","v":1},{"$f":"IF(AH94545<AI94545,1,\"\")","v":""},{"$f":"AH94545&\"-\"&AI94545","v":"3-3"}]
[null,null,null,null,null,null,null,null,null,null,null,null,null,null,null,null,null,null,null,null,null,null,null,null,null,null,null,null,null,null,3.530434409929653,1.2391736254902472,2.3848040177099499]
[null,null,null,null,null,null,null,null,null,null,null,null,null,null,null,null,null,null,null,null,null,null,null,null,null,null,null,null,null,"№47368",3.8815619462535245,1.7940664832398407,2.8378142147466825,{"$f":"ROUND(AG94737,0)","v":3},{"$f":"ROUND(AG94738,0)","v":3},{"$f":"IF(AH94737>AI94737,1,\"\")","v":""},{"$f":"IF(AH94737=AI94737,1,\"\")","v":1},{"$f":"IF(AH94737<AI94737,1,\"\")","v":""},{"$f":"AH94737&\"-\"&AI94737","v":"3-3"}]
[null,null,null,null,null,null,null,null,null,null,null,null,null,null,null,null,null,null,null,null,null,null,null,null,null,null,null,null,null,"№47437",2.5375078194812515,0.5022246542613179,1.5198662368712847,{"$f":"ROUND(AG94875,0)","v":2},{"$f":"ROUND(AG94876,0)","v":2},{"$f":"IF(AH94875>AI94875,1,\"\")","v":""},{"$f":"IF(AH94875=AI94875,1,\"\")","v":1},{"$f":"IF(AH94875<AI94875,1,\"\")","v":""},{"$f":"AH94875&\"-\"&AI94875","v":"2-2"}]
[null,null,null,null,null,null,null,null,null,null,null,null,null,null,null,null,null,null,null,null,null,null,null,null,null,null,null,null,null,null,1.9298038959923245,-0.30507100835599821,0.81236644381816314]
[null,null,null,null,null,null,null,null,null,null,null,null,null,null,null,null,null,null,null,null,null,null,null,null,null,null,null,null,null,"№47527",3.897671536848236,1.2953415001113839,2.59650651847981,{"$f":"ROUND(AG95055,0)","v":3},{"$f":"ROUND(AG95056,0)","v":3},{"$f":"IF(AH95055>AI95055,1,\"\")","v":""},{"$f":"IF(AH95055=AI95055,1,\"\")","v":1},{"$f":"IF(AH95055<AI95055,1,\"\")","v":""},{"$f":"AH95055&\"-\"&AI95055","v":"3-3"}]
[null,null,null,null,null,null,null,null,null,null,null,null,null,null,null,null,null,null,null,null,null,null,null,null,null,null,null,null,null,"№47598",7.6340023818051055,1.4127964383963256,4.5233994101007156,{"$f":"ROUND(AG95197,0)","v":5},{"$f":"ROUND(AG95198,0)","v":2},{"$f":"IF(AH95197>AI95197,1,\"\")","v":1},{"$f":"IF(AH95197=AI95197,1,\"\")","v":""},{"$f":"IF(AH95197<AI95197,1,\"\")","v":""},{"$f":"AH95197&\"-\"&AI95197","v":"5-2"}]
[null,null,null,null,null,null,null,null,null,null,null,null,null,null,null,null,null,null,null,null,null,null,null,null,null,null,null,null,null,null,{"$f":"_xlfn.NORM.INV(RAND(),$Z$4,$N$20)","v":3.6799500134893206},{"$f":"_xlfn.NORM.INV(RAND(),$AA$4,$J$20)","v":0.66369284157590358},2.171821427532612]
[null,null,null,null,null,null,null,null,null,null,null,null,null,null,null,null,null,null,null,null,null,null,null,null,null,null,null,null,null,"№47670",0.13922981287195757,0.29789886950953992,0.21856434119074875,{"$f":"ROUND(AG95341,0)","v":0},{"$f":"ROUND(AG95342,0)","v":1},{"$f":"IF(AH95341>AI95341,1,\"\")","v":""},{"$f":"IF(AH95341=AI95341,1,\"\")","v":""},{"$f":"IF(AH95341<AI95341,1,\"\")","v":1},{"$f":"AH95341&\"-\"&AI95341","v":"0-1"}]
[null,null,null,null,null,null,null,null,null,null,null,null,null,null,null,null,null,null,null,null,null,null,null,null,null,null,null,null,null,null,1.9729360489420995,1.1732077275950576,1.5730718882685786]
[null,null,null,null,null,null,null,null,null,null,null,null,null,null,null,null,null,null,null,null,null,null,null,null,null,null,null,null,null,null,0.76798090598459923,0.79208578297262633,0.78003334447861272]
[null,null,null,null,null,null,null,null,null,null,null,null,null,null,null,null,null,null,null,null,null,null,null,null,null,null,null,null,null,null,1.8532687729088619,1.2464249846489255,1.5498468787788937]
[null,null,null,null,null,null,null,null,null,null,null,null,null,null,null,null,null,null,null,null,null,null,null,null,null,null,null,null,null,null,1.2926238023140821,1.5243077254137734,1.4084657638639277]
[null,null,null,null,null,null,null,null,null,null,null,null,null,null,null,null,null,null,null,null,null,null,null,null,null,null,null,null,null,null,3.4404983206834787,1.6048083497727055,2.522653335228092]
[null,null,null,null,null,null,null,null,null,null,null,null,null,null,null,null,null,null,null,null,null,null,null,null,null,null,null,null,null,"№47957",3.8219666778552379,1.3100859786947621,2.566026328275,{"$f":"ROUND(AG95915,0)","v":3},{"$f":"ROUND(AG95916,0)","v":3},{"$f":"IF(AH95915>AI95915,1,\"\")","v":""},{"$f":"IF(AH95915=AI95915,1,\"\")","v":1},{"$f":"IF(AH95915<AI95915,1,\"\")","v":""},{"$f":"AH95915&\"-\"&AI95915","v":"3-3"}]
[null,null,null,null,null,null,null,null,null,null,null,null,null,null,null,null,null,null,null,null,null,null,null,null,null,null,null,null,null,"№48026",0.32036153856681837,0.48373516264582495,0.40204835060632166,{"$f":"ROUND(AG96053,0)","v":0},{"$f":"ROUND(AG96054,0)","v":2},{"$f":"IF(AH96053>AI96053,1,\"\")","v":""},{"$f":"IF(AH96053=AI96053,1,\"\")","v":""},{"$f":"IF(AH96053<AI96053,1,\"\")","v":1},{"$f":"AH96053&\"-\"&AI96053","v":"0-2"}]
[null,null,null,null,null,null,null,null,null,null,null,null,null,null,null,null,null,null,null,null,null,null,null,null,null,null,null,null,null,"№48068",4.849721629094601,-8.9655566478671456E-2,2.3800330313079647,{"$f":"ROUND(AG96137,0)","v":2},{"$f":"ROUND(AG96138,0)","v":2},{"$f":"IF(AH96137>AI96137,1,\"\")","v":""},{"$f":"IF(AH96137=AI96137,1,\"\")","v":1},{"$f":"IF(AH96137<AI96137,1,\"\")","v":""},{"$f":"AH96137&\"-\"&AI96137","v":"2-2"}]
[null,null,null,null,null,null,null,null,null,null,null,null,null,null,null,null,null,null,null,null,null,null,null,null,null,null,null,null,null,"№48116",2.1631788150602711,0.78409805202487215,1.4736384335425716,{"$f":"ROUND(AG96233,0)","v":1},{"$f":"ROUND(AG96234,0)","v":1},{"$f":"IF(AH96233>AI96233,1,\"\")","v":""},{"$f":"IF(AH96233=AI96233,1,\"\")","v":1},{"$f":"IF(AH96233<AI96233,1,\"\")","v":""},{"$f":"AH96233&\"-\"&AI96233","v":"1-1"}]
[null,null,null,null,null,null,null,null,null,null,null,null,null,null,null,null,null,null,null,null,null,null,null,null,null,null,null,null,null,"№48185",1.5995914059239558,2.9663990930224209,2.2829952494731884,{"$f":"ROUND(AG96371,0)","v":2},{"$f":"ROUND(AG96372,0)","v":3},{"$f":"IF(AH96371>AI96371,1,\"\")","v":""},{"$f":"IF(AH96371=AI96371,1,\"\")","v":""},{"$f":"IF(AH96371<AI96371,1,\"\")","v":1},{"$f":"AH96371&\"-\"&AI96371","v":"2-3"}]
[null,null,null,null,null,null,null,null,null,null,null,null,null,null,null,null,null,null,null,null,null,null,null,null,null,null,null,null,null,null,1.0582420874714207,2.4876377671623455,1.7729399273168831]
[null,null,null,null,null,null,null,null,null,null,null,null,null,null,null,null,null,null,null,null,null,null,null,null,null,null,null,null,null,null,1.8034832657411488,-0.28258193500906792,0.76045066536604045]
[null,null,null,null,null,null,null,null,null,null,null,null,null,null,null,null,null,null,null,null,null,null,null,null,null,null,null,null,null,"№48344",1.2696693433019126,1.4279773666505777,1.3488233549762452,{"$f":"ROUND(AG96689,0)","v":1},{"$f":"ROUND(AG96690,0)","v":2},{"$f":"IF(AH96689>AI96689,1,\"\")","v":""},{"$f":"IF(AH96689=AI96689,1,\"\")","v":""},{"$f":"IF(AH96689<AI96689,1,\"\")","v":1},{"$f":"AH96689&\"-\"&AI96689","v":"1-2"}]
[null,null,null,null,null,null,null,null,null,null,null,null,null,null,null,null,null,null,null,null,null,null,null,null,null,null,null,null,null,null,2.2387845022348842,2.5699688386563255,2.4043766704456049]
[null,null,null,null,null,null,null,null,null,null,null,null,null,null,null,null,null,null,null,null,null,null,null,null,null,null,null,null,null,null,1.0747632261114317,3.0581110341649613,2.0664371301381967]
[null,null,null,null,null,null,null,null,null,null,null,null,null,null,null,null,null,null,null,null,null,null,null,null,null,null,null,null,null,"№48466",3.2560038201971757,2.3389097533541996,2.7974567867756877,{"$f":"ROUND(AG96933,0)","v":3},{"$f":"ROUND(AG96934,0)","v":1},{"$f":"IF(AH96933>AI96933,1,\"\")","v":1},{"$f":"IF(AH96933=AI96933,1,\"\")","v":""},{"$f":"IF(AH96933<AI96933,1,\"\")","v":""},{"$f":"AH96933&\"-\"&AI96933","v":"3-1"}]
[null,null,null,null,null,null,null,null,null,null,null,null,null,null,null,null,null,null,null,null,null,null,null,null,null,null,null,null,null,null,2.9626843414165451,0.87875025166610699,1.9207172965413259]
[null,null,null,null,null,null,null,null,null,null,null,null,null,null,null,null,null,null,null,null,null,null,null,null,null,null,null,null,null,"№48544",3.21199871533583,0.48517622967712254,1.8485874725064764,{"$f":"ROUND(AG97089,0)","v":2},{"$f":"ROUND(AG97090,0)","v":1},{"$f":"IF(AH97089>AI97089,1,\"\")","v":1},{"$f":"IF(AH97089=AI97089,1,\"\")","v":""},{"$f":"IF(AH97089<AI97089,1,\"\")","v":""},{"$f":"AH97089&\"-\"&AI97089","v":"2-1"}]
[null,null,null,null,null,null,null,null,null,null,null,null,null,null,null,null,null,null,null,null,null,null,null,null,null,null,null,null,null,"№48615",3.3131275816919605,0.77701997506330245,2.0450737783776316,{"$f":"ROUND(AG97231,0)","v":2},{"$f":"ROUND(AG97232,0)","v":1},{"$f":"IF(AH97231>AI97231,1,\"\")","v":1},{"$f":"IF(AH97231=AI97231,1,\"\")","v":""},{"$f":"IF(AH97231<AI97231,1,\"\")","v":""},{"$f":"AH97231&\"-\"&AI97231","v":"2-1"}]
[null,null,null,null,null,null,null,null,null,null,null,null,null,null,null,null,null,null,null,null,null,null,null,null,null,null,null,null,null,null,2.2580197568145639,0.9481418608415153,1.6030808088280395]
[null,null,null,null,null,null,null,null,null,null,null,null,null,null,null,null,null,null,null,null,null,null,null,null,null,null,null,null,null,"№48703",3.3083050403658643,1.0930232862953413,2.200664163330603,{"$f":"ROUND(AG97407,0)","v":2},{"$f":"ROUND(AG97408,0)","v":2},{"$f":"IF(AH97407>AI97407,1,\"\")","v":""},{"$f":"IF(AH97407=AI97407,1,\"\")","v":1},{"$f":"IF(AH97407<AI97407,1,\"\")","v":""},{"$f":"AH97407&\"-\"&AI97407","v":"2-2"}]
[null,null,null,null,null,null,null,null,null,null,null,null,null,null,null,null,null,null,null,null,null,null,null,null,null,null,null,null,null,"№48774",2.548115553707837,-0.11196540328456395,1.2180750752116365,{"$f":"ROUND(AG97549,0)","v":1},{"$f":"ROUND(AG97550,0)","v":2},{"$f":"IF(AH97549>AI97549,1,\"\")","v":""},{"$f":"IF(AH97549=AI97549,1,\"\")","v":""},{"$f":"IF(AH97549<AI97549,1,\"\")","v":1},{"$f":"AH97549&\"-\"&AI97549","v":"1-2"}]
[null,null,null,null,null,null,null,null,null,null,null,null,null,null,null,null,null,null,null,null,null,null,null,null,null,null,null,null,null,null,3.9458733470271357,1.1676957887180157,2.5567845678725756]
[null,null,null,null,null,null,null,null,null,null,null,null,null,null,null,null,null,null,null,null,null,null,null,null,null,null,null,null,null,"№48864",4.5970691214274639,2.06650224739793,3.3317856844126972,{"$f":"ROUND(AG97729,0)","v":3},{"$f":"ROUND(AG97730,0)","v":1},{"$f":"IF(AH97729>AI97729,1,\"\")","v":1},{"$f":"IF(AH97729=AI97729,1,\"\")","v":""},{"$f":"IF(AH97729<AI97729,1,\"\")","v":""},{"$f":"AH97729&\"-\"&AI97729","v":"3-1"}]
[null,null,null,null,null,null,null,null,null,null,null,null,null,null,null,null,null,null,null,null,null,null,null,null,null,null,null,null,null,"№48933",2.0884424887680217,-0.70177652834278881,0.69333298021261647,{"$f":"ROUND(AG97867,0)","v":1},{"$f":"ROUND(AG97868,0)","v":2},{"$f":"IF(AH97867>AI97867,1,\"\")","v":""},{"$f":"IF(AH97867=AI97867,1,\"\")","v":""},{"$f":"IF(AH97867<AI97867,1,\"\")","v":1},{"$f":"AH97867&\"-\"&AI97867","v":"1-2"}]
[null,null,null,null,null,null,null,null,null,null,null,null,null,null,null,null,null,null,null,null,null,null,null,null,null,null,null,null,null,null,2.1845865279522587,3.6859608840056524,2.9352737059789558]
[null,null,null,null,null,null,null,null,null,null,null,null,null,null,null,null,null,null,null,null,null,null,null,null,null,null,null,null,null,null,2.2376969940306473,-0.65173022921590329,0.79298338240737198]
[null,null,null,null,null,null,null,null,null,null,null,null,null,null,null,null,null,null,null,null,null,null,null,null,null,null,null,null,null,null,1.547242415509114,2.4774929058036133E-2,0.78600867228357507]
[null,null,null,null,null,null,null,null,null,null,null,null,null,null,null,null,null,null,null,null,null,null,null,null,null,null,null,null,null,null,1.8907950991852256,2.5894219905953486,2.2401085448902869]
[null,null,null,null,null,null,null,null,null,null,null,null,null,null,null,null,null,null,null,null,null,null,null,null,null,null,null,null,null,null,2.8287025036454696,2.3738714104093881,2.6012869570274288]
[null,null,null,null,null,null,null,null,null,null,null,null,null,null,null,null,null,null,null,null,null,null,null,null,null,null,null,null,null,"№49202",-0.23954341810631785,0.48068140070569498,0.12056899129968857,{"$f":"ROUND(AG98405,0)","v":0},{"$f":"ROUND(AG98406,0)","v":1},{"$f":"IF(AH98405>AI98405,1,\"\")","v":""},{"$f":"IF(AH98405=AI98405,1,\"\")","v":""},{"$f":"IF(AH98405<AI98405,1,\"\")","v":1},{"$f":"AH98405&\"-\"&AI98405","v":"0-1"}]
[null,null,null,null,null,null,null,null,null,null,null,null,null,null,null,null,null,null,null,null,null,null,null,null,null,null,null,null,null,"№49257",2.3047108219505379,1.6447814265153862,1.974746124232962,{"$f":"ROUND(AG98515,0)","v":2},{"$f":"ROUND(AG98516,0)","v":2},{"$f":"IF(AH98515>AI98515,1,\"\")","v":""},{"$f":"IF(AH98515=AI98515,1,\"\")","v":1},{"$f":"IF(AH98515<AI98515,1,\"\")","v":""},{"$f":"AH98515&\"-\"&AI98515","v":"2-2"}]
[null,null,null,null,null,null,null,null,null,null,null,null,null,null,null,null,null,null,null,null,null,null,null,null,null,null,null,null,null,"№49292",2.8588146354808996,1.3538434259209426,2.106329030700921,{"$f":"ROUND(AG98585,0)","v":2},{"$f":"ROUND(AG98586,0)","v":2},{"$f":"IF(AH98585>AI98585,1,\"\")","v":""},{"$f":"IF(AH98585=AI98585,1,\"\")","v":1},{"$f":"IF(AH98585<AI98585,1,\"\")","v":""},{"$f":"AH98585&\"-\"&AI98585","v":"2-2"}]
[null,null,null,null,null,null,null,null,null,null,null,null,null,null,null,null,null,null,null,null,null,null,null,null,null,null,null,null,null,"№49361",2.226429270319537,0.48942583030557252,1.3579275503125547,{"$f":"ROUND(AG98723,0)","v":1},{"$f":"ROUND(AG98724,0)","v":3},{"$f":"IF(AH98723>AI98723,1,\"\")","v":""},{"$f":"IF(AH98723=AI98723,1,\"\")","v":""},{"$f":"IF(AH98723<AI98723,1,\"\")","v":1},{"$f":"AH98723&\"-\"&AI98723","v":"1-3"}]
[null,null,null,null,null,null,null,null,null,null,null,null,null,null,null,null,null,null,null,null,null,null,null,null,null,null,null,null,null,null,2.5040709794783895,0.21339147042007212,1.3587312249492309]
[null,null,null,null,null,null,null,null,null,null,null,null,null,null,null,null,null,null,null,null,null,null,null,null,null,null,null,null,null,null,1.808119185728154,2.2197130513003795,2.0139161185142669]
[null,null,null,null,null,null,null,null,null,null,null,null,null,null,null,null,null,null,null,null,null,null,null,null,null,null,null,null,null,"№49520",4.8878494566557045,-1.7798135300218292,1.5540179633169378,{"$f":"ROUND(AG99041,0)","v":2},{"$f":"ROUND(AG99042,0)","v":2},{"$f":"IF(AH99041>AI99041,1,\"\")","v":""},{"$f":"IF(AH99041=AI99041,1,\"\")","v":1},{"$f":"IF(AH99041<AI99041,1,\"\")","v":""},{"$f":"AH99041&\"-\"&AI99041","v":"2-2"}]
[null,null,null,null,null,null,null,null,null,null,null,null,null,null,null,null,null,null,null,null,null,null,null,null,null,null,null,null,null,null,3.3292283617366243,-1.0667426270619798,1.1312428673373223]
[null,null,null,null,null,null,null,null,null,null,null,null,null,null,null,null,null,null,null,null,null,null,null,null,null,null,null,null,null,null,2.0002931695001096,0.62895488355421958,1.3146240265271647]
[null,null,null,null,null,null,null,null,null,null,null,null,null,null,null,null,null,null,null,null,null,null,null,null,null,null,null,null,null,"№49655",-0.22484655271971876,0.36735166416129961,7.1252555720790423E-2,{"$f":"ROUND(AG99311,0)","v":0},{"$f":"ROUND(AG99312,0)","v":1},{"$f":"IF(AH99311>AI99311,1,\"\")","v":""},{"$f":"IF(AH99311=AI99311,1,\"\")","v":""},{"$f":"IF(AH99311<AI99311,1,\"\")","v":1},{"$f":"AH99311&\"-\"&AI99311","v":"0-1"}]
[null,null,null,null,null,null,null,null,null,null,null,null,null,null,null,null,null,null,null,null,null,null,null,null,null,null,null,null,null,null,0.92880027964803924,0.5232272043235624,0.72601374198580082]
[null,null,null,null,null,null,null,null,null,null,null,null,null,null,null,null,null,null,null,null,null,null,null,null,null,null,null,null,null,null,1.5584737244820137,-0.82481614775514212,0.3668287883634358]
[null,null,null,null,null,null,null,null,null,null,null,null,null,null,null,null,null,null,null,null,null,null,null,null,null,null,null,null,null,"№49791",4.6240566030419803,0.61395819626907677,2.6190073996555285,{"$f":"ROUND(AG99583,0)","v":3},{"$f":"ROUND(AG99584,0)","v":2},{"$f":"IF(AH99583>AI99583,1,\"\")","v":1},{"$f":"IF(AH99583=AI99583,1,\"\")","v":""},{"$f":"IF(AH99583<AI99583,1,\"\")","v":""},{"$f":"AH99583&\"-\"&AI99583","v":"3-2"}]
[null,null,null,null,null,null,null,null,null,null,null,null,null,null,null,null,null,null,null,null,null,null,null,null,null,null,null,null,null,"№49860",4.5617959303283779,1.2056681295558529,2.8837320299421156,{"$f":"ROUND(AG99721,0)","v":3},{"$f":"ROUND(AG99722,0)","v":1},{"$f":"IF(AH99721>AI99721,1,\"\")","v":1},{"$f":"IF(AH99721=AI99721,1,\"\")","v":""},{"$f":"IF(AH99721<AI99721,1,\"\")","v":""},{"$f":"AH99721&\"-\"&AI99721","v":"3-1"}]
[null,null,null,null,null,null,null,null,null,null,null,null,null,null,null,null,null,null,null,null,null,null,null,null,null,null,null,null,null,"№49876",0.76316791026733855,0.42599884453217479,0.59458337739975664,{"$f":"ROUND(AG99753,0)","v":1},{"$f":"ROUND(AG99754,0)","v":2},{"$f":"IF(AH99753>AI99753,1,\"\")","v":""},{"$f":"IF(AH99753=AI99753,1,\"\")","v":""},{"$f":"IF(AH99753<AI99753,1,\"\")","v":1},{"$f":"AH99753&\"-\"&AI99753","v":"1-2"}]
[null,null,null,null,null,null,null,null,null,null,null,null,null,null,null,null,null,null,null,null,null,null,null,null,null,null,null,null,null,null,3.5990108493553858,0.98911421421017232,2.294062531782779]
[null,null,null,null,null,null,null,null,null,null,null,null,null,null,null,null,null,null,null,null,null,null,null,null,null,null,null,null,null,"№49877",-0.18633385611084607,2.1015255266913142,0.95759583529023407,{"$f":"ROUND(AG99755,0)","v":1},{"$f":"ROUND(AG99756,0)","v":2},{"$f":"IF(AH99755>AI99755,1,\"\")","v":""},{"$f":"IF(AH99755=AI99755,1,\"\")","v":""},{"$f":"IF(AH99755<AI99755,1,\"\")","v":1},{"$f":"AH99755&\"-\"&AI99755","v":"1-2"}]
[null,null,null,null,null,null,null,null,null,null,null,null,null,null,null,null,null,null,null,null,null,null,null,null,null,null,null,null,null,null,0.90810058103890845,2.791664682302172,1.8498826316705403]
[null,null,null,null,null,null,null,null,null,null,null,null,null,null,null,null,null,null,null,null,null,null,null,null,null,null,null,null,null,"№49878",0.93197403857816674,2.3413505687135476,1.6366623036458572,{"$f":"ROUND(AG99757,0)","v":2},{"$f":"ROUND(AG99758,0)","v":1},{"$f":"IF(AH99757>AI99757,1,\"\")","v":1},{"$f":"IF(AH99757=AI99757,1,\"\")","v":""},{"$f":"IF(AH99757<AI99757,1,\"\")","v":""},{"$f":"AH99757&\"-\"&AI99757","v":"2-1"}]
[null,null,null,null,null,null,null,null,null,null,null,null,null,null,null,null,null,null,null,null,null,null,null,null,null,null,null,null,null,null,1.5554509769887517,0.97707736560326652,1.266264171296009]
[null,null,null,null,null,null,null,null,null,null,null,null,null,null,null,null,null,null,null,null,null,null,null,null,null,null,null,null,null,"№49879",4.2422489739540765,1.4932484764612073,2.8677487252076421,{"$f":"ROUND(AG99759,0)","v":3},{"$f":"ROUND(AG99760,0)","v":2},{"$f":"IF(AH99759>AI99759,1,\"\")","v":1},{"$f":"IF(AH99759=AI99759,1,\"\")","v":""},{"$f":"IF(AH99759<AI99759,1,\"\")","v":""},{"$f":"AH99759&\"-\"&AI99759","v":"3-2"}]
[null,null,null,null,null,null,null,null,null,null,null,null,null,null,null,null,null,null,null,null,null,null,null,null,null,null,null,null,null,null,1.2353207015317165,1.7834299854230793,1.509375343477398]
[null,null,null,null,null,null,null,null,null,null,null,null,null,null,null,null,null,null,null,null,null,null,null,null,null,null,null,null,null,"№49880",1.6582275694075699,1.9909561972389507,1.8245918833232602,{"$f":"ROUND(AG99761,0)","v":2},{"$f":"ROUND(AG99762,0)","v":3},{"$f":"IF(AH99761>AI99761,1,\"\")","v":""},{"$f":"IF(AH99761=AI99761,1,\"\")","v":""},{"$f":"IF(AH99761<AI99761,1,\"\")","v":1},{"$f":"AH99761&\"-\"&AI99761","v":"2-3"}]
[null,null,null,null,null,null,null,null,null,null,null,null,null,null,null,null,null,null,null,null,null,null,null,null,null,null,null,null,null,null,2.0725510894107564,3.4313056914354698,2.7519283904231129]
[null,null,null,null,null,null,null,null,null,null,null,null,null,null,null,null,null,null,null,null,null,null,null,null,null,null,null,null,null,"№49881",-0.71149177366684802,-0.16142650377484513,-0.43645913872084657,{"$f":"ROUND(AG99763,0)","v":0},{"$f":"ROUND(AG99764,0)","v":2},{"$f":"IF(AH99763>AI99763,1,\"\")","v":""},{"$f":"IF(AH99763=AI99763,1,\"\")","v":""},{"$f":"IF(AH99763<AI99763,1,\"\")","v":1},{"$f":"AH99763&\"-\"&AI99763","v":"0-2"}]
[null,null,null,null,null,null,null,null,null,null,null,null,null,null,null,null,null,null,null,null,null,null,null,null,null,null,null,null,null,null,3.4066652440547243,1.2516284675881146,2.3291468558214197]
[null,null,null,null,null,null,null,null,null,null,null,null,null,null,null,null,null,null,null,null,null,null,null,null,null,null,null,null,null,"№49882",1.8655447325039416,-8.2551951321899519E-2,0.89149639059102104,{"$f":"ROUND(AG99765,0)","v":1},{"$f":"ROUND(AG99766,0)","v":2},{"$f":"IF(AH99765>AI99765,1,\"\")","v":""},{"$f":"IF(AH99765=AI99765,1,\"\")","v":""},{"$f":"IF(AH99765<AI99765,1,\"\")","v":1},{"$f":"AH99765&\"-\"&AI99765","v":"1-2"}]
[null,null,null,null,null,null,null,null,null,null,null,null,null,null,null,null,null,null,null,null,null,null,null,null,null,null,null,null,null,null,2.4234029261622729,2.2932020776558382,2.3583025019090558]
[null,null,null,null,null,null,null,null,null,null,null,null,null,null,null,null,null,null,null,null,null,null,null,null,null,null,null,null,null,"№49883",2.7932309754455216,3.2428197933588141,3.0180253844021676,{"$f":"ROUND(AG99767,0)","v":3},{"$f":"ROUND(AG99768,0)","v":1},{"$f":"IF(AH99767>AI99767,1,\"\")","v":1},{"$f":"IF(AH99767=AI99767,1,\"\")","v":""},{"$f":"IF(AH99767<AI99767,1,\"\")","v":""},{"$f":"AH99767&\"-\"&AI99767","v":"3-1"}]
[null,null,null,null,null,null,null,null,null,null,null,null,null,null,null,null,null,null,null,null,null,null,null,null,null,null,null,null,null,null,1.5883018323052007,1.0107589376840542,1.2995303849946276]
[null,null,null,null,null,null,null,null,null,null,null,null,null,null,null,null,null,null,null,null,null,null,null,null,null,null,null,null,null,"№49884",1.9196802702366573,1.0199092895783777,1.4697947799075175,{"$f":"ROUND(AG99769,0)","v":1},{"$f":"ROUND(AG99770,0)","v":1},{"$f":"IF(AH99769>AI99769,1,\"\")","v":""},{"$f":"IF(AH99769=AI99769,1,\"\")","v":1},{"$f":"IF(AH99769<AI99769,1,\"\")","v":""},{"$f":"AH99769&\"-\"&AI99769","v":"1-1"}]
[null,null,null,null,null,null,null,null,null,null,null,null,null,null,null,null,null,null,null,null,null,null,null,null,null,null,null,null,null,null,1.9214505460463469,0.27479212280782273,1.0981213344270848]
[null,null,null,null,null,null,null,null,null,null,null,null,null,null,null,null,null,null,null,null,null,null,null,null,null,null,null,null,null,"№49885",3.8709067172963101,-0.34369494705426584,1.7636058851210221,{"$f":"ROUND(AG99771,0)","v":2},{"$f":"ROUND(AG99772,0)","v":2},{"$f":"IF(AH99771>AI99771,1,\"\")","v":""},{"$f":"IF(AH99771=AI99771,1,\"\")","v":1},{"$f":"IF(AH99771<AI99771,1,\"\")","v":""},{"$f":"AH99771&\"-\"&AI99771","v":"2-2"}]
[null,null,null,null,null,null,null,null,null,null,null,null,null,null,null,null,null,null,null,null,null,null,null,null,null,null,null,null,null,null,2.4856986801826957,2.2698851805491196,2.3777919303659076]
[null,null,null,null,null,null,null,null,null,null,null,null,null,null,null,null,null,null,null,null,null,null,null,null,null,null,null,null,null,"№49886",1.5553224243508097,0.98930483624415932,1.2723136302974845,{"$f":"ROUND(AG99773,0)","v":1},{"$f":"ROUND(AG99774,0)","v":2},{"$f":"IF(AH99773>AI99773,1,\"\")","v":""},{"$f":"IF(AH99773=AI99773,1,\"\")","v":""},{"$f":"IF(AH99773<AI99773,1,\"\")","v":1},{"$f":"AH99773&\"-\"&AI99773","v":"1-2"}]
[null,null,null,null,null,null,null,null,null,null,null,null,null,null,null,null,null,null,null,null,null,null,null,null,null,null,null,null,null,null,1.9828387101277611,1.106543251511148,1.5446909808194547]
[null,null,null,null,null,null,null,null,null,null,null,null,null,null,null,null,null,null,null,null,null,null,null,null,null,null,null,null,null,"№49887",5.9281256867455721,-0.36596533166047496,2.7810801775425484,{"$f":"ROUND(AG99775,0)","v":3},{"$f":"ROUND(AG99776,0)","v":2},{"$f":"IF(AH99775>AI99775,1,\"\")","v":1},{"$f":"IF(AH99775=AI99775,1,\"\")","v":""},{"$f":"IF(AH99775<AI99775,1,\"\")","v":""},{"$f":"AH99775&\"-\"&AI99775","v":"3-2"}]
[null,null,null,null,null,null,null,null,null,null,null,null,null,null,null,null,null,null,null,null,null,null,null,null,null,null,null,null,null,null,2.7673494036054183,0.94567766796567765,1.856513535785548]
[null,null,null,null,null,null,null,null,null,null,null,null,null,null,null,null,null,null,null,null,null,null,null,null,null,null,null,null,null,"№49888",3.6678169295492848,1.7962489548830349,2.73203294221616,{"$f":"ROUND(AG99777,0)","v":3},{"$f":"ROUND(AG99778,0)","v":3},{"$f":"IF(AH99777>AI99777,1,\"\")","v":""},{"$f":"IF(AH99777=AI99777,1,\"\")","v":1},{"$f":"IF(AH99777<AI99777,1,\"\")","v":""},{"$f":"AH99777&\"-\"&AI99777","v":"3-3"}]
[null,null,null,null,null,null,null,null,null,null,null,null,null,null,null,null,null,null,null,null,null,null,null,null,null,null,null,null,null,null,4.4198432254497977,1.4992136784757508,2.9595284519627745]
[null,null,null,null,null,null,null,null,null,null,null,null,null,null,null,null,null,null,null,null,null,null,null,null,null,null,null,null,null,"№49889",{"$f":"_xlfn.NORM.INV(RAND(),$Z$3,$I$20)","v":3.4322699120656655},{"$f":"_xlfn.NORM.INV(RAND(),$AA$3,$O$20)","v":-0.57301700706587511},1.4296264524998952,{"$f":"ROUND(AG99779,0)","v":1},{"$f":"ROUND(AG99780,0)","v":2},{"$f":"IF(AH99779>AI99779,1,\"\")","v":""},{"$f":"IF(AH99779=AI99779,1,\"\")","v":""},{"$f":"IF(AH99779<AI99779,1,\"\")","v":1},{"$f":"AH99779&\"-\"&AI99779","v":"1-2"}]
[null,null,null,null,null,null,null,null,null,null,null,null,null,null,null,null,null,null,null,null,null,null,null,null,null,null,null,null,null,null,{"$f":"_xlfn.NORM.INV(RAND(),$Z$4,$N$20)","v":2.251874001723114},{"$f":"_xlfn.NORM.INV(RAND(),$AA$4,$J$20)","v":2.3953196715154403},2.3235968366192772]
[null,null,null,null,null,null,null,null,null,null,null,null,null,null,null,null,null,null,null,null,null,null,null,null,null,null,null,null,null,"№49890",5.4050592222014693,1.1442378237832198,{"$f":"(AE99781+AF99781)/2","v":3.2746485229923445},{"$f":"ROUND(AG99781,0)","v":3},{"$f":"ROUND(AG99782,0)","v":1},{"$f":"IF(AH99781>AI99781,1,\"\")","v":1},{"$f":"IF(AH99781=AI99781,1,\"\")","v":""},{"$f":"IF(AH99781<AI99781,1,\"\")","v":""},{"$f":"AH99781&\"-\"&AI99781","v":"3-1"}]
[null,null,null,null,null,null,null,null,null,null,null,null,null,null,null,null,null,null,null,null,null,null,null,null,null,null,null,null,null,null,0.52277578084613285,1.5752736139747583,1.0490246974104456]
[null,null,null,null,null,null,null,null,null,null,null,null,null,null,null,null,null,null,null,null,null,null,null,null,null,null,null,null,null,"№49891",4.8985522219121727,-1.2169824922749803,1.840784864818596,{"$f":"ROUND(AG99783,0)","v":2},{"$f":"ROUND(AG99784,0)","v":1},{"$f":"IF(AH99783>AI99783,1,\"\")","v":1},{"$f":"IF(AH99783=AI99783,1,\"\")","v":""},{"$f":"IF(AH99783<AI99783,1,\"\")","v":""},{"$f":"AH99783&\"-\"&AI99783","v":"2-1"}]
[null,null,null,null,null,null,null,null,null,null,null,null,null,null,null,null,null,null,null,null,null,null,null,null,null,null,null,null,null,null,2.0899811429265256,0.4412328911439638,1.2656070170352447]
[null,null,null,null,null,null,null,null,null,null,null,null,null,null,null,null,null,null,null,null,null,null,null,null,null,null,null,null,null,"№49892",4.2746675269485728,0.69934685923517836,2.4870071930918756,{"$f":"ROUND(AG99785,0)","v":2},{"$f":"ROUND(AG99786,0)","v":3},{"$f":"IF(AH99785>AI99785,1,\"\")","v":""},{"$f":"IF(AH99785=AI99785,1,\"\")","v":""},{"$f":"IF(AH99785<AI99785,1,\"\")","v":1},{"$f":"AH99785&\"-\"&AI99785","v":"2-3"}]
[null,null,null,null,null,null,null,null,null,null,null,null,null,null,null,null,null,null,null,null,null,null,null,null,null,null,null,null,null,null,2.0461031021134817,3.523987851881297,2.7850454769973894]
[null,null,null,null,null,null,null,null,null,null,null,null,null,null,null,null,null,null,null,null,null,null,null,null,null,null,null,null,null,"№49893",3.352671018507666,1.2150130369328433,2.2838420277202545,{"$f":"ROUND(AG99787,0)","v":2},{"$f":"ROUND(AG99788,0)","v":1},{"$f":"IF(AH99787>AI99787,1,\"\")","v":1},{"$f":"IF(AH99787=AI99787,1,\"\")","v":""},{"$f":"IF(AH99787<AI99787,1,\"\")","v":""},{"$f":"AH99787&\"-\"&AI99787","v":"2-1"}]
[null,null,null,null,null,null,null,null,null,null,null,null,null,null,null,null,null,null,null,null,null,null,null,null,null,null,null,null,null,null,1.4219571775348343,1.4828856501249656,1.4524214138298999]
[null,null,null,null,null,null,null,null,null,null,null,null,null,null,null,null,null,null,null,null,null,null,null,null,null,null,null,null,null,"№49894",4.5137157332299331,-4.8658597157836936E-2,2.2325285680360483,{"$f":"ROUND(AG99789,0)","v":2},{"$f":"ROUND(AG99790,0)","v":1},{"$f":"IF(AH99789>AI99789,1,\"\")","v":1},{"$f":"IF(AH99789=AI99789,1,\"\")","v":""},{"$f":"IF(AH99789<AI99789,1,\"\")","v":""},{"$f":"AH99789&\"-\"&AI99789","v":"2-1"}]
[null,null,null,null,null,null,null,null,null,null,null,null,null,null,null,null,null,null,null,null,null,null,null,null,null,null,null,null,null,null,1.7237063584476457,0.79916918229196865,1.2614377703698072]
[null,null,null,null,null,null,null,null,null,null,null,null,null,null,null,null,null,null,null,null,null,null,null,null,null,null,null,null,null,"№49895",2.7005335330485583,7.5806902569035883E-2,1.3881702178087971,{"$f":"ROUND(AG99791,0)","v":1},{"$f":"ROUND(AG99792,0)","v":0},{"$f":"IF(AH99791>AI99791,1,\"\")","v":1},{"$f":"IF(AH99791=AI99791,1,\"\")","v":""},{"$f":"IF(AH99791<AI99791,1,\"\")","v":""},{"$f":"AH99791&\"-\"&AI99791","v":"1-0"}]
[null,null,null,null,null,null,null,null,null,null,null,null,null,null,null,null,null,null,null,null,null,null,null,null,null,null,null,null,null,null,1.090260317425751,-0.70721064788647059,0.19152483476964022]
[null,null,null,null,null,null,null,null,null,null,null,null,null,null,null,null,null,null,null,null,null,null,null,null,null,null,null,null,null,"№49896",3.3641840996300241,-0.21485080126635414,1.5746666491818351,{"$f":"ROUND(AG99793,0)","v":2},{"$f":"ROUND(AG99794,0)","v":2},{"$f":"IF(AH99793>AI99793,1,\"\")","v":""},{"$f":"IF(AH99793=AI99793,1,\"\")","v":1},{"$f":"IF(AH99793<AI99793,1,\"\")","v":""},{"$f":"AH99793&\"-\"&AI99793","v":"2-2"}]
[null,null,null,null,null,null,null,null,null,null,null,null,null,null,null,null,null,null,null,null,null,null,null,null,null,null,null,null,null,null,2.5370998886881972,1.755177965203754,2.1461389269459756]
[null,null,null,null,null,null,null,null,null,null,null,null,null,null,null,null,null,null,null,null,null,null,null,null,null,null,null,null,null,"№49897",4.061336568041634,0.46971379925725193,2.265525183649443,{"$f":"ROUND(AG99795,0)","v":2},{"$f":"ROUND(AG99796,0)","v":2},{"$f":"IF(AH99795>AI99795,1,\"\")","v":""},{"$f":"IF(AH99795=AI99795,1,\"\")","v":1},{"$f":"IF(AH99795<AI99795,1,\"\")","v":""},{"$f":"AH99795&\"-\"&AI99795","v":"2-2"}]
[null,null,null,null,null,null,null,null,null,null,null,null,null,null,null,null,null,null,null,null,null,null,null,null,null,null,null,null,null,null,2.8731244455007725,0.54716260388287941,1.710143524691826]
[null,null,null,null,null,null,null,null,null,null,null,null,null,null,null,null,null,null,null,null,null,null,null,null,null,null,null,null,null,"№49898",4.1563771701196313,-0.84214530696368306,1.657115931577974,{"$f":"ROUND(AG99797,0)","v":2},{"$f":"ROUND(AG99798,0)","v":1},{"$f":"IF(AH99797>AI99797,1,\"\")","v":1},{"$f":"IF(AH99797=AI99797,1,\"\")","v":""},{"$f":"IF(AH99797<AI99797,1,\"\")","v":""},{"$f":"AH99797&\"-\"&AI99797","v":"2-1"}]
[null,null,null,null,null,null,null,null,null,null,null,null,null,null,null,null,null,null,null,null,null,null,null,null,null,null,null,null,null,null,1.7033501530377346,1.0645554942412701,1.3839528236395022]
[null,null,null,null,null,null,null,null,null,null,null,null,null,null,null,null,null,null,null,null,null,null,null,null,null,null,null,null,null,"№49899",3.0792266853421841,1.2830237109925089,2.1811251981673463,{"$f":"ROUND(AG99799,0)","v":2},{"$f":"ROUND(AG99800,0)","v":1},{"$f":"IF(AH99799>AI99799,1,\"\")","v":1},{"$f":"IF(AH99799=AI99799,1,\"\")","v":""},{"$f":"IF(AH99799<AI99799,1,\"\")","v":""},{"$f":"AH99799&\"-\"&AI99799","v":"2-1"}]
[null,null,null,null,null,null,null,null,null,null,null,null,null,null,null,null,null,null,null,null,null,null,null,null,null,null,null,null,null,null,1.4642497669970993,0.33448617289633176,0.89936796994671553]
[null,null,null,null,null,null,null,null,null,null,null,null,null,null,null,null,null,null,null,null,null,null,null,null,null,null,null,null,null,"№49900",3.858784339591411,-0.6082552093349809,1.6252645651282149,{"$f":"ROUND(AG99801,0)","v":2},{"$f":"ROUND(AG99802,0)","v":3},{"$f":"IF(AH99801>AI99801,1,\"\")","v":""},{"$f":"IF(AH99801=AI99801,1,\"\")","v":""},{"$f":"IF(AH99801<AI99801,1,\"\")","v":1},{"$f":"AH99801&\"-\"&AI99801","v":"2-3"}]
[null,null,null,null,null,null,null,null,null,null,null,null,null,null,null,null,null,null,null,null,null,null,null,null,null,null,null,null,null,null,1.9919172482680363,3.7760540763488937,2.883985662308465]
[null,null,null,null,null,null,null,null,null,null,null,null,null,null,null,null,null,null,null,null,null,null,null,null,null,null,null,null,null,"№49901",4.7256204768257337,0.28693522981294217,2.5062778533193377,{"$f":"ROUND(AG99803,0)","v":3},{"$f":"ROUND(AG99804,0)","v":3},{"$f":"IF(AH99803>AI99803,1,\"\")","v":""},{"$f":"IF(AH99803=AI99803,1,\"\")","v":1},{"$f":"IF(AH99803<AI99803,1,\"\")","v":""},{"$f":"AH99803&\"-\"&AI99803","v":"3-3"}]
[null,null,null,null,null,null,null,null,null,null,null,null,null,null,null,null,null,null,null,null,null,null,null,null,null,null,null,null,null,null,2.4237819633665838,3.6760276775738179,3.0499048204702008]
[null,null,null,null,null,null,null,null,null,null,null,null,null,null,null,null,null,null,null,null,null,null,null,null,null,null,null,null,null,"№49902",2.2256583974592115,0.95871640564295801,1.5921874015510848,{"$f":"ROUND(AG99805,0)","v":2},{"$f":"ROUND(AG99806,0)","v":3},{"$f":"IF(AH99805>AI99805,1,\"\")","v":""},{"$f":"IF(AH99805=AI99805,1,\"\")","v":""},{"$f":"IF(AH99805<AI99805,1,\"\")","v":1},{"$f":"AH99805&\"-\"&AI99805","v":"2-3"}]
[null,null,null,null,null,null,null,null,null,null,null,null,null,null,null,null,null,null,null,null,null,null,null,null,null,null,null,null,null,null,2.5498591131331723,3.6529418815636592,3.1014004973484157]
[null,null,null,null,null,null,null,null,null,null,null,null,null,null,null,null,null,null,null,null,null,null,null,null,null,null,null,null,null,"№49903",3.0878983111075056,-6.5753244883485773E-2,1.5110725331120098,{"$f":"ROUND(AG99807,0)","v":2},{"$f":"ROUND(AG99808,0)","v":2},{"$f":"IF(AH99807>AI99807,1,\"\")","v":""},{"$f":"IF(AH99807=AI99807,1,\"\")","v":1},{"$f":"IF(AH99807<AI99807,1,\"\")","v":""},{"$f":"AH99807&\"-\"&AI99807","v":"2-2"}]
[null,null,null,null,null,null,null,null,null,null,null,null,null,null,null,null,null,null,null,null,null,null,null,null,null,null,null,null,null,null,1.3234340738267549,1.9913412795169092,1.6573876766718321]
[null,null,null,null,null,null,null,null,null,null,null,null,null,null,null,null,null,null,null,null,null,null,null,null,null,null,null,null,null,"№49904",3.8565910337618239,0.68651337436846793,2.2715522040651459,{"$f":"ROUND(AG99809,0)","v":2},{"$f":"ROUND(AG99810,0)","v":3},{"$f":"IF(AH99809>AI99809,1,\"\")","v":""},{"$f":"IF(AH99809=AI99809,1,\"\")","v":""},{"$f":"IF(AH99809<AI99809,1,\"\")","v":1},{"$f":"AH99809&\"-\"&AI99809","v":"2-3"}]
[null,null,null,null,null,null,null,null,null,null,null,null,null,null,null,null,null,null,null,null,null,null,null,null,null,null,null,null,null,null,1.4762449590745685,4.3513009479836926,2.9137729535291306]
[null,null,null,null,null,null,null,null,null,null,null,null,null,null,null,null,null,null,null,null,null,null,null,null,null,null,null,null,null,"№49905",4.5064840193745503,1.8678841317076982,3.1871840755411243,{"$f":"ROUND(AG99811,0)","v":3},{"$f":"ROUND(AG99812,0)","v":3},{"$f":"IF(AH99811>AI99811,1,\"\")","v":""},{"$f":"IF(AH99811=AI99811,1,\"\")","v":1},{"$f":"IF(AH99811<AI99811,1,\"\")","v":""},{"$f":"AH99811&\"-\"&AI99811","v":"3-3"}]
[null,null,null,null,null,null,null,null,null,null,null,null,null,null,null,null,null,null,null,null,null,null,null,null,null,null,null,null,null,null,3.533713020885028,1.5889231544873332,2.5613180876861805]
[null,null,null,null,null,null,null,null,null,null,null,null,null,null,null,null,null,null,null,null,null,null,null,null,null,null,null,null,null,"№49906",3.5403595757574604,-0.39430828805143459,1.573025643853013,{"$f":"ROUND(AG99813,0)","v":2},{"$f":"ROUND(AG99814,0)","v":3},{"$f":"IF(AH99813>AI99813,1,\"\")","v":""},{"$f":"IF(AH99813=AI99813,1,\"\")","v":""},{"$f":"IF(AH99813<AI99813,1,\"\")","v":1},{"$f":"AH99813&\"-\"&AI99813","v":"2-3"}]
[null,null,null,null,null,null,null,null,null,null,null,null,null,null,null,null,null,null,null,null,null,null,null,null,null,null,null,null,null,null,2.9109601907488858,2.7981988430573432,2.8545795169031143]
[null,null,null,null,null,null,null,null,null,null,null,null,null,null,null,null,null,null,null,null,null,null,null,null,null,null,null,null,null,"№49907",5.8871848863198188,9.099339818350638E-2,2.9890891422516628,{"$f":"ROUND(AG99815,0)","v":3},{"$f":"ROUND(AG99816,0)","v":3},{"$f":"IF(AH99815>AI99815,1,\"\")","v":""},{"$f":"IF(AH99815=AI99815,1,\"\")","v":1},{"$f":"IF(AH99815<AI99815,1,\"\")","v":""},{"$f":"AH99815&\"-\"&AI99815","v":"3-3"}]
[null,null,null,null,null,null,null,null,null,null,null,null,null,null,null,null,null,null,null,null,null,null,null,null,null,null,null,null,null,null,2.6207388398494427,3.5863954929441348,3.1035671663967888]
[null,null,null,null,null,null,null,null,null,null,null,null,null,null,null,null,null,null,null,null,null,null,null,null,null,null,null,null,null,"№49908",4.7187781818331809,1.7202736618748133,3.2195259218539971,{"$f":"ROUND(AG99817,0)","v":3},{"$f":"ROUND(AG99818,0)","v":2},{"$f":"IF(AH99817>AI99817,1,\"\")","v":1},{"$f":"IF(AH99817=AI99817,1,\"\")","v":""},{"$f":"IF(AH99817<AI99817,1,\"\")","v":""},{"$f":"AH99817&\"-\"&AI99817","v":"3-2"}]
[null,null,null,null,null,null,null,null,null,null,null,null,null,null,null,null,null,null,null,null,null,null,null,null,null,null,null,null,null,null,1.4721477445430637,1.7410095993748351,1.6065786719589494]
[null,null,null,null,null,null,null,null,null,null,null,null,null,null,null,null,null,null,null,null,null,null,null,null,null,null,null,null,null,"№49909",5.705131898502799,2.6386728341750776,4.1719023663389381,{"$f":"ROUND(AG99819,0)","v":4},{"$f":"ROUND(AG99820,0)","v":3},{"$f":"IF(AH99819>AI99819,1,\"\")","v":1},{"$f":"IF(AH99819=AI99819,1,\"\")","v":""},{"$f":"IF(AH99819<AI99819,1,\"\")","v":""},{"$f":"AH99819&\"-\"&AI99819","v":"4-3"}]
[null,null,null,null,null,null,null,null,null,null,null,null,null,null,null,null,null,null,null,null,null,null,null,null,null,null,null,null,null,null,2.6884556554111132,3.165410228934741,2.9269329421729271]
[null,null,null,null,null,null,null,null,null,null,null,null,null,null,null,null,null,null,null,null,null,null,null,null,null,null,null,null,null,"№49910",1.4011290601526658,1.3186610504866758,1.3598950553196709,{"$f":"ROUND(AG99821,0)","v":1},{"$f":"ROUND(AG99822,0)","v":3},{"$f":"IF(AH99821>AI99821,1,\"\")","v":""},{"$f":"IF(AH99821=AI99821,1,\"\")","v":""},{"$f":"IF(AH99821<AI99821,1,\"\")","v":1},{"$f":"AH99821&\"-\"&AI99821","v":"1-3"}]
[null,null,null,null,null,null,null,null,null,null,null,null,null,null,null,null,null,null,null,null,null,null,null,null,null,null,null,null,null,null,3.3252781731759651,2.9862632377093359,3.1557707054426505]
[null,null,null,null,null,null,null,null,null,null,null,null,null,null,null,null,null,null,null,null,null,null,null,null,null,null,null,null,null,"№49911",3.3700971055166944,0.3960279857642871,1.8830625456404908,{"$f":"ROUND(AG99823,0)","v":2},{"$f":"ROUND(AG99824,0)","v":3},{"$f":"IF(AH99823>AI99823,1,\"\")","v":""},{"$f":"IF(AH99823=AI99823,1,\"\")","v":""},{"$f":"IF(AH99823<AI99823,1,\"\")","v":1},{"$f":"AH99823&\"-\"&AI99823","v":"2-3"}]
[null,null,null,null,null,null,null,null,null,null,null,null,null,null,null,null,null,null,null,null,null,null,null,null,null,null,null,null,null,null,1.9129649927302916,3.7023929300160954,2.8076789613731936]
[null,null,null,null,null,null,null,null,null,null,null,null,null,null,null,null,null,null,null,null,null,null,null,null,null,null,null,null,null,"№49912",4.1866308515628035,0.4548399428655181,2.3207353972141607,{"$f":"ROUND(AG99825,0)","v":2},{"$f":"ROUND(AG99826,0)","v":2},{"$f":"IF(AH99825>AI99825,1,\"\")","v":""},{"$f":"IF(AH99825=AI99825,1,\"\")","v":1},{"$f":"IF(AH99825<AI99825,1,\"\")","v":""},{"$f":"AH99825&\"-\"&AI99825","v":"2-2"}]
[null,null,null,null,null,null,null,null,null,null,null,null,null,null,null,null,null,null,null,null,null,null,null,null,null,null,null,null,null,null,2.83765993920042,1.1991333904301824,2.0183966648153011]
[null,null,null,null,null,null,null,null,null,null,null,null,null,null,null,null,null,null,null,null,null,null,null,null,null,null,null,null,null,"№49913",3.7042648046717055,-0.76649304190664602,1.4688858813825298,{"$f":"ROUND(AG99827,0)","v":1},{"$f":"ROUND(AG99828,0)","v":1},{"$f":"IF(AH99827>AI99827,1,\"\")","v":""},{"$f":"IF(AH99827=AI99827,1,\"\")","v":1},{"$f":"IF(AH99827<AI99827,1,\"\")","v":""},{"$f":"AH99827&\"-\"&AI99827","v":"1-1"}]
[null,null,null,null,null,null,null,null,null,null,null,null,null,null,null,null,null,null,null,null,null,null,null,null,null,null,null,null,null,null,2.5066254734721629,0.31031245767286286,1.4084689655725129]
[null,null,null,null,null,null,null,null,null,null,null,null,null,null,null,null,null,null,null,null,null,null,null,null,null,null,null,null,null,"№49914",0.376186635777644,0.27780196038949379,0.32699429808356889,{"$f":"ROUND(AG99829,0)","v":0},{"$f":"ROUND(AG99830,0)","v":1},{"$f":"IF(AH99829>AI99829,1,\"\")","v":""},{"$f":"IF(AH99829=AI99829,1,\"\")","v":""},{"$f":"IF(AH99829<AI99829,1,\"\")","v":1},{"$f":"AH99829&\"-\"&AI99829","v":"0-1"}]
[null,null,null,null,null,null,null,null,null,null,null,null,null,null,null,null,null,null,null,null,null,null,null,null,null,null,null,null,null,null,3.249522224103071,-1.2612822622661142,0.99411998091847842]
[null,null,null,null,null,null,null,null,null,null,null,null,null,null,null,null,null,null,null,null,null,null,null,null,null,null,null,null,null,"№49915",2.1695086484828812,1.5671674333517518,1.8683380409173165,{"$f":"ROUND(AG99831,0)","v":2},{"$f":"ROUND(AG99832,0)","v":2},{"$f":"IF(AH99831>AI99831,1,\"\")","v":""},{"$f":"IF(AH99831=AI99831,1,\"\")","v":1},{"$f":"IF(AH99831<AI99831,1,\"\")","v":""},{"$f":"AH99831&\"-\"&AI99831","v":"2-2"}]
[null,null,null,null,null,null,null,null,null,null,null,null,null,null,null,null,null,null,null,null,null,null,null,null,null,null,null,null,null,null,1.9430518776688381,1.9155643981997155,1.9293081379342767]
[null,null,null,null,null,null,null,null,null,null,null,null,null,null,null,null,null,null,null,null,null,null,null,null,null,null,null,null,null,"№49916",2.3765573002717391,1.0230239756113839,1.6997906379415615,{"$f":"ROUND(AG99833,0)","v":2},{"$f":"ROUND(AG99834,0)","v":3},{"$f":"IF(AH99833>AI99833,1,\"\")","v":""},{"$f":"IF(AH99833=AI99833,1,\"\")","v":""},{"$f":"IF(AH99833<AI99833,1,\"\")","v":1},{"$f":"AH99833&\"-\"&AI99833","v":"2-3"}]
[null,null,null,null,null,null,null,null,null,null,null,null,null,null,null,null,null,null,null,null,null,null,null,null,null,null,null,null,null,null,1.7894487657558098,3.5108806718793844,2.6501647188175972]
[null,null,null,null,null,null,null,null,null,null,null,null,null,null,null,null,null,null,null,null,null,null,null,null,null,null,null,null,null,"№49917",1.8649701205782721,1.986964203031433,1.9259671618048526,{"$f":"ROUND(AG99835,0)","v":2},{"$f":"ROUND(AG99836,0)","v":3},{"$f":"IF(AH99835>AI99835,1,\"\")","v":""},{"$f":"IF(AH99835=AI99835,1,\"\")","v":""},{"$f":"IF(AH99835<AI99835,1,\"\")","v":1},{"$f":"AH99835&\"-\"&AI99835","v":"2-3"}]
[null,null,null,null,null,null,null,null,null,null,null,null,null,null,null,null,null,null,null,null,null,null,null,null,null,null,null,null,null,null,2.430312838146631,4.2110829136630894,3.3206978759048602]
[null,null,null,null,null,null,null,null,null,null,null,null,null,null,null,null,null,null,null,null,null,null,null,null,null,null,null,null,null,"№49918",2.5950384898114445,1.0740952524570497,1.8345668711342471,{"$f":"ROUND(AG99837,0)","v":2},{"$f":"ROUND(AG99838,0)","v":1},{"$f":"IF(AH99837>AI99837,1,\"\")","v":1},{"$f":"IF(AH99837=AI99837,1,\"\")","v":""},{"$f":"IF(AH99837<AI99837,1,\"\")","v":""},{"$f":"AH99837&\"-\"&AI99837","v":"2-1"}]
[null,null,null,null,null,null,null,null,null,null,null,null,null,null,null,null,null,null,null,null,null,null,null,null,null,null,null,null,null,null,3.0342489648910038,-0.5153709846273471,1.2594389901318284]
[null,null,null,null,null,null,null,null,null,null,null,null,null,null,null,null,null,null,null,null,null,null,null,null,null,null,null,null,null,"№49919",4.5585837426398523,0.10289721668684737,2.33074047966335,{"$f":"ROUND(AG99839,0)","v":2},{"$f":"ROUND(AG99840,0)","v":3},{"$f":"IF(AH99839>AI99839,1,\"\")","v":""},{"$f":"IF(AH99839=AI99839,1,\"\")","v":""},{"$f":"IF(AH99839<AI99839,1,\"\")","v":1},{"$f":"AH99839&\"-\"&AI99839","v":"2-3"}]
[null,null,null,null,null,null,null,null,null,null,null,null,null,null,null,null,null,null,null,null,null,null,null,null,null,null,null,null,null,null,2.8476901519409981,3.7029107183002967,3.2753004351206476]
[null,null,null,null,null,null,null,null,null,null,null,null,null,null,null,null,null,null,null,null,null,null,null,null,null,null,null,null,null,"№49920",2.2109900193288814,1.0135505935354028,1.612270306432142,{"$f":"ROUND(AG99841,0)","v":2},{"$f":"ROUND(AG99842,0)","v":4},{"$f":"IF(AH99841>AI99841,1,\"\")","v":""},{"$f":"IF(AH99841=AI99841,1,\"\")","v":""},{"$f":"IF(AH99841<AI99841,1,\"\")","v":1},{"$f":"AH99841&\"-\"&AI99841","v":"2-4"}]
[null,null,null,null,null,null,null,null,null,null,null,null,null,null,null,null,null,null,null,null,null,null,null,null,null,null,null,null,null,null,4.18201975551223,3.5114616152669305,3.8467406853895802]
[null,null,null,null,null,null,null,null,null,null,null,null,null,null,null,null,null,null,null,null,null,null,null,null,null,null,null,null,null,"№49921",{"$f":"_xlfn.NORM.INV(RAND(),$Z$3,$I$20)","v":4.4724072300727293},{"$f":"_xlfn.NORM.INV(RAND(),$AA$3,$O$20)","v":1.601637482435283},3.0370223562540062,{"$f":"ROUND(AG99843,0)","v":3},{"$f":"ROUND(AG99844,0)","v":2},{"$f":"IF(AH99843>AI99843,1,\"\")","v":1},{"$f":"IF(AH99843=AI99843,1,\"\")","v":""},{"$f":"IF(AH99843<AI99843,1,\"\")","v":""},{"$f":"AH99843&\"-\"&AI99843","v":"3-2"}]
[null,null,null,null,null,null,null,null,null,null,null,null,null,null,null,null,null,null,null,null,null,null,null,null,null,null,null,null,null,null,{"$f":"_xlfn.NORM.INV(RAND(),$Z$4,$N$20)","v":1.0076227683939731},{"$f":"_xlfn.NORM.INV(RAND(),$AA$4,$J$20)","v":3.0590720959854387},2.0333474321897058]
[null,null,null,null,null,null,null,null,null,null,null,null,null,null,null,null,null,null,null,null,null,null,null,null,null,null,null,null,null,"№49922",6.326018184533444,0.72330741938309218,{"$f":"(AE99845+AF99845)/2","v":3.524662801958268},{"$f":"ROUND(AG99845,0)","v":4},{"$f":"ROUND(AG99846,0)","v":2},{"$f":"IF(AH99845>AI99845,1,\"\")","v":1},{"$f":"IF(AH99845=AI99845,1,\"\")","v":""},{"$f":"IF(AH99845<AI99845,1,\"\")","v":""},{"$f":"AH99845&\"-\"&AI99845","v":"4-2"}]
[null,null,null,null,null,null,null,null,null,null,null,null,null,null,null,null,null,null,null,null,null,null,null,null,null,null,null,null,null,null,2.9000682687530093,1.5216082390392232,2.2108382538961164]
[null,null,null,null,null,null,null,null,null,null,null,null,null,null,null,null,null,null,null,null,null,null,null,null,null,null,null,null,null,"№49923",3.1532042392661643,-0.21047183689781246,1.4713662011841759,{"$f":"ROUND(AG99847,0)","v":1},{"$f":"ROUND(AG99848,0)","v":3},{"$f":"IF(AH99847>AI99847,1,\"\")","v":""},{"$f":"IF(AH99847=AI99847,1,\"\")","v":""},{"$f":"IF(AH99847<AI99847,1,\"\")","v":1},{"$f":"AH99847&\"-\"&AI99847","v":"1-3"}]
[null,null,null,null,null,null,null,null,null,null,null,null,null,null,null,null,null,null,null,null,null,null,null,null,null,null,null,null,null,null,3.4535961575136995,1.9998149615621923,2.7267055595379457]
[null,null,null,null,null,null,null,null,null,null,null,null,null,null,null,null,null,null,null,null,null,null,null,null,null,null,null,null,null,"№49924",1.0618457925856437,0.64158668343609659,0.85171623801087015,{"$f":"ROUND(AG99849,0)","v":1},{"$f":"ROUND(AG99850,0)","v":3},{"$f":"IF(AH99849>AI99849,1,\"\")","v":""},{"$f":"IF(AH99849=AI99849,1,\"\")","v":""},{"$f":"IF(AH99849<AI99849,1,\"\")","v":1},{"$f":"AH99849&\"-\"&AI99849","v":"1-3"}]
[null,null,null,null,null,null,null,null,null,null,null,null,null,null,null,null,null,null,null,null,null,null,null,null,null,null,null,null,null,null,3.0309569258961426,3.0171145084782331,3.0240357171871879]
[null,null,null,null,null,null,null,null,null,null,null,null,null,null,null,null,null,null,null,null,null,null,null,null,null,null,null,null,null,"№49925",4.8066134175848942,0.46893337380195521,2.6377733956934248,{"$f":"ROUND(AG99851,0)","v":3},{"$f":"ROUND(AG99852,0)","v":2},{"$f":"IF(AH99851>AI99851,1,\"\")","v":1},{"$f":"IF(AH99851=AI99851,1,\"\")","v":""},{"$f":"IF(AH99851<AI99851,1,\"\")","v":""},{"$f":"AH99851&\"-\"&AI99851","v":"3-2"}]
[null,null,null,null,null,null,null,null,null,null,null,null,null,null,null,null,null,null,null,null,null,null,null,null,null,null,null,null,null,null,2.1285010255367429,1.4089814433520211,1.768741234444382]
[null,null,null,null,null,null,null,null,null,null,null,null,null,null,null,null,null,null,null,null,null,null,null,null,null,null,null,null,null,"№49926",0.63751871464159748,1.7269975558897626,1.18225813526568,{"$f":"ROUND(AG99853,0)","v":1},{"$f":"ROUND(AG99854,0)","v":2},{"$f":"IF(AH99853>AI99853,1,\"\")","v":""},{"$f":"IF(AH99853=AI99853,1,\"\")","v":""},{"$f":"IF(AH99853<AI99853,1,\"\")","v":1},{"$f":"AH99853&\"-\"&AI99853","v":"1-2"}]
[null,null,null,null,null,null,null,null,null,null,null,null,null,null,null,null,null,null,null,null,null,null,null,null,null,null,null,null,null,null,1.6229886717825508,2.4566316302519908,2.0398101510172708]
[null,null,null,null,null,null,null,null,null,null,null,null,null,null,null,null,null,null,null,null,null,null,null,null,null,null,null,null,null,"№49927",5.0369592547541782,-0.15171971395997996,2.4426197703970991,{"$f":"ROUND(AG99855,0)","v":2},{"$f":"ROUND(AG99856,0)","v":1},{"$f":"IF(AH99855>AI99855,1,\"\")","v":1},{"$f":"IF(AH99855=AI99855,1,\"\")","v":""},{"$f":"IF(AH99855<AI99855,1,\"\")","v":""},{"$f":"AH99855&\"-\"&AI99855","v":"2-1"}]
[null,null,null,null,null,null,null,null,null,null,null,null,null,null,null,null,null,null,null,null,null,null,null,null,null,null,null,null,null,null,2.5338821587569562,-0.31771716416285245,1.108082497297052]
[null,null,null,null,null,null,null,null,null,null,null,null,null,null,null,null,null,null,null,null,null,null,null,null,null,null,null,null,null,"№49928",6.1694560646628904,0.20534128115200867,3.1873986729074497,{"$f":"ROUND(AG99857,0)","v":3},{"$f":"ROUND(AG99858,0)","v":1},{"$f":"IF(AH99857>AI99857,1,\"\")","v":1},{"$f":"IF(AH99857=AI99857,1,\"\")","v":""},{"$f":"IF(AH99857<AI99857,1,\"\")","v":""},{"$f":"AH99857&\"-\"&AI99857","v":"3-1"}]
[null,null,null,null,null,null,null,null,null,null,null,null,null,null,null,null,null,null,null,null,null,null,null,null,null,null,null,null,null,null,1.6626902898840263,1.1664397862989559,1.4145650380914911]
[null,null,null,null,null,null,null,null,null,null,null,null,null,null,null,null,null,null,null,null,null,null,null,null,null,null,null,null,null,"№49929",2.2460574895467618,1.604795516596889,1.9254265030718254,{"$f":"ROUND(AG99859,0)","v":2},{"$f":"ROUND(AG99860,0)","v":3},{"$f":"IF(AH99859>AI99859,1,\"\")","v":""},{"$f":"IF(AH99859=AI99859,1,\"\")","v":""},{"$f":"IF(AH99859<AI99859,1,\"\")","v":1},{"$f":"AH99859&\"-\"&AI99859","v":"2-3"}]
[null,null,null,null,null,null,null,null,null,null,null,null,null,null,null,null,null,null,null,null,null,null,null,null,null,null,null,null,null,null,2.8368193457309347,2.3789079350422528,2.6078636403865936]
[null,null,null,null,null,null,null,null,null,null,null,null,null,null,null,null,null,null,null,null,null,null,null,null,null,null,null,null,null,"№49930",4.9347727092498657,0.64143865985055226,2.7881056845502088,{"$f":"ROUND(AG99861,0)","v":3},{"$f":"ROUND(AG99862,0)","v":-1},{"$f":"IF(AH99861>AI99861,1,\"\")","v":1},{"$f":"IF(AH99861=AI99861,1,\"\")","v":""},{"$f":"IF(AH99861<AI99861,1,\"\")","v":""},{"$f":"AH99861&\"-\"&AI99861","v":"3--1"}]
[null,null,null,null,null,null,null,null,null,null,null,null,null,null,null,null,null,null,null,null,null,null,null,null,null,null,null,null,null,null,1.2469343511702147,-2.2979779367862254,-0.52552179280800537]
[null,null,null,null,null,null,null,null,null,null,null,null,null,null,null,null,null,null,null,null,null,null,null,null,null,null,null,null,null,"№49931",4.3238044986499631,1.1788342658606239,2.7513193822552937,{"$f":"ROUND(AG99863,0)","v":3},{"$f":"ROUND(AG99864,0)","v":2},{"$f":"IF(AH99863>AI99863,1,\"\")","v":1},{"$f":"IF(AH99863=AI99863,1,\"\")","v":""},{"$f":"IF(AH99863<AI99863,1,\"\")","v":""},{"$f":"AH99863&\"-\"&AI99863","v":"3-2"}]
[null,null,null,null,null,null,null,null,null,null,null,null,null,null,null,null,null,null,null,null,null,null,null,null,null,null,null,null,null,null,2.1700339024103905,2.1393679777332819,2.1547009400718364]
[null,null,null,null,null,null,null,null,null,null,null,null,null,null,null,null,null,null,null,null,null,null,null,null,null,null,null,null,null,"№49932",3.5230822555078274,-0.90173579197003728,1.3106732317688952,{"$f":"ROUND(AG99865,0)","v":1},{"$f":"ROUND(AG99866,0)","v":2},{"$f":"IF(AH99865>AI99865,1,\"\")","v":""},{"$f":"IF(AH99865=AI99865,1,\"\")","v":""},{"$f":"IF(AH99865<AI99865,1,\"\")","v":1},{"$f":"AH99865&\"-\"&AI99865","v":"1-2"}]
[null,null,null,null,null,null,null,null,null,null,null,null,null,null,null,null,null,null,null,null,null,null,null,null,null,null,null,null,null,null,2.4762461824729254,1.8557125949745985,2.1659793887237617]
[null,null,null,null,null,null,null,null,null,null,null,null,null,null,null,null,null,null,null,null,null,null,null,null,null,null,null,null,null,"№49933",4.0883470896538698,2.0001461466928738,3.0442466181733718,{"$f":"ROUND(AG99867,0)","v":3},{"$f":"ROUND(AG99868,0)","v":3},{"$f":"IF(AH99867>AI99867,1,\"\")","v":""},{"$f":"IF(AH99867=AI99867,1,\"\")","v":1},{"$f":"IF(AH99867<AI99867,1,\"\")","v":""},{"$f":"AH99867&\"-\"&AI99867","v":"3-3"}]
[null,null,null,null,null,null,null,null,null,null,null,null,null,null,null,null,null,null,null,null,null,null,null,null,null,null,null,null,null,null,2.1832126484033587,4.7181356627752669,3.4506741555893128]
[null,null,null,null,null,null,null,null,null,null,null,null,null,null,null,null,null,null,null,null,null,null,null,null,null,null,null,null,null,"№49934",4.1988745383426496,-9.4145269403672294E-2,2.0523646344694888,{"$f":"ROUND(AG99869,0)","v":2},{"$f":"ROUND(AG99870,0)","v":2},{"$f":"IF(AH99869>AI99869,1,\"\")","v":""},{"$f":"IF(AH99869=AI99869,1,\"\")","v":1},{"$f":"IF(AH99869<AI99869,1,\"\")","v":""},{"$f":"AH99869&\"-\"&AI99869","v":"2-2"}]
[null,null,null,null,null,null,null,null,null,null,null,null,null,null,null,null,null,null,null,null,null,null,null,null,null,null,null,null,null,null,2.7887754206723332,1.86378524066658,2.3262803306694568]
[null,null,null,null,null,null,null,null,null,null,null,null,null,null,null,null,null,null,null,null,null,null,null,null,null,null,null,null,null,"№49935",0.68934464689529618,1.4059027907596982,1.0476237188274973,{"$f":"ROUND(AG99871,0)","v":1},{"$f":"ROUND(AG99872,0)","v":2},{"$f":"IF(AH99871>AI99871,1,\"\")","v":""},{"$f":"IF(AH99871=AI99871,1,\"\")","v":""},{"$f":"IF(AH99871<AI99871,1,\"\")","v":1},{"$f":"AH99871&\"-\"&AI99871","v":"1-2"}]
[null,null,null,null,null,null,null,null,null,null,null,null,null,null,null,null,null,null,null,null,null,null,null,null,null,null,null,null,null,null,2.3182473718242984,1.5258809670866242,1.9220641694554614]
[null,null,null,null,null,null,null,null,null,null,null,null,null,null,null,null,null,null,null,null,null,null,null,null,null,null,null,null,null,"№49936",1.635374473483953,1.8083192851012737,1.7218468792926134,{"$f":"ROUND(AG99873,0)","v":2},{"$f":"ROUND(AG99874,0)","v":2},{"$f":"IF(AH99873>AI99873,1,\"\")","v":""},{"$f":"IF(AH99873=AI99873,1,\"\")","v":1},{"$f":"IF(AH99873<AI99873,1,\"\")","v":""},{"$f":"AH99873&\"-\"&AI99873","v":"2-2"}]
[null,null,null,null,null,null,null,null,null,null,null,null,null,null,null,null,null,null,null,null,null,null,null,null,null,null,null,null,null,null,1.8312393064787749,2.69495454208736,2.2630969242830674]
[null,null,null,null,null,null,null,null,null,null,null,null,null,null,null,null,null,null,null,null,null,null,null,null,null,null,null,null,null,"№49937",3.2997658251173343,1.1153508632520206,2.2075583441846773,{"$f":"ROUND(AG99875,0)","v":2},{"$f":"ROUND(AG99876,0)","v":1},{"$f":"IF(AH99875>AI99875,1,\"\")","v":1},{"$f":"IF(AH99875=AI99875,1,\"\")","v":""},{"$f":"IF(AH99875<AI99875,1,\"\")","v":""},{"$f":"AH99875&\"-\"&AI99875","v":"2-1"}]
[null,null,null,null,null,null,null,null,null,null,null,null,null,null,null,null,null,null,null,null,null,null,null,null,null,null,null,null,null,null,2.0708560324933996,0.32352849264890615,1.1971922625711529]
[null,null,null,null,null,null,null,null,null,null,null,null,null,null,null,null,null,null,null,null,null,null,null,null,null,null,null,null,null,"№49938",2.5570220558978316,0.4835579292547445,1.5202899925762881,{"$f":"ROUND(AG99877,0)","v":2},{"$f":"ROUND(AG99878,0)","v":1},{"$f":"IF(AH99877>AI99877,1,\"\")","v":1},{"$f":"IF(AH99877=AI99877,1,\"\")","v":""},{"$f":"IF(AH99877<AI99877,1,\"\")","v":""},{"$f":"AH99877&\"-\"&AI99877","v":"2-1"}]
[null,null,null,null,null,null,null,null,null,null,null,null,null,null,null,null,null,null,null,null,null,null,null,null,null,null,null,null,null,null,3.6517590507631481,-0.83778976286526641,1.4069846439489408]
[null,null,null,null,null,null,null,null,null,null,null,null,null,null,null,null,null,null,null,null,null,null,null,null,null,null,null,null,null,"№49939",4.1945718988486274,-0.62099613779886176,1.7867878805248827,{"$f":"ROUND(AG99879,0)","v":2},{"$f":"ROUND(AG99880,0)","v":1},{"$f":"IF(AH99879>AI99879,1,\"\")","v":1},{"$f":"IF(AH99879=AI99879,1,\"\")","v":""},{"$f":"IF(AH99879<AI99879,1,\"\")","v":""},{"$f":"AH99879&\"-\"&AI99879","v":"2-1"}]
[null,null,null,null,null,null,null,null,null,null,null,null,null,null,null,null,null,null,null,null,null,null,null,null,null,null,null,null,null,null,1.9272467062493261,0.84448471395016111,1.3858657100997436]
[null,null,null,null,null,null,null,null,null,null,null,null,null,null,null,null,null,null,null,null,null,null,null,null,null,null,null,null,null,"№49940",3.8506558807879454,1.4540892276999045,2.6523725542439252,{"$f":"ROUND(AG99881,0)","v":3},{"$f":"ROUND(AG99882,0)","v":3},{"$f":"IF(AH99881>AI99881,1,\"\")","v":""},{"$f":"IF(AH99881=AI99881,1,\"\")","v":1},{"$f":"IF(AH99881<AI99881,1,\"\")","v":""},{"$f":"AH99881&\"-\"&AI99881","v":"3-3"}]
[null,null,null,null,null,null,null,null,null,null,null,null,null,null,null,null,null,null,null,null,null,null,null,null,null,null,null,null,null,null,3.1258816627328097,2.115941245994966,2.6209114543638878]
[null,null,null,null,null,null,null,null,null,null,null,null,null,null,null,null,null,null,null,null,null,null,null,null,null,null,null,null,null,"№49941",4.6859229389024648,-0.5817227274873773,2.0521001057075439,{"$f":"ROUND(AG99883,0)","v":2},{"$f":"ROUND(AG99884,0)","v":2},{"$f":"IF(AH99883>AI99883,1,\"\")","v":""},{"$f":"IF(AH99883=AI99883,1,\"\")","v":1},{"$f":"IF(AH99883<AI99883,1,\"\")","v":""},{"$f":"AH99883&\"-\"&AI99883","v":"2-2"}]
[null,null,null,null,null,null,null,null,null,null,null,null,null,null,null,null,null,null,null,null,null,null,null,null,null,null,null,null,null,null,2.3306742797394007,2.1592272926730018,2.2449507862062013]
[null,null,null,null,null,null,null,null,null,null,null,null,null,null,null,null,null,null,null,null,null,null,null,null,null,null,null,null,null,"№49942",5.9689715643379913,-0.82120427614216895,2.5738836440979114,{"$f":"ROUND(AG99885,0)","v":3},{"$f":"ROUND(AG99886,0)","v":3},{"$f":"IF(AH99885>AI99885,1,\"\")","v":""},{"$f":"IF(AH99885=AI99885,1,\"\")","v":1},{"$f":"IF(AH99885<AI99885,1,\"\")","v":""},{"$f":"AH99885&\"-\"&AI99885","v":"3-3"}]
[null,null,null,null,null,null,null,null,null,null,null,null,null,null,null,null,null,null,null,null,null,null,null,null,null,null,null,null,null,null,1.9160766577455026,4.0428731169880727,2.9794748873667878]
[null,null,null,null,null,null,null,null,null,null,null,null,null,null,null,null,null,null,null,null,null,null,null,null,null,null,null,null,null,"№49943",3.8744117729524445,0.48161755547349044,2.1780146642129674,{"$f":"ROUND(AG99887,0)","v":2},{"$f":"ROUND(AG99888,0)","v":3},{"$f":"IF(AH99887>AI99887,1,\"\")","v":""},{"$f":"IF(AH99887=AI99887,1,\"\")","v":""},{"$f":"IF(AH99887<AI99887,1,\"\")","v":1},{"$f":"AH99887&\"-\"&AI99887","v":"2-3"}]
[null,null,null,null,null,null,null,null,null,null,null,null,null,null,null,null,null,null,null,null,null,null,null,null,null,null,null,null,null,null,3.1531810247560741,2.3101583325354325,2.7316696786457531]
[null,null,null,null,null,null,null,null,null,null,null,null,null,null,null,null,null,null,null,null,null,null,null,null,null,null,null,null,null,"№49944",3.6786631141623172,0.31904820981750298,1.99885566198991,{"$f":"ROUND(AG99889,0)","v":2},{"$f":"ROUND(AG99890,0)","v":2},{"$f":"IF(AH99889>AI99889,1,\"\")","v":""},{"$f":"IF(AH99889=AI99889,1,\"\")","v":1},{"$f":"IF(AH99889<AI99889,1,\"\")","v":""},{"$f":"AH99889&\"-\"&AI99889","v":"2-2"}]
[null,null,null,null,null,null,null,null,null,null,null,null,null,null,null,null,null,null,null,null,null,null,null,null,null,null,null,null,null,null,1.6483345556015265,1.745744972011799,1.6970397638066628]
[null,null,null,null,null,null,null,null,null,null,null,null,null,null,null,null,null,null,null,null,null,null,null,null,null,null,null,null,null,"№49945",3.9603409690141049,0.42988178786808229,2.1951113784410934,{"$f":"ROUND(AG99891,0)","v":2},{"$f":"ROUND(AG99892,0)","v":2},{"$f":"IF(AH99891>AI99891,1,\"\")","v":""},{"$f":"IF(AH99891=AI99891,1,\"\")","v":1},{"$f":"IF(AH99891<AI99891,1,\"\")","v":""},{"$f":"AH99891&\"-\"&AI99891","v":"2-2"}]
[null,null,null,null,null,null,null,null,null,null,null,null,null,null,null,null,null,null,null,null,null,null,null,null,null,null,null,null,null,null,1.3401099491329349,2.5333562146766972,1.9367330819048161]
[null,null,null,null,null,null,null,null,null,null,null,null,null,null,null,null,null,null,null,null,null,null,null,null,null,null,null,null,null,"№49946",2.9811092979816629,0.63649693522858442,1.8088031166051237,{"$f":"ROUND(AG99893,0)","v":2},{"$f":"ROUND(AG99894,0)","v":2},{"$f":"IF(AH99893>AI99893,1,\"\")","v":""},{"$f":"IF(AH99893=AI99893,1,\"\")","v":1},{"$f":"IF(AH99893<AI99893,1,\"\")","v":""},{"$f":"AH99893&\"-\"&AI99893","v":"2-2"}]
[null,null,null,null,null,null,null,null,null,null,null,null,null,null,null,null,null,null,null,null,null,null,null,null,null,null,null,null,null,null,2.4220101629777431,2.2681852984243065,2.345097730701025]
[null,null,null,null,null,null,null,null,null,null,null,null,null,null,null,null,null,null,null,null,null,null,null,null,null,null,null,null,null,"№49947",4.6792635096292647,0.68583109318060764,2.6825473014049361,{"$f":"ROUND(AG99895,0)","v":3},{"$f":"ROUND(AG99896,0)","v":2},{"$f":"IF(AH99895>AI99895,1,\"\")","v":1},{"$f":"IF(AH99895=AI99895,1,\"\")","v":""},{"$f":"IF(AH99895<AI99895,1,\"\")","v":""},{"$f":"AH99895&\"-\"&AI99895","v":"3-2"}]
[null,null,null,null,null,null,null,null,null,null,null,null,null,null,null,null,null,null,null,null,null,null,null,null,null,null,null,null,null,null,1.9922830141334862,1.2098894736747421,1.6010862439041142]
[null,null,null,null,null,null,null,null,null,null,null,null,null,null,null,null,null,null,null,null,null,null,null,null,null,null,null,null,null,"№49948",3.8945326123314201,0.94699418177141126,2.4207633970514157,{"$f":"ROUND(AG99897,0)","v":2},{"$f":"ROUND(AG99898,0)","v":3},{"$f":"IF(AH99897>AI99897,1,\"\")","v":""},{"$f":"IF(AH99897=AI99897,1,\"\")","v":""},{"$f":"IF(AH99897<AI99897,1,\"\")","v":1},{"$f":"AH99897&\"-\"&AI99897","v":"2-3"}]
[null,null,null,null,null,null,null,null,null,null,null,null,null,null,null,null,null,null,null,null,null,null,null,null,null,null,null,null,null,null,1.937275204681467,3.3604393425013654,2.6488572735914162]
[null,null,null,null,null,null,null,null,null,null,null,null,null,null,null,null,null,null,null,null,null,null,null,null,null,null,null,null,null,"№49949",3.2826501692741772,-0.39179903641599112,1.4454255664290931,{"$f":"ROUND(AG99899,0)","v":1},{"$f":"ROUND(AG99900,0)","v":0},{"$f":"IF(AH99899>AI99899,1,\"\")","v":1},{"$f":"IF(AH99899=AI99899,1,\"\")","v":""},{"$f":"IF(AH99899<AI99899,1,\"\")","v":""},{"$f":"AH99899&\"-\"&AI99899","v":"1-0"}]
[null,null,null,null,null,null,null,null,null,null,null,null,null,null,null,null,null,null,null,null,null,null,null,null,null,null,null,null,null,null,2.2988294370550162,-2.3623213331868804,-3.1745948065932117E-2]
[null,null,null,null,null,null,null,null,null,null,null,null,null,null,null,null,null,null,null,null,null,null,null,null,null,null,null,null,null,"№49950",5.2617084836976646,-0.32672772584921406,2.4674903789242251,{"$f":"ROUND(AG99901,0)","v":2},{"$f":"ROUND(AG99902,0)","v":1},{"$f":"IF(AH99901>AI99901,1,\"\")","v":1},{"$f":"IF(AH99901=AI99901,1,\"\")","v":""},{"$f":"IF(AH99901<AI99901,1,\"\")","v":""},{"$f":"AH99901&\"-\"&AI99901","v":"2-1"}]
[null,null,null,null,null,null,null,null,null,null,null,null,null,null,null,null,null,null,null,null,null,null,null,null,null,null,null,null,null,null,2.4138424755169559,-0.85724067502116341,0.77830090024789622]
[null,null,null,null,null,null,null,null,null,null,null,null,null,null,null,null,null,null,null,null,null,null,null,null,null,null,null,null,null,"№49951",5.2657701393857339,0.92690481952281667,3.0963374794542755,{"$f":"ROUND(AG99903,0)","v":3},{"$f":"ROUND(AG99904,0)","v":1},{"$f":"IF(AH99903>AI99903,1,\"\")","v":1},{"$f":"IF(AH99903=AI99903,1,\"\")","v":""},{"$f":"IF(AH99903<AI99903,1,\"\")","v":""},{"$f":"AH99903&\"-\"&AI99903","v":"3-1"}]
[null,null,null,null,null,null,null,null,null,null,null,null,null,null,null,null,null,null,null,null,null,null,null,null,null,null,null,null,null,null,3.1518436049551344,-0.16111688986959205,1.4953633575427712]
[null,null,null,null,null,null,null,null,null,null,null,null,null,null,null,null,null,null,null,null,null,null,null,null,null,null,null,null,null,"№49952",-0.76580852931659793,-0.8528329537614574,-0.80932074153902767,{"$f":"ROUND(AG99905,0)","v":-1},{"$f":"ROUND(AG99906,0)","v":1},{"$f":"IF(AH99905>AI99905,1,\"\")","v":""},{"$f":"IF(AH99905=AI99905,1,\"\")","v":""},{"$f":"IF(AH99905<AI99905,1,\"\")","v":1},{"$f":"AH99905&\"-\"&AI99905","v":"-1-1"}]
[null,null,null,null,null,null,null,null,null,null,null,null,null,null,null,null,null,null,null,null,null,null,null,null,null,null,null,null,null,null,1.4271117076684861,0.90136783975118195,1.164239773709834]
[null,null,null,null,null,null,null,null,null,null,null,null,null,null,null,null,null,null,null,null,null,null,null,null,null,null,null,null,null,"№49953",{"$f":"_xlfn.NORM.INV(RAND(),$Z$3,$I$20)","v":1.0255753108351637},{"$f":"_xlfn.NORM.INV(RAND(),$AA$3,$O$20)","v":1.7177463931648314},1.3716608519999975,{"$f":"ROUND(AG99907,0)","v":1},{"$f":"ROUND(AG99908,0)","v":1},{"$f":"IF(AH99907>AI99907,1,\"\")","v":""},{"$f":"IF(AH99907=AI99907,1,\"\")","v":1},{"$f":"IF(AH99907<AI99907,1,\"\")","v":""},{"$f":"AH99907&\"-\"&AI99907","v":"1-1"}]
[null,null,null,null,null,null,null,null,null,null,null,null,null,null,null,null,null,null,null,null,null,null,null,null,null,null,null,null,null,null,{"$f":"_xlfn.NORM.INV(RAND(),$Z$4,$N$20)","v":1.5494500282915893},{"$f":"_xlfn.NORM.INV(RAND(),$AA$4,$J$20)","v":0.6432645447880998},1.0963572865398445]
[null,null,null,null,null,null,null,null,null,null,null,null,null,null,null,null,null,null,null,null,null,null,null,null,null,null,null,null,null,"№49954",3.991932056574969,0.20338289468501536,{"$f":"(AE99909+AF99909)/2","v":2.0976574756299922},{"$f":"ROUND(AG99909,0)","v":2},{"$f":"ROUND(AG99910,0)","v":2},{"$f":"IF(AH99909>AI99909,1,\"\")","v":""},{"$f":"IF(AH99909=AI99909,1,\"\")","v":1},{"$f":"IF(AH99909<AI99909,1,\"\")","v":""},{"$f":"AH99909&\"-\"&AI99909","v":"2-2"}]
[null,null,null,null,null,null,null,null,null,null,null,null,null,null,null,null,null,null,null,null,null,null,null,null,null,null,null,null,null,null,2.9271591444767124,1.6532849041621693,2.2902220243194407]
[null,null,null,null,null,null,null,null,null,null,null,null,null,null,null,null,null,null,null,null,null,null,null,null,null,null,null,null,null,"№49955",4.1838938893743522,1.9033603703707138,3.043627129872533,{"$f":"ROUND(AG99911,0)","v":3},{"$f":"ROUND(AG99912,0)","v":3},{"$f":"IF(AH99911>AI99911,1,\"\")","v":""},{"$f":"IF(AH99911=AI99911,1,\"\")","v":1},{"$f":"IF(AH99911<AI99911,1,\"\")","v":""},{"$f":"AH99911&\"-\"&AI99911","v":"3-3"}]
[null,null,null,null,null,null,null,null,null,null,null,null,null,null,null,null,null,null,null,null,null,null,null,null,null,null,null,null,null,null,2.8793285794406587,3.2918188018769152,3.0855736906587872]
[null,null,null,null,null,null,null,null,null,null,null,null,null,null,null,null,null,null,null,null,null,null,null,null,null,null,null,null,null,"№49956",4.7632608825529061,0.59890125128178517,2.6810810669173457,{"$f":"ROUND(AG99913,0)","v":3},{"$f":"ROUND(AG99914,0)","v":2},{"$f":"IF(AH99913>AI99913,1,\"\")","v":1},{"$f":"IF(AH99913=AI99913,1,\"\")","v":""},{"$f":"IF(AH99913<AI99913,1,\"\")","v":""},{"$f":"AH99913&\"-\"&AI99913","v":"3-2"}]
[null,null,null,null,null,null,null,null,null,null,null,null,null,null,null,null,null,null,null,null,null,null,null,null,null,null,null,null,null,null,3.1862735307486378,0.78191043257136639,1.984091981660002]
[null,null,null,null,null,null,null,null,null,null,null,null,null,null,null,null,null,null,null,null,null,null,null,null,null,null,null,null,null,"№49957",5.1425365911973131,0.67570406167809349,2.9091203264377032,{"$f":"ROUND(AG99915,0)","v":3},{"$f":"ROUND(AG99916,0)","v":3},{"$f":"IF(AH99915>AI99915,1,\"\")","v":""},{"$f":"IF(AH99915=AI99915,1,\"\")","v":1},{"$f":"IF(AH99915<AI99915,1,\"\")","v":""},{"$f":"AH99915&\"-\"&AI99915","v":"3-3"}]
[null,null,null,null,null,null,null,null,null,null,null,null,null,null,null,null,null,null,null,null,null,null,null,null,null,null,null,null,null,null,1.7602967142265067,3.6049828924407152,2.6826398033336112]
[null,null,null,null,null,null,null,null,null,null,null,null,null,null,null,null,null,null,null,null,null,null,null,null,null,null,null,null,null,"№49958",3.9255535441581397,0.96378781855901108,2.4446706813585752,{"$f":"ROUND(AG99917,0)","v":2},{"$f":"ROUND(AG99918,0)","v":4},{"$f":"IF(AH99917>AI99917,1,\"\")","v":""},{"$f":"IF(AH99917=AI99917,1,\"\")","v":""},{"$f":"IF(AH99917<AI99917,1,\"\")","v":1},{"$f":"AH99917&\"-\"&AI99917","v":"2-4"}]
[null,null,null,null,null,null,null,null,null,null,null,null,null,null,null,null,null,null,null,null,null,null,null,null,null,null,null,null,null,null,2.2469063843088959,5.2290948225164513,3.7380006034126736]
[null,null,null,null,null,null,null,null,null,null,null,null,null,null,null,null,null,null,null,null,null,null,null,null,null,null,null,null,null,"№49959",2.6888685158945265,0.57507553148734081,1.6319720236909336,{"$f":"ROUND(AG99919,0)","v":2},{"$f":"ROUND(AG99920,0)","v":3},{"$f":"IF(AH99919>AI99919,1,\"\")","v":""},{"$f":"IF(AH99919=AI99919,1,\"\")","v":""},{"$f":"IF(AH99919<AI99919,1,\"\")","v":1},{"$f":"AH99919&\"-\"&AI99919","v":"2-3"}]
[null,null,null,null,null,null,null,null,null,null,null,null,null,null,null,null,null,null,null,null,null,null,null,null,null,null,null,null,null,null,2.5273509765712485,3.3173667027439784,2.9223588396576137]
[null,null,null,null,null,null,null,null,null,null,null,null,null,null,null,null,null,null,null,null,null,null,null,null,null,null,null,null,null,"№49960",6.4482539892896611,1.4603606401930835,3.9543073147413725,{"$f":"ROUND(AG99921,0)","v":4},{"$f":"ROUND(AG99922,0)","v":1},{"$f":"IF(AH99921>AI99921,1,\"\")","v":1},{"$f":"IF(AH99921=AI99921,1,\"\")","v":""},{"$f":"IF(AH99921<AI99921,1,\"\")","v":""},{"$f":"AH99921&\"-\"&AI99921","v":"4-1"}]
[null,null,null,null,null,null,null,null,null,null,null,null,null,null,null,null,null,null,null,null,null,null,null,null,null,null,null,null,null,null,1.5559168522740809,0.91162288876901798,1.2337698705215494]
[null,null,null,null,null,null,null,null,null,null,null,null,null,null,null,null,null,null,null,null,null,null,null,null,null,null,null,null,null,"№49961",2.1990386130460529,-5.2658021460146087E-2,1.0731902957929533,{"$f":"ROUND(AG99923,0)","v":1},{"$f":"ROUND(AG99924,0)","v":2},{"$f":"IF(AH99923>AI99923,1,\"\")","v":""},{"$f":"IF(AH99923=AI99923,1,\"\")","v":""},{"$f":"IF(AH99923<AI99923,1,\"\")","v":1},{"$f":"AH99923&\"-\"&AI99923","v":"1-2"}]
[null,null,null,null,null,null,null,null,null,null,null,null,null,null,null,null,null,null,null,null,null,null,null,null,null,null,null,null,null,null,2.3708530223127045,1.4904204168577064,1.9306367195852054]
[null,null,null,null,null,null,null,null,null,null,null,null,null,null,null,null,null,null,null,null,null,null,null,null,null,null,null,null,null,"№49962",0.97878495157737744,1.5687678338220743,1.2737763926997259,{"$f":"ROUND(AG99925,0)","v":1},{"$f":"ROUND(AG99926,0)","v":2},{"$f":"IF(AH99925>AI99925,1,\"\")","v":""},{"$f":"IF(AH99925=AI99925,1,\"\")","v":""},{"$f":"IF(AH99925<AI99925,1,\"\")","v":1},{"$f":"AH99925&\"-\"&AI99925","v":"1-2"}]
[null,null,null,null,null,null,null,null,null,null,null,null,null,null,null,null,null,null,null,null,null,null,null,null,null,null,null,null,null,null,1.7192047919498532,3.246904874573155,2.4830548332615043]
[null,null,null,null,null,null,null,null,null,null,null,null,null,null,null,null,null,null,null,null,null,null,null,null,null,null,null,null,null,"№49963",4.4258501526214156,-1.0844716994766104,1.6706892265724025,{"$f":"ROUND(AG99927,0)","v":2},{"$f":"ROUND(AG99928,0)","v":2},{"$f":"IF(AH99927>AI99927,1,\"\")","v":""},{"$f":"IF(AH99927=AI99927,1,\"\")","v":1},{"$f":"IF(AH99927<AI99927,1,\"\")","v":""},{"$f":"AH99927&\"-\"&AI99927","v":"2-2"}]
[null,null,null,null,null,null,null,null,null,null,null,null,null,null,null,null,null,null,null,null,null,null,null,null,null,null,null,null,null,null,1.8735435615329707,1.5333107662521575,1.703427163892564]
[null,null,null,null,null,null,null,null,null,null,null,null,null,null,null,null,null,null,null,null,null,null,null,null,null,null,null,null,null,"№49964",4.6905581797633049,-6.3523486325838263E-2,2.3135173467187333,{"$f":"ROUND(AG99929,0)","v":2},{"$f":"ROUND(AG99930,0)","v":2},{"$f":"IF(AH99929>AI99929,1,\"\")","v":""},{"$f":"IF(AH99929=AI99929,1,\"\")","v":1},{"$f":"IF(AH99929<AI99929,1,\"\")","v":""},{"$f":"AH99929&\"-\"&AI99929","v":"2-2"}]
[null,null,null,null,null,null,null,null,null,null,null,null,null,null,null,null,null,null,null,null,null,null,null,null,null,null,null,null,null,null,2.6434266882498751,1.9367959408095106,2.290111314529693]
[null,null,null,null,null,null,null,null,null,null,null,null,null,null,null,null,null,null,null,null,null,null,null,null,null,null,null,null,null,"№49965",2.8304099462235977,1.5377562864132099,2.184083116318404,{"$f":"ROUND(AG99931,0)","v":2},{"$f":"ROUND(AG99932,0)","v":2},{"$f":"IF(AH99931>AI99931,1,\"\")","v":""},{"$f":"IF(AH99931=AI99931,1,\"\")","v":1},{"$f":"IF(AH99931<AI99931,1,\"\")","v":""},{"$f":"AH99931&\"-\"&AI99931","v":"2-2"}]
[null,null,null,null,null,null,null,null,null,null,null,null,null,null,null,null,null,null,null,null,null,null,null,null,null,null,null,null,null,null,1.9724967108450295,2.2211339737325453,2.0968153422887874]
[null,null,null,null,null,null,null,null,null,null,null,null,null,null,null,null,null,null,null,null,null,null,null,null,null,null,null,null,null,"№49966",5.5002970500345807,0.13917112215070981,2.8197340860926454,{"$f":"ROUND(AG99933,0)","v":3},{"$f":"ROUND(AG99934,0)","v":3},{"$f":"IF(AH99933>AI99933,1,\"\")","v":""},{"$f":"IF(AH99933=AI99933,1,\"\")","v":1},{"$f":"IF(AH99933<AI99933,1,\"\")","v":""},{"$f":"AH99933&\"-\"&AI99933","v":"3-3"}]
[null,null,null,null,null,null,null,null,null,null,null,null,null,null,null,null,null,null,null,null,null,null,null,null,null,null,null,null,null,null,1.9538087193516371,4.3131768747014014,3.1334927970265194]
[null,null,null,null,null,null,null,null,null,null,null,null,null,null,null,null,null,null,null,null,null,null,null,null,null,null,null,null,null,"№49967",4.9515939087763403,1.1082194821349274,3.029906695455634,{"$f":"ROUND(AG99935,0)","v":3},{"$f":"ROUND(AG99936,0)","v":2},{"$f":"IF(AH99935>AI99935,1,\"\")","v":1},{"$f":"IF(AH99935=AI99935,1,\"\")","v":""},{"$f":"IF(AH99935<AI99935,1,\"\")","v":""},{"$f":"AH99935&\"-\"&AI99935","v":"3-2"}]
[null,null,null,null,null,null,null,null,null,null,null,null,null,null,null,null,null,null,null,null,null,null,null,null,null,null,null,null,null,null,1.8375358337121661,1.2872287732570153,1.5623823034845907]
[null,null,null,null,null,null,null,null,null,null,null,null,null,null,null,null,null,null,null,null,null,null,null,null,null,null,null,null,null,"№49968",3.7996104375205801,0.27006004678619489,2.0348352421533873,{"$f":"ROUND(AG99937,0)","v":2},{"$f":"ROUND(AG99938,0)","v":2},{"$f":"IF(AH99937>AI99937,1,\"\")","v":""},{"$f":"IF(AH99937=AI99937,1,\"\")","v":1},{"$f":"IF(AH99937<AI99937,1,\"\")","v":""},{"$f":"AH99937&\"-\"&AI99937","v":"2-2"}]
[null,null,null,null,null,null,null,null,null,null,null,null,null,null,null,null,null,null,null,null,null,null,null,null,null,null,null,null,null,null,2.0631602831052529,1.7701619840572234,1.916661133581238]
[null,null,null,null,null,null,null,null,null,null,null,null,null,null,null,null,null,null,null,null,null,null,null,null,null,null,null,null,null,"№49969",2.5632853808673053,-0.1703333249997141,1.1964760279337956,{"$f":"ROUND(AG99939,0)","v":1},{"$f":"ROUND(AG99940,0)","v":3},{"$f":"IF(AH99939>AI99939,1,\"\")","v":""},{"$f":"IF(AH99939=AI99939,1,\"\")","v":""},{"$f":"IF(AH99939<AI99939,1,\"\")","v":1},{"$f":"AH99939&\"-\"&AI99939","v":"1-3"}]
[null,null,null,null,null,null,null,null,null,null,null,null,null,null,null,null,null,null,null,null,null,null,null,null,null,null,null,null,null,null,1.6148182530876496,3.4440158296586643,2.5294170413731569]
[null,null,null,null,null,null,null,null,null,null,null,null,null,null,null,null,null,null,null,null,null,null,null,null,null,null,null,null,null,"№49970",2.0162897115555047,-0.16977878810433689,0.92325546172558393,{"$f":"ROUND(AG99941,0)","v":1},{"$f":"ROUND(AG99942,0)","v":2},{"$f":"IF(AH99941>AI99941,1,\"\")","v":""},{"$f":"IF(AH99941=AI99941,1,\"\")","v":""},{"$f":"IF(AH99941<AI99941,1,\"\")","v":1},{"$f":"AH99941&\"-\"&AI99941","v":"1-2"}]
[null,null,null,null,null,null,null,null,null,null,null,null,null,null,null,null,null,null,null,null,null,null,null,null,null,null,null,null,null,null,1.7182323672229112,2.6538832155270438,2.1860577913749775]
[null,null,null,null,null,null,null,null,null,null,null,null,null,null,null,null,null,null,null,null,null,null,null,null,null,null,null,null,null,"№49971",2.6324104301048044,2.1094467783351405,2.3709286042199724,{"$f":"ROUND(AG99943,0)","v":2},{"$f":"ROUND(AG99944,0)","v":4},{"$f":"IF(AH99943>AI99943,1,\"\")","v":""},{"$f":"IF(AH99943=AI99943,1,\"\")","v":""},{"$f":"IF(AH99943<AI99943,1,\"\")","v":1},{"$f":"AH99943&\"-\"&AI99943","v":"2-4"}]
[null,null,null,null,null,null,null,null,null,null,null,null,null,null,null,null,null,null,null,null,null,null,null,null,null,null,null,null,null,null,3.8332313995662721,3.2865933786680981,3.5599123891171853]
[null,null,null,null,null,null,null,null,null,null,null,null,null,null,null,null,null,null,null,null,null,null,null,null,null,null,null,null,null,"№49972",2.9203060877526115,2.4746510650301929,2.6974785763914024,{"$f":"ROUND(AG99945,0)","v":3},{"$f":"ROUND(AG99946,0)","v":2},{"$f":"IF(AH99945>AI99945,1,\"\")","v":1},{"$f":"IF(AH99945=AI99945,1,\"\")","v":""},{"$f":"IF(AH99945<AI99945,1,\"\")","v":""},{"$f":"AH99945&\"-\"&AI99945","v":"3-2"}]
[null,null,null,null,null,null,null,null,null,null,null,null,null,null,null,null,null,null,null,null,null,null,null,null,null,null,null,null,null,null,2.6026904695726083,1.6906181993806315,2.14665433447662]
[null,null,null,null,null,null,null,null,null,null,null,null,null,null,null,null,null,null,null,null,null,null,null,null,null,null,null,null,null,"№49973",3.9737227752265736,0.81413152743166961,2.3939271513291214,{"$f":"ROUND(AG99947,0)","v":2},{"$f":"ROUND(AG99948,0)","v":2},{"$f":"IF(AH99947>AI99947,1,\"\")","v":""},{"$f":"IF(AH99947=AI99947,1,\"\")","v":1},{"$f":"IF(AH99947<AI99947,1,\"\")","v":""},{"$f":"AH99947&\"-\"&AI99947","v":"2-2"}]
[null,null,null,null,null,null,null,null,null,null,null,null,null,null,null,null,null,null,null,null,null,null,null,null,null,null,null,null,null,null,1.8714627020815771,2.1553971628217723,2.0134299324516745]
[null,null,null,null,null,null,null,null,null,null,null,null,null,null,null,null,null,null,null,null,null,null,null,null,null,null,null,null,null,"№49974",2.1486613190416315,1.1660920613745456,1.6573766902080886,{"$f":"ROUND(AG99949,0)","v":2},{"$f":"ROUND(AG99950,0)","v":1},{"$f":"IF(AH99949>AI99949,1,\"\")","v":1},{"$f":"IF(AH99949=AI99949,1,\"\")","v":""},{"$f":"IF(AH99949<AI99949,1,\"\")","v":""},{"$f":"AH99949&\"-\"&AI99949","v":"2-1"}]
[null,null,null,null,null,null,null,null,null,null,null,null,null,null,null,null,null,null,null,null,null,null,null,null,null,null,null,null,null,null,1.9504527688945803,-0.19108056041157884,0.87968610424150073]
[null,null,null,null,null,null,null,null,null,null,null,null,null,null,null,null,null,null,null,null,null,null,null,null,null,null,null,null,null,"№49975",4.6417736068833282,0.24530031523557005,2.4435369610594493,{"$f":"ROUND(AG99951,0)","v":2},{"$f":"ROUND(AG99952,0)","v":2},{"$f":"IF(AH99951>AI99951,1,\"\")","v":""},{"$f":"IF(AH99951=AI99951,1,\"\")","v":1},{"$f":"IF(AH99951<AI99951,1,\"\")","v":""},{"$f":"AH99951&\"-\"&AI99951","v":"2-2"}]
[null,null,null,null,null,null,null,null,null,null,null,null,null,null,null,null,null,null,null,null,null,null,null,null,null,null,null,null,null,null,2.1844684185707663,2.5757558962762488,2.3801121574235076]
[null,null,null,null,null,null,null,null,null,null,null,null,null,null,null,null,null,null,null,null,null,null,null,null,null,null,null,null,null,"№49976",3.35094368621851,1.8820374229133436,2.6164905545659267,{"$f":"ROUND(AG99953,0)","v":3},{"$f":"ROUND(AG99954,0)","v":2},{"$f":"IF(AH99953>AI99953,1,\"\")","v":1},{"$f":"IF(AH99953=AI99953,1,\"\")","v":""},{"$f":"IF(AH99953<AI99953,1,\"\")","v":""},{"$f":"AH99953&\"-\"&AI99953","v":"3-2"}]
[null,null,null,null,null,null,null,null,null,null,null,null,null,null,null,null,null,null,null,null,null,null,null,null,null,null,null,null,null,null,2.6965015007217312,2.0333909797846155,2.3649462402531736]
[null,null,null,null,null,null,null,null,null,null,null,null,null,null,null,null,null,null,null,null,null,null,null,null,null,null,null,null,null,"№49977",2.3762772624854565,1.2327192799553095,1.804498271220383,{"$f":"ROUND(AG99955,0)","v":2},{"$f":"ROUND(AG99956,0)","v":2},{"$f":"IF(AH99955>AI99955,1,\"\")","v":""},{"$f":"IF(AH99955=AI99955,1,\"\")","v":1},{"$f":"IF(AH99955<AI99955,1,\"\")","v":""},{"$f":"AH99955&\"-\"&AI99955","v":"2-2"}]
[null,null,null,null,null,null,null,null,null,null,null,null,null,null,null,null,null,null,null,null,null,null,null,null,null,null,null,null,null,null,2.3972145276440084,1.1940849065337042,1.7956497170888563]
[null,null,null,null,null,null,null,null,null,null,null,null,null,null,null,null,null,null,null,null,null,null,null,null,null,null,null,null,null,"№49978",0.53344973564845777,0.3460978107639085,0.43977377320618316,{"$f":"ROUND(AG99957,0)","v":0},{"$f":"ROUND(AG99958,0)","v":3},{"$f":"IF(AH99957>AI99957,1,\"\")","v":""},{"$f":"IF(AH99957=AI99957,1,\"\")","v":""},{"$f":"IF(AH99957<AI99957,1,\"\")","v":1},{"$f":"AH99957&\"-\"&AI99957","v":"0-3"}]
[null,null,null,null,null,null,null,null,null,null,null,null,null,null,null,null,null,null,null,null,null,null,null,null,null,null,null,null,null,null,1.8783383476108368,3.3299520248661278,2.6041451862384823]
[null,null,null,null,null,null,null,null,null,null,null,null,null,null,null,null,null,null,null,null,null,null,null,null,null,null,null,null,null,"№49979",3.5419236257282685,0.28769961767603736,1.9148116217021529,{"$f":"ROUND(AG99959,0)","v":2},{"$f":"ROUND(AG99960,0)","v":2},{"$f":"IF(AH99959>AI99959,1,\"\")","v":""},{"$f":"IF(AH99959=AI99959,1,\"\")","v":1},{"$f":"IF(AH99959<AI99959,1,\"\")","v":""},{"$f":"AH99959&\"-\"&AI99959","v":"2-2"}]
[null,null,null,null,null,null,null,null,null,null,null,null,null,null,null,null,null,null,null,null,null,null,null,null,null,null,null,null,null,null,2.6818606104739171,2.2156277414911956,2.4487441759825561]
[null,null,null,null,null,null,null,null,null,null,null,null,null,null,null,null,null,null,null,null,null,null,null,null,null,null,null,null,null,"№49980",2.3268107700640943,0.65590393514000178,1.491357352602048,{"$f":"ROUND(AG99961,0)","v":1},{"$f":"ROUND(AG99962,0)","v":2},{"$f":"IF(AH99961>AI99961,1,\"\")","v":""},{"$f":"IF(AH99961=AI99961,1,\"\")","v":""},{"$f":"IF(AH99961<AI99961,1,\"\")","v":1},{"$f":"AH99961&\"-\"&AI99961","v":"1-2"}]
[null,null,null,null,null,null,null,null,null,null,null,null,null,null,null,null,null,null,null,null,null,null,null,null,null,null,null,null,null,null,2.5186804810867831,1.8264654464254966,2.17257296375614]
[null,null,null,null,null,null,null,null,null,null,null,null,null,null,null,null,null,null,null,null,null,null,null,null,null,null,null,null,null,"№49981",5.5665060266136877,-0.13097103867641369,2.7177674939686369,{"$f":"ROUND(AG99963,0)","v":3},{"$f":"ROUND(AG99964,0)","v":2},{"$f":"IF(AH99963>AI99963,1,\"\")","v":1},{"$f":"IF(AH99963=AI99963,1,\"\")","v":""},{"$f":"IF(AH99963<AI99963,1,\"\")","v":""},{"$f":"AH99963&\"-\"&AI99963","v":"3-2"}]
[null,null,null,null,null,null,null,null,null,null,null,null,null,null,null,null,null,null,null,null,null,null,null,null,null,null,null,null,null,null,2.0619021756194389,2.0999086864882974,2.0809054310538682]
[null,null,null,null,null,null,null,null,null,null,null,null,null,null,null,null,null,null,null,null,null,null,null,null,null,null,null,null,null,"№49982",5.0283192982992801,1.1743118698787223,3.1013155840890012,{"$f":"ROUND(AG99965,0)","v":3},{"$f":"ROUND(AG99966,0)","v":2},{"$f":"IF(AH99965>AI99965,1,\"\")","v":1},{"$f":"IF(AH99965=AI99965,1,\"\")","v":""},{"$f":"IF(AH99965<AI99965,1,\"\")","v":""},{"$f":"AH99965&\"-\"&AI99965","v":"3-2"}]
[null,null,null,null,null,null,null,null,null,null,null,null,null,null,null,null,null,null,null,null,null,null,null,null,null,null,null,null,null,null,1.8638332567891842,1.264523029518942,1.5641781431540631]
[null,null,null,null,null,null,null,null,null,null,null,null,null,null,null,null,null,null,null,null,null,null,null,null,null,null,null,null,null,"№49983",1.0777893854662262,8.5305035681078945E-2,0.58154721057365255,{"$f":"ROUND(AG99967,0)","v":1},{"$f":"ROUND(AG99968,0)","v":1},{"$f":"IF(AH99967>AI99967,1,\"\")","v":""},{"$f":"IF(AH99967=AI99967,1,\"\")","v":1},{"$f":"IF(AH99967<AI99967,1,\"\")","v":""},{"$f":"AH99967&\"-\"&AI99967","v":"1-1"}]
[null,null,null,null,null,null,null,null,null,null,null,null,null,null,null,null,null,null,null,null,null,null,null,null,null,null,null,null,null,null,2.0803729133591808,0.44918444428516935,1.2647786788221751]
[null,null,null,null,null,null,null,null,null,null,null,null,null,null,null,null,null,null,null,null,null,null,null,null,null,null,null,null,null,"№49984",4.4503319436417375,-0.47727450371976676,1.9865287199609853,{"$f":"ROUND(AG99969,0)","v":2},{"$f":"ROUND(AG99970,0)","v":3},{"$f":"IF(AH99969>AI99969,1,\"\")","v":""},{"$f":"IF(AH99969=AI99969,1,\"\")","v":""},{"$f":"IF(AH99969<AI99969,1,\"\")","v":1},{"$f":"AH99969&\"-\"&AI99969","v":"2-3"}]
[null,null,null,null,null,null,null,null,null,null,null,null,null,null,null,null,null,null,null,null,null,null,null,null,null,null,null,null,null,null,2.5491504373089318,3.7495285867587165,3.1493395120338241]
[null,null,null,null,null,null,null,null,null,null,null,null,null,null,null,null,null,null,null,null,null,null,null,null,null,null,null,null,null,"№49985",{"$f":"_xlfn.NORM.INV(RAND(),$Z$3,$I$20)","v":3.7012037342282507},{"$f":"_xlfn.NORM.INV(RAND(),$AA$3,$O$20)","v":1.2993890745317338},2.5002964043799922,{"$f":"ROUND(AG99971,0)","v":3},{"$f":"ROUND(AG99972,0)","v":0},{"$f":"IF(AH99971>AI99971,1,\"\")","v":1},{"$f":"IF(AH99971=AI99971,1,\"\")","v":""},{"$f":"IF(AH99971<AI99971,1,\"\")","v":""},{"$f":"AH99971&\"-\"&AI99971","v":"3-0"}]
[null,null,null,null,null,null,null,null,null,null,null,null,null,null,null,null,null,null,null,null,null,null,null,null,null,null,null,null,null,null,{"$f":"_xlfn.NORM.INV(RAND(),$Z$4,$N$20)","v":1.9261629934578754},{"$f":"_xlfn.NORM.INV(RAND(),$AA$4,$J$20)","v":-1.4164654619245138},0.25484876576668081]
[null,null,null,null,null,null,null,null,null,null,null,null,null,null,null,null,null,null,null,null,null,null,null,null,null,null,null,null,null,"№49986",4.4099526331434049,-0.16168360698204687,{"$f":"(AE99973+AF99973)/2","v":2.124134513080679},{"$f":"ROUND(AG99973,0)","v":2},{"$f":"ROUND(AG99974,0)","v":2},{"$f":"IF(AH99973>AI99973,1,\"\")","v":""},{"$f":"IF(AH99973=AI99973,1,\"\")","v":1},{"$f":"IF(AH99973<AI99973,1,\"\")","v":""},{"$f":"AH99973&\"-\"&AI99973","v":"2-2"}]
[null,null,null,null,null,null,null,null,null,null,null,null,null,null,null,null,null,null,null,null,null,null,null,null,null,null,null,null,null,null,3.5978512732793551,0.85297663290613257,2.2254139530927439]
[null,null,null,null,null,null,null,null,null,null,null,null,null,null,null,null,null,null,null,null,null,null,null,null,null,null,null,null,null,"№49987",5.1408660306800407,-0.14400229809314669,2.4984318662934468,{"$f":"ROUND(AG99975,0)","v":2},{"$f":"ROUND(AG99976,0)","v":2},{"$f":"IF(AH99975>AI99975,1,\"\")","v":""},{"$f":"IF(AH99975=AI99975,1,\"\")","v":1},{"$f":"IF(AH99975<AI99975,1,\"\")","v":""},{"$f":"AH99975&\"-\"&AI99975","v":"2-2"}]
[null,null,null,null,null,null,null,null,null,null,null,null,null,null,null,null,null,null,null,null,null,null,null,null,null,null,null,null,null,null,1.8238074360056129,1.8440603655956711,1.8339339008006421]
[null,null,null,null,null,null,null,null,null,null,null,null,null,null,null,null,null,null,null,null,null,null,null,null,null,null,null,null,null,"№49988",1.5680628332063122,1.7773414550264499,1.6727021441163812,{"$f":"ROUND(AG99977,0)","v":2},{"$f":"ROUND(AG99978,0)","v":2},{"$f":"IF(AH99977>AI99977,1,\"\")","v":""},{"$f":"IF(AH99977=AI99977,1,\"\")","v":1},{"$f":"IF(AH99977<AI99977,1,\"\")","v":""},{"$f":"AH99977&\"-\"&AI99977","v":"2-2"}]
[null,null,null,null,null,null,null,null,null,null,null,null,null,null,null,null,null,null,null,null,null,null,null,null,null,null,null,null,null,null,2.095152618280582,1.1905273871708861,1.6428400027257339]
[null,null,null,null,null,null,null,null,null,null,null,null,null,null,null,null,null,null,null,null,null,null,null,null,null,null,null,null,null,"№49989",2.4802973485706588,1.0820375469602008,1.7811674477654298,{"$f":"ROUND(AG99979,0)","v":2},{"$f":"ROUND(AG99980,0)","v":3},{"$f":"IF(AH99979>AI99979,1,\"\")","v":""},{"$f":"IF(AH99979=AI99979,1,\"\")","v":""},{"$f":"IF(AH99979<AI99979,1,\"\")","v":1},{"$f":"AH99979&\"-\"&AI99979","v":"2-3"}]
[null,null,null,null,null,null,null,null,null,null,null,null,null,null,null,null,null,null,null,null,null,null,null,null,null,null,null,null,null,null,2.5399568477139374,2.7978333457465769,2.6688950967302572]
[null,null,null,null,null,null,null,null,null,null,null,null,null,null,null,null,null,null,null,null,null,null,null,null,null,null,null,null,null,"№49990",0.62038620318909121,1.1597939588351225,0.89009008101210685,{"$f":"ROUND(AG99981,0)","v":1},{"$f":"ROUND(AG99982,0)","v":1},{"$f":"IF(AH99981>AI99981,1,\"\")","v":""},{"$f":"IF(AH99981=AI99981,1,\"\")","v":1},{"$f":"IF(AH99981<AI99981,1,\"\")","v":""},{"$f":"AH99981&\"-\"&AI99981","v":"1-1"}]
[null,null,null,null,null,null,null,null,null,null,null,null,null,null,null,null,null,null,null,null,null,null,null,null,null,null,null,null,null,null,1.4477090542985747,2.6109552972069627E-2,0.73690930363532214]
[null,null,null,null,null,null,null,null,null,null,null,null,null,null,null,null,null,null,null,null,null,null,null,null,null,null,null,null,null,"№49991",2.4199378547935053,0.73695009399892974,1.5784439743962175,{"$f":"ROUND(AG99983,0)","v":2},{"$f":"ROUND(AG99984,0)","v":2},{"$f":"IF(AH99983>AI99983,1,\"\")","v":""},{"$f":"IF(AH99983=AI99983,1,\"\")","v":1},{"$f":"IF(AH99983<AI99983,1,\"\")","v":""},{"$f":"AH99983&\"-\"&AI99983","v":"2-2"}]
[null,null,null,null,null,null,null,null,null,null,null,null,null,null,null,null,null,null,null,null,null,null,null,null,null,null,null,null,null,null,3.0727186569609604,0.22645992098352474,1.6495892889722426]
[null,null,null,null,null,null,null,null,null,null,null,null,null,null,null,null,null,null,null,null,null,null,null,null,null,null,null,null,null,"№49992",4.7704546095020479,0.43934973144911782,2.604902170475583,{"$f":"ROUND(AG99985,0)","v":3},{"$f":"ROUND(AG99986,0)","v":1},{"$f":"IF(AH99985>AI99985,1,\"\")","v":1},{"$f":"IF(AH99985=AI99985,1,\"\")","v":""},{"$f":"IF(AH99985<AI99985,1,\"\")","v":""},{"$f":"AH99985&\"-\"&AI99985","v":"3-1"}]
[null,null,null,null,null,null,null,null,null,null,null,null,null,null,null,null,null,null,null,null,null,null,null,null,null,null,null,null,null,null,1.8276351421560315,-0.16212025918126782,0.83275744148738184]
[null,null,null,null,null,null,null,null,null,null,null,null,null,null,null,null,null,null,null,null,null,null,null,null,null,null,null,null,null,"№49993",2.3182023749263339,0.30711868260237157,1.3126605287643527,{"$f":"ROUND(AG99987,0)","v":1},{"$f":"ROUND(AG99988,0)","v":3},{"$f":"IF(AH99987>AI99987,1,\"\")","v":""},{"$f":"IF(AH99987=AI99987,1,\"\")","v":""},{"$f":"IF(AH99987<AI99987,1,\"\")","v":1},{"$f":"AH99987&\"-\"&AI99987","v":"1-3"}]
[null,null,null,null,null,null,null,null,null,null,null,null,null,null,null,null,null,null,null,null,null,null,null,null,null,null,null,null,null,null,2.9022964739320907,2.1050211101662621,2.5036587920491762]
[null,null,null,null,null,null,null,null,null,null,null,null,null,null,null,null,null,null,null,null,null,null,null,null,null,null,null,null,null,"№49994",0.99709794199973611,0.72503950909736492,0.86106872554855052,{"$f":"ROUND(AG99989,0)","v":1},{"$f":"ROUND(AG99990,0)","v":2},{"$f":"IF(AH99989>AI99989,1,\"\")","v":""},{"$f":"IF(AH99989=AI99989,1,\"\")","v":""},{"$f":"IF(AH99989<AI99989,1,\"\")","v":1},{"$f":"AH99989&\"-\"&AI99989","v":"1-2"}]
[null,null,null,null,null,null,null,null,null,null,null,null,null,null,null,null,null,null,null,null,null,null,null,null,null,null,null,null,null,null,3.754399911677111,0.94859594289650451,2.3514979272868075]
[null,null,null,null,null,null,null,null,null,null,null,null,null,null,null,null,null,null,null,null,null,null,null,null,null,null,null,null,null,"№49995",0.99907249134349074,0.62947451199212623,0.81427350166780843,{"$f":"ROUND(AG99991,0)","v":1},{"$f":"ROUND(AG99992,0)","v":2},{"$f":"IF(AH99991>AI99991,1,\"\")","v":""},{"$f":"IF(AH99991=AI99991,1,\"\")","v":""},{"$f":"IF(AH99991<AI99991,1,\"\")","v":1},{"$f":"AH99991&\"-\"&AI99991","v":"1-2"}]
[null,null,null,null,null,null,null,null,null,null,null,null,null,null,null,null,null,null,null,null,null,null,null,null,null,null,null,null,null,null,3.7117313724674448,1.0569073976537515,2.3843193850605982]
[null,null,null,null,null,null,null,null,null,null,null,null,null,null,null,null,null,null,null,null,null,null,null,null,null,null,null,null,null,"№49996",5.4255124748502919,1.266024448306853,3.3457684615785723,{"$f":"ROUND(AG99993,0)","v":3},{"$f":"ROUND(AG99994,0)","v":4},{"$f":"IF(AH99993>AI99993,1,\"\")","v":""},{"$f":"IF(AH99993=AI99993,1,\"\")","v":""},{"$f":"IF(AH99993<AI99993,1,\"\")","v":1},{"$f":"AH99993&\"-\"&AI99993","v":"3-4"}]
[null,null,null,null,null,null,null,null,null,null,null,null,null,null,null,null,null,null,null,null,null,null,null,null,null,null,null,null,null,null,2.231114172447195,5.0612185679939738,3.6461663702205844]
[null,null,null,null,null,null,null,null,null,null,null,null,null,null,null,null,null,null,null,null,null,null,null,null,null,null,null,null,null,"№49997",7.2002690868564221,1.5401929117380395,4.370230999297231,{"$f":"ROUND(AG99995,0)","v":4},{"$f":"ROUND(AG99996,0)","v":0},{"$f":"IF(AH99995>AI99995,1,\"\")","v":1},{"$f":"IF(AH99995=AI99995,1,\"\")","v":""},{"$f":"IF(AH99995<AI99995,1,\"\")","v":""},{"$f":"AH99995&\"-\"&AI99995","v":"4-0"}]
[null,null,null,null,null,null,null,null,null,null,null,null,null,null,null,null,null,null,null,null,null,null,null,null,null,null,null,null,null,null,1.89668533883422,-0.90377469750864314,0.49645532066278841]
[null,null,null,null,null,null,null,null,null,null,null,null,null,null,null,null,null,null,null,null,null,null,null,null,null,null,null,null,null,"№49998",3.4733299657168901,2.6351433758830494,3.0542366707999697,{"$f":"ROUND(AG99997,0)","v":3},{"$f":"ROUND(AG99998,0)","v":1},{"$f":"IF(AH99997>AI99997,1,\"\")","v":1},{"$f":"IF(AH99997=AI99997,1,\"\")","v":""},{"$f":"IF(AH99997<AI99997,1,\"\")","v":""},{"$f":"AH99997&\"-\"&AI99997","v":"3-1"}]
[null,null,null,null,null,null,null,null,null,null,null,null,null,null,null,null,null,null,null,null,null,null,null,null,null,null,null,null,null,null,2.6252085947414248,-0.15214889124663133,1.2365298517473966]
[null,null,null,null,null,null,null,null,null,null,null,null,null,null,null,null,null,null,null,null,null,null,null,null,null,null,null,null,null,"№49999",4.5925672139198142,0.73802212655205413,2.6652946702359341,{"$f":"ROUND(AG99999,0)","v":3},{"$f":"ROUND(AG100000,0)","v":2},{"$f":"IF(AH99999>AI99999,1,\"\")","v":1},{"$f":"IF(AH99999=AI99999,1,\"\")","v":""},{"$f":"IF(AH99999<AI99999,1,\"\")","v":""},{"$f":"AH99999&\"-\"&AI99999","v":"3-2"}]
[null,null,null,null,null,null,null,null,null,null,null,null,null,null,null,null,null,null,null,null,null,null,null,null,null,null,null,null,null,null,3.6556732375091698,1.1885139875476245,2.4220936125283972]
[null,null,null,null,null,null,null,null,null,null,null,null,null,null,null,null,null,null,null,null,null,null,null,null,null,null,null,null,null,"№50000",4.3398537006700408,1.5135623166226999,2.9267080086463704,{"$f":"ROUND(AG100001,0)","v":3},{"$f":"ROUND(AG100002,0)","v":2},{"$f":"IF(AH100001>AI100001,1,\"\")","v":1},{"$f":"IF(AH100001=AI100001,1,\"\")","v":""},{"$f":"IF(AH100001<AI100001,1,\"\")","v":""},{"$f":"AH100001&\"-\"&AI100001","v":"3-2"}]
[null,null,null,null,null,null,null,null,null,null,null,null,null,null,null,null,null,null,null,null,null,null,null,null,null,null,null,null,null,null,2.5539184428091004,2.0028321591249498,2.2783753009670251]

{"sheet":"ГостиГости","index":15,"n_rows":150,"n_cols":35,"rows_kept":150,"cut":false,"hidden":true,"merged":[]}
["Чемпионат","Дата/Время","Дома","Гости","К1 в 1Т","К2 в 1Т","К1 во 2Т","К2 во 2Т","Где играли","К1 Голов","К2 Голов","Забито","Пропущено","Результат","Всего Игр","Всего выиграно","Всего ничьих","Всего проиграно","Всего забито","Всего пропущено","Всего очков","Дома игр","Дома выиграно","Дома ничьих","Дома проиграно","Дома забито","Дома пропущено","Дома очков","Гости игр","Гости выиграно","Гости ничьих","Гости проиграно","Гости забито","Гости пропущено","Гости очков"]
["ENGLAND: Professional Development League","2021.04.13 15:00","Cardiff U23","Sheffield Utd U23",0,0,0,2,"Гости",{"$f":"IF(I2=\"\",\"\",E2+G2)","v":0},{"$f":"IF(I2=\"\",\"\",F2+H2)","v":2},{"$f":"IF(I2=\"\",\"\",IF(I2=\"Дома\",J2,K2))","v":2},{"$f":"IF(I2=\"\",\"\",IF(I2=\"Дома\",K2,J2))","v":0},{"$f":"IF(I2=\"\",\"\",IF(I2=\"Дома\",IF(J2>K2,\"В\",IF(J2=K2,\"Н\",\"П\")),IF(J2<K2,\"В\",IF(J2=K2,\"Н\",\"П\"))))","v":"В"},{"$f":"IF(I2=\"\",\"\",1)","v":1},{"$f":"IF(I2=\"\",\"\",IF(N2=\"В\",1,0))","v":1},{"$f":"IF(I2=\"\",\"\",IF(N2=\"Н\",1,0))","v":0},{"$f":"IF(I2=\"\",\"\",IF(N2=\"П\",1,0))","v":0},{"$f":"IF(I2=\"\",\"\",L2)","v":2},{"$f":"IF(I2=\"\",\"\",M2)","v":0},{"$f":"IF(I2=\"\",\"\",P2*3+Q2)","v":3},{"$f":"IF(I2=\"\",\"\",IF(I2=\"Дома\",1,0))","v":0},{"$f":"IF(I2=\"\",\"\",IF(I2=\"Дома\",IF(N2=\"В\",1,0),0))","v":0},{"$f":"IF(I2=\"\",\"\",IF(I2=\"Дома\",IF(N2=\"Н\",1,0),0))","v":0},{"$f":"IF(I2=\"\",\"\",IF(I2=\"Дома\",IF(N2=\"П\",1,0),0))","v":0},{"$f":"IF(I2=\"\",\"\",IF(I2=\"Дома\",L2,0))","v":0},{"$f":"IF(I2=\"\",\"\",IF(I2=\"Дома\",M2,0))","v":0},{"$f":"IF(I2=\"\",\"\",IF(I2=\"Дома\",W2*3+X2,0))","v":0},{"$f":"IF(I2=\"\",\"\",IF(I2=\"Гости\",1,0))","v":1},{"$f":"IF(I2=\"\",\"\",IF(I2=\"Гости\",IF(N2=\"В\",1,0),0))","v":1},{"$f":"IF(I2=\"\",\"\",IF(I2=\"Гости\",IF(N2=\"Н\",1,0),0))","v":0},{"$f":"IF(I2=\"\",\"\",IF(I2=\"Гости\",IF(N2=\"П\",1,0),0))","v":0},{"$f":"IF(I2=\"\",\"\",IF(I2=\"Гости\",L2,0))","v":2},{"$f":"IF(I2=\"\",\"\",IF(I2=\"Гости\",M2,0))","v":0},{"$f":"IF(I2=\"\",\"\",IF(I2=\"Гости\",AD2*3+AE2,0))","v":3}]
["ENGLAND: Professional Development League","2021.03.26 17:00","Sheffield Wed U23","Sheffield Utd U23",0,1,0,3,"Гости",{"$f":"IF(I3=\"\",\"\",E3+G3)","v":0},{"$f":"IF(I3=\"\",\"\",F3+H3)","v":4},{"$f":"IF(I3=\"\",\"\",IF(I3=\"Дома\",J3,K3))","v":4},{"$f":"IF(I3=\"\",\"\",IF(I3=\"Дома\",K3,J3))","v":0},{"$f":"IF(I3=\"\",\"\",IF(I3=\"Дома\",IF(J3>K3,\"В\",IF(J3=K3,\"Н\",\"П\")),IF(J3<K3,\"В\",IF(J3=K3,\"Н\",\"П\"))))","v":"В"},{"$f":"IF(I3=\"\",\"\",O2+1)","v":2},{"$f":"IF(I3=\"\",\"\",IF(N3=\"В\",P2+1,P2))","v":2},{"$f":"IF(I3=\"\",\"\",IF(N3=\"Н\",Q2+1,Q2))","v":0},{"$f":"IF(I3=\"\",\"\",IF(N3=\"П\",R2+1,R2))","v":0},{"$f":"IF(I3=\"\",\"\",S2+L3)","v":6},{"$f":"IF(I3=\"\",\"\",T2+M3)","v":0},{"$f":"IF(I3=\"\",\"\",P3*3+Q3)","v":6},{"$f":"IF(I3=\"\",\"\",IF(I3=\"Дома\",V2+1,V2+0))","v":0},{"$f":"IF(I3=\"\",\"\",IF(I3=\"Дома\",IF(N3=\"В\",W2+1,W2),W2))","v":0},{"$f":"IF(I3=\"\",\"\",IF(I3=\"Дома\",IF(N3=\"Н\",X2+1,X2),X2))","v":0},{"$f":"IF(I3=\"\",\"\",IF(I3=\"Дома\",IF(N3=\"П\",Y2+1,Y2),Y2))","v":0},{"$f":"IF(I3=\"\",\"\",IF(I3=\"Дома\",L3+Z2,Z2))","v":0},{"$f":"IF(I3=\"\",\"\",IF(I3=\"Дома\",M3+AA2,AA2))","v":0},{"$f":"IF(I3=\"\",\"\",IF(I3=\"Дома\",W3*3+X3,AB2))","v":0},{"$f":"IF(I3=\"\",\"\",IF(I3=\"Гости\",AC2+1,AC2+0))","v":2},{"$f":"IF(I3=\"\",\"\",IF(I3=\"Гости\",IF(N3=\"В\",AD2+1,AD2),AD2))","v":2},{"$f":"IF(I3=\"\",\"\",IF(I3=\"Гости\",IF(N3=\"Н\",AE2+1,AE2),AE2))","v":0},{"$f":"IF(I3=\"\",\"\",IF(I3=\"Гости\",IF(N3=\"П\",AF2+1,AF2),AF2))","v":0},{"$f":"IF(I3=\"\",\"\",IF(I3=\"Гости\",L3+AG2,AG2))","v":6},{"$f":"IF(I3=\"\",\"\",IF(I3=\"Гости\",M3+AH2,AH2))","v":0},{"$f":"IF(I3=\"\",\"\",IF(I3=\"Гости\",AD3*3+AE3,AI2))","v":6}]
["ENGLAND: Professional Development League","2021.02.26 22:00","Barnsley U23","Sheffield Utd U23",2,0,0,2,"Гости",2,2,2,2,"Н",3,{"$f":"IF(I4=\"\",\"\",IF(N4=\"В\",P3+1,P3))","v":2},{"$f":"IF(I4=\"\",\"\",IF(N4=\"Н\",Q3+1,Q3))","v":1},{"$f":"IF(I4=\"\",\"\",IF(N4=\"П\",R3+1,R3))","v":0},{"$f":"IF(I4=\"\",\"\",S3+L4)","v":8},{"$f":"IF(I4=\"\",\"\",T3+M4)","v":2},7,{"$f":"IF(I4=\"\",\"\",IF(I4=\"Дома\",V3+1,V3+0))","v":0},{"$f":"IF(I4=\"\",\"\",IF(I4=\"Дома\",IF(N4=\"В\",W3+1,W3),W3))","v":0},{"$f":"IF(I4=\"\",\"\",IF(I4=\"Дома\",IF(N4=\"Н\",X3+1,X3),X3))","v":0},{"$f":"IF(I4=\"\",\"\",IF(I4=\"Дома\",IF(N4=\"П\",Y3+1,Y3),Y3))","v":0},{"$f":"IF(I4=\"\",\"\",IF(I4=\"Дома\",L4+Z3,Z3))","v":0},{"$f":"IF(I4=\"\",\"\",IF(I4=\"Дома\",M4+AA3,AA3))","v":0},{"$f":"IF(I4=\"\",\"\",IF(I4=\"Дома\",W4*3+X4,AB3))","v":0},{"$f":"IF(I4=\"\",\"\",IF(I4=\"Гости\",AC3+1,AC3+0))","v":3},{"$f":"IF(I4=\"\",\"\",IF(I4=\"Гости\",IF(N4=\"В\",AD3+1,AD3),AD3))","v":2},{"$f":"IF(I4=\"\",\"\",IF(I4=\"Гости\",IF(N4=\"Н\",AE3+1,AE3),AE3))","v":1},{"$f":"IF(I4=\"\",\"\",IF(I4=\"Гости\",IF(N4=\"П\",AF3+1,AF3),AF3))","v":0},{"$f":"IF(I4=\"\",\"\",IF(I4=\"Гости\",L4+AG3,AG3))","v":8},{"$f":"IF(I4=\"\",\"\",IF(I4=\"Гости\",M4+AH3,AH3))","v":2},{"$f":"IF(I4=\"\",\"\",IF(I4=\"Гости\",AD4*3+AE4,AI3))","v":7}]
["ENGLAND: Professional Development League","2021.02.22 22:00","Nottingham U23","Sheffield Utd U23",0,0,2,1,"Гости",2,1,1,2,"П",4,2,1,1,9,4,7,0,0,0,0,0,0,0,4,2,1,1,9,4,7]
["ENGLAND: Professional Development League","2021.02.08 16:00","Crewe U23","Sheffield Utd U23",0,0,0,2,"Гости",0,2,2,0,"В",5,3,1,1,11,4,10,0,0,0,0,0,0,0,5,3,1,1,11,4,10]
["ENGLAND: Professional Development League","2020.12.18 16:00","Birmingham U23","Sheffield Utd U23",0,1,0,0,"Гости",0,1,1,0,"В",6,4,1,1,12,4,13,0,0,0,0,0,0,0,6,4,1,1,12,4,13]
["ENGLAND: Professional Development League","2020.12.14 16:00","Coventry U23","Sheffield Utd U23",0,1,2,2,"Гости",2,3,3,2,"В",7,5,1,1,15,6,16,0,0,0,0,0,0,0,7,5,1,1,15,6,16]
["ENGLAND: Professional Development League","2020.11.25 16:00","Wigan U23","Sheffield Utd U23",0,0,1,0,"Гости",1,0,0,1,{"$f":"IF(I9=\"\",\"\",IF(I9=\"Дома\",IF(J9>K9,\"В\",IF(J9=K9,\"Н\",\"П\")),IF(J9<K9,\"В\",IF(J9=K9,\"Н\",\"П\"))))","v":"П"},8,5,1,2,15,7,16,0,0,0,0,0,0,0,8,5,1,2,15,7,16]
["ENGLAND: Professional Development League","2020.11.06 16:00","Watford U23","Sheffield Utd U23",0,3,0,0,"Гости",0,3,3,0,{"$f":"IF(I10=\"\",\"\",IF(I10=\"Дома\",IF(J10>K10,\"В\",IF(J10=K10,\"Н\",\"П\")),IF(J10<K10,\"В\",IF(J10=K10,\"Н\",\"П\"))))","v":"В"},9,6,1,2,18,7,19,0,0,0,0,0,0,0,9,6,1,2,18,7,19]
["ENGLAND: Professional Development League","2020.10.27 16:00","Colchester U23","Sheffield Utd U23",1,1,0,3,"Гости",1,4,4,1,"В",10,7,1,2,22,8,22,0,0,0,0,0,0,0,10,7,1,2,22,8,22]
["ENGLAND: Professional Development League","2020.09.14 21:00","Hull U23","Sheffield Utd U23",1,0,1,0,"Гости",2,0,0,2,"П",11,7,1,3,22,10,{"$f":"IF(I12=\"\",\"\",P12*3+Q12)","v":22},0,0,0,0,0,0,0,11,7,1,3,22,10,22]
["ENGLAND: Professional Development League","2020.03.06 22:00","Sheffield Wed U23","Sheffield Utd U23",1,1,1,0,"Гости",2,1,1,2,"П",12,7,1,4,23,12,22,0,0,0,0,0,0,0,12,7,1,4,23,12,22]
["ENGLAND: Professional Development League","2020.02.13 17:00","Wigan U23","Sheffield Utd U23",0,0,1,0,"Гости",1,0,0,1,"П",13,7,1,5,23,13,22,0,0,0,0,0,0,0,13,7,1,5,23,13,22]
["ENGLAND: Professional Development League","2020.01.24 16:00","Nottingham U23","Sheffield Utd U23",1,0,0,0,"Гости",1,0,0,1,"П",14,7,1,6,23,14,22,0,0,0,0,0,0,0,14,7,1,6,23,14,22]
["ENGLAND: Professional Development League","2020.01.13 17:00","Burnley U23","Sheffield Utd U23",1,0,1,0,"Гости",2,0,0,2,"П",15,7,1,7,23,16,22,0,0,0,0,0,0,0,15,7,1,7,23,16,22]
["ENGLAND: Professional Development League","2019.12.10 17:00","Barnsley U23","Sheffield Utd U23",0,1,0,0,"Гости",0,1,1,0,"В",16,8,1,7,24,16,25,0,0,0,0,0,0,0,16,8,1,7,24,16,25]
["ENGLAND: Professional Development League","2019.11.29 15:00","Leeds U23","Sheffield Utd U23",0,0,2,1,"Гости",2,1,1,2,"П",17,8,1,8,25,18,25,0,0,0,0,0,0,0,17,8,1,8,25,18,25]
["ENGLAND: Professional Development League","2019.11.18 22:00","Bolton U23","Sheffield Utd U23",2,2,1,1,"Гости",3,3,3,3,"Н",18,8,2,8,28,21,26,0,0,0,0,0,0,0,18,8,2,8,28,21,26]
["ENGLAND: Professional Development League","2019.10.26 21:30","Hull U23","Sheffield Utd U23",1,1,1,2,"Гости",2,3,3,2,"В",19,9,2,8,31,23,29,0,0,0,0,0,0,0,19,9,2,8,31,23,29]
["ENGLAND: Professional Development League","2019.10.23 15:00","Crewe U23","Sheffield Utd U23",4,0,1,1,"Гости",5,1,1,5,"П",20,9,2,9,32,28,29,0,0,0,0,0,0,0,20,9,2,9,32,28,29]
["ENGLAND: Professional Development League","2019.09.23 15:30","Birmingham U23","Sheffield Utd U23",0,0,1,1,"Гости",1,1,1,1,"Н",21,9,3,9,33,29,30,0,0,0,0,0,0,0,21,9,3,9,33,29,30]
[null,null,null,null,null,null,null,null,null,"","","","","","","","","","","","","","","","","","","","","","","","","",""]
[null,null,null,null,null,null,null,null,null,"","","","","","","","","","","","","","","","","","","","","","","","","",""]
[null,null,null,null,null,null,null,null,null,"","","","","","","","","","","","","","","","","","","","","","","","","",""]
[null,null,null,null,null,null,null,null,null,"","","","","","","","","","","","","","","","","","","","","","","","","",""]
[null,null,null,null,null,null,null,null,null,"","","","","","","","","","","","","","","","","","","","","","","","","",""]
[null,null,null,null,null,null,null,null,null,"","","","","","","","","","","","","","","","","","","","","","","","","",""]
[null,null,null,null,null,null,null,null,null,"","","","","","","","","","","","","","","","","","","","","","","","","",""]
[null,null,null,null,null,null,null,null,null,"","","","","","","","","","","","","","","","","","","","","","","","","",""]
[null,null,null,null,null,null,null,null,null,"","","","","","","","","","","","","","","","","","","","","","","","","",""]
[null,null,null,null,null,null,null,null,null,"","","","","","","","","","","","","","","","","","","","","","","","","",""]
[null,null,null,null,null,null,null,null,null,"","","","","","","","","","","","","","","","","","","","","","","","","",""]
[null,null,null,null,null,null,null,null,null,"","","","","","","","","","","","","","","","","","","","","","","","","",""]
[null,null,null,null,null,null,null,null,null,"","","","","","","","","","","","","","","","","","","","","","","","","",""]
[null,null,null,null,null,null,null,null,null,"","","","","","","","","","","","","","","","","","","","","","","","","",""]
[null,null,null,null,null,null,null,null,null,"","","","","","","","","","","","","","","","","","","","","","","","","",""]
[null,null,null,null,null,null,null,null,null,"","","","","","","","","","","","","","","","","","","","","","","","","",""]
[null,null,null,null,null,null,null,null,null,"","","","","","","","","","","","","","","","","","","","","","","","","",""]
[null,null,null,null,null,null,null,null,null,"","","","","","","","","","","","","","","","","","","","","","","","","",""]
[null,null,null,null,null,null,null,null,null,"","","","","","","","","","","","","","","","","","","","","","","","","",""]
[null,null,null,null,null,null,null,null,null,"","","","","","","","","","","","","","","","","","","","","","","","","",""]
[null,null,null,null,null,null,null,null,null,"","","","","","","","","","","","","","","","","","","","","","","","","",""]
[null,null,null,null,null,null,null,null,null,"","","","","","","","","","","","","","","","","","","","","","","","","",""]
[null,null,null,null,null,null,null,null,null,"","","","","","","","","","","","","","","","","","","","","","","","","",""]
[null,null,null,null,null,null,null,null,null,"","","","","","","","","","","","","","","","","","","","","","","","","",""]
[null,null,null,null,null,null,null,null,null,"","","","","","","","","","","","","","","","","","","","","","","","","",""]
[null,null,null,null,null,null,null,null,null,"","","","","","","","","","","","","","","","","","","","","","","","","",""]
[null,null,null,null,null,null,null,null,null,"","","","","","","","","","","","","","","","","","","","","","","","","",""]
[null,null,null,null,null,null,null,null,null,"","","","","","","","","","","","","","","","","","","","","","","","","",""]
[null,null,null,null,null,null,null,null,null,"","","","","","","","","","","","","","","","","","","","","","","","","",""]
[null,null,null,null,null,null,null,null,null,"","","","","","","","","","","","","","","","","","","","","","","","","",""]
[null,null,null,null,null,null,null,null,null,"","","","","","","","","","","","","","","","","","","","","","","","","",""]
[null,null,null,null,null,null,null,null,null,"","","","","","","","","","","","","","","","","","","","","","","","","",""]
[null,null,null,null,null,null,null,null,null,"","","","","","","","","","","","","","","","","","","","","","","","","",""]
[null,null,null,null,null,null,null,null,null,"","","","","","","","","","","","","","","","","","","","","","","","","",""]
[null,null,null,null,null,null,null,null,null,"","","","","","","","","","","","","","","","","","","","","","","","","",""]
[null,null,null,null,null,null,null,null,null,"","","","","","","","","","","","","","","","","","","","","","","","","",""]
[null,null,null,null,null,null,null,null,null,"","","","","","","","","","","","","","","","","","","","","","","","","",""]
[null,null,null,null,null,null,null,null,null,"","","","","","","","","","","","","","","","","","","","","","","","","",""]
[null,null,null,null,null,null,null,null,null,"","","","","","","","","","","","","","","","","","","","","","","","","",""]
[null,null,null,null,null,null,null,null,null,"","","","","","","","","","","","","","","","","","","","","","","","","",""]
[null,null,null,null,null,null,null,null,null,"","","","","","","","","","","","","","","","","","","","","","","","","",""]
[null,null,null,null,null,null,null,null,null,"","","","","","","","","","","","","","","","","","","","","","","","","",""]
[null,null,null,null,null,null,null,null,null,"","","","","","","","","","","","","","","","","","","","","","","","","",""]
[null,null,null,null,null,null,null,null,null,"","","","","","","","","","","","","","","","","","","","","","","","","",""]
[null,null,null,null,null,null,null,null,null,{"$f":"IF(I67=\"\",\"\",E67+G67)","v":""},{"$f":"IF(I67=\"\",\"\",F67+H67)","v":""},{"$f":"IF(I67=\"\",\"\",IF(I67=\"Дома\",J67,K67))","v":""},{"$f":"IF(I67=\"\",\"\",IF(I67=\"Дома\",K67,J67))","v":""},"",{"$f":"IF(I67=\"\",\"\",O66+1)","v":""},"","","","","",{"$f":"IF(I67=\"\",\"\",P67*3+Q67)","v":""},"","","","","","","","","","","","","",""]
[null,null,null,null,null,null,null,null,null,"","","","","","",{"$f":"IF(I68=\"\",\"\",IF(N68=\"В\",P67+1,P67))","v":""},{"$f":"IF(I68=\"\",\"\",IF(N68=\"Н\",Q67+1,Q67))","v":""},{"$f":"IF(I68=\"\",\"\",IF(N68=\"П\",R67+1,R67))","v":""},{"$f":"IF(I68=\"\",\"\",S67+L68)","v":""},{"$f":"IF(I68=\"\",\"\",T67+M68)","v":""},"",{"$f":"IF(I68=\"\",\"\",IF(I68=\"Дома\",V67+1,V67+0))","v":""},{"$f":"IF(I68=\"\",\"\",IF(I68=\"Дома\",IF(N68=\"В\",W67+1,W67),W67))","v":""},{"$f":"IF(I68=\"\",\"\",IF(I68=\"Дома\",IF(N68=\"Н\",X67+1,X67),X67))","v":""},{"$f":"IF(I68=\"\",\"\",IF(I68=\"Дома\",IF(N68=\"П\",Y67+1,Y67),Y67))","v":""},{"$f":"IF(I68=\"\",\"\",IF(I68=\"Дома\",L68+Z67,Z67))","v":""},{"$f":"IF(I68=\"\",\"\",IF(I68=\"Дома\",M68+AA67,AA67))","v":""},{"$f":"IF(I68=\"\",\"\",IF(I68=\"Дома\",W68*3+X68,AB67))","v":""},{"$f":"IF(I68=\"\",\"\",IF(I68=\"Гости\",AC67+1,AC67+0))","v":""},{"$f":"IF(I68=\"\",\"\",IF(I68=\"Гости\",IF(N68=\"В\",AD67+1,AD67),AD67))","v":""},{"$f":"IF(I68=\"\",\"\",IF(I68=\"Гости\",IF(N68=\"Н\",AE67+1,AE67),AE67))","v":""},{"$f":"IF(I68=\"\",\"\",IF(I68=\"Гости\",IF(N68=\"П\",AF67+1,AF67),AF67))","v":""},{"$f":"IF(I68=\"\",\"\",IF(I68=\"Гости\",L68+AG67,AG67))","v":""},{"$f":"IF(I68=\"\",\"\",IF(I68=\"Гости\",M68+AH67,AH67))","v":""},{"$f":"IF(I68=\"\",\"\",IF(I68=\"Гости\",AD68*3+AE68,AI67))","v":""}]
[null,null,null,null,null,null,null,null,null,"","","","","","","","","","","","","","","","","","","","","","","","","",""]
[null,null,null,null,null,null,null,null,null,"","","","","","","","","","","","","","","","","","","","","","","","","",""]
[null,null,null,null,null,null,null,null,null,"","","","","","","","","","","","","","","","","","","","","","","","","",""]
[null,null,null,null,null,null,null,null,null,"","","","","","","","","","","","","","","","","","","","","","","","","",""]
[null,null,null,null,null,null,null,null,null,"","","","","","","","","","","","","","","","","","","","","","","","","",""]
[null,null,null,null,null,null,null,null,null,"","","","",{"$f":"IF(I74=\"\",\"\",IF(I74=\"Дома\",IF(J74>K74,\"В\",IF(J74=K74,\"Н\",\"П\")),IF(J74<K74,\"В\",IF(J74=K74,\"Н\",\"П\"))))","v":""},"","","","","","","","","","","","","","","","","","","","",""]
[null,null,null,null,null,null,null,null,null,"","","","","","","","","","","","","","","","","","","","","","","","","",""]
[null,null,null,null,null,null,null,null,null,"","","","","","","","","","","","","","","","","","","","","","","","","",""]
[null,null,null,null,null,null,null,null,null,"","","","","","","","","","","","","","","","","","","","","","","","","",""]
[null,null,null,null,null,null,null,null,null,"","","","","","","","","","","","","","","","","","","","","","","","","",""]
[null,null,null,null,null,null,null,null,null,"","","","","","","","","","","","","","","","","","","","","","","","","",""]
[null,null,null,null,null,null,null,null,null,"","","","","","","","","","","","","","","","","","","","","","","","","",""]
[null,null,null,null,null,null,null,null,null,"","","","","","","","","","","","","","","","","","","","","","","","","",""]
[null,null,null,null,null,null,null,null,null,"","","","","","","","","","","","","","","","","","","","","","","","","",""]
[null,null,null,null,null,null,null,null,null,"","","","","","","","","","","","","","","","","","","","","","","","","",""]
[null,null,null,null,null,null,null,null,null,"","","","","","","","","","","","","","","","","","","","","","","","","",""]
[null,null,null,null,null,null,null,null,null,"","","","","","","","","","","","","","","","","","","","","","","","","",""]
[null,null,null,null,null,null,null,null,null,"","","","","","","","","","","","","","","","","","","","","","","","","",""]
[null,null,null,null,null,null,null,null,null,"","","","","","","","","","","","","","","","","","","","","","","","","",""]
[null,null,null,null,null,null,null,null,null,"","","","","","","","","","","","","","","","","","","","","","","","","",""]
[null,null,null,null,null,null,null,null,null,"","","","","","","","","","","","","","","","","","","","","","","","","",""]
[null,null,null,null,null,null,null,null,null,"","","","","","","","","","","","","","","","","","","","","","","","","",""]
[null,null,null,null,null,null,null,null,null,"","","","","","","","","","","","","","","","","","","","","","","","","",""]
[null,null,null,null,null,null,null,null,null,"","","","","","","","","","","","","","","","","","","","","","","","","",""]
[null,null,null,null,null,null,null,null,null,"","","","","","","","","","","","","","","","","","","","","","","","","",""]
[null,null,null,null,null,null,null,null,null,"","","","","","","","","","","","","","","","","","","","","","","","","",""]
[null,null,null,null,null,null,null,null,null,"","","","","","","","","","","","","","","","","","","","","","","","","",""]
[null,null,null,null,null,null,null,null,null,"","","","","","","","","","","","","","","","","","","","","","","","","",""]
[null,null,null,null,null,null,null,null,null,"","","","","","","","","","","","","","","","","","","","","","","","","",""]
[null,null,null,null,null,null,null,null,null,"","","","","","","","","","","","","","","","","","","","","","","","","",""]
[null,null,null,null,null,null,null,null,null,"","","","","","","","","","","","","","","","","","","","","","","","","",""]
[null,null,null,null,null,null,null,null,null,"","","","","","","","","","","","","","","","","","","","","","","","","",""]
[null,null,null,null,null,null,null,null,null,"","","","","","","","","","","","","","","","","","","","","","","","","",""]
[null,null,null,null,null,null,null,null,null,"","","","","","","","","","","","","","","","","","","","","","","","","",""]
[null,null,null,null,null,null,null,null,null,"","","","","","","","","","","","","","","","","","","","","","","","","",""]
[null,null,null,null,null,null,null,null,null,"","","","","","","","","","","","","","","","","","","","","","","","","",""]
[null,null,null,null,null,null,null,null,null,"","","","","","","","","","","","","","","","","","","","","","","","","",""]
[null,null,null,null,null,null,null,null,null,"","","","","","","","","","","","","","","","","","","","","","","","","",""]
[null,null,null,null,null,null,null,null,null,"","","","","","","","","","","","","","","","","","","","","","","","","",""]
[null,null,null,null,null,null,null,null,null,"","","","","","","","","","","","","","","","","","","","","","","","","",""]
[null,null,null,null,null,null,null,null,null,"","","","","","","","","","","","","","","","","","","","","","","","","",""]
[null,null,null,null,null,null,null,null,null,"","","","","","","","","","","","","","","","","","","","","","","","","",""]
[null,null,null,null,null,null,null,null,null,"","","","","","","","","","","","","","","","","","","","","","","","","",""]
[null,null,null,null,null,null,null,null,null,"","","","","","","","","","","","","","","","","","","","","","","","","",""]
[null,null,null,null,null,null,null,null,null,"","","","","","","","","","","","","","","","","","","","","","","","","",""]
[null,null,null,null,null,null,null,null,null,"","","","","","","","","","","","","","","","","","","","","","","","","",""]
[null,null,null,null,null,null,null,null,null,"","","","","","","","","","","","","","","","","","","","","","","","","",""]
[null,null,null,null,null,null,null,null,null,"","","","","","","","","","","","","","","","","","","","","","","","","",""]
[null,null,null,null,null,null,null,null,null,"","","","","","","","","","","","","","","","","","","","","","","","","",""]
[null,null,null,null,null,null,null,null,null,"","","","","","","","","","","","","","","","","","","","","","","","","",""]
[null,null,null,null,null,null,null,null,null,"","","","","","","","","","","","","","","","","","","","","","","","","",""]
[null,null,null,null,null,null,null,null,null,"","","","","","","","","","","","","","","","","","","","","","","","","",""]
[null,null,null,null,null,null,null,null,null,"","","","","","","","","","","","","","","","","","","","","","","","","",""]
[null,null,null,null,null,null,null,null,null,"","","","","","","","","","","","","","","","","","","","","","","","","",""]
[null,null,null,null,null,null,null,null,null,"","","","","","","","","","","","","","","","","","","","","","","","","",""]
[null,null,null,null,null,null,null,null,null,"","","","","","","","","","","","","","","","","","","","","","","","","",""]
[null,null,null,null,null,null,null,null,null,"","","","","","","","","","","","","","","","","","","","","","","","","",""]
[null,null,null,null,null,null,null,null,null,"","","","","","","","","","","","","","","","","","","","","","","","","",""]
[null,null,null,null,null,null,null,null,null,"","","","","","","","","","","","","","","","","","","","","","","","","",""]
[null,null,null,null,null,null,null,null,null,"","","","","","","","","","","","","","","","","","","","","","","","","",""]
[null,null,null,null,null,null,null,null,null,"","","","","","","","","","","","","","","","","","","","","","","","","",""]
[null,null,null,null,null,null,null,null,null,"","","","","","","","","","","","","","","","","","","","","","","","","",""]
[null,null,null,null,null,null,null,null,null,{"$f":"IF(I131=\"\",\"\",E131+G131)","v":""},{"$f":"IF(I131=\"\",\"\",F131+H131)","v":""},{"$f":"IF(I131=\"\",\"\",IF(I131=\"Дома\",J131,K131))","v":""},{"$f":"IF(I131=\"\",\"\",IF(I131=\"Дома\",K131,J131))","v":""},"",{"$f":"IF(I131=\"\",\"\",O130+1)","v":""},"","","","","",{"$f":"IF(I131=\"\",\"\",P131*3+Q131)","v":""},"","","","","","","","","","","","","",""]
[null,null,null,null,null,null,null,null,null,"","","","","","",{"$f":"IF(I132=\"\",\"\",IF(N132=\"В\",P131+1,P131))","v":""},{"$f":"IF(I132=\"\",\"\",IF(N132=\"Н\",Q131+1,Q131))","v":""},{"$f":"IF(I132=\"\",\"\",IF(N132=\"П\",R131+1,R131))","v":""},{"$f":"IF(I132=\"\",\"\",S131+L132)","v":""},{"$f":"IF(I132=\"\",\"\",T131+M132)","v":""},"",{"$f":"IF(I132=\"\",\"\",IF(I132=\"Дома\",V131+1,V131+0))","v":""},{"$f":"IF(I132=\"\",\"\",IF(I132=\"Дома\",IF(N132=\"В\",W131+1,W131),W131))","v":""},{"$f":"IF(I132=\"\",\"\",IF(I132=\"Дома\",IF(N132=\"Н\",X131+1,X131),X131))","v":""},{"$f":"IF(I132=\"\",\"\",IF(I132=\"Дома\",IF(N132=\"П\",Y131+1,Y131),Y131))","v":""},{"$f":"IF(I132=\"\",\"\",IF(I132=\"Дома\",L132+Z131,Z131))","v":""},{"$f":"IF(I132=\"\",\"\",IF(I132=\"Дома\",M132+AA131,AA131))","v":""},{"$f":"IF(I132=\"\",\"\",IF(I132=\"Дома\",W132*3+X132,AB131))","v":""},{"$f":"IF(I132=\"\",\"\",IF(I132=\"Гости\",AC131+1,AC131+0))","v":""},{"$f":"IF(I132=\"\",\"\",IF(I132=\"Гости\",IF(N132=\"В\",AD131+1,AD131),AD131))","v":""},{"$f":"IF(I132=\"\",\"\",IF(I132=\"Гости\",IF(N132=\"Н\",AE131+1,AE131),AE131))","v":""},{"$f":"IF(I132=\"\",\"\",IF(I132=\"Гости\",IF(N132=\"П\",AF131+1,AF131),AF131))","v":""},{"$f":"IF(I132=\"\",\"\",IF(I132=\"Гости\",L132+AG131,AG131))","v":""},{"$f":"IF(I132=\"\",\"\",IF(I132=\"Гости\",M132+AH131,AH131))","v":""},{"$f":"IF(I132=\"\",\"\",IF(I132=\"Гости\",AD132*3+AE132,AI131))","v":""}]
[null,null,null,null,null,null,null,null,null,"","","","","","","","","","","","","","","","","","","","","","","","","",""]
[null,null,null,null,null,null,null,null,null,"","","","","","","","","","","","","","","","","","","","","","","","","",""]
[null,null,null,null,null,null,null,null,null,"","","","","","","","","","","","","","","","","","","","","","","","","",""]
[null,null,null,null,null,null,null,null,null,"","","","","","","","","","","","","","","","","","","","","","","","","",""]
[null,null,null,null,null,null,null,null,null,"","","","","","","","","","","","","","","","","","","","","","","","","",""]
[null,null,null,null,null,null,null,null,null,"","","","",{"$f":"IF(I138=\"\",\"\",IF(I138=\"Дома\",IF(J138>K138,\"В\",IF(J138=K138,\"Н\",\"П\")),IF(J138<K138,\"В\",IF(J138=K138,\"Н\",\"П\"))))","v":""},"","","","","","","","","","","","","","","","","","","","",""]
[null,null,null,null,null,null,null,null,null,"","","","","","","","","","","","","","","","","","","","","","","","","",""]
[null,null,null,null,null,null,null,null,null,"","","","","","","","","","","","","","","","","","","","","","","","","",""]
[null,null,null,null,null,null,null,null,null,"","","","","","","","","","","","","","","","","","","","","","","","","",""]
[null,null,null,null,null,null,null,null,null,"","","","","","","","","","","","","","","","","","","","","","","","","",""]
[null,null,null,null,null,null,null,null,null,"","","","","","","","","","","","","","","","","","","","","","","","","",""]
[null,null,null,null,null,null,null,null,null,"","","","","","","","","","","","","","","","","","","","","","","","","",""]
[null,null,null,null,null,null,null,null,null,"","","","","","","","","","","","","","","","","","","","","","","","","",""]
[null,null,null,null,null,null,null,null,null,"","","","","","","","","","","","","","","","","","","","","","","","","",""]
[null,null,null,null,null,null,null,null,null,"","","","","","","","","","","","","","","","","","","","","","","","","",""]
[null,null,null,null,null,null,null,null,null,"","","","","","","","","","","","","","","","","","","","","","","","","",""]
[null,null,null,null,null,null,null,null,null,"","","","","","","","","","","","","","","","","","","","","","","","","",""]
[null,null,null,null,null,null,null,null,null,"","","","","","","","","","","","","","","","","","","","","","","","","",""]

{"sheet":"Очные","index":16,"n_rows":153,"n_cols":34,"rows_kept":153,"cut":false,"hidden":true,"merged":[]}
["Cardiff U23","Sheffield Utd U23",null,null,null,null,"Результат К1","Забито К1","Пропущено К1","Выиграно К1","Ничьих К1","Проиграно К1","РезультатК2","Забито К2","Пропущено К2","Выиграно К2","Ничьих К2","Пропущено К2","ХОЗЯЕВА","Д","Заб","Проп","Г","Заб","Проп","ГОСТИ","Д","Заб","Проп","Г","Заб","Проп"]
["Professional Development League (England)","2019.08.12 00:00","Cardiff U23","Sheffield Utd U23",1,3,{"$f":"IF(A2=\"\",\"\",IF(A1=C2,IF(E2>F2,\"В\",IF(E2=F2,\"Н\",\"П\")),IF(E2<F2,\"В\",IF(E2=F2,\"Н\",\"П\"))))","v":"П"},{"$f":"IF(A2=\"\",\"\",IF(A1=C2,E2,F2))","v":1},{"$f":"IF(A2=\"\",\"\",IF(A1=C2,F2,E2))","v":3},{"$f":"IF(A2=\"\",\"\",IF(G2=\"В\",1,0))","v":0},{"$f":"IF(A2=\"\",\"\",IF(G2=\"Н\",1,0))","v":0},{"$f":"IF(A2=\"\",\"\",IF(G2=\"П\",1,0))","v":1},{"$f":"IF(A2=\"\",\"\",IF(B1=D2,IF(F2>E2,\"В\",IF(F2=E2,\"Н\",\"П\")),IF(F2<E2,\"В\",IF(F2=E2,\"Н\",\"П\"))))","v":"В"},{"$f":"IF(A2=\"\",\"\",IF(B1=D2,F2,E2))","v":3},{"$f":"IF(A2=\"\",\"\",IF(B1=D2,E2,F2))","v":1},{"$f":"IF(A2=\"\",\"\",IF(M2=\"В\",1,0))","v":1},{"$f":"IF(A2=\"\",\"\",IF(M2=\"Н\",1,0))","v":0},{"$f":"IF(A2=\"\",\"\",IF(M2=\"П\",1,0))","v":0},{"$f":"IF(A2=\"\",\"\",IF(C2=$A$1,\"Дома\",IF(D2=$A$1,\"Гости\",\"\")))","v":"Дома"},{"$f":"IF(S2=\"Дома\",G2,\"\")","v":"П"},{"$f":"IF(S2=\"Дома\",E2,\"\")","v":1},{"$f":"IF(S2=\"Дома\",F2,\"\")","v":3},{"$f":"IF(S2=\"Гости\",G2,\"\")","v":""},{"$f":"IF(S2=\"Гости\",F2,\"\")","v":""},{"$f":"IF(S2=\"Гости\",E2,\"\")","v":""},{"$f":"IF(A2=\"\",\"\",IF(D2=$A$1,\"Дома\",IF(C2=$A$1,\"Гости\",\"\")))","v":"Гости"},{"$f":"IF(Z2=\"Дома\",M2,\"\")","v":""},{"$f":"IF(Z2=\"Дома\",E2,\"\")","v":""},{"$f":"IF(Z2=\"Дома\",F2,\"\")","v":""},{"$f":"IF(Z2=\"Гости\",M2,\"\")","v":"В"},{"$f":"IF(Z2=\"Гости\",F2,\"\")","v":3},{"$f":"IF(Z2=\"Гости\",E2,\"\")","v":1},{"$f":"IF(S2=\"\",\"\",IF(S2=\"Дома\",E2,F2))","v":1},{"$f":"IF(S2=\"\",\"\",IF(S2=\"Дома\",F2,E2))","v":3}]
["Professional Development League (England)","2019.03.04 00:00","Cardiff U23","Sheffield Utd U23",1,1,{"$f":"IF(A3=\"\",\"\",IF($A$1=C3,IF(E3>F3,\"В\",IF(E3=F3,\"Н\",\"П\")),IF(E3<F3,\"В\",IF(E3=F3,\"Н\",\"П\"))))","v":"Н"},{"$f":"IF(A3=\"\",\"\",IF($A$1=C3,E3+H2,F3+H2))","v":2},{"$f":"IF(A3=\"\",\"\",IF($A$1=C3,F3+I2,E3+I2))","v":4},{"$f":"IF(A3=\"\",\"\",IF(G3=\"В\",1+J2,0+J2))","v":0},{"$f":"IF(A3=\"\",\"\",IF(G3=\"Н\",1+K2,0+K2))","v":1},{"$f":"IF(A3=\"\",\"\",IF(G3=\"П\",1+L2,0+L2))","v":1},{"$f":"IF(A3=\"\",\"\",IF($B$1=D3,IF(F3>E3,\"В\",IF(F3=E3,\"Н\",\"П\")),IF(F3<E3,\"В\",IF(F3=E3,\"Н\",\"П\"))))","v":"Н"},{"$f":"IF(A3=\"\",\"\",IF($B$1=D3,F3+N2,E3+N2))","v":4},{"$f":"IF(A3=\"\",\"\",IF($B$1=D3,E3+O2,F3+O2))","v":2},{"$f":"IF(A3=\"\",\"\",IF(M3=\"В\",1+P2,0+P2))","v":1},{"$f":"IF(A3=\"\",\"\",IF(M3=\"Н\",1+Q2,0+Q2))","v":1},{"$f":"IF(A3=\"\",\"\",IF(M3=\"П\",1+R2,0+R2))","v":0},{"$f":"IF(A3=\"\",\"\",IF(C3=$A$1,\"Дома\",IF(D3=$A$1,\"Гости\",\"\")))","v":"Дома"},{"$f":"IF(S3=\"Дома\",G3,\"\")","v":"Н"},{"$f":"IF(S3=\"Дома\",E3,\"\")","v":1},{"$f":"IF(S3=\"Дома\",F3,\"\")","v":1},{"$f":"IF(S3=\"Гости\",G3,\"\")","v":""},{"$f":"IF(S3=\"Гости\",F3,\"\")","v":""},{"$f":"IF(S3=\"Гости\",E3,\"\")","v":""},{"$f":"IF(A3=\"\",\"\",IF(D3=$A$1,\"Дома\",IF(C3=$A$1,\"Гости\",\"\")))","v":"Гости"},{"$f":"IF(Z3=\"Дома\",M3,\"\")","v":""},{"$f":"IF(Z3=\"Дома\",E3,\"\")","v":""},{"$f":"IF(Z3=\"Дома\",F3,\"\")","v":""},{"$f":"IF(Z3=\"Гости\",M3,\"\")","v":"Н"},{"$f":"IF(Z3=\"Гости\",F3,\"\")","v":1},{"$f":"IF(Z3=\"Гости\",E3,\"\")","v":1},{"$f":"IF(S3=\"\",\"\",IF(S3=\"Дома\",E3,F3))","v":1},{"$f":"IF(S3=\"\",\"\",IF(S3=\"Дома\",F3,E3))","v":1}]
["Professional Development League (England)","2017.08.21 00:00","Sheffield Utd U23","Cardiff U23",3,0,"П",2,7,{"$f":"IF(A4=\"\",\"\",IF(G4=\"В\",1+J3,0+J3))","v":0},{"$f":"IF(A4=\"\",\"\",IF(G4=\"Н\",1+K3,0+K3))","v":1},{"$f":"IF(A4=\"\",\"\",IF(G4=\"П\",1+L3,0+L3))","v":2},{"$f":"IF(A4=\"\",\"\",IF($B$1=D4,IF(F4>E4,\"В\",IF(F4=E4,\"Н\",\"П\")),IF(F4<E4,\"В\",IF(F4=E4,\"Н\",\"П\"))))","v":"В"},{"$f":"IF(A4=\"\",\"\",IF($B$1=D4,F4+N3,E4+N3))","v":7},{"$f":"IF(A4=\"\",\"\",IF($B$1=D4,E4+O3,F4+O3))","v":2},{"$f":"IF(A4=\"\",\"\",IF(M4=\"В\",1+P3,0+P3))","v":2},{"$f":"IF(A4=\"\",\"\",IF(M4=\"Н\",1+Q3,0+Q3))","v":1},{"$f":"IF(A4=\"\",\"\",IF(M4=\"П\",1+R3,0+R3))","v":0},"Гости","","","","П",0,3,"Дома","В",3,0,"","","",0,3]
["Professional Development League (England)","2017.03.30 00:00","Cardiff U23","Sheffield Utd U23",1,1,"Н",3,8,0,2,2,"Н",8,3,2,2,0,"Дома","Н",1,1,"","","","Гости","","","","Н",1,1,1,1]
[null,null,null,null,null,null,"","","","","","","","","","","","","","","","","","","","","","","","","","","",""]
[null,null,null,null,null,null,"","","","","","","","","","","","","","","","","","","","","","","","","","",{"$f":"IF(S7=\"\",\"\",IF(S7=\"Дома\",E7,F7))","v":""},{"$f":"IF(S7=\"\",\"\",IF(S7=\"Дома\",F7,E7))","v":""}]
[null,null,null,null,null,null,"","",{"$f":"IF(A8=\"\",\"\",IF($A$1=C8,F8+I7,E8+I7))","v":""},"","","","","","","","","","","","","","","","","","","","","","","","",""]
[null,null,null,null,null,null,"","","","","","","","","","","","","","","","","","","","","","","","","","","",""]
[null,null,null,null,null,null,"","","","","","","","","","","","","","","","","","","","","","","","","","","",""]
[null,null,null,null,null,null,"","","","","","","","","","","","","","","","","","","","","","","","","","","",""]
[null,null,null,null,null,null,"","","","","","","","","","","","","","","","","","","","","","","","","",""]
[null,null,null,null,null,null,"","","","","","","","","","","","","","","","","","","","","","","","","",""]
[null,null,null,null,null,null,"","","","","","","","","","","","","","","","","","","","","","","","","",""]
[null,null,null,null,null,null,"","","","","","","","","","","","","","","","","","","","","","","","","",""]
[null,null,null,null,null,null,"","","","","","","","","","","","","","","","","","","","","","","","","",""]
[null,null,null,null,null,null,"","","","","","","","","","","","","","","","","","","","","","","","","",""]
[null,null,null,null,null,null,"","","","","","","","","","","","","","","","","","","","","","","","","",""]
[null,null,null,null,null,null,"","","","","","","","","","","","","","","","","","","","","","","","","",""]
[null,null,null,null,null,null,"","","","","","","","","","","","","","","","","","","","","","","","","",""]
[null,null,null,null,null,null,"","","","","","","","","","","","","","","","","","","","","","","","","",""]
[null,null,null,null,null,null,"","","","","","","","","","","","","","","","","","","","","","","","","",""]
[null,null,null,null,null,null,"","","","","","","","","","","","","","","","","","","","","","","","","",""]
[null,null,null,null,null,null,"","","","","","","","","","","","","","","","","","","","","","","","","",""]
[null,null,null,null,null,null,"","","","","","","","","","","","","","","","","","","","","","","","","",""]
[null,null,null,null,null,null,"","","","","","","","","","","","","","","","","","","","","","","","","",""]
[null,null,null,null,null,null,"","","","","","","","","","","","","","","","","","","","","","","","","",""]
[null,null,null,null,null,null,"","","","","","","","","","","","","","","","","","","","","","","","","",""]
[null,null,null,null,null,null,"","","","","","","","","","","","","","","","","","","","","","","","","",""]
[null,null,null,null,null,null,"","","","","","","","","","","","","","","","","","","","","","","","","",""]
[null,null,null,null,null,null,"","","","","","","","","","","","","","","","","","","","","","","","","",""]
[null,null,null,null,null,null,"","","","","","","","","","","","","","","","","","","","","","","","","",""]
[null,null,null,null,null,null,"","","","","","","","","","","","","","","","","","","","","","","","","",""]
[null,null,null,null,null,null,"","","","","","","","","","","","","","","","","","","","","","","","","",""]
[null,null,null,null,null,null,{"$f":"IF(A35=\"\",\"\",IF($A$1=C35,IF(E35>F35,\"В\",IF(E35=F35,\"Н\",\"П\")),IF(E35<F35,\"В\",IF(E35=F35,\"Н\",\"П\"))))","v":""},{"$f":"IF(A35=\"\",\"\",IF($A$1=C35,E35+H34,F35+H34))","v":""},{"$f":"IF(A35=\"\",\"\",IF($A$1=C35,F35+I34,E35+I34))","v":""},"","","","","","","","","","","","","","","","","","","","","","",""]
[null,null,null,null,null,null,"","","","","","","","","","","","","","","","","","","","","","","","","",""]
[null,null,null,null,null,null,"","","","","","","","","","","","","","","","","","","","","","","","","",""]
[null,null,null,null,null,null,"","","","","","","","","","","","","","","","","","","","","","","","","",""]
[null,null,null,null,null,null,"","","","","","","","","","","","","","","","","","","","","","","","","",""]
[null,null,null,null,null,null,"","","","","","","","","","","","","","","","","","","","","","","","","",""]
[null,null,null,null,null,null,"","","","","","","","","","","","","","","","","","","","","","","","","",""]
[null,null,null,null,null,null,"","","","","","","","","","","","","","","","","","","","","","","","","",""]
[null,null,null,null,null,null,"","","","","","","","","","","","","","","","","","","","","","","","","",""]
[null,null,null,null,null,null,"","","","","","","","","","","","","","","","","","","","","","","","","",""]
[null,null,null,null,null,null,"","","","","","","","","","","","","","","","","","","","","","","","","",""]
[null,null,null,null,null,null,"","","","","","","","","","","","","","","","","","","","","","","","","",""]
[null,null,null,null,null,null,"","","","","","","","","","","","","","","","","","","","","","","","","",""]
[null,null,null,null,null,null,"","","","","","","","","","","","","","","","","","","","","","","","","",""]
[null,null,null,null,null,null,"","","","","","","","","","","","","","","","","","","","","","","","","",""]
[null,null,null,null,null,null,"","","","","","","","","","","","","","","","","","","","","","","","","",""]
[null,null,null,null,null,null,"","","","","","","","","","","","","","","","","","","","","","","","","",""]
[null,null,null,null,null,null,"","","","","","","","","","","","","","","","","","","","","","","","","",""]
[null,null,null,null,null,null,"","","","","","","","","","","","","","","","","","","","","","","","","",""]
[null,null,null,null,null,null,"","","","","","","","","","","","","","","","","","","","","","","","","",""]
[null,null,null,null,null,null,"","","","","","","","","","","","","","","","","","","","","","","","","",""]
[null,null,null,null,null,null,"","","","","","","","","","","","","","","","","","","","","","","","","",""]
[null,null,null,null,null,null,"","","","","","","","","","","","","","","","","","","","","","","","","",""]
[null,null,null,null,null,null,"","","","","","","","","","","","","","","","","","","","","","","","","",""]
[null,null,null,null,null,null,"","","","","","","","","","","","","","","","","","","","","","","","","",""]
[null,null,null,null,null,null,"","","","","","","","","","","","","","","","","","","","","","","","","",""]
[null,null,null,null,null,null,"","","","","","","","","","","","","","","","","","","","","","","","","",""]
[null,null,null,null,null,null,"","","","","","","","","","","","","","","","","","","","","","","","","",""]
[null,null,null,null,null,null,"","","","","","","","","","","","","","","","","","","","","","","","","",""]
[null,null,null,null,null,null,"","","","","","","","","","","","","","","","","","","","","","","","","",""]
[null,null,null,null,null,null,"","","","","","","","","","","","","","","","","","","","","","","","","",""]
[null,null,null,null,null,null,"","","","","","","","","","","","","","","","","","","","","","","","","",""]
[null,null,null,null,null,null,{"$f":"IF(A67=\"\",\"\",IF($A$1=C67,IF(E67>F67,\"В\",IF(E67=F67,\"Н\",\"П\")),IF(E67<F67,\"В\",IF(E67=F67,\"Н\",\"П\"))))","v":""},{"$f":"IF(A67=\"\",\"\",IF($A$1=C67,E67+H66,F67+H66))","v":""},{"$f":"IF(A67=\"\",\"\",IF($A$1=C67,F67+I66,E67+I66))","v":""},"","","","","","","","","",{"$f":"IF(A67=\"\",\"\",IF(C67=$A$1,\"Дома\",IF(D67=$A$1,\"Гости\",\"\")))","v":""},{"$f":"IF(S67=\"Дома\",G67,\"\")","v":""},{"$f":"IF(S67=\"Дома\",E67,\"\")","v":""},{"$f":"IF(S67=\"Дома\",F67,\"\")","v":""},{"$f":"IF(S67=\"Гости\",G67,\"\")","v":""},{"$f":"IF(S67=\"Гости\",F67,\"\")","v":""},{"$f":"IF(S67=\"Гости\",E67,\"\")","v":""},{"$f":"IF(A67=\"\",\"\",IF(D67=$A$1,\"Дома\",IF(C67=$A$1,\"Гости\",\"\")))","v":""},{"$f":"IF(Z67=\"Дома\",M67,\"\")","v":""},{"$f":"IF(Z67=\"Дома\",E67,\"\")","v":""},{"$f":"IF(Z67=\"Дома\",F67,\"\")","v":""},{"$f":"IF(Z67=\"Гости\",M67,\"\")","v":""},{"$f":"IF(Z67=\"Гости\",F67,\"\")","v":""},{"$f":"IF(Z67=\"Гости\",E67,\"\")","v":""}]
[null,null,null,null,null,null,"","","",{"$f":"IF(A68=\"\",\"\",IF(G68=\"В\",1+J67,0+J67))","v":""},{"$f":"IF(A68=\"\",\"\",IF(G68=\"Н\",1+K67,0+K67))","v":""},{"$f":"IF(A68=\"\",\"\",IF(G68=\"П\",1+L67,0+L67))","v":""},{"$f":"IF(A68=\"\",\"\",IF($B$1=D68,IF(F68>E68,\"В\",IF(F68=E68,\"Н\",\"П\")),IF(F68<E68,\"В\",IF(F68=E68,\"Н\",\"П\"))))","v":""},{"$f":"IF(A68=\"\",\"\",IF($B$1=D68,F68+N67,E68+N67))","v":""},{"$f":"IF(A68=\"\",\"\",IF($B$1=D68,E68+O67,F68+O67))","v":""},{"$f":"IF(A68=\"\",\"\",IF(M68=\"В\",1+P67,0+P67))","v":""},{"$f":"IF(A68=\"\",\"\",IF(M68=\"Н\",1+Q67,0+Q67))","v":""},{"$f":"IF(A68=\"\",\"\",IF(M68=\"П\",1+R67,0+R67))","v":""},"","","","","","","","","","","","","",""]
[null,null,null,null,null,null,"","","","","","","","","","","","","","","","","","","","","","","","","",""]
[null,null,null,null,null,null,"","","","","","","","","","","","","","","","","","","","","","","","","",""]
[null,null,null,null,null,null,"","","","","","","","","","","","","","","","","","","","","","","","","",""]
[null,null,null,null,null,null,"","","","","","","","","","","","","","","","","","","","","","","","","",""]
[null,null,null,null,null,null,"","","","","","","","","","","","","","","","","","","","","","","","","",""]
[null,null,null,null,null,null,"","","","","","","","","","","","","","","","","","","","","","","","","",""]
[null,null,null,null,null,null,"","","","","","","","","","","","","","","","","","","","","","","","","",""]
[null,null,null,null,null,null,"","","","","","","","","","","","","","","","","","","","","","","","","",""]
[null,null,null,null,null,null,"","","","","","","","","","","","","","","","","","","","","","","","","",""]
[null,null,null,null,null,null,"","","","","","","","","","","","","","","","","","","","","","","","","",""]
[null,null,null,null,null,null,"","","","","","","","","","","","","","","","","","","","","","","","","",""]
[null,null,null,null,null,null,"","","","","","","","","","","","","","","","","","","","","","","","","",""]
[null,null,null,null,null,null,"","","","","","","","","","","","","","","","","","","","","","","","","",""]
[null,null,null,null,null,null,"","","","","","","","","","","","","","","","","","","","","","","","","",""]
[null,null,null,null,null,null,"","","","","","","","","","","","","","","","","","","","","","","","","",""]
[null,null,null,null,null,null,"","","","","","","","","","","","","","","","","","","","","","","","","",""]
[null,null,null,null,null,null,"","","","","","","","","","","","","","","","","","","","","","","","","",""]
[null,null,null,null,null,null,"","","","","","","","","","","","","","","","","","","","","","","","","",""]
[null,null,null,null,null,null,"","","","","","","","","","","","","","","","","","","","","","","","","",""]
[null,null,null,null,null,null,"","","","","","","","","","","","","","","","","","","","","","","","","",""]
[null,null,null,null,null,null,"","","","","","","","","","","","","","","","","","","","","","","","","",""]
[null,null,null,null,null,null,"","","","","","","","","","","","","","","","","","","","","","","","","",""]
[null,null,null,null,null,null,"","","","","","","","","","","","","","","","","","","","","","","","","",""]
[null,null,null,null,null,null,"","","","","","","","","","","","","","","","","","","","","","","","","",""]
[null,null,null,null,null,null,"","","","","","","","","","","","","","","","","","","","","","","","","",""]
[null,null,null,null,null,null,"","","","","","","","","","","","","","","","","","","","","","","","","",""]
[null,null,null,null,null,null,"","","","","","","","","","","","","","","","","","","","","","","","","",""]
[null,null,null,null,null,null,"","","","","","","","","","","","","","","","","","","","","","","","","",""]
[null,null,null,null,null,null,"","","","","","","","","","","","","","","","","","","","","","","","","",""]
[null,null,null,null,null,null,"","","","","","","","","","","","","","","","","","","","","","","","","",""]
[null,null,null,null,null,null,{"$f":"IF(A99=\"\",\"\",IF($A$1=C99,IF(E99>F99,\"В\",IF(E99=F99,\"Н\",\"П\")),IF(E99<F99,\"В\",IF(E99=F99,\"Н\",\"П\"))))","v":""},{"$f":"IF(A99=\"\",\"\",IF($A$1=C99,E99+H98,F99+H98))","v":""},{"$f":"IF(A99=\"\",\"\",IF($A$1=C99,F99+I98,E99+I98))","v":""},"","","","","","","","","","","","","","","","","","","","","","",""]
[null,null,null,null,null,null,"","","","","","","","","","","","","","","","","","","","","","","","","",""]
[null,null,null,null,null,null,"","","","","","","","","","","","","","","","","","","","","","","","","",""]
[null,null,null,null,null,null,"","","","","","","","","","","","","","","","","","","","","","","","","",""]
[null,null,null,null,null,null,"","","","","","","","","","","","","","","","","","","","","","","","","",""]
[null,null,null,null,null,null,"","","","","","","","","","","","","","","","","","","","","","","","","",""]
[null,null,null,null,null,null,"","","","","","","","","","","","","","","","","","","","","","","","","",""]
[null,null,null,null,null,null,"","","","","","","","","","","","","","","","","","","","","","","","","",""]
[null,null,null,null,null,null,"","","","","","","","","","","","","","","","","","","","","","","","","",""]
[null,null,null,null,null,null,"","","","","","","","","","","","",{"$f":"IF(A108=\"\",\"\",IF(C108=$A$1,\"Дома\",IF(D108=$A$1,\"В Гостях\",\"\")))","v":""},"","","","","","","","","","","","",""]
[null,null,null,null,null,null,"","","","","","","","","","","","","","","","","","","","","","","","","",""]
[null,null,null,null,null,null,"","","","","","","","","","","","","","","","","","","","","","","","","",""]
[null,null,null,null,null,null,"","","","","","","","","","","","","","","","","","","","","","","","","",""]
[null,null,null,null,null,null,"","","","","","","","","","","","","","","","","","","","","","","","","",""]
[null,null,null,null,null,null,"","","","","","","","","","","","","","","","","","","","","","","","","",""]
[null,null,null,null,null,null,"","","","","","","","","","","","","","","","","","","","","","","","","",""]
[null,null,null,null,null,null,"","","","","","","","","","","","","","","","","","","","","","","","","",""]
[null,null,null,null,null,null,"","","","","","","","","","","","","","","","","","","","","","","","","",""]
[null,null,null,null,null,null,"","","","","","","","","","","","","","","","","","","","","","","","","",""]
[null,null,null,null,null,null,"","","","","","","","","","","","","","","","","","","","","","","","","",""]
[null,null,null,null,null,null,"","","","","","","","","","","","","","","","","","","","","","","","","",""]
[null,null,null,null,null,null,"","","","","","","","","","","","","","","","","","","","","","","","","",""]
[null,null,null,null,null,null,"","","","","","","","","","","","","","","","","","","","","","","","","",""]
[null,null,null,null,null,null,"","","","","","","","","","","","","","","","","","","","","","","","","",""]
[null,null,null,null,null,null,"","","","","","","","","","","","","","","","","","","","","","","","","",""]
[null,null,null,null,null,null,"","","","","","","","","","","","","","","","","","","","","","","","","",""]
[null,null,null,null,null,null,"","","","","","","","","","","","","","","","","","","","","","","","","",""]
[null,null,null,null,null,null,"","","","","","","","","","","","","","","","","","","","","","","","","",""]
[null,null,null,null,null,null,"","","","","","","","","","","","","","","","","","","","","","","","","",""]
[null,null,null,null,null,null,"","","","","","","","","","","","","","","","","","","","","","","","","",""]
[null,null,null,null,null,null,"","","","","","","","","","","","","","","","","","","","","","","","","",""]
[null,null,null,null,null,null,"","","","","","","","","","","","","","","","","","","","","","","","","",""]
[null,null,null,null,null,null,{"$f":"IF(A131=\"\",\"\",IF($A$1=C131,IF(E131>F131,\"В\",IF(E131=F131,\"Н\",\"П\")),IF(E131<F131,\"В\",IF(E131=F131,\"Н\",\"П\"))))","v":""},{"$f":"IF(A131=\"\",\"\",IF($A$1=C131,E131+H130,F131+H130))","v":""},{"$f":"IF(A131=\"\",\"\",IF($A$1=C131,F131+I130,E131+I130))","v":""},"","","","","","","","","",{"$f":"IF(A131=\"\",\"\",IF(C131=$A$1,\"Дома\",IF(D131=$A$1,\"В Гостях\",\"\")))","v":""},{"$f":"IF(S131=\"Дома\",G131,\"\")","v":""},{"$f":"IF(S131=\"Дома\",E131,\"\")","v":""},{"$f":"IF(S131=\"Дома\",F131,\"\")","v":""},{"$f":"IF(S131=\"Гости\",G131,\"\")","v":""},{"$f":"IF(S131=\"Гости\",F131,\"\")","v":""},{"$f":"IF(S131=\"Гости\",E131,\"\")","v":""},{"$f":"IF(A131=\"\",\"\",IF(D131=$A$1,\"Дома\",IF(C131=$A$1,\"Гости\",\"\")))","v":""},{"$f":"IF(Z131=\"Дома\",M131,\"\")","v":""},{"$f":"IF(Z131=\"Дома\",E131,\"\")","v":""},{"$f":"IF(Z131=\"Дома\",F131,\"\")","v":""},{"$f":"IF(Z131=\"Гости\",M131,\"\")","v":""},{"$f":"IF(Z131=\"Гости\",F131,\"\")","v":""},{"$f":"IF(Z131=\"Гости\",E131,\"\")","v":""}]
[null,null,null,null,null,null,"","","",{"$f":"IF(A132=\"\",\"\",IF(G132=\"В\",1+J131,0+J131))","v":""},{"$f":"IF(A132=\"\",\"\",IF(G132=\"Н\",1+K131,0+K131))","v":""},{"$f":"IF(A132=\"\",\"\",IF(G132=\"П\",1+L131,0+L131))","v":""},{"$f":"IF(A132=\"\",\"\",IF($B$1=D132,IF(F132>E132,\"В\",IF(F132=E132,\"Н\",\"П\")),IF(F132<E132,\"В\",IF(F132=E132,\"Н\",\"П\"))))","v":""},{"$f":"IF(A132=\"\",\"\",IF($B$1=D132,F132+N131,E132+N131))","v":""},{"$f":"IF(A132=\"\",\"\",IF($B$1=D132,E132+O131,F132+O131))","v":""},{"$f":"IF(A132=\"\",\"\",IF(M132=\"В\",1+P131,0+P131))","v":""},{"$f":"IF(A132=\"\",\"\",IF(M132=\"Н\",1+Q131,0+Q131))","v":""},{"$f":"IF(A132=\"\",\"\",IF(M132=\"П\",1+R131,0+R131))","v":""},"","","","","","","","","","","","","",""]
[null,null,null,null,null,null,"","","","","","","","","","","","","","","","","","","","","","","","","",""]
[null,null,null,null,null,null,"","","","","","","","","","","","","","","","","","","","","","","","","",""]
[null,null,null,null,null,null,"","","","","","","","","","","","","","","","","","","","","","","","","",""]
[null,null,null,null,null,null,"","","","","","","","","","","","","","","","","","","","","","","","","",""]
[null,null,null,null,null,null,"","","","","","","","","","","","","","","","","","","","","","","","","",""]
[null,null,null,null,null,null,"","","","","","","","","","","","","","","","","","","","","","","","","",""]
[null,null,null,null,null,null,"","","","","","","","","","","","","","","","","","","","","","","","","",""]
[null,null,null,null,null,null,"","","","","","","","","","","","","","","","","","","","","","","","","",""]
[null,null,null,null,null,null,"","","","","","","","","","","","","","","","","","","","","","","","","",""]
[null,null,null,null,null,null,"","","","","","","","","","","","","","","","","","","","","","","","","",""]
[null,null,null,null,null,null,"","","","","","","","","","","","","","","","","","","",{"$f":"IF(A143=\"\",\"\",IF(D143=$A$1,\"Дома\",IF(C143=$A$1,\"В Гостях\",\"\")))","v":""},"","","","","",""]
[null,null,null,null,null,null,"","","","","","","","","","","","","","","","","","","","","","","","","",""]
[null,null,null,null,null,null,"","","","","","","","","","","","","","","","","","","","","","","","","",""]
[null,null,null,null,null,null,"","","","","","","","","","","","","","","","","","","","","","","","","",""]
[null,null,null,null,null,null,"","","","","","","","","","","","","","","","","","","","","","","","","",""]
[null,null,null,null,null,null,"","","","","","","","","","","","","","","","","","","","","","","","","",""]
[null,null,null,null,null,null,"","","","","","","","","","","","","","","","","","","","","","","","","",""]
[null,null,null,null,null,null,"","","","","","","","","","","","","","","","","","","","","","","","","",""]
[null,null,null,null,null,null,null,null,null,null,null,null,null,null,null,null,null,null,null,null,null,null,"","","",null,null,null,null,"","",""]
[null,null,null,null,null,null,null,null,null,null,null,null,null,null,null,null,null,null,null,null,null,null,"","","",null,null,null,null,"","",""]
[null,null,null,null,null,null,null,null,null,null,null,null,null,null,null,null,null,null,null,null,null,null,"","","",null,null,null,null,"","",""]

{"sheet":"ОчныеДГ","index":17,"n_rows":150,"n_cols":18,"rows_kept":150,"cut":false,"hidden":true,"merged":[]}
["Cardiff U23","Sheffield Utd U23",null,null,null,null,"Результат К1","Забито К1","Пропущено К1","Выиграно К1","Ничьих К1","Проиграно К1","РезультатК2","Забито К2","Пропущено К2","Выиграно К2","Ничьих К2","Пропущено К2"]
["Professional Development League (England)","2019.08.12 12:00","Cardiff U23","Sheffield Utd U23",1,3,{"$f":"IF(A2=\"\",\"\",IF($A$1=C2,IF(E2>F2,\"В\",IF(E2=F2,\"Н\",\"П\")),IF(E2<F2,\"В\",IF(E2=F2,\"Н\",\"П\"))))","v":"П"},{"$f":"IF(A2=\"\",\"\",IF($A$1=C2,E2,F2))","v":1},{"$f":"IF(A2=\"\",\"\",IF($A$1=C2,F2,E2))","v":3},{"$f":"IF(A2=\"\",\"\",IF(G2=\"В\",1,0))","v":0},{"$f":"IF(A2=\"\",\"\",IF(G2=\"Н\",1,0))","v":0},{"$f":"IF(A2=\"\",\"\",IF(G2=\"П\",1,0))","v":1},{"$f":"IF(A2=\"\",\"\",IF(B1=D2,IF(F2>E2,\"В\",IF(F2=E2,\"Н\",\"П\")),IF(F2<E2,\"В\",IF(F2=E2,\"Н\",\"П\"))))","v":"В"},{"$f":"IF(A2=\"\",\"\",IF(B1=D2,F2,E2))","v":3},{"$f":"IF(A2=\"\",\"\",IF(B1=D2,E2,F2))","v":1},{"$f":"IF(A2=\"\",\"\",IF(M2=\"В\",1,0))","v":1},{"$f":"IF(A2=\"\",\"\",IF(M2=\"Н\",1,0))","v":0},{"$f":"IF(A2=\"\",\"\",IF(M2=\"П\",1,0))","v":0}]
["Professional Development League (England)","2019.03.04 19:00","Cardiff U23","Sheffield Utd U23",1,1,"Н",{"$f":"IF(A3=\"\",\"\",IF($A$1=C3,E3+H2,F3+H2))","v":2},{"$f":"IF(A3=\"\",\"\",IF($A$1=C3,F3+I2,E3+I2))","v":4},{"$f":"IF(A3=\"\",\"\",IF(G3=\"В\",1+J2,0+J2))","v":0},{"$f":"IF(A3=\"\",\"\",IF(G3=\"Н\",1+K2,0+K2))","v":1},{"$f":"IF(A3=\"\",\"\",IF(G3=\"П\",1+L2,0+L2))","v":1},{"$f":"IF(A3=\"\",\"\",IF($B$1=D3,IF(F3>E3,\"В\",IF(F3=E3,\"Н\",\"П\")),IF(F3<E3,\"В\",IF(F3=E3,\"Н\",\"П\"))))","v":"Н"},{"$f":"IF(A3=\"\",\"\",IF($B$1=D3,F3+N2,E3+N2))","v":4},{"$f":"IF(A3=\"\",\"\",IF($B$1=D3,E3+O2,F3+O2))","v":2},{"$f":"IF(A3=\"\",\"\",IF(M3=\"В\",1+P2,0+P2))","v":1},{"$f":"IF(A3=\"\",\"\",IF(M3=\"Н\",1+Q2,0+Q2))","v":1},{"$f":"IF(A3=\"\",\"\",IF(M3=\"П\",1+R2,0+R2))","v":0}]
["Professional Development League (England)","2017.03.30 14:00","Cardiff U23","Sheffield Utd U23",1,1,"Н",{"$f":"IF(A4=\"\",\"\",IF($A$1=C4,E4+H3,F4+H3))","v":3},{"$f":"IF(A4=\"\",\"\",IF($A$1=C4,F4+I3,E4+I3))","v":5},{"$f":"IF(A4=\"\",\"\",IF(G4=\"В\",1+J3,0+J3))","v":0},{"$f":"IF(A4=\"\",\"\",IF(G4=\"Н\",1+K3,0+K3))","v":2},{"$f":"IF(A4=\"\",\"\",IF(G4=\"П\",1+L3,0+L3))","v":1},{"$f":"IF(A4=\"\",\"\",IF($B$1=D4,IF(F4>E4,\"В\",IF(F4=E4,\"Н\",\"П\")),IF(F4<E4,\"В\",IF(F4=E4,\"Н\",\"П\"))))","v":"Н"},{"$f":"IF(A4=\"\",\"\",IF($B$1=D4,F4+N3,E4+N3))","v":5},{"$f":"IF(A4=\"\",\"\",IF($B$1=D4,E4+O3,F4+O3))","v":3},{"$f":"IF(A4=\"\",\"\",IF(M4=\"В\",1+P3,0+P3))","v":1},{"$f":"IF(A4=\"\",\"\",IF(M4=\"Н\",1+Q3,0+Q3))","v":2},{"$f":"IF(A4=\"\",\"\",IF(M4=\"П\",1+R3,0+R3))","v":0}]
[null,null,null,null,null,null,"","","","","","","","","","","",""]
[null,null,null,null,null,null,"","","","","","","","","","","",""]
[null,null,null,null,null,null,"","","",{"$f":"IF(A7=\"\",\"\",IF(G7=\"В\",1+J6,0+J6))","v":""},{"$f":"IF(A7=\"\",\"\",IF(G7=\"Н\",1+K6,0+K6))","v":""},{"$f":"IF(A7=\"\",\"\",IF(G7=\"П\",1+L6,0+L6))","v":""},{"$f":"IF(A7=\"\",\"\",IF($B$1=D7,IF(F7>E7,\"В\",IF(F7=E7,\"Н\",\"П\")),IF(F7<E7,\"В\",IF(F7=E7,\"Н\",\"П\"))))","v":""},{"$f":"IF(A7=\"\",\"\",IF($B$1=D7,F7+N6,E7+N6))","v":""},{"$f":"IF(A7=\"\",\"\",IF($B$1=D7,E7+O6,F7+O6))","v":""},{"$f":"IF(A7=\"\",\"\",IF(M7=\"В\",1+P6,0+P6))","v":""},{"$f":"IF(A7=\"\",\"\",IF(M7=\"Н\",1+Q6,0+Q6))","v":""},{"$f":"IF(A7=\"\",\"\",IF(M7=\"П\",1+R6,0+R6))","v":""}]
[null,null,null,null,null,null,"","","","","","","","","","","",""]
[null,null,null,null,null,null,"","","","","","","","","","","",""]
[null,null,null,null,null,null,"","","","","","","","","","","",""]
[null,null,null,null,null,null,"","","","","","","","","","","",""]
[null,null,null,null,null,null,"","","","","","","","","","","",""]
[null,null,null,null,null,null,"","","","","","","","","","","",""]
[null,null,null,null,null,null,"","","","","","","","","","","",""]
[null,null,null,null,null,null,"","","","","","","","","","","",""]
[null,null,null,null,null,null,"","","","","","","","","","","",""]
[null,null,null,null,null,null,"","","","","","","","","","","",""]
[null,null,null,null,null,null,"","","","","","","","","","","",""]
[null,null,null,null,null,null,"","","","","","","","","","","",""]
[null,null,null,null,null,null,"","","","","","","","","","","",""]
[null,null,null,null,null,null,"","","","","","","","","","","",""]
[null,null,null,null,null,null,"","","","","","","","","","","",""]
[null,null,null,null,null,null,"","","","","","","","","","","",""]
[null,null,null,null,null,null,"","","","","","","","","","","",""]
[null,null,null,null,null,null,"","","","","","","","","","","",""]
[null,null,null,null,null,null,"","","","","","","","","","","",""]
[null,null,null,null,null,null,"","","","","","","","","","","",""]
[null,null,null,null,null,null,"","","","","","","","","","","",""]
[null,null,null,null,null,null,"","","","","","","","","","","",""]
[null,null,null,null,null,null,"","","","","","","","","","","",""]
[null,null,null,null,null,null,"","","","","","","","","","","",""]
[null,null,null,null,null,null,"","","","","","","","","","","",""]
[null,null,null,null,null,null,"","","","","","","","","","","",""]
[null,null,null,null,null,null,{"$f":"IF(A34=\"\",\"\",IF($A$1=C34,IF(E34>F34,\"В\",IF(E34=F34,\"Н\",\"П\")),IF(E34<F34,\"В\",IF(E34=F34,\"Н\",\"П\"))))","v":""},"","","","","","","","","","",""]
[null,null,null,null,null,null,"","","","","","","","","","","",""]
[null,null,null,null,null,null,"","","","","","","","","","","",""]
[null,null,null,null,null,null,"","","","","","","","","","","",""]
[null,null,null,null,null,null,"","","","","","","","","","","",""]
[null,null,null,null,null,null,"","","","","","","","","","","",""]
[null,null,null,null,null,null,"","","","","","","","","","","",""]
[null,null,null,null,null,null,"","","","","","","","","","","",""]
[null,null,null,null,null,null,"","","","","","","","","","","",""]
[null,null,null,null,null,null,"","","","","","","","","","","",""]
[null,null,null,null,null,null,"","","","","","","","","","","",""]
[null,null,null,null,null,null,"","","","","","","","","","","",""]
[null,null,null,null,null,null,"","","","","","","","","","","",""]
[null,null,null,null,null,null,"","","","","","","","","","","",""]
[null,null,null,null,null,null,"","","","","","","","","","","",""]
[null,null,null,null,null,null,"","","","","","","","","","","",""]
[null,null,null,null,null,null,"","","","","","","","","","","",""]
[null,null,null,null,null,null,"","","","","","","","","","","",""]
[null,null,null,null,null,null,"","","","","","","","","","","",""]
[null,null,null,null,null,null,"","","","","","","","","","","",""]
[null,null,null,null,null,null,"","","","","","","","","","","",""]
[null,null,null,null,null,null,"","","","","","","","","","","",""]
[null,null,null,null,null,null,"","","","","","","","","","","",""]
[null,null,null,null,null,null,"","","","","","","","","","","",""]
[null,null,null,null,null,null,"","","","","","","","","","","",""]
[null,null,null,null,null,null,"","","","","","","","","","","",""]
[null,null,null,null,null,null,"","","","","","","","","","","",""]
[null,null,null,null,null,null,"","","","","","","","","","","",""]
[null,null,null,null,null,null,"","","","","","","","","","","",""]
[null,null,null,null,null,null,"","","","","","","","","","","",""]
[null,null,null,null,null,null,"","","","","","","","","","","",""]
[null,null,null,null,null,null,"","","","","","","","","","","",""]
[null,null,null,null,null,null,{"$f":"IF(A66=\"\",\"\",IF($A$1=C66,IF(E66>F66,\"В\",IF(E66=F66,\"Н\",\"П\")),IF(E66<F66,\"В\",IF(E66=F66,\"Н\",\"П\"))))","v":""},"","","","","","","","","","",""]
[null,null,null,null,null,null,"","","","","","","","","","","",""]
[null,null,null,null,null,null,"",{"$f":"IF(A68=\"\",\"\",IF($A$1=C68,E68+H67,F68+H67))","v":""},{"$f":"IF(A68=\"\",\"\",IF($A$1=C68,F68+I67,E68+I67))","v":""},"","","","","","","","",""]
[null,null,null,null,null,null,"","","","","","","","","","","",""]
[null,null,null,null,null,null,"","","","","","","","","","","",""]
[null,null,null,null,null,null,"","","",{"$f":"IF(A71=\"\",\"\",IF(G71=\"В\",1+J70,0+J70))","v":""},{"$f":"IF(A71=\"\",\"\",IF(G71=\"Н\",1+K70,0+K70))","v":""},{"$f":"IF(A71=\"\",\"\",IF(G71=\"П\",1+L70,0+L70))","v":""},{"$f":"IF(A71=\"\",\"\",IF($B$1=D71,IF(F71>E71,\"В\",IF(F71=E71,\"Н\",\"П\")),IF(F71<E71,\"В\",IF(F71=E71,\"Н\",\"П\"))))","v":""},{"$f":"IF(A71=\"\",\"\",IF($B$1=D71,F71+N70,E71+N70))","v":""},{"$f":"IF(A71=\"\",\"\",IF($B$1=D71,E71+O70,F71+O70))","v":""},{"$f":"IF(A71=\"\",\"\",IF(M71=\"В\",1+P70,0+P70))","v":""},{"$f":"IF(A71=\"\",\"\",IF(M71=\"Н\",1+Q70,0+Q70))","v":""},{"$f":"IF(A71=\"\",\"\",IF(M71=\"П\",1+R70,0+R70))","v":""}]
[null,null,null,null,null,null,"","","","","","","","","","","",""]
[null,null,null,null,null,null,"","","","","","","","","","","",""]
[null,null,null,null,null,null,"","","","","","","","","","","",""]
[null,null,null,null,null,null,"","","","","","","","","","","",""]
[null,null,null,null,null,null,"","","","","","","","","","","",""]
[null,null,null,null,null,null,"","","","","","","","","","","",""]
[null,null,null,null,null,null,"","","","","","","","","","","",""]
[null,null,null,null,null,null,"","","","","","","","","","","",""]
[null,null,null,null,null,null,"","","","","","","","","","","",""]
[null,null,null,null,null,null,"","","","","","","","","","","",""]
[null,null,null,null,null,null,"","","","","","","","","","","",""]
[null,null,null,null,null,null,"","","","","","","","","","","",""]
[null,null,null,null,null,null,"","","","","","","","","","","",""]
[null,null,null,null,null,null,"","","","","","","","","","","",""]
[null,null,null,null,null,null,"","","","","","","","","","","",""]
[null,null,null,null,null,null,"","","","","","","","","","","",""]
[null,null,null,null,null,null,"","","","","","","","","","","",""]
[null,null,null,null,null,null,"","","","","","","","","","","",""]
[null,null,null,null,null,null,"","","","","","","","","","","",""]
[null,null,null,null,null,null,"","","","","","","","","","","",""]
[null,null,null,null,null,null,"","","","","","","","","","","",""]
[null,null,null,null,null,null,"","","","","","","","","","","",""]
[null,null,null,null,null,null,"","","","","","","","","","","",""]
[null,null,null,null,null,null,"","","","","","","","","","","",""]
[null,null,null,null,null,null,"","","","","","","","","","","",""]
[null,null,null,null,null,null,"","","","","","","","","","","",""]
[null,null,null,null,null,null,{"$f":"IF(A98=\"\",\"\",IF($A$1=C98,IF(E98>F98,\"В\",IF(E98=F98,\"Н\",\"П\")),IF(E98<F98,\"В\",IF(E98=F98,\"Н\",\"П\"))))","v":""},"","","","","","","","","","",""]
[null,null,null,null,null,null,"","","","","","","","","","","",""]
[null,null,null,null,null,null,"","","","","","","","","","","",""]
[null,null,null,null,null,null,"","","","","","","","","","","",""]
[null,null,null,null,null,null,"","","","","","","","","","","",""]
[null,null,null,null,null,null,"","","","","","","","","","","",""]
[null,null,null,null,null,null,"","","","","","","","","","","",""]
[null,null,null,null,null,null,"","","","","","","","","","","",""]
[null,null,null,null,null,null,"","","","","","","","","","","",""]
[null,null,null,null,null,null,"","","","","","","","","","","",""]
[null,null,null,null,null,null,"","","","","","","","","","","",""]
[null,null,null,null,null,null,"","","","","","","","","","","",""]
[null,null,null,null,null,null,"","","","","","","","","","","",""]
[null,null,null,null,null,null,"","","","","","","","","","","",""]
[null,null,null,null,null,null,"","","","","","","","","","","",""]
[null,null,null,null,null,null,"","","","","","","","","","","",""]
[null,null,null,null,null,null,"","","","","","","","","","","",""]
[null,null,null,null,null,null,"","","","","","","","","","","",""]
[null,null,null,null,null,null,"","","","","","","","","","","",""]
[null,null,null,null,null,null,"","","","","","","","","","","",""]
[null,null,null,null,null,null,"","","","","","","","","","","",""]
[null,null,null,null,null,null,"","","","","","","","","","","",""]
[null,null,null,null,null,null,"","","","","","","","","","","",""]
[null,null,null,null,null,null,"","","","","","","","","","","",""]
[null,null,null,null,null,null,"","","","","","","","","","","",""]
[null,null,null,null,null,null,"","","","","","","","","","","",""]
[null,null,null,null,null,null,"","","","","","","","","","","",""]
[null,null,null,null,null,null,"","","","","","","","","","","",""]
[null,null,null,null,null,null,"","","","","","","","","","","",""]
[null,null,null,null,null,null,"","","","","","","","","","","",""]
[null,null,null,null,null,null,"","","","","","","","","","","",""]
[null,null,null,null,null,null,"","","","","","","","","","","",""]
[null,null,null,null,null,null,{"$f":"IF(A130=\"\",\"\",IF($A$1=C130,IF(E130>F130,\"В\",IF(E130=F130,\"Н\",\"П\")),IF(E130<F130,\"В\",IF(E130=F130,\"Н\",\"П\"))))","v":""},"","","","","","","","","","",""]
[null,null,null,null,null,null,"","","","","","","","","","","",""]
[null,null,null,null,null,null,"",{"$f":"IF(A132=\"\",\"\",IF($A$1=C132,E132+H131,F132+H131))","v":""},{"$f":"IF(A132=\"\",\"\",IF($A$1=C132,F132+I131,E132+I131))","v":""},"","","","","","","","",""]
[null,null,null,null,null,null,"","","","","","","","","","","",""]
[null,null,null,null,null,null,"","","","","","","","","","","",""]
[null,null,null,null,null,null,"","","",{"$f":"IF(A135=\"\",\"\",IF(G135=\"В\",1+J134,0+J134))","v":""},{"$f":"IF(A135=\"\",\"\",IF(G135=\"Н\",1+K134,0+K134))","v":""},{"$f":"IF(A135=\"\",\"\",IF(G135=\"П\",1+L134,0+L134))","v":""},{"$f":"IF(A135=\"\",\"\",IF($B$1=D135,IF(F135>E135,\"В\",IF(F135=E135,\"Н\",\"П\")),IF(F135<E135,\"В\",IF(F135=E135,\"Н\",\"П\"))))","v":""},{"$f":"IF(A135=\"\",\"\",IF($B$1=D135,F135+N134,E135+N134))","v":""},{"$f":"IF(A135=\"\",\"\",IF($B$1=D135,E135+O134,F135+O134))","v":""},{"$f":"IF(A135=\"\",\"\",IF(M135=\"В\",1+P134,0+P134))","v":""},{"$f":"IF(A135=\"\",\"\",IF(M135=\"Н\",1+Q134,0+Q134))","v":""},{"$f":"IF(A135=\"\",\"\",IF(M135=\"П\",1+R134,0+R134))","v":""}]
[null,null,null,null,null,null,"","","","","","","","","","","",""]
[null,null,null,null,null,null,"","","","","","","","","","","",""]
[null,null,null,null,null,null,"","","","","","","","","","","",""]
[null,null,null,null,null,null,"","","","","","","","","","","",""]
[null,null,null,null,null,null,"","","","","","","","","","","",""]
[null,null,null,null,null,null,"","","","","","","","","","","",""]
[null,null,null,null,null,null,"","","","","","","","","","","",""]
[null,null,null,null,null,null,"","","","","","","","","","","",""]
[null,null,null,null,null,null,"","","","","","","","","","","",""]
[null,null,null,null,null,null,"","","","","","","","","","","",""]
[null,null,null,null,null,null,"","","","","","","","","","","",""]
[null,null,null,null,null,null,"","","","","","","","","","","",""]
[null,null,null,null,null,null,"","","","","","","","","","","",""]
[null,null,null,null,null,null,"","","","","","","","","","","",""]
[null,null,null,null,null,null,"","","","","","","","","","","",""]

{"sheet":"ДомаГости","index":18,"n_rows":150,"n_cols":35,"rows_kept":150,"cut":false,"hidden":true,"merged":[]}
["Чемпионат","Дата/Время","Дома","Гости","К1 в 1Т","К2 в 1Т","К1 во 2Т","К2 во 2Т","Где играли","К1 Голов","К2 Голов","Забито","Пропущено","Результат","Всего Игр","Всего выиграно","Всего ничьих","Всего проиграно","Всего забито","Всего пропущено","Всего очков","Дома игр","Дома выиграно","Дома ничьих","Дома проиграно","Дома забито","Дома пропущено","Дома очков","Гости игр","Гости выиграно","Гости ничьих","Гости проиграно","Гости забито","Гости пропущено","Гости очков"]
["ENGLAND: Professional Development League","2021.03.22 22:00","Birmingham U23","Cardiff U23",1,0,1,1,"Гости",{"$f":"IF(I2=\"\",\"\",E2+G2)","v":2},{"$f":"IF(I2=\"\",\"\",F2+H2)","v":1},{"$f":"IF(I2=\"\",\"\",IF(I2=\"Дома\",J2,K2))","v":1},{"$f":"IF(I2=\"\",\"\",IF(I2=\"Дома\",K2,J2))","v":2},{"$f":"IF(I2=\"\",\"\",IF(I2=\"Дома\",IF(J2>K2,\"В\",IF(J2=K2,\"Н\",\"П\")),IF(J2<K2,\"В\",IF(J2=K2,\"Н\",\"П\"))))","v":"П"},{"$f":"IF(I2=\"\",\"\",1)","v":1},{"$f":"IF(I2=\"\",\"\",IF(N2=\"В\",1,0))","v":0},{"$f":"IF(I2=\"\",\"\",IF(N2=\"Н\",1,0))","v":0},{"$f":"IF(I2=\"\",\"\",IF(N2=\"П\",1,0))","v":1},{"$f":"IF(I2=\"\",\"\",L2)","v":1},{"$f":"IF(I2=\"\",\"\",M2)","v":2},{"$f":"IF(I2=\"\",\"\",P2*3+Q2)","v":0},{"$f":"IF(I2=\"\",\"\",IF(I2=\"Дома\",1,0))","v":0},{"$f":"IF(I2=\"\",\"\",IF(I2=\"Дома\",IF(N2=\"В\",1,0),0))","v":0},{"$f":"IF(I2=\"\",\"\",IF(I2=\"Дома\",IF(N2=\"Н\",1,0),0))","v":0},{"$f":"IF(I2=\"\",\"\",IF(I2=\"Дома\",IF(N2=\"П\",1,0),0))","v":0},{"$f":"IF(I2=\"\",\"\",IF(I2=\"Дома\",L2,0))","v":0},{"$f":"IF(I2=\"\",\"\",IF(I2=\"Дома\",M2,0))","v":0},{"$f":"IF(I2=\"\",\"\",IF(I2=\"Дома\",W2*3+X2,0))","v":0},{"$f":"IF(I2=\"\",\"\",IF(I2=\"Гости\",1,0))","v":1},{"$f":"IF(I2=\"\",\"\",IF(I2=\"Гости\",IF(N2=\"В\",1,0),0))","v":0},{"$f":"IF(I2=\"\",\"\",IF(I2=\"Гости\",IF(N2=\"Н\",1,0),0))","v":0},{"$f":"IF(I2=\"\",\"\",IF(I2=\"Гости\",IF(N2=\"П\",1,0),0))","v":1},{"$f":"IF(I2=\"\",\"\",IF(I2=\"Гости\",L2,0))","v":1},{"$f":"IF(I2=\"\",\"\",IF(I2=\"Гости\",M2,0))","v":2},{"$f":"IF(I2=\"\",\"\",IF(I2=\"Гости\",AD2*3+AE2,0))","v":0}]
["ENGLAND: Professional Development League","2021.03.16 17:00","QPR U23","Cardiff U23",0,0,1,0,"Гости",{"$f":"IF(I3=\"\",\"\",E3+G3)","v":1},{"$f":"IF(I3=\"\",\"\",F3+H3)","v":0},{"$f":"IF(I3=\"\",\"\",IF(I3=\"Дома\",J3,K3))","v":0},{"$f":"IF(I3=\"\",\"\",IF(I3=\"Дома\",K3,J3))","v":1},{"$f":"IF(I3=\"\",\"\",IF(I3=\"Дома\",IF(J3>K3,\"В\",IF(J3=K3,\"Н\",\"П\")),IF(J3<K3,\"В\",IF(J3=K3,\"Н\",\"П\"))))","v":"П"},{"$f":"IF(I3=\"\",\"\",O2+1)","v":2},{"$f":"IF(I3=\"\",\"\",IF(N3=\"В\",P2+1,P2))","v":0},{"$f":"IF(I3=\"\",\"\",IF(N3=\"Н\",Q2+1,Q2))","v":0},{"$f":"IF(I3=\"\",\"\",IF(N3=\"П\",R2+1,R2))","v":2},{"$f":"IF(I3=\"\",\"\",S2+L3)","v":1},{"$f":"IF(I3=\"\",\"\",T2+M3)","v":3},{"$f":"IF(I3=\"\",\"\",P3*3+Q3)","v":0},{"$f":"IF(I3=\"\",\"\",IF(I3=\"Дома\",V2+1,V2+0))","v":0},{"$f":"IF(I3=\"\",\"\",IF(I3=\"Дома\",IF(N3=\"В\",W2+1,W2),W2))","v":0},{"$f":"IF(I3=\"\",\"\",IF(I3=\"Дома\",IF(N3=\"Н\",X2+1,X2),X2))","v":0},{"$f":"IF(I3=\"\",\"\",IF(I3=\"Дома\",IF(N3=\"П\",Y2+1,Y2),Y2))","v":0},{"$f":"IF(I3=\"\",\"\",IF(I3=\"Дома\",L3+Z2,Z2))","v":0},{"$f":"IF(I3=\"\",\"\",IF(I3=\"Дома\",M3+AA2,AA2))","v":0},{"$f":"IF(I3=\"\",\"\",IF(I3=\"Дома\",W3*3+X3,AB2))","v":0},{"$f":"IF(I3=\"\",\"\",IF(I3=\"Гости\",AC2+1,AC2+0))","v":2},{"$f":"IF(I3=\"\",\"\",IF(I3=\"Гости\",IF(N3=\"В\",AD2+1,AD2),AD2))","v":0},{"$f":"IF(I3=\"\",\"\",IF(I3=\"Гости\",IF(N3=\"Н\",AE2+1,AE2),AE2))","v":0},{"$f":"IF(I3=\"\",\"\",IF(I3=\"Гости\",IF(N3=\"П\",AF2+1,AF2),AF2))","v":2},{"$f":"IF(I3=\"\",\"\",IF(I3=\"Гости\",L3+AG2,AG2))","v":1},{"$f":"IF(I3=\"\",\"\",IF(I3=\"Гости\",M3+AH2,AH2))","v":3},{"$f":"IF(I3=\"\",\"\",IF(I3=\"Гости\",AD3*3+AE3,AI2))","v":0}]
["ENGLAND: Professional Development League","2021.02.23 16:00","Bristol City U23","Cardiff U23",0,3,0,0,"Гости",0,3,3,0,"В",3,{"$f":"IF(I4=\"\",\"\",IF(N4=\"В\",P3+1,P3))","v":1},{"$f":"IF(I4=\"\",\"\",IF(N4=\"Н\",Q3+1,Q3))","v":0},{"$f":"IF(I4=\"\",\"\",IF(N4=\"П\",R3+1,R3))","v":2},{"$f":"IF(I4=\"\",\"\",S3+L4)","v":4},{"$f":"IF(I4=\"\",\"\",T3+M4)","v":3},3,{"$f":"IF(I4=\"\",\"\",IF(I4=\"Дома\",V3+1,V3+0))","v":0},{"$f":"IF(I4=\"\",\"\",IF(I4=\"Дома\",IF(N4=\"В\",W3+1,W3),W3))","v":0},{"$f":"IF(I4=\"\",\"\",IF(I4=\"Дома\",IF(N4=\"Н\",X3+1,X3),X3))","v":0},{"$f":"IF(I4=\"\",\"\",IF(I4=\"Дома\",IF(N4=\"П\",Y3+1,Y3),Y3))","v":0},{"$f":"IF(I4=\"\",\"\",IF(I4=\"Дома\",L4+Z3,Z3))","v":0},{"$f":"IF(I4=\"\",\"\",IF(I4=\"Дома\",M4+AA3,AA3))","v":0},{"$f":"IF(I4=\"\",\"\",IF(I4=\"Дома\",W4*3+X4,AB3))","v":0},{"$f":"IF(I4=\"\",\"\",IF(I4=\"Гости\",AC3+1,AC3+0))","v":3},{"$f":"IF(I4=\"\",\"\",IF(I4=\"Гости\",IF(N4=\"В\",AD3+1,AD3),AD3))","v":1},{"$f":"IF(I4=\"\",\"\",IF(I4=\"Гости\",IF(N4=\"Н\",AE3+1,AE3),AE3))","v":0},{"$f":"IF(I4=\"\",\"\",IF(I4=\"Гости\",IF(N4=\"П\",AF3+1,AF3),AF3))","v":2},{"$f":"IF(I4=\"\",\"\",IF(I4=\"Гости\",L4+AG3,AG3))","v":4},{"$f":"IF(I4=\"\",\"\",IF(I4=\"Гости\",M4+AH3,AH3))","v":3},{"$f":"IF(I4=\"\",\"\",IF(I4=\"Гости\",AD4*3+AE4,AI3))","v":3}]
["ENGLAND: Professional Development League","2021.01.11 16:00","Charlton U23","Cardiff U23",0,0,4,0,"Гости",4,0,0,4,"П",4,1,0,3,4,7,3,0,0,0,0,0,0,0,4,1,0,3,4,7,3]
["ENGLAND: Professional Development League","2020.12.15 16:00","Watford U23","Cardiff U23",2,1,0,1,"Гости",2,2,2,2,"Н",5,1,1,3,6,9,4,0,0,0,0,0,0,0,5,1,1,3,6,9,4]
["ENGLAND: Professional Development League","2020.11.28 14:00","Colchester U23","Cardiff U23",0,0,2,0,"Гости",2,0,0,2,"П",6,1,1,4,6,11,4,0,0,0,0,0,0,0,6,1,1,4,6,11,4]
["ENGLAND: Professional Development League","2020.11.25 14:00","Millwall U23","Cardiff U23",1,0,1,0,"Гости",2,0,0,2,"П",7,1,1,5,6,13,4,0,0,0,0,0,0,0,7,1,1,5,6,13,4]
["ENGLAND: Professional Development League","2020.11.01 16:30","Crewe U23","Cardiff U23",0,0,1,0,"Гости",1,0,0,1,{"$f":"IF(I9=\"\",\"\",IF(I9=\"Дома\",IF(J9>K9,\"В\",IF(J9=K9,\"Н\",\"П\")),IF(J9<K9,\"В\",IF(J9=K9,\"Н\",\"П\"))))","v":"П"},8,1,1,6,6,14,4,0,0,0,0,0,0,0,8,1,1,6,6,14,4]
["ENGLAND: Professional Development League","2020.10.20 16:00","Sheffield Wed U23","Cardiff U23",0,0,1,0,"Гости",1,0,0,1,{"$f":"IF(I10=\"\",\"\",IF(I10=\"Дома\",IF(J10>K10,\"В\",IF(J10=K10,\"Н\",\"П\")),IF(J10<K10,\"В\",IF(J10=K10,\"Н\",\"П\"))))","v":"П"},9,1,1,7,6,15,4,0,0,0,0,0,0,0,9,1,1,7,6,15,4]
["ENGLAND: Professional Development League","2020.10.06 15:00","Ipswich U23","Cardiff U23",1,1,1,0,"Гости",2,1,1,2,"П",10,1,1,8,7,17,4,0,0,0,0,0,0,0,10,1,1,8,7,17,4]
["ENGLAND: Professional Development League","2020.09.14 15:00","Swansea U23","Cardiff U23",3,0,2,1,"Гости",5,1,1,5,"П",11,1,1,9,8,22,{"$f":"IF(I12=\"\",\"\",P12*3+Q12)","v":4},0,0,0,0,0,0,0,11,1,1,9,8,22,4]
["ENGLAND: Professional Development League","2020.03.12 17:00","Charlton U23","Cardiff U23",1,0,1,1,"Гости",2,1,1,2,"П",12,1,1,10,9,24,4,0,0,0,0,0,0,0,12,1,1,10,9,24,4]
["ENGLAND: Professional Development League","2020.02.03 17:00","Millwall U23","Cardiff U23",1,0,2,0,"Гости",3,0,0,3,"П",13,1,1,11,9,27,4,0,0,0,0,0,0,0,13,1,1,11,9,27,4]
["ENGLAND: Professional Development League","2020.01.29 16:00","Crystal Palace U23","Cardiff U23",1,0,1,3,"Гости",2,3,3,2,"В",14,2,1,11,12,29,7,0,0,0,0,0,0,0,14,2,1,11,12,29,7]
["ENGLAND: Professional Development League","2020.01.20 16:00","Coventry U23","Cardiff U23",0,0,1,1,"Гости",1,1,1,1,"Н",15,2,2,11,13,30,8,0,0,0,0,0,0,0,15,2,2,11,13,30,8]
["ENGLAND: Professional Development League","2019.12.16 16:00","QPR U23","Cardiff U23",3,0,1,1,"Гости",4,1,1,4,"П",16,2,2,12,14,34,8,0,0,0,0,0,0,0,16,2,2,12,14,34,8]
["ENGLAND: Professional Development League","2019.12.09 16:00","Watford U23","Cardiff U23",0,1,1,0,"Гости",1,1,1,1,"Н",17,2,3,12,15,35,9,0,0,0,0,0,0,0,17,2,3,12,15,35,9]
["ENGLAND: Professional Development League","2019.11.11 16:00","Bristol City U23","Cardiff U23",2,1,0,1,"Гости",2,2,2,2,"Н",18,2,4,12,17,37,10,0,0,0,0,0,0,0,18,2,4,12,17,37,10]
["ENGLAND: Professional Development League","2019.10.21 15:00","Colchester U23","Cardiff U23",0,0,0,2,"Гости",0,2,2,0,"В",19,3,4,12,19,37,13,0,0,0,0,0,0,0,19,3,4,12,19,37,13]
["ENGLAND: Professional Development League","2019.10.14 15:00","Ipswich U23","Cardiff U23",2,0,1,1,"Гости",3,1,1,3,"П",20,3,4,13,20,40,13,0,0,0,0,0,0,0,20,3,4,13,20,40,13]
[null,null,null,null,null,null,null,null,null,"","","","","","","","","","","","","","","","","","","","","","","","","",""]
[null,null,null,null,null,null,null,null,null,"","","","","","","","","","","","","","","","","","","","","","","","","",""]
[null,null,null,null,null,null,null,null,null,"","","","","","","","","","","","","","","","","","","","","","","","","",""]
[null,null,null,null,null,null,null,null,null,"","","","","","","","","","","","","","","","","","","","","","","","","",""]
[null,null,null,null,null,null,null,null,null,"","","","","","","","","","","","","","","","","","","","","","","","","",""]
[null,null,null,null,null,null,null,null,null,"","","","","","","","","","","","","","","","","","","","","","","","","",""]
[null,null,null,null,null,null,null,null,null,"","","","","","","","","","","","","","","","","","","","","","","","","",""]
[null,null,null,null,null,null,null,null,null,"","","","","","","","","","","","","","","","","","","","","","","","","",""]
[null,null,null,null,null,null,null,null,null,"","","","","","","","","","","","","","","","","","","","","","","","","",""]
[null,null,null,null,null,null,null,null,null,"","","","","","","","","","","","","","","","","","","","","","","","","",""]
[null,null,null,null,null,null,null,null,null,"","","","","","","","","","","","","","","","","","","","","","","","","",""]
[null,null,null,null,null,null,null,null,null,"","","","","","","","","","","","","","","","","","","","","","","","","",""]
[null,null,null,null,null,null,null,null,null,"","","","","","","","","","","","","","","","","","","","","","","","","",""]
[null,null,null,null,null,null,null,null,null,"","","","","","","","","","","","","","","","","","","","","","","","","",""]
[null,null,null,null,null,null,null,null,null,"","","","","","","","","","","","","","","","","","","","","","","","","",""]
[null,null,null,null,null,null,null,null,null,"","","","","","","","","","","","","","","","","","","","","","","","","",""]
[null,null,null,null,null,null,null,null,null,"","","","","","","","","","","","","","","","","","","","","","","","","",""]
[null,null,null,null,null,null,null,null,null,"","","","","","","","","","","","","","","","","","","","","","","","","",""]
[null,null,null,null,null,null,null,null,null,"","","","","","","","","","","","","","","","","","","","","","","","","",""]
[null,null,null,null,null,null,null,null,null,"","","","","","","","","","","","","","","","","","","","","","","","","",""]
[null,null,null,null,null,null,null,null,null,"","","","","","","","","","","","","","","","","","","","","","","","","",""]
[null,null,null,null,null,null,null,null,null,"","","","","","","","","","","","","","","","","","","","","","","","","",""]
[null,null,null,null,null,null,null,null,null,"","","","","","","","","","","","","","","","","","","","","","","","","",""]
[null,null,null,null,null,null,null,null,null,"","","","","","","","","","","","","","","","","","","","","","","","","",""]
[null,null,null,null,null,null,null,null,null,"","","","","","","","","","","","","","","","","","","","","","","","","",""]
[null,null,null,null,null,null,null,null,null,"","","","","","","","","","","","","","","","","","","","","","","","","",""]
[null,null,null,null,null,null,null,null,null,"","","","","","","","","","","","","","","","","","","","","","","","","",""]
[null,null,null,null,null,null,null,null,null,"","","","","","","","","","","","","","","","","","","","","","","","","",""]
[null,null,null,null,null,null,null,null,null,"","","","","","","","","","","","","","","","","","","","","","","","","",""]
[null,null,null,null,null,null,null,null,null,"","","","","","","","","","","","","","","","","","","","","","","","","",""]
[null,null,null,null,null,null,null,null,null,"","","","","","","","","","","","","","","","","","","","","","","","","",""]
[null,null,null,null,null,null,null,null,null,"","","","","","","","","","","","","","","","","","","","","","","","","",""]
[null,null,null,null,null,null,null,null,null,"","","","","","","","","","","","","","","","","","","","","","","","","",""]
[null,null,null,null,null,null,null,null,null,"","","","","","","","","","","","","","","","","","","","","","","","","",""]
[null,null,null,null,null,null,null,null,null,"","","","","","","","","","","","","","","","","","","","","","","","","",""]
[null,null,null,null,null,null,null,null,null,"","","","","","","","","","","","","","","","","","","","","","","","","",""]
[null,null,null,null,null,null,null,null,null,"","","","","","","","","","","","","","","","","","","","","","","","","",""]
[null,null,null,null,null,null,null,null,null,"","","","","","","","","","","","","","","","","","","","","","","","","",""]
[null,null,null,null,null,null,null,null,null,"","","","","","","","","","","","","","","","","","","","","","","","","",""]
[null,null,null,null,null,null,null,null,null,"","","","","","","","","","","","","","","","","","","","","","","","","",""]
[null,null,null,null,null,null,null,null,null,"","","","","","","","","","","","","","","","","","","","","","","","","",""]
[null,null,null,null,null,null,null,null,null,"","","","","","","","","","","","","","","","","","","","","","","","","",""]
[null,null,null,null,null,null,null,null,null,"","","","","","","","","","","","","","","","","","","","","","","","","",""]
[null,null,null,null,null,null,null,null,null,"","","","","","","","","","","","","","","","","","","","","","","","","",""]
[null,null,null,null,null,null,null,null,null,"","","","","","","","","","","","","","","","","","","","","","","","","",""]
[null,null,null,null,null,null,null,null,null,{"$f":"IF(I67=\"\",\"\",E67+G67)","v":""},{"$f":"IF(I67=\"\",\"\",F67+H67)","v":""},{"$f":"IF(I67=\"\",\"\",IF(I67=\"Дома\",J67,K67))","v":""},{"$f":"IF(I67=\"\",\"\",IF(I67=\"Дома\",K67,J67))","v":""},"",{"$f":"IF(I67=\"\",\"\",O66+1)","v":""},"","","","","",{"$f":"IF(I67=\"\",\"\",P67*3+Q67)","v":""},"","","","","","","","","","","","","",""]
[null,null,null,null,null,null,null,null,null,"","","","","","",{"$f":"IF(I68=\"\",\"\",IF(N68=\"В\",P67+1,P67))","v":""},{"$f":"IF(I68=\"\",\"\",IF(N68=\"Н\",Q67+1,Q67))","v":""},{"$f":"IF(I68=\"\",\"\",IF(N68=\"П\",R67+1,R67))","v":""},{"$f":"IF(I68=\"\",\"\",S67+L68)","v":""},{"$f":"IF(I68=\"\",\"\",T67+M68)","v":""},"",{"$f":"IF(I68=\"\",\"\",IF(I68=\"Дома\",V67+1,V67+0))","v":""},{"$f":"IF(I68=\"\",\"\",IF(I68=\"Дома\",IF(N68=\"В\",W67+1,W67),W67))","v":""},{"$f":"IF(I68=\"\",\"\",IF(I68=\"Дома\",IF(N68=\"Н\",X67+1,X67),X67))","v":""},{"$f":"IF(I68=\"\",\"\",IF(I68=\"Дома\",IF(N68=\"П\",Y67+1,Y67),Y67))","v":""},{"$f":"IF(I68=\"\",\"\",IF(I68=\"Дома\",L68+Z67,Z67))","v":""},{"$f":"IF(I68=\"\",\"\",IF(I68=\"Дома\",M68+AA67,AA67))","v":""},{"$f":"IF(I68=\"\",\"\",IF(I68=\"Дома\",W68*3+X68,AB67))","v":""},{"$f":"IF(I68=\"\",\"\",IF(I68=\"Гости\",AC67+1,AC67+0))","v":""},{"$f":"IF(I68=\"\",\"\",IF(I68=\"Гости\",IF(N68=\"В\",AD67+1,AD67),AD67))","v":""},{"$f":"IF(I68=\"\",\"\",IF(I68=\"Гости\",IF(N68=\"Н\",AE67+1,AE67),AE67))","v":""},{"$f":"IF(I68=\"\",\"\",IF(I68=\"Гости\",IF(N68=\"П\",AF67+1,AF67),AF67))","v":""},{"$f":"IF(I68=\"\",\"\",IF(I68=\"Гости\",L68+AG67,AG67))","v":""},{"$f":"IF(I68=\"\",\"\",IF(I68=\"Гости\",M68+AH67,AH67))","v":""},{"$f":"IF(I68=\"\",\"\",IF(I68=\"Гости\",AD68*3+AE68,AI67))","v":""}]
[null,null,null,null,null,null,null,null,null,"","","","","","","","","","","","","","","","","","","","","","","","","",""]
[null,null,null,null,null,null,null,null,null,"","","","","","","","","","","","","","","","","","","","","","","","","",""]
[null,null,null,null,null,null,null,null,null,"","","","","","","","","","","","","","","","","","","","","","","","","",""]
[null,null,null,null,null,null,null,null,null,"","","","","","","","","","","","","","","","","","","","","","","","","",""]
[null,null,null,null,null,null,null,null,null,"","","","","","","","","","","","","","","","","","","","","","","","","",""]
[null,null,null,null,null,null,null,null,null,"","","","",{"$f":"IF(I74=\"\",\"\",IF(I74=\"Дома\",IF(J74>K74,\"В\",IF(J74=K74,\"Н\",\"П\")),IF(J74<K74,\"В\",IF(J74=K74,\"Н\",\"П\"))))","v":""},"","","","","","","","","","","","","","","","","","","","",""]
[null,null,null,null,null,null,null,null,null,"","","","","","","","","","","","","","","","","","","","","","","","","",""]
[null,null,null,null,null,null,null,null,null,"","","","","","","","","","","","","","","","","","","","","","","","","",""]
[null,null,null,null,null,null,null,null,null,"","","","","","","","","","","","","","","","","","","","","","","","","",""]
[null,null,null,null,null,null,null,null,null,"","","","","","","","","","","","","","","","","","","","","","","","","",""]
[null,null,null,null,null,null,null,null,null,"","","","","","","","","","","","","","","","","","","","","","","","","",""]
[null,null,null,null,null,null,null,null,null,"","","","","","","","","","","","","","","","","","","","","","","","","",""]
[null,null,null,null,null,null,null,null,null,"","","","","","","","","","","","","","","","","","","","","","","","","",""]
[null,null,null,null,null,null,null,null,null,"","","","","","","","","","","","","","","","","","","","","","","","","",""]
[null,null,null,null,null,null,null,null,null,"","","","","","","","","","","","","","","","","","","","","","","","","",""]
[null,null,null,null,null,null,null,null,null,"","","","","","","","","","","","","","","","","","","","","","","","","",""]
[null,null,null,null,null,null,null,null,null,"","","","","","","","","","","","","","","","","","","","","","","","","",""]
[null,null,null,null,null,null,null,null,null,"","","","","","","","","","","","","","","","","","","","","","","","","",""]
[null,null,null,null,null,null,null,null,null,"","","","","","","","","","","","","","","","","","","","","","","","","",""]
[null,null,null,null,null,null,null,null,null,"","","","","","","","","","","","","","","","","","","","","","","","","",""]
[null,null,null,null,null,null,null,null,null,"","","","","","","","","","","","","","","","","","","","","","","","","",""]
[null,null,null,null,null,null,null,null,null,"","","","","","","","","","","","","","","","","","","","","","","","","",""]
[null,null,null,null,null,null,null,null,null,"","","","","","","","","","","","","","","","","","","","","","","","","",""]
[null,null,null,null,null,null,null,null,null,"","","","","","","","","","","","","","","","","","","","","","","","","",""]
[null,null,null,null,null,null,null,null,null,"","","","","","","","","","","","","","","","","","","","","","","","","",""]
[null,null,null,null,null,null,null,null,null,"","","","","","","","","","","","","","","","","","","","","","","","","",""]
[null,null,null,null,null,null,null,null,null,"","","","","","","","","","","","","","","","","","","","","","","","","",""]
[null,null,null,null,null,null,null,null,null,"","","","","","","","","","","","","","","","","","","","","","","","","",""]
[null,null,null,null,null,null,null,null,null,"","","","","","","","","","","","","","","","","","","","","","","","","",""]
[null,null,null,null,null,null,null,null,null,"","","","","","","","","","","","","","","","","","","","","","","","","",""]
[null,null,null,null,null,null,null,null,null,"","","","","","","","","","","","","","","","","","","","","","","","","",""]
[null,null,null,null,null,null,null,null,null,"","","","","","","","","","","","","","","","","","","","","","","","","",""]
[null,null,null,null,null,null,null,null,null,"","","","","","","","","","","","","","","","","","","","","","","","","",""]
[null,null,null,null,null,null,null,null,null,"","","","","","","","","","","","","","","","","","","","","","","","","",""]
[null,null,null,null,null,null,null,null,null,"","","","","","","","","","","","","","","","","","","","","","","","","",""]
[null,null,null,null,null,null,null,null,null,"","","","","","","","","","","","","","","","","","","","","","","","","",""]
[null,null,null,null,null,null,null,null,null,"","","","","","","","","","","","","","","","","","","","","","","","","",""]
[null,null,null,null,null,null,null,null,null,"","","","","","","","","","","","","","","","","","","","","","","","","",""]
[null,null,null,null,null,null,null,null,null,"","","","","","","","","","","","","","","","","","","","","","","","","",""]
[null,null,null,null,null,null,null,null,null,"","","","","","","","","","","","","","","","","","","","","","","","","",""]
[null,null,null,null,null,null,null,null,null,"","","","","","","","","","","","","","","","","","","","","","","","","",""]
[null,null,null,null,null,null,null,null,null,"","","","","","","","","","","","","","","","","","","","","","","","","",""]
[null,null,null,null,null,null,null,null,null,"","","","","","","","","","","","","","","","","","","","","","","","","",""]
[null,null,null,null,null,null,null,null,null,"","","","","","","","","","","","","","","","","","","","","","","","","",""]
[null,null,null,null,null,null,null,null,null,"","","","","","","","","","","","","","","","","","","","","","","","","",""]
[null,null,null,null,null,null,null,null,null,"","","","","","","","","","","","","","","","","","","","","","","","","",""]
[null,null,null,null,null,null,null,null,null,"","","","","","","","","","","","","","","","","","","","","","","","","",""]
[null,null,null,null,null,null,null,null,null,"","","","","","","","","","","","","","","","","","","","","","","","","",""]
[null,null,null,null,null,null,null,null,null,"","","","","","","","","","","","","","","","","","","","","","","","","",""]
[null,null,null,null,null,null,null,null,null,"","","","","","","","","","","","","","","","","","","","","","","","","",""]
[null,null,null,null,null,null,null,null,null,"","","","","","","","","","","","","","","","","","","","","","","","","",""]
[null,null,null,null,null,null,null,null,null,"","","","","","","","","","","","","","","","","","","","","","","","","",""]
[null,null,null,null,null,null,null,null,null,"","","","","","","","","","","","","","","","","","","","","","","","","",""]
[null,null,null,null,null,null,null,null,null,"","","","","","","","","","","","","","","","","","","","","","","","","",""]
[null,null,null,null,null,null,null,null,null,"","","","","","","","","","","","","","","","","","","","","","","","","",""]
[null,null,null,null,null,null,null,null,null,"","","","","","","","","","","","","","","","","","","","","","","","","",""]
[null,null,null,null,null,null,null,null,null,"","","","","","","","","","","","","","","","","","","","","","","","","",""]
[null,null,null,null,null,null,null,null,null,"","","","","","","","","","","","","","","","","","","","","","","","","",""]
[null,null,null,null,null,null,null,null,null,"","","","","","","","","","","","","","","","","","","","","","","","","",""]
[null,null,null,null,null,null,null,null,null,"","","","","","","","","","","","","","","","","","","","","","","","","",""]
[null,null,null,null,null,null,null,null,null,"","","","","","","","","","","","","","","","","","","","","","","","","",""]
[null,null,null,null,null,null,null,null,null,"","","","","","","","","","","","","","","","","","","","","","","","","",""]
[null,null,null,null,null,null,null,null,null,{"$f":"IF(I131=\"\",\"\",E131+G131)","v":""},{"$f":"IF(I131=\"\",\"\",F131+H131)","v":""},{"$f":"IF(I131=\"\",\"\",IF(I131=\"Дома\",J131,K131))","v":""},{"$f":"IF(I131=\"\",\"\",IF(I131=\"Дома\",K131,J131))","v":""},"",{"$f":"IF(I131=\"\",\"\",O130+1)","v":""},"","","","","",{"$f":"IF(I131=\"\",\"\",P131*3+Q131)","v":""},"","","","","","","","","","","","","",""]
[null,null,null,null,null,null,null,null,null,"","","","","","",{"$f":"IF(I132=\"\",\"\",IF(N132=\"В\",P131+1,P131))","v":""},{"$f":"IF(I132=\"\",\"\",IF(N132=\"Н\",Q131+1,Q131))","v":""},{"$f":"IF(I132=\"\",\"\",IF(N132=\"П\",R131+1,R131))","v":""},{"$f":"IF(I132=\"\",\"\",S131+L132)","v":""},{"$f":"IF(I132=\"\",\"\",T131+M132)","v":""},"",{"$f":"IF(I132=\"\",\"\",IF(I132=\"Дома\",V131+1,V131+0))","v":""},{"$f":"IF(I132=\"\",\"\",IF(I132=\"Дома\",IF(N132=\"В\",W131+1,W131),W131))","v":""},{"$f":"IF(I132=\"\",\"\",IF(I132=\"Дома\",IF(N132=\"Н\",X131+1,X131),X131))","v":""},{"$f":"IF(I132=\"\",\"\",IF(I132=\"Дома\",IF(N132=\"П\",Y131+1,Y131),Y131))","v":""},{"$f":"IF(I132=\"\",\"\",IF(I132=\"Дома\",L132+Z131,Z131))","v":""},{"$f":"IF(I132=\"\",\"\",IF(I132=\"Дома\",M132+AA131,AA131))","v":""},{"$f":"IF(I132=\"\",\"\",IF(I132=\"Дома\",W132*3+X132,AB131))","v":""},{"$f":"IF(I132=\"\",\"\",IF(I132=\"Гости\",AC131+1,AC131+0))","v":""},{"$f":"IF(I132=\"\",\"\",IF(I132=\"Гости\",IF(N132=\"В\",AD131+1,AD131),AD131))","v":""},{"$f":"IF(I132=\"\",\"\",IF(I132=\"Гости\",IF(N132=\"Н\",AE131+1,AE131),AE131))","v":""},{"$f":"IF(I132=\"\",\"\",IF(I132=\"Гости\",IF(N132=\"П\",AF131+1,AF131),AF131))","v":""},{"$f":"IF(I132=\"\",\"\",IF(I132=\"Гости\",L132+AG131,AG131))","v":""},{"$f":"IF(I132=\"\",\"\",IF(I132=\"Гости\",M132+AH131,AH131))","v":""},{"$f":"IF(I132=\"\",\"\",IF(I132=\"Гости\",AD132*3+AE132,AI131))","v":""}]
[null,null,null,null,null,null,null,null,null,"","","","","","","","","","","","","","","","","","","","","","","","","",""]
[null,null,null,null,null,null,null,null,null,"","","","","","","","","","","","","","","","","","","","","","","","","",""]
[null,null,null,null,null,null,null,null,null,"","","","","","","","","","","","","","","","","","","","","","","","","",""]
[null,null,null,null,null,null,null,null,null,"","","","","","","","","","","","","","","","","","","","","","","","","",""]
[null,null,null,null,null,null,null,null,null,"","","","","","","","","","","","","","","","","","","","","","","","","",""]
[null,null,null,null,null,null,null,null,null,"","","","",{"$f":"IF(I138=\"\",\"\",IF(I138=\"Дома\",IF(J138>K138,\"В\",IF(J138=K138,\"Н\",\"П\")),IF(J138<K138,\"В\",IF(J138=K138,\"Н\",\"П\"))))","v":""},"","","","","","","","","","","","","","","","","","","","",""]
[null,null,null,null,null,null,null,null,null,"","","","","","","","","","","","","","","","","","","","","","","","","",""]
[null,null,null,null,null,null,null,null,null,"","","","","","","","","","","","","","","","","","","","","","","","","",""]
[null,null,null,null,null,null,null,null,null,"","","","","","","","","","","","","","","","","","","","","","","","","",""]
[null,null,null,null,null,null,null,null,null,"","","","","","","","","","","","","","","","","","","","","","","","","",""]
[null,null,null,null,null,null,null,null,null,"","","","","","","","","","","","","","","","","","","","","","","","","",""]
[null,null,null,null,null,null,null,null,null,"","","","","","","","","","","","","","","","","","","","","","","","","",""]
[null,null,null,null,null,null,null,null,null,"","","","","","","","","","","","","","","","","","","","","","","","","",""]
[null,null,null,null,null,null,null,null,null,"","","","","","","","","","","","","","","","","","","","","","","","","",""]
[null,null,null,null,null,null,null,null,null,"","","","","","","","","","","","","","","","","","","","","","","","","",""]
[null,null,null,null,null,null,null,null,null,"","","","","","","","","","","","","","","","","","","","","","","","","",""]
[null,null,null,null,null,null,null,null,null,"","","","","","","","","","","","","","","","","","","","","","","","","",""]
[null,null,null,null,null,null,null,null,null,"","","","","","","","","","","","","","","","","","","","","","","","","",""]

{"sheet":"ГостиДома","index":19,"n_rows":150,"n_cols":35,"rows_kept":150,"cut":false,"hidden":true,"merged":[]}
["Чемпионат","Дата/Время","Дома","Гости","К1 в 1Т","К2 в 1Т","К1 во 2Т","К2 во 2Т","Где играли","К1 Голов","К2 Голов","Забито","Пропущено","Результат","Всего Игр","Всего выиграно","Всего ничьих","Всего проиграно","Всего забито","Всего пропущено","Всего очков","Дома игр","Дома выиграно","Дома ничьих","Дома проиграно","Дома забито","Дома пропущено","Дома очков","Гости игр","Гости выиграно","Гости ничьих","Гости проиграно","Гости забито","Гости пропущено","Гости очков"]
["ENGLAND: Professional Development League","2021.03.22 16:00","Sheffield Utd U23","QPR U23",2,0,2,0,"Дома",{"$f":"IF(I2=\"\",\"\",E2+G2)","v":4},{"$f":"IF(I2=\"\",\"\",F2+H2)","v":0},{"$f":"IF(I2=\"\",\"\",IF(I2=\"Дома\",J2,K2))","v":4},{"$f":"IF(I2=\"\",\"\",IF(I2=\"Дома\",K2,J2))","v":0},{"$f":"IF(I2=\"\",\"\",IF(I2=\"Дома\",IF(J2>K2,\"В\",IF(J2=K2,\"Н\",\"П\")),IF(J2<K2,\"В\",IF(J2=K2,\"Н\",\"П\"))))","v":"В"},{"$f":"IF(I2=\"\",\"\",1)","v":1},{"$f":"IF(I2=\"\",\"\",IF(N2=\"В\",1,0))","v":1},{"$f":"IF(I2=\"\",\"\",IF(N2=\"Н\",1,0))","v":0},{"$f":"IF(I2=\"\",\"\",IF(N2=\"П\",1,0))","v":0},{"$f":"IF(I2=\"\",\"\",L2)","v":4},{"$f":"IF(I2=\"\",\"\",M2)","v":0},{"$f":"IF(I2=\"\",\"\",P2*3+Q2)","v":3},{"$f":"IF(I2=\"\",\"\",IF(I2=\"Дома\",1,0))","v":1},{"$f":"IF(I2=\"\",\"\",IF(I2=\"Дома\",IF(N2=\"В\",1,0),0))","v":1},{"$f":"IF(I2=\"\",\"\",IF(I2=\"Дома\",IF(N2=\"Н\",1,0),0))","v":0},{"$f":"IF(I2=\"\",\"\",IF(I2=\"Дома\",IF(N2=\"П\",1,0),0))","v":0},{"$f":"IF(I2=\"\",\"\",IF(I2=\"Дома\",L2,0))","v":4},{"$f":"IF(I2=\"\",\"\",IF(I2=\"Дома\",M2,0))","v":0},{"$f":"IF(I2=\"\",\"\",IF(I2=\"Дома\",W2*3+X2,0))","v":3},{"$f":"IF(I2=\"\",\"\",IF(I2=\"Гости\",1,0))","v":0},{"$f":"IF(I2=\"\",\"\",IF(I2=\"Гости\",IF(N2=\"В\",1,0),0))","v":0},{"$f":"IF(I2=\"\",\"\",IF(I2=\"Гости\",IF(N2=\"Н\",1,0),0))","v":0},{"$f":"IF(I2=\"\",\"\",IF(I2=\"Гости\",IF(N2=\"П\",1,0),0))","v":0},{"$f":"IF(I2=\"\",\"\",IF(I2=\"Гости\",L2,0))","v":0},{"$f":"IF(I2=\"\",\"\",IF(I2=\"Гости\",M2,0))","v":0},{"$f":"IF(I2=\"\",\"\",IF(I2=\"Гости\",AD2*3+AE2,0))","v":0}]
["ENGLAND: Professional Development League","2021.03.12 17:00","Sheffield Utd U23","Birmingham U23",2,0,3,0,"Дома",{"$f":"IF(I3=\"\",\"\",E3+G3)","v":5},{"$f":"IF(I3=\"\",\"\",F3+H3)","v":0},{"$f":"IF(I3=\"\",\"\",IF(I3=\"Дома\",J3,K3))","v":5},{"$f":"IF(I3=\"\",\"\",IF(I3=\"Дома\",K3,J3))","v":0},{"$f":"IF(I3=\"\",\"\",IF(I3=\"Дома\",IF(J3>K3,\"В\",IF(J3=K3,\"Н\",\"П\")),IF(J3<K3,\"В\",IF(J3=K3,\"Н\",\"П\"))))","v":"В"},{"$f":"IF(I3=\"\",\"\",O2+1)","v":2},{"$f":"IF(I3=\"\",\"\",IF(N3=\"В\",P2+1,P2))","v":2},{"$f":"IF(I3=\"\",\"\",IF(N3=\"Н\",Q2+1,Q2))","v":0},{"$f":"IF(I3=\"\",\"\",IF(N3=\"П\",R2+1,R2))","v":0},{"$f":"IF(I3=\"\",\"\",S2+L3)","v":9},{"$f":"IF(I3=\"\",\"\",T2+M3)","v":0},{"$f":"IF(I3=\"\",\"\",P3*3+Q3)","v":6},{"$f":"IF(I3=\"\",\"\",IF(I3=\"Дома\",V2+1,V2+0))","v":2},{"$f":"IF(I3=\"\",\"\",IF(I3=\"Дома\",IF(N3=\"В\",W2+1,W2),W2))","v":2},{"$f":"IF(I3=\"\",\"\",IF(I3=\"Дома\",IF(N3=\"Н\",X2+1,X2),X2))","v":0},{"$f":"IF(I3=\"\",\"\",IF(I3=\"Дома\",IF(N3=\"П\",Y2+1,Y2),Y2))","v":0},{"$f":"IF(I3=\"\",\"\",IF(I3=\"Дома\",L3+Z2,Z2))","v":9},{"$f":"IF(I3=\"\",\"\",IF(I3=\"Дома\",M3+AA2,AA2))","v":0},{"$f":"IF(I3=\"\",\"\",IF(I3=\"Дома\",W3*3+X3,AB2))","v":6},{"$f":"IF(I3=\"\",\"\",IF(I3=\"Гости\",AC2+1,AC2+0))","v":0},{"$f":"IF(I3=\"\",\"\",IF(I3=\"Гости\",IF(N3=\"В\",AD2+1,AD2),AD2))","v":0},{"$f":"IF(I3=\"\",\"\",IF(I3=\"Гости\",IF(N3=\"Н\",AE2+1,AE2),AE2))","v":0},{"$f":"IF(I3=\"\",\"\",IF(I3=\"Гости\",IF(N3=\"П\",AF2+1,AF2),AF2))","v":0},{"$f":"IF(I3=\"\",\"\",IF(I3=\"Гости\",L3+AG2,AG2))","v":0},{"$f":"IF(I3=\"\",\"\",IF(I3=\"Гости\",M3+AH2,AH2))","v":0},{"$f":"IF(I3=\"\",\"\",IF(I3=\"Гости\",AD3*3+AE3,AI2))","v":0}]
["ENGLAND: Professional Development League","2021.03.08 16:00","Sheffield Utd U23","Coventry U23",1,1,2,1,"Дома",3,2,3,2,"В",3,{"$f":"IF(I4=\"\",\"\",IF(N4=\"В\",P3+1,P3))","v":3},{"$f":"IF(I4=\"\",\"\",IF(N4=\"Н\",Q3+1,Q3))","v":0},{"$f":"IF(I4=\"\",\"\",IF(N4=\"П\",R3+1,R3))","v":0},{"$f":"IF(I4=\"\",\"\",S3+L4)","v":12},{"$f":"IF(I4=\"\",\"\",T3+M4)","v":2},9,{"$f":"IF(I4=\"\",\"\",IF(I4=\"Дома\",V3+1,V3+0))","v":3},{"$f":"IF(I4=\"\",\"\",IF(I4=\"Дома\",IF(N4=\"В\",W3+1,W3),W3))","v":3},{"$f":"IF(I4=\"\",\"\",IF(I4=\"Дома\",IF(N4=\"Н\",X3+1,X3),X3))","v":0},{"$f":"IF(I4=\"\",\"\",IF(I4=\"Дома\",IF(N4=\"П\",Y3+1,Y3),Y3))","v":0},{"$f":"IF(I4=\"\",\"\",IF(I4=\"Дома\",L4+Z3,Z3))","v":12},{"$f":"IF(I4=\"\",\"\",IF(I4=\"Дома\",M4+AA3,AA3))","v":2},{"$f":"IF(I4=\"\",\"\",IF(I4=\"Дома\",W4*3+X4,AB3))","v":9},{"$f":"IF(I4=\"\",\"\",IF(I4=\"Гости\",AC3+1,AC3+0))","v":0},{"$f":"IF(I4=\"\",\"\",IF(I4=\"Гости\",IF(N4=\"В\",AD3+1,AD3),AD3))","v":0},{"$f":"IF(I4=\"\",\"\",IF(I4=\"Гости\",IF(N4=\"Н\",AE3+1,AE3),AE3))","v":0},{"$f":"IF(I4=\"\",\"\",IF(I4=\"Гости\",IF(N4=\"П\",AF3+1,AF3),AF3))","v":0},{"$f":"IF(I4=\"\",\"\",IF(I4=\"Гости\",L4+AG3,AG3))","v":0},{"$f":"IF(I4=\"\",\"\",IF(I4=\"Гости\",M4+AH3,AH3))","v":0},{"$f":"IF(I4=\"\",\"\",IF(I4=\"Гости\",AD4*3+AE4,AI3))","v":0}]
["ENGLAND: Professional Development League","2021.03.03 16:00","Sheffield Utd U23","Sheffield Wed U23",1,1,0,0,"Дома",1,1,1,1,"Н",4,3,1,0,13,3,10,4,3,1,0,13,3,10,0,0,0,0,0,0,0]
["ENGLAND: Professional Development League","2021.01.20 17:00","Sheffield Utd U23","Hull U23",3,0,1,2,"Дома",4,2,4,2,"В",5,4,1,0,17,5,13,5,4,1,0,17,5,13,0,0,0,0,0,0,0]
["ENGLAND: Professional Development League","2020.12.02 16:00","Sheffield Utd U23","Crewe U23",1,0,3,0,"Дома",4,0,4,0,"В",6,5,1,0,21,5,16,6,5,1,0,21,5,16,0,0,0,0,0,0,0]
["ENGLAND: Professional Development League","2020.11.02 22:00","Sheffield Utd U23","Ipswich U23",1,1,2,0,"Дома",3,1,3,1,"В",7,6,1,0,24,6,19,7,6,1,0,24,6,19,0,0,0,0,0,0,0]
["ENGLAND: Professional Development League","2020.10.19 15:00","Sheffield Utd U23","Bristol City U23",2,0,2,0,"Дома",4,0,4,0,{"$f":"IF(I9=\"\",\"\",IF(I9=\"Дома\",IF(J9>K9,\"В\",IF(J9=K9,\"Н\",\"П\")),IF(J9<K9,\"В\",IF(J9=K9,\"Н\",\"П\"))))","v":"В"},8,7,1,0,28,6,22,8,7,1,0,28,6,22,0,0,0,0,0,0,0]
["ENGLAND: Professional Development League","2020.09.29 21:00","Sheffield Utd U23","Barnsley U23",0,0,1,1,"Дома",1,1,1,1,{"$f":"IF(I10=\"\",\"\",IF(I10=\"Дома\",IF(J10>K10,\"В\",IF(J10=K10,\"Н\",\"П\")),IF(J10<K10,\"В\",IF(J10=K10,\"Н\",\"П\"))))","v":"Н"},9,7,2,0,29,7,23,9,7,2,0,29,7,23,0,0,0,0,0,0,0]
["ENGLAND: Professional Development League","2020.09.21 21:00","Sheffield Utd U23","Nottingham U23",0,1,2,1,"Дома",2,2,2,2,"Н",10,7,3,0,31,9,24,10,7,3,0,31,9,24,0,0,0,0,0,0,0]
["ENGLAND: Professional Development League","2020.03.02 17:00","Sheffield Utd U23","Bolton U23",1,1,1,0,"Дома",2,1,2,1,"В",11,8,3,0,33,10,{"$f":"IF(I12=\"\",\"\",P12*3+Q12)","v":27},11,8,3,0,33,10,27,0,0,0,0,0,0,0]
["ENGLAND: Professional Development League","2020.02.17 22:00","Sheffield Utd U23","Hull U23",0,3,0,0,"Дома",0,3,0,3,"П",12,8,3,1,33,13,27,12,8,3,1,33,13,27,0,0,0,0,0,0,0]
["ENGLAND: Professional Development League","2020.02.03 22:00","Sheffield Utd U23","Barnsley U23",0,1,1,0,"Дома",1,1,1,1,"Н",13,8,4,1,34,14,28,13,8,4,1,34,14,28,0,0,0,0,0,0,0]
["ENGLAND: Professional Development League","2020.01.20 22:00","Sheffield Utd U23","Crewe U23",1,2,1,1,"Дома",2,3,2,3,"П",14,8,4,2,36,17,28,14,8,4,2,36,17,28,0,0,0,0,0,0,0]
["ENGLAND: Professional Development League","2020.01.06 22:00","Sheffield Utd U23","Birmingham U23",1,0,0,2,"Дома",1,2,1,2,"П",15,8,4,3,37,19,28,15,8,4,3,37,19,28,0,0,0,0,0,0,0]
["ENGLAND: Professional Development League","2019.12.16 22:00","Sheffield Utd U23","Wigan U23",0,1,2,1,"Дома",2,2,2,2,"Н",16,8,5,3,39,21,29,16,8,5,3,39,21,29,0,0,0,0,0,0,0]
["ENGLAND: Professional Development League","2019.11.26 22:00","Sheffield Utd U23","Sheffield Wed U23",0,0,0,1,"Дома",0,1,0,1,"П",17,8,5,4,39,22,29,17,8,5,4,39,22,29,0,0,0,0,0,0,0]
["ENGLAND: Professional Development League","2019.10.14 21:00","Sheffield Utd U23","Nottingham U23",0,0,1,1,"Дома",1,1,1,1,"Н",18,8,6,4,40,23,30,18,8,6,4,40,23,30,0,0,0,0,0,0,0]
["ENGLAND: Professional Development League","2019.10.07 15:00","Cardiff U23","Millwall U23",0,0,2,1,"Дома",2,1,2,1,"В",19,9,6,4,42,24,33,19,9,6,4,42,24,33,0,0,0,0,0,0,0]
["ENGLAND: Professional Development League","2019.09.30 15:00","Sheffield Utd U23","Burnley U23",0,2,0,1,"Дома",0,3,0,3,"П",20,9,6,5,42,27,33,20,9,6,5,42,27,33,0,0,0,0,0,0,0]
[null,null,null,null,null,null,null,null,null,"","","","","","","","","","","","","","","","","","","","","","","","","",""]
[null,null,null,null,null,null,null,null,null,"","","","","","","","","","","","","","","","","","","","","","","","","",""]
[null,null,null,null,null,null,null,null,null,"","","","","","","","","","","","","","","","","","","","","","","","","",""]
[null,null,null,null,null,null,null,null,null,"","","","","","","","","","","","","","","","","","","","","","","","","",""]
[null,null,null,null,null,null,null,null,null,"","","","","","","","","","","","","","","","","","","","","","","","","",""]
[null,null,null,null,null,null,null,null,null,"","","","","","","","","","","","","","","","","","","","","","","","","",""]
[null,null,null,null,null,null,null,null,null,"","","","","","","","","","","","","","","","","","","","","","","","","",""]
[null,null,null,null,null,null,null,null,null,"","","","","","","","","","","","","","","","","","","","","","","","","",""]
[null,null,null,null,null,null,null,null,null,"","","","","","","","","","","","","","","","","","","","","","","","","",""]
[null,null,null,null,null,null,null,null,null,"","","","","","","","","","","","","","","","","","","","","","","","","",""]
[null,null,null,null,null,null,null,null,null,"","","","","","","","","","","","","","","","","","","","","","","","","",""]
[null,null,null,null,null,null,null,null,null,"","","","","","","","","","","","","","","","","","","","","","","","","",""]
[null,null,null,null,null,null,null,null,null,"","","","","","","","","","","","","","","","","","","","","","","","","",""]
[null,null,null,null,null,null,null,null,null,"","","","","","","","","","","","","","","","","","","","","","","","","",""]
[null,null,null,null,null,null,null,null,null,"","","","","","","","","","","","","","","","","","","","","","","","","",""]
[null,null,null,null,null,null,null,null,null,"","","","","","","","","","","","","","","","","","","","","","","","","",""]
[null,null,null,null,null,null,null,null,null,"","","","","","","","","","","","","","","","","","","","","","","","","",""]
[null,null,null,null,null,null,null,null,null,"","","","","","","","","","","","","","","","","","","","","","","","","",""]
[null,null,null,null,null,null,null,null,null,"","","","","","","","","","","","","","","","","","","","","","","","","",""]
[null,null,null,null,null,null,null,null,null,"","","","","","","","","","","","","","","","","","","","","","","","","",""]
[null,null,null,null,null,null,null,null,null,"","","","","","","","","","","","","","","","","","","","","","","","","",""]
[null,null,null,null,null,null,null,null,null,"","","","","","","","","","","","","","","","","","","","","","","","","",""]
[null,null,null,null,null,null,null,null,null,"","","","","","","","","","","","","","","","","","","","","","","","","",""]
[null,null,null,null,null,null,null,null,null,"","","","","","","","","","","","","","","","","","","","","","","","","",""]
[null,null,null,null,null,null,null,null,null,"","","","","","","","","","","","","","","","","","","","","","","","","",""]
[null,null,null,null,null,null,null,null,null,"","","","","","","","","","","","","","","","","","","","","","","","","",""]
[null,null,null,null,null,null,null,null,null,"","","","","","","","","","","","","","","","","","","","","","","","","",""]
[null,null,null,null,null,null,null,null,null,"","","","","","","","","","","","","","","","","","","","","","","","","",""]
[null,null,null,null,null,null,null,null,null,"","","","","","","","","","","","","","","","","","","","","","","","","",""]
[null,null,null,null,null,null,null,null,null,"","","","","","","","","","","","","","","","","","","","","","","","","",""]
[null,null,null,null,null,null,null,null,null,"","","","","","","","","","","","","","","","","","","","","","","","","",""]
[null,null,null,null,null,null,null,null,null,"","","","","","","","","","","","","","","","","","","","","","","","","",""]
[null,null,null,null,null,null,null,null,null,"","","","","","","","","","","","","","","","","","","","","","","","","",""]
[null,null,null,null,null,null,null,null,null,"","","","","","","","","","","","","","","","","","","","","","","","","",""]
[null,null,null,null,null,null,null,null,null,"","","","","","","","","","","","","","","","","","","","","","","","","",""]
[null,null,null,null,null,null,null,null,null,"","","","","","","","","","","","","","","","","","","","","","","","","",""]
[null,null,null,null,null,null,null,null,null,"","","","","","","","","","","","","","","","","","","","","","","","","",""]
[null,null,null,null,null,null,null,null,null,"","","","","","","","","","","","","","","","","","","","","","","","","",""]
[null,null,null,null,null,null,null,null,null,"","","","","","","","","","","","","","","","","","","","","","","","","",""]
[null,null,null,null,null,null,null,null,null,"","","","","","","","","","","","","","","","","","","","","","","","","",""]
[null,null,null,null,null,null,null,null,null,"","","","","","","","","","","","","","","","","","","","","","","","","",""]
[null,null,null,null,null,null,null,null,null,"","","","","","","","","","","","","","","","","","","","","","","","","",""]
[null,null,null,null,null,null,null,null,null,"","","","","","","","","","","","","","","","","","","","","","","","","",""]
[null,null,null,null,null,null,null,null,null,"","","","","","","","","","","","","","","","","","","","","","","","","",""]
[null,null,null,null,null,null,null,null,null,"","","","","","","","","","","","","","","","","","","","","","","","","",""]
[null,null,null,null,null,null,null,null,null,{"$f":"IF(I67=\"\",\"\",E67+G67)","v":""},{"$f":"IF(I67=\"\",\"\",F67+H67)","v":""},{"$f":"IF(I67=\"\",\"\",IF(I67=\"Дома\",J67,K67))","v":""},{"$f":"IF(I67=\"\",\"\",IF(I67=\"Дома\",K67,J67))","v":""},"",{"$f":"IF(I67=\"\",\"\",O66+1)","v":""},"","","","","",{"$f":"IF(I67=\"\",\"\",P67*3+Q67)","v":""},"","","","","","","","","","","","","",""]
[null,null,null,null,null,null,null,null,null,"","","","","","",{"$f":"IF(I68=\"\",\"\",IF(N68=\"В\",P67+1,P67))","v":""},{"$f":"IF(I68=\"\",\"\",IF(N68=\"Н\",Q67+1,Q67))","v":""},{"$f":"IF(I68=\"\",\"\",IF(N68=\"П\",R67+1,R67))","v":""},{"$f":"IF(I68=\"\",\"\",S67+L68)","v":""},{"$f":"IF(I68=\"\",\"\",T67+M68)","v":""},"",{"$f":"IF(I68=\"\",\"\",IF(I68=\"Дома\",V67+1,V67+0))","v":""},{"$f":"IF(I68=\"\",\"\",IF(I68=\"Дома\",IF(N68=\"В\",W67+1,W67),W67))","v":""},{"$f":"IF(I68=\"\",\"\",IF(I68=\"Дома\",IF(N68=\"Н\",X67+1,X67),X67))","v":""},{"$f":"IF(I68=\"\",\"\",IF(I68=\"Дома\",IF(N68=\"П\",Y67+1,Y67),Y67))","v":""},{"$f":"IF(I68=\"\",\"\",IF(I68=\"Дома\",L68+Z67,Z67))","v":""},{"$f":"IF(I68=\"\",\"\",IF(I68=\"Дома\",M68+AA67,AA67))","v":""},{"$f":"IF(I68=\"\",\"\",IF(I68=\"Дома\",W68*3+X68,AB67))","v":""},{"$f":"IF(I68=\"\",\"\",IF(I68=\"Гости\",AC67+1,AC67+0))","v":""},{"$f":"IF(I68=\"\",\"\",IF(I68=\"Гости\",IF(N68=\"В\",AD67+1,AD67),AD67))","v":""},{"$f":"IF(I68=\"\",\"\",IF(I68=\"Гости\",IF(N68=\"Н\",AE67+1,AE67),AE67))","v":""},{"$f":"IF(I68=\"\",\"\",IF(I68=\"Гости\",IF(N68=\"П\",AF67+1,AF67),AF67))","v":""},{"$f":"IF(I68=\"\",\"\",IF(I68=\"Гости\",L68+AG67,AG67))","v":""},{"$f":"IF(I68=\"\",\"\",IF(I68=\"Гости\",M68+AH67,AH67))","v":""},{"$f":"IF(I68=\"\",\"\",IF(I68=\"Гости\",AD68*3+AE68,AI67))","v":""}]
[null,null,null,null,null,null,null,null,null,"","","","","","","","","","","","","","","","","","","","","","","","","",""]
[null,null,null,null,null,null,null,null,null,"","","","","","","","","","","","","","","","","","","","","","","","","",""]
[null,null,null,null,null,null,null,null,null,"","","","","","","","","","","","","","","","","","","","","","","","","",""]
[null,null,null,null,null,null,null,null,null,"","","","","","","","","","","","","","","","","","","","","","","","","",""]
[null,null,null,null,null,null,null,null,null,"","","","","","","","","","","","","","","","","","","","","","","","","",""]
[null,null,null,null,null,null,null,null,null,"","","","",{"$f":"IF(I74=\"\",\"\",IF(I74=\"Дома\",IF(J74>K74,\"В\",IF(J74=K74,\"Н\",\"П\")),IF(J74<K74,\"В\",IF(J74=K74,\"Н\",\"П\"))))","v":""},"","","","","","","","","","","","","","","","","","","","",""]
[null,null,null,null,null,null,null,null,null,"","","","","","","","","","","","","","","","","","","","","","","","","",""]
[null,null,null,null,null,null,null,null,null,"","","","","","","","","","","","","","","","","","","","","","","","","",""]
[null,null,null,null,null,null,null,null,null,"","","","","","","","","","","","","","","","","","","","","","","","","",""]
[null,null,null,null,null,null,null,null,null,"","","","","","","","","","","","","","","","","","","","","","","","","",""]
[null,null,null,null,null,null,null,null,null,"","","","","","","","","","","","","","","","","","","","","","","","","",""]
[null,null,null,null,null,null,null,null,null,"","","","","","","","","","","","","","","","","","","","","","","","","",""]
[null,null,null,null,null,null,null,null,null,"","","","","","","","","","","","","","","","","","","","","","","","","",""]
[null,null,null,null,null,null,null,null,null,"","","","","","","","","","","","","","","","","","","","","","","","","",""]
[null,null,null,null,null,null,null,null,null,"","","","","","","","","","","","","","","","","","","","","","","","","",""]
[null,null,null,null,null,null,null,null,null,"","","","","","","","","","","","","","","","","","","","","","","","","",""]
[null,null,null,null,null,null,null,null,null,"","","","","","","","","","","","","","","","","","","","","","","","","",""]
[null,null,null,null,null,null,null,null,null,"","","","","","","","","","","","","","","","","","","","","","","","","",""]
[null,null,null,null,null,null,null,null,null,"","","","","","","","","","","","","","","","","","","","","","","","","",""]
[null,null,null,null,null,null,null,null,null,"","","","","","","","","","","","","","","","","","","","","","","","","",""]
[null,null,null,null,null,null,null,null,null,"","","","","","","","","","","","","","","","","","","","","","","","","",""]
[null,null,null,null,null,null,null,null,null,"","","","","","","","","","","","","","","","","","","","","","","","","",""]
[null,null,null,null,null,null,null,null,null,"","","","","","","","","","","","","","","","","","","","","","","","","",""]
[null,null,null,null,null,null,null,null,null,"","","","","","","","","","","","","","","","","","","","","","","","","",""]
[null,null,null,null,null,null,null,null,null,"","","","","","","","","","","","","","","","","","","","","","","","","",""]
[null,null,null,null,null,null,null,null,null,"","","","","","","","","","","","","","","","","","","","","","","","","",""]
[null,null,null,null,null,null,null,null,null,"","","","","","","","","","","","","","","","","","","","","","","","","",""]
[null,null,null,null,null,null,null,null,null,"","","","","","","","","","","","","","","","","","","","","","","","","",""]
[null,null,null,null,null,null,null,null,null,"","","","","","","","","","","","","","","","","","","","","","","","","",""]
[null,null,null,null,null,null,null,null,null,"","","","","","","","","","","","","","","","","","","","","","","","","",""]
[null,null,null,null,null,null,null,null,null,"","","","","","","","","","","","","","","","","","","","","","","","","",""]
[null,null,null,null,null,null,null,null,null,"","","","","","","","","","","","","","","","","","","","","","","","","",""]
[null,null,null,null,null,null,null,null,null,"","","","","","","","","","","","","","","","","","","","","","","","","",""]
[null,null,null,null,null,null,null,null,null,"","","","","","","","","","","","","","","","","","","","","","","","","",""]
[null,null,null,null,null,null,null,null,null,"","","","","","","","","","","","","","","","","","","","","","","","","",""]
[null,null,null,null,null,null,null,null,null,"","","","","","","","","","","","","","","","","","","","","","","","","",""]
[null,null,null,null,null,null,null,null,null,"","","","","","","","","","","","","","","","","","","","","","","","","",""]
[null,null,null,null,null,null,null,null,null,"","","","","","","","","","","","","","","","","","","","","","","","","",""]
[null,null,null,null,null,null,null,null,null,"","","","","","","","","","","","","","","","","","","","","","","","","",""]
[null,null,null,null,null,null,null,null,null,"","","","","","","","","","","","","","","","","","","","","","","","","",""]
[null,null,null,null,null,null,null,null,null,"","","","","","","","","","","","","","","","","","","","","","","","","",""]
[null,null,null,null,null,null,null,null,null,"","","","","","","","","","","","","","","","","","","","","","","","","",""]
[null,null,null,null,null,null,null,null,null,"","","","","","","","","","","","","","","","","","","","","","","","","",""]
[null,null,null,null,null,null,null,null,null,"","","","","","","","","","","","","","","","","","","","","","","","","",""]
[null,null,null,null,null,null,null,null,null,"","","","","","","","","","","","","","","","","","","","","","","","","",""]
[null,null,null,null,null,null,null,null,null,"","","","","","","","","","","","","","","","","","","","","","","","","",""]
[null,null,null,null,null,null,null,null,null,"","","","","","","","","","","","","","","","","","","","","","","","","",""]
[null,null,null,null,null,null,null,null,null,"","","","","","","","","","","","","","","","","","","","","","","","","",""]
[null,null,null,null,null,null,null,null,null,"","","","","","","","","","","","","","","","","","","","","","","","","",""]
[null,null,null,null,null,null,null,null,null,"","","","","","","","","","","","","","","","","","","","","","","","","",""]
[null,null,null,null,null,null,null,null,null,"","","","","","","","","","","","","","","","","","","","","","","","","",""]
[null,null,null,null,null,null,null,null,null,"","","","","","","","","","","","","","","","","","","","","","","","","",""]
[null,null,null,null,null,null,null,null,null,"","","","","","","","","","","","","","","","","","","","","","","","","",""]
[null,null,null,null,null,null,null,null,null,"","","","","","","","","","","","","","","","","","","","","","","","","",""]
[null,null,null,null,null,null,null,null,null,"","","","","","","","","","","","","","","","","","","","","","","","","",""]
[null,null,null,null,null,null,null,null,null,"","","","","","","","","","","","","","","","","","","","","","","","","",""]
[null,null,null,null,null,null,null,null,null,"","","","","","","","","","","","","","","","","","","","","","","","","",""]
[null,null,null,null,null,null,null,null,null,"","","","","","","","","","","","","","","","","","","","","","","","","",""]
[null,null,null,null,null,null,null,null,null,"","","","","","","","","","","","","","","","","","","","","","","","","",""]
[null,null,null,null,null,null,null,null,null,"","","","","","","","","","","","","","","","","","","","","","","","","",""]
[null,null,null,null,null,null,null,null,null,"","","","","","","","","","","","","","","","","","","","","","","","","",""]
[null,null,null,null,null,null,null,null,null,"","","","","","","","","","","","","","","","","","","","","","","","","",""]
[null,null,null,null,null,null,null,null,null,{"$f":"IF(I131=\"\",\"\",E131+G131)","v":""},{"$f":"IF(I131=\"\",\"\",F131+H131)","v":""},{"$f":"IF(I131=\"\",\"\",IF(I131=\"Дома\",J131,K131))","v":""},{"$f":"IF(I131=\"\",\"\",IF(I131=\"Дома\",K131,J131))","v":""},"",{"$f":"IF(I131=\"\",\"\",O130+1)","v":""},"","","","","",{"$f":"IF(I131=\"\",\"\",P131*3+Q131)","v":""},"","","","","","","","","","","","","",""]
[null,null,null,null,null,null,null,null,null,"","","","","","",{"$f":"IF(I132=\"\",\"\",IF(N132=\"В\",P131+1,P131))","v":""},{"$f":"IF(I132=\"\",\"\",IF(N132=\"Н\",Q131+1,Q131))","v":""},{"$f":"IF(I132=\"\",\"\",IF(N132=\"П\",R131+1,R131))","v":""},{"$f":"IF(I132=\"\",\"\",S131+L132)","v":""},{"$f":"IF(I132=\"\",\"\",T131+M132)","v":""},"",{"$f":"IF(I132=\"\",\"\",IF(I132=\"Дома\",V131+1,V131+0))","v":""},{"$f":"IF(I132=\"\",\"\",IF(I132=\"Дома\",IF(N132=\"В\",W131+1,W131),W131))","v":""},{"$f":"IF(I132=\"\",\"\",IF(I132=\"Дома\",IF(N132=\"Н\",X131+1,X131),X131))","v":""},{"$f":"IF(I132=\"\",\"\",IF(I132=\"Дома\",IF(N132=\"П\",Y131+1,Y131),Y131))","v":""},{"$f":"IF(I132=\"\",\"\",IF(I132=\"Дома\",L132+Z131,Z131))","v":""},{"$f":"IF(I132=\"\",\"\",IF(I132=\"Дома\",M132+AA131,AA131))","v":""},{"$f":"IF(I132=\"\",\"\",IF(I132=\"Дома\",W132*3+X132,AB131))","v":""},{"$f":"IF(I132=\"\",\"\",IF(I132=\"Гости\",AC131+1,AC131+0))","v":""},{"$f":"IF(I132=\"\",\"\",IF(I132=\"Гости\",IF(N132=\"В\",AD131+1,AD131),AD131))","v":""},{"$f":"IF(I132=\"\",\"\",IF(I132=\"Гости\",IF(N132=\"Н\",AE131+1,AE131),AE131))","v":""},{"$f":"IF(I132=\"\",\"\",IF(I132=\"Гости\",IF(N132=\"П\",AF131+1,AF131),AF131))","v":""},{"$f":"IF(I132=\"\",\"\",IF(I132=\"Гости\",L132+AG131,AG131))","v":""},{"$f":"IF(I132=\"\",\"\",IF(I132=\"Гости\",M132+AH131,AH131))","v":""},{"$f":"IF(I132=\"\",\"\",IF(I132=\"Гости\",AD132*3+AE132,AI131))","v":""}]
[null,null,null,null,null,null,null,null,null,"","","","","","","","","","","","","","","","","","","","","","","","","",""]
[null,null,null,null,null,null,null,null,null,"","","","","","","","","","","","","","","","","","","","","","","","","",""]
[null,null,null,null,null,null,null,null,null,"","","","","","","","","","","","","","","","","","","","","","","","","",""]
[null,null,null,null,null,null,null,null,null,"","","","","","","","","","","","","","","","","","","","","","","","","",""]
[null,null,null,null,null,null,null,null,null,"","","","","","","","","","","","","","","","","","","","","","","","","",""]
[null,null,null,null,null,null,null,null,null,"","","","",{"$f":"IF(I138=\"\",\"\",IF(I138=\"Дома\",IF(J138>K138,\"В\",IF(J138=K138,\"Н\",\"П\")),IF(J138<K138,\"В\",IF(J138=K138,\"Н\",\"П\"))))","v":""},"","","","","","","","","","","","","","","","","","","","",""]
[null,null,null,null,null,null,null,null,null,"","","","","","","","","","","","","","","","","","","","","","","","","",""]
[null,null,null,null,null,null,null,null,null,"","","","","","","","","","","","","","","","","","","","","","","","","",""]
[null,null,null,null,null,null,null,null,null,"","","","","","","","","","","","","","","","","","","","","","","","","",""]
[null,null,null,null,null,null,null,null,null,"","","","","","","","","","","","","","","","","","","","","","","","","",""]
[null,null,null,null,null,null,null,null,null,"","","","","","","","","","","","","","","","","","","","","","","","","",""]
[null,null,null,null,null,null,null,null,null,"","","","","","","","","","","","","","","","","","","","","","","","","",""]
[null,null,null,null,null,null,null,null,null,"","","","","","","","","","","","","","","","","","","","","","","","","",""]
[null,null,null,null,null,null,null,null,null,"","","","","","","","","","","","","","","","","","","","","","","","","",""]
[null,null,null,null,null,null,null,null,null,"","","","","","","","","","","","","","","","","","","","","","","","","",""]
[null,null,null,null,null,null,null,null,null,"","","","","","","","","","","","","","","","","","","","","","","","","",""]
[null,null,null,null,null,null,null,null,null,"","","","","","","","","","","","","","","","","","","","","","","","","",""]
[null,null,null,null,null,null,null,null,null,"","","","","","","","","","","","","","","","","","","","","","","","","",""]

{"sheet":"Таблица","index":20,"n_rows":19,"n_cols":29,"rows_kept":19,"cut":false,"hidden":true,"merged":[]}
["Место","Команда","Игр","Выиграно","Ничьих","Проиграно","Забито","Пропущено","Очков",null,"Место","Команда","Игр","Выиграно","Ничьих","Проиграно","Забито","Пропущено","Очков",null,"Место","Команда","Игр","Выиграно","Ничьих","Проиграно","Забито","Пропущено","Очков"]
[1,"Sheffield Utd U23",21,14,4,3,53,19,46,null,1,"Sheffield Utd U23",10,7,3,0,31,9,24,null,1,"Sheffield Utd U23",11,7,1,3,22,10,22]
[2,"Nottingham U23",22,12,5,5,43,25,41,null,2,"Hull U23",11,7,1,3,18,8,22,null,2,"Nottingham U23",11,6,2,3,24,15,20]
[3,"Birmingham U23",20,11,2,7,44,36,35,null,3,"Nottingham U23",11,6,3,2,19,10,21,null,3,"Wigan U23",9,6,0,3,15,15,18]
[4,"Barnsley U23",22,9,7,6,31,25,34,null,4,"Birmingham U23",11,6,0,5,27,21,18,null,4,"Birmingham U23",9,5,2,2,17,15,17]
[5,"Hull U23",22,10,3,9,31,28,33,null,5,"Barnsley U23",11,5,3,3,14,14,18,null,5,"Barnsley U23",11,4,4,3,17,11,16]
[6,"Wigan U23",18,10,2,6,27,28,32,null,6,"Wigan U23",9,4,2,3,12,13,14,null,6,"Coventry U23",11,4,4,3,18,14,16]
[7,"Coventry U23",22,7,6,9,35,29,27,null,7,"Crewe U23",9,3,3,3,13,13,12,null,7,"Crewe U23",11,3,3,5,13,21,12]
[8,"Crewe U23",20,6,6,8,26,34,24,null,8,"Coventry U23",11,3,2,6,17,15,11,null,8,"Hull U23",11,3,2,6,13,20,11]
[9,"Sheffield Wed U23",20,5,3,12,22,37,18,null,9,"Sheffield Wed U23",10,3,1,6,11,15,10,null,9,"Sheffield Wed U23",10,2,2,6,11,22,8]
[1,"Bristol City U23",22,14,2,6,44,31,44,null,1,"Bristol City U23",11,8,1,2,25,12,25,null,1,"Bristol City U23",11,6,1,4,19,19,19]
[2,"Ipswich U23",22,10,5,7,39,39,35,null,2,"Cardiff U23",11,8,0,3,31,12,24,null,2,"Watford U23",11,5,2,4,17,24,17]
[3,"Charlton U23",22,9,3,10,43,41,30,null,3,"Ipswich U23",11,6,4,1,24,12,22,null,3,"Millwall U23",11,4,4,3,12,16,16]
[4,"Watford U23",22,8,5,9,29,44,29,null,4,"Charlton U23",11,5,1,5,27,21,16,null,4,"Charlton U23",11,4,2,5,16,20,14]
[5,"Cardiff U23",22,9,1,12,39,34,28,null,5,"QPR U23",11,4,0,7,17,18,12,null,5,"Ipswich U23",11,4,1,6,15,27,13]
[6,"Millwall U23",22,7,6,9,28,32,27,null,6,"Watford U23",11,3,3,5,12,20,12,null,6,"QPR U23",11,2,3,6,7,19,9]
[7,"QPR U23",22,6,3,13,24,37,21,null,7,"Millwall U23",11,3,2,6,16,16,11,null,7,"Colchester U23",11,2,3,6,13,28,9]
[8,"Swansea U23",20,4,5,11,28,45,17,null,8,"Swansea U23",11,2,5,4,18,21,11,null,8,"Swansea U23",9,2,0,7,10,24,6]
[9,"Colchester U23",21,3,6,12,23,45,15,null,9,"Colchester U23",10,1,3,6,10,17,6,null,9,"Cardiff U23",11,1,1,9,8,22,4]

{"sheet":"Форма","index":21,"n_rows":500,"n_cols":61,"rows_kept":500,"cut":false,"hidden":true,"merged":[]}
["Место","Команда","Игр","Выиграно","Ничьих","Проиграно","Забито","Пропущено","Очков",null,"Место","Команда","Игр","Выиграно","Ничьих","Проиграно","Забито","Пропущено","Очков",null,"Место","Команда","Игр","Выиграно","Ничьих","Проиграно","Забито","Пропущено","Очков",null,null,null,null,null,null,null,null,null,null,null,null,null,null,null,null,null,null,null,null,null,null,null,"Место","Команда","Игр","Выиграно","Ничьих","Проиграно","Забито","Пропущено","Очков"]
[1,"Sheffield Utd U23",5,5,0,0,18,2,15,null,1,"Birmingham U23",5,5,0,0,3,13,15,null,1,"Sheffield Utd U23",5,3,1,1,11,4,10,null,null,null,null,null,null,null,null,null,null,null,null,null,null,null,null,null,null,null,null,null,null,null,{"$f":"A2","v":1},{"$f":"B2&C2","v":"Sheffield Utd U235"},{"$f":"C2","v":5},{"$f":"D2","v":5},0,0,18,2,15]
[2,"Coventry U23",5,4,0,1,14,3,12,null,2,"Sheffield Utd U23",5,4,1,0,5,17,13,null,2,"Coventry U23",5,2,2,1,9,5,8,null,null,null,null,null,null,null,null,null,null,null,null,null,null,null,null,null,null,null,null,null,null,null,{"$f":"A3","v":2},{"$f":"B3&C3","v":"Coventry U235"},{"$f":"C3","v":5},4,0,1,14,3,12]
[3,"Crewe U23",5,3,1,1,6,4,10,null,3,"Coventry U23",5,3,0,2,3,9,9,null,3,"Crewe U23",5,2,2,1,5,5,8,null,null,null,null,null,null,null,null,null,null,null,null,null,null,null,null,null,null,null,null,null,null,null,3,"Crewe U235",5,3,1,1,6,4,10]
[4,"Birmingham U23",5,3,1,1,8,10,10,null,4,"Wigan U23",5,2,2,1,4,5,8,null,4,"Nottingham U23",5,2,1,2,6,4,7,null,null,null,null,null,null,null,null,null,null,null,null,null,null,null,null,null,null,null,null,null,null,null,4,"Birmingham U235",5,3,1,1,8,10,10]
[5,"Barnsley U23",5,2,2,1,2,1,8,null,5,"Hull U23",5,2,1,2,5,7,7,null,5,"Birmingham U23",5,2,1,2,9,12,7,null,null,null,null,null,null,null,null,null,null,null,null,null,null,null,null,null,null,null,null,null,null,null,5,"Barnsley U235",5,2,2,1,2,1,8]
[6,"Hull U23",5,2,1,2,7,6,7,null,6,"Sheffield Wed U23",5,2,1,2,8,7,7,null,6,"Barnsley U23",5,1,3,1,6,6,6,null,null,null,null,null,null,null,null,null,null,null,null,null,null,null,null,null,null,null,null,null,null,null,6,"Hull U235",5,2,1,2,7,6,7]
[7,"Nottingham U23",5,1,3,1,6,6,6,null,7,"Nottingham U23",5,1,3,1,6,5,6,null,7,"Wigan U23",5,2,0,3,5,11,6,null,null,null,null,null,null,null,null,null,null,null,null,null,null,null,null,null,null,null,null,null,null,null,7,"Nottingham U235",5,1,3,1,6,6,6]
[8,"Sheffield Wed U23",5,1,1,3,6,13,4,null,8,"Barnsley U23",5,1,2,2,6,5,5,null,8,"Sheffield Wed U23",5,1,2,2,7,11,5,null,null,null,null,null,null,null,null,null,null,null,null,null,null,null,null,null,null,null,null,null,null,null,8,"Sheffield Wed U235",5,1,1,3,6,13,4]
[9,"Wigan U23",5,1,0,4,3,12,3,null,9,"Crewe U23",5,1,2,2,7,4,5,null,9,"Hull U23",5,1,1,3,3,10,4,null,null,null,null,null,null,null,null,null,null,null,null,null,null,null,null,null,null,null,null,null,null,null,9,"Wigan U235",5,1,0,4,3,12,3]
[1,"Ipswich U23",5,3,0,2,9,9,9,null,1,"Bristol City U23",5,3,1,1,7,10,10,null,1,"Bristol City U23",5,3,1,1,11,9,10,null,null,null,null,null,null,null,null,null,null,null,null,null,null,null,null,null,null,null,null,null,null,null,1,"Ipswich U235",5,3,0,2,9,9,9]
[2,"Bristol City U23",5,2,2,1,10,8,8,null,2,"Cardiff U23",5,3,0,2,8,17,9,null,2,"Watford U23",5,2,1,2,6,9,7,null,null,null,null,null,null,null,null,null,null,null,null,null,null,null,null,null,null,null,null,null,null,null,2,"Bristol City U235",5,2,2,1,10,8,8]
[3,"Swansea U23",5,2,2,1,8,7,8,null,3,"Ipswich U23",5,2,2,1,7,9,8,null,3,"Swansea U23",5,2,0,3,8,12,6,null,null,null,null,null,null,null,null,null,null,null,null,null,null,null,null,null,null,null,null,null,null,null,3,"Swansea U235",5,2,2,1,8,7,8]
[4,"Watford U23",5,2,2,1,4,3,8,null,4,"Watford U23",5,2,2,1,5,7,8,null,4,"QPR U23",5,1,2,2,4,8,5,null,null,null,null,null,null,null,null,null,null,null,null,null,null,null,null,null,null,null,null,null,null,null,4,"Watford U235",5,2,2,1,4,3,8]
[5,"Cardiff U23",5,2,0,3,11,6,6,null,5,"Charlton U23",5,2,1,2,8,12,7,null,5,"Cardiff U23",5,1,1,3,6,9,4,null,null,null,null,null,null,null,null,null,null,null,null,null,null,null,null,null,null,null,null,null,null,null,5,"Cardiff U235",5,2,0,3,11,6,6]
[6,"QPR U23",5,2,0,3,4,10,6,null,6,"Colchester U23",5,1,1,3,9,8,4,null,6,"Charlton U23",5,1,1,3,10,15,4,null,null,null,null,null,null,null,null,null,null,null,null,null,null,null,null,null,null,null,null,null,null,null,6,"QPR U235",5,2,0,3,4,10,6]
[7,"Millwall U23",5,1,2,2,9,12,5,null,7,"Swansea U23",5,0,4,1,6,4,4,null,7,"Colchester U23",5,1,1,3,5,11,4,null,null,null,null,null,null,null,null,null,null,null,null,null,null,null,null,null,null,null,null,null,null,null,7,"Millwall U235",5,1,2,2,9,12,5]
[8,"Charlton U23",5,1,1,3,7,9,4,null,8,"QPR U23",5,1,0,4,9,4,3,null,8,"Ipswich U23",5,1,1,3,6,13,4,null,null,null,null,null,null,null,null,null,null,null,null,null,null,null,null,null,null,null,null,null,null,null,8,"Charlton U235",5,1,1,3,7,9,4]
[9,"Colchester U23",5,0,0,5,5,12,0,null,9,"Millwall U23",5,0,1,4,10,5,1,null,9,"Millwall U23",5,1,1,3,6,13,4,null,null,null,null,null,null,null,null,null,null,null,null,null,null,null,null,null,null,null,null,null,null,null,9,"Colchester U235",5,0,0,5,5,12,0]
[1,"Birmingham U23",10,8,1,1,24,14,25,null,1,"Sheffield Utd U23",10,7,3,0,9,31,24,null,1,"Sheffield Utd U23",10,7,1,2,22,8,22,null,null,null,null,null,null,null,null,null,null,null,null,null,null,null,null,null,null,null,null,null,null,null,1,"Birmingham U2310",10,8,1,1,24,14,25]
[2,"Sheffield Utd U23",10,7,2,1,28,9,23,null,2,"Hull U23",10,6,1,3,8,16,19,null,2,"Nottingham U23",10,6,1,3,22,13,19,null,null,null,null,null,null,null,null,null,null,null,null,null,null,null,null,null,null,null,null,null,null,null,2,"Sheffield Utd U2310",10,7,2,1,28,9,23]
[3,"Coventry U23",10,5,2,3,18,8,17,null,3,"Nottingham U23",10,5,3,2,9,17,18,null,3,"Wigan U23",9,6,0,3,15,15,18,null,null,null,null,null,null,null,null,null,null,null,null,null,null,null,null,null,null,null,null,null,null,null,3,"Coventry U2310",10,5,2,3,18,8,17]
[4,"Wigan U23",10,4,2,4,11,16,14,null,4,"Birmingham U23",10,6,0,4,16,23,18,null,4,"Birmingham U23",9,5,2,2,17,15,17,null,null,null,null,null,null,null,null,null,null,null,null,null,null,null,null,null,null,null,null,null,null,null,4,"Wigan U2310",10,4,2,4,11,16,14]
[5,"Crewe U23",10,3,4,3,9,12,13,null,5,"Barnsley U23",10,5,2,3,12,12,17,null,5,"Barnsley U23",10,4,4,2,16,9,16,null,null,null,null,null,null,null,null,null,null,null,null,null,null,null,null,null,null,null,null,null,null,null,5,"Crewe U2310",10,3,4,3,9,12,13]
[6,"Hull U23",10,3,2,5,10,15,11,null,6,"Wigan U23",9,4,2,3,13,12,14,null,6,"Coventry U23",10,3,4,3,15,12,13,null,null,null,null,null,null,null,null,null,null,null,null,null,null,null,null,null,null,null,null,null,null,null,6,"Hull U2310",10,3,2,5,10,15,11]
[7,"Sheffield Wed U23",10,3,2,5,14,23,11,null,7,"Crewe U23",9,3,3,3,13,13,12,null,7,"Crewe U23",10,2,3,5,8,17,9,null,null,null,null,null,null,null,null,null,null,null,null,null,null,null,null,null,null,null,null,null,null,null,7,"Sheffield Wed U2310",10,3,2,5,14,23,11]
[8,"Nottingham U23",10,2,4,4,9,12,10,null,8,"Coventry U23",10,3,1,6,14,16,10,null,8,"Hull U23",10,2,2,6,10,20,8,null,null,null,null,null,null,null,null,null,null,null,null,null,null,null,null,null,null,null,null,null,null,null,8,"Nottingham U2310",10,2,4,4,9,12,10]
[9,"Barnsley U23",10,2,4,4,7,11,10,null,9,"Sheffield Wed U23",10,3,1,6,15,11,10,null,9,"Sheffield Wed U23",10,2,2,6,11,22,8,null,null,null,null,null,null,null,null,null,null,null,null,null,null,null,null,null,null,null,null,null,null,null,9,"Barnsley U2310",10,2,4,4,7,11,10]
[1,"Bristol City U23",10,6,2,2,20,16,20,null,1,"Cardiff U23",10,8,0,2,10,30,24,null,1,"Bristol City U23",10,5,1,4,17,18,16,null,null,null,null,null,null,null,null,null,null,null,null,null,null,null,null,null,null,null,null,null,null,null,1,"Bristol City U2310",10,6,2,2,20,16,20]
[2,"Cardiff U23",10,6,0,4,29,12,18,null,2,"Bristol City U23",10,7,1,2,12,22,22,null,2,"Watford U23",10,5,1,4,15,22,16,null,null,null,null,null,null,null,null,null,null,null,null,null,null,null,null,null,null,null,null,null,null,null,2,"Cardiff U2310",10,6,0,4,29,12,18]
[3,"Watford U23",10,5,2,3,14,14,17,null,3,"Ipswich U23",10,6,3,1,11,23,21,null,3,"Millwall U23",10,4,3,3,11,15,15,null,null,null,null,null,null,null,null,null,null,null,null,null,null,null,null,null,null,null,null,null,null,null,3,"Watford U2310",10,5,2,3,14,14,17]
[4,"Ipswich U23",10,3,3,4,15,20,12,null,4,"Charlton U23",10,4,1,5,21,24,13,null,4,"Charlton U23",10,4,1,5,16,20,13,null,null,null,null,null,null,null,null,null,null,null,null,null,null,null,null,null,null,null,null,null,null,null,4,"Ipswich U2310",10,3,3,4,15,20,12]
[5,"Charlton U23",10,3,2,5,22,23,11,null,5,"Watford U23",10,3,3,4,19,12,12,null,5,"Ipswich U23",10,4,1,5,15,22,13,null,null,null,null,null,null,null,null,null,null,null,null,null,null,null,null,null,null,null,null,null,null,null,5,"Charlton U2310",10,3,2,5,22,23,11]
[6,"QPR U23",10,3,2,5,8,15,11,null,6,"Millwall U23",10,3,1,6,14,14,10,null,6,"QPR U23",10,2,3,5,7,16,9,null,null,null,null,null,null,null,null,null,null,null,null,null,null,null,null,null,null,null,null,null,null,null,6,"QPR U2310",10,3,2,5,8,15,11]
[7,"Swansea U23",10,2,4,4,13,16,10,null,7,"QPR U23",10,3,0,7,18,12,9,null,7,"Swansea U23",9,2,0,7,10,24,6,null,null,null,null,null,null,null,null,null,null,null,null,null,null,null,null,null,null,null,null,null,null,null,7,"Swansea U2310",10,2,4,4,13,16,10]
[8,"Millwall U23",10,1,3,6,12,23,6,null,8,"Swansea U23",10,1,5,4,20,13,8,null,8,"Colchester U23",10,1,3,6,12,28,6,null,null,null,null,null,null,null,null,null,null,null,null,null,null,null,null,null,null,null,null,null,null,null,8,"Millwall U2310",10,1,3,6,12,23,6]
[9,"Colchester U23",10,1,2,7,12,23,5,null,9,"Colchester U23",10,1,3,6,17,10,6,null,9,"Cardiff U23",10,1,1,8,7,17,4,null,null,null,null,null,null,null,null,null,null,null,null,null,null,null,null,null,null,null,null,null,null,null,9,"Colchester U2310",10,1,2,7,12,23,5]
[1,"Sheffield Utd U23",15,11,2,2,39,12,35,null,1,"Sheffield Utd U23",10,7,3,0,9,31,24,null,1,"Sheffield Utd U23",11,7,1,3,22,10,22,null,null,null,null,null,null,null,null,null,null,null,null,null,null,null,null,null,null,null,null,null,null,null,1,"Sheffield Utd U2315",15,11,2,2,39,12,35]
[2,"Wigan U23",15,9,2,4,23,18,29,null,2,"Hull U23",11,7,1,3,8,18,22,null,2,"Nottingham U23",11,6,2,3,24,15,20,null,null,null,null,null,null,null,null,null,null,null,null,null,null,null,null,null,null,null,null,null,null,null,2,"Wigan U2315",15,9,2,4,23,18,29]
[3,"Birmingham U23",15,9,1,5,30,24,28,null,3,"Nottingham U23",11,6,3,2,10,19,21,null,3,"Wigan U23",9,6,0,3,15,15,18,null,null,null,null,null,null,null,null,null,null,null,null,null,null,null,null,null,null,null,null,null,null,null,3,"Birmingham U2315",15,9,1,5,30,24,28]
[4,"Nottingham U23",15,6,4,5,20,17,22,null,4,"Birmingham U23",11,6,0,5,21,27,18,null,4,"Birmingham U23",9,5,2,2,17,15,17,null,null,null,null,null,null,null,null,null,null,null,null,null,null,null,null,null,null,null,null,null,null,null,4,"Nottingham U2315",15,6,4,5,20,17,22]
[5,"Barnsley U23",15,5,5,5,17,19,20,null,5,"Barnsley U23",11,5,3,3,14,14,18,null,5,"Barnsley U23",11,4,4,3,17,11,16,null,null,null,null,null,null,null,null,null,null,null,null,null,null,null,null,null,null,null,null,null,null,null,5,"Barnsley U2315",15,5,5,5,17,19,20]
[6,"Coventry U23",15,5,4,6,26,21,19,null,6,"Wigan U23",9,4,2,3,13,12,14,null,6,"Coventry U23",11,4,4,3,18,14,16,null,null,null,null,null,null,null,null,null,null,null,null,null,null,null,null,null,null,null,null,null,null,null,6,"Coventry U2315",15,5,4,6,26,21,19]
[7,"Hull U23",15,5,3,7,19,23,18,null,7,"Crewe U23",9,3,3,3,13,13,12,null,7,"Crewe U23",11,3,3,5,13,21,12,null,null,null,null,null,null,null,null,null,null,null,null,null,null,null,null,null,null,null,null,null,null,null,7,"Hull U2315",15,5,3,7,19,23,18]
[8,"Crewe U23",15,3,6,6,13,22,15,null,8,"Coventry U23",11,3,2,6,15,17,11,null,8,"Hull U23",11,3,2,6,13,20,11,null,null,null,null,null,null,null,null,null,null,null,null,null,null,null,null,null,null,null,null,null,null,null,8,"Crewe U2315",15,3,6,6,13,22,15]
[9,"Sheffield Wed U23",15,4,3,8,18,30,15,null,9,"Sheffield Wed U23",10,3,1,6,15,11,10,null,9,"Sheffield Wed U23",10,2,2,6,11,22,8,null,null,null,null,null,null,null,null,null,null,null,null,null,null,null,null,null,null,null,null,null,null,null,9,"Sheffield Wed U2315",15,4,3,8,18,30,15]
[1,"Bristol City U23",15,9,2,4,29,23,29,null,1,"Bristol City U23",11,8,1,2,12,25,25,null,1,"Bristol City U23",11,6,1,4,19,19,19,null,null,null,null,null,null,null,null,null,null,null,null,null,null,null,null,null,null,null,null,null,null,null,1,"Bristol City U2315",15,9,2,4,29,23,29]
[2,"Cardiff U23",15,8,1,6,34,21,25,null,2,"Cardiff U23",11,8,0,3,12,31,24,null,2,"Watford U23",11,5,2,4,17,24,17,null,null,null,null,null,null,null,null,null,null,null,null,null,null,null,null,null,null,null,null,null,null,null,2,"Cardiff U2315",15,8,1,6,34,21,25]
[3,"Charlton U23",15,7,2,6,34,30,23,null,3,"Ipswich U23",11,6,4,1,12,24,22,null,3,"Millwall U23",11,4,4,3,12,16,16,null,null,null,null,null,null,null,null,null,null,null,null,null,null,null,null,null,null,null,null,null,null,null,3,"Charlton U2315",15,7,2,6,34,30,23]
[4,"Ipswich U23",15,6,4,5,25,24,22,null,4,"Charlton U23",11,5,1,5,21,27,16,null,4,"Charlton U23",11,4,2,5,16,20,14,null,null,null,null,null,null,null,null,null,null,null,null,null,null,null,null,null,null,null,null,null,null,null,4,"Ipswich U2315",15,6,4,5,25,24,22]
[5,"Watford U23",15,6,4,5,21,26,22,null,5,"QPR U23",11,4,0,7,18,17,12,null,5,"Ipswich U23",11,4,1,6,15,27,13,null,null,null,null,null,null,null,null,null,null,null,null,null,null,null,null,null,null,null,null,null,null,null,5,"Watford U2315",15,6,4,5,21,26,22]
[6,"QPR U23",15,5,3,7,14,19,18,null,6,"Watford U23",11,3,3,5,20,12,12,null,6,"QPR U23",11,2,3,6,7,19,9,null,null,null,null,null,null,null,null,null,null,null,null,null,null,null,null,null,null,null,null,null,null,null,6,"QPR U2315",15,5,{"$f":"E52","v":3},7,14,19,18]
[7,"Millwall U23",15,3,4,8,20,27,13,null,7,"Millwall U23",11,3,2,6,16,16,11,null,7,"Colchester U23",11,2,3,6,13,28,9,null,null,null,null,null,null,null,null,null,null,null,null,null,null,null,null,null,null,null,null,null,null,null,7,"Millwall U2315",{"$f":"C53","v":15},3,4,8,20,27,13]
[8,"Swansea U23",15,3,4,8,20,31,13,null,8,"Swansea U23",11,2,5,4,21,18,11,null,8,"Swansea U23",9,2,0,7,10,24,6,null,null,null,null,null,null,null,null,null,null,null,null,null,null,null,null,null,null,null,null,null,null,null,8,"Swansea U2315",15,3,4,8,20,31,13]
[9,"Colchester U23",15,2,3,10,16,34,9,null,9,"Colchester U23",10,1,3,6,17,10,6,null,9,"Cardiff U23",11,1,1,9,8,22,4,null,null,null,null,null,null,null,null,null,null,null,null,null,null,null,null,null,null,null,null,null,null,null,9,"Colchester U2315",15,2,3,10,16,34,9]
[1,"Sheffield Utd U23",20,14,4,2,53,17,46,null,null,null,null,null,null,null,null,null,null,null,null,null,null,null,null,null,null,null,null,null,null,null,null,null,null,null,null,null,null,null,null,null,null,null,null,null,null,null,null,null,null,null,1,"Sheffield Utd U2320",20,14,4,2,53,17,46]
[2,"Nottingham U23",20,11,4,5,39,22,37,null,null,null,null,null,null,null,null,null,null,null,null,null,null,null,null,null,null,null,null,null,null,null,null,null,null,null,null,null,null,null,null,null,null,null,null,null,null,null,null,null,null,null,2,"Nottingham U2320",20,11,4,5,39,22,37]
[3,"Birmingham U23",20,11,2,7,44,36,35,null,null,null,null,null,null,null,null,null,null,null,null,null,null,null,null,null,null,null,null,null,null,null,null,null,null,null,null,null,null,null,null,null,null,null,null,null,null,null,null,null,null,null,3,"Birmingham U2320",20,11,2,7,44,36,35]
[4,"Wigan U23",18,10,2,6,27,28,32,null,null,null,null,null,null,null,null,null,null,null,null,null,null,null,null,null,null,null,null,null,null,null,null,null,null,null,null,null,null,null,null,null,null,null,null,null,null,null,null,null,null,null,4,"Wigan U2318",18,10,2,6,27,28,32]
[5,"Barnsley U23",20,8,7,5,29,23,31,null,null,null,null,null,null,null,null,null,null,null,null,null,null,null,null,null,null,null,null,null,null,null,null,null,null,null,null,null,null,null,null,null,null,null,null,null,null,null,null,null,null,null,5,"Barnsley U2320",20,8,7,5,29,23,31]
[6,"Hull U23",20,8,3,9,26,28,27,null,null,null,null,null,null,null,null,null,null,null,null,null,null,null,null,null,null,null,null,null,null,null,null,null,null,null,null,null,null,null,null,null,null,null,null,null,null,null,null,null,null,null,6,"Hull U2320",20,8,3,9,26,28,27]
[7,"Crewe U23",20,6,6,8,26,34,24,null,null,null,null,null,null,null,null,null,null,null,null,null,null,null,null,null,null,null,null,null,null,null,null,null,null,null,null,null,null,null,null,null,null,null,null,null,null,null,null,null,null,null,7,"Crewe U2320",20,6,6,8,26,34,24]
[8,"Coventry U23",20,6,5,9,31,26,23,null,null,null,null,null,null,null,null,null,null,null,null,null,null,null,null,null,null,null,null,null,null,null,null,null,null,null,null,null,null,null,null,null,null,null,null,null,null,null,null,null,null,null,8,"Coventry U2320",20,6,5,9,31,26,23]
[9,"Sheffield Wed U23",20,5,3,12,22,37,18,null,null,null,null,null,null,null,null,null,null,null,null,null,null,null,null,null,null,null,null,null,null,null,null,null,null,null,null,null,null,null,null,null,null,null,null,null,null,null,null,null,null,null,9,"Sheffield Wed U2320",20,5,3,12,22,37,18]
[1,"Bristol City U23",20,12,2,6,39,30,38,null,null,null,null,null,null,null,null,null,null,null,null,null,null,null,null,null,null,null,null,null,null,null,null,null,null,null,null,null,null,null,null,null,null,null,null,null,null,null,null,null,null,null,1,"Bristol City U2320",20,12,2,6,39,30,38]
[2,"Ipswich U23",20,10,4,6,38,33,34,null,null,null,null,null,null,null,null,null,null,null,null,null,null,null,null,null,null,null,null,null,null,null,null,null,null,null,null,null,null,null,null,null,null,null,null,null,null,null,null,null,null,null,2,"Ipswich U2320",20,10,4,6,38,33,34]
[3,"Cardiff U23",20,9,1,10,37,27,28,null,null,null,null,null,null,null,null,null,null,null,null,null,null,null,null,null,null,null,null,null,null,null,null,null,null,null,null,null,null,null,null,null,null,null,null,null,null,null,null,null,null,null,{"$f":"A67","v":3},{"$f":"B67&C67","v":"Cardiff U2320"},20,9,1,10,37,27,28]
[4,"Watford U23",20,8,4,8,27,41,28,null,null,null,null,null,null,null,null,null,null,null,null,null,null,null,null,null,null,null,null,null,null,null,null,null,null,null,null,null,null,null,null,null,null,null,null,null,null,null,null,null,null,null,4,"Watford U2320",20,8,4,8,27,41,28]
[5,"Charlton U23",20,8,2,10,40,41,26,null,null,null,null,null,null,null,null,null,null,null,null,null,null,null,null,null,null,null,null,null,null,null,null,null,null,null,null,null,null,null,null,null,null,null,null,null,null,null,null,null,null,null,5,"Charlton U2320",20,8,2,10,40,41,26]
[6,"Millwall U23",20,7,4,9,25,29,25,null,null,null,null,null,null,null,null,null,null,null,null,null,null,null,null,null,null,null,null,null,null,null,null,null,null,null,null,null,null,null,null,null,null,null,null,null,null,null,null,null,null,null,6,"Millwall U2320",20,7,4,9,25,29,25]
[7,"QPR U23",20,5,3,12,19,34,18,null,null,null,null,null,null,null,null,null,null,null,null,null,null,null,null,null,null,null,null,null,null,null,null,null,null,null,null,null,null,null,null,null,null,null,null,null,null,null,null,null,null,null,7,"QPR U2320",20,5,3,12,19,34,18]
[8,"Swansea U23",20,4,5,11,28,45,17,null,null,null,null,null,null,null,null,null,null,null,null,null,null,null,null,null,null,null,null,null,null,null,null,null,null,null,null,null,null,null,null,null,null,null,null,null,null,null,null,null,null,null,8,"Swansea U2320",20,4,5,11,28,45,17]
[9,"Colchester U23",20,2,6,12,22,45,12,null,null,null,null,null,null,null,null,null,null,null,null,null,null,null,null,null,null,null,null,null,null,null,null,null,null,null,null,null,null,null,null,null,null,null,null,null,null,null,null,null,null,null,9,"Colchester U2320",20,2,6,12,22,45,12]
[1,"Sheffield Utd U23",21,14,4,3,53,19,46,null,null,null,null,null,null,null,null,null,null,null,null,null,null,null,null,null,null,null,null,null,null,null,null,null,null,null,null,null,null,null,null,null,null,null,null,null,null,null,null,null,null,null,1,"Sheffield Utd U2321",21,14,4,3,53,19,46]
[2,"Nottingham U23",22,12,5,5,43,25,41,null,null,null,null,null,null,null,null,null,null,null,null,null,null,null,null,null,null,null,null,null,null,null,null,null,null,null,null,null,null,null,null,null,null,null,null,null,null,null,null,null,null,null,2,"Nottingham U2322",22,12,5,5,43,25,41]
[3,"Birmingham U23",20,11,2,7,44,36,35,null,null,null,null,null,null,null,null,null,null,null,null,null,null,null,null,null,null,null,null,null,null,null,null,null,null,null,null,null,null,null,null,null,null,null,null,null,null,null,null,null,null,null,3,"Birmingham U2320",20,11,2,7,44,36,35]
[4,"Barnsley U23",22,9,7,6,31,25,34,null,null,null,null,null,null,null,null,null,null,null,null,null,null,null,null,null,null,null,null,null,null,null,null,null,null,null,null,null,null,null,null,null,null,null,null,null,null,null,null,null,null,null,4,"Barnsley U2322",22,9,7,6,31,25,34]
[5,"Hull U23",22,10,3,9,31,28,33,null,null,null,null,null,null,null,null,null,null,null,null,null,null,null,null,null,null,null,null,null,null,null,null,null,null,null,null,null,null,null,null,null,null,null,null,null,null,null,null,null,null,null,5,"Hull U2322",22,10,3,9,31,28,33]
[6,"Wigan U23",18,10,2,6,27,28,32,null,null,null,null,null,null,null,null,null,null,null,null,null,null,null,null,null,null,null,null,null,null,null,null,null,null,null,null,null,null,null,null,null,null,null,null,null,null,null,null,null,null,null,6,"Wigan U2318",18,10,2,6,27,28,32]
[7,"Coventry U23",22,7,6,9,35,29,27,null,null,null,null,null,null,null,null,null,null,null,null,null,null,null,null,null,null,null,null,null,null,null,null,null,null,null,null,null,null,null,null,null,null,null,null,null,null,null,null,null,null,null,7,"Coventry U2322",22,7,6,9,35,29,27]
[8,"Crewe U23",20,6,6,8,26,34,24,null,null,null,null,null,null,null,null,null,null,null,null,null,null,null,null,null,null,null,null,null,null,null,null,null,null,null,null,null,null,null,null,null,null,null,null,null,null,null,null,null,null,null,8,"Crewe U2320",20,6,6,8,26,34,24]
[9,"Sheffield Wed U23",20,5,3,12,22,37,18,null,null,null,null,null,null,null,null,null,null,null,null,null,null,null,null,null,null,null,null,null,null,null,null,null,null,null,null,null,null,null,null,null,null,null,null,null,null,null,null,null,null,null,9,"Sheffield Wed U2320",20,5,3,12,22,37,18]
[1,"Bristol City U23",22,14,2,6,44,31,44,null,null,null,null,null,null,null,null,null,null,null,null,null,null,null,null,null,null,null,null,null,null,null,null,null,null,null,null,null,null,null,null,null,null,null,null,null,null,null,null,null,null,null,1,"Bristol City U2322",22,14,2,6,44,31,44]
[2,"Ipswich U23",22,10,5,7,39,39,35,null,null,null,null,null,null,null,null,null,null,null,null,null,null,null,null,null,null,null,null,null,null,null,null,null,null,null,null,null,null,null,null,null,null,null,null,null,null,null,null,null,null,null,2,"Ipswich U2322",22,10,5,7,39,39,35]
[3,"Charlton U23",22,9,3,10,43,41,30,null,null,null,null,null,null,null,null,null,null,null,null,null,null,null,null,null,null,null,null,null,null,null,null,null,null,null,null,null,null,null,null,null,null,null,null,null,null,null,null,null,null,null,3,"Charlton U2322",22,9,3,10,43,41,30]
[4,"Watford U23",22,8,5,9,29,44,29,null,null,null,null,null,null,null,null,null,null,null,null,null,null,null,null,null,null,null,null,null,null,null,null,null,null,null,null,null,null,null,null,null,null,null,null,null,null,null,null,null,null,null,4,"Watford U2322",22,8,5,9,29,44,29]
[5,"Cardiff U23",22,9,1,12,39,34,28,null,null,null,null,null,null,null,null,null,null,null,null,null,null,null,null,null,null,null,null,null,null,null,null,null,null,null,null,null,null,null,null,null,null,null,null,null,null,null,null,null,null,null,5,"Cardiff U2322",22,9,1,12,39,34,28]
[6,"Millwall U23",22,7,6,9,28,32,27,null,null,null,null,null,null,null,null,null,null,null,null,null,null,null,null,null,null,null,null,null,null,null,null,null,null,null,null,null,null,null,null,null,null,null,null,null,null,null,null,null,null,null,6,"Millwall U2322",22,7,6,9,28,32,27]
[7,"QPR U23",22,6,3,13,24,37,21,null,null,null,null,null,null,null,null,null,null,null,null,null,null,null,null,null,null,null,null,null,null,null,null,null,null,null,null,null,null,null,null,null,null,null,null,null,null,null,null,null,null,null,7,"QPR U2322",22,6,3,13,24,37,21]
[8,"Swansea U23",20,4,5,11,28,45,17,null,null,null,null,null,null,null,null,null,null,null,null,null,null,null,null,null,null,null,null,null,null,null,null,null,null,null,null,null,null,null,null,null,null,null,null,null,null,null,null,null,null,null,8,"Swansea U2320",20,4,5,11,28,45,17]
[9,"Colchester U23",21,3,6,12,23,45,15,null,null,null,null,null,null,null,null,null,null,null,null,null,null,null,null,null,null,null,null,null,null,null,null,null,null,null,null,null,null,null,null,null,null,null,null,null,null,null,null,null,null,null,9,"Colchester U2321",21,3,6,12,23,45,15]
[null,null,null,null,null,null,null,null,null,null,null,null,null,null,null,null,null,null,null,null,null,null,null,null,null,null,null,null,null,null,null,null,null,null,null,null,null,null,null,null,null,null,null,null,null,null,null,null,null,null,null,null,0,"",0,0,0,0,0,0,0]
[null,null,null,null,null,null,null,null,null,null,null,null,null,null,null,null,null,null,null,null,null,null,null,null,null,null,null,null,null,null,null,null,null,null,null,null,null,null,null,null,null,null,null,null,null,null,null,null,null,null,null,null,0,"",0,0,0,0,0,0,0]
[null,null,null,null,null,null,null,null,null,null,null,null,null,null,null,null,null,null,null,null,null,null,null,null,null,null,null,null,null,null,null,null,null,null,null,null,null,null,null,null,null,null,null,null,null,null,null,null,null,null,null,null,0,"",0,0,0,0,0,0,0]
[null,null,null,null,null,null,null,null,null,null,null,null,null,null,null,null,null,null,null,null,null,null,null,null,null,null,null,null,null,null,null,null,null,null,null,null,null,null,null,null,null,null,null,null,null,null,null,null,null,null,null,null,0,"",0,0,0,0,0,0,0]
[null,null,null,null,null,null,null,null,null,null,null,null,null,null,null,null,null,null,null,null,null,null,null,null,null,null,null,null,null,null,null,null,null,null,null,null,null,null,null,null,null,null,null,null,null,null,null,null,null,null,null,null,0,"",0,0,0,0,0,0,0]
[null,null,null,null,null,null,null,null,null,null,null,null,null,null,null,null,null,null,null,null,null,null,null,null,null,null,null,null,null,null,null,null,null,null,null,null,null,null,null,null,null,null,null,null,null,null,null,null,null,null,null,null,0,"",0,0,0,0,0,0,0]
[null,null,null,null,null,null,null,null,null,null,null,null,null,null,null,null,null,null,null,null,null,null,null,null,null,null,null,null,null,null,null,null,null,null,null,null,null,null,null,null,null,null,null,null,null,null,null,null,null,null,null,null,0,"",0,0,0,0,0,0,0]
[null,null,null,null,null,null,null,null,null,null,null,null,null,null,null,null,null,null,null,null,null,null,null,null,null,null,null,null,null,null,null,null,null,null,null,null,null,null,null,null,null,null,null,null,null,null,null,null,null,null,null,null,0,"",0,0,0,0,0,0,0]
[null,null,null,null,null,null,null,null,null,null,null,null,null,null,null,null,null,null,null,null,null,null,null,null,null,null,null,null,null,null,null,null,null,null,null,null,null,null,null,null,null,null,null,null,null,null,null,null,null,null,null,null,0,"",0,0,0,0,0,0,0]
[null,null,null,null,null,null,null,null,null,null,null,null,null,null,null,null,null,null,null,null,null,null,null,null,null,null,null,null,null,null,null,null,null,null,null,null,null,null,null,null,null,null,null,null,null,null,null,null,null,null,null,null,0,"",0,0,0,0,0,0,0]
[null,null,null,null,null,null,null,null,null,null,null,null,null,null,null,null,null,null,null,null,null,null,null,null,null,null,null,null,null,null,null,null,null,null,null,null,null,null,null,null,null,null,null,null,null,null,null,null,null,null,null,null,0,"",0,0,0,0,0,0,0]
[null,null,null,null,null,null,null,null,null,null,null,null,null,null,null,null,null,null,null,null,null,null,null,null,null,null,null,null,null,null,null,null,null,null,null,null,null,null,null,null,null,null,null,null,null,null,null,null,null,null,null,null,0,"",0,0,0,0,0,0,0]
[null,null,null,null,null,null,null,null,null,null,null,null,null,null,null,null,null,null,null,null,null,null,null,null,null,null,null,null,null,null,null,null,null,null,null,null,null,null,null,null,null,null,null,null,null,null,null,null,null,null,null,null,0,"",0,0,0,0,0,0,0]
[null,null,null,null,null,null,null,null,null,null,null,null,null,null,null,null,null,null,null,null,null,null,null,null,null,null,null,null,null,null,null,null,null,null,null,null,null,null,null,null,null,null,null,null,null,null,null,null,null,null,null,null,0,"",0,0,0,0,0,0,0]
[null,null,null,null,null,null,null,null,null,null,null,null,null,null,null,null,null,null,null,null,null,null,null,null,null,null,null,null,null,null,null,null,null,null,null,null,null,null,null,null,null,null,null,null,null,null,null,null,null,null,null,null,0,"",0,0,0,0,0,0,0]
[null,null,null,null,null,null,null,null,null,null,null,null,null,null,null,null,null,null,null,null,null,null,null,null,null,null,null,null,null,null,null,null,null,null,null,null,null,null,null,null,null,null,null,null,null,null,null,null,null,null,null,null,0,"",0,0,0,0,0,0,0]
[null,null,null,null,null,null,null,null,null,null,null,null,null,null,null,null,null,null,null,null,null,null,null,null,null,null,null,null,null,null,null,null,null,null,null,null,null,null,null,null,null,null,null,null,null,null,null,null,null,null,null,null,0,"",0,0,0,0,0,0,0]
[null,null,null,null,null,null,null,null,null,null,null,null,null,null,null,null,null,null,null,null,null,null,null,null,null,null,null,null,null,null,null,null,null,null,null,null,null,null,null,null,null,null,null,null,null,null,null,null,null,null,null,null,0,"",0,0,0,0,0,0,0]
[null,null,null,null,null,null,null,null,null,null,null,null,null,null,null,null,null,null,null,null,null,null,null,null,null,null,null,null,null,null,null,null,null,null,null,null,null,null,null,null,null,null,null,null,null,null,null,null,null,null,null,null,0,"",0,0,0,0,0,0,0]
[null,null,null,null,null,null,null,null,null,null,null,null,null,null,null,null,null,null,null,null,null,null,null,null,null,null,null,null,null,null,null,null,null,null,null,null,null,null,null,null,null,null,null,null,null,null,null,null,null,null,null,null,0,"",0,0,0,0,0,0,0]
[null,null,null,null,null,null,null,null,null,null,null,null,null,null,null,null,null,null,null,null,null,null,null,null,null,null,null,null,null,null,null,null,null,null,null,null,null,null,null,null,null,null,null,null,null,null,null,null,null,null,null,null,0,"",0,0,0,0,0,0,0]
[null,null,null,null,null,null,null,null,null,null,null,null,null,null,null,null,null,null,null,null,null,null,null,null,null,null,null,null,null,null,null,null,null,null,null,null,null,null,null,null,null,null,null,null,null,null,null,null,null,null,null,null,0,"",0,0,0,0,0,0,0]
[null,null,null,null,null,null,null,null,null,null,null,null,null,null,null,null,null,null,null,null,null,null,null,null,null,null,null,null,null,null,null,null,null,null,null,null,null,null,null,null,null,null,null,null,null,null,null,null,null,null,null,null,0,"",0,0,0,0,0,0,0]
[null,null,null,null,null,null,null,null,null,null,null,null,null,null,null,null,null,null,null,null,null,null,null,null,null,null,null,null,null,null,null,null,null,null,null,null,null,null,null,null,null,null,null,null,null,null,null,null,null,null,null,null,0,"",0,0,0,0,0,0,0]
[null,null,null,null,null,null,null,null,null,null,null,null,null,null,null,null,null,null,null,null,null,null,null,null,null,null,null,null,null,null,null,null,null,null,null,null,null,null,null,null,null,null,null,null,null,null,null,null,null,null,null,null,0,"",0,0,0,0,0,0,0]
[null,null,null,null,null,null,null,null,null,null,null,null,null,null,null,null,null,null,null,null,null,null,null,null,null,null,null,null,null,null,null,null,null,null,null,null,null,null,null,null,null,null,null,null,null,null,null,null,null,null,null,null,0,"",{"$f":"C117","v":0},0,0,0,0,0,0]
[null,null,null,null,null,null,null,null,null,null,null,null,null,null,null,null,null,null,null,null,null,null,null,null,null,null,null,null,null,null,null,null,null,null,null,null,null,null,null,null,null,null,null,null,null,null,null,null,null,null,null,null,0,"",0,0,0,0,0,0,0]
[null,null,null,null,null,null,null,null,null,null,null,null,null,null,null,null,null,null,null,null,null,null,null,null,null,null,null,null,null,null,null,null,null,null,null,null,null,null,null,null,null,null,null,null,null,null,null,null,null,null,null,null,0,"",0,0,0,0,0,0,0]
[null,null,null,null,null,null,null,null,null,null,null,null,null,null,null,null,null,null,null,null,null,null,null,null,null,null,null,null,null,null,null,null,null,null,null,null,null,null,null,null,null,null,null,null,null,null,null,null,null,null,null,null,0,"",0,0,0,0,0,0,0]
[null,null,null,null,null,null,null,null,null,null,null,null,null,null,null,null,null,null,null,null,null,null,null,null,null,null,null,null,null,null,null,null,null,null,null,null,null,null,null,null,null,null,null,null,null,null,null,null,null,null,null,null,0,"",0,0,0,0,0,0,0]
[null,null,null,null,null,null,null,null,null,null,null,null,null,null,null,null,null,null,null,null,null,null,null,null,null,null,null,null,null,null,null,null,null,null,null,null,null,null,null,null,null,null,null,null,null,null,null,null,null,null,null,null,0,"",0,0,0,0,0,0,0]
[null,null,null,null,null,null,null,null,null,null,null,null,null,null,null,null,null,null,null,null,null,null,null,null,null,null,null,null,null,null,null,null,null,null,null,null,null,null,null,null,null,null,null,null,null,null,null,null,null,null,null,null,0,"",0,0,0,0,0,0,0]
[null,null,null,null,null,null,null,null,null,null,null,null,null,null,null,null,null,null,null,null,null,null,null,null,null,null,null,null,null,null,null,null,null,null,null,null,null,null,null,null,null,null,null,null,null,null,null,null,null,null,null,null,0,"",0,0,0,0,0,0,0]
[null,null,null,null,null,null,null,null,null,null,null,null,null,null,null,null,null,null,null,null,null,null,null,null,null,null,null,null,null,null,null,null,null,null,null,null,null,null,null,null,null,null,null,null,null,null,null,null,null,null,null,null,0,"",0,0,0,0,0,0,0]
[null,null,null,null,null,null,null,null,null,null,null,null,null,null,null,null,null,null,null,null,null,null,null,null,null,null,null,null,null,null,null,null,null,null,null,null,null,null,null,null,null,null,null,null,null,null,null,null,null,null,null,null,0,"",0,0,0,0,0,0,0]
[null,null,null,null,null,null,null,null,null,null,null,null,null,null,null,null,null,null,null,null,null,null,null,null,null,null,null,null,null,null,null,null,null,null,null,null,null,null,null,null,null,null,null,null,null,null,null,null,null,null,null,null,0,"",0,0,0,0,0,0,0]
[null,null,null,null,null,null,null,null,null,null,null,null,null,null,null,null,null,null,null,null,null,null,null,null,null,null,null,null,null,null,null,null,null,null,null,null,null,null,null,null,null,null,null,null,null,null,null,null,null,null,null,null,0,"",0,0,0,0,0,0,0]
[null,null,null,null,null,null,null,null,null,null,null,null,null,null,null,null,null,null,null,null,null,null,null,null,null,null,null,null,null,null,null,null,null,null,null,null,null,null,null,null,null,null,null,null,null,null,null,null,null,null,null,null,0,"",0,0,0,0,0,0,0]
[null,null,null,null,null,null,null,null,null,null,null,null,null,null,null,null,null,null,null,null,null,null,null,null,null,null,null,null,null,null,null,null,null,null,null,null,null,null,null,null,null,null,null,null,null,null,null,null,null,null,null,null,0,"",0,0,0,0,0,0,0]
[null,null,null,null,null,null,null,null,null,null,null,null,null,null,null,null,null,null,null,null,null,null,null,null,null,null,null,null,null,null,null,null,null,null,null,null,null,null,null,null,null,null,null,null,null,null,null,null,null,null,null,null,{"$f":"A131","v":0},{"$f":"B131&C131","v":""},0,0,0,0,0,0,0]
[null,null,null,null,null,null,null,null,null,null,null,null,null,null,null,null,null,null,null,null,null,null,null,null,null,null,null,null,null,null,null,null,null,null,null,null,null,null,null,null,null,null,null,null,null,null,null,null,null,null,null,null,0,"",0,0,0,0,0,0,0]
[null,null,null,null,null,null,null,null,null,null,null,null,null,null,null,null,null,null,null,null,null,null,null,null,null,null,null,null,null,null,null,null,null,null,null,null,null,null,null,null,null,null,null,null,null,null,null,null,null,null,null,null,0,"",0,0,0,0,0,0,0]
[null,null,null,null,null,null,null,null,null,null,null,null,null,null,null,null,null,null,null,null,null,null,null,null,null,null,null,null,null,null,null,null,null,null,null,null,null,null,null,null,null,null,null,null,null,null,null,null,null,null,null,null,0,"",0,0,0,0,0,0,0]
[null,null,null,null,null,null,null,null,null,null,null,null,null,null,null,null,null,null,null,null,null,null,null,null,null,null,null,null,null,null,null,null,null,null,null,null,null,null,null,null,null,null,null,null,null,null,null,null,null,null,null,null,0,"",0,0,0,0,0,0,0]
[null,null,null,null,null,null,null,null,null,null,null,null,null,null,null,null,null,null,null,null,null,null,null,null,null,null,null,null,null,null,null,null,null,null,null,null,null,null,null,null,null,null,null,null,null,null,null,null,null,null,null,null,0,"",0,0,0,0,0,0,0]
[null,null,null,null,null,null,null,null,null,null,null,null,null,null,null,null,null,null,null,null,null,null,null,null,null,null,null,null,null,null,null,null,null,null,null,null,null,null,null,null,null,null,null,null,null,null,null,null,null,null,null,null,0,"",0,0,0,0,0,0,0]
[null,null,null,null,null,null,null,null,null,null,null,null,null,null,null,null,null,null,null,null,null,null,null,null,null,null,null,null,null,null,null,null,null,null,null,null,null,null,null,null,null,null,null,null,null,null,null,null,null,null,null,null,0,"",0,0,0,0,0,0,0]
[null,null,null,null,null,null,null,null,null,null,null,null,null,null,null,null,null,null,null,null,null,null,null,null,null,null,null,null,null,null,null,null,null,null,null,null,null,null,null,null,null,null,null,null,null,null,null,null,null,null,null,null,0,"",0,0,0,0,0,0,0]
[null,null,null,null,null,null,null,null,null,null,null,null,null,null,null,null,null,null,null,null,null,null,null,null,null,null,null,null,null,null,null,null,null,null,null,null,null,null,null,null,null,null,null,null,null,null,null,null,null,null,null,null,0,"",0,0,0,0,0,0,0]
[null,null,null,null,null,null,null,null,null,null,null,null,null,null,null,null,null,null,null,null,null,null,null,null,null,null,null,null,null,null,null,null,null,null,null,null,null,null,null,null,null,null,null,null,null,null,null,null,null,null,null,null,0,"",0,0,0,0,0,0,0]
[null,null,null,null,null,null,null,null,null,null,null,null,null,null,null,null,null,null,null,null,null,null,null,null,null,null,null,null,null,null,null,null,null,null,null,null,null,null,null,null,null,null,null,null,null,null,null,null,null,null,null,null,0,"",0,0,0,0,0,0,0]
[null,null,null,null,null,null,null,null,null,null,null,null,null,null,null,null,null,null,null,null,null,null,null,null,null,null,null,null,null,null,null,null,null,null,null,null,null,null,null,null,null,null,null,null,null,null,null,null,null,null,null,null,0,"",0,0,0,0,0,0,0]
[null,null,null,null,null,null,null,null,null,null,null,null,null,null,null,null,null,null,null,null,null,null,null,null,null,null,null,null,null,null,null,null,null,null,null,null,null,null,null,null,null,null,null,null,null,null,null,null,null,null,null,null,0,"",0,0,0,0,0,0,0]
[null,null,null,null,null,null,null,null,null,null,null,null,null,null,null,null,null,null,null,null,null,null,null,null,null,null,null,null,null,null,null,null,null,null,null,null,null,null,null,null,null,null,null,null,null,null,null,null,null,null,null,null,0,"",0,0,0,0,0,0,0]
[null,null,null,null,null,null,null,null,null,null,null,null,null,null,null,null,null,null,null,null,null,null,null,null,null,null,null,null,null,null,null,null,null,null,null,null,null,null,null,null,null,null,null,null,null,null,null,null,null,null,null,null,0,"",0,0,0,0,0,0,0]
[null,null,null,null,null,null,null,null,null,null,null,null,null,null,null,null,null,null,null,null,null,null,null,null,null,null,null,null,null,null,null,null,null,null,null,null,null,null,null,null,null,null,null,null,null,null,null,null,null,null,null,null,0,"",0,0,0,0,0,0,0]
[null,null,null,null,null,null,null,null,null,null,null,null,null,null,null,null,null,null,null,null,null,null,null,null,null,null,null,null,null,null,null,null,null,null,null,null,null,null,null,null,null,null,null,null,null,null,null,null,null,null,null,null,0,"",0,0,0,0,0,0,0]
[null,null,null,null,null,null,null,null,null,null,null,null,null,null,null,null,null,null,null,null,null,null,null,null,null,null,null,null,null,null,null,null,null,null,null,null,null,null,null,null,null,null,null,null,null,null,null,null,null,null,null,null,0,"",0,0,0,0,0,0,0]
[null,null,null,null,null,null,null,null,null,null,null,null,null,null,null,null,null,null,null,null,null,null,null,null,null,null,null,null,null,null,null,null,null,null,null,null,null,null,null,null,null,null,null,null,null,null,null,null,null,null,null,null,0,"",0,0,0,0,0,0,0]
[null,null,null,null,null,null,null,null,null,null,null,null,null,null,null,null,null,null,null,null,null,null,null,null,null,null,null,null,null,null,null,null,null,null,null,null,null,null,null,null,null,null,null,null,null,null,null,null,null,null,null,null,0,"",0,0,0,0,0,0,0]
[null,null,null,null,null,null,null,null,null,null,null,null,null,null,null,null,null,null,null,null,null,null,null,null,null,null,null,null,null,null,null,null,null,null,null,null,null,null,null,null,null,null,null,null,null,null,null,null,null,null,null,null,0,"",0,0,0,0,0,0,0]
[null,null,null,null,null,null,null,null,null,null,null,null,null,null,null,null,null,null,null,null,null,null,null,null,null,null,null,null,null,null,null,null,null,null,null,null,null,null,null,null,null,null,null,null,null,null,null,null,null,null,null,null,0,"",0,0,0,{"$f":"F153","v":0},0,0,0]
[null,null,null,null,null,null,null,null,null,null,null,null,null,null,null,null,null,null,null,null,null,null,null,null,null,null,null,null,null,null,null,null,null,null,null,null,null,null,null,null,null,null,null,null,null,null,null,null,null,null,null,null,0,"",{"$f":"C154","v":0},0,0,0,0,0,0]
[null,null,null,null,null,null,null,null,null,null,null,null,null,null,null,null,null,null,null,null,null,null,null,null,null,null,null,null,null,null,null,null,null,null,null,null,null,null,null,null,null,null,null,null,null,null,null,null,null,null,null,null,0,"",0,0,0,0,0,0,0]
[null,null,null,null,null,null,null,null,null,null,null,null,null,null,null,null,null,null,null,null,null,null,null,null,null,null,null,null,null,null,null,null,null,null,null,null,null,null,null,null,null,null,null,null,null,null,null,null,null,null,null,null,0,"",0,0,0,0,0,0,0]
[null,null,null,null,null,null,null,null,null,null,null,null,null,null,null,null,null,null,null,null,null,null,null,null,null,null,null,null,null,null,null,null,null,null,null,null,null,null,null,null,null,null,null,null,null,null,null,null,null,null,null,null,0,"",0,0,0,0,0,0,0]
[null,null,null,null,null,null,null,null,null,null,null,null,null,null,null,null,null,null,null,null,null,null,null,null,null,null,null,null,null,null,null,null,null,null,null,null,null,null,null,null,null,null,null,null,null,null,null,null,null,null,null,null,0,"",0,0,0,0,0,0,0]
[null,null,null,null,null,null,null,null,null,null,null,null,null,null,null,null,null,null,null,null,null,null,null,null,null,null,null,null,null,null,null,null,null,null,null,null,null,null,null,null,null,null,null,null,null,null,null,null,null,null,null,null,0,"",0,0,0,0,0,0,0]
[null,null,null,null,null,null,null,null,null,null,null,null,null,null,null,null,null,null,null,null,null,null,null,null,null,null,null,null,null,null,null,null,null,null,null,null,null,null,null,null,null,null,null,null,null,null,null,null,null,null,null,null,0,"",0,0,0,0,0,0,0]
[null,null,null,null,null,null,null,null,null,null,null,null,null,null,null,null,null,null,null,null,null,null,null,null,null,null,null,null,null,null,null,null,null,null,null,null,null,null,null,null,null,null,null,null,null,null,null,null,null,null,null,null,0,"",0,0,0,0,0,0,0]
[null,null,null,null,null,null,null,null,null,null,null,null,null,null,null,null,null,null,null,null,null,null,null,null,null,null,null,null,null,null,null,null,null,null,null,null,null,null,null,null,null,null,null,null,null,null,null,null,null,null,null,null,0,"",0,0,0,0,0,0,0]
[null,null,null,null,null,null,null,null,null,null,null,null,null,null,null,null,null,null,null,null,null,null,null,null,null,null,null,null,null,null,null,null,null,null,null,null,null,null,null,null,null,null,null,null,null,null,null,null,null,null,null,null,0,"",0,0,0,0,0,0,0]
[null,null,null,null,null,null,null,null,null,null,null,null,null,null,null,null,null,null,null,null,null,null,null,null,null,null,null,null,null,null,null,null,null,null,null,null,null,null,null,null,null,null,null,null,null,null,null,null,null,null,null,null,0,"",0,0,0,0,0,0,0]
[null,null,null,null,null,null,null,null,null,null,null,null,null,null,null,null,null,null,null,null,null,null,null,null,null,null,null,null,null,null,null,null,null,null,null,null,null,null,null,null,null,null,null,null,null,null,null,null,null,null,null,null,0,"",0,0,0,0,0,0,0]
[null,null,null,null,null,null,null,null,null,null,null,null,null,null,null,null,null,null,null,null,null,null,null,null,null,null,null,null,null,null,null,null,null,null,null,null,null,null,null,null,null,null,null,null,null,null,null,null,null,null,null,null,0,"",0,0,0,0,0,0,0]
[null,null,null,null,null,null,null,null,null,null,null,null,null,null,null,null,null,null,null,null,null,null,null,null,null,null,null,null,null,null,null,null,null,null,null,null,null,null,null,null,null,null,null,null,null,null,null,null,null,null,null,null,0,"",0,0,0,0,0,0,0]
[null,null,null,null,null,null,null,null,null,null,null,null,null,null,null,null,null,null,null,null,null,null,null,null,null,null,null,null,null,null,null,null,null,null,null,null,null,null,null,null,null,null,null,null,null,null,null,null,null,null,null,null,0,"",0,0,0,0,0,0,0]
[null,null,null,null,null,null,null,null,null,null,null,null,null,null,null,null,null,null,null,null,null,null,null,null,null,null,null,null,null,null,null,null,null,null,null,null,null,null,null,null,null,null,null,null,null,null,null,null,null,null,null,null,0,"",0,0,0,0,0,0,0]
[null,null,null,null,null,null,null,null,null,null,null,null,null,null,null,null,null,null,null,null,null,null,null,null,null,null,null,null,null,null,null,null,null,null,null,null,null,null,null,null,null,null,null,null,null,null,null,null,null,null,null,null,0,"",0,0,0,0,0,0,0]
[null,null,null,null,null,null,null,null,null,null,null,null,null,null,null,null,null,null,null,null,null,null,null,null,null,null,null,null,null,null,null,null,null,null,null,null,null,null,null,null,null,null,null,null,null,null,null,null,null,null,null,null,0,"",0,0,0,0,0,0,0]
[null,null,null,null,null,null,null,null,null,null,null,null,null,null,null,null,null,null,null,null,null,null,null,null,null,null,null,null,null,null,null,null,null,null,null,null,null,null,null,null,null,null,null,null,null,null,null,null,null,null,null,null,0,"",0,0,0,0,0,0,0]
[null,null,null,null,null,null,null,null,null,null,null,null,null,null,null,null,null,null,null,null,null,null,null,null,null,null,null,null,null,null,null,null,null,null,null,null,null,null,null,null,null,null,null,null,null,null,null,null,null,null,null,null,0,"",0,0,0,0,0,0,0]
[null,null,null,null,null,null,null,null,null,null,null,null,null,null,null,null,null,null,null,null,null,null,null,null,null,null,null,null,null,null,null,null,null,null,null,null,null,null,null,null,null,null,null,null,null,null,null,null,null,null,null,null,0,"",0,0,0,0,0,0,0]
[null,null,null,null,null,null,null,null,null,null,null,null,null,null,null,null,null,null,null,null,null,null,null,null,null,null,null,null,null,null,null,null,null,null,null,null,null,null,null,null,null,null,null,null,null,null,null,null,null,null,null,null,0,"",0,0,0,0,0,0,0]
[null,null,null,null,null,null,null,null,null,null,null,null,null,null,null,null,null,null,null,null,null,null,null,null,null,null,null,null,null,null,null,null,null,null,null,null,null,null,null,null,null,null,null,null,null,null,null,null,null,null,null,null,0,"",0,0,0,0,0,0,0]
[null,null,null,null,null,null,null,null,null,null,null,null,null,null,null,null,null,null,null,null,null,null,null,null,null,null,null,null,null,null,null,null,null,null,null,null,null,null,null,null,null,null,null,null,null,null,null,null,null,null,null,null,0,"",0,0,0,0,0,0,0]
[null,null,null,null,null,null,null,null,null,null,null,null,null,null,null,null,null,null,null,null,null,null,null,null,null,null,null,null,null,null,null,null,null,null,null,null,null,null,null,null,null,null,null,null,null,null,null,null,null,null,null,null,0,"",0,0,0,0,0,0,0]
[null,null,null,null,null,null,null,null,null,null,null,null,null,null,null,null,null,null,null,null,null,null,null,null,null,null,null,null,null,null,null,null,null,null,null,null,null,null,null,null,null,null,null,null,null,null,null,null,null,null,null,null,0,"",0,0,0,0,0,0,0]
[null,null,null,null,null,null,null,null,null,null,null,null,null,null,null,null,null,null,null,null,null,null,null,null,null,null,null,null,null,null,null,null,null,null,null,null,null,null,null,null,null,null,null,null,null,null,null,null,null,null,null,null,0,"",0,0,0,0,0,0,0]
[null,null,null,null,null,null,null,null,null,null,null,null,null,null,null,null,null,null,null,null,null,null,null,null,null,null,null,null,null,null,null,null,null,null,null,null,null,null,null,null,null,null,null,null,null,null,null,null,null,null,null,null,0,"",0,0,0,0,0,0,0]
[null,null,null,null,null,null,null,null,null,null,null,null,null,null,null,null,null,null,null,null,null,null,null,null,null,null,null,null,null,null,null,null,null,null,null,null,null,null,null,null,null,null,null,null,null,null,null,null,null,null,null,null,0,"",0,0,0,0,0,0,0]
[null,null,null,null,null,null,null,null,null,null,null,null,null,null,null,null,null,null,null,null,null,null,null,null,null,null,null,null,null,null,null,null,null,null,null,null,null,null,null,null,null,null,null,null,null,null,null,null,null,null,null,null,0,"",0,0,0,0,0,0,0]
[null,null,null,null,null,null,null,null,null,null,null,null,null,null,null,null,null,null,null,null,null,null,null,null,null,null,null,null,null,null,null,null,null,null,null,null,null,null,null,null,null,null,null,null,null,null,null,null,null,null,null,null,0,"",0,0,0,0,0,0,0]
[null,null,null,null,null,null,null,null,null,null,null,null,null,null,null,null,null,null,null,null,null,null,null,null,null,null,null,null,null,null,null,null,null,null,null,null,null,null,null,null,null,null,null,null,null,null,null,null,null,null,null,null,0,"",0,0,0,0,0,0,0]
[null,null,null,null,null,null,null,null,null,null,null,null,null,null,null,null,null,null,null,null,null,null,null,null,null,null,null,null,null,null,null,null,null,null,null,null,null,null,null,null,null,null,null,null,null,null,null,null,null,null,null,null,0,"",0,0,0,0,0,0,0]
[null,null,null,null,null,null,null,null,null,null,null,null,null,null,null,null,null,null,null,null,null,null,null,null,null,null,null,null,null,null,null,null,null,null,null,null,null,null,null,null,null,null,null,null,null,null,null,null,null,null,null,null,0,"",0,0,0,0,0,0,0]
[null,null,null,null,null,null,null,null,null,null,null,null,null,null,null,null,null,null,null,null,null,null,null,null,null,null,null,null,null,null,null,null,null,null,null,null,null,null,null,null,null,null,null,null,null,null,null,null,null,null,null,null,0,"",0,0,0,0,0,0,0]
[null,null,null,null,null,null,null,null,null,null,null,null,null,null,null,null,null,null,null,null,null,null,null,null,null,null,null,null,null,null,null,null,null,null,null,null,null,null,null,null,null,null,null,null,null,null,null,null,null,null,null,null,0,"",0,0,0,0,0,0,0]
[null,null,null,null,null,null,null,null,null,null,null,null,null,null,null,null,null,null,null,null,null,null,null,null,null,null,null,null,null,null,null,null,null,null,null,null,null,null,null,null,null,null,null,null,null,null,null,null,null,null,null,null,0,"",0,0,0,0,0,0,0]
[null,null,null,null,null,null,null,null,null,null,null,null,null,null,null,null,null,null,null,null,null,null,null,null,null,null,null,null,null,null,null,null,null,null,null,null,null,null,null,null,null,null,null,null,null,null,null,null,null,null,null,null,0,"",0,0,0,0,0,0,0]
[null,null,null,null,null,null,null,null,null,null,null,null,null,null,null,null,null,null,null,null,null,null,null,null,null,null,null,null,null,null,null,null,null,null,null,null,null,null,null,null,null,null,null,null,null,null,null,null,null,null,null,null,0,"",0,0,0,0,0,0,0]
[null,null,null,null,null,null,null,null,null,null,null,null,null,null,null,null,null,null,null,null,null,null,null,null,null,null,null,null,null,null,null,null,null,null,null,null,null,null,null,null,null,null,null,null,null,null,null,null,null,null,null,null,0,"",0,0,0,0,0,0,0]
[null,null,null,null,null,null,null,null,null,null,null,null,null,null,null,null,null,null,null,null,null,null,null,null,null,null,null,null,null,null,null,null,null,null,null,null,null,null,null,null,null,null,null,null,null,null,null,null,null,null,null,null,0,"",0,0,0,0,0,0,0]
[null,null,null,null,null,null,null,null,null,null,null,null,null,null,null,null,null,null,null,null,null,null,null,null,null,null,null,null,null,null,null,null,null,null,null,null,null,null,null,null,null,null,null,null,null,null,null,null,null,null,null,null,{"$f":"A195","v":0},{"$f":"B195&C195","v":""},0,0,0,0,0,0,0]
[null,null,null,null,null,null,null,null,null,null,null,null,null,null,null,null,null,null,null,null,null,null,null,null,null,null,null,null,null,null,null,null,null,null,null,null,null,null,null,null,null,null,null,null,null,null,null,null,null,null,null,null,0,"",0,0,0,0,0,0,0]
[null,null,null,null,null,null,null,null,null,null,null,null,null,null,null,null,null,null,null,null,null,null,null,null,null,null,null,null,null,null,null,null,null,null,null,null,null,null,null,null,null,null,null,null,null,null,null,null,null,null,null,null,0,"",0,0,0,0,0,0,0]
[null,null,null,null,null,null,null,null,null,null,null,null,null,null,null,null,null,null,null,null,null,null,null,null,null,null,null,null,null,null,null,null,null,null,null,null,null,null,null,null,null,null,null,null,null,null,null,null,null,null,null,null,0,"",0,0,0,0,0,0,0]
[null,null,null,null,null,null,null,null,null,null,null,null,null,null,null,null,null,null,null,null,null,null,null,null,null,null,null,null,null,null,null,null,null,null,null,null,null,null,null,null,null,null,null,null,null,null,null,null,null,null,null,null,0,"",0,0,0,0,0,0,0]
[null,null,null,null,null,null,null,null,null,null,null,null,null,null,null,null,null,null,null,null,null,null,null,null,null,null,null,null,null,null,null,null,null,null,null,null,null,null,null,null,null,null,null,null,null,null,null,null,null,null,null,null,0,"",0,0,0,0,0,0,0]
[null,null,null,null,null,null,null,null,null,null,null,null,null,null,null,null,null,null,null,null,null,null,null,null,null,null,null,null,null,null,null,null,null,null,null,null,null,null,null,null,null,null,null,null,null,null,null,null,null,null,null,null,0,"",0,0,0,0,0,0,0]
[null,null,null,null,null,null,null,null,null,null,null,null,null,null,null,null,null,null,null,null,null,null,null,null,null,null,null,null,null,null,null,null,null,null,null,null,null,null,null,null,null,null,null,null,null,null,null,null,null,null,null,null,0,"",0,0,0,0,0,0,0]
[null,null,null,null,null,null,null,null,null,null,null,null,null,null,null,null,null,null,null,null,null,null,null,null,null,null,null,null,null,null,null,null,null,null,null,null,null,null,null,null,null,null,null,null,null,null,null,null,null,null,null,null,0,"",0,0,0,0,0,0,0]
[null,null,null,null,null,null,null,null,null,null,null,null,null,null,null,null,null,null,null,null,null,null,null,null,null,null,null,null,null,null,null,null,null,null,null,null,null,null,null,null,null,null,null,null,null,null,null,null,null,null,null,null,0,"",0,0,0,0,0,0,0]
[null,null,null,null,null,null,null,null,null,null,null,null,null,null,null,null,null,null,null,null,null,null,null,null,null,null,null,null,null,null,null,null,null,null,null,null,null,null,null,null,null,null,null,null,null,null,null,null,null,null,null,null,0,"",0,0,0,0,0,0,0]
[null,null,null,null,null,null,null,null,null,null,null,null,null,null,null,null,null,null,null,null,null,null,null,null,null,null,null,null,null,null,null,null,null,null,null,null,null,null,null,null,null,null,null,null,null,null,null,null,null,null,null,null,0,"",0,0,0,0,0,0,0]
[null,null,null,null,null,null,null,null,null,null,null,null,null,null,null,null,null,null,null,null,null,null,null,null,null,null,null,null,null,null,null,null,null,null,null,null,null,null,null,null,null,null,null,null,null,null,null,null,null,null,null,null,0,"",0,0,0,0,0,0,0]
[null,null,null,null,null,null,null,null,null,null,null,null,null,null,null,null,null,null,null,null,null,null,null,null,null,null,null,null,null,null,null,null,null,null,null,null,null,null,null,null,null,null,null,null,null,null,null,null,null,null,null,null,0,"",0,0,0,0,0,0,0]
[null,null,null,null,null,null,null,null,null,null,null,null,null,null,null,null,null,null,null,null,null,null,null,null,null,null,null,null,null,null,null,null,null,null,null,null,null,null,null,null,null,null,null,null,null,null,null,null,null,null,null,null,0,"",0,0,0,0,0,0,0]
[null,null,null,null,null,null,null,null,null,null,null,null,null,null,null,null,null,null,null,null,null,null,null,null,null,null,null,null,null,null,null,null,null,null,null,null,null,null,null,null,null,null,null,null,null,null,null,null,null,null,null,null,0,"",0,0,0,0,0,0,0]
[null,null,null,null,null,null,null,null,null,null,null,null,null,null,null,null,null,null,null,null,null,null,null,null,null,null,null,null,null,null,null,null,null,null,null,null,null,null,null,null,null,null,null,null,null,null,null,null,null,null,null,null,0,"",0,0,0,0,0,0,0]
[null,null,null,null,null,null,null,null,null,null,null,null,null,null,null,null,null,null,null,null,null,null,null,null,null,null,null,null,null,null,null,null,null,null,null,null,null,null,null,null,null,null,null,null,null,null,null,null,null,null,null,null,0,"",0,0,0,0,0,0,0]
[null,null,null,null,null,null,null,null,null,null,null,null,null,null,null,null,null,null,null,null,null,null,null,null,null,null,null,null,null,null,null,null,null,null,null,null,null,null,null,null,null,null,null,null,null,null,null,null,null,null,null,null,0,"",0,0,0,0,0,0,0]
[null,null,null,null,null,null,null,null,null,null,null,null,null,null,null,null,null,null,null,null,null,null,null,null,null,null,null,null,null,null,null,null,null,null,null,null,null,null,null,null,null,null,null,null,null,null,null,null,null,null,null,null,0,"",0,0,0,0,0,0,0]
[null,null,null,null,null,null,null,null,null,null,null,null,null,null,null,null,null,null,null,null,null,null,null,null,null,null,null,null,null,null,null,null,null,null,null,null,null,null,null,null,null,null,null,null,null,null,null,null,null,null,null,null,0,"",0,0,0,0,0,0,0]
[null,null,null,null,null,null,null,null,null,null,null,null,null,null,null,null,null,null,null,null,null,null,null,null,null,null,null,null,null,null,null,null,null,null,null,null,null,null,null,null,null,null,null,null,null,null,null,null,null,null,null,null,0,"",0,0,0,0,0,0,{"$f":"I216","v":0}]
[null,null,null,null,null,null,null,null,null,null,null,null,null,null,null,null,null,null,null,null,null,null,null,null,null,null,null,null,null,null,null,null,null,null,null,null,null,null,null,null,null,null,null,null,null,null,null,null,null,null,null,null,0,"",0,0,0,0,0,0,0]
[null,null,null,null,null,null,null,null,null,null,null,null,null,null,null,null,null,null,null,null,null,null,null,null,null,null,null,null,null,null,null,null,null,null,null,null,null,null,null,null,null,null,null,null,null,null,null,null,null,null,null,null,0,"",{"$f":"C218","v":0},0,0,0,0,0,0]
[null,null,null,null,null,null,null,null,null,null,null,null,null,null,null,null,null,null,null,null,null,null,null,null,null,null,null,null,null,null,null,null,null,null,null,null,null,null,null,null,null,null,null,null,null,null,null,null,null,null,null,null,0,"",0,0,0,0,0,0,0]
[null,null,null,null,null,null,null,null,null,null,null,null,null,null,null,null,null,null,null,null,null,null,null,null,null,null,null,null,null,null,null,null,null,null,null,null,null,null,null,null,null,null,null,null,null,null,null,null,null,null,null,null,0,"",0,0,0,0,0,0,0]
[null,null,null,null,null,null,null,null,null,null,null,null,null,null,null,null,null,null,null,null,null,null,null,null,null,null,null,null,null,null,null,null,null,null,null,null,null,null,null,null,null,null,null,null,null,null,null,null,null,null,null,null,0,"",0,0,0,0,0,0,0]
[null,null,null,null,null,null,null,null,null,null,null,null,null,null,null,null,null,null,null,null,null,null,null,null,null,null,null,null,null,null,null,null,null,null,null,null,null,null,null,null,null,null,null,null,null,null,null,null,null,null,null,null,0,"",0,0,0,0,0,0,0]
[null,null,null,null,null,null,null,null,null,null,null,null,null,null,null,null,null,null,null,null,null,null,null,null,null,null,null,null,null,null,null,null,null,null,null,null,null,null,null,null,null,null,null,null,null,null,null,null,null,null,null,null,0,"",0,0,0,0,0,0,0]
[null,null,null,null,null,null,null,null,null,null,null,null,null,null,null,null,null,null,null,null,null,null,null,null,null,null,null,null,null,null,null,null,null,null,null,null,null,null,null,null,null,null,null,null,null,null,null,null,null,null,null,null,0,"",0,0,0,0,0,0,0]
[null,null,null,null,null,null,null,null,null,null,null,null,null,null,null,null,null,null,null,null,null,null,null,null,null,null,null,null,null,null,null,null,null,null,null,null,null,null,null,null,null,null,null,null,null,null,null,null,null,null,null,null,0,"",0,0,0,0,0,0,0]
[null,null,null,null,null,null,null,null,null,null,null,null,null,null,null,null,null,null,null,null,null,null,null,null,null,null,null,null,null,null,null,null,null,null,null,null,null,null,null,null,null,null,null,null,null,null,null,null,null,null,null,null,0,"",0,0,0,0,0,0,0]
[null,null,null,null,null,null,null,null,null,null,null,null,null,null,null,null,null,null,null,null,null,null,null,null,null,null,null,null,null,null,null,null,null,null,null,null,null,null,null,null,null,null,null,null,null,null,null,null,null,null,null,null,0,"",0,0,0,0,0,0,0]
[null,null,null,null,null,null,null,null,null,null,null,null,null,null,null,null,null,null,null,null,null,null,null,null,null,null,null,null,null,null,null,null,null,null,null,null,null,null,null,null,null,null,null,null,null,null,null,null,null,null,null,null,0,"",0,0,0,0,0,0,0]
[null,null,null,null,null,null,null,null,null,null,null,null,null,null,null,null,null,null,null,null,null,null,null,null,null,null,null,null,null,null,null,null,null,null,null,null,null,null,null,null,null,null,null,null,null,null,null,null,null,null,null,null,0,"",0,0,0,0,0,0,0]
[null,null,null,null,null,null,null,null,null,null,null,null,null,null,null,null,null,null,null,null,null,null,null,null,null,null,null,null,null,null,null,null,null,null,null,null,null,null,null,null,null,null,null,null,null,null,null,null,null,null,null,null,0,"",0,0,0,0,0,0,0]
[null,null,null,null,null,null,null,null,null,null,null,null,null,null,null,null,null,null,null,null,null,null,null,null,null,null,null,null,null,null,null,null,null,null,null,null,null,null,null,null,null,null,null,null,null,null,null,null,null,null,null,null,0,"",0,0,0,0,0,0,0]
[null,null,null,null,null,null,null,null,null,null,null,null,null,null,null,null,null,null,null,null,null,null,null,null,null,null,null,null,null,null,null,null,null,null,null,null,null,null,null,null,null,null,null,null,null,null,null,null,null,null,null,null,0,"",0,0,0,0,0,0,0]
[null,null,null,null,null,null,null,null,null,null,null,null,null,null,null,null,null,null,null,null,null,null,null,null,null,null,null,null,null,null,null,null,null,null,null,null,null,null,null,null,null,null,null,null,null,null,null,null,null,null,null,null,0,"",0,0,0,0,0,0,0]
[null,null,null,null,null,null,null,null,null,null,null,null,null,null,null,null,null,null,null,null,null,null,null,null,null,null,null,null,null,null,null,null,null,null,null,null,null,null,null,null,null,null,null,null,null,null,null,null,null,null,null,null,0,"",0,0,0,0,0,0,0]
[null,null,null,null,null,null,null,null,null,null,null,null,null,null,null,null,null,null,null,null,null,null,null,null,null,null,null,null,null,null,null,null,null,null,null,null,null,null,null,null,null,null,null,null,null,null,null,null,null,null,null,null,0,"",0,0,0,0,0,0,0]
[null,null,null,null,null,null,null,null,null,null,null,null,null,null,null,null,null,null,null,null,null,null,null,null,null,null,null,null,null,null,null,null,null,null,null,null,null,null,null,null,null,null,null,null,null,null,null,null,null,null,null,null,0,"",0,0,0,0,0,0,0]
[null,null,null,null,null,null,null,null,null,null,null,null,null,null,null,null,null,null,null,null,null,null,null,null,null,null,null,null,null,null,null,null,null,null,null,null,null,null,null,null,null,null,null,null,null,null,null,null,null,null,null,null,0,"",0,0,0,0,0,0,0]
[null,null,null,null,null,null,null,null,null,null,null,null,null,null,null,null,null,null,null,null,null,null,null,null,null,null,null,null,null,null,null,null,null,null,null,null,null,null,null,null,null,null,null,null,null,null,null,null,null,null,null,null,0,"",0,0,0,0,0,0,0]
[null,null,null,null,null,null,null,null,null,null,null,null,null,null,null,null,null,null,null,null,null,null,null,null,null,null,null,null,null,null,null,null,null,null,null,null,null,null,null,null,null,null,null,null,null,null,null,null,null,null,null,null,0,"",0,0,0,0,0,0,0]
[null,null,null,null,null,null,null,null,null,null,null,null,null,null,null,null,null,null,null,null,null,null,null,null,null,null,null,null,null,null,null,null,null,null,null,null,null,null,null,null,null,null,null,null,null,null,null,null,null,null,null,null,0,"",0,0,0,0,0,0,0]
[null,null,null,null,null,null,null,null,null,null,null,null,null,null,null,null,null,null,null,null,null,null,null,null,null,null,null,null,null,null,null,null,null,null,null,null,null,null,null,null,null,null,null,null,null,null,null,null,null,null,null,null,0,"",0,0,0,0,0,0,0]
[null,null,null,null,null,null,null,null,null,null,null,null,null,null,null,null,null,null,null,null,null,null,null,null,null,null,null,null,null,null,null,null,null,null,null,null,null,null,null,null,null,null,null,null,null,null,null,null,null,null,null,null,0,"",0,0,0,0,0,0,0]
[null,null,null,null,null,null,null,null,null,null,null,null,null,null,null,null,null,null,null,null,null,null,null,null,null,null,null,null,null,null,null,null,null,null,null,null,null,null,null,null,null,null,null,null,null,null,null,null,null,null,null,null,0,"",0,0,0,0,0,0,0]
[null,null,null,null,null,null,null,null,null,null,null,null,null,null,null,null,null,null,null,null,null,null,null,null,null,null,null,null,null,null,null,null,null,null,null,null,null,null,null,null,null,null,null,null,null,null,null,null,null,null,null,null,0,"",0,0,0,0,0,0,0]
[null,null,null,null,null,null,null,null,null,null,null,null,null,null,null,null,null,null,null,null,null,null,null,null,null,null,null,null,null,null,null,null,null,null,null,null,null,null,null,null,null,null,null,null,null,null,null,null,null,null,null,null,0,"",0,0,0,0,0,0,0]
[null,null,null,null,null,null,null,null,null,null,null,null,null,null,null,null,null,null,null,null,null,null,null,null,null,null,null,null,null,null,null,null,null,null,null,null,null,null,null,null,null,null,null,null,null,null,null,null,null,null,null,null,0,"",0,0,0,0,0,0,0]
[null,null,null,null,null,null,null,null,null,null,null,null,null,null,null,null,null,null,null,null,null,null,null,null,null,null,null,null,null,null,null,null,null,null,null,null,null,null,null,null,null,null,null,null,null,null,null,null,null,null,null,null,0,"",0,0,0,0,0,0,0]
[null,null,null,null,null,null,null,null,null,null,null,null,null,null,null,null,null,null,null,null,null,null,null,null,null,null,null,null,null,null,null,null,null,null,null,null,null,null,null,null,null,null,null,null,null,null,null,null,null,null,null,null,0,"",0,0,0,0,0,0,0]
[null,null,null,null,null,null,null,null,null,null,null,null,null,null,null,null,null,null,null,null,null,null,null,null,null,null,null,null,null,null,null,null,null,null,null,null,null,null,null,null,null,null,null,null,null,null,null,null,null,null,null,null,0,"",0,0,0,0,0,0,0]
[null,null,null,null,null,null,null,null,null,null,null,null,null,null,null,null,null,null,null,null,null,null,null,null,null,null,null,null,null,null,null,null,null,null,null,null,null,null,null,null,null,null,null,null,null,null,null,null,null,null,null,null,0,"",0,0,0,0,0,0,0]
[null,null,null,null,null,null,null,null,null,null,null,null,null,null,null,null,null,null,null,null,null,null,null,null,null,null,null,null,null,null,null,null,null,null,null,null,null,null,null,null,null,null,null,null,null,null,null,null,null,null,null,null,0,"",0,0,0,0,0,0,0]
[null,null,null,null,null,null,null,null,null,null,null,null,null,null,null,null,null,null,null,null,null,null,null,null,null,null,null,null,null,null,null,null,null,null,null,null,null,null,null,null,null,null,null,null,null,null,null,null,null,null,null,null,0,"",0,0,0,0,0,0,0]
[null,null,null,null,null,null,null,null,null,null,null,null,null,null,null,null,null,null,null,null,null,null,null,null,null,null,null,null,null,null,null,null,null,null,null,null,null,null,null,null,null,null,null,null,null,null,null,null,null,null,null,null,0,"",0,0,0,0,0,0,0]
[null,null,null,null,null,null,null,null,null,null,null,null,null,null,null,null,null,null,null,null,null,null,null,null,null,null,null,null,null,null,null,null,null,null,null,null,null,null,null,null,null,null,null,null,null,null,null,null,null,null,null,null,0,"",0,0,0,0,0,0,0]
[null,null,null,null,null,null,null,null,null,null,null,null,null,null,null,null,null,null,null,null,null,null,null,null,null,null,null,null,null,null,null,null,null,null,null,null,null,null,null,null,null,null,null,null,null,null,null,null,null,null,null,null,0,"",0,0,0,0,0,0,0]
[null,null,null,null,null,null,null,null,null,null,null,null,null,null,null,null,null,null,null,null,null,null,null,null,null,null,null,null,null,null,null,null,null,null,null,null,null,null,null,null,null,null,null,null,null,null,null,null,null,null,null,null,0,"",0,0,0,0,0,0,0]
[null,null,null,null,null,null,null,null,null,null,null,null,null,null,null,null,null,null,null,null,null,null,null,null,null,null,null,null,null,null,null,null,null,null,null,null,null,null,null,null,null,null,null,null,null,null,null,null,null,null,null,null,0,"",0,0,0,0,0,0,0]
[null,null,null,null,null,null,null,null,null,null,null,null,null,null,null,null,null,null,null,null,null,null,null,null,null,null,null,null,null,null,null,null,null,null,null,null,null,null,null,null,null,null,null,null,null,null,null,null,null,null,null,null,0,"",0,0,0,0,0,0,0]
[null,null,null,null,null,null,null,null,null,null,null,null,null,null,null,null,null,null,null,null,null,null,null,null,null,null,null,null,null,null,null,null,null,null,null,null,null,null,null,null,null,null,null,null,null,null,null,null,null,null,null,null,{"$f":"A259","v":0},{"$f":"B259&C259","v":""},0,0,0,0,0,0,0]
[null,null,null,null,null,null,null,null,null,null,null,null,null,null,null,null,null,null,null,null,null,null,null,null,null,null,null,null,null,null,null,null,null,null,null,null,null,null,null,null,null,null,null,null,null,null,null,null,null,null,null,null,0,"",0,0,0,{"$f":"F260","v":0},0,0,0]
[null,null,null,null,null,null,null,null,null,null,null,null,null,null,null,null,null,null,null,null,null,null,null,null,null,null,null,null,null,null,null,null,null,null,null,null,null,null,null,null,null,null,null,null,null,null,null,null,null,null,null,null,0,"",{"$f":"C261","v":0},0,0,0,0,0,0]
[null,null,null,null,null,null,null,null,null,null,null,null,null,null,null,null,null,null,null,null,null,null,null,null,null,null,null,null,null,null,null,null,null,null,null,null,null,null,null,null,null,null,null,null,null,null,null,null,null,null,null,null,0,"",0,0,0,0,0,0,0]
[null,null,null,null,null,null,null,null,null,null,null,null,null,null,null,null,null,null,null,null,null,null,null,null,null,null,null,null,null,null,null,null,null,null,null,null,null,null,null,null,null,null,null,null,null,null,null,null,null,null,null,null,0,"",0,0,0,0,0,0,0]
[null,null,null,null,null,null,null,null,null,null,null,null,null,null,null,null,null,null,null,null,null,null,null,null,null,null,null,null,null,null,null,null,null,null,null,null,null,null,null,null,null,null,null,null,null,null,null,null,null,null,null,null,0,"",0,0,0,0,0,0,0]
[null,null,null,null,null,null,null,null,null,null,null,null,null,null,null,null,null,null,null,null,null,null,null,null,null,null,null,null,null,null,null,null,null,null,null,null,null,null,null,null,null,null,null,null,null,null,null,null,null,null,null,null,0,"",0,0,0,0,0,0,0]
[null,null,null,null,null,null,null,null,null,null,null,null,null,null,null,null,null,null,null,null,null,null,null,null,null,null,null,null,null,null,null,null,null,null,null,null,null,null,null,null,null,null,null,null,null,null,null,null,null,null,null,null,0,"",0,0,0,0,0,0,0]
[null,null,null,null,null,null,null,null,null,null,null,null,null,null,null,null,null,null,null,null,null,null,null,null,null,null,null,null,null,null,null,null,null,null,null,null,null,null,null,null,null,null,null,null,null,null,null,null,null,null,null,null,0,"",0,0,0,0,0,0,0]
[null,null,null,null,null,null,null,null,null,null,null,null,null,null,null,null,null,null,null,null,null,null,null,null,null,null,null,null,null,null,null,null,null,null,null,null,null,null,null,null,null,null,null,null,null,null,null,null,null,null,null,null,0,"",0,0,0,0,0,0,0]
[null,null,null,null,null,null,null,null,null,null,null,null,null,null,null,null,null,null,null,null,null,null,null,null,null,null,null,null,null,null,null,null,null,null,null,null,null,null,null,null,null,null,null,null,null,null,null,null,null,null,null,null,0,"",0,0,0,0,0,0,0]
[null,null,null,null,null,null,null,null,null,null,null,null,null,null,null,null,null,null,null,null,null,null,null,null,null,null,null,null,null,null,null,null,null,null,null,null,null,null,null,null,null,null,null,null,null,null,null,null,null,null,null,null,0,"",0,0,0,0,0,0,0]
[null,null,null,null,null,null,null,null,null,null,null,null,null,null,null,null,null,null,null,null,null,null,null,null,null,null,null,null,null,null,null,null,null,null,null,null,null,null,null,null,null,null,null,null,null,null,null,null,null,null,null,null,0,"",0,0,0,0,0,0,0]
[null,null,null,null,null,null,null,null,null,null,null,null,null,null,null,null,null,null,null,null,null,null,null,null,null,null,null,null,null,null,null,null,null,null,null,null,null,null,null,null,null,null,null,null,null,null,null,null,null,null,null,null,0,"",0,0,0,0,0,0,0]
[null,null,null,null,null,null,null,null,null,null,null,null,null,null,null,null,null,null,null,null,null,null,null,null,null,null,null,null,null,null,null,null,null,null,null,null,null,null,null,null,null,null,null,null,null,null,null,null,null,null,null,null,0,"",0,0,0,0,0,0,0]
[null,null,null,null,null,null,null,null,null,null,null,null,null,null,null,null,null,null,null,null,null,null,null,null,null,null,null,null,null,null,null,null,null,null,null,null,null,null,null,null,null,null,null,null,null,null,null,null,null,null,null,null,0,"",0,0,0,0,0,0,0]
[null,null,null,null,null,null,null,null,null,null,null,null,null,null,null,null,null,null,null,null,null,null,null,null,null,null,null,null,null,null,null,null,null,null,null,null,null,null,null,null,null,null,null,null,null,null,null,null,null,null,null,null,0,"",0,0,0,0,0,0,0]
[null,null,null,null,null,null,null,null,null,null,null,null,null,null,null,null,null,null,null,null,null,null,null,null,null,null,null,null,null,null,null,null,null,null,null,null,null,null,null,null,null,null,null,null,null,null,null,null,null,null,null,null,0,"",0,0,0,0,0,0,0]
[null,null,null,null,null,null,null,null,null,null,null,null,null,null,null,null,null,null,null,null,null,null,null,null,null,null,null,null,null,null,null,null,null,null,null,null,null,null,null,null,null,null,null,null,null,null,null,null,null,null,null,null,0,"",0,0,0,0,0,0,0]
[null,null,null,null,null,null,null,null,null,null,null,null,null,null,null,null,null,null,null,null,null,null,null,null,null,null,null,null,null,null,null,null,null,null,null,null,null,null,null,null,null,null,null,null,null,null,null,null,null,null,null,null,0,"",0,0,0,0,0,0,0]
[null,null,null,null,null,null,null,null,null,null,null,null,null,null,null,null,null,null,null,null,null,null,null,null,null,null,null,null,null,null,null,null,null,null,null,null,null,null,null,null,null,null,null,null,null,null,null,null,null,null,null,null,0,"",0,0,0,0,0,0,0]
[null,null,null,null,null,null,null,null,null,null,null,null,null,null,null,null,null,null,null,null,null,null,null,null,null,null,null,null,null,null,null,null,null,null,null,null,null,null,null,null,null,null,null,null,null,null,null,null,null,null,null,null,0,"",0,0,0,0,0,0,0]
[null,null,null,null,null,null,null,null,null,null,null,null,null,null,null,null,null,null,null,null,null,null,null,null,null,null,null,null,null,null,null,null,null,null,null,null,null,null,null,null,null,null,null,null,null,null,null,null,null,null,null,null,0,"",0,0,0,0,0,0,0]
[null,null,null,null,null,null,null,null,null,null,null,null,null,null,null,null,null,null,null,null,null,null,null,null,null,null,null,null,null,null,null,null,null,null,null,null,null,null,null,null,null,null,null,null,null,null,null,null,null,null,null,null,0,"",0,0,0,0,0,0,0]
[null,null,null,null,null,null,null,null,null,null,null,null,null,null,null,null,null,null,null,null,null,null,null,null,null,null,null,null,null,null,null,null,null,null,null,null,null,null,null,null,null,null,null,null,null,null,null,null,null,null,null,null,0,"",0,0,0,0,0,0,0]
[null,null,null,null,null,null,null,null,null,null,null,null,null,null,null,null,null,null,null,null,null,null,null,null,null,null,null,null,null,null,null,null,null,null,null,null,null,null,null,null,null,null,null,null,null,null,null,null,null,null,null,null,0,"",0,0,0,0,0,0,0]
[null,null,null,null,null,null,null,null,null,null,null,null,null,null,null,null,null,null,null,null,null,null,null,null,null,null,null,null,null,null,null,null,null,null,null,null,null,null,null,null,null,null,null,null,null,null,null,null,null,null,null,null,0,"",0,0,0,0,0,0,0]
[null,null,null,null,null,null,null,null,null,null,null,null,null,null,null,null,null,null,null,null,null,null,null,null,null,null,null,null,null,null,null,null,null,null,null,null,null,null,null,null,null,null,null,null,null,null,null,null,null,null,null,null,0,"",0,0,0,0,0,0,0]
[null,null,null,null,null,null,null,null,null,null,null,null,null,null,null,null,null,null,null,null,null,null,null,null,null,null,null,null,null,null,null,null,null,null,null,null,null,null,null,null,null,null,null,null,null,null,null,null,null,null,null,null,0,"",0,0,0,0,0,0,0]
[null,null,null,null,null,null,null,null,null,null,null,null,null,null,null,null,null,null,null,null,null,null,null,null,null,null,null,null,null,null,null,null,null,null,null,null,null,null,null,null,null,null,null,null,null,null,null,null,null,null,null,null,0,"",0,0,0,0,0,0,0]
[null,null,null,null,null,null,null,null,null,null,null,null,null,null,null,null,null,null,null,null,null,null,null,null,null,null,null,null,null,null,null,null,null,null,null,null,null,null,null,null,null,null,null,null,null,null,null,null,null,null,null,null,0,"",0,0,0,0,0,0,0]
[null,null,null,null,null,null,null,null,null,null,null,null,null,null,null,null,null,null,null,null,null,null,null,null,null,null,null,null,null,null,null,null,null,null,null,null,null,null,null,null,null,null,null,null,null,null,null,null,null,null,null,null,0,"",0,0,0,0,0,0,0]
[null,null,null,null,null,null,null,null,null,null,null,null,null,null,null,null,null,null,null,null,null,null,null,null,null,null,null,null,null,null,null,null,null,null,null,null,null,null,null,null,null,null,null,null,null,null,null,null,null,null,null,null,0,"",0,0,0,0,0,0,0]
[null,null,null,null,null,null,null,null,null,null,null,null,null,null,null,null,null,null,null,null,null,null,null,null,null,null,null,null,null,null,null,null,null,null,null,null,null,null,null,null,null,null,null,null,null,null,null,null,null,null,null,null,0,"",0,0,0,0,0,0,0]
[null,null,null,null,null,null,null,null,null,null,null,null,null,null,null,null,null,null,null,null,null,null,null,null,null,null,null,null,null,null,null,null,null,null,null,null,null,null,null,null,null,null,null,null,null,null,null,null,null,null,null,null,0,"",0,0,0,0,0,0,0]
[null,null,null,null,null,null,null,null,null,null,null,null,null,null,null,null,null,null,null,null,null,null,null,null,null,null,null,null,null,null,null,null,null,null,null,null,null,null,null,null,null,null,null,null,null,null,null,null,null,null,null,null,0,"",0,0,0,0,0,0,0]
[null,null,null,null,null,null,null,null,null,null,null,null,null,null,null,null,null,null,null,null,null,null,null,null,null,null,null,null,null,null,null,null,null,null,null,null,null,null,null,null,null,null,null,null,null,null,null,null,null,null,null,null,0,"",0,0,0,0,0,0,0]
[null,null,null,null,null,null,null,null,null,null,null,null,null,null,null,null,null,null,null,null,null,null,null,null,null,null,null,null,null,null,null,null,null,null,null,null,null,null,null,null,null,null,null,null,null,null,null,null,null,null,null,null,0,"",0,0,0,0,0,0,0]
[null,null,null,null,null,null,null,null,null,null,null,null,null,null,null,null,null,null,null,null,null,null,null,null,null,null,null,null,null,null,null,null,null,null,null,null,null,null,null,null,null,null,null,null,null,null,null,null,null,null,null,null,0,"",0,0,0,0,0,0,0]
[null,null,null,null,null,null,null,null,null,null,null,null,null,null,null,null,null,null,null,null,null,null,null,null,null,null,null,null,null,null,null,null,null,null,null,null,null,null,null,null,null,null,null,null,null,null,null,null,null,null,null,null,0,"",0,0,0,0,0,0,0]
[null,null,null,null,null,null,null,null,null,null,null,null,null,null,null,null,null,null,null,null,null,null,null,null,null,null,null,null,null,null,null,null,null,null,null,null,null,null,null,null,null,null,null,null,null,null,null,null,null,null,null,null,0,"",0,0,0,0,0,0,0]
[null,null,null,null,null,null,null,null,null,null,null,null,null,null,null,null,null,null,null,null,null,null,null,null,null,null,null,null,null,null,null,null,null,null,null,null,null,null,null,null,null,null,null,null,null,null,null,null,null,null,null,null,0,"",0,0,0,0,0,0,0]
[null,null,null,null,null,null,null,null,null,null,null,null,null,null,null,null,null,null,null,null,null,null,null,null,null,null,null,null,null,null,null,null,null,null,null,null,null,null,null,null,null,null,null,null,null,null,null,null,null,null,null,null,0,"",0,0,0,0,0,0,0]
[null,null,null,null,null,null,null,null,null,null,null,null,null,null,null,null,null,null,null,null,null,null,null,null,null,null,null,null,null,null,null,null,null,null,null,null,null,null,null,null,null,null,null,null,null,null,null,null,null,null,null,null,0,"",0,0,0,0,0,0,0]
[null,null,null,null,null,null,null,null,null,null,null,null,null,null,null,null,null,null,null,null,null,null,null,null,null,null,null,null,null,null,null,null,null,null,null,null,null,null,null,null,null,null,null,null,null,null,null,null,null,null,null,null,0,"",0,0,0,0,0,0,0]
[null,null,null,null,null,null,null,null,null,null,null,null,null,null,null,null,null,null,null,null,null,null,null,null,null,null,null,null,null,null,null,null,null,null,null,null,null,null,null,null,null,null,null,null,null,null,null,null,null,null,null,null,0,"",0,0,0,0,0,0,0]
[null,null,null,null,null,null,null,null,null,null,null,null,null,null,null,null,null,null,null,null,null,null,null,null,null,null,null,null,null,null,null,null,null,null,null,null,null,null,null,null,null,null,null,null,null,null,null,null,null,null,null,null,0,"",0,0,0,0,0,0,0]
[null,null,null,null,null,null,null,null,null,null,null,null,null,null,null,null,null,null,null,null,null,null,null,null,null,null,null,null,null,null,null,null,null,null,null,null,null,null,null,null,null,null,null,null,null,null,null,null,null,null,null,null,0,"",0,0,0,0,0,0,0]
[null,null,null,null,null,null,null,null,null,null,null,null,null,null,null,null,null,null,null,null,null,null,null,null,null,null,null,null,null,null,null,null,null,null,null,null,null,null,null,null,null,null,null,null,null,null,null,null,null,null,null,null,0,"",0,0,0,0,0,0,0]
[null,null,null,null,null,null,null,null,null,null,null,null,null,null,null,null,null,null,null,null,null,null,null,null,null,null,null,null,null,null,null,null,null,null,null,null,null,null,null,null,null,null,null,null,null,null,null,null,null,null,null,null,0,"",0,0,0,0,0,0,0]
[null,null,null,null,null,null,null,null,null,null,null,null,null,null,null,null,null,null,null,null,null,null,null,null,null,null,null,null,null,null,null,null,null,null,null,null,null,null,null,null,null,null,null,null,null,null,null,null,null,null,null,null,0,"",0,0,0,0,0,0,0]
[null,null,null,null,null,null,null,null,null,null,null,null,null,null,null,null,null,null,null,null,null,null,null,null,null,null,null,null,null,null,null,null,null,null,null,null,null,null,null,null,null,null,null,null,null,null,null,null,null,null,null,null,0,"",0,0,0,0,0,0,0]
[null,null,null,null,null,null,null,null,null,null,null,null,null,null,null,null,null,null,null,null,null,null,null,null,null,null,null,null,null,null,null,null,null,null,null,null,null,null,null,null,null,null,null,null,null,null,null,null,null,null,null,null,0,"",0,0,0,0,0,0,0]
[null,null,null,null,null,null,null,null,null,null,null,null,null,null,null,null,null,null,null,null,null,null,null,null,null,null,null,null,null,null,null,null,null,null,null,null,null,null,null,null,null,null,null,null,null,null,null,null,null,null,null,null,0,"",0,0,0,0,0,0,0]
[null,null,null,null,null,null,null,null,null,null,null,null,null,null,null,null,null,null,null,null,null,null,null,null,null,null,null,null,null,null,null,null,null,null,null,null,null,null,null,null,null,null,null,null,null,null,null,null,null,null,null,null,0,"",0,0,0,0,0,0,0]
[null,null,null,null,null,null,null,null,null,null,null,null,null,null,null,null,null,null,null,null,null,null,null,null,null,null,null,null,null,null,null,null,null,null,null,null,null,null,null,null,null,null,null,null,null,null,null,null,null,null,null,null,0,"",0,0,0,0,0,0,0]
[null,null,null,null,null,null,null,null,null,null,null,null,null,null,null,null,null,null,null,null,null,null,null,null,null,null,null,null,null,null,null,null,null,null,null,null,null,null,null,null,null,null,null,null,null,null,null,null,null,null,null,null,0,"",0,0,0,0,0,0,0]
[null,null,null,null,null,null,null,null,null,null,null,null,null,null,null,null,null,null,null,null,null,null,null,null,null,null,null,null,null,null,null,null,null,null,null,null,null,null,null,null,null,null,null,null,null,null,null,null,null,null,null,null,0,"",0,0,0,0,0,0,0]
[null,null,null,null,null,null,null,null,null,null,null,null,null,null,null,null,null,null,null,null,null,null,null,null,null,null,null,null,null,null,null,null,null,null,null,null,null,null,null,null,null,null,null,null,null,null,null,null,null,null,null,null,0,"",0,0,0,0,0,0,0]
[null,null,null,null,null,null,null,null,null,null,null,null,null,null,null,null,null,null,null,null,null,null,null,null,null,null,null,null,null,null,null,null,null,null,null,null,null,null,null,null,null,null,null,null,null,null,null,null,null,null,null,null,0,"",0,0,0,0,0,0,0]
[null,null,null,null,null,null,null,null,null,null,null,null,null,null,null,null,null,null,null,null,null,null,null,null,null,null,null,null,null,null,null,null,null,null,null,null,null,null,null,null,null,null,null,null,null,null,null,null,null,null,null,null,0,"",0,0,0,0,0,0,0]
[null,null,null,null,null,null,null,null,null,null,null,null,null,null,null,null,null,null,null,null,null,null,null,null,null,null,null,null,null,null,null,null,null,null,null,null,null,null,null,null,null,null,null,null,null,null,null,null,null,null,null,null,0,"",0,0,0,0,0,0,0]
[null,null,null,null,null,null,null,null,null,null,null,null,null,null,null,null,null,null,null,null,null,null,null,null,null,null,null,null,null,null,null,null,null,null,null,null,null,null,null,null,null,null,null,null,null,null,null,null,null,null,null,null,0,"",0,0,0,0,0,0,0]
[null,null,null,null,null,null,null,null,null,null,null,null,null,null,null,null,null,null,null,null,null,null,null,null,null,null,null,null,null,null,null,null,null,null,null,null,null,null,null,null,null,null,null,null,null,null,null,null,null,null,null,null,0,"",0,0,0,0,0,0,0]
[null,null,null,null,null,null,null,null,null,null,null,null,null,null,null,null,null,null,null,null,null,null,null,null,null,null,null,null,null,null,null,null,null,null,null,null,null,null,null,null,null,null,null,null,null,null,null,null,null,null,null,null,{"$f":"A323","v":0},{"$f":"B323&C323","v":""},0,0,0,0,0,0,0]
[null,null,null,null,null,null,null,null,null,null,null,null,null,null,null,null,null,null,null,null,null,null,null,null,null,null,null,null,null,null,null,null,null,null,null,null,null,null,null,null,null,null,null,null,null,null,null,null,null,null,null,null,0,"",0,0,0,0,0,0,0]
[null,null,null,null,null,null,null,null,null,null,null,null,null,null,null,null,null,null,null,null,null,null,null,null,null,null,null,null,null,null,null,null,null,null,null,null,null,null,null,null,null,null,null,null,null,null,null,null,null,null,null,null,0,"",{"$f":"C325","v":0},0,0,0,0,0,0]
[null,null,null,null,null,null,null,null,null,null,null,null,null,null,null,null,null,null,null,null,null,null,null,null,null,null,null,null,null,null,null,null,null,null,null,null,null,null,null,null,null,null,null,null,null,null,null,null,null,null,null,null,0,"",0,0,0,0,0,0,0]
[null,null,null,null,null,null,null,null,null,null,null,null,null,null,null,null,null,null,null,null,null,null,null,null,null,null,null,null,null,null,null,null,null,null,null,null,null,null,null,null,null,null,null,null,null,null,null,null,null,null,null,null,0,"",0,0,0,0,0,0,0]
[null,null,null,null,null,null,null,null,null,null,null,null,null,null,null,null,null,null,null,null,null,null,null,null,null,null,null,null,null,null,null,null,null,null,null,null,null,null,null,null,null,null,null,null,null,null,null,null,null,null,null,null,0,"",0,0,0,0,0,0,0]
[null,null,null,null,null,null,null,null,null,null,null,null,null,null,null,null,null,null,null,null,null,null,null,null,null,null,null,null,null,null,null,null,null,null,null,null,null,null,null,null,null,null,null,null,null,null,null,null,null,null,null,null,0,"",0,0,0,0,0,0,0]
[null,null,null,null,null,null,null,null,null,null,null,null,null,null,null,null,null,null,null,null,null,null,null,null,null,null,null,null,null,null,null,null,null,null,null,null,null,null,null,null,null,null,null,null,null,null,null,null,null,null,null,null,0,"",0,0,0,0,0,0,0]
[null,null,null,null,null,null,null,null,null,null,null,null,null,null,null,null,null,null,null,null,null,null,null,null,null,null,null,null,null,null,null,null,null,null,null,null,null,null,null,null,null,null,null,null,null,null,null,null,null,null,null,null,0,"",0,0,0,0,0,0,0]
[null,null,null,null,null,null,null,null,null,null,null,null,null,null,null,null,null,null,null,null,null,null,null,null,null,null,null,null,null,null,null,null,null,null,null,null,null,null,null,null,null,null,null,null,null,null,null,null,null,null,null,null,0,"",0,0,0,0,0,0,0]
[null,null,null,null,null,null,null,null,null,null,null,null,null,null,null,null,null,null,null,null,null,null,null,null,null,null,null,null,null,null,null,null,null,null,null,null,null,null,null,null,null,null,null,null,null,null,null,null,null,null,null,null,0,"",0,0,0,0,0,0,0]
[null,null,null,null,null,null,null,null,null,null,null,null,null,null,null,null,null,null,null,null,null,null,null,null,null,null,null,null,null,null,null,null,null,null,null,null,null,null,null,null,null,null,null,null,null,null,null,null,null,null,null,null,0,"",0,0,0,0,0,0,0]
[null,null,null,null,null,null,null,null,null,null,null,null,null,null,null,null,null,null,null,null,null,null,null,null,null,null,null,null,null,null,null,null,null,null,null,null,null,null,null,null,null,null,null,null,null,null,null,null,null,null,null,null,0,"",0,0,0,0,0,0,0]
[null,null,null,null,null,null,null,null,null,null,null,null,null,null,null,null,null,null,null,null,null,null,null,null,null,null,null,null,null,null,null,null,null,null,null,null,null,null,null,null,null,null,null,null,null,null,null,null,null,null,null,null,0,"",0,0,0,0,0,0,0]
[null,null,null,null,null,null,null,null,null,null,null,null,null,null,null,null,null,null,null,null,null,null,null,null,null,null,null,null,null,null,null,null,null,null,null,null,null,null,null,null,null,null,null,null,null,null,null,null,null,null,null,null,0,"",0,0,0,0,0,0,0]
[null,null,null,null,null,null,null,null,null,null,null,null,null,null,null,null,null,null,null,null,null,null,null,null,null,null,null,null,null,null,null,null,null,null,null,null,null,null,null,null,null,null,null,null,null,null,null,null,null,null,null,null,0,"",0,0,0,0,0,0,0]
[null,null,null,null,null,null,null,null,null,null,null,null,null,null,null,null,null,null,null,null,null,null,null,null,null,null,null,null,null,null,null,null,null,null,null,null,null,null,null,null,null,null,null,null,null,null,null,null,null,null,null,null,0,"",0,0,0,0,0,0,0]
[null,null,null,null,null,null,null,null,null,null,null,null,null,null,null,null,null,null,null,null,null,null,null,null,null,null,null,null,null,null,null,null,null,null,null,null,null,null,null,null,null,null,null,null,null,null,null,null,null,null,null,null,0,"",0,0,0,0,0,0,0]
[null,null,null,null,null,null,null,null,null,null,null,null,null,null,null,null,null,null,null,null,null,null,null,null,null,null,null,null,null,null,null,null,null,null,null,null,null,null,null,null,null,null,null,null,null,null,null,null,null,null,null,null,0,"",0,0,0,0,0,0,0]
[null,null,null,null,null,null,null,null,null,null,null,null,null,null,null,null,null,null,null,null,null,null,null,null,null,null,null,null,null,null,null,null,null,null,null,null,null,null,null,null,null,null,null,null,null,null,null,null,null,null,null,null,0,"",0,0,0,0,0,0,0]
[null,null,null,null,null,null,null,null,null,null,null,null,null,null,null,null,null,null,null,null,null,null,null,null,null,null,null,null,null,null,null,null,null,null,null,null,null,null,null,null,null,null,null,null,null,null,null,null,null,null,null,null,0,"",0,0,0,0,0,0,0]
[null,null,null,null,null,null,null,null,null,null,null,null,null,null,null,null,null,null,null,null,null,null,null,null,null,null,null,null,null,null,null,null,null,null,null,null,null,null,null,null,null,null,null,null,null,null,null,null,null,null,null,null,0,"",0,0,0,0,0,0,0]
[null,null,null,null,null,null,null,null,null,null,null,null,null,null,null,null,null,null,null,null,null,null,null,null,null,null,null,null,null,null,null,null,null,null,null,null,null,null,null,null,null,null,null,null,null,null,null,null,null,null,null,null,0,"",0,0,0,0,0,0,0]
[null,null,null,null,null,null,null,null,null,null,null,null,null,null,null,null,null,null,null,null,null,null,null,null,null,null,null,null,null,null,null,null,null,null,null,null,null,null,null,null,null,null,null,null,null,null,null,null,null,null,null,null,0,"",0,0,0,0,0,0,0]
[null,null,null,null,null,null,null,null,null,null,null,null,null,null,null,null,null,null,null,null,null,null,null,null,null,null,null,null,null,null,null,null,null,null,null,null,null,null,null,null,null,null,null,null,null,null,null,null,null,null,null,null,0,"",0,0,0,0,0,0,0]
[null,null,null,null,null,null,null,null,null,null,null,null,null,null,null,null,null,null,null,null,null,null,null,null,null,null,null,null,null,null,null,null,null,null,null,null,null,null,null,null,null,null,null,null,null,null,null,null,null,null,null,null,0,"",0,0,0,0,0,0,0]
[null,null,null,null,null,null,null,null,null,null,null,null,null,null,null,null,null,null,null,null,null,null,null,null,null,null,null,null,null,null,null,null,null,null,null,null,null,null,null,null,null,null,null,null,null,null,null,null,null,null,null,null,0,"",0,0,0,0,0,0,0]
[null,null,null,null,null,null,null,null,null,null,null,null,null,null,null,null,null,null,null,null,null,null,null,null,null,null,null,null,null,null,null,null,null,null,null,null,null,null,null,null,null,null,null,null,null,null,null,null,null,null,null,null,0,"",0,0,0,0,0,0,0]
[null,null,null,null,null,null,null,null,null,null,null,null,null,null,null,null,null,null,null,null,null,null,null,null,null,null,null,null,null,null,null,null,null,null,null,null,null,null,null,null,null,null,null,null,null,null,null,null,null,null,null,null,0,"",0,0,0,0,0,0,0]
[null,null,null,null,null,null,null,null,null,null,null,null,null,null,null,null,null,null,null,null,null,null,null,null,null,null,null,null,null,null,null,null,null,null,null,null,null,null,null,null,null,null,null,null,null,null,null,null,null,null,null,null,0,"",0,0,0,0,0,0,0]
[null,null,null,null,null,null,null,null,null,null,null,null,null,null,null,null,null,null,null,null,null,null,null,null,null,null,null,null,null,null,null,null,null,null,null,null,null,null,null,null,null,null,null,null,null,null,null,null,null,null,null,null,0,"",0,0,0,0,0,0,0]
[null,null,null,null,null,null,null,null,null,null,null,null,null,null,null,null,null,null,null,null,null,null,null,null,null,null,null,null,null,null,null,null,null,null,null,null,null,null,null,null,null,null,null,null,null,null,null,null,null,null,null,null,0,"",0,0,0,0,0,0,0]
[null,null,null,null,null,null,null,null,null,null,null,null,null,null,null,null,null,null,null,null,null,null,null,null,null,null,null,null,null,null,null,null,null,null,null,null,null,null,null,null,null,null,null,null,null,null,null,null,null,null,null,null,0,"",0,0,0,0,0,0,0]
[null,null,null,null,null,null,null,null,null,null,null,null,null,null,null,null,null,null,null,null,null,null,null,null,null,null,null,null,null,null,null,null,null,null,null,null,null,null,null,null,null,null,null,null,null,null,null,null,null,null,null,null,0,"",0,0,0,0,0,0,0]
[null,null,null,null,null,null,null,null,null,null,null,null,null,null,null,null,null,null,null,null,null,null,null,null,null,null,null,null,null,null,null,null,null,null,null,null,null,null,null,null,null,null,null,null,null,null,null,null,null,null,null,null,0,"",0,0,0,0,0,0,0]
[null,null,null,null,null,null,null,null,null,null,null,null,null,null,null,null,null,null,null,null,null,null,null,null,null,null,null,null,null,null,null,null,null,null,null,null,null,null,null,null,null,null,null,null,null,null,null,null,null,null,null,null,0,"",0,0,0,0,0,0,0]
[null,null,null,null,null,null,null,null,null,null,null,null,null,null,null,null,null,null,null,null,null,null,null,null,null,null,null,null,null,null,null,null,null,null,null,null,null,null,null,null,null,null,null,null,null,null,null,null,null,null,null,null,0,"",0,0,0,0,0,0,0]
[null,null,null,null,null,null,null,null,null,null,null,null,null,null,null,null,null,null,null,null,null,null,null,null,null,null,null,null,null,null,null,null,null,null,null,null,null,null,null,null,null,null,null,null,null,null,null,null,null,null,null,null,0,"",0,0,0,0,0,0,0]
[null,null,null,null,null,null,null,null,null,null,null,null,null,null,null,null,null,null,null,null,null,null,null,null,null,null,null,null,null,null,null,null,null,null,null,null,null,null,null,null,null,null,null,null,null,null,null,null,null,null,null,null,0,"",0,0,0,{"$f":"F361","v":0},0,0,0]
[null,null,null,null,null,null,null,null,null,null,null,null,null,null,null,null,null,null,null,null,null,null,null,null,null,null,null,null,null,null,null,null,null,null,null,null,null,null,null,null,null,null,null,null,null,null,null,null,null,null,null,null,0,"",{"$f":"C362","v":0},0,0,0,0,0,0]
[null,null,null,null,null,null,null,null,null,null,null,null,null,null,null,null,null,null,null,null,null,null,null,null,null,null,null,null,null,null,null,null,null,null,null,null,null,null,null,null,null,null,null,null,null,null,null,null,null,null,null,null,0,"",0,0,0,0,0,0,0]
[null,null,null,null,null,null,null,null,null,null,null,null,null,null,null,null,null,null,null,null,null,null,null,null,null,null,null,null,null,null,null,null,null,null,null,null,null,null,null,null,null,null,null,null,null,null,null,null,null,null,null,null,0,"",0,0,0,0,0,0,0]
[null,null,null,null,null,null,null,null,null,null,null,null,null,null,null,null,null,null,null,null,null,null,null,null,null,null,null,null,null,null,null,null,null,null,null,null,null,null,null,null,null,null,null,null,null,null,null,null,null,null,null,null,0,"",0,0,0,0,0,0,0]
[null,null,null,null,null,null,null,null,null,null,null,null,null,null,null,null,null,null,null,null,null,null,null,null,null,null,null,null,null,null,null,null,null,null,null,null,null,null,null,null,null,null,null,null,null,null,null,null,null,null,null,null,0,"",0,0,0,0,0,0,0]
[null,null,null,null,null,null,null,null,null,null,null,null,null,null,null,null,null,null,null,null,null,null,null,null,null,null,null,null,null,null,null,null,null,null,null,null,null,null,null,null,null,null,null,null,null,null,null,null,null,null,null,null,0,"",0,0,0,0,0,0,0]
[null,null,null,null,null,null,null,null,null,null,null,null,null,null,null,null,null,null,null,null,null,null,null,null,null,null,null,null,null,null,null,null,null,null,null,null,null,null,null,null,null,null,null,null,null,null,null,null,null,null,null,null,0,"",0,0,0,0,0,0,0]
[null,null,null,null,null,null,null,null,null,null,null,null,null,null,null,null,null,null,null,null,null,null,null,null,null,null,null,null,null,null,null,null,null,null,null,null,null,null,null,null,null,null,null,null,null,null,null,null,null,null,null,null,0,"",0,0,0,0,0,0,0]
[null,null,null,null,null,null,null,null,null,null,null,null,null,null,null,null,null,null,null,null,null,null,null,null,null,null,null,null,null,null,null,null,null,null,null,null,null,null,null,null,null,null,null,null,null,null,null,null,null,null,null,null,0,"",0,0,0,0,0,0,0]
[null,null,null,null,null,null,null,null,null,null,null,null,null,null,null,null,null,null,null,null,null,null,null,null,null,null,null,null,null,null,null,null,null,null,null,null,null,null,null,null,null,null,null,null,null,null,null,null,null,null,null,null,0,"",0,0,0,0,0,0,0]
[null,null,null,null,null,null,null,null,null,null,null,null,null,null,null,null,null,null,null,null,null,null,null,null,null,null,null,null,null,null,null,null,null,null,null,null,null,null,null,null,null,null,null,null,null,null,null,null,null,null,null,null,0,"",0,0,0,0,0,0,0]
[null,null,null,null,null,null,null,null,null,null,null,null,null,null,null,null,null,null,null,null,null,null,null,null,null,null,null,null,null,null,null,null,null,null,null,null,null,null,null,null,null,null,null,null,null,null,null,null,null,null,null,null,0,"",0,0,0,0,0,0,0]
[null,null,null,null,null,null,null,null,null,null,null,null,null,null,null,null,null,null,null,null,null,null,null,null,null,null,null,null,null,null,null,null,null,null,null,null,null,null,null,null,null,null,null,null,null,null,null,null,null,null,null,null,0,"",0,0,0,0,0,0,0]
[null,null,null,null,null,null,null,null,null,null,null,null,null,null,null,null,null,null,null,null,null,null,null,null,null,null,null,null,null,null,null,null,null,null,null,null,null,null,null,null,null,null,null,null,null,null,null,null,null,null,null,null,0,"",0,0,0,0,0,0,0]
[null,null,null,null,null,null,null,null,null,null,null,null,null,null,null,null,null,null,null,null,null,null,null,null,null,null,null,null,null,null,null,null,null,null,null,null,null,null,null,null,null,null,null,null,null,null,null,null,null,null,null,null,0,"",0,0,0,0,0,0,0]
[null,null,null,null,null,null,null,null,null,null,null,null,null,null,null,null,null,null,null,null,null,null,null,null,null,null,null,null,null,null,null,null,null,null,null,null,null,null,null,null,null,null,null,null,null,null,null,null,null,null,null,null,0,"",0,0,0,0,0,0,0]
[null,null,null,null,null,null,null,null,null,null,null,null,null,null,null,null,null,null,null,null,null,null,null,null,null,null,null,null,null,null,null,null,null,null,null,null,null,null,null,null,null,null,null,null,null,null,null,null,null,null,null,null,0,"",0,0,0,0,0,0,0]
[null,null,null,null,null,null,null,null,null,null,null,null,null,null,null,null,null,null,null,null,null,null,null,null,null,null,null,null,null,null,null,null,null,null,null,null,null,null,null,null,null,null,null,null,null,null,null,null,null,null,null,null,0,"",0,0,0,0,0,0,0]
[null,null,null,null,null,null,null,null,null,null,null,null,null,null,null,null,null,null,null,null,null,null,null,null,null,null,null,null,null,null,null,null,null,null,null,null,null,null,null,null,null,null,null,null,null,null,null,null,null,null,null,null,0,"",0,0,0,0,0,0,0]
[null,null,null,null,null,null,null,null,null,null,null,null,null,null,null,null,null,null,null,null,null,null,null,null,null,null,null,null,null,null,null,null,null,null,null,null,null,null,null,null,null,null,null,null,null,null,null,null,null,null,null,null,0,"",0,0,0,0,0,0,0]
[null,null,null,null,null,null,null,null,null,null,null,null,null,null,null,null,null,null,null,null,null,null,null,null,null,null,null,null,null,null,null,null,null,null,null,null,null,null,null,null,null,null,null,null,null,null,null,null,null,null,null,null,0,"",0,0,0,0,0,0,0]
[null,null,null,null,null,null,null,null,null,null,null,null,null,null,null,null,null,null,null,null,null,null,null,null,null,null,null,null,null,null,null,null,null,null,null,null,null,null,null,null,null,null,null,null,null,null,null,null,null,null,null,null,0,"",0,0,0,0,0,0,0]
[null,null,null,null,null,null,null,null,null,null,null,null,null,null,null,null,null,null,null,null,null,null,null,null,null,null,null,null,null,null,null,null,null,null,null,null,null,null,null,null,null,null,null,null,null,null,null,null,null,null,null,null,0,"",0,0,0,0,0,0,0]
[null,null,null,null,null,null,null,null,null,null,null,null,null,null,null,null,null,null,null,null,null,null,null,null,null,null,null,null,null,null,null,null,null,null,null,null,null,null,null,null,null,null,null,null,null,null,null,null,null,null,null,null,0,"",0,0,0,0,0,0,0]
[null,null,null,null,null,null,null,null,null,null,null,null,null,null,null,null,null,null,null,null,null,null,null,null,null,null,null,null,null,null,null,null,null,null,null,null,null,null,null,null,null,null,null,null,null,null,null,null,null,null,null,null,0,"",0,0,0,0,0,0,0]
[null,null,null,null,null,null,null,null,null,null,null,null,null,null,null,null,null,null,null,null,null,null,null,null,null,null,null,null,null,null,null,null,null,null,null,null,null,null,null,null,null,null,null,null,null,null,null,null,null,null,null,null,{"$f":"A387","v":0},{"$f":"B387&C387","v":""},0,0,0,0,0,0,0]
[null,null,null,null,null,null,null,null,null,null,null,null,null,null,null,null,null,null,null,null,null,null,null,null,null,null,null,null,null,null,null,null,null,null,null,null,null,null,null,null,null,null,null,null,null,null,null,null,null,null,null,null,0,"",0,0,0,0,0,0,0]
[null,null,null,null,null,null,null,null,null,null,null,null,null,null,null,null,null,null,null,null,null,null,null,null,null,null,null,null,null,null,null,null,null,null,null,null,null,null,null,null,null,null,null,null,null,null,null,null,null,null,null,null,0,"",0,0,0,0,0,0,0]
[null,null,null,null,null,null,null,null,null,null,null,null,null,null,null,null,null,null,null,null,null,null,null,null,null,null,null,null,null,null,null,null,null,null,null,null,null,null,null,null,null,null,null,null,null,null,null,null,null,null,null,null,0,"",0,0,0,0,0,0,0]
[null,null,null,null,null,null,null,null,null,null,null,null,null,null,null,null,null,null,null,null,null,null,null,null,null,null,null,null,null,null,null,null,null,null,null,null,null,null,null,null,null,null,null,null,null,null,null,null,null,null,null,null,0,"",0,0,0,0,0,0,0]
[null,null,null,null,null,null,null,null,null,null,null,null,null,null,null,null,null,null,null,null,null,null,null,null,null,null,null,null,null,null,null,null,null,null,null,null,null,null,null,null,null,null,null,null,null,null,null,null,null,null,null,null,0,"",0,0,0,0,0,0,0]
[null,null,null,null,null,null,null,null,null,null,null,null,null,null,null,null,null,null,null,null,null,null,null,null,null,null,null,null,null,null,null,null,null,null,null,null,null,null,null,null,null,null,null,null,null,null,null,null,null,null,null,null,0,"",0,0,0,0,0,0,0]
[null,null,null,null,null,null,null,null,null,null,null,null,null,null,null,null,null,null,null,null,null,null,null,null,null,null,null,null,null,null,null,null,null,null,null,null,null,null,null,null,null,null,null,null,null,null,null,null,null,null,null,null,0,"",0,0,0,0,0,0,0]
[null,null,null,null,null,null,null,null,null,null,null,null,null,null,null,null,null,null,null,null,null,null,null,null,null,null,null,null,null,null,null,null,null,null,null,null,null,null,null,null,null,null,null,null,null,null,null,null,null,null,null,null,0,"",0,0,0,0,0,0,0]
[null,null,null,null,null,null,null,null,null,null,null,null,null,null,null,null,null,null,null,null,null,null,null,null,null,null,null,null,null,null,null,null,null,null,null,null,null,null,null,null,null,null,null,null,null,null,null,null,null,null,null,null,0,"",0,0,0,0,0,0,0]
[null,null,null,null,null,null,null,null,null,null,null,null,null,null,null,null,null,null,null,null,null,null,null,null,null,null,null,null,null,null,null,null,null,null,null,null,null,null,null,null,null,null,null,null,null,null,null,null,null,null,null,null,0,"",0,0,0,0,0,0,0]
[null,null,null,null,null,null,null,null,null,null,null,null,null,null,null,null,null,null,null,null,null,null,null,null,null,null,null,null,null,null,null,null,null,null,null,null,null,null,null,null,null,null,null,null,null,null,null,null,null,null,null,null,0,"",0,0,0,0,0,0,0]
[null,null,null,null,null,null,null,null,null,null,null,null,null,null,null,null,null,null,null,null,null,null,null,null,null,null,null,null,null,null,null,null,null,null,null,null,null,null,null,null,null,null,null,null,null,null,null,null,null,null,null,null,0,"",0,0,0,0,0,0,0]
[null,null,null,null,null,null,null,null,null,null,null,null,null,null,null,null,null,null,null,null,null,null,null,null,null,null,null,null,null,null,null,null,null,null,null,null,null,null,null,null,null,null,null,null,null,null,null,null,null,null,null,null,0,"",0,0,0,0,0,0,0]
[null,null,null,null,null,null,null,null,null,null,null,null,null,null,null,null,null,null,null,null,null,null,null,null,null,null,null,null,null,null,null,null,null,null,null,null,null,null,null,null,null,null,null,null,null,null,null,null,null,null,null,null,0,"",0,0,0,0,0,0,0]
[null,null,null,null,null,null,null,null,null,null,null,null,null,null,null,null,null,null,null,null,null,null,null,null,null,null,null,null,null,null,null,null,null,null,null,null,null,null,null,null,null,null,null,null,null,null,null,null,null,null,null,null,0,"",0,0,0,0,0,0,0]
[null,null,null,null,null,null,null,null,null,null,null,null,null,null,null,null,null,null,null,null,null,null,null,null,null,null,null,null,null,null,null,null,null,null,null,null,null,null,null,null,null,null,null,null,null,null,null,null,null,null,null,null,0,"",0,0,0,0,0,0,0]
[null,null,null,null,null,null,null,null,null,null,null,null,null,null,null,null,null,null,null,null,null,null,null,null,null,null,null,null,null,null,null,null,null,null,null,null,null,null,null,null,null,null,null,null,null,null,null,null,null,null,null,null,0,"",0,0,0,0,0,0,0]
[null,null,null,null,null,null,null,null,null,null,null,null,null,null,null,null,null,null,null,null,null,null,null,null,null,null,null,null,null,null,null,null,null,null,null,null,null,null,null,null,null,null,null,null,null,null,null,null,null,null,null,null,0,"",0,0,0,0,0,0,0]
[null,null,null,null,null,null,null,null,null,null,null,null,null,null,null,null,null,null,null,null,null,null,null,null,null,null,null,null,null,null,null,null,null,null,null,null,null,null,null,null,null,null,null,null,null,null,null,null,null,null,null,null,0,"",0,0,0,0,0,0,0]
[null,null,null,null,null,null,null,null,null,null,null,null,null,null,null,null,null,null,null,null,null,null,null,null,null,null,null,null,null,null,null,null,null,null,null,null,null,null,null,null,null,null,null,null,null,null,null,null,null,null,null,null,0,"",0,0,0,0,0,0,0]
[null,null,null,null,null,null,null,null,null,null,null,null,null,null,null,null,null,null,null,null,null,null,null,null,null,null,null,null,null,null,null,null,null,null,null,null,null,null,null,null,null,null,null,null,null,null,null,null,null,null,null,null,0,"",0,0,0,0,0,0,0]
[null,null,null,null,null,null,null,null,null,null,null,null,null,null,null,null,null,null,null,null,null,null,null,null,null,null,null,null,null,null,null,null,null,null,null,null,null,null,null,null,null,null,null,null,null,null,null,null,null,null,null,null,0,"",0,0,0,0,0,0,0]
[null,null,null,null,null,null,null,null,null,null,null,null,null,null,null,null,null,null,null,null,null,null,null,null,null,null,null,null,null,null,null,null,null,null,null,null,null,null,null,null,null,null,null,null,null,null,null,null,null,null,null,null,0,"",0,0,0,0,0,0,0]
[null,null,null,null,null,null,null,null,null,null,null,null,null,null,null,null,null,null,null,null,null,null,null,null,null,null,null,null,null,null,null,null,null,null,null,null,null,null,null,null,null,null,null,null,null,null,null,null,null,null,null,null,0,"",0,0,0,0,0,0,0]
[null,null,null,null,null,null,null,null,null,null,null,null,null,null,null,null,null,null,null,null,null,null,null,null,null,null,null,null,null,null,null,null,null,null,null,null,null,null,null,null,null,null,null,null,null,null,null,null,null,null,null,null,0,"",0,0,0,0,0,0,0]
[null,null,null,null,null,null,null,null,null,null,null,null,null,null,null,null,null,null,null,null,null,null,null,null,null,null,null,null,null,null,null,null,null,null,null,null,null,null,null,null,null,null,null,null,null,null,null,null,null,null,null,null,0,"",0,0,0,0,0,0,0]
[null,null,null,null,null,null,null,null,null,null,null,null,null,null,null,null,null,null,null,null,null,null,null,null,null,null,null,null,null,null,null,null,null,null,null,null,null,null,null,null,null,null,null,null,null,null,null,null,null,null,null,null,0,"",0,0,0,0,0,0,0]
[null,null,null,null,null,null,null,null,null,null,null,null,null,null,null,null,null,null,null,null,null,null,null,null,null,null,null,null,null,null,null,null,null,null,null,null,null,null,null,null,null,null,null,null,null,null,null,null,null,null,null,null,0,"",0,0,0,0,0,0,0]
[null,null,null,null,null,null,null,null,null,null,null,null,null,null,null,null,null,null,null,null,null,null,null,null,null,null,null,null,null,null,null,null,null,null,null,null,null,null,null,null,null,null,null,null,null,null,null,null,null,null,null,null,0,"",0,0,0,0,0,0,0]
[null,null,null,null,null,null,null,null,null,null,null,null,null,null,null,null,null,null,null,null,null,null,null,null,null,null,null,null,null,null,null,null,null,null,null,null,null,null,null,null,null,null,null,null,null,null,null,null,null,null,null,null,0,"",0,0,0,0,0,0,0]
[null,null,null,null,null,null,null,null,null,null,null,null,null,null,null,null,null,null,null,null,null,null,null,null,null,null,null,null,null,null,null,null,null,null,null,null,null,null,null,null,null,null,null,null,null,null,null,null,null,null,null,null,0,"",0,0,0,0,0,0,0]
[null,null,null,null,null,null,null,null,null,null,null,null,null,null,null,null,null,null,null,null,null,null,null,null,null,null,null,null,null,null,null,null,null,null,null,null,null,null,null,null,null,null,null,null,null,null,null,null,null,null,null,null,0,"",0,0,0,0,0,0,0]
[null,null,null,null,null,null,null,null,null,null,null,null,null,null,null,null,null,null,null,null,null,null,null,null,null,null,null,null,null,null,null,null,null,null,null,null,null,null,null,null,null,null,null,null,null,null,null,null,null,null,null,null,0,"",0,0,0,0,0,0,0]
[null,null,null,null,null,null,null,null,null,null,null,null,null,null,null,null,null,null,null,null,null,null,null,null,null,null,null,null,null,null,null,null,null,null,null,null,null,null,null,null,null,null,null,null,null,null,null,null,null,null,null,null,0,"",0,0,0,0,0,0,0]
[null,null,null,null,null,null,null,null,null,null,null,null,null,null,null,null,null,null,null,null,null,null,null,null,null,null,null,null,null,null,null,null,null,null,null,null,null,null,null,null,null,null,null,null,null,null,null,null,null,null,null,null,0,"",0,0,0,0,0,0,0]
[null,null,null,null,null,null,null,null,null,null,null,null,null,null,null,null,null,null,null,null,null,null,null,null,null,null,null,null,null,null,null,null,null,null,null,null,null,null,null,null,null,null,null,null,null,null,null,null,null,null,null,null,0,"",0,0,0,0,0,0,0]
[null,null,null,null,null,null,null,null,null,null,null,null,null,null,null,null,null,null,null,null,null,null,null,null,null,null,null,null,null,null,null,null,null,null,null,null,null,null,null,null,null,null,null,null,null,null,null,null,null,null,null,null,0,"",0,0,0,0,0,0,{"$f":"I424","v":0}]
[null,null,null,null,null,null,null,null,null,null,null,null,null,null,null,null,null,null,null,null,null,null,null,null,null,null,null,null,null,null,null,null,null,null,null,null,null,null,null,null,null,null,null,null,null,null,null,null,null,null,null,null,0,"",0,0,0,0,0,0,0]
[null,null,null,null,null,null,null,null,null,null,null,null,null,null,null,null,null,null,null,null,null,null,null,null,null,null,null,null,null,null,null,null,null,null,null,null,null,null,null,null,null,null,null,null,null,null,null,null,null,null,null,null,0,"",{"$f":"C426","v":0},0,0,0,0,0,0]
[null,null,null,null,null,null,null,null,null,null,null,null,null,null,null,null,null,null,null,null,null,null,null,null,null,null,null,null,null,null,null,null,null,null,null,null,null,null,null,null,null,null,null,null,null,null,null,null,null,null,null,null,0,"",0,0,0,0,0,0,0]
[null,null,null,null,null,null,null,null,null,null,null,null,null,null,null,null,null,null,null,null,null,null,null,null,null,null,null,null,null,null,null,null,null,null,null,null,null,null,null,null,null,null,null,null,null,null,null,null,null,null,null,null,0,"",0,0,0,0,0,0,0]
[null,null,null,null,null,null,null,null,null,null,null,null,null,null,null,null,null,null,null,null,null,null,null,null,null,null,null,null,null,null,null,null,null,null,null,null,null,null,null,null,null,null,null,null,null,null,null,null,null,null,null,null,0,"",0,0,0,0,0,0,0]
[null,null,null,null,null,null,null,null,null,null,null,null,null,null,null,null,null,null,null,null,null,null,null,null,null,null,null,null,null,null,null,null,null,null,null,null,null,null,null,null,null,null,null,null,null,null,null,null,null,null,null,null,0,"",0,0,0,0,0,0,0]
[null,null,null,null,null,null,null,null,null,null,null,null,null,null,null,null,null,null,null,null,null,null,null,null,null,null,null,null,null,null,null,null,null,null,null,null,null,null,null,null,null,null,null,null,null,null,null,null,null,null,null,null,0,"",0,0,0,0,0,0,0]
[null,null,null,null,null,null,null,null,null,null,null,null,null,null,null,null,null,null,null,null,null,null,null,null,null,null,null,null,null,null,null,null,null,null,null,null,null,null,null,null,null,null,null,null,null,null,null,null,null,null,null,null,0,"",0,0,0,0,0,0,0]
[null,null,null,null,null,null,null,null,null,null,null,null,null,null,null,null,null,null,null,null,null,null,null,null,null,null,null,null,null,null,null,null,null,null,null,null,null,null,null,null,null,null,null,null,null,null,null,null,null,null,null,null,0,"",0,0,0,0,0,0,0]
[null,null,null,null,null,null,null,null,null,null,null,null,null,null,null,null,null,null,null,null,null,null,null,null,null,null,null,null,null,null,null,null,null,null,null,null,null,null,null,null,null,null,null,null,null,null,null,null,null,null,null,null,0,"",0,0,0,0,0,0,0]
[null,null,null,null,null,null,null,null,null,null,null,null,null,null,null,null,null,null,null,null,null,null,null,null,null,null,null,null,null,null,null,null,null,null,null,null,null,null,null,null,null,null,null,null,null,null,null,null,null,null,null,null,0,"",0,0,0,0,0,0,0]
[null,null,null,null,null,null,null,null,null,null,null,null,null,null,null,null,null,null,null,null,null,null,null,null,null,null,null,null,null,null,null,null,null,null,null,null,null,null,null,null,null,null,null,null,null,null,null,null,null,null,null,null,0,"",0,0,0,0,0,0,0]
[null,null,null,null,null,null,null,null,null,null,null,null,null,null,null,null,null,null,null,null,null,null,null,null,null,null,null,null,null,null,null,null,null,null,null,null,null,null,null,null,null,null,null,null,null,null,null,null,null,null,null,null,0,"",0,0,0,0,0,0,0]
[null,null,null,null,null,null,null,null,null,null,null,null,null,null,null,null,null,null,null,null,null,null,null,null,null,null,null,null,null,null,null,null,null,null,null,null,null,null,null,null,null,null,null,null,null,null,null,null,null,null,null,null,0,"",0,0,0,0,0,0,0]
[null,null,null,null,null,null,null,null,null,null,null,null,null,null,null,null,null,null,null,null,null,null,null,null,null,null,null,null,null,null,null,null,null,null,null,null,null,null,null,null,null,null,null,null,null,null,null,null,null,null,null,null,0,"",0,0,0,0,0,0,0]
[null,null,null,null,null,null,null,null,null,null,null,null,null,null,null,null,null,null,null,null,null,null,null,null,null,null,null,null,null,null,null,null,null,null,null,null,null,null,null,null,null,null,null,null,null,null,null,null,null,null,null,null,0,"",0,0,0,0,0,0,0]
[null,null,null,null,null,null,null,null,null,null,null,null,null,null,null,null,null,null,null,null,null,null,null,null,null,null,null,null,null,null,null,null,null,null,null,null,null,null,null,null,null,null,null,null,null,null,null,null,null,null,null,null,0,"",0,0,0,0,0,0,0]
[null,null,null,null,null,null,null,null,null,null,null,null,null,null,null,null,null,null,null,null,null,null,null,null,null,null,null,null,null,null,null,null,null,null,null,null,null,null,null,null,null,null,null,null,null,null,null,null,null,null,null,null,0,"",0,0,0,0,0,0,0]
[null,null,null,null,null,null,null,null,null,null,null,null,null,null,null,null,null,null,null,null,null,null,null,null,null,null,null,null,null,null,null,null,null,null,null,null,null,null,null,null,null,null,null,null,null,null,null,null,null,null,null,null,0,"",0,0,0,0,0,0,0]
[null,null,null,null,null,null,null,null,null,null,null,null,null,null,null,null,null,null,null,null,null,null,null,null,null,null,null,null,null,null,null,null,null,null,null,null,null,null,null,null,null,null,null,null,null,null,null,null,null,null,null,null,0,"",0,0,0,0,0,0,0]
[null,null,null,null,null,null,null,null,null,null,null,null,null,null,null,null,null,null,null,null,null,null,null,null,null,null,null,null,null,null,null,null,null,null,null,null,null,null,null,null,null,null,null,null,null,null,null,null,null,null,null,null,0,"",0,0,0,0,0,0,0]
[null,null,null,null,null,null,null,null,null,null,null,null,null,null,null,null,null,null,null,null,null,null,null,null,null,null,null,null,null,null,null,null,null,null,null,null,null,null,null,null,null,null,null,null,null,null,null,null,null,null,null,null,0,"",0,0,0,0,0,0,0]
[null,null,null,null,null,null,null,null,null,null,null,null,null,null,null,null,null,null,null,null,null,null,null,null,null,null,null,null,null,null,null,null,null,null,null,null,null,null,null,null,null,null,null,null,null,null,null,null,null,null,null,null,0,"",0,0,0,0,0,0,0]
[null,null,null,null,null,null,null,null,null,null,null,null,null,null,null,null,null,null,null,null,null,null,null,null,null,null,null,null,null,null,null,null,null,null,null,null,null,null,null,null,null,null,null,null,null,null,null,null,null,null,null,null,0,"",0,0,0,0,0,0,0]
[null,null,null,null,null,null,null,null,null,null,null,null,null,null,null,null,null,null,null,null,null,null,null,null,null,null,null,null,null,null,null,null,null,null,null,null,null,null,null,null,null,null,null,null,null,null,null,null,null,null,null,null,0,"",0,0,0,0,0,0,0]
[null,null,null,null,null,null,null,null,null,null,null,null,null,null,null,null,null,null,null,null,null,null,null,null,null,null,null,null,null,null,null,null,null,null,null,null,null,null,null,null,null,null,null,null,null,null,null,null,null,null,null,null,0,"",0,0,0,0,0,0,0]
[null,null,null,null,null,null,null,null,null,null,null,null,null,null,null,null,null,null,null,null,null,null,null,null,null,null,null,null,null,null,null,null,null,null,null,null,null,null,null,null,null,null,null,null,null,null,null,null,null,null,null,null,{"$f":"A451","v":0},{"$f":"B451&C451","v":""},0,0,0,0,0,0,0]
[null,null,null,null,null,null,null,null,null,null,null,null,null,null,null,null,null,null,null,null,null,null,null,null,null,null,null,null,null,null,null,null,null,null,null,null,null,null,null,null,null,null,null,null,null,null,null,null,null,null,null,null,0,"",0,0,0,0,0,0,0]
[null,null,null,null,null,null,null,null,null,null,null,null,null,null,null,null,null,null,null,null,null,null,null,null,null,null,null,null,null,null,null,null,null,null,null,null,null,null,null,null,null,null,null,null,null,null,null,null,null,null,null,null,0,"",0,0,0,0,0,0,0]
[null,null,null,null,null,null,null,null,null,null,null,null,null,null,null,null,null,null,null,null,null,null,null,null,null,null,null,null,null,null,null,null,null,null,null,null,null,null,null,null,null,null,null,null,null,null,null,null,null,null,null,null,0,"",0,0,0,0,0,0,0]
[null,null,null,null,null,null,null,null,null,null,null,null,null,null,null,null,null,null,null,null,null,null,null,null,null,null,null,null,null,null,null,null,null,null,null,null,null,null,null,null,null,null,null,null,null,null,null,null,null,null,null,null,0,"",0,0,0,0,0,0,0]
[null,null,null,null,null,null,null,null,null,null,null,null,null,null,null,null,null,null,null,null,null,null,null,null,null,null,null,null,null,null,null,null,null,null,null,null,null,null,null,null,null,null,null,null,null,null,null,null,null,null,null,null,0,"",0,0,0,0,0,0,0]
[null,null,null,null,null,null,null,null,null,null,null,null,null,null,null,null,null,null,null,null,null,null,null,null,null,null,null,null,null,null,null,null,null,null,null,null,null,null,null,null,null,null,null,null,null,null,null,null,null,null,null,null,0,"",0,0,0,0,0,0,0]
[null,null,null,null,null,null,null,null,null,null,null,null,null,null,null,null,null,null,null,null,null,null,null,null,null,null,null,null,null,null,null,null,null,null,null,null,null,null,null,null,null,null,null,null,null,null,null,null,null,null,null,null,0,"",0,0,0,0,0,0,0]
[null,null,null,null,null,null,null,null,null,null,null,null,null,null,null,null,null,null,null,null,null,null,null,null,null,null,null,null,null,null,null,null,null,null,null,null,null,null,null,null,null,null,null,null,null,null,null,null,null,null,null,null,0,"",0,0,0,0,0,0,0]
[null,null,null,null,null,null,null,null,null,null,null,null,null,null,null,null,null,null,null,null,null,null,null,null,null,null,null,null,null,null,null,null,null,null,null,null,null,null,null,null,null,null,null,null,null,null,null,null,null,null,null,null,0,"",0,0,0,0,0,0,0]
[null,null,null,null,null,null,null,null,null,null,null,null,null,null,null,null,null,null,null,null,null,null,null,null,null,null,null,null,null,null,null,null,null,null,null,null,null,null,null,null,null,null,null,null,null,null,null,null,null,null,null,null,0,"",0,0,0,0,0,0,0]
[null,null,null,null,null,null,null,null,null,null,null,null,null,null,null,null,null,null,null,null,null,null,null,null,null,null,null,null,null,null,null,null,null,null,null,null,null,null,null,null,null,null,null,null,null,null,null,null,null,null,null,null,0,"",0,0,0,0,0,0,0]
[null,null,null,null,null,null,null,null,null,null,null,null,null,null,null,null,null,null,null,null,null,null,null,null,null,null,null,null,null,null,null,null,null,null,null,null,null,null,null,null,null,null,null,null,null,null,null,null,null,null,null,null,0,"",0,0,0,0,0,0,0]
[null,null,null,null,null,null,null,null,null,null,null,null,null,null,null,null,null,null,null,null,null,null,null,null,null,null,null,null,null,null,null,null,null,null,null,null,null,null,null,null,null,null,null,null,null,null,null,null,null,null,null,null,0,"",0,0,0,0,0,0,0]
[null,null,null,null,null,null,null,null,null,null,null,null,null,null,null,null,null,null,null,null,null,null,null,null,null,null,null,null,null,null,null,null,null,null,null,null,null,null,null,null,null,null,null,null,null,null,null,null,null,null,null,null,0,"",0,0,0,0,0,0,0]
[null,null,null,null,null,null,null,null,null,null,null,null,null,null,null,null,null,null,null,null,null,null,null,null,null,null,null,null,null,null,null,null,null,null,null,null,null,null,null,null,null,null,null,null,null,null,null,null,null,null,null,null,0,"",0,0,0,0,0,0,0]
[null,null,null,null,null,null,null,null,null,null,null,null,null,null,null,null,null,null,null,null,null,null,null,null,null,null,null,null,null,null,null,null,null,null,null,null,null,null,null,null,null,null,null,null,null,null,null,null,null,null,null,null,0,"",0,0,0,0,0,0,0]
[null,null,null,null,null,null,null,null,null,null,null,null,null,null,null,null,null,null,null,null,null,null,null,null,null,null,null,null,null,null,null,null,null,null,null,null,null,null,null,null,null,null,null,null,null,null,null,null,null,null,null,null,0,"",0,0,0,{"$f":"F468","v":0},0,0,0]
[null,null,null,null,null,null,null,null,null,null,null,null,null,null,null,null,null,null,null,null,null,null,null,null,null,null,null,null,null,null,null,null,null,null,null,null,null,null,null,null,null,null,null,null,null,null,null,null,null,null,null,null,0,"",{"$f":"C469","v":0},0,0,0,0,0,0]
[null,null,null,null,null,null,null,null,null,null,null,null,null,null,null,null,null,null,null,null,null,null,null,null,null,null,null,null,null,null,null,null,null,null,null,null,null,null,null,null,null,null,null,null,null,null,null,null,null,null,null,null,0,"",0,0,0,0,0,0,0]
[null,null,null,null,null,null,null,null,null,null,null,null,null,null,null,null,null,null,null,null,null,null,null,null,null,null,null,null,null,null,null,null,null,null,null,null,null,null,null,null,null,null,null,null,null,null,null,null,null,null,null,null,0,"",0,0,0,0,0,0,0]
[null,null,null,null,null,null,null,null,null,null,null,null,null,null,null,null,null,null,null,null,null,null,null,null,null,null,null,null,null,null,null,null,null,null,null,null,null,null,null,null,null,null,null,null,null,null,null,null,null,null,null,null,0,"",0,0,0,0,0,0,0]
[null,null,null,null,null,null,null,null,null,null,null,null,null,null,null,null,null,null,null,null,null,null,null,null,null,null,null,null,null,null,null,null,null,null,null,null,null,null,null,null,null,null,null,null,null,null,null,null,null,null,null,null,0,"",0,0,0,0,0,0,0]
[null,null,null,null,null,null,null,null,null,null,null,null,null,null,null,null,null,null,null,null,null,null,null,null,null,null,null,null,null,null,null,null,null,null,null,null,null,null,null,null,null,null,null,null,null,null,null,null,null,null,null,null,0,"",0,0,0,0,0,0,0]
[null,null,null,null,null,null,null,null,null,null,null,null,null,null,null,null,null,null,null,null,null,null,null,null,null,null,null,null,null,null,null,null,null,null,null,null,null,null,null,null,null,null,null,null,null,null,null,null,null,null,null,null,0,"",0,0,0,0,0,0,0]
[null,null,null,null,null,null,null,null,null,null,null,null,null,null,null,null,null,null,null,null,null,null,null,null,null,null,null,null,null,null,null,null,null,null,null,null,null,null,null,null,null,null,null,null,null,null,null,null,null,null,null,null,0,"",0,0,0,0,0,0,0]
[null,null,null,null,null,null,null,null,null,null,null,null,null,null,null,null,null,null,null,null,null,null,null,null,null,null,null,null,null,null,null,null,null,null,null,null,null,null,null,null,null,null,null,null,null,null,null,null,null,null,null,null,0,"",0,0,0,0,0,0,0]
[null,null,null,null,null,null,null,null,null,null,null,null,null,null,null,null,null,null,null,null,null,null,null,null,null,null,null,null,null,null,null,null,null,null,null,null,null,null,null,null,null,null,null,null,null,null,null,null,null,null,null,null,0,"",0,0,0,0,0,0,0]
[null,null,null,null,null,null,null,null,null,null,null,null,null,null,null,null,null,null,null,null,null,null,null,null,null,null,null,null,null,null,null,null,null,null,null,null,null,null,null,null,null,null,null,null,null,null,null,null,null,null,null,null,0,"",0,0,0,0,0,0,0]
[null,null,null,null,null,null,null,null,null,null,null,null,null,null,null,null,null,null,null,null,null,null,null,null,null,null,null,null,null,null,null,null,null,null,null,null,null,null,null,null,null,null,null,null,null,null,null,null,null,null,null,null,0,"",0,0,0,0,0,0,0]
[null,null,null,null,null,null,null,null,null,null,null,null,null,null,null,null,null,null,null,null,null,null,null,null,null,null,null,null,null,null,null,null,null,null,null,null,null,null,null,null,null,null,null,null,null,null,null,null,null,null,null,null,0,"",0,0,0,0,0,0,0]
[null,null,null,null,null,null,null,null,null,null,null,null,null,null,null,null,null,null,null,null,null,null,null,null,null,null,null,null,null,null,null,null,null,null,null,null,null,null,null,null,null,null,null,null,null,null,null,null,null,null,null,null,0,"",0,0,0,0,0,0,0]
[null,null,null,null,null,null,null,null,null,null,null,null,null,null,null,null,null,null,null,null,null,null,null,null,null,null,null,null,null,null,null,null,null,null,null,null,null,null,null,null,null,null,null,null,null,null,null,null,null,null,null,null,0,"",0,0,0,0,0,0,0]
[null,null,null,null,null,null,null,null,null,null,null,null,null,null,null,null,null,null,null,null,null,null,null,null,null,null,null,null,null,null,null,null,null,null,null,null,null,null,null,null,null,null,null,null,null,null,null,null,null,null,null,null,0,"",0,0,0,0,0,0,0]
[null,null,null,null,null,null,null,null,null,null,null,null,null,null,null,null,null,null,null,null,null,null,null,null,null,null,null,null,null,null,null,null,null,null,null,null,null,null,null,null,null,null,null,null,null,null,null,null,null,null,null,null,0,"",0,0,0,0,0,0,0]
[null,null,null,null,null,null,null,null,null,null,null,null,null,null,null,null,null,null,null,null,null,null,null,null,null,null,null,null,null,null,null,null,null,null,null,null,null,null,null,null,null,null,null,null,null,null,null,null,null,null,null,null,0,"",0,0,0,0,0,0,0]
[null,null,null,null,null,null,null,null,null,null,null,null,null,null,null,null,null,null,null,null,null,null,null,null,null,null,null,null,null,null,null,null,null,null,null,null,null,null,null,null,null,null,null,null,null,null,null,null,null,null,null,null,0,"",0,0,0,0,0,0,0]
[null,null,null,null,null,null,null,null,null,null,null,null,null,null,null,null,null,null,null,null,null,null,null,null,null,null,null,null,null,null,null,null,null,null,null,null,null,null,null,null,null,null,null,null,null,null,null,null,null,null,null,null,0,"",0,0,0,0,0,0,0]
[null,null,null,null,null,null,null,null,null,null,null,null,null,null,null,null,null,null,null,null,null,null,null,null,null,null,null,null,null,null,null,null,null,null,null,null,null,null,null,null,null,null,null,null,null,null,null,null,null,null,null,null,0,"",0,0,0,0,0,0,0]
[null,null,null,null,null,null,null,null,null,null,null,null,null,null,null,null,null,null,null,null,null,null,null,null,null,null,null,null,null,null,null,null,null,null,null,null,null,null,null,null,null,null,null,null,null,null,null,null,null,null,null,null,0,"",0,0,0,0,0,0,0]
[null,null,null,null,null,null,null,null,null,null,null,null,null,null,null,null,null,null,null,null,null,null,null,null,null,null,null,null,null,null,null,null,null,null,null,null,null,null,null,null,null,null,null,null,null,null,null,null,null,null,null,null,0,"",0,0,0,0,0,0,0]
[null,null,null,null,null,null,null,null,null,null,null,null,null,null,null,null,null,null,null,null,null,null,null,null,null,null,null,null,null,null,null,null,null,null,null,null,null,null,null,null,null,null,null,null,null,null,null,null,null,null,null,null,0,"",0,0,0,0,0,0,0]
[null,null,null,null,null,null,null,null,null,null,null,null,null,null,null,null,null,null,null,null,null,null,null,null,null,null,null,null,null,null,null,null,null,null,null,null,null,null,null,null,null,null,null,null,null,null,null,null,null,null,null,null,0,"",0,0,0,0,0,0,0]
[null,null,null,null,null,null,null,null,null,null,null,null,null,null,null,null,null,null,null,null,null,null,null,null,null,null,null,null,null,null,null,null,null,null,null,null,null,null,null,null,null,null,null,null,null,null,null,null,null,null,null,null,0,"",0,0,0,0,0,0,0]
[null,null,null,null,null,null,null,null,null,null,null,null,null,null,null,null,null,null,null,null,null,null,null,null,null,null,null,null,null,null,null,null,null,null,null,null,null,null,null,null,null,null,null,null,null,null,null,null,null,null,null,null,0,"",0,0,0,0,0,0,0]
[null,null,null,null,null,null,null,null,null,null,null,null,null,null,null,null,null,null,null,null,null,null,null,null,null,null,null,null,null,null,null,null,null,null,null,null,null,null,null,null,null,null,null,null,null,null,null,null,null,null,null,null,0,"",0,0,0,0,0,0,0]
[null,null,null,null,null,null,null,null,null,null,null,null,null,null,null,null,null,null,null,null,null,null,null,null,null,null,null,null,null,null,null,null,null,null,null,null,null,null,null,null,null,null,null,null,null,null,null,null,null,null,null,null,0,"",0,0,0,0,0,0,0]
[null,null,null,null,null,null,null,null,null,null,null,null,null,null,null,null,null,null,null,null,null,null,null,null,null,null,null,null,null,null,null,null,null,null,null,null,null,null,null,null,null,null,null,null,null,null,null,null,null,null,null,null,0,"",0,0,0,0,0,0,0]
[null,null,null,null,null,null,null,null,null,null,null,null,null,null,null,null,null,null,null,null,null,null,null,null,null,null,null,null,null,null,null,null,null,null,null,null,null,null,null,null,null,null,null,null,null,null,null,null,null,null,null,null,0,"",0,0,0,0,0,0,0]
[null,null,null,null,null,null,null,null,null,null,null,null,null,null,null,null,null,null,null,null,null,null,null,null,null,null,null,null,null,null,null,null,null,null,null,null,null,null,null,null,null,null,null,null,null,null,null,null,null,null,null,null,0,"",0,0,0,0,0,0,0]

{"sheet":"Коэффициенты","index":22,"n_rows":8,"n_cols":6,"rows_kept":8,"cut":false,"hidden":true,"merged":[]}
["Идентификатор","Стартовый","Текущий",null,null,{"$cut":{"chars":32767,"head":"<div id=\"box-table-type-1\" data-hash=\"72526c60c922b8356a84f6f2d7d46424\" data-ts=\"1567781602\"><div id=\"table-type-1\" class=\"table table-type-1\"><div class=\"table__wrapper\"><div class=\"table__header\"><div class=\"table__cell table__cell--rank col_rank\" title=\"Место\" data-type=\"rank\">#</div><div class=\"table__cell table__cell--participant_name col_name\" title=\"Команда\" data-type=\"participant_name\">Команда</div><div class=\"table__cell table__cell--matches\" title=\"Игры\" data-type=\"matches\">И</div><div class=\"table__cell table__cell--wins_regular\" title=\"Выигрыши\" data-type=\"wins_regular\">B</div><div class=\"table__cell table__cell--draws\" title=\"Ничьи\" data-type=\"draws\">Н</div><div class=\"table__cell table__cell--losses_regular\" title=\"Проигрыши\" data-type=\"losses_regular\">П</div><div class=\"table__cell table__cell--goals\" title=\"Голы\" data-type=\"goals\">Г</div><div class=\"table__cell table__cell--points\" title=\"Очки\" data-type=\"points\">О</div><div class=\"table__cell table__cell--form\" title=\"Последние 5 матчей\" data-type=\"form\">Форма</div></div><div class=\"table__body\"><div class=\"table__rowglib-participant-dCnwK15c highlight\"data-def-order=\"0\"><div class=\"table__cell table__cell--rank table__cell--col_rank table__cell--no table__cell--q1\" title=\"Повышение - ФНЛ\">1.</div><div class=\"table__cell table__cell--participant_name table__cell--col_participant_name table__cell--col_name\"><span class=\"cell--block\"><span class=\"team-logo team-logo-371\" style=\"background: transparent url(/res/image/data/m-v7oSgQbP-0IAWiJn9.png?new) 0 0px no-repeat;background-size: 15px;\"></span><span class=\"team_name_span\"><a onclick=\"javascript:getUrlByWinType('/team/d-bryansk/dCnwK15c/');\">Динамо Брянск</a></span></span></div><div class=\"table__cell table__cell--matches_played table__cell--col_matches_played\">7</div><div class=\"table__cell table__cell--wins_regular table__cell--col_wins_regular\">5</div><div class=\"table__cell table__cell--draws table__cell--col_draws\">0</div><div class=\"table__cell table__cell--losses_regular table__cell--col_losses_regular\">2</div><div class=\"table__cell table__cell--goals table__cell--col_goals\">9:5</div><div class=\"table__cell table__cell--points table__cell--col_points\">15</div><div class=\"table__cell table__cell--form table__cell--col_form\"><a class=\"form__cell form__cell--upcoming glib-event-xhfPzlvt glib-participants-dCnwK15c-bF7KpXuR glib-partnames-d-bryansk;m-lipetsk\" title=\"[b]Следующий матч:[/b]Динамо Брянск - Металлург Липецк1567782000\"></a><a class=\"form__cell form__cell--loss stage-3 glib-event-UoXcKSga glib-participants-0GAoHqF1-dCnwK15c glib-partnames-ryazan;d-bryansk\" title=\"[b]3:1&amp;nbsp;[/b](ФК Рязань - Динамо Брянск)1567179000\"></a><a class=\"form__cell form__cell--win glib-event-A7VS69Pa glib-participants-dCnwK15c-zgJTd9AM glib-partnames-d-bryansk;khimki\" title=\"[b]1:0&amp;nbsp;[/b](Динамо Брянск - Химки 2)1566572400\"></a><a class=\"form__cell form__cell--loss stage-3 glib-event-jNYe4G31 glib-participants-C6Xac0g7-dCnwK15c glib-partnames-khimik-novomoskovsk;d-bryansk\" title=\"[b]2:0&amp;nbsp;[/b](Химик Новомосковск - Динамо Брянск)1565964000\"></a><a class=\"form__cell form__cell--win glib-event-Uq64E0R8 glib-participants-dCnwK15c-jiqiaMOf glib-partnames-d-bryansk;strogino-moscow\" title=\"[b]2:0&amp;nbsp;[/b](Динамо Брянск - Строгино)1565362800\"></a><a class=\"form__cell form__cell--win glib-event-UVQVa1CF glib-participants-pftkxeSR-dCnwK15c glib-partnames-kvant-obninsk;d-bryansk\" title=\"[b]0:2&amp;nbsp;[/b](Квант - Динамо Брянск)1564673400\"></a></div></div><div class=\"table__rowglib-participant-UenvuAao\"data-def-order=\"1\"><div class=\"table__cell table__cell--rank table__cell--col_rank table__cell--no table__cell--\">2.</div><div class=\"table__cell table__cell--participant_name table__cell--col_participant_name table__cell--col_name\"><span class=\"cell--block\"><span class=\"team-logo team-logo-18367\" style=\"background: transparent url(/res/image/data/m-v7oSgQbP-0IAWiJn9.png?new) 0 -52.5px no-repeat;background-size: 15px;\"></span><span class=\"team_name_span\"><a onclick=\"javascript:getUrlByWinType('/team/sara"}}]
["П1",2.93,3.46]
["X",3.8,4.2699999999999996]
["П2",2.02,1.83]
["ТБ2.5",1.45,1.4]
["ТМ2.5",2.68,2.82]
["ОЗ",1.36,1.46]
["ОНЗ",2.88,2.59]

{"sheet":"Расчеты","index":23,"n_rows":127,"n_cols":73,"rows_kept":127,"cut":false,"hidden":true,"merged":[[125,3,125,4],[126,3,126,4],[115,21,115,22],[115,27,115,28],[116,21,116,22],[116,27,116,28],[117,22,118,22],[117,21,118,21],[119,22,120,22],[119,21,120,21],[122,8,122,9],[121,8,121,9],[115,5,116,7],[115,8,115,9],[117,8,117,9],[119,8,119,9],[110,21,110,22],[110,23,110,24],[110,25,110,26],[110,27,110,28],[111,21,113,21],[111,22,113,22],[111,23,113,23],[111,24,113,24],[111,25,113,26],[111,27,113,28],[114,21,114,22],[114,27,114,28],[14,51,14,53],[2,67,2,72],[2,61,2,66],[2,55,2,60],[2,51,2,54],[110,15,111,16],[112,15,113,16],[80,27,80,28],[101,27,101,35],[38,35,43,35],[43,37,43,38],[44,31,44,32],[72,36,72,38],[72,39,72,41],[72,42,72,44],[72,45,72,47],[49,42,49,44],[49,45,49,47],[49,36,49,38],[49,39,49,41],[49,35,60,35],[72,35,83,35],[104,11,104,12],[111,2,111,3],[111,4,111,5],[111,6,111,7],[111,8,111,9],[49,2,49,3],[50,7,52,7],[54,3,55,6],[54,7,55,10],[104,2,104,4],[104,5,104,7],[104,8,104,10],[63,2,64,7],[65,2,65,3],[65,5,65,6],[66,2,66,3],[66,5,66,6],[65,12,65,13],[66,12,66,13],[107,2,107,3],[107,4,107,5],[107,6,107,8],[67,2,67,3],[67,5,67,6],[68,2,68,3],[68,5,68,6],[100,2,100,4],[100,5,100,7],[100,8,100,10],[100,11,100,12],[82,19,82,26],[83,19,88,19],[83,21,88,21],[83,23,88,23],[83,25,88,25],[75,14,75,15],[73,2,73,3],[101,18,101,26],[96,19,96,20],[86,2,86,5],[86,6,86,9],[95,15,95,16],[95,17,95,18],[91,3,91,9],[91,10,91,16],[91,17,91,23],[95,19,95,20],[45,35,45,37],[45,38,45,39],[66,24,66,25],[61,24,61,25],[37,30,37,35],[37,37,37,39],[38,29,43,29],[38,31,43,31],[38,33,43,33],[55,29,55,32],[46,25,48,26],[49,25,51,26],[37,19,37,22],[37,23,37,26],[45,19,45,21],[45,23,45,25],[46,19,46,24],[77,25,77,26],[77,27,77,28],[63,21,63,23],[60,19,60,20],[59,19,59,20],[59,21,59,23],[64,24,64,25],[65,24,65,25],[61,19,61,20],[61,21,61,23],[63,24,63,25],[63,26,63,28],[63,19,63,20],[73,19,73,28],[74,19,74,20],[74,21,74,22],[74,23,74,24],[74,26,74,27],[2,32,2,37],[2,38,2,43],[2,28,2,31],[2,44,2,49],[14,28,14,30],[29,11,29,14],[30,11,30,13],[31,11,31,12],[32,11,32,12],[17,13,18,13],[19,13,20,13],[17,14,18,14],[19,14,20,14],[2,17,2,23],[6,10,6,11],[7,10,7,11],[8,10,8,11],[15,4,15,14],[16,10,16,12],[17,12,18,12],[19,12,20,12],[29,16,29,23],[2,3,2,9],[2,10,2,16],[8,3,8,4],[6,5,6,6],[7,5,7,6],[8,5,8,6],[22,12,22,17],[6,19,6,20],[7,19,7,20],[8,19,8,20],[15,16,15,25],[6,12,6,13],[7,12,7,13],[8,12,8,13],[6,17,6,18],[7,17,7,18],[8,17,8,18],[6,3,6,4],[7,3,7,4],[22,8,23,8],[22,9,22,11],[13,5,13,6],[13,8,13,9],[15,2,16,3],[19,2,19,3],[20,2,20,3],[17,2,17,3],[18,2,18,3],[22,3,22,6],[37,2,37,7],[27,2,27,6],[22,2,23,2],[26,2,26,6],[33,2,33,3],[34,2,34,3],[29,7,29,10],[30,7,30,9],[31,7,31,8],[32,7,32,8],[33,7,33,8],[34,7,34,8],[29,2,29,5],[30,2,30,3],[37,10,37,16],[30,4,30,5],[31,2,31,3],[32,2,32,3],[34,11,34,12],[33,11,33,12],[46,12,46,13],[60,11,60,12],[64,19,64,23],[62,19,62,20],[62,24,62,25],[61,26,61,28],[62,21,62,23],[62,26,62,28],[59,24,59,25],[59,26,59,28],[60,24,60,25],[56,11,56,12],[57,11,57,12],[58,11,58,12],[59,11,59,12],[54,11,55,15],[51,19,51,20],[63,12,63,16]]}
["Yw8zZBvO"]
[]
[null,null,null,"Всего",null,null,null,null,null,null,"Дома",null,null,null,null,null,null,"На выезде",null,null,null,null,null,null,null,null,null,null,"Пуассон",null,null,null,"Дома",null,null,null,null,null,"Гости",null,null,null,null,null,"Ничья",null,null,null,null,null,null,"Пуассон",null,null,null,"Дома",null,null,null,null,null,"Гости",null,null,null,null,null,"Ничья"]
[null,null,null,"Игр","В","Н","П","Забито","Проп","Очки","Игр","В","Н","П","Забито","Проп","Очки","Игр","В","Н","П","Забито","Проп","Очки",null,null,null,null,{"$f":"D12","v":2.4857142857142853},"HG","AG",{"$f":"D13","v":2.1428571428571428},"Г1","Г2","Д","Г","%","КФ","К1","К2","Д","Г","%","КФ","К1","К2","Д","Гости","%","КФ",null,{"$f":"U112","v":1.7384610090993395},"HG","AG",{"$f":"U114","v":1.9734004758701489},"Г1","Г2","Д","Г","%","КФ","К1","К2","Д","Г","%","КФ","К1","К2","Д","Гости","%","КФ"]
[null,null,"Хозяева",{"$f":"Дома!O11","v":10},{"$f":"Дома!P11","v":6},{"$f":"Дома!Q11","v":0},{"$f":"Дома!R11","v":4},{"$f":"Дома!S11","v":29},{"$f":"Дома!T11","v":12},{"$f":"Дома!U11","v":18},{"$f":"Дома!V11","v":7},{"$f":"Дома!W11","v":5},{"$f":"Дома!X11","v":0},{"$f":"Дома!Y11","v":2},{"$f":"Дома!Z11","v":25},{"$f":"Дома!AA11","v":9},{"$f":"Дома!AB11","v":15},{"$f":"Дома!AC11","v":3},{"$f":"Дома!AD11","v":1},{"$f":"Дома!AE11","v":0},{"$f":"Дома!AF11","v":2},{"$f":"Дома!AG11","v":4},{"$f":"Дома!AH11","v":3},{"$f":"Дома!AI11","v":3},null,null,null,null,0,{"$f":"POISSON(AC5,AC4,FALSE)*100","v":8.3266057510318934},{"$f":"POISSON(AC5,AF4,FALSE)*100","v":11.731916609425078},0,7,0,{"$f":"VLOOKUP(AG5,AC5:AE12,2)","v":0.96871477464212963},{"$f":"VLOOKUP(AH5,AC5:AE12,3)","v":11.731916609425078},{"$f":"(AI5*AJ5)/100","v":0.11364880954419471},{"$f":"100/AK5","v":879.9036294446438},0,7,{"$f":"VLOOKUP(AM5,AC5:AE12,2)","v":8.3266057510318934},{"$f":"VLOOKUP(AN5,AC5:AE12,3)","v":0.4829375384814979},{"$f":"(AO5*AP5)/100","v":4.0212304853092268E-2},{"$f":"100/AQ5","v":2486.801001965202},0,0,{"$f":"VLOOKUP(AS5,AC5:AE12,2)","v":8.3266057510318934},{"$f":"VLOOKUP(AT5,AC5:AE12,3)","v":11.731916609425078},{"$f":"(AU5*AV5)/100","v":0.97687044310665438},{"$f":"100/AW5","v":102.36772000387163},null,0,{"$f":"POISSON(AZ5,AZ4,FALSE)*100","v":17.579073288251841},{"$f":"POISSON(AZ5,BC4,FALSE)*100","v":13.898344191370235},0,7,0,{"$f":"VLOOKUP(BD5,AZ5:BB12,2)","v":0.16738638205571837},{"$f":"VLOOKUP(BE5,AZ5:BB12,3)","v":13.898344191370235},{"$f":"(BF5*BG5)/100","v":2.3263935507585723E-2},{"$f":"100/BH5","v":4298.4988488896379},0,7,{"$f":"VLOOKUP(BJ5,AZ5:BB12,2)","v":17.579073288251841},{"$f":"VLOOKUP(BK5,AZ5:BB12,3)","v":0.32139500767260709},{"$f":"(BL5*BM5)/100","v":5.6498263943550231E-2},{"$f":"100/BN5","v":1769.9658895698842},0,0,{"$f":"VLOOKUP(BP5,AZ5:BB12,2)","v":17.579073288251841},{"$f":"VLOOKUP(BQ5,AZ5:BB12,3)","v":13.898344191370235},{"$f":"(BR5*BS5)/100","v":2.4432001112544661},{"$f":"100/BT5","v":40.929926099526412}]
[null,null,"Гости",{"$f":"Гости!O11","v":10},{"$f":"Гости!P11","v":7},{"$f":"Гости!Q11","v":2},{"$f":"Гости!R11","v":1},{"$f":"Гости!S11","v":28},{"$f":"Гости!T11","v":9},{"$f":"Гости!U11","v":23},{"$f":"Гости!V11","v":5},{"$f":"Гости!W11","v":4},{"$f":"Гости!X11","v":1},{"$f":"Гости!Y11","v":0},{"$f":"Гости!Z11","v":17},{"$f":"Гости!AA11","v":5},{"$f":"Гости!AB11","v":13},{"$f":"Гости!AC11","v":5},{"$f":"Гости!AD11","v":3},{"$f":"Гости!AE11","v":1},{"$f":"Гости!AF11","v":1},{"$f":"Гости!AG11","v":11},{"$f":"Гости!AH11","v":4},{"$f":"Гости!AI11","v":10},null,null,null,null,1,{"$f":"POISSON(AC6,AC4,FALSE)*100","v":20.697562866850699},{"$f":"POISSON(AC6,AF4,FALSE)*100","v":25.139821305910875},1,7,1,{"$f":"VLOOKUP(AG6,AC5:AE12,2)","v":0.96871477464212963},{"$f":"VLOOKUP(AH6,AC5:AE12,3)","v":25.139821305910875},0.24353316330898864,410.62169374083385,1,7,{"$f":"VLOOKUP(AM6,AC5:AE12,2)","v":20.697562866850699},{"$f":"VLOOKUP(AN6,AC5:AE12,3)","v":0.4829375384814979},9.9956300634829312E-2,1000.4371846986448,1,1,{"$f":"VLOOKUP(AS6,AC5:AE12,2)","v":20.697562866850699},{"$f":"VLOOKUP(AT6,AC5:AE12,3)","v":25.139821305910875},5.2033303194048299,19.218460843638745,null,1,{"$f":"POISSON(AZ6,AZ4,FALSE)*100","v":30.560533487725543},{"$f":"POISSON(AZ6,BC4,FALSE)*100","v":27.426999041057137},1,7,1,{"$f":"VLOOKUP(BD6,AZ5:BB12,2)","v":0.16738638205571837},{"$f":"VLOOKUP(BE6,AZ5:BB12,3)","v":27.426999041057137},4.590906140128212E-2,2178.2192218202758,1,7,{"$f":"VLOOKUP(BJ6,AZ5:BB12,2)","v":30.560533487725543},{"$f":"VLOOKUP(BK6,AZ5:BB12,3)","v":0.32139500767260709},9.8220028947665169E-2,1018.1222818951037,1,1,{"$f":"VLOOKUP(BP6,AZ5:BB12,2)","v":30.560533487725543},{"$f":"VLOOKUP(BQ6,AZ5:BB12,3)","v":27.426999041057137},8.38183722662043,11.930558575201557]
[null,null,null,"Забивают",null,"Пропускают",null,"В/Н/П","З/П",null,"Забивают",null,"Пропускают",null,"В/Н/П","З/П",null,"Забивают",null,"Пропускают",null,"В/Н/П","З/П",null,null,null,null,null,2,{"$f":"POISSON(AC7,AC4,FALSE)*100","v":25.724113848800162},{"$f":"POISSON(AC7,AF4,FALSE)*100","v":26.935522827761659},2,7,2,{"$f":"VLOOKUP(AG7,AC5:AE12,2)","v":0.96871477464212963},{"$f":"VLOOKUP(AH7,AC5:AE12,3)","v":26.935522827761659},0.26092838925963074,383.24691415811145,2,7,{"$f":"VLOOKUP(AM7,AC5:AE12,2)","v":25.724113848800162},{"$f":"VLOOKUP(AN7,AC5:AE12,3)","v":0.4829375384814979},0.12423140221757362,804.94945895293233,2,2,{"$f":"VLOOKUP(AS7,AC5:AE12,2)","v":25.724113848800162},{"$f":"VLOOKUP(AT7,AC5:AE12,3)","v":26.935522827761659},6.9289245579829659,14.432254120127171,null,2,{"$f":"POISSON(AZ7,AZ4,FALSE)*100","v":26.564147942842759},{"$f":"POISSON(AZ7,BC4,FALSE)*100","v":27.062226479656143},2,7,2,{"$f":"VLOOKUP(BD7,AZ5:BB12,2)","v":0.16738638205571837},{"$f":"VLOOKUP(BE7,AZ5:BB12,3)","v":27.062226479656143},4.5298481808021013E-2,2207.5795039623818,2,7,{"$f":"VLOOKUP(BJ7,AZ5:BB12,2)","v":26.564147942842759},{"$f":"VLOOKUP(BK7,AZ5:BB12,3)","v":0.32139500767260709},8.5375845319062171E-2,1171.2914774229782,2,2,{"$f":"VLOOKUP(BP7,AZ5:BB12,2)","v":26.564147942842759},{"$f":"VLOOKUP(BQ7,AZ5:BB12,3)","v":27.062226479656143},7.1888498786830262,13.910430971236204]
[null,null,"Хозяева",{"$f":"H5/D5","v":2.9},null,{"$f":"I5/D5","v":1.2},null,{"$f":"CONCATENATE(E5,\"/\",F5,\"/\",G5)","v":"6/0/4"},{"$f":"CONCATENATE(H5,\"/\",I5)","v":"29/12"},null,{"$f":"O5/K5","v":3.5714285714285716},null,{"$f":"P5/K5","v":1.2857142857142858},null,{"$f":"CONCATENATE(L5,\"/\",M5,\"/\",N5)","v":"5/0/2"},{"$f":"CONCATENATE(O5,\"/\",P5)","v":"25/9"},null,{"$f":"V5/R5","v":1.3333333333333333},null,{"$f":"W5/R5","v":1},null,{"$f":"CONCATENATE(S5,\"/\",T5,\"/\",U5)","v":"1/0/2"},{"$f":"CONCATENATE(V5,\"/\",W5)","v":"4/3"},null,null,null,null,null,3,{"$f":"POISSON(AC8,AC4,FALSE)*100","v":21.314265760434417},{"$f":"POISSON(AC8,AF4,FALSE)*100","v":19.239659162686898},3,7,3,{"$f":"VLOOKUP(AG8,AC5:AE12,2)","v":0.96871477464212963},{"$f":"VLOOKUP(AH8,AC5:AE12,3)","v":19.239659162686898},0.18637742089973625,536.54567982135609,3,7,{"$f":"VLOOKUP(AM8,AC5:AE12,2)","v":21.314265760434417},{"$f":"VLOOKUP(AN8,AC5:AE12,3)","v":0.4829375384814979},0.10293459040884669,971.49072632250477,3,3,{"$f":"VLOOKUP(AS8,AC5:AE12,2)","v":21.314265760434417},{"$f":"VLOOKUP(AT8,AC5:AE12,3)","v":19.239659162686898},4.100792085336856,24.385532823663159,null,3,{"$f":"POISSON(AZ8,AZ4,FALSE)*100","v":15.393578479526191},{"$f":"POISSON(AZ8,BC4,FALSE)*100","v":17.801536871019724},3,7,3,{"$f":"VLOOKUP(BD8,AZ5:BB12,2)","v":0.16738638205571837},{"$f":"VLOOKUP(BE8,AZ5:BB12,3)","v":17.801536871019724},2.9797348518714649E-2,3356.0033013405059,3,7,{"$f":"VLOOKUP(BJ8,AZ5:BB12,2)","v":15.393578479526191},{"$f":"VLOOKUP(BK8,AZ5:BB12,3)","v":0.32139500767260709},4.9474192735362001E-2,2021.255819875649,3,3,{"$f":"VLOOKUP(BP8,AZ5:BB12,2)","v":15.393578479526191},{"$f":"VLOOKUP(BQ8,AZ5:BB12,3)","v":17.801536871019724},2.7402935488022124,36.492440761943257]
[null,null,"Гости",{"$f":"H6/D6","v":2.8},null,{"$f":"I6/D6","v":0.9},null,{"$f":"CONCATENATE(E6,\"/\",F6,\"/\",G6)","v":"7/2/1"},{"$f":"CONCATENATE(H6,\"/\",I6)","v":"28/9"},null,{"$f":"O6/K6","v":3.4},null,{"$f":"P6/K6","v":1},null,{"$f":"CONCATENATE(L6,\"/\",M6,\"/\",N6)","v":"4/1/0"},{"$f":"CONCATENATE(O6,\"/\",P6)","v":"17/5"},null,{"$f":"V6/R6","v":2.2000000000000002},null,{"$f":"W6/R6","v":0.8},null,{"$f":"CONCATENATE(S6,\"/\",T6,\"/\",U6)","v":"3/1/1"},{"$f":"CONCATENATE(V6,\"/\",W6)","v":"11/4"},null,null,null,null,null,4,{"$f":"POISSON(AC9,AC4,FALSE)*100","v":13.245293722555671},{"$f":"POISSON(AC9,AF4,FALSE)*100","v":10.306960265725127},4,7,4,{"$f":"VLOOKUP(AG9,AC5:AE12,2)","v":0.96871477464212963},{"$f":"VLOOKUP(AH9,AC5:AE12,3)","v":10.306960265725127},9.9845046910573013E-2,1001.5519356665311,4,7,{"$f":"VLOOKUP(AM9,AC5:AE12,2)","v":13.245293722555671},{"$f":"VLOOKUP(AN9,AC5:AE12,3)","v":0.4829375384814979},6.3966495468354714E-2,1563.3184101741458,4,4,{"$f":"VLOOKUP(AS9,AC5:AE12,2)","v":13.245293722555671},{"$f":"VLOOKUP(AT9,AC5:AE12,3)","v":10.306960265725127},1.3651871610623976,73.250029631233375,null,4,{"$f":"POISSON(AZ9,AZ4,FALSE)*100","v":6.6902839942917414},{"$f":"POISSON(AZ9,BC4,FALSE)*100","v":8.7823903331225832},4,7,4,{"$f":"VLOOKUP(BD9,AZ5:BB12,2)","v":0.16738638205571837},{"$f":"VLOOKUP(BE9,AZ5:BB12,3)","v":8.7823903331225832},1.4700525436625044E-2,6802.4779407448214,4,7,{"$f":"VLOOKUP(BJ9,AZ5:BB12,2)","v":6.6902839942917414},{"$f":"VLOOKUP(BK9,AZ5:BB12,3)","v":0.32139500767260709},2.1502238756773148E-2,4650.6785238118646,4,4,{"$f":"VLOOKUP(BP9,AZ5:BB12,2)","v":6.6902839942917414},{"$f":"VLOOKUP(BQ9,AZ5:BB12,3)","v":8.7823903331225832},0.58756685477312531,170.19339873862111]
[null,null,null,null,null,null,null,null,null,null,null,null,null,null,null,null,null,null,null,null,null,null,null,null,null,null,null,null,5,{"$f":"POISSON(AC10,AC4,FALSE)*100","v":6.5848031649276759},{"$f":"POISSON(AC10,AF4,FALSE)*100","v":4.4172686853107681},5,7,5,{"$f":"VLOOKUP(AG10,AC5:AE12,2)","v":0.96871477464212963},{"$f":"VLOOKUP(AH10,AC5:AE12,3)","v":4.4172686853107681},4.2790734390245569E-2,2336.9545165552395,5,7,{"$f":"VLOOKUP(AM10,AC5:AE12,2)","v":6.5848031649276759},{"$f":"VLOOKUP(AN10,AC5:AE12,3)","v":0.4829375384814979},3.1800486318553485E-2,3144.6059974767304,5,5,{"$f":"VLOOKUP(AS10,AC5:AE12,2)","v":6.5848031649276759},{"$f":"VLOOKUP(AT10,AC5:AE12,3)","v":4.4172686853107681},0.29086844819370261,343.79803179410311,null,5,{"$f":"POISSON(AZ10,AZ4,FALSE)*100","v":2.3261595727755173},{"$f":"POISSON(AZ10,BC4,FALSE)*100","v":3.4662346525322998},5,7,5,{"$f":"VLOOKUP(BD10,AZ5:BB12,2)","v":0.16738638205571837},{"$f":"VLOOKUP(BE10,AZ5:BB12,3)","v":3.4662346525322998},5.8020047784354181E-3,17235.421861711431,5,7,{"$f":"VLOOKUP(BJ10,AZ5:BB12,2)","v":2.3261595727755173},{"$f":"VLOOKUP(BK10,AZ5:BB12,3)","v":0.32139500767260709},7.4761607373989578E-3,13375.849384799496,5,5,{"$f":"VLOOKUP(BP10,AZ5:BB12,2)","v":2.3261595727755173},{"$f":"VLOOKUP(BQ10,AZ5:BB12,3)","v":3.4662346525322998},8.0630149184742289E-2,1240.230869111713]
[null,null,{"$f":"AVERAGE(Дома!L2:M11,Гости!L2:M11)","v":1.95},"Ср.Тот","Заб","Счет1","Счет2","Счет5","Счет6","Итог","1й Гол","ОЗ","Тотал1","Серия","ТБ2.5","Рейтинг","Мощь","Голы","Счет7",null,null,null,null,null,null,null,null,null,6,{"$f":"POISSON(AC11,AC4,FALSE)*100","v":2.7279898826128939},{"$f":"POISSON(AC11,AF4,FALSE)*100","v":1.577595959039559},6,7,6,{"$f":"VLOOKUP(AG11,AC5:AE12,2)","v":0.96871477464212963},{"$f":"VLOOKUP(AH11,AC5:AE12,3)","v":1.577595959039559},1.5282405139373408E-2,6543.4726463546749,6,7,{"$f":"VLOOKUP(AM11,AC5:AE12,2)","v":2.7279898826128939},{"$f":"VLOOKUP(AN11,AC5:AE12,3)","v":0.4829375384814979},1.3174487189115014E-2,7590.4282697714189,6,6,{"$f":"VLOOKUP(AS11,AC5:AE12,2)","v":2.7279898826128939},{"$f":"VLOOKUP(AT11,AC5:AE12,3)","v":1.577595959039559},4.303665815110902E-2,2323.6004907463544,null,6,{"$f":"POISSON(AZ11,AZ4,FALSE)*100","v":0.67398961970223614},{"$f":"POISSON(AZ11,BC4,FALSE)*100","v":1.1400448521308066},6,7,6,{"$f":"VLOOKUP(BD11,AZ5:BB12,2)","v":0.16738638205571837},{"$f":"VLOOKUP(BE11,AZ5:BB12,3)","v":1.1400448521308066},1.9082798317942215E-3,52403.21588788004,6,7,{"$f":"VLOOKUP(BJ11,AZ5:BB12,2)","v":0.67398961970223614},{"$f":"VLOOKUP(BK11,AZ5:BB12,3)","v":0.32139500767260709},2.1661689899545771E-3,46164.449986931504,6,6,{"$f":"VLOOKUP(BP11,AZ5:BB12,2)","v":0.67398961970223614},{"$f":"VLOOKUP(BQ11,AZ5:BB12,3)","v":1.1400448521308066},7.6837839633113435E-3,13014.421081784916]
[null,null,"Хозяева",{"$f":"AVERAGE(K8,D8)+AVERAGE(T9,F9)-AVERAGE(1.25,C11)","v":2.4857142857142853},{"$f":"AVERAGE(K8,D8)","v":3.2357142857142858},{"$f":"ROUND(AVERAGE(D12,E12),0)","v":3},{"$f":"ROUND(D12,0)","v":2},{"$f":"ROUND(SUM(Дома!L2:L8)/7,0)","v":3},{"$f":"ROUND(SUM(Дома!L2:L8)/7,0)","v":3},{"$f":"Дома!S11/Дома!T11","v":2.4166666666666665},{"$f":"IF(J12>J13,\"К1\",\"К2\")","v":"К2"},{"$f":"IF(M18>0.6,\"1\",\"0\")","v":"0"},{"$f":"((100/3.5)*D14)/100","v":1.3224489795918368},{"$f":"CONCATENATE(Дома!N2,Дома!N3,Дома!N4,Дома!N5,Дома!N6)","v":"ПВППВ"},{"$f":"CONCATENATE(Q21,R21,S21,T21,U21)","v":"-++-+"},{"$f":"(Q5/K5+X5/R5*1.1+K8-M8*1.1+R8*1.1-T8)/12.6","v":0.46560846560846564},{"$f":"(K8-M8+D8-F8)/2","v":1.9928571428571424},{"$f":"IF(E12>0.6,\"Да\",\"Нет\")","v":"Да"},{"$f":"AC13-1","v":2},null,null,null,null,null,null,null,null,null,7,{"$f":"POISSON(AC12,AC4,FALSE)*100","v":0.96871477464212963},{"$f":"POISSON(AC12,AF4,FALSE)*100","v":0.4829375384814979},7,6,0,{"$f":"VLOOKUP(AG12,AC5:AE12,2)","v":2.7279898826128939},{"$f":"VLOOKUP(AH12,AC5:AE12,3)","v":11.731916609425078},0.3200454981416978,312.45557453748569,0,6,{"$f":"VLOOKUP(AM12,AC5:AE12,2)","v":8.3266057510318934},{"$f":"VLOOKUP(AN12,AC5:AE12,3)","v":1.577595959039559},0.13136019585343467,761.26561284649074,7,7,{"$f":"VLOOKUP(AS12,AC5:AE12,2)","v":0.96871477464212963},{"$f":"VLOOKUP(AT12,AC5:AE12,3)","v":0.4829375384814979},{"$f":"(AU12*AV12)/100","v":4.6782872875632906E-3},{"$f":"100/AW12","v":21375.343978091929},null,7,{"$f":"POISSON(AZ12,AZ4,FALSE)*100","v":0.16738638205571837},{"$f":"POISSON(AZ12,BC4,FALSE)*100","v":0.32139500767260709},7,6,0,{"$f":"VLOOKUP(BD12,AZ5:BB12,2)","v":0.67398961970223614},{"$f":"VLOOKUP(BE12,AZ5:BB12,3)","v":13.898344191370235},9.3673397160324079E-2,1067.538949493289,0,6,{"$f":"VLOOKUP(BJ12,AZ5:BB12,2)","v":17.579073288251841},{"$f":"VLOOKUP(BK12,AZ5:BB12,3)","v":1.1400448521308066},0.20040932007501686,498.97878982159204,7,7,{"$f":"VLOOKUP(BP12,AZ5:BB12,2)","v":0.16738638205571837},{"$f":"VLOOKUP(BQ12,AZ5:BB12,3)","v":0.32139500767260709},5.3797147545087544E-4,185883.46141622047]
[null,null,"Гости",{"$f":"AVERAGE(R9,D9)+AVERAGE(M8,F8)-AVERAGE(1.25,C11)","v":2.1428571428571428},{"$f":"AVERAGE(R9,D9)","v":2.5},{"$f":"ROUND(AVERAGE(D13,E13),0)","v":2},{"$f":"ROUND(D13,0)","v":2},{"$f":"ROUND(SUM(Гости!L2:L8)/7-1,0)","v":2},{"$f":"ROUND(SUM(Гости!L2:L8)/7,0)","v":3},{"$f":"Гости!S11/Гости!T11","v":3.1111111111111112},{"$f":"IF(M18>M20,\"К1\",\"К2\")","v":"К2"},{"$f":"IF(ROUND((V6/R6+P5/K5)/2,0)+M20>0.6,\"1\",\"0\")","v":"1"},{"$f":"IF(D14>2.85,IF(F12+F13>2,\"ТБ 2\",\"Нет\"),IF(D14<2.2,IF(F12+F13<3,\"ТМ 3\",\"Нет\"),\"Нет\"))","v":"ТБ 2"},{"$f":"CONCATENATE(Гости!N2,Гости!N3,Гости!N4,Гости!N5,Гости!N6)","v":"ВВВВВ"},{"$f":"CONCATENATE(V21,W21,X21,Y21,Z21)","v":"-++++"},{"$f":"(Q6/K6+X6/R6*1.1+K9-M9*1.1+R9*1.1-T9)/12.6","v":0.69206349206349216},{"$f":"(R9-T9+D8-F8)/2","v":1.5499999999999998},{"$f":"IF(E13>0.6,\"Да\",\"Нет\")","v":"Да"},{"$f":"AF13-1","v":2},null,null,null,null,null,null,null,null,null,{"$f":"MATCH(AD13,AD5:AD12,0)","v":3},{"$f":"MAX(AD5:AD12)","v":25.724113848800162},{"$f":"MAX(AE5:AE12)","v":26.935522827761659},{"$f":"MATCH(AE13,AE5:AE12,0)","v":3},6,1,{"$f":"VLOOKUP(AG13,AC5:AE12,2)","v":2.7279898826128939},{"$f":"VLOOKUP(AH13,AC5:AE12,3)","v":25.139821305910875},0.68581178173220936,145.81260145082672,1,6,{"$f":"VLOOKUP(AM13,AC5:AE12,2)","v":20.697562866850699},{"$f":"VLOOKUP(AN13,AC5:AE12,3)","v":1.577595959039559},0.32652391540710896,306.2562810301975,null,null,null,null,null,null,null,{"$f":"MATCH(BA13,BA5:BA12,0)","v":2},{"$f":"MAX(BA5:BA12)","v":30.560533487725543},{"$f":"MAX(BB5:BB12)","v":27.426999041057137},{"$f":"MATCH(BB13,BB5:BB12,0)","v":2},6,1,{"$f":"VLOOKUP(BD13,AZ5:BB12,2)","v":0.67398961970223614},{"$f":"VLOOKUP(BE13,AZ5:BB12,3)","v":27.426999041057137},0.18485512653255698,540.96416948646458,1,6,{"$f":"VLOOKUP(BJ13,AZ5:BB12,2)","v":30.560533487725543},{"$f":"VLOOKUP(BK13,AZ5:BB12,3)","v":1.1400448521308066},0.3484037888105263,287.02328508368595]
[null,null,null,{"$f":"D12+D13","v":4.6285714285714281},{"$f":"MATCH(F14,Таблица!B2:B100,0)","v":14},{"$f":"Очные!A1","v":"Cardiff U23"},null,{"$f":"COUNT(Таблица!A2:A100)","v":18},{"$f":"Очные!B1","v":"Sheffield Utd U23"},null,{"$f":"MATCH(I14,Таблица!B2:B100,0)","v":1},{"$f":"IF(L12+L13=2,\"Да\",\"Нет\")","v":"Нет"},null,null,null,{"$f":"(COUNTIF(Гости!AJ2:AJ11,\">2,5\")+COUNTIF(Дома!AJ2:AJ11,\">2,5\"))/COUNT(Дома!AJ2:AJ11,Гости!AJ2:AJ11)","v":0.75},null,null,null,null,null,null,null,null,null,null,null,null,null,null,null,null,6,2,{"$f":"VLOOKUP(AG14,AC5:AE12,2)","v":2.7279898826128939},{"$f":"VLOOKUP(AH14,AC5:AE12,3)","v":26.935522827761659},0.7347983375702245,136.0917613541049,2,6,{"$f":"VLOOKUP(AM14,AC5:AE12,2)","v":25.724113848800162},{"$f":"VLOOKUP(AN14,AC5:AE12,3)","v":1.577595959039559},0.40582258057740689,246.41309967946924,null,null,null,null,null,null,null,null,null,null,null,6,2,{"$f":"VLOOKUP(BD14,AZ5:BB12,2)","v":0.67398961970223614},{"$f":"VLOOKUP(BE14,AZ5:BB12,3)","v":27.062226479656143},0.1823965973331923,548.2558417322083,2,6,{"$f":"VLOOKUP(BJ14,AZ5:BB12,2)","v":26.564147942842759},{"$f":"VLOOKUP(BK14,AZ5:BB12,3)","v":1.1400448521308066},0.30284320113479046,330.20387984702245]
[null,null,null,null,null,null,null,null,null,null,null,null,null,null,null,null,null,null,null,null,null,null,null,null,null,null,null,null,"Пуассон",null,null,null,6,3,{"$f":"VLOOKUP(AG15,AC5:AE12,2)","v":2.7279898826128939},{"$f":"VLOOKUP(AH15,AC5:AE12,3)","v":19.239659162686898},0.52485595540730323,190.52846589574685,3,6,{"$f":"VLOOKUP(AM15,AC5:AE12,2)","v":21.314265760434417},{"$f":"VLOOKUP(AN15,AC5:AE12,3)","v":1.577595959039559},0.33625299533556563,297.39512030280775,null,null,null,null,null,null,null,"Пуассон",null,null,null,6,3,{"$f":"VLOOKUP(BD15,AZ5:BB12,2)","v":0.67398961970223614},{"$f":"VLOOKUP(BE15,AZ5:BB12,3)","v":17.801536871019724},0.11998051065813918,833.46869796987528,3,6,{"$f":"VLOOKUP(BJ15,AZ5:BB12,2)","v":15.393578479526191},{"$f":"VLOOKUP(BK15,AZ5:BB12,3)","v":1.1400448521308066},0.17549369901455403,569.8210281139884]
[null,null,null,null,"Миллер",null,null,null,null,null,null,null,null,null,null,null,"EW-легкая победа, W-победа простая, D-ничья, L-проигрыш, HL-позорный проигрыш",null,null,null,null,null,null,null,null,null,null,null,"ИД","%","КФ",null,6,4,{"$f":"VLOOKUP(AG16,AC5:AE12,2)","v":2.7279898826128939},{"$f":"VLOOKUP(AH16,AC5:AE12,3)","v":10.306960265725127},0.28117283325391251,355.65313633872734,4,6,{"$f":"VLOOKUP(AM16,AC5:AE12,2)","v":13.245293722555671},{"$f":"VLOOKUP(AN16,AC5:AE12,3)","v":1.577595959039559},0.20895721852995863,478.56686025739185,null,null,null,null,null,null,null,"ИД","%","КФ",null,6,4,{"$f":"VLOOKUP(BD16,AZ5:BB12,2)","v":0.67398961970223614},{"$f":"VLOOKUP(BE16,AZ5:BB12,3)","v":8.7823903331225832},5.919239920697885E-2,1689.4060950347471,4,6,{"$f":"VLOOKUP(BJ16,AZ5:BB12,2)","v":6.6902839942917414},{"$f":"VLOOKUP(BK16,AZ5:BB12,3)","v":1.1400448521308066},7.6272238269854312E-2,1311.0930302870606]
[null,null,null,null,1,2,3,4,"Max","Min","Расчет",null,null,"Счет3","Счет4",null,1,2,3,4,5,1,2,3,4,5,null,null,1,{"$f":"SUM(AK5:AK32)","v":46.289768527885919},{"$f":"100/AD17","v":2.1603046025118471},null,6,5,{"$f":"VLOOKUP(AG17,AC5:AE12,2)","v":2.7279898826128939},{"$f":"VLOOKUP(AH17,AC5:AE12,3)","v":4.4172686853107681},0.12050264282310534,829.85731812369727,5,6,{"$f":"VLOOKUP(AM17,AC5:AE12,2)","v":6.5848031649276759},{"$f":"VLOOKUP(AN17,AC5:AE12,3)","v":1.577595959039559},0.10388158864060801,962.63448902348932,null,null,null,null,null,null,null,1,{"$f":"SUM(BH5:BH32)","v":34.558051958266518},{"$f":"100/BA17","v":2.8936816265211771},null,6,5,{"$f":"VLOOKUP(BD17,AZ5:BB12,2)","v":0.67398961970223614},{"$f":"VLOOKUP(BE17,AZ5:BB12,3)","v":3.4662346525322998},2.3362061752589574E-2,4280.4441259948071,5,6,{"$f":"VLOOKUP(BJ17,AZ5:BB12,2)","v":2.3261595727755173},{"$f":"VLOOKUP(BK17,AZ5:BB12,3)","v":1.1400448521308066},2.6519262461775252E-2,3770.8439344472554]
[null,null,"Сила Атаки1",null,{"$f":"Дома!L2","v":0},{"$f":"Дома!L3","v":6},{"$f":"Дома!L4","v":1},{"$f":"Дома!L5","v":0},{"$f":"MAX(E18:H18)","v":6},{"$f":"MIN(E18:H18)","v":0},{"$f":"E18+F18+G18+H18-I18-J18","v":1},{"$f":"K18/2","v":0.5},{"$f":"L18+L21-1.5","v":-1},{"$f":"ROUNDDOWN(M18,0)","v":-1},{"$f":"ROUNDUP(M18,0)","v":-1},null,{"$f":"IF(Дома!N2=\"В\",IF(Дома!L2-Дома!M2>1,\"EW\",\"W\"),\"\")","v":""},{"$f":"IF(Дома!N3=\"В\",IF(Дома!L3-Дома!M3>1,\"EW\",\"W\"),\"\")","v":"EW"},{"$f":"IF(Дома!N4=\"В\",IF(Дома!L4-Дома!M4>1,\"EW\",\"W\"),\"\")","v":""},{"$f":"IF(Дома!N5=\"В\",IF(Дома!L5-Дома!M5>1,\"EW\",\"W\"),\"\")","v":""},{"$f":"IF(Дома!N6=\"В\",IF(Дома!L6-Дома!M6>1,\"EW\",\"W\"),\"\")","v":"EW"},{"$f":"IF(Гости!N2=\"В\",IF(Гости!L2-Гости!M2>1,\"EW\",\"W\"),\"\")","v":"EW"},{"$f":"IF(Гости!N3=\"В\",IF(Гости!L3-Гости!M3>1,\"EW\",\"W\"),\"\")","v":"EW"},{"$f":"IF(Гости!N4=\"В\",IF(Гости!L4-Гости!M4>1,\"EW\",\"W\"),\"\")","v":"EW"},{"$f":"IF(Гости!N5=\"В\",IF(Гости!L5-Гости!M5>1,\"EW\",\"W\"),\"\")","v":"EW"},{"$f":"IF(Гости!N6=\"В\",IF(Гости!L6-Гости!M6>1,\"EW\",\"W\"),\"\")","v":"W"},null,null,"Х",{"$f":"SUM(AW5:AW12)","v":18.913687960526079},5.2871761556342456,null,5,0,{"$f":"VLOOKUP(AG18,AC5:AE12,2)","v":6.5848031649276759},{"$f":"VLOOKUP(AH18,AC5:AE12,3)","v":11.731916609425078},0.77252361620409815,129.44588087981549,0,5,{"$f":"VLOOKUP(AM18,AC5:AE12,2)","v":8.3266057510318934},{"$f":"VLOOKUP(AN18,AC5:AE12,3)","v":4.4172686853107681},0.3678085483896173,271.8805760166037,null,null,null,null,null,null,null,"Х",{"$f":"SUM(BT5:BT12)","v":21.430599524756769},4.6662250341843841,null,5,0,{"$f":"VLOOKUP(BD18,AZ5:BB12,2)","v":2.3261595727755173},{"$f":"VLOOKUP(BE18,AZ5:BB12,3)","v":13.898344191370235},0.32329766386484876,309.31247323149222,0,5,{"$f":"VLOOKUP(BJ18,AZ5:BB12,2)","v":17.579073288251841},{"$f":"VLOOKUP(BK18,AZ5:BB12,3)","v":3.4662346525322998},0.60933192991143459,164.11416354717343]
[null,null,"Сила Обороны1",null,{"$f":"Дома!M2","v":2},{"$f":"Дома!M3","v":1},{"$f":"Дома!M4","v":2},{"$f":"Дома!M5","v":1},{"$f":"MAX(E19:H19)","v":2},{"$f":"MIN(E19:H19)","v":1},{"$f":"E19+F19+G19+H19-I19-J19","v":3},{"$f":"K19/2","v":1.5},null,null,null,null,{"$f":"IF(Дома!N2=\"П\",IF(Дома!L2-Дома!M2<1,\"HL\",\"L\"),\"D\")","v":"HL"},{"$f":"IF(Дома!N3=\"П\",IF(Дома!L3-Дома!M3<1,\"HL\",\"L\"),\"D\")","v":"D"},{"$f":"IF(Дома!N4=\"П\",IF(Дома!L4-Дома!M4<1,\"HL\",\"L\"),\"D\")","v":"HL"},{"$f":"IF(Дома!N5=\"П\",IF(Дома!L5-Дома!M5<1,\"HL\",\"L\"),\"D\")","v":"HL"},{"$f":"IF(Дома!N6=\"П\",IF(Дома!L6-Дома!M6<1,\"HL\",\"L\"),\"D\")","v":"D"},{"$f":"IF(Гости!N2=\"П\",IF(Гости!L2-Гости!M2<1,\"HL\",\"L\"),\"D\")","v":"D"},{"$f":"IF(Гости!N3=\"П\",IF(Гости!L3-Гости!M3<1,\"HL\",\"L\"),\"D\")","v":"D"},{"$f":"IF(Гости!N4=\"П\",IF(Гости!L4-Гости!M4<1,\"HL\",\"L\"),\"D\")","v":"D"},{"$f":"IF(Гости!N5=\"П\",IF(Гости!L5-Гости!M5<1,\"HL\",\"L\"),\"D\")","v":"D"},{"$f":"IF(Гости!N6=\"П\",IF(Гости!L6-Гости!M6<1,\"HL\",\"L\"),\"D\")","v":"D"},null,null,2,{"$f":"SUM(AQ5:AQ32)","v":34.218266834580909},2.9224156934488632,null,5,1,{"$f":"VLOOKUP(AG19,AC5:AE12,2)","v":6.5848031649276759},{"$f":"VLOOKUP(AH19,AC5:AE12,3)","v":25.139821305910875},1.6554077490087815,60.408077743913914,1,5,{"$f":"VLOOKUP(AM19,AC5:AE12,2)","v":20.697562866850699},{"$f":"VLOOKUP(AN19,AC5:AE12,3)","v":4.4172686853107681},0.91426696313990563,109.37724322507047,null,null,null,null,null,null,null,2,{"$f":"SUM(BN5:BN32)","v":43.865717931533993},2.2796845626938307,null,5,1,{"$f":"VLOOKUP(BD19,AZ5:BB12,2)","v":2.3261595727755173},{"$f":"VLOOKUP(BE19,AZ5:BB12,3)","v":27.426999041057137},0.6379957637185999,156.74085266200433,1,5,{"$f":"VLOOKUP(BJ19,AZ5:BB12,2)","v":30.560533487725543},{"$f":"VLOOKUP(BK19,AZ5:BB12,3)","v":3.4662346525322998},1.0592998017502806,94.40198122832652]
[null,null,"Сила Атаки2",null,{"$f":"Гости!L2","v":2},{"$f":"Гости!L3","v":4},{"$f":"Гости!L4","v":4},{"$f":"Гости!L5","v":5},{"$f":"MAX(E20:H20)","v":5},{"$f":"MIN(E20:H20)","v":2},{"$f":"E20+F20+G20+H20-I20-J20","v":8},{"$f":"K20/2","v":4},{"$f":"L20+L19-1.5","v":4},{"$f":"ROUNDDOWN(M20,0)","v":4},{"$f":"ROUNDUP(M20,0)","v":4},null,{"$f":"IF(Q18=\"\",Q19,Q18)","v":"HL"},"EW","HL","HL","EW","EW","EW","EW","EW","W",null,null,"ТБ1.5",{"$f":"100-AD21","v":94.501614934513981},1.0581829746433031,null,5,2,{"$f":"VLOOKUP(AG20,AC5:AE12,2)","v":6.5848031649276759},{"$f":"VLOOKUP(AH20,AC5:AE12,3)","v":26.935522827761659},1.7736511596522664,56.380872560986305,2,5,{"$f":"VLOOKUP(AM20,AC5:AE12,2)","v":25.724113848800162},{"$f":"VLOOKUP(AN20,AC5:AE12,3)","v":4.4172686853107681},1.13630322561674,88.004678456953243,null,null,null,null,null,null,null,"ТБ1.5",{"$f":"100-BA21","v":88.487979495706909},1.1300969981448339,null,5,2,{"$f":"VLOOKUP(BD20,AZ5:BB12,2)","v":2.3261595727755173},{"$f":"VLOOKUP(BE20,AZ5:BB12,3)","v":27.062226479656143},0.62951057186271231,158.85356731039718,2,5,{"$f":"VLOOKUP(BJ20,AZ5:BB12,2)","v":26.564147942842759},{"$f":"VLOOKUP(BK20,AZ5:BB12,3)","v":3.4662346525322998},0.9207757011447617,108.60408227071393]
[null,null,"Сила Обороны2",null,{"$f":"Гости!M2","v":0},{"$f":"Гости!M3","v":0},{"$f":"Гости!M4","v":0},{"$f":"Гости!M5","v":0},{"$f":"MAX(E21:H21)","v":0},{"$f":"MIN(E21:H21)","v":0},{"$f":"E21+F21+G21+H21-I21-J21","v":0},{"$f":"K21/2","v":0},null,null,null,null,{"$f":"IF(Дома!L2+Дома!M2>2,\"+\",\"-\")","v":"-"},{"$f":"IF(Дома!L3+Дома!M3>2,\"+\",\"-\")","v":"+"},{"$f":"IF(Дома!L4+Дома!M4>2,\"+\",\"-\")","v":"+"},{"$f":"IF(Дома!L5+Дома!M5>2,\"+\",\"-\")","v":"-"},{"$f":"IF(Дома!L6+Дома!M6>2,\"+\",\"-\")","v":"+"},{"$f":"IF(Гости!L2+Гости!M2>2,\"+\",\"-\")","v":"-"},{"$f":"IF(Гости!L3+Гости!M3>2,\"+\",\"-\")","v":"+"},{"$f":"IF(Гости!L4+Гости!M4>2,\"+\",\"-\")","v":"+"},{"$f":"IF(Гости!L5+Гости!M5>2,\"+\",\"-\")","v":"+"},{"$f":"IF(Гости!L6+Гости!M6>2,\"+\",\"-\")","v":"+"},null,null,"ТМ1.5",{"$f":"SUM(AK32+AQ32+AW5)","v":5.4983850654860253},18.187158376322373,null,5,3,{"$f":"VLOOKUP(AG21,AC5:AE12,2)","v":6.5848031649276759},{"$f":"VLOOKUP(AH21,AC5:AE12,3)","v":19.239659162686898},1.2668936854659045,78.933221585380821,3,5,{"$f":"VLOOKUP(AM21,AC5:AE12,2)","v":21.314265760434417},{"$f":"VLOOKUP(AN21,AC5:AE12,3)","v":4.4172686853107681},0.9415083869395845,106.21254296528841,null,null,null,null,null,null,null,"ТМ1.5",{"$f":"SUM(BH32+BN32+BT5)","v":11.512020504293087},8.6865724364118169,null,5,3,{"$f":"VLOOKUP(BD21,AZ5:BB12,2)","v":2.3261595727755173},{"$f":"VLOOKUP(BE21,AZ5:BB12,3)","v":17.801536871019724},0.41409215402638866,241.49213895423711,3,5,{"$f":"VLOOKUP(BJ21,AZ5:BB12,2)","v":15.393578479526191},{"$f":"VLOOKUP(BK21,AZ5:BB12,3)","v":3.4662346525322998},0.53357755152209152,187.41418134016033]
[null,null,null,null,null,null,null,null,null,null,null,null,null,null,null,null,null,null,null,null,null,null,null,null,null,null,null,null,"ТБ2.5",{"$f":"100-AD23","v":84.037538237007425},1.1899444236214338,null,5,4,{"$f":"VLOOKUP(AG22,AC5:AE12,2)","v":6.5848031649276759},{"$f":"VLOOKUP(AH22,AC5:AE12,3)","v":10.306960265725127},0.6786930457853062,147.34201362604415,4,5,{"$f":"VLOOKUP(AM22,AC5:AE12,2)","v":13.245293722555671},{"$f":"VLOOKUP(AN22,AC5:AE12,3)","v":4.4172686853107681},0.58508021188388459,170.91673580621125,null,null,null,null,null,null,null,"ТБ2.5",{"$f":"100-BA23","v":71.65687693019396},1.3955394692601115,null,5,4,{"$f":"VLOOKUP(BD22,AZ5:BB12,2)","v":2.3261595727755173},{"$f":"VLOOKUP(BE22,AZ5:BB12,3)","v":8.7823903331225832},0.20429241345244262,489.49443745878051,4,5,{"$f":"VLOOKUP(BJ22,AZ5:BB12,2)","v":6.6902839942917414},{"$f":"VLOOKUP(BK22,AZ5:BB12,3)","v":3.4662346525322998},0.23190094216296242,431.2186016464201]
[null,null,null,"Индикатор ТБ2.5",null,null,null,null,null,"Среднее за 5 матчей Д/Г",null,null,"Расчет силы атаки/обороны 10 матчей",null,null,null,null,null,null,1,{"$f":"L5/K5/(L5/K5+M5/K5+S6/R6+T6/R6)","v":0.47169811320754718},{"$f":"E5/D5/(E5/D5+F5/D5+E6/D6+F6/D6)","v":0.4},{"$f":"AVERAGE(U23,V23)","v":0.4358490566037736},null,null,null,null,null,"ТМ2.5",{"$f":"SUM(AK32+AK30+AQ30+AQ32+AW5+AW6)","v":15.962461762992572},6.2646978570586374,null,4,0,{"$f":"VLOOKUP(AG23,AC5:AE12,2)","v":13.245293722555671},{"$f":"VLOOKUP(AH23,AC5:AE12,3)","v":11.731916609425078},1.553926814203646,64.353095065965405,0,4,{"$f":"VLOOKUP(AM23,AC5:AE12,2)","v":8.3266057510318934},{"$f":"VLOOKUP(AN23,AC5:AE12,3)","v":10.306960265725127},0.85821994624244058,116.5202468642587,null,null,null,null,null,null,null,"ТМ2.5",{"$f":"SUM(BH32+BH30+BN30+BN32+BT5+BT6)","v":28.343123069806047},3.5281927031721527,null,4,0,{"$f":"VLOOKUP(BD23,AZ5:BB12,2)","v":6.6902839942917414},{"$f":"VLOOKUP(BE23,AZ5:BB12,3)","v":13.898344191370235},0.92983869690681875,107.54553486820653,0,4,{"$f":"VLOOKUP(BJ23,AZ5:BB12,2)","v":17.579073288251841},{"$f":"VLOOKUP(BK23,AZ5:BB12,3)","v":8.7823903331225832},1.5438628331199638,64.772593688204708]
[null,null,null,"Заб","Проп","Набр","Потер",null,null,"Тотал","Заб","Проп","ЗабО","ЗабДГ","ПропО","ПропДГ","Атака","Оборона",null,"X",{"$f":"(M5/K5+T6/R6)/(L5/K5+M5/K5+S6/R6+T6/R6)","v":0.13207547169811321},{"$f":"(F5/D5+F6/D6)/(E5/D5+F5/D5+E6/D6+F6/D6)","v":0.13333333333333336},{"$f":"AVERAGE(U24,V24)","v":0.1327044025157233},null,null,null,null,null,"ТБ3.5",{"$f":"100-AD25","v":67.892962760854473},1.4729067039280499,null,4,1,{"$f":"VLOOKUP(AG24,AC5:AE12,2)","v":13.245293722555671},{"$f":"VLOOKUP(AH24,AC5:AE12,3)","v":25.139821305910875},3.3298431732935261,30.031444364117203,1,4,{"$f":"VLOOKUP(AM24,AC5:AE12,2)","v":20.697562866850699},{"$f":"VLOOKUP(AN24,AC5:AE12,3)","v":10.306960265725127},2.1332895806597802,46.875961382173053,null,null,null,null,null,null,null,"ТБ3.5",{"$f":"100-BA25","v":50.831969809361041},1.9672658835578773,null,4,1,{"$f":"VLOOKUP(BD24,AZ5:BB12,2)","v":6.6902839942917414},{"$f":"VLOOKUP(BE24,AZ5:BB12,3)","v":27.426999041057137},1.834944126958395,54.497572177175819,1,4,{"$f":"VLOOKUP(BJ24,AZ5:BB12,2)","v":30.560533487725543},{"$f":"VLOOKUP(BK24,AZ5:BB12,3)","v":8.7823903331225832},2.6839453387766978,37.258582935812882]
[null,null,"Хозяева",{"$f":"Дома!Z6*1.5+Дома!AG6*2","v":17},{"$f":"Дома!AA6*1.5+Дома!AH6","v":7.5},{"$f":"D25/5","v":3.4},{"$f":"E25/5","v":1.5},null,"Хозяева",{"$f":"SUM(ДомаДома!L2:M6)/5","v":5},{"$f":"SUM(ДомаДома!L2:L6)/5","v":3.4},{"$f":"SUM(ДомаДома!M2:M6)/5","v":1.6},{"$f":"(SUM(Дома!L2:L11)/10)","v":2.9},{"$f":"(SUM(ДомаДома!L2:L11)/10)","v":3},{"$f":"(SUM(Дома!M2:M11)/10)","v":1.2},{"$f":"(SUM(ДомаДома!M2:M11)/10)","v":1},{"$f":"((M25+N25)/2)/((O26+P26)/2)","v":3.4705882352941173},{"$f":"((O25+P25)/2)/((M26+N26)/2)","v":0.44000000000000006},null,2,{"$f":"S6/R6/(L5/K5+M5/K5+S6/R6+T6/R6)","v":0.39622641509433965},{"$f":"E6/D6/(E5/D5+F5/D5+E6/D6+F6/D6)","v":0.46666666666666673},{"$f":"AVERAGE(U25,V25)","v":0.43144654088050316},null,null,null,null,null,"ТМ3.5",{"$f":"SUM(AK32+AK31+AK30+AK27+AQ32+AQ31+AQ30+AQ27+AW5+AW6)","v":32.107037239145527},3.1145819919527811,null,4,2,{"$f":"VLOOKUP(AG25,AC5:AE12,2)","v":13.245293722555671},{"$f":"VLOOKUP(AH25,AC5:AE12,3)","v":26.935522827761659},3.5676891142430645,28.029348073176049,2,4,{"$f":"VLOOKUP(AM25,AC5:AE12,2)","v":25.724113848800162},{"$f":"VLOOKUP(AN25,AC5:AE12,3)","v":10.306960265725127},2.6513741931057275,37.716290767265662,null,null,null,null,null,null,null,"ТМ3.5",{"$f":"SUM(BH32+BH31+BH30+BH27+BN32+BN31+BN30+BN27+BT5+BT6)","v":49.168030190638959},2.0338419011758351,null,4,2,{"$f":"VLOOKUP(BD25,AZ5:BB12,2)","v":6.6902839942917414},{"$f":"VLOOKUP(BE25,AZ5:BB12,3)","v":27.062226479656143},1.8105398066674163,55.232146585092622,2,4,{"$f":"VLOOKUP(BJ25,AZ5:BB12,2)","v":26.564147942842759},{"$f":"VLOOKUP(BK25,AZ5:BB12,3)","v":8.7823903331225832},2.3329671610086042,42.863869526893524]
[null,null,"Гости",{"$f":"Гости!Z6*1.5+Гости!AG6*2","v":30},{"$f":"Гости!AA6*1.5+Гости!AH6","v":3},{"$f":"D26/5","v":6},{"$f":"E26/5","v":0.6},null,"Гости",{"$f":"SUM(ГостиГости!L2:M6)/5","v":3},{"$f":"SUM(ГостиГости!L2:L6)/5","v":2.2000000000000002},{"$f":"SUM(ГостиГости!M2:M6)/5","v":0.8},{"$f":"(SUM(Гости!L2:L11)/10)","v":2.8},{"$f":"(SUM(ГостиГости!L2:L11)/10)","v":2.2000000000000002},{"$f":"(SUM(Гости!M2:M11)/10)","v":0.9},{"$f":"(SUM(ГостиГости!M2:M11)/10)","v":0.8},{"$f":"((M26+N26)/2)/((O25+P25)/2)","v":2.2727272727272725},{"$f":"((O26+P26)/2)/((M25+N25)/2)","v":0.28813559322033899},null,null,null,null,{"$f":"IF(AND(W23-W25>0.27,F12>F13),\"П1\",IF(AND(W23>W25,F12>=F13),\"1Х\",IF(AND(W25-W23>0.12,F13>0),\"П2\",IF(AND(W25>W23,F13>=F12),\"Х2\",\"\"))))","v":"1Х"},null,null,null,null,null,"К1 Заб",{"$f":"100-AD27","v":91.687409395731507},1.0906622911373858,null,4,3,{"$f":"VLOOKUP(AG26,AC5:AE12,2)","v":13.245293722555671},{"$f":"VLOOKUP(AH26,AC5:AE12,3)","v":19.239659162686898},2.5483493673164745,39.241087302446466,3,4,{"$f":"VLOOKUP(AM26,AC5:AE12,2)","v":21.314265760434417},{"$f":"VLOOKUP(AN26,AC5:AE12,3)","v":10.306960265725127},2.1968529028590309,45.519661270837879,null,null,null,null,null,null,null,"К1 Заб",{"$f":"100-BA27","v":82.43865144021683},1.213023239135812,null,4,3,{"$f":"VLOOKUP(BD26,AZ5:BB12,2)","v":6.6902839942917414},{"$f":"VLOOKUP(BE26,AZ5:BB12,3)","v":17.801536871019724},1.1909733720197755,83.964933515188235,3,4,{"$f":"VLOOKUP(BJ26,AZ5:BB12,2)","v":15.393578479526191},{"$f":"VLOOKUP(BK26,AZ5:BB12,3)","v":8.7823903331225832},1.3519241483075464,73.968646928297346]
[null,null,{"$f":"((F25+G26)/2+(F26+G25)/2)/2","v":2.875},null,null,null,null,null,null,null,null,null,null,null,null,null,null,null,null,null,null,null,null,null,null,null,null,null,"К1 НЗ",{"$f":"SUM(AQ32+AQ30+AQ27+AQ23+AQ18+AQ12+AQ5+AW5)","v":8.3125906042684896},12.029944064447287,null,3,0,{"$f":"VLOOKUP(AG27,AC5:AE12,2)","v":21.314265760434417},{"$f":"VLOOKUP(AH27,AC5:AE12,3)","v":11.731916609425078},2.5005718849254079,39.990851933849925,0,3,{"$f":"VLOOKUP(AM27,AC5:AE12,2)","v":8.3266057510318934},{"$f":"VLOOKUP(AN27,AC5:AE12,3)","v":19.239659162686898},1.6020105663192219,62.421560820138602,null,null,null,null,null,null,null,"К1 НЗ",{"$f":"SUM(BN32+BN30+BN27+BN23+BN18+BN12+BN5+BT5)","v":17.561348559783177},5.6943235116355249,null,3,0,{"$f":"VLOOKUP(BD27,AZ5:BB12,2)","v":15.393578479526191},{"$f":"VLOOKUP(BE27,AZ5:BB12,3)","v":13.898344191370235},2.1394525204532466,46.740929767777615,0,3,{"$f":"VLOOKUP(BJ27,AZ5:BB12,2)","v":17.579073288251841},{"$f":"VLOOKUP(BK27,AZ5:BB12,3)","v":17.801536871019724},3.1293452129917312,31.955566801911743]
[null,null,{"$f":"IF(C27>2.25,\"ТБ 2,5\",\"Нет ставки\")","v":"ТБ 2,5"},null,null,null,null,null,null,null,null,null,null,null,null,null,null,null,null,null,null,null,null,null,null,null,null,null,"К2 Заб",{"$f":"100-AD29","v":88.316260532897246},1.1322943181312646,null,3,1,{"$f":"VLOOKUP(AG28,AC5:AE12,2)","v":21.314265760434417},{"$f":"VLOOKUP(AH28,AC5:AE12,3)","v":25.139821305910875},5.3583683248401579,18.662397569129972,1,3,{"$f":"VLOOKUP(AM28,AC5:AE12,2)","v":20.697562866850699},{"$f":"VLOOKUP(AN28,AC5:AE12,3)","v":19.239659162686898},3.9821405505649214,25.112122169021287,null,null,null,null,null,null,null,"К2 Заб",{"$f":"100-BA29","v":86.107888831408573},1.1613337797166403,null,3,1,{"$f":"VLOOKUP(BD28,AZ5:BB12,2)","v":15.393578479526191},{"$f":"VLOOKUP(BE28,AZ5:BB12,3)","v":27.426999041057137},4.2219966219640268,23.685476080149275,1,3,{"$f":"VLOOKUP(BJ28,AZ5:BB12,2)","v":30.560533487725543},{"$f":"VLOOKUP(BK28,AZ5:BB12,3)","v":17.801536871019724},5.440244636797793,18.381526323945138]
[null,null,null,null,null,null,null,null,null,null,null,null,null,null,null,null,null,null,null,null,null,null,null,null,null,null,null,null,"К2 НЗ",{"$f":"SUM(AK32+AK30+AK27+AK23+AK18+AK12+AK5+AW5)","v":11.683739467102757},8.5589036182777214,null,3,2,{"$f":"VLOOKUP(AG29,AC5:AE12,2)","v":21.314265760434417},{"$f":"VLOOKUP(AH29,AC5:AE12,3)","v":26.935522827761659},5.7411089194715998,17.418237731187968,2,3,{"$f":"VLOOKUP(AM29,AC5:AE12,2)","v":25.724113848800162},{"$f":"VLOOKUP(AN29,AC5:AE12,3)","v":19.239659162686898},4.9492318271306894,20.205155768178042,null,null,null,null,null,null,null,"К2 НЗ",{"$f":"SUM(BH32+BH30+BH27+BH23+BH18+BH12+BH5+BT5)","v":13.89211116859143},7.1983299576589372,null,3,2,{"$f":"VLOOKUP(BD29,AZ5:BB12,2)","v":15.393578479526191},{"$f":"VLOOKUP(BE29,AZ5:BB12,3)","v":27.062226479656143},4.1658450714529867,24.004733321760678,2,3,{"$f":"VLOOKUP(BJ29,AZ5:BB12,2)","v":26.564147942842759},{"$f":"VLOOKUP(BK29,AZ5:BB12,3)","v":17.801536871019724},4.7288265905173814,21.146895130501917]
[null,null,"1Х2",null,null,null,{"$f":"IF(E34=G34,\"Х\",IF(E34>G34,LOOKUP(MAX(E34:G34)-MIN(E34:G34),{0;0.2;0.4},{\"1Х\";\"П1\";\"П1\"}),LOOKUP(MAX(E34:G34)-MIN(E34:G35),{0;0.2;0.4},{\"Х2\";\"П2\";\"П2\"})))","v":"П2"},"Тотал",null,null,null,"Обе забьют",null,null,null,null,"Очные всречи (5 матчей)",null,null,null,null,null,null,null,null,null,null,null,"ОЗ",{"$f":"100-AD31","v":80.980540371735401},1.234864567968516,null,2,0,{"$f":"VLOOKUP(AG30,AC5:AE12,2)","v":25.724113848800162},{"$f":"VLOOKUP(AH30,AC5:AE12,3)","v":11.731916609425078},3.0179315852548028,33.135277316618506,0,2,{"$f":"VLOOKUP(AM30,AC5:AE12,2)","v":8.3266057510318934},{"$f":"VLOOKUP(AN30,AC5:AE12,3)","v":26.935522827761659},2.2428147928469109,44.586829157241858,null,null,null,null,null,null,null,"ОЗ",{"$f":"100-BA31","v":70.989740382879859},1.4086542570891887,null,2,0,{"$f":"VLOOKUP(BD30,AZ5:BB12,2)","v":26.564147942842759},{"$f":"VLOOKUP(BE30,AZ5:BB12,3)","v":13.898344191370235},3.6919767126010821,27.08576131011068,0,2,{"$f":"VLOOKUP(BJ30,AZ5:BB12,2)","v":17.579073288251841},{"$f":"VLOOKUP(BK30,AZ5:BB12,3)","v":27.062226479656143},4.7572886262914498,21.020376911197655]
[null,null,null,null,"маржа(%):",null,{"$f":"(E35+F35+G35)-1","v":9.9504328014982102E-2},"маржа(%):",null,null,{"$f":"(J35+K35)-1","v":6.2789500772002071E-2},"маржа(%):",null,null,{"$f":"(N35+O35)-1","v":8.2516339869280975E-2},null,"команды","В","Н","П","Забито","Пропущено","итог","очки",null,null,null,null,"ОНЗ",{"$f":"SUM(AK32+AK30+AK27+AK23+AK18+AK12+AK5+AQ5+AQ12+AQ18+AQ23+AQ27+AQ30+AQ32+AW5)","v":19.019459628264592},5.2577729312241441,null,2,1,{"$f":"VLOOKUP(AG31,AC5:AE12,2)","v":25.724113848800162},{"$f":"VLOOKUP(AH31,AC5:AE12,3)","v":25.139821305910875},6.4669962541174337,15.463129414421973,1,2,{"$f":"VLOOKUP(AM31,AC5:AE12,2)","v":20.697562866850699},{"$f":"VLOOKUP(AN31,AC5:AE13,3)","v":26.935522827761659},5.5749967707908912,17.937230120729488,null,null,null,null,null,null,null,"ОНЗ",{"$f":"SUM(BH32+BH30+BH27+BH23+BH18+BH12+BH5+BN5+BN12+BN18+BN23+BN27+BN30+BN32+BT5)","v":29.010259617120145},3.4470563628112414,null,2,1,{"$f":"VLOOKUP(BD31,AZ5:BB12,2)","v":26.564147942842759},{"$f":"VLOOKUP(BE31,AZ5:BB12,3)","v":27.426999041057137},7.285748601548482,13.725425549098198,1,2,{"$f":"VLOOKUP(BJ31,AZ5:BB12,2)","v":30.560533487725543},{"$f":"VLOOKUP(BK31,AZ5:BB13,3)","v":27.062226479656143},8.2703607858394452,12.091370931631003]
[null,null,"Линия:",null,"П1","Х","П2","Линия:",null,"ТБ 2,5","ТМ 2,5","Линия:",null,"ОЗ-да","ОЗ-нет",null,"1К",{"$f":"Очные!J6","v":""},{"$f":"Очные!K6","v":""},{"$f":"Очные!L6","v":""},{"$f":"Очные!H6","v":""},{"$f":"Очные!I6","v":""},{"$f":"U32/V32","v":{"$error":"#VALUE!"}},{"$f":"R32*3+S32","v":{"$error":"#VALUE!"}},null,null,null,null,null,null,null,null,1,0,{"$f":"VLOOKUP(AG32,AC5:AE12,2)","v":20.697562866850699},{"$f":"VLOOKUP(AH32,AC5:AE12,3)","v":11.731916609425078},2.4282208157222542,41.182416093511591,0,1,{"$f":"VLOOKUP(AM32,AC5:AE12,2)","v":8.3266057510318934},{"$f":"VLOOKUP(AN32,AC5:AE12,3)","v":25.139821305910875},2.0932938066571163,47.771602668473427,null,null,null,null,null,null,null,"ТБ0.5",{"$f":"100-BA33","v":97.55679988874553},{"$f":"100/BA32","v":1.0250438730466838},null,1,0,{"$f":"VLOOKUP(BD32,AZ5:BB12,2)","v":30.560533487725543},{"$f":"VLOOKUP(BE32,AZ5:BB12,3)","v":13.898344191370235},4.2474081308430582,23.543769969699433,0,1,{"$f":"VLOOKUP(BJ32,AZ5:BB12,2)","v":17.579073288251841},{"$f":"VLOOKUP(BK32,AZ5:BB12,3)","v":27.426999041057137},4.8214122621955635,20.74081089976368]
[null,null,"Коэф-ы бук-ов:",null,{"$f":"Коэффициенты!B2","v":2.93},{"$f":"Коэффициенты!B3","v":3.8},{"$f":"Коэффициенты!B4","v":2.02},"Коэф-ы бук-ов:",null,{"$f":"Коэффициенты!B5","v":1.45},{"$f":"Коэффициенты!B6","v":2.68},"Коэф-ы бук-ов:",null,{"$f":"Коэффициенты!B7","v":1.36},{"$f":"Коэффициенты!B8","v":2.88},null,"2К",{"$f":"Очные!P6","v":""},{"$f":"Очные!Q6","v":""},{"$f":"Очные!R6","v":""},{"$f":"Очные!N6","v":""},{"$f":"Очные!O6","v":""},{"$f":"U33/V33","v":{"$error":"#VALUE!"}},{"$f":"R33*3+S33","v":{"$error":"#VALUE!"}},null,null,null,null,null,null,null,null,null,null,null,null,null,null,null,null,null,null,null,null,null,null,null,null,null,null,null,"ТМ0.5",{"$f":"SUM(BT5)","v":2.4432001112544661},40.929926099526412]
[null,null,"Вероятность (%):",null,{"$f":"E35/(1+G31)","v":0.31040980888525838},{"$f":"F35/(1+G31)","v":0.23934230000889659},{"$f":"G35/(1+G31)","v":0.45024789110584507},"Вероятность (%):",null,{"$f":"J35/(1+K31)","v":0.64891041162227603},{"$f":"K35/(1+K31)","v":0.35108958837772392},"Вероятность (%):",null,{"$f":"N35/(1+O31)","v":0.67924528301886788},{"$f":"O35/(1+O31)","v":0.32075471698113206},null,null,null,null,null,null,null,null,null,null,null,null,null,null,null,null,null,null,null,null,null,null,null,null,null,null,null,null,null,null,null,null,null,null,null,null,"ТБ4.5",{"$f":"100-BA35","v":33.980878671916201},2.9428314954858976]
[null,null,"Вер. с маржой (%):",null,{"$f":"1/E33","v":0.34129692832764502},{"$f":"1/F33","v":0.26315789473684209},{"$f":"1/G33","v":0.49504950495049505},"Вер. с маржой (%):",null,{"$f":"1/J33","v":0.68965517241379315},{"$f":"1/K33","v":0.37313432835820892},"Вер. с маржой (%):",null,{"$f":"1/N33","v":0.73529411764705876},{"$f":"1/O33","v":0.34722222222222221},null,null,null,null,null,null,null,null,null,null,null,null,null,null,null,null,null,null,null,null,null,null,null,null,null,null,null,null,null,null,null,null,null,null,null,null,"ТМ4.5",{"$f":"SUM(BH32+BH31+BH30+BH28+BH27+BN32+BN31+BN30+BN28+BN27+BT5+BT6+BT7)","v":66.019121328083799},1.5147126769992487]
[]
[]
[null,null,"Тест №1 Анализ 10 игр команд дома и в гостях",null,null,null,null,null,null,null,"Последние  три  игры  команд  между  собой",null,null,null,null,null,null,null,null,"Первая",null,null,null,"Вторая",null,null,null,null,null,{"$f":"AVERAGE(W32,AN41)","v":{"$error":"#VALUE!"}},"Вероятность голов",null,null,null,null,null,{"$f":"AVERAGE(W33,AN42)","v":{"$error":"#VALUE!"}},"Расчет ТС и Тотал от #YMA "]
[null,null,"К1","К2","К1","К2","К1","К2",null,null,"Команда дома","Счёт","Счёт","Очки","Команда победитель","Команда в гостях",null,null,null,"Игра","Дома","Гости","Очки","Игра","Дома","Гости","Очки",null,null,"Забьют хозяева",1,"Вероятность",{"$f":"_xlfn.POISSON.DIST(AE39,AD38,FALSE)","v":{"$error":"#VALUE!"}},"Забьют гости",1,"Вероятность",{"$f":"_xlfn.POISSON.DIST(AI39,AK38,FALSE)","v":{"$error":"#VALUE!"}},{"$f":"O5","v":25},{"$f":"P5","v":9},{"$f":"K5","v":7}]
[null,null,{"$f":"IF(Дома!N2=\"П\",\"Поражение\",IF(Дома!N2=\"Н\",\"Ничья\",\"Победа\"))","v":"Поражение"},{"$f":"IF(Гости!N2=\"П\",\"Поражение\",IF(Гости!N2=\"Н\",\"Ничья\",\"Победа\"))","v":"Победа"},{"$f":"IF(C40=\"Победа\",2,IF(C40=\"Ничья\",1,0))","v":0},{"$f":"IF(D40=\"Победа\",2,IF(D40=\"Ничья\",1,0))","v":2},{"$f":"IF(C40=\"Победа\",1,0)","v":0},{"$f":"IF(D40=\"Победа\",1,0)","v":1},null,null,{"$f":"IF(Очные!A1=Очные!C2,1,2)","v":1},{"$f":"Очные!E2","v":1},{"$f":"Очные!F2","v":3},{"$f":"IF(L40>M40,3+(L40-M40),IF(L40=M40,1,IF(M40>L40,3+(M40-L40),0)))","v":5},{"$f":"IF(L40>M40,K40,IF(M40>L40,P40,0))","v":2},{"$f":"IF(K40=2,1,2)","v":2},null,null,null,"1 игра",{"$f":"ДомаДома!L2","v":0},{"$f":"ДомаДома!M2","v":2},{"$f":"IF(U40>V40,2+(U40-V40),IF(U40=V40,1,0))","v":0},"1 игра",{"$f":"ГостиГости!M2","v":0},{"$f":"ГостиГости!L2","v":2},{"$f":"IF(Z40>Y40,2+(Z40-Y40),IF(Y40=Z40,1,0))","v":4},null,null,null,2,null,{"$f":"_xlfn.POISSON.DIST(AE40,AD38,FALSE)","v":{"$error":"#VALUE!"}},null,2,null,{"$f":"_xlfn.POISSON.DIST(AI40,AK38,FALSE)","v":{"$error":"#VALUE!"}},{"$f":"V6","v":11},{"$f":"W6","v":4},{"$f":"R6","v":5}]
[null,null,{"$f":"IF(Дома!N3=\"П\",\"Поражение\",IF(Дома!N3=\"Н\",\"Ничья\",\"Победа\"))","v":"Победа"},{"$f":"IF(Гости!N3=\"П\",\"Поражение\",IF(Гости!N3=\"Н\",\"Ничья\",\"Победа\"))","v":"Победа"},2,2,1,1,null,null,{"$f":"IF(Очные!A1=Очные!C3,1,2)","v":1},{"$f":"Очные!E3","v":1},{"$f":"Очные!F3","v":1},{"$f":"IF(L41>M41,3+(L41-M41),IF(L41=M41,0,IF(M41>L41,3+(M41-L41),0)))","v":0},{"$f":"IF(L41>M41,K41,IF(M41>L41,P41,0))","v":0},{"$f":"IF(K41=2,1,2)","v":2},null,null,null,"2 игра",{"$f":"ДомаДома!L3","v":6},{"$f":"ДомаДома!M3","v":1},{"$f":"IF(U41>V41,2+(U41-V41),IF(U41=V41,1,0))","v":7},"2 игра",{"$f":"ГостиГости!M3","v":0},{"$f":"ГостиГости!L3","v":4},{"$f":"IF(Z41>Y41,2+(Z41-Y41),IF(Y41=Z41,1,0))","v":6},null,null,null,3,null,{"$f":"_xlfn.POISSON.DIST(AE41,AD38,FALSE)","v":{"$error":"#VALUE!"}},null,3,null,{"$f":"_xlfn.POISSON.DIST(AI41,AK38,FALSE)","v":{"$error":"#VALUE!"}},{"$f":"AL39/AN39","v":3.5714285714285716},{"$f":"AM39/AN39","v":1.2857142857142858},{"$f":"AVERAGE(AL41,AM42)","v":2.1857142857142859}]
[null,null,{"$f":"IF(Дома!N4=\"П\",\"Поражение\",IF(Дома!N4=\"Н\",\"Ничья\",\"Победа\"))","v":"Поражение"},{"$f":"IF(Гости!N4=\"П\",\"Поражение\",IF(Гости!N4=\"Н\",\"Ничья\",\"Победа\"))","v":"Победа"},0,2,0,1,null,null,{"$f":"IF(Очные!A1=Очные!C4,1,2)","v":2},{"$f":"Очные!E4","v":3},{"$f":"Очные!F4","v":0},{"$f":"IF(L42>M42,3+(L42-M42),IF(L42=M42,0,IF(M42>L42,3+(M42-L42),0)))","v":6},{"$f":"IF(L42>M42,K42,IF(M42>L42,P42,0))","v":2},{"$f":"IF(K42=2,1,2)","v":1},null,null,null,null,null,"Итог:",{"$f":"W40+W41","v":7},null,null,"Итог:",{"$f":"AA40+AA41","v":10},null,null,null,4,null,{"$f":"_xlfn.POISSON.DIST(AE42,AD38,FALSE)","v":{"$error":"#VALUE!"}},null,4,null,{"$f":"_xlfn.POISSON.DIST(AI42,AK38,FALSE)","v":{"$error":"#VALUE!"}},{"$f":"AL40/AN40","v":2.2000000000000002},{"$f":"AM40/AN40","v":0.8},{"$f":"AVERAGE(AL42,AM41)","v":1.7428571428571429}]
[null,null,{"$f":"IF(Дома!N5=\"П\",\"Поражение\",IF(Дома!N5=\"Н\",\"Ничья\",\"Победа\"))","v":"Поражение"},{"$f":"IF(Гости!N5=\"П\",\"Поражение\",IF(Гости!N5=\"Н\",\"Ничья\",\"Победа\"))","v":"Победа"},0,2,0,1,null,null,null,"П1","Команды",1,2,{"$f":"IF(N46>O46,1,IF(N46=O46,0,2))","v":2},null,null,null,"5 игра ",{"$f":"ДомаДома!L6","v":3},{"$f":"ДомаДома!M6","v":0},{"$f":"IF(U43>V43,2+(U43-V43),IF(U43=V43,1,0))","v":5},"5 игра ",{"$f":"ГостиГости!M6","v":0},{"$f":"ГостиГости!L6","v":2},{"$f":"IF(Z43>Y43,2+(Z43-Y43),IF(Y43=Z43,1,0))","v":4},null,null,null,5,null,{"$f":"_xlfn.POISSON.DIST(AE43,AD38,FALSE)","v":{"$error":"#VALUE!"}},null,5,null,{"$f":"_xlfn.POISSON.DIST(AI43,AK38,FALSE)","v":{"$error":"#VALUE!"}},{"$f":"ROUND(AN41,0)","v":2},{"$f":"ROUND(AN42,0)","v":2},{"$f":"AN41+AN42","v":3.9285714285714288}]
[null,null,{"$f":"IF(Дома!N6=\"П\",\"Поражение\",IF(Дома!N6=\"Н\",\"Ничья\",\"Победа\"))","v":"Победа"},{"$f":"IF(Гости!N6=\"П\",\"Поражение\",IF(Гости!N6=\"Н\",\"Ничья\",\"Победа\"))","v":"Победа"},2,2,1,1,null,null,null,"П2","Очки",{"$f":"G61+IF(O40=1,N40,0)+IF(O41=1,N41,0)+IF(O42=1,N42,0)","v":14},{"$f":"K61+IF(O40=2,N40,0)+IF(O41=2,N41,0)+IF(O42=2,N42,0)","v":22},{"$f":"IF(P46=1,1,2)+IF(P47>0,99,0)","v":101},null,null,null,"6 игра",{"$f":"ДомаДома!L7","v":4},{"$f":"ДомаДома!M7","v":1},{"$f":"IF(U44>V44,2+(U44-V44),IF(U44=V44,1,0))","v":5},"6 игра",{"$f":"ГостиГости!M7","v":0},{"$f":"ГостиГости!L7","v":1},{"$f":"IF(Z44>Y44,2+(Z44-Y44),IF(Y44=Z44,1,0))","v":3},null,null,null,0,null,{"$f":"_xlfn.POISSON.DIST(AE44,AD38,FALSE)","v":{"$error":"#VALUE!"}},null,0,null,{"$f":"_xlfn.POISSON.DIST(AI44,AK38,FALSE)","v":{"$error":"#VALUE!"}},"Ставка тотал",null,{"$f":"IF(AN43>3,\"ТБ 2,5\",IF(AN43>2,\"ТБ 1,5\",\"ТМ 2,5\"))","v":"ТБ 2,5"}]
[null,null,{"$f":"IF(Дома!N7=\"П\",\"Поражение\",IF(Дома!N7=\"Н\",\"Ничья\",\"Победа\"))","v":"Поражение"},{"$f":"IF(Гости!N7=\"П\",\"Поражение\",IF(Гости!N7=\"Н\",\"Ничья\",\"Победа\"))","v":"Ничья"},0,1,0,0,null,null,null,"П1","Доп. Очки",{"$f":"IF(P50=1,1,0)","v":1},null,null,null,null,null,null,null,"Итог:",{"$f":"SUM(W43:W44)","v":10},null,null,"Итог:",{"$f":"AA43+AA44","v":7},null,null,0.25,null,"Прогноз на матч",null,null,null,null,0.35]
[null,null,{"$f":"IF(Дома!N8=\"П\",\"Поражение\",IF(Дома!N8=\"Н\",\"Ничья\",\"Победа\"))","v":"Победа"},{"$f":"IF(Гости!N8=\"П\",\"Поражение\",IF(Гости!N8=\"Н\",\"Ничья\",\"Победа\"))","v":"Ничья"},2,1,1,0,null,null,null,"П2","Итоговые:",{"$f":"SUM(N44,N45)","v":15},{"$f":"SUM(O44,O45)","v":22},null,null,null,null,"Сколько побед 10 игр:",null,null,{"$f":"E5","v":6},"Сколько побед за 10 игр:",null,null,{"$f":"E6","v":7},null,null,null,{"$f":"IF(AF46>0,1,0)","v":0},{"$f":"SUMIFS(AE39:AE44,AG39:AG44,\">25%\")","v":0},{"$f":"SUMIFS(AI39:AI44,AK39:AK44,\">35%\")","v":0},{"$f":"IF(AG46>0,1,0)","v":0},null,"Обе забьют?",null,null,{"$f":"IF(AE46+AH46=2,\"Да\",\"Нет\")","v":"Нет"}]
[null,null,{"$f":"IF(Дома!N9=\"П\",\"Поражение\",IF(Дома!N9=\"Н\",\"Ничья\",\"Победа\"))","v":"Победа"},{"$f":"IF(Гости!N9=\"П\",\"Поражение\",IF(Гости!N9=\"Н\",\"Ничья\",\"Победа\"))","v":"Поражение"},2,0,1,0,null,null,null,"1Х","ИТОГОВЫЙ ВЫВОД:",null,{"$f":"IF(P43=1,M51,IF(P44=1,\"X1\",IF(P44=2,\"2X\",O51)))","v":"X2"},{"$f":"IF(P43=1,N46-O46,IF(P43=2,O46-N46,0))","v":7},null,null,null,"СОПЕРНИЧЕСТВО  КОМАНД МЕЖДУ СОБОЙ",null,null,null,null,null,"ИСХОД:",null,null,null,null,null,{"$f":"IF(AF46>0,\"Гол!\",\"Нет\")","v":"Нет"},{"$f":"IF(AG46>0,\"Гол!\",\"Нет\")","v":"Нет"}]
[null,null,{"$f":"IF(Дома!N10=\"П\",\"Поражение\",IF(Дома!N10=\"Н\",\"Ничья\",\"Победа\"))","v":"Победа"},{"$f":"IF(Гости!N10=\"П\",\"Поражение\",IF(Гости!N10=\"Н\",\"Ничья\",\"Победа\"))","v":"Победа"},2,2,1,1,null,null,null,"Х2",null,null,null,null,null,null,null,"Дома","Счёт","Счёт","Очки","Победа","Гости"]
[null,null,{"$f":"IF(Дома!N11=\"П\",\"Поражение\",IF(Дома!N11=\"Н\",\"Ничья\",\"Победа\"))","v":"Победа"},{"$f":"IF(Гости!N11=\"П\",\"Поражение\",IF(Гости!N11=\"Н\",\"Ничья\",\"Победа\"))","v":"Победа"},2,2,1,1,null,null,null,"Х1","Для команды 1",null,"Для команды 2",null,null,null,null,{"$f":"K40","v":1},1,3,{"$f":"IF(U49>V49,3+(U49-V49),IF(U49=V49,1,IF(V49>U49,3+(V49-U49),0)))","v":5},{"$f":"IF(U49>V49,T49,IF(V49>U49,Y49,0))","v":2},{"$f":"IF(T49=2,1,2)","v":2}]
[null,null,"Среднее",null,{"$f":"SUM(E40:E49)","v":12},{"$f":"SUM(F40:F49)","v":16},{"$f":"SUM(G40:G49)","v":6},{"$f":"SUM(H40:H49)","v":7},null,null,null,"2Х",{"$f":"IF(P43=1,P47,P49)","v":0},null,{"$f":"IF(P43=2,P47,P48)","v":7},{"$f":"IF(P52=P51,1,0)","v":1},null,null,null,1,1,1,{"$f":"IF(U50>V50,3+(U50-V50),IF(U50=V50,0,IF(V50>U50,3+(V50-U50),0)))","v":0},{"$f":"IF(U50>V50,T50,IF(V50>U50,Y50,0))","v":0},{"$f":"IF(T50=2,1,2)","v":2},{"$f":"IF(X57=1,AA56,AA55)","v":" П2"},null,null,null,"ЗабитоДома",{"$f":"Дома!Z16","v":28},"ЗабитоГости",{"$f":"Гости!AG16","v":18},null,null,"Оригинал","Дома Все игры",null,null,"Гости все игры",null,null,"ДомаДома",null,null,"ГостиГости"]
[null,null,"Команда ","Очки","Значение","Число","ИТОГ",{"$f":"IF(G52>G53,C52,IF(G52<G53,C53,\"Х\"))","v":"П2"},null,null,null,"Ф1 (+1)",{"$f":"IF(M50>12,\"П1\",IF(M50>7,\"П1\",IF(M50>4,\"1X\",IF(M50>0,\"Ф1 (+1)\",P45))))","v":0},null,{"$f":"IF(O50>13,\"П2\",IF(O50>7,\"П2\",IF(O50>4,\"X2\",IF(O50>0,\"Ф2 (+1)\",\"\"))))","v":"X2"},{"$f":"IF(O40=0,1,0)","v":0},null,null,null,2,3,0,{"$f":"IF(U51>V51,3+(U51-V51),IF(U51=V51,0,IF(V51>U51,3+(V51-U51),0)))","v":6},{"$f":"IF(U51>V51,T51,IF(V51>U51,Y51,0))","v":2},{"$f":"IF(T51=2,1,2)","v":1},null,null,null,null,"ПропДома",{"$f":"Дома!AA16","v":10},"ПропГости",{"$f":"Гости!AH16","v":7},null,null,null,"Игр","Заб","Проп","Игр","Заб","Проп","Игр","Заб","Проп","Игр","Заб","Проп"]
[null,null,"П1",{"$f":"E50","v":12},{"$f":"IF(D52>18,4,IF(D52>15,3,IF(D52>10,2,IF(D52>5,1,0))))","v":2},{"$f":"IF(G50>=9,3,IF(G50>=6,2,IF(G50>=4,1,0)))","v":2},{"$f":"IF(D52>D53,1,0)+IF(E52>E53,1,0)+F52","v":2},null,null,null,null,"Ф2 (+1)",1,{"$f":"IF(P47=0,P46,8)","v":8},2,{"$f":"IF(K40=O52,1,0)","v":0},null,null,null,"Итоговые очки:",null,"Очки","Динамика","Итоговые очки",null,null,null,null,null,"Всего игр",{"$f":"Дома!O16","v":15},"Всего игр",{"$f":"Гости!O16","v":15},null,null,null,0,{"$f":"Дома!L11","v":4},{"$f":"Дома!M11","v":0},0,{"$f":"Гости!L11","v":4},{"$f":"Гости!M11","v":2},0,{"$f":"ДомаДома!L11","v":2},{"$f":"ДомаДома!M11","v":0},0,{"$f":"ГостиГости!L11","v":4},{"$f":"ГостиГости!M11","v":1}]
[null,null,"П2",{"$f":"F50","v":16},{"$f":"IF(D53>18,4,IF(D53>15,3,IF(D53>10,2,IF(D53>5,1,0))))","v":3},{"$f":"IF(H50>=9,3,IF(H50>=6,2,IF(H50>=4,1,0)))","v":2},{"$f":"IF(D53>D52,1,0)+IF(E53>E52,1,0)+F53","v":4},null,null,null,null,null,null,null,null,null,null,null,null,"Команда 1",null,{"$f":"W42+W45+IF(X49=1,W49,0)+IF(X50=1,W50,0)+IF(X51=1,W51,0)","v":17},{"$f":"IF(W42>W45,2,IF(W42=W45,1,0))","v":0},{"$f":"IF(W53=2,V53+(V53*0.3),IF(W53=1,V53,IF(W53=0,V53-(V53*0.3),0)))+IF(W42>AA42,(V53*0.15),0)+V57","v":13.600000000000001},null,null,null,null,null,"АЗД",{"$f":"AE50/AE52","v":1.8666666666666667},"БЗВ",{"$f":"AG50/AG52","v":1.2},null,null,null,1,{"$f":"Дома!L10","v":4},{"$f":"Дома!M10","v":1},1,{"$f":"Гости!L10","v":2},{"$f":"Гости!M10","v":0},1,{"$f":"ДомаДома!L10","v":1},{"$f":"ДомаДома!M10","v":0},1,{"$f":"ГостиГости!L10","v":3},{"$f":"ГостиГости!M10","v":0}]
[null,null,null,null,null,null,null,null,null,null,null,null,null,null,null,null,null,null,null,"Команда 2",null,{"$f":"AA42+AA45+IF(X49=2,W49,0)+IF(X50=2,W50,0)+IF(X51=2,W51,0)","v":28},{"$f":"IF(AA42>AA45,2,IF(AA42=AA45,1,0))","v":2},{"$f":"IF(W54=2,V54+(V54*0.3),IF(W54=1,V54,IF(W54=0,V54-(V54*0.3),0)))+IF(AA42>W42,(V54*0.15),0)+W57","v":43.4},null,"1Х","ИТОГ",null,null,"БПВ",{"$f":"AG51/AG52","v":0.46666666666666667},"АПД",{"$f":"AE51/AE52","v":0.66666666666666663},null,null,null,2,{"$f":"Дома!L9","v":3},{"$f":"Дома!M9","v":0},2,{"$f":"Гости!L9","v":1},{"$f":"Гости!M9","v":2},2,{"$f":"ДомаДома!L9","v":2},{"$f":"ДомаДома!M9","v":1},2,{"$f":"ГостиГости!L9","v":0},{"$f":"ГостиГости!M9","v":1}]
[null,null,null,"Последние 3 игры команды 1 ДОМА",null,null,null,"Последние 3 игры команды 2 в гостях",null,null,null,"Второй прогноз на Тоталы",null,null,null,null,null,null,null,null,null,null,null,null,null,"Х2",{"$f":"IF(Y57<6,Z57,IF(Y57<10,Z55,T57))","v":" П2"},null,null,"А забьет",{"$f":"(AE53+AE54)/2.5","v":0.93333333333333335},"Б забьет",{"$f":"(AG53+AG54)/2.5","v":0.7466666666666667},null,null,null,3,{"$f":"Дома!L8","v":3},{"$f":"Дома!M8","v":0},3,{"$f":"Гости!L8","v":2},{"$f":"Гости!M8","v":2},3,{"$f":"ДомаДома!L8","v":4},{"$f":"ДомаДома!M8","v":0},3,{"$f":"ГостиГости!L8","v":3},{"$f":"ГостиГости!M8","v":2}]
[null,null,null,null,null,null,null,null,null,null,null,null,null,null,null,null,null,null,null," П1",2,"10BUH1","10BUH2","КТО ПОБЕДИЛ","Разница","Ф1(+1)",{"$f":"IF(Y57<6,Z56,IF(Y57<10,Z54,T56))","v":" П1"},null,null,"Примерный счет c округлением:",null,null,null,null,null,null,4,{"$f":"Дома!L7","v":4},{"$f":"Дома!M7","v":5},4,{"$f":"Гости!L7","v":1},{"$f":"Гости!M7","v":1},4,{"$f":"ДомаДома!L7","v":4},{"$f":"ДомаДома!M7","v":1},4,{"$f":"ГостиГости!L7","v":1},{"$f":"ГостиГости!M7","v":0}]
[null,null,null,null,"КОМАНДА 1","гости","Очки",null,"хозяева","КОМАНДА 2","Очки","Второй анализ.",null,"Команда 1","Команда 2",{"$f":"N58*N59","v":5.4166666666666661},null,null,null," П2",1,{"$f":"IF(W46<=4,-(V53*0.2),IF(W46>=6,V53*0.1,IF(W46>=9,V53*0.2,0)))","v":1.7000000000000002},{"$f":"IF(AA46<=4,-(V54*0.2),IF(AA46>=6,V54*0.1,IF(AA46>=9,V54*0.2,0)))","v":2.8000000000000003},{"$f":"IF(X53>X54,1,IF(X53=X54,0,2))","v":2},{"$f":"IF(X57=1,X53-X54,IF(X57=2,X54-X53,0))","v":29.799999999999997},"Ф2(+1)",null,null,null,"А забьет",{"$f":"IF(AE55>0.5,1,0)+IF(AE55>0.7,1,0)+IF(AE55>0.9,1,0)","v":3},"Б забьет",{"$f":"IF(AG55>0.5,1,0) + IF(AG55>0.7,1,0)+IF(AG55>0.9,1,0)","v":2},null,null,null,5,{"$f":"Дома!L6","v":4},{"$f":"Дома!M6","v":0},5,{"$f":"Гости!L6","v":3},{"$f":"Гости!M6","v":2},5,{"$f":"ДомаДома!L6","v":3},{"$f":"ДомаДома!M6","v":0},5,{"$f":"ГостиГости!L6","v":2},{"$f":"ГостиГости!M6","v":0}]
[null,null,null,"1 игра",{"$f":"ДомаДома!L2","v":0},{"$f":"ДомаДома!M2","v":2},{"$f":"IF(E58>F58,2+(E58-F58),IF(E58=F58,1,0))","v":0},"1 игра",{"$f":"ГостиГости!M2","v":0},{"$f":"ГостиГости!L2","v":2},{"$f":"IF(J58>I58,2+(J58-I58),IF(I58=J58,1,0))","v":4},"Забьёт в абстрактном матче ",null,{"$f":"(E58+E59+E60+1+I58+I59+I60)/6","v":2.1666666666666665},{"$f":"(J58+J59+J60+F58+F59+F60+1)/6","v":2},{"$f":"O58+O59","v":4.6666666666666661},null,null,null,null,null,null,null,null,null,null,null,null,null,null,null,null,null,null,null,null,6,{"$f":"Дома!L5","v":0},{"$f":"Дома!M5","v":1},6,{"$f":"Гости!L5","v":5},{"$f":"Гости!M5","v":0},6,{"$f":"ДомаДома!L5","v":4},{"$f":"ДомаДома!M5","v":5},6,{"$f":"ГостиГости!L5","v":1},{"$f":"ГостиГости!M5","v":2}]
[null,null,null,"2 игра",{"$f":"ДомаДома!L3","v":6},{"$f":"ДомаДома!M3","v":1},{"$f":"IF(E59>F59,2+(E59-F59),IF(E59=F59,1,0))","v":7},"2 игра",{"$f":"ГостиГости!M3","v":0},{"$f":"ГостиГости!L3","v":4},{"$f":"IF(J59>I59,2+(J59-I59),IF(I59=J59,1,0))","v":6},"Забьёт/пропустит в конкретном",null,{"$f":"(E58+E59+E60)/(F58+F59+F60+1)","v":2.5},{"$f":"(J58+J59+J60)/(I58+I59+I60+1)","v":2.6666666666666665},{"$f":"P57/P58","v":1.1607142857142858},null,null,null,null,null,null,null,null,null,null,null,null,null,null,null,null,null,null,null,null,7,{"$f":"Дома!L4","v":1},{"$f":"Дома!M4","v":2},7,{"$f":"Гости!L4","v":4},{"$f":"Гости!M4","v":0},7,{"$f":"ДомаДома!L4","v":4},{"$f":"ДомаДома!M4","v":0},7,{"$f":"ГостиГости!L4","v":2},{"$f":"ГостиГости!M4","v":2}]
[null,null,null,"3 игра",{"$f":"ДомаДома!L4","v":4},{"$f":"ДомаДома!M4","v":0},{"$f":"IF(E60>F60,2+(E60-F60),IF(E60=F60,1,0))","v":6},"3 игра",{"$f":"ГостиГости!M4","v":2},{"$f":"ГостиГости!L4","v":2},{"$f":"IF(J60>I60,2+(J60-I60),IF(I60=J60,1,0))","v":1},"Забьёт в этом матче",null,{"$f":"P59","v":1.1607142857142858},{"$f":"P60","v":0.86153846153846148},{"$f":"P58/P57","v":0.86153846153846148},null,null,null,"Команда 1 ",null,"ввод данных",null,null,"Команда 2",null,"ввод данных",null,null,null,null,null,null,null,null,null,8,{"$f":"Дома!L3","v":6},{"$f":"Дома!M3","v":1},8,{"$f":"Гости!L3","v":4},{"$f":"Гости!M3","v":0},8,{"$f":"ДомаДома!L3","v":6},{"$f":"ДомаДома!M3","v":1},8,{"$f":"ГостиГости!L3","v":4},{"$f":"ГостиГости!M3","v":0}]
[null,null,null,null,null,"Итого:",{"$f":"SUM(G58,G59,G60) +1","v":14},null,null,"Итого:",{"$f":"SUM(K58,K59,K60)","v":11},"Счет матча",null,{"$f":"N58+N59+N60","v":5.8273809523809517},{"$f":"O58+O59+O60","v":5.5282051282051272},null,null,null,null,"Место в ТТ",null,{"$f":"E14","v":14},"из",{"$f":"H14","v":18},"Место в ТТ",null,{"$f":"K14","v":1},"из",{"$f":"H14","v":18},null,null,null,null,null,null,null,9,{"$f":"Дома!L2","v":0},{"$f":"Дома!M2","v":2},9,{"$f":"Гости!L2","v":2},{"$f":"Гости!M2","v":0},9,{"$f":"ДомаДома!L2","v":0},{"$f":"ДомаДома!M2","v":2},9,{"$f":"ГостиГости!L2","v":2},{"$f":"ГостиГости!M2","v":0}]
[null,null,null,null,null,null,null,null,null,null,null,null,null,null,null,null,null,null,null,"Сколько мячей забито",null,{"$f":"OFFSET(Таблица!B1,MATCH(Расчеты!F14,Таблица!B2:'Таблица'!B100,0),5)","v":39},null,null,"Сколько мячей забито",null,{"$f":"OFFSET(Таблица!B1,MATCH(I14,Таблица!B2:'Таблица'!B100,0),5)","v":53},null,null,null,null,null,null,null,null,"5из5",5,{"$f":"TREND(AL52:AL56,AK52:AK56,AK62)","v":3.3000000000000003},{"$f":"TREND(AM52:AM56,AK52:AK56,AK62)","v":3.8999999999999986},5,{"$f":"TREND(AO52:AO56,AN52:AN56,AN62)","v":0.20000000000000018},{"$f":"TREND(AP52:AP56,AN52:AN56,AN62)","v":1.3999999999999997},5,{"$f":"TREND(AR52:AR56,AQ52:AQ56,AQ62)","v":4.6999999999999984},{"$f":"TREND(AS52:AS56,AQ52:AQ56,AQ62)","v":0.99999999999999989},5,{"$f":"TREND(AU52:AU56,AT52:AT56,AT62)","v":0.4000000000000008},{"$f":"TREND(AV52:AV56,AT52:AT56,AT62)","v":0.79999999999999993}]
[null,null,null,null,null,null,null,null,null,null,null,null,null,null,null,null,null,null,null,"Забито за 3 игры дома",null,{"$f":"ДомаДома!S4","v":10},null,null,"Забито за 3 игры в гостях",null,{"$f":"ГостиГости!S4","v":8},null,null,null,null,null,null,null,null,"5из10",5,{"$f":"TREND(AL52:AL61,AK52:AK61,AK63)","v":2.7757575757575759},{"$f":"TREND(AM52:AM61,AK52:AK61,AK63)","v":1.2787878787878788},5,{"$f":"TREND(AO52:AO61,AN52:AN61,AN63)","v":2.8666666666666667},{"$f":"TREND(AP52:AP61,AN52:AN61,AN63)","v":0.8},5,{"$f":"TREND(AR52:AR61,AQ52:AQ61,AQ63)","v":3.0787878787878786},{"$f":"TREND(AS52:AS61,AQ52:AQ61,AQ63)","v":1.103030303030303},5,{"$f":"TREND(AU52:AU61,AT52:AT61,AT63)","v":2.1818181818181821},{"$f":"TREND(AV52:AV61,AT52:AT61,AT63)","v":0.78787878787878796}]
[null,null,"Тест №3 Общая теория",null,null,null,null,null,"Победа 1","Ничья","Победа 2",null,"ПРОГНОЗЫ НА ТОТАЛЫ",null,null,null,null,null,null,"Игр сыграно за сезон",null,{"$f":"OFFSET(Таблица!B1,MATCH(Расчеты!F14,Таблица!B2:'Таблица'!B100,0),1)","v":22},null,null,"Игр сыграно за сезон",null,{"$f":"OFFSET(Таблица!B1,MATCH(I14,Таблица!B2:'Таблица'!B100,0),1)","v":21},null,null,null,null,null,null,null,null,"10из10",10,{"$f":"TREND(AL52:AL61,AK52:AK61,AK64)","v":1.5333333333333332},{"$f":"TREND(AM52:AM61,AK52:AK61,AK64)","v":2.0666666666666673},10,{"$f":"TREND(AO52:AO61,AN52:AN61,AN64)","v":3.5333333333333337},{"$f":"TREND(AP52:AP61,AN52:AN61,AN64)","v":-0.19999999999999996},10,{"$f":"TREND(AR52:AR61,AQ52:AQ61,AQ64)","v":3.8666666666666667},{"$f":"TREND(AS52:AS61,AQ52:AQ61,AQ64)","v":2.1333333333333337},10,{"$f":"TREND(AU52:AU61,AT52:AT61,AT64)","v":2},{"$f":"TREND(AV52:AV61,AT52:AT61,AT64)","v":0.66666666666666674}]
[null,null,null,null,null,null,null,null,{"$f":"(E68+E67+E69)/13","v":0.53846153846153844},null,{"$f":"(H67+H68+H69)/13","v":0.69230769230769229},null,null,"Шансы =>","Забьёт","Пропустит","примерный счёт ",null,null,"Вероятный исход в процентах",null,null,null,null,"РАСЧЁТ ДАННЫХ",null,"Очки",null,null,null,null,null,null,null,null,null,"Дома","Гости","Тотал","Дельта","К1 Заб","2К Заб","ОЗ","Тотал1","Тотал2","1X2","ОНЗ","Чет/нечет"]
[null,null,"Расчёт команды 1",null,"Число","Расчёт команды 2",null,"Число",{"$f":"(1+1-1)/3","v":0.33333333333333331},null,{"$f":"(1+1-1)/3","v":0.33333333333333331},null,"Команда 1",null,{"$f":"P80","v":0.66666666666666663},{"$f":"P79","v":1},{"$f":"O78","v":1},null,null,"П1","Ничья","П2","ТМ 2,5","ТБ2,5","Команда1",null,{"$f":"T68+T70+IF(V62>AA62,T71,0)","v":19},null,null,null,null,null,null,null,null,"5_5",{"$f":"AVERAGE(AL62,AP62)","v":2.35},{"$f":"AVERAGE(AM62,AP62)","v":2.649999999999999},{"$f":"AK66+AL66","v":4.9999999999999991},{"$f":"AK66-AL66","v":-0.29999999999999893},{"$f":"IF(AK66>1.5,\"Да\",\"-\")","v":"Да"},"Да",{"$f":"IF((AK66>1.5)*(AL66>1.5),\"Да\",\"-\")","v":"Да"},{"$f":"IF(AM66>=3.5,\"ТБ2.5\",IF(AM66>=2.5,\"ТБ1.5\",IF(AM66<=0.5,\"ТМ2.5\",IF(AM66<2,\"ТМ3.5\",\"-\"))))","v":"ТБ2.5"},{"$f":"IF(AM66>=4.5,\"ТБ2.5\",IF(AM66>=3.5,\"ТБ1.5\",IF(AM66<=0.5,\"ТМ2.5\",IF(AM66<1,\"ТМ3.5\",\"-\"))))","v":"ТБ2.5"},{"$f":"IF(AN66>1.5,\"П1\",IF(AN66>1,\"1X\",IF(AN66<-1.5,\"П2\",IF(AN66<-1,\"X2\",\"-\"))))","v":"-"},{"$f":"IF(AK66<-0.5,\"Да\",IF(AL66<-0.5,\"Да\",\"-\"))","v":"-"},{"$f":"IF(ISEVEN(AM66*10),\"Чет\",\"Нечет\")","v":"Чет"}]
[null,null,"Сколько Побед из 5 последних игр дома",null,{"$f":"ДомаДома!P6","v":3},"Сколько Побед из 5 последних игр в гостях",null,{"$f":"ГостиГости!P6","v":3},{"$f":"I65/I66","v":1.6153846153846154},1,{"$f":"K65/K66","v":2.0769230769230771},null,"Команда 2",null,{"$f":"P66","v":1},{"$f":"O66","v":0.66666666666666663},{"$f":"P78","v":4},null,null,{"$f":"(AA66/T69)*100","v":33.628318584070797},{"$f":"100-(T67+V67)","v":-9.7345132743362797},{"$f":"(AA67/T69)*100","v":76.106194690265482},{"$f":"100-X67","v":-58.795685189127767},{"$f":"(AA68/W69)*100-10","v":158.79568518912777},"Команда2",null,{"$f":"V68+V69+IF(AA62>V62,T71,0)","v":43},null,null,null,null,null,null,null,null,"5_10",{"$f":"AVERAGE(AL63,AP63)","v":1.7878787878787881},{"$f":"AVERAGE(AM63,AP63)","v":1.0393939393939395},2.8272727272727276,0.74848484848484853,"Да","-","-",{"$f":"IF(AM67>=3.5,\"ТБ2.5\",IF(AM67>=2.5,\"ТБ1.5\",IF(AM67<=0.5,\"ТМ2.5\",IF(AM67<2,\"ТМ3.5\",\"ТМ2\"))))","v":"ТБ1.5"},{"$f":"IF(AM67>=4.5,\"ТБ2.5\",IF(AM67>=3.5,\"ТБ1.5\",IF(AM67<=0.5,\"ТМ2.5\",IF(AM67<1,\"ТМ3.5\",\"-\"))))","v":"-"},{"$f":"IF(AN67>1.5,\"П1\",IF(AN67>1,\"1X\",IF(AN67<-1.5,\"П2\",IF(AN67<-1,\"X2\",\"-\"))))","v":"-"},"-","Чет"]
[null,null,"Сколько Побед из 5 последних игр вообще",null,{"$f":"Дома!P6","v":2},"Сколько Побед из 5 последних игр вообще",null,{"$f":"Гости!P6","v":5},{"$f":"((I72-I67)*I67)/3","v":1.6568047337278109},{"$f":"(I72-J67)*1/3","v":1.2307692307692308},{"$f":"((I72-K67)*K67)*1/3","v":1.8106508875739646},null,"Тотал матча: ",{"$f":"IF(N75>3,\"ТБ 2,5\",IF(N75>2,\"ТБ 1,5\",\"ТМ 2,5\"))","v":"ТБ 2,5"},null,null,null,null,null,{"$f":"X61-V61","v":4},null,{"$f":"AC61-AA61","v":17},{"$f":"(V64+AA64)/2","v":21.5},null,{"$f":"(V62/V64)+V63/3","v":5.1060606060606064},{"$f":"AA62/AA64+AA63/3","v":5.1904761904761898},{"$f":"(Y68+Z68)/2","v":5.1482683982683977},null,null,null,null,null,null,null,null,"10_10",{"$f":"AVERAGE(AL64,AP64)","v":0.66666666666666663},{"$f":"AVERAGE(AM64,AP64)","v":0.93333333333333368},1.6000000000000003,-0.26666666666666705,"-","-","-",{"$f":"IF(AM68>=3.5,\"ТБ2.5\",IF(AM68>=2.5,\"ТБ1.5\",IF(AM68<=0.5,\"ТМ2.5\",IF(AM68<2,\"ТМ3.5\",\"-\"))))","v":"ТМ3.5"},"-","-","-","Чет"]
[null,null,"Сколько Побед из 3 последних игр между командами",null,{"$f":"SUM(E70:E72)","v":2},"Сколько Побед из 3 последних игр между командами",null,{"$f":"SUM(H70:H72)","v":1},null,null,null,null,{"$f":"(E58+E59+E60)/3+O70/3","v":4},{"$f":"(I58+I59+I60)/3","v":0.66666666666666663},null,null,null,null,null,{"$f":"X61-1+5+((V64+AA64)/2)+(((V62+AA64)/2)/2)-2","v":56.5},null,{"$f":"(AA63*3)/2","v":12},{"$f":"((W68/4)*3+(W68/2)+(W68)+(W68/5)*4)/W68","v":3.0500000000000003},null,null,null,null,null,null,null,null,null,null,null,null,"5_5",{"$f":"AVERAGE(AR62,AV62)","v":2.7499999999999991},{"$f":"AVERAGE(AS62,AU62)","v":0.7000000000000004},3.4499999999999993,2.0499999999999989,"Да","-","-",{"$f":"IF(AM69>=3.5,\"ТБ2.5\",IF(AM69>=2.5,\"ТБ1.5\",IF(AM69<=0.5,\"ТМ2.5\",IF(AM69<2,\"ТМ3.5\",\"-\"))))","v":"ТБ1.5"},"-","П1","-","Чет"]
[null,null,null,null,{"$f":"IF(K40=1,1,0)","v":1},null,null,{"$f":"IF(K40=2,1,0)","v":0},null,null,null,null,{"$f":"(J58+J59+J60)/3+O71/3","v":5},{"$f":"(F58+F59+F60)/3","v":1},{"$f":"IF(K40=1,L40,M40)+IF(K41=1,L41,M41)+IF(K42=1,L42,M42)","v":2},"команда 1",null,null,null,{"$f":"(V63*3)/2","v":15},null,null,null,null,null,null,null,null,null,null,null,null,null,null,null,"5_10",{"$f":"AVERAGE(AR63,AV63)","v":1.9333333333333333},{"$f":"AVERAGE(AS63,AU63)","v":1.6424242424242426},3.5757575757575761,0.29090909090909078,"Да","Да","Да",{"$f":"IF(AM70>=3.5,\"ТБ2.5\",IF(AM70>=2.5,\"ТБ1.5\",IF(AM70<=0.5,\"ТМ2.5\",IF(AM70<2,\"ТМ3.5\",\"ТМ2\"))))","v":"ТБ2.5"},"ТБ1.5","-","-","Нечет"]
[null,null,null,"Тесты",{"$f":"IF(K41=1,1,0)","v":1},null,null,{"$f":"IF(K41=2,1,0)","v":0},null,null,null,null,null,null,{"$f":"IF(K40=2,L40,M40)+IF(K41=2,L41,M41)+IF(K42=2,L42,M42)","v":7},"команда 2",null,null,null,{"$f":"IF(V62>AA62,V62-AA62,IF(AA62>V62,AA62-V62,0))","v":14},null,null,null,null,null,null,null,null,null,null,null,null,null,null,null,"10_10",{"$f":"AVERAGE(AR64,AV64)","v":2.2666666666666666},{"$f":"AVERAGE(AS64,AU64)","v":2.0666666666666669},4.3333333333333339,0.19999999999999973,"Да","Да","Да",{"$f":"IF(AM71>=3.5,\"ТБ2.5\",IF(AM71>=2.5,\"ТБ1.5\",IF(AM71<=0.5,\"ТМ2.5\",IF(AM71<2,\"ТМ3.5\",\"-\"))))","v":"ТБ2.5"},"ТБ1.5","-","-","Нечет"]
[null,null,"№1",{"$f":"IF(I68>K68,\"П1\",IF(K68>I68,\"П2\",0))","v":"П2"},{"$f":"IF(K42=1,1,0)","v":0},null,null,{"$f":"IF(K42=2,1,0)","v":1},{"$f":"I67+J67+K67","v":4.6923076923076925}]
[null,null,null,null,null,null,null,null,null,null,null,null,null,null,{"$f":"IF(O70>O71,O70/O71,O71/O70)","v":3.5},{"$f":"IF(O70>O71,P70,P71)","v":"команда 2"},null,null,null,null,null,null,null,null,null,null,null,null,null,null,null,null,null,null,null,"Инверсия","Дома Все игры",null,null,"Гости все игры",null,null,"ДомаДома",null,null,"ГостиГости"]
[null,null,"Общий прогноз",null,null,null,null,null,null,null,null,null,{"$f":"(M69*M70*O73)/3","v":23.333333333333332},null,null,null,{"$f":"IF(Q66=0,1,Q66)","v":1},null,null,"Расчет матчей",null,null,null,null,null,null,null,null,null,null,null,null,null,null,null,null,"Игр","Заб","Проп","Игр","Заб","Проп","Игр","Заб","Проп","Игр","Заб","Проп"]
[null,null,"№ Теста","прогноз:",null,null,null,null,null,null,null,null,0.5,{"$f":"(((P79+P80)*M74)/(M70*N69)-N76)/1.75","v":6.3809523809523805},null,null,{"$f":"IF(Q67=0,1,Q67)","v":4},null,null,"Вводные данные",null,"Хозяева",null,"Гости",null,{"$f":"IF(W81-Y81>0.23,\"П1\",IF(W81>Y81,\"1X\",IF(Y81-W81>0.24,\"П2\",IF(Y81>W81,\"Х2\",\"\"))))","v":"П1"},"Расчет",null,null,null,null,null,null,null,null,null,0,{"$f":"Дома!L2","v":0},{"$f":"Дома!M2","v":2},0,{"$f":"Гости!L2","v":2},{"$f":"Гости!M2","v":0},0,{"$f":"ДомаДома!L2","v":0},{"$f":"ДомаДома!M2","v":2},0,{"$f":"ГостиГости!L2","v":2},{"$f":"ГостиГости!M2","v":0}]
[null,null,"Тест № 1",{"$f":"H51","v":"П2"},null,null,null,null,null,null,null,null,1.5,{"$f":"(Q74/Q75)*(Q75/Q74)/2","v":0.5},"Примерный счёт",null,null,null,null,"Голов забито дома",{"$f":"Дома!Z11+Гости!Z11","v":42},"Забито дома",{"$f":"Дома!Z11","v":25},"Забито в гостях",{"$f":"Гости!AG11","v":11},{"$f":"IF(W81>=1,\"Yes\",\"No\")","v":"Yes"},"Ср. забитых дома",{"$f":"U76/U80/U81","v":3.5},null,null,null,null,null,null,null,null,1,{"$f":"Дома!L3","v":6},{"$f":"Дома!M3","v":1},1,{"$f":"Гости!L3","v":4},{"$f":"Гости!M3","v":0},1,{"$f":"ДомаДома!L3","v":6},{"$f":"ДомаДома!M3","v":1},1,{"$f":"ГостиГости!L3","v":4},{"$f":"ГостиГости!M3","v":0}]
[null,null,"Тест № 2",{"$f":"O47","v":"X2"},null,null,null,null,null,null,null,null,2.5,null,{"$f":"M69*N69*(O70/3)/3","v":0.59259259259259256},{"$f":"M70*N70*(O71/3)/3","v":3.8888888888888893},null,null,null,"Голов пропущено дома",{"$f":"Дома!AA11+Гости!AA11","v":14},"Пропущено дома",{"$f":"Дома!AA11","v":9},"Пропущено в гостях",{"$f":"Гости!AH11","v":4},{"$f":"IF(Y81>=1,\"Yes\",\"No\")","v":"Yes"},"Ср. забитых в гостях",{"$f":"U78/U80/U82","v":1.875},null,null,null,null,null,null,null,null,2,{"$f":"Дома!L4","v":1},{"$f":"Дома!M4","v":2},2,{"$f":"Гости!L4","v":4},{"$f":"Гости!M4","v":0},2,{"$f":"ДомаДома!L4","v":4},{"$f":"ДомаДома!M4","v":0},2,{"$f":"ГостиГости!L4","v":2},{"$f":"ГостиГости!M4","v":2}]
[null,null,"Тест № 3",{"$f":"IF(N61>O61,\"П1\",IF(O61>N61,\"П2\",\"Х\"))","v":"П1"},null,null,null,null,null,null,null,null,3.5,null,{"$f":"IF(O77>4.55,5,IF(O77>3.55,4,IF(O77>2.55,3,IF(O77>1.55,2,IF(O77>0.55,1,0)))))","v":1},{"$f":"IF(P77>4.55,5,IF(P77>3.55,4,IF(P77>2.55,3,IF(P77>1.55,2,IF(P77>0.55,1,0)))))","v":4},null,null,null,"Голов забито в гостях",{"$f":"Дома!AG11+Гости!AG11","v":15},"Матчей дома",{"$f":"Дома!V11","v":7},"Матчей в гостях",{"$f":"Гости!AC11","v":5},"команда 1",null,"команда 2",null,null,null,null,null,null,null,null,3,{"$f":"Дома!L5","v":0},{"$f":"Дома!M5","v":1},3,{"$f":"Гости!L5","v":5},{"$f":"Гости!M5","v":0},3,{"$f":"ДомаДома!L5","v":4},{"$f":"ДомаДома!M5","v":5},3,{"$f":"ГостиГости!L5","v":1},{"$f":"ГостиГости!M5","v":2}]
[null,null,"Тест № 4",{"$f":"D72","v":"П2"},null,null,null,null,null,null,null,null,null,null,null,{"$f":"IF(M70>=N70,N70,\"0\")","v":1},"к2",null,null,"Голов пропущено в гостях",{"$f":"Дома!AH11+Гости!AH11","v":7},"Сила атаки",{"$f":"W76/W78","v":3.5714285714285716},"Сила атаки",{"$f":"Y76/Y78","v":2.2000000000000002},"атака","оборона","атака","оборона",null,null,null,null,null,null,null,4,{"$f":"Дома!L6","v":4},{"$f":"Дома!M6","v":0},4,{"$f":"Гости!L6","v":3},{"$f":"Гости!M6","v":2},4,{"$f":"ДомаДома!L6","v":3},{"$f":"ДомаДома!M6","v":0},4,{"$f":"ГостиГости!L6","v":2},{"$f":"ГостиГости!M6","v":0}]
[null,null,"Тотал",{"$f":"N68","v":"ТБ 2,5"},null,null,null,null,null,null,null,null,{"$f":"((P79+P80)*M74)/(M70*N69)+N76","v":12.166666666666666},null,null,{"$f":"IF(M69>=N69,N69,\"0\")","v":0.66666666666666663},"к1",null,null,"Кол-во команд",2,"Сила обороны",{"$f":"W77/W78","v":1.2857142857142858},"Сила обороны",{"$f":"Y77/Y78","v":0.8},{"$f":"W79","v":3.5714285714285716},{"$f":"W80","v":1.2857142857142858},{"$f":"Y79","v":2.2000000000000002},{"$f":"Y80","v":0.8},null,null,null,null,null,null,null,5,{"$f":"Дома!L7","v":4},{"$f":"Дома!M7","v":5},5,{"$f":"Гости!L7","v":1},{"$f":"Гости!M7","v":1},5,{"$f":"ДомаДома!L7","v":4},{"$f":"ДомаДома!M7","v":1},5,{"$f":"ГостиГости!L7","v":1},{"$f":"ГостиГости!M7","v":0}]
[null,null,null,null,null,null,null,null,null,null,null,null,null,null,null,null,null,null,null,"Игр сыграно дома",{"$f":"(Дома!V11+Гости!V11)/2","v":6},"Расчет голов",{"$f":"(AVERAGE(W79,Y80))-0.25","v":1.9357142857142859},"Расчет голов",{"$f":"(AVERAGE(Y79,W80))-0.5","v":1.2428571428571429},null,null,"Прогноз на матч",null,null,null,null,null,null,null,null,6,{"$f":"Дома!L8","v":3},{"$f":"Дома!M8","v":0},6,{"$f":"Гости!L8","v":2},{"$f":"Гости!M8","v":2},6,{"$f":"ДомаДома!L8","v":4},{"$f":"ДомаДома!M8","v":0},6,{"$f":"ГостиГости!L8","v":3},{"$f":"ГостиГости!M8","v":2}]
[null,null,null,null,null,null,null,null,null,null,null,null,null,null,null,null,null,null,null,"Игр сыграно в гостях",{"$f":"(Дома!AC11+Гости!AC11)/2","v":4},null,null,null,null,null,null,{"$f":"SUMIFS(U84:U89,W84:W89,\">27,7%\")","v":1},{"$f":"SUMIFS(Y84:Y89,AA84:AA89,\">27,7%\")","v":1},null,null,null,null,null,null,null,7,{"$f":"Дома!L9","v":3},{"$f":"Дома!M9","v":0},7,{"$f":"Гости!L9","v":1},{"$f":"Гости!M9","v":2},7,{"$f":"ДомаДома!L9","v":2},{"$f":"ДомаДома!M9","v":1},7,{"$f":"ГостиГости!L9","v":0},{"$f":"ГостиГости!M9","v":1}]
[null,null,null,null,null,null,null,null,null,null,null,null,null,null,null,null,null,null,null,"Расчитываем вероятность голов",null,null,null,null,null,null,null,{"$f":"MAX(W84:W89)","v":0.27936450300856691},{"$f":"MAX(AA84:AA89)","v":0.35863709964809942},null,null,null,null,null,null,null,8,{"$f":"Дома!L10","v":4},{"$f":"Дома!M10","v":1},8,{"$f":"Гости!L10","v":2},{"$f":"Гости!M10","v":0},8,{"$f":"ДомаДома!L10","v":1},{"$f":"ДомаДома!M10","v":0},8,{"$f":"ГостиГости!L10","v":3},{"$f":"ГостиГости!M10","v":0}]
[null,null,"15 матчей","голы дома","голы гости","проп дома","проп гости","забито","проп","итог",null,null,null,null,null,null,null,null,null,"Забьют хозяева",1,"Вероятность",{"$f":"_xlfn.POISSON.DIST(U84,W81,FALSE)","v":0.27936450300856691},"Забьют гости",1,"Вероятность",{"$f":"_xlfn.POISSON.DIST(Y84,Y81,FALSE)","v":0.35863709964809942},null,null,null,null,null,null,null,null,null,9,{"$f":"Дома!L11","v":4},{"$f":"Дома!M11","v":0},9,{"$f":"Гости!L11","v":4},{"$f":"Гости!M11","v":2},9,{"$f":"ДомаДома!L11","v":2},{"$f":"ДомаДома!M11","v":0},9,{"$f":"ГостиГости!L11","v":4},{"$f":"ГостиГости!M11","v":1}]
[null,null,{"$f":"Очные!A1","v":"Cardiff U23"},{"$f":"Дома!Z16","v":28},{"$f":"Дома!AG16","v":6},{"$f":"Дома!AA16","v":10},{"$f":"Дома!AH16","v":11},{"$f":"D85+E85","v":34},{"$f":"F85+G85","v":21},{"$f":"H85/I85","v":1.6190476190476191},null,null,null,null,null,null,null,null,null,null,2,null,{"$f":"_xlfn.POISSON.DIST(U85,W81,FALSE)","v":0.27038492969757733},null,2,null,{"$f":"_xlfn.POISSON.DIST(Y85,Y81,FALSE)","v":0.22286734049560464},null,null,null,null,null,null,null,null,"5из5",5,{"$f":"TREND(AL75:AL79,AK75:AK79,AK85)","v":2.8},{"$f":"TREND(AM75:AM79,AK75:AK79,AK85)","v":2.2204460492503131E-16},5,{"$f":"TREND(AO75:AO79,AN75:AN79,AN85)","v":4.5},{"$f":"TREND(AP75:AP79,AN75:AN79,AN85)","v":1.5999999999999996},5,{"$f":"TREND(AR75:AR79,AQ75:AQ79,AQ85)","v":4.5999999999999996},{"$f":"TREND(AS75:AS79,AQ75:AQ79,AQ85)","v":1.5999999999999999},5,{"$f":"TREND(AU75:AU79,AT75:AT79,AT85)","v":1.3000000000000005},{"$f":"TREND(AV75:AV79,AT75:AT79,AT85)","v":1.4}]
[null,null,{"$f":"Очные!B1","v":"Sheffield Utd U23"},{"$f":"Гости!Z16","v":21},{"$f":"Гости!AG16","v":18},{"$f":"Гости!AA16","v":5},{"$f":"Гости!AH16","v":7},{"$f":"D86+E86","v":39},{"$f":"F86+G86","v":12},{"$f":"H86/I86","v":3.25},null,null,null,null,null,null,null,null,null,null,3,null,{"$f":"_xlfn.POISSON.DIST(U86,W81,FALSE)","v":0.17446265701915109},null,3,null,{"$f":"_xlfn.POISSON.DIST(Y86,Y81,FALSE)","v":9.2330755348179042E-2},null,null,null,null,null,null,null,null,"5из10",5,{"$f":"TREND(AL75:AL84,AK75:AK84,AK86)","v":3.0242424242424244},{"$f":"TREND(AM75:AM84,AK75:AK84,AK86)","v":1.1212121212121211},5,{"$f":"TREND(AO75:AO84,AN75:AN84,AN86)","v":2.7333333333333334},{"$f":"TREND(AP75:AP84,AN75:AN84,AN86)","v":1},5,{"$f":"TREND(AR75:AR84,AQ75:AQ84,AQ86)","v":2.9212121212121209},{"$f":"TREND(AS75:AS84,AQ75:AQ84,AQ86)","v":0.89696969696969675},5,{"$f":"TREND(AU75:AU84,AT75:AT84,AT86)","v":2.2181818181818187},{"$f":"TREND(AV75:AV84,AT75:AT84,AT86)","v":0.81212121212121213}]
[null,null,"Первый гол :",null,null,null,{"$f":"IF(J85>=J86,\"1 команда\",\"2 команда\")","v":"2 команда"},null,null,null,null,null,null,null,null,null,null,null,null,null,4,null,{"$f":"_xlfn.POISSON.DIST(U87,W81,FALSE)","v":8.4427464378910647E-2},null,4,null,{"$f":"_xlfn.POISSON.DIST(Y87,Y81,FALSE)","v":2.8688484697469915E-2},null,null,null,null,null,null,null,null,"10из10",10,{"$f":"TREND(AL75:AL84,AK75:AK84,AK87)","v":4.2666666666666666},{"$f":"TREND(AM75:AM84,AK75:AK84,AK87)","v":0.33333333333333326},10,{"$f":"TREND(AO75:AO84,AN75:AN84,AN87)","v":2.066666666666666},{"$f":"TREND(AP75:AP84,AN75:AN84,AN87)","v":2.0000000000000004},10,{"$f":"TREND(AR75:AR84,AQ75:AQ84,AQ87)","v":2.1333333333333329},{"$f":"TREND(AS75:AS84,AQ75:AQ84,AQ87)","v":-0.13333333333333375},10,{"$f":"TREND(AU75:AU84,AT75:AT84,AT87)","v":2.4},{"$f":"TREND(AV75:AV84,AT75:AT84,AT87)","v":0.93333333333333335}]
[null,null,null,null,null,null,null,null,null,null,null,null,null,null,null,null,null,null,null,null,5,null,{"$f":"_xlfn.POISSON.DIST(U88,W81,FALSE)","v":3.2685489780978252E-2},null,5,null,{"$f":"_xlfn.POISSON.DIST(Y88,Y81,FALSE)","v":7.1311376247996591E-3},null,null,null,null,null,null,null,null,null,"Дома","Гости","Тотал","Дельта","К1 Заб","2К Заб","ОЗ","Тотал1","Тотал2","1X2","ОНЗ","Чет/нечет"]
[null,null,null,null,null,null,null,null,null,null,null,null,null,null,null,null,null,null,null,null,0,null,{"$f":"_xlfn.POISSON.DIST(U89,W81,FALSE)","v":0.14432114546568028},null,0,null,{"$f":"_xlfn.POISSON.DIST(Y89,Y81,FALSE)","v":0.2885585859237581},null,null,null,null,null,null,null,null,"5_5",{"$f":"AVERAGE(AL85,AP85)","v":2.1999999999999997},{"$f":"AVERAGE(AM85,AP85)","v":0.79999999999999993},{"$f":"AK89+AL89","v":2.9999999999999996},{"$f":"AK89-AL89","v":1.4},{"$f":"IF(AK89>1.5,\"Да\",\"-\")","v":"Да"},"-",{"$f":"IF((AK89>1.5)*(AL89>1.5),\"Да\",\"-\")","v":"-"},{"$f":"IF(AM89>=3.5,\"ТБ2.5\",IF(AM89>=2.5,\"ТБ1.5\",IF(AM89<=0.5,\"ТМ2.5\",IF(AM89<2,\"ТМ3.5\",\"-\"))))","v":"ТБ1.5"},{"$f":"IF(AM89>=4.5,\"ТБ2.5\",IF(AM89>=3.5,\"ТБ1.5\",IF(AM89<=0.5,\"ТМ2.5\",IF(AM89<1,\"ТМ3.5\",\"-\"))))","v":"-"},{"$f":"IF(AN89>1.5,\"П1\",IF(AN89>1,\"1X\",IF(AN89<-1.5,\"П2\",IF(AN89<-1,\"X2\",\"-\"))))","v":"1X"},{"$f":"IF(AK89<-0.5,\"Да\",IF(AL89<-0.5,\"Да\",\"-\"))","v":"-"},{"$f":"IF(ISEVEN(AM89*10),\"Чет\",\"Нечет\")","v":"Чет"}]
[null,null,null,null,null,null,null,null,null,null,null,null,null,null,null,null,null,null,null,null,null,null,null,null,null,null,null,null,null,null,null,null,null,null,null,"5_10",{"$f":"AVERAGE(AL86,AP86)","v":2.0121212121212122},{"$f":"AVERAGE(AM86,AP86)","v":1.0606060606060606},3.0727272727272728,0.95151515151515165,"Да","-","-",{"$f":"IF(AM90>=3.5,\"ТБ2.5\",IF(AM90>=2.5,\"ТБ1.5\",IF(AM90<=0.5,\"ТМ2.5\",IF(AM90<2,\"ТМ3.5\",\"ТМ2\"))))","v":"ТБ1.5"},{"$f":"IF(AM90>=4.5,\"ТБ2.5\",IF(AM90>=3.5,\"ТБ1.5\",IF(AM90<=0.5,\"ТМ2.5\",IF(AM90<1,\"ТМ3.5\",\"-\"))))","v":"-"},{"$f":"IF(AN90>1.5,\"П1\",IF(AN90>1,\"1X\",IF(AN90<-1.5,\"П2\",IF(AN90<-1,\"X2\",\"-\"))))","v":"-"},"-","Чет"]
[null,null,null,null,null,null,null,null,null,null,null,null,null,null,null,null,null,null,null,null,null,null,null,null,null,null,null,null,null,null,null,null,null,null,null,"10_10",{"$f":"AVERAGE(AL87,AP87)","v":3.1333333333333337},{"$f":"AVERAGE(AM87,AP87)","v":1.166666666666667},4.3000000000000007,1.9666666666666668,"Да","-","-",{"$f":"IF(AM91>=3.5,\"ТБ2.5\",IF(AM91>=2.5,\"ТБ1.5\",IF(AM91<=0.5,\"ТМ2.5\",IF(AM91<2,\"ТМ3.5\",\"-\"))))","v":"ТБ2.5"},"ТБ1.5","П1","-","Нечет"]
[null,null,null,"Всего",null,null,null,null,null,null,"Дома",null,null,null,null,null,null,"На выезде",null,null,null,null,null,null,null,null,null,null,null,null,null,null,null,null,null,"5_5",{"$f":"AVERAGE(AR85,AV85)","v":3},{"$f":"AVERAGE(AS85,AU85)","v":1.4500000000000002},4.45,1.5499999999999998,"Да","-","-",{"$f":"IF(AM92>=3.5,\"ТБ2.5\",IF(AM92>=2.5,\"ТБ1.5\",IF(AM92<=0.5,\"ТМ2.5\",IF(AM92<2,\"ТМ3.5\",\"-\"))))","v":"ТБ2.5"},"ТБ1.5","П1","-","Чет"]
[null,null,null,"Игр","В","Н","П","Забито","Пропущено","Очки","Игр","В","Н","П","Забито","Пропущено","Очки","Игр","В","Н","П","Забито","Пропущено","Очки",null,null,null,null,null,null,null,null,null,null,null,"5_10",{"$f":"AVERAGE(AR86,AV86)","v":1.8666666666666665},{"$f":"AVERAGE(AS86,AU86)","v":1.5575757575757576},3.4242424242424239,0.30909090909090886,"Да","Да","Да",{"$f":"IF(AM93>=3.5,\"ТБ2.5\",IF(AM93>=2.5,\"ТБ1.5\",IF(AM93<=0.5,\"ТМ2.5\",IF(AM93<2,\"ТМ3.5\",\"ТМ2\"))))","v":"ТБ1.5"},"-","-","-","Чет"]
[null,null,"Хозяева",{"$f":"Дома!O16","v":15},{"$f":"Дома!P16","v":8},{"$f":"Дома!Q16","v":1},{"$f":"Дома!R16","v":6},{"$f":"Дома!S16","v":34},{"$f":"Дома!T16","v":21},{"$f":"Дома!U16","v":25},{"$f":"Дома!V15","v":9},{"$f":"Дома!W16","v":7},{"$f":"Дома!X16","v":0},{"$f":"Дома!Y16","v":2},{"$f":"Дома!Z16","v":28},{"$f":"Дома!AA16","v":10},{"$f":"Дома!AB16","v":21},{"$f":"Дома!AC16","v":6},{"$f":"Дома!AD16","v":1},{"$f":"Дома!AE16","v":1},{"$f":"Дома!AF16","v":4},{"$f":"Дома!AG16","v":6},{"$f":"Дома!AH16","v":11},{"$f":"Дома!AI16","v":4},null,null,null,null,null,null,null,null,null,null,null,"10_10",{"$f":"AVERAGE(AR87,AV87)","v":1.5333333333333332},{"$f":"AVERAGE(AS87,AU87)","v":1.1333333333333331},2.6666666666666661,0.40000000000000013,"Да","-","-",{"$f":"IF(AM94>=3.5,\"ТБ2.5\",IF(AM94>=2.5,\"ТБ1.5\",IF(AM94<=0.5,\"ТМ2.5\",IF(AM94<2,\"ТМ3.5\",\"-\"))))","v":"ТБ1.5"},"-","-","-","Чет"]
[null,null,"Гости",{"$f":"Гости!O16","v":15},{"$f":"Гости!P16","v":11},{"$f":"Гости!Q16","v":2},{"$f":"Гости!R16","v":2},{"$f":"Гости!S16","v":39},{"$f":"Гости!U16","v":35},{"$f":"Гости!U16","v":35},{"$f":"Гости!V16","v":6},{"$f":"Гости!W16","v":5},{"$f":"Гости!X16","v":1},{"$f":"Гости!Y16","v":0},{"$f":"Гости!Z16","v":21},{"$f":"Гости!AA16","v":5},{"$f":"Гости!AB16","v":16},{"$f":"Гости!AC16","v":9},{"$f":"Гости!AD16","v":6},{"$f":"Гости!AE16","v":1},{"$f":"Гости!AF16","v":2},{"$f":"Гости!AG16","v":18},{"$f":"Гости!AH16","v":7},{"$f":"Гости!AI16","v":19}]
[null,null,null,"Забивают","Пропускают","Забивают","Пропускают","Забивают","Пропускают",null,"Т1","Т2","Заб1","Заб2","Ср. заб.","Счет",null,"Забьет гол ",null,"Обе забьют?"]
[null,null,"Хозяева",{"$f":"H94/D94","v":2.2666666666666666},{"$f":"I94/D94","v":1.4},{"$f":"O94/K94","v":3.1111111111111112},{"$f":"P94/K94","v":1.1111111111111112},{"$f":"V94/R94","v":1},{"$f":"W94/R94","v":1.8333333333333333},null,{"$f":"AVERAGE(F97,D97)+AVERAGE(I98,E98)-AVERAGE(1.25,O97)","v":2.7361111111111112},{"$f":"AVERAGE(H98,D98)+AVERAGE(G97,E97)-AVERAGE(1.25,O97)","v":2.0472222222222221},{"$f":"AVERAGE(F97,D97)","v":2.6888888888888891},{"$f":"AVERAGE(H98,D98)","v":2.2999999999999998},{"$f":"AVERAGE(Дома!L2:M16,Гости!L2:M16)","v":1.7666666666666666},{"$f":"ROUND(AVERAGE(K97,M97),0)","v":3},{"$f":"ROUND(AVERAGE(L97,N97),0)","v":2},{"$f":"IF(P97>1,\"ДА\",\"НЕТ\")","v":"ДА"},{"$f":"IF(Q97>=1,\"ДА\",\"НЕТ\")","v":"ДА"},{"$f":"IF(AND(R97=\"ДА\",S97=\"ДА\"),\"ДА\",\"НЕТ\")","v":"ДА"}]
[null,null,"Гости",{"$f":"H95/D95","v":2.6},{"$f":"I95/D95","v":2.3333333333333335},{"$f":"O95/K95","v":3.5},{"$f":"P95/K95","v":0.83333333333333337},{"$f":"V95/R95","v":2},{"$f":"W95/R95","v":0.77777777777777779}]
[]
[]
[null,null,"Исходы №1",null,null,"Исходы №2",null,null,"Исходы №3",null,null,"Исходы №4"]
[null,null,"П1","Х","П2","П1","Х","П2","П1","Х","П2","П1","П2",null,null,null,null,null,{"$f":"Очные!A1","v":"Cardiff U23"},null,null,null,null,null,null,null,null,{"$f":"Очные!B1","v":"Sheffield Utd U23"}]
[null,null,{"$f":"SUM(Дома!J2:J6)","v":13},{"$f":"(SUM(Дома!K2:K6)+SUM(Гости!J2:J6))/1.5","v":10.666666666666666},{"$f":"SUM(Гости!K2:K6)","v":8},{"$f":"Дома!P6/5/(Дома!P6/5+Дома!Q6/5+Гости!P6/5+Гости!Q6/5)","v":0.28571428571428575},{"$f":"(Дома!Q6/5+Гости!Q6/5)/(Дома!P6/5+Дома!Q6/5+Гости!P6/5+Гости!Q6/5)","v":0},{"$f":"Гости!P6/5/(Дома!P6/5+Дома!Q6/5+Гости!P6/5+Гости!Q6/5)","v":0.7142857142857143},{"$f":"Дома!S6+Дома!T6+Гости!S6+Гости!T6","v":37},{"$f":"Дома!S6+Дома!T6+Гости!S6+Гости!T6+ДомаДома!S6+ДомаДома!T6+ГостиГости!S6+ГостиГости!T6","v":77},{"$f":"ДомаДома!S6+ДомаДома!T6+ГостиГости!S6+ГостиГости!T6","v":40},{"$f":"E103+I103","v":45},{"$f":"C103+K103","v":53},null,null,null,null,null,null,"Матчей","В","Н","П","Заб","Проп","Очки","Место",null,"Матчей","В","Н","П","Заб","Проп","Очки","Место"]
[null,null,{"$f":"C103/(C103+D103+E103)","v":0.41052631578947374},{"$f":"D103/(C103+D103+E103)","v":0.33684210526315789},{"$f":"E103/(C103+D103+E103)","v":0.25263157894736843},null,null,null,{"$f":"I103/(I103+J103+K103)","v":0.24025974025974026},{"$f":"J103/(I103+J103+K103)","v":0.5},{"$f":"K103/(I103+J103+K103)","v":0.25974025974025972},{"$f":"L103/(L103+M103)","v":0.45918367346938777},{"$f":"M103/(L103+M103)","v":0.54081632653061229},null,null,null,null,null,"Общая",{"$f":"INDEX(Таблица!C:C,MATCH(Расчеты!S102,Таблица!B:B,FALSE),1)","v":22},{"$f":"INDEX(Таблица!D:D,MATCH(Расчеты!S102,Таблица!B:B,FALSE),1)","v":9},{"$f":"INDEX(Таблица!E:E,MATCH(Расчеты!S102,Таблица!B:B,FALSE),1)","v":1},{"$f":"INDEX(Таблица!F:F,MATCH(Расчеты!S102,Таблица!B:B,FALSE),1)","v":12},{"$f":"INDEX(Таблица!G:G,MATCH(Расчеты!S102,Таблица!B:B,FALSE),1)","v":39},{"$f":"INDEX(Таблица!H:H,MATCH(Расчеты!S102,Таблица!B:B,FALSE),1)","v":34},{"$f":"INDEX(Таблица!I:I,MATCH(Расчеты!S102,Таблица!B:B,FALSE),1)","v":28},{"$f":"INDEX(Таблица!A:A,MATCH(Расчеты!S102,Таблица!B:B,FALSE),1)","v":5},"Общая",{"$f":"INDEX(Таблица!C:C,MATCH(Расчеты!AB102,Таблица!B:B,FALSE),1)","v":21},{"$f":"INDEX(Таблица!D:D,MATCH(Расчеты!AB102,Таблица!B:B,FALSE),1)","v":14},{"$f":"INDEX(Таблица!E:E,MATCH(Расчеты!AB102,Таблица!B:B,FALSE),1)","v":4},{"$f":"INDEX(Таблица!F:F,MATCH(Расчеты!AB102,Таблица!B:B,FALSE),1)","v":3},{"$f":"INDEX(Таблица!G:G,MATCH(Расчеты!AB102,Таблица!B:B,FALSE),1)","v":53},{"$f":"INDEX(Таблица!H:H,MATCH(Расчеты!AB102,Таблица!B:B,FALSE),1)","v":19},{"$f":"INDEX(Таблица!I:I,MATCH(Расчеты!AB102,Таблица!B:B,FALSE),1)","v":46},{"$f":"INDEX(Таблица!A:A,MATCH(Расчеты!AB102,Таблица!B:B,FALSE),1)","v":1}]
[null,null,"ДИ №1",null,null,"ДИ №2",null,null,"ДИ №3",null,null,"ДИ №4",null,null,null,null,null,null,"Дома",{"$f":"INDEX(Таблица!M:M,MATCH(S102,Таблица!L:L,FALSE),1)","v":11},{"$f":"INDEX(Таблица!N:N,MATCH(S102,Таблица!L:L,FALSE),1)","v":8},{"$f":"INDEX(Таблица!O:O,MATCH(S102,Таблица!L:L,FALSE),1)","v":0},{"$f":"INDEX(Таблица!P:P,MATCH(S102,Таблица!L:L,FALSE),1)","v":3},{"$f":"INDEX(Таблица!Q:Q,MATCH(S102,Таблица!L:L,FALSE),1)","v":31},{"$f":"INDEX(Таблица!R:R,MATCH(S102,Таблица!L:L,FALSE),1)","v":12},{"$f":"INDEX(Таблица!S:S,MATCH(S102,Таблица!L:L,FALSE),1)","v":24},{"$f":"INDEX(Таблица!K:K,MATCH(S102,Таблица!L:L,FALSE),1)","v":2},"Дома",{"$f":"INDEX(Таблица!M:M,MATCH(AB102,Таблица!L:L,FALSE),1)","v":10},{"$f":"INDEX(Таблица!N:N,MATCH(AB102,Таблица!L:L,FALSE),1)","v":7},{"$f":"INDEX(Таблица!O:O,MATCH(AB102,Таблица!L:L,FALSE),1)","v":3},{"$f":"INDEX(Таблица!P:P,MATCH(AB102,Таблица!L:L,FALSE),1)","v":0},{"$f":"INDEX(Таблица!Q:Q,MATCH(AB102,Таблица!L:L,FALSE),1)","v":31},{"$f":"INDEX(Таблица!R:R,MATCH(AB102,Таблица!L:L,FALSE),1)","v":9},{"$f":"INDEX(Таблица!S:S,MATCH(AB102,Таблица!L:L,FALSE),1)","v":24},{"$f":"INDEX(Таблица!K:K,MATCH(AB102,Таблица!L:L,FALSE),1)","v":1}]
[null,null,"1Х",12,"Х2","1Х",12,"Х2","1Х",12,"Х2","1X2","ФОРА",null,null,null,null,null,"Гости",{"$f":"INDEX(Таблица!W:W,MATCH(S102,Таблица!V:V,FALSE),1)","v":11},{"$f":"INDEX(Таблица!X:X,MATCH(S102,Таблица!V:V,FALSE),1)","v":1},{"$f":"INDEX(Таблица!Y:Y,MATCH(S102,Таблица!V:V,FALSE),1)","v":1},{"$f":"INDEX(Таблица!Z:Z,MATCH(S102,Таблица!V:V,FALSE),1)","v":9},{"$f":"INDEX(Таблица!AA:AA,MATCH(S102,Таблица!V:V,FALSE),1)","v":8},{"$f":"INDEX(Таблица!AB:AB,MATCH(S102,Таблица!V:V,FALSE),1)","v":22},{"$f":"INDEX(Таблица!AC:AC,MATCH(S102,Таблица!V:V,FALSE),1)","v":4},{"$f":"INDEX(Таблица!U:U,MATCH(S102,Таблица!V:V,FALSE),1)","v":9},"Гости",{"$f":"INDEX(Таблица!W:W,MATCH(AB102,Таблица!V:V,FALSE),1)","v":11},{"$f":"INDEX(Таблица!X:X,MATCH(AB102,Таблица!V:V,FALSE),1)","v":7},{"$f":"INDEX(Таблица!Y:Y,MATCH(AB102,Таблица!V:V,FALSE),1)","v":1},{"$f":"INDEX(Таблица!Z:Z,MATCH(AB102,Таблица!V:V,FALSE),1)","v":3},{"$f":"INDEX(Таблица!AA:AA,MATCH(AB102,Таблица!V:V,FALSE),1)","v":22},{"$f":"INDEX(Таблица!AB:AB,MATCH(AB102,Таблица!V:V,FALSE),1)","v":10},{"$f":"INDEX(Таблица!AC:AC,MATCH(AB102,Таблица!V:V,FALSE),1)","v":22},{"$f":"INDEX(Таблица!U:U,MATCH(AB102,Таблица!V:V,FALSE),1)","v":1}]
[null,null,{"$f":"AVERAGE(C104,D104)","v":0.37368421052631584},{"$f":"AVERAGE(C104,E104)","v":0.33157894736842108},{"$f":"AVERAGE(D104,E104)","v":0.29473684210526319},{"$f":"AVERAGE(F103,G103)","v":0.14285714285714288},{"$f":"AVERAGE(F103,H103)","v":0.5},{"$f":"AVERAGE(G103,H103)","v":0.35714285714285715},{"$f":"AVERAGE(I104,J104)","v":0.37012987012987014},{"$f":"AVERAGE(I104,K104)","v":0.25},{"$f":"AVERAGE(J104,K104)","v":0.37987012987012986},{"$f":"IF(L104>M104,\"1Х\",\"Х2\")","v":"Х2"},{"$f":"IF(L104>M104,\"Ф1(0)\",\"Ф2(0)\")","v":"Ф2(0)"},null,null,"Команды","Дмашние матчи","Гостевые матчи","Домашние голы","Гостевые голы","Среднее дома","Среднее гости","Атака дома","Сила атаки дома","Сила атаки в гостях","взвешенная сила атаки дома","взвешенная сила атаки в гостях","Дома пропущенно","Пропущенно в гостях","среднее дома","среднее в гостях","защита дома","слабость дома","слабость гости","слабость дома","слабость гости"]
[null,null,"ТОТАЛЫ №1",null,"ТОТАЛЫ №2",null,"ТОТАЛЫ №3",null,null,"З 1к","П 1к","З 2к","П 2к",null,null,{"$f":"S102","v":"Cardiff U23"},{"$f":"T105","v":11},{"$f":"T106","v":11},{"$f":"X105","v":31},{"$f":"X106","v":8},{"$f":"S108/Q108","v":2.8181818181818183},0.72727272727272729,{"$f":"U108/V108","v":3.875},{"$f":"U108/U110","v":0.95454545454545459},{"$f":"V108/V110","v":0.53333333333333344},{"$f":"(U108+V108)/((U110+V110))","v":0.82146439317953879},{"$f":"(V108 + U108)/(U110 + V110)","v":0.82146439317953879},{"$f":"Y105","v":12},{"$f":"Y106","v":22},{"$f":"AB108/Q108","v":1.0909090909090908},{"$f":"AC108/R108","v":2},{"$f":" AE108/AD108","v":1.8333333333333335},{"$f":"AD108/AD110","v":1.0909090909090908},{"$f":"AE108/AE110","v":1.3125},{"$f":"(AD108 + AE108)/(AD110 +AE110)","v":1.2246998284734134},{"$f":"(AE108 + AD108)/(AD110 + AE110)","v":1.2246998284734134}]
[null,null,"ТБ","ТМ","ТБ","ТМ","Тотал №1","Тотал №2","Тотал №3",{"$f":"Дома!S6","v":11},{"$f":"Дома!T6","v":6},{"$f":"Гости!S6","v":18},{"$f":"Гости!T6","v":2},null,null,{"$f":"AB102","v":"Sheffield Utd U23"},{"$f":"AC105","v":10},{"$f":"AC106","v":11},{"$f":"AG105","v":31},{"$f":"AG106","v":22},3.1,2,{"$f":"U109/V109","v":1.55},{"$f":"U109/U110","v":1.05},{"$f":"V109/V110","v":1.4666666666666668},{"$f":"(U109 + V109)/(U110 + V110)","v":1.1816449348044131},{"$f":"(V109 +U109)/(U110 + V110)","v":1.1816449348044131},{"$f":"AH105","v":9},{"$f":"AH106","v":10},{"$f":"AB109/Q109","v":0.9},{"$f":"AC109/R109","v":0.90909090909090906},{"$f":" AE109/AD109","v":1.0101010101010099},{"$f":"AD109/AD110","v":0.9},{"$f":"AE109/AE110","v":0.59659090909090906},{"$f":"(AD109+AE109)/(AD110+AE110)","v":0.71680960548885075},{"$f":"(AE109 + AD109)/(AD110 + AE110)","v":0.71680960548885075}]
[null,null,{"$f":"(Дома!S6+ДомаДома!T6+Гости!T6+ГостиГости!S6-0.2)/12","v":2.65},{"$f":"(Дома!T6+ДомаДома!S6+Гости!S6+ГостиГости!T6)/12","v":3.75},{"$f":"(Дома!T6+Гости!T6)/5","v":1.6},{"$f":"(Дома!S6+Гости!S6)/5","v":5.8},{"$f":"IF(AND(L112+M112<K109+L109/10-1,L112+M112<J109+L109/10-1),CONCATENATE(\"ТМ\",\"(\"&((L112+M112)+(K109+M109)/50)&\")\"),CONCATENATE(\"ТБ\",\"(\"&((L112+M112)+(J109+L109)/10-3&\")\")))","v":"ТМ(4,56)"},{"$f":"IF(AND(L112+M112+1<K109+L109/10,L112+M112+1<J109+K109/10),CONCATENATE(\"ТМ\",\"(\"&((L112+M112+1)+(K109+M109)/50)&\")\"),CONCATENATE(\"ТБ\",\"(\"&((L112+M112+0.5)+(J109+L109)/10-3&\")\")))","v":"ТМ(5,56)"},{"$f":"IF(AND(L112+M112<K109+L109/10-1,L112+M112<J109+L109/10-1),CONCATENATE(\"ТМ\",\"(\"&((L112+M112)+(K109+M109)/50-1)&\")\"),CONCATENATE(\"ТБ\",\"(\"&((L112+M112+0.5)+(J109+L109)/10-3&\")\")))","v":"ТМ(3,56)"},"З 1кд","П 1кд","З 2кг","П 2кг",null,null,"Среднее",{"$f":"SUM(Q108:Q109)","v":21},{"$f":"SUM(R108:R109)","v":22},{"$f":"SUM(S108:S109)","v":62},{"$f":"SUM(T108:T109)","v":30},2.9523809523809526,1.3636363636363635,{"$f":"U110/V110","v":2.1650793650793654},{"$f":"U110/U110","v":1},{"$f":"V110/V110","v":1},{"$f":"U110/U110","v":1},{"$f":"V110/V110","v":1},{"$f":"AB108+AB109","v":21},{"$f":"AC108+AC109","v":32},{"$f":"AB110/Q110","v":1},{"$f":"AC110/Q110","v":1.5238095238095237},{"$f":" AE110/AD110","v":1.5238095238095237},{"$f":"AD110/AD110","v":1},{"$f":"AE110/AE110","v":1},{"$f":"(AD110 +AE110)/(AD110 +AE110)","v":1},{"$f":"(AE110 +AD110)/(AD110 + AE110)","v":1}]
[null,null,{"$f":"D110/(C110+D110)","v":0.5859375},{"$f":"C110/(C110+D110)","v":0.41406249999999994},{"$f":"F110/(E110+F110)","v":0.78378378378378377},{"$f":"E110/(E110+F110)","v":0.21621621621621623},null,null,null,{"$f":"ДомаДома!S6","v":17},{"$f":"ДомаДома!T6","v":8},{"$f":"ГостиГости!S6","v":11},{"$f":"ГостиГости!T6","v":4},null,null,{"$f":"S102","v":"Cardiff U23"},null,"голов","сила","слабость","голов","Результат 1",null,"Результат 2",null,"ПРОГНОЗ №1",null,"МИНУТА"]
[null,null,"ИТБ №1",null,"ИТБ №2",null,"ИТМ №1",null,"ИТМ №1",null,null,{"$f":"J109/5","v":2.2000000000000002},{"$f":"L111/5","v":2.2000000000000002},null,null,null,null,{"$f":"U110","v":2.9523809523809526},{"$f":"Z108","v":0.82146439317953879},{"$f":"AJ109","v":0.71680960548885075},{"$f":"R112*S112*T112","v":1.7384610090993395},{"$f":"AZ13-1","v":1},{"$f":"BC13-1","v":1},{"$f":"AZ13","v":2},{"$f":"BC13","v":2},{"$f":"IF(X116-Z116>25,\"П1\",IF(X116>Z116,\"1X\",IF(Z116-X116>25,\"П2\",IF(Z116>X116,\"X2\",\"\"))))","v":"X2"},null,90]
[null,null,"ИТБ1","ИТБ2","ИТБ1","ИТБ2","ИТМ1","ИТМ2","ИТМ1","ИТМ2",null,null,null,null,null,{"$f":"AB102","v":"Sheffield Utd U23"},null,"голов","сила","слабость","голов"]
[null,null,{"$f":"C110/2","v":1.325},{"$f":"D110/2+0.75","v":2.625},{"$f":"E110/2","v":0.8},{"$f":"F110/2.5","v":2.3199999999999998},{"$f":"D114/2+0.35","v":1.6625000000000001},{"$f":"C114/2+0.75","v":1.4125000000000001},{"$f":"F114/2+0.5","v":1.66},{"$f":"E114/2+0.5","v":0.9},null,null,null,null,null,null,null,{"$f":"V110","v":1.3636363636363635},{"$f":"AA109","v":1.1816449348044131},{"$f":"AJ108","v":1.2246998284734134},{"$f":"R114*S114*T114","v":1.9734004758701489}]
[null,null,{"$f":"D114/(C114+D114)","v":0.66455696202531644},{"$f":"C114/(C114+D114)","v":0.3354430379746835},{"$f":"E114/(E114+F114)","v":0.25641025641025644},{"$f":"F114/(E114+F114)","v":0.7435897435897435},{"$f":"H114/(G114+H114)","v":0.45934959349593496},{"$f":"G114/(G114+H114)","v":0.54065040650406504},{"$f":"D115","v":0.3354430379746835},{"$f":"C115","v":0.66455696202531644},null,null,null,null,null,null,null,null,null,null,null,null,null,1,"X",2,"МЕНЬШЕ 2,5","БОЛЬШЕ 2,5"]
[null,null,{"$f":"MAX(Дома!J2:J6)","v":6},{"$f":"MIN(Дома!J2:J6)","v":0},"1к","ТС",null,null,"В матче будет забито",null,null,null,null,null,null,null,null,null,null,null,null,"Шансы",null,{"$f":"BA17","v":34.558051958266518},{"$f":"BA18","v":21.430599524756769},{"$f":"BA19","v":43.865717931533993},{"$f":"BA23","v":28.343123069806047},{"$f":"BA22","v":71.65687693019396}]
[null,null,{"$f":"MAX(Дома!K2:K6)","v":2},{"$f":"MIN(Дома!K2:K6)","v":0},null,null,null,null,{"$f":"E120+E121","v":3},{"$f":"E120+E121+1","v":4},null,null,null,null,null,null,null,null,null,null,null,"Величина",null,{"$f":"BB17","v":2.8936816265211771},{"$f":"BB18","v":4.6662250341843841},{"$f":"BB19","v":2.2796845626938307},{"$f":"BB23","v":3.5281927031721527},{"$f":"BB22","v":1.3955394692601115}]
[null,null,{"$f":"MAX(Гости!J2:J6)","v":5},{"$f":"MIN(Гости!J2:J6)","v":0},"2к","ТС №1",{"$f":"E120","v":1},{"$f":"E121","v":2},"обе забьют",null,null,null,null,null,null,null,null,null,null,null,null,{"$f":"S102","v":"Cardiff U23"},{"$f":"AB102","v":"Sheffield Utd U23"},"МОЖНО СТАВИТЬ",{"$f":"IF(Y119>50,\"OK\",IF(Y119<50,\"NO\"))","v":"OK"},{"$f":"IF(Z119>50,\"OK\",IF(Z119<50,\"NO\"))","v":"OK"},"OK","OK","NO"]
[null,null,{"$f":"MAX(Гости!K2:K6)","v":4},{"$f":"MIN(Гости!K2:K6)","v":0},null,"ТС №2",{"$f":"D119","v":0},{"$f":"D118","v":0},{"$f":"IF(G118-1=0,\"НЕТ\",IF(H118=0,\"НЕТ\",\"ДА\"))","v":"НЕТ"},{"$f":"IF(G118=0,\"НЕТ\",IF(G119=0,\"НЕТ\",\"ДА\"))","v":"НЕТ"},null,null,null,null,null,null,null,null,null,null,null,null,null,"%",{"$f":"BA32","v":97.55679988874553},{"$f":"BA20","v":88.487979495706909},{"$f":"BA22","v":71.65687693019396},{"$f":"BA24","v":50.831969809361041},{"$f":"BA34","v":33.980878671916201}]
[null,null,{"$f":"SUM(Дома!J2:J5)-C116-D116","v":3},{"$f":"C120/2","v":1.5},{"$f":"ROUND(D120+D123-1.5,0)","v":1},"ТС №3",{"$f":"G118-1","v":0},{"$f":"H118-1","v":1},"ДИСТАНЦИЯ",null,null,null,null,null,null,null,null,null,null,null,null,{"$f":"AB112*U112/90","v":1.7384610090993393},{"$f":"AB112*U114/90","v":1.9734004758701489},"БОЛЬШЕ",0.5,1.5,2.5,3.5,4.5]
[null,null,{"$f":"SUM(Дома!K2:K5)-C117-D117","v":2},{"$f":"C121/2","v":1},{"$f":"ROUND(D121+D122-1.5,0)","v":2},"ТС №4",{"$f":"Дома!K2","v":2},{"$f":"Гости!J6","v":3},{"$f":"(J109-L109)+(K109-L109)+(L109-J109)+(M109-J109)","v":-21},{"$f":"(J111-L111)+(K111-L111)+(L111-J111)+(M111-J111)","v":-16},null,null,null,null,null,null,null,null,null,null,null,null,null,null,{"$f":"BB32","v":1.0250438730466838},{"$f":"BB20","v":1.1300969981448339},{"$f":"BB22","v":1.3955394692601115},{"$f":"BB24","v":1.9672658835578773},{"$f":"BB34","v":2.9428314954858976}]
[null,null,{"$f":"SUM(Гости!J2:J5)-C118-D118","v":4},{"$f":"C122/2","v":2},null,"ТС №5",{"$f":"G121-1","v":1},{"$f":"H121-1","v":2},"мотивация"]
[null,null,{"$f":"SUM(Гости!K2:K5)-C119-D119","v":2},{"$f":"C123/2","v":1},null,"ТС №6",{"$f":"G121+1","v":3},{"$f":"H121+1","v":4},{"$f":"IF(I121>J121,\"Команда 1\",\"Команда 2\")","v":"Команда 2"}]
[]
[]
[null,{"$f":"MATCH(A1,Список!E:E,0)","v":36},{"$f":"INDEX(Список!A:B,B126,1)","v":"ENGLAND: Professional Development League"},{"$f":"INDEX(Список!A:B,B126,2)","v":"2021.04.13 15:00"}]
[null,null,null,{"$f":"TEXT(D126,\"дд.ММ.гг Ч:мм\")","v":"13.04.21 15:00"}]