{"text_format":"1","workbook":"xlsx","n_sheets":32,"sheets":["BazaDate","2","Foglio1","Statistic","Analysis","Сampionate","a3","a1","a2","a4","a5","a6","a7","Analiz Sayfası","Veri","ZW1","ZW2","ZW3","ZW4","Foglio2","Team1","Team2","Ком 1","Ком 2","45W","Team1 (2)","Team2 (2)","Ком 1 (2)","Ком 2 (2)","45W (2)","1","Архив"],"not_rendered":{"charts":14,"images":0,"macros":1,"external_links":4,"defined_names":11689,"comments":0,"pivot_tables":0},"unopened":[],"bounds":{"document_bytes":16777216,"sheet_cells":100000,"rows_first":2000,"rows_last":500,"rows_between":2000,"halvings":0,"cell_chars":16384,"cell_head_chars":4096},"cells_cut":0,"cells_raw":0,"read":"whole","date_system":"1900"}

{"sheet":"BazaDate","index":0,"n_rows":18,"n_cols":26,"rows_kept":18,"cut":false,"hidden":false,"merged":[[3,1,3,2],[5,7,5,9],[5,10,14,10],[5,11,5,18],[6,11,6,14],[6,15,6,16],[6,17,6,18],[8,7,8,9],[8,11,8,18],[9,11,9,14],[9,15,9,16],[9,17,9,18],[10,11,10,14],[10,15,10,16],[10,17,10,18],[12,11,12,14],[12,15,12,16],[12,17,12,18],[11,11,11,14],[11,15,11,16],[11,17,11,18],[14,11,14,14],[14,15,14,16],[14,17,14,18],[15,11,15,14],[15,15,15,16],[15,17,15,18],[16,10,17,10],[16,11,16,14],[16,15,16,16],[16,17,16,18],[17,11,17,14],[17,15,17,16],[17,17,17,18]]}
[]
[null,null,null,null,null,null,null,null,null,null,null,null,null,null,null,null,null,null,null,null,null,null,null,null,null,{"$f":"SUBSTITUTE(Z3,\"htm\",\"html\")","v":"http://goaloo.co/analysis/1908318.html"}]
[null,null,null,null,null,null,null,"Лига","Хозяева","Гости","1 Тайм ","Матч",null,"Матч 12","Тотал 1 Тайма","Тотал Матча","Хозяев забьют","Гости забьют","Обе Забьют",null,null,null,null,null,null,{"$f":"\"http://goaloo.co/analysis/\"&VLOOKUP(D4,Foglio1!G:H,2,FALSE)","v":"http://goaloo.co/analysis/1908318.htm"}]
[null,6,null,{"$f":"INDEX(Foglio1!G2:G4411,B4)","v":"Aug.26 01:00 Brazil L      Galvez AC - Sao Francisco AC"},null,null,null,{"$f":"Analysis!C9","v":"BRA SP"},{"$f":"Analysis!T9","v":"Sao Paulo"},{"$f":"Analysis!U9","v":"Fortaleza"},{"$f":"Analysis!V9","v":" "},{"$f":"Analysis!W9","v":"X2"},null,{"$f":"'ZW4'!C9","v":"Ф2(0)"},{"$f":"Analysis!X9","v":"ТБ0,5"},{"$f":"Analysis!Y9","v":"ТБ1.5"},{"$f":"Analysis!Z9","v":"Да"},{"$f":"Analysis!AA9","v":" "},{"$f":"Analysis!AB9","v":" "}]
[]
[null,null,null,null,null,null,null,"Исход в %  на 1Тайм",null,null,"BETPROFI 2017  V2<  >GOLPLYUS.RU","Исход в % на Матч"]
[null,null,null,null,null,null,null,{"$f":"'ZW2'!D23","v":0.54473002313123065},{"$f":"'ZW2'!D24","v":0.24915850969401881},{"$f":"'ZW2'!D25","v":0.20583590161284232},null,{"$f":"'ZW4'!D23","v":0.14209281977241997},null,null,null,{"$f":"'ZW3'!AX14","v":0.16991718864545688},null,{"$f":"'ZW4'!D25","v":0.68346022289345032}]
[]
[null,null,null,null,null,null,null,"Точный Счет 1 Тайма",null,null,null,"Точный Счет Матча"]
[null,null,null,null,null,null,null,{"$f":"CONCATENATE('ZW2'!I18,\":\",'ZW2'!J18)","v":"1:0"},{"$f":"CONCATENATE('ZW2'!I19,\":\",'ZW2'!J19)","v":"1:1"},{"$f":"CONCATENATE('ZW2'!I20,\":\",'ZW2'!J20)","v":"2:0"},null,{"$f":"CONCATENATE('ZW4'!I18,\":\",'ZW4'!J18)","v":"1:2"},null,null,null,{"$f":"CONCATENATE('ZW4'!I19,\":\",'ZW4'!J19)","v":"0:2"},null,{"$f":"CONCATENATE('ZW4'!I20,\":\",'ZW4'!J20)","v":"1:3"}]
[null,null,null,null,null,null,null,"Команды","Сила Команды","Форма Команды",null,"Кеф П1",null,null,null,"Кеф Х",null,"Кеф П2"]
[null,null,null,null,null,null,null,"К1",{"$f":"'Analiz Sayfası'!AG47","v":0.25},{"$f":"'Analiz Sayfası'!AF47","v":16},null,1.41,null,null,null,4.1900000000000004,null,7.68]
[null,null,null,null,null,null,null,"К2",{"$f":"'Analiz Sayfası'!AG48","v":4.75},{"$f":"'Analiz Sayfası'!AF48","v":22},null,1.55,null,null,null,3.68,null,6.36]
[]
[null,null,null,null,null,null,null,"Тотал 1 Тайм","Тотал Больше","Тотал Меньше",null,"Тотал Матча",null,null,null,"Тотал Больше",null,"Тотал Меньше"]
[null,null,null,null,null,null,null,0.5,{"$f":"'ZW1'!AI22","v":0.91704445375289878},{"$f":"'ZW1'!AL22","v":8.2955546247101219E-2},"ИСХОД",1.5,null,null,null,{"$f":"'ZW3'!AI23","v":0.87016310339854464},null,{"$f":"'ZW3'!AL23","v":0.12983689660145536}]
[null,null,null,null,null,null,null,1.5,{"$f":"'ZW1'!AI23","v":0.71094163523375398},{"$f":"'ZW1'!AL23","v":0.28905836476624602},{"$f":"'ZW4'!E23","v":"Ф2(0)"},2.5,null,null,null,{"$f":"'ZW3'!AI24","v":0.6934113494263785},null,{"$f":"'ZW3'!AL24","v":0.3065886505736215}]
[null,null,null,null,null,null,null,"Ср.Тотал",{"$f":"'45W'!B9","v":0.44166666666666676},{"$f":"'45W'!B10","v":0.75833333333333341},null,"Ср.Тотал",null,null,null,{"$f":"'45W (2)'!B9","v":0.98333333333333317},null,{"$f":"'45W (2)'!B10","v":2.5333333333333332}]

{"sheet":"2","index":1,"n_rows":0,"n_cols":0,"rows_kept":0,"cut":false,"hidden":true,"merged":[[3,1,3,2],[5,7,5,9],[5,11,5,18],[8,7,8,9],[9,17,9,18],[9,15,9,16],[9,11,9,14],[8,11,8,18],[6,17,6,18],[6,15,6,16],[6,11,6,14],[5,10,14,10],[16,15,16,16],[16,17,16,18],[14,11,14,14],[14,15,14,16],[17,11,17,14],[17,15,17,16],[16,10,17,10],[12,17,12,18],[10,17,10,18],[11,17,11,18],[12,11,12,14],[12,15,12,16],[10,11,10,14],[11,11,11,14],[10,15,10,16],[11,15,11,16],[17,17,17,18],[14,17,14,18],[15,11,15,14],[15,15,15,16],[15,17,15,18],[16,11,16,14]]}

{"sheet":"Foglio1","index":2,"n_rows":4418,"n_cols":38,"rows_kept":2250,"cut":true,"hidden":true,"merged":[[582,26,583,26],[582,27,583,27],[582,28,583,28],[582,36,583,36],[582,37,583,37],[578,26,579,26],[578,27,579,27],[578,28,579,28],[578,36,579,36],[578,37,579,37],[580,26,581,26],[580,27,581,27],[580,28,581,28],[580,36,581,36],[580,37,581,37],[574,26,575,26],[574,27,575,27],[574,28,575,28],[574,36,575,36],[574,37,575,37],[576,26,577,26],[576,27,577,27],[576,28,577,28],[576,36,577,36],[576,37,577,37],[570,26,571,26],[570,27,571,27],[570,28,571,28],[570,36,571,36],[570,37,571,37],[572,26,573,26],[572,27,573,27],[572,28,573,28],[572,36,573,36],[572,37,573,37],[566,26,567,26],[566,27,567,27],[566,28,567,28],[566,36,567,36],[566,37,567,37],[568,26,569,26],[568,27,569,27],[568,28,569,28],[568,36,569,36],[568,37,569,37],[562,26,563,26],[562,27,563,27],[562,28,563,28],[562,36,563,36],[562,37,563,37],[564,26,565,26],[564,27,565,27],[564,28,565,28],[564,36,565,36],[564,37,565,37],[558,26,559,26],[558,27,559,27],[558,28,559,28],[558,36,559,36],[558,37,559,37],[560,26,561,26],[560,27,561,27],[560,28,561,28],[560,36,561,36],[560,37,561,37],[554,26,555,26],[554,27,555,27],[554,28,555,28],[554,36,555,36],[554,37,555,37],[556,26,557,26],[556,27,557,27],[556,28,557,28],[556,36,557,36],[556,37,557,37],[550,26,551,26],[550,27,551,27],[550,28,551,28],[550,36,551,36],[550,37,551,37],[552,26,553,26],[552,27,553,27],[552,28,553,28],[552,36,553,36],[552,37,553,37],[546,26,547,26],[546,27,547,27],[546,28,547,28],[546,36,547,36],[546,37,547,37],[548,26,549,26],[548,27,549,27],[548,28,549,28],[548,36,549,36],[548,37,549,37],[542,26,543,26],[542,27,543,27],[542,28,543,28],[542,36,543,36],[542,37,543,37],[544,26,545,26],[544,27,545,27],[544,28,545,28],[544,36,545,36],[544,37,545,37],[538,26,539,26],[538,27,539,27],[538,28,539,28],[538,36,539,36],[538,37,539,37],[540,26,541,26],[540,27,541,27],[540,28,541,28],[540,36,541,36],[540,37,541,37],[534,26,535,26],[534,27,535,27],[534,28,535,28],[534,36,535,36],[534,37,535,37],[536,26,537,26],[536,27,537,27],[536,28,537,28],[536,36,537,36],[536,37,537,37],[530,26,531,26],[530,27,531,27],[530,28,531,28],[530,36,531,36],[530,37,531,37],[532,26,533,26],[532,27,533,27],[532,28,533,28],[532,36,533,36],[532,37,533,37],[526,26,527,26],[526,27,527,27],[526,28,527,28],[526,36,527,36],[526,37,527,37],[528,26,529,26],[528,27,529,27],[528,28,529,28],[528,36,529,36],[528,37,529,37],[522,26,523,26],[522,27,523,27],[522,28,523,28],[522,36,523,36],[522,37,523,37],[524,26,525,26],[524,27,525,27],[524,28,525,28],[524,36,525,36],[524,37,525,37],[518,26,519,26],[518,27,519,27],[518,28,519,28],[518,36,519,36],[518,37,519,37],[520,26,521,26],[520,27,521,27],[520,28,521,28],[520,36,521,36],[520,37,521,37],[514,26,515,26],[514,27,515,27],[514,28,515,28],[514,36,515,36],[514,37,515,37],[516,26,517,26],[516,27,517,27],[516,28,517,28],[516,36,517,36],[516,37,517,37],[510,26,511,26],[510,27,511,27],[510,28,511,28],[510,36,511,36],[510,37,511,37],[512,26,513,26],[512,27,513,27],[512,28,513,28],[512,36,513,36],[512,37,513,37],[506,26,507,26],[506,27,507,27],[506,28,507,28],[506,36,507,36],[506,37,507,37],[508,26,509,26],[508,27,509,27],[508,28,509,28],[508,36,509,36],[508,37,509,37],[502,26,503,26],[502,27,503,27],[502,28,503,28],[502,36,503,36],[502,37,503,37],[504,26,505,26],[504,27,505,27],[504,28,505,28],[504,36,505,36],[504,37,505,37],[498,26,499,26],[498,27,499,27],[498,28,499,28],[498,36,499,36],[498,37,499,37],[500,26,501,26],[500,27,501,27],[500,28,501,28],[500,36,501,36],[500,37,501,37],[494,26,495,26],[494,27,495,27],[494,28,495,28],[494,36,495,36],[494,37,495,37],[496,26,497,26],[496,27,497,27],[496,28,497,28],[496,36,497,36],[496,37,497,37],[490,26,491,26],[490,27,491,27],[490,28,491,28],[490,36,491,36],[490,37,491,37],[492,26,493,26],[492,27,493,27],[492,28,493,28],[492,36,493,36],[492,37,493,37],[486,26,487,26],[486,27,487,27],[486,28,487,28],[486,36,487,36],[486,37,487,37],[488,26,489,26],[488,27,489,27],[488,28,489,28],[488,36,489,36],[488,37,489,37],[482,26,483,26],[482,27,483,27],[482,28,483,28],[482,36,483,36],[482,37,483,37],[484,26,485,26],[484,27,485,27],[484,28,485,28],[484,36,485,36],[484,37,485,37],[478,26,479,26],[478,27,479,27],[478,28,479,28],[478,36,479,36],[478,37,479,37],[480,26,481,26],[480,27,481,27],[480,28,481,28],[480,36,481,36],[480,37,481,37],[474,26,475,26],[474,27,475,27],[474,28,475,28],[474,36,475,36],[474,37,475,37],[476,26,477,26],[476,27,477,27],[476,28,477,28],[476,36,477,36],[476,37,477,37],[470,26,471,26],[470,27,471,27],[470,28,471,28],[470,36,471,36],[470,37,471,37],[472,26,473,26],[472,27,473,27],[472,28,473,28],[472,36,473,36],[472,37,473,37],[466,26,467,26],[466,27,467,27],[466,28,467,28],[466,36,467,36],[466,37,467,37],[468,26,469,26],[468,27,469,27],[468,28,469,28],[468,36,469,36],[468,37,469,37],[462,26,463,26],[462,27,463,27],[462,28,463,28],[462,36,463,36],[462,37,463,37],[464,26,465,26],[464,27,465,27],[464,28,465,28],[464,36,465,36],[464,37,465,37],[458,26,459,26],[458,27,459,27],[458,28,459,28],[458,36,459,36],[458,37,459,37],[460,26,461,26],[460,27,461,27],[460,28,461,28],[460,36,461,36],[460,37,461,37],[454,26,455,26],[454,27,455,27],[454,28,455,28],[454,36,455,36],[454,37,455,37],[456,26,457,26],[456,27,457,27],[456,28,457,28],[456,36,457,36],[456,37,457,37],[450,26,451,26],[450,27,451,27],[450,28,451,28],[450,36,451,36],[450,37,451,37],[452,26,453,26],[452,27,453,27],[452,28,453,28],[452,36,453,36],[452,37,453,37],[446,26,447,26],[446,27,447,27],[446,28,447,28],[446,36,447,36],[446,37,447,37],[448,26,449,26],[448,27,449,27],[448,28,449,28],[448,36,449,36],[448,37,449,37],[442,26,443,26],[442,27,443,27],[442,28,443,28],[442,36,443,36],[442,37,443,37],[444,26,445,26],[444,27,445,27],[444,28,445,28],[444,36,445,36],[444,37,445,37],[438,26,439,26],[438,27,439,27],[438,28,439,28],[438,36,439,36],[438,37,439,37],[440,26,441,26],[440,27,441,27],[440,28,441,28],[440,36,441,36],[440,37,441,37],[434,26,435,26],[434,27,435,27],[434,28,435,28],[434,36,435,36],[434,37,435,37],[436,26,437,26],[436,27,437,27],[436,28,437,28],[436,36,437,36],[436,37,437,37],[430,26,431,26],[430,27,431,27],[430,28,431,28],[430,36,431,36],[430,37,431,37],[432,26,433,26],[432,27,433,27],[432,28,433,28],[432,36,433,36],[432,37,433,37],[426,26,427,26],[426,27,427,27],[426,28,427,28],[426,36,427,36],[426,37,427,37],[428,26,429,26],[428,27,429,27],[428,28,429,28],[428,36,429,36],[428,37,429,37],[422,26,423,26],[422,27,423,27],[422,28,423,28],[422,36,423,36],[422,37,423,37],[424,26,425,26],[424,27,425,27],[424,28,425,28],[424,36,425,36],[424,37,425,37],[418,26,419,26],[418,27,419,27],[418,28,419,28],[418,36,419,36],[418,37,419,37],[420,26,421,26],[420,27,421,27],[420,28,421,28],[420,36,421,36],[420,37,421,37],[414,26,415,26],[414,27,415,27],[414,28,415,28],[414,36,415,36],[414,37,415,37],[416,26,417,26],[416,27,417,27],[416,28,417,28],[416,36,417,36],[416,37,417,37],[410,26,411,26],[410,27,411,27],[410,28,411,28],[410,36,411,36],[410,37,411,37],[412,26,413,26],[412,27,413,27],[412,28,413,28],[412,36,413,36],[412,37,413,37],[406,26,407,26],[406,27,407,27],[406,28,407,28],[406,36,407,36],[406,37,407,37],[408,26,409,26],[408,27,409,27],[408,28,409,28],[408,36,409,36],[408,37,409,37],[402,26,403,26],[402,27,403,27],[402,28,403,28],[402,36,403,36],[402,37,403,37],[404,26,405,26],[404,27,405,27],[404,28,405,28],[404,36,405,36],[404,37,405,37],[398,26,399,26],[398,27,399,27],[398,28,399,28],[398,36,399,36],[398,37,399,37],[400,26,401,26],[400,27,401,27],[400,28,401,28],[400,36,401,36],[400,37,401,37],[394,26,395,26],[394,27,395,27],[394,28,395,28],[394,36,395,36],[394,37,395,37],[396,26,397,26],[396,27,397,27],[396,28,397,28],[396,36,397,36],[396,37,397,37],[390,26,391,26],[390,27,391,27],[390,28,391,28],[390,36,391,36],[390,37,391,37],[392,26,393,26],[392,27,393,27],[392,28,393,28],[392,36,393,36],[392,37,393,37],[386,26,387,26],[386,27,387,27],[386,28,387,28],[386,36,387,36],[386,37,387,37],[388,26,389,26],[388,27,389,27],[388,28,389,28],[388,36,389,36],[388,37,389,37],[382,26,383,26],[382,27,383,27],[382,28,383,28],[382,36,383,36],[382,37,383,37],[384,26,385,26],[384,27,385,27],[384,28,385,28],[384,36,385,36],[384,37,385,37],[378,26,379,26],[378,27,379,27],[378,28,379,28],[378,36,379,36],[378,37,379,37],[380,26,381,26],[380,27,381,27],[380,28,381,28],[380,36,381,36],[380,37,381,37],[374,26,375,26],[374,27,375,27],[374,28,375,28],[374,36,375,36],[374,37,375,37],[376,26,377,26],[376,27,377,27],[376,28,377,28],[376,36,377,36],[376,37,377,37],[370,26,371,26],[370,27,371,27],[370,28,371,28],[370,36,371,36],[370,37,371,37],[372,26,373,26],[372,27,373,27],[372,28,373,28],[372,36,373,36],[372,37,373,37],[366,26,367,26],[366,27,367,27],[366,28,367,28],[366,36,367,36],[366,37,367,37],[368,26,369,26],[368,27,369,27],[368,28,369,28],[368,36,369,36],[368,37,369,37],[362,26,363,26],[362,27,363,27],[362,28,363,28],[362,36,363,36],[362,37,363,37],[364,26,365,26],[364,27,365,27],[364,28,365,28],[364,36,365,36],[364,37,365,37],[358,26,359,26],[358,27,359,27],[358,28,359,28],[358,36,359,36],[358,37,359,37],[360,26,361,26],[360,27,361,27],[360,28,361,28],[360,36,361,36],[360,37,361,37],[354,26,355,26],[354,27,355,27],[354,28,355,28],[354,36,355,36],[354,37,355,37],[356,26,357,26],[356,27,357,27],[356,28,357,28],[356,36,357,36],[356,37,357,37],[350,26,351,26],[350,27,351,27],[350,28,351,28],[350,36,351,36],[350,37,351,37],[352,26,353,26],[352,27,353,27],[352,28,353,28],[352,36,353,36],[352,37,353,37],[346,26,347,26],[346,27,347,27],[346,28,347,28],[346,36,347,36],[346,37,347,37],[348,26,349,26],[348,27,349,27],[348,28,349,28],[348,36,349,36],[348,37,349,37],[342,26,343,26],[342,27,343,27],[342,28,343,28],[342,36,343,36],[342,37,343,37],[344,26,345,26],[344,27,345,27],[344,28,345,28],[344,36,345,36],[344,37,345,37],[336,37,337,37],[338,26,339,26],[338,27,339,27],[338,28,339,28],[338,36,339,36],[338,37,339,37],[340,26,341,26],[340,27,341,27],[340,28,341,28],[340,36,341,36],[340,37,341,37],[310,26,311,26],[310,27,311,27],[310,28,311,28],[310,36,311,36],[310,37,311,37],[312,26,313,26],[312,27,313,27],[312,28,313,28],[312,36,313,36],[312,37,313,37],[304,37,305,37],[306,26,307,26],[306,27,307,27],[306,28,307,28],[306,36,307,36],[306,37,307,37],[308,26,309,26],[308,27,309,27],[308,28,309,28],[308,36,309,36],[308,37,309,37],[288,37,289,37],[290,26,291,26],[290,27,291,27],[290,28,291,28],[290,36,291,36],[290,37,291,37],[292,26,293,26],[292,27,293,27],[292,28,293,28],[292,36,293,36],[292,37,293,37],[276,36,277,36],[276,37,277,37],[278,26,279,26],[278,27,279,27],[278,28,279,28],[278,36,279,36],[278,37,279,37],[280,26,281,26],[280,27,281,27],[280,28,281,28],[280,36,281,36],[280,37,281,37],[264,26,265,26],[264,27,265,27],[264,28,265,28],[264,36,265,36],[264,37,265,37],[266,26,267,26],[266,27,267,27],[266,28,267,28],[266,36,267,36],[266,37,267,37],[260,26,261,26],[260,27,261,27],[260,28,261,28],[260,36,261,36],[260,37,261,37],[262,26,263,26],[262,27,263,27],[262,28,263,28],[262,36,263,36],[262,37,263,37],[254,28,255,28],[254,36,255,36],[254,37,255,37],[256,26,257,26],[256,27,257,27],[256,28,257,28],[256,36,257,36],[256,37,257,37],[258,26,259,26],[258,27,259,27],[258,28,259,28],[258,36,259,36],[258,37,259,37],[242,37,243,37],[244,26,245,26],[244,27,245,27],[244,28,245,28],[244,36,245,36],[244,37,245,37],[246,26,247,26],[246,27,247,27],[246,28,247,28],[246,36,247,36],[246,37,247,37],[218,26,219,26],[218,27,219,27],[218,28,219,28],[218,36,219,36],[218,37,219,37],[220,26,221,26],[220,27,221,27],[220,28,221,28],[220,36,221,36],[220,37,221,37],[124,27,125,27],[124,28,125,28],[124,36,125,36],[124,37,125,37],[126,26,127,26],[126,27,127,27],[126,28,127,28],[126,36,127,36],[126,37,127,37],[116,26,117,26],[116,27,117,27],[116,28,117,28],[116,36,117,36],[116,37,117,37],[118,26,119,26],[118,27,119,27],[118,28,119,28],[118,36,119,36],[118,37,119,37],[112,26,113,26],[112,27,113,27],[112,28,113,28],[112,36,113,36],[112,37,113,37],[114,26,115,26],[114,27,115,27],[114,28,115,28],[114,36,115,36],[114,37,115,37],[108,26,109,26],[108,27,109,27],[108,28,109,28],[108,36,109,36],[108,37,109,37],[110,26,111,26],[110,27,111,27],[110,28,111,28],[110,36,111,36],[110,37,111,37],[104,26,105,26],[104,27,105,27],[104,28,105,28],[104,36,105,36],[104,37,105,37],[106,26,107,26],[106,27,107,27],[106,28,107,28],[106,36,107,36],[106,37,107,37],[100,26,101,26],[100,27,101,27],[100,28,101,28],[100,36,101,36],[100,37,101,37],[102,26,103,26],[102,27,103,27],[102,28,103,28],[102,36,103,36],[102,37,103,37],[96,26,97,26],[96,27,97,27],[96,28,97,28],[96,36,97,36],[96,37,97,37],[98,26,99,26],[98,27,99,27],[98,28,99,28],[98,36,99,36],[98,37,99,37],[92,26,93,26],[92,27,93,27],[92,28,93,28],[92,36,93,36],[92,37,93,37],[94,26,95,26],[94,27,95,27],[94,28,95,28],[94,36,95,36],[94,37,95,37],[88,26,89,26],[88,27,89,27],[88,28,89,28],[88,36,89,36],[88,37,89,37],[90,26,91,26],[90,27,91,27],[90,28,91,28],[90,36,91,36],[90,37,91,37],[84,26,85,26],[84,27,85,27],[84,28,85,28],[84,36,85,36],[84,37,85,37],[86,26,87,26],[86,27,87,27],[86,28,87,28],[86,36,87,36],[86,37,87,37],[80,26,81,26],[80,27,81,27],[80,28,81,28],[80,36,81,36],[80,37,81,37],[82,26,83,26],[82,27,83,27],[82,28,83,28],[82,36,83,36],[82,37,83,37],[76,26,77,26],[76,27,77,27],[76,28,77,28],[76,36,77,36],[76,37,77,37],[78,26,79,26],[78,27,79,27],[78,28,79,28],[78,36,79,36],[78,37,79,37],[72,26,73,26],[72,27,73,27],[72,28,73,28],[72,36,73,36],[72,37,73,37],[74,26,75,26],[74,27,75,27],[74,28,75,28],[74,36,75,36],[74,37,75,37],[68,26,69,26],[68,27,69,27],[68,28,69,28],[68,36,69,36],[68,37,69,37],[70,26,71,26],[70,27,71,27],[70,28,71,28],[70,36,71,36],[70,37,71,37],[64,26,65,26],[64,27,65,27],[64,28,65,28],[64,36,65,36],[64,37,65,37],[66,26,67,26],[66,27,67,27],[66,28,67,28],[66,36,67,36],[66,37,67,37],[60,26,61,26],[60,27,61,27],[60,28,61,28],[60,36,61,36],[60,37,61,37],[62,26,63,26],[62,27,63,27],[62,28,63,28],[62,36,63,36],[62,37,63,37],[216,26,217,26],[216,27,217,27],[216,28,217,28],[216,36,217,36],[216,37,217,37],[238,26,239,26],[238,27,239,27],[238,28,239,28],[238,36,239,36],[238,37,239,37],[240,26,241,26],[240,27,241,27],[240,28,241,28],[240,36,241,36],[240,37,241,37],[242,26,243,26],[242,27,243,27],[242,28,243,28],[242,36,243,36],[268,26,269,26],[268,27,269,27],[268,28,269,28],[268,36,269,36],[268,37,269,37],[270,26,271,26],[270,27,271,27],[270,28,271,28],[270,36,271,36],[270,37,271,37],[272,26,273,26],[272,27,273,27],[272,28,273,28],[272,36,273,36],[302,26,303,26],[302,27,303,27],[302,28,303,28],[302,36,303,36],[302,37,303,37],[304,26,305,26],[304,27,305,27],[304,28,305,28],[304,36,305,36],[120,26,121,26],[120,27,121,27],[120,28,121,28],[120,36,121,36],[120,37,121,37],[122,26,123,26],[122,27,123,27],[122,28,123,28],[122,36,123,36],[122,37,123,37],[124,26,125,26],[132,26,133,26],[132,27,133,27],[132,28,133,28],[132,36,133,36],[132,37,133,37],[134,26,135,26],[134,27,135,27],[134,28,135,28],[134,36,135,36],[134,37,135,37],[136,26,137,26],[136,27,137,27],[136,28,137,28],[136,36,137,36],[128,26,129,26],[128,27,129,27],[128,28,129,28],[128,36,129,36],[128,37,129,37],[130,26,131,26],[130,27,131,27],[130,28,131,28],[130,36,131,36],[130,37,131,37],[140,26,141,26],[140,27,141,27],[140,28,141,28],[140,36,141,36],[140,37,141,37],[142,26,143,26],[142,27,143,27],[142,28,143,28],[142,36,143,36],[142,37,143,37],[144,26,145,26],[144,27,145,27],[144,28,145,28],[144,36,145,36],[136,37,137,37],[138,26,139,26],[138,27,139,27],[138,28,139,28],[138,36,139,36],[138,37,139,37],[148,26,149,26],[148,27,149,27],[148,28,149,28],[148,36,149,36],[148,37,149,37],[150,26,151,26],[150,27,151,27],[150,28,151,28],[150,36,151,36],[150,37,151,37],[152,26,153,26],[152,27,153,27],[152,28,153,28],[152,36,153,36],[144,37,145,37],[146,26,147,26],[146,27,147,27],[146,28,147,28],[146,36,147,36],[146,37,147,37],[156,26,157,26],[156,27,157,27],[156,28,157,28],[156,36,157,36],[156,37,157,37],[158,26,159,26],[158,27,159,27],[158,28,159,28],[158,36,159,36],[158,37,159,37]],"bounds":{"rows_first":1000,"rows_last":250,"rows_between":1000,"halvings":1},"merged_total":1310,"flags":["merged_cut"]}
[null,null,null,null,null,null,{"$f":"IF(D1=\"\",\"\",A1&\" \"&\"    \"&\" \"&B1&\" - \"&C1)","v":""},null,null,null,null,null,null,null,null,null,null,null,null,{"$f":"IF(W1=\"\",\"\",AA1)","v":""},{"$f":"IF(W1=\"\",\"\",AC1)","v":""},{"$f":"IF(W1=\"\",\"\",AK1)","v":""},{"$f":"IFERROR(IF(Y1=\"\",\"\",MID(Y1,SEARCH(\"1x2/\",Y1,1) + 4,LEN(Y1))),\"\")","v":""},{"$f":"IF(W1=\"\",\"\",AB1)","v":""},{"$f":"HLink(AL1)","v":""}]
["PAR D1 ","Guarani CA","FC Nacional Asuncion","1903312.htm","Aug.25 23:30",null,{"$f":"IF(D2=\"\",\"\",E2&\" \"&A2&\" \"&\"    \"&\" \"&B2&\" - \"&C2)","v":"Aug.25 23:30 PAR D1       Guarani CA - FC Nacional Asuncion"},{"$f":"IF(G2=\"\",\"\",D2)","v":"1903312.htm"},null,null,null,null,null,null,null,null,null,null,null,{"$f":"IF(W2=\"\",\"\",AA2)","v":""},{"$f":"IF(W2=\"\",\"\",AC2)","v":""},{"$f":"IF(W2=\"\",\"\",AK2)","v":""},{"$f":"IFERROR(IF(Y2=\"\",\"\",MID(Y2,SEARCH(\"1x2/\",Y2,1) + 4,LEN(Y2))),\"\")","v":""},{"$f":"IF(W2=\"\",\"\",AB2)","v":""},{"$f":"HLink(AL2)","v":""}]
["MAR D1 ","CAYB Club Athletic Youssoufia","OCK Olympique de Khouribga","1795996.htm","Aug.26 00:00",null,{"$f":"IF(D3=\"\",\"\",E3&\" \"&A3&\" \"&\"    \"&\" \"&B3&\" - \"&C3)","v":"Aug.26 00:00 MAR D1       CAYB Club Athletic Youssoufia - OCK Olympique de Khouribga"},{"$f":"IF(G3=\"\",\"\",D3)","v":"1795996.htm"},null,null,null,null,null,null,null,null,null,null,null,"","","","","",""]
["ECU D1 ","Independiente Jose Teran","Sociedad Deportiva Aucas","1897526.htm","Aug.26 00:45",null,"Aug.26 00:45 ECU D1       Independiente Jose Teran - Sociedad Deportiva Aucas","1897526.htm",null,null,null,null,null,null,null,null,null,null,null,"","","","","",""]
["BRA CUP ","America MG","Ferroviaria SP","1857881.htm","Aug.26 01:00",null,"Aug.26 01:00 BRA CUP       America MG - Ferroviaria SP","1857881.htm",null,null,null,null,null,null,null,null,null,null,null,"","","","","","",null,"Goaloo Soccer LiveScore,Goals,Results and Fixtures"]
["MEX D2 ","Celaya FC","Correcaminos UAT","1902052.htm","Aug.26 01:00",null,"Aug.26 01:00 MEX D2       Celaya FC - Correcaminos UAT","1902052.htm",null,null,null,null,null,null,null,null,null,null,null,"","","","","",""]
["Brazil L","Galvez AC","Sao Francisco AC","1908318.htm","Aug.26 01:00",null,"Aug.26 01:00 Brazil L      Galvez AC - Sao Francisco AC","1908318.htm",null,null,null,null,null,null,null,null,null,null,null,"","","","","","",null,"Share twitter"]
["MLS ","DC United","New England Revolution","1896893.htm","Aug.26 02:00",null,"Aug.26 02:00 MLS       DC United - New England Revolution","1896893.htm",null,null,null,null,null,null,null,null,null,null,null,"","","","","","",null,"Goaloo"]
["PER D1 ","Deportivo Municipal","Cienciano","1838419.htm","Aug.26 02:00",null,"Aug.26 02:00 PER D1       Deportivo Municipal - Cienciano","1838419.htm",null,null,null,null,null,null,null,null,null,null,null,"","","","","","",null,"Soccer"]
["PAR D1 ","Sportivo San Lorenzo","River Plate (PAR)","1903311.htm","Aug.26 02:00",null,"Aug.26 02:00 PAR D1       Sportivo San Lorenzo - River Plate (PAR)","1903311.htm",null,null,null,null,null,null,null,null,null,null,null,"","","","","","",null,"Pure Livescore"]
["MLS ","Chicago Fire","FC Cincinnati","1896894.htm","Aug.26 02:30",null,"Aug.26 02:30 MLS       Chicago Fire - FC Cincinnati","1896894.htm",null,null,null,null,null,null,null,null,null,null,null,"","","","","","",null,"1X2 Odds"]
["MLS ","Philadelphia Union","New York Red Bulls","1896895.htm","Aug.26 02:30",null,"Aug.26 02:30 MLS       Philadelphia Union - New York Red Bulls","1896895.htm",null,null,null,null,null,null,null,null,null,null,null,"","","","","","",null,"Live Odds"]
["MLS ","Montreal Impact","Vancouver Whitecaps","1901951.htm","Aug.26 03:00",null,"Aug.26 03:00 MLS       Montreal Impact - Vancouver Whitecaps","1901951.htm",null,null,null,null,null,null,null,null,null,null,null,"","","","","","",null,"Odds Comparison"]
["INT CF ","Humaita AC","Atletico Acreano","1908328.htm","Aug.26 03:00",null,"Aug.26 03:00 INT CF       Humaita AC - Atletico Acreano","1908328.htm",null,null,null,null,null,null,null,null,null,null,null,"","","","","","",null,"Over/Under"]
["ECU D1 ","Liga Dep. Universitaria Quito","Delfin SC","1897531.htm","Aug.26 03:00",null,"Aug.26 03:00 ECU D1       Liga Dep. Universitaria Quito - Delfin SC","1897531.htm",null,null,null,null,null,null,null,null,null,null,null,"","","","","","",null,"6in1 Odds"]
["MEX D2 ","Monarcas Morelia","Cocodrilos de Tabasco FC","1902053.htm","Aug.26 03:05",null,"Aug.26 03:05 MEX D2       Monarcas Morelia - Cocodrilos de Tabasco FC","1902053.htm",null,null,null,null,null,null,null,null,null,null,null,"","","","","","",null,"Results"]
["MLS ","FC Kansas City","Houston Dynamo","1896896.htm","Aug.26 03:30",null,"Aug.26 03:30 MLS       FC Kansas City - Houston Dynamo","1896896.htm",null,null,null,null,null,null,null,null,null,null,null,"","","","","","",null,"Fixtures"]
["BRA CUP ","Fluminense RJ","Figueirense","1857884.htm","Aug.26 03:30",null,"Aug.26 03:30 BRA CUP       Fluminense RJ - Figueirense","1857884.htm",null,null,null,null,null,null,null,null,null,null,null,"","","","","","",null,"Standings"]
["USL D1 ","Las Vegas Lights","Orange County Blues FC","1876047.htm","Aug.26 05:00",null,"Aug.26 05:00 USL D1       Las Vegas Lights - Orange County Blues FC","1876047.htm",null,null,null,null,null,null,null,null,null,null,null,"","","","","","",null,"DataBase"]
["MEX D2 ","Alebrijes de Oaxaca","CSyD Dorados de Sinaloa","1902054.htm","Aug.26 05:05",null,"Aug.26 05:05 MEX D2       Alebrijes de Oaxaca - CSyD Dorados de Sinaloa","1902054.htm",null,null,null,null,null,null,null,null,null,null,null,"","","","","","",null,"Basketball"]
["INT CF ","FC Isabel United","Laugu United","1908457.htm","Aug.26 08:00",null,"Aug.26 08:00 INT CF       FC Isabel United - Laugu United","1908457.htm",null,null,null,null,null,null,null,null,null,null,null,"","","","","","",null,"Livescore"]
["CHA CSL ","Henan Jianye(N)","Shanghai Shenhua","1879855.htm","Aug.26 10:00",null,"Aug.26 10:00 CHA CSL       Henan Jianye(N) - Shanghai Shenhua","1879855.htm",null,null,null,null,null,null,null,null,null,null,null,"","","","","","",null,"Odds"]
["AUS D1 ","Melbourne City(N)","Western United FC","1908045.htm","Aug.26 10:00",null,"Aug.26 10:00 AUS D1       Melbourne City(N) - Western United FC","1908045.htm",null,null,null,null,null,null,null,null,null,null,null,"","","","","","",null,"Odds History"]
["INT CF ","FC Cartagena","Leganes","1908417.htm","Aug.26 11:00",null,"Aug.26 11:00 INT CF       FC Cartagena - Leganes","1908417.htm",null,null,null,null,null,null,null,null,null,null,null,"","","","","","",null,"Schedules"]
["Croatia U19 L","Sesvete U19","Inter Zapresic U19","1908385.htm","Aug.26 11:00",null,"Aug.26 11:00 Croatia U19 L      Sesvete U19 - Inter Zapresic U19","1908385.htm",null,null,null,null,null,null,null,null,null,null,null,"","","","","","",null,"Standings"]
["MGL PL","Ulaanbaatar City","Erchim","1908461.htm","Aug.26 11:00",null,"Aug.26 11:00 MGL PL      Ulaanbaatar City - Erchim","1908461.htm",null,null,null,null,null,null,null,null,null,null,null,"","","","","","",null,"Teams"]
["RUS Cup ","SKA Khabarovsk","Fakel","1903365.htm","Aug.26 12:00",null,"Aug.26 12:00 RUS Cup       SKA Khabarovsk - Fakel","1903365.htm",null,null,null,null,null,null,null,null,null,null,null,"","","","","","",null,"Statistics "]
["MYA D1 ","Southern Myanmar","Ispe FC","1828656.htm","Aug.26 12:00",null,"Aug.26 12:00 MYA D1       Southern Myanmar - Ispe FC","1828656.htm",null,null,null,null,null,null,null,null,null,null,null,"","","","","","",null,"DataBase"]
["MYA D1 ","Yadanabon FC","Magway","1828657.htm","Aug.26 12:00",null,"Aug.26 12:00 MYA D1       Yadanabon FC - Magway","1828657.htm",null,null,null,null,null,null,null,null,null,null,null,"","","","","","",null,"Tennis"]
["MYA D1 ","YANGON UNITED","Hantharwady United","1888794.htm","Aug.26 12:00",null,"Aug.26 12:00 MYA D1       YANGON UNITED - Hantharwady United","1888794.htm",null,null,null,null,null,null,null,null,null,null,null,"","","","","","",null,"Football"]
["RUS D2 ","FK Chita","FK Kolomna","1891897.htm","Aug.26 12:30",null,"Aug.26 12:30 RUS D2       FK Chita - FK Kolomna","1891897.htm",null,null,null,null,null,null,null,null,null,null,null,"","","","","","",null,"Hockey"]
["AUS QSL ","Peninsula Power","Redlands United FC","1840169.htm","Aug.26 12:30",null,"Aug.26 12:30 AUS QSL       Peninsula Power - Redlands United FC","1840169.htm",null,null,null,null,null,null,null,null,null,null,null,"","","","","","",null,"Snooker"]
["AUS QSL ","Brisbane Roar (Youth)","Gold Coast United","1840173.htm","Aug.26 12:30",null,"Aug.26 12:30 AUS QSL       Brisbane Roar (Youth) - Gold Coast United","1840173.htm",null,null,null,null,null,null,null,null,null,null,null,"","","","","","",null,"Livescore"]
["INT CF ","CD Lugo","Ponferradina","1908418.htm","Aug.26 12:30",null,"Aug.26 12:30 INT CF       CD Lugo - Ponferradina","1908418.htm",null,null,null,null,null,null,null,null,null,null,null,"","","","","","",null,"DataBase"]
["CHA CSL ","Shanghai East Asia FC","Chongqing SWM Motors","1879911.htm","Aug.26 13:00",null,"Aug.26 13:00 CHA CSL       Shanghai East Asia FC - Chongqing SWM Motors","1879911.htm",null,null,null,null,null,null,null,null,null,null,null,"","","","","","",null,"Rankings"]
["JPN D1 ","Vissel Kobe","Kawasaki Frontale","1872531.htm","Aug.26 13:00",null,"Aug.26 13:00 JPN D1       Vissel Kobe - Kawasaki Frontale","1872531.htm",null,null,null,null,null,null,null,null,null,null,null,"","","","","","",null,"Predictions"]
["JPN D1 ","FC Tokyo","Kashima Antlers","1872544.htm","Aug.26 13:00",null,"Aug.26 13:00 JPN D1       FC Tokyo - Kashima Antlers","1872544.htm",null,null,null,null,null,null,null,null,null,null,null,"","","","","","",null,"AD"]
["RUS D2 ","Dinamo Barnaul","Tyumen","1891133.htm","Aug.26 13:00",null,"Aug.26 13:00 RUS D2       Dinamo Barnaul - Tyumen","1891133.htm",null,null,null,null,null,null,null,null,null,null,null,"","","","","","",null,"Free Appnew"]
["RUS D2 ","Zvezda Irkutsk","Znamya Truda","1891896.htm","Aug.26 13:00",null,"Aug.26 13:00 RUS D2       Zvezda Irkutsk - Znamya Truda","1891896.htm",null,null,null,null,null,null,null,null,null,null,null,"","","","","","",null,"Data API"]
["AUS CGP B","Narrabundah","Queanbeyan City","1908337.htm","Aug.26 13:00",null,"Aug.26 13:00 AUS CGP B      Narrabundah - Queanbeyan City","1908337.htm",null,null,null,null,null,null,null,null,null,null,null,"","","","","","",null,"Pure Livescore"]
["AUS D1 ","Sydney FC(N)","Perth Glory","1908046.htm","Aug.26 13:10",null,"Aug.26 13:10 AUS D1       Sydney FC(N) - Perth Glory","1908046.htm",null,null,null,null,null,null,null,null,null,null,null,"","","","","","",null,"1X2 Odds"]
["NSW-N TPL ","Hamilton Olympic","Maitland","1878711.htm","Aug.26 13:15",null,"Aug.26 13:15 NSW-N TPL       Hamilton Olympic - Maitland","1878711.htm",null,null,null,null,null,null,null,null,null,null,null,"","","","","","",null,"Live Odds"]
["NSW-N TPL ","Valentine","Adamstown Rosebuds FC","1878713.htm","Aug.26 13:15",null,"Aug.26 13:15 NSW-N TPL       Valentine - Adamstown Rosebuds FC","1878713.htm",null,null,null,null,null,null,null,null,null,null,null,"","","","","","",null,"Odds Comparison"]
["JPN D1 ","Yokohama Marinos","Consadole Sapporo","1872572.htm","Aug.26 13:30",null,"Aug.26 13:30 JPN D1       Yokohama Marinos - Consadole Sapporo","1872572.htm",null,null,null,null,null,null,null,null,null,null,null,"","","","","","",null,"Over/Under"]
["KOR D2 ","Jeju United","Bucheon FC 1995","1842965.htm","Aug.26 13:30",null,"Aug.26 13:30 KOR D2       Jeju United - Bucheon FC 1995","1842965.htm",null,null,null,null,null,null,null,null,null,null,null,"","","","","","",null,"6in1 Odds"]
["MGL PL","FC Ulaanbaatar","Deren FC","1908462.htm","Aug.26 14:00",null,"Aug.26 14:00 MGL PL      FC Ulaanbaatar - Deren FC","1908462.htm",null,null,null,null,null,null,null,null,null,null,null,"","","","","","",null,"Results"]
["RUS Cup ","Tom Tomsk","FK Nizhny Novgorod","1903372.htm","Aug.26 14:30",null,"Aug.26 14:30 RUS Cup       Tom Tomsk - FK Nizhny Novgorod","1903372.htm",null,null,null,null,null,null,null,null,null,null,null,"","","","","","",null,"Fixtures"]
["CHA CSL ","Wuhan ZALL","Tianjin Teda","1879912.htm","Aug.26 15:00",null,"Aug.26 15:00 CHA CSL       Wuhan ZALL - Tianjin Teda","1879912.htm",null,null,null,null,null,null,null,null,null,null,null,"","","","","","",null,"Standings"]
["RUS D1 ","Spartak Moscow II","FK Krasnodar II","1885329.htm","Aug.26 15:00",null,"Aug.26 15:00 RUS D1       Spartak Moscow II - FK Krasnodar II","1885329.htm",null,null,null,null,null,null,null,null,null,null,null,"","","","","","",null,"DataBase"]
["RUS Cup ","Akron Togliatti","Chertanovo Moscow","1903366.htm","Aug.26 15:00",null,"Aug.26 15:00 RUS Cup       Akron Togliatti - Chertanovo Moscow","1903366.htm",null,null,null,null,null,null,null,null,null,null,null,"","","","","","",null,"Free Feed"]
["RUS Cup ","Yenisey Krasnoyarsk","Volgar-Gazprom Astrachan","1903374.htm","Aug.26 15:00",null,"Aug.26 15:00 RUS Cup       Yenisey Krasnoyarsk - Volgar-Gazprom Astrachan","1903374.htm",null,null,null,null,null,null,null,null,null,null,null,"","","","","","",null,"Select Leagues"]
["KAZ PR ","FK Taraz","Okzhetpes","1849673.htm","Aug.26 15:00",null,"Aug.26 15:00 KAZ PR       FK Taraz - Okzhetpes","1849673.htm",null,null,null,null,null,null,null,null,null,null,null,"","","","","","",null,"A - Z"]
["RUS D2 ","Sibir-M Novosibirsk","Zvezda Perm","1891134.htm","Aug.26 15:00",null,"Aug.26 15:00 RUS D2       Sibir-M Novosibirsk - Zvezda Perm","1891134.htm",null,null,null,null,null,null,null,null,null,null,null,"","","","","","",null,"1x2 Odds"]
["SVK U19 A","Trencin U19","Dukla Banska Bystrica U19","1908427.htm","Aug.26 15:00",null,"Aug.26 15:00 SVK U19 A      Trencin U19 - Dukla Banska Bystrica U19","1908427.htm",null,null,null,null,null,null,null,null,null,null,null,"","","","","","",null,"History"]
["BLR D3 ","Dnepr Rohachev","Shakhter Soligorsk II","1867219.htm","Aug.26 15:00",null,"Aug.26 15:00 BLR D3       Dnepr Rohachev - Shakhter Soligorsk II","1867219.htm",null,null,null,null,null,null,null,null,null,null,null,"","","","","","",null,"Today"]
["Croatia U19 L","Slaven Belupo U19","NK Varazdin U19","1908386.htm","Aug.26 15:00",null,"Aug.26 15:00 Croatia U19 L      Slaven Belupo U19 - NK Varazdin U19","1908386.htm",null,null,null,null,null,null,null,null,null,null,null,"","","","","","",null,"Upcoming"]
["SAFL ","JDR Stars","Ajax Cape Town","1772659.htm","Aug.26 16:00",null,"Aug.26 16:00 SAFL       JDR Stars - Ajax Cape Town","1772659.htm",null,null,null,null,null,null,null,null,null,null,null,"","","","","","",null,"0 Hidden [Show all]"]
["SAFL ","Pretoria Univ","Cape Umoya United","1772661.htm","Aug.26 16:00",null,"Aug.26 16:00 SAFL       Pretoria Univ - Cape Umoya United","1772661.htm",null,null,null,null,null,null,null,null,null,null,null,"","","","","","",null,"League Select"]
["SAFL ","Steenberg United","Jomo Cosmos","1772663.htm","Aug.26 16:00",null,"Aug.26 16:00 SAFL       Steenberg United - Jomo Cosmos","1772663.htm",null,null,null,null,null,null,null,null,null,null,null,"","","","","","",null,"Match Time: To Match Type:"]
["SAFL ","TS Galaxy","Free State Stars","1772664.htm","Aug.26 16:00",null,"Aug.26 16:00 SAFL       TS Galaxy - Free State Stars","1772664.htm",null,null,null,null,null,null,null,null,null,null,null,"","","","","","",null,"League","Time","Home","HW","D","AW","HWR","DR","AWR","Return","Away","Compare"]
["HUN D3E","Debreceni VSC II","Cegled","1908355.htm","Aug.26 16:00",null,"Aug.26 16:00 HUN D3E      Debreceni VSC II - Cegled","1908355.htm",null,null,null,null,null,null,null,null,null,null,null,"PAR D1 ","Guarani CA","FC Nacional Asuncion","1903312.htm","Aug.25 23:30","http://www.goaloo.co/1x2/1903312.htm",null,"PAR D1 ","Aug.25 23:30","Guarani CA",1.92,3.31,3.59,0.47310000000000002,0.27389999999999998,0.253,0.90720000000000001,"FC Nacional Asuncion","View(132)"]
["RUS Cup ","Gazovik Orenburg","Alania Vladikavkaz","1903367.htm","Aug.26 17:00",null,"Aug.26 17:00 RUS Cup       Gazovik Orenburg - Alania Vladikavkaz","1903367.htm",null,null,null,null,null,null,null,null,null,null,null,"","","","","","",null,null,null,null,2.0299999999999998,3,3.64,0.44729999999999998,0.3029,0.24979999999999999,0.90990000000000004]
["EGY D1 ","Talaea EI-Gaish","Smouha SC","1799539.htm","Aug.26 17:00",null,"Aug.26 17:00 EGY D1       Talaea EI-Gaish - Smouha SC","1799539.htm",null,null,null,null,null,null,null,null,null,null,null,"MAR D1 ","CAYB Club Athletic Youssoufia","OCK Olympique de Khouribga","1795996.htm","Aug.26 00:00","http://www.goaloo.co/1x2/1795996.htm",null,"MAR D1 ","Aug.26 00:00","CAYB Club Athletic Youssoufia",2.2400000000000002,2.63,3.52,0.4022,0.34179999999999999,0.25600000000000001,0.90049999999999997,"OCK Olympique de Khouribga","View(132)"]
["RUS WPL ","Krasnodar FK (w)","Chertanovo Moscow (w)","1903248.htm","Aug.26 17:00",null,"Aug.26 17:00 RUS WPL       Krasnodar FK (w) - Chertanovo Moscow (w)","1903248.htm",null,null,null,null,null,null,null,null,null,null,null,"","","","","","",null,null,null,null,2.17,2.69,3.65,0.41720000000000002,0.33539999999999998,0.2475,0.90329999999999999]
["UEFA CL ","AZ Alkmaar","FC Viktoria Plzen","1902047.htm","Aug.26 17:30",null,"Aug.26 17:30 UEFA CL       AZ Alkmaar - FC Viktoria Plzen","1902047.htm",null,null,null,null,null,null,null,null,null,null,null,"ECU D1 ","Independiente Jose Teran","Sociedad Deportiva Aucas","1897526.htm","Aug.26 00:45","http://www.goaloo.co/1x2/1897526.htm",null,"ECU D1 ","Aug.26 00:45","Independiente Jose Teran",1.82,3.59,3.68,0.49959999999999999,0.25340000000000001,0.24690000000000001,0.90880000000000005,"Sociedad Deportiva Aucas","View(178)"]
["SVK Cup ","FK Brezno","Slovenske Darmoty","1903375.htm","Aug.26 17:30",null,"Aug.26 17:30 SVK Cup       FK Brezno - Slovenske Darmoty","1903375.htm",null,null,null,null,null,null,null,null,null,null,null,{"$f":"IF(W66=\"\",\"\",AA66)","v":""},{"$f":"IF(W66=\"\",\"\",AC66)","v":""},{"$f":"IF(W66=\"\",\"\",AK66)","v":""},{"$f":"IFERROR(IF(Y66=\"\",\"\",MID(Y66,SEARCH(\"1x2/\",Y66,1) + 4,LEN(Y66))),\"\")","v":""},{"$f":"IF(W66=\"\",\"\",AB66)","v":""},{"$f":"HLink(AL66)","v":""},null,null,null,null,1.63,3.85,4.43,0.55810000000000004,0.2364,0.20549999999999999,0.9103]
["RUS Cup ","Krylya Sovetov","Irtysh 1946 Omsk","1903371.htm","Aug.26 17:30",null,{"$f":"IF(D67=\"\",\"\",E67&\" \"&A67&\" \"&\"    \"&\" \"&B67&\" - \"&C67)","v":"Aug.26 17:30 RUS Cup       Krylya Sovetov - Irtysh 1946 Omsk"},{"$f":"IF(G67=\"\",\"\",D67)","v":"1903371.htm"},null,null,null,null,null,null,null,null,null,null,null,"BRA CUP ","America MG","Ferroviaria SP","1857881.htm","Aug.26 01:00","http://www.goaloo.co/1x2/1857881.htm",null,"BRA CUP ","Aug.26 01:00","America MG",1.45,3.87,6.46,0.62460000000000004,0.23480000000000001,0.14069999999999999,0.90849999999999997,"Ferroviaria SP","View(165)"]
["Iran Cup ","Persepolis","Esteghlal Tehran","1902030.htm","Aug.26 17:30",null,"Aug.26 17:30 Iran Cup       Persepolis - Esteghlal Tehran","1902030.htm",null,null,null,null,null,null,null,null,null,null,null,"","","","","","",null,null,null,null,1.54,3.64,5.73,0.59019999999999995,0.25059999999999999,0.15920000000000001,0.91169999999999995]
["Pol D4","Jutrzenka Giebultow","Stal Stalowa Wola","1908376.htm","Aug.26 17:30",null,"Aug.26 17:30 Pol D4      Jutrzenka Giebultow - Stal Stalowa Wola","1908376.htm",null,null,null,null,null,null,null,null,null,null,null,"MEX D2 ","Celaya FC","Correcaminos UAT","1902052.htm","Aug.26 01:00","http://www.goaloo.co/1x2/1902052.htm",null,"MEX D2 ","Aug.26 01:00","Celaya FC",2.13,3.3,3.04,0.42620000000000002,0.2752,0.29859999999999998,0.90849999999999997,"Correcaminos UAT","View(102)"]
["HUN D3E","Menfocsanak","Balatonfuredi FC","1908368.htm","Aug.26 17:30",null,"Aug.26 17:30 HUN D3E      Menfocsanak - Balatonfuredi FC","1908368.htm",null,null,null,null,null,null,null,null,null,null,null,"","","","","","",null,null,null,null,2,3.21,3.47,0.45419999999999999,0.28339999999999999,0.26240000000000002,0.90980000000000005]
["SVK Cup ","SK Sasova","SK Pramen Kovacova","1903376.htm","Aug.26 18:00",null,"Aug.26 18:00 SVK Cup       SK Sasova - SK Pramen Kovacova","1903376.htm",null,null,null,null,null,null,null,null,null,null,null,"Brazil L","Galvez AC","Sao Francisco AC","1908318.htm","Aug.26 01:00","http://www.goaloo.co/1x2/1908318.htm",null,"Brazil L","Aug.26 01:00","Galvez AC",1.1100000000000001,7.6,12.71,0.81110000000000004,0.1182,7.0699999999999999E-2,0.89829999999999999,"Sao Francisco AC","View(41)"]
["SVK Cup ","Slovan Modra","FK Slovan Most pri Bratislave","1903377.htm","Aug.26 18:00",null,"Aug.26 18:00 SVK Cup       Slovan Modra - FK Slovan Most pri Bratislave","1903377.htm",null,null,null,null,null,null,null,null,null,null,null,"","","","","","",null,null,null,null,1.1499999999999999,6.9,10.55,0.78439999999999999,0.13039999999999999,8.5199999999999998E-2,0.89900000000000002]
["CZE D2 ","Hradec Kralove","FK Graffin Vlasim","1894184.htm","Aug.26 18:00",null,"Aug.26 18:00 CZE D2       Hradec Kralove - FK Graffin Vlasim","1894184.htm",null,null,null,null,null,null,null,null,null,null,null,"MLS ","DC United","New England Revolution","1896893.htm","Aug.26 02:00","http://www.goaloo.co/1x2/1896893.htm",null,"MLS ","Aug.26 02:00","DC United",2.38,3.33,2.85,0.39179999999999998,0.28050000000000003,0.32769999999999999,0.93310000000000004,"New England Revolution","View(191)"]
["RUS Cup ","Neftekhimik Nizhnekamsk","Dinamo Briansk","1903370.htm","Aug.26 18:00",null,"Aug.26 18:00 RUS Cup       Neftekhimik Nizhnekamsk - Dinamo Briansk","1903370.htm",null,null,null,null,null,null,null,null,null,null,null,"","","","","","",null,null,null,null,2.65,3.25,2.59,0.35270000000000001,0.28710000000000002,0.36020000000000002,0.93389999999999995]
["CZE CFL ","Slovan Rosice","Vysocina Jihlava B","1887056.htm","Aug.26 18:00",null,"Aug.26 18:00 CZE CFL       Slovan Rosice - Vysocina Jihlava B","1887056.htm",null,null,null,null,null,null,null,null,null,null,null,"PER D1 ","Deportivo Municipal","Cienciano","1838419.htm","Aug.26 02:00","http://www.goaloo.co/1x2/1838419.htm",null,"PER D1 ","Aug.26 02:00","Deportivo Municipal",2.1800000000000002,3.27,3.03,0.41930000000000001,0.27929999999999999,0.3014,0.91220000000000001,"Cienciano","View(92)"]
["LAT D1 ","Metta/LU Riga","Riga FC","1871526.htm","Aug.26 18:00",null,"Aug.26 18:00 LAT D1       Metta/LU Riga - Riga FC","1871526.htm",null,null,null,null,null,null,null,null,null,null,null,"","","","","","",null,null,null,null,2.12,3.21,3.25,0.43269999999999997,0.28539999999999999,0.28189999999999998,0.91739999999999999]
["KAZ PR ","FK Kaspyi Aktau","Kaisar Kyzylorda","1849671.htm","Aug.26 18:00",null,"Aug.26 18:00 KAZ PR       FK Kaspyi Aktau - Kaisar Kyzylorda","1849671.htm",null,null,null,null,null,null,null,null,null,null,null,"PAR D1 ","Sportivo San Lorenzo","River Plate (PAR)","1903311.htm","Aug.26 02:00","http://www.goaloo.co/1x2/1903311.htm",null,"PAR D1 ","Aug.26 02:00","Sportivo San Lorenzo",2.82,3.12,2.37,0.32350000000000001,0.2923,0.38429999999999997,0.91220000000000001,"River Plate (PAR)","View(105)"]
["SWE WD2 ","Jitex DFF (w)","AIK Solna (w)","1871687.htm","Aug.26 18:00",null,"Aug.26 18:00 SWE WD2       Jitex DFF (w) - AIK Solna (w)","1871687.htm",null,null,null,null,null,null,null,null,null,null,null,"","","","","","",null,null,null,null,2.95,3.06,2.31,0.30830000000000002,0.29749999999999999,0.39419999999999999,0.91080000000000005]
["SWE WD2 ","Kvarnsvedens IK (w)","Alingsas (W)","1871688.htm","Aug.26 18:00",null,"Aug.26 18:00 SWE WD2       Kvarnsvedens IK (w) - Alingsas (W)","1871688.htm",null,null,null,null,null,null,null,null,null,null,null,"MLS ","Chicago Fire","FC Cincinnati","1896894.htm","Aug.26 02:30","http://www.goaloo.co/1x2/1896894.htm",null,"MLS ","Aug.26 02:30","Chicago Fire",1.64,3.89,4.7699999999999996,0.5665,0.2387,0.1948,0.92810000000000004,"FC Cincinnati","View(191)"]
["RUS WPL ","FK Ryazan (w)","Lokomotiv Moscow (w)","1903250.htm","Aug.26 18:00",null,"Aug.26 18:00 RUS WPL       FK Ryazan (w) - Lokomotiv Moscow (w)","1903250.htm",null,null,null,null,null,null,null,null,null,null,null,"","","","","","",null,null,null,null,1.61,3.88,5.24,0.58109999999999995,0.24060000000000001,0.17829999999999999,0.93400000000000005]
["Finland K","OTP","HauPa","1908348.htm","Aug.26 18:00",null,"Aug.26 18:00 Finland K      OTP - HauPa","1908348.htm",null,null,null,null,null,null,null,null,null,null,null,"MLS ","Philadelphia Union","New York Red Bulls","1896895.htm","Aug.26 02:30","http://www.goaloo.co/1x2/1896895.htm",null,"MLS ","Aug.26 02:30","Philadelphia Union",2.21,3.32,3.08,0.41980000000000001,0.27900000000000003,0.30120000000000002,0.92710000000000004,"New York Red Bulls","View(191)"]
["Pol D4","Chelmianka Chelm","Sokol Sieniawa","1908377.htm","Aug.26 18:00",null,"Aug.26 18:00 Pol D4      Chelmianka Chelm - Sokol Sieniawa","1908377.htm",null,null,null,null,null,null,null,null,null,null,null,"","","","","","",null,null,null,null,2.39,3.4,2.79,0.39079999999999998,0.27500000000000002,0.33410000000000001,0.93359999999999999]
["Pol D4","Korona II Kielce","Cracovia II","1908378.htm","Aug.26 18:00",null,"Aug.26 18:00 Pol D4      Korona II Kielce - Cracovia II","1908378.htm",null,null,null,null,null,null,null,null,null,null,null,"MLS ","Montreal Impact","Vancouver Whitecaps","1901951.htm","Aug.26 03:00","http://www.goaloo.co/1x2/1901951.htm",null,"MLS ","Aug.26 03:00","Montreal Impact",1.64,3.81,4.87,0.56640000000000001,0.24310000000000001,0.1905,0.92720000000000002,"Vancouver Whitecaps","View(189)"]
["Pol D4","Lewart Lubartow","LKS Lagow","1908379.htm","Aug.26 18:00",null,"Aug.26 18:00 Pol D4      Lewart Lubartow - LKS Lagow","1908379.htm",null,null,null,null,null,null,null,null,null,null,null,"","","","","","",null,null,null,null,1.66,3.77,4.95,0.56379999999999997,0.2475,0.18859999999999999,0.93320000000000003]
["Pol D4","Podhale Nowy","Podlasie Biala Podlaska","1908380.htm","Aug.26 18:00",null,"Aug.26 18:00 Pol D4      Podhale Nowy - Podlasie Biala Podlaska","1908380.htm",null,null,null,null,null,null,null,null,null,null,null,"INT CF ","Humaita AC","Atletico Acreano","1908328.htm","Aug.26 03:00","http://www.goaloo.co/1x2/1908328.htm",null,"INT CF ","Aug.26 03:00","Humaita AC",10.77,5.72,1.18,8.3099999999999993E-2,0.15659999999999999,0.76029999999999998,0.89490000000000003,"Atletico Acreano","View(40)"]
["Pol D4","Siarka Tarnobrzeg","Stal Krasnik","1908381.htm","Aug.26 18:00",null,"Aug.26 18:00 Pol D4      Siarka Tarnobrzeg - Stal Krasnik","1908381.htm",null,null,null,null,null,null,null,null,null,null,null,"","","","","","",null,null,null,null,10.199999999999999,5.6,1.19,8.7599999999999997E-2,0.15959999999999999,0.75270000000000004,0.89370000000000005]
["Pol D4","Wisla Sandomierz","KS Wiazownica","1908382.htm","Aug.26 18:00",null,"Aug.26 18:00 Pol D4      Wisla Sandomierz - KS Wiazownica","1908382.htm",null,null,null,null,null,null,null,null,null,null,null,"ECU D1 ","Liga Dep. Universitaria Quito","Delfin SC","1897531.htm","Aug.26 03:00","http://www.goaloo.co/1x2/1897531.htm",null,"ECU D1 ","Aug.26 03:00","Liga Dep. Universitaria Quito",1.6,3.77,4.7300000000000004,0.56779999999999997,0.24060000000000001,0.19159999999999999,0.90720000000000001,"Delfin SC","View(111)"]
["Pol D4","Wisloka Debica","Wisla Pulawy","1908383.htm","Aug.26 18:00",null,"Aug.26 18:00 Pol D4      Wisloka Debica - Wisla Pulawy","1908383.htm",null,null,null,null,null,null,null,null,null,null,null,"","","","","","",null,null,null,null,1.56,3.85,4.95,0.58069999999999999,0.23580000000000001,0.1835,0.90880000000000005]
["CZE DFL 5","Haj ve Slezsku","Pusta Polom","1908440.htm","Aug.26 18:00",null,"Aug.26 18:00 CZE DFL 5      Haj ve Slezsku - Pusta Polom","1908440.htm",null,null,null,null,null,null,null,null,null,null,null,"MEX D2 ","Monarcas Morelia","Cocodrilos de Tabasco FC","1902053.htm","Aug.26 03:05","http://www.goaloo.co/1x2/1902053.htm",null,"MEX D2 ","Aug.26 03:05","Monarcas Morelia",2.2000000000000002,3.1,3.13,0.41439999999999999,0.29409999999999997,0.29149999999999998,0.91169999999999995,"Cocodrilos de Tabasco FC","View(15)"]
["CZE DFL 5","Koberice","TJ Bystrice","1908451.htm","Aug.26 18:00",null,"Aug.26 18:00 CZE DFL 5      Koberice - TJ Bystrice","1908451.htm",null,null,null,null,null,null,null,null,null,null,null,"","","","","","",null,null,null,null,2.16,3.08,3.26,0.42330000000000001,0.29609999999999997,0.28060000000000002,0.91349999999999998]
["FIN WD1 ","PK-35 RY (w)","PK-35 Vantaa (w)","1870866.htm","Aug.26 18:00",null,"Aug.26 18:00 FIN WD1       PK-35 RY (w) - PK-35 Vantaa (w)","1870866.htm",null,null,null,null,null,null,null,null,null,null,null,"MLS ","FC Kansas City","Houston Dynamo","1896896.htm","Aug.26 03:30","http://www.goaloo.co/1x2/1896896.htm",null,"MLS ","Aug.26 03:30","FC Kansas City",1.59,4.0199999999999996,4.96,0.58260000000000001,0.23050000000000001,0.18690000000000001,0.92679999999999996,"Houston Dynamo","View(191)"]
["RUS PR ","Rotor Volgograd","Spartak Moscow","1886605.htm","Aug.26 18:30",null,"Aug.26 18:30 RUS PR       Rotor Volgograd - Spartak Moscow","1886605.htm",null,null,null,null,null,null,null,null,null,null,null,"","","","","","",null,null,null,null,1.56,4.1500000000000004,5.35,0.60009999999999997,0.2253,0.17460000000000001,0.93410000000000004]
["RUS PR ","Rubin Kazan","FC Ufa","1886608.htm","Aug.26 18:30",null,"Aug.26 18:30 RUS PR       Rubin Kazan - FC Ufa","1886608.htm",null,null,null,null,null,null,null,null,null,null,null,"BRA CUP ","Fluminense RJ","Figueirense","1857884.htm","Aug.26 03:30","http://www.goaloo.co/1x2/1857884.htm",null,"BRA CUP ","Aug.26 03:30","Fluminense RJ",1.42,4.07,6.81,0.64300000000000002,0.2235,0.1336,0.91039999999999999,"Figueirense","View(171)"]
["RUS PR ","Lokomotiv Moscow","Terek Grozny","1886612.htm","Aug.26 18:30",null,"Aug.26 18:30 RUS PR       Lokomotiv Moscow - Terek Grozny","1886612.htm",null,null,null,null,null,null,null,null,null,null,null,"","","","","","",null,null,null,null,1.4,3.95,7.4,0.64700000000000002,0.23019999999999999,0.12280000000000001,0.90859999999999996]
["FIN D1 ","FC Haka","Lahti","1869974.htm","Aug.26 18:30",null,"Aug.26 18:30 FIN D1       FC Haka - Lahti","1869974.htm",null,null,null,null,null,null,null,null,null,null,null,"USL D1 ","Las Vegas Lights","Orange County Blues FC","1876047.htm","Aug.26 05:00","http://www.goaloo.co/1x2/1876047.htm",null,"USL D1 ","Aug.26 05:00","Las Vegas Lights",4.16,3.78,1.68,0.21829999999999999,0.2404,0.5413,0.90880000000000005,"Orange County Blues FC","View(77)"]
["FIN D1 ","HJK Helsinki","SJK Seinajoen","1869975.htm","Aug.26 18:30",null,"Aug.26 18:30 FIN D1       HJK Helsinki - SJK Seinajoen","1869975.htm",null,null,null,null,null,null,null,null,null,null,null,"","","","","","",null,null,null,null,3.13,3.51,2.0099999999999998,0.28999999999999998,0.25829999999999997,0.45169999999999999,0.90769999999999995]
["FIN D1 ","IFK Mariehamn","RoPS Rovaniemi","1869976.htm","Aug.26 18:30",null,"Aug.26 18:30 FIN D1       IFK Mariehamn - RoPS Rovaniemi","1869976.htm",null,null,null,null,null,null,null,null,null,null,null,"MEX D2 ","Alebrijes de Oaxaca","CSyD Dorados de Sinaloa","1902054.htm","Aug.26 05:05","http://www.goaloo.co/1x2/1902054.htm",null,"MEX D2 ","Aug.26 05:05","Alebrijes de Oaxaca",1.85,3.21,4.01,0.49080000000000001,0.28289999999999998,0.2263,0.90800000000000003,"CSyD Dorados de Sinaloa","View(40)"]
["FIN D1 ","TPS Turku","HIFK","1869977.htm","Aug.26 18:30",null,"Aug.26 18:30 FIN D1       TPS Turku - HIFK","1869977.htm",null,null,null,null,null,null,null,null,null,null,null,"","","","","","",null,null,null,null,1.91,3.11,3.89,0.4748,0.29189999999999999,0.23330000000000001,0.90700000000000003]
["GER Reg ","FSV Union Furstenwalde","Carl Zeiss Jena","1886072.htm","Aug.26 18:30",null,"Aug.26 18:30 GER Reg       FSV Union Furstenwalde - Carl Zeiss Jena","1886072.htm",null,null,null,null,null,null,null,null,null,null,null,"INT CF ","FC Isabel United","Laugu United","1908457.htm","Aug.26 08:00","http://www.goaloo.co/1x2/1908457.htm",null,"INT CF ","Aug.26 08:00","FC Isabel United",1.82,4.5999999999999996,3.02,0.50070000000000003,0.19769999999999999,0.30149999999999999,0.90959999999999996,"Laugu United","View(3)"]
["FIN D2 ","Mypa","MP MIKELI","1870180.htm","Aug.26 18:30",null,"Aug.26 18:30 FIN D2       Mypa - MP MIKELI","1870180.htm",null,null,null,null,null,null,null,null,null,null,null,"","","","","",""]
["FIN D3 A ","VIFK","GBK Kokkola","1870769.htm","Aug.26 18:30",null,"Aug.26 18:30 FIN D3 A       VIFK - GBK Kokkola","1870769.htm",null,null,null,null,null,null,null,null,null,null,null,"CHA CSL ","Henan Jianye(N)","Shanghai Shenhua","1879855.htm","Aug.26 10:00","http://www.goaloo.co/1x2/1879855.htm",null,"CHA CSL ","Aug.26 10:00","Henan Jianye(N)",3.18,3.47,2.0499999999999998,0.28849999999999998,0.26390000000000002,0.44750000000000001,0.91669999999999996,"Shanghai Shenhua","View(190)"]
["CZEC ","Stara Rise","Vysocina jihlava","1902038.htm","Aug.26 18:30",null,"Aug.26 18:30 CZEC       Stara Rise - Vysocina jihlava","1902038.htm",null,null,null,null,null,null,null,null,null,null,null,"","","","","","",null,null,null,null,3.54,3.68,1.89,0.26029999999999998,0.25090000000000001,0.48880000000000001,0.92249999999999999]
["CZEC ","TJ Skastice","Vyskov","1902042.htm","Aug.26 18:30",null,"Aug.26 18:30 CZEC       TJ Skastice - Vyskov","1902042.htm",null,null,null,null,null,null,null,null,null,null,null,"AUS D1 ","Melbourne City(N)","Western United FC","1908045.htm","Aug.26 10:00","http://www.goaloo.co/1x2/1908045.htm",null,"AUS D1 ","Aug.26 10:00","Melbourne City(N)",2.02,3.47,3.38,0.45860000000000001,0.2671,0.27429999999999999,0.92769999999999997,"Western United FC","View(178)"]
["CZEC ","Sokol Lanzho","Lisen","1902045.htm","Aug.26 18:30",null,"Aug.26 18:30 CZEC       Sokol Lanzho - Lisen","1902045.htm",null,null,null,null,null,null,null,null,null,null,null,"","","","","","",null,null,null,null,1.92,3.59,3.66,0.48570000000000002,0.25969999999999999,0.25459999999999999,0.93130000000000002]
["RUS Cup ","Veles","Baltika Kaliningrad","1903373.htm","Aug.26 18:30",null,"Aug.26 18:30 RUS Cup       Veles - Baltika Kaliningrad","1903373.htm",null,null,null,null,null,null,null,null,null,null,null,"INT CF ","FC Cartagena","Leganes","1908417.htm","Aug.26 11:00","http://www.goaloo.co/1x2/1908417.htm",null,"INT CF ","Aug.26 11:00","FC Cartagena",2.78,3.58,2.16,0.32650000000000001,0.25380000000000003,0.41970000000000002,0.90800000000000003,"Leganes","View(11)"]
["HUN D2E ","Budaorsi SC","Vasas","1884193.htm","Aug.26 18:30",null,"Aug.26 18:30 HUN D2E       Budaorsi SC - Vasas","1884193.htm",null,null,null,null,null,null,null,null,null,null,null,"","","","","","",null,null,null,null,2.83,3.57,2.13,0.32029999999999997,0.25369999999999998,0.42599999999999999,0.90620000000000001]
["HUN D2E ","Szentlorinc SE","Kaposvar","1884194.htm","Aug.26 18:30",null,"Aug.26 18:30 HUN D2E       Szentlorinc SE - Kaposvar","1884194.htm",null,null,null,null,null,null,null,null,null,null,null,"Croatia U19 L","Sesvete U19","Inter Zapresic U19","1908385.htm","Aug.26 11:00","http://www.goaloo.co/1x2/1908385.htm",null,"Croatia U19 L","Aug.26 11:00","Sesvete U19",2.0099999999999998,3.73,2.88,0.44790000000000002,0.24060000000000001,0.3115,0.89839999999999998,"Inter Zapresic U19","View(12)"]
["TUN D1 ","Stade tunisien","AS Slimane","1871872.htm","Aug.26 18:30",null,"Aug.26 18:30 TUN D1       Stade tunisien - AS Slimane","1871872.htm",null,null,null,null,null,null,null,null,null,null,null,"","","","","","",null,null,null,null,2,3.77,2.91,0.45100000000000001,0.2392,0.30969999999999998,0.90049999999999997]
["INT CF ","TSV Hartberg","Hannover 96","1908419.htm","Aug.26 18:30",null,"Aug.26 18:30 INT CF       TSV Hartberg - Hannover 96","1908419.htm",null,null,null,null,null,null,null,null,null,null,null,"MGL PL","Ulaanbaatar City","Erchim","1908461.htm","Aug.26 11:00","http://www.goaloo.co/1x2/1908461.htm",null,"MGL PL","Aug.26 11:00","Ulaanbaatar City",2.5499999999999998,3.5,2.2999999999999998,0.35249999999999998,0.25679999999999997,0.39079999999999998,0.89890000000000003,"Erchim","View(1)"]
["Finland K","BK-46 Karis Karjaa","CLE","1908349.htm","Aug.26 18:30",null,"Aug.26 18:30 Finland K      BK-46 Karis Karjaa - CLE","1908349.htm",null,null,null,null,null,null,null,null,null,null,null,"","","","","",""]
["Finland K","VPV Pallo-Veikot","Korsnas FF","1908352.htm","Aug.26 18:30",null,"Aug.26 18:30 Finland K      VPV Pallo-Veikot - Korsnas FF","1908352.htm",null,null,null,null,null,null,null,null,null,null,null,"RUS Cup ","SKA Khabarovsk","Fakel","1903365.htm","Aug.26 12:00","http://www.goaloo.co/1x2/1903365.htm",null,"RUS Cup ","Aug.26 12:00","SKA Khabarovsk",1.72,3.2,4.7300000000000004,0.52539999999999998,0.28299999999999997,0.19159999999999999,0.90610000000000002,"Fakel","View(15)"]
["HUN D3E","Dunaujvaros Palhalma Agrospecial","Kozarmisleny SE","1908356.htm","Aug.26 18:30",null,"Aug.26 18:30 HUN D3E      Dunaujvaros Palhalma Agrospecial - Kozarmisleny SE","1908356.htm",null,null,null,null,null,null,null,null,null,null,null,"","","","","","",null,null,null,null,1.67,3.47,14.53,0.627,0.30109999999999998,7.1900000000000006E-2,1.0442]
["HUN D3E","FC Dabas","Ferencvarosi TC B","1908357.htm","Aug.26 18:30",null,"Aug.26 18:30 HUN D3E      FC Dabas - Ferencvarosi TC B","1908357.htm",null,null,null,null,null,null,null,null,null,null,null,"MYA D1 ","Southern Myanmar","Ispe FC","1828656.htm","Aug.26 12:00","http://www.goaloo.co/1x2/1828656.htm",null,"MYA D1 ","Aug.26 12:00","Southern Myanmar",2.17,3.89,2.57,0.41589999999999999,0.23219999999999999,0.3518,0.90329999999999999,"Ispe FC","View(5)"]
["HUN D3E","UFC Nagykanizsa","RCO Agde","1908358.htm","Aug.26 18:30",null,"Aug.26 18:30 HUN D3E      UFC Nagykanizsa - RCO Agde","1908358.htm",null,null,null,null,null,null,null,null,null,null,null,"","","","","",""]
["HUN D3E","Jaszberenyi FC","Balassagyarmat SE","1908359.htm","Aug.26 18:30",null,"Aug.26 18:30 HUN D3E      Jaszberenyi FC - Balassagyarmat SE","1908359.htm",null,null,null,null,null,null,null,null,null,null,null,"MYA D1 ","Yadanabon FC","Magway","1828657.htm","Aug.26 12:00","http://www.goaloo.co/1x2/1828657.htm",null,"MYA D1 ","Aug.26 12:00","Yadanabon FC",1.64,3.7,4.4800000000000004,0.55259999999999998,0.24490000000000001,0.20250000000000001,0.90700000000000003,"Magway","View(15)"]
["HUN D3E","Lipot Pekseg","Nagyatadi FC","1908360.htm","Aug.26 18:30",null,"Aug.26 18:30 HUN D3E      Lipot Pekseg - Nagyatadi FC","1908360.htm",null,null,null,null,null,null,null,null,null,null,null,"","","","","","",null,null,null,null,1.64,3.7,4.49,0.55289999999999995,0.24510000000000001,0.20200000000000001,0.90749999999999997]
["HUN D3E","Majosi SE","Ujpesti TE B","1908361.htm","Aug.26 18:30",null,"Aug.26 18:30 HUN D3E      Majosi SE - Ujpesti TE B","1908361.htm",null,null,null,null,null,null,null,null,null,null,null,"MYA D1 ","YANGON UNITED","Hantharwady United","1888794.htm","Aug.26 12:00","http://www.goaloo.co/1x2/1888794.htm",null,"MYA D1 ","Aug.26 12:00","YANGON UNITED",2.33,3.6,2.5099999999999998,0.38819999999999999,0.25130000000000002,0.36049999999999999,0.90569999999999995,"Hantharwady United","View(10)"]
["HUN D3E","MOL Fehervar FC II","Komarom VSE","1908362.htm","Aug.26 18:30",null,"Aug.26 18:30 HUN D3E      MOL Fehervar FC II - Komarom VSE","1908362.htm",null,null,null,null,null,null,null,null,null,null,null,"","","","","","",null,null,null,null,2.36,3.6,2.48,0.38429999999999997,0.25109999999999999,0.36459999999999998,0.90500000000000003]
["HUN D3E","Monori SE","Paksi B","1908363.htm","Aug.26 18:30",null,"Aug.26 18:30 HUN D3E      Monori SE - Paksi B","1908363.htm",null,null,null,null,null,null,null,null,null,null,null,"RUS D2 ","FK Chita","FK Kolomna","1891897.htm","Aug.26 12:30","http://www.goaloo.co/1x2/1891897.htm",null,"RUS D2 ","Aug.26 12:30","FK Chita",2.25,3.32,2.8,0.4027,0.27339999999999998,0.32390000000000002,0.90659999999999996,"FK Kolomna","View(29)"]
["HUN D3E","MTE Mosonmagyarovar","Zalaegerszegi TE II","1908364.htm","Aug.26 18:30",null,"Aug.26 18:30 HUN D3E      MTE Mosonmagyarovar - Zalaegerszegi TE II","1908364.htm",null,null,null,null,null,null,null,null,null,null,null,"","","","","","",null,null,null,null,2.2799999999999998,3.32,2.77,0.39889999999999998,0.2732,0.32790000000000002,0.90759999999999996]
["HUN D3E","Papai Perutz","Puskas Academy II","1908365.htm","Aug.26 18:30",null,"Aug.26 18:30 HUN D3E      Papai Perutz - Puskas Academy II","1908365.htm",null,null,null,null,null,null,null,null,null,null,null,"AUS QSL ","Peninsula Power","Redlands United FC","1840169.htm","Aug.26 12:30","http://www.goaloo.co/1x2/1840169.htm",null,"AUS QSL ","Aug.26 12:30","Peninsula Power",1.2,6.13,9.1,0.75260000000000005,0.14779999999999999,9.9599999999999994E-2,0.90629999999999999,"Redlands United FC","View(63)"]
["HUN D3E","Szegedi VSE","Taksony SE","1908366.htm","Aug.26 18:30",null,"Aug.26 18:30 HUN D3E      Szegedi VSE - Taksony SE","1908366.htm",null,null,null,null,null,null,null,null,null,null,null,"","","","","","",null,null,null,null,1.2,6.21,9.31,0.75609999999999999,0.14630000000000001,9.7600000000000006E-2,0.90800000000000003]
["Croatia U19 L","Rijeka U19","NK Orijent U19","1908387.htm","Aug.26 18:30",null,"Aug.26 18:30 Croatia U19 L      Rijeka U19 - NK Orijent U19","1908387.htm",null,null,null,null,null,null,null,null,null,null,null,"AUS QSL ","Brisbane Roar (Youth)","Gold Coast United","1840173.htm","Aug.26 12:30","http://www.goaloo.co/1x2/1840173.htm",null,"AUS QSL ","Aug.26 12:30","Brisbane Roar (Youth)",1.9,4.1399999999999997,2.99,0.47749999999999998,0.21909999999999999,0.3034,0.90620000000000001,"Gold Coast United","View(61)"]
["Croatia U19 L","ZNK Osijek U19","Zagreb locomotive U19","1908388.htm","Aug.26 18:30",null,"Aug.26 18:30 Croatia U19 L      ZNK Osijek U19 - Zagreb locomotive U19","1908388.htm",null,null,null,null,null,null,null,null,null,null,null,"","","","","","",null,null,null,null,1.9,4.13,2.99,0.47699999999999998,0.2198,0.30320000000000003,0.90720000000000001]
["CRO D3","NK Cepin","NK Bedem Ivankovo","1908431.htm","Aug.26 18:30",null,"Aug.26 18:30 CRO D3      NK Cepin - NK Bedem Ivankovo","1908431.htm",null,null,null,null,null,null,null,null,null,null,null,"INT CF ","CD Lugo","Ponferradina","1908418.htm","Aug.26 12:30","http://www.goaloo.co/1x2/1908418.htm",null,"INT CF ","Aug.26 12:30","CD Lugo",2.25,3.47,2.61,0.39879999999999999,0.25800000000000001,0.34320000000000001,0.89559999999999995,"Ponferradina","View(7)"]
["CRO D3","NK Kutjevo","NK Marsonia 1909","1908432.htm","Aug.26 18:30",null,"Aug.26 18:30 CRO D3      NK Kutjevo - NK Marsonia 1909","1908432.htm",null,null,null,null,null,null,null,null,null,null,null,"","","","","","",null,null,null,null,2.2400000000000002,3.48,2.63,0.40079999999999999,0.25790000000000002,0.34129999999999999,0.8972]
["CRO D3","Slavonija Pozega","Vuteks Sloga","1908433.htm","Aug.26 18:30",null,"Aug.26 18:30 CRO D3      Slavonija Pozega - Vuteks Sloga","1908433.htm",null,null,null,null,null,null,null,null,null,null,null,"CHA CSL ","Shanghai East Asia FC","Chongqing SWM Motors","1879911.htm","Aug.26 13:00","http://www.goaloo.co/1x2/1879911.htm",null,"CHA CSL ","Aug.26 13:00","Shanghai East Asia FC",1.35,4.7,7.23,0.67869999999999997,0.19470000000000001,0.12659999999999999,0.91539999999999999,"Chongqing SWM Motors","View(185)"]
["CRO D3","NK Vihor","NK Belisce","1908434.htm","Aug.26 18:30",null,"Aug.26 18:30 CRO D3      NK Vihor - NK Belisce","1908434.htm",null,null,null,null,null,null,null,null,null,null,null,"","","","","","",null,null,null,null,1.38,4.58,6.86,0.66539999999999999,0.20050000000000001,0.1341,0.91920000000000002]
["CRO D3","NK Zrinski Jurjevac","Oriolik","1908454.htm","Aug.26 18:30",null,"Aug.26 18:30 CRO D3      NK Zrinski Jurjevac - Oriolik","1908454.htm",null,null,null,null,null,null,null,null,null,null,null,"JPN D1 ","Vissel Kobe","Kawasaki Frontale","1872531.htm","Aug.26 13:00","http://www.goaloo.co/1x2/1872531.htm",null,"JPN D1 ","Aug.26 13:00","Vissel Kobe",3.43,3.84,1.88,0.26910000000000001,0.24049999999999999,0.4904,0.92310000000000003,"Kawasaki Frontale","View(189)"]
["CRO D3","NK Gardiska","HNK Dakovo Croatia","1908455.htm","Aug.26 18:30",null,"Aug.26 18:30 CRO D3      NK Gardiska - HNK Dakovo Croatia","1908455.htm",null,null,null,null,null,null,null,null,null,null,null,{"$f":"IF(W130=\"\",\"\",AA130)","v":""},{"$f":"IF(W130=\"\",\"\",AC130)","v":""},{"$f":"IF(W130=\"\",\"\",AK130)","v":""},{"$f":"IFERROR(IF(Y130=\"\",\"\",MID(Y130,SEARCH(\"1x2/\",Y130,1) + 4,LEN(Y130))),\"\")","v":""},{"$f":"IF(W130=\"\",\"\",AB130)","v":""},{"$f":"HLink(AL130)","v":""},null,null,null,null,3.83,4.04,1.75,0.2419,0.2293,0.52880000000000005,0.92559999999999998]
["CRO D3","HNK Vukovar 91","NK Slavija Pleternica","1908456.htm","Aug.26 18:30",null,{"$f":"IF(D131=\"\",\"\",E131&\" \"&A131&\" \"&\"    \"&\" \"&B131&\" - \"&C131)","v":"Aug.26 18:30 CRO D3      HNK Vukovar 91 - NK Slavija Pleternica"},{"$f":"IF(G131=\"\",\"\",D131)","v":"1908456.htm"},null,null,null,null,null,null,null,null,null,null,null,"JPN D1 ","FC Tokyo","Kashima Antlers","1872544.htm","Aug.26 13:00","http://www.goaloo.co/1x2/1872544.htm",null,"JPN D1 ","Aug.26 13:00","FC Tokyo",1.92,3.53,3.77,0.48759999999999998,0.26490000000000002,0.2475,0.93389999999999995,"Kashima Antlers","View(187)"]
["KUW D1 ","Al Kuwait SC","Al-Yarmouk","1830630.htm","Aug.26 18:55",null,"Aug.26 18:55 KUW D1       Al Kuwait SC - Al-Yarmouk","1830630.htm",null,null,null,null,null,null,null,null,null,null,null,"","","","","","",null,null,null,null,2.39,3.33,2.77,0.38690000000000002,0.27829999999999999,0.33479999999999999,0.92569999999999997]
["UEFA CL ","NK Publikum Celje","Molde","1904148.htm","Aug.26 18:59",null,"Aug.26 18:59 UEFA CL       NK Publikum Celje - Molde","1904148.htm",null,null,null,null,null,null,null,null,null,null,null,"RUS D2 ","Dinamo Barnaul","Tyumen","1891133.htm","Aug.26 13:00","http://www.goaloo.co/1x2/1891133.htm",null,"RUS D2 ","Aug.26 13:00","Dinamo Barnaul",2.65,3.2,2.63,0.35270000000000001,0.29220000000000002,0.35510000000000003,0.93540000000000001,"Tyumen","View(29)"]
["UEFA CL ","Qarabag","Sheriff Tiraspol","1904154.htm","Aug.26 18:59",null,"Aug.26 18:59 UEFA CL       Qarabag - Sheriff Tiraspol","1904154.htm",null,null,null,null,null,null,null,null,null,null,null,"","","","","","",null,null,null,null,3.19,3.26,2.16,0.28920000000000001,0.28310000000000002,0.42770000000000002,0.92310000000000003]
["UEFA CL ","Suduva","Maccabi Tel Aviv","1904155.htm","Aug.26 18:59",null,"Aug.26 18:59 UEFA CL       Suduva - Maccabi Tel Aviv","1904155.htm",null,null,null,null,null,null,null,null,null,null,null,"RUS D2 ","Zvezda Irkutsk","Znamya Truda","1891896.htm","Aug.26 13:00","http://www.goaloo.co/1x2/1891896.htm",null,"RUS D2 ","Aug.26 13:00","Zvezda Irkutsk",2.2200000000000002,3.13,3.11,0.41270000000000001,0.29270000000000002,0.29459999999999997,0.91620000000000001,"Znamya Truda","View(11)"]
["NORW ","Roa (w)","Rosenborg BK (w)","1872251.htm","Aug.26 18:59",null,"Aug.26 18:59 NORW       Roa (w) - Rosenborg BK (w)","1872251.htm",null,null,null,null,null,null,null,null,null,null,null,"","","","","","",null,null,null,null,2.08,3.15,3.42,0.44090000000000001,0.29120000000000001,0.26790000000000003,0.91669999999999996]
["CZEC ","Komarov","Usti nad Labem","1891837.htm","Aug.26 18:59",null,"Aug.26 18:59 CZEC       Komarov - Usti nad Labem","1891837.htm",null,null,null,null,null,null,null,null,null,null,null,"AUS CGP B","Narrabundah","Queanbeyan City","1908337.htm","Aug.26 13:00","http://www.goaloo.co/1x2/1908337.htm",null,"AUS CGP B","Aug.26 13:00","Narrabundah",9,6.89,1.17,0.10009999999999999,0.13070000000000001,0.76919999999999999,0.90090000000000003,"Queanbeyan City","View(12)"]
["CZEC ","Admira Praha","Dukla Prague","1891845.htm","Aug.26 18:59",null,"Aug.26 18:59 CZEC       Admira Praha - Dukla Prague","1891845.htm",null,null,null,null,null,null,null,null,null,null,null,"","","","","","",null,null,null,null,9,6.76,1.18,0.1004,0.1336,0.76590000000000003,0.90359999999999996]
["CZEC ","FK Prepere","SK Slovan Varnsdorf","1891862.htm","Aug.26 18:59",null,"Aug.26 18:59 CZEC       FK Prepere - SK Slovan Varnsdorf","1891862.htm",null,null,null,null,null,null,null,null,null,null,null,"AUS D1 ","Sydney FC(N)","Perth Glory","1908046.htm","Aug.26 13:10","http://www.goaloo.co/1x2/1908046.htm",null,"AUS D1 ","Aug.26 13:10","Sydney FC(N)",1.89,3.59,3.69,0.49070000000000003,0.2581,0.25119999999999998,0.92749999999999999,"Perth Glory","View(181)"]
["RUS Cup ","FK Chayka K-SR","Tekstilshchik Ivanovo","1903368.htm","Aug.26 18:59",null,"Aug.26 18:59 RUS Cup       FK Chayka K-SR - Tekstilshchik Ivanovo","1903368.htm",null,null,null,null,null,null,null,null,null,null,null,"","","","","","",null,null,null,null,1.95,3.49,3.63,0.47739999999999999,0.26640000000000003,0.25609999999999999,0.92989999999999995]
["CYP D1 ","Ethnikos Achnas FC","E.N.Paralimniou","1878759.htm","Aug.26 18:59",null,"Aug.26 18:59 CYP D1       Ethnikos Achnas FC - E.N.Paralimniou","1878759.htm",null,null,null,null,null,null,null,null,null,null,null,"NSW-N TPL ","Hamilton Olympic","Maitland","1878711.htm","Aug.26 13:15","http://www.goaloo.co/1x2/1878711.htm",null,"NSW-N TPL ","Aug.26 13:15","Hamilton Olympic",3.59,3.95,1.75,0.25230000000000002,0.22919999999999999,0.51849999999999996,0.90510000000000002,"Maitland","View(62)"]
["ITA YCup ","Fiorentina U20","Verona U20","1883818.htm","Aug.26 18:59",null,"Aug.26 18:59 ITA YCup       Fiorentina U20 - Verona U20","1883818.htm",null,null,null,null,null,null,null,null,null,null,null,"","","","","","",null,null,null,null,3.41,3.93,1.79,0.26519999999999999,0.2303,0.50449999999999995,0.90410000000000001]
["HUN D2E ","Debrecin VSC","Szegedi AK","1884190.htm","Aug.26 18:59",null,"Aug.26 18:59 HUN D2E       Debrecin VSC - Szegedi AK","1884190.htm",null,null,null,null,null,null,null,null,null,null,null,"NSW-N TPL ","Valentine","Adamstown Rosebuds FC","1878713.htm","Aug.26 13:15","http://www.goaloo.co/1x2/1878713.htm",null,"NSW-N TPL ","Aug.26 13:15","Valentine",2.91,3.52,2.17,0.31540000000000001,0.26100000000000001,0.42359999999999998,0.91859999999999997,"Adamstown Rosebuds FC","View(65)"]
["SWE Cup ","Gottne IF","Stöde IF","1903402.htm","Aug.26 18:59",null,"Aug.26 18:59 SWE Cup       Gottne IF - Stöde IF","1903402.htm",null,null,null,null,null,null,null,null,null,null,null,"","","","","","",null,null,null,null,2.42,3.64,2.4700000000000002,0.37790000000000001,0.2515,0.3705,0.91500000000000004]
["SWE WD2 ","IFK Kalmar (w)","Bollstanas Sk (w)","1871686.htm","Aug.26 18:59",null,"Aug.26 18:59 SWE WD2       IFK Kalmar (w) - Bollstanas Sk (w)","1871686.htm",null,null,null,null,null,null,null,null,null,null,null,"JPN D1 ","Yokohama Marinos","Consadole Sapporo","1872572.htm","Aug.26 13:30","http://www.goaloo.co/1x2/1872572.htm",null,"JPN D1 ","Aug.26 13:30","Yokohama Marinos",1.7,4.13,3.93,0.54149999999999998,0.2235,0.23499999999999999,0.92310000000000003,"Consadole Sapporo","View(189)"]
["SWE WD2 ","Moron BK (w)","Mallbackens IF (w)","1871689.htm","Aug.26 18:59",null,"Aug.26 18:59 SWE WD2       Moron BK (w) - Mallbackens IF (w)","1871689.htm",null,null,null,null,null,null,null,null,null,null,null,"","","","","","",null,null,null,null,1.84,4.04,3.48,0.50429999999999997,0.22939999999999999,0.26629999999999998,0.92579999999999996]
["LIT D2 ","Alytis Alytus Dainava","FK Panevezys-2","1869298.htm","Aug.26 18:59",null,"Aug.26 18:59 LIT D2       Alytis Alytus Dainava - FK Panevezys-2","1869298.htm",null,null,null,null,null,null,null,null,null,null,null,"KOR D2 ","Jeju United","Bucheon FC 1995","1842965.htm","Aug.26 13:30","http://www.goaloo.co/1x2/1842965.htm",null,"KOR D2 ","Aug.26 13:30","Jeju United",1.95,3.19,3.64,0.4657,0.28489999999999999,0.2495,0.9093,"Bucheon FC 1995","View(107)"]
["Finland K","Saaripotku","SIF","1908350.htm","Aug.26 18:59",null,"Aug.26 18:59 Finland K      Saaripotku - SIF","1908350.htm",null,null,null,null,null,null,null,null,null,null,null,"","","","","","",null,null,null,null,1.89,3.22,3.88,0.48199999999999998,0.28320000000000001,0.23480000000000001,0.91200000000000003]
["CZE DFL","FK Chomutov","Meteor Praha","1908441.htm","Aug.26 18:59",null,"Aug.26 18:59 CZE DFL      FK Chomutov - Meteor Praha","1908441.htm",null,null,null,null,null,null,null,null,null,null,null,"MGL PL","FC Ulaanbaatar","Deren FC","1908462.htm","Aug.26 14:00","http://www.goaloo.co/1x2/1908462.htm",null,"MGL PL","Aug.26 14:00","FC Ulaanbaatar",1.99,4.08,2.82,0.45639999999999997,0.222,0.32150000000000001,0.90600000000000003,"Deren FC","View(4)"]
["Croatia U19 L","Dinamo Zagreb U19","NK Istra 1961 U19","1908389.htm","Aug.26 18:59",null,"Aug.26 18:59 Croatia U19 L      Dinamo Zagreb U19 - NK Istra 1961 U19","1908389.htm",null,null,null,null,null,null,null,null,null,null,null,"","","","","","",null,null,null,null,1.98,4.09,2.82,0.45700000000000002,0.2215,0.32150000000000001,0.90600000000000003]
["Croatia U19 L","Hajduk Split U19","Hrvatski Dragovoljac U19","1908390.htm","Aug.26 18:59",null,"Aug.26 18:59 Croatia U19 L      Hajduk Split U19 - Hrvatski Dragovoljac U19","1908390.htm",null,null,null,null,null,null,null,null,null,null,null,"RUS Cup ","Tom Tomsk","FK Nizhny Novgorod","1903372.htm","Aug.26 14:30","http://www.goaloo.co/1x2/1903372.htm",null,"RUS Cup ","Aug.26 14:30","Tom Tomsk",4.0999999999999996,3.2,1.83,0.22120000000000001,0.28339999999999999,0.4955,0.90690000000000004,"FK Nizhny Novgorod","View(2)"]
["Estonia cup (w)","Parnu JK Vaprus (w)","Tammeka Tartu (W)","1908442.htm","Aug.26 18:59",null,"Aug.26 18:59 Estonia cup (w)      Parnu JK Vaprus (w) - Tammeka Tartu (W)","1908442.htm",null,null,null,null,null,null,null,null,null,null,null,"","","","","","",null,null,null,null,4.13,3.2,1.82,0.21920000000000001,0.28260000000000002,0.49819999999999998,0.9042]
["FIN WD1 ","Honka Espoo (w)","TiPS Vantaa (w)","1870865.htm","Aug.26 18:59",null,"Aug.26 18:59 FIN WD1       Honka Espoo (w) - TiPS Vantaa (w)","1870865.htm",null,null,null,null,null,null,null,null,null,null,null,"CHA CSL ","Wuhan ZALL","Tianjin Teda","1879912.htm","Aug.26 15:00","http://www.goaloo.co/1x2/1879912.htm",null,"CHA CSL ","Aug.26 15:00","Wuhan ZALL",1.75,3.57,4.1500000000000004,0.52370000000000005,0.25609999999999999,0.22020000000000001,0.91410000000000002,"Tianjin Teda","View(186)"]
["FIN WD1 ","KuPs （W）","Jyvaskylan Pallokerho (w)","1870867.htm","Aug.26 18:59",null,"Aug.26 18:59 FIN WD1       KuPs （W） - Jyvaskylan Pallokerho (w)","1870867.htm",null,null,null,null,null,null,null,null,null,null,null,"","","","","","",null,null,null,null,1.76,3.58,4.18,0.5232,0.25669999999999998,0.22009999999999999,0.91920000000000002]
["UEFA EL ","Progres Niedercorn","FK Zeta","1903732.htm","Aug.26 19:30",null,"Aug.26 19:30 UEFA EL       Progres Niedercorn - FK Zeta","1903732.htm",null,null,null,null,null,null,null,null,null,null,null,"RUS D1 ","Spartak Moscow II","FK Krasnodar II","1885329.htm","Aug.26 15:00","http://www.goaloo.co/1x2/1885329.htm",null,"RUS D1 ","Aug.26 15:00","Spartak Moscow II",1.72,3.59,4.2300000000000004,0.53059999999999996,0.25369999999999998,0.2157,0.9113,"FK Krasnodar II","View(74)"]
["DEN WD2 ","FC Damso (w)","Frederiksberg Boldklub (w)","1896098.htm","Aug.26 19:30",null,"Aug.26 19:30 DEN WD2       FC Damso (w) - Frederiksberg Boldklub (w)","1896098.htm",null,null,null,null,null,null,null,null,null,null,null,"","","","","","",null,null,null,null,1.74,3.58,4.09,0.52270000000000005,0.25430000000000003,0.223,0.91110000000000002]
["DEN WD2 ","ASA Aarhus (w)","IF Lyseng (w)","1896133.htm","Aug.26 19:30",null,"Aug.26 19:30 DEN WD2       ASA Aarhus (w) - IF Lyseng (w)","1896133.htm",null,null,null,null,null,null,null,null,null,null,null,"RUS Cup ","Akron Togliatti","Chertanovo Moscow","1903366.htm","Aug.26 15:00","http://www.goaloo.co/1x2/1903366.htm",null,"RUS Cup ","Aug.26 15:00","Akron Togliatti",2.21,3.23,2.93,0.41049999999999998,0.28060000000000002,0.30890000000000001,0.90620000000000001,"Chertanovo Moscow","View(16)"]
["RUS Cup ","Torpedo moskva","Shinnik Yaroslavl","1903369.htm","Aug.26 19:30",null,"Aug.26 19:30 RUS Cup       Torpedo moskva - Shinnik Yaroslavl","1903369.htm",null,null,null,null,null,null,null,null,null,null,null,"","","","","","",null,null,null,null,2.21,3.23,2.94,0.41089999999999999,0.28039999999999998,0.30869999999999997,0.90629999999999999]
["EGY D1 ","FC Masr","EL Masry","1799541.htm","Aug.26 19:30",null,"Aug.26 19:30 EGY D1       FC Masr - EL Masry","1799541.htm",null,null,null,null,null,null,null,null,null,null,null,"RUS Cup ","Yenisey Krasnoyarsk","Volgar-Gazprom Astrachan","1903374.htm","Aug.26 15:00","http://www.goaloo.co/1x2/1903374.htm",null,"RUS Cup ","Aug.26 15:00","Yenisey Krasnoyarsk",1.56,3.8,5.5,0.59030000000000005,0.24229999999999999,0.16739999999999999,0.92090000000000005,"Volgar-Gazprom Astrachan","View(1)"]
["INT CF ","Bellinzona","Lugano","1908466.htm","Aug.26 19:30",null,"Aug.26 19:30 INT CF       Bellinzona - Lugano","1908466.htm",null,null,null,null,null,null,null,null,null,null,null,"","","","","",""]
["UEFA CL ","NK Lokomotiva Zagreb","Rapid Wien","1902049.htm","Aug.26 20:00",null,"Aug.26 20:00 UEFA CL       NK Lokomotiva Zagreb - Rapid Wien","1902049.htm",null,null,null,null,null,null,null,null,null,null,null,"KAZ PR ","FK Taraz","Okzhetpes","1849673.htm","Aug.26 15:00","http://www.goaloo.co/1x2/1849673.htm",null,"KAZ PR ","Aug.26 15:00","FK Taraz",2.2400000000000002,3.21,2.85,0.40239999999999998,0.28120000000000001,0.31640000000000001,0.9022,"Okzhetpes","View(94)"]
["GRE D1 ","SKODA Xanthi","Apollon Smirnis","1893290.htm","Aug.26 20:00",null,"Aug.26 20:00 GRE D1       SKODA Xanthi - Apollon Smirnis","1893290.htm",null,null,null,null,null,null,null,null,null,null,null,"","","","","","",null,null,null,null,2.2400000000000002,3.21,2.87,0.40329999999999999,0.28129999999999999,0.31540000000000001,0.90400000000000003]
["GER Reg ","VfB Auerbach","Chemnitzer","1886069.htm","Aug.26 20:00",null,"Aug.26 20:00 GER Reg       VfB Auerbach - Chemnitzer","1886069.htm",null,null,null,null,null,null,null,null,null,null,null,"RUS D2 ","Sibir-M Novosibirsk","Zvezda Perm","1891134.htm","Aug.26 15:00","http://www.goaloo.co/1x2/1891134.htm",null,"RUS D2 ","Aug.26 15:00","Sibir-M Novosibirsk",2.2799999999999998,3.18,2.85,0.39689999999999998,0.28489999999999999,0.31819999999999998,0.90610000000000002,"Zvezda Perm","View(27)"]
["GER Reg ","SV Babelsberg 03","FSV luckenwalde","1886070.htm","Aug.26 20:00",null,"Aug.26 20:00 GER Reg       SV Babelsberg 03 - FSV luckenwalde","1886070.htm",null,null,null,null,null,null,null,null,null,null,null,"","","","","","",null,null,null,null,2.2799999999999998,3.17,2.86,0.39789999999999998,0.2853,0.31680000000000003,0.90569999999999995]
["NORW ","Arna Bjornar (w)","Sandviken (w)","1872250.htm","Aug.26 20:00",null,"Aug.26 20:00 NORW       Arna Bjornar (w) - Sandviken (w)","1872250.htm",null,null,null,null,null,null,null,null,null,null,null,"SVK U19 A","Trencin U19","Dukla Banska Bystrica U19","1908427.htm","Aug.26 15:00","http://www.goaloo.co/1x2/1908427.htm",null,"SVK U19 A","Aug.26 15:00","Trencin U19",1.5,4.45,4.62,0.60150000000000003,0.20300000000000001,0.19550000000000001,0.90380000000000005,"Dukla Banska Bystrica U19","View(8)"]
["NORW ","Valerenga (w)","Lyn (w)","1872252.htm","Aug.26 20:00",null,"Aug.26 20:00 NORW       Valerenga (w) - Lyn (w)","1872252.htm",null,null,null,null,null,null,null,null,null,null,null,"","","","","","",null,null,null,null,1.5,4.47,4.58,0.60089999999999999,0.20200000000000001,0.19719999999999999,0.90359999999999996]
["NORW ","LSK Kvinner (w)","Kolbotn (w)","1872253.htm","Aug.26 20:00",null,"Aug.26 20:00 NORW       LSK Kvinner (w) - Kolbotn (w)","1872253.htm",null,null,null,null,null,null,null,null,null,null,null,"BLR D3 ","Dnepr Rohachev","Shakhter Soligorsk II","1867219.htm","Aug.26 15:00","http://www.goaloo.co/1x2/1867219.htm",null,"BLR D3 ","Aug.26 15:00","Dnepr Rohachev",8.58,8,1.1499999999999999,0.10489999999999999,0.1125,0.78259999999999996,0.9,"Shakhter Soligorsk II","View(1)"]
["DEN WD2 ","Odense Q (w)","Varde (w)","1896134.htm","Aug.26 20:00",null,"Aug.26 20:00 DEN WD2       Odense Q (w) - Varde (w)","1896134.htm",null,null,null,null,null,null,null,null,null,null,null,"","","","","",""]
["ICE PR ","KR Reykjavik","Valur Reykjavik","1832279.htm","Aug.26 20:00",null,"Aug.26 20:00 ICE PR       KR Reykjavik - Valur Reykjavik","1832279.htm",null,null,null,null,null,null,null,null,null,null,null,"Croatia U19 L","Slaven Belupo U19","NK Varazdin U19","1908386.htm","Aug.26 15:00","http://www.goaloo.co/1x2/1908386.htm",null,"Croatia U19 L","Aug.26 15:00","Slaven Belupo U19",1.99,3.71,2.91,0.45019999999999999,0.24210000000000001,0.30769999999999997,0.89690000000000003,"NK Varazdin U19","View(13)"]
["HUN D2E ","Gyori ETO","Nyiregyhaza","1884191.htm","Aug.26 20:00",null,"Aug.26 20:00 HUN D2E       Gyori ETO - Nyiregyhaza","1884191.htm",null,null,null,null,null,null,null,null,null,null,null,"","","","","","",null,null,null,null,2,3.69,2.95,0.45069999999999999,0.24399999999999999,0.30530000000000002,0.90039999999999998]
["HUN D2E ","Bekescsaba","SOROKSAR","1884195.htm","Aug.26 20:00",null,"Aug.26 20:00 HUN D2E       Bekescsaba - SOROKSAR","1884195.htm",null,null,null,null,null,null,null,null,null,null,null,"SAFL ","JDR Stars","Ajax Cape Town","1772659.htm","Aug.26 16:00","http://www.goaloo.co/1x2/1772659.htm",null,"SAFL ","Aug.26 16:00","JDR Stars",2.88,3.06,2.31,0.31369999999999998,0.29480000000000001,0.39150000000000001,0.90300000000000002,"Ajax Cape Town","View(27)"]
["HUN D2E ","Csakvari TK","Pecsi MFC","1884196.htm","Aug.26 20:00",null,"Aug.26 20:00 HUN D2E       Csakvari TK - Pecsi MFC","1884196.htm",null,null,null,null,null,null,null,null,null,null,null,"","","","","","",null,null,null,null,2.88,3.05,2.3199999999999998,0.3135,0.29620000000000002,0.39019999999999999,0.90429999999999999]
["HUN D2E ","Szombathelyi Haladas","FC Ajka","1884197.htm","Aug.26 20:00",null,"Aug.26 20:00 HUN D2E       Szombathelyi Haladas - FC Ajka","1884197.htm",null,null,null,null,null,null,null,null,null,null,null,"SAFL ","Pretoria Univ","Cape Umoya United","1772661.htm","Aug.26 16:00","http://www.goaloo.co/1x2/1772661.htm",null,"SAFL ","Aug.26 16:00","Pretoria Univ",2.15,3.06,3.15,0.4194,0.29459999999999997,0.28599999999999998,0.90229999999999999,"Cape Umoya United","View(15)"]
["HUN D2E ","Kazincbarcika","Dorogi FC","1884198.htm","Aug.26 20:00",null,"Aug.26 20:00 HUN D2E       Kazincbarcika - Dorogi FC","1884198.htm",null,null,null,null,null,null,null,null,null,null,null,"","","","","","",null,null,null,null,2.16,3.06,3.15,0.41830000000000001,0.29509999999999997,0.28660000000000002,0.90210000000000001]
["HUN D2E ","Szolnoki MAV FC","DEAC","1884199.htm","Aug.26 20:00",null,"Aug.26 20:00 HUN D2E       Szolnoki MAV FC - DEAC","1884199.htm",null,null,null,null,null,null,null,null,null,null,null,"SAFL ","Steenberg United","Jomo Cosmos","1772663.htm","Aug.26 16:00","http://www.goaloo.co/1x2/1772663.htm",null,"SAFL ","Aug.26 16:00","Steenberg United",1.84,3.15,4.05,0.49020000000000002,0.2868,0.223,0.90229999999999999,"Jomo Cosmos","View(27)"]
["SWE Cup ","Hassleholms IF","Rappe GOIF","1886840.htm","Aug.26 20:00",null,"Aug.26 20:00 SWE Cup       Hassleholms IF - Rappe GOIF","1886840.htm",null,null,null,null,null,null,null,null,null,null,null,"","","","","","",null,null,null,null,1.81,3.19,4.0999999999999996,0.49790000000000001,0.28249999999999997,0.21959999999999999,0.90159999999999996]
["MAR D1 ","DHJ Difaa Hassani Jadidi","Maghrib Association Tetouan","1796001.htm","Aug.26 20:00",null,"Aug.26 20:00 MAR D1       DHJ Difaa Hassani Jadidi - Maghrib Association Tetouan","1796001.htm",null,null,null,null,null,null,null,null,null,null,null,"SAFL ","TS Galaxy","Free State Stars","1772664.htm","Aug.26 16:00","http://www.goaloo.co/1x2/1772664.htm",null,"SAFL ","Aug.26 16:00","TS Galaxy",2.73,3.02,2.4500000000000002,0.33169999999999999,0.29970000000000002,0.36849999999999999,0.90459999999999996,"Free State Stars","View(27)"]
["INT CF ","KSV Ankerbrot","SC Wacker Vienna","1908464.htm","Aug.26 20:00",null,"Aug.26 20:00 INT CF       KSV Ankerbrot - SC Wacker Vienna","1908464.htm",null,null,null,null,null,null,null,null,null,null,null,"","","","","","",null,null,null,null,2.77,3.03,2.42,0.32700000000000001,0.2989,0.37409999999999999,0.90469999999999995]
["INT CF ","Santos (w)","Audax SP (w)","1908469.htm","Aug.26 20:00",null,"Aug.26 20:00 INT CF       Santos (w) - Audax SP (w)","1908469.htm",null,null,null,null,null,null,null,null,null,null,null,"HUN D3E","Debreceni VSC II","Cegled","1908355.htm","Aug.26 16:00","http://www.goaloo.co/1x2/1908355.htm",null,"HUN D3E","Aug.26 16:00","Debreceni VSC II",4,3.77,1.67,0.22450000000000001,0.23810000000000001,0.53739999999999999,0.89839999999999998,"Cegled","View(10)"]
["SWE WD2 ","Sunnana SK (w)","Hammarby (w)","1871685.htm","Aug.26 20:00",null,"Aug.26 20:00 SWE WD2       Sunnana SK (w) - Hammarby (w)","1871685.htm",null,null,null,null,null,null,null,null,null,null,null,"","","","","",""]
["SWE WD2 ","Brommapojkarna (w)","Lidkopings FK (w)","1871690.htm","Aug.26 20:00",null,"Aug.26 20:00 SWE WD2       Brommapojkarna (w) - Lidkopings FK (w)","1871690.htm",null,null,null,null,null,null,null,null,null,null,null,"RUS Cup ","Gazovik Orenburg","Alania Vladikavkaz","1903367.htm","Aug.26 17:00","http://www.goaloo.co/1x2/1903367.htm",null,"RUS Cup ","Aug.26 17:00","Gazovik Orenburg",1.51,3.95,5.43,0.60299999999999998,0.22969999999999999,0.1673,0.90769999999999995,"Alania Vladikavkaz","View(17)"]
["Finland K","TPV/2","Saaksjarven Loiske","1908351.htm","Aug.26 20:00",null,"Aug.26 20:00 Finland K      TPV/2 - Saaksjarven Loiske","1908351.htm",null,null,null,null,null,null,null,null,null,null,null,"","","","","","",null,null,null,null,1.51,3.95,5.48,0.60389999999999999,0.2301,0.16600000000000001,0.90900000000000003]
["Pol D4","KSZO Ostrowiec","Avia Swidnik","1908384.htm","Aug.26 20:00",null,"Aug.26 20:00 Pol D4      KSZO Ostrowiec - Avia Swidnik","1908384.htm",null,null,null,null,null,null,null,null,null,null,null,"EGY D1 ","Talaea EI-Gaish","Smouha SC","1799539.htm","Aug.26 17:00","http://www.goaloo.co/1x2/1799539.htm",null,"EGY D1 ","Aug.26 17:00","Talaea EI-Gaish",2.66,2.88,2.65,0.34189999999999998,0.31540000000000001,0.3427,0.90849999999999997,"Smouha SC","View(120)"]
["GER OBW","FC Astoria Walldorf II","Nottingen","1908367.htm","Aug.26 20:00",null,"Aug.26 20:00 GER OBW      FC Astoria Walldorf II - Nottingen","1908367.htm",null,null,null,null,null,null,null,null,null,null,null,"","","","","","",null,null,null,null,2.66,2.87,2.67,0.34179999999999999,0.3175,0.3407,0.91039999999999999]
["GER OBW","Rielasingen Arlen","FV Lorrach-Brombach","1908373.htm","Aug.26 20:00",null,"Aug.26 20:00 GER OBW      Rielasingen Arlen - FV Lorrach-Brombach","1908373.htm",null,null,null,null,null,null,null,null,null,null,null,"RUS WPL ","Krasnodar FK (w)","Chertanovo Moscow (w)","1903248.htm","Aug.26 17:00","http://www.goaloo.co/1x2/1903248.htm",null,"RUS WPL ","Aug.26 17:00","Krasnodar FK (w)",1.7,4.05,3.72,0.5323,0.22409999999999999,0.24360000000000001,0.90649999999999997,"Chertanovo Moscow (w)","View(13)"]
["Can PL ","York 9 FC","Forge FC","1897981.htm","Aug.26 20:00",null,"Aug.26 20:00 Can PL       York 9 FC - Forge FC","1897981.htm",null,null,null,null,null,null,null,null,null,null,null,"","","","","","",null,null,null,null,1.71,4.0199999999999996,3.75,0.53200000000000003,0.22589999999999999,0.24210000000000001,0.90810000000000002]
["ICE U19L","Keflavik U19","Breidablik Augnablik Smari U19","1908443.htm","Aug.26 20:00",null,"Aug.26 20:00 ICE U19L      Keflavik U19 - Breidablik Augnablik Smari U19","1908443.htm",null,null,null,null,null,null,null,null,null,null,null,"UEFA CL ","AZ Alkmaar","FC Viktoria Plzen","1902047.htm","Aug.26 17:30","http://www.goaloo.co/1x2/1902047.htm",null,"UEFA CL ","Aug.26 17:30","AZ Alkmaar",1.83,3.47,3.95,0.50290000000000001,0.2646,0.23250000000000001,0.91930000000000001,"FC Viktoria Plzen","View(173)"]
["ECU D1 ","Mushuc Runa","Universidad Catolica","1897528.htm","Aug.26 20:15",null,"Aug.26 20:15 ECU D1       Mushuc Runa - Universidad Catolica","1897528.htm",null,null,null,null,null,null,null,null,null,null,null,"","","","","","",null,null,null,null,1.85,3.48,3.95,0.49940000000000001,0.26590000000000003,0.23469999999999999,0.92630000000000001]
["UEFA CL ","Ludogorets Razgrad","Midtjylland","1904147.htm","Aug.26 20:30",null,"Aug.26 20:30 UEFA CL       Ludogorets Razgrad - Midtjylland","1904147.htm",null,null,null,null,null,null,null,null,null,null,null,"SVK Cup ","FK Brezno","Slovenske Darmoty","1903375.htm","Aug.26 17:30","http://www.goaloo.co/1x2/1903375.htm",null,"SVK Cup ","Aug.26 17:30","FK Brezno",1.29,5.79,6.82,0.70760000000000001,0.15809999999999999,0.1343,0.91579999999999995,"Slovenske Darmoty","View(7)"]
["RUS PR ","FC Krasnodar","CSKA Moscow","1886606.htm","Aug.26 20:30",null,"Aug.26 20:30 RUS PR       FC Krasnodar - CSKA Moscow","1886606.htm",null,null,null,null,null,null,null,null,null,null,null,"","","","","",""]
["RUS PR ","Rostov FK","Ural Sverdlovsk Oblast","1886610.htm","Aug.26 20:30",null,"Aug.26 20:30 RUS PR       Rostov FK - Ural Sverdlovsk Oblast","1886610.htm",null,null,null,null,null,null,null,null,null,null,null,"RUS Cup ","Krylya Sovetov","Irtysh 1946 Omsk","1903371.htm","Aug.26 17:30","http://www.goaloo.co/1x2/1903371.htm",null,"RUS Cup ","Aug.26 17:30","Krylya Sovetov",1.25,5.34,10.01,0.73650000000000004,0.17180000000000001,9.1700000000000004E-2,0.91769999999999996,"Irtysh 1946 Omsk","View(28)"]
["INT CF ","Cadiz","Malaga","1903381.htm","Aug.26 20:30",null,"Aug.26 20:30 INT CF       Cadiz - Malaga","1903381.htm",null,null,null,null,null,null,null,null,null,null,null,"","","","","","",null,null,null,null,1.2,5.75,11.23,0.76060000000000005,0.15820000000000001,8.1100000000000005E-2,0.91049999999999998]
["INT CF ","Ratingen SV","VfB Solingen 1910","1908463.htm","Aug.26 20:30",null,"Aug.26 20:30 INT CF       Ratingen SV - VfB Solingen 1910","1908463.htm",null,null,null,null,null,null,null,null,null,null,null,"Iran Cup ","Persepolis","Esteghlal Tehran","1902030.htm","Aug.26 17:30","http://www.goaloo.co/1x2/1902030.htm",null,"Iran Cup ","Aug.26 17:30","Persepolis",2.5299999999999998,2.83,2.79,0.35709999999999997,0.31890000000000002,0.32400000000000001,0.90290000000000004,"Esteghlal Tehran","View(18)"]
["SWE WD2 ","Alvsjo AIK FF (w)","Sandvikens IF (W)","1871684.htm","Aug.26 20:30",null,"Aug.26 20:30 SWE WD2       Alvsjo AIK FF (w) - Sandvikens IF (W)","1871684.htm",null,null,null,null,null,null,null,null,null,null,null,{"$f":"IF(W194=\"\",\"\",AA194)","v":""},{"$f":"IF(W194=\"\",\"\",AC194)","v":""},{"$f":"IF(W194=\"\",\"\",AK194)","v":""},{"$f":"IFERROR(IF(Y194=\"\",\"\",MID(Y194,SEARCH(\"1x2/\",Y194,1) + 4,LEN(Y194))),\"\")","v":""},{"$f":"IF(W194=\"\",\"\",AB194)","v":""},{"$f":"HLink(AL194)","v":""},null,null,null,null,2.5299999999999998,2.83,2.78,0.35659999999999997,0.31900000000000001,0.32440000000000002,0.90280000000000005]
["Ire LSL","Crumlin United","Ballymun United","1908444.htm","Aug.26 20:30",null,{"$f":"IF(D195=\"\",\"\",E195&\" \"&A195&\" \"&\"    \"&\" \"&B195&\" - \"&C195)","v":"Aug.26 20:30 Ire LSL      Crumlin United - Ballymun United"},{"$f":"IF(G195=\"\",\"\",D195)","v":"1908444.htm"},null,null,null,null,null,null,null,null,null,null,null,"Pol D4","Jutrzenka Giebultow","Stal Stalowa Wola","1908376.htm","Aug.26 17:30","http://www.goaloo.co/1x2/1908376.htm",null,"Pol D4","Aug.26 17:30","Jutrzenka Giebultow",4.8,4.3,1.53,0.19020000000000001,0.2127,0.59699999999999998,0.91359999999999997,"Stal Stalowa Wola","View(19)"]
["Ire LSL","Dublin Bus FC","Tek United","1908445.htm","Aug.26 20:30",null,"Aug.26 20:30 Ire LSL      Dublin Bus FC - Tek United","1908445.htm",null,null,null,null,null,null,null,null,null,null,null,"","","","","","",null,null,null,null,5.62,4.49,1.43,0.16189999999999999,0.2026,0.63549999999999995,0.91]
["Ire LSL","Kilnamanagh AFC","Newtown Rangers AFC","1908446.htm","Aug.26 20:30",null,"Aug.26 20:30 Ire LSL      Kilnamanagh AFC - Newtown Rangers AFC","1908446.htm",null,null,null,null,null,null,null,null,null,null,null,"HUN D3E","Menfocsanak","Balatonfuredi FC","1908368.htm","Aug.26 17:30","http://www.goaloo.co/1x2/1908368.htm",null,"HUN D3E","Aug.26 17:30","Menfocsanak",1.81,3.58,3.6,0.49819999999999998,0.25169999999999998,0.25,0.9002,"Balatonfuredi FC","View(13)"]
["Ire LSL","Portmarnock","St. Mochtas","1908447.htm","Aug.26 20:30",null,"Aug.26 20:30 Ire LSL      Portmarnock - St. Mochtas","1908447.htm",null,null,null,null,null,null,null,null,null,null,null,"","","","","","",null,null,null,null,1.81,3.58,3.62,0.49809999999999999,0.25209999999999999,0.24979999999999999,0.90310000000000001]
["RUS PR ","Dynamo Moscow","Zenit St. Petersburg","1886607.htm","Aug.26 20:45",null,"Aug.26 20:45 RUS PR       Dynamo Moscow - Zenit St. Petersburg","1886607.htm",null,null,null,null,null,null,null,null,null,null,null,"SVK Cup ","SK Sasova","SK Pramen Kovacova","1903376.htm","Aug.26 18:00","http://www.goaloo.co/1x2/1903376.htm",null,"SVK Cup ","Aug.26 18:00","SK Sasova",13.86,8.7100000000000009,1.1100000000000001,6.6199999999999995E-2,0.1053,0.8286,0.91779999999999995,"SK Pramen Kovacova","View(7)"]
["UEFA CL ","Legia Warszawa","Omonia Nicosia FC","1904149.htm","Aug.26 21:00",null,"Aug.26 21:00 UEFA CL       Legia Warszawa - Omonia Nicosia FC","1904149.htm",null,null,null,null,null,null,null,null,null,null,null,"","","","","",""]
["UEFA CL ","CFR Cluj","Dinamo Zagreb","1904150.htm","Aug.26 21:00",null,"Aug.26 21:00 UEFA CL       CFR Cluj - Dinamo Zagreb","1904150.htm",null,null,null,null,null,null,null,null,null,null,null,"SVK Cup ","Slovan Modra","FK Slovan Most pri Bratislave","1903377.htm","Aug.26 18:00","http://www.goaloo.co/1x2/1903377.htm",null,"SVK Cup ","Aug.26 18:00","Slovan Modra",13,8,1.1000000000000001,6.9199999999999998E-2,0.1125,0.81830000000000003,0.89959999999999996,"FK Slovan Most pri Bratislave","View(1)"]
["UEFA CL ","Dinamo Brest","Sarajevo","1904151.htm","Aug.26 21:00",null,"Aug.26 21:00 UEFA CL       Dinamo Brest - Sarajevo","1904151.htm",null,null,null,null,null,null,null,null,null,null,null,"","","","","",""]
["UEFA WUC ","Paris Saint Germain (w)","Lyon (w)","1907872.htm","Aug.26 21:00",null,"Aug.26 21:00 UEFA WUC       Paris Saint Germain (w) - Lyon (w)","1907872.htm",null,null,null,null,null,null,null,null,null,null,null,"CZE D2 ","Hradec Kralove","FK Graffin Vlasim","1894184.htm","Aug.26 18:00","http://www.goaloo.co/1x2/1894184.htm",null,"CZE D2 ","Aug.26 18:00","Hradec Kralove",1.5,3.92,5.42,0.60270000000000001,0.23069999999999999,0.1666,0.90359999999999996,"FK Graffin Vlasim","View(123)"]
["NORW ","Klepp (w)","Avaldsnes (w)","1872254.htm","Aug.26 21:00",null,"Aug.26 21:00 NORW       Klepp (w) - Avaldsnes (w)","1872254.htm",null,null,null,null,null,null,null,null,null,null,null,"","","","","","",null,null,null,null,1.51,3.91,5.39,0.6,0.23169999999999999,0.16830000000000001,0.90710000000000002]
["ICE PR ","Stjarnan Gardabaer","KA Akureyri","1832217.htm","Aug.26 21:00",null,"Aug.26 21:00 ICE PR       Stjarnan Gardabaer - KA Akureyri","1832217.htm",null,null,null,null,null,null,null,null,null,null,null,"RUS Cup ","Neftekhimik Nizhnekamsk","Dinamo Briansk","1903370.htm","Aug.26 18:00","http://www.goaloo.co/1x2/1903370.htm",null,"RUS Cup ","Aug.26 18:00","Neftekhimik Nizhnekamsk",1.71,3.61,4.29,0.53449999999999998,0.25290000000000001,0.21260000000000001,0.91279999999999994,"Dinamo Briansk","View(23)"]
["KUW D1 ","Al-Sahel","Al-Salmiyah","1830632.htm","Aug.26 21:00",null,"Aug.26 21:00 KUW D1       Al-Sahel - Al-Salmiyah","1830632.htm",null,null,null,null,null,null,null,null,null,null,null,"","","","","","",null,null,null,null,1.64,3.78,4.5,0.55679999999999996,0.24079999999999999,0.20250000000000001,0.91069999999999995]
["TUN D1 ","U.S.Monastir","US Tataouine","1871874.htm","Aug.26 21:00",null,"Aug.26 21:00 TUN D1       U.S.Monastir - US Tataouine","1871874.htm",null,null,null,null,null,null,null,null,null,null,null,"CZE CFL ","Slovan Rosice","Vysocina Jihlava B","1887056.htm","Aug.26 18:00","http://www.goaloo.co/1x2/1887056.htm",null,"CZE CFL ","Aug.26 18:00","Slovan Rosice",1.43,4.4000000000000004,4.49,0.60850000000000004,0.1978,0.1938,0.87019999999999997,"Vysocina Jihlava B","View(1)"]
["INT CF ","Internacional（w）","Flamengo/RJ (w)","1908471.htm","Aug.26 21:00",null,"Aug.26 21:00 INT CF       Internacional（w） - Flamengo/RJ (w)","1908471.htm",null,null,null,null,null,null,null,null,null,null,null,"","","","","","",null,null,null,null,1.33,5,5.0599999999999996,0.65410000000000001,0.17399999999999999,0.1719,0.87]
["LCE D4","Lettir Reykjavik","KFS Vestmannaeyjar","1908411.htm","Aug.26 21:00",null,"Aug.26 21:00 LCE D4      Lettir Reykjavik - KFS Vestmannaeyjar","1908411.htm",null,null,null,null,null,null,null,null,null,null,null,"LAT D1 ","Metta/LU Riga","Riga FC","1871526.htm","Aug.26 18:00","http://www.goaloo.co/1x2/1871526.htm",null,"LAT D1 ","Aug.26 18:00","Metta/LU Riga",9.4700000000000006,5.56,1.22,9.5399999999999999E-2,0.1623,0.74239999999999995,0.90310000000000001,"Riga FC","View(112)"]
["LCE D4","Ymir","Vatnaliljur","1908412.htm","Aug.26 21:00",null,"Aug.26 21:00 LCE D4      Ymir - Vatnaliljur","1908412.htm",null,null,null,null,null,null,null,null,null,null,null,"","","","","","",null,null,null,null,11.59,6.31,1.1599999999999999,7.7899999999999997E-2,0.1431,0.77900000000000003,0.9032]
["Ire LSL","Newbridge Town","Maynooth University Town FC","1908448.htm","Aug.26 21:00",null,"Aug.26 21:00 Ire LSL      Newbridge Town - Maynooth University Town FC","1908448.htm",null,null,null,null,null,null,null,null,null,null,null,"KAZ PR ","FK Kaspyi Aktau","Kaisar Kyzylorda","1849671.htm","Aug.26 18:00","http://www.goaloo.co/1x2/1849671.htm",null,"KAZ PR ","Aug.26 18:00","FK Kaspyi Aktau",5.51,4.12,1.49,0.16569999999999999,0.22170000000000001,0.61250000000000004,0.91249999999999998,"Kaisar Kyzylorda","View(3)"]
["Swi D1W","Lucerne Women","St Gallen (w)","1908436.htm","Aug.26 21:00",null,"Aug.26 21:00 Swi D1W      Lucerne Women - St Gallen (w)","1908436.htm",null,null,null,null,null,null,null,null,null,null,null,"","","","","","",null,null,null,null,5.51,4.12,1.5,0.16619999999999999,0.2223,0.61150000000000004,0.91520000000000001]
["Swi D1W","Fcf Rapid Lugano (w)","Grasshopper (w)","1908437.htm","Aug.26 21:00",null,"Aug.26 21:00 Swi D1W      Fcf Rapid Lugano (w) - Grasshopper (w)","1908437.htm",null,null,null,null,null,null,null,null,null,null,null,"SWE WD2 ","Jitex DFF (w)","AIK Solna (w)","1871687.htm","Aug.26 18:00","http://www.goaloo.co/1x2/1871687.htm",null,"SWE WD2 ","Aug.26 18:00","Jitex DFF (w)",4.12,5.21,1.44,0.21529999999999999,0.1704,0.61429999999999996,0.88729999999999998,"AIK Solna (w)","View(7)"]
["Swi D1W","Servette (w)","Young Boys (w)","1908438.htm","Aug.26 21:00",null,"Aug.26 21:00 Swi D1W      Servette (w) - Young Boys (w)","1908438.htm",null,null,null,null,null,null,null,null,null,null,null,"","","","","","",null,null,null,null,4.13,5.21,1.45,0.21529999999999999,0.17050000000000001,0.61419999999999997,0.88890000000000002]
["ICE U19L","Fylkir/Ellidi U19","Breidablik Augnablik Smari U19","1908435.htm","Aug.26 21:00",null,"Aug.26 21:00 ICE U19L      Fylkir/Ellidi U19 - Breidablik Augnablik Smari U19","1908435.htm",null,null,null,null,null,null,null,null,null,null,null,"SWE WD2 ","Kvarnsvedens IK (w)","Alingsas (W)","1871688.htm","Aug.26 18:00","http://www.goaloo.co/1x2/1871688.htm",null,"SWE WD2 ","Aug.26 18:00","Kvarnsvedens IK (w)",3.04,4.4800000000000004,1.71,0.28960000000000002,0.1966,0.51380000000000003,0.87970000000000004,"Alingsas (W)","View(4)"]
["BRA SPB ","Monte Azul SP","AA Portuguesa Santista","1833829.htm","Aug.26 21:00",null,"Aug.26 21:00 BRA SPB       Monte Azul SP - AA Portuguesa Santista","1833829.htm",null,null,null,null,null,null,null,null,null,null,null,"","","","","",""]
["BRA SPB ","CA Votuporanguense SP","Sao Caetano","1833830.htm","Aug.26 21:00",null,"Aug.26 21:00 BRA SPB       CA Votuporanguense SP - Sao Caetano","1833830.htm",null,null,null,null,null,null,null,null,null,null,null,"RUS WPL ","FK Ryazan (w)","Lokomotiv Moscow (w)","1903250.htm","Aug.26 18:00","http://www.goaloo.co/1x2/1903250.htm",null,"RUS WPL ","Aug.26 18:00","FK Ryazan (w)",5.16,4.33,1.47,0.17560000000000001,0.20949999999999999,0.6149,0.90669999999999995,"Lokomotiv Moscow (w)","View(23)"]
["BRA SPB ","Atibaia","Rio Claro","1833831.htm","Aug.26 21:00",null,"Aug.26 21:00 BRA SPB       Atibaia - Rio Claro","1833831.htm",null,null,null,null,null,null,null,null,null,null,null,"","","","","","",null,null,null,null,5.29,4.34,1.47,0.1716,0.2094,0.61899999999999999,0.90810000000000002]
["BRA SPB ","Sertaozinho","Taubate","1833833.htm","Aug.26 21:00",null,"Aug.26 21:00 BRA SPB       Sertaozinho - Taubate","1833833.htm",null,null,null,null,null,null,null,null,null,null,null,"Finland K","OTP","HauPa","1908348.htm","Aug.26 18:00","http://www.goaloo.co/1x2/1908348.htm",null,"Finland K","Aug.26 18:00","OTP",1.41,4.95,4.92,0.63719999999999999,0.18090000000000001,0.182,0.89529999999999998,"HauPa","View(4)"]
["BRA SPB ","Sao Bernardo","XV de Piracicaba","1833835.htm","Aug.26 21:00",null,"Aug.26 21:00 BRA SPB       Sao Bernardo - XV de Piracicaba","1833835.htm",null,null,null,null,null,null,null,null,null,null,null,"","","","","","",null,null,null,null,1.29,5.48,6.3,0.69510000000000005,0.16309999999999999,0.14180000000000001,0.89319999999999999]
["BRA SPB ","Portuguesa Desportos","Juventus SP","1833836.htm","Aug.26 21:00",null,"Aug.26 21:00 BRA SPB       Portuguesa Desportos - Juventus SP","1833836.htm",null,null,null,null,null,null,null,null,null,null,null,"Pol D4","Chelmianka Chelm","Sokol Sieniawa","1908377.htm","Aug.26 18:00","http://www.goaloo.co/1x2/1908377.htm",null,"Pol D4","Aug.26 18:00","Chelmianka Chelm",2.4,3.6,2.46,0.37840000000000001,0.25190000000000001,0.36969999999999997,0.90769999999999995,"Sokol Sieniawa","View(18)"]
["TUN D1 ","Club Africain","Esperance Sportive de Tunis","1871869.htm","Aug.26 21:10",null,"Aug.26 21:10 TUN D1       Club Africain - Esperance Sportive de Tunis","1871869.htm",null,null,null,null,null,null,null,null,null,null,null,"","","","","","",null,null,null,null,2.14,3.61,2.76,0.42220000000000002,0.25019999999999998,0.32769999999999999,0.90300000000000002]
["UEFA CL ","Celtic FC","Ferencvarosi TC","1904152.htm","Aug.26 21:45",null,"Aug.26 21:45 UEFA CL       Celtic FC - Ferencvarosi TC","1904152.htm",null,null,null,null,null,null,null,null,null,null,null,"Pol D4","Korona II Kielce","Cracovia II","1908378.htm","Aug.26 18:00","http://www.goaloo.co/1x2/1908378.htm",null,"Pol D4","Aug.26 18:00","Korona II Kielce",2.75,3.64,2.2799999999999998,0.33810000000000001,0.25519999999999998,0.40660000000000002,0.92900000000000005,"Cracovia II","View(17)"]
["Ire LSL","St John Bosco","Dunboyne AFC","1908449.htm","Aug.26 21:45",null,"Aug.26 21:45 Ire LSL      St John Bosco - Dunboyne AFC","1908449.htm",null,null,null,null,null,null,null,null,null,null,null,"","","","","","",null,null,null,null,3.18,3.65,2.02,0.28999999999999998,0.25259999999999999,0.45739999999999997,0.92220000000000002]
["EGY D1 ","EL Ahly","El Gounah","1799536.htm","Aug.26 22:00",null,"Aug.26 22:00 EGY D1       EL Ahly - El Gounah","1799536.htm",null,null,null,null,null,null,null,null,null,null,null,"Pol D4","Lewart Lubartow","LKS Lagow","1908379.htm","Aug.26 18:00","http://www.goaloo.co/1x2/1908379.htm",null,"Pol D4","Aug.26 18:00","Lewart Lubartow",2.38,3.6,2.48,0.38150000000000001,0.252,0.36649999999999999,0.90700000000000003,"LKS Lagow","View(20)"]
["MAR D1 ","Renaissance Sportive de Berkane","FAR Forces Armee Royales","1795997.htm","Aug.26 22:00",null,"Aug.26 22:00 MAR D1       Renaissance Sportive de Berkane - FAR Forces Armee Royales","1795997.htm",null,null,null,null,null,null,null,null,null,null,null,"","","","","","",null,null,null,null,2.37,3.56,2.52,0.38340000000000002,0.25509999999999999,0.36149999999999999,0.90900000000000003]
["BRA CUP ","CRB AL","Cruzeiro (MG)","1857887.htm","Aug.26 22:00",null,"Aug.26 22:00 BRA CUP       CRB AL - Cruzeiro (MG)","1857887.htm",null,null,null,null,null,null,null,null,null,null,null,"Pol D4","Podhale Nowy","Podlasie Biala Podlaska","1908380.htm","Aug.26 18:00","http://www.goaloo.co/1x2/1908380.htm",null,"Pol D4","Aug.26 18:00","Podhale Nowy",1.28,5.44,7.36,0.70920000000000005,0.16719999999999999,0.1236,0.90949999999999998,"Podlasie Biala Podlaska","View(16)"]
["BRA CUP ","America FC Natal RN","Juventude","1857888.htm","Aug.26 22:00",null,"Aug.26 22:00 BRA CUP       America FC Natal RN - Juventude","1857888.htm",null,null,null,null,null,null,null,null,null,null,null,"","","","","","",null,null,null,null,1.28,5.47,7.42,0.71089999999999998,0.16639999999999999,0.1227,0.91080000000000005]
["INT CF ","NSI Runavik (W)","HB Torshavn (W)","1908465.htm","Aug.26 22:00",null,"Aug.26 22:00 INT CF       NSI Runavik (W) - HB Torshavn (W)","1908465.htm",null,null,null,null,null,null,null,null,null,null,null,"Pol D4","Siarka Tarnobrzeg","Stal Krasnik","1908381.htm","Aug.26 18:00","http://www.goaloo.co/1x2/1908381.htm",null,"Pol D4","Aug.26 18:00","Siarka Tarnobrzeg",1.62,3.84,4.37,0.55800000000000005,0.23519999999999999,0.20669999999999999,0.90269999999999995,"Stal Krasnik","View(9)"]
["INT CF ","Cliftonville LFC (w)","Glentoran (w)","1908467.htm","Aug.26 22:00",null,"Aug.26 22:00 INT CF       Cliftonville LFC (w) - Glentoran (w)","1908467.htm",null,null,null,null,null,null,null,null,null,null,null,"","","","","","",null,null,null,null,1.62,3.83,4.37,0.55759999999999998,0.23580000000000001,0.20660000000000001,0.90210000000000001]
["INT CF ","Linfield (w)","Crusaders Strikers (w)","1908468.htm","Aug.26 22:00",null,"Aug.26 22:00 INT CF       Linfield (w) - Crusaders Strikers (w)","1908468.htm",null,null,null,null,null,null,null,null,null,null,null,"Pol D4","Wisla Sandomierz","KS Wiazownica","1908382.htm","Aug.26 18:00","http://www.goaloo.co/1x2/1908382.htm",null,"Pol D4","Aug.26 18:00","Wisla Sandomierz",1.37,4.5599999999999996,6.57,0.6633,0.1988,0.13789999999999999,0.90649999999999997,"KS Wiazownica","View(9)"]
["Ire LSL","Templeogue United FC","Drumcondra FC","1908450.htm","Aug.26 22:00",null,"Aug.26 22:00 Ire LSL      Templeogue United FC - Drumcondra FC","1908450.htm",null,null,null,null,null,null,null,null,null,null,null,"","","","","","",null,null,null,null,1.35,4.54,6.94,0.67079999999999995,0.19889999999999999,0.1303,0.90410000000000001]
["Ire LSL","Greystones","UCD AFC","1908452.htm","Aug.26 22:00",null,"Aug.26 22:00 Ire LSL      Greystones - UCD AFC","1908452.htm",null,null,null,null,null,null,null,null,null,null,null,"Pol D4","Wisloka Debica","Wisla Pulawy","1908383.htm","Aug.26 18:00","http://www.goaloo.co/1x2/1908383.htm",null,"Pol D4","Aug.26 18:00","Wisloka Debica",3.24,3.76,1.91,0.28079999999999999,0.24249999999999999,0.47670000000000001,0.91069999999999995,"Wisla Pulawy","View(21)"]
["ICE PR ","HK Kopavogs","Grotta Seltjarnarnes","1832288.htm","Aug.26 22:15",null,"Aug.26 22:15 ICE PR       HK Kopavogs - Grotta Seltjarnarnes","1832288.htm",null,null,null,null,null,null,null,null,null,null,null,"","","","","","",null,null,null,null,3.79,3.87,1.74,0.24060000000000001,0.2356,0.52380000000000004,0.91080000000000005]
["ECU D1 ","CD El Nacional","Olmedo Riobamba","1897529.htm","Aug.26 22:30",null,"Aug.26 22:30 ECU D1       CD El Nacional - Olmedo Riobamba","1897529.htm",null,null,null,null,null,null,null,null,null,null,null,"CZE DFL 5","Haj ve Slezsku","Pusta Polom","1908440.htm","Aug.26 18:00","http://www.goaloo.co/1x2/1908440.htm",null,"CZE DFL 5","Aug.26 18:00","Haj ve Slezsku",2.2999999999999998,4.0999999999999996,2.2799999999999998,0.38879999999999998,0.21809999999999999,0.3931,0.89419999999999999,"Pusta Polom","View(2)"]
["LCE D4","Hond Midasar","KB(ICE)","1908413.htm","Aug.26 23:00",null,"Aug.26 23:00 LCE D4      Hond Midasar - KB(ICE)","1908413.htm",null,null,null,null,null,null,null,null,null,null,null,"","","","","",""]
["LCE D3","Ellidi","Vaengir Jupiters","1908439.htm","Aug.26 23:00",null,"Aug.26 23:00 LCE D3      Ellidi - Vaengir Jupiters","1908439.htm",null,null,null,null,null,null,null,null,null,null,null,"CZE DFL 5","Koberice","TJ Bystrice","1908451.htm","Aug.26 18:00","http://www.goaloo.co/1x2/1908451.htm",null,"CZE DFL 5","Aug.26 18:00","Koberice",2.75,4,2,0.32650000000000001,0.22450000000000001,0.44900000000000001,0.89790000000000003,"TJ Bystrice","View(1)"]
["PAR D1 ","Guay Leena","Cerro Porteno","1903308.htm","Aug.26 23:30",null,"Aug.26 23:30 PAR D1       Guay Leena - Cerro Porteno","1903308.htm",null,null,null,null,null,null,null,null,null,null,null,"","","","","",""]
["MAR D1 ","IRT Itihad de Tanger","Renaissance Zmamra","1795999.htm","Aug.27 00:00",null,"Aug.27 00:00 MAR D1       IRT Itihad de Tanger - Renaissance Zmamra","1795999.htm",null,null,null,null,null,null,null,null,null,null,null,"FIN WD1 ","PK-35 RY (w)","PK-35 Vantaa (w)","1870866.htm","Aug.26 18:00","http://www.goaloo.co/1x2/1870866.htm",null,"FIN WD1 ","Aug.26 18:00","PK-35 RY (w)",2.2200000000000002,3.58,2.62,0.40560000000000002,0.25109999999999999,0.34329999999999999,0.89980000000000004,"PK-35 Vantaa (w)","View(31)"]
["ECU D1 ","Club Sport Emelec","Pottu Via Ho","1897524.htm","Aug.27 00:45",null,"Aug.27 00:45 ECU D1       Club Sport Emelec - Pottu Via Ho","1897524.htm",null,null,null,null,null,null,null,null,null,null,null,"","","","","","",null,null,null,null,2.17,3.59,2.73,0.41699999999999998,0.25180000000000002,0.33119999999999999,0.90290000000000004]
["BRA D1 ","Sao Paulo","Atletico Paranaense","1858680.htm","Aug.27 01:00",null,"Aug.27 01:00 BRA D1       Sao Paulo - Atletico Paranaense","1858680.htm",null,null,null,null,null,null,null,null,null,null,null,"RUS PR ","Rotor Volgograd","Spartak Moscow","1886605.htm","Aug.26 18:30","http://www.goaloo.co/1x2/1886605.htm",null,"RUS PR ","Aug.26 18:30","Rotor Volgograd",5.6,3.78,1.57,0.16539999999999999,0.24490000000000001,0.5897,0.92559999999999998,"Spartak Moscow","View(183)"]
["BRA CUP ","Parana PR","Botafogo RJ","1857889.htm","Aug.27 01:00",null,"Aug.27 01:00 BRA CUP       Parana PR - Botafogo RJ","1857889.htm",null,null,null,null,null,null,null,null,null,null,null,"","","","","","",null,null,null,null,6.17,3.75,1.55,0.15079999999999999,0.24790000000000001,0.60129999999999995,0.93]
["Brazil L","Vasco AC","Rio Branco AC","1908453.htm","Aug.27 01:00",null,"Aug.27 01:00 Brazil L      Vasco AC - Rio Branco AC","1908453.htm",null,null,null,null,null,null,null,null,null,null,null,"RUS PR ","Rubin Kazan","FC Ufa","1886608.htm","Aug.26 18:30","http://www.goaloo.co/1x2/1886608.htm",null,"RUS PR ","Aug.26 18:30","Rubin Kazan",2.08,2.97,3.78,0.44409999999999999,0.31090000000000001,0.245,0.92500000000000004,"FC Ufa","View(186)"]
["INT CF ","SC Corinthians Paulista (w)","Ferroviaria SP (w)","1908470.htm","Aug.27 01:30",null,"Aug.27 01:30 INT CF       SC Corinthians Paulista (w) - Ferroviaria SP (w)","1908470.htm",null,null,null,null,null,null,null,null,null,null,null,"","","","","","",null,null,null,null,1.96,3.04,4.21,0.47439999999999999,0.30520000000000003,0.2203,0.92830000000000001]
["USL D1 ","Charlotte Independence","North Carolina","1875961.htm","Aug.27 02:00",null,"Aug.27 02:00 USL D1       Charlotte Independence - North Carolina","1875961.htm",null,null,null,null,null,null,null,null,null,null,null,"RUS PR ","Lokomotiv Moscow","Terek Grozny","1886612.htm","Aug.26 18:30","http://www.goaloo.co/1x2/1886612.htm",null,"RUS PR ","Aug.26 18:30","Lokomotiv Moscow",1.67,3.58,5.03,0.55549999999999999,0.25979999999999998,0.1847,0.92930000000000001,"Terek Grozny","View(185)"]
["MLS ","Orlando City","Nashville","1896897.htm","Aug.27 02:30",null,"Aug.27 02:30 MLS       Orlando City - Nashville","1896897.htm",null,null,null,null,null,null,null,null,null,null,null,"","","","","","",null,null,null,null,1.86,3.38,4.12,0.50019999999999998,0.27450000000000002,0.2253,0.92920000000000003]
["PAR D1 ","12 de Octubre","Olimpia Asuncion","1903313.htm","Aug.27 02:30",null,"Aug.27 02:30 PAR D1       12 de Octubre - Olimpia Asuncion","1903313.htm",null,null,null,null,null,null,null,null,null,null,null,"FIN D1 ","FC Haka","Lahti","1869974.htm","Aug.26 18:30","http://www.goaloo.co/1x2/1869974.htm",null,"FIN D1 ","Aug.26 18:30","FC Haka",2.4,3.37,2.67,0.38319999999999999,0.2727,0.34410000000000002,0.92,"Lahti","View(187)"]
["USL D1 ","Charleston Battery","Miami FC","1876048.htm","Aug.27 02:30",null,"Aug.27 02:30 USL D1       Charleston Battery - Miami FC","1876048.htm",null,null,null,null,null,null,null,null,null,null,null,"","","","","","",null,null,null,null,2.5299999999999998,3.4,2.5499999999999998,0.3659,0.27160000000000001,0.36249999999999999,0.92469999999999997]
["MLS ","Club Internacional de Futbol Miami","Atlanta United","1896898.htm","Aug.27 03:00",null,"Aug.27 03:00 MLS       Club Internacional de Futbol Miami - Atlanta United","1896898.htm",null,null,null,null,null,null,null,null,null,null,null,"FIN D1 ","HJK Helsinki","SJK Seinajoen","1869975.htm","Aug.26 18:30","http://www.goaloo.co/1x2/1869975.htm",null,"FIN D1 ","Aug.26 18:30","HJK Helsinki",1.38,4.42,7.35,0.66610000000000003,0.20860000000000001,0.12529999999999999,0.92149999999999999,"SJK Seinajoen","View(185)"]
["INT CF ","Nauas AC","Placido de Castro","1908472.htm","Aug.27 03:00",null,"Aug.27 03:00 INT CF       Nauas AC - Placido de Castro","1908472.htm",null,null,null,null,null,null,null,null,null,null,null,"","","","","","",null,null,null,null,1.32,4.79,9.0299999999999994,0.70420000000000005,0.1933,0.10249999999999999,0.92630000000000001]
["USL D1 ","Louisville City FC","Indy Eleven","1876049.htm","Aug.27 03:00",null,"Aug.27 03:00 USL D1       Louisville City FC - Indy Eleven","1876049.htm",null,null,null,null,null,null,null,null,null,null,null,"FIN D1 ","IFK Mariehamn","RoPS Rovaniemi","1869976.htm","Aug.26 18:30","http://www.goaloo.co/1x2/1869976.htm",null,"FIN D1 ","Aug.26 18:30","IFK Mariehamn",1.61,3.86,4.8099999999999996,0.57030000000000003,0.23810000000000001,0.1915,0.92030000000000001,"RoPS Rovaniemi","View(187)"]
["ECU D1 ","Guayaquil City","Barcelona SC(ECU)","1897530.htm","Aug.27 03:00",null,"Aug.27 03:00 ECU D1       Guayaquil City - Barcelona SC(ECU)","1897530.htm",null,null,null,null,null,null,null,null,null,null,null,"","","","","","",null,null,null,null,1.59,3.98,5,0.58260000000000001,0.2324,0.18509999999999999,0.92579999999999996]
["MLS ","FC Dallas","Colorado Rapids","1896899.htm","Aug.27 03:30",null,"Aug.27 03:30 MLS       FC Dallas - Colorado Rapids","1896899.htm",null,null,null,null,null,null,null,null,null,null,null,"FIN D1 ","TPS Turku","HIFK","1869977.htm","Aug.26 18:30","http://www.goaloo.co/1x2/1869977.htm",null,"FIN D1 ","Aug.26 18:30","TPS Turku",2.96,3.19,2.29,0.31069999999999998,0.28839999999999999,0.40089999999999998,0.91959999999999997,"HIFK","View(185)"]
["BRA D1 ","Corinthians Paulista (SP)","Fortaleza","1858623.htm","Aug.27 03:30",null,"Aug.27 03:30 BRA D1       Corinthians Paulista (SP) - Fortaleza","1858623.htm",null,null,null,null,null,null,null,null,null,null,null,"","","","","","",null,null,null,null,3.07,3.17,2.27,0.30099999999999999,0.2913,0.40770000000000001,0.92459999999999998]
["BRA CUP ","Vitoria BA","Ceara","1857883.htm","Aug.27 03:30",null,"Aug.27 03:30 BRA CUP       Vitoria BA - Ceara","1857883.htm",null,null,null,null,null,null,null,null,null,null,null,"GER Reg ","FSV Union Furstenwalde","Carl Zeiss Jena","1886072.htm","Aug.26 18:30","http://www.goaloo.co/1x2/1886072.htm",null,"GER Reg ","Aug.26 18:30","FSV Union Furstenwalde",2.86,3.38,2.19,0.31690000000000002,0.26860000000000001,0.41449999999999998,0.90700000000000003,"Carl Zeiss Jena","View(109)"]
["BRA CUP ","Goias","Vasco da Gama","1858096.htm","Aug.27 03:30",null,"Aug.27 03:30 BRA CUP       Goias - Vasco da Gama","1858096.htm",null,null,null,null,null,null,null,null,null,null,null,"","","","","","",null,null,null,null,2.84,3.49,2.17,0.32069999999999999,0.26090000000000002,0.41849999999999998,0.90980000000000005]
["BRA CGD1 ","Caxias RS","Gremio (RS)","1908245.htm","Aug.27 03:30",null,"Aug.27 03:30 BRA CGD1       Caxias RS - Gremio (RS)","1908245.htm",null,null,null,null,null,null,null,null,null,null,null,"FIN D2 ","Mypa","MP MIKELI","1870180.htm","Aug.26 18:30","http://www.goaloo.co/1x2/1870180.htm",null,"FIN D2 ","Aug.26 18:30","Mypa",3.1,3.56,2.0299999999999998,0.29430000000000001,0.25590000000000002,0.44979999999999998,0.91180000000000005,"MP MIKELI","View(168)"]
["BRA MG ","Atletico Mineiro","Tombense","1904255.htm","Aug.27 03:30",null,"Aug.27 03:30 BRA MG       Atletico Mineiro - Tombense","1904255.htm",null,null,null,null,null,null,null,null,null,null,null,{"$f":"IF(W258=\"\",\"\",AA258)","v":""},{"$f":"IF(W258=\"\",\"\",AC258)","v":""},{"$f":"IF(W258=\"\",\"\",AK258)","v":""},{"$f":"IFERROR(IF(Y258=\"\",\"\",MID(Y258,SEARCH(\"1x2/\",Y258,1) + 4,LEN(Y258))),\"\")","v":""},{"$f":"IF(W258=\"\",\"\",AB258)","v":""},{"$f":"HLink(AL258)","v":""},null,null,null,null,3.16,3.58,2.0099999999999998,0.28920000000000001,0.25559999999999999,0.45529999999999998,0.91469999999999996]
["USL D1 ","Colorado Springs Switchbacks FC","Austin Bold","1875958.htm","Aug.27 04:00",null,{"$f":"IF(D259=\"\",\"\",E259&\" \"&A259&\" \"&\"    \"&\" \"&B259&\" - \"&C259)","v":"Aug.27 04:00 USL D1       Colorado Springs Switchbacks FC - Austin Bold"},{"$f":"IF(G259=\"\",\"\",D259)","v":"1875958.htm"},null,null,null,null,null,null,null,null,null,null,null,"FIN D3 A ","VIFK","GBK Kokkola","1870769.htm","Aug.26 18:30","http://www.goaloo.co/1x2/1870769.htm",null,"FIN D3 A ","Aug.26 18:30","VIFK",3.11,3.95,1.91,0.2923,0.23019999999999999,0.47739999999999999,0.91,"GBK Kokkola","View(35)"]
["MLS ","Real Salt Lake","Los Angeles FC","1896900.htm","Aug.27 04:30",null,"Aug.27 04:30 MLS       Real Salt Lake - Los Angeles FC","1896900.htm",null,null,null,null,null,null,null,null,null,null,null,"","","","","","",null,null,null,null,3.13,3.95,1.9,0.29060000000000002,0.2306,0.4788,0.91020000000000001]
["MLS ","San Jose Earthquakes","Portland Timbers","1896901.htm","Aug.27 05:30",null,"Aug.27 05:30 MLS       San Jose Earthquakes - Portland Timbers","1896901.htm",null,null,null,null,null,null,null,null,null,null,null,"CZEC ","Stara Rise","Vysocina jihlava","1902038.htm","Aug.26 18:30","http://www.goaloo.co/1x2/1902038.htm",null,"CZEC ","Aug.26 18:30","Stara Rise",11,7.22,1.1499999999999999,8.2699999999999996E-2,0.126,0.79120000000000001,0.90969999999999995,"Vysocina jihlava","View(1)"]
["USL D1 ","Portland Timbers Reserve","Los Angeles Galaxy II","1876050.htm","Aug.27 05:30",null,"Aug.27 05:30 USL D1       Portland Timbers Reserve - Los Angeles Galaxy II","1876050.htm",null,null,null,null,null,null,null,null,null,null,null,"","","","","",""]
["MLS ","LA Galaxy","Seattle Sounders","1896892.htm","Aug.27 06:00",null,"Aug.27 06:00 MLS       LA Galaxy - Seattle Sounders","1896892.htm",null,null,null,null,null,null,null,null,null,null,null,"CZEC ","TJ Skastice","Vyskov","1902042.htm","Aug.26 18:30","http://www.goaloo.co/1x2/1902042.htm",null,"CZEC ","Aug.26 18:30","TJ Skastice",5.15,4.22,1.49,0.17610000000000001,0.215,0.60880000000000001,0.90739999999999998,"Vyskov","View(70)"]
[null,null,null,null,null,null,"","",null,null,null,null,null,null,null,null,null,null,null,"","","","","","",null,null,null,null,5.18,4.26,1.49,0.17549999999999999,0.21340000000000001,0.61109999999999998,0.90849999999999997]
[null,null,null,null,null,null,"","",null,null,null,null,null,null,null,null,null,null,null,"CZEC ","Sokol Lanzho","Lisen","1902045.htm","Aug.26 18:30","http://www.goaloo.co/1x2/1902045.htm",null,"CZEC ","Aug.26 18:30","Sokol Lanzho",9,6.47,1.2,0.1011,0.1406,0.75829999999999997,0.90990000000000004,"Lisen","View(1)"]
[null,null,null,null,null,null,"","",null,null,null,null,null,null,null,null,null,null,null,"","","","","",""]
[null,null,null,null,null,null,"","",null,null,null,null,null,null,null,null,null,null,null,"RUS Cup ","Veles","Baltika Kaliningrad","1903373.htm","Aug.26 18:30","http://www.goaloo.co/1x2/1903373.htm",null,"RUS Cup ","Aug.26 18:30","Veles",2.46,3.2,2.72,0.37430000000000002,0.2878,0.33789999999999998,0.92,"Baltika Kaliningrad","View(24)"]
[null,null,null,null,null,null,"","",null,null,null,null,null,null,null,null,null,null,null,"","","","","","",null,null,null,null,2.5,3.17,2.6,0.36330000000000001,0.28639999999999999,0.3503,0.90900000000000003]
[null,null,null,null,null,null,"","",null,null,null,null,null,null,null,null,null,null,null,"HUN D2E ","Budaorsi SC","Vasas","1884193.htm","Aug.26 18:30","http://www.goaloo.co/1x2/1884193.htm",null,"HUN D2E ","Aug.26 18:30","Budaorsi SC",3.71,3.49,1.83,0.2442,0.2596,0.49619999999999997,0.90629999999999999,"Vasas","View(46)"]
[null,null,null,null,null,null,"","",null,null,null,null,null,null,null,null,null,null,null,"","","","","","",null,null,null,null,3.59,3.5,1.86,0.25240000000000001,0.25900000000000001,0.48859999999999998,0.90700000000000003]
[null,null,null,null,null,null,"","",null,null,null,null,null,null,null,null,null,null,null,"HUN D2E ","Szentlorinc SE","Kaposvar","1884194.htm","Aug.26 18:30","http://www.goaloo.co/1x2/1884194.htm",null,"HUN D2E ","Aug.26 18:30","Szentlorinc SE",3.41,3.32,1.95,0.26479999999999998,0.27210000000000001,0.46310000000000001,0.90200000000000002,"Kaposvar","View(49)"]
[null,null,null,null,null,null,"","",null,null,null,null,null,null,null,null,null,null,null,"","","","","","",null,null,null,null,3.42,3.35,1.94,0.26429999999999998,0.26989999999999997,0.46579999999999999,0.90310000000000001]
[null,null,null,null,null,null,"","",null,null,null,null,null,null,null,null,null,null,null,"TUN D1 ","Stade tunisien","AS Slimane","1871872.htm","Aug.26 18:30","http://www.goaloo.co/1x2/1871872.htm",null,"TUN D1 ","Aug.26 18:30","Stade tunisien",1.94,3.13,3.72,0.46700000000000003,0.28960000000000002,0.24340000000000001,0.90569999999999995,"AS Slimane","View(19)"]
[null,null,null,null,null,null,"","",null,null,null,null,null,null,null,null,null,null,null,"","","","","","",null,null,null,null,1.95,3.12,3.73,0.46600000000000003,0.29089999999999999,0.24310000000000001,0.90669999999999995]
[null,null,null,null,null,null,"","",null,null,null,null,null,null,null,null,null,null,null,"INT CF ","TSV Hartberg","Hannover 96","1908419.htm","Aug.26 18:30","http://www.goaloo.co/1x2/1908419.htm",null,"INT CF ","Aug.26 18:30","TSV Hartberg",3.57,3.87,1.83,0.25829999999999997,0.2384,0.50329999999999997,0.92279999999999995,"Hannover 96","View(12)"]
[null,null,null,null,null,null,"","",null,null,null,null,null,null,null,null,null,null,null,"","","","","","",null,null,null,null,4.24,4.05,1.67,0.21829999999999999,0.2281,0.55359999999999998,0.92449999999999999]
[null,null,null,null,null,null,"","",null,null,null,null,null,null,null,null,null,null,null,"Finland K","BK-46 Karis Karjaa","CLE","1908349.htm","Aug.26 18:30","http://www.goaloo.co/1x2/1908349.htm",null,"Finland K","Aug.26 18:30","BK-46 Karis Karjaa",2.0099999999999998,4.2699999999999996,2.64,0.44879999999999998,0.21079999999999999,0.34050000000000002,0.90029999999999999,"CLE","View(10)"]
[null,null,null,null,null,null,"","",null,null,null,null,null,null,null,null,null,null,null,"","","","","","",null,null,null,null,2.02,4.2,2.68,0.44779999999999998,0.2152,0.33700000000000002,0.90459999999999996]
[null,null,null,null,null,null,"","",null,null,null,null,null,null,null,null,null,null,null,"Finland K","VPV Pallo-Veikot","Korsnas FF","1908352.htm","Aug.26 18:30","http://www.goaloo.co/1x2/1908352.htm",null,"Finland K","Aug.26 18:30","VPV Pallo-Veikot",1.81,4.43,3,0.49640000000000001,0.2034,0.30020000000000002,0.90010000000000001,"Korsnas FF","View(9)"]
[null,null,null,null,null,null,"","",null,null,null,null,null,null,null,null,null,null,null,"","","","","","",null,null,null,null,1.83,4.3600000000000003,3.03,0.49409999999999998,0.20760000000000001,0.29830000000000001,0.90480000000000005]
[null,null,null,null,null,null,"","",null,null,null,null,null,null,null,null,null,null,null,"HUN D3E","Dunaujvaros Palhalma Agrospecial","Kozarmisleny SE","1908356.htm","Aug.26 18:30","http://www.goaloo.co/1x2/1908356.htm",null,"HUN D3E","Aug.26 18:30","Dunaujvaros Palhalma Agrospecial",2.42,3.52,2.42,0.37230000000000002,0.25569999999999998,0.372,0.90029999999999999,"Kozarmisleny SE","View(17)"]
[null,null,null,null,null,null,"","",null,null,null,null,null,null,null,null,null,null,null,"","","","","","",null,null,null,null,2.4300000000000002,3.5,2.4300000000000002,0.37119999999999997,0.25790000000000002,0.37090000000000001,0.90249999999999997]
[null,null,null,null,null,null,"","",null,null,null,null,null,null,null,null,null,null,null,"HUN D3E","FC Dabas","Ferencvarosi TC B","1908357.htm","Aug.26 18:30","http://www.goaloo.co/1x2/1908357.htm",null,"HUN D3E","Aug.26 18:30","FC Dabas",2.0099999999999998,3.61,3,0.44929999999999998,0.25,0.30070000000000002,0.90210000000000001,"Ferencvarosi TC B","View(9)"]
[null,null,null,null,null,null,"","",null,null,null,null,null,null,null,null,null,null,null,"","","","","","",null,null,null,null,2.0099999999999998,3.6,3.01,0.44969999999999999,0.2505,0.29980000000000001,0.90290000000000004]
[null,null,null,null,null,null,"","",null,null,null,null,null,null,null,null,null,null,null,"HUN D3E","UFC Nagykanizsa","RCO Agde","1908358.htm","Aug.26 18:30","http://www.goaloo.co/1x2/1908358.htm",null,"HUN D3E","Aug.26 18:30","UFC Nagykanizsa",3.78,3.78,1.73,0.23880000000000001,0.23880000000000001,0.52249999999999996,0.90149999999999997,"RCO Agde","View(2)"]
[null,null,null,null,null,null,"","",null,null,null,null,null,null,null,null,null,null,null,"","","","","",""]
[null,null,null,null,null,null,"","",null,null,null,null,null,null,null,null,null,null,null,"HUN D3E","Jaszberenyi FC","Balassagyarmat SE","1908359.htm","Aug.26 18:30","http://www.goaloo.co/1x2/1908359.htm",null,"HUN D3E","Aug.26 18:30","Jaszberenyi FC",1.36,4.75,6,0.66090000000000004,0.18920000000000001,0.14979999999999999,0.89880000000000004,"Balassagyarmat SE","View(3)"]
[null,null,null,null,null,null,"","",null,null,null,null,null,null,null,null,null,null,null,"","","","","",""]
[null,null,null,null,null,null,"","",null,null,null,null,null,null,null,null,null,null,null,"HUN D3E","Lipot Pekseg","Nagyatadi FC","1908360.htm","Aug.26 18:30","http://www.goaloo.co/1x2/1908360.htm",null,"HUN D3E","Aug.26 18:30","Lipot Pekseg",2.0099999999999998,3.61,3,0.44940000000000002,0.25,0.30059999999999998,0.90190000000000003,"Nagyatadi FC","View(10)"]
[null,null,null,null,null,null,"","",null,null,null,null,null,null,null,null,null,null,null,"","","","","","",null,null,null,null,2,3.62,3.01,0.4511,0.24940000000000001,0.29959999999999998,0.90169999999999995]
[null,null,null,null,null,null,"","",null,null,null,null,null,null,null,null,null,null,null,"HUN D3E","Majosi SE","Ujpesti TE B","1908361.htm","Aug.26 18:30","http://www.goaloo.co/1x2/1908361.htm",null,"HUN D3E","Aug.26 18:30","Majosi SE",3.6,3.61,1.81,0.25069999999999998,0.25,0.49919999999999998,0.90280000000000005,"Ujpesti TE B","View(8)"]
[null,null,null,null,null,null,"","",null,null,null,null,null,null,null,null,null,null,null,"","","","","",""]
[null,null,null,null,null,null,"","",null,null,null,null,null,null,null,null,null,null,null,"HUN D3E","MOL Fehervar FC II","Komarom VSE","1908362.htm","Aug.26 18:30","http://www.goaloo.co/1x2/1908362.htm",null,"HUN D3E","Aug.26 18:30","MOL Fehervar FC II",3,3.6,2,0.3,0.25,0.45,0.9,"Komarom VSE","View(5)"]
[null,null,null,null,null,null,"","",null,null,null,null,null,null,null,null,null,null,null,"","","","","",""]
[null,null,null,null,null,null,"","",null,null,null,null,null,null,null,null,null,null,null,"HUN D3E","Monori SE","Paksi B","1908363.htm","Aug.26 18:30","http://www.goaloo.co/1x2/1908363.htm",null,"HUN D3E","Aug.26 18:30","Monori SE",1.5,4.0199999999999996,5.05,0.59909999999999997,0.22309999999999999,0.17780000000000001,0.89690000000000003,"Paksi B","View(17)"]
[null,null,null,null,null,null,"","",null,null,null,null,null,null,null,null,null,null,null,"","","","","","",null,null,null,null,1.5,4.04,5.0599999999999996,0.59970000000000001,0.2225,0.17780000000000001,0.89990000000000003]
[null,null,null,null,null,null,"","",null,null,null,null,null,null,null,null,null,null,null,"HUN D3E","MTE Mosonmagyarovar","Zalaegerszegi TE II","1908364.htm","Aug.26 18:30","http://www.goaloo.co/1x2/1908364.htm",null,"HUN D3E","Aug.26 18:30","MTE Mosonmagyarovar",1.59,3.77,4.72,0.5696,0.2392,0.19120000000000001,0.90280000000000005,"Zalaegerszegi TE II","View(8)"]
[null,null,null,null,null,null,"","",null,null,null,null,null,null,null,null,null,null,null,"","","","","",""]
[null,null,null,null,null,null,"","",null,null,null,null,null,null,null,null,null,null,null,"HUN D3E","Papai Perutz","Puskas Academy II","1908365.htm","Aug.26 18:30","http://www.goaloo.co/1x2/1908365.htm",null,"HUN D3E","Aug.26 18:30","Papai Perutz",2.13,3.55,2.84,0.42599999999999999,0.255,0.31900000000000001,0.9052,"Puskas Academy II","View(4)"]
[null,null,null,null,null,null,"","",null,null,null,null,null,null,null,null,null,null,null,"","","","","",""]
[null,null,null,null,null,null,"","",null,null,null,null,null,null,null,null,null,null,null,"HUN D3E","Szegedi VSE","Taksony SE","1908366.htm","Aug.26 18:30","http://www.goaloo.co/1x2/1908366.htm",null,"HUN D3E","Aug.26 18:30","Szegedi VSE",3.34,3.51,1.89,0.26910000000000001,0.25580000000000003,0.47510000000000002,0.89839999999999998,"Taksony SE","View(14)"]
[null,null,null,null,null,null,"","",null,null,null,null,null,null,null,null,null,null,null,"","","","","","",null,null,null,null,3.36,3.53,1.89,0.26769999999999999,0.25519999999999998,0.47710000000000002,0.90059999999999996]
[null,null,null,null,null,null,"","",null,null,null,null,null,null,null,null,null,null,null,"Croatia U19 L","Rijeka U19","NK Orijent U19","1908387.htm","Aug.26 18:30","http://www.goaloo.co/1x2/1908387.htm",null,"Croatia U19 L","Aug.26 18:30","Rijeka U19",1.33,4.99,5.98,0.67130000000000001,0.1792,0.14960000000000001,0.89370000000000005,"NK Orijent U19","View(8)"]
[null,null,null,null,null,null,"","",null,null,null,null,null,null,null,null,null,null,null,"","","","","",""]
[null,null,null,null,null,null,"","",null,null,null,null,null,null,null,null,null,null,null,"Croatia U19 L","ZNK Osijek U19","Zagreb locomotive U19","1908388.htm","Aug.26 18:30","http://www.goaloo.co/1x2/1908388.htm",null,"Croatia U19 L","Aug.26 18:30","ZNK Osijek U19",2.4900000000000002,3.74,2.25,0.36070000000000002,0.24,0.39939999999999998,0.89659999999999995,"Zagreb locomotive U19","View(12)"]
[null,null,null,null,null,null,"","",null,null,null,null,null,null,null,null,null,null,null,"","","","","","",null,null,null,null,2.5,3.74,2.2599999999999998,0.36059999999999998,0.2407,0.39879999999999999,0.9]
[null,null,null,null,null,null,"","",null,null,null,null,null,null,null,null,null,null,null,"CRO D3","NK Cepin","NK Bedem Ivankovo","1908431.htm","Aug.26 18:30","http://www.goaloo.co/1x2/1908431.htm",null,"CRO D3","Aug.26 18:30","NK Cepin",2,3.3,3.25,0.45019999999999999,0.27279999999999999,0.27700000000000002,0.90039999999999998,"NK Bedem Ivankovo","View(3)"]
[null,null,null,null,null,null,"","",null,null,null,null,null,null,null,null,null,null,null,"","","","","",""]
[null,null,null,null,null,null,"","",null,null,null,null,null,null,null,null,null,null,null,"CRO D3","NK Kutjevo","NK Marsonia 1909","1908432.htm","Aug.26 18:30","http://www.goaloo.co/1x2/1908432.htm",null,"CRO D3","Aug.26 18:30","NK Kutjevo",3.25,3.3,2,0.27700000000000002,0.27279999999999999,0.45019999999999999,0.90029999999999999,"NK Marsonia 1909","View(3)"]
[null,null,null,null,null,null,"","",null,null,null,null,null,null,null,null,null,null,null,"","","","","",""]
[null,null,null,null,null,null,"","",null,null,null,null,null,null,null,null,null,null,null,"CRO D3","Slavonija Pozega","Vuteks Sloga","1908433.htm","Aug.26 18:30","http://www.goaloo.co/1x2/1908433.htm",null,"CRO D3","Aug.26 18:30","Slavonija Pozega",1.44,4.2,5.5,0.62319999999999998,0.2137,0.16320000000000001,0.89739999999999998,"Vuteks Sloga","View(3)"]
[null,null,null,null,null,null,"","",null,null,null,null,null,null,null,null,null,null,null,"","","","","","",null,null,null,null,1.37,4.7300000000000004,5.83,0.65659999999999996,0.18959999999999999,0.15379999999999999,0.89739999999999998]
[null,null,null,null,null,null,"","",null,null,null,null,null,null,null,null,null,null,null,"CRO D3","NK Vihor","NK Belisce","1908434.htm","Aug.26 18:30","http://www.goaloo.co/1x2/1908434.htm",null,"CRO D3","Aug.26 18:30","NK Vihor",5.5,4.2,1.44,0.16320000000000001,0.2137,0.62319999999999998,0.89759999999999995,"NK Belisce","View(3)"]
[null,null,null,null,null,null,"","",null,null,null,null,null,null,null,null,null,null,null,"","","","","","",null,null,null,null,4.5,4.2,1.55,0.20080000000000001,0.21510000000000001,0.58409999999999995,0.90359999999999996]
[null,null,null,null,null,null,"","",null,null,null,null,null,null,null,null,null,null,null,"CRO D3","NK Zrinski Jurjevac","Oriolik","1908454.htm","Aug.26 18:30","http://www.goaloo.co/1x2/1908454.htm",null,"CRO D3","Aug.26 18:30","NK Zrinski Jurjevac",2,3.3,3.25,0.45019999999999999,0.27279999999999999,0.27700000000000002,0.90039999999999998,"Oriolik","View(3)"]
[null,null,null,null,null,null,"","",null,null,null,null,null,null,null,null,null,null,null,"","","","","","",null,null,null,null,1.82,3.63,3.48,0.49469999999999997,0.24729999999999999,0.25800000000000001,0.89870000000000005]
[null,null,null,null,null,null,"","",null,null,null,null,null,null,null,null,null,null,null,"CRO D3","NK Gardiska","HNK Dakovo Croatia","1908455.htm","Aug.26 18:30","http://www.goaloo.co/1x2/1908455.htm",null,"CRO D3","Aug.26 18:30","NK Gardiska",6,5,1.33,0.14899999999999999,0.17879999999999999,0.67220000000000002,0.89400000000000002,"HNK Dakovo Croatia","View(3)"]
[null,null,null,null,null,null,"","",null,null,null,null,null,null,null,null,null,null,null,"","","","","",""]
[null,null,null,null,null,null,"","",null,null,null,null,null,null,null,null,null,null,null,"CRO D3","HNK Vukovar 91","NK Slavija Pleternica","1908456.htm","Aug.26 18:30","http://www.goaloo.co/1x2/1908456.htm",null,"CRO D3","Aug.26 18:30","HNK Vukovar 91",4,3.5,1.73,0.22420000000000001,0.25629999999999997,0.51949999999999996,0.89680000000000004,"NK Slavija Pleternica","View(3)"]
[null,null,null,null,null,null,"","",null,null,null,null,null,null,null,null,null,null,null,"","","","","","",null,null,null,null,2.78,3.6,2.74,0.35899999999999999,0.2772,0.36380000000000001,0.998]
[null,null,null,null,null,null,"","",null,null,null,null,null,null,null,null,null,null,null,"KUW D1 ","Al Kuwait SC","Al-Yarmouk","1830630.htm","Aug.26 18:55","http://www.goaloo.co/1x2/1830630.htm",null,"KUW D1 ","Aug.26 18:55","Al Kuwait SC",1.1599999999999999,6.72,11.26,0.78449999999999998,0.13489999999999999,8.0500000000000002E-2,0.90710000000000002,"Al-Yarmouk","View(46)"]
[null,null,null,null,null,null,"","",null,null,null,null,null,null,null,null,null,null,null,{"$f":"IF(W322=\"\",\"\",AA322)","v":""},{"$f":"IF(W322=\"\",\"\",AC322)","v":""},{"$f":"IF(W322=\"\",\"\",AK322)","v":""},{"$f":"IFERROR(IF(Y322=\"\",\"\",MID(Y322,SEARCH(\"1x2/\",Y322,1) + 4,LEN(Y322))),\"\")","v":""},{"$f":"IF(W322=\"\",\"\",AB322)","v":""},{"$f":"HLink(AL322)","v":""},null,null,null,null,1.1499999999999999,6.77,12.06,0.79049999999999998,0.13420000000000001,7.5300000000000006E-2,0.90859999999999996]
[null,null,null,null,null,null,{"$f":"IF(D323=\"\",\"\",E323&\" \"&A323&\" \"&\"    \"&\" \"&B323&\" - \"&C323)","v":""},{"$f":"IF(G323=\"\",\"\",D323)","v":""},null,null,null,null,null,null,null,null,null,null,null,"UEFA CL ","NK Publikum Celje","Molde","1904148.htm","Aug.26 18:59","http://www.goaloo.co/1x2/1904148.htm",null,"UEFA CL ","Aug.26 18:59","NK Publikum Celje",2.75,3.44,2.35,0.33689999999999998,0.26900000000000002,0.39400000000000002,0.92569999999999997,"Molde","View(166)"]
[null,null,null,null,null,null,"","",null,null,null,null,null,null,null,null,null,null,null,"","","","","","",null,null,null,null,3.24,3.56,2.0299999999999998,0.2853,0.25969999999999999,0.45500000000000002,0.92510000000000003]
[null,null,null,null,null,null,"","",null,null,null,null,null,null,null,null,null,null,null,"UEFA CL ","Qarabag","Sheriff Tiraspol","1904154.htm","Aug.26 18:59","http://www.goaloo.co/1x2/1904154.htm",null,"UEFA CL ","Aug.26 18:59","Qarabag",1.6,3.67,5.29,0.5756,0.2505,0.1739,0.91990000000000005,"Sheriff Tiraspol","View(168)"]
[null,null,null,null,null,null,"","",null,null,null,null,null,null,null,null,null,null,null,"","","","","","",null,null,null,null,1.61,3.67,5.31,0.57469999999999999,0.2515,0.17380000000000001,0.92330000000000001]
[null,null,null,null,null,null,"","",null,null,null,null,null,null,null,null,null,null,null,"UEFA CL ","Suduva","Maccabi Tel Aviv","1904155.htm","Aug.26 18:59","http://www.goaloo.co/1x2/1904155.htm",null,"UEFA CL ","Aug.26 18:59","Suduva",3.98,3.53,1.83,0.23250000000000001,0.26219999999999999,0.50529999999999997,0.92549999999999999,"Maccabi Tel Aviv","View(169)"]
[null,null,null,null,null,null,"","",null,null,null,null,null,null,null,null,null,null,null,"","","","","","",null,null,null,null,4.47,3.64,1.71,0.20680000000000001,0.25340000000000001,0.53990000000000005,0.92349999999999999]
[null,null,null,null,null,null,"","",null,null,null,null,null,null,null,null,null,null,null,"NORW ","Roa (w)","Rosenborg BK (w)","1872251.htm","Aug.26 18:59","http://www.goaloo.co/1x2/1872251.htm",null,"NORW ","Aug.26 18:59","Roa (w)",5.31,4.2300000000000004,1.47,0.1706,0.2142,0.61529999999999996,0.90629999999999999,"Rosenborg BK (w)","View(46)"]
[null,null,null,null,null,null,"","",null,null,null,null,null,null,null,null,null,null,null,"","","","","","",null,null,null,null,5.03,4.26,1.5,0.1804,0.21310000000000001,0.60650000000000004,0.9073]
[null,null,null,null,null,null,"","",null,null,null,null,null,null,null,null,null,null,null,"CZEC ","Komarov","Usti nad Labem","1891837.htm","Aug.26 18:59","http://www.goaloo.co/1x2/1891837.htm",null,"CZEC ","Aug.26 18:59","Komarov",11.46,6.93,1.1499999999999999,7.9399999999999998E-2,0.1313,0.7893,0.9103,"Usti nad Labem","View(45)"]
[null,null,null,null,null,null,"","",null,null,null,null,null,null,null,null,null,null,null,"","","","","","",null,null,null,null,11.33,6.92,1.1499999999999999,8.0299999999999996E-2,0.13150000000000001,0.78820000000000001,0.91]
[null,null,null,null,null,null,"","",null,null,null,null,null,null,null,null,null,null,null,"CZEC ","Admira Praha","Dukla Prague","1891845.htm","Aug.26 18:59","http://www.goaloo.co/1x2/1891845.htm",null,"CZEC ","Aug.26 18:59","Admira Praha",5.65,4.5599999999999996,1.42,0.16070000000000001,0.19889999999999999,0.64039999999999997,0.90790000000000004,"Dukla Prague","View(90)"]
[null,null,null,null,null,null,"","",null,null,null,null,null,null,null,null,null,null,null,"","","","","","",null,null,null,null,5.86,4.55,1.42,0.1555,0.20039999999999999,0.64410000000000001,0.91169999999999995]
[null,null,null,null,null,null,"","",null,null,null,null,null,null,null,null,null,null,null,"CZEC ","FK Prepere","SK Slovan Varnsdorf","1891862.htm","Aug.26 18:59","http://www.goaloo.co/1x2/1891862.htm",null,"CZEC ","Aug.26 18:59","FK Prepere",4.67,4.33,1.52,0.19439999999999999,0.20949999999999999,0.59619999999999995,0.90759999999999996,"SK Slovan Varnsdorf","View(56)"]
[null,null,null,null,null,null,"","",null,null,null,null,null,null,null,null,null,null,null,"","","","","","",null,null,null,null,4.58,4.3600000000000003,1.53,0.19850000000000001,0.2084,0.59299999999999997,0.9083]
[null,null,null,null,null,null,"","",null,null,null,null,null,null,null,null,null,null,null,"RUS Cup ","FK Chayka K-SR","Tekstilshchik Ivanovo","1903368.htm","Aug.26 18:59","http://www.goaloo.co/1x2/1903368.htm",null,"RUS Cup ","Aug.26 18:59","FK Chayka K-SR",2.23,3.19,2.98,0.40920000000000001,0.28549999999999998,0.30530000000000002,0.91069999999999995,"Tekstilshchik Ivanovo","View(9)"]
[null,null,null,null,null,null,"","",null,null,null,null,null,null,null,null,null,null,null,"","","","","","",null,null,null,null,2.2400000000000002,3.2,2.97,0.40810000000000002,0.28510000000000002,0.30669999999999997,0.9123]
[null,null,null,null,null,null,"","",null,null,null,null,null,null,null,null,null,null,null,"CYP D1 ","Ethnikos Achnas FC","E.N.Paralimniou","1878759.htm","Aug.26 18:59","http://www.goaloo.co/1x2/1878759.htm",null,"CYP D1 ","Aug.26 18:59","Ethnikos Achnas FC",2.17,3.3,2.93,0.4168,0.27429999999999999,0.30890000000000001,0.90439999999999998,"E.N.Paralimniou","View(133)"]
[null,null,null,null,null,null,"","",null,null,null,null,null,null,null,null,null,null,null,"","","","","","",null,null,null,null,2.2599999999999998,3.21,2.86,0.40079999999999999,0.28199999999999997,0.31719999999999998,0.90600000000000003]
[null,null,null,null,null,null,"","",null,null,null,null,null,null,null,null,null,null,null,"ITA YCup ","Fiorentina U20","Verona U20","1883818.htm","Aug.26 18:59","http://www.goaloo.co/1x2/1883818.htm",null,"ITA YCup ","Aug.26 18:59","Fiorentina U20",1.8,4,3.25,0.499,0.22459999999999999,0.27639999999999998,0.8982,"Verona U20","View(3)"]
[null,null,null,null,null,null,"","",null,null,null,null,null,null,null,null,null,null,null,"","","","","",""]
[null,null,null,null,null,null,"","",null,null,null,null,null,null,null,null,null,null,null,"HUN D2E ","Debrecin VSC","Szegedi AK","1884190.htm","Aug.26 18:59","http://www.goaloo.co/1x2/1884190.htm",null,"HUN D2E ","Aug.26 18:59","Debrecin VSC",1.42,4.26,5.93,0.63560000000000005,0.21210000000000001,0.15229999999999999,0.90369999999999995,"Szegedi AK","View(23)"]
[null,null,null,null,null,null,"","",null,null,null,null,null,null,null,null,null,null,null,"","","","","","",null,null,null,null,1.44,4.2,5.98,0.63200000000000001,0.2162,0.15179999999999999,0.90790000000000004]
[null,null,null,null,null,null,"","",null,null,null,null,null,null,null,null,null,null,null,"SWE Cup ","Gottne IF","Stöde IF","1903402.htm","Aug.26 18:59","http://www.goaloo.co/1x2/1903402.htm",null,"SWE Cup ","Aug.26 18:59","Gottne IF",2.96,3.85,2.0299999999999998,0.30959999999999999,0.23810000000000001,0.45219999999999999,0.91610000000000003,"Stöde IF","View(10)"]
[null,null,null,null,null,null,"","",null,null,null,null,null,null,null,null,null,null,null,"","","","","","",null,null,null,null,2.69,3.78,2.19,0.34039999999999998,0.2419,0.4178,0.91500000000000004]
[null,null,null,null,null,null,"","",null,null,null,null,null,null,null,null,null,null,null,"SWE WD2 ","IFK Kalmar (w)","Bollstanas Sk (w)","1871686.htm","Aug.26 18:59","http://www.goaloo.co/1x2/1871686.htm",null,"SWE WD2 ","Aug.26 18:59","IFK Kalmar (w)",1.41,5.08,4.47,0.62839999999999996,0.1739,0.19769999999999999,0.88349999999999995,"Bollstanas Sk (w)","View(5)"]
[null,null,null,null,null,null,"","",null,null,null,null,null,null,null,null,null,null,null,"","","","","",""]
[null,null,null,null,null,null,"","",null,null,null,null,null,null,null,null,null,null,null,"SWE WD2 ","Moron BK (w)","Mallbackens IF (w)","1871689.htm","Aug.26 18:59","http://www.goaloo.co/1x2/1871689.htm",null,"SWE WD2 ","Aug.26 18:59","Moron BK (w)",1.1599999999999999,6.9,8.6199999999999992,0.76759999999999995,0.12909999999999999,0.1033,0.89039999999999997,"Mallbackens IF (w)","View(5)"]
[null,null,null,null,null,null,"","",null,null,null,null,null,null,null,null,null,null,null,"","","","","",""]
[null,null,null,null,null,null,"","",null,null,null,null,null,null,null,null,null,null,null,"LIT D2 ","Alytis Alytus Dainava","FK Panevezys-2","1869298.htm","Aug.26 18:59","http://www.goaloo.co/1x2/1869298.htm",null,"LIT D2 ","Aug.26 18:59","Alytis Alytus Dainava",1.82,4.55,2.96,0.49640000000000001,0.1986,0.3049,0.90300000000000002,"FK Panevezys-2","View(12)"]
[null,null,null,null,null,null,"","",null,null,null,null,null,null,null,null,null,null,null,"","","","","","",null,null,null,null,1.81,4.55,2.97,0.49759999999999999,0.19819999999999999,0.30420000000000003,0.90269999999999995]
[null,null,null,null,null,null,"","",null,null,null,null,null,null,null,null,null,null,null,"Finland K","Saaripotku","SIF","1908350.htm","Aug.26 18:59","http://www.goaloo.co/1x2/1908350.htm",null,"Finland K","Aug.26 18:59","Saaripotku",13,7.97,1.1000000000000001,6.93E-2,0.113,0.81779999999999997,0.90090000000000003,"SIF","View(10)"]
[null,null,null,null,null,null,"","",null,null,null,null,null,null,null,null,null,null,null,"","","","","","",null,null,null,null,12.85,7.94,1.1100000000000001,7.0300000000000001E-2,0.1138,0.81579999999999997,0.90339999999999998]
[null,null,null,null,null,null,"","",null,null,null,null,null,null,null,null,null,null,null,"CZE DFL","FK Chomutov","Meteor Praha","1908441.htm","Aug.26 18:59","http://www.goaloo.co/1x2/1908441.htm",null,"CZE DFL","Aug.26 18:59","FK Chomutov",2.2599999999999998,3.74,2.4900000000000002,0.39860000000000001,0.24049999999999999,0.36099999999999999,0.89880000000000004,"Meteor Praha","View(4)"]
[null,null,null,null,null,null,"","",null,null,null,null,null,null,null,null,null,null,null,"","","","","",""]
[null,null,null,null,null,null,"","",null,null,null,null,null,null,null,null,null,null,null,"Croatia U19 L","Dinamo Zagreb U19","NK Istra 1961 U19","1908389.htm","Aug.26 18:59","http://www.goaloo.co/1x2/1908389.htm",null,"Croatia U19 L","Aug.26 18:59","Dinamo Zagreb U19",1.23,5.76,8.0500000000000007,0.73250000000000004,0.15590000000000001,0.1116,0.8982,"NK Istra 1961 U19","View(13)"]
[null,null,null,null,null,null,"","",null,null,null,null,null,null,null,null,null,null,null,"","","","","","",null,null,null,null,1.21,6.03,8.83,0.74809999999999999,0.14960000000000001,0.1022,0.90229999999999999]
[null,null,null,null,null,null,"","",null,null,null,null,null,null,null,null,null,null,null,"Croatia U19 L","Hajduk Split U19","Hrvatski Dragovoljac U19","1908390.htm","Aug.26 18:59","http://www.goaloo.co/1x2/1908390.htm",null,"Croatia U19 L","Aug.26 18:59","Hajduk Split U19",1.1599999999999999,7.07,9.2899999999999991,0.77629999999999999,0.127,9.6699999999999994E-2,0.89770000000000005,"Hrvatski Dragovoljac U19","View(11)"]
[null,null,null,null,null,null,"","",null,null,null,null,null,null,null,null,null,null,null,"","","","","","",null,null,null,null,1.1499999999999999,7.16,10.199999999999999,0.78549999999999998,0.12609999999999999,8.8400000000000006E-2,0.90259999999999996]
[null,null,null,null,null,null,"","",null,null,null,null,null,null,null,null,null,null,null,"Estonia cup (w)","Parnu JK Vaprus (w)","Tammeka Tartu (W)","1908442.htm","Aug.26 18:59","http://www.goaloo.co/1x2/1908442.htm",null,"Estonia cup (w)","Aug.26 18:59","Parnu JK Vaprus (w)",1.1200000000000001,7.5,11,0.79930000000000001,0.11940000000000001,8.14E-2,0.8952,"Tammeka Tartu (W)","View(1)"]
[null,null,null,null,null,null,"","",null,null,null,null,null,null,null,null,null,null,null,"","","","","",""]
[null,null,null,null,null,null,"","",null,null,null,null,null,null,null,null,null,null,null,"FIN WD1 ","Honka Espoo (w)","TiPS Vantaa (w)","1870865.htm","Aug.26 18:59","http://www.goaloo.co/1x2/1870865.htm",null,"FIN WD1 ","Aug.26 18:59","Honka Espoo (w)",3.43,3.79,1.85,0.26600000000000001,0.24060000000000001,0.49340000000000001,0.91210000000000002,"TiPS Vantaa (w)","View(47)"]
[null,null,null,null,null,null,"","",null,null,null,null,null,null,null,null,null,null,null,"","","","","","",null,null,null,null,2.76,3.62,2.19,0.33129999999999998,0.25230000000000002,0.41639999999999999,0.91349999999999998]
[null,null,null,null,null,null,"","",null,null,null,null,null,null,null,null,null,null,null,"FIN WD1 ","KuPs （W）","Jyvaskylan Pallokerho (w)","1870867.htm","Aug.26 18:59","http://www.goaloo.co/1x2/1870867.htm",null,"FIN WD1 ","Aug.26 18:59","KuPs （W）",1.1599999999999999,6.96,10.17,0.78080000000000005,0.13009999999999999,8.8999999999999996E-2,0.90569999999999995,"Jyvaskylan Pallokerho (w)","View(15)"]
[null,null,null,null,null,null,"","",null,null,null,null,null,null,null,null,null,null,null,"","","","","","",null,null,null,null,1.1599999999999999,6.88,10.33,0.78069999999999995,0.13159999999999999,8.7599999999999997E-2,0.90559999999999996]
[null,null,null,null,null,null,"","",null,null,null,null,null,null,null,null,null,null,null,"UEFA EL ","Progres Niedercorn","FK Zeta","1903732.htm","Aug.26 19:30","http://www.goaloo.co/1x2/1903732.htm",null,"UEFA EL ","Aug.26 19:30","Progres Niedercorn",1.59,3.87,4.91,0.57630000000000003,0.2369,0.18690000000000001,0.91710000000000003,"FK Zeta","View(144)"]
[null,null,null,null,null,null,"","",null,null,null,null,null,null,null,null,null,null,null,"","","","","","",null,null,null,null,1.58,3.87,5.01,0.58020000000000005,0.23669999999999999,0.18310000000000001,0.9173]
[null,null,null,null,null,null,"","",null,null,null,null,null,null,null,null,null,null,null,"DEN WD2 ","FC Damso (w)","Frederiksberg Boldklub (w)","1896098.htm","Aug.26 19:30","http://www.goaloo.co/1x2/1896098.htm",null,"DEN WD2 ","Aug.26 19:30","FC Damso (w)",1.2,6.5,8,0.74929999999999997,0.13830000000000001,0.1124,0.8992,"Frederiksberg Boldklub (w)","View(1)"]
[null,null,null,null,null,null,"","",null,null,null,null,null,null,null,null,null,null,null,"","","","","","",null,null,null,null,1.33,6.5,5,0.68,0.1391,0.18090000000000001,0.90439999999999998]
[null,null,null,null,null,null,"","",null,null,null,null,null,null,null,null,null,null,null,"DEN WD2 ","ASA Aarhus (w)","IF Lyseng (w)","1896133.htm","Aug.26 19:30","http://www.goaloo.co/1x2/1896133.htm",null,"DEN WD2 ","Aug.26 19:30","ASA Aarhus (w)",2.25,4.33,2.25,0.39689999999999998,0.20619999999999999,0.39689999999999998,0.89300000000000002,"IF Lyseng (w)","View(1)"]
[null,null,null,null,null,null,"","",null,null,null,null,null,null,null,null,null,null,null,"","","","","",""]
[null,null,null,null,null,null,"","",null,null,null,null,null,null,null,null,null,null,null,"RUS Cup ","Torpedo moskva","Shinnik Yaroslavl","1903369.htm","Aug.26 19:30","http://www.goaloo.co/1x2/1903369.htm",null,"RUS Cup ","Aug.26 19:30","Torpedo moskva",1.92,3.3,3.63,0.4743,0.27550000000000002,0.25019999999999998,0.90900000000000003,"Shinnik Yaroslavl","View(32)"]
[null,null,null,null,null,null,"","",null,null,null,null,null,null,null,null,null,null,null,"","","","","","",null,null,null,null,1.92,3.3,3.64,0.47439999999999999,0.27550000000000002,0.25009999999999999,0.90949999999999998]
[null,null,null,null,null,null,"","",null,null,null,null,null,null,null,null,null,null,null,"EGY D1 ","FC Masr","EL Masry","1799541.htm","Aug.26 19:30","http://www.goaloo.co/1x2/1799541.htm",null,"EGY D1 ","Aug.26 19:30","FC Masr",2.66,2.85,2.66,0.34089999999999998,0.31780000000000003,0.34139999999999998,0.90659999999999996,"EL Masry","View(109)"]
[null,null,null,null,null,null,"","",null,null,null,null,null,null,null,null,null,null,null,"","","","","","",null,null,null,null,2.66,2.86,2.68,0.3422,0.31819999999999998,0.3397,0.90900000000000003]
[null,null,null,null,null,null,"","",null,null,null,null,null,null,null,null,null,null,null,"INT CF ","Bellinzona","Lugano","1908466.htm","Aug.26 19:30","http://www.goaloo.co/1x2/1908466.htm",null,"INT CF ","Aug.26 19:30","Bellinzona",6.24,5.29,1.33,0.14549999999999999,0.17150000000000001,0.68310000000000004,0.9083,"Lugano","View(56)"]
[null,null,null,null,null,null,"","",null,null,null,null,null,null,null,null,null,null,null,"","","","","","",null,null,null,null,6.64,5.41,1.31,0.1368,0.1678,0.69540000000000002,0.90790000000000004]
[null,null,null,null,null,null,"","",null,null,null,null,null,null,null,null,null,null,null,"UEFA CL ","NK Lokomotiva Zagreb","Rapid Wien","1902049.htm","Aug.26 20:00","http://www.goaloo.co/1x2/1902049.htm",null,"UEFA CL ","Aug.26 20:00","NK Lokomotiva Zagreb",3,3.22,2.2999999999999998,0.30890000000000001,0.28749999999999998,0.40360000000000001,0.92720000000000002,"Rapid Wien","View(167)"]
[null,null,null,null,null,null,"","",null,null,null,null,null,null,null,null,null,null,null,"","","","","","",null,null,null,null,4.2,3.53,1.8,0.22070000000000001,0.2631,0.5161,0.92779999999999996]
[null,null,null,null,null,null,"","",null,null,null,null,null,null,null,null,null,null,null,"GRE D1 ","SKODA Xanthi","Apollon Smirnis","1893290.htm","Aug.26 20:00","http://www.goaloo.co/1x2/1893290.htm",null,"GRE D1 ","Aug.26 20:00","SKODA Xanthi",3.65,3.2,2.29,0.2681,0.30570000000000003,0.42620000000000002,0.97760000000000002,"Apollon Smirnis","View(68)"]
[null,null,null,null,null,null,"","",null,null,null,null,null,null,null,null,null,null,null,"","","","","","",null,null,null,null,5.71,3.73,1.55,0.16070000000000001,0.246,0.59330000000000005,0.9173]
[null,null,null,null,null,null,"","",null,null,null,null,null,null,null,null,null,null,null,"GER Reg ","VfB Auerbach","Chemnitzer","1886069.htm","Aug.26 20:00","http://www.goaloo.co/1x2/1886069.htm",null,"GER Reg ","Aug.26 20:00","VfB Auerbach",3.26,3.48,1.96,0.27739999999999998,0.25979999999999998,0.4627,0.90500000000000003,"Chemnitzer","View(113)"]
[null,null,null,null,null,null,"","",null,null,null,null,null,null,null,null,null,null,null,"","","","","","",null,null,null,null,3.33,3.59,1.91,0.27250000000000002,0.253,0.47449999999999998,0.90749999999999997]
[null,null,null,null,null,null,"","",null,null,null,null,null,null,null,null,null,null,null,"GER Reg ","SV Babelsberg 03","FSV luckenwalde","1886070.htm","Aug.26 20:00","http://www.goaloo.co/1x2/1886070.htm",null,"GER Reg ","Aug.26 20:00","SV Babelsberg 03",2.08,3.42,3.06,0.43740000000000001,0.26550000000000001,0.29709999999999998,0.90890000000000004,"FSV luckenwalde","View(93)"]
[null,null,null,null,null,null,"","",null,null,null,null,null,null,null,null,null,null,null,{"$f":"IF(W386=\"\",\"\",AA386)","v":""},{"$f":"IF(W386=\"\",\"\",AC386)","v":""},{"$f":"IF(W386=\"\",\"\",AK386)","v":""},{"$f":"IFERROR(IF(Y386=\"\",\"\",MID(Y386,SEARCH(\"1x2/\",Y386,1) + 4,LEN(Y386))),\"\")","v":""},{"$f":"IF(W386=\"\",\"\",AB386)","v":""},{"$f":"HLink(AL386)","v":""},null,null,null,null,1.94,3.59,3.29,0.47020000000000001,0.25330000000000003,0.27650000000000002,0.91020000000000001]
[null,null,null,null,null,null,{"$f":"IF(D387=\"\",\"\",E387&\" \"&A387&\" \"&\"    \"&\" \"&B387&\" - \"&C387)","v":""},{"$f":"IF(G387=\"\",\"\",D387)","v":""},null,null,null,null,null,null,null,null,null,null,null,"NORW ","Arna Bjornar (w)","Sandviken (w)","1872250.htm","Aug.26 20:00","http://www.goaloo.co/1x2/1872250.htm",null,"NORW ","Aug.26 20:00","Arna Bjornar (w)",4.01,4.08,1.64,0.22600000000000001,0.22209999999999999,0.55189999999999995,0.90580000000000005,"Sandviken (w)","View(50)"]
[null,null,null,null,null,null,"","",null,null,null,null,null,null,null,null,null,null,null,"","","","","","",null,null,null,null,3.99,4.0199999999999996,1.66,0.2273,0.22559999999999999,0.54710000000000003,0.90680000000000005]
[null,null,null,null,null,null,"","",null,null,null,null,null,null,null,null,null,null,null,"NORW ","Valerenga (w)","Lyn (w)","1872252.htm","Aug.26 20:00","http://www.goaloo.co/1x2/1872252.htm",null,"NORW ","Aug.26 20:00","Valerenga (w)",1.1299999999999999,6.86,14.32,0.80369999999999997,0.13270000000000001,6.3600000000000004E-2,0.91020000000000001,"Lyn (w)","View(57)"]
[null,null,null,null,null,null,"","",null,null,null,null,null,null,null,null,null,null,null,"","","","","","",null,null,null,null,1.17,6.53,10.97,0.77800000000000002,0.1391,8.2900000000000001E-2,0.90920000000000001]
[null,null,null,null,null,null,"","",null,null,null,null,null,null,null,null,null,null,null,"NORW ","LSK Kvinner (w)","Kolbotn (w)","1872253.htm","Aug.26 20:00","http://www.goaloo.co/1x2/1872253.htm",null,"NORW ","Aug.26 20:00","LSK Kvinner (w)",1.22,5.75,9.0399999999999991,0.74250000000000005,0.15740000000000001,0.1,0.90449999999999997,"Kolbotn (w)","View(56)"]
[null,null,null,null,null,null,"","",null,null,null,null,null,null,null,null,null,null,null,"","","","","","",null,null,null,null,1.21,6,9.11,0.74929999999999997,0.1512,9.9500000000000005E-2,0.90649999999999997]
[null,null,null,null,null,null,"","",null,null,null,null,null,null,null,null,null,null,null,"DEN WD2 ","Odense Q (w)","Varde (w)","1896134.htm","Aug.26 20:00","http://www.goaloo.co/1x2/1896134.htm",null,"DEN WD2 ","Aug.26 20:00","Odense Q (w)",1.2,7,8.5,0.76259999999999994,0.13020000000000001,0.1072,0.9113,"Varde (w)","View(2)"]
[null,null,null,null,null,null,"","",null,null,null,null,null,null,null,null,null,null,null,"","","","","",""]
[null,null,null,null,null,null,"","",null,null,null,null,null,null,null,null,null,null,null,"ICE PR ","KR Reykjavik","Valur Reykjavik","1832279.htm","Aug.26 20:00","http://www.goaloo.co/1x2/1832279.htm",null,"ICE PR ","Aug.26 20:00","KR Reykjavik",2.7,3.46,2.29,0.3377,0.2641,0.3982,0.91310000000000002,"Valur Reykjavik","View(178)"]
[null,null,null,null,null,null,"","",null,null,null,null,null,null,null,null,null,null,null,"","","","","","",null,null,null,null,2.7,3.49,2.2999999999999998,0.33910000000000001,0.26229999999999998,0.39860000000000001,0.91559999999999997]
[null,null,null,null,null,null,"","",null,null,null,null,null,null,null,null,null,null,null,"HUN D2E ","Gyori ETO","Nyiregyhaza","1884191.htm","Aug.26 20:00","http://www.goaloo.co/1x2/1884191.htm",null,"HUN D2E ","Aug.26 20:00","Gyori ETO",2.46,3.16,2.62,0.36799999999999999,0.28649999999999998,0.34549999999999997,0.90449999999999997,"Nyiregyhaza","View(38)"]
[null,null,null,null,null,null,"","",null,null,null,null,null,null,null,null,null,null,null,"","","","","","",null,null,null,null,2.44,3.22,2.63,0.37169999999999997,0.28239999999999998,0.34589999999999999,0.90849999999999997]
[null,null,null,null,null,null,"","",null,null,null,null,null,null,null,null,null,null,null,"HUN D2E ","Bekescsaba","SOROKSAR","1884195.htm","Aug.26 20:00","http://www.goaloo.co/1x2/1884195.htm",null,"HUN D2E ","Aug.26 20:00","Bekescsaba",1.77,3.43,4.0199999999999996,0.51060000000000005,0.26400000000000001,0.22539999999999999,0.9052,"SOROKSAR","View(38)"]
[null,null,null,null,null,null,"","",null,null,null,null,null,null,null,null,null,null,null,"","","","","","",null,null,null,null,1.75,3.5,4.05,0.51749999999999996,0.25900000000000001,0.22359999999999999,0.90590000000000004]
[null,null,null,null,null,null,"","",null,null,null,null,null,null,null,null,null,null,null,"HUN D2E ","Csakvari TK","Pecsi MFC","1884196.htm","Aug.26 20:00","http://www.goaloo.co/1x2/1884196.htm",null,"HUN D2E ","Aug.26 20:00","Csakvari TK",2.4700000000000002,3.17,2.58,0.36549999999999999,0.28510000000000002,0.34939999999999999,0.90310000000000001,"Pecsi MFC","View(54)"]
[null,null,null,null,null,null,"","",null,null,null,null,null,null,null,null,null,null,null,"","","","","","",null,null,null,null,2.5,3.2,2.54,0.3619,0.2823,0.35570000000000002,0.9042]
[null,null,null,null,null,null,"","",null,null,null,null,null,null,null,null,null,null,null,"HUN D2E ","Szombathelyi Haladas","FC Ajka","1884197.htm","Aug.26 20:00","http://www.goaloo.co/1x2/1884197.htm",null,"HUN D2E ","Aug.26 20:00","Szombathelyi Haladas",1.98,3.24,3.43,0.45660000000000001,0.2797,0.26369999999999999,0.90510000000000002,"FC Ajka","View(36)"]
[null,null,null,null,null,null,"","",null,null,null,null,null,null,null,null,null,null,null,"","","","","","",null,null,null,null,2,3.26,3.36,0.45279999999999998,0.27760000000000001,0.26950000000000002,0.90600000000000003]
[null,null,null,null,null,null,"","",null,null,null,null,null,null,null,null,null,null,null,"HUN D2E ","Kazincbarcika","Dorogi FC","1884198.htm","Aug.26 20:00","http://www.goaloo.co/1x2/1884198.htm",null,"HUN D2E ","Aug.26 20:00","Kazincbarcika",2.38,3.22,2.68,0.38069999999999998,0.28149999999999997,0.33779999999999999,0.90690000000000004,"Dorogi FC","View(38)"]
[null,null,null,null,null,null,"","",null,null,null,null,null,null,null,null,null,null,null,"","","","","","",null,null,null,null,2.42,3.28,2.61,0.37509999999999999,0.27700000000000002,0.34799999999999998,0.90759999999999996]
[null,null,null,null,null,null,"","",null,null,null,null,null,null,null,null,null,null,null,"HUN D2E ","Szolnoki MAV FC","DEAC","1884199.htm","Aug.26 20:00","http://www.goaloo.co/1x2/1884199.htm",null,"HUN D2E ","Aug.26 20:00","Szolnoki MAV FC",1.56,3.69,5.12,0.57850000000000001,0.245,0.17649999999999999,0.90369999999999995,"DEAC","View(33)"]
[null,null,null,null,null,null,"","",null,null,null,null,null,null,null,null,null,null,null,"","","","","","",null,null,null,null,1.56,3.72,5.15,0.58130000000000004,0.24299999999999999,0.17580000000000001,0.90490000000000004]
[null,null,null,null,null,null,"","",null,null,null,null,null,null,null,null,null,null,null,"SWE Cup ","Hassleholms IF","Rappe GOIF","1886840.htm","Aug.26 20:00","http://www.goaloo.co/1x2/1886840.htm",null,"SWE Cup ","Aug.26 20:00","Hassleholms IF",2.13,3.86,2.75,0.43,0.2374,0.33260000000000001,0.91590000000000005,"Rappe GOIF","View(10)"]
[null,null,null,null,null,null,"","",null,null,null,null,null,null,null,null,null,null,null,"","","","","","",null,null,null,null,2.13,3.82,2.75,0.42880000000000001,0.23930000000000001,0.33179999999999998,0.91379999999999995]
[null,null,null,null,null,null,"","",null,null,null,null,null,null,null,null,null,null,null,"MAR D1 ","DHJ Difaa Hassani Jadidi","Maghrib Association Tetouan","1796001.htm","Aug.26 20:00","http://www.goaloo.co/1x2/1796001.htm",null,"MAR D1 ","Aug.26 20:00","DHJ Difaa Hassani Jadidi",2.02,2.87,3.84,0.44790000000000002,0.31609999999999999,0.23599999999999999,0.90600000000000003,"Maghrib Association Tetouan","View(73)"]
[null,null,null,null,null,null,"","",null,null,null,null,null,null,null,null,null,null,null,"","","","","","",null,null,null,null,2.0299999999999998,2.87,3.83,0.4471,0.316,0.2369,0.90690000000000004]
[null,null,null,null,null,null,"","",null,null,null,null,null,null,null,null,null,null,null,"INT CF ","KSV Ankerbrot","SC Wacker Vienna","1908464.htm","Aug.26 20:00","http://www.goaloo.co/1x2/1908464.htm",null,"INT CF ","Aug.26 20:00","KSV Ankerbrot",1.04,12,15,0.86509999999999998,7.4999999999999997E-2,0.06,0.89970000000000006,"SC Wacker Vienna","View(1)"]
[null,null,null,null,null,null,"","",null,null,null,null,null,null,null,null,null,null,null,"","","","","","",null,null,null,null,1.08,10,11,0.82909999999999995,8.9499999999999996E-2,8.14E-2,0.89539999999999997]
[null,null,null,null,null,null,"","",null,null,null,null,null,null,null,null,null,null,null,"INT CF ","Santos (w)","Audax SP (w)","1908469.htm","Aug.26 20:00","http://www.goaloo.co/1x2/1908469.htm",null,"INT CF ","Aug.26 20:00","Santos (w)",1.03,13,21,0.88629999999999998,7.0199999999999999E-2,4.3499999999999997E-2,0.91290000000000004,"Audax SP (w)","View(1)"]
[null,null,null,null,null,null,"","",null,null,null,null,null,null,null,null,null,null,null,"","","","","",""]
[null,null,null,null,null,null,"","",null,null,null,null,null,null,null,null,null,null,null,"SWE WD2 ","Sunnana SK (w)","Hammarby (w)","1871685.htm","Aug.26 20:00","http://www.goaloo.co/1x2/1871685.htm",null,"SWE WD2 ","Aug.26 20:00","Sunnana SK (w)",14.18,10.01,1.06,6.3299999999999995E-2,8.9599999999999999E-2,0.84709999999999996,0.89770000000000005,"Hammarby (w)","View(11)"]
[null,null,null,null,null,null,"","",null,null,null,null,null,null,null,null,null,null,null,"","","","","","",null,null,null,null,14.18,10.01,1.06,6.3299999999999995E-2,8.9700000000000002E-2,0.84699999999999998,0.89770000000000005]
[null,null,null,null,null,null,"","",null,null,null,null,null,null,null,null,null,null,null,"SWE WD2 ","Brommapojkarna (w)","Lidkopings FK (w)","1871690.htm","Aug.26 20:00","http://www.goaloo.co/1x2/1871690.htm",null,"SWE WD2 ","Aug.26 20:00","Brommapojkarna (w)",1.36,5.4,4.88,0.6542,0.16420000000000001,0.18160000000000001,0.88639999999999997,"Lidkopings FK (w)","View(8)"]
[null,null,null,null,null,null,"","",null,null,null,null,null,null,null,null,null,null,null,"","","","","",""]
[null,null,null,null,null,null,"","",null,null,null,null,null,null,null,null,null,null,null,"Finland K","TPV/2","Saaksjarven Loiske","1908351.htm","Aug.26 20:00","http://www.goaloo.co/1x2/1908351.htm",null,"Finland K","Aug.26 20:00","TPV/2",2.06,4.2,2.58,0.43659999999999999,0.2142,0.34920000000000001,0.9,"Saaksjarven Loiske","View(7)"]
[null,null,null,null,null,null,"","",null,null,null,null,null,null,null,null,null,null,null,"","","","","","",null,null,null,null,2.12,4.16,2.5,0.42409999999999998,0.21609999999999999,0.35980000000000001,0.89849999999999997]
[null,null,null,null,null,null,"","",null,null,null,null,null,null,null,null,null,null,null,"Pol D4","KSZO Ostrowiec","Avia Swidnik","1908384.htm","Aug.26 20:00","http://www.goaloo.co/1x2/1908384.htm",null,"Pol D4","Aug.26 20:00","KSZO Ostrowiec",2.1,3.61,2.86,0.43240000000000001,0.25080000000000002,0.31680000000000003,0.90610000000000002,"Avia Swidnik","View(18)"]
[null,null,null,null,null,null,"","",null,null,null,null,null,null,null,null,null,null,null,"","","","","","",null,null,null,null,2.12,3.61,2.81,0.42709999999999998,0.251,0.32179999999999997,0.90500000000000003]
[null,null,null,null,null,null,"","",null,null,null,null,null,null,null,null,null,null,null,"GER OBW","FC Astoria Walldorf II","Nottingen","1908367.htm","Aug.26 20:00","http://www.goaloo.co/1x2/1908367.htm",null,"GER OBW","Aug.26 20:00","FC Astoria Walldorf II",2.0499999999999998,3.76,2.81,0.4395,0.2399,0.3206,0.9022,"Nottingen","View(7)"]
[null,null,null,null,null,null,"","",null,null,null,null,null,null,null,null,null,null,null,"","","","","",""]
[null,null,null,null,null,null,"","",null,null,null,null,null,null,null,null,null,null,null,"GER OBW","Rielasingen Arlen","FV Lorrach-Brombach","1908373.htm","Aug.26 20:00","http://www.goaloo.co/1x2/1908373.htm",null,"GER OBW","Aug.26 20:00","Rielasingen Arlen",1.5,4.2,4.75,0.5978,0.2135,0.1888,0.89670000000000005,"FV Lorrach-Brombach","View(1)"]
[null,null,null,null,null,null,"","",null,null,null,null,null,null,null,null,null,null,null,"","","","","",""]
[null,null,null,null,null,null,"","",null,null,null,null,null,null,null,null,null,null,null,"Can PL ","York 9 FC","Forge FC","1897981.htm","Aug.26 20:00","http://www.goaloo.co/1x2/1897981.htm",null,"Can PL ","Aug.26 20:00","York 9 FC",4.22,3.49,1.71,0.214,0.2586,0.52739999999999998,0.90239999999999998,"Forge FC","View(32)"]
[null,null,null,null,null,null,"","",null,null,null,null,null,null,null,null,null,null,null,"","","","","","",null,null,null,null,4.29,3.48,1.71,0.2109,0.25950000000000001,0.52969999999999995,0.90390000000000004]
[null,null,null,null,null,null,"","",null,null,null,null,null,null,null,null,null,null,null,"ICE U19L","Keflavik U19","Breidablik Augnablik Smari U19","1908443.htm","Aug.26 20:00","http://www.goaloo.co/1x2/1908443.htm",null,"ICE U19L","Aug.26 20:00","Keflavik U19",1.25,5.5,7.5,0.71740000000000004,0.16300000000000001,0.1196,0.89670000000000005,"Breidablik Augnablik Smari U19","View(1)"]
[null,null,null,null,null,null,"","",null,null,null,null,null,null,null,null,null,null,null,"","","","","",""]
[null,null,null,null,null,null,"","",null,null,null,null,null,null,null,null,null,null,null,"ECU D1 ","Mushuc Runa","Universidad Catolica","1897528.htm","Aug.26 20:15","http://www.goaloo.co/1x2/1897528.htm",null,"ECU D1 ","Aug.26 20:15","Mushuc Runa",3.96,3.71,1.81,0.23469999999999999,0.25040000000000001,0.51490000000000002,0.93020000000000003,"Universidad Catolica","View(9)"]
[null,null,null,null,null,null,"","",null,null,null,null,null,null,null,null,null,null,null,"","","","","",""]
[null,null,null,null,null,null,"","",null,null,null,null,null,null,null,null,null,null,null,"UEFA CL ","Ludogorets Razgrad","Midtjylland","1904147.htm","Aug.26 20:30","http://www.goaloo.co/1x2/1904147.htm",null,"UEFA CL ","Aug.26 20:30","Ludogorets Razgrad",2.39,3.31,2.72,0.3851,0.27739999999999998,0.33739999999999998,0.91900000000000004,"Midtjylland","View(165)"]
[null,null,null,null,null,null,"","",null,null,null,null,null,null,null,null,null,null,null,"","","","","","",null,null,null,null,2.41,3.32,2.73,0.38329999999999997,0.2782,0.33860000000000001,0.9234]
[null,null,null,null,null,null,"","",null,null,null,null,null,null,null,null,null,null,null,"RUS PR ","FC Krasnodar","CSKA Moscow","1886606.htm","Aug.26 20:30","http://www.goaloo.co/1x2/1886606.htm",null,"RUS PR ","Aug.26 20:30","FC Krasnodar",2.34,3.27,2.87,0.3952,0.28310000000000002,0.32169999999999999,0.9244,"CSKA Moscow","View(186)"]
[null,null,null,null,null,null,"","",null,null,null,null,null,null,null,null,null,null,null,"","","","","","",null,null,null,null,2.4500000000000002,3.26,2.77,0.37959999999999999,0.28549999999999998,0.33489999999999998,0.92930000000000001]
[null,null,null,null,null,null,"","",null,null,null,null,null,null,null,null,null,null,null,"RUS PR ","Rostov FK","Ural Sverdlovsk Oblast","1886610.htm","Aug.26 20:30","http://www.goaloo.co/1x2/1886610.htm",null,"RUS PR ","Aug.26 20:30","Rostov FK",1.72,3.51,4.68,0.53869999999999996,0.26350000000000001,0.1978,0.92620000000000002,"Ural Sverdlovsk Oblast","View(176)"]
[null,null,null,null,null,null,"","",null,null,null,null,null,null,null,null,null,null,null,"","","","","","",null,null,null,null,1.73,3.5,4.7300000000000004,0.53820000000000001,0.26540000000000002,0.19639999999999999,0.92879999999999996]
[null,null,null,null,null,null,"","",null,null,null,null,null,null,null,null,null,null,null,"INT CF ","Cadiz","Malaga","1903381.htm","Aug.26 20:30","http://www.goaloo.co/1x2/1903381.htm",null,"INT CF ","Aug.26 20:30","Cadiz",1.69,3.53,4.2699999999999996,0.53349999999999997,0.25540000000000002,0.21110000000000001,0.90159999999999996,"Malaga","View(5)"]
[null,null,null,null,null,null,"","",null,null,null,null,null,null,null,null,null,null,null,"","","","","","",null,null,null,null,1.33,4.4000000000000004,7.38,0.67420000000000002,0.2041,0.1217,0.89800000000000002]
[null,null,null,null,null,null,"","",null,null,null,null,null,null,null,null,null,null,null,"INT CF ","Ratingen SV","VfB Solingen 1910","1908463.htm","Aug.26 20:30","http://www.goaloo.co/1x2/1908463.htm",null,"INT CF ","Aug.26 20:30","Ratingen SV",1.06,11,13,0.84899999999999998,8.1799999999999998E-2,6.9199999999999998E-2,0.89990000000000003,"VfB Solingen 1910","View(1)"]
[null,null,null,null,null,null,"","",null,null,null,null,null,null,null,null,null,null,null,"","","","","",""]
[null,null,null,null,null,null,"","",null,null,null,null,null,null,null,null,null,null,null,"SWE WD2 ","Alvsjo AIK FF (w)","Sandvikens IF (W)","1871684.htm","Aug.26 20:30","http://www.goaloo.co/1x2/1871684.htm",null,"SWE WD2 ","Aug.26 20:30","Alvsjo AIK FF (w)",1.89,4.34,2.66,0.4667,0.20280000000000001,0.33040000000000003,0.87970000000000004,"Sandvikens IF (W)","View(4)"]
[null,null,null,null,null,null,"","",null,null,null,null,null,null,null,null,null,null,null,"","","","","",""]
[null,null,null,null,null,null,"","",null,null,null,null,null,null,null,null,null,null,null,"Ire LSL","Crumlin United","Ballymun United","1908444.htm","Aug.26 20:30","http://www.goaloo.co/1x2/1908444.htm",null,"Ire LSL","Aug.26 20:30","Crumlin United",1.28,5.5,6.5,0.69950000000000001,0.1628,0.13769999999999999,0.89539999999999997,"Ballymun United","View(1)"]
[null,null,null,null,null,null,"","",null,null,null,null,null,null,null,null,null,null,null,"","","","","",""]
[null,null,null,null,null,null,"","",null,null,null,null,null,null,null,null,null,null,null,"Ire LSL","Dublin Bus FC","Tek United","1908445.htm","Aug.26 20:30","http://www.goaloo.co/1x2/1908445.htm",null,"Ire LSL","Aug.26 20:30","Dublin Bus FC",1.44,4,6,0.625,0.22500000000000001,0.15,0.9,"Tek United","View(1)"]
[null,null,null,null,null,null,"","",null,null,null,null,null,null,null,null,null,null,null,{"$f":"IF(W450=\"\",\"\",AA450)","v":""},{"$f":"IF(W450=\"\",\"\",AC450)","v":""},{"$f":"IF(W450=\"\",\"\",AK450)","v":""},{"$f":"IFERROR(IF(Y450=\"\",\"\",MID(Y450,SEARCH(\"1x2/\",Y450,1) + 4,LEN(Y450))),\"\")","v":""},{"$f":"IF(W450=\"\",\"\",AB450)","v":""},{"$f":"HLink(AL450)","v":""}]
[null,null,null,null,null,null,{"$f":"IF(D451=\"\",\"\",E451&\" \"&A451&\" \"&\"    \"&\" \"&B451&\" - \"&C451)","v":""},{"$f":"IF(G451=\"\",\"\",D451)","v":""},null,null,null,null,null,null,null,null,null,null,null,"Ire LSL","Kilnamanagh AFC","Newtown Rangers AFC","1908446.htm","Aug.26 20:30","http://www.goaloo.co/1x2/1908446.htm",null,"Ire LSL","Aug.26 20:30","Kilnamanagh AFC",1.36,4.5,6.5,0.66159999999999997,0.2,0.1384,0.89980000000000004,"Newtown Rangers AFC","View(1)"]
[null,null,null,null,null,null,"","",null,null,null,null,null,null,null,null,null,null,null,"","","","","",""]
[null,null,null,null,null,null,"","",null,null,null,null,null,null,null,null,null,null,null,"Ire LSL","Portmarnock","St. Mochtas","1908447.htm","Aug.26 20:30","http://www.goaloo.co/1x2/1908447.htm",null,"Ire LSL","Aug.26 20:30","Portmarnock",7,6,1.25,0.1288,0.1502,0.72099999999999997,0.90159999999999996,"St. Mochtas","View(1)"]
[null,null,null,null,null,null,"","",null,null,null,null,null,null,null,null,null,null,null,"","","","","",""]
[null,null,null,null,null,null,"","",null,null,null,null,null,null,null,null,null,null,null,"RUS PR ","Dynamo Moscow","Zenit St. Petersburg","1886607.htm","Aug.26 20:45","http://www.goaloo.co/1x2/1886607.htm",null,"RUS PR ","Aug.26 20:45","Dynamo Moscow",4.25,3.36,1.83,0.218,0.27589999999999998,0.50609999999999999,0.92689999999999995,"Zenit St. Petersburg","View(181)"]
[null,null,null,null,null,null,"","",null,null,null,null,null,null,null,null,null,null,null,"","","","","","",null,null,null,null,4.71,3.51,1.73,0.19739999999999999,0.26450000000000001,0.53810000000000002,0.92920000000000003]
[null,null,null,null,null,null,"","",null,null,null,null,null,null,null,null,null,null,null,"UEFA CL ","Legia Warszawa","Omonia Nicosia FC","1904149.htm","Aug.26 21:00","http://www.goaloo.co/1x2/1904149.htm",null,"UEFA CL ","Aug.26 21:00","Legia Warszawa",1.65,3.64,4.87,0.55830000000000002,0.25259999999999999,0.189,0.92079999999999995,"Omonia Nicosia FC","View(168)"]
[null,null,null,null,null,null,"","",null,null,null,null,null,null,null,null,null,null,null,"","","","","","",null,null,null,null,1.65,3.73,4.83,0.5605,0.248,0.1915,0.92459999999999998]
[null,null,null,null,null,null,"","",null,null,null,null,null,null,null,null,null,null,null,"UEFA CL ","CFR Cluj","Dinamo Zagreb","1904150.htm","Aug.26 21:00","http://www.goaloo.co/1x2/1904150.htm",null,"UEFA CL ","Aug.26 21:00","CFR Cluj",2.87,3.19,2.34,0.32,0.28749999999999998,0.39250000000000002,0.91790000000000005,"Dinamo Zagreb","View(168)"]
[null,null,null,null,null,null,"","",null,null,null,null,null,null,null,null,null,null,null,"","","","","","",null,null,null,null,3.1,3.25,2.21,0.2979,0.28420000000000001,0.41789999999999999,0.92430000000000001]
[null,null,null,null,null,null,"","",null,null,null,null,null,null,null,null,null,null,null,"UEFA CL ","Dinamo Brest","Sarajevo","1904151.htm","Aug.26 21:00","http://www.goaloo.co/1x2/1904151.htm",null,"UEFA CL ","Aug.26 21:00","Dinamo Brest",1.98,3.5,3.37,0.4642,0.26279999999999998,0.27300000000000002,0.91990000000000005,"Sarajevo","View(169)"]
[null,null,null,null,null,null,"","",null,null,null,null,null,null,null,null,null,null,null,"","","","","","",null,null,null,null,1.8,3.59,4.01,0.51249999999999996,0.25729999999999997,0.23019999999999999,0.92300000000000004]
[null,null,null,null,null,null,"","",null,null,null,null,null,null,null,null,null,null,null,"UEFA WUC ","Paris Saint Germain (w)","Lyon (w)","1907872.htm","Aug.26 21:00","http://www.goaloo.co/1x2/1907872.htm",null,"UEFA WUC ","Aug.26 21:00","Paris Saint Germain (w)",3.77,3.47,1.83,0.2414,0.26250000000000001,0.49609999999999999,0.90969999999999995,"Lyon (w)","View(72)"]
[null,null,null,null,null,null,"","",null,null,null,null,null,null,null,null,null,null,null,"","","","","","",null,null,null,null,3.79,3.48,1.83,0.2404,0.26190000000000002,0.49769999999999998,0.9123]
[null,null,null,null,null,null,"","",null,null,null,null,null,null,null,null,null,null,null,"NORW ","Klepp (w)","Avaldsnes (w)","1872254.htm","Aug.26 21:00","http://www.goaloo.co/1x2/1872254.htm",null,"NORW ","Aug.26 21:00","Klepp (w)",2.54,3.64,2.2999999999999998,0.35649999999999998,0.24879999999999999,0.39460000000000001,0.90620000000000001,"Avaldsnes (w)","View(57)"]
[null,null,null,null,null,null,"","",null,null,null,null,null,null,null,null,null,null,null,"","","","","","",null,null,null,null,2.4,3.69,2.41,0.37840000000000001,0.24540000000000001,0.37619999999999998,0.90639999999999998]
[null,null,null,null,null,null,"","",null,null,null,null,null,null,null,null,null,null,null,"ICE PR ","Stjarnan Gardabaer","KA Akureyri","1832217.htm","Aug.26 21:00","http://www.goaloo.co/1x2/1832217.htm",null,"ICE PR ","Aug.26 21:00","Stjarnan Gardabaer",1.59,3.97,4.6500000000000004,0.57350000000000001,0.22989999999999999,0.1966,0.91359999999999997,"KA Akureyri","View(150)"]
[null,null,null,null,null,null,"","",null,null,null,null,null,null,null,null,null,null,null,"","","","","","",null,null,null,null,1.61,3.88,4.7,0.56930000000000003,0.2359,0.1948,0.91559999999999997]
[null,null,null,null,null,null,"","",null,null,null,null,null,null,null,null,null,null,null,"KUW D1 ","Al-Sahel","Al-Salmiyah","1830632.htm","Aug.26 21:00","http://www.goaloo.co/1x2/1830632.htm",null,"KUW D1 ","Aug.26 21:00","Al-Sahel",4.43,4.05,1.61,0.20649999999999999,0.22600000000000001,0.56759999999999999,0.91520000000000001,"Al-Salmiyah","View(39)"]
[null,null,null,null,null,null,"","",null,null,null,null,null,null,null,null,null,null,null,"","","","","","",null,null,null,null,5.35,4.2699999999999996,1.48,0.17019999999999999,0.21340000000000001,0.61639999999999995,0.91]
[null,null,null,null,null,null,"","",null,null,null,null,null,null,null,null,null,null,null,"TUN D1 ","U.S.Monastir","US Tataouine","1871874.htm","Aug.26 21:00","http://www.goaloo.co/1x2/1871874.htm",null,"TUN D1 ","Aug.26 21:00","U.S.Monastir",1.5,3.69,5.8,0.59989999999999999,0.24460000000000001,0.1555,0.90210000000000001,"US Tataouine","View(70)"]
[null,null,null,null,null,null,"","",null,null,null,null,null,null,null,null,null,null,null,"","","","","","",null,null,null,null,1.49,3.7,5.97,0.60450000000000004,0.2442,0.15129999999999999,0.90359999999999996]
[null,null,null,null,null,null,"","",null,null,null,null,null,null,null,null,null,null,null,"INT CF ","Internacional（w）","Flamengo/RJ (w)","1908471.htm","Aug.26 21:00","http://www.goaloo.co/1x2/1908471.htm",null,"INT CF ","Aug.26 21:00","Internacional（w）",1.61,4,4,0.55400000000000005,0.223,0.223,0.89190000000000003,"Flamengo/RJ (w)","View(1)"]
[null,null,null,null,null,null,"","",null,null,null,null,null,null,null,null,null,null,null,"","","","","",""]
[null,null,null,null,null,null,"","",null,null,null,null,null,null,null,null,null,null,null,"LCE D4","Lettir Reykjavik","KFS Vestmannaeyjar","1908411.htm","Aug.26 21:00","http://www.goaloo.co/1x2/1908411.htm",null,"LCE D4","Aug.26 21:00","Lettir Reykjavik",10.88,8.48,1.1100000000000001,8.2500000000000004E-2,0.10589999999999999,0.81159999999999999,0.8972,"KFS Vestmannaeyjar","View(10)"]
[null,null,null,null,null,null,"","",null,null,null,null,null,null,null,null,null,null,null,"","","","","","",null,null,null,null,11.18,8.58,1.1100000000000001,8.0699999999999994E-2,0.1052,0.81410000000000005,0.90180000000000005]
[null,null,null,null,null,null,"","",null,null,null,null,null,null,null,null,null,null,null,"LCE D4","Ymir","Vatnaliljur","1908412.htm","Aug.26 21:00","http://www.goaloo.co/1x2/1908412.htm",null,"LCE D4","Aug.26 21:00","Ymir",1.04,12.58,19.329999999999998,0.87980000000000003,7.2800000000000004E-2,4.7399999999999998E-2,0.91649999999999998,"Vatnaliljur","View(6)"]
[null,null,null,null,null,null,"","",null,null,null,null,null,null,null,null,null,null,null,"","","","","","",null,null,null,null,1.03,13.75,23.67,0.89459999999999995,6.6699999999999995E-2,3.8699999999999998E-2,0.91700000000000004]
[null,null,null,null,null,null,"","",null,null,null,null,null,null,null,null,null,null,null,"Ire LSL","Newbridge Town","Maynooth University Town FC","1908448.htm","Aug.26 21:00","http://www.goaloo.co/1x2/1908448.htm",null,"Ire LSL","Aug.26 21:00","Newbridge Town",4.5,4.5,1.5,0.2,0.2,0.6,0.9,"Maynooth University Town FC","View(1)"]
[null,null,null,null,null,null,"","",null,null,null,null,null,null,null,null,null,null,null,"","","","","",""]
[null,null,null,null,null,null,"","",null,null,null,null,null,null,null,null,null,null,null,"Swi D1W","Lucerne Women","St Gallen (w)","1908436.htm","Aug.26 21:00","http://www.goaloo.co/1x2/1908436.htm",null,"Swi D1W","Aug.26 21:00","Lucerne Women",1.5,4.2,4.75,0.5978,0.2135,0.1888,0.89670000000000005,"St Gallen (w)","View(1)"]
[null,null,null,null,null,null,"","",null,null,null,null,null,null,null,null,null,null,null,"","","","","",""]
[null,null,null,null,null,null,"","",null,null,null,null,null,null,null,null,null,null,null,"Swi D1W","Fcf Rapid Lugano (w)","Grasshopper (w)","1908437.htm","Aug.26 21:00","http://www.goaloo.co/1x2/1908437.htm",null,"Swi D1W","Aug.26 21:00","Fcf Rapid Lugano (w)",9,6,1.2,0.1,0.15,0.75,0.9,"Grasshopper (w)","View(1)"]
[null,null,null,null,null,null,"","",null,null,null,null,null,null,null,null,null,null,null,"","","","","",""]
[null,null,null,null,null,null,"","",null,null,null,null,null,null,null,null,null,null,null,"Swi D1W","Servette (w)","Young Boys (w)","1908438.htm","Aug.26 21:00","http://www.goaloo.co/1x2/1908438.htm",null,"Swi D1W","Aug.26 21:00","Servette (w)",1.26,5.58,7.66,0.71989999999999998,0.16200000000000001,0.1181,0.90469999999999995,"Young Boys (w)","View(3)"]
[null,null,null,null,null,null,"","",null,null,null,null,null,null,null,null,null,null,null,"","","","","",""]
[null,null,null,null,null,null,"","",null,null,null,null,null,null,null,null,null,null,null,"ICE U19L","Fylkir/Ellidi U19","Breidablik Augnablik Smari U19","1908435.htm","Aug.26 21:00","http://www.goaloo.co/1x2/1908435.htm",null,"ICE U19L","Aug.26 21:00","Fylkir/Ellidi U19",8,7.5,1.1599999999999999,0.1116,0.11899999999999999,0.76939999999999997,0.89280000000000004,"Breidablik Augnablik Smari U19","View(1)"]
[null,null,null,null,null,null,"","",null,null,null,null,null,null,null,null,null,null,null,"","","","","",""]
[null,null,null,null,null,null,"","",null,null,null,null,null,null,null,null,null,null,null,"BRA SPB ","Monte Azul SP","AA Portuguesa Santista","1833829.htm","Aug.26 21:00","http://www.goaloo.co/1x2/1833829.htm",null,"BRA SPB ","Aug.26 21:00","Monte Azul SP",2.77,3.19,2.2400000000000002,0.3221,0.2797,0.3982,0.89349999999999996,"AA Portuguesa Santista","View(10)"]
[null,null,null,null,null,null,"","",null,null,null,null,null,null,null,null,null,null,null,"","","","","","",null,null,null,null,2.87,3.2,2.17,0.31090000000000001,0.27839999999999998,0.41070000000000001,0.89200000000000002]
[null,null,null,null,null,null,"","",null,null,null,null,null,null,null,null,null,null,null,"BRA SPB ","CA Votuporanguense SP","Sao Caetano","1833830.htm","Aug.26 21:00","http://www.goaloo.co/1x2/1833830.htm",null,"BRA SPB ","Aug.26 21:00","CA Votuporanguense SP",3.78,3.56,1.79,0.2394,0.25419999999999998,0.50639999999999996,0.90369999999999995,"Sao Caetano","View(12)"]
[null,null,null,null,null,null,"","",null,null,null,null,null,null,null,null,null,null,null,"","","","","","",null,null,null,null,3.77,3.57,1.78,0.23980000000000001,0.25309999999999999,0.50719999999999998,0.9042]
[null,null,null,null,null,null,"","",null,null,null,null,null,null,null,null,null,null,null,"BRA SPB ","Atibaia","Rio Claro","1833831.htm","Aug.26 21:00","http://www.goaloo.co/1x2/1833831.htm",null,"BRA SPB ","Aug.26 21:00","Atibaia",2.15,3.1,3.06,0.41710000000000003,0.28949999999999998,0.29339999999999999,0.89829999999999999,"Rio Claro","View(11)"]
[null,null,null,null,null,null,"","",null,null,null,null,null,null,null,null,null,null,null,"","","","","","",null,null,null,null,2.14,3.1,3.1,0.41970000000000002,0.28989999999999999,0.29039999999999999,0.89970000000000006]
[null,null,null,null,null,null,"","",null,null,null,null,null,null,null,null,null,null,null,"BRA SPB ","Sertaozinho","Taubate","1833833.htm","Aug.26 21:00","http://www.goaloo.co/1x2/1833833.htm",null,"BRA SPB ","Aug.26 21:00","Sertaozinho",3.33,3.21,1.99,0.26929999999999998,0.27979999999999999,0.45090000000000002,0.89800000000000002,"Taubate","View(11)"]
[null,null,null,null,null,null,"","",null,null,null,null,null,null,null,null,null,null,null,"","","","","","",null,null,null,null,3.38,3.21,1.97,0.26529999999999998,0.27910000000000001,0.4556,0.8962]
[null,null,null,null,null,null,"","",null,null,null,null,null,null,null,null,null,null,null,"BRA SPB ","Sao Bernardo","XV de Piracicaba","1833835.htm","Aug.26 21:00","http://www.goaloo.co/1x2/1833835.htm",null,"BRA SPB ","Aug.26 21:00","Sao Bernardo",2.15,3.16,3.09,0.4209,0.28639999999999999,0.29270000000000002,0.90429999999999999,"XV de Piracicaba","View(13)"]
[null,null,null,null,null,null,"","",null,null,null,null,null,null,null,null,null,null,null,"","","","","","",null,null,null,null,2.25,3.14,2.94,0.40279999999999999,0.2888,0.30840000000000001,0.90720000000000001]
[null,null,null,null,null,null,"","",null,null,null,null,null,null,null,null,null,null,null,"BRA SPB ","Portuguesa Desportos","Juventus SP","1833836.htm","Aug.26 21:00","http://www.goaloo.co/1x2/1833836.htm",null,"BRA SPB ","Aug.26 21:00","Portuguesa Desportos",1.95,3.2,3.39,0.45739999999999997,0.2792,0.26340000000000002,0.89400000000000002,"Juventus SP","View(9)"]
[null,null,null,null,null,null,"","",null,null,null,null,null,null,null,null,null,null,null,"","","","","","",null,null,null,null,1.95,3.2,3.4,0.45760000000000001,0.2797,0.26269999999999999,0.89380000000000004]
[null,null,null,null,null,null,"","",null,null,null,null,null,null,null,null,null,null,null,"TUN D1 ","Club Africain","Esperance Sportive de Tunis","1871869.htm","Aug.26 21:10","http://www.goaloo.co/1x2/1871869.htm",null,"TUN D1 ","Aug.26 21:10","Club Africain",3.07,2.99,2.2200000000000002,0.29310000000000003,0.3009,0.40600000000000003,0.89959999999999996,"Esperance Sportive de Tunis","View(69)"]
[null,null,null,null,null,null,"","",null,null,null,null,null,null,null,null,null,null,null,"","","","","","",null,null,null,null,3.15,3,2.1800000000000002,0.28649999999999998,0.30049999999999999,0.41299999999999998,0.90110000000000001]
[null,null,null,null,null,null,"","",null,null,null,null,null,null,null,null,null,null,null,"UEFA CL ","Celtic FC","Ferencvarosi TC","1904152.htm","Aug.26 21:45","http://www.goaloo.co/1x2/1904152.htm",null,"UEFA CL ","Aug.26 21:45","Celtic FC",1.48,4.1500000000000004,5.78,0.61970000000000003,0.2213,0.15909999999999999,0.91910000000000003,"Ferencvarosi TC","View(169)"]
[null,null,null,null,null,null,"","",null,null,null,null,null,null,null,null,null,null,null,"","","","","","",null,null,null,null,1.36,4.6900000000000004,7.5,0.67889999999999995,0.1976,0.1235,0.92579999999999996]
[null,null,null,null,null,null,"","",null,null,null,null,null,null,null,null,null,null,null,"Ire LSL","St John Bosco","Dunboyne AFC","1908449.htm","Aug.26 21:45","http://www.goaloo.co/1x2/1908449.htm",null,"Ire LSL","Aug.26 21:45","St John Bosco",1.33,4.5,7,0.67310000000000003,0.19900000000000001,0.12790000000000001,0.8952,"Dunboyne AFC","View(1)"]
[null,null,null,null,null,null,"","",null,null,null,null,null,null,null,null,null,null,null,"","","","","",""]
[null,null,null,null,null,null,"","",null,null,null,null,null,null,null,null,null,null,null,"EGY D1 ","EL Ahly","El Gounah","1799536.htm","Aug.26 22:00","http://www.goaloo.co/1x2/1799536.htm",null,"EGY D1 ","Aug.26 22:00","EL Ahly",1.21,5.07,12.73,0.74919999999999998,0.1794,7.1400000000000005E-2,0.90900000000000003,"El Gounah","View(67)"]
[null,null,null,null,null,null,"","",null,null,null,null,null,null,null,null,null,null,null,"","","","","","",null,null,null,null,1.21,5.17,13.45,0.75560000000000005,0.17649999999999999,6.7799999999999999E-2,0.91279999999999994]
[null,null,null,null,null,null,"","",null,null,null,null,null,null,null,null,null,null,null,"MAR D1 ","Renaissance Sportive de Berkane","FAR Forces Armee Royales","1795997.htm","Aug.26 22:00","http://www.goaloo.co/1x2/1795997.htm",null,"MAR D1 ","Aug.26 22:00","Renaissance Sportive de Berkane",1.88,3.01,4.16,0.48120000000000002,0.30109999999999998,0.2177,0.90510000000000002,"FAR Forces Armee Royales","View(93)"]
[null,null,null,null,null,null,"","",null,null,null,null,null,null,null,null,null,null,null,"","","","","","",null,null,null,null,1.91,2.98,4.0999999999999996,0.47499999999999998,0.30399999999999999,0.22090000000000001,0.90669999999999995]
[null,null,null,null,null,null,"","",null,null,null,null,null,null,null,null,null,null,null,"BRA CUP ","CRB AL","Cruzeiro (MG)","1857887.htm","Aug.26 22:00","http://www.goaloo.co/1x2/1857887.htm",null,"BRA CUP ","Aug.26 22:00","CRB AL",3.94,3.23,1.88,0.23150000000000001,0.28239999999999998,0.48620000000000002,0.91210000000000002,"Cruzeiro (MG)","View(102)"]
[null,null,null,null,null,null,"","",null,null,null,null,null,null,null,null,null,null,null,"","","","","","",null,null,null,null,3.72,3.15,1.95,0.24490000000000001,0.28889999999999999,0.4662,0.91080000000000005]
[null,null,null,null,null,null,"","",null,null,null,null,null,null,null,null,null,null,null,"BRA CUP ","America FC Natal RN","Juventude","1857888.htm","Aug.26 22:00","http://www.goaloo.co/1x2/1857888.htm",null,"BRA CUP ","Aug.26 22:00","America FC Natal RN",3.17,3.06,2.1800000000000002,0.2868,0.29699999999999999,0.4163,0.90890000000000004,"Juventude","View(104)"]
[null,null,null,null,null,null,"","",null,null,null,null,null,null,null,null,null,null,null,{"$f":"IF(W514=\"\",\"\",AA514)","v":""},{"$f":"IF(W514=\"\",\"\",AC514)","v":""},{"$f":"IF(W514=\"\",\"\",AK514)","v":""},{"$f":"IFERROR(IF(Y514=\"\",\"\",MID(Y514,SEARCH(\"1x2/\",Y514,1) + 4,LEN(Y514))),\"\")","v":""},{"$f":"IF(W514=\"\",\"\",AB514)","v":""},{"$f":"HLink(AL514)","v":""},null,null,null,null,3.19,3.04,2.19,0.28510000000000002,0.29899999999999999,0.41589999999999999,0.90959999999999996]
[null,null,null,null,null,null,{"$f":"IF(D515=\"\",\"\",E515&\" \"&A515&\" \"&\"    \"&\" \"&B515&\" - \"&C515)","v":""},{"$f":"IF(G515=\"\",\"\",D515)","v":""},null,null,null,null,null,null,null,null,null,null,null,"INT CF ","NSI Runavik (W)","HB Torshavn (W)","1908465.htm","Aug.26 22:00","http://www.goaloo.co/1x2/1908465.htm",null,"INT CF ","Aug.26 22:00","NSI Runavik (W)",1.66,4,3.75,0.5383,0.22339999999999999,0.23830000000000001,0.89359999999999995,"HB Torshavn (W)","View(1)"]
[null,null,null,null,null,null,"","",null,null,null,null,null,null,null,null,null,null,null,"","","","","",""]
[null,null,null,null,null,null,"","",null,null,null,null,null,null,null,null,null,null,null,"INT CF ","Cliftonville LFC (w)","Glentoran (w)","1908467.htm","Aug.26 22:00","http://www.goaloo.co/1x2/1908467.htm",null,"INT CF ","Aug.26 22:00","Cliftonville LFC (w)",7,5.5,1.28,0.12920000000000001,0.16439999999999999,0.70640000000000003,0.90439999999999998,"Glentoran (w)","View(1)"]
[null,null,null,null,null,null,"","",null,null,null,null,null,null,null,null,null,null,null,"","","","","","",null,null,null,null,10,6.5,1.1599999999999999,8.9599999999999999E-2,0.13789999999999999,0.77249999999999996,0.89600000000000002]
[null,null,null,null,null,null,"","",null,null,null,null,null,null,null,null,null,null,null,"INT CF ","Linfield (w)","Crusaders Strikers (w)","1908468.htm","Aug.26 22:00","http://www.goaloo.co/1x2/1908468.htm",null,"INT CF ","Aug.26 22:00","Linfield (w)",1.2,6.5,9.5,0.76280000000000003,0.14080000000000001,9.64E-2,0.91539999999999999,"Crusaders Strikers (w)","View(1)"]
[null,null,null,null,null,null,"","",null,null,null,null,null,null,null,null,null,null,null,"","","","","",""]
[null,null,null,null,null,null,"","",null,null,null,null,null,null,null,null,null,null,null,"Ire LSL","Templeogue United FC","Drumcondra FC","1908450.htm","Aug.26 22:00","http://www.goaloo.co/1x2/1908450.htm",null,"Ire LSL","Aug.26 22:00","Templeogue United FC",1.75,3.6,3.8,0.51370000000000005,0.24970000000000001,0.2366,0.89900000000000002,"Drumcondra FC","View(1)"]
[null,null,null,null,null,null,"","",null,null,null,null,null,null,null,null,null,null,null,"","","","","",""]
[null,null,null,null,null,null,"","",null,null,null,null,null,null,null,null,null,null,null,"Ire LSL","Greystones","UCD AFC","1908452.htm","Aug.26 22:00","http://www.goaloo.co/1x2/1908452.htm",null,"Ire LSL","Aug.26 22:00","Greystones",4,4.2,1.6,0.22459999999999999,0.21390000000000001,0.5615,0.89839999999999998,"UCD AFC","View(1)"]
[null,null,null,null,null,null,"","",null,null,null,null,null,null,null,null,null,null,null,"","","","","","",null,null,null,null,3.1,3.75,1.9,0.28920000000000001,0.23899999999999999,0.4718,0.89649999999999996]
[null,null,null,null,null,null,"","",null,null,null,null,null,null,null,null,null,null,null,"ICE PR ","HK Kopavogs","Grotta Seltjarnarnes","1832288.htm","Aug.26 22:15","http://www.goaloo.co/1x2/1832288.htm",null,"ICE PR ","Aug.26 22:15","HK Kopavogs",1.66,3.95,4.16,0.54959999999999998,0.23100000000000001,0.21940000000000001,0.91220000000000001,"Grotta Seltjarnarnes","View(182)"]
[null,null,null,null,null,null,"","",null,null,null,null,null,null,null,null,null,null,null,"","","","","","",null,null,null,null,1.59,4.1100000000000003,4.53,0.57499999999999996,0.2228,0.20219999999999999,0.91569999999999996]
[null,null,null,null,null,null,"","",null,null,null,null,null,null,null,null,null,null,null,"ECU D1 ","CD El Nacional","Olmedo Riobamba","1897529.htm","Aug.26 22:30","http://www.goaloo.co/1x2/1897529.htm",null,"ECU D1 ","Aug.26 22:30","CD El Nacional",2.2999999999999998,3.26,2.92,0.40060000000000001,0.28289999999999998,0.3165,0.92290000000000005,"Olmedo Riobamba","View(8)"]
[null,null,null,null,null,null,"","",null,null,null,null,null,null,null,null,null,null,null,"","","","","","",null,null,null,null,2.2799999999999998,3.3,2.93,0.40570000000000001,0.27950000000000003,0.31480000000000002,0.92349999999999999]
[null,null,null,null,null,null,"","",null,null,null,null,null,null,null,null,null,null,null,"LCE D4","Hond Midasar","KB(ICE)","1908413.htm","Aug.26 23:00","http://www.goaloo.co/1x2/1908413.htm",null,"LCE D4","Aug.26 23:00","Hond Midasar",2.71,4.51,1.88,0.32900000000000001,0.19739999999999999,0.47360000000000002,0.89070000000000005,"KB(ICE)","View(11)"]
[null,null,null,null,null,null,"","",null,null,null,null,null,null,null,null,null,null,null,"","","","","","",null,null,null,null,2.71,4.55,1.89,0.32940000000000003,0.19670000000000001,0.47399999999999998,0.89419999999999999]
[null,null,null,null,null,null,"","",null,null,null,null,null,null,null,null,null,null,null,"LCE D3","Ellidi","Vaengir Jupiters","1908439.htm","Aug.26 23:00","http://www.goaloo.co/1x2/1908439.htm",null,"LCE D3","Aug.26 23:00","Ellidi",3.19,4.3099999999999996,1.73,0.27850000000000003,0.20619999999999999,0.51519999999999999,0.88870000000000005,"Vaengir Jupiters","View(10)"]
[null,null,null,null,null,null,"","",null,null,null,null,null,null,null,null,null,null,null,"","","","","","",null,null,null,null,3.23,4.24,1.75,0.27700000000000002,0.2109,0.51219999999999999,0.89390000000000003]
[null,null,null,null,null,null,"","",null,null,null,null,null,null,null,null,null,null,null,"PAR D1 ","Guay Leena","Cerro Porteno","1903308.htm","Aug.26 23:30","http://www.goaloo.co/1x2/1903308.htm",null,"PAR D1 ","Aug.26 23:30","Guay Leena",4.34,3.62,1.74,0.21310000000000001,0.25569999999999998,0.53120000000000001,0.92410000000000003,"Cerro Porteno","View(12)"]
[null,null,null,null,null,null,"","",null,null,null,null,null,null,null,null,null,null,null,"","","","","","",null,null,null,null,4.38,3.62,1.73,0.21099999999999999,0.255,0.53400000000000003,0.92379999999999995]
[null,null,null,null,null,null,"","",null,null,null,null,null,null,null,null,null,null,null,"MAR D1 ","IRT Itihad de Tanger","Renaissance Zmamra","1795999.htm","Aug.27 00:00","http://www.goaloo.co/1x2/1795999.htm",null,"MAR D1 ","Aug.27 00:00","IRT Itihad de Tanger",2.64,2.9,2.64,0.34350000000000003,0.313,0.34350000000000003,0.9073,"Renaissance Zmamra","View(60)"]
[null,null,null,null,null,null,"","",null,null,null,null,null,null,null,null,null,null,null,"","","","","","",null,null,null,null,2.64,2.9,2.64,0.34329999999999999,0.31319999999999998,0.34350000000000003,0.90720000000000001]
[null,null,null,null,null,null,"","",null,null,null,null,null,null,null,null,null,null,null,"ECU D1 ","Club Sport Emelec","Pottu Via Ho","1897524.htm","Aug.27 00:45","http://www.goaloo.co/1x2/1897524.htm",null,"ECU D1 ","Aug.27 00:45","Club Sport Emelec",1.51,3.58,6.39,0.60250000000000004,0.25469999999999998,0.14280000000000001,0.91200000000000003,"Pottu Via Ho","View(33)"]
[null,null,null,null,null,null,"","",null,null,null,null,null,null,null,null,null,null,null,"","","","","","",null,null,null,null,1.51,3.63,6.25,0.60260000000000002,0.2515,0.1459,0.9123]
[null,null,null,null,null,null,"","",null,null,null,null,null,null,null,null,null,null,null,"BRA D1 ","Sao Paulo","Atletico Paranaense","1858680.htm","Aug.27 01:00","http://www.goaloo.co/1x2/1858680.htm",null,"BRA D1 ","Aug.27 01:00","Sao Paulo",1.85,3.28,4.28,0.50019999999999998,0.28289999999999998,0.21679999999999999,0.92730000000000001,"Atletico Paranaense","View(135)"]
[null,null,null,null,null,null,"","",null,null,null,null,null,null,null,null,null,null,null,"","","","","","",null,null,null,null,1.95,3.19,4.03,0.4778,0.29139999999999999,0.23080000000000001,0.92969999999999997]
[null,null,null,null,null,null,"","",null,null,null,null,null,null,null,null,null,null,null,"BRA CUP ","Parana PR","Botafogo RJ","1857889.htm","Aug.27 01:00","http://www.goaloo.co/1x2/1857889.htm",null,"BRA CUP ","Aug.27 01:00","Parana PR",2.95,3.07,2.2999999999999998,0.30830000000000002,0.2959,0.39579999999999999,0.90890000000000004,"Botafogo RJ","View(61)"]
[null,null,null,null,null,null,"","",null,null,null,null,null,null,null,null,null,null,null,"","","","","","",null,null,null,null,3.01,3.04,2.2799999999999998,0.30170000000000002,0.29909999999999998,0.39929999999999999,0.90890000000000004]
[null,null,null,null,null,null,"","",null,null,null,null,null,null,null,null,null,null,null,"Brazil L","Vasco AC","Rio Branco AC","1908453.htm","Aug.27 01:00","http://www.goaloo.co/1x2/1908453.htm",null,"Brazil L","Aug.27 01:00","Vasco AC",12.6,7.66,1.08,6.9800000000000001E-2,0.1148,0.8155,0.87949999999999995,"Rio Branco AC","View(5)"]
[null,null,null,null,null,null,"","",null,null,null,null,null,null,null,null,null,null,null,"","","","","","",null,null,null,null,13,7.86,1.08,6.7900000000000002E-2,0.11219999999999999,0.81989999999999996,0.88270000000000004]
[null,null,null,null,null,null,"","",null,null,null,null,null,null,null,null,null,null,null,"INT CF ","SC Corinthians Paulista (w)","Ferroviaria SP (w)","1908470.htm","Aug.27 01:30","http://www.goaloo.co/1x2/1908470.htm",null,"INT CF ","Aug.27 01:30","SC Corinthians Paulista (w)",1.4,4.2,6,0.63829999999999998,0.21279999999999999,0.1489,0.89359999999999995,"Ferroviaria SP (w)","View(1)"]
[null,null,null,null,null,null,"","",null,null,null,null,null,null,null,null,null,null,null,"","","","","",""]
[null,null,null,null,null,null,"","",null,null,null,null,null,null,null,null,null,null,null,"USL D1 ","Charlotte Independence","North Carolina","1875961.htm","Aug.27 02:00","http://www.goaloo.co/1x2/1875961.htm",null,"USL D1 ","Aug.27 02:00","Charlotte Independence",1.83,3.61,3.56,0.49459999999999998,0.25109999999999999,0.25430000000000003,0.90639999999999998,"North Carolina","View(60)"]
[null,null,null,null,null,null,"","",null,null,null,null,null,null,null,null,null,null,null,"","","","","","",null,null,null,null,1.84,3.62,3.51,0.49209999999999998,0.25019999999999998,0.25769999999999998,0.90559999999999996]
[null,null,null,null,null,null,"","",null,null,null,null,null,null,null,null,null,null,null,"MLS ","Orlando City","Nashville","1896897.htm","Aug.27 02:30","http://www.goaloo.co/1x2/1896897.htm",null,"MLS ","Aug.27 02:30","Orlando City",1.8,3.61,4.01,0.5131,0.25609999999999999,0.23080000000000001,0.92569999999999997,"Nashville","View(183)"]
[null,null,null,null,null,null,"","",null,null,null,null,null,null,null,null,null,null,null,"","","","","","",null,null,null,null,1.82,3.58,4.04,0.51,0.25979999999999998,0.23019999999999999,0.93069999999999997]
[null,null,null,null,null,null,"","",null,null,null,null,null,null,null,null,null,null,null,"PAR D1 ","12 de Octubre","Olimpia Asuncion","1903313.htm","Aug.27 02:30","http://www.goaloo.co/1x2/1903313.htm",null,"PAR D1 ","Aug.27 02:30","12 de Octubre",5.58,3.83,1.54,0.16450000000000001,0.23949999999999999,0.59599999999999997,0.91790000000000005,"Olimpia Asuncion","View(3)"]
[null,null,null,null,null,null,"","",null,null,null,null,null,null,null,null,null,null,null,"","","","","",""]
[null,null,null,null,null,null,"","",null,null,null,null,null,null,null,null,null,null,null,"USL D1 ","Charleston Battery","Miami FC","1876048.htm","Aug.27 02:30","http://www.goaloo.co/1x2/1876048.htm",null,"USL D1 ","Aug.27 02:30","Charleston Battery",1.49,4.42,4.8,0.60640000000000005,0.2049,0.18870000000000001,0.90610000000000002,"Miami FC","View(48)"]
[null,null,null,null,null,null,"","",null,null,null,null,null,null,null,null,null,null,null,"","","","","","",null,null,null,null,1.5,4.4800000000000004,4.7,0.60499999999999998,0.20230000000000001,0.19270000000000001,0.90549999999999997]
[null,null,null,null,null,null,"","",null,null,null,null,null,null,null,null,null,null,null,"MLS ","Club Internacional de Futbol Miami","Atlanta United","1896898.htm","Aug.27 03:00","http://www.goaloo.co/1x2/1896898.htm",null,"MLS ","Aug.27 03:00","Club Internacional de Futbol Miami",2.61,3.39,2.5,0.35560000000000003,0.27379999999999999,0.37059999999999998,0.92789999999999995,"Atlanta United","View(172)"]
[null,null,null,null,null,null,"","",null,null,null,null,null,null,null,null,null,null,null,"","","","","","",null,null,null,null,2.42,3.36,2.75,0.38479999999999998,0.27710000000000001,0.33810000000000001,0.93140000000000001]
[null,null,null,null,null,null,"","",null,null,null,null,null,null,null,null,null,null,null,"INT CF ","Nauas AC","Placido de Castro","1908472.htm","Aug.27 03:00","http://www.goaloo.co/1x2/1908472.htm",null,"INT CF ","Aug.27 03:00","Nauas AC",4.76,4,1.45,0.18260000000000001,0.2175,0.59989999999999999,0.86960000000000004,"Placido de Castro","View(4)"]
[null,null,null,null,null,null,"","",null,null,null,null,null,null,null,null,null,null,null,"","","","","",""]
[null,null,null,null,null,null,"","",null,null,null,null,null,null,null,null,null,null,null,"USL D1 ","Louisville City FC","Indy Eleven","1876049.htm","Aug.27 03:00","http://www.goaloo.co/1x2/1876049.htm",null,"USL D1 ","Aug.27 03:00","Louisville City FC",2.84,3.48,2.14,0.31840000000000002,0.2596,0.42199999999999999,0.90449999999999997,"Indy Eleven","View(62)"]
[null,null,null,null,null,null,"","",null,null,null,null,null,null,null,null,null,null,null,"","","","","","",null,null,null,null,2.85,3.53,2.12,0.3175,0.25590000000000002,0.42659999999999998,0.90369999999999995]
[null,null,null,null,null,null,"","",null,null,null,null,null,null,null,null,null,null,null,"ECU D1 ","Guayaquil City","Barcelona SC(ECU)","1897530.htm","Aug.27 03:00","http://www.goaloo.co/1x2/1897530.htm",null,"ECU D1 ","Aug.27 03:00","Guayaquil City",4.5,3.37,1.74,0.20349999999999999,0.2717,0.52480000000000004,0.91569999999999996,"Barcelona SC(ECU)","View(23)"]
[null,null,null,null,null,null,"","",null,null,null,null,null,null,null,null,null,null,null,"","","","","","",null,null,null,null,4.37,3.43,1.75,0.20930000000000001,0.26700000000000002,0.52370000000000005,0.91559999999999997]
[null,null,null,null,null,null,"","",null,null,null,null,null,null,null,null,null,null,null,"MLS ","FC Dallas","Colorado Rapids","1896899.htm","Aug.27 03:30","http://www.goaloo.co/1x2/1896899.htm",null,"MLS ","Aug.27 03:30","FC Dallas",1.86,3.47,3.97,0.49890000000000001,0.26740000000000003,0.23369999999999999,0.92779999999999996,"Colorado Rapids","View(186)"]
[null,null,null,null,null,null,"","",null,null,null,null,null,null,null,null,null,null,null,"","","","","","",null,null,null,null,1.97,3.43,3.64,0.47289999999999999,0.27160000000000001,0.2555,0.93100000000000005]
[null,null,null,null,null,null,"","",null,null,null,null,null,null,null,null,null,null,null,"BRA D1 ","Corinthians Paulista (SP)","Fortaleza","1858623.htm","Aug.27 03:30","http://www.goaloo.co/1x2/1858623.htm",null,"BRA D1 ","Aug.27 03:30","Corinthians Paulista (SP)",1.78,3.34,4.46,0.51690000000000003,0.27639999999999998,0.20669999999999999,0.92179999999999995,"Fortaleza","View(186)"]
[null,null,null,null,null,null,"","",null,null,null,null,null,null,null,null,null,null,null,"","","","","","",null,null,null,null,1.86,3.23,4.3499999999999996,0.49959999999999999,0.28720000000000001,0.21329999999999999,0.92869999999999997]
[null,null,null,null,null,null,"","",null,null,null,null,null,null,null,null,null,null,null,"BRA CUP ","Vitoria BA","Ceara","1857883.htm","Aug.27 03:30","http://www.goaloo.co/1x2/1857883.htm",null,"BRA CUP ","Aug.27 03:30","Vitoria BA",2.66,3.03,2.54,0.34239999999999998,0.29970000000000002,0.35780000000000001,0.90920000000000001,"Ceara","View(90)"]
[null,null,null,null,null,null,"","",null,null,null,null,null,null,null,null,null,null,null,"","","","","","",null,null,null,null,2.73,3,2.5,0.33310000000000001,0.30320000000000003,0.36380000000000001,0.90980000000000005]
[null,null,null,null,null,null,"","",null,null,null,null,null,null,null,null,null,null,null,"BRA CUP ","Goias","Vasco da Gama","1858096.htm","Aug.27 03:30","http://www.goaloo.co/1x2/1858096.htm",null,"BRA CUP ","Aug.27 03:30","Goias",3.28,3.21,2.0699999999999998,0.2772,0.28349999999999997,0.43930000000000002,0.90990000000000004,"Vasco da Gama","View(86)"]
[null,null,null,null,null,null,"","",null,null,null,null,null,null,null,null,null,null,null,"","","","","","",null,null,null,null,3.34,3.16,2.06,0.2717,0.28720000000000001,0.44109999999999999,0.90800000000000003]
[null,null,null,null,null,null,"","",null,null,null,null,null,null,null,null,null,null,null,"BRA CGD1 ","Caxias RS","Gremio (RS)","1908245.htm","Aug.27 03:30","http://www.goaloo.co/1x2/1908245.htm",null,"BRA CGD1 ","Aug.27 03:30","Caxias RS",4.3,3.46,1.62,0.2041,0.25359999999999999,0.5423,0.87760000000000005,"Gremio (RS)","View(5)"]
[null,null,null,null,null,null,"","",null,null,null,null,null,null,null,null,null,null,null,"","","","","","",null,null,null,null,5.43,3.7,1.46,0.16159999999999999,0.23719999999999999,0.60119999999999996,0.87749999999999995]
[null,null,null,null,null,null,"","",null,null,null,null,null,null,null,null,null,null,null,"BRA MG ","Atletico Mineiro","Tombense","1904255.htm","Aug.27 03:30","http://www.goaloo.co/1x2/1904255.htm",null,"BRA MG ","Aug.27 03:30","Atletico Mineiro",1.23,5.28,9.74,0.73619999999999997,0.17100000000000001,9.2799999999999994E-2,0.90369999999999995,"Tombense","View(37)"]
[null,null,null,null,null,null,"","",null,null,null,null,null,null,null,null,null,null,null,"","","","","","",null,null,null,null,1.23,5.25,9.7899999999999991,0.73580000000000001,0.1719,9.2299999999999993E-2,0.9032]
[null,null,null,null,null,null,"","",null,null,null,null,null,null,null,null,null,null,null,"USL D1 ","Colorado Springs Switchbacks FC","Austin Bold","1875958.htm","Aug.27 04:00","http://www.goaloo.co/1x2/1875958.htm",null,"USL D1 ","Aug.27 04:00","Colorado Springs Switchbacks FC",3.85,3.72,1.74,0.23580000000000001,0.24379999999999999,0.52039999999999997,0.90720000000000001,"Austin Bold","View(38)"]
[null,null,null,null,null,null,"","",null,null,null,null,null,null,null,null,null,null,null,"","","","","","",null,null,null,null,3.8,3.69,1.76,0.23899999999999999,0.24579999999999999,0.5151,0.90720000000000001]
[null,null,null,null,null,null,"","",null,null,null,null,null,null,null,null,null,null,null,"MLS ","Real Salt Lake","Los Angeles FC","1896900.htm","Aug.27 04:30","http://www.goaloo.co/1x2/1896900.htm",null,"MLS ","Aug.27 04:30","Real Salt Lake",3.69,3.9,1.81,0.25069999999999998,0.23710000000000001,0.51219999999999999,0.92559999999999998,"Los Angeles FC","View(182)"]
[null,null,null,null,null,null,"","",null,null,null,null,null,null,null,null,null,null,null,{"$f":"IF(W578=\"\",\"\",AA578)","v":""},{"$f":"IF(W578=\"\",\"\",AC578)","v":""},{"$f":"IF(W578=\"\",\"\",AK578)","v":""},{"$f":"IFERROR(IF(Y578=\"\",\"\",MID(Y578,SEARCH(\"1x2/\",Y578,1) + 4,LEN(Y578))),\"\")","v":""},{"$f":"IF(W578=\"\",\"\",AB578)","v":""},{"$f":"HLink(AL578)","v":""},null,null,null,null,3.62,3.91,1.85,0.25719999999999998,0.2382,0.50449999999999995,0.93110000000000004]
[null,null,null,null,null,null,{"$f":"IF(D579=\"\",\"\",E579&\" \"&A579&\" \"&\"    \"&\" \"&B579&\" - \"&C579)","v":""},{"$f":"IF(G579=\"\",\"\",D579)","v":""},null,null,null,null,null,null,null,null,null,null,null,"MLS ","San Jose Earthquakes","Portland Timbers","1896901.htm","Aug.27 05:30","http://www.goaloo.co/1x2/1896901.htm",null,"MLS ","Aug.27 05:30","San Jose Earthquakes",2.14,3.54,3.04,0.4325,0.26219999999999999,0.30530000000000002,0.92679999999999996,"Portland Timbers","View(185)"]
[null,null,null,null,null,null,"","",null,null,null,null,null,null,null,null,null,null,null,"","","","","","",null,null,null,null,2.0699999999999998,3.59,3.22,0.4511,0.25969999999999999,0.2893,0.93220000000000003]
[null,null,null,null,null,null,"","",null,null,null,null,null,null,null,null,null,null,null,"USL D1 ","Portland Timbers Reserve","Los Angeles Galaxy II","1876050.htm","Aug.27 05:30","http://www.goaloo.co/1x2/1876050.htm",null,"USL D1 ","Aug.27 05:30","Portland Timbers Reserve",7.97,5.71,1.24,0.1137,0.15870000000000001,0.72770000000000001,0.90559999999999996,"Los Angeles Galaxy II","View(62)"]
[null,null,null,null,null,null,"","",null,null,null,null,null,null,null,null,null,null,null,"","","","","","",null,null,null,null,7.84,5.65,1.25,0.11559999999999999,0.1603,0.72409999999999997,0.90620000000000001]
[null,null,null,null,null,null,"","",null,null,null,null,null,null,null,null,null,null,null,"MLS ","LA Galaxy","Seattle Sounders","1896892.htm","Aug.27 06:00","http://www.goaloo.co/1x2/1896892.htm",null,"MLS ","Aug.27 06:00","LA Galaxy",2.5,3.33,2.64,0.37040000000000001,0.27810000000000001,0.35149999999999998,0.92730000000000001,"Seattle Sounders","View(140)"]
[null,null,null,null,null,null,"","",null,null,null,null,null,null,null,null,null,null,null,"","","","","","",null,null,null,null,2.4900000000000002,3.38,2.66,0.37380000000000002,0.27579999999999999,0.35039999999999999,0.93200000000000005]
[null,null,null,null,null,null,"","",null,null,null,null,null,null,null,null,null,null,null,"","","","","","",null,"League","Time","Home","HW","D","AW","HWR","DR","AWR","Return","Away","Compare"]
[null,null,null,null,null,null,"","",null,null,null,null,null,null,null,null,null,null,null,"","","","","","",null,"Soccer | Basketball | Tennis | Football | Hockey | Snooker"]
[null,null,null,null,null,null,"","",null,null,null,null,null,null,null,null,null,null,null,"","","","","","",null,"About Us - - Give Feedback - - Advertise - - Sitemap - - Terms of Use - - Link Exchange - - Free Livescore - - Help"]
[null,null,null,null,null,null,"","",null,null,null,null,null,null,null,null,null,null,null,"","","","","","",null,"Copyright © 2003 - 2020 Power By www.goaloo.co All Rights Reserved."]
[null,null,null,null,null,null,"","",null,null,null,null,null,null,null,null,null,null,null,"","","","","",""]
[null,null,null,null,null,null,"","",null,null,null,null,null,null,null,null,null,null,null,"","","","","",""]
[null,null,null,null,null,null,"","",null,null,null,null,null,null,null,null,null,null,null,"","","","","",""]
[null,null,null,null,null,null,"","",null,null,null,null,null,null,null,null,null,null,null,"","","","","",""]
[null,null,null,null,null,null,"","",null,null,null,null,null,null,null,null,null,null,null,"","","","","",""]
[null,null,null,null,null,null,"","",null,null,null,null,null,null,null,null,null,null,null,"","","","","",""]
[null,null,null,null,null,null,"","",null,null,null,null,null,null,null,null,null,null,null,"","","","","",""]
[null,null,null,null,null,null,"","",null,null,null,null,null,null,null,null,null,null,null,"","","","","",""]
[null,null,null,null,null,null,"","",null,null,null,null,null,null,null,null,null,null,null,"","","","","",""]
[null,null,null,null,null,null,"","",null,null,null,null,null,null,null,null,null,null,null,"","","","","",""]
[null,null,null,null,null,null,"","",null,null,null,null,null,null,null,null,null,null,null,"","","","","",""]
[null,null,null,null,null,null,"","",null,null,null,null,null,null,null,null,null,null,null,"","","","","",""]
[null,null,null,null,null,null,"","",null,null,null,null,null,null,null,null,null,null,null,"","","","","",""]
[null,null,null,null,null,null,"","",null,null,null,null,null,null,null,null,null,null,null,"","","","","",""]
[null,null,null,null,null,null,"","",null,null,null,null,null,null,null,null,null,null,null,"","","","","",""]
[null,null,null,null,null,null,"","",null,null,null,null,null,null,null,null,null,null,null,"","","","","",""]
[null,null,null,null,null,null,"","",null,null,null,null,null,null,null,null,null,null,null,"","","","","",""]
[null,null,null,null,null,null,"","",null,null,null,null,null,null,null,null,null,null,null,"","","","","",""]
[null,null,null,null,null,null,"","",null,null,null,null,null,null,null,null,null,null,null,"","","","","",""]
[null,null,null,null,null,null,"","",null,null,null,null,null,null,null,null,null,null,null,"","","","","",""]
[null,null,null,null,null,null,"","",null,null,null,null,null,null,null,null,null,null,null,"","","","","",""]
[null,null,null,null,null,null,"","",null,null,null,null,null,null,null,null,null,null,null,"","","","","",""]
[null,null,null,null,null,null,"","",null,null,null,null,null,null,null,null,null,null,null,"","","","","",""]
[null,null,null,null,null,null,"","",null,null,null,null,null,null,null,null,null,null,null,"","","","","",""]
[null,null,null,null,null,null,"","",null,null,null,null,null,null,null,null,null,null,null,"","","","","",""]
[null,null,null,null,null,null,"","",null,null,null,null,null,null,null,null,null,null,null,"","","","","",""]
[null,null,null,null,null,null,"","",null,null,null,null,null,null,null,null,null,null,null,"","","","","",""]
[null,null,null,null,null,null,"","",null,null,null,null,null,null,null,null,null,null,null,"","","","","",""]
[null,null,null,null,null,null,"","",null,null,null,null,null,null,null,null,null,null,null,"","","","","",""]
[null,null,null,null,null,null,"","",null,null,null,null,null,null,null,null,null,null,null,"","","","","",""]
[null,null,null,null,null,null,"","",null,null,null,null,null,null,null,null,null,null,null,"","","","","",""]
[null,null,null,null,null,null,"","",null,null,null,null,null,null,null,null,null,null,null,"","","","","",""]
[null,null,null,null,null,null,"","",null,null,null,null,null,null,null,null,null,null,null,"","","","","",""]
[null,null,null,null,null,null,"","",null,null,null,null,null,null,null,null,null,null,null,"","","","","",""]
[null,null,null,null,null,null,"","",null,null,null,null,null,null,null,null,null,null,null,"","","","","",""]
[null,null,null,null,null,null,"","",null,null,null,null,null,null,null,null,null,null,null,"","","","","",""]
[null,null,null,null,null,null,"","",null,null,null,null,null,null,null,null,null,null,null,"","","","","",""]
[null,null,null,null,null,null,"","",null,null,null,null,null,null,null,null,null,null,null,"","","","","",""]
[null,null,null,null,null,null,"","",null,null,null,null,null,null,null,null,null,null,null,"","","","","",""]
[null,null,null,null,null,null,"","",null,null,null,null,null,null,null,null,null,null,null,"","","","","",""]
[null,null,null,null,null,null,"","",null,null,null,null,null,null,null,null,null,null,null,"","","","","",""]
[null,null,null,null,null,null,"","",null,null,null,null,null,null,null,null,null,null,null,"","","","","",""]
[null,null,null,null,null,null,"","",null,null,null,null,null,null,null,null,null,null,null,"","","","","",""]
[null,null,null,null,null,null,"","",null,null,null,null,null,null,null,null,null,null,null,"","","","","",""]
[null,null,null,null,null,null,"","",null,null,null,null,null,null,null,null,null,null,null,"","","","","",""]
[null,null,null,null,null,null,"","",null,null,null,null,null,null,null,null,null,null,null,"","","","","",""]
[null,null,null,null,null,null,"","",null,null,null,null,null,null,null,null,null,null,null,"","","","","",""]
[null,null,null,null,null,null,"","",null,null,null,null,null,null,null,null,null,null,null,"","","","","",""]
[null,null,null,null,null,null,"","",null,null,null,null,null,null,null,null,null,null,null,"","","","","",""]
[null,null,null,null,null,null,"","",null,null,null,null,null,null,null,null,null,null,null,"","","","","",""]
[null,null,null,null,null,null,"","",null,null,null,null,null,null,null,null,null,null,null,"","","","","",""]
[null,null,null,null,null,null,"","",null,null,null,null,null,null,null,null,null,null,null,"","","","","",""]
[null,null,null,null,null,null,"","",null,null,null,null,null,null,null,null,null,null,null,"","","","","",""]
[null,null,null,null,null,null,"","",null,null,null,null,null,null,null,null,null,null,null,{"$f":"IF(W642=\"\",\"\",AA642)","v":""},{"$f":"IF(W642=\"\",\"\",AC642)","v":""},{"$f":"IF(W642=\"\",\"\",AK642)","v":""},{"$f":"IFERROR(IF(Y642=\"\",\"\",MID(Y642,SEARCH(\"1x2/\",Y642,1) + 4,LEN(Y642))),\"\")","v":""},{"$f":"IF(W642=\"\",\"\",AB642)","v":""},{"$f":"HLink(AL642)","v":""}]
[null,null,null,null,null,null,{"$f":"IF(D643=\"\",\"\",E643&\" \"&A643&\" \"&\"    \"&\" \"&B643&\" - \"&C643)","v":""},{"$f":"IF(G643=\"\",\"\",D643)","v":""},null,null,null,null,null,null,null,null,null,null,null,"","","","","",""]
[null,null,null,null,null,null,"","",null,null,null,null,null,null,null,null,null,null,null,"","","","","",""]
[null,null,null,null,null,null,"","",null,null,null,null,null,null,null,null,null,null,null,"","","","","",""]
[null,null,null,null,null,null,"","",null,null,null,null,null,null,null,null,null,null,null,"","","","","",""]
[null,null,null,null,null,null,"","",null,null,null,null,null,null,null,null,null,null,null,"","","","","",""]
[null,null,null,null,null,null,"","",null,null,null,null,null,null,null,null,null,null,null,"","","","","",""]
[null,null,null,null,null,null,"","",null,null,null,null,null,null,null,null,null,null,null,"","","","","",""]
[null,null,null,null,null,null,"","",null,null,null,null,null,null,null,null,null,null,null,"","","","","",""]
[null,null,null,null,null,null,"","",null,null,null,null,null,null,null,null,null,null,null,"","","","","",""]
[null,null,null,null,null,null,"","",null,null,null,null,null,null,null,null,null,null,null,"","","","","",""]
[null,null,null,null,null,null,"","",null,null,null,null,null,null,null,null,null,null,null,"","","","","",""]
[null,null,null,null,null,null,"","",null,null,null,null,null,null,null,null,null,null,null,"","","","","",""]
[null,null,null,null,null,null,"","",null,null,null,null,null,null,null,null,null,null,null,"","","","","",""]
[null,null,null,null,null,null,"","",null,null,null,null,null,null,null,null,null,null,null,"","","","","",""]
[null,null,null,null,null,null,"","",null,null,null,null,null,null,null,null,null,null,null,"","","","","",""]
[null,null,null,null,null,null,"","",null,null,null,null,null,null,null,null,null,null,null,"","","","","",""]
[null,null,null,null,null,null,"","",null,null,null,null,null,null,null,null,null,null,null,"","","","","",""]
[null,null,null,null,null,null,"","",null,null,null,null,null,null,null,null,null,null,null,"","","","","",""]
[null,null,null,null,null,null,"","",null,null,null,null,null,null,null,null,null,null,null,"","","","","",""]
[null,null,null,null,null,null,"","",null,null,null,null,null,null,null,null,null,null,null,"","","","","",""]
[null,null,null,null,null,null,"","",null,null,null,null,null,null,null,null,null,null,null,"","","","","",""]
[null,null,null,null,null,null,"","",null,null,null,null,null,null,null,null,null,null,null,"","","","","",""]
[null,null,null,null,null,null,"","",null,null,null,null,null,null,null,null,null,null,null,"","","","","",""]
[null,null,null,null,null,null,"","",null,null,null,null,null,null,null,null,null,null,null,"","","","","",""]
[null,null,null,null,null,null,"","",null,null,null,null,null,null,null,null,null,null,null,"","","","","",""]
[null,null,null,null,null,null,"","",null,null,null,null,null,null,null,null,null,null,null,"","","","","",""]
[null,null,null,null,null,null,"","",null,null,null,null,null,null,null,null,null,null,null,"","","","","",""]
[null,null,null,null,null,null,"","",null,null,null,null,null,null,null,null,null,null,null,"","","","","",""]
[null,null,null,null,null,null,"","",null,null,null,null,null,null,null,null,null,null,null,"","","","","",""]
[null,null,null,null,null,null,"","",null,null,null,null,null,null,null,null,null,null,null,"","","","","",""]
[null,null,null,null,null,null,"","",null,null,null,null,null,null,null,null,null,null,null,"","","","","",""]
[null,null,null,null,null,null,"","",null,null,null,null,null,null,null,null,null,null,null,"","","","","",""]
[null,null,null,null,null,null,"","",null,null,null,null,null,null,null,null,null,null,null,"","","","","",""]
[null,null,null,null,null,null,"","",null,null,null,null,null,null,null,null,null,null,null,"","","","","",""]
[null,null,null,null,null,null,"","",null,null,null,null,null,null,null,null,null,null,null,"","","","","",""]
[null,null,null,null,null,null,"","",null,null,null,null,null,null,null,null,null,null,null,"","","","","",""]
[null,null,null,null,null,null,"","",null,null,null,null,null,null,null,null,null,null,null,"","","","","",""]
[null,null,null,null,null,null,"","",null,null,null,null,null,null,null,null,null,null,null,"","","","","",""]
[null,null,null,null,null,null,"","",null,null,null,null,null,null,null,null,null,null,null,"","","","","",""]
[null,null,null,null,null,null,"","",null,null,null,null,null,null,null,null,null,null,null,"","","","","",""]
[null,null,null,null,null,null,"","",null,null,null,null,null,null,null,null,null,null,null,"","","","","",""]
[null,null,null,null,null,null,"","",null,null,null,null,null,null,null,null,null,null,null,"","","","","",""]
[null,null,null,null,null,null,"","",null,null,null,null,null,null,null,null,null,null,null,"","","","","",""]
[null,null,null,null,null,null,"","",null,null,null,null,null,null,null,null,null,null,null,"","","","","",""]
[null,null,null,null,null,null,"","",null,null,null,null,null,null,null,null,null,null,null,"","","","","",""]
[null,null,null,null,null,null,"","",null,null,null,null,null,null,null,null,null,null,null,"","","","","",""]
[null,null,null,null,null,null,"","",null,null,null,null,null,null,null,null,null,null,null,"","","","","",""]
[null,null,null,null,null,null,"","",null,null,null,null,null,null,null,null,null,null,null,"","","","","",""]
[null,null,null,null,null,null,"","",null,null,null,null,null,null,null,null,null,null,null,"","","","","",""]
[null,null,null,null,null,null,"","",null,null,null,null,null,null,null,null,null,null,null,"","","","","",""]
[null,null,null,null,null,null,"","",null,null,null,null,null,null,null,null,null,null,null,"","","","","",""]
[null,null,null,null,null,null,"","",null,null,null,null,null,null,null,null,null,null,null,"","","","","",""]
[null,null,null,null,null,null,"","",null,null,null,null,null,null,null,null,null,null,null,"","","","","",""]
[null,null,null,null,null,null,"","",null,null,null,null,null,null,null,null,null,null,null,"","","","","",""]
[null,null,null,null,null,null,"","",null,null,null,null,null,null,null,null,null,null,null,"","","","","",""]
[null,null,null,null,null,null,"","",null,null,null,null,null,null,null,null,null,null,null,"","","","","",""]
[null,null,null,null,null,null,"","",null,null,null,null,null,null,null,null,null,null,null,"","","","","",""]
[null,null,null,null,null,null,"","",null,null,null,null,null,null,null,null,null,null,null,"","","","","",""]
[null,null,null,null,null,null,"","",null,null,null,null,null,null,null,null,null,null,null,"","","","","",""]
[null,null,null,null,null,null,"","",null,null,null,null,null,null,null,null,null,null,null,"","","","","",""]
[null,null,null,null,null,null,"","",null,null,null,null,null,null,null,null,null,null,null,"","","","","",""]
[null,null,null,null,null,null,"","",null,null,null,null,null,null,null,null,null,null,null,"","","","","",""]
[null,null,null,null,null,null,"","",null,null,null,null,null,null,null,null,null,null,null,"","","","","",""]
[null,null,null,null,null,null,"","",null,null,null,null,null,null,null,null,null,null,null,{"$f":"IF(W706=\"\",\"\",AA706)","v":""},{"$f":"IF(W706=\"\",\"\",AC706)","v":""},{"$f":"IF(W706=\"\",\"\",AK706)","v":""},{"$f":"IFERROR(IF(Y706=\"\",\"\",MID(Y706,SEARCH(\"1x2/\",Y706,1) + 4,LEN(Y706))),\"\")","v":""},{"$f":"IF(W706=\"\",\"\",AB706)","v":""},{"$f":"HLink(AL706)","v":""}]
[null,null,null,null,null,null,{"$f":"IF(D707=\"\",\"\",E707&\" \"&A707&\" \"&\"    \"&\" \"&B707&\" - \"&C707)","v":""},{"$f":"IF(G707=\"\",\"\",D707)","v":""},null,null,null,null,null,null,null,null,null,null,null,"","","","","",""]
[null,null,null,null,null,null,"","",null,null,null,null,null,null,null,null,null,null,null,"","","","","",""]
[null,null,null,null,null,null,"","",null,null,null,null,null,null,null,null,null,null,null,"","","","","",""]
[null,null,null,null,null,null,"","",null,null,null,null,null,null,null,null,null,null,null,"","","","","",""]
[null,null,null,null,null,null,"","",null,null,null,null,null,null,null,null,null,null,null,"","","","","",""]
[null,null,null,null,null,null,"","",null,null,null,null,null,null,null,null,null,null,null,"","","","","",""]
[null,null,null,null,null,null,"","",null,null,null,null,null,null,null,null,null,null,null,"","","","","",""]
[null,null,null,null,null,null,"","",null,null,null,null,null,null,null,null,null,null,null,"","","","","",""]
[null,null,null,null,null,null,"","",null,null,null,null,null,null,null,null,null,null,null,"","","","","",""]
[null,null,null,null,null,null,"","",null,null,null,null,null,null,null,null,null,null,null,"","","","","",""]
[null,null,null,null,null,null,"","",null,null,null,null,null,null,null,null,null,null,null,"","","","","",""]
[null,null,null,null,null,null,"","",null,null,null,null,null,null,null,null,null,null,null,"","","","","",""]
[null,null,null,null,null,null,"","",null,null,null,null,null,null,null,null,null,null,null,"","","","","",""]
[null,null,null,null,null,null,"","",null,null,null,null,null,null,null,null,null,null,null,"","","","","",""]
[null,null,null,null,null,null,"","",null,null,null,null,null,null,null,null,null,null,null,"","","","","",""]
[null,null,null,null,null,null,"","",null,null,null,null,null,null,null,null,null,null,null,"","","","","",""]
[null,null,null,null,null,null,"","",null,null,null,null,null,null,null,null,null,null,null,"","","","","",""]
[null,null,null,null,null,null,"","",null,null,null,null,null,null,null,null,null,null,null,"","","","","",""]
[null,null,null,null,null,null,"","",null,null,null,null,null,null,null,null,null,null,null,"","","","","",""]
[null,null,null,null,null,null,"","",null,null,null,null,null,null,null,null,null,null,null,"","","","","",""]
[null,null,null,null,null,null,"","",null,null,null,null,null,null,null,null,null,null,null,"","","","","",""]
[null,null,null,null,null,null,"","",null,null,null,null,null,null,null,null,null,null,null,"","","","","",""]
[null,null,null,null,null,null,"","",null,null,null,null,null,null,null,null,null,null,null,"","","","","",""]
[null,null,null,null,null,null,"","",null,null,null,null,null,null,null,null,null,null,null,"","","","","",""]
[null,null,null,null,null,null,"","",null,null,null,null,null,null,null,null,null,null,null,"","","","","",""]
[null,null,null,null,null,null,"","",null,null,null,null,null,null,null,null,null,null,null,"","","","","",""]
[null,null,null,null,null,null,"","",null,null,null,null,null,null,null,null,null,null,null,"","","","","",""]
[null,null,null,null,null,null,"","",null,null,null,null,null,null,null,null,null,null,null,"","","","","",""]
[null,null,null,null,null,null,"","",null,null,null,null,null,null,null,null,null,null,null,"","","","","",""]
[null,null,null,null,null,null,"","",null,null,null,null,null,null,null,null,null,null,null,"","","","","",""]
[null,null,null,null,null,null,"","",null,null,null,null,null,null,null,null,null,null,null,"","","","","",""]
[null,null,null,null,null,null,"","",null,null,null,null,null,null,null,null,null,null,null,"","","","","",""]
[null,null,null,null,null,null,"","",null,null,null,null,null,null,null,null,null,null,null,"","","","","",""]
[null,null,null,null,null,null,"","",null,null,null,null,null,null,null,null,null,null,null,"","","","","",""]
[null,null,null,null,null,null,"","",null,null,null,null,null,null,null,null,null,null,null,"","","","","",""]
[null,null,null,null,null,null,"","",null,null,null,null,null,null,null,null,null,null,null,"","","","","",""]
[null,null,null,null,null,null,"","",null,null,null,null,null,null,null,null,null,null,null,"","","","","",""]
[null,null,null,null,null,null,"","",null,null,null,null,null,null,null,null,null,null,null,"","","","","",""]
[null,null,null,null,null,null,"","",null,null,null,null,null,null,null,null,null,null,null,"","","","","",""]
[null,null,null,null,null,null,"","",null,null,null,null,null,null,null,null,null,null,null,"","","","","",""]
[null,null,null,null,null,null,"","",null,null,null,null,null,null,null,null,null,null,null,"","","","","",""]
[null,null,null,null,null,null,"","",null,null,null,null,null,null,null,null,null,null,null,"","","","","",""]
[null,null,null,null,null,null,"","",null,null,null,null,null,null,null,null,null,null,null,"","","","","",""]
[null,null,null,null,null,null,"","",null,null,null,null,null,null,null,null,null,null,null,"","","","","",""]
[null,null,null,null,null,null,"","",null,null,null,null,null,null,null,null,null,null,null,"","","","","",""]
[null,null,null,null,null,null,"","",null,null,null,null,null,null,null,null,null,null,null,"","","","","",""]
[null,null,null,null,null,null,"","",null,null,null,null,null,null,null,null,null,null,null,"","","","","",""]
[null,null,null,null,null,null,"","",null,null,null,null,null,null,null,null,null,null,null,"","","","","",""]
[null,null,null,null,null,null,"","",null,null,null,null,null,null,null,null,null,null,null,"","","","","",""]
[null,null,null,null,null,null,"","",null,null,null,null,null,null,null,null,null,null,null,"","","","","",""]
[null,null,null,null,null,null,"","",null,null,null,null,null,null,null,null,null,null,null,"","","","","",""]
[null,null,null,null,null,null,"","",null,null,null,null,null,null,null,null,null,null,null,"","","","","",""]
[null,null,null,null,null,null,"","",null,null,null,null,null,null,null,null,null,null,null,"","","","","",""]
[null,null,null,null,null,null,"","",null,null,null,null,null,null,null,null,null,null,null,"","","","","",""]
[null,null,null,null,null,null,"","",null,null,null,null,null,null,null,null,null,null,null,"","","","","",""]
[null,null,null,null,null,null,"","",null,null,null,null,null,null,null,null,null,null,null,"","","","","",""]
[null,null,null,null,null,null,"","",null,null,null,null,null,null,null,null,null,null,null,"","","","","",""]
[null,null,null,null,null,null,"","",null,null,null,null,null,null,null,null,null,null,null,"","","","","",""]
[null,null,null,null,null,null,"","",null,null,null,null,null,null,null,null,null,null,null,"","","","","",""]
[null,null,null,null,null,null,"","",null,null,null,null,null,null,null,null,null,null,null,"","","","","",""]
[null,null,null,null,null,null,"","",null,null,null,null,null,null,null,null,null,null,null,"","","","","",""]
[null,null,null,null,null,null,"","",null,null,null,null,null,null,null,null,null,null,null,"","","","","",""]
[null,null,null,null,null,null,"","",null,null,null,null,null,null,null,null,null,null,null,"","","","","",""]
[null,null,null,null,null,null,"","",null,null,null,null,null,null,null,null,null,null,null,{"$f":"IF(W770=\"\",\"\",AA770)","v":""},{"$f":"IF(W770=\"\",\"\",AC770)","v":""},{"$f":"IF(W770=\"\",\"\",AK770)","v":""},{"$f":"IFERROR(IF(Y770=\"\",\"\",MID(Y770,SEARCH(\"1x2/\",Y770,1) + 4,LEN(Y770))),\"\")","v":""},{"$f":"IF(W770=\"\",\"\",AB770)","v":""},{"$f":"HLink(AL770)","v":""}]
[null,null,null,null,null,null,{"$f":"IF(D771=\"\",\"\",E771&\" \"&A771&\" \"&\"    \"&\" \"&B771&\" - \"&C771)","v":""},{"$f":"IF(G771=\"\",\"\",D771)","v":""},null,null,null,null,null,null,null,null,null,null,null,"","","","","",""]
[null,null,null,null,null,null,"","",null,null,null,null,null,null,null,null,null,null,null,"","","","","",""]
[null,null,null,null,null,null,"","",null,null,null,null,null,null,null,null,null,null,null,"","","","","",""]
[null,null,null,null,null,null,"","",null,null,null,null,null,null,null,null,null,null,null,"","","","","",""]
[null,null,null,null,null,null,"","",null,null,null,null,null,null,null,null,null,null,null,"","","","","",""]
[null,null,null,null,null,null,"","",null,null,null,null,null,null,null,null,null,null,null,"","","","","",""]
[null,null,null,null,null,null,"","",null,null,null,null,null,null,null,null,null,null,null,"","","","","",""]
[null,null,null,null,null,null,"","",null,null,null,null,null,null,null,null,null,null,null,"","","","","",""]
[null,null,null,null,null,null,"","",null,null,null,null,null,null,null,null,null,null,null,"","","","","",""]
[null,null,null,null,null,null,"","",null,null,null,null,null,null,null,null,null,null,null,"","","","","",""]
[null,null,null,null,null,null,"","",null,null,null,null,null,null,null,null,null,null,null,"","","","","",""]
[null,null,null,null,null,null,"","",null,null,null,null,null,null,null,null,null,null,null,"","","","","",""]
[null,null,null,null,null,null,"","",null,null,null,null,null,null,null,null,null,null,null,"","","","","",""]
[null,null,null,null,null,null,"","",null,null,null,null,null,null,null,null,null,null,null,"","","","","",""]
[null,null,null,null,null,null,"","",null,null,null,null,null,null,null,null,null,null,null,"","","","","",""]
[null,null,null,null,null,null,"","",null,null,null,null,null,null,null,null,null,null,null,"","","","","",""]
[null,null,null,null,null,null,"","",null,null,null,null,null,null,null,null,null,null,null,"","","","","",""]
[null,null,null,null,null,null,"","",null,null,null,null,null,null,null,null,null,null,null,"","","","","",""]
[null,null,null,null,null,null,"","",null,null,null,null,null,null,null,null,null,null,null,"","","","","",""]
[null,null,null,null,null,null,"","",null,null,null,null,null,null,null,null,null,null,null,"","","","","",""]
[null,null,null,null,null,null,"","",null,null,null,null,null,null,null,null,null,null,null,"","","","","",""]
[null,null,null,null,null,null,"","",null,null,null,null,null,null,null,null,null,null,null,"","","","","",""]
[null,null,null,null,null,null,"","",null,null,null,null,null,null,null,null,null,null,null,"","","","","",""]
[null,null,null,null,null,null,"","",null,null,null,null,null,null,null,null,null,null,null,"","","","","",""]
[null,null,null,null,null,null,"","",null,null,null,null,null,null,null,null,null,null,null,"","","","","",""]
[null,null,null,null,null,null,"","",null,null,null,null,null,null,null,null,null,null,null,"","","","","",""]
[null,null,null,null,null,null,"","",null,null,null,null,null,null,null,null,null,null,null,"","","","","",""]
[null,null,null,null,null,null,"","",null,null,null,null,null,null,null,null,null,null,null,"","","","","",""]
[null,null,null,null,null,null,"","",null,null,null,null,null,null,null,null,null,null,null,"","","","","",""]
[null,null,null,null,null,null,"","",null,null,null,null,null,null,null,null,null,null,null,"","","","","",""]
[null,null,null,null,null,null,"","",null,null,null,null,null,null,null,null,null,null,null,"","","","","",""]
[null,null,null,null,null,null,"","",null,null,null,null,null,null,null,null,null,null,null,"","","","","",""]
[null,null,null,null,null,null,"","",null,null,null,null,null,null,null,null,null,null,null,"","","","","",""]
[null,null,null,null,null,null,"","",null,null,null,null,null,null,null,null,null,null,null,"","","","","",""]
[null,null,null,null,null,null,"","",null,null,null,null,null,null,null,null,null,null,null,"","","","","",""]
[null,null,null,null,null,null,"","",null,null,null,null,null,null,null,null,null,null,null,"","","","","",""]
[null,null,null,null,null,null,"","",null,null,null,null,null,null,null,null,null,null,null,"","","","","",""]
[null,null,null,null,null,null,"","",null,null,null,null,null,null,null,null,null,null,null,"","","","","",""]
[null,null,null,null,null,null,"","",null,null,null,null,null,null,null,null,null,null,null,"","","","","",""]
[null,null,null,null,null,null,"","",null,null,null,null,null,null,null,null,null,null,null,"","","","","",""]
[null,null,null,null,null,null,"","",null,null,null,null,null,null,null,null,null,null,null,"","","","","",""]
[null,null,null,null,null,null,"","",null,null,null,null,null,null,null,null,null,null,null,"","","","","",""]
[null,null,null,null,null,null,"","",null,null,null,null,null,null,null,null,null,null,null,"","","","","",""]
[null,null,null,null,null,null,"","",null,null,null,null,null,null,null,null,null,null,null,"","","","","",""]
[null,null,null,null,null,null,"","",null,null,null,null,null,null,null,null,null,null,null,"","","","","",""]
[null,null,null,null,null,null,"","",null,null,null,null,null,null,null,null,null,null,null,"","","","","",""]
[null,null,null,null,null,null,"","",null,null,null,null,null,null,null,null,null,null,null,"","","","","",""]
[null,null,null,null,null,null,"","",null,null,null,null,null,null,null,null,null,null,null,"","","","","",""]
[null,null,null,null,null,null,"","",null,null,null,null,null,null,null,null,null,null,null,"","","","","",""]
[null,null,null,null,null,null,"","",null,null,null,null,null,null,null,null,null,null,null,"","","","","",""]
[null,null,null,null,null,null,"","",null,null,null,null,null,null,null,null,null,null,null,"","","","","",""]
[null,null,null,null,null,null,"","",null,null,null,null,null,null,null,null,null,null,null,"","","","","",""]
[null,null,null,null,null,null,"","",null,null,null,null,null,null,null,null,null,null,null,"","","","","",""]
[null,null,null,null,null,null,"","",null,null,null,null,null,null,null,null,null,null,null,"","","","","",""]
[null,null,null,null,null,null,"","",null,null,null,null,null,null,null,null,null,null,null,"","","","","",""]
[null,null,null,null,null,null,"","",null,null,null,null,null,null,null,null,null,null,null,"","","","","",""]
[null,null,null,null,null,null,"","",null,null,null,null,null,null,null,null,null,null,null,"","","","","",""]
[null,null,null,null,null,null,"","",null,null,null,null,null,null,null,null,null,null,null,"","","","","",""]
[null,null,null,null,null,null,"","",null,null,null,null,null,null,null,null,null,null,null,"","","","","",""]
[null,null,null,null,null,null,"","",null,null,null,null,null,null,null,null,null,null,null,"","","","","",""]
[null,null,null,null,null,null,"","",null,null,null,null,null,null,null,null,null,null,null,"","","","","",""]
[null,null,null,null,null,null,"","",null,null,null,null,null,null,null,null,null,null,null,"","","","","",""]
[null,null,null,null,null,null,"","",null,null,null,null,null,null,null,null,null,null,null,"","","","","",""]
[null,null,null,null,null,null,"","",null,null,null,null,null,null,null,null,null,null,null,{"$f":"IF(W834=\"\",\"\",AA834)","v":""},{"$f":"IF(W834=\"\",\"\",AC834)","v":""},{"$f":"IF(W834=\"\",\"\",AK834)","v":""},{"$f":"IFERROR(IF(Y834=\"\",\"\",MID(Y834,SEARCH(\"1x2/\",Y834,1) + 4,LEN(Y834))),\"\")","v":""},{"$f":"IF(W834=\"\",\"\",AB834)","v":""},{"$f":"HLink(AL834)","v":""}]
[null,null,null,null,null,null,{"$f":"IF(D835=\"\",\"\",E835&\" \"&A835&\" \"&\"    \"&\" \"&B835&\" - \"&C835)","v":""},{"$f":"IF(G835=\"\",\"\",D835)","v":""},null,null,null,null,null,null,null,null,null,null,null,"","","","","",""]
[null,null,null,null,null,null,"","",null,null,null,null,null,null,null,null,null,null,null,"","","","","",""]
[null,null,null,null,null,null,"","",null,null,null,null,null,null,null,null,null,null,null,"","","","","",""]
[null,null,null,null,null,null,"","",null,null,null,null,null,null,null,null,null,null,null,"","","","","",""]
[null,null,null,null,null,null,"","",null,null,null,null,null,null,null,null,null,null,null,"","","","","",""]
[null,null,null,null,null,null,"","",null,null,null,null,null,null,null,null,null,null,null,"","","","","",""]
[null,null,null,null,null,null,"","",null,null,null,null,null,null,null,null,null,null,null,"","","","","",""]
[null,null,null,null,null,null,"","",null,null,null,null,null,null,null,null,null,null,null,"","","","","",""]
[null,null,null,null,null,null,"","",null,null,null,null,null,null,null,null,null,null,null,"","","","","",""]
[null,null,null,null,null,null,"","",null,null,null,null,null,null,null,null,null,null,null,"","","","","",""]
[null,null,null,null,null,null,"","",null,null,null,null,null,null,null,null,null,null,null,"","","","","",""]
[null,null,null,null,null,null,"","",null,null,null,null,null,null,null,null,null,null,null,"","","","","",""]
[null,null,null,null,null,null,"","",null,null,null,null,null,null,null,null,null,null,null,"","","","","",""]
[null,null,null,null,null,null,"","",null,null,null,null,null,null,null,null,null,null,null,"","","","","",""]
[null,null,null,null,null,null,"","",null,null,null,null,null,null,null,null,null,null,null,"","","","","",""]
[null,null,null,null,null,null,"","",null,null,null,null,null,null,null,null,null,null,null,"","","","","",""]
[null,null,null,null,null,null,"","",null,null,null,null,null,null,null,null,null,null,null,"","","","","",""]
[null,null,null,null,null,null,"","",null,null,null,null,null,null,null,null,null,null,null,"","","","","",""]
[null,null,null,null,null,null,"","",null,null,null,null,null,null,null,null,null,null,null,"","","","","",""]
[null,null,null,null,null,null,"","",null,null,null,null,null,null,null,null,null,null,null,"","","","","",""]
[null,null,null,null,null,null,"","",null,null,null,null,null,null,null,null,null,null,null,"","","","","",""]
[null,null,null,null,null,null,"","",null,null,null,null,null,null,null,null,null,null,null,"","","","","",""]
[null,null,null,null,null,null,"","",null,null,null,null,null,null,null,null,null,null,null,"","","","","",""]
[null,null,null,null,null,null,"","",null,null,null,null,null,null,null,null,null,null,null,"","","","","",""]
[null,null,null,null,null,null,"","",null,null,null,null,null,null,null,null,null,null,null,"","","","","",""]
[null,null,null,null,null,null,"","",null,null,null,null,null,null,null,null,null,null,null,"","","","","",""]
[null,null,null,null,null,null,"","",null,null,null,null,null,null,null,null,null,null,null,"","","","","",""]
[null,null,null,null,null,null,"","",null,null,null,null,null,null,null,null,null,null,null,"","","","","",""]
[null,null,null,null,null,null,"","",null,null,null,null,null,null,null,null,null,null,null,"","","","","",""]
[null,null,null,null,null,null,"","",null,null,null,null,null,null,null,null,null,null,null,"","","","","",""]
[null,null,null,null,null,null,"","",null,null,null,null,null,null,null,null,null,null,null,"","","","","",""]
[null,null,null,null,null,null,"","",null,null,null,null,null,null,null,null,null,null,null,"","","","","",""]
[null,null,null,null,null,null,"","",null,null,null,null,null,null,null,null,null,null,null,"","","","","",""]
[null,null,null,null,null,null,"","",null,null,null,null,null,null,null,null,null,null,null,"","","","","",""]
[null,null,null,null,null,null,"","",null,null,null,null,null,null,null,null,null,null,null,"","","","","",""]
[null,null,null,null,null,null,"","",null,null,null,null,null,null,null,null,null,null,null,"","","","","",""]
[null,null,null,null,null,null,"","",null,null,null,null,null,null,null,null,null,null,null,"","","","","",""]
[null,null,null,null,null,null,"","",null,null,null,null,null,null,null,null,null,null,null,"","","","","",""]
[null,null,null,null,null,null,"","",null,null,null,null,null,null,null,null,null,null,null,"","","","","",""]
[null,null,null,null,null,null,"","",null,null,null,null,null,null,null,null,null,null,null,"","","","","",""]
[null,null,null,null,null,null,"","",null,null,null,null,null,null,null,null,null,null,null,"","","","","",""]
[null,null,null,null,null,null,"","",null,null,null,null,null,null,null,null,null,null,null,"","","","","",""]
[null,null,null,null,null,null,"","",null,null,null,null,null,null,null,null,null,null,null,"","","","","",""]
[null,null,null,null,null,null,"","",null,null,null,null,null,null,null,null,null,null,null,"","","","","",""]
[null,null,null,null,null,null,"","",null,null,null,null,null,null,null,null,null,null,null,"","","","","",""]
[null,null,null,null,null,null,"","",null,null,null,null,null,null,null,null,null,null,null,"","","","","",""]
[null,null,null,null,null,null,"","",null,null,null,null,null,null,null,null,null,null,null,"","","","","",""]
[null,null,null,null,null,null,"","",null,null,null,null,null,null,null,null,null,null,null,"","","","","",""]
[null,null,null,null,null,null,"","",null,null,null,null,null,null,null,null,null,null,null,"","","","","",""]
[null,null,null,null,null,null,"","",null,null,null,null,null,null,null,null,null,null,null,"","","","","",""]
[null,null,null,null,null,null,"","",null,null,null,null,null,null,null,null,null,null,null,"","","","","",""]
[null,null,null,null,null,null,"","",null,null,null,null,null,null,null,null,null,null,null,"","","","","",""]
[null,null,null,null,null,null,"","",null,null,null,null,null,null,null,null,null,null,null,"","","","","",""]
[null,null,null,null,null,null,"","",null,null,null,null,null,null,null,null,null,null,null,"","","","","",""]
[null,null,null,null,null,null,"","",null,null,null,null,null,null,null,null,null,null,null,"","","","","",""]
[null,null,null,null,null,null,"","",null,null,null,null,null,null,null,null,null,null,null,"","","","","",""]
[null,null,null,null,null,null,"","",null,null,null,null,null,null,null,null,null,null,null,"","","","","",""]
[null,null,null,null,null,null,"","",null,null,null,null,null,null,null,null,null,null,null,"","","","","",""]
[null,null,null,null,null,null,"","",null,null,null,null,null,null,null,null,null,null,null,"","","","","",""]
[null,null,null,null,null,null,"","",null,null,null,null,null,null,null,null,null,null,null,"","","","","",""]
[null,null,null,null,null,null,"","",null,null,null,null,null,null,null,null,null,null,null,"","","","","",""]
[null,null,null,null,null,null,"","",null,null,null,null,null,null,null,null,null,null,null,"","","","","",""]
[null,null,null,null,null,null,"","",null,null,null,null,null,null,null,null,null,null,null,"","","","","",""]
[null,null,null,null,null,null,"","",null,null,null,null,null,null,null,null,null,null,null,{"$f":"IF(W898=\"\",\"\",AA898)","v":""},{"$f":"IF(W898=\"\",\"\",AC898)","v":""},{"$f":"IF(W898=\"\",\"\",AK898)","v":""},{"$f":"IFERROR(IF(Y898=\"\",\"\",MID(Y898,SEARCH(\"1x2/\",Y898,1) + 4,LEN(Y898))),\"\")","v":""},{"$f":"IF(W898=\"\",\"\",AB898)","v":""},{"$f":"HLink(AL898)","v":""}]
[null,null,null,null,null,null,{"$f":"IF(D899=\"\",\"\",E899&\" \"&A899&\" \"&\"    \"&\" \"&B899&\" - \"&C899)","v":""},{"$f":"IF(G899=\"\",\"\",D899)","v":""},null,null,null,null,null,null,null,null,null,null,null,"","","","","",""]
[null,null,null,null,null,null,"","",null,null,null,null,null,null,null,null,null,null,null,"","","","","",""]
[null,null,null,null,null,null,"","",null,null,null,null,null,null,null,null,null,null,null,"","","","","",""]
[null,null,null,null,null,null,"","",null,null,null,null,null,null,null,null,null,null,null,"","","","","",""]
[null,null,null,null,null,null,"","",null,null,null,null,null,null,null,null,null,null,null,"","","","","",""]
[null,null,null,null,null,null,"","",null,null,null,null,null,null,null,null,null,null,null,"","","","","",""]
[null,null,null,null,null,null,"","",null,null,null,null,null,null,null,null,null,null,null,"","","","","",""]
[null,null,null,null,null,null,"","",null,null,null,null,null,null,null,null,null,null,null,"","","","","",""]
[null,null,null,null,null,null,"","",null,null,null,null,null,null,null,null,null,null,null,"","","","","",""]
[null,null,null,null,null,null,"","",null,null,null,null,null,null,null,null,null,null,null,"","","","","",""]
[null,null,null,null,null,null,"","",null,null,null,null,null,null,null,null,null,null,null,"","","","","",""]
[null,null,null,null,null,null,"","",null,null,null,null,null,null,null,null,null,null,null,"","","","","",""]
[null,null,null,null,null,null,"","",null,null,null,null,null,null,null,null,null,null,null,"","","","","",""]
[null,null,null,null,null,null,"","",null,null,null,null,null,null,null,null,null,null,null,"","","","","",""]
[null,null,null,null,null,null,"","",null,null,null,null,null,null,null,null,null,null,null,"","","","","",""]
[null,null,null,null,null,null,"","",null,null,null,null,null,null,null,null,null,null,null,"","","","","",""]
[null,null,null,null,null,null,"","",null,null,null,null,null,null,null,null,null,null,null,"","","","","",""]
[null,null,null,null,null,null,"","",null,null,null,null,null,null,null,null,null,null,null,"","","","","",""]
[null,null,null,null,null,null,"","",null,null,null,null,null,null,null,null,null,null,null,"","","","","",""]
[null,null,null,null,null,null,"","",null,null,null,null,null,null,null,null,null,null,null,"","","","","",""]
[null,null,null,null,null,null,"","",null,null,null,null,null,null,null,null,null,null,null,"","","","","",""]
[null,null,null,null,null,null,"","",null,null,null,null,null,null,null,null,null,null,null,"","","","","",""]
[null,null,null,null,null,null,"","",null,null,null,null,null,null,null,null,null,null,null,"","","","","",""]
[null,null,null,null,null,null,"","",null,null,null,null,null,null,null,null,null,null,null,"","","","","",""]
[null,null,null,null,null,null,"","",null,null,null,null,null,null,null,null,null,null,null,"","","","","",""]
[null,null,null,null,null,null,"","",null,null,null,null,null,null,null,null,null,null,null,"","","","","",""]
[null,null,null,null,null,null,"","",null,null,null,null,null,null,null,null,null,null,null,"","","","","",""]
[null,null,null,null,null,null,"","",null,null,null,null,null,null,null,null,null,null,null,"","","","","",""]
[null,null,null,null,null,null,"","",null,null,null,null,null,null,null,null,null,null,null,"","","","","",""]
[null,null,null,null,null,null,"","",null,null,null,null,null,null,null,null,null,null,null,"","","","","",""]
[null,null,null,null,null,null,"","",null,null,null,null,null,null,null,null,null,null,null,"","","","","",""]
[null,null,null,null,null,null,"","",null,null,null,null,null,null,null,null,null,null,null,"","","","","",""]
[null,null,null,null,null,null,"","",null,null,null,null,null,null,null,null,null,null,null,"","","","","",""]
[null,null,null,null,null,null,"","",null,null,null,null,null,null,null,null,null,null,null,"","","","","",""]
[null,null,null,null,null,null,"","",null,null,null,null,null,null,null,null,null,null,null,"","","","","",""]
[null,null,null,null,null,null,"","",null,null,null,null,null,null,null,null,null,null,null,"","","","","",""]
[null,null,null,null,null,null,"","",null,null,null,null,null,null,null,null,null,null,null,"","","","","",""]
[null,null,null,null,null,null,"","",null,null,null,null,null,null,null,null,null,null,null,"","","","","",""]
[null,null,null,null,null,null,"","",null,null,null,null,null,null,null,null,null,null,null,"","","","","",""]
[null,null,null,null,null,null,"","",null,null,null,null,null,null,null,null,null,null,null,"","","","","",""]
[null,null,null,null,null,null,"","",null,null,null,null,null,null,null,null,null,null,null,"","","","","",""]
[null,null,null,null,null,null,"","",null,null,null,null,null,null,null,null,null,null,null,"","","","","",""]
[null,null,null,null,null,null,"","",null,null,null,null,null,null,null,null,null,null,null,"","","","","",""]
[null,null,null,null,null,null,"","",null,null,null,null,null,null,null,null,null,null,null,"","","","","",""]
[null,null,null,null,null,null,"","",null,null,null,null,null,null,null,null,null,null,null,"","","","","",""]
[null,null,null,null,null,null,"","",null,null,null,null,null,null,null,null,null,null,null,"","","","","",""]
[null,null,null,null,null,null,"","",null,null,null,null,null,null,null,null,null,null,null,"","","","","",""]
[null,null,null,null,null,null,"","",null,null,null,null,null,null,null,null,null,null,null,"","","","","",""]
[null,null,null,null,null,null,"","",null,null,null,null,null,null,null,null,null,null,null,"","","","","",""]
[null,null,null,null,null,null,"","",null,null,null,null,null,null,null,null,null,null,null,"","","","","",""]
[null,null,null,null,null,null,"","",null,null,null,null,null,null,null,null,null,null,null,"","","","","",""]
[null,null,null,null,null,null,"","",null,null,null,null,null,null,null,null,null,null,null,"","","","","",""]
[null,null,null,null,null,null,"","",null,null,null,null,null,null,null,null,null,null,null,"","","","","",""]
[null,null,null,null,null,null,"","",null,null,null,null,null,null,null,null,null,null,null,"","","","","",""]
[null,null,null,null,null,null,"","",null,null,null,null,null,null,null,null,null,null,null,"","","","","",""]
[null,null,null,null,null,null,"","",null,null,null,null,null,null,null,null,null,null,null,"","","","","",""]
[null,null,null,null,null,null,"","",null,null,null,null,null,null,null,null,null,null,null,"","","","","",""]
[null,null,null,null,null,null,"","",null,null,null,null,null,null,null,null,null,null,null,"","","","","",""]
[null,null,null,null,null,null,"","",null,null,null,null,null,null,null,null,null,null,null,"","","","","",""]
[null,null,null,null,null,null,"","",null,null,null,null,null,null,null,null,null,null,null,"","","","","",""]
[null,null,null,null,null,null,"","",null,null,null,null,null,null,null,null,null,null,null,"","","","","",""]
[null,null,null,null,null,null,"","",null,null,null,null,null,null,null,null,null,null,null,"","","","","",""]
[null,null,null,null,null,null,"","",null,null,null,null,null,null,null,null,null,null,null,"","","","","",""]
[null,null,null,null,null,null,"","",null,null,null,null,null,null,null,null,null,null,null,{"$f":"IF(W962=\"\",\"\",AA962)","v":""},{"$f":"IF(W962=\"\",\"\",AC962)","v":""},{"$f":"IF(W962=\"\",\"\",AK962)","v":""},{"$f":"IFERROR(IF(Y962=\"\",\"\",MID(Y962,SEARCH(\"1x2/\",Y962,1) + 4,LEN(Y962))),\"\")","v":""},{"$f":"IF(W962=\"\",\"\",AB962)","v":""},{"$f":"HLink(AL962)","v":""}]
[null,null,null,null,null,null,{"$f":"IF(D963=\"\",\"\",E963&\" \"&A963&\" \"&\"    \"&\" \"&B963&\" - \"&C963)","v":""},{"$f":"IF(G963=\"\",\"\",D963)","v":""},null,null,null,null,null,null,null,null,null,null,null,"","","","","",""]
[null,null,null,null,null,null,"","",null,null,null,null,null,null,null,null,null,null,null,"","","","","",""]
[null,null,null,null,null,null,"","",null,null,null,null,null,null,null,null,null,null,null,"","","","","",""]
[null,null,null,null,null,null,"","",null,null,null,null,null,null,null,null,null,null,null,"","","","","",""]
[null,null,null,null,null,null,"","",null,null,null,null,null,null,null,null,null,null,null,"","","","","",""]
[null,null,null,null,null,null,"","",null,null,null,null,null,null,null,null,null,null,null,"","","","","",""]
[null,null,null,null,null,null,"","",null,null,null,null,null,null,null,null,null,null,null,"","","","","",""]
[null,null,null,null,null,null,"","",null,null,null,null,null,null,null,null,null,null,null,"","","","","",""]
[null,null,null,null,null,null,"","",null,null,null,null,null,null,null,null,null,null,null,"","","","","",""]
[null,null,null,null,null,null,"","",null,null,null,null,null,null,null,null,null,null,null,"","","","","",""]
[null,null,null,null,null,null,"","",null,null,null,null,null,null,null,null,null,null,null,"","","","","",""]
[null,null,null,null,null,null,"","",null,null,null,null,null,null,null,null,null,null,null,"","","","","",""]
[null,null,null,null,null,null,"","",null,null,null,null,null,null,null,null,null,null,null,"","","","","",""]
[null,null,null,null,null,null,"","",null,null,null,null,null,null,null,null,null,null,null,"","","","","",""]
[null,null,null,null,null,null,"","",null,null,null,null,null,null,null,null,null,null,null,"","","","","",""]
[null,null,null,null,null,null,"","",null,null,null,null,null,null,null,null,null,null,null,"","","","","",""]
[null,null,null,null,null,null,"","",null,null,null,null,null,null,null,null,null,null,null,"","","","","",""]
[null,null,null,null,null,null,"","",null,null,null,null,null,null,null,null,null,null,null,"","","","","",""]
[null,null,null,null,null,null,"","",null,null,null,null,null,null,null,null,null,null,null,"","","","","",""]
[null,null,null,null,null,null,"","",null,null,null,null,null,null,null,null,null,null,null,"","","","","",""]
[null,null,null,null,null,null,"","",null,null,null,null,null,null,null,null,null,null,null,"","","","","",""]
[null,null,null,null,null,null,"","",null,null,null,null,null,null,null,null,null,null,null,"","","","","",""]
[null,null,null,null,null,null,"","",null,null,null,null,null,null,null,null,null,null,null,"","","","","",""]
[null,null,null,null,null,null,"","",null,null,null,null,null,null,null,null,null,null,null,"","","","","",""]
[null,null,null,null,null,null,"","",null,null,null,null,null,null,null,null,null,null,null,"","","","","",""]
[null,null,null,null,null,null,"","",null,null,null,null,null,null,null,null,null,null,null,"","","","","",""]
[null,null,null,null,null,null,"","",null,null,null,null,null,null,null,null,null,null,null,"","","","","",""]
[null,null,null,null,null,null,"","",null,null,null,null,null,null,null,null,null,null,null,"","","","","",""]
[null,null,null,null,null,null,"","",null,null,null,null,null,null,null,null,null,null,null,"","","","","",""]
[null,null,null,null,null,null,"","",null,null,null,null,null,null,null,null,null,null,null,"","","","","",""]
[null,null,null,null,null,null,"","",null,null,null,null,null,null,null,null,null,null,null,"","","","","",""]
[null,null,null,null,null,null,"","",null,null,null,null,null,null,null,null,null,null,null,"","","","","",""]
[null,null,null,null,null,null,"","",null,null,null,null,null,null,null,null,null,null,null,"","","","","",""]
[null,null,null,null,null,null,"","",null,null,null,null,null,null,null,null,null,null,null,"","","","","",""]
[null,null,null,null,null,null,"","",null,null,null,null,null,null,null,null,null,null,null,"","","","","",""]
[null,null,null,null,null,null,"","",null,null,null,null,null,null,null,null,null,null,null,"","","","","",""]
[null,null,null,null,null,null,"","",null,null,null,null,null,null,null,null,null,null,null,"","","","","",""]
[null,null,null,null,null,null,"","",null,null,null,null,null,null,null,null,null,null,null,"","","","","",""]
[null,null,null,null,null,null,"","",null,null,null,null,null,null,null,null,null,null,null,"","","","","",""]
[null,null,null,null,null,null,"","",null,null,null,null,null,null,null,null,null,null,null,"","","","","",""]
[null,null,null,null,null,null,"","",null,null,null,null,null,null,null,null,null,null,null,"","","","","",""]
[null,null,null,null,null,null,"","",null,null,null,null,null,null,null,null,null,null,null,"","","","","",""]
[null,null,null,null,null,null,"","",null,null,null,null,null,null,null,null,null,null,null,"","","","","",""]
[null,null,null,null,null,null,"","",null,null,null,null,null,null,null,null,null,null,null,"","","","","",""]
[null,null,null,null,null,null,"","",null,null,null,null,null,null,null,null,null,null,null,"","","","","",""]
[null,null,null,null,null,null,"","",null,null,null,null,null,null,null,null,null,null,null,"","","","","",""]
[null,null,null,null,null,null,{"$f":"IF(D1027=\"\",\"\",E1027&\" \"&A1027&\" \"&\"    \"&\" \"&B1027&\" - \"&C1027)","v":""},{"$f":"IF(G1027=\"\",\"\",D1027)","v":""},null,null,null,null,null,null,null,null,null,null,null,"","","","","",""]
[null,null,null,null,null,null,"","",null,null,null,null,null,null,null,null,null,null,null,"","","","","",""]
[null,null,null,null,null,null,"","",null,null,null,null,null,null,null,null,null,null,null,"","","","","",""]
[null,null,null,null,null,null,"","",null,null,null,null,null,null,null,null,null,null,null,"","","","","",""]
[null,null,null,null,null,null,"","",null,null,null,null,null,null,null,null,null,null,null,"","","","","",""]
[null,null,null,null,null,null,"","",null,null,null,null,null,null,null,null,null,null,null,"","","","","",""]
[null,null,null,null,null,null,"","",null,null,null,null,null,null,null,null,null,null,null,"","","","","",""]
[null,null,null,null,null,null,"","",null,null,null,null,null,null,null,null,null,null,null,"","","","","",""]
[null,null,null,null,null,null,"","",null,null,null,null,null,null,null,null,null,null,null,"","","","","",""]
[null,null,null,null,null,null,"","",null,null,null,null,null,null,null,null,null,null,null,"","","","","",""]
[null,null,null,null,null,null,"","",null,null,null,null,null,null,null,null,null,null,null,"","","","","",""]
[null,null,null,null,null,null,"","",null,null,null,null,null,null,null,null,null,null,null,"","","","","",""]
[null,null,null,null,null,null,"","",null,null,null,null,null,null,null,null,null,null,null,"","","","","",""]
[null,null,null,null,null,null,"","",null,null,null,null,null,null,null,null,null,null,null,"","","","","",""]
[null,null,null,null,null,null,"","",null,null,null,null,null,null,null,null,null,null,null,"","","","","",""]
[null,null,null,null,null,null,"","",null,null,null,null,null,null,null,null,null,null,null,"","","","","",""]
[null,null,null,null,null,null,"","",null,null,null,null,null,null,null,null,null,null,null,"","","","","",""]
[null,null,null,null,null,null,"","",null,null,null,null,null,null,null,null,null,null,null,"","","","","",""]
[null,null,null,null,null,null,"","",null,null,null,null,null,null,null,null,null,null,null,"","","","","",""]
[null,null,null,null,null,null,"","",null,null,null,null,null,null,null,null,null,null,null,"","","","","",""]
[null,null,null,null,null,null,{"$f":"IF(D1091=\"\",\"\",E1091&\" \"&A1091&\" \"&\"    \"&\" \"&B1091&\" - \"&C1091)","v":""},{"$f":"IF(G1091=\"\",\"\",D1091)","v":""},null,null,null,null,null,null,null,null,null,null,null,"","","","","",""]
[null,null,null,null,null,null,"","",null,null,null,null,null,null,null,null,null,null,null,"","","","","",""]
[null,null,null,null,null,null,"","",null,null,null,null,null,null,null,null,null,null,null,"","","","","",""]
[null,null,null,null,null,null,"","",null,null,null,null,null,null,null,null,null,null,null,"","","","","",""]
[null,null,null,null,null,null,"","",null,null,null,null,null,null,null,null,null,null,null,"","","","","",""]
[null,null,null,null,null,null,"","",null,null,null,null,null,null,null,null,null,null,null,"","","","","",""]
[null,null,null,null,null,null,"","",null,null,null,null,null,null,null,null,null,null,null,"","","","","",""]
[null,null,null,null,null,null,"","",null,null,null,null,null,null,null,null,null,null,null,"","","","","",""]
[null,null,null,null,null,null,"","",null,null,null,null,null,null,null,null,null,null,null,"","","","","",""]
[null,null,null,null,null,null,"","",null,null,null,null,null,null,null,null,null,null,null,"","","","","",""]
[null,null,null,null,null,null,"","",null,null,null,null,null,null,null,null,null,null,null,"","","","","",""]
[null,null,null,null,null,null,"","",null,null,null,null,null,null,null,null,null,null,null,"","","","","",""]
[null,null,null,null,null,null,"","",null,null,null,null,null,null,null,null,null,null,null,"","","","","",""]
[null,null,null,null,null,null,"","",null,null,null,null,null,null,null,null,null,null,null,"","","","","",""]
[null,null,null,null,null,null,"","",null,null,null,null,null,null,null,null,null,null,null,"","","","","",""]
[null,null,null,null,null,null,"","",null,null,null,null,null,null,null,null,null,null,null,"","","","","",""]
[null,null,null,null,null,null,"","",null,null,null,null,null,null,null,null,null,null,null,"","","","","",""]
[null,null,null,null,null,null,"","",null,null,null,null,null,null,null,null,null,null,null,"","","","","",""]
[null,null,null,null,null,null,"","",null,null,null,null,null,null,null,null,null,null,null,"","","","","",""]
[null,null,null,null,null,null,"","",null,null,null,null,null,null,null,null,null,null,null,"","","","","",""]
[null,null,null,null,null,null,"","",null,null,null,null,null,null,null,null,null,null,null,{"$f":"IF(W1154=\"\",\"\",AA1154)","v":""},{"$f":"IF(W1154=\"\",\"\",AC1154)","v":""},{"$f":"IF(W1154=\"\",\"\",AK1154)","v":""},{"$f":"IFERROR(IF(Y1154=\"\",\"\",MID(Y1154,SEARCH(\"1x2/\",Y1154,1) + 4,LEN(Y1154))),\"\")","v":""},{"$f":"IF(W1154=\"\",\"\",AB1154)","v":""},{"$f":"HLink(AL1154)","v":""}]
[null,null,null,null,null,null,"","",null,null,null,null,null,null,null,null,null,null,null,"","","","","",""]
[null,null,null,null,null,null,"","",null,null,null,null,null,null,null,null,null,null,null,"","","","","",""]
[null,null,null,null,null,null,"","",null,null,null,null,null,null,null,null,null,null,null,"","","","","",""]
[null,null,null,null,null,null,"","",null,null,null,null,null,null,null,null,null,null,null,"","","","","",""]
[null,null,null,null,null,null,"","",null,null,null,null,null,null,null,null,null,null,null,"","","","","",""]
[null,null,null,null,null,null,"","",null,null,null,null,null,null,null,null,null,null,null,"","","","","",""]
[null,null,null,null,null,null,"","",null,null,null,null,null,null,null,null,null,null,null,"","","","","",""]
[null,null,null,null,null,null,"","",null,null,null,null,null,null,null,null,null,null,null,"","","","","",""]
[null,null,null,null,null,null,"","",null,null,null,null,null,null,null,null,null,null,null,"","","","","",""]
[null,null,null,null,null,null,"","",null,null,null,null,null,null,null,null,null,null,null,"","","","","",""]
[null,null,null,null,null,null,"","",null,null,null,null,null,null,null,null,null,null,null,"","","","","",""]
[null,null,null,null,null,null,"","",null,null,null,null,null,null,null,null,null,null,null,"","","","","",""]
[null,null,null,null,null,null,"","",null,null,null,null,null,null,null,null,null,null,null,"","","","","",""]
[null,null,null,null,null,null,"","",null,null,null,null,null,null,null,null,null,null,null,"","","","","",""]
[null,null,null,null,null,null,"","",null,null,null,null,null,null,null,null,null,null,null,"","","","","",""]
[null,null,null,null,null,null,"","",null,null,null,null,null,null,null,null,null,null,null,"","","","","",""]
[null,null,null,null,null,null,"","",null,null,null,null,null,null,null,null,null,null,null,"","","","","",""]
[null,null,null,null,null,null,"","",null,null,null,null,null,null,null,null,null,null,null,"","","","","",""]
[null,null,null,null,null,null,"","",null,null,null,null,null,null,null,null,null,null,null,"","","","","",""]
[null,null,null,null,null,null,"","",null,null,null,null,null,null,null,null,null,null,null,{"$f":"IF(W1218=\"\",\"\",AA1218)","v":""},{"$f":"IF(W1218=\"\",\"\",AC1218)","v":""},{"$f":"IF(W1218=\"\",\"\",AK1218)","v":""},{"$f":"IFERROR(IF(Y1218=\"\",\"\",MID(Y1218,SEARCH(\"1x2/\",Y1218,1) + 4,LEN(Y1218))),\"\")","v":""},{"$f":"IF(W1218=\"\",\"\",AB1218)","v":""},{"$f":"HLink(AL1218)","v":""}]
[null,null,null,null,null,null,{"$f":"IF(D1219=\"\",\"\",E1219&\" \"&A1219&\" \"&\"    \"&\" \"&B1219&\" - \"&C1219)","v":""},{"$f":"IF(G1219=\"\",\"\",D1219)","v":""},null,null,null,null,null,null,null,null,null,null,null,"","","","","",""]
[null,null,null,null,null,null,"","",null,null,null,null,null,null,null,null,null,null,null,"","","","","",""]
[null,null,null,null,null,null,"","",null,null,null,null,null,null,null,null,null,null,null,"","","","","",""]
[null,null,null,null,null,null,"","",null,null,null,null,null,null,null,null,null,null,null,"","","","","",""]
[null,null,null,null,null,null,"","",null,null,null,null,null,null,null,null,null,null,null,"","","","","",""]
[null,null,null,null,null,null,"","",null,null,null,null,null,null,null,null,null,null,null,"","","","","",""]
[null,null,null,null,null,null,"","",null,null,null,null,null,null,null,null,null,null,null,"","","","","",""]
[null,null,null,null,null,null,"","",null,null,null,null,null,null,null,null,null,null,null,"","","","","",""]
[null,null,null,null,null,null,"","",null,null,null,null,null,null,null,null,null,null,null,"","","","","",""]
[null,null,null,null,null,null,"","",null,null,null,null,null,null,null,null,null,null,null,"","","","","",""]
[null,null,null,null,null,null,"","",null,null,null,null,null,null,null,null,null,null,null,"","","","","",""]
[null,null,null,null,null,null,"","",null,null,null,null,null,null,null,null,null,null,null,"","","","","",""]
[null,null,null,null,null,null,"","",null,null,null,null,null,null,null,null,null,null,null,"","","","","",""]
[null,null,null,null,null,null,"","",null,null,null,null,null,null,null,null,null,null,null,"","","","","",""]
[null,null,null,null,null,null,"","",null,null,null,null,null,null,null,null,null,null,null,"","","","","",""]
[null,null,null,null,null,null,"","",null,null,null,null,null,null,null,null,null,null,null,"","","","","",""]
[null,null,null,null,null,null,"","",null,null,null,null,null,null,null,null,null,null,null,"","","","","",""]
[null,null,null,null,null,null,"","",null,null,null,null,null,null,null,null,null,null,null,"","","","","",""]
[null,null,null,null,null,null,"","",null,null,null,null,null,null,null,null,null,null,null,"","","","","",""]
[null,null,null,null,null,null,"","",null,null,null,null,null,null,null,null,null,null,null,"","","","","",""]
[null,null,null,null,null,null,"","",null,null,null,null,null,null,null,null,null,null,null,"","","","","",""]
[null,null,null,null,null,null,"","",null,null,null,null,null,null,null,null,null,null,null,"","","","","",""]
[null,null,null,null,null,null,"","",null,null,null,null,null,null,null,null,null,null,null,"","","","","",""]
[null,null,null,null,null,null,"","",null,null,null,null,null,null,null,null,null,null,null,"","","","","",""]
[null,null,null,null,null,null,"","",null,null,null,null,null,null,null,null,null,null,null,"","","","","",""]
[null,null,null,null,null,null,"","",null,null,null,null,null,null,null,null,null,null,null,"","","","","",""]
[null,null,null,null,null,null,"","",null,null,null,null,null,null,null,null,null,null,null,"","","","","",""]
[null,null,null,null,null,null,"","",null,null,null,null,null,null,null,null,null,null,null,"","","","","",""]
[null,null,null,null,null,null,"","",null,null,null,null,null,null,null,null,null,null,null,"","","","","",""]
[null,null,null,null,null,null,"","",null,null,null,null,null,null,null,null,null,null,null,"","","","","",""]
[null,null,null,null,null,null,"","",null,null,null,null,null,null,null,null,null,null,null,"","","","","",""]
[null,null,null,null,null,null,"","",null,null,null,null,null,null,null,null,null,null,null,"","","","","",""]
[null,null,null,null,null,null,"","",null,null,null,null,null,null,null,null,null,null,null,"","","","","",""]
[null,null,null,null,null,null,"","",null,null,null,null,null,null,null,null,null,null,null,"","","","","",""]
[null,null,null,null,null,null,"","",null,null,null,null,null,null,null,null,null,null,null,"","","","","",""]
[null,null,null,null,null,null,"","",null,null,null,null,null,null,null,null,null,null,null,"","","","","",""]
[null,null,null,null,null,null,"","",null,null,null,null,null,null,null,null,null,null,null,"","","","","",""]
[null,null,null,null,null,null,"","",null,null,null,null,null,null,null,null,null,null,null,"","","","","",""]
[null,null,null,null,null,null,"","",null,null,null,null,null,null,null,null,null,null,null,"","","","","",""]
[null,null,null,null,null,null,"","",null,null,null,null,null,null,null,null,null,null,null,"","","","","",""]
[null,null,null,null,null,null,"","",null,null,null,null,null,null,null,null,null,null,null,{"$f":"IF(W1346=\"\",\"\",AA1346)","v":""},{"$f":"IF(W1346=\"\",\"\",AC1346)","v":""},{"$f":"IF(W1346=\"\",\"\",AK1346)","v":""},{"$f":"IFERROR(IF(Y1346=\"\",\"\",MID(Y1346,SEARCH(\"1x2/\",Y1346,1) + 4,LEN(Y1346))),\"\")","v":""},{"$f":"IF(W1346=\"\",\"\",AB1346)","v":""},{"$f":"HLink(AL1346)","v":""}]
[null,null,null,null,null,null,"","",null,null,null,null,null,null,null,null,null,null,null,"","","","","",""]
[null,null,null,null,null,null,"","",null,null,null,null,null,null,null,null,null,null,null,"","","","","",""]
[null,null,null,null,null,null,"","",null,null,null,null,null,null,null,null,null,null,null,"","","","","",""]
[null,null,null,null,null,null,"","",null,null,null,null,null,null,null,null,null,null,null,"","","","","",""]
[null,null,null,null,null,null,"","",null,null,null,null,null,null,null,null,null,null,null,"","","","","",""]
[null,null,null,null,null,null,"","",null,null,null,null,null,null,null,null,null,null,null,"","","","","",""]
[null,null,null,null,null,null,"","",null,null,null,null,null,null,null,null,null,null,null,"","","","","",""]
[null,null,null,null,null,null,"","",null,null,null,null,null,null,null,null,null,null,null,"","","","","",""]
[null,null,null,null,null,null,"","",null,null,null,null,null,null,null,null,null,null,null,"","","","","",""]
[null,null,null,null,null,null,"","",null,null,null,null,null,null,null,null,null,null,null,"","","","","",""]
[null,null,null,null,null,null,"","",null,null,null,null,null,null,null,null,null,null,null,"","","","","",""]
[null,null,null,null,null,null,"","",null,null,null,null,null,null,null,null,null,null,null,"","","","","",""]
[null,null,null,null,null,null,"","",null,null,null,null,null,null,null,null,null,null,null,"","","","","",""]
[null,null,null,null,null,null,"","",null,null,null,null,null,null,null,null,null,null,null,"","","","","",""]
[null,null,null,null,null,null,"","",null,null,null,null,null,null,null,null,null,null,null,"","","","","",""]
[null,null,null,null,null,null,"","",null,null,null,null,null,null,null,null,null,null,null,"","","","","",""]
[null,null,null,null,null,null,"","",null,null,null,null,null,null,null,null,null,null,null,"","","","","",""]
[null,null,null,null,null,null,"","",null,null,null,null,null,null,null,null,null,null,null,"","","","","",""]
[null,null,null,null,null,null,"","",null,null,null,null,null,null,null,null,null,null,null,"","","","","",""]
[null,null,null,null,null,null,{"$f":"IF(D1411=\"\",\"\",E1411&\" \"&A1411&\" \"&\"    \"&\" \"&B1411&\" - \"&C1411)","v":""},{"$f":"IF(G1411=\"\",\"\",D1411)","v":""},null,null,null,null,null,null,null,null,null,null,null,"","","","","",""]
[null,null,null,null,null,null,"","",null,null,null,null,null,null,null,null,null,null,null,"","","","","",""]
[null,null,null,null,null,null,"","",null,null,null,null,null,null,null,null,null,null,null,"","","","","",""]
[null,null,null,null,null,null,"","",null,null,null,null,null,null,null,null,null,null,null,"","","","","",""]
[null,null,null,null,null,null,"","",null,null,null,null,null,null,null,null,null,null,null,"","","","","",""]
[null,null,null,null,null,null,"","",null,null,null,null,null,null,null,null,null,null,null,"","","","","",""]
[null,null,null,null,null,null,"","",null,null,null,null,null,null,null,null,null,null,null,"","","","","",""]
[null,null,null,null,null,null,"","",null,null,null,null,null,null,null,null,null,null,null,"","","","","",""]
[null,null,null,null,null,null,"","",null,null,null,null,null,null,null,null,null,null,null,"","","","","",""]
[null,null,null,null,null,null,"","",null,null,null,null,null,null,null,null,null,null,null,"","","","","",""]
[null,null,null,null,null,null,"","",null,null,null,null,null,null,null,null,null,null,null,"","","","","",""]
[null,null,null,null,null,null,"","",null,null,null,null,null,null,null,null,null,null,null,"","","","","",""]
[null,null,null,null,null,null,"","",null,null,null,null,null,null,null,null,null,null,null,"","","","","",""]
[null,null,null,null,null,null,"","",null,null,null,null,null,null,null,null,null,null,null,"","","","","",""]
[null,null,null,null,null,null,"","",null,null,null,null,null,null,null,null,null,null,null,"","","","","",""]
[null,null,null,null,null,null,"","",null,null,null,null,null,null,null,null,null,null,null,"","","","","",""]
[null,null,null,null,null,null,"","",null,null,null,null,null,null,null,null,null,null,null,"","","","","",""]
[null,null,null,null,null,null,"","",null,null,null,null,null,null,null,null,null,null,null,"","","","","",""]
[null,null,null,null,null,null,"","",null,null,null,null,null,null,null,null,null,null,null,"","","","","",""]
[null,null,null,null,null,null,"","",null,null,null,null,null,null,null,null,null,null,null,"","","","","",""]
[null,null,null,null,null,null,"","",null,null,null,null,null,null,null,null,null,null,null,"","","","","",""]
[null,null,null,null,null,null,"","",null,null,null,null,null,null,null,null,null,null,null,"","","","","",""]
[null,null,null,null,null,null,"","",null,null,null,null,null,null,null,null,null,null,null,"","","","","",""]
[null,null,null,null,null,null,"","",null,null,null,null,null,null,null,null,null,null,null,"","","","","",""]
[null,null,null,null,null,null,"","",null,null,null,null,null,null,null,null,null,null,null,"","","","","",""]
[null,null,null,null,null,null,"","",null,null,null,null,null,null,null,null,null,null,null,"","","","","",""]
[null,null,null,null,null,null,"","",null,null,null,null,null,null,null,null,null,null,null,"","","","","",""]
[null,null,null,null,null,null,"","",null,null,null,null,null,null,null,null,null,null,null,"","","","","",""]
[null,null,null,null,null,null,"","",null,null,null,null,null,null,null,null,null,null,null,"","","","","",""]
[null,null,null,null,null,null,"","",null,null,null,null,null,null,null,null,null,null,null,"","","","","",""]
[null,null,null,null,null,null,"","",null,null,null,null,null,null,null,null,null,null,null,"","","","","",""]
[null,null,null,null,null,null,"","",null,null,null,null,null,null,null,null,null,null,null,"","","","","",""]
[null,null,null,null,null,null,"","",null,null,null,null,null,null,null,null,null,null,null,"","","","","",""]
[null,null,null,null,null,null,"","",null,null,null,null,null,null,null,null,null,null,null,"","","","","",""]
[null,null,null,null,null,null,"","",null,null,null,null,null,null,null,null,null,null,null,"","","","","",""]
[null,null,null,null,null,null,"","",null,null,null,null,null,null,null,null,null,null,null,"","","","","",""]
[null,null,null,null,null,null,"","",null,null,null,null,null,null,null,null,null,null,null,"","","","","",""]
[null,null,null,null,null,null,"","",null,null,null,null,null,null,null,null,null,null,null,"","","","","",""]
[null,null,null,null,null,null,"","",null,null,null,null,null,null,null,null,null,null,null,"","","","","",""]
[null,null,null,null,null,null,"","",null,null,null,null,null,null,null,null,null,null,null,"","","","","",""]
[null,null,null,null,null,null,"","",null,null,null,null,null,null,null,null,null,null,null,{"$f":"IF(W1538=\"\",\"\",AA1538)","v":""},{"$f":"IF(W1538=\"\",\"\",AC1538)","v":""},{"$f":"IF(W1538=\"\",\"\",AK1538)","v":""},{"$f":"IFERROR(IF(Y1538=\"\",\"\",MID(Y1538,SEARCH(\"1x2/\",Y1538,1) + 4,LEN(Y1538))),\"\")","v":""},{"$f":"IF(W1538=\"\",\"\",AB1538)","v":""},{"$f":"HLink(AL1538)","v":""}]
[null,null,null,null,null,null,"","",null,null,null,null,null,null,null,null,null,null,null,"","","","","",""]
[null,null,null,null,null,null,"","",null,null,null,null,null,null,null,null,null,null,null,"","","","","",""]
[null,null,null,null,null,null,"","",null,null,null,null,null,null,null,null,null,null,null,"","","","","",""]
[null,null,null,null,null,null,"","",null,null,null,null,null,null,null,null,null,null,null,"","","","","",""]
[null,null,null,null,null,null,"","",null,null,null,null,null,null,null,null,null,null,null,"","","","","",""]
[null,null,null,null,null,null,"","",null,null,null,null,null,null,null,null,null,null,null,"","","","","",""]
[null,null,null,null,null,null,"","",null,null,null,null,null,null,null,null,null,null,null,"","","","","",""]
[null,null,null,null,null,null,"","",null,null,null,null,null,null,null,null,null,null,null,"","","","","",""]
[null,null,null,null,null,null,"","",null,null,null,null,null,null,null,null,null,null,null,"","","","","",""]
[null,null,null,null,null,null,"","",null,null,null,null,null,null,null,null,null,null,null,"","","","","",""]
[null,null,null,null,null,null,"","",null,null,null,null,null,null,null,null,null,null,null,"","","","","",""]
[null,null,null,null,null,null,"","",null,null,null,null,null,null,null,null,null,null,null,"","","","","",""]
[null,null,null,null,null,null,"","",null,null,null,null,null,null,null,null,null,null,null,"","","","","",""]
[null,null,null,null,null,null,"","",null,null,null,null,null,null,null,null,null,null,null,"","","","","",""]
[null,null,null,null,null,null,"","",null,null,null,null,null,null,null,null,null,null,null,"","","","","",""]
[null,null,null,null,null,null,"","",null,null,null,null,null,null,null,null,null,null,null,"","","","","",""]
[null,null,null,null,null,null,"","",null,null,null,null,null,null,null,null,null,null,null,"","","","","",""]
[null,null,null,null,null,null,"","",null,null,null,null,null,null,null,null,null,null,null,"","","","","",""]
[null,null,null,null,null,null,"","",null,null,null,null,null,null,null,null,null,null,null,"","","","","",""]
[null,null,null,null,null,null,"","",null,null,null,null,null,null,null,null,null,null,null,"","","","","",""]
[null,null,null,null,null,null,"","",null,null,null,null,null,null,null,null,null,null,null,"","","","","",""]
[null,null,null,null,null,null,"","",null,null,null,null,null,null,null,null,null,null,null,"","","","","",""]
[null,null,null,null,null,null,"","",null,null,null,null,null,null,null,null,null,null,null,"","","","","",""]
[null,null,null,null,null,null,"","",null,null,null,null,null,null,null,null,null,null,null,"","","","","",""]
[null,null,null,null,null,null,"","",null,null,null,null,null,null,null,null,null,null,null,"","","","","",""]
[null,null,null,null,null,null,"","",null,null,null,null,null,null,null,null,null,null,null,"","","","","",""]
[null,null,null,null,null,null,"","",null,null,null,null,null,null,null,null,null,null,null,"","","","","",""]
[null,null,null,null,null,null,"","",null,null,null,null,null,null,null,null,null,null,null,"","","","","",""]
[null,null,null,null,null,null,"","",null,null,null,null,null,null,null,null,null,null,null,"","","","","",""]
[null,null,null,null,null,null,"","",null,null,null,null,null,null,null,null,null,null,null,"","","","","",""]
[null,null,null,null,null,null,"","",null,null,null,null,null,null,null,null,null,null,null,"","","","","",""]
[null,null,null,null,null,null,"","",null,null,null,null,null,null,null,null,null,null,null,"","","","","",""]
[null,null,null,null,null,null,"","",null,null,null,null,null,null,null,null,null,null,null,"","","","","",""]
[null,null,null,null,null,null,"","",null,null,null,null,null,null,null,null,null,null,null,"","","","","",""]
[null,null,null,null,null,null,"","",null,null,null,null,null,null,null,null,null,null,null,"","","","","",""]
[null,null,null,null,null,null,"","",null,null,null,null,null,null,null,null,null,null,null,"","","","","",""]
[null,null,null,null,null,null,"","",null,null,null,null,null,null,null,null,null,null,null,"","","","","",""]
[null,null,null,null,null,null,"","",null,null,null,null,null,null,null,null,null,null,null,"","","","","",""]
[null,null,null,null,null,null,"","",null,null,null,null,null,null,null,null,null,null,null,"","","","","",""]
[null,null,null,null,null,null,"","",null,null,null,null,null,null,null,null,null,null,null,"","","","","",""]
[null,null,null,null,null,null,"","",null,null,null,null,null,null,null,null,null,null,null,{"$f":"IF(W1666=\"\",\"\",AA1666)","v":""},{"$f":"IF(W1666=\"\",\"\",AC1666)","v":""},{"$f":"IF(W1666=\"\",\"\",AK1666)","v":""},{"$f":"IFERROR(IF(Y1666=\"\",\"\",MID(Y1666,SEARCH(\"1x2/\",Y1666,1) + 4,LEN(Y1666))),\"\")","v":""},{"$f":"IF(W1666=\"\",\"\",AB1666)","v":""},{"$f":"HLink(AL1666)","v":""}]
[null,null,null,null,null,null,"","",null,null,null,null,null,null,null,null,null,null,null,"","","","","",""]
[null,null,null,null,null,null,"","",null,null,null,null,null,null,null,null,null,null,null,"","","","","",""]
[null,null,null,null,null,null,"","",null,null,null,null,null,null,null,null,null,null,null,"","","","","",""]
[null,null,null,null,null,null,"","",null,null,null,null,null,null,null,null,null,null,null,"","","","","",""]
[null,null,null,null,null,null,"","",null,null,null,null,null,null,null,null,null,null,null,"","","","","",""]
[null,null,null,null,null,null,"","",null,null,null,null,null,null,null,null,null,null,null,"","","","","",""]
[null,null,null,null,null,null,"","",null,null,null,null,null,null,null,null,null,null,null,"","","","","",""]
[null,null,null,null,null,null,"","",null,null,null,null,null,null,null,null,null,null,null,"","","","","",""]
[null,null,null,null,null,null,"","",null,null,null,null,null,null,null,null,null,null,null,"","","","","",""]
[null,null,null,null,null,null,"","",null,null,null,null,null,null,null,null,null,null,null,"","","","","",""]
[null,null,null,null,null,null,"","",null,null,null,null,null,null,null,null,null,null,null,"","","","","",""]
[null,null,null,null,null,null,"","",null,null,null,null,null,null,null,null,null,null,null,"","","","","",""]
[null,null,null,null,null,null,"","",null,null,null,null,null,null,null,null,null,null,null,"","","","","",""]
[null,null,null,null,null,null,"","",null,null,null,null,null,null,null,null,null,null,null,"","","","","",""]
[null,null,null,null,null,null,"","",null,null,null,null,null,null,null,null,null,null,null,"","","","","",""]
[null,null,null,null,null,null,"","",null,null,null,null,null,null,null,null,null,null,null,"","","","","",""]
[null,null,null,null,null,null,"","",null,null,null,null,null,null,null,null,null,null,null,"","","","","",""]
[null,null,null,null,null,null,"","",null,null,null,null,null,null,null,null,null,null,null,"","","","","",""]
[null,null,null,null,null,null,"","",null,null,null,null,null,null,null,null,null,null,null,"","","","","",""]
[null,null,null,null,null,null,"","",null,null,null,null,null,null,null,null,null,null,null,{"$f":"IF(W1730=\"\",\"\",AA1730)","v":""},{"$f":"IF(W1730=\"\",\"\",AC1730)","v":""},{"$f":"IF(W1730=\"\",\"\",AK1730)","v":""},{"$f":"IFERROR(IF(Y1730=\"\",\"\",MID(Y1730,SEARCH(\"1x2/\",Y1730,1) + 4,LEN(Y1730))),\"\")","v":""},{"$f":"IF(W1730=\"\",\"\",AB1730)","v":""},{"$f":"HLink(AL1730)","v":""}]
[null,null,null,null,null,null,"","",null,null,null,null,null,null,null,null,null,null,null,"","","","","",""]
[null,null,null,null,null,null,"","",null,null,null,null,null,null,null,null,null,null,null,"","","","","",""]
[null,null,null,null,null,null,"","",null,null,null,null,null,null,null,null,null,null,null,"","","","","",""]
[null,null,null,null,null,null,"","",null,null,null,null,null,null,null,null,null,null,null,"","","","","",""]
[null,null,null,null,null,null,"","",null,null,null,null,null,null,null,null,null,null,null,"","","","","",""]
[null,null,null,null,null,null,"","",null,null,null,null,null,null,null,null,null,null,null,"","","","","",""]
[null,null,null,null,null,null,"","",null,null,null,null,null,null,null,null,null,null,null,"","","","","",""]
[null,null,null,null,null,null,"","",null,null,null,null,null,null,null,null,null,null,null,"","","","","",""]
[null,null,null,null,null,null,"","",null,null,null,null,null,null,null,null,null,null,null,"","","","","",""]
[null,null,null,null,null,null,"","",null,null,null,null,null,null,null,null,null,null,null,"","","","","",""]
[null,null,null,null,null,null,"","",null,null,null,null,null,null,null,null,null,null,null,"","","","","",""]
[null,null,null,null,null,null,"","",null,null,null,null,null,null,null,null,null,null,null,"","","","","",""]
[null,null,null,null,null,null,"","",null,null,null,null,null,null,null,null,null,null,null,"","","","","",""]
[null,null,null,null,null,null,"","",null,null,null,null,null,null,null,null,null,null,null,"","","","","",""]
[null,null,null,null,null,null,"","",null,null,null,null,null,null,null,null,null,null,null,"","","","","",""]
[null,null,null,null,null,null,"","",null,null,null,null,null,null,null,null,null,null,null,"","","","","",""]
[null,null,null,null,null,null,"","",null,null,null,null,null,null,null,null,null,null,null,"","","","","",""]
[null,null,null,null,null,null,"","",null,null,null,null,null,null,null,null,null,null,null,"","","","","",""]
[null,null,null,null,null,null,"","",null,null,null,null,null,null,null,null,null,null,null,"","","","","",""]
[null,null,null,null,null,null,"","",null,null,null,null,null,null,null,null,null,null,null,"","","","","",""]
[null,null,null,null,null,null,"","",null,null,null,null,null,null,null,null,null,null,null,"","","","","",""]
[null,null,null,null,null,null,"","",null,null,null,null,null,null,null,null,null,null,null,"","","","","",""]
[null,null,null,null,null,null,"","",null,null,null,null,null,null,null,null,null,null,null,"","","","","",""]
[null,null,null,null,null,null,"","",null,null,null,null,null,null,null,null,null,null,null,"","","","","",""]
[null,null,null,null,null,null,"","",null,null,null,null,null,null,null,null,null,null,null,"","","","","",""]
[null,null,null,null,null,null,"","",null,null,null,null,null,null,null,null,null,null,null,"","","","","",""]
[null,null,null,null,null,null,"","",null,null,null,null,null,null,null,null,null,null,null,"","","","","",""]
[null,null,null,null,null,null,"","",null,null,null,null,null,null,null,null,null,null,null,"","","","","",""]
[null,null,null,null,null,null,"","",null,null,null,null,null,null,null,null,null,null,null,"","","","","",""]
[null,null,null,null,null,null,"","",null,null,null,null,null,null,null,null,null,null,null,"","","","","",""]
[null,null,null,null,null,null,"","",null,null,null,null,null,null,null,null,null,null,null,"","","","","",""]
[null,null,null,null,null,null,"","",null,null,null,null,null,null,null,null,null,null,null,"","","","","",""]
[null,null,null,null,null,null,"","",null,null,null,null,null,null,null,null,null,null,null,"","","","","",""]
[null,null,null,null,null,null,"","",null,null,null,null,null,null,null,null,null,null,null,"","","","","",""]
[null,null,null,null,null,null,"","",null,null,null,null,null,null,null,null,null,null,null,"","","","","",""]
[null,null,null,null,null,null,"","",null,null,null,null,null,null,null,null,null,null,null,"","","","","",""]
[null,null,null,null,null,null,"","",null,null,null,null,null,null,null,null,null,null,null,"","","","","",""]
[null,null,null,null,null,null,"","",null,null,null,null,null,null,null,null,null,null,null,"","","","","",""]
[null,null,null,null,null,null,"","",null,null,null,null,null,null,null,null,null,null,null,"","","","","",""]
[null,null,null,null,null,null,"","",null,null,null,null,null,null,null,null,null,null,null,{"$f":"IF(W1858=\"\",\"\",AA1858)","v":""},{"$f":"IF(W1858=\"\",\"\",AC1858)","v":""},{"$f":"IF(W1858=\"\",\"\",AK1858)","v":""},{"$f":"IFERROR(IF(Y1858=\"\",\"\",MID(Y1858,SEARCH(\"1x2/\",Y1858,1) + 4,LEN(Y1858))),\"\")","v":""},{"$f":"IF(W1858=\"\",\"\",AB1858)","v":""},{"$f":"HLink(AL1858)","v":""}]
[null,null,null,null,null,null,"","",null,null,null,null,null,null,null,null,null,null,null,"","","","","",""]
[null,null,null,null,null,null,"","",null,null,null,null,null,null,null,null,null,null,null,"","","","","",""]
[null,null,null,null,null,null,"","",null,null,null,null,null,null,null,null,null,null,null,"","","","","",""]
[null,null,null,null,null,null,"","",null,null,null,null,null,null,null,null,null,null,null,"","","","","",""]
[null,null,null,null,null,null,"","",null,null,null,null,null,null,null,null,null,null,null,"","","","","",""]
[null,null,null,null,null,null,"","",null,null,null,null,null,null,null,null,null,null,null,"","","","","",""]
[null,null,null,null,null,null,"","",null,null,null,null,null,null,null,null,null,null,null,"","","","","",""]
[null,null,null,null,null,null,"","",null,null,null,null,null,null,null,null,null,null,null,"","","","","",""]
[null,null,null,null,null,null,"","",null,null,null,null,null,null,null,null,null,null,null,"","","","","",""]
[null,null,null,null,null,null,"","",null,null,null,null,null,null,null,null,null,null,null,"","","","","",""]
[null,null,null,null,null,null,"","",null,null,null,null,null,null,null,null,null,null,null,"","","","","",""]
[null,null,null,null,null,null,"","",null,null,null,null,null,null,null,null,null,null,null,"","","","","",""]
[null,null,null,null,null,null,"","",null,null,null,null,null,null,null,null,null,null,null,"","","","","",""]
[null,null,null,null,null,null,"","",null,null,null,null,null,null,null,null,null,null,null,"","","","","",""]
[null,null,null,null,null,null,"","",null,null,null,null,null,null,null,null,null,null,null,"","","","","",""]
[null,null,null,null,null,null,"","",null,null,null,null,null,null,null,null,null,null,null,"","","","","",""]
[null,null,null,null,null,null,"","",null,null,null,null,null,null,null,null,null,null,null,"","","","","",""]
[null,null,null,null,null,null,"","",null,null,null,null,null,null,null,null,null,null,null,"","","","","",""]
[null,null,null,null,null,null,"","",null,null,null,null,null,null,null,null,null,null,null,"","","","","",""]
[null,null,null,null,null,null,"","",null,null,null,null,null,null,null,null,null,null,null,"","","","","",""]
[null,null,null,null,null,null,"","",null,null,null,null,null,null,null,null,null,null,null,{"$f":"IF(W1922=\"\",\"\",AA1922)","v":""},{"$f":"IF(W1922=\"\",\"\",AC1922)","v":""},{"$f":"IF(W1922=\"\",\"\",AK1922)","v":""},{"$f":"IFERROR(IF(Y1922=\"\",\"\",MID(Y1922,SEARCH(\"1x2/\",Y1922,1) + 4,LEN(Y1922))),\"\")","v":""},{"$f":"IF(W1922=\"\",\"\",AB1922)","v":""},{"$f":"HLink(AL1922)","v":""}]
[null,null,null,null,null,null,"","",null,null,null,null,null,null,null,null,null,null,null,"","","","","",""]
[null,null,null,null,null,null,"","",null,null,null,null,null,null,null,null,null,null,null,"","","","","",""]
[null,null,null,null,null,null,"","",null,null,null,null,null,null,null,null,null,null,null,"","","","","",""]
[null,null,null,null,null,null,"","",null,null,null,null,null,null,null,null,null,null,null,"","","","","",""]
[null,null,null,null,null,null,"","",null,null,null,null,null,null,null,null,null,null,null,"","","","","",""]
[null,null,null,null,null,null,"","",null,null,null,null,null,null,null,null,null,null,null,"","","","","",""]
[null,null,null,null,null,null,"","",null,null,null,null,null,null,null,null,null,null,null,"","","","","",""]
[null,null,null,null,null,null,"","",null,null,null,null,null,null,null,null,null,null,null,"","","","","",""]
[null,null,null,null,null,null,"","",null,null,null,null,null,null,null,null,null,null,null,"","","","","",""]
[null,null,null,null,null,null,"","",null,null,null,null,null,null,null,null,null,null,null,"","","","","",""]
[null,null,null,null,null,null,"","",null,null,null,null,null,null,null,null,null,null,null,"","","","","",""]
[null,null,null,null,null,null,"","",null,null,null,null,null,null,null,null,null,null,null,"","","","","",""]
[null,null,null,null,null,null,"","",null,null,null,null,null,null,null,null,null,null,null,"","","","","",""]
[null,null,null,null,null,null,"","",null,null,null,null,null,null,null,null,null,null,null,"","","","","",""]
[null,null,null,null,null,null,"","",null,null,null,null,null,null,null,null,null,null,null,"","","","","",""]
[null,null,null,null,null,null,"","",null,null,null,null,null,null,null,null,null,null,null,"","","","","",""]
[null,null,null,null,null,null,"","",null,null,null,null,null,null,null,null,null,null,null,"","","","","",""]
[null,null,null,null,null,null,"","",null,null,null,null,null,null,null,null,null,null,null,"","","","","",""]
[null,null,null,null,null,null,"","",null,null,null,null,null,null,null,null,null,null,null,"","","","","",""]
[null,null,null,null,null,null,"","",null,null,null,null,null,null,null,null,null,null,null,"","","","","",""]
[null,null,null,null,null,null,"","",null,null,null,null,null,null,null,null,null,null,null,"","","","","",""]
[null,null,null,null,null,null,"","",null,null,null,null,null,null,null,null,null,null,null,"","","","","",""]
[null,null,null,null,null,null,"","",null,null,null,null,null,null,null,null,null,null,null,"","","","","",""]
[null,null,null,null,null,null,"","",null,null,null,null,null,null,null,null,null,null,null,"","","","","",""]
[null,null,null,null,null,null,"","",null,null,null,null,null,null,null,null,null,null,null,"","","","","",""]
[null,null,null,null,null,null,"","",null,null,null,null,null,null,null,null,null,null,null,"","","","","",""]
[null,null,null,null,null,null,"","",null,null,null,null,null,null,null,null,null,null,null,"","","","","",""]
[null,null,null,null,null,null,"","",null,null,null,null,null,null,null,null,null,null,null,"","","","","",""]
[null,null,null,null,null,null,"","",null,null,null,null,null,null,null,null,null,null,null,"","","","","",""]
[null,null,null,null,null,null,"","",null,null,null,null,null,null,null,null,null,null,null,"","","","","",""]
[null,null,null,null,null,null,"","",null,null,null,null,null,null,null,null,null,null,null,"","","","","",""]
[null,null,null,null,null,null,"","",null,null,null,null,null,null,null,null,null,null,null,"","","","","",""]
[null,null,null,null,null,null,"","",null,null,null,null,null,null,null,null,null,null,null,"","","","","",""]
[null,null,null,null,null,null,"","",null,null,null,null,null,null,null,null,null,null,null,"","","","","",""]
[null,null,null,null,null,null,"","",null,null,null,null,null,null,null,null,null,null,null,"","","","","",""]
[null,null,null,null,null,null,"","",null,null,null,null,null,null,null,null,null,null,null,"","","","","",""]
[null,null,null,null,null,null,"","",null,null,null,null,null,null,null,null,null,null,null,"","","","","",""]
[null,null,null,null,null,null,"","",null,null,null,null,null,null,null,null,null,null,null,"","","","","",""]
[null,null,null,null,null,null,"","",null,null,null,null,null,null,null,null,null,null,null,"","","","","",""]
[null,null,null,null,null,null,"","",null,null,null,null,null,null,null,null,null,null,null,{"$f":"IF(W2050=\"\",\"\",AA2050)","v":""},{"$f":"IF(W2050=\"\",\"\",AC2050)","v":""},{"$f":"IF(W2050=\"\",\"\",AK2050)","v":""},{"$f":"IFERROR(IF(Y2050=\"\",\"\",MID(Y2050,SEARCH(\"1x2/\",Y2050,1) + 4,LEN(Y2050))),\"\")","v":""},{"$f":"IF(W2050=\"\",\"\",AB2050)","v":""},{"$f":"HLink(AL2050)","v":""}]
[null,null,null,null,null,null,"","",null,null,null,null,null,null,null,null,null,null,null,"","","","","",""]
[null,null,null,null,null,null,"","",null,null,null,null,null,null,null,null,null,null,null,"","","","","",""]
[null,null,null,null,null,null,"","",null,null,null,null,null,null,null,null,null,null,null,"","","","","",""]
[null,null,null,null,null,null,"","",null,null,null,null,null,null,null,null,null,null,null,"","","","","",""]
[null,null,null,null,null,null,"","",null,null,null,null,null,null,null,null,null,null,null,"","","","","",""]
[null,null,null,null,null,null,"","",null,null,null,null,null,null,null,null,null,null,null,"","","","","",""]
[null,null,null,null,null,null,"","",null,null,null,null,null,null,null,null,null,null,null,"","","","","",""]
[null,null,null,null,null,null,"","",null,null,null,null,null,null,null,null,null,null,null,"","","","","",""]
[null,null,null,null,null,null,"","",null,null,null,null,null,null,null,null,null,null,null,"","","","","",""]
[null,null,null,null,null,null,"","",null,null,null,null,null,null,null,null,null,null,null,"","","","","",""]
[null,null,null,null,null,null,"","",null,null,null,null,null,null,null,null,null,null,null,"","","","","",""]
[null,null,null,null,null,null,"","",null,null,null,null,null,null,null,null,null,null,null,"","","","","",""]
[null,null,null,null,null,null,"","",null,null,null,null,null,null,null,null,null,null,null,"","","","","",""]
[null,null,null,null,null,null,"","",null,null,null,null,null,null,null,null,null,null,null,"","","","","",""]
[null,null,null,null,null,null,"","",null,null,null,null,null,null,null,null,null,null,null,"","","","","",""]
[null,null,null,null,null,null,"","",null,null,null,null,null,null,null,null,null,null,null,"","","","","",""]
[null,null,null,null,null,null,"","",null,null,null,null,null,null,null,null,null,null,null,"","","","","",""]
[null,null,null,null,null,null,"","",null,null,null,null,null,null,null,null,null,null,null,"","","","","",""]
[null,null,null,null,null,null,"","",null,null,null,null,null,null,null,null,null,null,null,"","","","","",""]
[null,null,null,null,null,null,"","",null,null,null,null,null,null,null,null,null,null,null,"","","","","",""]
[null,null,null,null,null,null,"","",null,null,null,null,null,null,null,null,null,null,null,"","","","","",""]
[null,null,null,null,null,null,"","",null,null,null,null,null,null,null,null,null,null,null,"","","","","",""]
[null,null,null,null,null,null,"","",null,null,null,null,null,null,null,null,null,null,null,"","","","","",""]
[null,null,null,null,null,null,"","",null,null,null,null,null,null,null,null,null,null,null,"","","","","",""]
[null,null,null,null,null,null,"","",null,null,null,null,null,null,null,null,null,null,null,"","","","","",""]
[null,null,null,null,null,null,"","",null,null,null,null,null,null,null,null,null,null,null,"","","","","",""]
[null,null,null,null,null,null,"","",null,null,null,null,null,null,null,null,null,null,null,"","","","","",""]
[null,null,null,null,null,null,"","",null,null,null,null,null,null,null,null,null,null,null,"","","","","",""]
[null,null,null,null,null,null,"","",null,null,null,null,null,null,null,null,null,null,null,"","","","","",""]
[null,null,null,null,null,null,"","",null,null,null,null,null,null,null,null,null,null,null,"","","","","",""]
[null,null,null,null,null,null,"","",null,null,null,null,null,null,null,null,null,null,null,"","","","","",""]
[null,null,null,null,null,null,"","",null,null,null,null,null,null,null,null,null,null,null,"","","","","",""]
[null,null,null,null,null,null,"","",null,null,null,null,null,null,null,null,null,null,null,"","","","","",""]
[null,null,null,null,null,null,"","",null,null,null,null,null,null,null,null,null,null,null,"","","","","",""]
[null,null,null,null,null,null,"","",null,null,null,null,null,null,null,null,null,null,null,"","","","","",""]
[null,null,null,null,null,null,"","",null,null,null,null,null,null,null,null,null,null,null,"","","","","",""]
[null,null,null,null,null,null,"","",null,null,null,null,null,null,null,null,null,null,null,"","","","","",""]
[null,null,null,null,null,null,"","",null,null,null,null,null,null,null,null,null,null,null,"","","","","",""]
[null,null,null,null,null,null,"","",null,null,null,null,null,null,null,null,null,null,null,"","","","","",""]
[null,null,null,null,null,null,"","",null,null,null,null,null,null,null,null,null,null,null,"","","","","",""]
[null,null,null,null,null,null,"","",null,null,null,null,null,null,null,null,null,null,null,"","","","","",""]
[null,null,null,null,null,null,"","",null,null,null,null,null,null,null,null,null,null,null,"","","","","",""]
[null,null,null,null,null,null,"","",null,null,null,null,null,null,null,null,null,null,null,"","","","","",""]
[null,null,null,null,null,null,"","",null,null,null,null,null,null,null,null,null,null,null,"","","","","",""]
[null,null,null,null,null,null,"","",null,null,null,null,null,null,null,null,null,null,null,"","","","","",""]
[null,null,null,null,null,null,"","",null,null,null,null,null,null,null,null,null,null,null,"","","","","",""]
[null,null,null,null,null,null,"","",null,null,null,null,null,null,null,null,null,null,null,"","","","","",""]
[null,null,null,null,null,null,"","",null,null,null,null,null,null,null,null,null,null,null,"","","","","",""]
[null,null,null,null,null,null,"","",null,null,null,null,null,null,null,null,null,null,null,"","","","","",""]
[null,null,null,null,null,null,"","",null,null,null,null,null,null,null,null,null,null,null,"","","","","",""]
[null,null,null,null,null,null,"","",null,null,null,null,null,null,null,null,null,null,null,"","","","","",""]
[null,null,null,null,null,null,"","",null,null,null,null,null,null,null,null,null,null,null,"","","","","",""]
[null,null,null,null,null,null,"","",null,null,null,null,null,null,null,null,null,null,null,"","","","","",""]
[null,null,null,null,null,null,"","",null,null,null,null,null,null,null,null,null,null,null,"","","","","",""]
[null,null,null,null,null,null,"","",null,null,null,null,null,null,null,null,null,null,null,"","","","","",""]
[null,null,null,null,null,null,"","",null,null,null,null,null,null,null,null,null,null,null,"","","","","",""]
[null,null,null,null,null,null,"","",null,null,null,null,null,null,null,null,null,null,null,"","","","","",""]
[null,null,null,null,null,null,"","",null,null,null,null,null,null,null,null,null,null,null,"","","","","",""]
[null,null,null,null,null,null,"","",null,null,null,null,null,null,null,null,null,null,null,"","","","","",""]
[null,null,null,null,null,null,"","",null,null,null,null,null,null,null,null,null,null,null,"","","","","",""]
[null,null,null,null,null,null,{"$f":"IF(D2243=\"\",\"\",E2243&\" \"&A2243&\" \"&\"    \"&\" \"&B2243&\" - \"&C2243)","v":""},{"$f":"IF(G2243=\"\",\"\",D2243)","v":""},null,null,null,null,null,null,null,null,null,null,null,"","","","","",""]
[null,null,null,null,null,null,"","",null,null,null,null,null,null,null,null,null,null,null,"","","","","",""]
[null,null,null,null,null,null,"","",null,null,null,null,null,null,null,null,null,null,null,"","","","","",""]
[null,null,null,null,null,null,"","",null,null,null,null,null,null,null,null,null,null,null,"","","","","",""]
[null,null,null,null,null,null,"","",null,null,null,null,null,null,null,null,null,null,null,"","","","","",""]
[null,null,null,null,null,null,"","",null,null,null,null,null,null,null,null,null,null,null,"","","","","",""]
[null,null,null,null,null,null,"","",null,null,null,null,null,null,null,null,null,null,null,"","","","","",""]
[null,null,null,null,null,null,"","",null,null,null,null,null,null,null,null,null,null,null,"","","","","",""]
[null,null,null,null,null,null,"","",null,null,null,null,null,null,null,null,null,null,null,"","","","","",""]
[null,null,null,null,null,null,"","",null,null,null,null,null,null,null,null,null,null,null,"","","","","",""]
[null,null,null,null,null,null,"","",null,null,null,null,null,null,null,null,null,null,null,"","","","","",""]
[null,null,null,null,null,null,"","",null,null,null,null,null,null,null,null,null,null,null,"","","","","",""]
[null,null,null,null,null,null,"","",null,null,null,null,null,null,null,null,null,null,null,"","","","","",""]
[null,null,null,null,null,null,"","",null,null,null,null,null,null,null,null,null,null,null,"","","","","",""]
[null,null,null,null,null,null,"","",null,null,null,null,null,null,null,null,null,null,null,"","","","","",""]
[null,null,null,null,null,null,"","",null,null,null,null,null,null,null,null,null,null,null,"","","","","",""]
[null,null,null,null,null,null,"","",null,null,null,null,null,null,null,null,null,null,null,"","","","","",""]
[null,null,null,null,null,null,"","",null,null,null,null,null,null,null,null,null,null,null,"","","","","",""]
[null,null,null,null,null,null,"","",null,null,null,null,null,null,null,null,null,null,null,"","","","","",""]
[null,null,null,null,null,null,"","",null,null,null,null,null,null,null,null,null,null,null,"","","","","",""]
[null,null,null,null,null,null,"","",null,null,null,null,null,null,null,null,null,null,null,"","","","","",""]
[null,null,null,null,null,null,"","",null,null,null,null,null,null,null,null,null,null,null,"","","","","",""]
[null,null,null,null,null,null,"","",null,null,null,null,null,null,null,null,null,null,null,"","","","","",""]
[null,null,null,null,null,null,"","",null,null,null,null,null,null,null,null,null,null,null,"","","","","",""]
[null,null,null,null,null,null,"","",null,null,null,null,null,null,null,null,null,null,null,"","","","","",""]
[null,null,null,null,null,null,"","",null,null,null,null,null,null,null,null,null,null,null,"","","","","",""]
[null,null,null,null,null,null,"","",null,null,null,null,null,null,null,null,null,null,null,"","","","","",""]
[null,null,null,null,null,null,"","",null,null,null,null,null,null,null,null,null,null,null,"","","","","",""]
[null,null,null,null,null,null,"","",null,null,null,null,null,null,null,null,null,null,null,"","","","","",""]
[null,null,null,null,null,null,"","",null,null,null,null,null,null,null,null,null,null,null,"","","","","",""]
[null,null,null,null,null,null,"","",null,null,null,null,null,null,null,null,null,null,null,"","","","","",""]
[null,null,null,null,null,null,"","",null,null,null,null,null,null,null,null,null,null,null,"","","","","",""]
[null,null,null,null,null,null,"","",null,null,null,null,null,null,null,null,null,null,null,"","","","","",""]
[null,null,null,null,null,null,"","",null,null,null,null,null,null,null,null,null,null,null,"","","","","",""]
[null,null,null,null,null,null,"","",null,null,null,null,null,null,null,null,null,null,null,"","","","","",""]
[null,null,null,null,null,null,"","",null,null,null,null,null,null,null,null,null,null,null,"","","","","",""]
[null,null,null,null,null,null,"","",null,null,null,null,null,null,null,null,null,null,null,"","","","","",""]
[null,null,null,null,null,null,"","",null,null,null,null,null,null,null,null,null,null,null,"","","","","",""]
[null,null,null,null,null,null,"","",null,null,null,null,null,null,null,null,null,null,null,"","","","","",""]
[null,null,null,null,null,null,"","",null,null,null,null,null,null,null,null,null,null,null,"","","","","",""]
[null,null,null,null,null,null,"","",null,null,null,null,null,null,null,null,null,null,null,{"$f":"IF(W2370=\"\",\"\",AA2370)","v":""},{"$f":"IF(W2370=\"\",\"\",AC2370)","v":""},{"$f":"IF(W2370=\"\",\"\",AK2370)","v":""},{"$f":"IFERROR(IF(Y2370=\"\",\"\",MID(Y2370,SEARCH(\"1x2/\",Y2370,1) + 4,LEN(Y2370))),\"\")","v":""},{"$f":"IF(W2370=\"\",\"\",AB2370)","v":""},{"$f":"HLink(AL2370)","v":""}]
[null,null,null,null,null,null,"","",null,null,null,null,null,null,null,null,null,null,null,"","","","","",""]
[null,null,null,null,null,null,"","",null,null,null,null,null,null,null,null,null,null,null,"","","","","",""]
[null,null,null,null,null,null,"","",null,null,null,null,null,null,null,null,null,null,null,"","","","","",""]
[null,null,null,null,null,null,"","",null,null,null,null,null,null,null,null,null,null,null,"","","","","",""]
[null,null,null,null,null,null,"","",null,null,null,null,null,null,null,null,null,null,null,"","","","","",""]
[null,null,null,null,null,null,"","",null,null,null,null,null,null,null,null,null,null,null,"","","","","",""]
[null,null,null,null,null,null,"","",null,null,null,null,null,null,null,null,null,null,null,"","","","","",""]
[null,null,null,null,null,null,"","",null,null,null,null,null,null,null,null,null,null,null,"","","","","",""]
[null,null,null,null,null,null,"","",null,null,null,null,null,null,null,null,null,null,null,"","","","","",""]
[null,null,null,null,null,null,"","",null,null,null,null,null,null,null,null,null,null,null,"","","","","",""]
[null,null,null,null,null,null,"","",null,null,null,null,null,null,null,null,null,null,null,"","","","","",""]
[null,null,null,null,null,null,"","",null,null,null,null,null,null,null,null,null,null,null,"","","","","",""]
[null,null,null,null,null,null,"","",null,null,null,null,null,null,null,null,null,null,null,"","","","","",""]
[null,null,null,null,null,null,"","",null,null,null,null,null,null,null,null,null,null,null,"","","","","",""]
[null,null,null,null,null,null,"","",null,null,null,null,null,null,null,null,null,null,null,"","","","","",""]
[null,null,null,null,null,null,"","",null,null,null,null,null,null,null,null,null,null,null,"","","","","",""]
[null,null,null,null,null,null,"","",null,null,null,null,null,null,null,null,null,null,null,"","","","","",""]
[null,null,null,null,null,null,"","",null,null,null,null,null,null,null,null,null,null,null,"","","","","",""]
[null,null,null,null,null,null,"","",null,null,null,null,null,null,null,null,null,null,null,"","","","","",""]
[null,null,null,null,null,null,"","",null,null,null,null,null,null,null,null,null,null,null,"","","","","",""]
[null,null,null,null,null,null,"","",null,null,null,null,null,null,null,null,null,null,null,"","","","","",""]
[null,null,null,null,null,null,"","",null,null,null,null,null,null,null,null,null,null,null,"","","","","",""]
[null,null,null,null,null,null,"","",null,null,null,null,null,null,null,null,null,null,null,"","","","","",""]
[null,null,null,null,null,null,"","",null,null,null,null,null,null,null,null,null,null,null,"","","","","",""]
[null,null,null,null,null,null,"","",null,null,null,null,null,null,null,null,null,null,null,"","","","","",""]
[null,null,null,null,null,null,"","",null,null,null,null,null,null,null,null,null,null,null,"","","","","",""]
[null,null,null,null,null,null,"","",null,null,null,null,null,null,null,null,null,null,null,"","","","","",""]
[null,null,null,null,null,null,"","",null,null,null,null,null,null,null,null,null,null,null,"","","","","",""]
[null,null,null,null,null,null,"","",null,null,null,null,null,null,null,null,null,null,null,"","","","","",""]
[null,null,null,null,null,null,"","",null,null,null,null,null,null,null,null,null,null,null,"","","","","",""]
[null,null,null,null,null,null,"","",null,null,null,null,null,null,null,null,null,null,null,"","","","","",""]
[null,null,null,null,null,null,"","",null,null,null,null,null,null,null,null,null,null,null,"","","","","",""]
[null,null,null,null,null,null,"","",null,null,null,null,null,null,null,null,null,null,null,"","","","","",""]
[null,null,null,null,null,null,"","",null,null,null,null,null,null,null,null,null,null,null,"","","","","",""]
[null,null,null,null,null,null,"","",null,null,null,null,null,null,null,null,null,null,null,"","","","","",""]
[null,null,null,null,null,null,"","",null,null,null,null,null,null,null,null,null,null,null,"","","","","",""]
[null,null,null,null,null,null,"","",null,null,null,null,null,null,null,null,null,null,null,"","","","","",""]
[null,null,null,null,null,null,"","",null,null,null,null,null,null,null,null,null,null,null,"","","","","",""]
[null,null,null,null,null,null,"","",null,null,null,null,null,null,null,null,null,null,null,"","","","","",""]
[null,null,null,null,null,null,"","",null,null,null,null,null,null,null,null,null,null,null,"","","","","",""]
[null,null,null,null,null,null,"","",null,null,null,null,null,null,null,null,null,null,null,"","","","","",""]
[null,null,null,null,null,null,"","",null,null,null,null,null,null,null,null,null,null,null,"","","","","",""]
[null,null,null,null,null,null,"","",null,null,null,null,null,null,null,null,null,null,null,"","","","","",""]
[null,null,null,null,null,null,"","",null,null,null,null,null,null,null,null,null,null,null,"","","","","",""]
[null,null,null,null,null,null,"","",null,null,null,null,null,null,null,null,null,null,null,"","","","","",""]
[null,null,null,null,null,null,"","",null,null,null,null,null,null,null,null,null,null,null,"","","","","",""]
[null,null,null,null,null,null,"","",null,null,null,null,null,null,null,null,null,null,null,"","","","","",""]
[null,null,null,null,null,null,"","",null,null,null,null,null,null,null,null,null,null,null,"","","","","",""]
[null,null,null,null,null,null,"","",null,null,null,null,null,null,null,null,null,null,null,"","","","","",""]
[null,null,null,null,null,null,"","",null,null,null,null,null,null,null,null,null,null,null,"","","","","",""]
[null,null,null,null,null,null,"","",null,null,null,null,null,null,null,null,null,null,null,"","","","","",""]
[null,null,null,null,null,null,"","",null,null,null,null,null,null,null,null,null,null,null,"","","","","",""]
[null,null,null,null,null,null,"","",null,null,null,null,null,null,null,null,null,null,null,"","","","","",""]
[null,null,null,null,null,null,"","",null,null,null,null,null,null,null,null,null,null,null,"","","","","",""]
[null,null,null,null,null,null,"","",null,null,null,null,null,null,null,null,null,null,null,"","","","","",""]
[null,null,null,null,null,null,"","",null,null,null,null,null,null,null,null,null,null,null,"","","","","",""]
[null,null,null,null,null,null,"","",null,null,null,null,null,null,null,null,null,null,null,"","","","","",""]
[null,null,null,null,null,null,"","",null,null,null,null,null,null,null,null,null,null,null,"","","","","",""]
[null,null,null,null,null,null,"","",null,null,null,null,null,null,null,null,null,null,null,"","","","","",""]
[null,null,null,null,null,null,"","",null,null,null,null,null,null,null,null,null,null,null,"","","","","",""]
[null,null,null,null,null,null,"","",null,null,null,null,null,null,null,null,null,null,null,{"$f":"IF(W2562=\"\",\"\",AA2562)","v":""},{"$f":"IF(W2562=\"\",\"\",AC2562)","v":""},{"$f":"IF(W2562=\"\",\"\",AK2562)","v":""},{"$f":"IFERROR(IF(Y2562=\"\",\"\",MID(Y2562,SEARCH(\"1x2/\",Y2562,1) + 4,LEN(Y2562))),\"\")","v":""},{"$f":"IF(W2562=\"\",\"\",AB2562)","v":""},{"$f":"HLink(AL2562)","v":""}]
[null,null,null,null,null,null,"","",null,null,null,null,null,null,null,null,null,null,null,"","","","","",""]
[null,null,null,null,null,null,"","",null,null,null,null,null,null,null,null,null,null,null,"","","","","",""]
[null,null,null,null,null,null,"","",null,null,null,null,null,null,null,null,null,null,null,"","","","","",""]
[null,null,null,null,null,null,"","",null,null,null,null,null,null,null,null,null,null,null,"","","","","",""]
[null,null,null,null,null,null,"","",null,null,null,null,null,null,null,null,null,null,null,"","","","","",""]
[null,null,null,null,null,null,"","",null,null,null,null,null,null,null,null,null,null,null,"","","","","",""]
[null,null,null,null,null,null,"","",null,null,null,null,null,null,null,null,null,null,null,"","","","","",""]
[null,null,null,null,null,null,"","",null,null,null,null,null,null,null,null,null,null,null,"","","","","",""]
[null,null,null,null,null,null,"","",null,null,null,null,null,null,null,null,null,null,null,"","","","","",""]
[null,null,null,null,null,null,"","",null,null,null,null,null,null,null,null,null,null,null,"","","","","",""]
[null,null,null,null,null,null,"","",null,null,null,null,null,null,null,null,null,null,null,"","","","","",""]
[null,null,null,null,null,null,"","",null,null,null,null,null,null,null,null,null,null,null,"","","","","",""]
[null,null,null,null,null,null,"","",null,null,null,null,null,null,null,null,null,null,null,"","","","","",""]
[null,null,null,null,null,null,"","",null,null,null,null,null,null,null,null,null,null,null,"","","","","",""]
[null,null,null,null,null,null,"","",null,null,null,null,null,null,null,null,null,null,null,"","","","","",""]
[null,null,null,null,null,null,"","",null,null,null,null,null,null,null,null,null,null,null,"","","","","",""]
[null,null,null,null,null,null,"","",null,null,null,null,null,null,null,null,null,null,null,"","","","","",""]
[null,null,null,null,null,null,"","",null,null,null,null,null,null,null,null,null,null,null,"","","","","",""]
[null,null,null,null,null,null,"","",null,null,null,null,null,null,null,null,null,null,null,"","","","","",""]
[null,null,null,null,null,null,{"$f":"IF(D2627=\"\",\"\",E2627&\" \"&A2627&\" \"&\"    \"&\" \"&B2627&\" - \"&C2627)","v":""},{"$f":"IF(G2627=\"\",\"\",D2627)","v":""},null,null,null,null,null,null,null,null,null,null,null,"","","","","",""]
[null,null,null,null,null,null,"","",null,null,null,null,null,null,null,null,null,null,null,"","","","","",""]
[null,null,null,null,null,null,"","",null,null,null,null,null,null,null,null,null,null,null,"","","","","",""]
[null,null,null,null,null,null,"","",null,null,null,null,null,null,null,null,null,null,null,"","","","","",""]
[null,null,null,null,null,null,"","",null,null,null,null,null,null,null,null,null,null,null,"","","","","",""]
[null,null,null,null,null,null,"","",null,null,null,null,null,null,null,null,null,null,null,"","","","","",""]
[null,null,null,null,null,null,"","",null,null,null,null,null,null,null,null,null,null,null,"","","","","",""]
[null,null,null,null,null,null,"","",null,null,null,null,null,null,null,null,null,null,null,"","","","","",""]
[null,null,null,null,null,null,"","",null,null,null,null,null,null,null,null,null,null,null,"","","","","",""]
[null,null,null,null,null,null,"","",null,null,null,null,null,null,null,null,null,null,null,"","","","","",""]
[null,null,null,null,null,null,"","",null,null,null,null,null,null,null,null,null,null,null,"","","","","",""]
[null,null,null,null,null,null,"","",null,null,null,null,null,null,null,null,null,null,null,"","","","","",""]
[null,null,null,null,null,null,"","",null,null,null,null,null,null,null,null,null,null,null,"","","","","",""]
[null,null,null,null,null,null,"","",null,null,null,null,null,null,null,null,null,null,null,"","","","","",""]
[null,null,null,null,null,null,"","",null,null,null,null,null,null,null,null,null,null,null,"","","","","",""]
[null,null,null,null,null,null,"","",null,null,null,null,null,null,null,null,null,null,null,"","","","","",""]
[null,null,null,null,null,null,"","",null,null,null,null,null,null,null,null,null,null,null,"","","","","",""]
[null,null,null,null,null,null,"","",null,null,null,null,null,null,null,null,null,null,null,"","","","","",""]
[null,null,null,null,null,null,"","",null,null,null,null,null,null,null,null,null,null,null,"","","","","",""]
[null,null,null,null,null,null,"","",null,null,null,null,null,null,null,null,null,null,null,"","","","","",""]
[null,null,null,null,null,null,"","",null,null,null,null,null,null,null,null,null,null,null,"","","","","",""]
[null,null,null,null,null,null,"","",null,null,null,null,null,null,null,null,null,null,null,"","","","","",""]
[null,null,null,null,null,null,"","",null,null,null,null,null,null,null,null,null,null,null,"","","","","",""]
[null,null,null,null,null,null,"","",null,null,null,null,null,null,null,null,null,null,null,"","","","","",""]
[null,null,null,null,null,null,"","",null,null,null,null,null,null,null,null,null,null,null,"","","","","",""]
[null,null,null,null,null,null,"","",null,null,null,null,null,null,null,null,null,null,null,"","","","","",""]
[null,null,null,null,null,null,"","",null,null,null,null,null,null,null,null,null,null,null,"","","","","",""]
[null,null,null,null,null,null,"","",null,null,null,null,null,null,null,null,null,null,null,"","","","","",""]
[null,null,null,null,null,null,"","",null,null,null,null,null,null,null,null,null,null,null,"","","","","",""]
[null,null,null,null,null,null,"","",null,null,null,null,null,null,null,null,null,null,null,"","","","","",""]
[null,null,null,null,null,null,"","",null,null,null,null,null,null,null,null,null,null,null,"","","","","",""]
[null,null,null,null,null,null,"","",null,null,null,null,null,null,null,null,null,null,null,"","","","","",""]
[null,null,null,null,null,null,"","",null,null,null,null,null,null,null,null,null,null,null,"","","","","",""]
[null,null,null,null,null,null,"","",null,null,null,null,null,null,null,null,null,null,null,"","","","","",""]
[null,null,null,null,null,null,"","",null,null,null,null,null,null,null,null,null,null,null,"","","","","",""]
[null,null,null,null,null,null,"","",null,null,null,null,null,null,null,null,null,null,null,"","","","","",""]
[null,null,null,null,null,null,"","",null,null,null,null,null,null,null,null,null,null,null,"","","","","",""]
[null,null,null,null,null,null,"","",null,null,null,null,null,null,null,null,null,null,null,"","","","","",""]
[null,null,null,null,null,null,"","",null,null,null,null,null,null,null,null,null,null,null,"","","","","",""]
[null,null,null,null,null,null,"","",null,null,null,null,null,null,null,null,null,null,null,"","","","","",""]
[null,null,null,null,null,null,"","",null,null,null,null,null,null,null,null,null,null,null,{"$f":"IF(W2754=\"\",\"\",AA2754)","v":""},{"$f":"IF(W2754=\"\",\"\",AC2754)","v":""},{"$f":"IF(W2754=\"\",\"\",AK2754)","v":""},{"$f":"IFERROR(IF(Y2754=\"\",\"\",MID(Y2754,SEARCH(\"1x2/\",Y2754,1) + 4,LEN(Y2754))),\"\")","v":""},{"$f":"IF(W2754=\"\",\"\",AB2754)","v":""},{"$f":"HLink(AL2754)","v":""}]
[null,null,null,null,null,null,"","",null,null,null,null,null,null,null,null,null,null,null,"","","","","",""]
[null,null,null,null,null,null,"","",null,null,null,null,null,null,null,null,null,null,null,"","","","","",""]
[null,null,null,null,null,null,"","",null,null,null,null,null,null,null,null,null,null,null,"","","","","",""]
[null,null,null,null,null,null,"","",null,null,null,null,null,null,null,null,null,null,null,"","","","","",""]
[null,null,null,null,null,null,"","",null,null,null,null,null,null,null,null,null,null,null,"","","","","",""]
[null,null,null,null,null,null,"","",null,null,null,null,null,null,null,null,null,null,null,"","","","","",""]
[null,null,null,null,null,null,"","",null,null,null,null,null,null,null,null,null,null,null,"","","","","",""]
[null,null,null,null,null,null,"","",null,null,null,null,null,null,null,null,null,null,null,"","","","","",""]
[null,null,null,null,null,null,"","",null,null,null,null,null,null,null,null,null,null,null,"","","","","",""]
[null,null,null,null,null,null,"","",null,null,null,null,null,null,null,null,null,null,null,"","","","","",""]
[null,null,null,null,null,null,"","",null,null,null,null,null,null,null,null,null,null,null,"","","","","",""]
[null,null,null,null,null,null,"","",null,null,null,null,null,null,null,null,null,null,null,"","","","","",""]
[null,null,null,null,null,null,"","",null,null,null,null,null,null,null,null,null,null,null,"","","","","",""]
[null,null,null,null,null,null,"","",null,null,null,null,null,null,null,null,null,null,null,"","","","","",""]
[null,null,null,null,null,null,"","",null,null,null,null,null,null,null,null,null,null,null,"","","","","",""]
[null,null,null,null,null,null,"","",null,null,null,null,null,null,null,null,null,null,null,"","","","","",""]
[null,null,null,null,null,null,"","",null,null,null,null,null,null,null,null,null,null,null,"","","","","",""]
[null,null,null,null,null,null,"","",null,null,null,null,null,null,null,null,null,null,null,"","","","","",""]
[null,null,null,null,null,null,"","",null,null,null,null,null,null,null,null,null,null,null,"","","","","",""]
[null,null,null,null,null,null,"","",null,null,null,null,null,null,null,null,null,null,null,"","","","","",""]
[null,null,null,null,null,null,"","",null,null,null,null,null,null,null,null,null,null,null,"","","","","",""]
[null,null,null,null,null,null,"","",null,null,null,null,null,null,null,null,null,null,null,"","","","","",""]
[null,null,null,null,null,null,"","",null,null,null,null,null,null,null,null,null,null,null,"","","","","",""]
[null,null,null,null,null,null,"","",null,null,null,null,null,null,null,null,null,null,null,"","","","","",""]
[null,null,null,null,null,null,"","",null,null,null,null,null,null,null,null,null,null,null,"","","","","",""]
[null,null,null,null,null,null,"","",null,null,null,null,null,null,null,null,null,null,null,"","","","","",""]
[null,null,null,null,null,null,"","",null,null,null,null,null,null,null,null,null,null,null,"","","","","",""]
[null,null,null,null,null,null,"","",null,null,null,null,null,null,null,null,null,null,null,"","","","","",""]
[null,null,null,null,null,null,"","",null,null,null,null,null,null,null,null,null,null,null,"","","","","",""]
[null,null,null,null,null,null,"","",null,null,null,null,null,null,null,null,null,null,null,"","","","","",""]
[null,null,null,null,null,null,"","",null,null,null,null,null,null,null,null,null,null,null,"","","","","",""]
[null,null,null,null,null,null,"","",null,null,null,null,null,null,null,null,null,null,null,"","","","","",""]
[null,null,null,null,null,null,"","",null,null,null,null,null,null,null,null,null,null,null,"","","","","",""]
[null,null,null,null,null,null,"","",null,null,null,null,null,null,null,null,null,null,null,"","","","","",""]
[null,null,null,null,null,null,"","",null,null,null,null,null,null,null,null,null,null,null,"","","","","",""]
[null,null,null,null,null,null,"","",null,null,null,null,null,null,null,null,null,null,null,"","","","","",""]
[null,null,null,null,null,null,"","",null,null,null,null,null,null,null,null,null,null,null,"","","","","",""]
[null,null,null,null,null,null,"","",null,null,null,null,null,null,null,null,null,null,null,"","","","","",""]
[null,null,null,null,null,null,"","",null,null,null,null,null,null,null,null,null,null,null,"","","","","",""]
[null,null,null,null,null,null,"","",null,null,null,null,null,null,null,null,null,null,null,"","","","","",""]
[null,null,null,null,null,null,"","",null,null,null,null,null,null,null,null,null,null,null,"","","","","",""]
[null,null,null,null,null,null,"","",null,null,null,null,null,null,null,null,null,null,null,"","","","","",""]
[null,null,null,null,null,null,"","",null,null,null,null,null,null,null,null,null,null,null,"","","","","",""]
[null,null,null,null,null,null,"","",null,null,null,null,null,null,null,null,null,null,null,"","","","","",""]
[null,null,null,null,null,null,"","",null,null,null,null,null,null,null,null,null,null,null,"","","","","",""]
[null,null,null,null,null,null,"","",null,null,null,null,null,null,null,null,null,null,null,"","","","","",""]
[null,null,null,null,null,null,"","",null,null,null,null,null,null,null,null,null,null,null,"","","","","",""]
[null,null,null,null,null,null,"","",null,null,null,null,null,null,null,null,null,null,null,"","","","","",""]
[null,null,null,null,null,null,"","",null,null,null,null,null,null,null,null,null,null,null,"","","","","",""]
[null,null,null,null,null,null,"","",null,null,null,null,null,null,null,null,null,null,null,"","","","","",""]
[null,null,null,null,null,null,"","",null,null,null,null,null,null,null,null,null,null,null,"","","","","",""]
[null,null,null,null,null,null,"","",null,null,null,null,null,null,null,null,null,null,null,"","","","","",""]
[null,null,null,null,null,null,"","",null,null,null,null,null,null,null,null,null,null,null,"","","","","",""]
[null,null,null,null,null,null,"","",null,null,null,null,null,null,null,null,null,null,null,"","","","","",""]
[null,null,null,null,null,null,"","",null,null,null,null,null,null,null,null,null,null,null,"","","","","",""]
[null,null,null,null,null,null,"","",null,null,null,null,null,null,null,null,null,null,null,"","","","","",""]
[null,null,null,null,null,null,"","",null,null,null,null,null,null,null,null,null,null,null,"","","","","",""]
[null,null,null,null,null,null,"","",null,null,null,null,null,null,null,null,null,null,null,"","","","","",""]
[null,null,null,null,null,null,"","",null,null,null,null,null,null,null,null,null,null,null,"","","","","",""]
[null,null,null,null,null,null,"","",null,null,null,null,null,null,null,null,null,null,null,"","","","","",""]
[null,null,null,null,null,null,{"$f":"IF(D2947=\"\",\"\",E2947&\" \"&A2947&\" \"&\"    \"&\" \"&B2947&\" - \"&C2947)","v":""},{"$f":"IF(G2947=\"\",\"\",D2947)","v":""},null,null,null,null,null,null,null,null,null,null,null,"","","","","",""]
[null,null,null,null,null,null,"","",null,null,null,null,null,null,null,null,null,null,null,"","","","","",""]
[null,null,null,null,null,null,"","",null,null,null,null,null,null,null,null,null,null,null,"","","","","",""]
[null,null,null,null,null,null,"","",null,null,null,null,null,null,null,null,null,null,null,"","","","","",""]
[null,null,null,null,null,null,"","",null,null,null,null,null,null,null,null,null,null,null,"","","","","",""]
[null,null,null,null,null,null,"","",null,null,null,null,null,null,null,null,null,null,null,"","","","","",""]
[null,null,null,null,null,null,"","",null,null,null,null,null,null,null,null,null,null,null,"","","","","",""]
[null,null,null,null,null,null,"","",null,null,null,null,null,null,null,null,null,null,null,"","","","","",""]
[null,null,null,null,null,null,"","",null,null,null,null,null,null,null,null,null,null,null,"","","","","",""]
[null,null,null,null,null,null,"","",null,null,null,null,null,null,null,null,null,null,null,"","","","","",""]
[null,null,null,null,null,null,"","",null,null,null,null,null,null,null,null,null,null,null,"","","","","",""]
[null,null,null,null,null,null,"","",null,null,null,null,null,null,null,null,null,null,null,"","","","","",""]
[null,null,null,null,null,null,"","",null,null,null,null,null,null,null,null,null,null,null,"","","","","",""]
[null,null,null,null,null,null,"","",null,null,null,null,null,null,null,null,null,null,null,"","","","","",""]
[null,null,null,null,null,null,"","",null,null,null,null,null,null,null,null,null,null,null,"","","","","",""]
[null,null,null,null,null,null,"","",null,null,null,null,null,null,null,null,null,null,null,"","","","","",""]
[null,null,null,null,null,null,"","",null,null,null,null,null,null,null,null,null,null,null,"","","","","",""]
[null,null,null,null,null,null,"","",null,null,null,null,null,null,null,null,null,null,null,"","","","","",""]
[null,null,null,null,null,null,"","",null,null,null,null,null,null,null,null,null,null,null,"","","","","",""]
[null,null,null,null,null,null,"","",null,null,null,null,null,null,null,null,null,null,null,"","","","","",""]
[null,null,null,null,null,null,"","",null,null,null,null,null,null,null,null,null,null,null,"","","","","",""]
[null,null,null,null,null,null,"","",null,null,null,null,null,null,null,null,null,null,null,"","","","","",""]
[null,null,null,null,null,null,"","",null,null,null,null,null,null,null,null,null,null,null,"","","","","",""]
[null,null,null,null,null,null,"","",null,null,null,null,null,null,null,null,null,null,null,"","","","","",""]
[null,null,null,null,null,null,"","",null,null,null,null,null,null,null,null,null,null,null,"","","","","",""]
[null,null,null,null,null,null,"","",null,null,null,null,null,null,null,null,null,null,null,"","","","","",""]
[null,null,null,null,null,null,"","",null,null,null,null,null,null,null,null,null,null,null,"","","","","",""]
[null,null,null,null,null,null,"","",null,null,null,null,null,null,null,null,null,null,null,"","","","","",""]
[null,null,null,null,null,null,"","",null,null,null,null,null,null,null,null,null,null,null,"","","","","",""]
[null,null,null,null,null,null,"","",null,null,null,null,null,null,null,null,null,null,null,"","","","","",""]
[null,null,null,null,null,null,"","",null,null,null,null,null,null,null,null,null,null,null,"","","","","",""]
[null,null,null,null,null,null,"","",null,null,null,null,null,null,null,null,null,null,null,"","","","","",""]
[null,null,null,null,null,null,"","",null,null,null,null,null,null,null,null,null,null,null,"","","","","",""]
[null,null,null,null,null,null,"","",null,null,null,null,null,null,null,null,null,null,null,"","","","","",""]
[null,null,null,null,null,null,"","",null,null,null,null,null,null,null,null,null,null,null,"","","","","",""]
[null,null,null,null,null,null,"","",null,null,null,null,null,null,null,null,null,null,null,"","","","","",""]
[null,null,null,null,null,null,"","",null,null,null,null,null,null,null,null,null,null,null,"","","","","",""]
[null,null,null,null,null,null,"","",null,null,null,null,null,null,null,null,null,null,null,"","","","","",""]
[null,null,null,null,null,null,"","",null,null,null,null,null,null,null,null,null,null,null,"","","","","",""]
[null,null,null,null,null,null,"","",null,null,null,null,null,null,null,null,null,null,null,"","","","","",""]
[null,null,null,null,null,null,{"$f":"IF(D3075=\"\",\"\",E3075&\" \"&A3075&\" \"&\"    \"&\" \"&B3075&\" - \"&C3075)","v":""},{"$f":"IF(G3075=\"\",\"\",D3075)","v":""},null,null,null,null,null,null,null,null,null,null,null,"","","","","",""]
[null,null,null,null,null,null,"","",null,null,null,null,null,null,null,null,null,null,null,"","","","","",""]
[null,null,null,null,null,null,"","",null,null,null,null,null,null,null,null,null,null,null,"","","","","",""]
[null,null,null,null,null,null,"","",null,null,null,null,null,null,null,null,null,null,null,"","","","","",""]
[null,null,null,null,null,null,"","",null,null,null,null,null,null,null,null,null,null,null,"","","","","",""]
[null,null,null,null,null,null,"","",null,null,null,null,null,null,null,null,null,null,null,"","","","","",""]
[null,null,null,null,null,null,"","",null,null,null,null,null,null,null,null,null,null,null,"","","","","",""]
[null,null,null,null,null,null,"","",null,null,null,null,null,null,null,null,null,null,null,"","","","","",""]
[null,null,null,null,null,null,"","",null,null,null,null,null,null,null,null,null,null,null,"","","","","",""]
[null,null,null,null,null,null,"","",null,null,null,null,null,null,null,null,null,null,null,"","","","","",""]
[null,null,null,null,null,null,"","",null,null,null,null,null,null,null,null,null,null,null,"","","","","",""]
[null,null,null,null,null,null,"","",null,null,null,null,null,null,null,null,null,null,null,"","","","","",""]
[null,null,null,null,null,null,"","",null,null,null,null,null,null,null,null,null,null,null,"","","","","",""]
[null,null,null,null,null,null,"","",null,null,null,null,null,null,null,null,null,null,null,"","","","","",""]
[null,null,null,null,null,null,"","",null,null,null,null,null,null,null,null,null,null,null,"","","","","",""]
[null,null,null,null,null,null,"","",null,null,null,null,null,null,null,null,null,null,null,"","","","","",""]
[null,null,null,null,null,null,"","",null,null,null,null,null,null,null,null,null,null,null,"","","","","",""]
[null,null,null,null,null,null,"","",null,null,null,null,null,null,null,null,null,null,null,"","","","","",""]
[null,null,null,null,null,null,"","",null,null,null,null,null,null,null,null,null,null,null,"","","","","",""]
[null,null,null,null,null,null,"","",null,null,null,null,null,null,null,null,null,null,null,"","","","","",""]
[null,null,null,null,null,null,"","",null,null,null,null,null,null,null,null,null,null,null,"","","","","",""]
[null,null,null,null,null,null,{"$f":"IF(D3139=\"\",\"\",E3139&\" \"&A3139&\" \"&\"    \"&\" \"&B3139&\" - \"&C3139)","v":""},{"$f":"IF(G3139=\"\",\"\",D3139)","v":""},null,null,null,null,null,null,null,null,null,null,null,"","","","","",""]
[null,null,null,null,null,null,"","",null,null,null,null,null,null,null,null,null,null,null,"","","","","",""]
[null,null,null,null,null,null,"","",null,null,null,null,null,null,null,null,null,null,null,"","","","","",""]
[null,null,null,null,null,null,"","",null,null,null,null,null,null,null,null,null,null,null,"","","","","",""]
[null,null,null,null,null,null,"","",null,null,null,null,null,null,null,null,null,null,null,"","","","","",""]
[null,null,null,null,null,null,"","",null,null,null,null,null,null,null,null,null,null,null,"","","","","",""]
[null,null,null,null,null,null,"","",null,null,null,null,null,null,null,null,null,null,null,"","","","","",""]
[null,null,null,null,null,null,"","",null,null,null,null,null,null,null,null,null,null,null,"","","","","",""]
[null,null,null,null,null,null,"","",null,null,null,null,null,null,null,null,null,null,null,"","","","","",""]
[null,null,null,null,null,null,"","",null,null,null,null,null,null,null,null,null,null,null,"","","","","",""]
[null,null,null,null,null,null,"","",null,null,null,null,null,null,null,null,null,null,null,"","","","","",""]
[null,null,null,null,null,null,"","",null,null,null,null,null,null,null,null,null,null,null,"","","","","",""]
[null,null,null,null,null,null,"","",null,null,null,null,null,null,null,null,null,null,null,"","","","","",""]
[null,null,null,null,null,null,"","",null,null,null,null,null,null,null,null,null,null,null,"","","","","",""]
[null,null,null,null,null,null,"","",null,null,null,null,null,null,null,null,null,null,null,"","","","","",""]
[null,null,null,null,null,null,"","",null,null,null,null,null,null,null,null,null,null,null,"","","","","",""]
[null,null,null,null,null,null,"","",null,null,null,null,null,null,null,null,null,null,null,"","","","","",""]
[null,null,null,null,null,null,"","",null,null,null,null,null,null,null,null,null,null,null,"","","","","",""]
[null,null,null,null,null,null,"","",null,null,null,null,null,null,null,null,null,null,null,"","","","","",""]
[null,null,null,null,null,null,"","",null,null,null,null,null,null,null,null,null,null,null,"","","","","",""]
[null,null,null,null,null,null,"","",null,null,null,null,null,null,null,null,null,null,null,"","","","","",""]
[null,null,null,null,null,null,"","",null,null,null,null,null,null,null,null,null,null,null,"","","","","",""]
[null,null,null,null,null,null,"","",null,null,null,null,null,null,null,null,null,null,null,"","","","","",""]
[null,null,null,null,null,null,"","",null,null,null,null,null,null,null,null,null,null,null,"","","","","",""]
[null,null,null,null,null,null,"","",null,null,null,null,null,null,null,null,null,null,null,"","","","","",""]
[null,null,null,null,null,null,"","",null,null,null,null,null,null,null,null,null,null,null,"","","","","",""]
[null,null,null,null,null,null,"","",null,null,null,null,null,null,null,null,null,null,null,"","","","","",""]
[null,null,null,null,null,null,"","",null,null,null,null,null,null,null,null,null,null,null,"","","","","",""]
[null,null,null,null,null,null,"","",null,null,null,null,null,null,null,null,null,null,null,"","","","","",""]
[null,null,null,null,null,null,"","",null,null,null,null,null,null,null,null,null,null,null,"","","","","",""]
[null,null,null,null,null,null,"","",null,null,null,null,null,null,null,null,null,null,null,"","","","","",""]
[null,null,null,null,null,null,"","",null,null,null,null,null,null,null,null,null,null,null,"","","","","",""]
[null,null,null,null,null,null,"","",null,null,null,null,null,null,null,null,null,null,null,"","","","","",""]
[null,null,null,null,null,null,"","",null,null,null,null,null,null,null,null,null,null,null,"","","","","",""]
[null,null,null,null,null,null,"","",null,null,null,null,null,null,null,null,null,null,null,"","","","","",""]
[null,null,null,null,null,null,"","",null,null,null,null,null,null,null,null,null,null,null,"","","","","",""]
[null,null,null,null,null,null,"","",null,null,null,null,null,null,null,null,null,null,null,"","","","","",""]
[null,null,null,null,null,null,"","",null,null,null,null,null,null,null,null,null,null,null,"","","","","",""]
[null,null,null,null,null,null,"","",null,null,null,null,null,null,null,null,null,null,null,"","","","","",""]
[null,null,null,null,null,null,"","",null,null,null,null,null,null,null,null,null,null,null,"","","","","",""]
[null,null,null,null,null,null,{"$f":"IF(D3267=\"\",\"\",E3267&\" \"&A3267&\" \"&\"    \"&\" \"&B3267&\" - \"&C3267)","v":""},{"$f":"IF(G3267=\"\",\"\",D3267)","v":""},null,null,null,null,null,null,null,null,null,null,null,"","","","","",""]
[null,null,null,null,null,null,"","",null,null,null,null,null,null,null,null,null,null,null,"","","","","",""]
[null,null,null,null,null,null,"","",null,null,null,null,null,null,null,null,null,null,null,"","","","","",""]
[null,null,null,null,null,null,"","",null,null,null,null,null,null,null,null,null,null,null,"","","","","",""]
[null,null,null,null,null,null,"","",null,null,null,null,null,null,null,null,null,null,null,"","","","","",""]
[null,null,null,null,null,null,"","",null,null,null,null,null,null,null,null,null,null,null,"","","","","",""]
[null,null,null,null,null,null,"","",null,null,null,null,null,null,null,null,null,null,null,"","","","","",""]
[null,null,null,null,null,null,"","",null,null,null,null,null,null,null,null,null,null,null,"","","","","",""]
[null,null,null,null,null,null,"","",null,null,null,null,null,null,null,null,null,null,null,"","","","","",""]
[null,null,null,null,null,null,"","",null,null,null,null,null,null,null,null,null,null,null,"","","","","",""]
[null,null,null,null,null,null,"","",null,null,null,null,null,null,null,null,null,null,null,"","","","","",""]
[null,null,null,null,null,null,"","",null,null,null,null,null,null,null,null,null,null,null,"","","","","",""]
[null,null,null,null,null,null,"","",null,null,null,null,null,null,null,null,null,null,null,"","","","","",""]
[null,null,null,null,null,null,"","",null,null,null,null,null,null,null,null,null,null,null,"","","","","",""]
[null,null,null,null,null,null,"","",null,null,null,null,null,null,null,null,null,null,null,"","","","","",""]
[null,null,null,null,null,null,"","",null,null,null,null,null,null,null,null,null,null,null,"","","","","",""]
[null,null,null,null,null,null,"","",null,null,null,null,null,null,null,null,null,null,null,"","","","","",""]
[null,null,null,null,null,null,"","",null,null,null,null,null,null,null,null,null,null,null,"","","","","",""]
[null,null,null,null,null,null,"","",null,null,null,null,null,null,null,null,null,null,null,"","","","","",""]
[null,null,null,null,null,null,"","",null,null,null,null,null,null,null,null,null,null,null,"","","","","",""]
[null,null,null,null,null,null,{"$f":"IF(D3331=\"\",\"\",E3331&\" \"&A3331&\" \"&\"    \"&\" \"&B3331&\" - \"&C3331)","v":""},{"$f":"IF(G3331=\"\",\"\",D3331)","v":""},null,null,null,null,null,null,null,null,null,null,null,"","","","","",""]
[null,null,null,null,null,null,"","",null,null,null,null,null,null,null,null,null,null,null,"","","","","",""]
[null,null,null,null,null,null,"","",null,null,null,null,null,null,null,null,null,null,null,"","","","","",""]
[null,null,null,null,null,null,"","",null,null,null,null,null,null,null,null,null,null,null,"","","","","",""]
[null,null,null,null,null,null,"","",null,null,null,null,null,null,null,null,null,null,null,"","","","","",""]
[null,null,null,null,null,null,"","",null,null,null,null,null,null,null,null,null,null,null,"","","","","",""]
[null,null,null,null,null,null,"","",null,null,null,null,null,null,null,null,null,null,null,"","","","","",""]
[null,null,null,null,null,null,"","",null,null,null,null,null,null,null,null,null,null,null,"","","","","",""]
[null,null,null,null,null,null,"","",null,null,null,null,null,null,null,null,null,null,null,"","","","","",""]
[null,null,null,null,null,null,"","",null,null,null,null,null,null,null,null,null,null,null,"","","","","",""]
[null,null,null,null,null,null,"","",null,null,null,null,null,null,null,null,null,null,null,"","","","","",""]
[null,null,null,null,null,null,"","",null,null,null,null,null,null,null,null,null,null,null,"","","","","",""]
[null,null,null,null,null,null,"","",null,null,null,null,null,null,null,null,null,null,null,"","","","","",""]
[null,null,null,null,null,null,"","",null,null,null,null,null,null,null,null,null,null,null,"","","","","",""]
[null,null,null,null,null,null,"","",null,null,null,null,null,null,null,null,null,null,null,"","","","","",""]
[null,null,null,null,null,null,"","",null,null,null,null,null,null,null,null,null,null,null,"","","","","",""]
[null,null,null,null,null,null,"","",null,null,null,null,null,null,null,null,null,null,null,"","","","","",""]
[null,null,null,null,null,null,"","",null,null,null,null,null,null,null,null,null,null,null,"","","","","",""]
[null,null,null,null,null,null,"","",null,null,null,null,null,null,null,null,null,null,null,"","","","","",""]
[null,null,null,null,null,null,"","",null,null,null,null,null,null,null,null,null,null,null,"","","","","",""]
[null,null,null,null,null,null,"","",null,null,null,null,null,null,null,null,null,null,null,"","","","","",""]
[null,null,null,null,null,null,"","",null,null,null,null,null,null,null,null,null,null,null,"","","","","",""]
[null,null,null,null,null,null,"","",null,null,null,null,null,null,null,null,null,null,null,"","","","","",""]
[null,null,null,null,null,null,"","",null,null,null,null,null,null,null,null,null,null,null,"","","","","",""]
[null,null,null,null,null,null,"","",null,null,null,null,null,null,null,null,null,null,null,"","","","","",""]
[null,null,null,null,null,null,"","",null,null,null,null,null,null,null,null,null,null,null,"","","","","",""]
[null,null,null,null,null,null,"","",null,null,null,null,null,null,null,null,null,null,null,"","","","","",""]
[null,null,null,null,null,null,"","",null,null,null,null,null,null,null,null,null,null,null,"","","","","",""]
[null,null,null,null,null,null,"","",null,null,null,null,null,null,null,null,null,null,null,"","","","","",""]
[null,null,null,null,null,null,"","",null,null,null,null,null,null,null,null,null,null,null,"","","","","",""]
[null,null,null,null,null,null,"","",null,null,null,null,null,null,null,null,null,null,null,"","","","","",""]
[null,null,null,null,null,null,"","",null,null,null,null,null,null,null,null,null,null,null,"","","","","",""]
[null,null,null,null,null,null,"","",null,null,null,null,null,null,null,null,null,null,null,"","","","","",""]
[null,null,null,null,null,null,"","",null,null,null,null,null,null,null,null,null,null,null,"","","","","",""]
[null,null,null,null,null,null,"","",null,null,null,null,null,null,null,null,null,null,null,"","","","","",""]
[null,null,null,null,null,null,"","",null,null,null,null,null,null,null,null,null,null,null,"","","","","",""]
[null,null,null,null,null,null,"","",null,null,null,null,null,null,null,null,null,null,null,"","","","","",""]
[null,null,null,null,null,null,"","",null,null,null,null,null,null,null,null,null,null,null,"","","","","",""]
[null,null,null,null,null,null,"","",null,null,null,null,null,null,null,null,null,null,null,"","","","","",""]
[null,null,null,null,null,null,"","",null,null,null,null,null,null,null,null,null,null,null,"","","","","",""]
[null,null,null,null,null,null,"","",null,null,null,null,null,null,null,null,null,null,null,"","","","","",""]
[null,null,null,null,null,null,{"$f":"IF(D3459=\"\",\"\",E3459&\" \"&A3459&\" \"&\"    \"&\" \"&B3459&\" - \"&C3459)","v":""},{"$f":"IF(G3459=\"\",\"\",D3459)","v":""},null,null,null,null,null,null,null,null,null,null,null,"","","","","",""]
[null,null,null,null,null,null,"","",null,null,null,null,null,null,null,null,null,null,null,"","","","","",""]
[null,null,null,null,null,null,"","",null,null,null,null,null,null,null,null,null,null,null,"","","","","",""]
[null,null,null,null,null,null,"","",null,null,null,null,null,null,null,null,null,null,null,"","","","","",""]
[null,null,null,null,null,null,"","",null,null,null,null,null,null,null,null,null,null,null,"","","","","",""]
[null,null,null,null,null,null,"","",null,null,null,null,null,null,null,null,null,null,null,"","","","","",""]
[null,null,null,null,null,null,"","",null,null,null,null,null,null,null,null,null,null,null,"","","","","",""]
[null,null,null,null,null,null,"","",null,null,null,null,null,null,null,null,null,null,null,"","","","","",""]
[null,null,null,null,null,null,"","",null,null,null,null,null,null,null,null,null,null,null,"","","","","",""]
[null,null,null,null,null,null,"","",null,null,null,null,null,null,null,null,null,null,null,"","","","","",""]
[null,null,null,null,null,null,"","",null,null,null,null,null,null,null,null,null,null,null,"","","","","",""]
[null,null,null,null,null,null,"","",null,null,null,null,null,null,null,null,null,null,null,"","","","","",""]
[null,null,null,null,null,null,"","",null,null,null,null,null,null,null,null,null,null,null,"","","","","",""]
[null,null,null,null,null,null,"","",null,null,null,null,null,null,null,null,null,null,null,"","","","","",""]
[null,null,null,null,null,null,"","",null,null,null,null,null,null,null,null,null,null,null,"","","","","",""]
[null,null,null,null,null,null,"","",null,null,null,null,null,null,null,null,null,null,null,"","","","","",""]
[null,null,null,null,null,null,"","",null,null,null,null,null,null,null,null,null,null,null,"","","","","",""]
[null,null,null,null,null,null,"","",null,null,null,null,null,null,null,null,null,null,null,"","","","","",""]
[null,null,null,null,null,null,"","",null,null,null,null,null,null,null,null,null,null,null,"","","","","",""]
[null,null,null,null,null,null,"","",null,null,null,null,null,null,null,null,null,null,null,"","","","","",""]
[null,null,null,null,null,null,"","",null,null,null,null,null,null,null,null,null,null,null,"","","","","",""]
[null,null,null,null,null,null,"","",null,null,null,null,null,null,null,null,null,null,null,"","","","","",""]
[null,null,null,null,null,null,"","",null,null,null,null,null,null,null,null,null,null,null,"","","","","",""]
[null,null,null,null,null,null,"","",null,null,null,null,null,null,null,null,null,null,null,"","","","","",""]
[null,null,null,null,null,null,"","",null,null,null,null,null,null,null,null,null,null,null,"","","","","",""]
[null,null,null,null,null,null,"","",null,null,null,null,null,null,null,null,null,null,null,"","","","","",""]
[null,null,null,null,null,null,"","",null,null,null,null,null,null,null,null,null,null,null,"","","","","",""]
[null,null,null,null,null,null,"","",null,null,null,null,null,null,null,null,null,null,null,"","","","","",""]
[null,null,null,null,null,null,"","",null,null,null,null,null,null,null,null,null,null,null,"","","","","",""]
[null,null,null,null,null,null,"","",null,null,null,null,null,null,null,null,null,null,null,"","","","","",""]
[null,null,null,null,null,null,"","",null,null,null,null,null,null,null,null,null,null,null,"","","","","",""]
[null,null,null,null,null,null,"","",null,null,null,null,null,null,null,null,null,null,null,"","","","","",""]
[null,null,null,null,null,null,"","",null,null,null,null,null,null,null,null,null,null,null,"","","","","",""]
[null,null,null,null,null,null,"","",null,null,null,null,null,null,null,null,null,null,null,"","","","","",""]
[null,null,null,null,null,null,"","",null,null,null,null,null,null,null,null,null,null,null,"","","","","",""]
[null,null,null,null,null,null,"","",null,null,null,null,null,null,null,null,null,null,null,"","","","","",""]
[null,null,null,null,null,null,"","",null,null,null,null,null,null,null,null,null,null,null,"","","","","",""]
[null,null,null,null,null,null,"","",null,null,null,null,null,null,null,null,null,null,null,"","","","","",""]
[null,null,null,null,null,null,"","",null,null,null,null,null,null,null,null,null,null,null,"","","","","",""]
[null,null,null,null,null,null,"","",null,null,null,null,null,null,null,null,null,null,null,"","","","","",""]
[null,null,null,null,null,null,"","",null,null,null,null,null,null,null,null,null,null,null,{"$f":"IF(W3586=\"\",\"\",AA3586)","v":""},{"$f":"IF(W3586=\"\",\"\",AC3586)","v":""},{"$f":"IF(W3586=\"\",\"\",AK3586)","v":""},{"$f":"IFERROR(IF(Y3586=\"\",\"\",MID(Y3586,SEARCH(\"1x2/\",Y3586,1) + 4,LEN(Y3586))),\"\")","v":""},{"$f":"IF(W3586=\"\",\"\",AB3586)","v":""},{"$f":"HLink(AL3586)","v":""}]
[null,null,null,null,null,null,"","",null,null,null,null,null,null,null,null,null,null,null,"","","","","",""]
[null,null,null,null,null,null,"","",null,null,null,null,null,null,null,null,null,null,null,"","","","","",""]
[null,null,null,null,null,null,"","",null,null,null,null,null,null,null,null,null,null,null,"","","","","",""]
[null,null,null,null,null,null,"","",null,null,null,null,null,null,null,null,null,null,null,"","","","","",""]
[null,null,null,null,null,null,"","",null,null,null,null,null,null,null,null,null,null,null,"","","","","",""]
[null,null,null,null,null,null,"","",null,null,null,null,null,null,null,null,null,null,null,"","","","","",""]
[null,null,null,null,null,null,"","",null,null,null,null,null,null,null,null,null,null,null,"","","","","",""]
[null,null,null,null,null,null,"","",null,null,null,null,null,null,null,null,null,null,null,"","","","","",""]
[null,null,null,null,null,null,"","",null,null,null,null,null,null,null,null,null,null,null,"","","","","",""]
[null,null,null,null,null,null,"","",null,null,null,null,null,null,null,null,null,null,null,"","","","","",""]
[null,null,null,null,null,null,"","",null,null,null,null,null,null,null,null,null,null,null,"","","","","",""]
[null,null,null,null,null,null,"","",null,null,null,null,null,null,null,null,null,null,null,"","","","","",""]
[null,null,null,null,null,null,"","",null,null,null,null,null,null,null,null,null,null,null,"","","","","",""]
[null,null,null,null,null,null,"","",null,null,null,null,null,null,null,null,null,null,null,"","","","","",""]
[null,null,null,null,null,null,"","",null,null,null,null,null,null,null,null,null,null,null,"","","","","",""]
[null,null,null,null,null,null,"","",null,null,null,null,null,null,null,null,null,null,null,"","","","","",""]
[null,null,null,null,null,null,"","",null,null,null,null,null,null,null,null,null,null,null,"","","","","",""]
[null,null,null,null,null,null,"","",null,null,null,null,null,null,null,null,null,null,null,"","","","","",""]
[null,null,null,null,null,null,"","",null,null,null,null,null,null,null,null,null,null,null,"","","","","",""]
[null,null,null,null,null,null,{"$f":"IF(D3651=\"\",\"\",E3651&\" \"&A3651&\" \"&\"    \"&\" \"&B3651&\" - \"&C3651)","v":""},{"$f":"IF(G3651=\"\",\"\",D3651)","v":""},null,null,null,null,null,null,null,null,null,null,null,"","","","","",""]
[null,null,null,null,null,null,"","",null,null,null,null,null,null,null,null,null,null,null,"","","","","",""]
[null,null,null,null,null,null,"","",null,null,null,null,null,null,null,null,null,null,null,"","","","","",""]
[null,null,null,null,null,null,"","",null,null,null,null,null,null,null,null,null,null,null,"","","","","",""]
[null,null,null,null,null,null,"","",null,null,null,null,null,null,null,null,null,null,null,"","","","","",""]
[null,null,null,null,null,null,"","",null,null,null,null,null,null,null,null,null,null,null,"","","","","",""]
[null,null,null,null,null,null,"","",null,null,null,null,null,null,null,null,null,null,null,"","","","","",""]
[null,null,null,null,null,null,"","",null,null,null,null,null,null,null,null,null,null,null,"","","","","",""]
[null,null,null,null,null,null,"","",null,null,null,null,null,null,null,null,null,null,null,"","","","","",""]
[null,null,null,null,null,null,"","",null,null,null,null,null,null,null,null,null,null,null,"","","","","",""]
[null,null,null,null,null,null,"","",null,null,null,null,null,null,null,null,null,null,null,"","","","","",""]
[null,null,null,null,null,null,"","",null,null,null,null,null,null,null,null,null,null,null,"","","","","",""]
[null,null,null,null,null,null,"","",null,null,null,null,null,null,null,null,null,null,null,"","","","","",""]
[null,null,null,null,null,null,"","",null,null,null,null,null,null,null,null,null,null,null,"","","","","",""]
[null,null,null,null,null,null,"","",null,null,null,null,null,null,null,null,null,null,null,"","","","","",""]
[null,null,null,null,null,null,"","",null,null,null,null,null,null,null,null,null,null,null,"","","","","",""]
[null,null,null,null,null,null,"","",null,null,null,null,null,null,null,null,null,null,null,"","","","","",""]
[null,null,null,null,null,null,"","",null,null,null,null,null,null,null,null,null,null,null,"","","","","",""]
[null,null,null,null,null,null,"","",null,null,null,null,null,null,null,null,null,null,null,"","","","","",""]
[null,null,null,null,null,null,"","",null,null,null,null,null,null,null,null,null,null,null,"","","","","",""]
[null,null,null,null,null,null,"","",null,null,null,null,null,null,null,null,null,null,null,"","","","","",""]
[null,null,null,null,null,null,"","",null,null,null,null,null,null,null,null,null,null,null,"","","","","",""]
[null,null,null,null,null,null,"","",null,null,null,null,null,null,null,null,null,null,null,"","","","","",""]
[null,null,null,null,null,null,"","",null,null,null,null,null,null,null,null,null,null,null,"","","","","",""]
[null,null,null,null,null,null,"","",null,null,null,null,null,null,null,null,null,null,null,"","","","","",""]
[null,null,null,null,null,null,"","",null,null,null,null,null,null,null,null,null,null,null,"","","","","",""]
[null,null,null,null,null,null,"","",null,null,null,null,null,null,null,null,null,null,null,"","","","","",""]
[null,null,null,null,null,null,"","",null,null,null,null,null,null,null,null,null,null,null,"","","","","",""]
[null,null,null,null,null,null,"","",null,null,null,null,null,null,null,null,null,null,null,"","","","","",""]
[null,null,null,null,null,null,"","",null,null,null,null,null,null,null,null,null,null,null,"","","","","",""]
[null,null,null,null,null,null,"","",null,null,null,null,null,null,null,null,null,null,null,"","","","","",""]
[null,null,null,null,null,null,"","",null,null,null,null,null,null,null,null,null,null,null,"","","","","",""]
[null,null,null,null,null,null,"","",null,null,null,null,null,null,null,null,null,null,null,"","","","","",""]
[null,null,null,null,null,null,"","",null,null,null,null,null,null,null,null,null,null,null,"","","","","",""]
[null,null,null,null,null,null,"","",null,null,null,null,null,null,null,null,null,null,null,"","","","","",""]
[null,null,null,null,null,null,"","",null,null,null,null,null,null,null,null,null,null,null,"","","","","",""]
[null,null,null,null,null,null,"","",null,null,null,null,null,null,null,null,null,null,null,"","","","","",""]
[null,null,null,null,null,null,"","",null,null,null,null,null,null,null,null,null,null,null,"","","","","",""]
[null,null,null,null,null,null,"","",null,null,null,null,null,null,null,null,null,null,null,"","","","","",""]
[null,null,null,null,null,null,"","",null,null,null,null,null,null,null,null,null,null,null,"","","","","",""]
[null,null,null,null,null,null,"","",null,null,null,null,null,null,null,null,null,null,null,{"$f":"IF(W3778=\"\",\"\",AA3778)","v":""},{"$f":"IF(W3778=\"\",\"\",AC3778)","v":""},{"$f":"IF(W3778=\"\",\"\",AK3778)","v":""},{"$f":"IFERROR(IF(Y3778=\"\",\"\",MID(Y3778,SEARCH(\"1x2/\",Y3778,1) + 4,LEN(Y3778))),\"\")","v":""},{"$f":"IF(W3778=\"\",\"\",AB3778)","v":""},{"$f":"HLink(AL3778)","v":""}]
[null,null,null,null,null,null,"","",null,null,null,null,null,null,null,null,null,null,null,"","","","","",""]
[null,null,null,null,null,null,"","",null,null,null,null,null,null,null,null,null,null,null,"","","","","",""]
[null,null,null,null,null,null,"","",null,null,null,null,null,null,null,null,null,null,null,"","","","","",""]
[null,null,null,null,null,null,"","",null,null,null,null,null,null,null,null,null,null,null,"","","","","",""]
[null,null,null,null,null,null,"","",null,null,null,null,null,null,null,null,null,null,null,"","","","","",""]
[null,null,null,null,null,null,"","",null,null,null,null,null,null,null,null,null,null,null,"","","","","",""]
[null,null,null,null,null,null,"","",null,null,null,null,null,null,null,null,null,null,null,"","","","","",""]
[null,null,null,null,null,null,"","",null,null,null,null,null,null,null,null,null,null,null,"","","","","",""]
[null,null,null,null,null,null,"","",null,null,null,null,null,null,null,null,null,null,null,"","","","","",""]
[null,null,null,null,null,null,"","",null,null,null,null,null,null,null,null,null,null,null,"","","","","",""]
[null,null,null,null,null,null,"","",null,null,null,null,null,null,null,null,null,null,null,"","","","","",""]
[null,null,null,null,null,null,"","",null,null,null,null,null,null,null,null,null,null,null,"","","","","",""]
[null,null,null,null,null,null,"","",null,null,null,null,null,null,null,null,null,null,null,"","","","","",""]
[null,null,null,null,null,null,"","",null,null,null,null,null,null,null,null,null,null,null,"","","","","",""]
[null,null,null,null,null,null,"","",null,null,null,null,null,null,null,null,null,null,null,"","","","","",""]
[null,null,null,null,null,null,"","",null,null,null,null,null,null,null,null,null,null,null,"","","","","",""]
[null,null,null,null,null,null,"","",null,null,null,null,null,null,null,null,null,null,null,"","","","","",""]
[null,null,null,null,null,null,"","",null,null,null,null,null,null,null,null,null,null,null,"","","","","",""]
[null,null,null,null,null,null,"","",null,null,null,null,null,null,null,null,null,null,null,"","","","","",""]
[null,null,null,null,null,null,"","",null,null,null,null,null,null,null,null,null,null,null,"","","","","",""]
[null,null,null,null,null,null,{"$f":"IF(D3843=\"\",\"\",E3843&\" \"&A3843&\" \"&\"    \"&\" \"&B3843&\" - \"&C3843)","v":""},{"$f":"IF(G3843=\"\",\"\",D3843)","v":""},null,null,null,null,null,null,null,null,null,null,null,"","","","","",""]
[null,null,null,null,null,null,"","",null,null,null,null,null,null,null,null,null,null,null,"","","","","",""]
[null,null,null,null,null,null,"","",null,null,null,null,null,null,null,null,null,null,null,"","","","","",""]
[null,null,null,null,null,null,"","",null,null,null,null,null,null,null,null,null,null,null,"","","","","",""]
[null,null,null,null,null,null,"","",null,null,null,null,null,null,null,null,null,null,null,"","","","","",""]
[null,null,null,null,null,null,"","",null,null,null,null,null,null,null,null,null,null,null,"","","","","",""]
[null,null,null,null,null,null,"","",null,null,null,null,null,null,null,null,null,null,null,"","","","","",""]
[null,null,null,null,null,null,"","",null,null,null,null,null,null,null,null,null,null,null,"","","","","",""]
[null,null,null,null,null,null,"","",null,null,null,null,null,null,null,null,null,null,null,"","","","","",""]
[null,null,null,null,null,null,"","",null,null,null,null,null,null,null,null,null,null,null,"","","","","",""]
[null,null,null,null,null,null,"","",null,null,null,null,null,null,null,null,null,null,null,"","","","","",""]
[null,null,null,null,null,null,"","",null,null,null,null,null,null,null,null,null,null,null,"","","","","",""]
[null,null,null,null,null,null,"","",null,null,null,null,null,null,null,null,null,null,null,"","","","","",""]
[null,null,null,null,null,null,"","",null,null,null,null,null,null,null,null,null,null,null,"","","","","",""]
[null,null,null,null,null,null,"","",null,null,null,null,null,null,null,null,null,null,null,"","","","","",""]
[null,null,null,null,null,null,"","",null,null,null,null,null,null,null,null,null,null,null,"","","","","",""]
[null,null,null,null,null,null,"","",null,null,null,null,null,null,null,null,null,null,null,"","","","","",""]
[null,null,null,null,null,null,"","",null,null,null,null,null,null,null,null,null,null,null,"","","","","",""]
[null,null,null,null,null,null,"","",null,null,null,null,null,null,null,null,null,null,null,"","","","","",""]
[null,null,null,null,null,null,"","",null,null,null,null,null,null,null,null,null,null,null,"","","","","",""]
[null,null,null,null,null,null,"","",null,null,null,null,null,null,null,null,null,null,null,{"$f":"IF(W3906=\"\",\"\",AA3906)","v":""},{"$f":"IF(W3906=\"\",\"\",AC3906)","v":""},{"$f":"IF(W3906=\"\",\"\",AK3906)","v":""},{"$f":"IFERROR(IF(Y3906=\"\",\"\",MID(Y3906,SEARCH(\"1x2/\",Y3906,1) + 4,LEN(Y3906))),\"\")","v":""},{"$f":"IF(W3906=\"\",\"\",AB3906)","v":""},{"$f":"HLink(AL3906)","v":""}]
[null,null,null,null,null,null,"","",null,null,null,null,null,null,null,null,null,null,null,"","","","","",""]
[null,null,null,null,null,null,"","",null,null,null,null,null,null,null,null,null,null,null,"","","","","",""]
[null,null,null,null,null,null,"","",null,null,null,null,null,null,null,null,null,null,null,"","","","","",""]
[null,null,null,null,null,null,"","",null,null,null,null,null,null,null,null,null,null,null,"","","","","",""]
[null,null,null,null,null,null,"","",null,null,null,null,null,null,null,null,null,null,null,"","","","","",""]
[null,null,null,null,null,null,"","",null,null,null,null,null,null,null,null,null,null,null,"","","","","",""]
[null,null,null,null,null,null,"","",null,null,null,null,null,null,null,null,null,null,null,"","","","","",""]
[null,null,null,null,null,null,"","",null,null,null,null,null,null,null,null,null,null,null,"","","","","",""]
[null,null,null,null,null,null,"","",null,null,null,null,null,null,null,null,null,null,null,"","","","","",""]
[null,null,null,null,null,null,"","",null,null,null,null,null,null,null,null,null,null,null,"","","","","",""]
[null,null,null,null,null,null,"","",null,null,null,null,null,null,null,null,null,null,null,"","","","","",""]
[null,null,null,null,null,null,"","",null,null,null,null,null,null,null,null,null,null,null,"","","","","",""]
[null,null,null,null,null,null,"","",null,null,null,null,null,null,null,null,null,null,null,"","","","","",""]
[null,null,null,null,null,null,"","",null,null,null,null,null,null,null,null,null,null,null,"","","","","",""]
[null,null,null,null,null,null,"","",null,null,null,null,null,null,null,null,null,null,null,"","","","","",""]
[null,null,null,null,null,null,"","",null,null,null,null,null,null,null,null,null,null,null,"","","","","",""]
[null,null,null,null,null,null,"","",null,null,null,null,null,null,null,null,null,null,null,"","","","","",""]
[null,null,null,null,null,null,"","",null,null,null,null,null,null,null,null,null,null,null,"","","","","",""]
[null,null,null,null,null,null,"","",null,null,null,null,null,null,null,null,null,null,null,"","","","","",""]
[null,null,null,null,null,null,"","",null,null,null,null,null,null,null,null,null,null,null,{"$f":"IF(W3970=\"\",\"\",AA3970)","v":""},{"$f":"IF(W3970=\"\",\"\",AC3970)","v":""},{"$f":"IF(W3970=\"\",\"\",AK3970)","v":""},{"$f":"IFERROR(IF(Y3970=\"\",\"\",MID(Y3970,SEARCH(\"1x2/\",Y3970,1) + 4,LEN(Y3970))),\"\")","v":""},{"$f":"IF(W3970=\"\",\"\",AB3970)","v":""},{"$f":"HLink(AL3970)","v":""}]
[null,null,null,null,null,null,"","",null,null,null,null,null,null,null,null,null,null,null,"","","","","",""]
[null,null,null,null,null,null,"","",null,null,null,null,null,null,null,null,null,null,null,"","","","","",""]
[null,null,null,null,null,null,"","",null,null,null,null,null,null,null,null,null,null,null,"","","","","",""]
[null,null,null,null,null,null,"","",null,null,null,null,null,null,null,null,null,null,null,"","","","","",""]
[null,null,null,null,null,null,"","",null,null,null,null,null,null,null,null,null,null,null,"","","","","",""]
[null,null,null,null,null,null,"","",null,null,null,null,null,null,null,null,null,null,null,"","","","","",""]
[null,null,null,null,null,null,"","",null,null,null,null,null,null,null,null,null,null,null,"","","","","",""]
[null,null,null,null,null,null,"","",null,null,null,null,null,null,null,null,null,null,null,"","","","","",""]
[null,null,null,null,null,null,"","",null,null,null,null,null,null,null,null,null,null,null,"","","","","",""]
[null,null,null,null,null,null,"","",null,null,null,null,null,null,null,null,null,null,null,"","","","","",""]
[null,null,null,null,null,null,"","",null,null,null,null,null,null,null,null,null,null,null,"","","","","",""]
[null,null,null,null,null,null,"","",null,null,null,null,null,null,null,null,null,null,null,"","","","","",""]
[null,null,null,null,null,null,"","",null,null,null,null,null,null,null,null,null,null,null,"","","","","",""]
[null,null,null,null,null,null,"","",null,null,null,null,null,null,null,null,null,null,null,"","","","","",""]
[null,null,null,null,null,null,"","",null,null,null,null,null,null,null,null,null,null,null,"","","","","",""]
[null,null,null,null,null,null,"","",null,null,null,null,null,null,null,null,null,null,null,"","","","","",""]
[null,null,null,null,null,null,"","",null,null,null,null,null,null,null,null,null,null,null,"","","","","",""]
[null,null,null,null,null,null,"",null,null,null,null,null,null,null,null,null,null,null,null,"","","","","",""]
[null,null,null,null,null,null,"",null,null,null,null,null,null,null,null,null,null,null,null,"","","","","",""]
[null,null,null,null,null,null,"",null,null,null,null,null,null,null,null,null,null,null,null,"","","","","",""]
[null,null,null,null,null,null,""]
[null,null,null,null,null,null,""]
[null,null,null,null,null,null,""]
[null,null,null,null,null,null,""]
[null,null,null,null,null,null,""]
[null,null,null,null,null,null,""]
[null,null,null,null,null,null,""]
[null,null,null,null,null,null,""]
[null,null,null,null,null,null,""]
[null,null,null,null,null,null,""]
[null,null,null,null,null,null,""]
[null,null,null,null,null,null,""]
[null,null,null,null,null,null,""]
[null,null,null,null,null,null,""]
[null,null,null,null,null,null,""]
[null,null,null,null,null,null,""]
[null,null,null,null,null,null,""]
[null,null,null,null,null,null,""]
[null,null,null,null,null,null,""]
[null,null,null,null,null,null,""]
[null,null,null,null,null,null,""]
[null,null,null,null,null,null,""]
[null,null,null,null,null,null,""]
[null,null,null,null,null,null,""]
[null,null,null,null,null,null,""]
[null,null,null,null,null,null,""]
[null,null,null,null,null,null,""]
[null,null,null,null,null,null,""]
[null,null,null,null,null,null,""]
[null,null,null,null,null,null,""]
[null,null,null,null,null,null,""]
[null,null,null,null,null,null,""]
[null,null,null,null,null,null,""]
[null,null,null,null,null,null,""]
[null,null,null,null,null,null,""]
[null,null,null,null,null,null,""]
[null,null,null,null,null,null,""]
[null,null,null,null,null,null,""]
[null,null,null,null,null,null,""]
[null,null,null,null,null,null,""]
[null,null,null,null,null,null,{"$f":"IF(D4163=\"\",\"\",E4163&\" \"&A4163&\" \"&\"    \"&\" \"&B4163&\" - \"&C4163)","v":""}]
[null,null,null,null,null,null,""]
[null,null,null,null,null,null,""]
[null,null,null,null,null,null,""]
[null,null,null,null,null,null,""]
[null,null,null,null,null,null,""]
[null,null,null,null,null,null,""]
[null,null,null,null,null,null,""]
[null,null,null,null,null,null,""]
[null,null,null,null,null,null,""]
[null,null,null,null,null,null,""]
[null,null,null,null,null,null,""]
[null,null,null,null,null,null,""]
[null,null,null,null,null,null,""]
[null,null,null,null,null,null,""]
[null,null,null,null,null,null,""]
[null,null,null,null,null,null,""]
[null,null,null,null,null,null,""]
[null,null,null,null,null,null,""]
[null,null,null,null,null,null,""]
[null,null,null,null,null,null,""]
[null,null,null,null,null,null,""]
[null,null,null,null,null,null,""]
[null,null,null,null,null,null,""]
[null,null,null,null,null,null,""]
[null,null,null,null,null,null,""]
[null,null,null,null,null,null,""]
[null,null,null,null,null,null,""]
[null,null,null,null,null,null,""]
[null,null,null,null,null,null,""]
[null,null,null,null,null,null,""]
[null,null,null,null,null,null,""]
[null,null,null,null,null,null,""]
[null,null,null,null,null,null,""]
[null,null,null,null,null,null,""]
[null,null,null,null,null,null,""]
[null,null,null,null,null,null,""]
[null,null,null,null,null,null,""]
[null,null,null,null,null,null,""]
[null,null,null,null,null,null,""]
[null,null,null,null,null,null,""]
[null,null,null,null,null,null,""]
[null,null,null,null,null,null,""]
[null,null,null,null,null,null,""]
[null,null,null,null,null,null,""]
[null,null,null,null,null,null,""]
[null,null,null,null,null,null,""]
[null,null,null,null,null,null,""]
[null,null,null,null,null,null,""]
[null,null,null,null,null,null,""]
[null,null,null,null,null,null,""]
[null,null,null,null,null,null,""]
[null,null,null,null,null,null,""]
[null,null,null,null,null,null,""]
[null,null,null,null,null,null,""]
[null,null,null,null,null,null,""]
[null,null,null,null,null,null,""]
[null,null,null,null,null,null,""]
[null,null,null,null,null,null,""]
[null,null,null,null,null,null,""]
[null,null,null,null,null,null,{"$f":"IF(D4227=\"\",\"\",E4227&\" \"&A4227&\" \"&\"    \"&\" \"&B4227&\" - \"&C4227)","v":""}]
[null,null,null,null,null,null,""]
[null,null,null,null,null,null,""]
[null,null,null,null,null,null,""]
[null,null,null,null,null,null,""]
[null,null,null,null,null,null,""]
[null,null,null,null,null,null,""]
[null,null,null,null,null,null,""]
[null,null,null,null,null,null,""]
[null,null,null,null,null,null,""]
[null,null,null,null,null,null,""]
[null,null,null,null,null,null,""]
[null,null,null,null,null,null,""]
[null,null,null,null,null,null,""]
[null,null,null,null,null,null,""]
[null,null,null,null,null,null,""]
[null,null,null,null,null,null,""]
[null,null,null,null,null,null,""]
[null,null,null,null,null,null,""]
[null,null,null,null,null,null,""]
[null,null,null,null,null,null,""]
[null,null,null,null,null,null,""]
[null,null,null,null,null,null,""]
[null,null,null,null,null,null,""]
[null,null,null,null,null,null,""]
[null,null,null,null,null,null,""]
[null,null,null,null,null,null,""]
[null,null,null,null,null,null,""]
[null,null,null,null,null,null,""]
[null,null,null,null,null,null,""]
[null,null,null,null,null,null,""]
[null,null,null,null,null,null,""]
[null,null,null,null,null,null,""]
[null,null,null,null,null,null,""]
[null,null,null,null,null,null,""]
[null,null,null,null,null,null,""]
[null,null,null,null,null,null,""]
[null,null,null,null,null,null,""]
[null,null,null,null,null,null,""]
[null,null,null,null,null,null,""]
[null,null,null,null,null,null,""]
[null,null,null,null,null,null,""]
[null,null,null,null,null,null,""]
[null,null,null,null,null,null,""]
[null,null,null,null,null,null,""]
[null,null,null,null,null,null,""]
[null,null,null,null,null,null,""]
[null,null,null,null,null,null,""]
[null,null,null,null,null,null,""]
[null,null,null,null,null,null,""]
[null,null,null,null,null,null,""]
[null,null,null,null,null,null,""]
[null,null,null,null,null,null,""]
[null,null,null,null,null,null,""]
[null,null,null,null,null,null,""]
[null,null,null,null,null,null,""]
[null,null,null,null,null,null,""]
[null,null,null,null,null,null,""]
[null,null,null,null,null,null,""]
[null,null,null,null,null,null,""]
[null,null,null,null,null,null,""]
[null,null,null,null,null,null,""]
[null,null,null,null,null,null,""]
[null,null,null,null,null,null,""]
[null,null,null,null,null,null,{"$f":"IF(D4291=\"\",\"\",E4291&\" \"&A4291&\" \"&\"    \"&\" \"&B4291&\" - \"&C4291)","v":""}]
[null,null,null,null,null,null,""]
[null,null,null,null,null,null,""]
[null,null,null,null,null,null,""]
[null,null,null,null,null,null,""]
[null,null,null,null,null,null,""]
[null,null,null,null,null,null,""]
[null,null,null,null,null,null,""]
[null,null,null,null,null,null,""]
[null,null,null,null,null,null,""]
[null,null,null,null,null,null,""]
[null,null,null,null,null,null,""]
[null,null,null,null,null,null,""]
[null,null,null,null,null,null,""]
[null,null,null,null,null,null,""]
[null,null,null,null,null,null,""]
[null,null,null,null,null,null,""]
[null,null,null,null,null,null,""]
[null,null,null,null,null,null,""]
[null,null,null,null,null,null,""]
[null,null,null,null,null,null,""]
[null,null,null,null,null,null,""]
[null,null,null,null,null,null,""]
[null,null,null,null,null,null,""]
[null,null,null,null,null,null,""]
[null,null,null,null,null,null,""]
[null,null,null,null,null,null,""]
[null,null,null,null,null,null,""]
[null,null,null,null,null,null,""]
[null,null,null,null,null,null,""]
[null,null,null,null,null,null,""]
[null,null,null,null,null,null,""]
[null,null,null,null,null,null,""]
[null,null,null,null,null,null,""]
[null,null,null,null,null,null,""]
[null,null,null,null,null,null,""]
[null,null,null,null,null,null,""]
[null,null,null,null,null,null,""]
[null,null,null,null,null,null,""]
[null,null,null,null,null,null,""]
[null,null,null,null,null,null,""]
[null,null,null,null,null,null,""]
[null,null,null,null,null,null,""]
[null,null,null,null,null,null,""]
[null,null,null,null,null,null,""]
[null,null,null,null,null,null,""]
[null,null,null,null,null,null,""]
[null,null,null,null,null,null,""]
[null,null,null,null,null,null,""]
[null,null,null,null,null,null,""]
[null,null,null,null,null,null,""]
[null,null,null,null,null,null,""]
[null,null,null,null,null,null,""]
[null,null,null,null,null,null,""]
[null,null,null,null,null,null,""]
[null,null,null,null,null,null,""]
[null,null,null,null,null,null,""]
[null,null,null,null,null,null,""]
[null,null,null,null,null,null,""]
[null,null,null,null,null,null,""]
[null,null,null,null,null,null,""]
[null,null,null,null,null,null,""]
[null,null,null,null,null,null,""]
[null,null,null,null,null,null,""]
[null,null,null,null,null,null,{"$f":"IF(D4355=\"\",\"\",E4355&\" \"&A4355&\" \"&\"    \"&\" \"&B4355&\" - \"&C4355)","v":""}]
[null,null,null,null,null,null,""]
[null,null,null,null,null,null,""]
[null,null,null,null,null,null,""]
[null,null,null,null,null,null,""]
[null,null,null,null,null,null,""]
[null,null,null,null,null,null,""]
[null,null,null,null,null,null,""]
[null,null,null,null,null,null,""]
[null,null,null,null,null,null,""]
[null,null,null,null,null,null,""]
[null,null,null,null,null,null,""]
[null,null,null,null,null,null,""]
[null,null,null,null,null,null,""]
[null,null,null,null,null,null,""]
[null,null,null,null,null,null,""]
[null,null,null,null,null,null,""]
[null,null,null,null,null,null,""]
[null,null,null,null,null,null,""]
[null,null,null,null,null,null,""]
[null,null,null,null,null,null,""]
[null,null,null,null,null,null,""]
[null,null,null,null,null,null,""]
[null,null,null,null,null,null,""]
[null,null,null,null,null,null,""]
[null,null,null,null,null,null,""]
[null,null,null,null,null,null,""]
[null,null,null,null,null,null,""]
[null,null,null,null,null,null,""]
[null,null,null,null,null,null,""]
[null,null,null,null,null,null,""]
[null,null,null,null,null,null,""]
[null,null,null,null,null,null,""]
[null,null,null,null,null,null,""]
[null,null,null,null,null,null,""]
[null,null,null,null,null,null,""]
[null,null,null,null,null,null,""]
[null,null,null,null,null,null,""]
[null,null,null,null,null,null,""]
[null,null,null,null,null,null,""]
[null,null,null,null,null,null,""]
[null,null,null,null,null,null,""]
[null,null,null,null,null,null,""]
[null,null,null,null,null,null,""]
[null,null,null,null,null,null,""]
[null,null,null,null,null,null,""]
[null,null,null,null,null,null,""]
[null,null,null,null,null,null,""]
[null,null,null,null,null,null,""]
[null,null,null,null,null,null,""]
[null,null,null,null,null,null,""]
[null,null,null,null,null,null,""]
[null,null,null,null,null,null,""]
[null,null,null,null,null,null,""]
[null,null,null,null,null,null,""]
[null,null,null,null,null,null,""]
[null,null,null,null,null,null,""]
[null,null,null,null,null,null,""]
[null,null,null,null,null,null,""]
[null,null,null,null,null,null,""]
[null,null,null,null,null,null,""]
[null,null,null,null,null,null,""]
[null,null,null,null,null,null,""]
[null,null,null,null,null,null,""]

{"sheet":"Statistic","index":3,"n_rows":0,"n_cols":0,"rows_kept":0,"cut":false,"hidden":true,"merged":[]}

{"sheet":"Analysis","index":4,"n_rows":33,"n_cols":28,"rows_kept":33,"cut":false,"hidden":true,"merged":[[7,29,7,30],[8,29,8,30],[7,1,8,1],[39,1,69,30]]}
[null,null,null,null,null,null,null,null,null,null,null,null,null,null,null,null,null,null,null,"",null,null,null,""]
[]
[]
[]
[]
[]
[]
[null,null,"Лига",null,null,null,null,null,null,null,null,null,null,null,null,null,null,null,null,"Дома","Гости","1 Тайм","Матч","1Тайм ТБ/ТМ","Общ ТБ/ТМ","Дома Заб","Гости Заб","ОЗ"]
[null,null,{"$f":"'a1'!C2","v":"BRA SP"},null,null,null,null,null,null,null,null,null,null,null,null,null,null,null,null,{"$f":"'a1'!D2","v":"Sao Paulo"},{"$f":"'a1'!D15","v":"Fortaleza"},{"$f":"'Analiz Sayfası'!A23","v":" "},{"$f":"'Analiz Sayfası'!H17","v":"X2"},{"$f":"'Analiz Sayfası'!G27","v":"ТБ0,5"},{"$f":"'a2'!J14","v":"ТБ1.5"},{"$f":"'a2'!J11","v":"Да"},{"$f":"'a2'!L11","v":" "},{"$f":"'a2'!O18","v":" "}]
[]
[null,"Лига","Date",null,"FT","HT","Corner",null,null,null,null,null,null,null,null,null,null,null,null,"Дома","Гости","HT","FT","Corner"]
["6",{"$f":"INDEX(Сampionate!A:A,MATCH(\"Previous scores statistics\",Сampionate!A:A,FALSE)+A12,1)","v":"BRA SP"},"6/18/2017",{"$f":"INDEX(Сampionate!C:C,MATCH(\"Previous scores statistics\",Сampionate!A:A,FALSE)+A12,1)","v":"Sao Paulo"},{"$f":"INDEX(Сampionate!D:D,MATCH(\"Previous scores statistics\",Сampionate!A:A,FALSE)+A12,1)","v":"2-3"},{"$f":"INDEX(Сampionate!E:E,MATCH(\"Previous scores statistics\",Сampionate!A:A,FALSE)+A12,1)","v":"2-2"},{"$f":"INDEX(Сampionate!F:F,MATCH(\"Previous scores statistics\",Сampionate!A:A,FALSE)+A12,1)","v":"11-1"},{"$f":"INDEX(Сampionate!G:G,MATCH(\"Previous scores statistics\",Сampionate!A:A,FALSE)+A12,1)","v":"Mirassol"},"2.50","3.08","2.63","0.92","0/0.5","0.90","L","L","O",null,null,{"$f":"'a3'!L3","v":"Sao Paulo"},{"$f":"'a3'!M3","v":"Mirassol"},{"$f":"'a3'!W3","v":"2 : 2"},{"$f":"'a3'!R3","v":"2 : 3"},{"$f":"'a3'!AB3","v":"11 : 1"}]
["7",{"$f":"INDEX(Сampionate!A:A,MATCH(\"Previous scores statistics\",Сampionate!A:A,FALSE)+A13,1)","v":"BRA SP"},"6/15/2017",{"$f":"INDEX(Сampionate!C:C,MATCH(\"Previous scores statistics\",Сampionate!A:A,FALSE)+A13,1)","v":"Guarani SP(N)"},{"$f":"INDEX(Сampionate!D:D,MATCH(\"Previous scores statistics\",Сampionate!A:A,FALSE)+A13,1)","v":"1-3"},{"$f":"INDEX(Сampionate!E:E,MATCH(\"Previous scores statistics\",Сampionate!A:A,FALSE)+A13,1)","v":"1-1"},{"$f":"INDEX(Сampionate!F:F,MATCH(\"Previous scores statistics\",Сampionate!A:A,FALSE)+A13,1)","v":"6-6"},{"$f":"INDEX(Сampionate!G:G,MATCH(\"Previous scores statistics\",Сampionate!A:A,FALSE)+A13,1)","v":"Sao Paulo"},"1.45","4.02","6.24","0.85","1/1.5","0.97","L","L","O",null,null,{"$f":"'a3'!L4","v":"Guarani SP"},{"$f":"'a3'!M4","v":"Sao Paulo"},{"$f":"'a3'!W4","v":"1 : 1"},{"$f":"'a3'!R4","v":"1 : 3"},{"$f":"'a3'!AB4","v":"6 : 6"}]
["8",{"$f":"INDEX(Сampionate!A:A,MATCH(\"Previous scores statistics\",Сampionate!A:A,FALSE)+A14,1)","v":"BRA SP"},"6/10/2017",{"$f":"INDEX(Сampionate!C:C,MATCH(\"Previous scores statistics\",Сampionate!A:A,FALSE)+A14,1)","v":"Sao Paulo"},{"$f":"INDEX(Сampionate!D:D,MATCH(\"Previous scores statistics\",Сampionate!A:A,FALSE)+A14,1)","v":"2-3"},{"$f":"INDEX(Сampionate!E:E,MATCH(\"Previous scores statistics\",Сampionate!A:A,FALSE)+A14,1)","v":"2-2"},{"$f":"INDEX(Сampionate!F:F,MATCH(\"Previous scores statistics\",Сampionate!A:A,FALSE)+A14,1)","v":"5-3"},{"$f":"INDEX(Сampionate!G:G,MATCH(\"Previous scores statistics\",Сampionate!A:A,FALSE)+A14,1)","v":"Bragantino"},"2.19","3.18","3.00","0.97","0/0.5","0.85","W","W","O",null,null,{"$f":"'a3'!L5","v":"Sao Paulo"},{"$f":"'a3'!M5","v":"Bragantino"},{"$f":"'a3'!W5","v":"2 : 2"},{"$f":"'a3'!R5","v":"2 : 3"},{"$f":"'a3'!AB5","v":"5 : 3"}]
["9",{"$f":"INDEX(Сampionate!A:A,MATCH(\"Previous scores statistics\",Сampionate!A:A,FALSE)+A15,1)","v":"BRA SP"},"6/2/2017",{"$f":"INDEX(Сampionate!C:C,MATCH(\"Previous scores statistics\",Сampionate!A:A,FALSE)+A15,1)","v":"Sao Paulo"},{"$f":"INDEX(Сampionate!D:D,MATCH(\"Previous scores statistics\",Сampionate!A:A,FALSE)+A15,1)","v":"2-1"},{"$f":"INDEX(Сampionate!E:E,MATCH(\"Previous scores statistics\",Сampionate!A:A,FALSE)+A15,1)","v":"0-1"},{"$f":"INDEX(Сampionate!F:F,MATCH(\"Previous scores statistics\",Сampionate!A:A,FALSE)+A15,1)","v":"8-1"},{"$f":"INDEX(Сampionate!G:G,MATCH(\"Previous scores statistics\",Сampionate!A:A,FALSE)+A15,1)","v":"Santos1"},"1.72","3.42","4.38","0.90","0.5/1","0.92","D","W","U",null,null,{"$f":"'a3'!L6","v":"Sao Paulo"},{"$f":"'a3'!M6","v":"Santos"},{"$f":"'a3'!W6","v":"0 : 1"},{"$f":"'a3'!R6","v":"2 : 1"},{"$f":"'a3'!AB6","v":"8 : 1"}]
["10",{"$f":"INDEX(Сampionate!A:A,MATCH(\"Previous scores statistics\",Сampionate!A:A,FALSE)+A16,1)","v":"CON CLA"},"5/27/2017",{"$f":"INDEX(Сampionate!C:C,MATCH(\"Previous scores statistics\",Сampionate!A:A,FALSE)+A16,1)","v":"Sao Paulo"},{"$f":"INDEX(Сampionate!D:D,MATCH(\"Previous scores statistics\",Сampionate!A:A,FALSE)+A16,1)","v":"3-0"},{"$f":"INDEX(Сampionate!E:E,MATCH(\"Previous scores statistics\",Сampionate!A:A,FALSE)+A16,1)","v":"2-0"},{"$f":"INDEX(Сampionate!F:F,MATCH(\"Previous scores statistics\",Сampionate!A:A,FALSE)+A16,1)","v":"5-3"},{"$f":"INDEX(Сampionate!G:G,MATCH(\"Previous scores statistics\",Сampionate!A:A,FALSE)+A16,1)","v":"Liga Dep. Universitaria Quito1"},"1.89","3.26","3.74","1.02","0.5","0.80","W","W","O",null,null,{"$f":"'a3'!L7","v":"Sao Paulo"},{"$f":"'a3'!M7","v":"Liga Dep. Universitaria Quito"},{"$f":"'a3'!W7","v":"2 : 0"},{"$f":"'a3'!R7","v":"3 : 0"},{"$f":"'a3'!AB7","v":"5 : 3"}]
["11",{"$f":"INDEX(Сampionate!A:A,MATCH(\"Previous scores statistics\",Сampionate!A:A,FALSE)+A17,1)","v":"BRA SP"},"5/13/2017",{"$f":"INDEX(Сampionate!C:C,MATCH(\"Previous scores statistics\",Сampionate!A:A,FALSE)+A17,1)","v":"Botafogo SP"},{"$f":"INDEX(Сampionate!D:D,MATCH(\"Previous scores statistics\",Сampionate!A:A,FALSE)+A17,1)","v":"1-0"},{"$f":"INDEX(Сampionate!E:E,MATCH(\"Previous scores statistics\",Сampionate!A:A,FALSE)+A17,1)","v":"0-0"},{"$f":"INDEX(Сampionate!F:F,MATCH(\"Previous scores statistics\",Сampionate!A:A,FALSE)+A17,1)","v":"7-3"},{"$f":"INDEX(Сampionate!G:G,MATCH(\"Previous scores statistics\",Сampionate!A:A,FALSE)+A17,1)","v":"Sao Paulo"},"1.77","3.35","4.13","0.92","0.5/1","0.90","L","L","U",null,null,{"$f":"'a3'!L8","v":"Botafogo SP"},{"$f":"'a3'!M8","v":"Sao Paulo"},{"$f":"'a3'!W8","v":"0 : 0"},{"$f":"'a3'!R8","v":"1 : 0"},{"$f":"'a3'!AB8","v":"7 : 3"}]
["12",{"$f":"INDEX(Сampionate!A:A,MATCH(\"Previous scores statistics\",Сampionate!A:A,FALSE)+A18,1)","v":"CON CLA"},"5/11/2017",{"$f":"INDEX(Сampionate!C:C,MATCH(\"Previous scores statistics\",Сampionate!A:A,FALSE)+A18,1)","v":"EM Deportivo Binacional"},{"$f":"INDEX(Сampionate!D:D,MATCH(\"Previous scores statistics\",Сampionate!A:A,FALSE)+A18,1)","v":"2-1"},{"$f":"INDEX(Сampionate!E:E,MATCH(\"Previous scores statistics\",Сampionate!A:A,FALSE)+A18,1)","v":"0-1"},{"$f":"INDEX(Сampionate!F:F,MATCH(\"Previous scores statistics\",Сampionate!A:A,FALSE)+A18,1)","v":"5-6"},{"$f":"INDEX(Сampionate!G:G,MATCH(\"Previous scores statistics\",Сampionate!A:A,FALSE)+A18,1)","v":"Sao Paulo"},"1.43","3.98","6.61","0.85","1","0.97","D","W","O",null,null,{"$f":"'a3'!L9","v":"EM Deportivo Binacional"},{"$f":"'a3'!M9","v":"Sao Paulo"},{"$f":"'a3'!W9","v":"0 : 1"},{"$f":"'a3'!R9","v":"2 : 1"},{"$f":"'a3'!AB9","v":"5 : 6"}]
["13",{"$f":"INDEX(Сampionate!A:A,MATCH(\"Previous scores statistics\",Сampionate!A:A,FALSE)+A19,1)","v":"BRA SP"},"5/7/2017",{"$f":"INDEX(Сampionate!C:C,MATCH(\"Previous scores statistics\",Сampionate!A:A,FALSE)+A19,1)","v":"Sao Paulo"},{"$f":"INDEX(Сampionate!D:D,MATCH(\"Previous scores statistics\",Сampionate!A:A,FALSE)+A19,1)","v":"2-1"},{"$f":"INDEX(Сampionate!E:E,MATCH(\"Previous scores statistics\",Сampionate!A:A,FALSE)+A19,1)","v":"2-0"},{"$f":"INDEX(Сampionate!F:F,MATCH(\"Previous scores statistics\",Сampionate!A:A,FALSE)+A19,1)","v":"7-6"},{"$f":"INDEX(Сampionate!G:G,MATCH(\"Previous scores statistics\",Сampionate!A:A,FALSE)+A19,1)","v":"Ponte Preta1"},"1.52","3.81","5.72","0.77","1/1.5","1.05","L","L","O",null,null,{"$f":"'a3'!L10","v":"Sao Paulo"},{"$f":"'a3'!M10","v":"Ponte Preta"},{"$f":"'a3'!W10","v":"2 : 0"},{"$f":"'a3'!R10","v":"2 : 1"},{"$f":"'a3'!AB10","v":"7 : 6"}]
["14",{"$f":"INDEX(Сampionate!A:A,MATCH(\"Previous scores statistics\",Сampionate!A:A,FALSE)+A20,1)","v":"BRA SP"},"5/4/2017",{"$f":"INDEX(Сampionate!C:C,MATCH(\"Previous scores statistics\",Сampionate!A:A,FALSE)+A20,1)","v":"Oeste"},{"$f":"INDEX(Сampionate!D:D,MATCH(\"Previous scores statistics\",Сampionate!A:A,FALSE)+A20,1)","v":"0-4"},{"$f":"INDEX(Сampionate!E:E,MATCH(\"Previous scores statistics\",Сampionate!A:A,FALSE)+A20,1)","v":"0-1"},{"$f":"INDEX(Сampionate!F:F,MATCH(\"Previous scores statistics\",Сampionate!A:A,FALSE)+A20,1)","v":"5-4"},{"$f":"INDEX(Сampionate!G:G,MATCH(\"Previous scores statistics\",Сampionate!A:A,FALSE)+A20,1)","v":"Sao Paulo"},"1.74","3.42","4.28","0.80","0.5","1.02","W","W","U",null,null,{"$f":"'a3'!L11","v":"Oeste"},{"$f":"'a3'!M11","v":"Sao Paulo"},{"$f":"'a3'!W11","v":"0 : 1"},{"$f":"'a3'!R11","v":"0 : 4"},{"$f":"'a3'!AB11","v":"5 : 4"}]
["15",{"$f":"INDEX(Сampionate!A:A,MATCH(\"Previous scores statistics\",Сampionate!A:A,FALSE)+A21,1)","v":"BRA SP"},"4/30/2017",{"$f":"INDEX(Сampionate!C:C,MATCH(\"Previous scores statistics\",Сampionate!A:A,FALSE)+A21,1)","v":"Sao Paulo"},{"$f":"INDEX(Сampionate!D:D,MATCH(\"Previous scores statistics\",Сampionate!A:A,FALSE)+A21,1)","v":"0-0"},{"$f":"INDEX(Сampionate!E:E,MATCH(\"Previous scores statistics\",Сampionate!A:A,FALSE)+A21,1)","v":"0-0"},{"$f":"INDEX(Сampionate!F:F,MATCH(\"Previous scores statistics\",Сampionate!A:A,FALSE)+A21,1)","v":"5-3"},{"$f":"INDEX(Сampionate!G:G,MATCH(\"Previous scores statistics\",Сampionate!A:A,FALSE)+A21,1)","v":"Corinthians Paulista (SP)"},"2.40","3.34","2.57","0.80","0/-0.5","1.02","D","W","O",null,null,{"$f":"'a3'!L12","v":"Sao Paulo"},{"$f":"'a3'!M12","v":"Corinthians Paulista (SP)"},{"$f":"'a3'!W12","v":"0 : 0"},{"$f":"'a3'!R12","v":"0 : 0"},{"$f":"'a3'!AB12","v":"5 : 3"}]
[]
[null,"League","Date",null,null,null,null,null,null,null,null,null,null,null,null,null,null,null,null,"Дома","Гости","HT","FT","Corner"]
["6",{"$f":"INDEX(Сampionate!A:A,MATCH(\"Previous scores statistics\",Сampionate!A:A,FALSE)+A24+25,1)","v":"BRA D1"},"6/18/2017",{"$f":"INDEX(Сampionate!C:C,MATCH(\"Previous scores statistics\",Сampionate!A:A,FALSE)+A24+25,1)","v":"1Fortaleza"},{"$f":"INDEX(Сampionate!D:D,MATCH(\"Previous scores statistics\",Сampionate!A:A,FALSE)+A24+25,1)","v":"0-2"},{"$f":"INDEX(Сampionate!E:E,MATCH(\"Previous scores statistics\",Сampionate!A:A,FALSE)+A24+25,1)","v":"0-2"},{"$f":"INDEX(Сampionate!F:F,MATCH(\"Previous scores statistics\",Сampionate!A:A,FALSE)+A24+25,1)","v":"4-4"},{"$f":"INDEX(Сampionate!G:G,MATCH(\"Previous scores statistics\",Сampionate!A:A,FALSE)+A24+25,1)","v":"Atletico Paranaense"},"1.92","3.17","3.76","1.02","0.5","0.80","D","W","U",null,null,{"$f":"'a3'!L20","v":"Fortaleza"},{"$f":"'a3'!M20","v":"Atletico Paranaense"},{"$f":"'a3'!W20","v":"0 : 2"},{"$f":"'a3'!R20","v":"0 : 2"},{"$f":"'a3'!AB20","v":"4 : 4"}]
["7",{"$f":"INDEX(Сampionate!A:A,MATCH(\"Previous scores statistics\",Сampionate!A:A,FALSE)+A25+25,1)","v":"BRA CNF"},"6/14/2017",{"$f":"INDEX(Сampionate!C:C,MATCH(\"Previous scores statistics\",Сampionate!A:A,FALSE)+A25+25,1)","v":"Fortaleza(N)"},{"$f":"INDEX(Сampionate!D:D,MATCH(\"Previous scores statistics\",Сampionate!A:A,FALSE)+A25+25,1)","v":"0-1"},{"$f":"INDEX(Сampionate!E:E,MATCH(\"Previous scores statistics\",Сampionate!A:A,FALSE)+A25+25,1)","v":"0-1"},{"$f":"INDEX(Сampionate!F:F,MATCH(\"Previous scores statistics\",Сampionate!A:A,FALSE)+A25+25,1)","v":"7-5"},{"$f":"INDEX(Сampionate!G:G,MATCH(\"Previous scores statistics\",Сampionate!A:A,FALSE)+A25+25,1)","v":"Ceara"},"2.49","3.16","2.64","0.77","0/0.5","1.05","D","L","U",null,null,{"$f":"'a3'!L21","v":"Fortaleza"},{"$f":"'a3'!M21","v":"Ceara"},{"$f":"'a3'!W21","v":"0 : 1"},{"$f":"'a3'!R21","v":"0 : 1"},{"$f":"'a3'!AB21","v":"7 : 5"}]
["8",{"$f":"INDEX(Сampionate!A:A,MATCH(\"Previous scores statistics\",Сampionate!A:A,FALSE)+A26+25,1)","v":"BRA CNF"},"6/11/2017",{"$f":"INDEX(Сampionate!C:C,MATCH(\"Previous scores statistics\",Сampionate!A:A,FALSE)+A26+25,1)","v":"Fortaleza(N)"},{"$f":"INDEX(Сampionate!D:D,MATCH(\"Previous scores statistics\",Сampionate!A:A,FALSE)+A26+25,1)","v":"0-0"},{"$f":"INDEX(Сampionate!E:E,MATCH(\"Previous scores statistics\",Сampionate!A:A,FALSE)+A26+25,1)","v":"0-0"},{"$f":"INDEX(Сampionate!F:F,MATCH(\"Previous scores statistics\",Сampionate!A:A,FALSE)+A26+25,1)","v":"5-3"},{"$f":"INDEX(Сampionate!G:G,MATCH(\"Previous scores statistics\",Сampionate!A:A,FALSE)+A26+25,1)","v":"Sport Club Recife PE"},"1.94","3.28","3.54","0.90","0.5","0.92","D","W","O",null,null,{"$f":"'a3'!L22","v":"Fortaleza"},{"$f":"'a3'!M22","v":"Sport Club Recife PE"},{"$f":"'a3'!W22","v":"0 : 0"},{"$f":"'a3'!R22","v":"0 : 0"},{"$f":"'a3'!AB22","v":"5 : 3"}]
["9",{"$f":"INDEX(Сampionate!A:A,MATCH(\"Previous scores statistics\",Сampionate!A:A,FALSE)+A27+25,1)","v":"BRA CNF"},"6/4/2017",{"$f":"INDEX(Сampionate!C:C,MATCH(\"Previous scores statistics\",Сampionate!A:A,FALSE)+A27+25,1)","v":"Fortaleza(N)"},{"$f":"INDEX(Сampionate!D:D,MATCH(\"Previous scores statistics\",Сampionate!A:A,FALSE)+A27+25,1)","v":"3-1"},{"$f":"INDEX(Сampionate!E:E,MATCH(\"Previous scores statistics\",Сampionate!A:A,FALSE)+A27+25,1)","v":"0-1"},{"$f":"INDEX(Сampionate!F:F,MATCH(\"Previous scores statistics\",Сampionate!A:A,FALSE)+A27+25,1)","v":"5-5"},{"$f":"INDEX(Сampionate!G:G,MATCH(\"Previous scores statistics\",Сampionate!A:A,FALSE)+A27+25,1)","v":"America FC Natal RN"},"2.10","3.14","3.25","1.00","0/0.5","0.82","W","W","U",null,null,{"$f":"'a3'!L23","v":"Fortaleza"},{"$f":"'a3'!M23","v":"America FC Natal RN"},{"$f":"'a3'!W23","v":"0 : 1"},{"$f":"'a3'!R23","v":"3 : 1"},{"$f":"'a3'!AB23","v":"5 : 5"}]
["10",{"$f":"INDEX(Сampionate!A:A,MATCH(\"Previous scores statistics\",Сampionate!A:A,FALSE)+A28+25,1)","v":"BRA CE"},"5/26/2017",{"$f":"INDEX(Сampionate!C:C,MATCH(\"Previous scores statistics\",Сampionate!A:A,FALSE)+A28+25,1)","v":"Fortaleza"},{"$f":"INDEX(Сampionate!D:D,MATCH(\"Previous scores statistics\",Сampionate!A:A,FALSE)+A28+25,1)","v":"1-0"},{"$f":"INDEX(Сampionate!E:E,MATCH(\"Previous scores statistics\",Сampionate!A:A,FALSE)+A28+25,1)","v":"1-0"},{"$f":"INDEX(Сampionate!F:F,MATCH(\"Previous scores statistics\",Сampionate!A:A,FALSE)+A28+25,1)","v":"6-0"},{"$f":"INDEX(Сampionate!G:G,MATCH(\"Previous scores statistics\",Сampionate!A:A,FALSE)+A28+25,1)","v":"Guarany CE"},"1.46","3.95","6.06","0.92","1","0.90","L","L","O",null,null,{"$f":"'a3'!L24","v":"Fortaleza"},{"$f":"'a3'!M24","v":"Guarany CE"},{"$f":"'a3'!W24","v":"1 : 0"},{"$f":"'a3'!R24","v":"1 : 0"},{"$f":"'a3'!AB24","v":"6 : 0"}]
["11",{"$f":"INDEX(Сampionate!A:A,MATCH(\"Previous scores statistics\",Сampionate!A:A,FALSE)+A29+25,1)","v":"BRA CE"},"5/14/2017",{"$f":"INDEX(Сampionate!C:C,MATCH(\"Previous scores statistics\",Сampionate!A:A,FALSE)+A29+25,1)","v":"Ceara"},{"$f":"INDEX(Сampionate!D:D,MATCH(\"Previous scores statistics\",Сampionate!A:A,FALSE)+A29+25,1)","v":"1-2"},{"$f":"INDEX(Сampionate!E:E,MATCH(\"Previous scores statistics\",Сampionate!A:A,FALSE)+A29+25,1)","v":"0-1"},{"$f":"INDEX(Сampionate!F:F,MATCH(\"Previous scores statistics\",Сampionate!A:A,FALSE)+A29+25,1)","v":"2-7"},{"$f":"INDEX(Сampionate!G:G,MATCH(\"Previous scores statistics\",Сampionate!A:A,FALSE)+A29+25,1)","v":"Fortaleza"},"1.43","3.88","6.74","0.97","1/1.5","0.85","L","L","O",null,null,{"$f":"'a3'!L25","v":"Ceara"},{"$f":"'a3'!M25","v":"Fortaleza"},{"$f":"'a3'!W25","v":"0 : 1"},{"$f":"'a3'!R25","v":"1 : 2"},{"$f":"'a3'!AB25","v":"2 : 7"}]
["12",{"$f":"INDEX(Сampionate!A:A,MATCH(\"Previous scores statistics\",Сampionate!A:A,FALSE)+A30+25,1)","v":"BRA CE"},"5/12/2017",{"$f":"INDEX(Сampionate!C:C,MATCH(\"Previous scores statistics\",Сampionate!A:A,FALSE)+A30+25,1)","v":"Guarany CE"},{"$f":"INDEX(Сampionate!D:D,MATCH(\"Previous scores statistics\",Сampionate!A:A,FALSE)+A30+25,1)","v":"0-5"},{"$f":"INDEX(Сampionate!E:E,MATCH(\"Previous scores statistics\",Сampionate!A:A,FALSE)+A30+25,1)","v":"0-2"},{"$f":"INDEX(Сampionate!F:F,MATCH(\"Previous scores statistics\",Сampionate!A:A,FALSE)+A30+25,1)","v":0},{"$f":"INDEX(Сampionate!G:G,MATCH(\"Previous scores statistics\",Сampionate!A:A,FALSE)+A30+25,1)","v":"Fortaleza"},"1.39","4.12","8.16","0.98","1/1.5","0.90","L","L","O",null,null,{"$f":"'a3'!L26","v":"Guarany CE"},{"$f":"'a3'!M26","v":"Fortaleza"},{"$f":"'a3'!W26","v":"0 : 2"},{"$f":"'a3'!R26","v":"0 : 5"},{"$f":"'a3'!AB26","v":{"$error":"#VALUE!"}}]
["13",{"$f":"INDEX(Сampionate!A:A,MATCH(\"Previous scores statistics\",Сampionate!A:A,FALSE)+A31+25,1)","v":"BRA CNF"},"5/6/2017",{"$f":"INDEX(Сampionate!C:C,MATCH(\"Previous scores statistics\",Сampionate!A:A,FALSE)+A31+25,1)","v":"Nautico (PE)"},{"$f":"INDEX(Сampionate!D:D,MATCH(\"Previous scores statistics\",Сampionate!A:A,FALSE)+A31+25,1)","v":"0-3"},{"$f":"INDEX(Сampionate!E:E,MATCH(\"Previous scores statistics\",Сampionate!A:A,FALSE)+A31+25,1)","v":"0-1"},{"$f":"INDEX(Сampionate!F:F,MATCH(\"Previous scores statistics\",Сampionate!A:A,FALSE)+A31+25,1)","v":"9-2"},{"$f":"INDEX(Сampionate!G:G,MATCH(\"Previous scores statistics\",Сampionate!A:A,FALSE)+A31+25,1)","v":"Fortaleza"},"2.30","3.20","2.82","1.07","0/0.5","0.75","D","L","O",null,null,{"$f":"'a3'!L27","v":"Nautico (PE)"},{"$f":"'a3'!M27","v":"Fortaleza"},{"$f":"'a3'!W27","v":"0 : 1"},{"$f":"'a3'!R27","v":"0 : 3"},{"$f":"'a3'!AB27","v":"9 : 2"}]
["14",{"$f":"INDEX(Сampionate!A:A,MATCH(\"Previous scores statistics\",Сampionate!A:A,FALSE)+A32+25,1)","v":"BRA CE"},"5/4/2017",{"$f":"INDEX(Сampionate!C:C,MATCH(\"Previous scores statistics\",Сampionate!A:A,FALSE)+A32+25,1)","v":"Fortaleza"},{"$f":"INDEX(Сampionate!D:D,MATCH(\"Previous scores statistics\",Сampionate!A:A,FALSE)+A32+25,1)","v":"3-0"},{"$f":"INDEX(Сampionate!E:E,MATCH(\"Previous scores statistics\",Сampionate!A:A,FALSE)+A32+25,1)","v":"1-0"},{"$f":"INDEX(Сampionate!F:F,MATCH(\"Previous scores statistics\",Сampionate!A:A,FALSE)+A32+25,1)","v":"12-4"},{"$f":"INDEX(Сampionate!G:G,MATCH(\"Previous scores statistics\",Сampionate!A:A,FALSE)+A32+25,1)","v":"Pacajus"},"1.56","3.70","5.24","0.82","0.5/1","1.00","D","W","O",null,null,{"$f":"'a3'!L28","v":"Fortaleza"},{"$f":"'a3'!M28","v":"Pacajus"},{"$f":"'a3'!W28","v":"1 : 0"},{"$f":"'a3'!R28","v":"3 : 0"},{"$f":"'a3'!AB28","v":"12 : 4"}]
["15",{"$f":"INDEX(Сampionate!A:A,MATCH(\"Previous scores statistics\",Сampionate!A:A,FALSE)+A33+25,1)","v":"BRA CNF"},"4/30/2017",{"$f":"INDEX(Сampionate!C:C,MATCH(\"Previous scores statistics\",Сampionate!A:A,FALSE)+A33+25,1)","v":"Fortaleza"},{"$f":"INDEX(Сampionate!D:D,MATCH(\"Previous scores statistics\",Сampionate!A:A,FALSE)+A33+25,1)","v":"1-0"},{"$f":"INDEX(Сampionate!E:E,MATCH(\"Previous scores statistics\",Сampionate!A:A,FALSE)+A33+25,1)","v":"1-0"},{"$f":"INDEX(Сampionate!F:F,MATCH(\"Previous scores statistics\",Сampionate!A:A,FALSE)+A33+25,1)","v":"4-7"},{"$f":"INDEX(Сampionate!G:G,MATCH(\"Previous scores statistics\",Сampionate!A:A,FALSE)+A33+25,1)","v":"Centro Sportivo Alagoano"},"2.05","3.26","3.22","1.02","0.5","0.80","D","L","U",null,null,{"$f":"'a3'!L29","v":"Fortaleza"},{"$f":"'a3'!M29","v":"Centro Sportivo Alagoano"},{"$f":"'a3'!W29","v":"1 : 0"},{"$f":"'a3'!R29","v":"1 : 0"},{"$f":"'a3'!AB29","v":"4 : 7"}]

{"sheet":"Сampionate","index":5,"n_rows":211,"n_cols":24,"rows_kept":211,"cut":false,"hidden":true,"merged":[]}
[null,"[Brazil Serie A]"]
[]
[null,"Sao Paulo  VS  Fortaleza"]
[]
[null,"Match Time： "]
[null,"Weather: Partly sunny,  23℃～24℃,    [Data Feedback]"]
[]
[]
["Match Prediction"]
[]
[]
["1x2 Odds Analysis","Fortaleza has swallowed 2 consecutive losses after last times defeat and during these losses they gained no goals. Further more, they were defeated in all 2 games against Sao Paulo last year. Fortaleza possibly loss one more time."]
[]
["Handicap Odds Analysis","Sao Paulo keeps apparent ahead in the squad and recent state, therefore the bookies offered Sao Paulo -1.25 in high return, providing much for the home team and then changed into -1 in low return. In case that the away team Fortaleza scored no goals in 3 league games, we prefer Sao Paulo more."]
[]
[]
["Team Standings"]
[]
["[BRA D1-14]  Sao Paulo",null,null,null,null,null,null,null,null,null,"[BRA D1-18] Fortaleza"]
["FT","Matches","Win","Draw","Loss","Get","Miss","Pts","Rank",null,"FT","Matches","Win","Draw","Loss","Get","Miss","Pts","Rank"]
["Total",0,0,0,0,0,0,0,14,null,"Total",1,0,0,1,0,2,0,18]
["Home",0,0,0,0,0,0,0,13,null,"Home",1,0,0,1,0,2,0,20]
["Away",0,0,0,0,0,0,0,13,null,"Away",0,0,0,0,0,0,0,12]
["Last 6",6,0,0,0,0,0,0,null,null,"Last 6",6,0,0,1,0,2,0]
["HT","Matches","Win","Draw","Loss","Get","Miss","Pts","Rank",null,"HT","Matches","Win","Draw","Loss","Get","Miss","Pts","Rank"]
["Total",0,0,0,0,0,0,0,16,null,"Total",1,0,0,1,0,2,0,19]
["Home",0,0,0,0,0,0,0,14,null,"Home",1,0,0,1,0,2,0,19]
["Away",0,0,0,0,0,0,0,12,null,"Away",0,0,0,0,0,0,0,11]
["Last 6",6,0,0,0,0,0,0,null,null,"Last 6",6,0,0,1,0,2,0]
[]
["Home Team Ability"]
["Scoring：",null,"0.00Pts"]
["Offensive：",null,"0.00Pts"]
["Defensive：",null,"0.00Pts"]
["Home Team at Home"]
["Scoring：",null,"0.00Pts"]
["Offensive：",null,"0.00Pts"]
["Defensive：",null,"0.00Pts"]
[]
["Away Team Ability"]
["Scoring：",null,"0.00Pts"]
["Offensive：",null,"0.00Pts"]
["Defensive：",null,"2.00Pts"]
["Away Team at Away"]
["Scoring：",null,"0.00Pts"]
["Offensive：",null,"0.00Pts"]
["Defensive：",null,"0.00Pts"]
[]
["Cup Standings"]
[]
[]
[]
["Head to Head Statistics"]
[]
["  H-A Same  BRA D1"]
["League/Cup","Date","Home","Score","H T","Corner","Away",null,null,null,null,null,null,"W/L","Odds","O/U"]
[null,null,null,null,null,null,null,"HW","D","AW","H","Odds","A"]
["BRA D1",null,"Sao Paulo","2-1","1-1","9-3","Fortaleza",null,null,null,null,null,null,"W"]
["BRA D1",null,"Fortaleza","0-1","0-0","6-4","Sao Paulo",null,null,null,null,null,null,"W"]
["BRA D1",null,"Sao Paulo","1-1","0-0",null,"Fortaleza",null,null,null,null,null,null,"D"]
["BRA D1",null,"Fortaleza","1-0","1-0",null,"Sao Paulo",null,null,null,null,null,null,"L"]
["BRA D1",null,"Fortaleza","1-0","0-0",null,"Sao Paulo",null,null,null,null,null,null,"L"]
["BRA D1",null,"Sao Paulo","3-2","1-2",null,"Fortaleza",null,null,null,null,null,null,"W"]
[]
[]
["Previous Scores Statistics"]
[]
["Sao Paulo   "]
["  H-A Same  BRA SP   CON CLA   BRA D1"]
["League","Date","Home","Score","H T","Corner","Away",null,null,null,null,null,null,"W/L","Odds","O/U"]
[null,null,null,null,null,null,null,"HW","D","AW","H","Odds","A"]
["BRA SP",null,"Sao Paulo","2-3","2-2","11-1","Mirassol",null,null,null,null,null,null,"L"]
["BRA SP",null,"Guarani SP(N)","1-3","1-1","6-6","Sao Paulo",null,null,null,null,null,null,"W"]
["BRA SP",null,"Sao Paulo","2-3","2-2","5-3","Bragantino",null,null,null,null,null,null,"L"]
["BRA SP",null,"Sao Paulo","2-1","0-1","8-1","Santos1",null,null,null,null,null,null,"W"]
["CON CLA",null,"Sao Paulo","3-0","2-0","5-3","Liga Dep. Universitaria Quito1",null,null,null,null,null,null,"W"]
["BRA SP",null,"Botafogo SP","1-0","0-0","7-3","Sao Paulo",null,null,null,null,null,null,"L"]
["CON CLA",null,"EM Deportivo Binacional","2-1","0-1","5-6","Sao Paulo",null,null,null,null,null,null,"L"]
["BRA SP",null,"Sao Paulo","2-1","2-0","7-6","Ponte Preta1",null,null,null,null,null,null,"W"]
["BRA SP",null,"Oeste","0-4","0-1","5-4","Sao Paulo",null,null,null,null,null,null,"W"]
["BRA SP",null,"Sao Paulo","0-0","0-0","5-3","Corinthians Paulista (SP)",null,null,null,null,null,null,"D"]
["BRA SP",null,"Santo Andre","2-1","2-0","3-11","Sao Paulo",null,null,null,null,null,null,"L"]
["BRA SP",null,"Sao Paulo","1-1","0-0","15-5","Gremio Novorizontin",null,null,null,null,null,null,"D"]
["BRA SP",null,"Ferroviaria SP","1-2","1-1","2-9","Sao Paulo",null,null,null,null,null,null,"W"]
["BRA SP",null,"Palmeiras(N)","0-0","0-0","7-4","Sao Paulo",null,null,null,null,null,null,"D"]
["BRA SP",null,"Sao Paulo","2-0","2-0","6-1","Ah so Santa SP",null,null,null,null,null,null,"W"]
["BRA D1",null,"Centro Sportivo Alagoano","1-2","1-2","6-4","Sao Paulo1",null,null,null,null,null,null,"W"]
["BRA D1",null,"Sao Paulo","2-1","1-0","8-2","Internacional RS",null,null,null,null,null,null,"W"]
["BRA D1",null,"Gremio (RS)","3-0","0-0","1-5","Sao Paulo",null,null,null,null,null,null,"L"]
["BRA D1",null,"Sao Paulo","1-0","1-0","5-5","Vasco da Gama",null,null,null,null,null,null,"W"]
["BRA D1",null,"Ceara","1-1","0-1","13-5","Sao Paulo",null,null,null,null,null,null,"D"]
["Last 20 matches, Win rate：50.0% Odds win rate：0.0% Over 2.5 rate：0.0% Odd rate：65.0%"]
["Fortaleza   "]
["  H-A Same  BRA D1   BRA CNF   BRA CE   CON CSA"]
["League","Date","Home","Score","H T","Corner","Away",null,null,null,null,null,null,"W/L","Odds","O/U"]
[null,null,null,null,null,null,null,"HW","D","AW","H","Odds","A"]
["BRA D1",null,"1Fortaleza","0-2","0-2","4-4","Atletico Paranaense",null,null,null,null,null,null,"L"]
["BRA CNF",null,"Fortaleza(N)","0-1","0-1","7-5","Ceara",null,null,null,null,null,null,"L"]
["BRA CNF",null,"Fortaleza(N)","0-0","0-0","5-3","Sport Club Recife PE",null,null,null,null,null,null,"D"]
["BRA CNF",null,"Fortaleza(N)","3-1","0-1","5-5","America FC Natal RN",null,null,null,null,null,null,"W"]
["BRA CE",null,"Fortaleza","1-0","1-0","6-0","Guarany CE",null,null,null,null,null,null,"W"]
["BRA CE",null,"Ceara","1-2","0-1","2-7","Fortaleza",null,null,null,null,null,null,"W"]
["BRA CE",null,"Guarany CE","0-5","0-2",null,"Fortaleza",null,null,null,null,null,null,"W"]
["BRA CNF",null,"Nautico (PE)","0-3","0-1","9-2","Fortaleza",null,null,null,null,null,null,"W"]
["BRA CE",null,"Fortaleza","3-0","1-0","12-4","Pacajus",null,null,null,null,null,null,"W"]
["BRA CNF",null,"Fortaleza","1-0","1-0","4-7","Centro Sportivo Alagoano",null,null,null,null,null,null,"W"]
["BRA CE",null,"Ferroviario CE","1-0","1-0","1-11","Fortaleza",null,null,null,null,null,null,"L"]
["BRA CE",null,"Fortaleza","4-2","2-1",null,"Barbalha",null,null,null,null,null,null,"W"]
["CON CSA",null,"Fortaleza","2-1","1-0","6-3","Independiente",null,null,null,null,null,null,"W"]
["BRA CNF",null,"Confianca SE","2-0","0-0","5-4","Fortaleza",null,null,null,null,null,null,"L"]
["BRA CNF",null,"Imperatriz(MA)","1-2","0-0","5-12","Fortaleza",null,null,null,null,null,null,"W"]
["CON CSA",null,"1Independiente","1-0","0-0","5-4","Fortaleza1",null,null,null,null,null,null,"L"]
["BRA CNF",null,"Fortaleza","3-0","2-0","12-1","Santa Cruz PE",null,null,null,null,null,null,"W"]
["BRA CE",null,"Fortaleza","5-0","1-0","8-2","Uniclinic Atletico Cearense CE",null,null,null,null,null,null,"W"]
["BRA CNF",null,"1Fortaleza","1-1","0-1","7-1","Ceara",null,null,null,null,null,null,"D"]
["BRA CE",null,"Caucaia CE(N)","0-1","0-0","2-10","Fortaleza",null,null,null,null,null,null,"W"]
["Last 20 matches, Win rate：65.0% Odds win rate：0.0% Over 2.5 rate：0.0% Odd rate：70.0%"]
[]
["Data Comparison   Last"]
["matches"]
[]
["Team","Get","Miss","Diff","Avg Get","W%","D%","L%","H/A","Get","Miss","Diff","Avg Get","W%","D%","L%"]
["Sao Paulo",null,null,null,null,null,null,null,"Home"]
["Fortaleza",null,null,null,null,null,null,null,"Away"]
[]
["Handicap Odds Statistics"]
[]
["Sao Paulo",null,null,null,null,null,null,null,null,null,null,null,"Fortaleza"]
["FT",null,"Handicap",null,null,null,null,"Over/Under",null,null,null,null,"FT",null,"Handicap",null,null,null,null,"Over/Under"]
[null,"Match","W","V","L","Odds%","Details","O","O%","U","U%","Details",null,"Match","W","V","L","Odds%","Details","O","O%","U","U%","Details"]
["Total",null,null,null,null,null,null,null,null,null,null,null,"Total",1,0,0,1,0,"View",0,0,1,1,"View"]
["Home",null,null,null,null,null,null,null,null,null,null,null,"Home",1,0,0,1,0,"View",0,0,1,1,"View"]
["Away",null,null,null,null,null,null,null,null,null,null,null,"Away"]
["Last 6",0,null,null,null,null,"View",null,null,null,null,"View","Last 6",1,"L ",null,null,0,"View","U ",null,null,null,"View"]
["Sao Paulo",null,null,null,null,null,null,null,null,null,null,null,"Fortaleza"]
["HT",null,"Handicap",null,null,null,null,"Over/Under",null,null,null,null,"HT",null,"Handicap",null,null,null,null,"Over/Under"]
[null,"Match","W","V","L","Odds%","Details","O","O%","U","U%","Details",null,"Match","W","V","L","Odds%","Details","O","O%","U","U%","Details"]
["Total",null,null,null,null,null,null,null,null,null,null,null,"Total",1,0,0,1,0,"View",1,1,0,0,"View"]
["Home",null,null,null,null,null,null,null,null,null,null,null,"Home",1,0,0,1,0,"View",1,1,0,0,"View"]
["Away",null,null,null,null,null,null,null,null,null,null,null,"Away"]
["Last 6",0,null,null,null,null,"View",null,null,null,null,"View","Last 6",1,"L ",null,null,0,"View","O ",null,null,null,"View"]
[]
["Same Historical Asian Handicap Odds"]
[]
["Sao Paulo",null,null,null,null,null,null,"Fortaleza"]
["Match","Time","Give Handicap",null,"Receive Handicap","Score","Odds","Match","Time","Give Handicap",null,"Receive Handicap","Score","Odds"]
["BRA","30/07/2020","Sao Paulo","1/1.5","Mirassol","2-3","L","BRA","02/06/2019","Flamengo","1/1.5","Fortaleza","2-0","L"]
["CON","12/03/2020","Sao Paulo","1/1.5","Liga Dep. Universitaria Quito","3-0","W","BRA","29/04/2019","Palmeiras","1/1.5","Fortaleza","4-0","L"]
["BRA","23/02/2020","Oeste",{"$f":"-1/-1.5","v":0.66666666666666663},"Sao Paulo","0-4","W","BRA","29/07/2009","Vasco da Gama","1/1.5","Fortaleza","2-1","W"]
["BRA","04/02/2020","Sao Paulo","1/1.5","Gremio Novorizontin","1-1","L","BRA","30/04/2009","Flamengo","1/1.5","Fortaleza","0-0","W"]
["BRA","21/10/2019","Sao Paulo","1/1.5","Avai FC SC","1-0","L","BRA","23/11/2008","Bragantino","1/1.5","Fortaleza","0-1","W"]
["Sao Paulo",null,null,null,null,null,null,"Fortaleza"]
["Match","Time",null,"First Odds",null,"Score",null,"Match","Time",null,"First Odds",null,"Score"]
["BRA","24/07/2020","Sao Paulo","2/2.5","Bragantino","2-3","W","BRA","16/07/2020","Ceara","2/2.5","Fortaleza","1-2","W"]
["CON","12/03/2020","Sao Paulo","2/2.5","Liga Dep. Universitaria Quito","3-0","W","BRA","15/03/2020","Nautico (PE)","2/2.5","Fortaleza","0-3","W"]
["BRA","08/11/2019","Sao Paulo","2/2.5","Fluminense RJ","0-2",null,"BRA","05/03/2020","Ferroviario CE","2/2.5","Fortaleza","1-0"]
["BRA","21/10/2019","Sao Paulo","2/2.5","Avai FC SC","1-0",null,"BRA","23/02/2020","Confianca SE","2/2.5","Fortaleza","2-0"]
["BRA","26/09/2019","Sao Paulo","2/2.5","Goias","0-1",null,"BRA","18/02/2020","Imperatriz(MA)","2/2.5","Fortaleza","1-2","W"]
[]
["Goals in 1st / 2nd Half"]
[]
[null,0,1,2,3,"4+","1st Half","2nd Half",null,0,1,2,3,"4+","1st Half","2nd Half"]
["Total","-","-","-","-","-","-","-","Total",1,0,0,0,0,0,0]
["Home","-","-","-","-","-","-","-","Home",1,0,0,0,0,0,0]
["Away","-","-","-","-","-","-","-","Away",0,0,0,0,0,0,0]
[]
["Half Time / Full Time"]
[]
["HT","Win","Win","Win","Draw","Draw","Draw","Loss","Loss","Loss","HT","Win","Win","Win","Draw","Draw","Draw","Loss","Loss","Loss"]
["FT","Win","Draw","Loss","Win","Draw","Loss","Win","Draw","Loss","FT","Win","Draw","Loss","Win","Draw","Loss","Win","Draw","Loss"]
["Total","-","-","-","-","-","-","-","-","-","Total",0,0,0,0,0,0,0,0,1]
["Home","-","-","-","-","-","-","-","-","-","Home",0,0,0,0,0,0,0,0,1]
["Away","-","-","-","-","-","-","-","-","-","Away",0,0,0,0,0,0,0,0,0]
[]
["Over / Under | Odd / Even"]
[]
[null,"Over","Under","Void","Odd","Even",null,"Over","Under","Void","Odd","Even"]
["Total","-","-","-","-","-","Total","0(0.0%)","1(100.0%)","0(0.0%)","0(0.0%)","1(100.0%)"]
["Home","-","-","-","-","-","Home","0(0.0%)","1(100.0%)","0(0.0%)","0(0.0%)","1(100.0%)"]
["Away","-","-","-","-","-","Away","0(0.0%)","0(0.0%)","0(0.0%)","0(0.0%)","0(0.0%)"]
[]
["Time of Scored"]
[]
[null,"1-10","11-20","21-30","31-40","41-45","46-50","51-60","61-70","71-80","81-90+",null,"1-10","11-20","21-30","31-40","41-45","46-50","51-60","61-70","71-80","81-90+"]
["Total",0,0,0,0,0,0,0,0,0,0,"Total",0,0,0,0,0,0,0,0,0,0]
["Home",0,0,0,0,0,0,0,0,0,0,"Home",0,0,0,0,0,0,0,0,0,0]
["Away",0,0,0,0,0,0,0,0,0,0,"Away",0,0,0,0,0,0,0,0,0,0]
["Time Statistics of the 1st Goal",null,null,null,null,null,null,null,null,null,null,"Time Statistics of the 1st Goal"]
["Total",0,0,0,0,0,0,0,0,0,0,"Total",0,0,0,0,0,0,0,0,0,0]
["Home",0,0,0,0,0,0,0,0,0,0,"Home",0,0,0,0,0,0,0,0,0,0]
["Away",0,0,0,0,0,0,0,0,0,0,"Away",0,0,0,0,0,0,0,0,0,0]
[]
["Fixture (3 Matches)"]
[]
["Sao Paulo",null,null,null,null,"Fortaleza"]
["League/Cup","Date","Type","VS","Near","League/Cup","Date","Type","VS","Near"]
["BRA D1",null,"H","Fortaleza","0 Days","BRA D1",null,"A","Sao Paulo","0 Days"]
["BRA D1",null,"A","Vasco da Gama","3 Days","BRA D1",null,"H","Botafogo RJ","3 Days"]
["BRA D1",null,"H","Bahia","7 Days","BRA D1",null,"A","Goias","6 Days"]
[]
["Lineups"]
[]
["Sao Paulo",null,"Fortaleza"]
["suspension","No Data","suspension","   3  (CB)Juan Sebastian Quintero Fletcher"]
["injury","     (CB)Walce","injury","No Data"]
[null,"   15 (AM)Anderson Hernanes Andrade Lima"]
[null,"   18 (LW)Jonas Gabriel Da Silva Nunes"]
[null,"   42 (MC)Gabriel Davi Gomes Sara"]
["Lineup in previous match",null,"Lineup in previous match"]
["No Data",null,"No Data"]
["CB=Centre Back,AM=Attacking Midfield,LW=Left Wing,MC=Midfielder"]

{"sheet":"a3","index":6,"n_rows":34,"n_cols":28,"rows_kept":34,"cut":false,"hidden":true,"merged":[]}
[]
[]
[null,{"$f":"Analysis!D12","v":"Sao Paulo"},{"$f":"Analysis!H12","v":"Mirassol"},{"$f":"IF(ISERROR(FIND(\"1\",B3,1)),B3,RIGHT(B3, LEN(B3)-1))","v":"Sao Paulo"},{"$f":"IF(ISERROR(FIND(\"1\",C3,1)),C3,LEFT(C3, LEN(C3)-1))","v":"Mirassol"},{"$f":"IF(ISERROR(FIND(\"2\",D3,1)),D3,RIGHT(D3, LEN(D3)-1))","v":"Sao Paulo"},{"$f":"IF(ISERROR(FIND(\"2\",E3,1)),E3,LEFT(E3, LEN(E3)-1))","v":"Mirassol"},{"$f":"IF(ISERROR(FIND(\"3\",F3,1)),F3,RIGHT(F3, LEN(F3)-1))","v":"Sao Paulo"},{"$f":"IF(ISERROR(FIND(\"3\",G3,1)),G3,LEFT(G3, LEN(G3)-1))","v":"Mirassol"},{"$f":"IF(ISERROR(FIND(\"(N)\",H3,1)),H3,LEFT(H3, LEN(H3)-3))","v":"Sao Paulo"},{"$f":"IF(ISERROR(FIND(\"(N)\",I3,1)),I3,LEFT(I3, LEN(I3)-3))","v":"Mirassol"},{"$f":"IF(ISERROR(FIND(\"(ECU)\",J3,1)),J3,LEFT(J3, LEN(J3)-5))","v":"Sao Paulo"},{"$f":"IF(ISERROR(FIND(\"(ECU)\",K3,1)),K3,LEFT(K3, LEN(K3)-5))","v":"Mirassol"},{"$f":"Analysis!E12","v":"2-3"},{"$f":"SEARCH(\"-\",N3)","v":2},{"$f":"LEFT(N3,O3-1)*1","v":2},{"$f":"MID(N3,O3+1,4)*1","v":3},{"$f":"CONCATENATE(P3, \" : \", Q3)","v":"2 : 3"},{"$f":"Analysis!F12","v":"2-2"},{"$f":"SEARCH(\"-\",S3)","v":2},{"$f":"LEFT(S3,T3-1)*1","v":2},{"$f":"MID(S3,T3+1,4)*1","v":2},{"$f":"CONCATENATE(U3, \" : \", V3)","v":"2 : 2"},{"$f":"Analysis!G12","v":"11-1"},{"$f":"SEARCH(\"-\",X3)","v":3},{"$f":"LEFT(X3,Y3-1)*1","v":11},{"$f":"MID(X3,Y3+1,4)*1","v":1},{"$f":"CONCATENATE(Z3, \" : \", AA3)","v":"11 : 1"}]
[null,{"$f":"Analysis!D13","v":"Guarani SP(N)"},{"$f":"Analysis!H13","v":"Sao Paulo"},"Guarani SP(N)","Sao Paulo","Guarani SP(N)","Sao Paulo","Guarani SP(N)","Sao Paulo","Guarani SP","Sao Paulo","Guarani SP","Sao Paulo",{"$f":"Analysis!E13","v":"1-3"},2,1,3,"1 : 3",{"$f":"Analysis!F13","v":"1-1"},2,1,1,"1 : 1",{"$f":"Analysis!G13","v":"6-6"},2,6,6,"6 : 6"]
[null,{"$f":"Analysis!D14","v":"Sao Paulo"},{"$f":"Analysis!H14","v":"Bragantino"},"Sao Paulo","Bragantino","Sao Paulo","Bragantino","Sao Paulo","Bragantino","Sao Paulo","Bragantino","Sao Paulo","Bragantino",{"$f":"Analysis!E14","v":"2-3"},2,2,3,"2 : 3",{"$f":"Analysis!F14","v":"2-2"},2,2,2,"2 : 2",{"$f":"Analysis!G14","v":"5-3"},2,5,3,"5 : 3"]
[null,{"$f":"Analysis!D15","v":"Sao Paulo"},{"$f":"Analysis!H15","v":"Santos1"},"Sao Paulo","Santos","Sao Paulo","Santos","Sao Paulo","Santos","Sao Paulo","Santos","Sao Paulo","Santos",{"$f":"Analysis!E15","v":"2-1"},2,2,1,"2 : 1",{"$f":"Analysis!F15","v":"0-1"},2,0,1,"0 : 1",{"$f":"Analysis!G15","v":"8-1"},2,8,1,"8 : 1"]
[null,{"$f":"Analysis!D16","v":"Sao Paulo"},{"$f":"Analysis!H16","v":"Liga Dep. Universitaria Quito1"},"Sao Paulo","Liga Dep. Universitaria Quito","Sao Paulo","Liga Dep. Universitaria Quito","Sao Paulo","Liga Dep. Universitaria Quito","Sao Paulo","Liga Dep. Universitaria Quito","Sao Paulo","Liga Dep. Universitaria Quito",{"$f":"Analysis!E16","v":"3-0"},2,3,0,"3 : 0",{"$f":"Analysis!F16","v":"2-0"},2,2,0,"2 : 0",{"$f":"Analysis!G16","v":"5-3"},2,5,3,"5 : 3"]
[null,{"$f":"Analysis!D17","v":"Botafogo SP"},{"$f":"Analysis!H17","v":"Sao Paulo"},"Botafogo SP","Sao Paulo","Botafogo SP","Sao Paulo","Botafogo SP","Sao Paulo","Botafogo SP","Sao Paulo","Botafogo SP","Sao Paulo",{"$f":"Analysis!E17","v":"1-0"},2,1,0,"1 : 0",{"$f":"Analysis!F17","v":"0-0"},2,0,0,"0 : 0",{"$f":"Analysis!G17","v":"7-3"},2,7,3,"7 : 3"]
[null,{"$f":"Analysis!D18","v":"EM Deportivo Binacional"},{"$f":"Analysis!H18","v":"Sao Paulo"},"EM Deportivo Binacional","Sao Paulo","EM Deportivo Binacional","Sao Paulo","EM Deportivo Binacional","Sao Paulo","EM Deportivo Binacional","Sao Paulo","EM Deportivo Binacional","Sao Paulo",{"$f":"Analysis!E18","v":"2-1"},2,2,1,"2 : 1",{"$f":"Analysis!F18","v":"0-1"},2,0,1,"0 : 1",{"$f":"Analysis!G18","v":"5-6"},2,5,6,"5 : 6"]
[null,{"$f":"Analysis!D19","v":"Sao Paulo"},{"$f":"Analysis!H19","v":"Ponte Preta1"},"Sao Paulo","Ponte Preta","Sao Paulo","Ponte Preta","Sao Paulo","Ponte Preta","Sao Paulo","Ponte Preta","Sao Paulo","Ponte Preta",{"$f":"Analysis!E19","v":"2-1"},2,2,1,"2 : 1",{"$f":"Analysis!F19","v":"2-0"},2,2,0,"2 : 0",{"$f":"Analysis!G19","v":"7-6"},2,7,6,"7 : 6"]
[null,{"$f":"Analysis!D20","v":"Oeste"},{"$f":"Analysis!H20","v":"Sao Paulo"},"Oeste","Sao Paulo","Oeste","Sao Paulo","Oeste","Sao Paulo","Oeste","Sao Paulo","Oeste","Sao Paulo",{"$f":"Analysis!E20","v":"0-4"},2,0,4,"0 : 4",{"$f":"Analysis!F20","v":"0-1"},2,0,1,"0 : 1",{"$f":"Analysis!G20","v":"5-4"},2,5,4,"5 : 4"]
[null,{"$f":"Analysis!D21","v":"Sao Paulo"},{"$f":"Analysis!H21","v":"Corinthians Paulista (SP)"},"Sao Paulo","Corinthians Paulista (SP)","Sao Paulo","Corinthians Paulista (SP)","Sao Paulo","Corinthians Paulista (SP)","Sao Paulo","Corinthians Paulista (SP)","Sao Paulo","Corinthians Paulista (SP)",{"$f":"Analysis!E21","v":"0-0"},2,0,0,"0 : 0",{"$f":"Analysis!F21","v":"0-0"},2,0,0,"0 : 0",{"$f":"Analysis!G21","v":"5-3"},2,5,3,"5 : 3"]
[null,{"$f":"Analysis!#REF!","v":{"$error":"#REF!"}},{"$f":"Analysis!#REF!","v":{"$error":"#REF!"}},{"$error":"#REF!"},{"$error":"#REF!"},{"$error":"#REF!"},{"$error":"#REF!"},{"$error":"#REF!"},{"$error":"#REF!"},{"$error":"#REF!"},{"$error":"#REF!"},{"$error":"#REF!"},{"$error":"#REF!"},{"$f":"Analysis!#REF!","v":{"$error":"#REF!"}},{"$error":"#REF!"},{"$error":"#REF!"},{"$error":"#REF!"},{"$error":"#REF!"},{"$f":"Analysis!#REF!","v":{"$error":"#REF!"}},{"$error":"#REF!"},{"$error":"#REF!"},{"$error":"#REF!"},{"$error":"#REF!"},{"$f":"Analysis!#REF!","v":{"$error":"#REF!"}},{"$error":"#REF!"},{"$error":"#REF!"},{"$error":"#REF!"},{"$error":"#REF!"}]
[null,{"$f":"Analysis!#REF!","v":{"$error":"#REF!"}},{"$f":"Analysis!#REF!","v":{"$error":"#REF!"}},{"$error":"#REF!"},{"$error":"#REF!"},{"$error":"#REF!"},{"$error":"#REF!"},{"$error":"#REF!"},{"$error":"#REF!"},{"$error":"#REF!"},{"$error":"#REF!"},{"$error":"#REF!"},{"$error":"#REF!"},{"$f":"Analysis!#REF!","v":{"$error":"#REF!"}},{"$error":"#REF!"},{"$error":"#REF!"},{"$error":"#REF!"},{"$error":"#REF!"},{"$f":"Analysis!#REF!","v":{"$error":"#REF!"}},{"$error":"#REF!"},{"$error":"#REF!"},{"$error":"#REF!"},{"$error":"#REF!"},{"$f":"Analysis!#REF!","v":{"$error":"#REF!"}},{"$error":"#REF!"},{"$error":"#REF!"},{"$error":"#REF!"},{"$error":"#REF!"}]
[null,{"$f":"Analysis!#REF!","v":{"$error":"#REF!"}},{"$f":"Analysis!#REF!","v":{"$error":"#REF!"}},{"$error":"#REF!"},{"$error":"#REF!"},{"$error":"#REF!"},{"$error":"#REF!"},{"$error":"#REF!"},{"$error":"#REF!"},{"$error":"#REF!"},{"$error":"#REF!"},{"$error":"#REF!"},{"$error":"#REF!"},{"$f":"Analysis!#REF!","v":{"$error":"#REF!"}},{"$error":"#REF!"},{"$error":"#REF!"},{"$error":"#REF!"},{"$error":"#REF!"},{"$f":"Analysis!#REF!","v":{"$error":"#REF!"}},{"$error":"#REF!"},{"$error":"#REF!"},{"$error":"#REF!"},{"$error":"#REF!"},{"$f":"Analysis!#REF!","v":{"$error":"#REF!"}},{"$error":"#REF!"},{"$error":"#REF!"},{"$error":"#REF!"},{"$error":"#REF!"}]
[null,{"$f":"Analysis!#REF!","v":{"$error":"#REF!"}},{"$f":"Analysis!#REF!","v":{"$error":"#REF!"}},{"$error":"#REF!"},{"$error":"#REF!"},{"$error":"#REF!"},{"$error":"#REF!"},{"$error":"#REF!"},{"$error":"#REF!"},{"$error":"#REF!"},{"$error":"#REF!"},{"$error":"#REF!"},{"$error":"#REF!"},{"$f":"Analysis!#REF!","v":{"$error":"#REF!"}},{"$error":"#REF!"},{"$error":"#REF!"},{"$error":"#REF!"},{"$error":"#REF!"},{"$f":"Analysis!#REF!","v":{"$error":"#REF!"}},{"$error":"#REF!"},{"$error":"#REF!"},{"$error":"#REF!"},{"$error":"#REF!"},{"$f":"Analysis!#REF!","v":{"$error":"#REF!"}},{"$error":"#REF!"},{"$error":"#REF!"},{"$error":"#REF!"},{"$error":"#REF!"}]
[null,{"$f":"Analysis!#REF!","v":{"$error":"#REF!"}},{"$f":"Analysis!#REF!","v":{"$error":"#REF!"}},{"$error":"#REF!"},{"$error":"#REF!"},{"$error":"#REF!"},{"$error":"#REF!"},{"$error":"#REF!"},{"$error":"#REF!"},{"$error":"#REF!"},{"$error":"#REF!"},{"$error":"#REF!"},{"$error":"#REF!"},{"$f":"Analysis!#REF!","v":{"$error":"#REF!"}},{"$error":"#REF!"},{"$error":"#REF!"},{"$error":"#REF!"},{"$error":"#REF!"},{"$f":"Analysis!#REF!","v":{"$error":"#REF!"}},{"$error":"#REF!"},{"$error":"#REF!"},{"$error":"#REF!"},{"$error":"#REF!"},{"$f":"Analysis!#REF!","v":{"$error":"#REF!"}},{"$error":"#REF!"},{"$error":"#REF!"},{"$error":"#REF!"},{"$error":"#REF!"}]
[]
[]
[null,{"$f":"Analysis!D24","v":"1Fortaleza"},{"$f":"Analysis!H24","v":"Atletico Paranaense"},{"$f":"IF(ISERROR(FIND(\"1\",B20,1)),B20,RIGHT(B20, LEN(B20)-1))","v":"Fortaleza"},{"$f":"IF(ISERROR(FIND(\"1\",C20,1)),C20,LEFT(C20, LEN(C20)-1))","v":"Atletico Paranaense"},{"$f":"IF(ISERROR(FIND(\"2\",D20,1)),D20,RIGHT(D20, LEN(D20)-1))","v":"Fortaleza"},{"$f":"IF(ISERROR(FIND(\"2\",E20,1)),E20,LEFT(E20, LEN(E20)-1))","v":"Atletico Paranaense"},{"$f":"IF(ISERROR(FIND(\"3\",F20,1)),F20,RIGHT(F20, LEN(F20)-1))","v":"Fortaleza"},{"$f":"IF(ISERROR(FIND(\"3\",G20,1)),G20,LEFT(G20, LEN(G20)-1))","v":"Atletico Paranaense"},{"$f":"IF(ISERROR(FIND(\"(N)\",H20,1)),H20,LEFT(H20, LEN(H20)-3))","v":"Fortaleza"},{"$f":"IF(ISERROR(FIND(\"(N)\",I20,1)),I20,LEFT(I20, LEN(I20)-3))","v":"Atletico Paranaense"},{"$f":"IF(ISERROR(FIND(\"(ECU)\",J20,1)),J20,LEFT(J20, LEN(J20)-5))","v":"Fortaleza"},{"$f":"IF(ISERROR(FIND(\"(ECU)\",K20,1)),K20,LEFT(K20, LEN(K20)-5))","v":"Atletico Paranaense"},{"$f":"Analysis!E24","v":"0-2"},{"$f":"SEARCH(\"-\",N20)","v":2},{"$f":"LEFT(N20,O20-1)*1","v":0},{"$f":"MID(N20,O20+1,4)*1","v":2},{"$f":"CONCATENATE(P20, \" : \", Q20)","v":"0 : 2"},{"$f":"Analysis!F24","v":"0-2"},{"$f":"SEARCH(\"-\",S20)","v":2},{"$f":"LEFT(S20,T20-1)*1","v":0},{"$f":"MID(S20,T20+1,4)*1","v":2},{"$f":"CONCATENATE(U20, \" : \", V20)","v":"0 : 2"},{"$f":"Analysis!G24","v":"4-4"},{"$f":"SEARCH(\"-\",X20)","v":2},{"$f":"LEFT(X20,Y20-1)*1","v":4},{"$f":"MID(X20,Y20+1,4)*1","v":4},{"$f":"CONCATENATE(Z20, \" : \", AA20)","v":"4 : 4"}]
[null,{"$f":"Analysis!D25","v":"Fortaleza(N)"},{"$f":"Analysis!H25","v":"Ceara"},"Fortaleza(N)","Ceara","Fortaleza(N)","Ceara","Fortaleza(N)","Ceara","Fortaleza","Ceara","Fortaleza","Ceara",{"$f":"Analysis!E25","v":"0-1"},2,0,1,"0 : 1",{"$f":"Analysis!F25","v":"0-1"},2,0,1,"0 : 1",{"$f":"Analysis!G25","v":"7-5"},2,7,5,"7 : 5"]
[null,{"$f":"Analysis!D26","v":"Fortaleza(N)"},{"$f":"Analysis!H26","v":"Sport Club Recife PE"},"Fortaleza(N)","Sport Club Recife PE","Fortaleza(N)","Sport Club Recife PE","Fortaleza(N)","Sport Club Recife PE","Fortaleza","Sport Club Recife PE","Fortaleza","Sport Club Recife PE",{"$f":"Analysis!E26","v":"0-0"},2,0,0,"0 : 0",{"$f":"Analysis!F26","v":"0-0"},2,0,0,"0 : 0",{"$f":"Analysis!G26","v":"5-3"},2,5,3,"5 : 3"]
[null,{"$f":"Analysis!D27","v":"Fortaleza(N)"},{"$f":"Analysis!H27","v":"America FC Natal RN"},"Fortaleza(N)","America FC Natal RN","Fortaleza(N)","America FC Natal RN","Fortaleza(N)","America FC Natal RN","Fortaleza","America FC Natal RN","Fortaleza","America FC Natal RN",{"$f":"Analysis!E27","v":"3-1"},2,3,1,"3 : 1",{"$f":"Analysis!F27","v":"0-1"},2,0,1,"0 : 1",{"$f":"Analysis!G27","v":"5-5"},2,5,5,"5 : 5"]
[null,{"$f":"Analysis!D28","v":"Fortaleza"},{"$f":"Analysis!H28","v":"Guarany CE"},"Fortaleza","Guarany CE","Fortaleza","Guarany CE","Fortaleza","Guarany CE","Fortaleza","Guarany CE","Fortaleza","Guarany CE",{"$f":"Analysis!E28","v":"1-0"},2,1,0,"1 : 0",{"$f":"Analysis!F28","v":"1-0"},2,1,0,"1 : 0",{"$f":"Analysis!G28","v":"6-0"},2,6,0,"6 : 0"]
[null,{"$f":"Analysis!D29","v":"Ceara"},{"$f":"Analysis!H29","v":"Fortaleza"},"Ceara","Fortaleza","Ceara","Fortaleza","Ceara","Fortaleza","Ceara","Fortaleza","Ceara","Fortaleza",{"$f":"Analysis!E29","v":"1-2"},2,1,2,"1 : 2",{"$f":"Analysis!F29","v":"0-1"},2,0,1,"0 : 1",{"$f":"Analysis!G29","v":"2-7"},2,2,7,"2 : 7"]
[null,{"$f":"Analysis!D30","v":"Guarany CE"},{"$f":"Analysis!H30","v":"Fortaleza"},"Guarany CE","Fortaleza","Guarany CE","Fortaleza","Guarany CE","Fortaleza","Guarany CE","Fortaleza","Guarany CE","Fortaleza",{"$f":"Analysis!E30","v":"0-5"},2,0,5,"0 : 5",{"$f":"Analysis!F30","v":"0-2"},2,0,2,"0 : 2",{"$f":"Analysis!G30","v":0},{"$error":"#VALUE!"},{"$error":"#VALUE!"},{"$error":"#VALUE!"},{"$error":"#VALUE!"}]
[null,{"$f":"Analysis!D31","v":"Nautico (PE)"},{"$f":"Analysis!H31","v":"Fortaleza"},"Nautico (PE)","Fortaleza","Nautico (PE)","Fortaleza","Nautico (PE)","Fortaleza","Nautico (PE)","Fortaleza","Nautico (PE)","Fortaleza",{"$f":"Analysis!E31","v":"0-3"},2,0,3,"0 : 3",{"$f":"Analysis!F31","v":"0-1"},2,0,1,"0 : 1",{"$f":"Analysis!G31","v":"9-2"},2,9,2,"9 : 2"]
[null,{"$f":"Analysis!D32","v":"Fortaleza"},{"$f":"Analysis!H32","v":"Pacajus"},"Fortaleza","Pacajus","Fortaleza","Pacajus","Fortaleza","Pacajus","Fortaleza","Pacajus","Fortaleza","Pacajus",{"$f":"Analysis!E32","v":"3-0"},2,3,0,"3 : 0",{"$f":"Analysis!F32","v":"1-0"},2,1,0,"1 : 0",{"$f":"Analysis!G32","v":"12-4"},3,12,4,"12 : 4"]
[null,{"$f":"Analysis!D33","v":"Fortaleza"},{"$f":"Analysis!H33","v":"Centro Sportivo Alagoano"},"Fortaleza","Centro Sportivo Alagoano","Fortaleza","Centro Sportivo Alagoano","Fortaleza","Centro Sportivo Alagoano","Fortaleza","Centro Sportivo Alagoano","Fortaleza","Centro Sportivo Alagoano",{"$f":"Analysis!E33","v":"1-0"},2,1,0,"1 : 0",{"$f":"Analysis!F33","v":"1-0"},2,1,0,"1 : 0",{"$f":"Analysis!G33","v":"4-7"},2,4,7,"4 : 7"]
[null,{"$f":"Analysis!#REF!","v":{"$error":"#REF!"}},{"$f":"Analysis!#REF!","v":{"$error":"#REF!"}},{"$error":"#REF!"},{"$error":"#REF!"},{"$error":"#REF!"},{"$error":"#REF!"},{"$error":"#REF!"},{"$error":"#REF!"},{"$error":"#REF!"},{"$error":"#REF!"},{"$error":"#REF!"},{"$error":"#REF!"},{"$f":"Analysis!#REF!","v":{"$error":"#REF!"}},{"$error":"#REF!"},{"$error":"#REF!"},{"$error":"#REF!"},{"$error":"#REF!"},{"$f":"Analysis!#REF!","v":{"$error":"#REF!"}},{"$error":"#REF!"},{"$error":"#REF!"},{"$error":"#REF!"},{"$error":"#REF!"},{"$f":"Analysis!#REF!","v":{"$error":"#REF!"}},{"$error":"#REF!"},{"$error":"#REF!"},{"$error":"#REF!"},{"$error":"#REF!"}]
[null,{"$f":"Analysis!#REF!","v":{"$error":"#REF!"}},{"$f":"Analysis!#REF!","v":{"$error":"#REF!"}},{"$error":"#REF!"},{"$error":"#REF!"},{"$error":"#REF!"},{"$error":"#REF!"},{"$error":"#REF!"},{"$error":"#REF!"},{"$error":"#REF!"},{"$error":"#REF!"},{"$error":"#REF!"},{"$error":"#REF!"},{"$f":"Analysis!#REF!","v":{"$error":"#REF!"}},{"$error":"#REF!"},{"$error":"#REF!"},{"$error":"#REF!"},{"$error":"#REF!"},{"$f":"Analysis!#REF!","v":{"$error":"#REF!"}},{"$error":"#REF!"},{"$error":"#REF!"},{"$error":"#REF!"},{"$error":"#REF!"},{"$f":"Analysis!#REF!","v":{"$error":"#REF!"}},{"$error":"#REF!"},{"$error":"#REF!"},{"$error":"#REF!"},{"$error":"#REF!"}]
[null,{"$f":"Analysis!#REF!","v":{"$error":"#REF!"}},{"$f":"Analysis!#REF!","v":{"$error":"#REF!"}},{"$error":"#REF!"},{"$error":"#REF!"},{"$error":"#REF!"},{"$error":"#REF!"},{"$error":"#REF!"},{"$error":"#REF!"},{"$error":"#REF!"},{"$error":"#REF!"},{"$error":"#REF!"},{"$error":"#REF!"},{"$f":"Analysis!#REF!","v":{"$error":"#REF!"}},{"$error":"#REF!"},{"$error":"#REF!"},{"$error":"#REF!"},{"$error":"#REF!"},{"$f":"Analysis!#REF!","v":{"$error":"#REF!"}},{"$error":"#REF!"},{"$error":"#REF!"},{"$error":"#REF!"},{"$error":"#REF!"},{"$f":"Analysis!#REF!","v":{"$error":"#REF!"}},{"$error":"#REF!"},{"$error":"#REF!"},{"$error":"#REF!"},{"$error":"#REF!"}]
[null,{"$f":"Analysis!#REF!","v":{"$error":"#REF!"}},{"$f":"Analysis!#REF!","v":{"$error":"#REF!"}},{"$error":"#REF!"},{"$error":"#REF!"},{"$error":"#REF!"},{"$error":"#REF!"},{"$error":"#REF!"},{"$error":"#REF!"},{"$error":"#REF!"},{"$error":"#REF!"},{"$error":"#REF!"},{"$error":"#REF!"},{"$f":"Analysis!#REF!","v":{"$error":"#REF!"}},{"$error":"#REF!"},{"$error":"#REF!"},{"$error":"#REF!"},{"$error":"#REF!"},{"$f":"Analysis!#REF!","v":{"$error":"#REF!"}},{"$error":"#REF!"},{"$error":"#REF!"},{"$error":"#REF!"},{"$error":"#REF!"},{"$f":"Analysis!#REF!","v":{"$error":"#REF!"}},{"$error":"#REF!"},{"$error":"#REF!"},{"$error":"#REF!"},{"$error":"#REF!"}]
[null,{"$f":"Analysis!#REF!","v":{"$error":"#REF!"}},{"$f":"Analysis!#REF!","v":{"$error":"#REF!"}},{"$error":"#REF!"},{"$error":"#REF!"},{"$error":"#REF!"},{"$error":"#REF!"},{"$error":"#REF!"},{"$error":"#REF!"},{"$error":"#REF!"},{"$error":"#REF!"},{"$error":"#REF!"},{"$error":"#REF!"},{"$f":"Analysis!#REF!","v":{"$error":"#REF!"}},{"$error":"#REF!"},{"$error":"#REF!"},{"$error":"#REF!"},{"$error":"#REF!"},{"$f":"Analysis!#REF!","v":{"$error":"#REF!"}},{"$error":"#REF!"},{"$error":"#REF!"},{"$error":"#REF!"},{"$error":"#REF!"},{"$f":"Analysis!#REF!","v":{"$error":"#REF!"}},{"$error":"#REF!"},{"$error":"#REF!"},{"$error":"#REF!"},{"$error":"#REF!"}]

{"sheet":"a1","index":7,"n_rows":25,"n_cols":20,"rows_kept":25,"cut":false,"hidden":true,"merged":[]}
[null,{"$f":"IF(COUNTIF(D16:D25,D16)>COUNTIF(E16:E25,E16),D16,E16)","v":"Fortaleza"}]
[null,"HOME",{"$f":"$C$3","v":"BRA SP"},{"$f":"IF(COUNTIF(D3:D12,D3)>COUNTIF(E3:E12,E3),D3,E3)","v":"Sao Paulo"},null,null,null,"К1","К2","options","Г1","Г2",2.5,3.5,"ГДЕ","ЗБ","ПР"]
[null,{"$f":"Analysis!C12","v":"6/18/2017"},{"$f":"Analysis!B12","v":"BRA SP"},{"$f":"Analysis!T12","v":"Sao Paulo"},{"$f":"Analysis!U12","v":"Mirassol"},{"$f":"Analysis!W12","v":"2 : 3"},null,{"$f":"D3","v":"Sao Paulo"},{"$f":"E3","v":"Mirassol"},{"$f":"SEARCH(\":\",F3)","v":3},{"$f":"LEFT(F3,J3-1)*1","v":2},{"$f":"MID(F3,J3+1,4)*1","v":3},{"$f":"IF((K3+L3)>2.5,\"ТБ\",\"ТМ\")","v":"ТБ"},{"$f":"IF((K3+L3)>3.5,\"ТБ\",\"ТМ\")","v":"ТБ"},{"$f":"IF(H3=$D$2,\"Дома\",\"В гостях\")","v":"Дома"},{"$f":"IF(O3=\"Дома\",K3,L3)","v":2},{"$f":"IF(O3=\"Дома\",L3,K3)","v":3},{"$f":"IF(P3>Q3,\"W\",IF(P3=Q3,\"D\",\"L\"))","v":"L"},null,{"$f":"K3+L3","v":5}]
[null,{"$f":"Analysis!C13","v":"6/15/2017"},{"$f":"Analysis!B13","v":"BRA SP"},{"$f":"Analysis!T13","v":"Guarani SP"},{"$f":"Analysis!U13","v":"Sao Paulo"},{"$f":"Analysis!W13","v":"1 : 3"},null,"Guarani SP","Sao Paulo",3,1,3,"ТБ","ТБ","В гостях",3,1,"W",null,{"$f":"K4+L4","v":4}]
[null,{"$f":"Analysis!C14","v":"6/10/2017"},{"$f":"Analysis!B14","v":"BRA SP"},{"$f":"Analysis!T14","v":"Sao Paulo"},{"$f":"Analysis!U14","v":"Bragantino"},{"$f":"Analysis!W14","v":"2 : 3"},null,"Sao Paulo","Bragantino",3,2,3,"ТБ","ТБ","Дома",2,3,"L",null,5]
[null,{"$f":"Analysis!C15","v":"6/2/2017"},{"$f":"Analysis!B15","v":"BRA SP"},{"$f":"Analysis!T15","v":"Sao Paulo"},{"$f":"Analysis!U15","v":"Santos"},{"$f":"Analysis!W15","v":"2 : 1"},null,"Sao Paulo","Santos",3,2,1,"ТБ","ТМ","Дома",2,1,"W",null,3]
[null,{"$f":"Analysis!C16","v":"5/27/2017"},{"$f":"Analysis!B16","v":"CON CLA"},{"$f":"Analysis!T16","v":"Sao Paulo"},{"$f":"Analysis!U16","v":"Liga Dep. Universitaria Quito"},{"$f":"Analysis!W16","v":"3 : 0"},null,"Sao Paulo","Liga Dep. Universitaria Quito",3,3,0,"ТБ","ТМ","Дома",3,0,"W",null,3]
[null,{"$f":"Analysis!C17","v":"5/13/2017"},{"$f":"Analysis!B17","v":"BRA SP"},{"$f":"Analysis!T17","v":"Botafogo SP"},{"$f":"Analysis!U17","v":"Sao Paulo"},{"$f":"Analysis!W17","v":"1 : 0"},null,"Botafogo SP","Sao Paulo",3,1,0,"ТМ","ТМ","В гостях",0,1,"L",null,1]
[null,{"$f":"Analysis!C18","v":"5/11/2017"},{"$f":"Analysis!B18","v":"CON CLA"},{"$f":"Analysis!T18","v":"EM Deportivo Binacional"},{"$f":"Analysis!U18","v":"Sao Paulo"},{"$f":"Analysis!W18","v":"2 : 1"},null,"EM Deportivo Binacional","Sao Paulo",3,2,1,"ТБ","ТМ","В гостях",1,2,"L",null,3]
[null,{"$f":"Analysis!C19","v":"5/7/2017"},{"$f":"Analysis!B19","v":"BRA SP"},{"$f":"Analysis!T19","v":"Sao Paulo"},{"$f":"Analysis!U19","v":"Ponte Preta"},{"$f":"Analysis!W19","v":"2 : 1"},null,"Sao Paulo","Ponte Preta",3,2,1,"ТБ","ТМ","Дома",2,1,"W",null,3]
[null,{"$f":"Analysis!C20","v":"5/4/2017"},{"$f":"Analysis!B20","v":"BRA SP"},{"$f":"Analysis!T20","v":"Oeste"},{"$f":"Analysis!U20","v":"Sao Paulo"},{"$f":"Analysis!W20","v":"0 : 4"},null,"Oeste","Sao Paulo",3,0,4,"ТБ","ТБ","В гостях",4,0,"W",null,4]
[null,{"$f":"Analysis!C21","v":"4/30/2017"},{"$f":"Analysis!B21","v":"BRA SP"},{"$f":"Analysis!T21","v":"Sao Paulo"},{"$f":"Analysis!U21","v":"Corinthians Paulista (SP)"},{"$f":"Analysis!W21","v":"0 : 0"},null,"Sao Paulo","Corinthians Paulista (SP)",3,0,0,"ТМ","ТМ","Дома",0,0,"D",null,0]
[]
[]
[null,"AWAY",{"$f":"$C$2","v":"BRA SP"},{"$f":"IF(COUNTIF(D16:D25,D16)>COUNTIF(E16:E25,E16),D16,E16)","v":"Fortaleza"},null,null,null,"К1","К2","options","Г1","Г2",2.5,3.5,"ГДЕ","ЗБ","ПР"]
[null,{"$f":"Analysis!C24","v":"6/18/2017"},{"$f":"Analysis!B24","v":"BRA D1"},{"$f":"Analysis!T24","v":"Fortaleza"},{"$f":"Analysis!U24","v":"Atletico Paranaense"},{"$f":"Analysis!W24","v":"0 : 2"},null,{"$f":"D16","v":"Fortaleza"},{"$f":"E16","v":"Atletico Paranaense"},{"$f":"SEARCH(\":\",F16)","v":3},{"$f":"LEFT(F16,J16-1)*1","v":0},{"$f":"MID(F16,J16+1,4)*1","v":2},{"$f":"IF((K16+L16)>2.5,\"ТБ\",\"ТМ\")","v":"ТМ"},{"$f":"IF((K16+L16)>3.5,\"ТБ\",\"ТМ\")","v":"ТМ"},{"$f":"IF(H16=$D$15,\"Дома\",\"В гостях\")","v":"Дома"},{"$f":"IF(O16=\"Дома\",K16,L16)","v":0},{"$f":"IF(O16=\"Дома\",L16,K16)","v":2},{"$f":"IF(P16>Q16,\"W\",IF(P16=Q16,\"D\",\"L\"))","v":"L"},null,2]
[null,{"$f":"Analysis!C25","v":"6/14/2017"},{"$f":"Analysis!B25","v":"BRA CNF"},{"$f":"Analysis!T25","v":"Fortaleza"},{"$f":"Analysis!U25","v":"Ceara"},{"$f":"Analysis!W25","v":"0 : 1"},null,"Fortaleza","Ceara",3,0,1,"ТМ","ТМ","Дома",0,1,"L",null,1]
[null,{"$f":"Analysis!C26","v":"6/11/2017"},{"$f":"Analysis!B26","v":"BRA CNF"},{"$f":"Analysis!T26","v":"Fortaleza"},{"$f":"Analysis!U26","v":"Sport Club Recife PE"},{"$f":"Analysis!W26","v":"0 : 0"},null,"Fortaleza","Sport Club Recife PE",3,0,0,"ТМ","ТМ","Дома",0,0,"D",null,0]
[null,{"$f":"Analysis!C27","v":"6/4/2017"},{"$f":"Analysis!B27","v":"BRA CNF"},{"$f":"Analysis!T27","v":"Fortaleza"},{"$f":"Analysis!U27","v":"America FC Natal RN"},{"$f":"Analysis!W27","v":"3 : 1"},null,"Fortaleza","America FC Natal RN",3,3,1,"ТБ","ТБ","Дома",3,1,"W",null,4]
[null,{"$f":"Analysis!C28","v":"5/26/2017"},{"$f":"Analysis!B28","v":"BRA CE"},{"$f":"Analysis!T28","v":"Fortaleza"},{"$f":"Analysis!U28","v":"Guarany CE"},{"$f":"Analysis!W28","v":"1 : 0"},null,"Fortaleza","Guarany CE",3,1,0,"ТМ","ТМ","Дома",1,0,"W",null,1]
[null,{"$f":"Analysis!C29","v":"5/14/2017"},{"$f":"Analysis!B29","v":"BRA CE"},{"$f":"Analysis!T29","v":"Ceara"},{"$f":"Analysis!U29","v":"Fortaleza"},{"$f":"Analysis!W29","v":"1 : 2"},null,"Ceara","Fortaleza",3,1,2,"ТБ","ТМ","В гостях",2,1,"W",null,3]
[null,{"$f":"Analysis!C30","v":"5/12/2017"},{"$f":"Analysis!B30","v":"BRA CE"},{"$f":"Analysis!T30","v":"Guarany CE"},{"$f":"Analysis!U30","v":"Fortaleza"},{"$f":"Analysis!W30","v":"0 : 5"},null,"Guarany CE","Fortaleza",3,0,5,"ТБ","ТБ","В гостях",5,0,"W",null,5]
[null,{"$f":"Analysis!C31","v":"5/6/2017"},{"$f":"Analysis!B31","v":"BRA CNF"},{"$f":"Analysis!T31","v":"Nautico (PE)"},{"$f":"Analysis!U31","v":"Fortaleza"},{"$f":"Analysis!W31","v":"0 : 3"},null,"Nautico (PE)","Fortaleza",3,0,3,"ТБ","ТМ","В гостях",3,0,"W",null,3]
[null,{"$f":"Analysis!C32","v":"5/4/2017"},{"$f":"Analysis!B32","v":"BRA CE"},{"$f":"Analysis!T32","v":"Fortaleza"},{"$f":"Analysis!U32","v":"Pacajus"},{"$f":"Analysis!W32","v":"3 : 0"},null,"Fortaleza","Pacajus",3,3,0,"ТБ","ТМ","Дома",3,0,"W",null,3]
[null,{"$f":"Analysis!C33","v":"4/30/2017"},{"$f":"Analysis!B33","v":"BRA CNF"},{"$f":"Analysis!T33","v":"Fortaleza"},{"$f":"Analysis!U33","v":"Centro Sportivo Alagoano"},{"$f":"Analysis!W33","v":"1 : 0"},null,"Fortaleza","Centro Sportivo Alagoano",3,1,0,"ТМ","ТМ","Дома",1,0,"W",null,1]

{"sheet":"a2","index":8,"n_rows":18,"n_cols":15,"rows_kept":18,"cut":false,"hidden":true,"merged":[]}
[]
[null,null,{"$f":"'a1'!D2","v":"Sao Paulo"},null,null,null,{"$f":"'a1'!D15","v":"Fortaleza"},null,null,null,null,null,{"$f":"IF(M3=\"\",\"\",IF(M3<=1,\"0-1\",IF(M3<=3,\"2-3\",IF(M3<=6,\"4-6\",IF(M3>=6,\"7+\")))))","v":"2-3"}]
[null,1,{"$f":"'a1'!P12","v":0},{"$f":"'a1'!Q12","v":0},null,1,{"$f":"'a1'!P25","v":1},{"$f":"'a1'!Q25","v":0},null,null,null,null,{"$f":"ROUND(M4,0)","v":3}]
[null,2,{"$f":"'a1'!P11","v":4},{"$f":"'a1'!Q11","v":0},null,2,{"$f":"'a1'!P24","v":3},{"$f":"'a1'!Q24","v":0},null,{"$f":"AVERAGE(C13,H13)","v":1.9333333333333336},{"$f":"AVERAGE(D13,G13)","v":1.3},null,{"$f":"SUM(J4:K4)","v":3.2333333333333334},null,{"$f":"J4-K4","v":0.63333333333333353}]
[null,3,{"$f":"'a1'!P10","v":2},{"$f":"'a1'!Q10","v":1},null,3,{"$f":"'a1'!P23","v":3},{"$f":"'a1'!Q23","v":0},null,null,null,null,{"$f":"IF(M4>=3.5,\"ТБ2.5\",IF(M4>=2.5,\"ТБ1.5\",IF(M4<=0.5,\"ТМ2.5\",IF(M4<2,\"ТМ3.5\",\"NB\"))))","v":"ТБ1.5"}]
[null,4,{"$f":"'a1'!P9","v":1},{"$f":"'a1'!Q9","v":2},null,4,{"$f":"'a1'!P22","v":5},{"$f":"'a1'!Q22","v":0}]
[null,5,{"$f":"'a1'!P8","v":0},{"$f":"'a1'!Q8","v":1},null,5,{"$f":"'a1'!P21","v":2},{"$f":"'a1'!Q21","v":1}]
[null,6,{"$f":"'a1'!P7","v":3},{"$f":"'a1'!Q7","v":0},null,6,{"$f":"'a1'!P20","v":1},{"$f":"'a1'!Q20","v":0}]
[null,7,{"$f":"'a1'!P6","v":2},{"$f":"'a1'!Q6","v":1},null,7,{"$f":"'a1'!P19","v":3},{"$f":"'a1'!Q19","v":1}]
[null,8,{"$f":"'a1'!P5","v":2},{"$f":"'a1'!Q5","v":3},null,8,{"$f":"'a1'!P18","v":0},{"$f":"'a1'!Q18","v":0}]
[null,9,{"$f":"'a1'!P4","v":3},{"$f":"'a1'!Q4","v":1},null,9,{"$f":"'a1'!P17","v":0},{"$f":"'a1'!Q17","v":1},null,{"$f":"IF(J4>1.5,\"Да\",\" \")","v":"Да"},null,{"$f":"IF(K4>1.5,\"Да\",\" \")","v":" "},null,{"$f":"IF((J4>1.5)*(K4>1.5),\"Да\",\" \")","v":" "},{"$f":"IF(N11=\"Да\", 1,0)","v":0}]
[null,10,{"$f":"'a1'!P3","v":2},{"$f":"'a1'!Q3","v":3},null,10,{"$f":"'a1'!P16","v":0},{"$f":"'a1'!Q16","v":2}]
[null,11,{"$f":"TREND(C3:C12,B3:B12,B13)","v":2.4666666666666668},{"$f":"TREND(D3:D12,B3:B12,B13)","v":2.5333333333333341},null,11,{"$f":"TREND(G3:G12,F3:F12,F13)","v":6.6666666666665986E-2},{"$f":"TREND(H3:H12,F3:F12,F13)","v":1.4000000000000004}]
[null,null,null,null,null,null,null,null,null,{"$f":"IF(M4>=3.5,\"ТБ2.5\",IF(M4>=2.5,\"ТБ1.5\",IF(M4<=0.5,\"ТМ2.5\",IF(M4<2,\"ТМ3.5\",\" \"))))","v":"ТБ1.5"},null,{"$f":"IF(O4>1.5,1,IF(O4>1,\"1X\",IF(O4<-1.5,2,IF(O4<-1,\"X2\",\" \"))))","v":" "},null,{"$f":"IF(J4<-0.5,\"ОЗ Нет\",IF(K4<-0.5,\"Нет\",\" \"))","v":" "},{"$f":"IF(N14=\"Нет\", 2,0)","v":0}]
[null,null,"Last matches: "]
[null,null,{"$f":"CONCATENATE(C15,C2)","v":"Last matches: Sao Paulo"},null,null,null,null,null,null,null,null,null,null,null,{"$f":"O11+O14","v":0}]
[null,null,{"$f":"CONCATENATE(C15,G2)","v":"Last matches: Fortaleza"}]
[null,null,null,null,null,null,null,null,null,null,null,null,null,null,{"$f":"IF(O16=0,\" \",IF(O16=1,\"Да\",\"Нет\"))","v":" "}]

{"sheet":"a4","index":9,"n_rows":25,"n_cols":20,"rows_kept":25,"cut":false,"hidden":true,"merged":[]}
[]
[null,"HOME",{"$f":"$C$3","v":"BRA SP"},{"$f":"IF(H3=H5,H3,IF(H3=I5,H3,I3))","v":"Sao Paulo"},null,null,null,"К1","К2","options","Г1","Г2",2.5,3.5,"ГДЕ","ЗБ","ПР"]
[null,{"$f":"Analysis!C12","v":"6/18/2017"},{"$f":"Analysis!B12","v":"BRA SP"},{"$f":"Analysis!T12","v":"Sao Paulo"},{"$f":"Analysis!U12","v":"Mirassol"},{"$f":"Analysis!V12","v":"2 : 2"},null,{"$f":"D3","v":"Sao Paulo"},{"$f":"E3","v":"Mirassol"},{"$f":"SEARCH(\":\",F3)","v":3},{"$f":"LEFT(F3,J3-1)*1","v":2},{"$f":"MID(F3,J3+1,4)*1","v":2},{"$f":"IF((K3+L3)>2.5,\"ТБ\",\"ТМ\")","v":"ТБ"},{"$f":"IF((K3+L3)>3.5,\"ТБ\",\"ТМ\")","v":"ТБ"},{"$f":"IF(H3=$D$2,\"Дома\",\"В гостях\")","v":"Дома"},{"$f":"IF(O3=\"Дома\",K3,L3)","v":2},{"$f":"IF(O3=\"Дома\",L3,K3)","v":2},{"$f":"IF(P3>Q3,\"W\",IF(P3=Q3,\"D\",\"L\"))","v":"D"},null,{"$f":"K3+L3","v":4}]
[null,{"$f":"Analysis!C13","v":"6/15/2017"},{"$f":"Analysis!B13","v":"BRA SP"},{"$f":"Analysis!T13","v":"Guarani SP"},{"$f":"Analysis!U13","v":"Sao Paulo"},{"$f":"Analysis!V13","v":"1 : 1"},null,"Guarani SP","Sao Paulo",3,1,1,"ТМ","ТМ","В гостях",1,1,"D",null,{"$f":"K4+L4","v":2}]
[null,{"$f":"Analysis!C14","v":"6/10/2017"},{"$f":"Analysis!B14","v":"BRA SP"},{"$f":"Analysis!T14","v":"Sao Paulo"},{"$f":"Analysis!U14","v":"Bragantino"},{"$f":"Analysis!V14","v":"2 : 2"},null,"Sao Paulo","Bragantino",3,2,2,"ТБ","ТБ","Дома",2,2,"D",null,4]
[null,{"$f":"Analysis!C15","v":"6/2/2017"},{"$f":"Analysis!B15","v":"BRA SP"},{"$f":"Analysis!T15","v":"Sao Paulo"},{"$f":"Analysis!U15","v":"Santos"},{"$f":"Analysis!V15","v":"0 : 1"},null,"Sao Paulo","Santos",3,0,1,"ТМ","ТМ","Дома",0,1,"L",null,1]
[null,{"$f":"Analysis!C16","v":"5/27/2017"},{"$f":"Analysis!B16","v":"CON CLA"},{"$f":"Analysis!T16","v":"Sao Paulo"},{"$f":"Analysis!U16","v":"Liga Dep. Universitaria Quito"},{"$f":"Analysis!V16","v":"2 : 0"},null,"Sao Paulo","Liga Dep. Universitaria Quito",3,2,0,"ТМ","ТМ","Дома",2,0,"W",null,2]
[null,{"$f":"Analysis!C17","v":"5/13/2017"},{"$f":"Analysis!B17","v":"BRA SP"},{"$f":"Analysis!T17","v":"Botafogo SP"},{"$f":"Analysis!U17","v":"Sao Paulo"},{"$f":"Analysis!V17","v":"0 : 0"},null,"Botafogo SP","Sao Paulo",3,0,0,"ТМ","ТМ","В гостях",0,0,"D",null,0]
[null,{"$f":"Analysis!C18","v":"5/11/2017"},{"$f":"Analysis!B18","v":"CON CLA"},{"$f":"Analysis!T18","v":"EM Deportivo Binacional"},{"$f":"Analysis!U18","v":"Sao Paulo"},{"$f":"Analysis!V18","v":"0 : 1"},null,"EM Deportivo Binacional","Sao Paulo",3,0,1,"ТМ","ТМ","В гостях",1,0,"W",null,1]
[null,{"$f":"Analysis!C19","v":"5/7/2017"},{"$f":"Analysis!B19","v":"BRA SP"},{"$f":"Analysis!T19","v":"Sao Paulo"},{"$f":"Analysis!U19","v":"Ponte Preta"},{"$f":"Analysis!V19","v":"2 : 0"},null,"Sao Paulo","Ponte Preta",3,2,0,"ТМ","ТМ","Дома",2,0,"W",null,2]
[null,{"$f":"Analysis!C20","v":"5/4/2017"},{"$f":"Analysis!B20","v":"BRA SP"},{"$f":"Analysis!T20","v":"Oeste"},{"$f":"Analysis!U20","v":"Sao Paulo"},{"$f":"Analysis!V20","v":"0 : 1"},null,"Oeste","Sao Paulo",3,0,1,"ТМ","ТМ","В гостях",1,0,"W",null,1]
[null,{"$f":"Analysis!C21","v":"4/30/2017"},{"$f":"Analysis!B21","v":"BRA SP"},{"$f":"Analysis!T21","v":"Sao Paulo"},{"$f":"Analysis!U21","v":"Corinthians Paulista (SP)"},{"$f":"Analysis!V21","v":"0 : 0"},null,"Sao Paulo","Corinthians Paulista (SP)",3,0,0,"ТМ","ТМ","Дома",0,0,"D",null,0]
[]
[]
[null,"AWAY",{"$f":"$C$2","v":"BRA SP"},{"$f":"IF(H16=H18,H16,IF(H16=I18,H16,I16))","v":"Fortaleza"},null,null,null,"К1","К2","options","Г1","Г2",2.5,3.5,"ГДЕ","ЗБ","ПР"]
[null,{"$f":"Analysis!C24","v":"6/18/2017"},{"$f":"Analysis!B24","v":"BRA D1"},{"$f":"Analysis!T24","v":"Fortaleza"},{"$f":"Analysis!U24","v":"Atletico Paranaense"},{"$f":"Analysis!V24","v":"0 : 2"},null,{"$f":"D16","v":"Fortaleza"},{"$f":"E16","v":"Atletico Paranaense"},{"$f":"SEARCH(\":\",F16)","v":3},{"$f":"LEFT(F16,J16-1)*1","v":0},{"$f":"MID(F16,J16+1,4)*1","v":2},{"$f":"IF((K16+L16)>2.5,\"ТБ\",\"ТМ\")","v":"ТМ"},{"$f":"IF((K16+L16)>3.5,\"ТБ\",\"ТМ\")","v":"ТМ"},{"$f":"IF(H16=$D$15,\"Дома\",\"В гостях\")","v":"Дома"},{"$f":"IF(O16=\"Дома\",K16,L16)","v":0},{"$f":"IF(O16=\"Дома\",L16,K16)","v":2},{"$f":"IF(P16>Q16,\"W\",IF(P16=Q16,\"D\",\"L\"))","v":"L"},null,2]
[null,{"$f":"Analysis!C25","v":"6/14/2017"},{"$f":"Analysis!B25","v":"BRA CNF"},{"$f":"Analysis!T25","v":"Fortaleza"},{"$f":"Analysis!U25","v":"Ceara"},{"$f":"Analysis!V25","v":"0 : 1"},null,"Fortaleza","Ceara",3,0,1,"ТМ","ТМ","Дома",0,1,"L",null,1]
[null,{"$f":"Analysis!C26","v":"6/11/2017"},{"$f":"Analysis!B26","v":"BRA CNF"},{"$f":"Analysis!T26","v":"Fortaleza"},{"$f":"Analysis!U26","v":"Sport Club Recife PE"},{"$f":"Analysis!V26","v":"0 : 0"},null,"Fortaleza","Sport Club Recife PE",3,0,0,"ТМ","ТМ","Дома",0,0,"D",null,0]
[null,{"$f":"Analysis!C27","v":"6/4/2017"},{"$f":"Analysis!B27","v":"BRA CNF"},{"$f":"Analysis!T27","v":"Fortaleza"},{"$f":"Analysis!U27","v":"America FC Natal RN"},{"$f":"Analysis!V27","v":"0 : 1"},null,"Fortaleza","America FC Natal RN",3,0,1,"ТМ","ТМ","Дома",0,1,"L",null,1]
[null,{"$f":"Analysis!C28","v":"5/26/2017"},{"$f":"Analysis!B28","v":"BRA CE"},{"$f":"Analysis!T28","v":"Fortaleza"},{"$f":"Analysis!U28","v":"Guarany CE"},{"$f":"Analysis!V28","v":"1 : 0"},null,"Fortaleza","Guarany CE",3,1,0,"ТМ","ТМ","Дома",1,0,"W",null,1]
[null,{"$f":"Analysis!C29","v":"5/14/2017"},{"$f":"Analysis!B29","v":"BRA CE"},{"$f":"Analysis!T29","v":"Ceara"},{"$f":"Analysis!U29","v":"Fortaleza"},{"$f":"Analysis!V29","v":"0 : 1"},null,"Ceara","Fortaleza",3,0,1,"ТМ","ТМ","В гостях",1,0,"W",null,1]
[null,{"$f":"Analysis!C30","v":"5/12/2017"},{"$f":"Analysis!B30","v":"BRA CE"},{"$f":"Analysis!T30","v":"Guarany CE"},{"$f":"Analysis!U30","v":"Fortaleza"},{"$f":"Analysis!V30","v":"0 : 2"},null,"Guarany CE","Fortaleza",3,0,2,"ТМ","ТМ","В гостях",2,0,"W",null,2]
[null,{"$f":"Analysis!C31","v":"5/6/2017"},{"$f":"Analysis!B31","v":"BRA CNF"},{"$f":"Analysis!T31","v":"Nautico (PE)"},{"$f":"Analysis!U31","v":"Fortaleza"},{"$f":"Analysis!V31","v":"0 : 1"},null,"Nautico (PE)","Fortaleza",3,0,1,"ТМ","ТМ","В гостях",1,0,"W",null,1]
[null,{"$f":"Analysis!C32","v":"5/4/2017"},{"$f":"Analysis!B32","v":"BRA CE"},{"$f":"Analysis!T32","v":"Fortaleza"},{"$f":"Analysis!U32","v":"Pacajus"},{"$f":"Analysis!V32","v":"1 : 0"},null,"Fortaleza","Pacajus",3,1,0,"ТМ","ТМ","Дома",1,0,"W",null,1]
[null,{"$f":"Analysis!C33","v":"4/30/2017"},{"$f":"Analysis!B33","v":"BRA CNF"},{"$f":"Analysis!T33","v":"Fortaleza"},{"$f":"Analysis!U33","v":"Centro Sportivo Alagoano"},{"$f":"Analysis!V33","v":"1 : 0"},null,"Fortaleza","Centro Sportivo Alagoano",3,1,0,"ТМ","ТМ","Дома",1,0,"W",null,1]

{"sheet":"a5","index":10,"n_rows":17,"n_cols":15,"rows_kept":17,"cut":false,"hidden":true,"merged":[]}
[]
[null,null,{"$f":"'a1'!D2","v":"Sao Paulo"},null,null,null,{"$f":"'a1'!D15","v":"Fortaleza"}]
[null,1,{"$f":"'a4'!P12","v":0},{"$f":"'a4'!Q12","v":0},null,1,{"$f":"'a4'!P25","v":1},{"$f":"'a4'!Q25","v":0},null,null,null,null,{"$f":"IF(M4<=1,\"ТМ1,5\",\"ТБ0,5\")","v":"ТБ0,5"}]
[null,2,{"$f":"'a4'!P11","v":1},{"$f":"'a4'!Q11","v":0},null,2,{"$f":"'a4'!P24","v":1},{"$f":"'a4'!Q24","v":0},null,{"$f":"AVERAGE(C13,H13)","v":1.5},{"$f":"AVERAGE(D13,G13)","v":0.83333333333333315},null,{"$f":"SUM(J4:K4)","v":2.333333333333333},null,{"$f":"J4-K4","v":0.66666666666666685}]
[null,3,{"$f":"'a4'!P10","v":2},{"$f":"'a4'!Q10","v":0},null,3,{"$f":"'a4'!P23","v":1},{"$f":"'a4'!Q23","v":0},null,null,null,null,{"$f":"IF(M4>=3.5,\"ТБ2.5\",IF(M4>=2.5,\"ТБ1.5\",IF(M4<=0.5,\"ТМ2.5\",IF(M4<2,\"ТМ3.5\",\"NB\"))))","v":"NB"}]
[null,4,{"$f":"'a4'!P9","v":1},{"$f":"'a4'!Q9","v":0},null,4,{"$f":"'a4'!P22","v":2},{"$f":"'a4'!Q22","v":0}]
[null,5,{"$f":"'a4'!P8","v":0},{"$f":"'a4'!Q8","v":0},null,5,{"$f":"'a4'!P21","v":1},{"$f":"'a4'!Q21","v":0}]
[null,6,{"$f":"'a4'!P7","v":2},{"$f":"'a4'!Q7","v":0},null,6,{"$f":"'a4'!P20","v":1},{"$f":"'a4'!Q20","v":0}]
[null,7,{"$f":"'a4'!P6","v":0},{"$f":"'a4'!Q6","v":1},null,7,{"$f":"'a4'!P19","v":0},{"$f":"'a4'!Q19","v":1}]
[null,8,{"$f":"'a4'!P5","v":2},{"$f":"'a4'!Q5","v":2},null,8,{"$f":"'a4'!P18","v":0},{"$f":"'a4'!Q18","v":0}]
[null,9,{"$f":"'a4'!P4","v":1},{"$f":"'a4'!Q4","v":1},null,9,{"$f":"'a4'!P17","v":0},{"$f":"'a4'!Q17","v":1},null,{"$f":"IF(J4>1.5,\"Дома Забьют\",\"NB\")","v":"NB"},null,{"$f":"IF(K4>1.5,\"Гости Забьют\",\"NB\")","v":"NB"},null,{"$f":"IF((J4>1.5)*(K4>1.5),\"ОЗ Да\",\"NB\")","v":"NB"}]
[null,10,{"$f":"'a4'!P3","v":2},{"$f":"'a4'!Q3","v":2},null,10,{"$f":"'a4'!P16","v":0},{"$f":"'a4'!Q16","v":2}]
[null,11,{"$f":"TREND(C3:C12,B3:B12,B13)","v":1.6666666666666667},{"$f":"TREND(D3:D12,B3:B12,B13)","v":1.8666666666666667},null,11,{"$f":"TREND(G3:G12,F3:F12,F13)","v":-0.2000000000000004},{"$f":"TREND(H3:H12,F3:F12,F13)","v":1.3333333333333335}]
[null,null,null,null,null,null,null,null,null,{"$f":"IF(M4>=3.5,\"ТБ2.5\",IF(M4>=2.5,\"ТБ1.5\",IF(M4<=0.5,\"ТМ2.5\",IF(M4<2,\"ТМ3.5\",\"NB\"))))","v":"NB"},null,{"$f":"IF(O4>1.5,1,IF(O4>1,\"1X\",IF(O4<-1.5,2,IF(O4<-1,\"X2\",\"NB\"))))","v":"NB"},null,{"$f":"IF(J4<-0.5,\"ОЗ Нет\",IF(K4<-0.5,\"ОЗ Нет\",\"NB\"))","v":"NB"}]
[null,null,"Last matches: "]
[null,null,{"$f":"CONCATENATE(C15,C2)","v":"Last matches: Sao Paulo"}]
[null,null,{"$f":"CONCATENATE(C15,G2)","v":"Last matches: Fortaleza"}]

{"sheet":"a6","index":11,"n_rows":25,"n_cols":18,"rows_kept":25,"cut":false,"hidden":true,"merged":[]}
[]
[null,"HOME",{"$f":"$C$3","v":"BRA SP"},{"$f":"IF(H3=H5,H3,IF(H3=I5,H3,I3))","v":"Sao Paulo"},null,null,null,"К1","К2","options","Г1","Г2",2.5,3.5,"ГДЕ","ЗБ","ПР"]
[null,{"$f":"Analysis!C12","v":"6/18/2017"},{"$f":"Analysis!B12","v":"BRA SP"},{"$f":"Analysis!T12","v":"Sao Paulo"},{"$f":"Analysis!U12","v":"Mirassol"},{"$f":"Analysis!X12","v":"11 : 1"},null,{"$f":"D3","v":"Sao Paulo"},{"$f":"E3","v":"Mirassol"},{"$f":"SEARCH(\":\",F3)","v":4},{"$f":"LEFT(F3,J3-1)*1","v":11},{"$f":"MID(F3,J3+1,4)*1","v":1},{"$f":"IF((K3+L3)>2.5,\"ТБ\",\"ТМ\")","v":"ТБ"},{"$f":"IF((K3+L3)>3.5,\"ТБ\",\"ТМ\")","v":"ТБ"},{"$f":"IF(H3=$D$2,\"Дома\",\"В гостях\")","v":"Дома"},{"$f":"IF(O3=\"Дома\",K3,L3)","v":11},{"$f":"IF(O3=\"Дома\",L3,K3)","v":1},{"$f":"IF(P3>Q3,\"W\",IF(P3=Q3,\"D\",\"L\"))","v":"W"}]
[null,{"$f":"Analysis!C13","v":"6/15/2017"},{"$f":"Analysis!B13","v":"BRA SP"},{"$f":"Analysis!T13","v":"Guarani SP"},{"$f":"Analysis!U13","v":"Sao Paulo"},{"$f":"Analysis!X13","v":"6 : 6"},null,"Guarani SP","Sao Paulo",3,6,6,"ТБ","ТБ","В гостях",6,6,"D"]
[null,{"$f":"Analysis!C14","v":"6/10/2017"},{"$f":"Analysis!B14","v":"BRA SP"},{"$f":"Analysis!T14","v":"Sao Paulo"},{"$f":"Analysis!U14","v":"Bragantino"},{"$f":"Analysis!X14","v":"5 : 3"},null,"Sao Paulo","Bragantino",3,5,3,"ТБ","ТБ","Дома",5,3,"W"]
[null,{"$f":"Analysis!C15","v":"6/2/2017"},{"$f":"Analysis!B15","v":"BRA SP"},{"$f":"Analysis!T15","v":"Sao Paulo"},{"$f":"Analysis!U15","v":"Santos"},{"$f":"Analysis!X15","v":"8 : 1"},null,"Sao Paulo","Santos",3,8,1,"ТБ","ТБ","Дома",8,1,"W"]
[null,{"$f":"Analysis!C16","v":"5/27/2017"},{"$f":"Analysis!B16","v":"CON CLA"},{"$f":"Analysis!T16","v":"Sao Paulo"},{"$f":"Analysis!U16","v":"Liga Dep. Universitaria Quito"},{"$f":"Analysis!X16","v":"5 : 3"},null,"Sao Paulo","Liga Dep. Universitaria Quito",3,5,3,"ТБ","ТБ","Дома",5,3,"W"]
[null,{"$f":"Analysis!C17","v":"5/13/2017"},{"$f":"Analysis!B17","v":"BRA SP"},{"$f":"Analysis!T17","v":"Botafogo SP"},{"$f":"Analysis!U17","v":"Sao Paulo"},{"$f":"Analysis!X17","v":"7 : 3"},null,"Botafogo SP","Sao Paulo",3,7,3,"ТБ","ТБ","В гостях",3,7,"L"]
[null,{"$f":"Analysis!C18","v":"5/11/2017"},{"$f":"Analysis!B18","v":"CON CLA"},{"$f":"Analysis!T18","v":"EM Deportivo Binacional"},{"$f":"Analysis!U18","v":"Sao Paulo"},{"$f":"Analysis!X18","v":"5 : 6"},null,"EM Deportivo Binacional","Sao Paulo",3,5,6,"ТБ","ТБ","В гостях",6,5,"W"]
[null,{"$f":"Analysis!C19","v":"5/7/2017"},{"$f":"Analysis!B19","v":"BRA SP"},{"$f":"Analysis!T19","v":"Sao Paulo"},{"$f":"Analysis!U19","v":"Ponte Preta"},{"$f":"Analysis!X19","v":"7 : 6"},null,"Sao Paulo","Ponte Preta",3,7,6,"ТБ","ТБ","Дома",7,6,"W"]
[null,{"$f":"Analysis!C20","v":"5/4/2017"},{"$f":"Analysis!B20","v":"BRA SP"},{"$f":"Analysis!T20","v":"Oeste"},{"$f":"Analysis!U20","v":"Sao Paulo"},{"$f":"Analysis!X20","v":"5 : 4"},null,"Oeste","Sao Paulo",3,5,4,"ТБ","ТБ","В гостях",4,5,"L"]
[null,{"$f":"Analysis!C21","v":"4/30/2017"},{"$f":"Analysis!B21","v":"BRA SP"},{"$f":"Analysis!T21","v":"Sao Paulo"},{"$f":"Analysis!U21","v":"Corinthians Paulista (SP)"},{"$f":"Analysis!X21","v":"5 : 3"},null,"Sao Paulo","Corinthians Paulista (SP)",3,5,3,"ТБ","ТБ","Дома",5,3,"W"]
[]
[]
[null,"AWAY",{"$f":"$C$2","v":"BRA SP"},{"$f":"IF(H16=H18,H16,IF(H16=I18,H16,I16))","v":"Fortaleza"},null,null,null,"К1","К2","options","Г1","Г2",2.5,3.5,"ГДЕ","ЗБ","ПР"]
[null,{"$f":"Analysis!C24","v":"6/18/2017"},{"$f":"Analysis!B24","v":"BRA D1"},{"$f":"Analysis!T24","v":"Fortaleza"},{"$f":"Analysis!U24","v":"Atletico Paranaense"},{"$f":"Analysis!X24","v":"4 : 4"},null,{"$f":"D16","v":"Fortaleza"},{"$f":"E16","v":"Atletico Paranaense"},{"$f":"SEARCH(\":\",F16)","v":3},{"$f":"LEFT(F16,J16-1)*1","v":4},{"$f":"MID(F16,J16+1,4)*1","v":4},{"$f":"IF((K16+L16)>2.5,\"ТБ\",\"ТМ\")","v":"ТБ"},{"$f":"IF((K16+L16)>3.5,\"ТБ\",\"ТМ\")","v":"ТБ"},{"$f":"IF(H16=$D$15,\"Дома\",\"В гостях\")","v":"Дома"},{"$f":"IF(O16=\"Дома\",K16,L16)","v":4},{"$f":"IF(O16=\"Дома\",L16,K16)","v":4},{"$f":"IF(P16>Q16,\"W\",IF(P16=Q16,\"D\",\"L\"))","v":"D"}]
[null,{"$f":"Analysis!C25","v":"6/14/2017"},{"$f":"Analysis!B25","v":"BRA CNF"},{"$f":"Analysis!T25","v":"Fortaleza"},{"$f":"Analysis!U25","v":"Ceara"},{"$f":"Analysis!X25","v":"7 : 5"},null,"Fortaleza","Ceara",3,7,5,"ТБ","ТБ","Дома",7,5,"W"]
[null,{"$f":"Analysis!C26","v":"6/11/2017"},{"$f":"Analysis!B26","v":"BRA CNF"},{"$f":"Analysis!T26","v":"Fortaleza"},{"$f":"Analysis!U26","v":"Sport Club Recife PE"},{"$f":"Analysis!X26","v":"5 : 3"},null,"Fortaleza","Sport Club Recife PE",3,5,3,"ТБ","ТБ","Дома",5,3,"W"]
[null,{"$f":"Analysis!C27","v":"6/4/2017"},{"$f":"Analysis!B27","v":"BRA CNF"},{"$f":"Analysis!T27","v":"Fortaleza"},{"$f":"Analysis!U27","v":"America FC Natal RN"},{"$f":"Analysis!X27","v":"5 : 5"},null,"Fortaleza","America FC Natal RN",3,5,5,"ТБ","ТБ","Дома",5,5,"D"]
[null,{"$f":"Analysis!C28","v":"5/26/2017"},{"$f":"Analysis!B28","v":"BRA CE"},{"$f":"Analysis!T28","v":"Fortaleza"},{"$f":"Analysis!U28","v":"Guarany CE"},{"$f":"Analysis!X28","v":"6 : 0"},null,"Fortaleza","Guarany CE",3,6,0,"ТБ","ТБ","Дома",6,0,"W"]
[null,{"$f":"Analysis!C29","v":"5/14/2017"},{"$f":"Analysis!B29","v":"BRA CE"},{"$f":"Analysis!T29","v":"Ceara"},{"$f":"Analysis!U29","v":"Fortaleza"},{"$f":"Analysis!X29","v":"2 : 7"},null,"Ceara","Fortaleza",3,2,7,"ТБ","ТБ","В гостях",7,2,"W"]
[null,{"$f":"Analysis!C30","v":"5/12/2017"},{"$f":"Analysis!B30","v":"BRA CE"},{"$f":"Analysis!T30","v":"Guarany CE"},{"$f":"Analysis!U30","v":"Fortaleza"},{"$f":"Analysis!X30","v":{"$error":"#VALUE!"}},null,"Guarany CE","Fortaleza",{"$error":"#VALUE!"},{"$error":"#VALUE!"},{"$error":"#VALUE!"},{"$error":"#VALUE!"},{"$error":"#VALUE!"},"В гостях",{"$error":"#VALUE!"},{"$error":"#VALUE!"},{"$error":"#VALUE!"}]
[null,{"$f":"Analysis!C31","v":"5/6/2017"},{"$f":"Analysis!B31","v":"BRA CNF"},{"$f":"Analysis!T31","v":"Nautico (PE)"},{"$f":"Analysis!U31","v":"Fortaleza"},{"$f":"Analysis!X31","v":"9 : 2"},null,"Nautico (PE)","Fortaleza",3,9,2,"ТБ","ТБ","В гостях",2,9,"L"]
[null,{"$f":"Analysis!C32","v":"5/4/2017"},{"$f":"Analysis!B32","v":"BRA CE"},{"$f":"Analysis!T32","v":"Fortaleza"},{"$f":"Analysis!U32","v":"Pacajus"},{"$f":"Analysis!X32","v":"12 : 4"},null,"Fortaleza","Pacajus",4,12,4,"ТБ","ТБ","Дома",12,4,"W"]
[null,{"$f":"Analysis!C33","v":"4/30/2017"},{"$f":"Analysis!B33","v":"BRA CNF"},{"$f":"Analysis!T33","v":"Fortaleza"},{"$f":"Analysis!U33","v":"Centro Sportivo Alagoano"},{"$f":"Analysis!X33","v":"4 : 7"},null,"Fortaleza","Centro Sportivo Alagoano",3,4,7,"ТБ","ТБ","Дома",4,7,"L"]

{"sheet":"a7","index":12,"n_rows":14,"n_cols":15,"rows_kept":14,"cut":false,"hidden":true,"merged":[]}
[]
[null,null,{"$f":"'a1'!D2","v":"Sao Paulo"},null,null,null,{"$f":"'a1'!D15","v":"Fortaleza"}]
[null,1,{"$f":"'a6'!P7","v":5},{"$f":"'a6'!Q7","v":3},null,1,{"$f":"'a6'!P20","v":6},{"$f":"'a6'!Q20","v":0},null,null,null,null,{"$f":"ROUND(M4,0)","v":12}]
[null,2,{"$f":"'a6'!P6","v":8},{"$f":"'a6'!Q6","v":1},null,2,{"$f":"'a6'!P19","v":5},{"$f":"'a6'!Q19","v":5},null,{"$f":"AVERAGE(C8,H8)","v":7.9},{"$f":"AVERAGE(D8,G8)","v":3.9499999999999993},null,{"$f":"SUM(J4:K4)","v":11.85},null,{"$f":"J4-K4","v":3.9500000000000011}]
[null,3,{"$f":"'a6'!P5","v":5},{"$f":"'a6'!Q5","v":3},null,3,{"$f":"'a6'!P18","v":5},{"$f":"'a6'!Q18","v":3},null,null,null,null,{"$f":"IF(M4>=3.5,\"Over 2.5\",IF(M4>=2.5,\"Over 1.5\",IF(M4<=0.5,\"Under 2.5\",IF(M4<2,\"Under 3.5\",\"NB\"))))","v":"Over 2.5"}]
[null,4,{"$f":"'a6'!P4","v":6},{"$f":"'a6'!Q4","v":6},null,4,{"$f":"'a6'!P17","v":7},{"$f":"'a6'!Q17","v":5}]
[null,5,{"$f":"'a6'!P3","v":11},{"$f":"'a6'!Q3","v":1},null,5,{"$f":"'a6'!P16","v":4},{"$f":"'a6'!Q16","v":4}]
[null,6,{"$f":"TREND(C3:C7,B3:B7,B8)","v":10},{"$f":"TREND(D3:D7,B3:B7,B8)","v":3.0999999999999992},null,6,{"$f":"TREND(G3:G7,F3:F7,F8)","v":4.8},{"$f":"TREND(H3:H7,F3:F7,F8)","v":5.8000000000000007}]
[]
[null,null,"Last matches: "]
[null,null,{"$f":"CONCATENATE(C10,C2)","v":"Last matches: Sao Paulo"},null,null,null,null,null,null,{"$f":"IF(J4>1.5,\"Home Goal\",\"NB\")","v":"Home Goal"},null,{"$f":"IF(K4>1.5,\"Away Goal\",\"NB\")","v":"Away Goal"},null,{"$f":"IF((J4>1.5)*(K4>1.5),\"BTS YES\",\"NB\")","v":"BTS YES"}]
[null,null,{"$f":"CONCATENATE(C10,G2)","v":"Last matches: Fortaleza"}]
[]
[null,null,null,null,null,null,null,null,null,{"$f":"IF(M4>=3.5,\"Over 2.5\",IF(M4>=2.5,\"Over 1.5\",IF(M4<=0.5,\"Under 2.5\",IF(M4<2,\"Under 3.5\",\"NB\"))))","v":"Over 2.5"},null,{"$f":"IF(O4>1.5,1,IF(O4>1,\"1X\",IF(O4<-1.5,2,IF(O4<-1,\"X2\",\"NB\"))))","v":1},null,{"$f":"IF(J4<-0.5,\"BTS NO\",IF(K4<-0.5,\"BTS NO\",\"NB\"))","v":"NB"}]

{"sheet":"Analiz Sayfası","index":13,"n_rows":51,"n_cols":33,"rows_kept":51,"cut":false,"hidden":true,"merged":[[1,1,2,6],[3,1,3,3],[3,4,3,6],[4,1,5,2],[4,3,5,4],[4,5,5,6],[6,2,7,2],[6,3,7,3],[6,4,7,4],[44,24,44,28],[53,24,53,28],[25,2,25,5],[6,5,7,5],[6,6,7,6],[8,1,8,3],[8,4,8,6],[11,1,12,2],[13,1,14,2],[6,1,7,1]]}
[]
[]
[null,null,null,null,null,null,null,null,null,null,{"$f":"'ZW2'!I18","v":1},{"$f":"'ZW2'!J18","v":0},{"$f":"B7","v":1},{"$f":"C7","v":2}]
[null,{"$f":"'ZW4'!C2","v":"Sao Paulo"},null,null,{"$f":"'ZW4'!K2","v":"Fortaleza"},null,null,null,{"$f":"B11","v":0.54473002313123065},1]
[null,"SKOR TAHMİNİ ",null,"SKOR TAHMİNİ ",null,"SKOR TAHMİNİ ",null,null,{"$f":"C11","v":0.24915850969401881},"X",{"$f":"SUM(K3,M3)","v":2},{"$f":"SUM(L3,N3)","v":2}]
[null,null,null,null,null,null,null,null,{"$f":"D11","v":0.20583590161284232},2]
[null,{"$f":"'ZW4'!I18","v":1},{"$f":"'ZW4'!J18","v":2},{"$f":"'ZW4'!I19","v":0},{"$f":"'ZW4'!J19","v":2},{"$f":"'ZW4'!I20","v":1},{"$f":"'ZW4'!J20","v":3}]
[]
[null,"İLK YARI SONUCU",null,null,"MAÇ SONUCU"]
[null,1,"Х",2,1,"Х",2]
[null,{"$f":"'ZW2'!D23","v":0.54473002313123065},{"$f":"'ZW2'!D24","v":0.24915850969401881},{"$f":"'ZW2'!D25","v":0.20583590161284232},{"$f":"'ZW4'!D23","v":0.14209281977241997},{"$f":"'ZW4'!D24","v":0.16991718864545688},{"$f":"'ZW4'!D25","v":0.68346022289345032}]
[null,"ТБ",null,0.5,1.5,2.5,3.5,{"$f":"E11+F11","v":0.31201000841787685},null,null,null,null,null,null,{"$f":"IF(H12>0.85,H12,0)","v":0},{"$f":"E11","v":0.14209281977241997},1,{"$f":"IF(P12>=0.6,P12,0)","v":0},{"$f":"INDEX(Q12:Q14,MATCH(MAX(R12:R14),R12:R14,0))","v":2}]
[null,null,null,{"$f":"'ZW4'!L13","v":0.93650512287533716},{"$f":"'ZW4'!N13","v":0.74032620679708927},{"$f":"'ZW4'!P13","v":0.386822698852757},{"$f":"'ZW4'!R13","v":-3.7839755968516853E-2},{"$f":"F11+G11","v":0.85337741153890723},null,null,null,null,null,null,{"$f":"IF(H13>0.85,H13,0)","v":0.85337741153890723},{"$f":"F11","v":0.16991718864545688},"X",{"$f":"IF(P13>=0.6,P13,0)","v":0},{"$f":"IF(R16=0, \" \",S12)","v":2}]
[null,"ТМ",null,0.5,1.5,2.5,3.5,"1X",null,null,null,null,null,null,null,{"$f":"G11","v":0.68346022289345032},2,0.68346022289345032]
[null,null,null,{"$f":"'ZW4'!L16","v":6.3494877124662841E-2},{"$f":"'ZW4'!N16","v":0.25967379320291073},{"$f":"'ZW4'!P16","v":0.613177301147243},{"$f":"'ZW4'!R16","v":1.0378397559685169},"X2",null,null,null,null,null,null,null,null,null,null,null,{"$f":"IF(S13=\"NB\",H17,S13)","v":2}]
[null,null,null,null,null,null,null,null,null,null,null,null,null,null,null,null,null,{"$f":"SUM(R12:R14)","v":0.68346022289345032}]
[null,null,null,null,null,null,null,{"$f":"IF(O12=O13,\" \",IF(O12>O13,H14,H15))","v":"X2"}]
[{"$f":"B11+C11","v":0.7938885328252494},{"$f":"IF(A18>0.85,A18,0)","v":0}]
[{"$f":"C11+D11","v":0.45499441130686114},{"$f":"IF(A19>0.85,A19,0)","v":0},null,"İLK YARI SONUCU","MAÇ SONUCU"]
["1X",null,null,{"$f":"IF('ZW2'!I18>'ZW2'!J18,1,IF('ZW2'!I18='ZW2'!J18,\"X\",IF('ZW2'!I18<'ZW2'!J18,2,)))","v":1},{"$f":"IF(K5>L5,1,IF(K5=L5,\"X\",IF(K5<L5,2,)))","v":"X"}]
["X2",null,null,{"$f":"CONCATENATE('ZW2'!I18,\" - \",'ZW2'!J18)","v":"1 - 0"},{"$f":"CONCATENATE(K5,\" - \",L5)","v":"2 - 2"},null,{"$f":"SEARCH(\" - \",D21)","v":2},{"$f":"SEARCH(\" - \",E21)","v":2}]
[null,null,null,null,null,null,{"$f":"LEFT(D21,G21-1)*1","v":1},{"$f":"LEFT(E21,H21-1)*1","v":2}]
[{"$f":"IF(B18=B19,\" \",IF(B18>B19,A20,A21))","v":" "},null,null,null,null,null,{"$f":"MID(D21,G21+2,4)*1","v":0},{"$f":"MID(E21,H21+2,4)*1","v":2}]
[null,null,null,null,null,null,{"$f":"SUM(G22:G23)","v":1},{"$f":"SUM(H22:H23)","v":4},null,null,null,null,null,null,{"$f":"IF(H24<=2,\"X\",\" \")","v":" "},{"$f":"IF(G24<=0,\"X\",\" \")","v":" "}]
[{"$f":"B11","v":0.54473002313123065},{"$f":"IF(A25>=0.6,A25,0)","v":0},null,null,null,null,{"$f":"IF(G24<=0, \"ТМ1,5\", \"ТБ0,5\")","v":"ТБ0,5"},{"$f":"IF(H24=\"\",\"\",IF(H24<=1,\"0-1\",IF(H24<=3,\"2-3\",IF(H24<=6,\"4-6\",IF(H24>=6,\"7+\")))))","v":"4-6"},null,null,null,null,null,null,{"$f":"IF(O24=P24,O24,\" \")","v":" "}]
[{"$f":"C11","v":0.24915850969401881},{"$f":"IF(A26>=0.6,A26,0)","v":0},null,null,null,null,{"$f":"'a5'!M3","v":"ТБ0,5"},{"$f":"'a2'!M2","v":"2-3"}]
[{"$f":"D11","v":0.20583590161284232},{"$f":"IF(A27>=0.6,A27,0)","v":0},null,null,null,null,{"$f":"IF(G25=G26,G25,\" \")","v":"ТБ0,5"},{"$f":"IF(H25=H26,H25,\" \")","v":" "}]
[]
[1,{"$f":"IF(A25>=0.6,A25,0)","v":0},{"$f":"INDEX(A29:A31,MATCH(MAX(B29:B31),B29:B31,0))","v":1}]
["X",{"$f":"IF(A26>=0.6,A26,0)","v":0},{"$f":"IF(B33=0, \" \",C29)","v":" "}]
[2,{"$f":"IF(A27>=0.6,A27,0)","v":0}]
[]
[null,{"$f":"SUM(B29:B31)","v":0}]
[]
[]
[]
[]
[]
[]
[]
[]
[]
[]
[]
[null,null,null,null,null,null,null,null,null,null,null,null,null,null,null,null,null,null,null,null,null,null,null,null,"Победа/Проигрыш",null,null,null,null,"ИНДЕКС","ИНДЕКС ","ИНДЕКС "]
[null,null,null,null,null,null,null,null,null,null,null,null,null,null,null,null,null,null,null,null,null,null,null,null,null,null,null,null,null,"РАБОТЫ","ПОБЕДЫ","ФОРМЫ"]
[null,null,null,null,null,null,null,null,null,null,null,null,null,null,null,null,null,null,null,null,null,null,null,null,"Игрок 1",{"$f":"'45W (2)'!F3","v":19},{"$f":"'45W (2)'!G3","v":12},{"$f":"Z47-AA47","v":7},4,{"$f":"(AB47/AC47)","v":1.75},{"$f":"(AD47-AD48)","v":-1.5},{"$f":"'45W (2)'!H3","v":16},{"$f":"AD47+AE47","v":0.25}]
[null,null,null,null,null,null,null,null,null,null,null,null,null,null,null,null,null,null,null,null,null,null,null,null,"Игрок 2",{"$f":"'45W (2)'!F4","v":18},{"$f":"'45W (2)'!G4","v":5},{"$f":"Z48-AA48","v":13},4,{"$f":" (AB48/AC48)","v":3.25},{"$f":"(AD48-AD47)","v":1.5},{"$f":"'45W (2)'!H4","v":22},{"$f":"AD48+AE48","v":4.75}]
[null,null,null,null,null,null,null,null,null,null,null,null,null,null,null,null,null,null,null,null,null,null,null,null,null,null,null,null,null,"ШАГ 1","ШАГ 2","ШАГ 3"]
[]
[null,null,null,null,null,null,null,null,null,null,null,null,null,null,null,null,null,null,null,null,null,null,null,null,null,null,null,null,null,{"$f":"IF(AND(AD47>AD48),\"П1\",IF(AND(AD48>AD47),\"П2\"))","v":"П2"},{"$f":"IF(AND(AE47>AE48),\"П1\",IF(AND(AE48>AE47),\"П2\"))","v":"П2"},{"$f":"IF(AND(AF47>AF48),\"П1\",IF(AND(AF48>AF47),\"П2\"))","v":"П2"}]

{"sheet":"Veri","index":14,"n_rows":12,"n_cols":18,"rows_kept":12,"cut":false,"hidden":true,"merged":[[0,0,0,3],[0,10,0,13],[0,4,0,6],[0,14,0,16]]}
["Home",null,null,null,{"$f":"IF(COUNTIF(B3:D17,B3)>COUNTIF(B3:D17,D3),B3,D3)","v":"Sao Paulo"},null,null,{"$f":"'ZW1'!G2","v":10},null,null,"Home",null,null,null,{"$f":"IF(COUNTIF(L3:N17,L3)>COUNTIF(L3:N17,N3),L3,N3)","v":"Fortaleza"},null,null,{"$f":"'ZW1'!G20","v":10}]
["Date","Home","FT","Away","2.5+ ","CS ","FTS ","HT",null,null,"Date","Home","FT","Away","2.5+ ","CS ","FTS ","HT"]
["13 Aug",{"$f":"Analysis!T12","v":"Sao Paulo"},{"$f":"'a3'!N3","v":"2-3"},{"$f":"Analysis!U12","v":"Mirassol"},"-","-","-",{"$f":"'a3'!S3","v":"2-2"},null,null,"13 Aug",{"$f":"Analysis!T24","v":"Fortaleza"},{"$f":"'a3'!N20","v":"0-2"},{"$f":"Analysis!U24","v":"Atletico Paranaense"},"+","-","-",{"$f":"'a3'!S20","v":"0-2"}]
["20 Aug",{"$f":"Analysis!T13","v":"Guarani SP"},{"$f":"'a3'!N4","v":"1-3"},{"$f":"Analysis!U13","v":"Sao Paulo"},"+","-","-",{"$f":"'a3'!S4","v":"1-1"},null,null,"20 Aug",{"$f":"Analysis!T25","v":"Fortaleza"},{"$f":"'a3'!N21","v":"0-1"},{"$f":"Analysis!U25","v":"Ceara"},"+","-","-",{"$f":"'a3'!S21","v":"0-1"}]
["27 Aug",{"$f":"Analysis!T14","v":"Sao Paulo"},{"$f":"'a3'!N5","v":"2-3"},{"$f":"Analysis!U14","v":"Bragantino"},"+","-","-",{"$f":"'a3'!S5","v":"2-2"},null,null,"27 Aug",{"$f":"Analysis!T26","v":"Fortaleza"},{"$f":"'a3'!N22","v":"0-0"},{"$f":"Analysis!U26","v":"Sport Club Recife PE"},"+","-","-",{"$f":"'a3'!S22","v":"0-0"}]
["10 Sep",{"$f":"Analysis!T15","v":"Sao Paulo"},{"$f":"'a3'!N6","v":"2-1"},{"$f":"Analysis!U15","v":"Santos"},"+","-","-",{"$f":"'a3'!S6","v":"0-1"},null,null,"10 Sep",{"$f":"Analysis!T27","v":"Fortaleza"},{"$f":"'a3'!N23","v":"3-1"},{"$f":"Analysis!U27","v":"America FC Natal RN"},"+","-","-",{"$f":"'a3'!S23","v":"0-1"}]
["18 Sep",{"$f":"Analysis!T16","v":"Sao Paulo"},{"$f":"'a3'!N7","v":"3-0"},{"$f":"Analysis!U16","v":"Liga Dep. Universitaria Quito"},"+","-","-",{"$f":"'a3'!S7","v":"2-0"},null,null,"17 Sep",{"$f":"Analysis!T28","v":"Fortaleza"},{"$f":"'a3'!N24","v":"1-0"},{"$f":"Analysis!U28","v":"Guarany CE"},"+","-","-",{"$f":"'a3'!S24","v":"1-0"}]
["26 Sep",{"$f":"Analysis!T17","v":"Botafogo SP"},{"$f":"'a3'!N8","v":"1-0"},{"$f":"Analysis!U17","v":"Sao Paulo"},"-","-","+",{"$f":"'a3'!S8","v":"0-0"},null,null,"24 Sep",{"$f":"Analysis!T29","v":"Ceara"},{"$f":"'a3'!N25","v":"1-2"},{"$f":"Analysis!U29","v":"Fortaleza"},"+","-","-",{"$f":"'a3'!S25","v":"0-1"}]
["1 Oct",{"$f":"Analysis!T18","v":"EM Deportivo Binacional"},{"$f":"'a3'!N9","v":"2-1"},{"$f":"Analysis!U18","v":"Sao Paulo"},"+","-","-",{"$f":"'a3'!S9","v":"0-1"},null,null,"1 Oct",{"$f":"Analysis!T30","v":"Guarany CE"},{"$f":"'a3'!N26","v":"0-5"},{"$f":"Analysis!U30","v":"Fortaleza"},"+","-","-",{"$f":"'a3'!S26","v":"0-2"}]
["16 Oct",{"$f":"Analysis!T19","v":"Sao Paulo"},{"$f":"'a3'!N10","v":"2-1"},{"$f":"Analysis!U19","v":"Ponte Preta"},"-","+","-",{"$f":"'a3'!S10","v":"2-0"},null,null,"15 Oct",{"$f":"Analysis!T31","v":"Nautico (PE)"},{"$f":"'a3'!N27","v":"0-3"},{"$f":"Analysis!U31","v":"Fortaleza"},"+","-","-",{"$f":"'a3'!S27","v":"0-1"}]
["22 Oct",{"$f":"Analysis!T20","v":"Oeste"},{"$f":"'a3'!N11","v":"0-4"},{"$f":"Analysis!U20","v":"Sao Paulo"},"-","+","+",{"$f":"'a3'!S11","v":"0-1"},null,null,"22 Oct",{"$f":"Analysis!T32","v":"Fortaleza"},{"$f":"'a3'!N28","v":"3-0"},{"$f":"Analysis!U32","v":"Pacajus"},"+","-","-",{"$f":"'a3'!S28","v":"1-0"}]
[null,{"$f":"Analysis!T21","v":"Sao Paulo"},{"$f":"'a3'!N12","v":"0-0"},{"$f":"Analysis!U21","v":"Corinthians Paulista (SP)"},null,null,null,{"$f":"'a3'!S12","v":"0-0"},null,null,null,{"$f":"Analysis!T33","v":"Fortaleza"},{"$f":"'a3'!N29","v":"1-0"},{"$f":"Analysis!U33","v":"Centro Sportivo Alagoano"},"+","-","-",{"$f":"'a3'!S29","v":"1-0"}]

{"sheet":"ZW1","index":15,"n_rows":128,"n_cols":59,"rows_kept":128,"cut":false,"hidden":true,"merged":[[33,55,34,55],[13,49,14,51],[15,49,16,51],[47,51,47,52],[47,53,47,54],[33,49,34,50],[33,52,34,54],[46,51,46,54],[35,52,36,53],[35,54,36,55],[19,10,19,11],[35,45,36,47],[35,48,36,48],[39,45,39,48],[39,49,39,50],[38,49,38,50],[19,20,19,23],[19,24,19,25],[14,33,14,35],[38,45,38,48],[49,51,49,54],[48,51,48,52],[48,53,48,54],[40,45,40,48],[40,49,40,50],[44,49,44,50],[42,51,44,51],[49,45,49,48],[46,45,46,48],[47,45,47,46],[47,47,47,48],[48,45,48,46],[48,47,48,48],[12,37,12,39],[13,37,13,39],[9,40,10,40],[17,36,18,36],[20,37,20,39],[0,10,0,17],[1,24,1,25],[1,20,1,23],[0,20,0,31],[18,20,18,31],[18,10,18,17],[1,10,1,11],[0,57,0,58],[1,46,2,48],[1,49,2,51],[1,52,2,54],[3,46,4,48],[3,49,4,51],[3,52,4,54],[0,46,0,54],[1,1,1,5],[19,1,19,5],[14,37,14,39],[20,34,20,35],[42,52,44,53],[42,45,42,48],[43,45,43,48],[44,45,44,48],[42,49,42,50],[43,49,43,50],[9,32,10,32],[17,33,18,35],[17,37,18,39],[33,46,34,48],[12,33,12,35],[13,33,13,35],[110,33,110,35],[110,37,110,39],[106,33,106,35],[106,37,106,39],[108,33,108,35],[108,37,108,39]]}
[null,null,null,null,null,"Aarhus",null,null,null,null,"Statistiken",null,null,null,null,null,null,null,null,null,"Heimteam",null,null,null,null,null,null,null,null,null,null,null,null,null,"Heim","Gesamt","Statistiken","Gesamt","Ausäwrts",null,null,null,null,null,null,null,"TOTAL+(HOME-AWAY)",null,null,null,null,null,null,null,null,null,null,"\" Score \""]
[{"$f":"IF(COUNTIF(E3:F17,E3)>COUNTIF(E3:F17,F3),E3,F3)","v":"Sao Paulo"},{"$f":"A2","v":"Sao Paulo"},null,null,null,null,{"$f":"COUNT(K3:K17)","v":10},null,null,null,"Ergebnis",null,"TG","GT","PKT","PERF","INDEX","TD","OV",null,{"$f":"B2","v":"Sao Paulo"},null,null,null,"Ergebnis",null,"TG","GT","PKT","PERF","INDEX","TD",null,null,{"$f":"COUNT(Y3:Y17)","v":6},{"$f":"COUNT(K3:K17)","v":10},"Absolvierte Spiele",{"$f":"COUNT(K21:K35)","v":10},{"$f":"COUNT(Y21:Y35)","v":3},null,null,null,null,null,null,null,{"$f":"AH18","v":1.61},null,null,null,null,null,{"$f":"AL18","v":0.88277777777777777},null,null,null,null,{"$f":"AW6","v":0.1331147689031606},"1-0"]
[null,1,{"$f":"Veri!A3","v":"13 Aug"},null,{"$f":"Veri!B3","v":"Sao Paulo"},{"$f":"Veri!D3","v":"Mirassol"},{"$f":"Veri!H3","v":"2-2"},null,null,null,{"$f":"IFERROR(VALUE(LEFT(G3,FIND(\"-\",G3,1)-1)),\"\")","v":2},{"$f":"IFERROR(VALUE(RIGHT(G3,FIND(\"-\",G3,1)-1)),\"\")","v":2},{"$f":"IF(OR(K3=\"\",L3=\"\"),\"\",IF(E3=$B$2,K3,L3))","v":2},{"$f":"IF(OR(K3=\"\",L3=\"\"),\"\",IF(E3=$B$2,L3,K3))","v":2},{"$f":"IF(OR(M3=\"\",N3=\"\"),\"\",IF(M3>N3,3,IF(M3<N3,0,1)))","v":1},{"$f":"IF(O3=\"\",\"\",IF(O3=3,1,IF(O3=1,0.5,IF(O3=0,0))))","v":0.5},{"$f":"IF(O3=\"\",\"\",IF(O3=1,\"D\",IF(O3=0,\"L\",IF(O3=3,\"W\"))))","v":"D"},{"$f":"IF(OR(M3=\"\",N3=\"\"),\"\",M3-N3)","v":0},{"$f":"IF(OR(K3=\"\",L3=\"\"),\"\",K3+L3)","v":4},null,1,{"$f":"IF(E3=$B$2,E3,\"-\")","v":"Sao Paulo"},{"$f":"IF(E3=$B$2,F3,\"-\")","v":"Mirassol"},{"$f":"IF(AND(V3=E3,W3=F3),G3,\"-\")","v":"2-2"},{"$f":"IFERROR(VALUE(LEFT(X3,FIND(\"-\",X3,1)-1)),\"\")","v":2},{"$f":"IFERROR(VALUE(RIGHT(X3,FIND(\"-\",X3,1)-1)),\"\")","v":2},{"$f":"IF(OR(Y3=\"\",Z3=\"\"),\"\",Y3)","v":2},{"$f":"IF(OR(Y3=\"\",Z3=\"\"),\"\",Z3)","v":2},{"$f":"IF(OR(AA3=\"\",AB3=\"\"),\"\",IF(AA3>AB3,3,IF(AA3<AB3,0,1)))","v":1},{"$f":"IF(AC3=\"\",\"\",IF(AC3=3,1,IF(AC3=1,0.5,IF(AC3=0,0))))","v":0.5},{"$f":"IF(AC3=\"\",\"\",IF(AC3=1,\"D\",IF(AC3=0,\"L\",IF(AC3=3,\"W\"))))","v":"D"},{"$f":"IF(OR(AA3=\"\",AB3=\"\"),\"\",AA3-AB3)","v":0},null,null,{"$f":"SUM(AA3:AA17)","v":8},{"$f":"SUM(M3:M17)","v":11},"Erzielte Treffer",{"$f":"SUM(M21:M35)","v":7},{"$f":"SUM(AA21:AA35)","v":4},null,null,null,null,null,null,null,null,null,null,null,null,null,null,null,null,null,null,0.1071573889670443,"2-0"]
[null,{"$f":"1+B3","v":2},{"$f":"Veri!A4","v":"20 Aug"},null,{"$f":"Veri!B4","v":"Guarani SP"},{"$f":"Veri!D4","v":"Sao Paulo"},{"$f":"Veri!H4","v":"1-1"},null,null,null,1,1,1,1,1,0.5,"D",0,2,null,{"$f":"1+U3","v":2},"-","-","-","","","","","","","","",null,null,{"$f":"SUM(AB3:AB17)","v":5},{"$f":"SUM(N3:N17)","v":6},"Gegentore",{"$f":"SUM(N21:N35)","v":4},{"$f":"SUM(AB21:AB35)","v":0},null,null,null,null,null,null,null,1,null,null,"X",null,null,2,null,null,null,null,5.7507798745647105E-2,"3-0"]
[null,3,{"$f":"Veri!A5","v":"27 Aug"},null,{"$f":"Veri!B5","v":"Sao Paulo"},{"$f":"Veri!D5","v":"Bragantino"},{"$f":"Veri!H5","v":"2-2"},null,null,null,2,2,2,2,1,0.5,"D",0,4,null,3,"Sao Paulo","Bragantino","2-2",2,2,2,2,1,0.5,"D",0,null,null,{"$f":"AI3/AI2","v":1.3333333333333333},{"$f":"AJ3/AJ2","v":1.1000000000000001},"Erzielte Treffer im Schnitt",{"$f":"AL3/AL2","v":0.7},{"$f":"AM3/AM2","v":1.3333333333333333},null,null,null,null,null,null,null,null,null,null,null,null,null,null,null,null,null,null,2.3146888995122961E-2,"4-0"]
[null,4,{"$f":"Veri!A6","v":"10 Sep"},null,{"$f":"Veri!B6","v":"Sao Paulo"},{"$f":"Veri!D6","v":"Santos"},{"$f":"Veri!H6","v":"0-1"},null,null,null,0,1,0,1,0,0,"L",-1,1,null,4,"Sao Paulo","Santos","0-1",0,1,0,1,0,0,"L",-1,null,null,{"$f":"AI4/AI2","v":0.83333333333333337},{"$f":"AJ4/AJ2","v":0.6},"Gegentore im Schnitt",{"$f":"AL4/AL2","v":0.4},{"$f":"AM4/AM2","v":0},null,null,null,null,null,null,null,1,0,{"$f":"((POISSON(AU6,$AU$2,FALSE)*POISSON(AV6,$BA$2,FALSE)))*100%","v":0.1331147689031606},0,0,{"$f":"((POISSON(AX6,$AU$2,FALSE)*POISSON(AY6,$BA$2,FALSE)))*100%","v":8.2679980685192916E-2},0,1,{"$f":"((POISSON(BA6,$AU$2,FALSE)*POISSON(BB6,$BA$2,FALSE)))*100%","v":7.2988049615984193E-2},null,null,7.4532982564295925E-3,"5-0"]
[null,5,{"$f":"Veri!A7","v":"18 Sep"},null,{"$f":"Veri!B7","v":"Sao Paulo"},{"$f":"Veri!D7","v":"Liga Dep. Universitaria Quito"},{"$f":"Veri!H7","v":"2-0"},null,null,null,2,0,2,0,3,1,"W",2,2,null,5,"Sao Paulo","Liga Dep. Universitaria Quito","2-0",2,0,2,0,3,1,"W",2,null,null,null,null,null,null,null,null,null,null,null,null,null,null,2,0,0.1071573889670443,1,1,0.11751075988173455,0,2,3.2216114122166351E-2,null,null,1.999968365475272E-3,"6-0"]
[null,6,{"$f":"Veri!A8","v":"26 Sep"},null,{"$f":"Veri!B8","v":"Botafogo SP"},{"$f":"Veri!D8","v":"Sao Paulo"},{"$f":"Veri!H8","v":"0-0"},null,null,null,0,0,0,0,1,0.5,"D",0,0,null,6,"-","-","-","","","","","","","","",null,null,null,null,null,null,null,null,null,null,null,null,null,null,3,0,5.7507798745647105E-2,2,2,4.1753694708033702E-2,0,3,9.4798898778004331E-3,null,null,4.5999272405931321E-4,"7-0"]
[null,7,{"$f":"Veri!A9","v":"1 Oct"},null,{"$f":"Veri!B9","v":"EM Deportivo Binacional"},{"$f":"Veri!D9","v":"Sao Paulo"},{"$f":"Veri!H9","v":"0-1"},null,null,null,0,1,1,0,3,1,"W",1,1,null,7,"-","-","-","","","","","","","","",null,null,{"$f":"COUNTIF($AE$3:$AE$17,\"W\")/AI2","v":0.33333333333333331},{"$f":"COUNTIF($Q$3:$Q$17,\"W\")/AJ2","v":0.4},"Siege",{"$f":"COUNTIF($Q$21:$Q$35,\"W\")/AL2","v":0.6},{"$f":"COUNTIF($AE$21:$AE$35,\"W\")/AM2","v":1},null,null,null,null,null,null,null,4,0,2.3146888995122961E-2,3,3,6.5937073848528127E-3,0,4,2.0921590299756787E-3,null,null,9.459616170479633E-2,"2-1"]
[null,8,{"$f":"Veri!A10","v":"16 Oct"},null,{"$f":"Veri!B10","v":"Sao Paulo"},{"$f":"Veri!D10","v":"Ponte Preta"},{"$f":"Veri!H10","v":"2-0"},null,null,null,2,0,2,0,3,1,"W",2,2,null,8,"Sao Paulo","Ponte Preta","2-0",2,0,2,0,3,1,"W",2,{"$f":"AVERAGE(AH10:AH11)","v":3},{"$f":"IF(OR(AJ9=0,AJ11=0),0,(AJ9/AJ11))","v":4},{"$f":"COUNTIF($AE$3:$AE$17,\"D\")/AI2","v":0.5},{"$f":"COUNTIF($Q$3:$Q$17,\"D\")/AJ2","v":0.5},"Unentschieden",{"$f":"COUNTIF($Q$21:$Q$35,\"D\")/AL2","v":0.1},{"$f":"COUNTIF($AE$21:$AE$35,\"D\")/AM2","v":0},{"$f":"IF(OR(AL9=0,AL11=0),0,(AL9/AL11))","v":2},{"$f":"AVERAGE(AN10:AN11)","v":1},null,null,null,null,null,5,0,7.4532982564295925E-3,4,4,5.8571582172205216E-4,0,5,3.6938229984792825E-4,null,null,5.0766606781574027E-2,"3-1"]
[null,9,{"$f":"Veri!A11","v":"22 Oct"},null,{"$f":"Veri!B11","v":"Oeste"},{"$f":"Veri!D11","v":"Sao Paulo"},{"$f":"Veri!H11","v":"0-1"},null,null,null,0,1,1,0,3,1,"W",1,1,null,9,"-","-","-","","","","","","","","",null,{"$f":"IF(OR(AI9=0,AI11=0),0,(AI9/AI11))","v":2},{"$f":"COUNTIF($AE$3:$AE$17,\"L\")/AI2","v":0.16666666666666666},{"$f":"COUNTIF($Q$3:$Q$17,\"L\")/AJ2","v":0.1},"Niederlagen",{"$f":"COUNTIF($Q$21:$Q$35,\"L\")/AL2","v":0.3},{"$f":"COUNTIF($AE$21:$AE$35,\"L\")/AM2","v":0},{"$f":"IF(OR(AM9=0,AM11=0),0,(AM9/AM11))","v":0},null,null,null,null,null,null,6,0,1.999968365475272E-3,5,5,3.3298465101184642E-5,0,6,5.4347080968366452E-5,null,null,2.0433559229583547E-2,"4-1"]
[null,10,{"$f":"Veri!A12","v":0},null,{"$f":"Veri!B12","v":"Sao Paulo"},{"$f":"Veri!D12","v":"Corinthians Paulista (SP)"},{"$f":"Veri!H12","v":"0-0"},null,null,null,0,0,0,0,1,0.5,"D",0,0,null,10,"Sao Paulo","Corinthians Paulista (SP)","0-0",0,0,0,0,1,0.5,"D",0,null,null,null,null,null,null,null,null,null,null,null,null,null,null,7,0,4.5999272405931321E-4,6,6,1.3146162080819373E-6,0,7,6.8537707665662241E-6,null,null,6.5796060719259019E-3,"5-1"]
[null,11,{"$f":"Veri!A13","v":0},null,{"$f":"Veri!B13","v":0},{"$f":"Veri!D13","v":0},{"$f":"Veri!H13","v":0},null,null,null,"","","","","","","","","",null,11,"-","-","-","","","","","","","","",null,{"$f":"AJ5*AL6","v":0.44000000000000006},null,null,null,{"$f":"AL5*AJ6","v":0.42},null,null,null,null,null,null,null,null,2,1,9.459616170479633E-2,7,7,3.8131173457754523E-8,1,2,5.1867943736687822E-2,null,null,1.7655276293001153E-3,"6-1"]
[null,12,{"$f":"Veri!A14","v":0},null,{"$f":"Veri!B14","v":0},{"$f":"Veri!D14","v":0},{"$f":"Veri!H14","v":0},null,null,null,"","","","","","","","","",null,12,"-","-","-","","","","","","","","",null,{"$f":"AI5*AM6","v":0},null,null,null,{"$f":"AM5*AI6","v":1.1111111111111112},null,null,null,null,null,null,null,null,3,1,5.0766606781574027E-2,{"$f":"SUM(AZ6:AZ13)","v":0.24915850969401881},null,null,1,3,1.5262622703258698E-2,null,null,4.0607135473902709E-4,"7-1"]
[null,13,{"$f":"Veri!A15","v":0},null,{"$f":"Veri!B15","v":0},{"$f":"Veri!D15","v":0},{"$f":"Veri!H15","v":0},null,null,null,"","","","","","","","","",null,13,"-","-","-","","","","","","","","",null,{"$f":"AVERAGE(AH13:AJ14)","v":0.22000000000000003},null,null,null,{"$f":"AVERAGE(AL13:AN14)","v":0.76555555555555554},null,null,null,null,null,null,null,null,4,1,2.0433559229583547E-2,null,null,null,1,4,3.368376038260843E-3,null,null,2.2407816159978087E-2,"3-2"]
[null,14,{"$f":"Veri!A16","v":0},null,{"$f":"Veri!B16","v":0},{"$f":"Veri!D16","v":0},{"$f":"Veri!H16","v":0},null,null,null,"","","","","","","","","",null,14,"-","-","-","","","","","","","","",null,null,null,null,null,null,null,null,null,null,null,null,null,null,5,1,6.5796060719259019E-3,{"$f":"1-AX14","v":0.75084149030598124},null,null,1,5,5.9470550275516449E-4,null,null,9.0191460043911806E-3,"4-2"]
[null,15,{"$f":"Veri!A17","v":0},null,{"$f":"Veri!B17","v":0},{"$f":"Veri!D17","v":0},{"$f":"Veri!H17","v":0},null,null,null,"","","","","","","","","",null,15,"-","-","-","","","","","","","","",null,null,null,null,null,null,null,null,null,null,null,null,null,null,6,1,1.7655276293001153E-3,null,null,null,1,6,8.7498800359069989E-5,null,null,2.9041650134139598E-3,"5-2"]
[null,null,null,null,null,null,null,null,null,null,null,null,null,null,null,null,null,null,null,null,null,null,null,null,null,null,null,null,null,null,null,null,null,{"$f":"(AG10+AH15)/2","v":1.61},null,null,"Erwartete Tore",{"$f":"(AL15+AO10)/2","v":0.88277777777777777},null,null,null,null,null,null,null,null,7,1,4.0607135473902709E-4,null,null,null,1,7,1.1034570934171622E-5,null,null,7.7928427859941187E-4,"6-2"]
[null,null,null,null,null,null,null,null,null,null,"Statistiken",null,null,null,null,null,null,null,null,null,"Auswärtsteam",null,null,null,null,null,null,null,null,null,null,null,null,null,null,null,null,null,null,null,null,null,null,null,null,null,3,2,2.2407816159978087E-2,null,null,null,2,3,1.2286411276123255E-2,null,null,1.7923538407786494E-4,"7-2"]
[{"$f":"IF(COUNTIF(E21:F35,E21)>COUNTIF(E21:F35,F21),E21,F21)","v":"Fortaleza"},{"$f":"A20","v":"Fortaleza"},null,null,null,null,{"$f":"COUNT(K21:K35)","v":10},null,null,null,"Ergebnis",null,"TG","GT","PKT","PERF","INDEX","TD","OV",null,{"$f":"B20","v":"Fortaleza"},null,null,null,"Ergebnis",null,"TG","GT","PKT","PERF","INDEX","TD",null,null,null,null,null,null,null,null,null,null,null,null,null,null,4,2,9.0191460043911806E-3,null,null,null,2,4,2.7115427107999787E-3,null,null,2.6539672224032574E-3,"4-3"]
[null,1,{"$f":"Veri!K3","v":"13 Aug"},null,{"$f":"Veri!L3","v":"Fortaleza"},{"$f":"Veri!N3","v":"Atletico Paranaense"},{"$f":"Veri!R3","v":"0-2"},null,null,null,{"$f":"IFERROR(VALUE(LEFT(G21,FIND(\"-\",G21,1)-1)),\"\")","v":0},{"$f":"IFERROR(VALUE(RIGHT(G21,FIND(\"-\",G21,1)-1)),\"\")","v":2},{"$f":"IF(OR(K21=\"\",L21=\"\"),\"\",IF(E21=$B$20,K21,L21))","v":0},{"$f":"IF(OR(K21=\"\",L21=\"\"),\"\",IF(E21=$B$20,L21,K21))","v":2},{"$f":"IF(OR(M21=\"\",N21=\"\"),\"\",IF(M21>N21,3,IF(M21<N21,0,1)))","v":0},{"$f":"IF(O21=\"\",\"\",IF(O21=3,1,IF(O21=1,0.5,IF(O21=0,0))))","v":0},{"$f":"IF(O21=\"\",\"\",IF(O21=1,\"D\",IF(O21=0,\"L\",IF(O21=3,\"W\"))))","v":"L"},{"$f":"IF(OR(M21=\"\",N21=\"\"),\"\",M21-N21)","v":-2},{"$f":"IF(OR(K21=\"\",L21=\"\"),\"\",K21+L21)","v":2},null,1,{"$f":"IF(F21=$B$20,E21,\"-\")","v":"-"},{"$f":"IF(F21=$B$20,F21,\"-\")","v":"-"},{"$f":"IF(AND(V21=E21,W21=F21),G21,\"-\")","v":"-"},{"$f":"IFERROR(VALUE(LEFT(X21,FIND(\"-\",X21,1)-1)),\"\")","v":""},{"$f":"IFERROR(VALUE(RIGHT(X21,FIND(\"-\",X21,1)-1)),\"\")","v":""},{"$f":"IF(OR(Y21=\"\",Z21=\"\"),\"\",Z21)","v":""},{"$f":"IF(OR(Y21=\"\",Z21=\"\"),\"\",Y21)","v":""},{"$f":"IF(OR(AA21=\"\",AB21=\"\"),\"\",IF(AA21>AB21,3,IF(AA21<AB21,0,1)))","v":""},{"$f":"IF(AC21=\"\",\"\",IF(AC21=3,1,IF(AC21=1,0.5,IF(AC21=0,0))))","v":""},{"$f":"IF(AC21=\"\",\"\",IF(AC21=1,\"D\",IF(AC21=0,\"L\",IF(AC21=3,\"W\"))))","v":""},{"$f":"IF(OR(AA21=\"\",AB21=\"\"),\"\",AA21-AB21)","v":""},null,null,"ТБ",null,{"$f":"B2","v":"Sao Paulo"},"ТМ",null,null,null,null,null,null,null,null,5,2,2.9041650134139598E-3,null,null,null,2,5,4.787379297179075E-4,null,null,8.545774456138488E-4,"5-3"]
[null,{"$f":"1+B21","v":2},{"$f":"Veri!K4","v":"20 Aug"},null,{"$f":"Veri!L4","v":"Fortaleza"},{"$f":"Veri!N4","v":"Ceara"},{"$f":"Veri!R4","v":"0-1"},null,null,null,0,1,0,1,0,0,"L",-1,1,null,{"$f":"1+U21","v":2},"-","-","-","","","","","","","","",null,null,{"$f":"SUM(AW6:AW33)+SUM(AZ7:AZ13)+SUM(BC6:BC33)","v":0.91704445375289878},{"$f":"1/AI22","v":1.090459678271446},0.5,{"$f":"IF(AI22=0,0,(1-AI22))","v":8.2955546247101219E-2},{"$f":"IF(OR(AI22=0,AL22=0),0,(AI22-AL22))","v":0.83408890750579756},{"$f":"1-AM22","v":0.16591109249420244},null,null,null,null,null,null,6,2,7.7928427859941187E-4,null,null,null,2,6,7.0436534289051357E-5,null,null,2.2931161457304919E-4,"6-3"]
[null,3,{"$f":"Veri!K5","v":"27 Aug"},null,{"$f":"Veri!L5","v":"Fortaleza"},{"$f":"Veri!N5","v":"Sport Club Recife PE"},{"$f":"Veri!R5","v":"0-0"},null,null,null,0,0,0,0,1,0.5,"D",0,0,null,3,"-","-","-","","","","","","","","",null,null,{"$f":"SUM(AW7:AW33)+SUM(AZ7:AZ13)+SUM(BC7:BC33)","v":0.71094163523375398},{"$f":"1/AI23","v":1.4065852250602895},1.5,{"$f":"IF(AI23=0,0,(1-AI23))","v":0.28905836476624602},{"$f":"IF(OR(AI23=0,AL23=0),0,(AI23-AL23))","v":0.42188327046750795},{"$f":"1-AM23","v":0.57811672953249205},null,null,null,null,null,null,7,2,1.7923538407786494E-4,null,null,null,2,7,8.8828296020081573E-6,null,null,5.2741671351801383E-5,"7-3"]
[null,4,{"$f":"Veri!K6","v":"10 Sep"},null,{"$f":"Veri!L6","v":"Fortaleza"},{"$f":"Veri!N6","v":"America FC Natal RN"},{"$f":"Veri!R6","v":"0-1"},null,null,null,0,1,0,1,0,0,"L",-1,1,null,4,"-","-","-","","","","","","","","",null,null,{"$f":"SUM(AW8:AW33)+SUM(AZ8:AZ13)+SUM(BC8:BC33)","v":0.45405737226280862},{"$f":"1/AI24","v":2.2023648575872028},2.5,{"$f":"IF(AI24=0,0,(1-AI24))","v":0.54594262773719138},{"$f":"IF(OR(AI24=0,AL24=0),0,(AI24-AL24))","v":-9.1885255474382754E-2},{"$f":"1-AM24","v":1.0918852554743828},null,null,null,null,null,null,4,3,2.6539672224032574E-3,null,null,null,3,4,1.4551945881293219E-3,null,null,1.8860049459450078E-4,"5-4"]
[null,5,{"$f":"Veri!K7","v":"17 Sep"},null,{"$f":"Veri!L7","v":"Fortaleza"},{"$f":"Veri!N7","v":"Guarany CE"},{"$f":"Veri!R7","v":"1-0"},null,null,null,1,0,1,0,3,1,"W",1,1,null,5,"-","-","-","","","","","","","","",null,null,{"$f":"AW9+AW10+AW11+AW12+BC9+BC10+BC11+BC12+SUM(AZ8:AZ13)+SUM(AW14:AW33)+SUM(BC14:BC33)","v":0.24060557819787692},{"$f":"1/AI25","v":4.1561796176545336},3.5,{"$f":"IF(AI25=0,0,(1-AI25))","v":0.75939442180212313},{"$f":"IF(OR(AI25=0,AL25=0),0,(AI25-AL25))","v":-0.51878884360424626},{"$f":"1-AM25","v":1.5187888436042463},null,null,null,null,null,null,5,3,8.545774456138488E-4,null,null,null,3,5,2.5692268894861032E-4,null,null,5.0607799382857656E-5,"6-4"]
[null,6,{"$f":"Veri!K8","v":"24 Sep"},null,{"$f":"Veri!L8","v":"Ceara"},{"$f":"Veri!N8","v":"Fortaleza"},{"$f":"Veri!R8","v":"0-1"},null,null,null,0,1,1,0,3,1,"W",1,1,null,6,"Ceara","Fortaleza","0-1",0,1,1,0,3,1,"W",1,null,null,null,null,null,null,null,null,null,null,null,null,null,null,6,3,2.2931161457304919E-4,null,null,null,3,6,3.7800940068457557E-5,null,null,1.1639793858057277E-5,"7-4"]
[null,7,{"$f":"Veri!K9","v":"1 Oct"},null,{"$f":"Veri!L9","v":"Guarany CE"},{"$f":"Veri!N9","v":"Fortaleza"},{"$f":"Veri!R9","v":"0-2"},null,null,null,0,2,2,0,3,1,"W",2,2,null,7,"Guarany CE","Fortaleza","0-2",0,2,2,0,3,1,"W",2,null,null,null,null,null,null,null,null,null,null,null,null,null,null,7,3,5.2741671351801383E-5,null,null,null,3,7,4.7671185530777105E-6,null,null,8.9350881354845368E-6,"6-5"]
[null,8,{"$f":"Veri!K10","v":"15 Oct"},null,{"$f":"Veri!L10","v":"Nautico (PE)"},{"$f":"Veri!N10","v":"Fortaleza"},{"$f":"Veri!R10","v":"0-1"},null,null,null,0,1,1,0,3,1,"W",1,1,null,8,"Nautico (PE)","Fortaleza","0-1",0,1,1,0,3,1,"W",1,null,null,null,null,null,null,null,null,null,null,null,null,null,null,5,4,1.8860049459450078E-4,null,null,null,4,5,1.0341138230181567E-4,null,null,2.0550702711614465E-6,"7-5"]
[null,9,{"$f":"Veri!K11","v":"22 Oct"},null,{"$f":"Veri!L11","v":"Fortaleza"},{"$f":"Veri!N11","v":"Pacajus"},{"$f":"Veri!R11","v":"1-0"},null,null,null,1,0,1,0,3,1,"W",1,1,null,9,"-","-","-","","","","","","","","",null,null,null,null,null,null,null,null,null,null,null,null,null,null,6,4,5.0607799382857656E-5,null,null,null,4,6,1.5214878377554169E-5,null,null,3.0236172785884597E-7,"7-6"]
[null,10,{"$f":"Veri!K12","v":0},null,{"$f":"Veri!L12","v":"Fortaleza"},{"$f":"Veri!N12","v":"Centro Sportivo Alagoano"},{"$f":"Veri!R12","v":"1-0"},null,null,null,1,0,1,0,3,1,"W",1,1,null,10,"-","-","-","","","","","","","","",null,null,null,null,null,null,null,null,null,null,null,null,null,null,7,4,1.1639793858057277E-5,null,null,null,4,7,1.9187652176137788E-6,null,null,{"$f":"AZ6","v":8.2679980685192916E-2},"0-0"]
[null,11,{"$f":"Veri!K13","v":0},null,{"$f":"Veri!L13","v":0},{"$f":"Veri!N13","v":0},{"$f":"Veri!R13","v":0},null,null,null,"","","","","","","","","",null,11,"-","-","-","","","","","","","","",null,null,null,null,null,null,null,null,null,null,null,null,null,null,6,5,8.9350881354845368E-6,null,null,null,5,6,4.899190837572442E-6,null,null,0.11751075988173455,"1-1"]
[null,12,{"$f":"Veri!K14","v":0},null,{"$f":"Veri!L14","v":0},{"$f":"Veri!N14","v":0},{"$f":"Veri!R14","v":0},null,null,null,"","","","","","","","","",null,12,"-","-","-","","","","","","","","",null,null,null,null,null,null,null,null,null,null,null,null,null,null,7,5,2.0550702711614465E-6,null,null,null,5,7,6.1784240007163665E-7,null,null,4.1753694708033702E-2,"2-2"]
[null,13,{"$f":"Veri!K15","v":0},null,{"$f":"Veri!L15","v":0},{"$f":"Veri!N15","v":0},{"$f":"Veri!R15","v":0},null,null,null,"","","","","","","","","",null,13,"-","-","-","","","","","","","","",null,null,null,null,null,null,null,null,null,null,null,null,null,null,7,6,3.0236172785884597E-7,null,null,null,6,7,1.6578771068588901E-7,null,null,6.5937073848528127E-3,"3-3"]
[null,14,{"$f":"Veri!K16","v":0},null,{"$f":"Veri!L16","v":0},{"$f":"Veri!N16","v":0},{"$f":"Veri!R16","v":0},null,null,null,"","","","","","","","","",null,14,"-","-","-","","","","","","","","",null,null,null,null,null,null,null,null,null,null,null,null,null,null,{"$f":"SUM(AW6:AW33)","v":0.54473002313123065},null,null,{"$f":"1-AU34","v":0.45526997686876935},null,null,{"$f":"SUM(BC6:BC33)","v":0.20583590161284232},null,null,{"$f":"1-BA34","v":0.79416409838715762},null,5.8571582172205216E-4,"4-4"]
[null,15,{"$f":"Veri!K17","v":0},null,{"$f":"Veri!L17","v":0},{"$f":"Veri!N17","v":0},{"$f":"Veri!R17","v":0},null,null,null,"","","","","","","","","",null,15,"-","-","-","","","","","","","","",null,null,null,null,null,null,null,null,null,null,null,null,null,null,null,null,null,null,null,null,null,null,null,null,null,3.3298465101184642E-5,"5-5"]
[null,null,42476,"LO","Swindon","Bury",6.9444444444444447E-4,null,null,null,null,null,null,null,null,null,null,null,null,null,null,null,null,null,null,null,null,null,null,null,null,{"$f":"SUM(AF21:AF35)/AM2","v":1.3333333333333333},null,null,null,null,null,null,null,null,null,null,null,null,null,"A.U.Q   -    HOME",null,null,{"$f":"SUM(AW6:AW12)","v":0.33084010495693916},null,null,null,{"$f":"SUM(BC6:BC12)","v":0.11720679579750952},null,"A.U.Q   -    AWAY",null,null,1.3146162080819373E-6,"6-6"]
[null,null,null,null,null,null,null,null,null,null,null,null,null,null,null,null,null,null,null,null,null,null,null,null,null,null,null,null,null,null,null,null,null,null,null,null,null,null,null,null,null,null,null,null,null,null,null,null,null,null,null,null,null,null,null,null,null,3.8131173457754523E-8,"7-7"]
[null,null,null,null,null,null,null,null,null,null,null,null,null,null,null,null,null,null,null,null,null,null,null,null,null,null,null,null,null,null,null,null,null,null,null,null,null,null,null,null,null,null,null,null,null,null,null,null,null,null,null,null,null,null,null,null,null,{"$f":"BC6","v":7.2988049615984193E-2},"0-1"]
[null,null,null,null,null,null,null,null,null,null,null,null,null,null,null,null,null,null,null,null,null,null,null,null,null,null,null,null,null,null,null,null,null,null,null,null,null,null,null,null,null,null,null,null,null,"\" Score - 1 \"",null,null,null,{"$f":"LARGE(BF2:BF65,1)","v":0.1331147689031606},null,{"$f":"VLOOKUP(AX39,BF2:BG65,2,FALSE)","v":"1-0"},{"$f":"IFERROR(VALUE(LEFT(AZ39,FIND(\"-\",AZ39,1)-1)),\"\")","v":1},{"$f":"IFERROR(VALUE(RIGHT(AZ39,FIND(\"-\",AZ39,1)-1)),\"\")","v":0},{"$f":"BA39+BB39","v":1},null,null,3.2216114122166351E-2,"0-2"]
[null,null,null,null,null,null,null,null,null,null,null,null,null,null,null,null,null,null,null,null,null,null,null,null,null,null,null,null,null,null,null,null,null,null,null,null,null,null,null,null,null,null,null,null,null,"\" Score - 2 \"",null,null,null,{"$f":"LARGE(BF2:BF65,2)","v":0.11751075988173455},null,{"$f":"VLOOKUP(AX40,BF2:BG65,2,FALSE)","v":"1-1"},{"$f":"IFERROR(VALUE(LEFT(AZ40,FIND(\"-\",AZ40,1)-1)),\"\")","v":1},{"$f":"IFERROR(VALUE(RIGHT(AZ40,FIND(\"-\",AZ40,1)-1)),\"\")","v":1},{"$f":"BA40+BB40","v":2},null,null,9.4798898778004331E-3,"0-3"]
[null,null,null,null,null,null,null,null,null,null,null,null,null,null,null,null,null,null,null,null,null,null,null,null,null,null,null,null,null,null,null,null,null,null,null,null,null,null,null,null,null,null,null,null,null,"\" Score - 3 \"",null,null,null,{"$f":"LARGE(BF2:BF65,3)","v":0.1071573889670443},null,{"$f":"VLOOKUP(AX41,BF2:BG65,2,FALSE)","v":"2-0"},{"$f":"IFERROR(VALUE(LEFT(AZ41,FIND(\"-\",AZ41,1)-1)),\"\")","v":2},{"$f":"IFERROR(VALUE(RIGHT(AZ41,FIND(\"-\",AZ41,1)-1)),\"\")","v":0},{"$f":"BA41+BB41","v":2},null,null,2.0921590299756787E-3,"0-4"]
[null,null,null,null,null,null,null,null,null,null,null,null,null,null,null,null,null,null,null,null,null,null,null,null,null,null,null,null,null,null,null,null,null,null,null,null,null,null,null,null,null,null,null,null,null,null,null,null,null,null,null,null,null,null,null,null,null,3.6938229984792825E-4,"0-5"]
[null,null,null,null,null,null,null,null,null,null,null,null,null,null,null,null,null,null,null,null,null,null,null,null,null,null,null,null,null,null,null,null,null,null,null,null,null,null,null,null,null,null,null,null,null,"1X",null,null,null,{"$f":"AU34+AX14","v":0.7938885328252494},null,{"$f":"LARGE(AX43:AY45,1)","v":0.7938885328252494},{"$f":"IF(AZ43=AX43,\"1X\",IF(AZ43=AX44,\"X2\",IF(AZ43=AX45,\"12\")))","v":"1X"},null,null,null,null,5.4347080968366452E-5,"0-6"]
[null,null,null,null,null,null,null,null,null,null,null,null,null,null,null,null,null,null,null,null,null,null,null,null,null,null,null,null,null,null,null,null,null,null,null,null,null,null,null,null,null,null,null,null,null,"X2",null,null,null,{"$f":"AX14+BA34","v":0.45499441130686114},null,null,null,null,null,null,null,6.8537707665662241E-6,"0-7"]
[null,null,null,null,null,null,null,null,null,null,null,null,null,null,null,null,null,null,null,null,null,null,null,null,null,null,null,null,null,null,null,null,null,null,null,null,null,null,null,null,null,null,null,null,null,12,null,null,null,{"$f":"AU34+BA34","v":0.75056592474407302},null,null,null,null,null,null,null,5.1867943736687822E-2,"1-2"]
[null,null,null,null,null,null,null,null,null,null,null,null,null,null,null,null,null,null,null,null,null,null,null,null,null,null,null,null,null,null,null,null,null,null,null,null,null,null,null,null,null,null,null,null,null,null,null,null,null,null,null,null,null,null,null,null,null,1.5262622703258698E-2,"1-3"]
[null,null,null,null,null,null,null,null,null,null,null,null,null,null,null,null,null,null,null,null,null,null,null,null,null,null,null,null,null,null,null,null,null,null,null,null,null,null,null,null,null,null,null,null,null,"DG1",null,null,null,null,null,"DG2",null,null,null,null,null,3.368376038260843E-3,"1-4"]
[null,null,null,null,null,null,null,null,null,null,null,null,null,null,null,null,null,null,null,null,null,null,null,null,null,null,null,null,null,null,null,null,null,null,null,null,null,null,null,null,null,null,null,null,null,"YES",null,"NO",null,null,null,"YES",null,"NO",null,null,null,5.9470550275516449E-4,"1-5"]
[null,null,null,null,null,null,null,null,null,null,null,null,null,null,null,null,null,null,null,null,null,null,null,null,null,null,null,null,null,null,null,null,null,null,null,null,null,null,null,null,null,null,null,null,null,{"$f":"SUM(AW6:AW33)+SUM(AZ7:AZ13)+SUM(BC13:BC33)","v":0.7998376579553893},null,{"$f":"SUM(BC6:BC12)+AZ6","v":0.19988677648270242},null,null,null,{"$f":"SUM(BC6:BC33)+SUM(AZ7:AZ13)+SUM(AW13:AW33)","v":0.58620434879595951},null,{"$f":"SUM(AW6:AW12)+AZ6","v":0.41352008564213205},null,null,null,8.7498800359069989E-5,"1-6"]
[null,null,null,null,null,null,null,null,null,null,null,null,null,null,null,null,null,null,null,null,null,null,null,null,null,null,null,null,null,null,null,null,null,null,null,null,null,null,null,null,null,null,null,null,null,{"$f":"AT49-AV49","v":0.59995088147268683},null,null,null,null,null,{"$f":"AZ49-BB49","v":0.17268426315382746},null,null,null,null,null,1.1034570934171622E-5,"1-7"]
[null,null,null,null,null,null,null,null,null,null,null,null,null,null,null,null,null,null,null,null,null,null,null,null,null,null,null,null,null,null,null,null,null,null,null,null,null,null,null,null,null,null,null,null,null,null,null,null,null,null,null,null,null,null,null,null,null,1.2286411276123255E-2,"2-3"]
[null,null,null,null,null,null,null,null,null,null,null,null,null,null,null,null,null,null,null,null,null,null,null,null,null,null,null,null,null,null,null,null,null,null,null,null,null,null,null,null,null,null,null,null,null,null,null,null,null,null,null,null,null,null,null,null,null,2.7115427107999787E-3,"2-4"]
[null,null,null,null,null,null,null,null,null,null,null,null,null,null,null,null,null,null,null,null,null,null,null,null,null,null,null,null,null,null,null,null,null,null,null,null,null,null,null,null,null,null,null,null,null,null,null,null,null,null,null,null,null,null,null,null,null,4.787379297179075E-4,"2-5"]
[null,null,null,null,null,null,null,null,null,null,null,null,null,null,null,null,null,null,null,null,null,null,null,null,null,null,null,null,null,null,null,null,null,null,null,null,null,null,null,null,null,null,null,null,null,null,null,null,null,null,null,null,null,null,null,null,null,7.0436534289051357E-5,"2-6"]
[null,null,null,null,null,null,null,null,null,null,null,null,null,null,null,null,null,null,null,null,null,null,null,null,null,null,null,null,null,null,null,null,null,null,null,null,null,null,null,null,null,null,null,null,null,null,null,null,null,null,null,null,null,null,null,null,null,8.8828296020081573E-6,"2-7"]
[null,null,null,null,null,null,null,null,null,null,null,null,null,null,null,null,null,null,null,null,null,null,null,null,null,null,null,null,null,null,null,null,null,null,null,null,null,null,null,null,null,null,null,null,null,null,null,null,null,null,null,null,null,null,null,null,null,1.4551945881293219E-3,"3-4"]
[null,null,null,null,null,null,null,null,null,null,null,null,null,null,null,null,null,null,null,null,null,null,null,null,null,null,null,null,null,null,null,null,null,null,null,null,null,null,null,null,null,null,null,null,null,null,null,null,null,null,null,null,null,null,null,null,null,2.5692268894861032E-4,"3-5"]
[null,null,null,null,null,null,null,null,null,null,null,null,null,null,null,null,null,null,null,null,null,null,null,null,null,null,null,null,null,null,null,null,null,null,null,null,null,null,null,null,null,null,null,null,null,null,null,null,null,null,null,null,null,null,null,null,null,3.7800940068457557E-5,"3-6"]
[null,null,null,null,null,null,null,null,null,null,null,null,null,null,null,null,null,null,null,null,null,null,null,null,null,null,null,null,null,null,null,null,null,null,null,null,null,null,null,null,null,null,null,null,null,null,null,null,null,null,null,null,null,null,null,null,null,4.7671185530777105E-6,"3-7"]
[null,null,null,null,null,null,null,null,null,null,null,null,null,null,null,null,null,null,null,null,null,null,null,null,null,null,null,null,null,null,null,null,null,null,null,null,null,null,null,null,null,null,null,null,null,null,null,null,null,null,null,null,null,null,null,null,null,1.0341138230181567E-4,"4-5"]
[null,null,null,null,null,null,null,null,null,null,null,null,null,null,null,null,null,null,null,null,null,null,null,null,null,null,null,null,null,null,null,null,null,null,null,null,null,null,null,null,null,null,null,null,null,null,null,null,null,null,null,null,null,null,null,null,null,1.5214878377554169E-5,"4-6"]
[null,null,null,null,null,null,null,null,null,null,null,null,null,null,null,null,null,null,null,null,null,null,null,null,null,null,null,null,null,null,null,null,null,null,null,null,null,null,null,null,null,null,null,null,null,null,null,null,null,null,null,null,null,null,null,null,null,1.9187652176137788E-6,"4-7"]
[null,null,null,null,null,null,null,null,null,null,null,null,null,null,null,null,null,null,null,null,null,null,null,null,null,null,null,null,null,null,null,null,null,null,null,null,null,null,null,null,null,null,null,null,null,null,null,null,null,null,null,null,null,null,null,null,null,4.899190837572442E-6,"5-6"]
[null,null,null,null,null,null,null,null,null,null,null,null,null,null,null,null,null,null,null,null,null,null,null,null,null,null,null,null,null,null,null,null,null,null,null,null,null,null,null,null,null,null,null,null,null,null,null,null,null,null,null,null,null,null,null,null,null,6.1784240007163665E-7,"5-7"]
[null,null,null,null,null,null,null,null,null,null,null,null,null,null,null,null,null,null,null,null,null,null,null,null,null,null,null,null,null,null,null,null,null,null,null,null,null,null,null,null,null,null,null,null,null,null,null,null,null,null,null,null,null,null,null,null,null,1.6578771068588901E-7,"6-7"]
[]
[]
[]
[]
[]
[]
[]
[]
[]
[]
[]
[]
[]
[]
[]
[]
[]
[]
[]
[]
[]
[]
[]
[]
[]
[]
[]
[]
[]
[]
[]
[]
[]
[]
[]
[]
[]
[]
[]
[]
[]
[null,null,null,null,null,null,null,null,null,null,null,null,null,null,null,null,null,null,null,null,null,null,null,null,null,null,null,null,null,null,null,null,null,"OVER 0.5",null,null,null,"UNDER 1.5"]
[null,null,null,null,null,null,null,null,null,null,null,null,null,null,null,null,null,null,null,null,null,null,null,null,null,null,null,null,null,null,null,null,null,{"$f":"AI22","v":0.91704445375289878},{"$f":"AI38","v":0},{"$f":"SUM(AH108:AI108)","v":0.91704445375289878},{"$f":"IF(AJ108>AL108,\"OVER 0.5\",\"-\")","v":"OVER 0.5"},{"$f":"SUM(AM108:AN108)","v":0.28905836476624602},{"$f":"AL23","v":0.28905836476624602},{"$f":"AL39","v":0}]
[null,null,null,null,null,null,null,null,null,null,null,null,null,null,null,null,null,null,null,null,null,null,null,null,null,null,null,null,null,null,null,null,null,"OVER 1.5",null,null,null,"UNDER 2.5"]
[null,null,null,null,null,null,null,null,null,null,null,null,null,null,null,null,null,null,null,null,null,null,null,null,null,null,null,null,null,null,null,null,null,{"$f":"AI23","v":0.71094163523375398},{"$f":"AI39","v":0},{"$f":"SUM(AH110:AI110)","v":0.71094163523375398},{"$f":"IF(AJ110>AL110,\"OVER 1.5\",\"-\")","v":"OVER 1.5"},{"$f":"SUM(AM110:AN110)","v":0.54594262773719138},{"$f":"AL24","v":0.54594262773719138},{"$f":"AL40","v":0}]
[null,null,null,null,null,null,null,null,null,null,null,null,null,null,null,null,null,null,null,null,null,null,null,null,null,null,null,null,null,null,null,null,null,"OVER 2.5",null,null,null,"UNDER 3.5"]
[null,null,null,null,null,null,null,null,null,null,null,null,null,null,null,null,null,null,null,null,null,null,null,null,null,null,null,null,null,null,null,null,null,{"$f":"AI24","v":0.45405737226280862},{"$f":"AI40","v":0},{"$f":"SUM(AH112:AI112)","v":0.45405737226280862},{"$f":"IF(AJ112>AL112,\"OVER 2.5\",\"-\")","v":"-"},{"$f":"SUM(AM112:AN112)","v":0.75939442180212313},{"$f":"AL25","v":0.75939442180212313},{"$f":"AL41","v":0}]
[]
[]
[]
[]
[]
[]
[]
[null,null,null,null,null,null,null,null,null,null,null,null,null,null,null,null,null,null,null,null,null,null,null,null,null,null,null,null,null,null,null,null,null,{"$f":"AJ8","v":0},{"$f":"1-(AH120+AJ120)","v":1},{"$f":"AL8","v":0},{"$f":"IF(AND(AI120>AH120,AI120>AJ120),\"X\",IF(AH120-AJ120>=0.33,\"1\",IF(AH120>AJ120,\"1X\",IF(AJ120-AH120>=0.33,\"2\",IF(AJ120>AH120,\"X2\")))))","v":"X"},null,{"$f":"SUM(AH120:AJ120)","v":1}]
[null,null,null,null,null,null,null,null,null,null,null,null,null,null,null,null,null,null,null,null,null,null,null,null,null,null,null,null,null,null,null,null,null,{"$f":"SUM(P3:P17)","v":6.5},{"$f":"SUM(P21:P35)","v":6.5},null,null,{"$f":"(AH121+AI5+AJ5)/3","v":2.9777777777777779},{"$f":"(AI121+AL5+AM5)/3","v":2.8444444444444446},{"$f":"SUM(AL121:AM121)","v":5.8222222222222229}]
[null,null,null,null,null,null,null,null,null,null,null,null,null,null,null,null,null,null,null,null,null,null,null,null,null,null,null,null,null,null,null,null,null,{"$f":"SUM(AD3:AD17)","v":3.5},{"$f":"SUM(AD21:AD35)","v":3}]
[]
[null,null,null,null,null,null,null,null,null,null,null,null,null,null,null,null,null,null,null,null,null,null,null,null,null,null,null,null,null,null,null,null,null,{"$f":"AVERAGE(AH121:AH122)","v":5},{"$f":"AVERAGE(AI121:AI122)","v":4.75},null,null,{"$f":"(AH124+AI5+AJ5)/3","v":2.4777777777777779},{"$f":"(AI124+AL5+AM5)/3","v":2.2611111111111111}]
[null,null,null,null,null,null,null,null,null,null,null,null,null,null,null,null,null,null,null,null,null,null,null,null,null,null,null,null,null,null,null,null,null,null,null,null,null,{"$f":"(AH124+AI6+AJ6)/3","v":2.1444444444444444},{"$f":"(AI124+AL6+AM6)/3","v":1.7166666666666668}]
[]
[]
[null,null,null,null,null,null,null,null,null,null,null,null,null,null,null,null,null,null,null,null,null,null,null,null,null,null,null,null,null,null,null,null,null,{"$f":"(AH122+AJ5)/2","v":2.2999999999999998},{"$f":"(AI121+AL5)/2","v":3.6},null,null,{"$f":"AVERAGE(AL124:AL125)","v":2.3111111111111109},{"$f":"AVERAGE(AM124:AM125)","v":1.9888888888888889}]

{"sheet":"ZW2","index":16,"n_rows":25,"n_cols":19,"rows_kept":25,"cut":false,"hidden":true,"merged":[[0,1,0,18],[2,1,10,1],[2,18,10,18],[8,2,10,9],[11,17,11,18],[11,7,13,10],[1,2,1,9],[1,10,1,17],[2,2,7,9],[12,17,12,18],[13,11,13,12],[13,13,13,14],[13,17,13,18],[13,15,13,16],[11,11,11,12],[11,13,11,14],[16,15,16,16],[16,17,16,18],[12,11,12,12],[12,13,12,14],[11,15,11,16],[12,15,12,16],[14,15,14,16],[14,17,14,18],[15,11,15,12],[15,13,15,14],[15,15,15,16],[15,17,15,18],[22,1,24,1],[22,4,24,5],[11,1,16,6],[19,1,19,4],[19,5,19,6],[14,7,16,10],[14,11,14,12],[14,13,14,14],[18,1,18,4],[18,5,18,6],[16,11,16,12],[16,13,16,14],[17,1,17,4],[17,5,17,6]]}
[]
[null,{"$f":"'ZW1'!AU2","v":1.61},{"$f":"'ZW1'!B2","v":"Sao Paulo"},null,null,null,null,null,null,null,{"$f":"'ZW1'!B20","v":"Fortaleza"},null,null,null,null,null,null,null,{"$f":"'ZW1'!BA2","v":0.88277777777777777}]
[null,{"$f":"IF(B2>=7,\"7\",IF(B2>=6,\"6\",IF(B2>=5,\"5\",IF(B2>=4,\"4\",IF(B2>=3,\"3\",IF(B2>=2,\"2\",IF(B2>=1,\"1\",\"0\")))))))","v":"1"},null,null,null,null,null,null,null,null,null,null,null,null,null,null,null,null,{"$f":"IF(S2>=7,\"7\",IF(S2>=6,\"6\",IF(S2>=5,\"5\",IF(S2>=4,\"4\",IF(S2>=3,\"3\",IF(S2>=2,\"2\",IF(S2>=1,\"1\",\"0\")))))))","v":"0"}]
[]
[]
[]
[]
[]
[null,null,{"$f":"E23","v":"1"}]
[]
[]
[null,"Under / Over",null,null,null,null,null,"ÜST",null,null,null,0.5,null,1.5,null,2.5,null,3.5]
[null,null,null,null,null,null,null,null,null,null,null,{"$f":"'ZW1'!AM22","v":0.83408890750579756},null,{"$f":"'ZW1'!AM23","v":0.42188327046750795},null,{"$f":"'ZW1'!AM24","v":-9.1885255474382754E-2},null,{"$f":"'ZW1'!AM25","v":-0.51878884360424626}]
[null,null,null,null,null,null,null,null,null,null,null,{"$f":"IF(L13>=0.33,\"BET\",\"NB\")","v":"BET"},null,{"$f":"IF(N13>=0.33,\"BET\",\"NB\")","v":"BET"},null,{"$f":"IF(P13>=0.33,\"BET\",\"NB\")","v":"NB"},null,{"$f":"IF(R13>=0.33,\"BET\",\"NB\")","v":"NB"}]
[null,null,null,null,null,null,null,"ALT",null,null,null,0.5,null,1.5,null,2.5,null,3.5]
[null,null,null,null,null,null,null,null,null,null,null,{"$f":"1-L13","v":0.16591109249420244},null,{"$f":"1-N13","v":0.57811672953249205},null,{"$f":"1-P13","v":1.0918852554743828},null,{"$f":"1-R13","v":1.5187888436042463}]
[null,null,null,null,null,null,null,null,null,null,null,{"$f":"IF(L16>=0.33,\"BET\",\"NB\")","v":"NB"},null,{"$f":"IF(N16>=0.33,\"BET\",\"NB\")","v":"BET"},null,{"$f":"IF(P16>=0.33,\"BET\",\"NB\")","v":"BET"},null,{"$f":"IF(R16>=0.33,\"BET\",\"NB\")","v":"BET"}]
[null,"Ergebnis 1",null,null,null,{"$f":"'ZW1'!AX39","v":0.1331147689031606},null,null,{"$f":"'ZW1'!BA39","v":1},{"$f":"'ZW1'!BB39","v":0}]
[null,"Ergebnis 2",null,null,null,{"$f":"'ZW1'!AX40","v":0.11751075988173455},null,null,{"$f":"'ZW1'!BA40","v":1},{"$f":"'ZW1'!BB40","v":1}]
[null,"Ergebnis 3",null,null,null,{"$f":"'ZW1'!AX41","v":0.1071573889670443},null,null,{"$f":"'ZW1'!BA41","v":2},{"$f":"'ZW1'!BB41","v":0}]
[]
[]
[null,"A",1,{"$f":"'ZW1'!AU34","v":0.54473002313123065},{"$f":"IF(D23-D25>0.33,\"1\",IF(D23-D25>0.11,\"1\",IF(D23-D25>-0.11,\"X\",IF(D23-D25>-0.33,\"2\",\"2\"))))","v":"1"}]
[null,null,"X",{"$f":"'ZW1'!AX14","v":0.24915850969401881}]
[null,null,2,{"$f":"'ZW1'!BA34","v":0.20583590161284232}]

{"sheet":"ZW3","index":17,"n_rows":128,"n_cols":59,"rows_kept":128,"cut":false,"hidden":true,"merged":[[106,33,106,35],[106,37,106,39],[108,33,108,35],[108,37,108,39],[110,33,110,35],[110,37,110,39],[48,45,48,46],[48,47,48,48],[48,51,48,52],[48,53,48,54],[49,45,49,48],[49,51,49,54],[46,45,46,48],[46,51,46,54],[47,45,47,46],[47,47,47,48],[47,51,47,52],[47,53,47,54],[42,45,42,48],[42,49,42,50],[42,51,44,51],[42,52,44,53],[43,45,43,48],[43,49,43,50],[44,45,44,48],[44,49,44,50],[38,45,38,48],[38,49,38,50],[39,45,39,48],[39,49,39,50],[40,45,40,48],[40,49,40,50],[33,46,34,48],[33,49,34,50],[33,52,34,54],[33,55,34,55],[35,45,36,47],[35,48,36,48],[35,52,36,53],[35,54,36,55],[20,34,20,35],[20,37,20,39],[15,49,16,51],[17,33,18,35],[17,36,18,36],[17,37,18,39],[9,32,10,32],[9,40,10,40],[19,1,19,5],[19,10,19,11],[19,20,19,23],[19,24,19,25],[18,10,18,17],[18,20,18,31],[12,33,12,35],[12,37,12,39],[13,33,13,35],[13,37,13,39],[13,49,14,51],[14,33,14,35],[14,37,14,39],[1,52,2,54],[3,46,4,48],[3,49,4,51],[3,52,4,54],[0,57,0,58],[1,1,1,5],[1,10,1,11],[1,20,1,23],[1,24,1,25],[1,46,2,48],[1,49,2,51],[0,10,0,17],[0,20,0,31],[0,46,0,54]]}
[null,null,null,null,null,"Aarhus",null,null,null,null,"Statistiken",null,null,null,null,null,null,null,null,null,"Heimteam",null,null,null,null,null,null,null,null,null,null,null,null,null,"Heim","Gesamt","Statistiken","Gesamt","Ausäwrts",null,null,null,null,null,null,null,"TOTAL+(HOME-AWAY)",null,null,null,null,null,null,null,null,null,null,"\" Score \""]
[{"$f":"IF(COUNTIF(E3:F17,E3)>COUNTIF(E3:F17,F3),E3,F3)","v":"Sao Paulo"},{"$f":"A2","v":"Sao Paulo"},null,null,null,null,{"$f":"COUNT(K3:K17)","v":10},null,null,null,"Ergebnis",null,"TG","GT","PKT","PERF","INDEX","TD","OV",null,{"$f":"B2","v":"Sao Paulo"},null,null,null,"Ergebnis",null,"TG","GT","PKT","PERF","INDEX","TD",null,null,{"$f":"COUNT(Y3:Y17)","v":6},{"$f":"COUNT(K3:K17)","v":10},"Absolvierte Spiele",{"$f":"COUNT(K21:K35)","v":10},{"$f":"COUNT(Y21:Y35)","v":3},null,null,null,null,null,null,null,{"$f":"AH18","v":1.0777777777777777},null,null,null,null,null,{"$f":"AL18","v":2.5261111111111112},null,null,null,null,{"$f":"AW6","v":2.9334599752720913E-2},"1-0"]
[null,1,{"$f":"Veri!A3","v":"13 Aug"},null,{"$f":"Veri!B3","v":"Sao Paulo"},{"$f":"Veri!D3","v":"Mirassol"},{"$f":"Veri!C3","v":"2-3"},null,null,null,{"$f":"IFERROR(VALUE(LEFT(G3,FIND(\"-\",G3,1)-1)),\"\")","v":2},{"$f":"IFERROR(VALUE(RIGHT(G3,FIND(\"-\",G3,1)-1)),\"\")","v":3},{"$f":"IF(OR(K3=\"\",L3=\"\"),\"\",IF(E3=$B$2,K3,L3))","v":2},{"$f":"IF(OR(K3=\"\",L3=\"\"),\"\",IF(E3=$B$2,L3,K3))","v":3},{"$f":"IF(OR(M3=\"\",N3=\"\"),\"\",IF(M3>N3,3,IF(M3<N3,0,1)))","v":0},{"$f":"IF(O3=\"\",\"\",IF(O3=3,1,IF(O3=1,0.5,IF(O3=0,0))))","v":0},{"$f":"IF(O3=\"\",\"\",IF(O3=1,\"D\",IF(O3=0,\"L\",IF(O3=3,\"W\"))))","v":"L"},{"$f":"IF(OR(M3=\"\",N3=\"\"),\"\",M3-N3)","v":-1},{"$f":"IF(OR(K3=\"\",L3=\"\"),\"\",K3+L3)","v":5},null,1,{"$f":"IF(E3=$B$2,E3,\"-\")","v":"Sao Paulo"},{"$f":"IF(E3=$B$2,F3,\"-\")","v":"Mirassol"},{"$f":"IF(AND(V3=E3,W3=F3),G3,\"-\")","v":"2-3"},{"$f":"IFERROR(VALUE(LEFT(X3,FIND(\"-\",X3,1)-1)),\"\")","v":2},{"$f":"IFERROR(VALUE(RIGHT(X3,FIND(\"-\",X3,1)-1)),\"\")","v":3},{"$f":"IF(OR(Y3=\"\",Z3=\"\"),\"\",Y3)","v":2},{"$f":"IF(OR(Y3=\"\",Z3=\"\"),\"\",Z3)","v":3},{"$f":"IF(OR(AA3=\"\",AB3=\"\"),\"\",IF(AA3>AB3,3,IF(AA3<AB3,0,1)))","v":0},{"$f":"IF(AC3=\"\",\"\",IF(AC3=3,1,IF(AC3=1,0.5,IF(AC3=0,0))))","v":0},{"$f":"IF(AC3=\"\",\"\",IF(AC3=1,\"D\",IF(AC3=0,\"L\",IF(AC3=3,\"W\"))))","v":"L"},{"$f":"IF(OR(AA3=\"\",AB3=\"\"),\"\",AA3-AB3)","v":-1},null,null,{"$f":"SUM(AA3:AA17)","v":11},{"$f":"SUM(M3:M17)","v":19},"Erzielte Treffer",{"$f":"SUM(M21:M35)","v":18},{"$f":"SUM(AA21:AA35)","v":10},null,null,null,null,null,null,null,null,null,null,null,null,null,null,null,null,null,null,1.5808089866744045E-2,"2-0"]
[null,{"$f":"1+B3","v":2},{"$f":"Veri!A4","v":"20 Aug"},null,{"$f":"Veri!B4","v":"Guarani SP"},{"$f":"Veri!D4","v":"Sao Paulo"},{"$f":"Veri!C4","v":"1-3"},null,null,null,1,3,3,1,3,1,"W",2,4,null,{"$f":"1+U3","v":2},"-","-","-","","","","","","","","",null,null,{"$f":"SUM(AB3:AB17)","v":8},{"$f":"SUM(N3:N17)","v":12},"Gegentore",{"$f":"SUM(N21:N35)","v":5},{"$f":"SUM(AB21:AB35)","v":1},null,null,null,null,null,null,null,1,null,null,"X",null,null,2,null,null,null,null,5.6792026558302689E-3,"3-0"]
[null,3,{"$f":"Veri!A5","v":"27 Aug"},null,{"$f":"Veri!B5","v":"Sao Paulo"},{"$f":"Veri!D5","v":"Bragantino"},{"$f":"Veri!C5","v":"2-3"},null,null,null,2,3,2,3,0,0,"L",-1,5,null,3,"Sao Paulo","Bragantino","2-3",2,3,2,3,0,0,"L",-1,null,null,{"$f":"AI3/AI2","v":1.8333333333333333},{"$f":"AJ3/AJ2","v":1.9},"Erzielte Treffer im Schnitt",{"$f":"AL3/AL2","v":1.8},{"$f":"AM3/AM2","v":3.3333333333333335},null,null,null,null,null,null,null,null,null,null,null,null,null,null,null,null,null,null,1.5302296044876001E-3,"4-0"]
[null,4,{"$f":"Veri!A6","v":"10 Sep"},null,{"$f":"Veri!B6","v":"Sao Paulo"},{"$f":"Veri!D6","v":"Santos"},{"$f":"Veri!C6","v":"2-1"},null,null,null,2,1,2,1,3,1,"W",1,3,null,4,"Sao Paulo","Santos","2-1",2,1,2,1,3,1,"W",1,null,null,{"$f":"AI4/AI2","v":1.3333333333333333},{"$f":"AJ4/AJ2","v":1.2},"Gegentore im Schnitt",{"$f":"AL4/AL2","v":0.5},{"$f":"AM4/AM2","v":0.33333333333333331},null,null,null,null,null,null,null,1,0,{"$f":"((POISSON(AU6,$AU$2,FALSE)*POISSON(AV6,$BA$2,FALSE)))*100%","v":2.9334599752720913E-2},0,0,{"$f":"((POISSON(AX6,$AU$2,FALSE)*POISSON(AY6,$BA$2,FALSE)))*100%","v":2.7217669873658579E-2},0,1,{"$f":"((POISSON(BA6,$AU$2,FALSE)*POISSON(BB6,$BA$2,FALSE)))*100%","v":6.8754858286403084E-2},null,null,3.2984949252288278E-4,"5-0"]
[null,5,{"$f":"Veri!A7","v":"18 Sep"},null,{"$f":"Veri!B7","v":"Sao Paulo"},{"$f":"Veri!D7","v":"Liga Dep. Universitaria Quito"},{"$f":"Veri!C7","v":"3-0"},null,null,null,3,0,3,0,3,1,"W",3,3,null,5,"Sao Paulo","Liga Dep. Universitaria Quito","3-0",3,0,3,0,3,1,"W",3,null,null,null,null,null,null,null,null,null,null,null,null,null,null,2,0,1.5808089866744045E-2,1,1,7.4102458375345542E-2,0,2,8.6841205730076365E-2,null,null,5.9250742175406679E-5,"6-0"]
[null,6,{"$f":"Veri!A8","v":"26 Sep"},null,{"$f":"Veri!B8","v":"Botafogo SP"},{"$f":"Veri!D8","v":"Sao Paulo"},{"$f":"Veri!C8","v":"1-0"},null,null,null,1,0,0,1,0,0,"L",-1,1,null,6,"-","-","-","","","","","","","","",null,null,null,null,null,null,null,null,null,null,null,null,null,null,3,0,5.6792026558302689E-3,2,2,5.0437586710758542E-2,0,3,7.3123511565677271E-2,null,null,9.122733319070569E-6,"7-0"]
[null,7,{"$f":"Veri!A9","v":"1 Oct"},null,{"$f":"Veri!B9","v":"EM Deportivo Binacional"},{"$f":"Veri!D9","v":"Sao Paulo"},{"$f":"Veri!C9","v":"2-1"},null,null,null,2,1,1,2,0,0,"L",-1,3,null,7,"-","-","-","","","","","","","","",null,null,{"$f":"COUNTIF($AE$3:$AE$17,\"W\")/AI2","v":0.5},{"$f":"COUNTIF($Q$3:$Q$17,\"W\")/AJ2","v":0.5},"Siege",{"$f":"COUNTIF($Q$21:$Q$35,\"W\")/AL2","v":0.7},{"$f":"COUNTIF($AE$21:$AE$35,\"W\")/AM2","v":1},null,null,null,null,null,null,null,4,0,1.5302296044876001E-3,3,3,1.5257854291536664E-2,0,4,4.617952876237981E-2,null,null,3.9932991457825091E-2,"2-1"]
[null,8,{"$f":"Veri!A10","v":"16 Oct"},null,{"$f":"Veri!B10","v":"Sao Paulo"},{"$f":"Veri!D10","v":"Ponte Preta"},{"$f":"Veri!C10","v":"2-1"},null,null,null,2,1,2,1,3,1,"W",1,3,null,8,"Sao Paulo","Ponte Preta","2-1",2,1,2,1,3,1,"W",1,{"$f":"AVERAGE(AH10:AH11)","v":1.375},{"$f":"IF(OR(AJ9=0,AJ11=0),0,(AJ9/AJ11))","v":1.25},{"$f":"COUNTIF($AE$3:$AE$17,\"D\")/AI2","v":0.16666666666666666},{"$f":"COUNTIF($Q$3:$Q$17,\"D\")/AJ2","v":0.1},"Unentschieden",{"$f":"COUNTIF($Q$21:$Q$35,\"D\")/AL2","v":0.1},{"$f":"COUNTIF($AE$21:$AE$35,\"D\")/AM2","v":0},{"$f":"IF(OR(AL9=0,AL11=0),0,(AL9/AL11))","v":3.4999999999999996},{"$f":"AVERAGE(AN10:AN11)","v":1.7499999999999998},null,null,null,null,null,5,0,3.2984949252288278E-4,4,4,2.5963016805443167E-3,0,5,2.3330924142504546E-2,null,null,1.4346296931144573E-2,"3-1"]
[null,9,{"$f":"Veri!A11","v":"22 Oct"},null,{"$f":"Veri!B11","v":"Oeste"},{"$f":"Veri!D11","v":"Sao Paulo"},{"$f":"Veri!C11","v":"0-4"},null,null,null,0,4,4,0,3,1,"W",4,4,null,9,"-","-","-","","","","","","","","",null,{"$f":"IF(OR(AI9=0,AI11=0),0,(AI9/AI11))","v":1.5},{"$f":"COUNTIF($AE$3:$AE$17,\"L\")/AI2","v":0.33333333333333331},{"$f":"COUNTIF($Q$3:$Q$17,\"L\")/AJ2","v":0.4},"Niederlagen",{"$f":"COUNTIF($Q$21:$Q$35,\"L\")/AL2","v":0.2},{"$f":"COUNTIF($AE$21:$AE$35,\"L\")/AM2","v":0},{"$f":"IF(OR(AM9=0,AM11=0),0,(AM9/AM11))","v":0},null,null,null,null,null,null,6,0,5.9250742175406679E-5,5,5,2.8274622788128291E-4,0,6,9.8227511181451996E-3,null,null,3.865530006447287E-3,"4-1"]
[null,10,{"$f":"Veri!A12","v":0},null,{"$f":"Veri!B12","v":"Sao Paulo"},{"$f":"Veri!D12","v":"Corinthians Paulista (SP)"},{"$f":"Veri!C12","v":"0-0"},null,null,null,0,0,0,0,1,0.5,"D",0,0,null,10,"Sao Paulo","Corinthians Paulista (SP)","0-0",0,0,0,0,1,0.5,"D",0,null,null,null,null,null,null,null,null,null,null,null,null,null,null,7,0,9.122733319070569E-6,6,6,2.1383362229610885E-5,0,7,3.5447658201751002E-3,null,null,8.3323646805641546E-4,"5-1"]
[null,11,{"$f":"Veri!A13","v":0},null,{"$f":"Veri!B13","v":0},{"$f":"Veri!D13","v":0},{"$f":"Veri!C13","v":0},null,null,null,"","","","","","","","","",null,11,"-","-","-","","","","","","","","",null,{"$f":"AJ5*AL6","v":0.95},null,null,null,{"$f":"AL5*AJ6","v":2.16},null,null,null,null,null,null,null,null,2,1,3.9932991457825091E-2,7,7,1.1881235023469352E-6,1,2,9.3595521731304518E-2,null,null,1.4967395815087452E-4,"6-1"]
[null,12,{"$f":"Veri!A14","v":0},null,{"$f":"Veri!B14","v":0},{"$f":"Veri!D14","v":0},{"$f":"Veri!C14","v":0},null,null,null,"","","","","","","","","",null,12,"-","-","-","","","","","","","","",null,{"$f":"AI5*AM6","v":0.61111111111111105},null,null,null,{"$f":"AM5*AI6","v":4.4444444444444446},null,null,null,null,null,null,null,null,3,1,1.4346296931144573E-2,{"$f":"SUM(AZ6:AZ13)","v":0.16991718864545688},null,null,1,3,7.8810895798563277E-2,null,null,2.3045038001007706E-5,"7-1"]
[null,13,{"$f":"Veri!A15","v":0},null,{"$f":"Veri!B15","v":0},{"$f":"Veri!D15","v":0},{"$f":"Veri!C15","v":0},null,null,null,"","","","","","","","","",null,13,"-","-","-","","","","","","","","",null,{"$f":"AVERAGE(AH13:AJ14)","v":0.78055555555555545},null,null,null,{"$f":"AVERAGE(AL13:AN14)","v":3.3022222222222224},null,null,null,null,null,null,null,null,4,1,3.865530006447287E-3,null,null,null,1,4,4.9771269888342677E-2,null,null,1.8120170040531774E-2,"3-2"]
[null,14,{"$f":"Veri!A16","v":0},null,{"$f":"Veri!B16","v":0},{"$f":"Veri!D16","v":0},{"$f":"Veri!C16","v":0},null,null,null,"","","","","","","","","",null,14,"-","-","-","","","","","","","","",null,null,null,null,null,null,null,null,null,null,null,null,null,null,5,1,8.3323646805641546E-4,{"$f":"1-AX14","v":0.83008281135454309},null,null,1,5,2.514555157581045E-2,null,null,4.8823791498099492E-3,"4-2"]
[null,15,{"$f":"Veri!A17","v":0},null,{"$f":"Veri!B17","v":0},{"$f":"Veri!D17","v":0},{"$f":"Veri!C17","v":0},null,null,null,"","","","","","","","","",null,15,"-","-","-","","","","","","","","",null,null,null,null,null,null,null,null,null,null,null,null,null,null,6,1,1.4967395815087452E-4,null,null,null,1,6,1.0586742871778715E-2,null,null,1.052423950070145E-3,"5-2"]
[null,null,null,null,null,null,null,null,null,null,null,null,null,null,null,null,null,null,null,null,null,null,null,null,null,null,null,null,null,null,null,null,null,{"$f":"(AG10+AH15)/2","v":1.0777777777777777},null,null,"Erwartete Tore",{"$f":"(AL15+AO10)/2","v":2.5261111111111112},null,null,null,null,null,null,null,null,7,1,2.3045038001007706E-5,null,null,null,1,7,3.8204698284109409E-3,null,null,1.8904652436445185E-4,"6-2"]
[null,null,null,null,null,null,null,null,null,null,"Statistiken",null,null,null,null,null,null,null,null,null,"Auswärtsteam",null,null,null,null,null,null,null,null,null,null,null,null,null,null,null,null,null,null,null,null,null,null,null,null,null,3,2,1.8120170040531774E-2,null,null,null,2,3,4.2470316069225758E-2,null,null,2.9107163275161686E-5,"7-2"]
[{"$f":"IF(COUNTIF(E21:F35,E21)>COUNTIF(E21:F35,F21),E21,F21)","v":"Fortaleza"},{"$f":"A20","v":"Fortaleza"},null,null,null,null,{"$f":"COUNT(K21:K35)","v":10},null,null,null,"Ergebnis",null,"TG","GT","PKT","PERF","INDEX","TD","OV",null,{"$f":"B20","v":"Fortaleza"},null,null,null,"Ergebnis",null,"TG","GT","PKT","PERF","INDEX","TD",null,null,null,null,null,null,null,null,null,null,null,null,null,null,4,2,4.8823791498099492E-3,null,null,null,2,4,2.6821184328717995E-2,null,null,4.1111440729973778E-3,"4-3"]
[null,1,{"$f":"Veri!K3","v":"13 Aug"},null,{"$f":"Veri!L3","v":"Fortaleza"},{"$f":"Veri!N3","v":"Atletico Paranaense"},{"$f":"Veri!M3","v":"0-2"},null,null,null,{"$f":"IFERROR(VALUE(LEFT(G21,FIND(\"-\",G21,1)-1)),\"\")","v":0},{"$f":"IFERROR(VALUE(RIGHT(G21,FIND(\"-\",G21,1)-1)),\"\")","v":2},{"$f":"IF(OR(K21=\"\",L21=\"\"),\"\",IF(E21=$B$20,K21,L21))","v":0},{"$f":"IF(OR(K21=\"\",L21=\"\"),\"\",IF(E21=$B$20,L21,K21))","v":2},{"$f":"IF(OR(M21=\"\",N21=\"\"),\"\",IF(M21>N21,3,IF(M21<N21,0,1)))","v":0},{"$f":"IF(O21=\"\",\"\",IF(O21=3,1,IF(O21=1,0.5,IF(O21=0,0))))","v":0},{"$f":"IF(O21=\"\",\"\",IF(O21=1,\"D\",IF(O21=0,\"L\",IF(O21=3,\"W\"))))","v":"L"},{"$f":"IF(OR(M21=\"\",N21=\"\"),\"\",M21-N21)","v":-2},{"$f":"IF(OR(K21=\"\",L21=\"\"),\"\",K21+L21)","v":2},null,1,{"$f":"IF(F21=$B$20,E21,\"-\")","v":"-"},{"$f":"IF(F21=$B$20,F21,\"-\")","v":"-"},{"$f":"IF(AND(V21=E21,W21=F21),G21,\"-\")","v":"-"},{"$f":"IFERROR(VALUE(LEFT(X21,FIND(\"-\",X21,1)-1)),\"\")","v":""},{"$f":"IFERROR(VALUE(RIGHT(X21,FIND(\"-\",X21,1)-1)),\"\")","v":""},{"$f":"IF(OR(Y21=\"\",Z21=\"\"),\"\",Z21)","v":""},{"$f":"IF(OR(Y21=\"\",Z21=\"\"),\"\",Y21)","v":""},{"$f":"IF(OR(AA21=\"\",AB21=\"\"),\"\",IF(AA21>AB21,3,IF(AA21<AB21,0,1)))","v":""},{"$f":"IF(AC21=\"\",\"\",IF(AC21=3,1,IF(AC21=1,0.5,IF(AC21=0,0))))","v":""},{"$f":"IF(AC21=\"\",\"\",IF(AC21=1,\"D\",IF(AC21=0,\"L\",IF(AC21=3,\"W\"))))","v":""},{"$f":"IF(OR(AA21=\"\",AB21=\"\"),\"\",AA21-AB21)","v":""},null,null,"ТБ",null,{"$f":"B2","v":"Sao Paulo"},"ТМ",null,null,null,null,null,null,null,null,5,2,1.052423950070145E-3,null,null,null,2,5,1.3550658349186742E-2,null,null,8.8617994462387962E-4,"5-3"]
[null,{"$f":"1+B21","v":2},{"$f":"Veri!K4","v":"20 Aug"},null,{"$f":"Veri!L4","v":"Fortaleza"},{"$f":"Veri!N4","v":"Ceara"},{"$f":"Veri!M4","v":"0-1"},null,null,null,0,1,0,1,0,0,"L",-1,1,null,{"$f":"1+U21","v":2},"-","-","-","","","","","","","","",null,null,{"$f":"SUM(AW6:AW33)+SUM(AZ7:AZ13)+SUM(BC6:BC33)","v":0.96825256143766858},{"$f":"1/AI22","v":1.03278838582693},0.5,{"$f":"IF(AI22=0,0,(1-AI22))","v":3.174743856233142E-2},{"$f":"IF(OR(AI22=0,AL22=0),0,(AI22-AL22))","v":0.93650512287533716},{"$f":"1-AM22","v":6.3494877124662841E-2},null,null,null,null,null,null,6,2,1.8904652436445185E-4,null,null,null,2,6,5.7050781031251956E-3,null,null,1.5918417523799307E-4,"6-3"]
[null,3,{"$f":"Veri!K5","v":"27 Aug"},null,{"$f":"Veri!L5","v":"Fortaleza"},{"$f":"Veri!N5","v":"Sport Club Recife PE"},{"$f":"Veri!M5","v":"0-0"},null,null,null,0,0,0,0,1,0.5,"D",0,0,null,3,"-","-","-","","","","","","","","",null,null,{"$f":"SUM(AW7:AW33)+SUM(AZ7:AZ13)+SUM(BC7:BC33)","v":0.87016310339854464},{"$f":"1/AI23","v":1.1492098390455296},1.5,{"$f":"IF(AI23=0,0,(1-AI23))","v":0.12983689660145536},{"$f":"IF(OR(AI23=0,AL23=0),0,(AI23-AL23))","v":0.74032620679708927},{"$f":"1-AM23","v":0.25967379320291073},null,null,null,null,null,null,7,2,2.9107163275161686E-5,null,null,null,2,7,2.0588087408658961E-3,null,null,2.4509309520770405E-5,"7-3"]
[null,4,{"$f":"Veri!K6","v":"10 Sep"},null,{"$f":"Veri!L6","v":"Fortaleza"},{"$f":"Veri!N6","v":"America FC Natal RN"},{"$f":"Veri!M6","v":"3-1"},null,null,null,3,1,3,1,3,1,"W",2,4,null,4,"-","-","-","","","","","","","","",null,null,{"$f":"SUM(AW8:AW33)+SUM(AZ8:AZ13)+SUM(BC8:BC33)","v":0.6934113494263785},{"$f":"1/AI24","v":1.4421454174744119},2.5,{"$f":"IF(AI24=0,0,(1-AI24))","v":0.3065886505736215},{"$f":"IF(OR(AI24=0,AL24=0),0,(AI24-AL24))","v":0.386822698852757},{"$f":"1-AM24","v":0.613177301147243},null,null,null,null,null,null,4,3,4.1111440729973778E-3,null,null,null,3,4,9.6357588143912813E-3,null,null,5.5964725113955298E-4,"5-4"]
[null,5,{"$f":"Veri!K7","v":"17 Sep"},null,{"$f":"Veri!L7","v":"Fortaleza"},{"$f":"Veri!N7","v":"Guarany CE"},{"$f":"Veri!M7","v":"1-0"},null,null,null,1,0,1,0,3,1,"W",1,1,null,5,"-","-","-","","","","","","","","",null,null,{"$f":"AW9+AW10+AW11+AW12+BC9+BC10+BC11+BC12+SUM(AZ8:AZ13)+SUM(AW14:AW33)+SUM(BC14:BC33)","v":0.48108012201574157},{"$f":"1/AI25","v":2.0786558293241613},3.5,{"$f":"IF(AI25=0,0,(1-AI25))","v":0.51891987798425843},{"$f":"IF(OR(AI25=0,AL25=0),0,(AI25-AL25))","v":-3.7839755968516853E-2},{"$f":"1-AM25","v":1.0378397559685169},null,null,null,null,null,null,5,3,8.8617994462387962E-4,null,null,null,3,5,4.8681994810041264E-3,null,null,1.0052922844543814E-4,"6-4"]
[null,6,{"$f":"Veri!K8","v":"24 Sep"},null,{"$f":"Veri!L8","v":"Ceara"},{"$f":"Veri!N8","v":"Fortaleza"},{"$f":"Veri!M8","v":"1-2"},null,null,null,1,2,2,1,3,1,"W",1,3,null,6,"Ceara","Fortaleza","1-2",1,2,2,1,3,1,"W",1,null,null,null,null,null,null,null,null,null,null,null,null,null,null,6,3,1.5918417523799307E-4,null,null,null,3,6,2.049602133344978E-3,null,null,1.5478309776519869E-5,"7-4"]
[null,7,{"$f":"Veri!K9","v":"1 Oct"},null,{"$f":"Veri!L9","v":"Guarany CE"},{"$f":"Veri!N9","v":"Fortaleza"},{"$f":"Veri!M9","v":"0-5"},null,null,null,0,5,5,0,3,1,"W",5,5,null,7,"Guarany CE","Fortaleza","0-5",0,5,5,0,3,1,"W",5,null,null,null,null,null,null,null,null,null,null,null,null,null,null,7,3,2.4509309520770405E-5,null,null,null,3,7,7.3964610319997011E-4,null,null,5.0789600193489673E-5,"6-5"]
[null,8,{"$f":"Veri!K10","v":"15 Oct"},null,{"$f":"Veri!L10","v":"Nautico (PE)"},{"$f":"Veri!N10","v":"Fortaleza"},{"$f":"Veri!M10","v":"0-3"},null,null,null,0,3,3,0,3,1,"W",3,3,null,8,"Nautico (PE)","Fortaleza","0-3",0,3,3,0,3,1,"W",3,null,null,null,null,null,null,null,null,null,null,null,null,null,null,5,4,5.5964725113955298E-4,null,null,null,4,5,1.3117093046038895E-3,null,null,7.8199860615373126E-6,"7-5"]
[null,9,{"$f":"Veri!K11","v":"22 Oct"},null,{"$f":"Veri!L11","v":"Fortaleza"},{"$f":"Veri!N11","v":"Pacajus"},{"$f":"Veri!M11","v":"3-0"},null,null,null,3,0,3,0,3,1,"W",3,3,null,9,"-","-","-","","","","","","","","",null,null,null,null,null,null,null,null,null,null,null,null,null,null,6,4,1.0052922844543814E-4,null,null,null,4,6,5.5225390815128567E-4,null,null,3.2923589464639038E-6,"7-6"]
[null,10,{"$f":"Veri!K12","v":0},null,{"$f":"Veri!L12","v":"Fortaleza"},{"$f":"Veri!N12","v":"Centro Sportivo Alagoano"},{"$f":"Veri!M12","v":"1-0"},null,null,null,1,0,1,0,3,1,"W",1,1,null,10,"-","-","-","","","","","","","","",null,null,null,null,null,null,null,null,null,null,null,null,null,null,7,4,1.5478309776519869E-5,null,null,null,4,7,1.9929353336221414E-4,null,null,{"$f":"AZ6","v":2.7217669873658579E-2},"0-0"]
[null,11,{"$f":"Veri!K13","v":0},null,{"$f":"Veri!L13","v":0},{"$f":"Veri!N13","v":0},{"$f":"Veri!M13","v":0},null,null,null,"","","","","","","","","",null,11,"-","-","-","","","","","","","","",null,null,null,null,null,null,null,null,null,null,null,null,null,null,6,5,5.0789600193489673E-5,null,null,null,5,6,1.1904139797927717E-4,null,null,7.4102458375345542E-2,"1-1"]
[null,12,{"$f":"Veri!K14","v":0},null,{"$f":"Veri!L14","v":0},{"$f":"Veri!N14","v":0},{"$f":"Veri!M14","v":0},null,null,null,"","","","","","","","","",null,12,"-","-","-","","","","","","","","",null,null,null,null,null,null,null,null,null,null,null,null,null,null,7,5,7.8199860615373126E-6,null,null,null,5,7,4.295882830252173E-5,null,null,5.0437586710758542E-2,"2-2"]
[null,13,{"$f":"Veri!K15","v":0},null,{"$f":"Veri!L15","v":0},{"$f":"Veri!N15","v":0},{"$f":"Veri!M15","v":0},null,null,null,"","","","","","","","","",null,13,"-","-","-","","","","","","","","",null,null,null,null,null,null,null,null,null,null,null,null,null,null,7,6,3.2923589464639038E-6,null,null,null,6,7,7.7166784173048236E-6,null,null,1.5257854291536664E-2,"3-3"]
[null,14,{"$f":"Veri!K16","v":0},null,{"$f":"Veri!L16","v":0},{"$f":"Veri!N16","v":0},{"$f":"Veri!M16","v":0},null,null,null,"","","","","","","","","",null,14,"-","-","-","","","","","","","","",null,null,null,null,null,null,null,null,null,null,null,null,null,null,{"$f":"SUM(AW6:AW33)","v":0.14209281977241997},null,null,{"$f":"1-AU34","v":0.85790718022758006},null,null,{"$f":"SUM(BC6:BC33)","v":0.68346022289345032},null,null,{"$f":"1-BA34","v":0.31653977710654968},null,2.5963016805443167E-3,"4-4"]
[null,15,{"$f":"Veri!K17","v":0},null,{"$f":"Veri!L17","v":0},{"$f":"Veri!N17","v":0},{"$f":"Veri!M17","v":0},null,null,null,"","","","","","","","","",null,15,"-","-","-","","","","","","","","",null,null,null,null,null,null,null,null,null,null,null,null,null,null,null,null,null,null,null,null,null,null,null,null,null,2.8274622788128291E-4,"5-5"]
[null,null,42476,"LO","Swindon","Bury",6.9444444444444447E-4,null,null,null,null,null,null,null,null,null,null,null,null,null,null,null,null,null,null,null,null,null,null,null,null,{"$f":"SUM(AF21:AF35)/AM2","v":3},null,null,null,null,null,null,null,null,null,null,null,null,null,"A.U.Q   -    HOME",null,null,{"$f":"SUM(AW6:AW12)","v":5.2750344847800189E-2},null,null,null,{"$f":"SUM(BC6:BC12)","v":0.31159754542536133},null,"A.U.Q   -    AWAY",null,null,2.1383362229610885E-5,"6-6"]
[null,null,null,null,null,null,null,null,null,null,null,null,null,null,null,null,null,null,null,null,null,null,null,null,null,null,null,null,null,null,null,null,null,null,null,null,null,null,null,null,null,null,null,null,null,null,null,null,null,null,null,null,null,null,null,null,null,1.1881235023469352E-6,"7-7"]
[null,null,null,null,null,null,null,null,null,null,null,null,null,null,null,null,null,null,null,null,null,null,null,null,null,null,null,null,null,null,null,null,null,null,null,null,null,null,null,null,null,null,null,null,null,null,null,null,null,null,null,null,null,null,null,null,null,{"$f":"BC6","v":6.8754858286403084E-2},"0-1"]
[null,null,null,null,null,null,null,null,null,null,null,null,null,null,null,null,null,null,null,null,null,null,null,null,null,null,null,null,null,null,null,null,null,null,null,null,null,null,null,null,null,null,null,null,null,"\" Score - 1 \"",null,null,null,{"$f":"LARGE(BF2:BF65,1)","v":9.3595521731304518E-2},null,{"$f":"VLOOKUP(AX39,BF2:BG65,2,FALSE)","v":"1-2"},{"$f":"IFERROR(VALUE(LEFT(AZ39,FIND(\"-\",AZ39,1)-1)),\"\")","v":1},{"$f":"IFERROR(VALUE(RIGHT(AZ39,FIND(\"-\",AZ39,1)-1)),\"\")","v":2},{"$f":"BA39+BB39","v":3},null,null,8.6841205730076365E-2,"0-2"]
[null,null,null,null,null,null,null,null,null,null,null,null,null,null,null,null,null,null,null,null,null,null,null,null,null,null,null,null,null,null,null,null,null,null,null,null,null,null,null,null,null,null,null,null,null,"\" Score - 2 \"",null,null,null,{"$f":"LARGE(BF2:BF65,2)","v":8.6841205730076365E-2},null,{"$f":"VLOOKUP(AX40,BF2:BG65,2,FALSE)","v":"0-2"},{"$f":"IFERROR(VALUE(LEFT(AZ40,FIND(\"-\",AZ40,1)-1)),\"\")","v":0},{"$f":"IFERROR(VALUE(RIGHT(AZ40,FIND(\"-\",AZ40,1)-1)),\"\")","v":2},{"$f":"BA40+BB40","v":2},null,null,7.3123511565677271E-2,"0-3"]
[null,null,null,null,null,null,null,null,null,null,null,null,null,null,null,null,null,null,null,null,null,null,null,null,null,null,null,null,null,null,null,null,null,null,null,null,null,null,null,null,null,null,null,null,null,"\" Score - 3 \"",null,null,null,{"$f":"LARGE(BF2:BF65,3)","v":7.8810895798563277E-2},null,{"$f":"VLOOKUP(AX41,BF2:BG65,2,FALSE)","v":"1-3"},{"$f":"IFERROR(VALUE(LEFT(AZ41,FIND(\"-\",AZ41,1)-1)),\"\")","v":1},{"$f":"IFERROR(VALUE(RIGHT(AZ41,FIND(\"-\",AZ41,1)-1)),\"\")","v":3},{"$f":"BA41+BB41","v":4},null,null,4.617952876237981E-2,"0-4"]
[null,null,null,null,null,null,null,null,null,null,null,null,null,null,null,null,null,null,null,null,null,null,null,null,null,null,null,null,null,null,null,null,null,null,null,null,null,null,null,null,null,null,null,null,null,null,null,null,null,null,null,null,null,null,null,null,null,2.3330924142504546E-2,"0-5"]
[null,null,null,null,null,null,null,null,null,null,null,null,null,null,null,null,null,null,null,null,null,null,null,null,null,null,null,null,null,null,null,null,null,null,null,null,null,null,null,null,null,null,null,null,null,"1X",null,null,null,{"$f":"AU34+AX14","v":0.31201000841787685},null,{"$f":"LARGE(AX43:AY45,1)","v":0.85337741153890723},{"$f":"IF(AZ43=AX43,\"1X\",IF(AZ43=AX44,\"X2\",IF(AZ43=AX45,\"12\")))","v":"X2"},null,null,null,null,9.8227511181451996E-3,"0-6"]
[null,null,null,null,null,null,null,null,null,null,null,null,null,null,null,null,null,null,null,null,null,null,null,null,null,null,null,null,null,null,null,null,null,null,null,null,null,null,null,null,null,null,null,null,null,"X2",null,null,null,{"$f":"AX14+BA34","v":0.85337741153890723},null,null,null,null,null,null,null,3.5447658201751002E-3,"0-7"]
[null,null,null,null,null,null,null,null,null,null,null,null,null,null,null,null,null,null,null,null,null,null,null,null,null,null,null,null,null,null,null,null,null,null,null,null,null,null,null,null,null,null,null,null,null,12,null,null,null,{"$f":"AU34+BA34","v":0.82555304266587026},null,null,null,null,null,null,null,9.3595521731304518E-2,"1-2"]
[null,null,null,null,null,null,null,null,null,null,null,null,null,null,null,null,null,null,null,null,null,null,null,null,null,null,null,null,null,null,null,null,null,null,null,null,null,null,null,null,null,null,null,null,null,null,null,null,null,null,null,null,null,null,null,null,null,7.8810895798563277E-2,"1-3"]
[null,null,null,null,null,null,null,null,null,null,null,null,null,null,null,null,null,null,null,null,null,null,null,null,null,null,null,null,null,null,null,null,null,null,null,null,null,null,null,null,null,null,null,null,null,"DG1",null,null,null,null,null,"DG2",null,null,null,null,null,4.9771269888342677E-2,"1-4"]
[null,null,null,null,null,null,null,null,null,null,null,null,null,null,null,null,null,null,null,null,null,null,null,null,null,null,null,null,null,null,null,null,null,null,null,null,null,null,null,null,null,null,null,null,null,"YES",null,"NO",null,null,null,"YES",null,"NO",null,null,null,2.514555157581045E-2,"1-5"]
[null,null,null,null,null,null,null,null,null,null,null,null,null,null,null,null,null,null,null,null,null,null,null,null,null,null,null,null,null,null,null,null,null,null,null,null,null,null,null,null,null,null,null,null,null,{"$f":"SUM(AW6:AW33)+SUM(AZ7:AZ13)+SUM(BC13:BC33)","v":0.65665501601230725},null,{"$f":"SUM(BC6:BC12)+AZ6","v":0.33881521529901992},null,null,null,{"$f":"SUM(BC6:BC33)+SUM(AZ7:AZ13)+SUM(AW13:AW33)","v":0.91550221658986841},null,{"$f":"SUM(AW6:AW12)+AZ6","v":7.9968014721458772E-2},null,null,null,1.0586742871778715E-2,"1-6"]
[null,null,null,null,null,null,null,null,null,null,null,null,null,null,null,null,null,null,null,null,null,null,null,null,null,null,null,null,null,null,null,null,null,null,null,null,null,null,null,null,null,null,null,null,null,{"$f":"AT49-AV49","v":0.31783980071328732},null,null,null,null,null,{"$f":"AZ49-BB49","v":0.83553420186840965},null,null,null,null,null,3.8204698284109409E-3,"1-7"]
[null,null,null,null,null,null,null,null,null,null,null,null,null,null,null,null,null,null,null,null,null,null,null,null,null,null,null,null,null,null,null,null,null,null,null,null,null,null,null,null,null,null,null,null,null,null,null,null,null,null,null,null,null,null,null,null,null,4.2470316069225758E-2,"2-3"]
[null,null,null,null,null,null,null,null,null,null,null,null,null,null,null,null,null,null,null,null,null,null,null,null,null,null,null,null,null,null,null,null,null,null,null,null,null,null,null,null,null,null,null,null,null,null,null,null,null,null,null,null,null,null,null,null,null,2.6821184328717995E-2,"2-4"]
[null,null,null,null,null,null,null,null,null,null,null,null,null,null,null,null,null,null,null,null,null,null,null,null,null,null,null,null,null,null,null,null,null,null,null,null,null,null,null,null,null,null,null,null,null,null,null,null,null,null,null,null,null,null,null,null,null,1.3550658349186742E-2,"2-5"]
[null,null,null,null,null,null,null,null,null,null,null,null,null,null,null,null,null,null,null,null,null,null,null,null,null,null,null,null,null,null,null,null,null,null,null,null,null,null,null,null,null,null,null,null,null,null,null,null,null,null,null,null,null,null,null,null,null,5.7050781031251956E-3,"2-6"]
[null,null,null,null,null,null,null,null,null,null,null,null,null,null,null,null,null,null,null,null,null,null,null,null,null,null,null,null,null,null,null,null,null,null,null,null,null,null,null,null,null,null,null,null,null,null,null,null,null,null,null,null,null,null,null,null,null,2.0588087408658961E-3,"2-7"]
[null,null,null,null,null,null,null,null,null,null,null,null,null,null,null,null,null,null,null,null,null,null,null,null,null,null,null,null,null,null,null,null,null,null,null,null,null,null,null,null,null,null,null,null,null,null,null,null,null,null,null,null,null,null,null,null,null,9.6357588143912813E-3,"3-4"]
[null,null,null,null,null,null,null,null,null,null,null,null,null,null,null,null,null,null,null,null,null,null,null,null,null,null,null,null,null,null,null,null,null,null,null,null,null,null,null,null,null,null,null,null,null,null,null,null,null,null,null,null,null,null,null,null,null,4.8681994810041264E-3,"3-5"]
[null,null,null,null,null,null,null,null,null,null,null,null,null,null,null,null,null,null,null,null,null,null,null,null,null,null,null,null,null,null,null,null,null,null,null,null,null,null,null,null,null,null,null,null,null,null,null,null,null,null,null,null,null,null,null,null,null,2.049602133344978E-3,"3-6"]
[null,null,null,null,null,null,null,null,null,null,null,null,null,null,null,null,null,null,null,null,null,null,null,null,null,null,null,null,null,null,null,null,null,null,null,null,null,null,null,null,null,null,null,null,null,null,null,null,null,null,null,null,null,null,null,null,null,7.3964610319997011E-4,"3-7"]
[null,null,null,null,null,null,null,null,null,null,null,null,null,null,null,null,null,null,null,null,null,null,null,null,null,null,null,null,null,null,null,null,null,null,null,null,null,null,null,null,null,null,null,null,null,null,null,null,null,null,null,null,null,null,null,null,null,1.3117093046038895E-3,"4-5"]
[null,null,null,null,null,null,null,null,null,null,null,null,null,null,null,null,null,null,null,null,null,null,null,null,null,null,null,null,null,null,null,null,null,null,null,null,null,null,null,null,null,null,null,null,null,null,null,null,null,null,null,null,null,null,null,null,null,5.5225390815128567E-4,"4-6"]
[null,null,null,null,null,null,null,null,null,null,null,null,null,null,null,null,null,null,null,null,null,null,null,null,null,null,null,null,null,null,null,null,null,null,null,null,null,null,null,null,null,null,null,null,null,null,null,null,null,null,null,null,null,null,null,null,null,1.9929353336221414E-4,"4-7"]
[null,null,null,null,null,null,null,null,null,null,null,null,null,null,null,null,null,null,null,null,null,null,null,null,null,null,null,null,null,null,null,null,null,null,null,null,null,null,null,null,null,null,null,null,null,null,null,null,null,null,null,null,null,null,null,null,null,1.1904139797927717E-4,"5-6"]
[null,null,null,null,null,null,null,null,null,null,null,null,null,null,null,null,null,null,null,null,null,null,null,null,null,null,null,null,null,null,null,null,null,null,null,null,null,null,null,null,null,null,null,null,null,null,null,null,null,null,null,null,null,null,null,null,null,4.295882830252173E-5,"5-7"]
[null,null,null,null,null,null,null,null,null,null,null,null,null,null,null,null,null,null,null,null,null,null,null,null,null,null,null,null,null,null,null,null,null,null,null,null,null,null,null,null,null,null,null,null,null,null,null,null,null,null,null,null,null,null,null,null,null,7.7166784173048236E-6,"6-7"]
[]
[]
[]
[]
[]
[]
[]
[]
[]
[]
[]
[]
[]
[]
[]
[]
[]
[]
[]
[]
[]
[]
[]
[]
[]
[]
[]
[]
[]
[]
[]
[]
[]
[]
[]
[]
[]
[]
[]
[]
[]
[null,null,null,null,null,null,null,null,null,null,null,null,null,null,null,null,null,null,null,null,null,null,null,null,null,null,null,null,null,null,null,null,null,"OVER 0.5",null,null,null,"UNDER 1.5"]
[null,null,null,null,null,null,null,null,null,null,null,null,null,null,null,null,null,null,null,null,null,null,null,null,null,null,null,null,null,null,null,null,null,{"$f":"AI22","v":0.96825256143766858},{"$f":"AI38","v":0},{"$f":"SUM(AH108:AI108)","v":0.96825256143766858},{"$f":"IF(AJ108>AL108,\"OVER 0.5\",\"-\")","v":"OVER 0.5"},{"$f":"SUM(AM108:AN108)","v":0.12983689660145536},{"$f":"AL23","v":0.12983689660145536},{"$f":"AL39","v":0}]
[null,null,null,null,null,null,null,null,null,null,null,null,null,null,null,null,null,null,null,null,null,null,null,null,null,null,null,null,null,null,null,null,null,"OVER 1.5",null,null,null,"UNDER 2.5"]
[null,null,null,null,null,null,null,null,null,null,null,null,null,null,null,null,null,null,null,null,null,null,null,null,null,null,null,null,null,null,null,null,null,{"$f":"AI23","v":0.87016310339854464},{"$f":"AI39","v":0},{"$f":"SUM(AH110:AI110)","v":0.87016310339854464},{"$f":"IF(AJ110>AL110,\"OVER 1.5\",\"-\")","v":"OVER 1.5"},{"$f":"SUM(AM110:AN110)","v":0.3065886505736215},{"$f":"AL24","v":0.3065886505736215},{"$f":"AL40","v":0}]
[null,null,null,null,null,null,null,null,null,null,null,null,null,null,null,null,null,null,null,null,null,null,null,null,null,null,null,null,null,null,null,null,null,"OVER 2.5",null,null,null,"UNDER 3.5"]
[null,null,null,null,null,null,null,null,null,null,null,null,null,null,null,null,null,null,null,null,null,null,null,null,null,null,null,null,null,null,null,null,null,{"$f":"AI24","v":0.6934113494263785},{"$f":"AI40","v":0},{"$f":"SUM(AH112:AI112)","v":0.6934113494263785},{"$f":"IF(AJ112>AL112,\"OVER 2.5\",\"-\")","v":"OVER 2.5"},{"$f":"SUM(AM112:AN112)","v":0.51891987798425843},{"$f":"AL25","v":0.51891987798425843},{"$f":"AL41","v":0}]
[]
[]
[]
[]
[]
[]
[]
[null,null,null,null,null,null,null,null,null,null,null,null,null,null,null,null,null,null,null,null,null,null,null,null,null,null,null,null,null,null,null,null,null,{"$f":"AJ8","v":0},{"$f":"1-(AH120+AJ120)","v":1},{"$f":"AL8","v":0},{"$f":"IF(AND(AI120>AH120,AI120>AJ120),\"X\",IF(AH120-AJ120>=0.33,\"1\",IF(AH120>AJ120,\"1X\",IF(AJ120-AH120>=0.33,\"2\",IF(AJ120>AH120,\"X2\")))))","v":"X"},null,{"$f":"SUM(AH120:AJ120)","v":1}]
[null,null,null,null,null,null,null,null,null,null,null,null,null,null,null,null,null,null,null,null,null,null,null,null,null,null,null,null,null,null,null,null,null,{"$f":"SUM(P3:P17)","v":5.5},{"$f":"SUM(P21:P35)","v":7.5},null,null,{"$f":"(AH121+AI5+AJ5)/3","v":3.0777777777777775},{"$f":"(AI121+AL5+AM5)/3","v":4.2111111111111112},{"$f":"SUM(AL121:AM121)","v":7.2888888888888888}]
[null,null,null,null,null,null,null,null,null,null,null,null,null,null,null,null,null,null,null,null,null,null,null,null,null,null,null,null,null,null,null,null,null,{"$f":"SUM(AD3:AD17)","v":3.5},{"$f":"SUM(AD21:AD35)","v":3}]
[]
[null,null,null,null,null,null,null,null,null,null,null,null,null,null,null,null,null,null,null,null,null,null,null,null,null,null,null,null,null,null,null,null,null,{"$f":"AVERAGE(AH121:AH122)","v":4.5},{"$f":"AVERAGE(AI121:AI122)","v":5.25},null,null,{"$f":"(AH124+AI5+AJ5)/3","v":2.744444444444444},{"$f":"(AI124+AL5+AM5)/3","v":3.4611111111111108}]
[null,null,null,null,null,null,null,null,null,null,null,null,null,null,null,null,null,null,null,null,null,null,null,null,null,null,null,null,null,null,null,null,null,null,null,null,null,{"$f":"(AH124+AI6+AJ6)/3","v":2.3444444444444446},{"$f":"(AI124+AL6+AM6)/3","v":2.0277777777777777}]
[]
[]
[null,null,null,null,null,null,null,null,null,null,null,null,null,null,null,null,null,null,null,null,null,null,null,null,null,null,null,null,null,null,null,null,null,{"$f":"(AH122+AJ5)/2","v":2.7},{"$f":"(AI121+AL5)/2","v":4.6500000000000004},null,null,{"$f":"AVERAGE(AL124:AL125)","v":2.5444444444444443},{"$f":"AVERAGE(AM124:AM125)","v":2.7444444444444445}]

{"sheet":"ZW4","index":18,"n_rows":25,"n_cols":19,"rows_kept":25,"cut":false,"hidden":true,"merged":[[22,1,24,1],[22,4,24,5],[17,1,17,4],[17,5,17,6],[18,1,18,4],[18,5,18,6],[19,1,19,4],[19,5,19,6],[13,17,13,18],[14,7,16,10],[14,11,14,12],[14,13,14,14],[14,15,14,16],[14,17,14,18],[15,11,15,12],[15,13,15,14],[15,15,15,16],[15,17,15,18],[16,11,16,12],[16,13,16,14],[16,15,16,16],[16,17,16,18],[11,17,11,18],[12,11,12,12],[12,13,12,14],[12,15,12,16],[12,17,12,18],[11,1,16,6],[11,7,13,10],[11,11,11,12],[11,13,11,14],[11,15,11,16],[13,11,13,12],[13,13,13,14],[13,15,13,16],[0,1,0,18],[1,2,1,9],[1,10,1,17],[2,1,10,1],[2,2,7,9],[2,18,10,18],[8,2,10,9]]}
[]
[null,{"$f":"'ZW3'!AU2","v":1.0777777777777777},{"$f":"'ZW3'!B2","v":"Sao Paulo"},null,null,null,null,null,null,null,{"$f":"'ZW3'!B20","v":"Fortaleza"},null,null,null,null,null,null,null,{"$f":"'ZW3'!BA2","v":2.5261111111111112}]
[null,{"$f":"IF(B2>=7,\"7\",IF(B2>=6,\"6\",IF(B2>=5,\"5\",IF(B2>=4,\"4\",IF(B2>=3,\"3\",IF(B2>=2,\"2\",IF(B2>=1,\"1\",\"0\")))))))","v":"1"},null,null,null,null,null,null,null,null,null,null,null,null,null,null,null,null,{"$f":"IF(S2>=7,\"7\",IF(S2>=6,\"6\",IF(S2>=5,\"5\",IF(S2>=4,\"4\",IF(S2>=3,\"3\",IF(S2>=2,\"2\",IF(S2>=1,\"1\",\"0\")))))))","v":"2"}]
[]
[]
[]
[]
[]
[null,null,{"$f":"E23","v":"Ф2(0)"}]
[]
[]
[null,"Under / Over",null,null,null,null,null,"ÜST",null,null,null,0.5,null,1.5,null,2.5,null,3.5]
[null,null,null,null,null,null,null,null,null,null,null,{"$f":"'ZW3'!AM22","v":0.93650512287533716},null,{"$f":"'ZW3'!AM23","v":0.74032620679708927},null,{"$f":"'ZW3'!AM24","v":0.386822698852757},null,{"$f":"'ZW3'!AM25","v":-3.7839755968516853E-2}]
[null,null,null,null,null,null,null,null,null,null,null,{"$f":"IF(L13>=0.33,\"BET\",\"NB\")","v":"BET"},null,{"$f":"IF(N13>=0.33,\"BET\",\"NB\")","v":"BET"},null,{"$f":"IF(P13>=0.33,\"BET\",\"NB\")","v":"BET"},null,{"$f":"IF(R13>=0.33,\"BET\",\"NB\")","v":"NB"}]
[null,null,null,null,null,null,null,"ALT",null,null,null,0.5,null,1.5,null,2.5,null,3.5]
[null,null,null,null,null,null,null,null,null,null,null,{"$f":"1-L13","v":6.3494877124662841E-2},null,{"$f":"1-N13","v":0.25967379320291073},null,{"$f":"1-P13","v":0.613177301147243},null,{"$f":"1-R13","v":1.0378397559685169}]
[null,null,null,null,null,null,null,null,null,null,null,{"$f":"IF(L16>=0.33,\"BET\",\"NB\")","v":"NB"},null,{"$f":"IF(N16>=0.33,\"BET\",\"NB\")","v":"NB"},null,{"$f":"IF(P16>=0.33,\"BET\",\"NB\")","v":"BET"},null,{"$f":"IF(R16>=0.33,\"BET\",\"NB\")","v":"BET"}]
[null,"Ergebnis 1",null,null,null,{"$f":"'ZW3'!AX39","v":9.3595521731304518E-2},null,null,{"$f":"'ZW3'!BA39","v":1},{"$f":"'ZW3'!BB39","v":2}]
[null,"Ergebnis 2",null,null,null,{"$f":"'ZW3'!AX40","v":8.6841205730076365E-2},null,null,{"$f":"'ZW3'!BA40","v":0},{"$f":"'ZW3'!BB40","v":2}]
[null,"Ergebnis 3",null,null,null,{"$f":"'ZW3'!AX41","v":7.8810895798563277E-2},null,null,{"$f":"'ZW3'!BA41","v":1},{"$f":"'ZW3'!BB41","v":3}]
[]
[]
[null,"A",1,{"$f":"'ZW3'!AU34","v":0.14209281977241997},{"$f":"IF(D23-D25>0.33,\"П1\",IF(D23-D25>0.11,\"Ф1(0)\",IF(D23-D25>-0.11,\"X\",IF(D23-D25>-0.33,\"П2\",\"Ф2(0)\"))))","v":"Ф2(0)"}]
[null,null,"X",{"$f":"'ZW3'!AX14","v":0.16991718864545688}]
[null,null,2,{"$f":"'ZW3'!BA34","v":0.68346022289345032}]

{"sheet":"Foglio2","index":19,"n_rows":263,"n_cols":4,"rows_kept":263,"cut":false,"hidden":true,"merged":[]}
["League","Time","Home","Away"]
["PAR D1 ","Aug.25 23:30","Guarani CA","FC Nacional Asuncion"]
["MAR D1 ","Aug.26 00:00","CAYB Club Athletic Youssoufia","OCK Olympique de Khouribga"]
["ECU D1 ","Aug.26 00:45","Independiente Jose Teran","Sociedad Deportiva Aucas"]
["BRA CUP ","Aug.26 01:00","America MG","Ferroviaria SP"]
["MEX D2 ","Aug.26 01:00","Celaya FC","Correcaminos UAT"]
["Brazil L ","Aug.26 01:00","Galvez AC","Sao Francisco AC"]
["MLS ","Aug.26 02:00","DC United","New England Revolution"]
["PER D1 ","Aug.26 02:00","Deportivo Municipal","Cienciano"]
["PAR D1 ","Aug.26 02:00","Sportivo San Lorenzo","River Plate (PAR)"]
["MLS ","Aug.26 02:30","Chicago Fire","FC Cincinnati"]
["MLS ","Aug.26 02:30","Philadelphia Union","New York Red Bulls"]
["MLS ","Aug.26 03:00","Montreal Impact","Vancouver Whitecaps"]
["INT CF ","Aug.26 03:00","Humaita AC","Atletico Acreano"]
["ECU D1 ","Aug.26 03:00","Liga Dep. Universitaria Quito","Delfin SC"]
["MEX D2 ","Aug.26 03:05","Monarcas Morelia","Cocodrilos de Tabasco FC"]
["MLS ","Aug.26 03:30","FC Kansas City","Houston Dynamo"]
["BRA CUP ","Aug.26 03:30","Fluminense RJ","Figueirense"]
["USL D1 ","Aug.26 05:00","Las Vegas Lights","Orange County Blues FC"]
["MEX D2 ","Aug.26 05:05","Alebrijes de Oaxaca","CSyD Dorados de Sinaloa"]
["INT CF ","Aug.26 08:00","FC Isabel United","Laugu United"]
["CHA CSL ","Aug.26 10:00","Henan Jianye(N)","Shanghai Shenhua"]
["AUS D1 ","Aug.26 10:00","Melbourne City(N)","Western United FC"]
["INT CF ","Aug.26 11:00","FC Cartagena","Leganes"]
["Croatia U19 L ","Aug.26 11:00","Sesvete U19","Inter Zapresic U19"]
["MGL PL ","Aug.26 11:00","Ulaanbaatar City","Erchim"]
["RUS Cup ","Aug.26 12:00","SKA Khabarovsk","Fakel"]
["MYA D1 ","Aug.26 12:00","Southern Myanmar","Ispe FC"]
["MYA D1 ","Aug.26 12:00","Yadanabon FC","Magway"]
["MYA D1 ","Aug.26 12:00","YANGON UNITED","Hantharwady United"]
["RUS D2 ","Aug.26 12:30","FK Chita","FK Kolomna"]
["AUS QSL ","Aug.26 12:30","Peninsula Power","Redlands United FC"]
["AUS QSL ","Aug.26 12:30","Brisbane Roar (Youth)","Gold Coast United"]
["INT CF ","Aug.26 12:30","CD Lugo","Ponferradina"]
["CHA CSL ","Aug.26 13:00","Shanghai East Asia FC","Chongqing SWM Motors"]
["JPN D1 ","Aug.26 13:00","Vissel Kobe","Kawasaki Frontale"]
["JPN D1 ","Aug.26 13:00","FC Tokyo","Kashima Antlers"]
["RUS D2 ","Aug.26 13:00","Dinamo Barnaul","Tyumen"]
["RUS D2 ","Aug.26 13:00","Zvezda Irkutsk","Znamya Truda"]
["AUS CGP B ","Aug.26 13:00","Narrabundah","Queanbeyan City"]
["AUS D1 ","Aug.26 13:10","Sydney FC(N)","Perth Glory"]
["NSW-N TPL ","Aug.26 13:15","Hamilton Olympic","Maitland"]
["NSW-N TPL ","Aug.26 13:15","Valentine","Adamstown Rosebuds FC"]
["JPN D1 ","Aug.26 13:30","Yokohama Marinos","Consadole Sapporo"]
["KOR D2 ","Aug.26 13:30","Jeju United","Bucheon FC 1995"]
["MGL PL ","Aug.26 14:00","FC Ulaanbaatar","Deren FC"]
["RUS Cup ","Aug.26 14:30","Tom Tomsk","FK Nizhny Novgorod"]
["CHA CSL ","Aug.26 15:00","Wuhan ZALL","Tianjin Teda"]
["RUS D1 ","Aug.26 15:00","Spartak Moscow II","FK Krasnodar II"]
["RUS Cup ","Aug.26 15:00","Akron Togliatti","Chertanovo Moscow"]
["RUS Cup ","Aug.26 15:00","Yenisey Krasnoyarsk","Volgar-Gazprom Astrachan"]
["KAZ PR ","Aug.26 15:00","FK Taraz","Okzhetpes"]
["RUS D2 ","Aug.26 15:00","Sibir-M Novosibirsk","Zvezda Perm"]
["SVK U19 A ","Aug.26 15:00","Trencin U19","Dukla Banska Bystrica U19"]
["BLR D3 ","Aug.26 15:00","Dnepr Rohachev","Shakhter Soligorsk II"]
["Croatia U19 L ","Aug.26 15:00","Slaven Belupo U19","NK Varazdin U19"]
["SAFL ","Aug.26 16:00","JDR Stars","Ajax Cape Town"]
["SAFL ","Aug.26 16:00","Pretoria Univ","Cape Umoya United"]
["SAFL ","Aug.26 16:00","Steenberg United","Jomo Cosmos"]
["SAFL ","Aug.26 16:00","TS Galaxy","Free State Stars"]
["HUN D3E ","Aug.26 16:00","Debreceni VSC II","Cegled"]
["RUS Cup ","Aug.26 17:00","Gazovik Orenburg","Alania Vladikavkaz"]
["EGY D1 ","Aug.26 17:00","Talaea EI-Gaish","Smouha SC"]
["RUS WPL ","Aug.26 17:00","Krasnodar FK (w)","Chertanovo Moscow (w)"]
["UEFA CL ","Aug.26 17:30","AZ Alkmaar","FC Viktoria Plzen"]
["SVK Cup ","Aug.26 17:30","FK Brezno","Slovenske Darmoty"]
["RUS Cup ","Aug.26 17:30","Krylya Sovetov","Irtysh 1946 Omsk"]
["Iran Cup ","Aug.26 17:30","Persepolis","Esteghlal Tehran"]
["Pol D4 ","Aug.26 17:30","Jutrzenka Giebultow","Stal Stalowa Wola"]
["HUN D3E ","Aug.26 17:30","Menfocsanak","Balatonfuredi FC"]
["SVK Cup ","Aug.26 18:00","SK Sasova","SK Pramen Kovacova"]
["SVK Cup ","Aug.26 18:00","Slovan Modra","FK Slovan Most pri Bratislave"]
["CZE D2 ","Aug.26 18:00","Hradec Kralove","FK Graffin Vlasim"]
["RUS Cup ","Aug.26 18:00","Neftekhimik Nizhnekamsk","Dinamo Briansk"]
["CZE CFL ","Aug.26 18:00","Slovan Rosice","Vysocina Jihlava B"]
["LAT D1 ","Aug.26 18:00","Metta/LU Riga","Riga FC"]
["KAZ PR ","Aug.26 18:00","FK Kaspyi Aktau","Kaisar Kyzylorda"]
["SWE WD2 ","Aug.26 18:00","Jitex DFF (w)","AIK Solna (w)"]
["SWE WD2 ","Aug.26 18:00","Kvarnsvedens IK (w)","Alingsas (W)"]
["RUS WPL ","Aug.26 18:00","FK Ryazan (w)","Lokomotiv Moscow (w)"]
["Finland K ","Aug.26 18:00","OTP","HauPa"]
["Pol D4 ","Aug.26 18:00","Chelmianka Chelm","Sokol Sieniawa"]
["Pol D4 ","Aug.26 18:00","Korona II Kielce","Cracovia II"]
["Pol D4 ","Aug.26 18:00","Lewart Lubartow","LKS Lagow"]
["Pol D4 ","Aug.26 18:00","Podhale Nowy","Podlasie Biala Podlaska"]
["Pol D4 ","Aug.26 18:00","Siarka Tarnobrzeg","Stal Krasnik"]
["Pol D4 ","Aug.26 18:00","Wisla Sandomierz","KS Wiazownica"]
["Pol D4 ","Aug.26 18:00","Wisloka Debica","Wisla Pulawy"]
["CZE DFL 5 ","Aug.26 18:00","Haj ve Slezsku","Pusta Polom"]
["CZE DFL 5 ","Aug.26 18:00","Koberice","TJ Bystrice"]
["FIN WD1 ","Aug.26 18:00","PK-35 RY (w)","PK-35 Vantaa (w)"]
["RUS PR ","Aug.26 18:30","Rotor Volgograd","Spartak Moscow"]
["RUS PR ","Aug.26 18:30","Rubin Kazan","FC Ufa"]
["RUS PR ","Aug.26 18:30","Lokomotiv Moscow","Terek Grozny"]
["FIN D1 ","Aug.26 18:30","FC Haka","Lahti"]
["FIN D1 ","Aug.26 18:30","HJK Helsinki","SJK Seinajoen"]
["FIN D1 ","Aug.26 18:30","IFK Mariehamn","RoPS Rovaniemi"]
["FIN D1 ","Aug.26 18:30","TPS Turku","HIFK"]
["GER Reg ","Aug.26 18:30","FSV Union Furstenwalde","Carl Zeiss Jena"]
["FIN D2 ","Aug.26 18:30","Mypa","MP MIKELI"]
["FIN D3 A ","Aug.26 18:30","VIFK","GBK Kokkola"]
["CZEC ","Aug.26 18:30","Stara Rise","Vysocina jihlava"]
["CZEC ","Aug.26 18:30","TJ Skastice","Vyskov"]
["CZEC ","Aug.26 18:30","Sokol Lanzho","Lisen"]
["RUS Cup ","Aug.26 18:30","Veles","Baltika Kaliningrad"]
["HUN D2E ","Aug.26 18:30","Budaorsi SC","Vasas"]
["HUN D2E ","Aug.26 18:30","Szentlorinc SE","Kaposvar"]
["TUN D1 ","Aug.26 18:30","Stade tunisien","AS Slimane"]
["INT CF ","Aug.26 18:30","TSV Hartberg","Hannover 96"]
["Finland K ","Aug.26 18:30","BK-46 Karis Karjaa","CLE"]
["Finland K ","Aug.26 18:30","VPV Pallo-Veikot","Korsnas FF"]
["HUN D3E ","Aug.26 18:30","Dunaujvaros Palhalma Agrospecial","Kozarmisleny SE"]
["HUN D3E ","Aug.26 18:30","FC Dabas","Ferencvarosi TC B"]
["HUN D3E ","Aug.26 18:30","UFC Nagykanizsa","RCO Agde"]
["HUN D3E ","Aug.26 18:30","Jaszberenyi FC","Balassagyarmat SE"]
["HUN D3E ","Aug.26 18:30","Lipot Pekseg","Nagyatadi FC"]
["HUN D3E ","Aug.26 18:30","Majosi SE","Ujpesti TE B"]
["HUN D3E ","Aug.26 18:30","MOL Fehervar FC II","Komarom VSE"]
["HUN D3E ","Aug.26 18:30","Monori SE","Paksi B"]
["HUN D3E ","Aug.26 18:30","MTE Mosonmagyarovar","Zalaegerszegi TE II"]
["HUN D3E ","Aug.26 18:30","Papai Perutz","Puskas Academy II"]
["HUN D3E ","Aug.26 18:30","Szegedi VSE","Taksony SE"]
["Croatia U19 L ","Aug.26 18:30","Rijeka U19","NK Orijent U19"]
["Croatia U19 L ","Aug.26 18:30","ZNK Osijek U19","Zagreb locomotive U19"]
["CRO D3 ","Aug.26 18:30","NK Cepin","NK Bedem Ivankovo"]
["CRO D3 ","Aug.26 18:30","NK Kutjevo","NK Marsonia 1909"]
["CRO D3 ","Aug.26 18:30","Slavonija Pozega","Vuteks Sloga"]
["CRO D3 ","Aug.26 18:30","NK Vihor","NK Belisce"]
["CRO D3 ","Aug.26 18:30","NK Zrinski Jurjevac","Oriolik"]
["CRO D3 ","Aug.26 18:30","NK Gardiska","HNK Dakovo Croatia"]
["CRO D3 ","Aug.26 18:30","HNK Vukovar 91","NK Slavija Pleternica"]
["KUW D1 ","Aug.26 18:55","Al Kuwait SC","Al-Yarmouk"]
["UEFA CL ","Aug.26 18:59","NK Publikum Celje","Molde"]
["UEFA CL ","Aug.26 18:59","Qarabag","Sheriff Tiraspol"]
["UEFA CL ","Aug.26 18:59","Suduva","Maccabi Tel Aviv"]
["NORW ","Aug.26 18:59","Roa (w)","Rosenborg BK (w)"]
["CZEC ","Aug.26 18:59","Komarov","Usti nad Labem"]
["CZEC ","Aug.26 18:59","Admira Praha","Dukla Prague"]
["CZEC ","Aug.26 18:59","FK Prepere","SK Slovan Varnsdorf"]
["RUS Cup ","Aug.26 18:59","FK Chayka K-SR","Tekstilshchik Ivanovo"]
["CYP D1 ","Aug.26 18:59","Ethnikos Achnas FC","E.N.Paralimniou"]
["ITA YCup ","Aug.26 18:59","Fiorentina U20","Verona U20"]
["HUN D2E ","Aug.26 18:59","Debrecin VSC","Szegedi AK"]
["SWE Cup ","Aug.26 18:59","Gottne IF","Stöde IF"]
["SWE WD2 ","Aug.26 18:59","IFK Kalmar (w)","Bollstanas Sk (w)"]
["SWE WD2 ","Aug.26 18:59","Moron BK (w)","Mallbackens IF (w)"]
["LIT D2 ","Aug.26 18:59","Alytis Alytus Dainava","FK Panevezys-2"]
["Finland K ","Aug.26 18:59","Saaripotku","SIF"]
["CZE DFL ","Aug.26 18:59","FK Chomutov","Meteor Praha"]
["Croatia U19 L ","Aug.26 18:59","Dinamo Zagreb U19","NK Istra 1961 U19"]
["Croatia U19 L ","Aug.26 18:59","Hajduk Split U19","Hrvatski Dragovoljac U19"]
["Estonia cup (w) ","Aug.26 18:59","Parnu JK Vaprus (w)","Tammeka Tartu (W)"]
["FIN WD1 ","Aug.26 18:59","Honka Espoo (w)","TiPS Vantaa (w)"]
["FIN WD1 ","Aug.26 18:59","KuPs （W）","Jyvaskylan Pallokerho (w)"]
["UEFA EL ","Aug.26 19:30","Progres Niedercorn","FK Zeta"]
["DEN WD2 ","Aug.26 19:30","FC Damso (w)","Frederiksberg Boldklub (w)"]
["DEN WD2 ","Aug.26 19:30","ASA Aarhus (w)","IF Lyseng (w)"]
["RUS Cup ","Aug.26 19:30","Torpedo moskva","Shinnik Yaroslavl"]
["EGY D1 ","Aug.26 19:30","FC Masr","EL Masry"]
["INT CF ","Aug.26 19:30","Bellinzona","Lugano"]
["UEFA CL ","Aug.26 20:00","NK Lokomotiva Zagreb","Rapid Wien"]
["GRE D1 ","Aug.26 20:00","SKODA Xanthi","Apollon Smirnis"]
["GER Reg ","Aug.26 20:00","VfB Auerbach","Chemnitzer"]
["GER Reg ","Aug.26 20:00","SV Babelsberg 03","FSV luckenwalde"]
["NORW ","Aug.26 20:00","Arna Bjornar (w)","Sandviken (w)"]
["NORW ","Aug.26 20:00","Valerenga (w)","Lyn (w)"]
["NORW ","Aug.26 20:00","LSK Kvinner (w)","Kolbotn (w)"]
["DEN WD2 ","Aug.26 20:00","Odense Q (w)","Varde (w)"]
["ICE PR ","Aug.26 20:00","KR Reykjavik","Valur Reykjavik"]
["HUN D2E ","Aug.26 20:00","Gyori ETO","Nyiregyhaza"]
["HUN D2E ","Aug.26 20:00","Bekescsaba","SOROKSAR"]
["HUN D2E ","Aug.26 20:00","Csakvari TK","Pecsi MFC"]
["HUN D2E ","Aug.26 20:00","Szombathelyi Haladas","FC Ajka"]
["HUN D2E ","Aug.26 20:00","Kazincbarcika","Dorogi FC"]
["HUN D2E ","Aug.26 20:00","Szolnoki MAV FC","DEAC"]
["SWE Cup ","Aug.26 20:00","Hassleholms IF","Rappe GOIF"]
["MAR D1 ","Aug.26 20:00","DHJ Difaa Hassani Jadidi","Maghrib Association Tetouan"]
["INT CF ","Aug.26 20:00","KSV Ankerbrot","SC Wacker Vienna"]
["INT CF ","Aug.26 20:00","Santos (w)","Audax SP (w)"]
["SWE WD2 ","Aug.26 20:00","Sunnana SK (w)","Hammarby (w)"]
["SWE WD2 ","Aug.26 20:00","Brommapojkarna (w)","Lidkopings FK (w)"]
["Finland K ","Aug.26 20:00","TPV/2","Saaksjarven Loiske"]
["Pol D4 ","Aug.26 20:00","KSZO Ostrowiec","Avia Swidnik"]
["GER OBW ","Aug.26 20:00","FC Astoria Walldorf II","Nottingen"]
["GER OBW ","Aug.26 20:00","Rielasingen Arlen","FV Lorrach-Brombach"]
["Can PL ","Aug.26 20:00","York 9 FC","Forge FC"]
["ICE U19L ","Aug.26 20:00","Keflavik U19","Breidablik Augnablik Smari U19"]
["ECU D1 ","Aug.26 20:15","Mushuc Runa","Universidad Catolica"]
["UEFA CL ","Aug.26 20:30","Ludogorets Razgrad","Midtjylland"]
["RUS PR ","Aug.26 20:30","FC Krasnodar","CSKA Moscow"]
["RUS PR ","Aug.26 20:30","Rostov FK","Ural Sverdlovsk Oblast"]
["INT CF ","Aug.26 20:30","Cadiz","Malaga"]
["INT CF ","Aug.26 20:30","Ratingen SV","VfB Solingen 1910"]
["SWE WD2 ","Aug.26 20:30","Alvsjo AIK FF (w)","Sandvikens IF (W)"]
["Ire LSL ","Aug.26 20:30","Crumlin United","Ballymun United"]
["Ire LSL ","Aug.26 20:30","Dublin Bus FC","Tek United"]
["Ire LSL ","Aug.26 20:30","Kilnamanagh AFC","Newtown Rangers AFC"]
["Ire LSL ","Aug.26 20:30","Portmarnock","St. Mochtas"]
["RUS PR ","Aug.26 20:45","Dynamo Moscow","Zenit St. Petersburg"]
["UEFA CL ","Aug.26 21:00","Legia Warszawa","Omonia Nicosia FC"]
["UEFA CL ","Aug.26 21:00","CFR Cluj","Dinamo Zagreb"]
["UEFA CL ","Aug.26 21:00","Dinamo Brest","Sarajevo"]
["UEFA WUC ","Aug.26 21:00","Paris Saint Germain (w)","Lyon (w)"]
["NORW ","Aug.26 21:00","Klepp (w)","Avaldsnes (w)"]
["ICE PR ","Aug.26 21:00","Stjarnan Gardabaer","KA Akureyri"]
["KUW D1 ","Aug.26 21:00","Al-Sahel","Al-Salmiyah"]
["TUN D1 ","Aug.26 21:00","U.S.Monastir","US Tataouine"]
["INT CF ","Aug.26 21:00","Internacional（w）","Flamengo/RJ (w)"]
["LCE D4 ","Aug.26 21:00","Lettir Reykjavik","KFS Vestmannaeyjar"]
["LCE D4 ","Aug.26 21:00","Ymir","Vatnaliljur"]
["Ire LSL ","Aug.26 21:00","Newbridge Town","Maynooth University Town FC"]
["Swi D1W ","Aug.26 21:00","Lucerne Women","St Gallen (w)"]
["Swi D1W ","Aug.26 21:00","Fcf Rapid Lugano (w)","Grasshopper (w)"]
["Swi D1W ","Aug.26 21:00","Servette (w)","Young Boys (w)"]
["ICE U19L ","Aug.26 21:00","Fylkir/Ellidi U19","Breidablik Augnablik Smari U19"]
["BRA SPB ","Aug.26 21:00","Monte Azul SP","AA Portuguesa Santista"]
["BRA SPB ","Aug.26 21:00","CA Votuporanguense SP","Sao Caetano"]
["BRA SPB ","Aug.26 21:00","Atibaia","Rio Claro"]
["BRA SPB ","Aug.26 21:00","Sertaozinho","Taubate"]
["BRA SPB ","Aug.26 21:00","Sao Bernardo","XV de Piracicaba"]
["BRA SPB ","Aug.26 21:00","Portuguesa Desportos","Juventus SP"]
["TUN D1 ","Aug.26 21:10","Club Africain","Esperance Sportive de Tunis"]
["UEFA CL ","Aug.26 21:45","Celtic FC","Ferencvarosi TC"]
["Ire LSL ","Aug.26 21:45","St John Bosco","Dunboyne AFC"]
["EGY D1 ","Aug.26 22:00","EL Ahly","El Gounah"]
["MAR D1 ","Aug.26 22:00","Renaissance Sportive de Berkane","FAR Forces Armee Royales"]
["BRA CUP ","Aug.26 22:00","CRB AL","Cruzeiro (MG)"]
["BRA CUP ","Aug.26 22:00","America FC Natal RN","Juventude"]
["INT CF ","Aug.26 22:00","NSI Runavik (W)","HB Torshavn (W)"]
["INT CF ","Aug.26 22:00","Cliftonville LFC (w)","Glentoran (w)"]
["INT CF ","Aug.26 22:00","Linfield (w)","Crusaders Strikers (w)"]
["Ire LSL ","Aug.26 22:00","Templeogue United FC","Drumcondra FC"]
["Ire LSL ","Aug.26 22:00","Greystones","UCD AFC"]
["ICE PR ","Aug.26 22:15","HK Kopavogs","Grotta Seltjarnarnes"]
["ECU D1 ","Aug.26 22:30","CD El Nacional","Olmedo Riobamba"]
["LCE D4 ","Aug.26 23:00","Hond Midasar","KB(ICE)"]
["LCE D3 ","Aug.26 23:00","Ellidi","Vaengir Jupiters"]
["PAR D1 ","Aug.26 23:30","Guay Leena","Cerro Porteno"]
["MAR D1 ","Aug.27 00:00","IRT Itihad de Tanger","Renaissance Zmamra"]
["ECU D1 ","Aug.27 00:45","Club Sport Emelec","Pottu Via Ho"]
["BRA D1 ","Aug.27 01:00","Sao Paulo","Atletico Paranaense"]
["BRA CUP ","Aug.27 01:00","Parana PR","Botafogo RJ"]
["Brazil L ","Aug.27 01:00","Vasco AC","Rio Branco AC"]
["INT CF ","Aug.27 01:30","SC Corinthians Paulista (w)","Ferroviaria SP (w)"]
["USL D1 ","Aug.27 02:00","Charlotte Independence","North Carolina"]
["MLS ","Aug.27 02:30","Orlando City","Nashville"]
["PAR D1 ","Aug.27 02:30","12 de Octubre","Olimpia Asuncion"]
["USL D1 ","Aug.27 02:30","Charleston Battery","Miami FC"]
["MLS ","Aug.27 03:00","Club Internacional de Futbol Miami","Atlanta United"]
["INT CF ","Aug.27 03:00","Nauas AC","Placido de Castro"]
["USL D1 ","Aug.27 03:00","Louisville City FC","Indy Eleven"]
["ECU D1 ","Aug.27 03:00","Guayaquil City","Barcelona SC(ECU)"]
["MLS ","Aug.27 03:30","FC Dallas","Colorado Rapids"]
["BRA D1 ","Aug.27 03:30","Corinthians Paulista (SP)","Fortaleza"]
["BRA CUP ","Aug.27 03:30","Vitoria BA","Ceara"]
["BRA CUP ","Aug.27 03:30","Goias","Vasco da Gama"]
["BRA CGD1 ","Aug.27 03:30","Caxias RS","Gremio (RS)"]
["BRA MG ","Aug.27 03:30","Atletico Mineiro","Tombense"]
["USL D1 ","Aug.27 04:00","Colorado Springs Switchbacks FC","Austin Bold"]
["MLS ","Aug.27 04:30","Real Salt Lake","Los Angeles FC"]
["MLS ","Aug.27 05:30","San Jose Earthquakes","Portland Timbers"]
["USL D1 ","Aug.27 05:30","Portland Timbers Reserve","Los Angeles Galaxy II"]
["MLS ","Aug.27 06:00","LA Galaxy","Seattle Sounders"]

{"sheet":"Team1","index":20,"n_rows":19,"n_cols":6,"rows_kept":19,"cut":false,"hidden":true,"merged":[[1,1,1,5],[2,1,2,5],[3,1,3,4],[19,1,19,4],[20,4,20,5]]}
[]
[]
[null,"TEAM 1"]
[null,{"$f":"'Ком 1'!B4:E4","v":"Sao Paulo"},null,null,null,"Счёт"]
[null,null,null,{"$f":"'ZW1'!E3","v":"Sao Paulo"},{"$f":"'ZW1'!F3","v":"Mirassol"},{"$f":"'ZW1'!G3","v":"2-2"}]
[null,null,null,{"$f":"'ZW1'!E4","v":"Guarani SP"},{"$f":"'ZW1'!F4","v":"Sao Paulo"},{"$f":"'ZW1'!G4","v":"1-1"}]
[null,null,null,{"$f":"'ZW1'!E5","v":"Sao Paulo"},{"$f":"'ZW1'!F5","v":"Bragantino"},{"$f":"'ZW1'!G5","v":"2-2"}]
[null,null,null,{"$f":"'ZW1'!E6","v":"Sao Paulo"},{"$f":"'ZW1'!F6","v":"Santos"},{"$f":"'ZW1'!G6","v":"0-1"}]
[null,null,null,{"$f":"'ZW1'!E7","v":"Sao Paulo"},{"$f":"'ZW1'!F7","v":"Liga Dep. Universitaria Quito"},{"$f":"'ZW1'!G7","v":"2-0"}]
[null,null,null,{"$f":"'ZW1'!E8","v":"Botafogo SP"},{"$f":"'ZW1'!F8","v":"Sao Paulo"},{"$f":"'ZW1'!G8","v":"0-0"}]
[null,null,null,{"$f":"'ZW1'!E9","v":"EM Deportivo Binacional"},{"$f":"'ZW1'!F9","v":"Sao Paulo"},{"$f":"'ZW1'!G9","v":"0-1"}]
[null,null,null,{"$f":"'ZW1'!E10","v":"Sao Paulo"},{"$f":"'ZW1'!F10","v":"Ponte Preta"},{"$f":"'ZW1'!G10","v":"2-0"}]
[null,null,null,{"$f":"'ZW1'!E11","v":"Oeste"},{"$f":"'ZW1'!F11","v":"Sao Paulo"},{"$f":"'ZW1'!G11","v":"0-1"}]
[null,null,null,{"$f":"'ZW1'!E12","v":"Sao Paulo"},{"$f":"'ZW1'!F12","v":"Corinthians Paulista (SP)"},{"$f":"'ZW1'!G12","v":"0-0"}]
[null,null,null,{"$f":"'ZW1'!E13","v":0},{"$f":"'ZW1'!F13","v":0},{"$f":"'ZW1'!G13","v":0}]
[null,null,null,{"$f":"'ZW1'!E14","v":0},{"$f":"'ZW1'!F14","v":0},{"$f":"'ZW1'!G14","v":0}]
[null,null,null,{"$f":"'ZW1'!E15","v":0},{"$f":"'ZW1'!F15","v":0},{"$f":"'ZW1'!G15","v":0}]
[null,null,null,{"$f":"'ZW1'!E16","v":0},{"$f":"'ZW1'!F16","v":0},{"$f":"'ZW1'!G16","v":0}]
[null,null,null,{"$f":"'ZW1'!E17","v":0},{"$f":"'ZW1'!F17","v":0},{"$f":"'ZW1'!G17","v":0}]

{"sheet":"Team2","index":21,"n_rows":19,"n_cols":6,"rows_kept":19,"cut":false,"hidden":true,"merged":[[1,1,1,5],[2,1,2,5],[3,1,3,4]]}
[]
[]
[null,"TEAM 2"]
[null,{"$f":"'Ком 2'!B4:E4","v":"Fortaleza"},null,null,null,"Счёт"]
[null,null,null,{"$f":"'ZW1'!E21","v":"Fortaleza"},{"$f":"'ZW1'!F21","v":"Atletico Paranaense"},{"$f":"'ZW1'!G21","v":"0-2"}]
[null,null,null,{"$f":"'ZW1'!E22","v":"Fortaleza"},{"$f":"'ZW1'!F22","v":"Ceara"},{"$f":"'ZW1'!G22","v":"0-1"}]
[null,null,null,{"$f":"'ZW1'!E23","v":"Fortaleza"},{"$f":"'ZW1'!F23","v":"Sport Club Recife PE"},{"$f":"'ZW1'!G23","v":"0-0"}]
[null,null,null,{"$f":"'ZW1'!E24","v":"Fortaleza"},{"$f":"'ZW1'!F24","v":"America FC Natal RN"},{"$f":"'ZW1'!G24","v":"0-1"}]
[null,null,null,{"$f":"'ZW1'!E25","v":"Fortaleza"},{"$f":"'ZW1'!F25","v":"Guarany CE"},{"$f":"'ZW1'!G25","v":"1-0"}]
[null,null,null,{"$f":"'ZW1'!E26","v":"Ceara"},{"$f":"'ZW1'!F26","v":"Fortaleza"},{"$f":"'ZW1'!G26","v":"0-1"}]
[null,null,null,{"$f":"'ZW1'!E27","v":"Guarany CE"},{"$f":"'ZW1'!F27","v":"Fortaleza"},{"$f":"'ZW1'!G27","v":"0-2"}]
[null,null,null,{"$f":"'ZW1'!E28","v":"Nautico (PE)"},{"$f":"'ZW1'!F28","v":"Fortaleza"},{"$f":"'ZW1'!G28","v":"0-1"}]
[null,null,null,{"$f":"'ZW1'!E29","v":"Fortaleza"},{"$f":"'ZW1'!F29","v":"Pacajus"},{"$f":"'ZW1'!G29","v":"1-0"}]
[null,null,null,{"$f":"'ZW1'!E30","v":"Fortaleza"},{"$f":"'ZW1'!F30","v":"Centro Sportivo Alagoano"},{"$f":"'ZW1'!G30","v":"1-0"}]
[null,null,null,{"$f":"'ZW1'!E31","v":0},{"$f":"'ZW1'!F31","v":0},{"$f":"'ZW1'!G31","v":0}]
[null,null,null,{"$f":"'ZW1'!E32","v":0},{"$f":"'ZW1'!F32","v":0},{"$f":"'ZW1'!G32","v":0}]
[null,null,null,{"$f":"'ZW1'!E33","v":0},{"$f":"'ZW1'!F33","v":0},{"$f":"'ZW1'!G33","v":0}]
[null,null,null,{"$f":"'ZW1'!E34","v":0},{"$f":"'ZW1'!F34","v":0},{"$f":"'ZW1'!G34","v":0}]
[null,null,null,{"$f":"'ZW1'!E35","v":0},{"$f":"'ZW1'!F35","v":0},{"$f":"'ZW1'!G35","v":0}]

{"sheet":"Ком 1","index":22,"n_rows":36,"n_cols":59,"rows_kept":36,"cut":false,"hidden":true,"merged":[[1,1,1,5],[2,1,2,5],[3,1,3,4],[36,1,36,5],[42,4,42,5]]}
[null,null,null,null,null,null,null,null,null,null,null,null,null,null,null,null,null,null,null,null,null,null,null,null,null,null,"Всего",null,null,null,null,null,null,"Дома",null,null,null,null,null,null,"В гостях",null,null,null,null,null,null,"Забивают дома",null,null,null,"Забивают в гостях"]
[]
[null,null,null,null,null,null,null,null,null,null,null,null,null,null,null,null,null,null,"Команда1","Команда2","Голы1","Голы2","Где играла","Результат","Забито","Пропущено","Игр","В","Н","П","Забито","Пропущено","Очки","Игр","В","Н","П","Забито","Пропущено","Очки","Игр","В","Н","П","Забито","Пропущено","Очки",0,1,2,"3+",0,1,2,"3+","Забивают","Пропускают","Рейтинг"]
[null,{"$f":"IF(S5=T5,S5,IF(S5=T6,S5,IF(S5=S6,S5,T5)))","v":"Sao Paulo"},null,null,null,"Счёт",null,null,null,null,"Общее количество мячей"]
[null,{"$f":"Team1!B5","v":"00:00:00"},{"$f":"Team1!C5","v":0},{"$f":"Team1!D5","v":"Sao Paulo"},{"$f":"Team1!E5","v":"Mirassol"},{"$f":"Team1!F5","v":"2-2"},{"$f":"H14","v":0},{"$f":"IF(Q5=\"Дома\",O5,P5)","v":2},{"$f":"IF(Q5=\"Дома\",P5,O5)","v":2},{"$f":"IF(Q5=\"Дома\",IF(O5>P5,\"В\",IF(O5=P5,\"Н\",\"П\")),IF(P5>O5,\"В\",IF(O5=P5,\"Н\",\"П\")))","v":"Н"},{"$f":"SUM(H5,I5)","v":4},{"$f":"K14","v":0},{"$f":"C5","v":0},{"$f":"I14","v":0},{"$f":"VALUE(LEFT(R5,FIND(\"-\",R5,1)-1))","v":2},{"$f":"VALUE(RIGHT(R5,FIND(\"-\",R5,1)-1))","v":2},{"$f":"IF(D5=B$4,\"Дома\",\"В гостях\")","v":"Дома"},{"$f":"F5","v":"2-2"},{"$f":"D5","v":"Sao Paulo"},{"$f":"E5","v":"Mirassol"},{"$f":"VALUE(LEFT(F5,FIND(\":\",F5,1)-1))","v":{"$error":"#VALUE!"}},{"$f":"VALUE(LEFT(RIGHT(F5,LEN(F5)-FIND(\":\",F5,1)),1))","v":{"$error":"#VALUE!"}},{"$f":"Q5","v":"Дома"},{"$f":"J5","v":"Н"},{"$f":"H5","v":2},{"$f":"I5","v":2},1,{"$f":"IF(X5=\"В\",1,0)","v":0},{"$f":"IF(X5=\"Н\",1,0)","v":1},{"$f":"IF(X5=\"П\",1,0)","v":0},{"$f":"Y5","v":2},{"$f":"Z5","v":2},{"$f":"AB5*3+AC5","v":1},{"$f":"IF(W5=\"Дома\",1,0)","v":1},{"$f":"IF(W5=\"Дома\",IF(X5=\"В\",1,0),0)","v":0},{"$f":"IF(W5=\"Дома\",IF(X5=\"Н\",1,0),0)","v":1},{"$f":"IF(W5=\"Дома\",IF(X5=\"П\",1,0),0)","v":0},{"$f":"IF(W5=\"Дома\",Y5,0)","v":2},{"$f":"IF(W5=\"Дома\",Z5,0)","v":2},{"$f":"AI5*3+AJ5","v":1},{"$f":"IF(W5<>\"Дома\",1,0)","v":0},{"$f":"IF(W5<>\"Дома\",IF(X5=\"В\",1,0),0)","v":0},{"$f":"IF(W5<>\"Дома\",IF(X5=\"Н\",1,0),0)","v":0},{"$f":"IF(W5<>\"Дома\",IF(X5=\"П\",1,0),0)","v":0},{"$f":"IF(W5<>\"Дома\",Y5,0)","v":0},{"$f":"IF(W5<>\"Дома\",Z5,0)","v":0},{"$f":"AP5*3+AQ5","v":0},{"$f":"IF(W5=\"Дома\",IF(Y5=0,1,0),0)","v":0},{"$f":"IF(W5=\"Дома\",IF(Y5=1,1,0),0)","v":0},{"$f":"IF(W5=\"Дома\",IF(Y5=2,1,0),0)","v":1},{"$f":"IF(W5=\"Дома\",IF(Y5>=3,1,0),0)","v":0},{"$f":"IF(W5<>\"Дома\",IF(AC5=0,1,0),0)","v":0},{"$f":"IF(W5<>\"Дома\",IF(AC5=1,1,0),0)","v":0},{"$f":"IF(W5<>\"Дома\",IF(AC5=2,1,0),0)","v":0},{"$f":"IF(W5<>\"Дома\",IF(AC5>=3,1,0),0)","v":0},{"$f":"AA5/AE5","v":0.5},{"$f":"AA5/AF5","v":0.5},{"$f":"(AN5/IF(AH5<1,1,AH5)+AU5/IF(AO5<1,1,AO5)*1.5+AL5/IF(AH5<1,1,AH5)+AS5/IF(AO5<1,1,AO5)*1.5-AM5/IF(AH5<1,1,AH5)*1.5-AT5/IF(AO5<1,1,AO5))/15","v":0},{"$f":"IF(W5=\"Дома\",Y5+Z5,\"\")","v":4}]
[null,{"$f":"Team1!B6","v":"00:00:00"},{"$f":"Team1!C6","v":0},{"$f":"Team1!D6","v":"Guarani SP"},{"$f":"Team1!E6","v":"Sao Paulo"},{"$f":"Team1!F6","v":"1-1"},{"$f":"H13","v":1},{"$f":"IF(Q6=\"Дома\",O6,P6)","v":1},{"$f":"IF(Q6=\"Дома\",P6,O6)","v":1},"Н",{"$f":"SUM(H6,I6)","v":2},{"$f":"K13","v":1},0,{"$f":"I13","v":0},{"$f":"VALUE(LEFT(R6,FIND(\"-\",R6,1)-1))","v":1},{"$f":"VALUE(RIGHT(R6,FIND(\"-\",R6,1)-1))","v":1},"В гостях",{"$f":"F6","v":"1-1"},{"$f":"D6","v":"Guarani SP"},"Sao Paulo",{"$f":"VALUE(LEFT(F6,FIND(\":\",F6,1)-1))","v":{"$error":"#VALUE!"}},{"$f":"VALUE(LEFT(RIGHT(F6,LEN(F6)-FIND(\":\",F6,1)),1))","v":{"$error":"#VALUE!"}},{"$f":"Q6","v":"В гостях"},{"$f":"J6","v":"Н"},{"$f":"H6","v":1},1,{"$f":"AA5+1","v":2},{"$f":"IF(X6=\"В\",AB5+1,AB5+0)","v":0},{"$f":"IF(X6=\"Н\",AC5+1,AC5+0)","v":2},{"$f":"IF(X6=\"П\",AD5+1,AD5+0)","v":0},{"$f":"Y6+AE5","v":3},3,{"$f":"AB6*3+AC6","v":2},{"$f":"IF(W6=\"Дома\",AH5+1,AH5+0)","v":1},{"$f":"IF(W6=\"Дома\",IF(X6=\"В\",AI5+1,AI5+0),AI5+0)","v":0},{"$f":"IF(W6=\"Дома\",IF(X6=\"Н\",AJ5+1,AJ5+0),AJ5+0)","v":1},{"$f":"IF(W6=\"Дома\",IF(X6=\"П\",AK5+1,AK5+0),AK5+0)","v":0},{"$f":"IF(W6=\"Дома\",AL5+Y6,AL5+0)","v":2},{"$f":"IF(W6=\"Дома\",AM5+Z6,AM5+0)","v":2},{"$f":"AI6*3+AJ6","v":1},{"$f":"IF(W6<>\"Дома\",AO5+1,AO5+0)","v":1},{"$f":"IF(W6<>\"Дома\",IF(X6=\"В\",AP5+1,AP5+0),AP5+0)","v":0},{"$f":"IF(W6<>\"Дома\",IF(X6=\"Н\",AQ5+1,AQ5+0),AQ5+0)","v":1},{"$f":"IF(W6<>\"Дома\",IF(X6=\"П\",AR5+1,AR5+0),AR5+0)","v":0},{"$f":"IF(W6<>\"Дома\",AS5+Y6,AS5+0)","v":1},{"$f":"IF(W6<>\"Дома\",AT5+Z6,AT5+0)","v":1},{"$f":"AP6*3+AQ6","v":1},{"$f":"IF(W6=\"Дома\",IF(Y6=0,AV5+1,AV5),AV5)","v":0},{"$f":"IF(W6=\"Дома\",IF(Y6=1,AW5+1,AW5),AW5)","v":0},{"$f":"IF(W6=\"Дома\",IF(Y6=2,AX5+1,AX5),AX5)","v":1},{"$f":"IF(W6=\"Дома\",IF(Y6>=3,AY5+1,AY5),AY5)","v":0},{"$f":"IF(W6<>\"Дома\",IF(Y6=0,AZ5+1,AZ5),AZ5)","v":0},{"$f":"IF(W6<>\"Дома\",IF(Y6=1,BA5+1,BA5),BA5)","v":1},{"$f":"IF(W6<>\"Дома\",IF(Y6=2,BB5+1,BB5),BB5)","v":0},{"$f":"IF(W6<>\"Дома\",IF(Y6>=3,BC5+1,BC5),BC5)","v":0},{"$f":"AA6/AE6","v":0.66666666666666663},{"$f":"AA6/AF6","v":0.66666666666666663},{"$f":"(AN6/IF(AH6<1,1,AH6)+AU6/IF(AO6<1,1,AO6)*1.5+AL6/IF(AH6<1,1,AH6)+AS6/IF(AO6<1,1,AO6)*1.5-AM6/IF(AH6<1,1,AH6)*1.5-AT6/IF(AO6<1,1,AO6))/15","v":0.13333333333333333},{"$f":"IF(W6=\"Дома\",Y6+Z6,\"\")","v":""}]
[null,{"$f":"Team1!B7","v":"00:00:00"},{"$f":"Team1!C7","v":0},{"$f":"Team1!D7","v":"Sao Paulo"},{"$f":"Team1!E7","v":"Bragantino"},{"$f":"Team1!F7","v":"2-2"},{"$f":"H12","v":2},{"$f":"IF(Q7=\"Дома\",O7,P7)","v":2},{"$f":"IF(Q7=\"Дома\",P7,O7)","v":2},"Н",4,{"$f":"K12","v":2},0,{"$f":"I12","v":0},2,2,"Дома","2-2","Sao Paulo","Bragantino",{"$error":"#VALUE!"},{"$error":"#VALUE!"},"Дома",{"$f":"J7","v":"Н"},2,2,3,{"$f":"IF(X7=\"В\",AB6+1,AB6+0)","v":0},3,0,5,5,3,2,0,2,0,4,4,2,{"$f":"IF(W7<>\"Дома\",AO6+1,AO6+0)","v":1},0,1,0,1,1,1,{"$f":"IF(W7=\"Дома\",IF(Y7=0,AV6+1,AV6),AV6)","v":0},0,2,0,0,1,0,0,0.6,0.6,0.13333333333333333,4]
[null,{"$f":"Team1!B8","v":"00:00:00"},{"$f":"Team1!C8","v":0},{"$f":"Team1!D8","v":"Sao Paulo"},{"$f":"Team1!E8","v":"Santos"},{"$f":"Team1!F8","v":"0-1"},{"$f":"H11","v":1},{"$f":"IF(Q8=\"Дома\",O8,P8)","v":0},1,"П",1,{"$f":"K11","v":1},{"$f":"C8","v":0},{"$f":"I11","v":0},0,1,"Дома","0-1","Sao Paulo","Santos",{"$error":"#VALUE!"},{"$error":"#VALUE!"},"Дома","П",0,1,4,0,3,1,5,6,3,3,0,2,1,4,5,2,1,0,1,0,1,1,1,1,0,2,0,0,1,0,0,0.8,0.66666666666666663,0.1,1]
[null,{"$f":"Team1!B9","v":"00:00:00"},{"$f":"Team1!C9","v":0},{"$f":"Team1!D9","v":"Sao Paulo"},{"$f":"Team1!E9","v":"Liga Dep. Universitaria Quito"},{"$f":"Team1!F9","v":"2-0"},{"$f":"H10","v":0},2,{"$f":"IF(Q9=\"Дома\",P9,O9)","v":0},"В",2,{"$f":"K10","v":0},0,{"$f":"I10","v":0},2,0,"Дома","2-0","Sao Paulo","Liga Dep. Universitaria Quito",{"$error":"#VALUE!"},{"$error":"#VALUE!"},"Дома","В",2,0,5,1,3,1,7,6,6,4,1,2,1,6,5,5,1,0,1,0,{"$f":"IF(W9<>\"Дома\",AS8+Y9,AS8+0)","v":1},1,1,1,0,3,0,0,1,0,0,0.7142857142857143,0.83333333333333337,0.19166666666666668,2]
[null,{"$f":"Team1!B10","v":"00:00:00"},{"$f":"Team1!C10","v":0},{"$f":"Team1!D10","v":"Botafogo SP"},{"$f":"Team1!E10","v":"Sao Paulo"},{"$f":"Team1!F10","v":"0-0"},{"$f":"H9","v":2},0,0,"Н",0,{"$f":"K9","v":2},0,{"$f":"I9","v":0},0,0,"В гостях","0-0","Botafogo SP","Sao Paulo",{"$error":"#VALUE!"},{"$error":"#VALUE!"},"В гостях","Н",0,0,6,1,4,1,7,6,7,4,1,2,1,6,5,5,2,0,2,0,1,1,2,1,0,3,0,1,1,0,0,0.8571428571428571,1,0.17499999999999999,""]
[null,{"$f":"Team1!B11","v":"00:00:00"},{"$f":"Team1!C11","v":0},{"$f":"Team1!D11","v":"EM Deportivo Binacional"},{"$f":"Team1!E11","v":"Sao Paulo"},{"$f":"Team1!F11","v":"0-1"},{"$f":"H8","v":0},1,0,"В",1,{"$f":"K8","v":1},0,{"$f":"I8","v":1},0,1,"В гостях","0-1","EM Deportivo Binacional","Sao Paulo",{"$error":"#VALUE!"},{"$error":"#VALUE!"},"В гостях","В",1,0,7,2,4,1,8,6,10,4,1,2,1,6,5,5,3,1,2,0,2,1,5,1,0,3,0,1,2,0,0,0.875,1.1666666666666667,0.26944444444444449,""]
[null,{"$f":"Team1!B12","v":"00:00:00"},{"$f":"Team1!C12","v":0},{"$f":"Team1!D12","v":"Sao Paulo"},{"$f":"Team1!E12","v":"Ponte Preta"},{"$f":"Team1!F12","v":"2-0"},{"$f":"H7","v":2},2,0,"В",2,{"$f":"K7","v":4},0,{"$f":"I7","v":2},2,0,"Дома","2-0","Sao Paulo","Ponte Preta",{"$error":"#VALUE!"},{"$error":"#VALUE!"},"Дома","В",2,0,8,3,4,1,10,6,13,5,2,2,1,8,5,8,3,1,2,0,2,1,5,1,0,4,0,1,2,0,0,0.8,1.3333333333333333,0.32444444444444442,2]
[null,{"$f":"Team1!B13","v":"00:00:00"},{"$f":"Team1!C13","v":0},{"$f":"Team1!D13","v":"Oeste"},{"$f":"Team1!E13","v":"Sao Paulo"},{"$f":"Team1!F13","v":"0-1"},{"$f":"H6","v":1},1,0,"В",1,{"$f":"K6","v":2},0,{"$f":"I6","v":1},0,1,"В гостях","0-1","Oeste","Sao Paulo",{"$error":"#VALUE!"},{"$error":"#VALUE!"},"В гостях","В",1,0,9,4,4,1,11,6,16,5,2,2,1,8,5,8,4,2,2,0,3,1,8,1,0,4,0,1,3,0,0,0.81818181818181823,1.5,0.37166666666666665,""]
[null,{"$f":"Team1!B14","v":"00:00:00"},{"$f":"Team1!C14","v":0},{"$f":"Team1!D14","v":"Sao Paulo"},{"$f":"Team1!E14","v":"Corinthians Paulista (SP)"},{"$f":"Team1!F14","v":"0-0"},{"$f":"H5","v":2},0,0,"Н",0,{"$f":"K5","v":4},0,{"$f":"I5","v":2},0,0,"Дома","0-0","Sao Paulo","Corinthians Paulista (SP)",{"$error":"#VALUE!"},{"$error":"#VALUE!"},"Дома","Н",0,0,10,4,5,1,11,6,17,6,2,3,1,8,5,9,4,2,2,0,3,1,8,2,0,4,0,1,3,0,0,0.90909090909090906,1.6666666666666667,0.36388888888888887,0]
[]
[]
[]
[]
[]
[null,"    Cells.Select",{"$f":"Team1!C20","v":0},null,null,null,null,null,null,null,0,null,null,null,null,null,null,null,null,null,null,null,null,null,null,null,null,null,null,null,null,null,null,null,null,null,null,null,null,null,null,0]
[null,"    Selection.Locked = False",{"$f":"Team1!C21","v":0},null,null,null,null,null,null,null,0,null,null,null,null,null,null,null,null,null,null,null,null,null,null,null,null,null,null,null,null,null,null,null,null,null,null,null,null,null,null,0]
[null,"    Selection.FormulaHidden = False",{"$f":"Team1!C22","v":0},null,null,null,null,null,null,null,0,null,null,null,null,null,null,null,null,null,null,null,null,null,null,null,null,null,null,null,null,null,null,null,null,null,null,null,null,null,null,0]
[null,"    Range(\"D15\").Select",{"$f":"Team1!C23","v":0},null,null,null,null,null,null,null,0,null,null,null,null,null,null,null,null,null,null,null,null,null,null,null,null,null,null,null,null,null,null,null,null,null,null,null,null,null,null,0]
[null,"    Selection.Locked = True",{"$f":"Team1!C24","v":0},null,null,null,null,null,null,null,0,null,null,null,null,null,null,null,null,null,null,null,null,null,null,null,null,null,null,null,null,null,null,null,null,null,null,null,null,null,null,0]
[null,"    Selection.FormulaHidden = False",{"$f":"Team1!C25","v":0},null,null,null,null,null,null,null,0,null,null,null,null,null,null,null,null,null,null,null,null,null,null,null,null,null,null,null,null,null,null,null,null,null,null,null,null,null,null,0]
[null,"    ActiveSheet.Protect DrawingObjects:=True, Contents:=True, Scenarios:=True",{"$f":"Team1!C26","v":0},null,null,null,null,null,null,null,0,null,null,null,null,null,null,null,null,null,null,null,null,null,null,null,null,null,null,null,null,null,null,null,null,null,null,null,null,null,null,0]
[null,"End Sub",{"$f":"Team1!C27","v":0},null,null,null,null,null,null,null,0,null,null,null,null,null,null,null,null,null,null,null,null,null,null,null,null,null,null,null,null,null,null,null,null,null,null,null,null,null,null,0]
[null,null,{"$f":"Team1!C28","v":0},null,null,null,null,null,null,null,0,null,null,null,null,null,null,null,null,null,null,null,null,null,null,null,null,null,null,null,null,null,null,null,null,null,null,null,null,null,null,0]
[null,null,{"$f":"Team1!C29","v":0},null,null,null,null,null,null,null,0,null,null,null,null,null,null,null,null,null,null,null,null,null,null,null,null,null,null,null,null,null,null,null,null,null,null,null,null,null,null,0]
[null,1,{"$f":"Team1!C30","v":0},{"$f":"IF(C30=\"ЛОЛ\",E30,C30)","v":0},{"$f":"IF(X5=\"П\",IF(((Y5-Z5)*(-1))<1.5,\"Проигрыш\",\"Позорный проигрыш\"),\"Ничья\")","v":"Ничья"},null,null,null,null,null,0,null,null,null,null,null,null,null,null,null,null,null,null,null,null,null,null,null,null,null,null,null,null,null,null,null,null,null,null,null,null,0]
[null,2,{"$f":"Team1!C31","v":0},{"$f":"IF(C31=\"ЛОЛ\",E31,C31)","v":0},{"$f":"IF(X6=\"П\",IF(((Y6-Z6)*(-1))<1.5,\"Проигрыш\",\"Позорный проигрыш\"),\"Ничья\")","v":"Ничья"},null,null,null,null,null,0,null,null,null,null,null,null,null,null,null,null,null,null,null,null,null,null,null,null,null,null,null,null,null,null,null,null,null,null,null,null,0]
[null,3,{"$f":"Team1!C32","v":0},{"$f":"IF(C32=\"ЛОЛ\",E32,C32)","v":0},{"$f":"IF(X7=\"П\",IF(((Y7-Z7)*(-1))<1.5,\"Проигрыш\",\"Позорный проигрыш\"),\"Ничья\")","v":"Ничья"},null,null,null,null,null,0,null,null,null,null,null,null,null,null,null,null,null,null,null,null,null,null,null,null,null,null,null,null,null,null,null,null,null,null,null,null,0]
[null,4,{"$f":"Team1!C33","v":0},{"$f":"IF(C33=\"ЛОЛ\",E33,C33)","v":0},{"$f":"IF(X8=\"П\",IF(((Y8-Z8)*(-1))<1.5,\"Проигрыш\",\"Позорный проигрыш\"),\"Ничья\")","v":"Проигрыш"},null,null,null,null,null,0,null,null,null,null,null,null,null,null,null,null,null,null,null,null,null,null,null,null,null,null,null,null,null,null,null,null,null,null,null,null,0]
[null,5,{"$f":"Team1!C34","v":0},{"$f":"IF(C34=\"ЛОЛ\",E34,C34)","v":0},{"$f":"IF(X9=\"П\",IF(((Y9-Z9)*(-1))<1.5,\"Проигрыш\",\"Позорный проигрыш\"),\"Ничья\")","v":"Ничья"},null,null,null,null,null,0,null,null,null,null,null,null,null,null,null,null,null,null,null,null,null,null,null,null,null,null,null,null,null,null,null,null,null,null,null,null,0]
[null,null,{"$f":"Team1!C35","v":0},null,null,null,null,null,null,null,0,null,null,null,null,null,null,null,null,null,null,null,null,null,null,null,null,null,null,null,null,null,null,null,null,null,null,null,null,null,null,0]
[null,null,{"$f":"Team1!C36","v":0},null,null,null,null,null,null,null,0,null,null,null,null,null,null,null,null,null,null,null,null,null,null,null,null,null,null,null,null,null,null,null,null,null,null,null,null,null,null,0]

{"sheet":"Ком 2","index":23,"n_rows":34,"n_cols":59,"rows_kept":34,"cut":false,"hidden":true,"merged":[[1,1,1,5],[2,1,2,5],[3,1,3,4],[59,4,59,5]]}
[null,null,null,null,null,null,null,null,null,null,null,null,null,null,null,null,null,null,null,null,null,null,null,null,null,null,"Всего",null,null,null,null,null,null,"Дома",null,null,null,null,null,null,"В гостях",null,null,null,null,null,null,"Забивают дома",null,null,null,"Забивают в гостях"]
[]
[null,null,null,null,null,null,null,null,null,null,null,null,null,null,null,null,null,null,"Команда1","Команда2","Голы1","Голы2","Где играла","Результат","Забито","Пропущено","Игр","В","Н","П","Забито","Пропущено","Очки","Игр","В","Н","П","Забито","Пропущено","Очки","Игр","В","Н","П","Забито","Пропущено","Очки",0,1,2,"3+",0,1,2,"3+","Забивают","Пропускают","Рейтинг"]
[null,{"$f":"IF(S5=T5,S5,IF(S5=T6,S5,IF(S5=S6,S5,T5)))","v":"Fortaleza"},null,null,null,"Счёт",null,"Заб","Проп","Рез",null,null,"Турнир",0,"Дом","Гость","Где играла","Счёт","Команда1","Команда2","Голы1","Голы2","Где играла","Результат","Забито","Пропущено","Игр","В","Н","П","Забито","Пропущено","Очки","Игр","В","Н","П","Забито","Пропущено","Очки","Игр","В","Н","П","Забито","Пропущено","Очки",0,1,2,"3+",0,1,2,"3+","Забивают","Пропускают","Рейтинг","тотал"]
[null,{"$f":"Team2!B5","v":"00:00:00"},{"$f":"Team2!C5","v":0},{"$f":"Team2!D5","v":"Fortaleza"},{"$f":"Team2!E5","v":"Atletico Paranaense"},{"$f":"Team2!F5","v":"0-2"},{"$f":"H14","v":1},{"$f":"IF(Q5=\"Дома\",O5,P5)","v":0},{"$f":"IF(Q5=\"Дома\",P5,O5)","v":2},{"$f":"IF(Q5=\"Дома\",IF(O5>P5,\"В\",IF(O5=P5,\"Н\",\"П\")),IF(P5>O5,\"В\",IF(O5=P5,\"Н\",\"П\")))","v":"П"},{"$f":"SUM(H5,I5)","v":2},{"$f":"K14","v":1},{"$f":"C5","v":0},{"$f":"I14","v":0},{"$f":"VALUE(LEFT(R5,FIND(\"-\",R5,1)-1))","v":0},{"$f":"VALUE(RIGHT(R5,FIND(\"-\",R5,1)-1))","v":2},{"$f":"IF(D5=B$4,\"Дома\",\"В гостях\")","v":"Дома"},{"$f":"F5","v":"0-2"},{"$f":"D5","v":"Fortaleza"},{"$f":"E5","v":"Atletico Paranaense"},{"$f":"VALUE(LEFT(F5,FIND(\":\",F5,1)-1))","v":{"$error":"#VALUE!"}},{"$f":"VALUE(LEFT(RIGHT(F5,LEN(F5)-FIND(\":\",F5,1)),1))","v":{"$error":"#VALUE!"}},{"$f":"Q5","v":"Дома"},{"$f":"J5","v":"П"},{"$f":"H5","v":0},{"$f":"I5","v":2},1,{"$f":"IF(X5=\"В\",1,0)","v":0},{"$f":"IF(X5=\"Н\",1,0)","v":0},{"$f":"IF(X5=\"П\",1,0)","v":1},{"$f":"Y5","v":0},{"$f":"Z5","v":2},{"$f":"AB5*3+AC5","v":0},{"$f":"IF(W5=\"Дома\",1,0)","v":1},{"$f":"IF(W5=\"Дома\",IF(X5=\"В\",1,0),0)","v":0},{"$f":"IF(W5=\"Дома\",IF(X5=\"Н\",1,0),0)","v":0},{"$f":"IF(W5=\"Дома\",IF(X5=\"П\",1,0),0)","v":1},{"$f":"IF(W5=\"Дома\",Y5,0)","v":0},{"$f":"IF(W5=\"Дома\",Z5,0)","v":2},{"$f":"AI5*3+AJ5","v":0},{"$f":"IF(W5<>\"Дома\",1,0)","v":0},{"$f":"IF(W5<>\"Дома\",IF(X5=\"В\",1,0),0)","v":0},{"$f":"IF(W5<>\"Дома\",IF(X5=\"Н\",1,0),0)","v":0},{"$f":"IF(W5<>\"Дома\",IF(X5=\"П\",1,0),0)","v":0},{"$f":"IF(W5<>\"Дома\",Y5,0)","v":0},{"$f":"IF(W5<>\"Дома\",Z5,0)","v":0},{"$f":"AP5*3+AQ5","v":0},{"$f":"IF(W5=\"Дома\",IF(Y5=0,1,0),0)","v":1},{"$f":"IF(W5=\"Дома\",IF(Y5=1,1,0),0)","v":0},{"$f":"IF(W5=\"Дома\",IF(Y5=2,1,0),0)","v":0},{"$f":"IF(W5=\"Дома\",IF(Y5>=3,1,0),0)","v":0},{"$f":"IF(W5<>\"Дома\",IF(AC5=0,1,0),0)","v":0},{"$f":"IF(W5<>\"Дома\",IF(AC5=1,1,0),0)","v":0},{"$f":"IF(W5<>\"Дома\",IF(AC5=2,1,0),0)","v":0},{"$f":"IF(W5<>\"Дома\",IF(AC5>=3,1,0),0)","v":0},{"$f":"AA5/AE5","v":{"$error":"#DIV/0!"}},{"$f":"AA5/AF5","v":0.5},{"$f":"(AN5/IF(AH5<1,1,AH5)+AU5/IF(AO5<1,1,AO5)*1.5+AL5/IF(AH5<1,1,AH5)+AS5/IF(AO5<1,1,AO5)*1.5-AM5/IF(AH5<1,1,AH5)*1.5-AT5/IF(AO5<1,1,AO5))/15","v":-0.2},{"$f":"IF(W5=\"Дома\",Y5+Z5,\"\")","v":2}]
[null,{"$f":"Team2!B6","v":"00:00:00"},{"$f":"Team2!C6","v":0},{"$f":"Team2!D6","v":"Fortaleza"},{"$f":"Team2!E6","v":"Ceara"},{"$f":"Team2!F6","v":"0-1"},{"$f":"H13","v":1},{"$f":"IF(Q6=\"Дома\",O6,P6)","v":0},{"$f":"IF(Q6=\"Дома\",P6,O6)","v":1},"П",{"$f":"SUM(H6,I6)","v":1},{"$f":"K13","v":1},0,{"$f":"I13","v":0},{"$f":"VALUE(LEFT(R6,FIND(\"-\",R6,1)-1))","v":0},{"$f":"VALUE(RIGHT(R6,FIND(\"-\",R6,1)-1))","v":1},"Дома",{"$f":"F6","v":"0-1"},{"$f":"D6","v":"Fortaleza"},"Ceara",{"$f":"VALUE(LEFT(F6,FIND(\":\",F6,1)-1))","v":{"$error":"#VALUE!"}},{"$f":"VALUE(LEFT(RIGHT(F6,LEN(F6)-FIND(\":\",F6,1)),1))","v":{"$error":"#VALUE!"}},{"$f":"Q6","v":"Дома"},{"$f":"J6","v":"П"},{"$f":"H6","v":0},1,{"$f":"AA5+1","v":2},{"$f":"IF(X6=\"В\",AB5+1,AB5+0)","v":0},{"$f":"IF(X6=\"Н\",AC5+1,AC5+0)","v":0},{"$f":"IF(X6=\"П\",AD5+1,AD5+0)","v":2},{"$f":"Y6+AE5","v":0},3,{"$f":"AB6*3+AC6","v":0},{"$f":"IF(W6=\"Дома\",AH5+1,AH5+0)","v":2},{"$f":"IF(W6=\"Дома\",IF(X6=\"В\",AI5+1,AI5+0),AI5+0)","v":0},{"$f":"IF(W6=\"Дома\",IF(X6=\"Н\",AJ5+1,AJ5+0),AJ5+0)","v":0},{"$f":"IF(W6=\"Дома\",IF(X6=\"П\",AK5+1,AK5+0),AK5+0)","v":2},{"$f":"IF(W6=\"Дома\",AL5+Y6,AL5+0)","v":0},{"$f":"IF(W6=\"Дома\",AM5+Z6,AM5+0)","v":3},{"$f":"AI6*3+AJ6","v":0},{"$f":"IF(W6<>\"Дома\",AO5+1,AO5+0)","v":0},{"$f":"IF(W6<>\"Дома\",IF(X6=\"В\",AP5+1,AP5+0),AP5+0)","v":0},{"$f":"IF(W6<>\"Дома\",IF(X6=\"Н\",AQ5+1,AQ5+0),AQ5+0)","v":0},{"$f":"IF(W6<>\"Дома\",IF(X6=\"П\",AR5+1,AR5+0),AR5+0)","v":0},{"$f":"IF(W6<>\"Дома\",AS5+Y6,AS5+0)","v":0},{"$f":"IF(W6<>\"Дома\",AT5+Z6,AT5+0)","v":0},{"$f":"AP6*3+AQ6","v":0},{"$f":"IF(W6=\"Дома\",IF(Y6=0,AV5+1,AV5),AV5)","v":2},{"$f":"IF(W6=\"Дома\",IF(Y6=1,AW5+1,AW5),AW5)","v":0},{"$f":"IF(W6=\"Дома\",IF(Y6=2,AX5+1,AX5),AX5)","v":0},{"$f":"IF(W6=\"Дома\",IF(Y6>=3,AY5+1,AY5),AY5)","v":0},{"$f":"IF(W6<>\"Дома\",IF(Y6=0,AZ5+1,AZ5),AZ5)","v":0},{"$f":"IF(W6<>\"Дома\",IF(Y6=1,BA5+1,BA5),BA5)","v":0},{"$f":"IF(W6<>\"Дома\",IF(Y6=2,BB5+1,BB5),BB5)","v":0},{"$f":"IF(W6<>\"Дома\",IF(Y6>=3,BC5+1,BC5),BC5)","v":0},{"$f":"AA6/AE6","v":{"$error":"#DIV/0!"}},{"$f":"AA6/AF6","v":0.66666666666666663},{"$f":"(AN6/IF(AH6<1,1,AH6)+AU6/IF(AO6<1,1,AO6)*1.5+AL6/IF(AH6<1,1,AH6)+AS6/IF(AO6<1,1,AO6)*1.5-AM6/IF(AH6<1,1,AH6)*1.5-AT6/IF(AO6<1,1,AO6))/15","v":-0.15},{"$f":"IF(W6=\"Дома\",Y6+Z6,\"\")","v":1}]
[null,{"$f":"Team2!B7","v":"00:00:00"},{"$f":"Team2!C7","v":0},{"$f":"Team2!D7","v":"Fortaleza"},{"$f":"Team2!E7","v":"Sport Club Recife PE"},{"$f":"Team2!F7","v":"0-0"},{"$f":"H12","v":1},{"$f":"IF(Q7=\"Дома\",O7,P7)","v":0},{"$f":"IF(Q7=\"Дома\",P7,O7)","v":0},"Н",0,{"$f":"K12","v":1},0,{"$f":"I12","v":0},0,0,"Дома","0-0","Fortaleza","Sport Club Recife PE",{"$error":"#VALUE!"},{"$error":"#VALUE!"},"Дома",{"$f":"J7","v":"Н"},0,0,3,{"$f":"IF(X7=\"В\",AB6+1,AB6+0)","v":0},1,2,0,3,1,3,0,1,2,0,3,1,{"$f":"IF(W7<>\"Дома\",AO6+1,AO6+0)","v":0},0,0,0,0,0,0,{"$f":"IF(W7=\"Дома\",IF(Y7=0,AV6+1,AV6),AV6)","v":3},0,0,0,0,0,0,0,{"$error":"#DIV/0!"},1,-7.7777777777777779E-2,0]
[null,{"$f":"Team2!B8","v":"00:00:00"},{"$f":"Team2!C8","v":0},{"$f":"Team2!D8","v":"Fortaleza"},{"$f":"Team2!E8","v":"America FC Natal RN"},{"$f":"Team2!F8","v":"0-1"},{"$f":"H11","v":2},{"$f":"IF(Q8=\"Дома\",O8,P8)","v":0},1,"П",1,{"$f":"K11","v":2},{"$f":"C8","v":0},{"$f":"I11","v":0},0,1,"Дома","0-1","Fortaleza","America FC Natal RN",{"$error":"#VALUE!"},{"$error":"#VALUE!"},"Дома","П",0,1,4,0,1,3,0,4,1,4,0,1,3,0,4,1,0,0,0,0,0,0,0,4,0,0,0,0,0,0,0,{"$error":"#DIV/0!"},1,-8.3333333333333329E-2,1]
[null,{"$f":"Team2!B9","v":"00:00:00"},{"$f":"Team2!C9","v":0},{"$f":"Team2!D9","v":"Fortaleza"},{"$f":"Team2!E9","v":"Guarany CE"},{"$f":"Team2!F9","v":"1-0"},{"$f":"H10","v":1},1,{"$f":"IF(Q9=\"Дома\",P9,O9)","v":0},"В",1,{"$f":"K10","v":1},0,{"$f":"I10","v":0},1,0,"Дома","1-0","Fortaleza","Guarany CE",{"$error":"#VALUE!"},{"$error":"#VALUE!"},"Дома","В",1,0,5,1,1,3,1,4,4,5,1,1,3,1,4,4,0,0,0,0,{"$f":"IF(W9<>\"Дома\",AS8+Y9,AS8+0)","v":0},0,0,4,1,0,0,0,0,0,0,5,1.25,-1.3333333333333345E-2,1]
[null,{"$f":"Team2!B10","v":"00:00:00"},{"$f":"Team2!C10","v":0},{"$f":"Team2!D10","v":"Ceara"},{"$f":"Team2!E10","v":"Fortaleza"},{"$f":"Team2!F10","v":"0-1"},{"$f":"H9","v":1},1,0,"В",1,{"$f":"K9","v":1},0,{"$f":"I9","v":0},0,1,"В гостях","0-1","Ceara","Fortaleza",{"$error":"#VALUE!"},{"$error":"#VALUE!"},"В гостях","В",1,0,6,2,1,3,2,4,7,5,1,1,3,1,4,4,1,1,0,0,1,0,3,4,1,0,0,0,1,0,0,3,1.5,0.38666666666666666,""]
[null,{"$f":"Team2!B11","v":"00:00:00"},{"$f":"Team2!C11","v":0},{"$f":"Team2!D11","v":"Guarany CE"},{"$f":"Team2!E11","v":"Fortaleza"},{"$f":"Team2!F11","v":"0-2"},{"$f":"H8","v":0},2,0,"В",2,{"$f":"K8","v":1},0,{"$f":"I8","v":1},0,2,"В гостях","0-2","Guarany CE","Fortaleza",{"$error":"#VALUE!"},{"$error":"#VALUE!"},"В гостях","В",2,0,7,3,1,3,4,4,10,5,1,1,3,1,4,4,2,2,0,0,3,0,6,4,1,0,0,0,1,1,0,1.75,1.75,0.43666666666666665,""]
[null,{"$f":"Team2!B12","v":"00:00:00"},{"$f":"Team2!C12","v":0},{"$f":"Team2!D12","v":"Nautico (PE)"},{"$f":"Team2!E12","v":"Fortaleza"},{"$f":"Team2!F12","v":"0-1"},{"$f":"H7","v":0},1,0,"В",1,{"$f":"K7","v":0},0,{"$f":"I7","v":0},0,1,"В гостях","0-1","Nautico (PE)","Fortaleza",{"$error":"#VALUE!"},{"$error":"#VALUE!"},"В гостях","В",1,0,8,4,1,3,5,4,13,5,1,1,3,1,4,4,3,3,0,0,4,0,9,4,1,0,0,0,2,1,0,1.6,2,0.42,""]
[null,{"$f":"Team2!B13","v":"00:00:00"},{"$f":"Team2!C13","v":0},{"$f":"Team2!D13","v":"Fortaleza"},{"$f":"Team2!E13","v":"Pacajus"},{"$f":"Team2!F13","v":"1-0"},{"$f":"H6","v":0},1,0,"В",1,{"$f":"K6","v":1},0,{"$f":"I6","v":1},1,0,"Дома","1-0","Fortaleza","Pacajus",{"$error":"#VALUE!"},{"$error":"#VALUE!"},"Дома","В",1,0,9,5,1,3,6,4,16,6,2,1,3,2,4,7,3,3,0,0,4,0,9,4,2,0,0,0,2,1,0,1.5,2.25,0.46666666666666667,1]
[null,{"$f":"Team2!B14","v":"00:00:00"},{"$f":"Team2!C14","v":0},{"$f":"Team2!D14","v":"Fortaleza"},{"$f":"Team2!E14","v":"Centro Sportivo Alagoano"},{"$f":"Team2!F14","v":"1-0"},{"$f":"H5","v":0},1,0,"В",1,{"$f":"K5","v":2},0,{"$f":"I5","v":2},1,0,"Дома","1-0","Fortaleza","Centro Sportivo Alagoano",{"$error":"#VALUE!"},{"$error":"#VALUE!"},"Дома","В",1,0,10,6,1,3,7,4,19,7,3,1,3,3,4,10,3,3,0,0,4,0,9,4,3,0,0,0,2,1,0,1.4285714285714286,2.5,0.50000000000000011,1]
[]
[]
[]
[]
[]
[]
[]
[]
[]
[]
[]
[]
[]
[]
[]
[null,1,{"$f":"IF(X5=\"В\",IF(Y5-Z5>1.5,\"Легкая победа\",\"Победа\"),\"ЛОЛ\")","v":"ЛОЛ"},{"$f":"IF(C30=\"ЛОЛ\",E30,C30)","v":"Позорный проигрыш"},{"$f":"IF(X5=\"П\",IF(((Y5-Z5)*(-1))<1.5,\"Проигрыш\",\"Позорный проигрыш\"),\"Ничья\")","v":"Позорный проигрыш"}]
[null,2,{"$f":"IF(X6=\"В\",IF(Y6-Z6>1.5,\"Легкая победа\",\"Победа\"),\"ЛОЛ\")","v":"ЛОЛ"},{"$f":"IF(C31=\"ЛОЛ\",E31,C31)","v":"Проигрыш"},{"$f":"IF(X6=\"П\",IF(((Y6-Z6)*(-1))<1.5,\"Проигрыш\",\"Позорный проигрыш\"),\"Ничья\")","v":"Проигрыш"}]
[null,3,{"$f":"IF(X7=\"В\",IF(Y7-Z7>1.5,\"Легкая победа\",\"Победа\"),\"ЛОЛ\")","v":"ЛОЛ"},{"$f":"IF(C32=\"ЛОЛ\",E32,C32)","v":"Ничья"},{"$f":"IF(X7=\"П\",IF(((Y7-Z7)*(-1))<1.5,\"Проигрыш\",\"Позорный проигрыш\"),\"Ничья\")","v":"Ничья"}]
[null,4,{"$f":"IF(X8=\"В\",IF(Y8-Z8>1.5,\"Легкая победа\",\"Победа\"),\"ЛОЛ\")","v":"ЛОЛ"},{"$f":"IF(C33=\"ЛОЛ\",E33,C33)","v":"Проигрыш"},{"$f":"IF(X8=\"П\",IF(((Y8-Z8)*(-1))<1.5,\"Проигрыш\",\"Позорный проигрыш\"),\"Ничья\")","v":"Проигрыш"}]
[null,5,{"$f":"IF(X9=\"В\",IF(Y9-Z9>1.5,\"Легкая победа\",\"Победа\"),\"ЛОЛ\")","v":"Победа"},{"$f":"IF(C34=\"ЛОЛ\",E34,C34)","v":"Победа"},{"$f":"IF(X9=\"П\",IF(((Y9-Z9)*(-1))<1.5,\"Проигрыш\",\"Позорный проигрыш\"),\"Ничья\")","v":"Ничья"}]

{"sheet":"45W","index":24,"n_rows":22,"n_cols":34,"rows_kept":22,"cut":false,"hidden":true,"merged":[]}
[null,"Всего",null,null,null,null,null,null,"Дома",null,null,null,null,null,null,"На выезде"]
[null,"Игр","В","Н","П","Забито","Пропущено","Очки","Игр","В","Н","П","Забито","Пропущено","Очки","Игр","В","Н","П","Забито","Пропущено","Очки"]
["Хозяева",{"$f":"'Ком 1'!AA14","v":10},{"$f":"'Ком 1'!AB14","v":4},{"$f":"'Ком 1'!AC14","v":5},{"$f":"'Ком 1'!AD14","v":1},{"$f":"'Ком 1'!AE14","v":11},{"$f":"'Ком 1'!AF14","v":6},{"$f":"'Ком 1'!AG14","v":17},{"$f":"'Ком 1'!AH14","v":6},{"$f":"'Ком 1'!AI14","v":2},{"$f":"'Ком 1'!AJ14","v":3},{"$f":"'Ком 1'!AK14","v":1},{"$f":"'Ком 1'!AL14","v":8},{"$f":"'Ком 1'!AM14","v":5},{"$f":"'Ком 1'!AN14","v":9},{"$f":"'Ком 1'!AO14","v":4},{"$f":"'Ком 1'!AP14","v":2},{"$f":"'Ком 1'!AQ14","v":2},{"$f":"'Ком 1'!AR1","v":0},{"$f":"'Ком 1'!AS14","v":3},{"$f":"'Ком 1'!AT14","v":1},{"$f":"'Ком 1'!AU14","v":8}]
["Гости",{"$f":"'Ком 2'!AA14","v":10},{"$f":"'Ком 2'!AB14","v":6},{"$f":"'Ком 2'!AC14","v":1},{"$f":"'Ком 2'!AD14","v":3},{"$f":"'Ком 2'!AE14","v":7},{"$f":"'Ком 2'!AF14","v":4},{"$f":"'Ком 2'!AG14","v":19},{"$f":"'Ком 2'!AH14","v":7},{"$f":"'Ком 2'!AI14","v":3},{"$f":"'Ком 2'!AJ14","v":1},{"$f":"'Ком 2'!AK14","v":3},{"$f":"'Ком 2'!AL14","v":3},{"$f":"'Ком 2'!AM14","v":4},{"$f":"'Ком 2'!AN14","v":10},{"$f":"'Ком 2'!AO14","v":3},{"$f":"'Ком 2'!AP14","v":3},{"$f":"'Ком 2'!AQ14","v":0},{"$f":"'Ком 2'!AR14","v":0},{"$f":"'Ком 2'!AS14","v":4},{"$f":"'Ком 2'!AT14","v":0},{"$f":"'Ком 2'!AU14","v":9}]
[null,"Забивают",null,null,"Пропускают",null,null,null,"Забивают",null,null,"Пропускают",null,null,"Забивают",null,null,"Пропускают",null,null,1,{"$f":"J3/I3/(J3/I3+K3/I3+Q4/P4+R4/P4)","v":0.18181818181818182},{"$f":"C3/B3/(C3/B3+D3/B3+D4/B4+C4/B4)","v":0.25}]
["Хозяева",{"$f":"F3/B3","v":1.1000000000000001},null,null,{"$f":"G3/B3","v":0.6},null,null,null,{"$f":"M3/I3","v":1.3333333333333333},null,null,{"$f":"N3/I3","v":0.83333333333333337},null,null,{"$f":"T3/P3","v":0.75},null,null,{"$f":"U3/P3","v":0.25},null,null,"X",{"$f":"(K3/I3+R4/P4)/(J3/I3+K3/I3+Q4/P4+R4/P4)","v":0.27272727272727276},{"$f":"(D3/B3+D4/B4)/(C3/B3+D3/B3+D4/B4+C4/B4)","v":0.37499999999999994}]
["Гости",{"$f":"F4/B4","v":0.7},null,null,{"$f":"G4/B4","v":0.4},null,null,null,{"$f":"M4/I4","v":0.42857142857142855},null,null,{"$f":"N4/I4","v":0.5714285714285714},null,null,{"$f":"T4/P4","v":1.3333333333333333},null,null,{"$f":"U4/P4","v":0},null,null,2,{"$f":"Q4/P4/(J3/I3+K3/I3+Q4/P4+R4/P4)","v":0.54545454545454553},{"$f":"C4/B4/(C3/B3+D3/B3+D4/B4+C4/B4)","v":0.37499999999999994}]
["Тоталы","Ср. тотал",null,"Мощь",null,"Рейтинг",null,"Счет","Забит","Проп","Набр","Потер"]
["Хозяева",{"$f":"AVERAGE(I6,B6)+AVERAGE(R7,E7)-AVERAGE(1.25,O9)","v":0.44166666666666676},null,{"$f":"(I6-L6+B6-E6)/2","v":0.5},null,{"$f":"(O3/I3+V3/P3*1.1+I6-L6*1.1+O6*1.1-R6)/12.6","v":0.37235449735449733},null,{"$f":"B9","v":0.44166666666666676},{"$f":"'Ком 1'!AL14*1.5+'Ком 1'!AS14*2","v":18},{"$f":"'Ком 1'!AM14*1.5+'Ком 1'!AT14","v":8.5},{"$f":"I9/5","v":3.6},{"$f":"J9/5","v":1.7},"Ср. заб.",null,{"$f":"AVERAGE('Ком 1'!Y5:Z14,'Ком 2'!Y5:Z14)","v":0.7}]
["Гости",{"$f":"AVERAGE(O7,B7)+AVERAGE(L6,E6)-AVERAGE(1.25,O9)","v":0.75833333333333341},null,{"$f":"(O7-R7+B7-E7)/2","v":0.81666666666666665},null,{"$f":"(O4/I4+V4/P4*1.1+I7-L7*1.1+O7*1.1-R7)/12.6","v":0.47581254724111871},null,{"$f":"B10","v":0.75833333333333341},{"$f":"'Ком 2'!AL14*1.5+'Ком 2'!AS14*2","v":12.5},{"$f":"'Ком 2'!AM14*1.5+'Ком 2'!AT14","v":6},{"$f":"I10/5","v":2.5},{"$f":"J10/5","v":1.2},null,null,null,null,null,{"$f":"(F3+G3)/B3","v":1.7}]
["Общий",{"$f":"B9+B10","v":1.2000000000000002},null,null,null,null,null,null,{"$f":"((K9+L10)/2+(K10+L9)/2)/2","v":2.25},null,null,null,null,null,null,null,null,{"$f":"(F4+G4)/B4","v":1.1000000000000001}]
["Т(2.5)","Т1","Т2","Мощь",null,"1-Х-2",null,null,"Рейтинг"]
[{"$f":"B14","v":0},{"$f":"B9","v":0.44166666666666676},{"$f":"B10","v":0.75833333333333341},{"$f":"D9","v":0.5},{"$f":"D10","v":0.81666666666666665},{"$f":"AVERAGE(V5,W5)","v":0.21590909090909091},{"$f":"AVERAGE(V6,W6)","v":0.32386363636363635},{"$f":"AVERAGE(V7,W7)","v":0.46022727272727271},{"$f":"F9","v":0.37235449735449733},{"$f":"F10","v":0.47581254724111871}]
[]
["Итоги","Т(2.5)","Т1","Т2","Серия",null,"1-Х-2",null,null,"Рейтинг",null,"Фора","1Х","Заб1","Заб2",null,"Счет",null,null,"Забьет гол "]
["15 игр",{"$f":"A13","v":0},{"$f":"B13","v":0.44166666666666676},0.75833333333333341,null,null,{"$f":"F13","v":0.21590909090909091},0.32386363636363635,{"$f":"H13","v":0.46022727272727271},{"$f":"I13","v":0.37235449735449733},0.47581254724111871,{"$f":"C16-D16","v":-0.31666666666666665},{"$f":"IF(G16-I16>0.23,\"П1\",IF(G16>I16,\"1X\",IF(I16-G16>0.24,\"П2\",IF(I16>G16,\"Х2\",\"\"))))","v":"П2"},{"$f":"AVERAGE(I6,B6)","v":1.2166666666666668},{"$f":"AVERAGE(O7,B7)","v":1.0166666666666666},null,{"$f":"ROUND(AVERAGE(F21,N16),0)","v":1},{"$f":"ROUND(AVERAGE(G21,O16),0)","v":1},null,{"$f":"IF(Q16>1,\"ДА\",\"НЕТ\")","v":"НЕТ"},{"$f":"IF(R16>=1,\"ДА\",\"НЕТ\")","v":"ДА"}]
[null,null,null,null,null,null,null,null,null,null,null,null,null,null,null,null,null,null,null,null,null,null,null,null,null,null,null,null,"ВСЕГО",null,"ДОМА",null,"ВЫЕЗД"]
[null,null,null,null,null,null,null,null,null,null,null,null,null,null,null,null,null,null,null,null,null,null,null,null,null,null,null,null,"WDL","Заб/Проп","WDL","Заб/Проп","WDL","Заб/Проп"]
["Среднее",null,null,null,null,null,null,null,null,null,null,null,null,null,null,null,null,null,null,null,null,null,null,null,null,null,null,null,{"$f":"CONCATENATE(C3,\"/\",D3,\"/\",E3)","v":"4/5/1"},{"$f":"CONCATENATE(F3,\"/\",G3)","v":"11/6"},{"$f":"CONCATENATE(J3,\"/\",K3,\"/\",L3)","v":"2/3/1"},{"$f":"CONCATENATE(M3,\"/\",N3)","v":"8/5"},{"$f":"CONCATENATE(Q3,\"/\",R3,\"/\",S3)","v":"2/2/0"},{"$f":"CONCATENATE(T3,\"/\",U3)","v":"3/1"}]
["Команда 1",null,"Команда 2",null,"Т","Т1","Т2","Серия",null,"1-Х-2",null,null,"1Х","Х2","Фора","1Х2","Заб 1","Заб 2","Тотал","Счет","ТБ(2.5)",null,null,null,null,null,null,null,{"$f":"CONCATENATE(C4,\"/\",D4,\"/\",E4)","v":"6/1/3"},{"$f":"CONCATENATE(F4,\"/\",G4)","v":"7/4"},{"$f":"CONCATENATE(J4,\"/\",K4,\"/\",L4)","v":"3/1/3"},{"$f":"CONCATENATE(M4,\"/\",N4)","v":"3/4"},{"$f":"CONCATENATE(Q4,\"/\",R4,\"/\",S4)","v":"3/0/0"},{"$f":"CONCATENATE(T4,\"/\",U4)","v":"4/0"}]
[{"$f":"'Ком 1'!B4","v":"Sao Paulo"},null,{"$f":"'Ком 2'!B4","v":"Fortaleza"},null,{"$f":"B16","v":0},0.44166666666666676,0.75833333333333341,null,null,0.21590909090909091,0.32386363636363635,0.46022727272727271,{"$f":"V5+V6/2","v":0.31818181818181823},{"$f":"V7+V6/2","v":0.68181818181818188},{"$f":"F21-G21","v":-0.31666666666666665},{"$f":"IF(AND(J21-L21>0.27,Q16>R16),\"П1\",IF(AND(J21>L21,Q16>=R16),\"1X\",IF(AND(L21-J21>0.12,R16>0),\"П2\",IF(AND(L21>J21,R16>=Q16),\"Х2\",\"\"))))","v":"П2"},{"$f":"'Ком 1'!AV14*1000+'Ком 1'!AW14*100+'Ком 1'!AX14*10+'Ком 1'!AY14","v":2040},{"$f":"'Ком 2'!AV14*1000+'Ком 1'!AW14*100+'Ком 1'!AX14*10+'Ком 1'!AY14","v":4040},{"$f":"IF(E21>2.85,IF(Q16+R16>2,\"ТБ(2)\",\" \"),IF(E21<2.2,IF(Q16+R16<3,\"ТМ(3)\",\" \"),\" \"))","v":"ТМ(3)"},{"$f":"CONCATENATE(Q16,\":\",R16)","v":"1:1"},{"$f":"(COUNTIF('Ком 2'!BG5:BG14,\">2,5\")+COUNTIF('Ком 1'!BG5:BG14,\">2,5\"))/COUNT('Ком 1'!BG5:BG14,'Ком 2'!BG5:BG14)","v":0}]
[null,null,null,null,null,null,null,null,null,null,null,null,null,null,null,null,null,null,{"$f":"IF(S21=\"ТМ(3)\",\"Да\",\"Нет\")","v":"Да"}]

{"sheet":"Team1 (2)","index":25,"n_rows":19,"n_cols":6,"rows_kept":19,"cut":false,"hidden":true,"merged":[[1,1,1,5],[2,1,2,5],[3,1,3,4],[19,1,19,4],[20,4,20,5]]}
[]
[]
[null,"TEAM 1"]
[null,{"$f":"'Ком 1'!B4:E4","v":"Sao Paulo"},null,null,null,"Счёт"]
[null,null,null,{"$f":"'ZW3'!E3","v":"Sao Paulo"},{"$f":"'ZW3'!F3","v":"Mirassol"},{"$f":"'ZW3'!G3","v":"2-3"}]
[null,null,null,{"$f":"'ZW3'!E4","v":"Guarani SP"},{"$f":"'ZW3'!F4","v":"Sao Paulo"},{"$f":"'ZW3'!G4","v":"1-3"}]
[null,null,null,{"$f":"'ZW3'!E5","v":"Sao Paulo"},{"$f":"'ZW3'!F5","v":"Bragantino"},{"$f":"'ZW3'!G5","v":"2-3"}]
[null,null,null,{"$f":"'ZW3'!E6","v":"Sao Paulo"},{"$f":"'ZW3'!F6","v":"Santos"},{"$f":"'ZW3'!G6","v":"2-1"}]
[null,null,null,{"$f":"'ZW3'!E7","v":"Sao Paulo"},{"$f":"'ZW3'!F7","v":"Liga Dep. Universitaria Quito"},{"$f":"'ZW3'!G7","v":"3-0"}]
[null,null,null,{"$f":"'ZW3'!E8","v":"Botafogo SP"},{"$f":"'ZW3'!F8","v":"Sao Paulo"},{"$f":"'ZW3'!G8","v":"1-0"}]
[null,null,null,{"$f":"'ZW3'!E9","v":"EM Deportivo Binacional"},{"$f":"'ZW3'!F9","v":"Sao Paulo"},{"$f":"'ZW3'!G9","v":"2-1"}]
[null,null,null,{"$f":"'ZW3'!E10","v":"Sao Paulo"},{"$f":"'ZW3'!F10","v":"Ponte Preta"},{"$f":"'ZW3'!G10","v":"2-1"}]
[null,null,null,{"$f":"'ZW3'!E11","v":"Oeste"},{"$f":"'ZW3'!F11","v":"Sao Paulo"},{"$f":"'ZW3'!G11","v":"0-4"}]
[null,null,null,{"$f":"'ZW3'!E12","v":"Sao Paulo"},{"$f":"'ZW3'!F12","v":"Corinthians Paulista (SP)"},{"$f":"'ZW3'!G12","v":"0-0"}]
[null,null,null,{"$f":"'ZW1'!E13","v":0},{"$f":"'ZW1'!F13","v":0},{"$f":"'ZW1'!G13","v":0}]
[null,null,null,{"$f":"'ZW1'!E14","v":0},{"$f":"'ZW1'!F14","v":0},{"$f":"'ZW1'!G14","v":0}]
[null,null,null,{"$f":"'ZW1'!E15","v":0},{"$f":"'ZW1'!F15","v":0},{"$f":"'ZW1'!G15","v":0}]
[null,null,null,{"$f":"'ZW1'!E16","v":0},{"$f":"'ZW1'!F16","v":0},{"$f":"'ZW1'!G16","v":0}]
[null,null,null,{"$f":"'ZW1'!E17","v":0},{"$f":"'ZW1'!F17","v":0},{"$f":"'ZW1'!G17","v":0}]

{"sheet":"Team2 (2)","index":26,"n_rows":19,"n_cols":6,"rows_kept":19,"cut":false,"hidden":true,"merged":[[1,1,1,5],[2,1,2,5],[3,1,3,4]]}
[]
[]
[null,"TEAM 2"]
[null,{"$f":"'Ком 2'!B4:E4","v":"Fortaleza"},null,null,null,"Счёт"]
[null,null,null,{"$f":"'ZW3'!E21","v":"Fortaleza"},{"$f":"'ZW3'!F21","v":"Atletico Paranaense"},{"$f":"'ZW3'!G21","v":"0-2"}]
[null,null,null,{"$f":"'ZW3'!E22","v":"Fortaleza"},{"$f":"'ZW3'!F22","v":"Ceara"},{"$f":"'ZW3'!G22","v":"0-1"}]
[null,null,null,{"$f":"'ZW3'!E23","v":"Fortaleza"},{"$f":"'ZW3'!F23","v":"Sport Club Recife PE"},{"$f":"'ZW3'!G23","v":"0-0"}]
[null,null,null,{"$f":"'ZW3'!E24","v":"Fortaleza"},{"$f":"'ZW3'!F24","v":"America FC Natal RN"},{"$f":"'ZW3'!G24","v":"3-1"}]
[null,null,null,{"$f":"'ZW3'!E25","v":"Fortaleza"},{"$f":"'ZW3'!F25","v":"Guarany CE"},{"$f":"'ZW3'!G25","v":"1-0"}]
[null,null,null,{"$f":"'ZW3'!E26","v":"Ceara"},{"$f":"'ZW3'!F26","v":"Fortaleza"},{"$f":"'ZW3'!G26","v":"1-2"}]
[null,null,null,{"$f":"'ZW3'!E27","v":"Guarany CE"},{"$f":"'ZW3'!F27","v":"Fortaleza"},{"$f":"'ZW3'!G27","v":"0-5"}]
[null,null,null,{"$f":"'ZW3'!E28","v":"Nautico (PE)"},{"$f":"'ZW3'!F28","v":"Fortaleza"},{"$f":"'ZW3'!G28","v":"0-3"}]
[null,null,null,{"$f":"'ZW3'!E29","v":"Fortaleza"},{"$f":"'ZW3'!F29","v":"Pacajus"},{"$f":"'ZW3'!G29","v":"3-0"}]
[null,null,null,{"$f":"'ZW3'!E30","v":"Fortaleza"},{"$f":"'ZW3'!F30","v":"Centro Sportivo Alagoano"},{"$f":"'ZW3'!G30","v":"1-0"}]
[null,null,null,{"$f":"'ZW1'!E31","v":0},{"$f":"'ZW1'!F31","v":0},{"$f":"'ZW1'!G31","v":0}]
[null,null,null,{"$f":"'ZW1'!E32","v":0},{"$f":"'ZW1'!F32","v":0},{"$f":"'ZW1'!G32","v":0}]
[null,null,null,{"$f":"'ZW1'!E33","v":0},{"$f":"'ZW1'!F33","v":0},{"$f":"'ZW1'!G33","v":0}]
[null,null,null,{"$f":"'ZW1'!E34","v":0},{"$f":"'ZW1'!F34","v":0},{"$f":"'ZW1'!G34","v":0}]
[null,null,null,{"$f":"'ZW1'!E35","v":0},{"$f":"'ZW1'!F35","v":0},{"$f":"'ZW1'!G35","v":0}]

{"sheet":"Ком 1 (2)","index":27,"n_rows":36,"n_cols":59,"rows_kept":36,"cut":false,"hidden":true,"merged":[[1,1,1,5],[2,1,2,5],[3,1,3,4],[36,1,36,5],[42,4,42,5]]}
[null,null,null,null,null,null,null,null,null,null,null,null,null,null,null,null,null,null,null,null,null,null,null,null,null,null,"Всего",null,null,null,null,null,null,"Дома",null,null,null,null,null,null,"В гостях",null,null,null,null,null,null,"Забивают дома",null,null,null,"Забивают в гостях"]
[]
[null,null,null,null,null,null,null,null,null,null,null,null,null,null,null,null,null,null,"Команда1","Команда2","Голы1","Голы2","Где играла","Результат","Забито","Пропущено","Игр","В","Н","П","Забито","Пропущено","Очки","Игр","В","Н","П","Забито","Пропущено","Очки","Игр","В","Н","П","Забито","Пропущено","Очки",0,1,2,"3+",0,1,2,"3+","Забивают","Пропускают","Рейтинг"]
[null,{"$f":"IF(S5=T5,S5,IF(S5=T6,S5,IF(S5=S6,S5,T5)))","v":"Sao Paulo"},null,null,null,"Счёт",null,null,null,null,"Общее количество мячей"]
[null,null,null,{"$f":"'Team1 (2)'!D5","v":"Sao Paulo"},{"$f":"'Team1 (2)'!E5","v":"Mirassol"},{"$f":"'Team1 (2)'!F5","v":"2-3"},{"$f":"H14","v":0},{"$f":"IF(Q5=\"Дома\",O5,P5)","v":2},{"$f":"IF(Q5=\"Дома\",P5,O5)","v":3},{"$f":"IF(Q5=\"Дома\",IF(O5>P5,\"В\",IF(O5=P5,\"Н\",\"П\")),IF(P5>O5,\"В\",IF(O5=P5,\"Н\",\"П\")))","v":"П"},{"$f":"SUM(H5,I5)","v":5},{"$f":"K14","v":0},{"$f":"C5","v":0},{"$f":"I14","v":0},{"$f":"VALUE(LEFT(R5,FIND(\"-\",R5,1)-1))","v":2},{"$f":"VALUE(RIGHT(R5,FIND(\"-\",R5,1)-1))","v":3},{"$f":"IF(D5=B$4,\"Дома\",\"В гостях\")","v":"Дома"},{"$f":"F5","v":"2-3"},{"$f":"D5","v":"Sao Paulo"},{"$f":"E5","v":"Mirassol"},{"$f":"VALUE(LEFT(F5,FIND(\":\",F5,1)-1))","v":{"$error":"#VALUE!"}},{"$f":"VALUE(LEFT(RIGHT(F5,LEN(F5)-FIND(\":\",F5,1)),1))","v":{"$error":"#VALUE!"}},{"$f":"Q5","v":"Дома"},{"$f":"J5","v":"П"},{"$f":"H5","v":2},{"$f":"I5","v":3},1,{"$f":"IF(X5=\"В\",1,0)","v":0},{"$f":"IF(X5=\"Н\",1,0)","v":0},{"$f":"IF(X5=\"П\",1,0)","v":1},{"$f":"Y5","v":2},{"$f":"Z5","v":3},{"$f":"AB5*3+AC5","v":0},{"$f":"IF(W5=\"Дома\",1,0)","v":1},{"$f":"IF(W5=\"Дома\",IF(X5=\"В\",1,0),0)","v":0},{"$f":"IF(W5=\"Дома\",IF(X5=\"Н\",1,0),0)","v":0},{"$f":"IF(W5=\"Дома\",IF(X5=\"П\",1,0),0)","v":1},{"$f":"IF(W5=\"Дома\",Y5,0)","v":2},{"$f":"IF(W5=\"Дома\",Z5,0)","v":3},{"$f":"AI5*3+AJ5","v":0},{"$f":"IF(W5<>\"Дома\",1,0)","v":0},{"$f":"IF(W5<>\"Дома\",IF(X5=\"В\",1,0),0)","v":0},{"$f":"IF(W5<>\"Дома\",IF(X5=\"Н\",1,0),0)","v":0},{"$f":"IF(W5<>\"Дома\",IF(X5=\"П\",1,0),0)","v":0},{"$f":"IF(W5<>\"Дома\",Y5,0)","v":0},{"$f":"IF(W5<>\"Дома\",Z5,0)","v":0},{"$f":"AP5*3+AQ5","v":0},{"$f":"IF(W5=\"Дома\",IF(Y5=0,1,0),0)","v":0},{"$f":"IF(W5=\"Дома\",IF(Y5=1,1,0),0)","v":0},{"$f":"IF(W5=\"Дома\",IF(Y5=2,1,0),0)","v":1},{"$f":"IF(W5=\"Дома\",IF(Y5>=3,1,0),0)","v":0},{"$f":"IF(W5<>\"Дома\",IF(AC5=0,1,0),0)","v":0},{"$f":"IF(W5<>\"Дома\",IF(AC5=1,1,0),0)","v":0},{"$f":"IF(W5<>\"Дома\",IF(AC5=2,1,0),0)","v":0},{"$f":"IF(W5<>\"Дома\",IF(AC5>=3,1,0),0)","v":0},{"$f":"AA5/AE5","v":0.5},{"$f":"AA5/AF5","v":0.33333333333333331},{"$f":"(AN5/IF(AH5<1,1,AH5)+AU5/IF(AO5<1,1,AO5)*1.5+AL5/IF(AH5<1,1,AH5)+AS5/IF(AO5<1,1,AO5)*1.5-AM5/IF(AH5<1,1,AH5)*1.5-AT5/IF(AO5<1,1,AO5))/15","v":-0.16666666666666666},{"$f":"IF(W5=\"Дома\",Y5+Z5,\"\")","v":5}]
[null,null,null,{"$f":"'Team1 (2)'!D6","v":"Guarani SP"},{"$f":"'Team1 (2)'!E6","v":"Sao Paulo"},{"$f":"'Team1 (2)'!F6","v":"1-3"},{"$f":"H13","v":4},{"$f":"IF(Q6=\"Дома\",O6,P6)","v":3},{"$f":"IF(Q6=\"Дома\",P6,O6)","v":1},"В",{"$f":"SUM(H6,I6)","v":4},{"$f":"K13","v":4},0,{"$f":"I13","v":0},{"$f":"VALUE(LEFT(R6,FIND(\"-\",R6,1)-1))","v":1},{"$f":"VALUE(RIGHT(R6,FIND(\"-\",R6,1)-1))","v":3},"В гостях",{"$f":"F6","v":"1-3"},{"$f":"D6","v":"Guarani SP"},"Sao Paulo",{"$f":"VALUE(LEFT(F6,FIND(\":\",F6,1)-1))","v":{"$error":"#VALUE!"}},{"$f":"VALUE(LEFT(RIGHT(F6,LEN(F6)-FIND(\":\",F6,1)),1))","v":{"$error":"#VALUE!"}},{"$f":"Q6","v":"В гостях"},{"$f":"J6","v":"В"},{"$f":"H6","v":3},1,{"$f":"AA5+1","v":2},{"$f":"IF(X6=\"В\",AB5+1,AB5+0)","v":1},{"$f":"IF(X6=\"Н\",AC5+1,AC5+0)","v":0},{"$f":"IF(X6=\"П\",AD5+1,AD5+0)","v":1},{"$f":"Y6+AE5","v":5},4,{"$f":"AB6*3+AC6","v":3},{"$f":"IF(W6=\"Дома\",AH5+1,AH5+0)","v":1},{"$f":"IF(W6=\"Дома\",IF(X6=\"В\",AI5+1,AI5+0),AI5+0)","v":0},{"$f":"IF(W6=\"Дома\",IF(X6=\"Н\",AJ5+1,AJ5+0),AJ5+0)","v":0},{"$f":"IF(W6=\"Дома\",IF(X6=\"П\",AK5+1,AK5+0),AK5+0)","v":1},{"$f":"IF(W6=\"Дома\",AL5+Y6,AL5+0)","v":2},{"$f":"IF(W6=\"Дома\",AM5+Z6,AM5+0)","v":3},{"$f":"AI6*3+AJ6","v":0},{"$f":"IF(W6<>\"Дома\",AO5+1,AO5+0)","v":1},{"$f":"IF(W6<>\"Дома\",IF(X6=\"В\",AP5+1,AP5+0),AP5+0)","v":1},{"$f":"IF(W6<>\"Дома\",IF(X6=\"Н\",AQ5+1,AQ5+0),AQ5+0)","v":0},{"$f":"IF(W6<>\"Дома\",IF(X6=\"П\",AR5+1,AR5+0),AR5+0)","v":0},{"$f":"IF(W6<>\"Дома\",AS5+Y6,AS5+0)","v":3},{"$f":"IF(W6<>\"Дома\",AT5+Z6,AT5+0)","v":1},{"$f":"AP6*3+AQ6","v":3},{"$f":"IF(W6=\"Дома\",IF(Y6=0,AV5+1,AV5),AV5)","v":0},{"$f":"IF(W6=\"Дома\",IF(Y6=1,AW5+1,AW5),AW5)","v":0},{"$f":"IF(W6=\"Дома\",IF(Y6=2,AX5+1,AX5),AX5)","v":1},{"$f":"IF(W6=\"Дома\",IF(Y6>=3,AY5+1,AY5),AY5)","v":0},{"$f":"IF(W6<>\"Дома\",IF(Y6=0,AZ5+1,AZ5),AZ5)","v":0},{"$f":"IF(W6<>\"Дома\",IF(Y6=1,BA5+1,BA5),BA5)","v":0},{"$f":"IF(W6<>\"Дома\",IF(Y6=2,BB5+1,BB5),BB5)","v":0},{"$f":"IF(W6<>\"Дома\",IF(Y6>=3,BC5+1,BC5),BC5)","v":1},{"$f":"AA6/AE6","v":0.4},{"$f":"AA6/AF6","v":0.5},{"$f":"(AN6/IF(AH6<1,1,AH6)+AU6/IF(AO6<1,1,AO6)*1.5+AL6/IF(AH6<1,1,AH6)+AS6/IF(AO6<1,1,AO6)*1.5-AM6/IF(AH6<1,1,AH6)*1.5-AT6/IF(AO6<1,1,AO6))/15","v":0.36666666666666664},{"$f":"IF(W6=\"Дома\",Y6+Z6,\"\")","v":""}]
[null,null,null,{"$f":"'Team1 (2)'!D7","v":"Sao Paulo"},{"$f":"'Team1 (2)'!E7","v":"Bragantino"},{"$f":"'Team1 (2)'!F7","v":"2-3"},{"$f":"H12","v":2},{"$f":"IF(Q7=\"Дома\",O7,P7)","v":2},{"$f":"IF(Q7=\"Дома\",P7,O7)","v":3},"П",5,{"$f":"K12","v":3},0,{"$f":"I12","v":1},2,3,"Дома","2-3","Sao Paulo","Bragantino",{"$error":"#VALUE!"},{"$error":"#VALUE!"},"Дома",{"$f":"J7","v":"П"},2,3,3,{"$f":"IF(X7=\"В\",AB6+1,AB6+0)","v":1},0,2,7,7,3,2,0,0,2,4,6,0,{"$f":"IF(W7<>\"Дома\",AO6+1,AO6+0)","v":1},1,0,0,3,1,3,{"$f":"IF(W7=\"Дома\",IF(Y7=0,AV6+1,AV6),AV6)","v":0},0,2,0,0,0,0,1,0.42857142857142855,0.42857142857142855,0.36666666666666664,5]
[null,null,null,{"$f":"'Team1 (2)'!D8","v":"Sao Paulo"},{"$f":"'Team1 (2)'!E8","v":"Santos"},{"$f":"'Team1 (2)'!F8","v":"2-1"},{"$f":"H11","v":1},{"$f":"IF(Q8=\"Дома\",O8,P8)","v":2},1,"В",3,{"$f":"K11","v":3},{"$f":"C8","v":0},{"$f":"I11","v":2},2,1,"Дома","2-1","Sao Paulo","Santos",{"$error":"#VALUE!"},{"$error":"#VALUE!"},"Дома","В",2,1,4,2,0,2,9,8,6,3,1,0,2,6,7,3,1,1,0,0,3,1,3,0,0,3,0,0,0,0,1,0.44444444444444442,0.5,0.5,3]
[null,null,null,{"$f":"'Team1 (2)'!D9","v":"Sao Paulo"},{"$f":"'Team1 (2)'!E9","v":"Liga Dep. Universitaria Quito"},{"$f":"'Team1 (2)'!F9","v":"3-0"},{"$f":"H10","v":0},3,{"$f":"IF(Q9=\"Дома\",P9,O9)","v":0},"В",3,{"$f":"K10","v":1},0,{"$f":"I10","v":1},3,0,"Дома","3-0","Sao Paulo","Liga Dep. Universitaria Quito",{"$error":"#VALUE!"},{"$error":"#VALUE!"},"Дома","В",3,0,5,3,0,2,12,8,9,4,2,0,2,9,7,6,1,1,0,0,{"$f":"IF(W9<>\"Дома\",AS8+Y9,AS8+0)","v":3},1,3,0,0,3,1,0,0,0,1,0.41666666666666669,0.625,0.60833333333333328,3]
[null,null,null,{"$f":"'Team1 (2)'!D10","v":"Botafogo SP"},{"$f":"'Team1 (2)'!E10","v":"Sao Paulo"},{"$f":"'Team1 (2)'!F10","v":"1-0"},{"$f":"H9","v":3},0,1,"П",1,{"$f":"K9","v":3},0,{"$f":"I9","v":0},1,0,"В гостях","1-0","Botafogo SP","Sao Paulo",{"$error":"#VALUE!"},{"$error":"#VALUE!"},"В гостях","П",0,1,6,3,0,3,12,9,9,4,2,0,2,9,7,6,2,1,0,1,3,2,3,0,0,3,1,1,0,0,1,0.5,0.66666666666666663,0.30833333333333335,""]
[null,null,null,{"$f":"'Team1 (2)'!D11","v":"EM Deportivo Binacional"},{"$f":"'Team1 (2)'!E11","v":"Sao Paulo"},{"$f":"'Team1 (2)'!F11","v":"2-1"},{"$f":"H8","v":2},1,2,"П",3,{"$f":"K8","v":3},0,{"$f":"I8","v":1},2,1,"В гостях","2-1","EM Deportivo Binacional","Sao Paulo",{"$error":"#VALUE!"},{"$error":"#VALUE!"},"В гостях","П",1,2,7,3,0,4,13,11,9,4,2,0,2,9,7,6,3,1,0,2,4,4,3,0,0,3,1,1,1,0,1,0.53846153846153844,0.63636363636363635,0.21944444444444447,""]
[null,null,null,{"$f":"'Team1 (2)'!D12","v":"Sao Paulo"},{"$f":"'Team1 (2)'!E12","v":"Ponte Preta"},{"$f":"'Team1 (2)'!F12","v":"2-1"},{"$f":"H7","v":2},2,1,"В",3,{"$f":"K7","v":5},0,{"$f":"I7","v":3},2,1,"Дома","2-1","Sao Paulo","Ponte Preta",{"$error":"#VALUE!"},{"$error":"#VALUE!"},"Дома","В",2,1,8,4,0,4,15,12,12,5,3,0,2,11,8,9,3,1,0,2,4,4,3,0,0,4,1,1,1,0,1,0.53333333333333333,0.66666666666666663,0.25111111111111112,3]
[null,null,null,{"$f":"'Team1 (2)'!D13","v":"Oeste"},{"$f":"'Team1 (2)'!E13","v":"Sao Paulo"},{"$f":"'Team1 (2)'!F13","v":"0-4"},{"$f":"H6","v":3},4,0,"В",4,{"$f":"K6","v":4},0,{"$f":"I6","v":1},0,4,"В гостях","0-4","Oeste","Sao Paulo",{"$error":"#VALUE!"},{"$error":"#VALUE!"},"В гостях","В",4,0,9,5,0,4,19,12,15,5,3,0,2,11,8,9,4,2,0,2,8,4,6,0,0,4,1,1,1,0,2,0.47368421052631576,0.75,0.38999999999999996,""]
[null,null,null,{"$f":"'Team1 (2)'!D14","v":"Sao Paulo"},{"$f":"'Team1 (2)'!E14","v":"Corinthians Paulista (SP)"},{"$f":"'Team1 (2)'!F14","v":"0-0"},{"$f":"H5","v":2},0,0,"Н",0,{"$f":"K5","v":5},0,{"$f":"I5","v":3},0,0,"Дома","0-0","Sao Paulo","Corinthians Paulista (SP)",{"$error":"#VALUE!"},{"$error":"#VALUE!"},"Дома","Н",0,0,10,5,1,4,19,12,16,6,3,1,2,11,8,10,4,2,0,2,8,4,6,1,0,4,1,1,1,0,2,0.52631578947368418,0.83333333333333337,0.38333333333333336,0]
[]
[]
[]
[]
[]
[null,"    Cells.Select",{"$f":"Team1!C20","v":0},null,null,null,null,null,null,null,0,null,null,null,null,null,null,null,null,null,null,null,null,null,null,null,null,null,null,null,null,null,null,null,null,null,null,null,null,null,null,0]
[null,"    Selection.Locked = False",{"$f":"Team1!C21","v":0},null,null,null,null,null,null,null,0,null,null,null,null,null,null,null,null,null,null,null,null,null,null,null,null,null,null,null,null,null,null,null,null,null,null,null,null,null,null,0]
[null,"    Selection.FormulaHidden = False",{"$f":"Team1!C22","v":0},null,null,null,null,null,null,null,0,null,null,null,null,null,null,null,null,null,null,null,null,null,null,null,null,null,null,null,null,null,null,null,null,null,null,null,null,null,null,0]
[null,"    Range(\"D15\").Select",{"$f":"Team1!C23","v":0},null,null,null,null,null,null,null,0,null,null,null,null,null,null,null,null,null,null,null,null,null,null,null,null,null,null,null,null,null,null,null,null,null,null,null,null,null,null,0]
[null,"    Selection.Locked = True",{"$f":"Team1!C24","v":0},null,null,null,null,null,null,null,0,null,null,null,null,null,null,null,null,null,null,null,null,null,null,null,null,null,null,null,null,null,null,null,null,null,null,null,null,null,null,0]
[null,"    Selection.FormulaHidden = False",{"$f":"Team1!C25","v":0},null,null,null,null,null,null,null,0,null,null,null,null,null,null,null,null,null,null,null,null,null,null,null,null,null,null,null,null,null,null,null,null,null,null,null,null,null,null,0]
[null,"    ActiveSheet.Protect DrawingObjects:=True, Contents:=True, Scenarios:=True",{"$f":"Team1!C26","v":0},null,null,null,null,null,null,null,0,null,null,null,null,null,null,null,null,null,null,null,null,null,null,null,null,null,null,null,null,null,null,null,null,null,null,null,null,null,null,0]
[null,"End Sub",{"$f":"Team1!C27","v":0},null,null,null,null,null,null,null,0,null,null,null,null,null,null,null,null,null,null,null,null,null,null,null,null,null,null,null,null,null,null,null,null,null,null,null,null,null,null,0]
[null,null,{"$f":"Team1!C28","v":0},null,null,null,null,null,null,null,0,null,null,null,null,null,null,null,null,null,null,null,null,null,null,null,null,null,null,null,null,null,null,null,null,null,null,null,null,null,null,0]
[null,null,{"$f":"Team1!C29","v":0},null,null,null,null,null,null,null,0,null,null,null,null,null,null,null,null,null,null,null,null,null,null,null,null,null,null,null,null,null,null,null,null,null,null,null,null,null,null,0]
[null,1,{"$f":"Team1!C30","v":0},{"$f":"IF(C30=\"ЛОЛ\",E30,C30)","v":0},{"$f":"IF(X5=\"П\",IF(((Y5-Z5)*(-1))<1.5,\"Проигрыш\",\"Позорный проигрыш\"),\"Ничья\")","v":"Проигрыш"},null,null,null,null,null,0,null,null,null,null,null,null,null,null,null,null,null,null,null,null,null,null,null,null,null,null,null,null,null,null,null,null,null,null,null,null,0]
[null,2,{"$f":"Team1!C31","v":0},{"$f":"IF(C31=\"ЛОЛ\",E31,C31)","v":0},{"$f":"IF(X6=\"П\",IF(((Y6-Z6)*(-1))<1.5,\"Проигрыш\",\"Позорный проигрыш\"),\"Ничья\")","v":"Ничья"},null,null,null,null,null,0,null,null,null,null,null,null,null,null,null,null,null,null,null,null,null,null,null,null,null,null,null,null,null,null,null,null,null,null,null,null,0]
[null,3,{"$f":"Team1!C32","v":0},{"$f":"IF(C32=\"ЛОЛ\",E32,C32)","v":0},{"$f":"IF(X7=\"П\",IF(((Y7-Z7)*(-1))<1.5,\"Проигрыш\",\"Позорный проигрыш\"),\"Ничья\")","v":"Проигрыш"},null,null,null,null,null,0,null,null,null,null,null,null,null,null,null,null,null,null,null,null,null,null,null,null,null,null,null,null,null,null,null,null,null,null,null,null,0]
[null,4,{"$f":"Team1!C33","v":0},{"$f":"IF(C33=\"ЛОЛ\",E33,C33)","v":0},{"$f":"IF(X8=\"П\",IF(((Y8-Z8)*(-1))<1.5,\"Проигрыш\",\"Позорный проигрыш\"),\"Ничья\")","v":"Ничья"},null,null,null,null,null,0,null,null,null,null,null,null,null,null,null,null,null,null,null,null,null,null,null,null,null,null,null,null,null,null,null,null,null,null,null,null,0]
[null,5,{"$f":"Team1!C34","v":0},{"$f":"IF(C34=\"ЛОЛ\",E34,C34)","v":0},{"$f":"IF(X9=\"П\",IF(((Y9-Z9)*(-1))<1.5,\"Проигрыш\",\"Позорный проигрыш\"),\"Ничья\")","v":"Ничья"},null,null,null,null,null,0,null,null,null,null,null,null,null,null,null,null,null,null,null,null,null,null,null,null,null,null,null,null,null,null,null,null,null,null,null,null,0]
[null,null,{"$f":"Team1!C35","v":0},null,null,null,null,null,null,null,0,null,null,null,null,null,null,null,null,null,null,null,null,null,null,null,null,null,null,null,null,null,null,null,null,null,null,null,null,null,null,0]
[null,null,{"$f":"Team1!C36","v":0},null,null,null,null,null,null,null,0,null,null,null,null,null,null,null,null,null,null,null,null,null,null,null,null,null,null,null,null,null,null,null,null,null,null,null,null,null,null,0]

{"sheet":"Ком 2 (2)","index":28,"n_rows":34,"n_cols":59,"rows_kept":34,"cut":false,"hidden":true,"merged":[[1,1,1,5],[2,1,2,5],[3,1,3,4],[59,4,59,5]]}
[null,null,null,null,null,null,null,null,null,null,null,null,null,null,null,null,null,null,null,null,null,null,null,null,null,null,"Всего",null,null,null,null,null,null,"Дома",null,null,null,null,null,null,"В гостях",null,null,null,null,null,null,"Забивают дома",null,null,null,"Забивают в гостях"]
[]
[null,null,null,null,null,null,null,null,null,null,null,null,null,null,null,null,null,null,"Команда1","Команда2","Голы1","Голы2","Где играла","Результат","Забито","Пропущено","Игр","В","Н","П","Забито","Пропущено","Очки","Игр","В","Н","П","Забито","Пропущено","Очки","Игр","В","Н","П","Забито","Пропущено","Очки",0,1,2,"3+",0,1,2,"3+","Забивают","Пропускают","Рейтинг"]
[null,{"$f":"IF(S5=T5,S5,IF(S5=T6,S5,IF(S5=S6,S5,T5)))","v":"Fortaleza"},null,null,null,"Счёт",null,"Заб","Проп","Рез",null,null,"Турнир",0,"Дом","Гость","Где играла","Счёт","Команда1","Команда2","Голы1","Голы2","Где играла","Результат","Забито","Пропущено","Игр","В","Н","П","Забито","Пропущено","Очки","Игр","В","Н","П","Забито","Пропущено","Очки","Игр","В","Н","П","Забито","Пропущено","Очки",0,1,2,"3+",0,1,2,"3+","Забивают","Пропускают","Рейтинг","тотал"]
[null,null,null,{"$f":"'Team2 (2)'!D5","v":"Fortaleza"},{"$f":"'Team2 (2)'!E5","v":"Atletico Paranaense"},{"$f":"'Team2 (2)'!F5","v":"0-2"},{"$f":"H14","v":1},{"$f":"IF(Q5=\"Дома\",O5,P5)","v":0},{"$f":"IF(Q5=\"Дома\",P5,O5)","v":2},{"$f":"IF(Q5=\"Дома\",IF(O5>P5,\"В\",IF(O5=P5,\"Н\",\"П\")),IF(P5>O5,\"В\",IF(O5=P5,\"Н\",\"П\")))","v":"П"},{"$f":"SUM(H5,I5)","v":2},{"$f":"K14","v":1},{"$f":"C5","v":0},{"$f":"I14","v":0},{"$f":"VALUE(LEFT(R5,FIND(\"-\",R5,1)-1))","v":0},{"$f":"VALUE(RIGHT(R5,FIND(\"-\",R5,1)-1))","v":2},{"$f":"IF(D5=B$4,\"Дома\",\"В гостях\")","v":"Дома"},{"$f":"F5","v":"0-2"},{"$f":"D5","v":"Fortaleza"},{"$f":"E5","v":"Atletico Paranaense"},{"$f":"VALUE(LEFT(F5,FIND(\":\",F5,1)-1))","v":{"$error":"#VALUE!"}},{"$f":"VALUE(LEFT(RIGHT(F5,LEN(F5)-FIND(\":\",F5,1)),1))","v":{"$error":"#VALUE!"}},{"$f":"Q5","v":"Дома"},{"$f":"J5","v":"П"},{"$f":"H5","v":0},{"$f":"I5","v":2},1,{"$f":"IF(X5=\"В\",1,0)","v":0},{"$f":"IF(X5=\"Н\",1,0)","v":0},{"$f":"IF(X5=\"П\",1,0)","v":1},{"$f":"Y5","v":0},{"$f":"Z5","v":2},{"$f":"AB5*3+AC5","v":0},{"$f":"IF(W5=\"Дома\",1,0)","v":1},{"$f":"IF(W5=\"Дома\",IF(X5=\"В\",1,0),0)","v":0},{"$f":"IF(W5=\"Дома\",IF(X5=\"Н\",1,0),0)","v":0},{"$f":"IF(W5=\"Дома\",IF(X5=\"П\",1,0),0)","v":1},{"$f":"IF(W5=\"Дома\",Y5,0)","v":0},{"$f":"IF(W5=\"Дома\",Z5,0)","v":2},{"$f":"AI5*3+AJ5","v":0},{"$f":"IF(W5<>\"Дома\",1,0)","v":0},{"$f":"IF(W5<>\"Дома\",IF(X5=\"В\",1,0),0)","v":0},{"$f":"IF(W5<>\"Дома\",IF(X5=\"Н\",1,0),0)","v":0},{"$f":"IF(W5<>\"Дома\",IF(X5=\"П\",1,0),0)","v":0},{"$f":"IF(W5<>\"Дома\",Y5,0)","v":0},{"$f":"IF(W5<>\"Дома\",Z5,0)","v":0},{"$f":"AP5*3+AQ5","v":0},{"$f":"IF(W5=\"Дома\",IF(Y5=0,1,0),0)","v":1},{"$f":"IF(W5=\"Дома\",IF(Y5=1,1,0),0)","v":0},{"$f":"IF(W5=\"Дома\",IF(Y5=2,1,0),0)","v":0},{"$f":"IF(W5=\"Дома\",IF(Y5>=3,1,0),0)","v":0},{"$f":"IF(W5<>\"Дома\",IF(AC5=0,1,0),0)","v":0},{"$f":"IF(W5<>\"Дома\",IF(AC5=1,1,0),0)","v":0},{"$f":"IF(W5<>\"Дома\",IF(AC5=2,1,0),0)","v":0},{"$f":"IF(W5<>\"Дома\",IF(AC5>=3,1,0),0)","v":0},{"$f":"AA5/AE5","v":{"$error":"#DIV/0!"}},{"$f":"AA5/AF5","v":0.5},{"$f":"(AN5/IF(AH5<1,1,AH5)+AU5/IF(AO5<1,1,AO5)*1.5+AL5/IF(AH5<1,1,AH5)+AS5/IF(AO5<1,1,AO5)*1.5-AM5/IF(AH5<1,1,AH5)*1.5-AT5/IF(AO5<1,1,AO5))/15","v":-0.2},{"$f":"IF(W5=\"Дома\",Y5+Z5,\"\")","v":2}]
[null,null,null,{"$f":"'Team2 (2)'!D6","v":"Fortaleza"},{"$f":"'Team2 (2)'!E6","v":"Ceara"},{"$f":"'Team2 (2)'!F6","v":"0-1"},{"$f":"H13","v":3},{"$f":"IF(Q6=\"Дома\",O6,P6)","v":0},{"$f":"IF(Q6=\"Дома\",P6,O6)","v":1},"П",{"$f":"SUM(H6,I6)","v":1},{"$f":"K13","v":3},0,{"$f":"I13","v":0},{"$f":"VALUE(LEFT(R6,FIND(\"-\",R6,1)-1))","v":0},{"$f":"VALUE(RIGHT(R6,FIND(\"-\",R6,1)-1))","v":1},"Дома",{"$f":"F6","v":"0-1"},{"$f":"D6","v":"Fortaleza"},"Ceara",{"$f":"VALUE(LEFT(F6,FIND(\":\",F6,1)-1))","v":{"$error":"#VALUE!"}},{"$f":"VALUE(LEFT(RIGHT(F6,LEN(F6)-FIND(\":\",F6,1)),1))","v":{"$error":"#VALUE!"}},{"$f":"Q6","v":"Дома"},{"$f":"J6","v":"П"},{"$f":"H6","v":0},1,{"$f":"AA5+1","v":2},{"$f":"IF(X6=\"В\",AB5+1,AB5+0)","v":0},{"$f":"IF(X6=\"Н\",AC5+1,AC5+0)","v":0},{"$f":"IF(X6=\"П\",AD5+1,AD5+0)","v":2},{"$f":"Y6+AE5","v":0},3,{"$f":"AB6*3+AC6","v":0},{"$f":"IF(W6=\"Дома\",AH5+1,AH5+0)","v":2},{"$f":"IF(W6=\"Дома\",IF(X6=\"В\",AI5+1,AI5+0),AI5+0)","v":0},{"$f":"IF(W6=\"Дома\",IF(X6=\"Н\",AJ5+1,AJ5+0),AJ5+0)","v":0},{"$f":"IF(W6=\"Дома\",IF(X6=\"П\",AK5+1,AK5+0),AK5+0)","v":2},{"$f":"IF(W6=\"Дома\",AL5+Y6,AL5+0)","v":0},{"$f":"IF(W6=\"Дома\",AM5+Z6,AM5+0)","v":3},{"$f":"AI6*3+AJ6","v":0},{"$f":"IF(W6<>\"Дома\",AO5+1,AO5+0)","v":0},{"$f":"IF(W6<>\"Дома\",IF(X6=\"В\",AP5+1,AP5+0),AP5+0)","v":0},{"$f":"IF(W6<>\"Дома\",IF(X6=\"Н\",AQ5+1,AQ5+0),AQ5+0)","v":0},{"$f":"IF(W6<>\"Дома\",IF(X6=\"П\",AR5+1,AR5+0),AR5+0)","v":0},{"$f":"IF(W6<>\"Дома\",AS5+Y6,AS5+0)","v":0},{"$f":"IF(W6<>\"Дома\",AT5+Z6,AT5+0)","v":0},{"$f":"AP6*3+AQ6","v":0},{"$f":"IF(W6=\"Дома\",IF(Y6=0,AV5+1,AV5),AV5)","v":2},{"$f":"IF(W6=\"Дома\",IF(Y6=1,AW5+1,AW5),AW5)","v":0},{"$f":"IF(W6=\"Дома\",IF(Y6=2,AX5+1,AX5),AX5)","v":0},{"$f":"IF(W6=\"Дома\",IF(Y6>=3,AY5+1,AY5),AY5)","v":0},{"$f":"IF(W6<>\"Дома\",IF(Y6=0,AZ5+1,AZ5),AZ5)","v":0},{"$f":"IF(W6<>\"Дома\",IF(Y6=1,BA5+1,BA5),BA5)","v":0},{"$f":"IF(W6<>\"Дома\",IF(Y6=2,BB5+1,BB5),BB5)","v":0},{"$f":"IF(W6<>\"Дома\",IF(Y6>=3,BC5+1,BC5),BC5)","v":0},{"$f":"AA6/AE6","v":{"$error":"#DIV/0!"}},{"$f":"AA6/AF6","v":0.66666666666666663},{"$f":"(AN6/IF(AH6<1,1,AH6)+AU6/IF(AO6<1,1,AO6)*1.5+AL6/IF(AH6<1,1,AH6)+AS6/IF(AO6<1,1,AO6)*1.5-AM6/IF(AH6<1,1,AH6)*1.5-AT6/IF(AO6<1,1,AO6))/15","v":-0.15},{"$f":"IF(W6=\"Дома\",Y6+Z6,\"\")","v":1}]
[null,null,null,{"$f":"'Team2 (2)'!D7","v":"Fortaleza"},{"$f":"'Team2 (2)'!E7","v":"Sport Club Recife PE"},{"$f":"'Team2 (2)'!F7","v":"0-0"},{"$f":"H12","v":3},{"$f":"IF(Q7=\"Дома\",O7,P7)","v":0},{"$f":"IF(Q7=\"Дома\",P7,O7)","v":0},"Н",0,{"$f":"K12","v":3},0,{"$f":"I12","v":0},0,0,"Дома","0-0","Fortaleza","Sport Club Recife PE",{"$error":"#VALUE!"},{"$error":"#VALUE!"},"Дома",{"$f":"J7","v":"Н"},0,0,3,{"$f":"IF(X7=\"В\",AB6+1,AB6+0)","v":0},1,2,0,3,1,3,0,1,2,0,3,1,{"$f":"IF(W7<>\"Дома\",AO6+1,AO6+0)","v":0},0,0,0,0,0,0,{"$f":"IF(W7=\"Дома\",IF(Y7=0,AV6+1,AV6),AV6)","v":3},0,0,0,0,0,0,0,{"$error":"#DIV/0!"},1,-7.7777777777777779E-2,0]
[null,null,null,{"$f":"'Team2 (2)'!D8","v":"Fortaleza"},{"$f":"'Team2 (2)'!E8","v":"America FC Natal RN"},{"$f":"'Team2 (2)'!F8","v":"3-1"},{"$f":"H11","v":5},{"$f":"IF(Q8=\"Дома\",O8,P8)","v":3},1,"В",4,{"$f":"K11","v":5},{"$f":"C8","v":0},{"$f":"I11","v":0},3,1,"Дома","3-1","Fortaleza","America FC Natal RN",{"$error":"#VALUE!"},{"$error":"#VALUE!"},"Дома","В",3,1,4,1,1,2,3,4,4,4,1,1,2,3,4,4,0,0,0,0,0,0,0,3,0,0,1,0,0,0,0,1.3333333333333333,1,1.6666666666666666E-2,4]
[null,null,null,{"$f":"'Team2 (2)'!D9","v":"Fortaleza"},{"$f":"'Team2 (2)'!E9","v":"Guarany CE"},{"$f":"'Team2 (2)'!F9","v":"1-0"},{"$f":"H10","v":2},1,{"$f":"IF(Q9=\"Дома\",P9,O9)","v":0},"В",1,{"$f":"K10","v":3},0,{"$f":"I10","v":1},1,0,"Дома","1-0","Fortaleza","Guarany CE",{"$error":"#VALUE!"},{"$error":"#VALUE!"},"Дома","В",1,0,5,2,1,2,4,4,7,5,2,1,2,4,4,7,0,0,0,0,{"$f":"IF(W9<>\"Дома\",AS8+Y9,AS8+0)","v":0},0,0,3,1,0,1,0,0,0,0,1.25,1.25,6.6666666666666666E-2,1]
[null,null,null,{"$f":"'Team2 (2)'!D10","v":"Ceara"},{"$f":"'Team2 (2)'!E10","v":"Fortaleza"},{"$f":"'Team2 (2)'!F10","v":"1-2"},{"$f":"H9","v":1},2,1,"В",3,{"$f":"K9","v":1},0,{"$f":"I9","v":0},1,2,"В гостях","1-2","Ceara","Fortaleza",{"$error":"#VALUE!"},{"$error":"#VALUE!"},"В гостях","В",2,1,6,3,1,2,6,5,10,5,2,1,2,4,4,7,1,1,0,0,2,1,3,3,1,0,1,0,0,1,0,1,1.2,0.5,""]
[null,null,null,{"$f":"'Team2 (2)'!D11","v":"Guarany CE"},{"$f":"'Team2 (2)'!E11","v":"Fortaleza"},{"$f":"'Team2 (2)'!F11","v":"0-5"},{"$f":"H8","v":3},5,0,"В",5,{"$f":"K8","v":4},0,{"$f":"I8","v":1},0,5,"В гостях","0-5","Guarany CE","Fortaleza",{"$error":"#VALUE!"},{"$error":"#VALUE!"},"В гостях","В",5,0,7,4,1,2,11,5,13,5,2,1,2,4,4,7,2,2,0,0,7,1,6,3,1,0,1,0,0,1,1,0.63636363636363635,1.4,0.68333333333333335,""]
[null,null,null,{"$f":"'Team2 (2)'!D12","v":"Nautico (PE)"},{"$f":"'Team2 (2)'!E12","v":"Fortaleza"},{"$f":"'Team2 (2)'!F12","v":"0-3"},{"$f":"H7","v":0},3,0,"В",3,{"$f":"K7","v":0},0,{"$f":"I7","v":0},0,3,"В гостях","0-3","Nautico (PE)","Fortaleza",{"$error":"#VALUE!"},{"$error":"#VALUE!"},"В гостях","В",3,0,8,5,1,2,14,5,16,5,2,1,2,4,4,7,3,3,0,0,10,1,9,3,1,0,1,0,0,1,2,0.5714285714285714,1.6,0.6777777777777777,""]
[null,null,null,{"$f":"'Team2 (2)'!D13","v":"Fortaleza"},{"$f":"'Team2 (2)'!E13","v":"Pacajus"},{"$f":"'Team2 (2)'!F13","v":"3-0"},{"$f":"H6","v":0},3,0,"В",3,{"$f":"K6","v":1},0,{"$f":"I6","v":1},3,0,"Дома","3-0","Fortaleza","Pacajus",{"$error":"#VALUE!"},{"$error":"#VALUE!"},"Дома","В",3,0,9,6,1,2,17,5,19,6,3,1,2,7,4,10,3,3,0,0,10,1,9,3,1,0,2,0,0,1,2,0.52941176470588236,1.8,0.73333333333333328,3]
[null,null,null,{"$f":"'Team2 (2)'!D14","v":"Fortaleza"},{"$f":"'Team2 (2)'!E14","v":"Centro Sportivo Alagoano"},{"$f":"'Team2 (2)'!F14","v":"1-0"},{"$f":"H5","v":0},1,0,"В",1,{"$f":"K5","v":2},0,{"$f":"I5","v":2},1,0,"Дома","1-0","Fortaleza","Centro Sportivo Alagoano",{"$error":"#VALUE!"},{"$error":"#VALUE!"},"Дома","В",1,0,10,7,1,2,18,5,22,7,4,1,2,8,4,13,3,3,0,0,10,1,9,3,2,0,2,0,0,1,2,0.55555555555555558,2,0.75396825396825384,1]
[]
[]
[]
[]
[]
[]
[]
[]
[]
[]
[]
[]
[]
[]
[]
[null,1,{"$f":"IF(X5=\"В\",IF(Y5-Z5>1.5,\"Легкая победа\",\"Победа\"),\"ЛОЛ\")","v":"ЛОЛ"},{"$f":"IF(C30=\"ЛОЛ\",E30,C30)","v":"Позорный проигрыш"},{"$f":"IF(X5=\"П\",IF(((Y5-Z5)*(-1))<1.5,\"Проигрыш\",\"Позорный проигрыш\"),\"Ничья\")","v":"Позорный проигрыш"}]
[null,2,{"$f":"IF(X6=\"В\",IF(Y6-Z6>1.5,\"Легкая победа\",\"Победа\"),\"ЛОЛ\")","v":"ЛОЛ"},{"$f":"IF(C31=\"ЛОЛ\",E31,C31)","v":"Проигрыш"},{"$f":"IF(X6=\"П\",IF(((Y6-Z6)*(-1))<1.5,\"Проигрыш\",\"Позорный проигрыш\"),\"Ничья\")","v":"Проигрыш"}]
[null,3,{"$f":"IF(X7=\"В\",IF(Y7-Z7>1.5,\"Легкая победа\",\"Победа\"),\"ЛОЛ\")","v":"ЛОЛ"},{"$f":"IF(C32=\"ЛОЛ\",E32,C32)","v":"Ничья"},{"$f":"IF(X7=\"П\",IF(((Y7-Z7)*(-1))<1.5,\"Проигрыш\",\"Позорный проигрыш\"),\"Ничья\")","v":"Ничья"}]
[null,4,{"$f":"IF(X8=\"В\",IF(Y8-Z8>1.5,\"Легкая победа\",\"Победа\"),\"ЛОЛ\")","v":"Легкая победа"},{"$f":"IF(C33=\"ЛОЛ\",E33,C33)","v":"Легкая победа"},{"$f":"IF(X8=\"П\",IF(((Y8-Z8)*(-1))<1.5,\"Проигрыш\",\"Позорный проигрыш\"),\"Ничья\")","v":"Ничья"}]
[null,5,{"$f":"IF(X9=\"В\",IF(Y9-Z9>1.5,\"Легкая победа\",\"Победа\"),\"ЛОЛ\")","v":"Победа"},{"$f":"IF(C34=\"ЛОЛ\",E34,C34)","v":"Победа"},{"$f":"IF(X9=\"П\",IF(((Y9-Z9)*(-1))<1.5,\"Проигрыш\",\"Позорный проигрыш\"),\"Ничья\")","v":"Ничья"}]

{"sheet":"45W (2)","index":29,"n_rows":22,"n_cols":34,"rows_kept":22,"cut":false,"hidden":true,"merged":[]}
[null,"Всего",null,null,null,null,null,null,"Дома",null,null,null,null,null,null,"На выезде"]
[null,"Игр","В","Н","П","Забито","Пропущено","Очки","Игр","В","Н","П","Забито","Пропущено","Очки","Игр","В","Н","П","Забито","Пропущено","Очки"]
["Хозяева",{"$f":"'Ком 1 (2)'!AA14","v":10},{"$f":"'Ком 1 (2)'!AB14","v":5},{"$f":"'Ком 1 (2)'!AC14","v":1},{"$f":"'Ком 1 (2)'!AD14","v":4},{"$f":"'Ком 1 (2)'!AE14","v":19},{"$f":"'Ком 1 (2)'!AF14","v":12},{"$f":"'Ком 1 (2)'!AG14","v":16},{"$f":"'Ком 1 (2)'!AH14","v":6},{"$f":"'Ком 1 (2)'!AI14","v":3},{"$f":"'Ком 1 (2)'!AJ14","v":1},{"$f":"'Ком 1 (2)'!AK14","v":2},{"$f":"'Ком 1 (2)'!AL14","v":11},{"$f":"'Ком 1 (2)'!AM14","v":8},{"$f":"'Ком 1 (2)'!AN14","v":10},{"$f":"'Ком 1 (2)'!AO14","v":4},{"$f":"'Ком 1 (2)'!AP14","v":2},{"$f":"'Ком 1 (2)'!AQ14","v":0},{"$f":"'Ком 1 (2)'!AR1","v":0},{"$f":"'Ком 1 (2)'!AS14","v":8},{"$f":"'Ком 1 (2)'!AT14","v":4},{"$f":"'Ком 1 (2)'!AU14","v":6}]
["Гости",{"$f":"'Ком 2 (2)'!AA14","v":10},{"$f":"'Ком 2 (2)'!AB14","v":7},{"$f":"'Ком 2 (2)'!AC14","v":1},{"$f":"'Ком 2 (2)'!AD14","v":2},{"$f":"'Ком 2 (2)'!AE14","v":18},{"$f":"'Ком 2 (2)'!AF14","v":5},{"$f":"'Ком 2 (2)'!AG14","v":22},{"$f":"'Ком 2 (2)'!AH14","v":7},{"$f":"'Ком 2 (2)'!AI14","v":4},{"$f":"'Ком 2 (2)'!AJ14","v":1},{"$f":"'Ком 2 (2)'!AK14","v":2},{"$f":"'Ком 2 (2)'!AL14","v":8},{"$f":"'Ком 2 (2)'!AM14","v":4},{"$f":"'Ком 2 (2)'!AN14","v":13},{"$f":"'Ком 2 (2)'!AO14","v":3},{"$f":"'Ком 2 (2)'!AP14","v":3},{"$f":"'Ком 2 (2)'!AQ14","v":0},{"$f":"'Ком 2 (2)'!AR14","v":0},{"$f":"'Ком 2 (2)'!AS14","v":10},{"$f":"'Ком 2 (2)'!AT14","v":1},{"$f":"'Ком 2 (2)'!AU14","v":9}]
[null,"Забивают",null,null,"Пропускают",null,null,null,"Забивают",null,null,"Пропускают",null,null,"Забивают",null,null,"Пропускают",null,null,1,{"$f":"J3/I3/(J3/I3+K3/I3+Q4/P4+R4/P4)","v":0.30000000000000004},{"$f":"C3/B3/(C3/B3+D3/B3+D4/B4+C4/B4)","v":0.35714285714285715}]
["Хозяева",{"$f":"F3/B3","v":1.9},null,null,{"$f":"G3/B3","v":1.2},null,null,null,{"$f":"M3/I3","v":1.8333333333333333},null,null,{"$f":"N3/I3","v":1.3333333333333333},null,null,{"$f":"T3/P3","v":2},null,null,{"$f":"U3/P3","v":1},null,null,"X",{"$f":"(K3/I3+R4/P4)/(J3/I3+K3/I3+Q4/P4+R4/P4)","v":0.1},{"$f":"(D3/B3+D4/B4)/(C3/B3+D3/B3+D4/B4+C4/B4)","v":0.14285714285714288}]
["Гости",{"$f":"F4/B4","v":1.8},null,null,{"$f":"G4/B4","v":0.5},null,null,null,{"$f":"M4/I4","v":1.1428571428571428},null,null,{"$f":"N4/I4","v":0.5714285714285714},null,null,{"$f":"T4/P4","v":3.3333333333333335},null,null,{"$f":"U4/P4","v":0.33333333333333331},null,null,2,{"$f":"Q4/P4/(J3/I3+K3/I3+Q4/P4+R4/P4)","v":0.60000000000000009},{"$f":"C4/B4/(C3/B3+D3/B3+D4/B4+C4/B4)","v":0.5}]
["Тоталы","Ср. тотал",null,"Мощь",null,"Рейтинг",null,"Счет","Забит","Проп","Набр","Потер"]
["Хозяева",{"$f":"AVERAGE(I6,B6)+AVERAGE(R7,E7)-AVERAGE(1.25,O9)","v":0.98333333333333317},null,{"$f":"(I6-L6+B6-E6)/2","v":0.6},null,{"$f":"(O3/I3+V3/P3*1.1+I6-L6*1.1+O6*1.1-R6)/12.6","v":0.38756613756613761},null,{"$f":"B9","v":0.98333333333333317},{"$f":"'Ком 1 (2)'!AL14*1.5+'Ком 1 (2)'!AS14*2","v":32.5},{"$f":"'Ком 1 (2)'!AM14*1.5+'Ком 1 (2)'!AT14","v":16},{"$f":"I9/5","v":6.5},{"$f":"J9/5","v":3.2},"Ср. заб.",null,{"$f":"AVERAGE('Ком 1 (2)'!Y5:Z14,'Ком 2 (2)'!Y5:Z14)","v":1.35}]
["Гости",{"$f":"AVERAGE(O7,B7)+AVERAGE(L6,E6)-AVERAGE(1.25,O9)","v":2.5333333333333332},null,{"$f":"(O7-R7+B7-E7)/2","v":2.15},null,{"$f":"(O4/I4+V4/P4*1.1+I7-L7*1.1+O7*1.1-R7)/12.6","v":0.71466364323507181},null,{"$f":"B10","v":2.5333333333333332},{"$f":"'Ком 2 (2)'!AL14*1.5+'Ком 2 (2)'!AS14*2","v":32},{"$f":"'Ком 2 (2)'!AM14*1.5+'Ком 2 (2)'!AT14","v":7},{"$f":"I10/5","v":6.4},{"$f":"J10/5","v":1.4},null,null,null,null,null,{"$f":"(F3+G3)/B3","v":3.1}]
["Общий",{"$f":"B9+B10","v":3.5166666666666666},null,null,null,null,null,null,{"$f":"((K9+L10)/2+(K10+L9)/2)/2","v":4.375},null,null,null,null,null,null,null,null,{"$f":"(F4+G4)/B4","v":2.2999999999999998}]
["Т(2.5)","Т1","Т2","Мощь",null,"1-Х-2",null,null,"Рейтинг"]
[{"$f":"B14","v":0},{"$f":"B9","v":0.98333333333333317},{"$f":"B10","v":2.5333333333333332},{"$f":"D9","v":0.6},{"$f":"D10","v":2.15},{"$f":"AVERAGE(V5,W5)","v":0.32857142857142863},{"$f":"AVERAGE(V6,W6)","v":0.12142857142857144},{"$f":"AVERAGE(V7,W7)","v":0.55000000000000004},{"$f":"F9","v":0.38756613756613761},{"$f":"F10","v":0.71466364323507181}]
[]
["Итоги","Т(2.5)","Т1","Т2","Серия",null,"1-Х-2",null,null,"Рейтинг",null,"Фора","1Х","Заб1","Заб2",null,"Счет",null,null,"Забьет гол "]
["15 игр",{"$f":"A13","v":0},{"$f":"B13","v":0.98333333333333317},2.5333333333333332,null,null,{"$f":"F13","v":0.32857142857142863},0.12142857142857144,{"$f":"H13","v":0.55000000000000004},{"$f":"I13","v":0.38756613756613761},0.71466364323507181,{"$f":"C16-D16","v":-1.55},{"$f":"IF(G16-I16>0.23,\"П1\",IF(G16>I16,\"1X\",IF(I16-G16>0.24,\"П2\",IF(I16>G16,\"Х2\",\"\"))))","v":"Х2"},{"$f":"AVERAGE(I6,B6)","v":1.8666666666666667},{"$f":"AVERAGE(O7,B7)","v":2.5666666666666669},null,{"$f":"ROUND(AVERAGE(F21,N16),0)","v":1},{"$f":"ROUND(AVERAGE(G21,O16),0)","v":3},null,{"$f":"IF(Q16>1,\"ДА\",\"НЕТ\")","v":"НЕТ"},{"$f":"IF(R16>=1,\"ДА\",\"НЕТ\")","v":"ДА"}]
[null,null,null,null,null,null,null,null,null,null,null,null,null,null,null,null,null,null,null,null,null,null,null,null,null,null,null,null,"ВСЕГО",null,"ДОМА",null,"ВЫЕЗД"]
[null,null,null,null,null,null,null,null,null,null,null,null,null,null,null,null,null,null,null,null,null,null,null,null,null,null,null,null,"WDL","Заб/Проп","WDL","Заб/Проп","WDL","Заб/Проп"]
["Среднее",null,null,null,null,null,null,null,null,null,null,null,null,null,null,null,null,null,null,null,null,null,null,null,null,null,null,null,{"$f":"CONCATENATE(C3,\"/\",D3,\"/\",E3)","v":"5/1/4"},{"$f":"CONCATENATE(F3,\"/\",G3)","v":"19/12"},{"$f":"CONCATENATE(J3,\"/\",K3,\"/\",L3)","v":"3/1/2"},{"$f":"CONCATENATE(M3,\"/\",N3)","v":"11/8"},{"$f":"CONCATENATE(Q3,\"/\",R3,\"/\",S3)","v":"2/0/0"},{"$f":"CONCATENATE(T3,\"/\",U3)","v":"8/4"}]
["Команда 1",null,"Команда 2",null,"Т","Т1","Т2","Серия",null,"1-Х-2",null,null,"1Х","Х2","Фора","1Х2","Заб 1","Заб 2","Тотал","Счет","ТБ(2.5)","ТМ(2.5)",null,null,null,null,null,null,{"$f":"CONCATENATE(C4,\"/\",D4,\"/\",E4)","v":"7/1/2"},{"$f":"CONCATENATE(F4,\"/\",G4)","v":"18/5"},{"$f":"CONCATENATE(J4,\"/\",K4,\"/\",L4)","v":"4/1/2"},{"$f":"CONCATENATE(M4,\"/\",N4)","v":"8/4"},{"$f":"CONCATENATE(Q4,\"/\",R4,\"/\",S4)","v":"3/0/0"},{"$f":"CONCATENATE(T4,\"/\",U4)","v":"10/1"}]
[{"$f":"'Ком 1 (2)'!B4","v":"Sao Paulo"},null,{"$f":"'Ком 2 (2)'!B4","v":"Fortaleza"},null,{"$f":"B16","v":0},0.98333333333333317,2.5333333333333332,null,null,0.32857142857142863,0.12142857142857144,0.55000000000000004,{"$f":"V5+V6/2","v":0.35000000000000003},{"$f":"V7+V6/2","v":0.65000000000000013},{"$f":"F21-G21","v":-1.55},{"$f":"IF(AND(J21-L21>0.27,Q16>R16),\"П1\",IF(AND(J21>L21,Q16>=R16),\"1X\",IF(AND(L21-J21>0.12,R16>0),\"П2\",IF(AND(L21>J21,R16>=Q16),\"Х2\",\"\"))))","v":"П2"},{"$f":"'Ком 1 (2)'!AV14*1000+'Ком 1 (2)'!AW14*100+'Ком 1 (2)'!AX14*10+'Ком 1 (2)'!AY14","v":1041},{"$f":"'Ком 2 (2)'!AV14*1000+'Ком 1 (2)'!AW14*100+'Ком 1 (2)'!AX14*10+'Ком 1 (2)'!AY14","v":3041},{"$f":"IF(E21>2.85,IF(Q16+R16>2,\"ТБ(2)\",\" \"),IF(E21<2.2,IF(Q16+R16<3,\"ТМ(3)\",\" \"),\" \"))","v":" "},{"$f":"CONCATENATE(Q16,\":\",R16)","v":"1:3"},{"$f":"(COUNTIF('Ком 2 (2)'!BG5:BG14,\">2,5\")+COUNTIF('Ком 1 (2)'!BG5:BG14,\">2,5\"))/COUNT('Ком 1 (2)'!BG5:BG14,'Ком 2 (2)'!BG5:BG14)","v":0},{"$f":"(W21-W21*U21)/100","v":1},100]
[null,null,null,null,null,null,null,null,null,null,null,null,null,null,null,null,null,null,{"$f":"IF(S21=\"ТМ(3)\",\"Да\",\"Нет\")","v":"Нет"}]

{"sheet":"1","index":30,"n_rows":0,"n_cols":0,"rows_kept":0,"cut":false,"hidden":true,"merged":[]}

{"sheet":"Архив","index":31,"n_rows":34,"n_cols":19,"rows_kept":34,"cut":false,"hidden":false,"merged":[[0,15,0,17],[0,18,0,19],[0,3,0,5],[0,10,0,12]]}
["Лига","К1","К2","Исход в % на Матч",null,null,"Кеф П1","Кеф Х","Кеф П2","ТБ 2,5","Исход в % на 1 тайм",null,null,"ТБ 0,5 1т","ИСХОД","Точный Счет Матча",null,null,"результат"]
["SVK D1-W","Nemsova","MFK Dubnica nad Vahom",0.67277332056610561,0.13999022085265173,0.16239999962787996,null,null,null,0.86562875247859927,0.32311871629319044,0.29825621032534216,0.3785936036612596,0.8785283320893702,"П1","3:1","3:2","2:1"]
["GEO D2","FC Sioni Bolnisi","FC Metalurgi Rustavi",0.39012392339541968,0.34718168455094722,0.26268788344409788,3.77,3.74,1.73,0.22197854041410384,4.5592756315829992E-3,0.90978219832804885,8.5658526040269606E-2,9.0627065531670034E-2,"Ф1(0)","0:0","1:0","0:1"]
["SIN D1","Geylang United FC","Albirex Niigata FC",0.2623376745249803,0.26733651439581158,0.4701952810450889,5.87,4.6500000000000004,1.4,0.43505174738164276,5.8954318743671907E-2,0.12407147362755309,0.80989369161277203,0.95762987306721969,"П2","0:1","1:1","0:2"]
["CZEC","Stara Rise","MSK Breclav",0.82979641212658017,0.11964453935676703,4.4829869105161138E-2,1.8,3.73,3.38,0.59206312758845059,0.53339896756924232,0.4331419618509213,3.3456570481951546E-2,0.59291931032190526,"П1","2:0","3:0","1:0"]
["CZE D2","Opava","Hradec Kralove",0.33806277166982118,0.20861449131969681,0.45136050526914751,1.89,3.32,3.65,0.74117051736022699,0.12389274392521837,0.33052196342506635,0.5455634982133557,0.77375881593177176,"ничья","1:2","1:1","2:2"]
["SYR D1","Al Wathbah","Hutteen FC",0.43480910505594611,0.35682487896693121,0.20835912584549127,2.25,2.91,3.09,0.19051898774412002,0.59201170714136131,0.36600857483831423,4.1969305533409669E-2,0.67262037889335768,"Ф1(0)","0:0","1:0","0:1"]
["SYR D1","Teshrin SC","Al-Majd Damascus",0.58212470988901233,0.22239964936163506,0.19471482539382484,1.56,3.24,5.91,0.54717781543932131,0.22622031690720559,0.46708394530764991,0.30669558115928175,0.62811337605404249,"ТМ 2.5","1:0","1:1","2:0"]
["CZE D1","Sparta Praha","Vysocina jihlava",0.8704559890422463,7.2503695977679264E-2,2.9816326362433358E-2,1.24,5.41,10.11,0.7479153220652871,0.5150068991216209,0.32344774179626401,0.16152099207935719,0.80306395779304807,"П1","3:0","4:0","2:0"]
["UKR D2","Volyn","Arsenal Kyiv",9.6181100893380514E-2,0.17676421788842514,0.72515760284827968,5,3.73,1.56,0.53669751148814049,0.3729064581086895,0.31843895382290349,0.30863970133677154,0.84891330443199364,"Ф2(0)","0:2","0:1","0:3"]
["ALG D2","MO Bejaia","ASO Chlef",0.53642980487319569,0.30991793587871352,0.15361522049809564,1.86,3,4.1900000000000004,0.24207995585123718,2.9646327729716253E-2,0.34914819967197452,0.62119048478275418,0.68016599036814096,"ничья","1:0","0:0","2:0"]
["QAT D2","Al Mesaimeer SC","Al Shahaniya",0.48143397225994322,0.21106986458897239,0.30582684154885487,2.78,4,1.97,0.71346124185312465,0.30001308424629392,0.27902083688642554,0.42089265715942092,0.90230597091262232,"Ф1(0)","2:1","1:1","2:2"]
["QAT D2","Al Mesaimeer SC","Al Shahaniya",0.48143397225994322,0.21106986458897239,0.30582684154885487,2.78,4,1.97,0.71346124185312465,0.30001308424629392,0.27902083688642554,0.42089265715942092,0.90230597091262232,"ничья","2:1","1:1","2:2"]
["QAT D2","Al Mesaimeer SC","Al Shahaniya",0.48143397225994322,0.21106986458897239,0.30582684154885487,2.78,4,1.97,0.71346124185312465,0.30001308424629392,0.27902083688642554,0.42089265715942092,0.90230597091262232,"ТБ 2.5","2:1","1:1","2:2"]
["CYP D2","PAEEK","E.N.Paralimniou",0.25239088295091544,0.23403392184872795,0.51304311213450593,4.3,3.46,1.68,0.5627018392436467,0.50285211565085752,0.29077285893586136,0.20631345709058008,0.86494106407823312,"ничья","1:1","1:2","0:1"]
["KSA PR","Al Raed","Al-Nasr(KSA)",0.41083574772408549,0.2161310113045071,0.37170235605513785,2.57,3.6,2.29,0.71153978700153697,0.44554598476367663,0.36278898157334016,0.19165862894710983,0.76286831451366366,"X","1:1","2:1","1:2"]
["CZE D2","Usti nad Labem","Frydek-Mistek",0.26924595309756388,0.44234229023350036,0.28841150462138254,1.67,3.59,4.4000000000000004,9.8721895183894154E-2,0.17798779930615946,0.64871328146457807,0.17329891868827482,0.38890325839696016,"ничья","0:0","0:1","1:0"]
["CYP D1","Omonia Nicosia FC","APOEL Nicosia",0.31322723078121706,0.21531037448963905,0.47010775704260616,2.85,3.18,2.2400000000000002,0.69648827287017467,0.59469428903099553,0.28316886512173994,0.12205637555802977,0.83254143743396269,"П2","1:1","1:2","2:1"]
["INT CF","Besiktas JK","Akhisar Bld.Geng",0.54476693322022285,0.2217521988860581,0.23259955564211285,1.41,4.58,6.52,0.59849645390350215,0.47938428352399598,0.36068805752663224,0.15991939190712084,0.75339476901614266,"Ф1(0)","1:1","2:1","1:0"]
["INT CF","SV Ried","Kapfenberg",0.79275451244324757,8.5405574684244812E-2,6.4318952336463106E-2,1.4,4.59,6.38,0.84516618774978403,0.86578213697667183,0.11301631148747951,1.797830876170782E-2,0.91953641056512625,"П1","4:1","3:1","5:1"]
["GON","BV Cloppenburg","Heeslinger SC",0.11389427912524931,9.6389784552691607E-2,0.66957519694213186,2.6,3.8,1.96,0.85222274453554059,2.2447921046295047E-2,0.15002970797579507,0.82628112783459051,0.8879555984943468,"Ф2(0)","2:4","2:5","1:4"]
["PER D1","Sport Huancayo","Dep.San Martin",0.70567754220831669,0.19356112812876011,9.9664385727756793E-2,1.36,4.34,7.37,0.47879856444064151,0.31695717970771914,0.46173796116762245,0.22130466036715937,0.63486913508865772,"П1","2:0","1:0","3:0"]
["CZE D2","SC Znojmo","Olymp.Hradec Kralove",0.39555866467077588,0.19360968146260069,0.4061480560702323,1.66,3.63,4.3899999999999997,0.82448460643822186,0.33546796513663979,0.34527542699239977,0.31925118108658251,0.81009311835502507,"X","2:2","1:2","2:1"]
["ROM D1","CSM Studentesc Iasi","Steaua Bucuresti",0.34048657517082198,0.20490166365342852,0.45220997957269066,5.55,3.49,1.6,0.76047011976665191,0.17720883469026705,0.17405359197527986,0.64327059433429901,0.97493839629280998,"П2","1:2","1:1","2:2"]
["FRAC","Quevilly","Orleans US 45",0.32515520762326383,0.30572928088080509,0.36909220483689897,2.62,3.09,2.67,0.33034859406860961,6.6899734376308279E-2,0.50839099734269177,0.42470892797189008,0.5301848419226235,"X","0:1","1:1","0:0"]
["FRAC","Chateauroux","Tours",0.44256151841408609,0.22978971199404746,0.32699138770846042,2.23,3.18,3.15,0.63096913775669705,0.11466758730071419,0.40509153514382756,0.48023769044116299,0.67534434552735489,"Ф1(0)","1:1","2:1","1:2"]
["HOL D2","FC Eindhoven","MVV Maastricht",0.49562285994435679,0.24352581840734266,0.26049794089402512,1.95,3.57,3.36,0.52800497141239433,0.22406648539774812,0.30271632234760387,0.47317864414411992,0.85493415985323451,"Ф1(0)","1:1","1:0","2:1"]
["HOL D2","Emmen","Almere City FC",0.61326006715850168,0.21956346674092156,0.16643119077426116,1.6,3.92,4.74,0.51537745912565835,0.48782606808422635,0.43678731892537098,7.5384771293834169E-2,0.61610114327002419,"П1","1:0","2:0","1:1"]
["SUI D1","Aarau","Servette",0.17728593461705311,0.19042358029856357,0.62967491589095981,3.06,3.51,2.06,0.66640224856421504,0.28631143085342936,0.4614498978366447,0.25223852260247509,0.63789929768568887,"Ф2(0)","1:2","0:2","1:1"]
["GER D1","VfB Stuttgart","Borussia Dortmund",0.36509419956527345,0.24311320552217155,0.39145477667916695,4.37,4.08,1.72,0.57535095861452157,0.13979462179245364,0.30807697166055903,0.55208863712326428,0.8117131649375301,"X","1:1","1:2","2:1"]
["BEL D2","Lierse","Cercle Brugge",0.1950337218672947,0.18796638161560064,0.61366713667037565,3.31,3.49,1.97,0.70897077729940494,0.24245673310003907,0.46223920457024159,0.29530390659252709,0.63623585398819493,"Ф2(0)","1:2","1:1","1:3"]
["INT CF","FC Liefering","FC Magna Wiener Neustadt",0.33365689313123437,0.28035164467987833,0.38592698850699286,1.96,3.48,3.43,0.41425562187769355,0.24206654890858639,0.30747997366738528,0.45042326186767545,0.85345442303642072,"X","1:1","0:1","1:0"]
["ITA C1","Padova","Triestina",0.6626052071690065,0.16624175832943175,0.16425016361387321,1.78,3.28,4.22,0.75971730351335465,0.27444112114785019,0.52293406516143526,0.20262478161271724,0.55067100380478107,"П1","2:1","3:1","2:0"]
["ITA D2","Benevento","Chievo",0.66332725670577741,0.20372596838912191,0.13189107611206646,2.44,3.17,2.82,0.5144608707938565,0.24712377907492802,0.34881780959807268,0.40405157508859624,0.79708463525905282,"П1","1:0","2:0","1:1"]