{"text_format":"1","workbook":"xlsx","n_sheets":15,"sheets":["Список","Mill(Итог)","Дома","Гости","Mill","ГостиГости","ДомаДома","Итог","Очные","ДомаГости","ГостиДома","ОчныеДГ","Таблица","Коэффициенты","АРХИВ"],"not_rendered":{"charts":0,"images":12,"macros":1,"external_links":0,"defined_names":4,"comments":0,"pivot_tables":0},"unopened":[],"bounds":{"document_bytes":16777216,"sheet_cells":100000,"rows_first":2000,"rows_last":500,"rows_between":2000,"halvings":0,"cell_chars":16384,"cell_head_chars":4096},"cells_cut":0,"cells_raw":0,"read":"whole","date_system":"1900"}

{"sheet":"Список","index":0,"n_rows":1756,"n_cols":28,"rows_kept":1756,"cut":false,"hidden":false,"merged":[]}
["Чемпионат","Дата/Время","Дома","Гости","Match_ID","Country_ID","home_ID","away_ID","Загрузить","Рез-т","1 Тайм","П1 текущий","Х текущий","П2 текущий","П1 старт","Х старт","П2 старт","П1 прогруз","Х прогруз","П2 прогруз"]
["БОЛИВИЯ: Дивизион Професиональ - Клаусура","2019.12.22 23:00","Боливар","Насьональ Потоси","GddUbnxa",36,null,null,"АНАЛИЗ","2 : 1","1 : 0",1.2,6,9,1.25,5.5,7.5,{"$f":"IF(L2=\"\",\"\",L2-O2)","v":-5.0000000000000044E-2},{"$f":"IF(M2=\"\",\"\",M2-P2)","v":0.5},{"$f":"IF(N2=\"\",\"\",N2-Q2)","v":1.5},"OUBDsPNd",null,"GMT +0",4,{"$f":"TODAY()-7","v":"2019-12-16"},8,"soccerstand.com",1]
["ИСПАНИЯ: Примера","2019.12.22 23:00","Реал Мадрид","Атлетик","nwCM9r0h",176,"W8mj7MDD","IP5zl0cJ","АНАЛИЗ","0 : 0","0 : 0",1.33,5.25,9,1.36,5,7.5,{"$f":"IF(L3=\"\",\"\",L3-O3)","v":-3.0000000000000027E-2},{"$f":"IF(M3=\"\",\"\",M3-P3)","v":0.25},{"$f":"IF(N3=\"\",\"\",N3-Q3)","v":1.5},"MNGIgau5",null,"GMT +1",null,{"$f":"TODAY()-6","v":"2019-12-17"},null,"myscore.ru"]
["ИТАЛИЯ: Серия В","2019.12.22 23:00","Порденоне","Асколи","nuPG26jT",98,"dnZqF13f","hd6UOqvB","АНАЛИЗ","2 : 1","2 : 0",1.95,3.4,4,2,3.3,3.8,{"$f":"IF(L4=\"\",\"\",L4-O4)","v":-5.0000000000000044E-2},{"$f":"IF(M4=\"\",\"\",M4-P4)","v":0.10000000000000009},{"$f":"IF(N4=\"\",\"\",N4-Q4)","v":0.20000000000000018},"6HTxk4UT",null,"GMT +2",null,{"$f":"TODAY()-5","v":"2019-12-18"},null,"scoreboard.com"]
["ЯМАЙКА: Премьер-лига","2019.12.22 23:00","Портмор","Vere United","niTVAhGd",99,null,null,"АНАЛИЗ","3 : 1","2 : 0",1.51,3.4,6.35,1.55,3.4,5.85,{"$f":"IF(L5=\"\",\"\",L5-O5)","v":-4.0000000000000036E-2},{"$f":"IF(M5=\"\",\"\",M5-P5)","v":0},{"$f":"IF(N5=\"\",\"\",N5-Q5)","v":0.5},"YJorpqvL",null,"GMT +3",null,{"$f":"TODAY()-4","v":"2019-12-19"},null,"myscore.com.ua"]
["ЯМАЙКА: Премьер-лига","2019.12.22 23:00","Тиволи","УВИ","80URBY0j",99,null,null,"АНАЛИЗ","2 : 2","0 : 1",2.06,3.08,3.54,2.2200000000000002,2.88,3.18,{"$f":"IF(L6=\"\",\"\",L6-O6)","v":-0.16000000000000014},{"$f":"IF(M6=\"\",\"\",M6-P6)","v":0.20000000000000018},{"$f":"IF(N6=\"\",\"\",N6-Q6)","v":0.35999999999999988},"YJorpqvL",null,"GMT +4",null,{"$f":"TODAY()-3","v":"2019-12-20"}]
["ПОРТУГАЛИЯ: Третья лига","2019.12.22 23:15","Мариненше","Лейрия","rHsjsJAl",155,null,null,"АНАЛИЗ","1 : 2","1 : 2",1.97,3.26,3.58,2.52,3,2.63,{"$f":"IF(L7=\"\",\"\",L7-O7)","v":-0.55000000000000004},{"$f":"IF(M7=\"\",\"\",M7-P7)","v":0.25999999999999979},{"$f":"IF(N7=\"\",\"\",N7-Q7)","v":0.95000000000000018},"QXMeCeIq",null,"GMT +5",null,{"$f":"TODAY() -2","v":"2019-12-21"}]
["САЛЬВАДОР: Премьер-лига - Апертура - плей-офф","2019.12.23 00:00","Альянса","ФАС","fNDR73Ne",70,null,null,"АНАЛИЗ","1 : 0","0 : 0",null,null,null,null,null,null,{"$f":"IF(L8=\"\",\"\",L8-O8)","v":""},{"$f":"IF(M8=\"\",\"\",M8-P8)","v":""},{"$f":"IF(N8=\"\",\"\",N8-Q8)","v":""},"65LWrXZq",null,"GMT +6",null,"Вчера"]
["БОЛИВИЯ: Дивизион Професиональ - Клаусура","2019.12.23 00:15","Хорхе Вильстерманн","Спортс Бойс","Ua0Yc6i5",36,null,null,"АНАЛИЗ","3 : 2","1 : 0",1.1100000000000001,7.5,13,1.2,6,9,{"$f":"IF(L9=\"\",\"\",L9-O9)","v":-8.9999999999999858E-2},{"$f":"IF(M9=\"\",\"\",M9-P9)","v":1.5},{"$f":"IF(N9=\"\",\"\",N9-Q9)","v":4},"OUBDsPNd",null,"GMT +7",null,"Сегодня"]
["ЯМАЙКА: Премьер-лига","2019.12.23 01:00","Хамбл Лайонс","Харбор Вью","QyaCJpKd",99,null,null,"АНАЛИЗ","1 : 0","1 : 0",2.2799999999999998,2.82,3.36,2.27,2.88,3.09,{"$f":"IF(L10=\"\",\"\",L10-O10)","v":9.9999999999997868E-3},{"$f":"IF(M10=\"\",\"\",M10-P10)","v":-6.0000000000000053E-2},{"$f":"IF(N10=\"\",\"\",N10-Q10)","v":0.27},"YJorpqvL",null,"GMT +8",null,"Завтра"]
["БОЛИВИЯ: Дивизион Професиональ - Клаусура","2019.12.23 02:30","Блуминг","Гуабира","p8Mk6UqP",36,null,null,"АНАЛИЗ","1 : 1","0 : 1",1.4,4.75,6,1.5,4,5,{"$f":"IF(L11=\"\",\"\",L11-O11)","v":-0.10000000000000009},{"$f":"IF(M11=\"\",\"\",M11-P11)","v":0.75},{"$f":"IF(N11=\"\",\"\",N11-Q11)","v":1},"OUBDsPNd",null,"GMT +9",null,{"$f":"TODAY()+2","v":"2019-12-25"}]
["ЯМАЙКА: Премьер-лига","2019.12.23 03:00","Mount Pleasant","Кавальер","4ScGI4Z2",99,null,null,"АНАЛИЗ","0 : 1","0 : 0",1.67,3.7,4.5,1.69,3.24,4.66,{"$f":"IF(L12=\"\",\"\",L12-O12)","v":-2.0000000000000018E-2},{"$f":"IF(M12=\"\",\"\",M12-P12)","v":0.45999999999999996},{"$f":"IF(N12=\"\",\"\",N12-Q12)","v":-0.16000000000000014},"YJorpqvL",null,"GMT +10",null,{"$f":"TODAY()+3","v":"2019-12-26"}]
["ЯМАЙКА: Премьер-лига","2019.12.23 04:00","Арнетт Гарденс","Dunbeholden","dzGNGr4F",99,null,null,"АНАЛИЗ","0 : 3","0 : 3",1.89,3.17,4.08,1.93,3,3.86,{"$f":"IF(L13=\"\",\"\",L13-O13)","v":-4.0000000000000036E-2},{"$f":"IF(M13=\"\",\"\",M13-P13)","v":0.16999999999999993},{"$f":"IF(N13=\"\",\"\",N13-Q13)","v":0.2200000000000002},"YJorpqvL",null,"GMT +11",null,{"$f":"TODAY()+4","v":"2019-12-27"}]
["МИР: Клубные товарищеские матчи","2019.12.23 11:00","Нам Дин","Дананг","bg5flTWn",8,null,null,"АНАЛИЗ","2 : 3","0 : 2",3.8,4,1.66,3.8,4,1.66,{"$f":"IF(L14=\"\",\"\",L14-O14)","v":0},{"$f":"IF(M14=\"\",\"\",M14-P14)","v":0},{"$f":"IF(N14=\"\",\"\",N14-Q14)","v":0},"MwJAV8ij",null,"GMT +12",null,{"$f":"TODAY()+5","v":"2019-12-28"}]
["МИР: Клубные товарищеские матчи","2019.12.23 13:30","Куангнинь","Hong Linh Ha Tinh","GnHxsRsA",8,null,null,"АНАЛИЗ",null,null,1.55,3.8,4.75,1.5,4,5,{"$f":"IF(L15=\"\",\"\",L15-O15)","v":5.0000000000000044E-2},{"$f":"IF(M15=\"\",\"\",M15-P15)","v":-0.20000000000000018},{"$f":"IF(N15=\"\",\"\",N15-Q15)","v":-0.25},"MwJAV8ij",null,"GMT +13",null,{"$f":"TODAY()+6","v":"2019-12-29"}]
["АЛБАНИЯ: Суперлига","2019.12.23 14:00","Флямуртари","Теута","fT4kiOAg",17,"GSOlR98g","lQvENR7I","АНАЛИЗ",null,null,3.74,2.83,2.06,3.28,3,2.12,{"$f":"IF(L16=\"\",\"\",L16-O16)","v":0.46000000000000041},{"$f":"IF(M16=\"\",\"\",M16-P16)","v":-0.16999999999999993},{"$f":"IF(N16=\"\",\"\",N16-Q16)","v":-6.0000000000000053E-2},"vsfEMnXl",null,null,null,{"$f":"TODAY()+7","v":"2019-12-30"}]
["ИРАН: Кубок Ирана","2019.12.23 14:30","Shahrdari Mahshahr","Персеполис","z5y27pce",94,null,null,"АНАЛИЗ",null,null,9.3000000000000007,4.68,1.34,7.8,4.2,1.34,{"$f":"IF(L17=\"\",\"\",L17-O17)","v":1.5000000000000009},{"$f":"IF(M17=\"\",\"\",M17-P17)","v":0.47999999999999954},{"$f":"IF(N17=\"\",\"\",N17-Q17)","v":0},"2yJQYcwH"]
["ИРАН: Кубок Ирана","2019.12.23 14:30","Трактор-Сази","Mes Kerman","ITQ664C1",94,null,null,"АНАЛИЗ",null,null,null,null,null,null,null,null,{"$f":"IF(L18=\"\",\"\",L18-O18)","v":""},{"$f":"IF(M18=\"\",\"\",M18-P18)","v":""},{"$f":"IF(N18=\"\",\"\",N18-Q18)","v":""},"2yJQYcwH"]
["СИРИЯ: Первый дивизион","2019.12.23 15:00","Аль-Карамах","Аль-Джазира","I1OadVn1",183,"OAyhonEt","pQFVFM5K","АНАЛИЗ",null,null,1.1000000000000001,9,11.5,1.82,3.24,3.96,{"$f":"IF(L19=\"\",\"\",L19-O19)","v":-0.72},{"$f":"IF(M19=\"\",\"\",M19-P19)","v":5.76},{"$f":"IF(N19=\"\",\"\",N19-Q19)","v":7.54},"vLx7lrI3"]
["САУДОВСКАЯ АРАВИЯ: Кубок Короля","2019.12.23 15:40","Abha","Аль-Таавон","4fMSmrB3",165,null,null,"АНАЛИЗ",null,null,3.2,3.25,2.1,2.2999999999999998,3.9,2.37,{"$f":"IF(L20=\"\",\"\",L20-O20)","v":0.90000000000000036},{"$f":"IF(M20=\"\",\"\",M20-P20)","v":-0.64999999999999991},{"$f":"IF(N20=\"\",\"\",N20-Q20)","v":-0.27},"SnMbBWda"]
["ИРАН: Кубок Ирана","2019.12.23 15:45","Эстеглал Тегеран","Сепахан","pzJhU748",94,null,null,"АНАЛИЗ",null,null,2.27,2.8,3.19,2.27,2.8,3.19,{"$f":"IF(L21=\"\",\"\",L21-O21)","v":0},{"$f":"IF(M21=\"\",\"\",M21-P21)","v":0},{"$f":"IF(N21=\"\",\"\",N21-Q21)","v":0},"2yJQYcwH"]
["ОАЭ: Кубок президента","2019.12.23 15:50","Банияс","Эль-Фуджайра","vkfMbVOD",196,null,null,"АНАЛИЗ",null,null,1.53,4.2,4.75,1.57,4,4.4000000000000004,{"$f":"IF(L22=\"\",\"\",L22-O22)","v":-4.0000000000000036E-2},{"$f":"IF(M22=\"\",\"\",M22-P22)","v":0.20000000000000018},{"$f":"IF(N22=\"\",\"\",N22-Q22)","v":0.34999999999999964},"jBK3n0Rs"]
["ОАЭ: Кубок президента","2019.12.23 15:50","Дибба","Аль-Аин","IugQckvK",196,null,null,"АНАЛИЗ",null,null,5.25,4.75,1.4,5,4.5,1.44,{"$f":"IF(L23=\"\",\"\",L23-O23)","v":0.25},{"$f":"IF(M23=\"\",\"\",M23-P23)","v":0.25},{"$f":"IF(N23=\"\",\"\",N23-Q23)","v":-4.0000000000000036E-2},"jBK3n0Rs"]
["АНГЛИЯ: Лига профессионального развития","2019.12.23 16:00","Бристоль Сити U23","КПР U23","WjgejBhl",198,null,null,"АНАЛИЗ",null,null,2.08,3.78,2.89,2.12,4,2.59,{"$f":"IF(L24=\"\",\"\",L24-O24)","v":-4.0000000000000036E-2},{"$f":"IF(M24=\"\",\"\",M24-P24)","v":-0.2200000000000002},{"$f":"IF(N24=\"\",\"\",N24-Q24)","v":0.30000000000000027},"QZww0Hl9"]
["ИРАН: Кубок Ирана","2019.12.23 16:15","Нафт Мешхед","Шахин Бушехр","WWUA5OR7",94,null,null,"АНАЛИЗ",null,null,1.55,3.7,6.45,1.41,3.6,7.9,{"$f":"IF(L25=\"\",\"\",L25-O25)","v":0.14000000000000012},{"$f":"IF(M25=\"\",\"\",M25-P25)","v":0.10000000000000009},{"$f":"IF(N25=\"\",\"\",N25-Q25)","v":-1.4500000000000002},"2yJQYcwH"]
["МАРОККО: Ботола Про","2019.12.23 17:00","Раджа Бени Меллаль","Мулудиа Оуджа","Glvfbo9s",134,null,null,"АНАЛИЗ",null,null,3.4,2.9,2.1,3.3,2.9,2.15,{"$f":"IF(L26=\"\",\"\",L26-O26)","v":0.10000000000000009},{"$f":"IF(M26=\"\",\"\",M26-P26)","v":0},{"$f":"IF(N26=\"\",\"\",N26-Q26)","v":-4.9999999999999822E-2},"UoFOMiam"]
["НИГЕРИЯ: NNL","2019.12.23 17:00","Квара","Yobe Stars","GO0gG4aK",143,null,null,"АНАЛИЗ",null,null,null,null,null,null,null,null,{"$f":"IF(L27=\"\",\"\",L27-O27)","v":""},{"$f":"IF(M27=\"\",\"\",M27-P27)","v":""},{"$f":"IF(N27=\"\",\"\",N27-Q27)","v":""},"Spg45qar"]
["КАТАР: QSL","2019.12.23 17:10","Аль-Шахания","Аль-Хор","nchboLVe",156,null,null,"АНАЛИЗ",null,null,2.8,3.5,2.2000000000000002,2.62,3.6,2.2000000000000002,{"$f":"IF(L28=\"\",\"\",L28-O28)","v":0.17999999999999972},{"$f":"IF(M28=\"\",\"\",M28-P28)","v":-0.10000000000000009},{"$f":"IF(N28=\"\",\"\",N28-Q28)","v":0},"U7byC5yo"]
["БАХРЕЙН: Премьер-лига","2019.12.23 17:30","Аль-Рифаа","Аль-Шаббаб","d2j9DuoF",28,null,null,"АНАЛИЗ",null,null,1.44,4,6.5,1.57,3.6,5,{"$f":"IF(L29=\"\",\"\",L29-O29)","v":-0.13000000000000012},{"$f":"IF(M29=\"\",\"\",M29-P29)","v":0.39999999999999991},{"$f":"IF(N29=\"\",\"\",N29-Q29)","v":1.5},"I3sIvUSr"]
["БАХРЕЙН: Премьер-лига","2019.12.23 18:00","Манама Клуб","Аль-Хадд","Ew14ELV8",28,null,null,"АНАЛИЗ",null,null,2.87,3.3,2.25,2.5,3.4,2.4,{"$f":"IF(L30=\"\",\"\",L30-O30)","v":0.37000000000000011},{"$f":"IF(M30=\"\",\"\",M30-P30)","v":-0.10000000000000009},{"$f":"IF(N30=\"\",\"\",N30-Q30)","v":-0.14999999999999991},"I3sIvUSr"]
["ГРЕЦИЯ: Суперлига 2","2019.12.23 18:00","Эрготелис","PAE Chania","I3gpLVKk",83,null,null,"АНАЛИЗ",null,null,2.4,3.2,2.77,2.52,3,2.85,{"$f":"IF(L31=\"\",\"\",L31-O31)","v":-0.12000000000000011},{"$f":"IF(M31=\"\",\"\",M31-P31)","v":0.20000000000000018},{"$f":"IF(N31=\"\",\"\",N31-Q31)","v":-8.0000000000000071E-2},"nDSREIRF"]
["ЕГИПЕТ: Премьер-лига","2019.12.23 18:00","Араб Контракторс","Исмаили","YyiAFXj8",69,null,null,"АНАЛИЗ",null,null,3.5,2.87,2.15,2.4,2.87,2.87,{"$f":"IF(L32=\"\",\"\",L32-O32)","v":1.1000000000000001},{"$f":"IF(M32=\"\",\"\",M32-P32)","v":0},{"$f":"IF(N32=\"\",\"\",N32-Q32)","v":-0.7200000000000002},"jFtlAxPf"]
["ОАЭ: Кубок президента","2019.12.23 18:50","Аджман","Аль-Дафра","04rVd9gQ",196,null,null,"АНАЛИЗ",null,null,2.6,3.5,2.25,2.6,3.5,2.25,{"$f":"IF(L33=\"\",\"\",L33-O33)","v":0},{"$f":"IF(M33=\"\",\"\",M33-P33)","v":0},{"$f":"IF(N33=\"\",\"\",N33-Q33)","v":0},"jBK3n0Rs"]
["ОАЭ: Кубок президента","2019.12.23 18:50","Аль-Шаржа","Hatta","Cr6vznnD",196,null,null,"АНАЛИЗ",null,null,1.33,4.5,7,1.4,4.33,6,{"$f":"IF(L34=\"\",\"\",L34-O34)","v":-6.999999999999984E-2},{"$f":"IF(M34=\"\",\"\",M34-P34)","v":0.16999999999999993},{"$f":"IF(N34=\"\",\"\",N34-Q34)","v":1},"jBK3n0Rs"]
["ГРЕЦИЯ: Суперлига","2019.12.23 19:00","ПАОК","Атромитос","63GuBhJg",83,null,null,"АНАЛИЗ",null,null,1.1599999999999999,7,15,1.25,5,10,{"$f":"IF(L35=\"\",\"\",L35-O35)","v":-9.000000000000008E-2},{"$f":"IF(M35=\"\",\"\",M35-P35)","v":2},{"$f":"IF(N35=\"\",\"\",N35-Q35)","v":5},"lr6YRvfm"]
["МИР: Arab Club Champions Cup","2019.12.23 19:00","Аль-Шабаб","Аль-Шорта","IPUNBLxD",8,null,null,"АНАЛИЗ",null,null,null,null,null,null,null,null,{"$f":"IF(L36=\"\",\"\",L36-O36)","v":""},{"$f":"IF(M36=\"\",\"\",M36-P36)","v":""},{"$f":"IF(N36=\"\",\"\",N36-Q36)","v":""},"K47bv50K"]
["ТУРЦИЯ: 1. Lig","2019.12.23 19:00","Гиресунспор","Алтынорду","ze8PP9g9",191,null,null,"АНАЛИЗ",null,null,1.95,3.4,3.8,1.8,3.4,3.8,{"$f":"IF(L37=\"\",\"\",L37-O37)","v":0.14999999999999991},{"$f":"IF(M37=\"\",\"\",M37-P37)","v":0},{"$f":"IF(N37=\"\",\"\",N37-Q37)","v":0},"2BVscssI"]
["КАТАР: QSL","2019.12.23 19:20","Аль-Ахли Доха","Al-Duhail","bXe2puo2",156,null,null,"АНАЛИЗ",null,null,4.5,4.5,1.53,5,5,1.4,{"$f":"IF(L38=\"\",\"\",L38-O38)","v":-0.5},{"$f":"IF(M38=\"\",\"\",M38-P38)","v":-0.5},{"$f":"IF(N38=\"\",\"\",N38-Q38)","v":0.13000000000000012},"U7byC5yo"]
["КАТАР: QSL","2019.12.23 19:20","Аль-Гарафа","Аль-Садд","Czpp9ON2",156,null,null,"АНАЛИЗ",null,null,3.4,3.8,1.8,3.8,4,1.66,{"$f":"IF(L39=\"\",\"\",L39-O39)","v":-0.39999999999999991},{"$f":"IF(M39=\"\",\"\",M39-P39)","v":-0.20000000000000018},{"$f":"IF(N39=\"\",\"\",N39-Q39)","v":0.14000000000000012},"U7byC5yo"]
["ГАМБИЯ: Лига","2019.12.23 19:30","Fortune","Marimoo","ED70OJQl",79,null,null,"АНАЛИЗ",null,null,null,null,null,null,null,null,{"$f":"IF(L40=\"\",\"\",L40-O40)","v":""},{"$f":"IF(M40=\"\",\"\",M40-P40)","v":""},{"$f":"IF(N40=\"\",\"\",N40-Q40)","v":""},"WSAax136"]
["МАВРИТАНИЯ: Лига 1","2019.12.23 19:30","Нуадибу","Medine","fPGoo6R5",126,null,null,"АНАЛИЗ",null,null,1.66,3.7,4.16,1.63,3.6,4.5199999999999996,{"$f":"IF(L41=\"\",\"\",L41-O41)","v":3.0000000000000027E-2},{"$f":"IF(M41=\"\",\"\",M41-P41)","v":0.10000000000000009},{"$f":"IF(N41=\"\",\"\",N41-Q41)","v":-0.35999999999999943},"2qJGtIBH"]
["БАХРЕЙН: Премьер-лига","2019.12.23 20:00","Ист Риффа","Аль-Мухаррак","lA8GBJFR",28,null,null,"АНАЛИЗ",null,null,3.5,3.75,1.83,2.8,3.5,2.1,{"$f":"IF(L42=\"\",\"\",L42-O42)","v":0.70000000000000018},{"$f":"IF(M42=\"\",\"\",M42-P42)","v":0.25},{"$f":"IF(N42=\"\",\"\",N42-Q42)","v":-0.27},"I3sIvUSr"]
["МИР: Клубные товарищеские матчи","2019.12.23 20:00","Гвадалахара","Тампико Мадеро","xp4bmmng",8,null,null,"АНАЛИЗ",null,null,null,null,null,null,null,null,{"$f":"IF(L43=\"\",\"\",L43-O43)","v":""},{"$f":"IF(M43=\"\",\"\",M43-P43)","v":""},{"$f":"IF(N43=\"\",\"\",N43-Q43)","v":""},"MwJAV8ij"]
["ТУРЦИЯ: Суперлига","2019.12.23 20:00","Денизлиспор","Аланияспор","lYOqbgVD",191,null,null,"АНАЛИЗ",null,null,3.8,3.6,1.9,2.87,3.3,2.4,{"$f":"IF(L44=\"\",\"\",L44-O44)","v":0.92999999999999972},{"$f":"IF(M44=\"\",\"\",M44-P44)","v":0.30000000000000027},{"$f":"IF(N44=\"\",\"\",N44-Q44)","v":-0.5},"A146aXLs"]
["ТУРЦИЯ: Суперлига","2019.12.23 20:00","Коньяспор","Трабзонспор","OUuMrEVQ",191,null,null,"АНАЛИЗ",null,null,3.5,3.5,2.0499999999999998,3.25,3.3,2.2000000000000002,{"$f":"IF(L45=\"\",\"\",L45-O45)","v":0.25},{"$f":"IF(M45=\"\",\"\",M45-P45)","v":0.20000000000000018},{"$f":"IF(N45=\"\",\"\",N45-Q45)","v":-0.15000000000000036},"A146aXLs"]
["ЕГИПЕТ: Премьер-лига","2019.12.23 20:30","Аль-Ахли","Аль-Иттихад","KY2SjlE7",69,null,null,"АНАЛИЗ",null,null,1.4,3.8,7.5,1.61,3.4,5,{"$f":"IF(L46=\"\",\"\",L46-O46)","v":-0.21000000000000019},{"$f":"IF(M46=\"\",\"\",M46-P46)","v":0.39999999999999991},{"$f":"IF(N46=\"\",\"\",N46-Q46)","v":2.5},"jFtlAxPf"]
["ИЗРАИЛЬ: Первая лига","2019.12.23 20:40","Хапоэль Петах-Тиква","Хапоэль Афула","WfecgIhA",97,null,null,"АНАЛИЗ",null,null,2,3.1,3.8,1.72,3.2,4.5,{"$f":"IF(L47=\"\",\"\",L47-O47)","v":0.28000000000000003},{"$f":"IF(M47=\"\",\"\",M47-P47)","v":-0.10000000000000009},{"$f":"IF(N47=\"\",\"\",N47-Q47)","v":-0.70000000000000018},"KORgCTxD"]
["МАВРИТАНИЯ: Лига 1","2019.12.23 21:30","АСАК Конкорд","Полис","xlMtnnCa",126,null,null,"АНАЛИЗ",null,null,1.67,3.3,4.5999999999999996,1.69,3.3,4.6399999999999997,{"$f":"IF(L48=\"\",\"\",L48-O48)","v":-2.0000000000000018E-2},{"$f":"IF(M48=\"\",\"\",M48-P48)","v":0},{"$f":"IF(N48=\"\",\"\",N48-Q48)","v":-4.0000000000000036E-2},"2qJGtIBH"]
["АНГЛИЯ: Чемпионшип","2019.12.23 22:45","Блэкберн","Уиган","pvTYblHd",198,null,null,"АНАЛИЗ",null,null,1.72,3.6,4.75,1.85,3.6,4,{"$f":"IF(L49=\"\",\"\",L49-O49)","v":-0.13000000000000012},{"$f":"IF(M49=\"\",\"\",M49-P49)","v":0},{"$f":"IF(N49=\"\",\"\",N49-Q49)","v":0.75},"2i9E8WOB"]
[null,null,null,null,null,null,null,null,null,null,null,null,null,null,null,null,null,{"$f":"IF(L50=\"\",\"\",L50-O50)","v":""},{"$f":"IF(M50=\"\",\"\",M50-P50)","v":""},{"$f":"IF(N50=\"\",\"\",N50-Q50)","v":""}]
[null,null,null,null,null,null,null,null,null,null,null,null,null,null,null,null,null,{"$f":"IF(L51=\"\",\"\",L51-O51)","v":""},{"$f":"IF(M51=\"\",\"\",M51-P51)","v":""},{"$f":"IF(N51=\"\",\"\",N51-Q51)","v":""}]
[null,null,null,null,null,null,null,null,null,null,null,null,null,null,null,null,null,{"$f":"IF(L52=\"\",\"\",L52-O52)","v":""},{"$f":"IF(M52=\"\",\"\",M52-P52)","v":""},{"$f":"IF(N52=\"\",\"\",N52-Q52)","v":""}]
[null,null,null,null,null,null,null,null,null,null,null,null,null,null,null,null,null,{"$f":"IF(L53=\"\",\"\",L53-O53)","v":""},{"$f":"IF(M53=\"\",\"\",M53-P53)","v":""},{"$f":"IF(N53=\"\",\"\",N53-Q53)","v":""}]
[null,null,null,null,null,null,null,null,null,null,null,null,null,null,null,null,null,{"$f":"IF(L54=\"\",\"\",L54-O54)","v":""},{"$f":"IF(M54=\"\",\"\",M54-P54)","v":""},{"$f":"IF(N54=\"\",\"\",N54-Q54)","v":""}]
[null,null,null,null,null,null,null,null,null,null,null,null,null,null,null,null,null,{"$f":"IF(L55=\"\",\"\",L55-O55)","v":""},{"$f":"IF(M55=\"\",\"\",M55-P55)","v":""},{"$f":"IF(N55=\"\",\"\",N55-Q55)","v":""}]
[null,null,null,null,null,null,null,null,null,null,null,null,null,null,null,null,null,{"$f":"IF(L56=\"\",\"\",L56-O56)","v":""},{"$f":"IF(M56=\"\",\"\",M56-P56)","v":""},{"$f":"IF(N56=\"\",\"\",N56-Q56)","v":""}]
[null,null,null,null,null,null,null,null,null,null,null,null,null,null,null,null,null,{"$f":"IF(L57=\"\",\"\",L57-O57)","v":""},{"$f":"IF(M57=\"\",\"\",M57-P57)","v":""},{"$f":"IF(N57=\"\",\"\",N57-Q57)","v":""}]
[null,null,null,null,null,null,null,null,null,null,null,null,null,null,null,null,null,{"$f":"IF(L58=\"\",\"\",L58-O58)","v":""},{"$f":"IF(M58=\"\",\"\",M58-P58)","v":""},{"$f":"IF(N58=\"\",\"\",N58-Q58)","v":""}]
[null,null,null,null,null,null,null,null,null,null,null,null,null,null,null,null,null,{"$f":"IF(L59=\"\",\"\",L59-O59)","v":""},{"$f":"IF(M59=\"\",\"\",M59-P59)","v":""},{"$f":"IF(N59=\"\",\"\",N59-Q59)","v":""}]
[null,null,null,null,null,null,null,null,null,null,null,null,null,null,null,null,null,{"$f":"IF(L60=\"\",\"\",L60-O60)","v":""},{"$f":"IF(M60=\"\",\"\",M60-P60)","v":""},{"$f":"IF(N60=\"\",\"\",N60-Q60)","v":""}]
[null,null,null,null,null,null,null,null,null,null,null,null,null,null,null,null,null,{"$f":"IF(L61=\"\",\"\",L61-O61)","v":""},{"$f":"IF(M61=\"\",\"\",M61-P61)","v":""},{"$f":"IF(N61=\"\",\"\",N61-Q61)","v":""}]
[null,null,null,null,null,null,null,null,null,null,null,null,null,null,null,null,null,{"$f":"IF(L62=\"\",\"\",L62-O62)","v":""},{"$f":"IF(M62=\"\",\"\",M62-P62)","v":""},{"$f":"IF(N62=\"\",\"\",N62-Q62)","v":""}]
[null,null,null,null,null,null,null,null,null,null,null,null,null,null,null,null,null,{"$f":"IF(L63=\"\",\"\",L63-O63)","v":""},{"$f":"IF(M63=\"\",\"\",M63-P63)","v":""},{"$f":"IF(N63=\"\",\"\",N63-Q63)","v":""}]
[null,null,null,null,null,null,null,null,null,null,null,null,null,null,null,null,null,{"$f":"IF(L64=\"\",\"\",L64-O64)","v":""},{"$f":"IF(M64=\"\",\"\",M64-P64)","v":""},{"$f":"IF(N64=\"\",\"\",N64-Q64)","v":""}]
[null,null,null,null,null,null,null,null,null,null,null,null,null,null,null,null,null,{"$f":"IF(L65=\"\",\"\",L65-O65)","v":""},{"$f":"IF(M65=\"\",\"\",M65-P65)","v":""},{"$f":"IF(N65=\"\",\"\",N65-Q65)","v":""}]
[null,null,null,null,null,null,null,null,null,null,null,null,null,null,null,null,null,{"$f":"IF(L66=\"\",\"\",L66-O66)","v":""},{"$f":"IF(M66=\"\",\"\",M66-P66)","v":""},{"$f":"IF(N66=\"\",\"\",N66-Q66)","v":""}]
[null,null,null,null,null,null,null,null,null,null,null,null,null,null,null,null,null,{"$f":"IF(L67=\"\",\"\",L67-O67)","v":""},{"$f":"IF(M67=\"\",\"\",M67-P67)","v":""},{"$f":"IF(N67=\"\",\"\",N67-Q67)","v":""}]
[null,null,null,null,null,null,null,null,null,null,null,null,null,null,null,null,null,{"$f":"IF(L68=\"\",\"\",L68-O68)","v":""},{"$f":"IF(M68=\"\",\"\",M68-P68)","v":""},{"$f":"IF(N68=\"\",\"\",N68-Q68)","v":""}]
[null,null,null,null,null,null,null,null,null,null,null,null,null,null,null,null,null,{"$f":"IF(L69=\"\",\"\",L69-O69)","v":""},{"$f":"IF(M69=\"\",\"\",M69-P69)","v":""},{"$f":"IF(N69=\"\",\"\",N69-Q69)","v":""}]
[null,null,null,null,null,null,null,null,null,null,null,null,null,null,null,null,null,{"$f":"IF(L70=\"\",\"\",L70-O70)","v":""},{"$f":"IF(M70=\"\",\"\",M70-P70)","v":""},{"$f":"IF(N70=\"\",\"\",N70-Q70)","v":""}]
[null,null,null,null,null,null,null,null,null,null,null,null,null,null,null,null,null,{"$f":"IF(L71=\"\",\"\",L71-O71)","v":""},{"$f":"IF(M71=\"\",\"\",M71-P71)","v":""},{"$f":"IF(N71=\"\",\"\",N71-Q71)","v":""}]
[null,null,null,null,null,null,null,null,null,null,null,null,null,null,null,null,null,{"$f":"IF(L72=\"\",\"\",L72-O72)","v":""},{"$f":"IF(M72=\"\",\"\",M72-P72)","v":""},{"$f":"IF(N72=\"\",\"\",N72-Q72)","v":""}]
[null,null,null,null,null,null,null,null,null,null,null,null,null,null,null,null,null,{"$f":"IF(L73=\"\",\"\",L73-O73)","v":""},{"$f":"IF(M73=\"\",\"\",M73-P73)","v":""},{"$f":"IF(N73=\"\",\"\",N73-Q73)","v":""}]
[null,null,null,null,null,null,null,null,null,null,null,null,null,null,null,null,null,{"$f":"IF(L74=\"\",\"\",L74-O74)","v":""},{"$f":"IF(M74=\"\",\"\",M74-P74)","v":""},{"$f":"IF(N74=\"\",\"\",N74-Q74)","v":""}]
[null,null,null,null,null,null,null,null,null,null,null,null,null,null,null,null,null,{"$f":"IF(L75=\"\",\"\",L75-O75)","v":""},{"$f":"IF(M75=\"\",\"\",M75-P75)","v":""},{"$f":"IF(N75=\"\",\"\",N75-Q75)","v":""}]
[null,null,null,null,null,null,null,null,null,null,null,null,null,null,null,null,null,{"$f":"IF(L76=\"\",\"\",L76-O76)","v":""},{"$f":"IF(M76=\"\",\"\",M76-P76)","v":""},{"$f":"IF(N76=\"\",\"\",N76-Q76)","v":""}]
[null,null,null,null,null,null,null,null,null,null,null,null,null,null,null,null,null,{"$f":"IF(L77=\"\",\"\",L77-O77)","v":""},{"$f":"IF(M77=\"\",\"\",M77-P77)","v":""},{"$f":"IF(N77=\"\",\"\",N77-Q77)","v":""}]
[null,null,null,null,null,null,null,null,null,null,null,null,null,null,null,null,null,{"$f":"IF(L78=\"\",\"\",L78-O78)","v":""},{"$f":"IF(M78=\"\",\"\",M78-P78)","v":""},{"$f":"IF(N78=\"\",\"\",N78-Q78)","v":""}]
[null,null,null,null,null,null,null,null,null,null,null,null,null,null,null,null,null,{"$f":"IF(L79=\"\",\"\",L79-O79)","v":""},{"$f":"IF(M79=\"\",\"\",M79-P79)","v":""},{"$f":"IF(N79=\"\",\"\",N79-Q79)","v":""}]
[null,null,null,null,null,null,null,null,null,null,null,null,null,null,null,null,null,{"$f":"IF(L80=\"\",\"\",L80-O80)","v":""},{"$f":"IF(M80=\"\",\"\",M80-P80)","v":""},{"$f":"IF(N80=\"\",\"\",N80-Q80)","v":""}]
[null,null,null,null,null,null,null,null,null,null,null,null,null,null,null,null,null,{"$f":"IF(L81=\"\",\"\",L81-O81)","v":""},{"$f":"IF(M81=\"\",\"\",M81-P81)","v":""},{"$f":"IF(N81=\"\",\"\",N81-Q81)","v":""}]
[null,null,null,null,null,null,null,null,null,null,null,null,null,null,null,null,null,{"$f":"IF(L82=\"\",\"\",L82-O82)","v":""},{"$f":"IF(M82=\"\",\"\",M82-P82)","v":""},{"$f":"IF(N82=\"\",\"\",N82-Q82)","v":""}]
[null,null,null,null,null,null,null,null,null,null,null,null,null,null,null,null,null,{"$f":"IF(L83=\"\",\"\",L83-O83)","v":""},{"$f":"IF(M83=\"\",\"\",M83-P83)","v":""},{"$f":"IF(N83=\"\",\"\",N83-Q83)","v":""}]
[null,null,null,null,null,null,null,null,null,null,null,null,null,null,null,null,null,{"$f":"IF(L84=\"\",\"\",L84-O84)","v":""},{"$f":"IF(M84=\"\",\"\",M84-P84)","v":""},{"$f":"IF(N84=\"\",\"\",N84-Q84)","v":""}]
[null,null,null,null,null,null,null,null,null,null,null,null,null,null,null,null,null,{"$f":"IF(L85=\"\",\"\",L85-O85)","v":""},{"$f":"IF(M85=\"\",\"\",M85-P85)","v":""},{"$f":"IF(N85=\"\",\"\",N85-Q85)","v":""}]
[null,null,null,null,null,null,null,null,null,null,null,null,null,null,null,null,null,{"$f":"IF(L86=\"\",\"\",L86-O86)","v":""},{"$f":"IF(M86=\"\",\"\",M86-P86)","v":""},{"$f":"IF(N86=\"\",\"\",N86-Q86)","v":""}]
[null,null,null,null,null,null,null,null,null,null,null,null,null,null,null,null,null,{"$f":"IF(L87=\"\",\"\",L87-O87)","v":""},{"$f":"IF(M87=\"\",\"\",M87-P87)","v":""},{"$f":"IF(N87=\"\",\"\",N87-Q87)","v":""}]
[null,null,null,null,null,null,null,null,null,null,null,null,null,null,null,null,null,{"$f":"IF(L88=\"\",\"\",L88-O88)","v":""},{"$f":"IF(M88=\"\",\"\",M88-P88)","v":""},{"$f":"IF(N88=\"\",\"\",N88-Q88)","v":""}]
[null,null,null,null,null,null,null,null,null,null,null,null,null,null,null,null,null,{"$f":"IF(L89=\"\",\"\",L89-O89)","v":""},{"$f":"IF(M89=\"\",\"\",M89-P89)","v":""},{"$f":"IF(N89=\"\",\"\",N89-Q89)","v":""}]
[null,null,null,null,null,null,null,null,null,null,null,null,null,null,null,null,null,{"$f":"IF(L90=\"\",\"\",L90-O90)","v":""},{"$f":"IF(M90=\"\",\"\",M90-P90)","v":""},{"$f":"IF(N90=\"\",\"\",N90-Q90)","v":""}]
[null,null,null,null,null,null,null,null,null,null,null,null,null,null,null,null,null,{"$f":"IF(L91=\"\",\"\",L91-O91)","v":""},{"$f":"IF(M91=\"\",\"\",M91-P91)","v":""},{"$f":"IF(N91=\"\",\"\",N91-Q91)","v":""}]
[null,null,null,null,null,null,null,null,null,null,null,null,null,null,null,null,null,{"$f":"IF(L92=\"\",\"\",L92-O92)","v":""},{"$f":"IF(M92=\"\",\"\",M92-P92)","v":""},{"$f":"IF(N92=\"\",\"\",N92-Q92)","v":""}]
[null,null,null,null,null,null,null,null,null,null,null,null,null,null,null,null,null,{"$f":"IF(L93=\"\",\"\",L93-O93)","v":""},{"$f":"IF(M93=\"\",\"\",M93-P93)","v":""},{"$f":"IF(N93=\"\",\"\",N93-Q93)","v":""}]
[null,null,null,null,null,null,null,null,null,null,null,null,null,null,null,null,null,{"$f":"IF(L94=\"\",\"\",L94-O94)","v":""},{"$f":"IF(M94=\"\",\"\",M94-P94)","v":""},{"$f":"IF(N94=\"\",\"\",N94-Q94)","v":""}]
[null,null,null,null,null,null,null,null,null,null,null,null,null,null,null,null,null,{"$f":"IF(L95=\"\",\"\",L95-O95)","v":""},{"$f":"IF(M95=\"\",\"\",M95-P95)","v":""},{"$f":"IF(N95=\"\",\"\",N95-Q95)","v":""}]
[null,null,null,null,null,null,null,null,null,null,null,null,null,null,null,null,null,{"$f":"IF(L96=\"\",\"\",L96-O96)","v":""},{"$f":"IF(M96=\"\",\"\",M96-P96)","v":""},{"$f":"IF(N96=\"\",\"\",N96-Q96)","v":""}]
[null,null,null,null,null,null,null,null,null,null,null,null,null,null,null,null,null,{"$f":"IF(L97=\"\",\"\",L97-O97)","v":""},{"$f":"IF(M97=\"\",\"\",M97-P97)","v":""},{"$f":"IF(N97=\"\",\"\",N97-Q97)","v":""}]
[null,null,null,null,null,null,null,null,null,null,null,null,null,null,null,null,null,{"$f":"IF(L98=\"\",\"\",L98-O98)","v":""},{"$f":"IF(M98=\"\",\"\",M98-P98)","v":""},{"$f":"IF(N98=\"\",\"\",N98-Q98)","v":""}]
[null,null,null,null,null,null,null,null,null,null,null,null,null,null,null,null,null,{"$f":"IF(L99=\"\",\"\",L99-O99)","v":""},{"$f":"IF(M99=\"\",\"\",M99-P99)","v":""},{"$f":"IF(N99=\"\",\"\",N99-Q99)","v":""}]
[null,null,null,null,null,null,null,null,null,null,null,null,null,null,null,null,null,{"$f":"IF(L100=\"\",\"\",L100-O100)","v":""},{"$f":"IF(M100=\"\",\"\",M100-P100)","v":""},{"$f":"IF(N100=\"\",\"\",N100-Q100)","v":""}]
[null,null,null,null,null,null,null,null,null,null,null,null,null,null,null,null,null,{"$f":"IF(L101=\"\",\"\",L101-O101)","v":""},{"$f":"IF(M101=\"\",\"\",M101-P101)","v":""},{"$f":"IF(N101=\"\",\"\",N101-Q101)","v":""}]
[null,null,null,null,null,null,null,null,null,null,null,null,null,null,null,null,null,{"$f":"IF(L102=\"\",\"\",L102-O102)","v":""},{"$f":"IF(M102=\"\",\"\",M102-P102)","v":""},{"$f":"IF(N102=\"\",\"\",N102-Q102)","v":""}]
[null,null,null,null,null,null,null,null,null,null,null,null,null,null,null,null,null,{"$f":"IF(L103=\"\",\"\",L103-O103)","v":""},{"$f":"IF(M103=\"\",\"\",M103-P103)","v":""},{"$f":"IF(N103=\"\",\"\",N103-Q103)","v":""}]
[null,null,null,null,null,null,null,null,null,null,null,null,null,null,null,null,null,{"$f":"IF(L104=\"\",\"\",L104-O104)","v":""},{"$f":"IF(M104=\"\",\"\",M104-P104)","v":""},{"$f":"IF(N104=\"\",\"\",N104-Q104)","v":""}]
[null,null,null,null,null,null,null,null,null,null,null,null,null,null,null,null,null,{"$f":"IF(L105=\"\",\"\",L105-O105)","v":""},{"$f":"IF(M105=\"\",\"\",M105-P105)","v":""},{"$f":"IF(N105=\"\",\"\",N105-Q105)","v":""}]
[null,null,null,null,null,null,null,null,null,null,null,null,null,null,null,null,null,{"$f":"IF(L106=\"\",\"\",L106-O106)","v":""},{"$f":"IF(M106=\"\",\"\",M106-P106)","v":""},{"$f":"IF(N106=\"\",\"\",N106-Q106)","v":""}]
[null,null,null,null,null,null,null,null,null,null,null,null,null,null,null,null,null,{"$f":"IF(L107=\"\",\"\",L107-O107)","v":""},{"$f":"IF(M107=\"\",\"\",M107-P107)","v":""},{"$f":"IF(N107=\"\",\"\",N107-Q107)","v":""}]
[null,null,null,null,null,null,null,null,null,null,null,null,null,null,null,null,null,{"$f":"IF(L108=\"\",\"\",L108-O108)","v":""},{"$f":"IF(M108=\"\",\"\",M108-P108)","v":""},{"$f":"IF(N108=\"\",\"\",N108-Q108)","v":""}]
[null,null,null,null,null,null,null,null,null,null,null,null,null,null,null,null,null,{"$f":"IF(L109=\"\",\"\",L109-O109)","v":""},{"$f":"IF(M109=\"\",\"\",M109-P109)","v":""},{"$f":"IF(N109=\"\",\"\",N109-Q109)","v":""}]
[null,null,null,null,null,null,null,null,null,null,null,null,null,null,null,null,null,{"$f":"IF(L110=\"\",\"\",L110-O110)","v":""},{"$f":"IF(M110=\"\",\"\",M110-P110)","v":""},{"$f":"IF(N110=\"\",\"\",N110-Q110)","v":""}]
[null,null,null,null,null,null,null,null,null,null,null,null,null,null,null,null,null,{"$f":"IF(L111=\"\",\"\",L111-O111)","v":""},{"$f":"IF(M111=\"\",\"\",M111-P111)","v":""},{"$f":"IF(N111=\"\",\"\",N111-Q111)","v":""}]
[null,null,null,null,null,null,null,null,null,null,null,null,null,null,null,null,null,{"$f":"IF(L112=\"\",\"\",L112-O112)","v":""},{"$f":"IF(M112=\"\",\"\",M112-P112)","v":""},{"$f":"IF(N112=\"\",\"\",N112-Q112)","v":""}]
[null,null,null,null,null,null,null,null,null,null,null,null,null,null,null,null,null,{"$f":"IF(L113=\"\",\"\",L113-O113)","v":""},{"$f":"IF(M113=\"\",\"\",M113-P113)","v":""},{"$f":"IF(N113=\"\",\"\",N113-Q113)","v":""}]
[null,null,null,null,null,null,null,null,null,null,null,null,null,null,null,null,null,{"$f":"IF(L114=\"\",\"\",L114-O114)","v":""},{"$f":"IF(M114=\"\",\"\",M114-P114)","v":""},{"$f":"IF(N114=\"\",\"\",N114-Q114)","v":""}]
[null,null,null,null,null,null,null,null,null,null,null,null,null,null,null,null,null,{"$f":"IF(L115=\"\",\"\",L115-O115)","v":""},{"$f":"IF(M115=\"\",\"\",M115-P115)","v":""},{"$f":"IF(N115=\"\",\"\",N115-Q115)","v":""}]
[null,null,null,null,null,null,null,null,null,null,null,null,null,null,null,null,null,{"$f":"IF(L116=\"\",\"\",L116-O116)","v":""},{"$f":"IF(M116=\"\",\"\",M116-P116)","v":""},{"$f":"IF(N116=\"\",\"\",N116-Q116)","v":""}]
[null,null,null,null,null,null,null,null,null,null,null,null,null,null,null,null,null,{"$f":"IF(L117=\"\",\"\",L117-O117)","v":""},{"$f":"IF(M117=\"\",\"\",M117-P117)","v":""},{"$f":"IF(N117=\"\",\"\",N117-Q117)","v":""}]
[null,null,null,null,null,null,null,null,null,null,null,null,null,null,null,null,null,{"$f":"IF(L118=\"\",\"\",L118-O118)","v":""},{"$f":"IF(M118=\"\",\"\",M118-P118)","v":""},{"$f":"IF(N118=\"\",\"\",N118-Q118)","v":""}]
[null,null,null,null,null,null,null,null,null,null,null,null,null,null,null,null,null,{"$f":"IF(L119=\"\",\"\",L119-O119)","v":""},{"$f":"IF(M119=\"\",\"\",M119-P119)","v":""},{"$f":"IF(N119=\"\",\"\",N119-Q119)","v":""}]
[null,null,null,null,null,null,null,null,null,null,null,null,null,null,null,null,null,{"$f":"IF(L120=\"\",\"\",L120-O120)","v":""},{"$f":"IF(M120=\"\",\"\",M120-P120)","v":""},{"$f":"IF(N120=\"\",\"\",N120-Q120)","v":""}]
[null,null,null,null,null,null,null,null,null,null,null,null,null,null,null,null,null,{"$f":"IF(L121=\"\",\"\",L121-O121)","v":""},{"$f":"IF(M121=\"\",\"\",M121-P121)","v":""},{"$f":"IF(N121=\"\",\"\",N121-Q121)","v":""}]
[null,null,null,null,null,null,null,null,null,null,null,null,null,null,null,null,null,{"$f":"IF(L122=\"\",\"\",L122-O122)","v":""},{"$f":"IF(M122=\"\",\"\",M122-P122)","v":""},{"$f":"IF(N122=\"\",\"\",N122-Q122)","v":""}]
[null,null,null,null,null,null,null,null,null,null,null,null,null,null,null,null,null,{"$f":"IF(L123=\"\",\"\",L123-O123)","v":""},{"$f":"IF(M123=\"\",\"\",M123-P123)","v":""},{"$f":"IF(N123=\"\",\"\",N123-Q123)","v":""}]
[null,null,null,null,null,null,null,null,null,null,null,null,null,null,null,null,null,{"$f":"IF(L124=\"\",\"\",L124-O124)","v":""},{"$f":"IF(M124=\"\",\"\",M124-P124)","v":""},{"$f":"IF(N124=\"\",\"\",N124-Q124)","v":""}]
[null,null,null,null,null,null,null,null,null,null,null,null,null,null,null,null,null,{"$f":"IF(L125=\"\",\"\",L125-O125)","v":""},{"$f":"IF(M125=\"\",\"\",M125-P125)","v":""},{"$f":"IF(N125=\"\",\"\",N125-Q125)","v":""}]
[null,null,null,null,null,null,null,null,null,null,null,null,null,null,null,null,null,{"$f":"IF(L126=\"\",\"\",L126-O126)","v":""},{"$f":"IF(M126=\"\",\"\",M126-P126)","v":""},{"$f":"IF(N126=\"\",\"\",N126-Q126)","v":""}]
[null,null,null,null,null,null,null,null,null,null,null,null,null,null,null,null,null,{"$f":"IF(L127=\"\",\"\",L127-O127)","v":""},{"$f":"IF(M127=\"\",\"\",M127-P127)","v":""},{"$f":"IF(N127=\"\",\"\",N127-Q127)","v":""}]
[null,null,null,null,null,null,null,null,null,null,null,null,null,null,null,null,null,{"$f":"IF(L128=\"\",\"\",L128-O128)","v":""},{"$f":"IF(M128=\"\",\"\",M128-P128)","v":""},{"$f":"IF(N128=\"\",\"\",N128-Q128)","v":""}]
[null,null,null,null,null,null,null,null,null,null,null,null,null,null,null,null,null,{"$f":"IF(L129=\"\",\"\",L129-O129)","v":""},{"$f":"IF(M129=\"\",\"\",M129-P129)","v":""},{"$f":"IF(N129=\"\",\"\",N129-Q129)","v":""}]
[null,null,null,null,null,null,null,null,null,null,null,null,null,null,null,null,null,{"$f":"IF(L130=\"\",\"\",L130-O130)","v":""},{"$f":"IF(M130=\"\",\"\",M130-P130)","v":""},{"$f":"IF(N130=\"\",\"\",N130-Q130)","v":""}]
[null,null,null,null,null,null,null,null,null,null,null,null,null,null,null,null,null,{"$f":"IF(L131=\"\",\"\",L131-O131)","v":""},{"$f":"IF(M131=\"\",\"\",M131-P131)","v":""},{"$f":"IF(N131=\"\",\"\",N131-Q131)","v":""}]
[null,null,null,null,null,null,null,null,null,null,null,null,null,null,null,null,null,{"$f":"IF(L132=\"\",\"\",L132-O132)","v":""},{"$f":"IF(M132=\"\",\"\",M132-P132)","v":""},{"$f":"IF(N132=\"\",\"\",N132-Q132)","v":""}]
[null,null,null,null,null,null,null,null,null,null,null,null,null,null,null,null,null,{"$f":"IF(L133=\"\",\"\",L133-O133)","v":""},{"$f":"IF(M133=\"\",\"\",M133-P133)","v":""},{"$f":"IF(N133=\"\",\"\",N133-Q133)","v":""}]
[null,null,null,null,null,null,null,null,null,null,null,null,null,null,null,null,null,{"$f":"IF(L134=\"\",\"\",L134-O134)","v":""},{"$f":"IF(M134=\"\",\"\",M134-P134)","v":""},{"$f":"IF(N134=\"\",\"\",N134-Q134)","v":""}]
[null,null,null,null,null,null,null,null,null,null,null,null,null,null,null,null,null,{"$f":"IF(L135=\"\",\"\",L135-O135)","v":""},{"$f":"IF(M135=\"\",\"\",M135-P135)","v":""},{"$f":"IF(N135=\"\",\"\",N135-Q135)","v":""}]
[null,null,null,null,null,null,null,null,null,null,null,null,null,null,null,null,null,{"$f":"IF(L136=\"\",\"\",L136-O136)","v":""},{"$f":"IF(M136=\"\",\"\",M136-P136)","v":""},{"$f":"IF(N136=\"\",\"\",N136-Q136)","v":""}]
[null,null,null,null,null,null,null,null,null,null,null,null,null,null,null,null,null,{"$f":"IF(L137=\"\",\"\",L137-O137)","v":""},{"$f":"IF(M137=\"\",\"\",M137-P137)","v":""},{"$f":"IF(N137=\"\",\"\",N137-Q137)","v":""}]
[null,null,null,null,null,null,null,null,null,null,null,null,null,null,null,null,null,{"$f":"IF(L138=\"\",\"\",L138-O138)","v":""},{"$f":"IF(M138=\"\",\"\",M138-P138)","v":""},{"$f":"IF(N138=\"\",\"\",N138-Q138)","v":""}]
[null,null,null,null,null,null,null,null,null,null,null,null,null,null,null,null,null,{"$f":"IF(L139=\"\",\"\",L139-O139)","v":""},{"$f":"IF(M139=\"\",\"\",M139-P139)","v":""},{"$f":"IF(N139=\"\",\"\",N139-Q139)","v":""}]
[null,null,null,null,null,null,null,null,null,null,null,null,null,null,null,null,null,{"$f":"IF(L140=\"\",\"\",L140-O140)","v":""},{"$f":"IF(M140=\"\",\"\",M140-P140)","v":""},{"$f":"IF(N140=\"\",\"\",N140-Q140)","v":""}]
[null,null,null,null,null,null,null,null,null,null,null,null,null,null,null,null,null,{"$f":"IF(L141=\"\",\"\",L141-O141)","v":""},{"$f":"IF(M141=\"\",\"\",M141-P141)","v":""},{"$f":"IF(N141=\"\",\"\",N141-Q141)","v":""}]
[null,null,null,null,null,null,null,null,null,null,null,null,null,null,null,null,null,{"$f":"IF(L142=\"\",\"\",L142-O142)","v":""},{"$f":"IF(M142=\"\",\"\",M142-P142)","v":""},{"$f":"IF(N142=\"\",\"\",N142-Q142)","v":""}]
[null,null,null,null,null,null,null,null,null,null,null,null,null,null,null,null,null,{"$f":"IF(L143=\"\",\"\",L143-O143)","v":""},{"$f":"IF(M143=\"\",\"\",M143-P143)","v":""},{"$f":"IF(N143=\"\",\"\",N143-Q143)","v":""}]
[null,null,null,null,null,null,null,null,null,null,null,null,null,null,null,null,null,{"$f":"IF(L144=\"\",\"\",L144-O144)","v":""},{"$f":"IF(M144=\"\",\"\",M144-P144)","v":""},{"$f":"IF(N144=\"\",\"\",N144-Q144)","v":""}]
[null,null,null,null,null,null,null,null,null,null,null,null,null,null,null,null,null,{"$f":"IF(L145=\"\",\"\",L145-O145)","v":""},{"$f":"IF(M145=\"\",\"\",M145-P145)","v":""},{"$f":"IF(N145=\"\",\"\",N145-Q145)","v":""}]
[null,null,null,null,null,null,null,null,null,null,null,null,null,null,null,null,null,{"$f":"IF(L146=\"\",\"\",L146-O146)","v":""},{"$f":"IF(M146=\"\",\"\",M146-P146)","v":""},{"$f":"IF(N146=\"\",\"\",N146-Q146)","v":""}]
[null,null,null,null,null,null,null,null,null,null,null,null,null,null,null,null,null,{"$f":"IF(L147=\"\",\"\",L147-O147)","v":""},{"$f":"IF(M147=\"\",\"\",M147-P147)","v":""},{"$f":"IF(N147=\"\",\"\",N147-Q147)","v":""}]
[null,null,null,null,null,null,null,null,null,null,null,null,null,null,null,null,null,{"$f":"IF(L148=\"\",\"\",L148-O148)","v":""},{"$f":"IF(M148=\"\",\"\",M148-P148)","v":""},{"$f":"IF(N148=\"\",\"\",N148-Q148)","v":""}]
[null,null,null,null,null,null,null,null,null,null,null,null,null,null,null,null,null,{"$f":"IF(L149=\"\",\"\",L149-O149)","v":""},{"$f":"IF(M149=\"\",\"\",M149-P149)","v":""},{"$f":"IF(N149=\"\",\"\",N149-Q149)","v":""}]
[null,null,null,null,null,null,null,null,null,null,null,null,null,null,null,null,null,{"$f":"IF(L150=\"\",\"\",L150-O150)","v":""},{"$f":"IF(M150=\"\",\"\",M150-P150)","v":""},{"$f":"IF(N150=\"\",\"\",N150-Q150)","v":""}]
[null,null,null,null,null,null,null,null,null,null,null,null,null,null,null,null,null,{"$f":"IF(L151=\"\",\"\",L151-O151)","v":""},{"$f":"IF(M151=\"\",\"\",M151-P151)","v":""},{"$f":"IF(N151=\"\",\"\",N151-Q151)","v":""}]
[null,null,null,null,null,null,null,null,null,null,null,null,null,null,null,null,null,{"$f":"IF(L152=\"\",\"\",L152-O152)","v":""},{"$f":"IF(M152=\"\",\"\",M152-P152)","v":""},{"$f":"IF(N152=\"\",\"\",N152-Q152)","v":""}]
[null,null,null,null,null,null,null,null,null,null,null,null,null,null,null,null,null,{"$f":"IF(L153=\"\",\"\",L153-O153)","v":""},{"$f":"IF(M153=\"\",\"\",M153-P153)","v":""},{"$f":"IF(N153=\"\",\"\",N153-Q153)","v":""}]
[null,null,null,null,null,null,null,null,null,null,null,null,null,null,null,null,null,{"$f":"IF(L154=\"\",\"\",L154-O154)","v":""},{"$f":"IF(M154=\"\",\"\",M154-P154)","v":""},{"$f":"IF(N154=\"\",\"\",N154-Q154)","v":""}]
[null,null,null,null,null,null,null,null,null,null,null,null,null,null,null,null,null,{"$f":"IF(L155=\"\",\"\",L155-O155)","v":""},{"$f":"IF(M155=\"\",\"\",M155-P155)","v":""},{"$f":"IF(N155=\"\",\"\",N155-Q155)","v":""}]
[null,null,null,null,null,null,null,null,null,null,null,null,null,null,null,null,null,{"$f":"IF(L156=\"\",\"\",L156-O156)","v":""},{"$f":"IF(M156=\"\",\"\",M156-P156)","v":""},{"$f":"IF(N156=\"\",\"\",N156-Q156)","v":""}]
[null,null,null,null,null,null,null,null,null,null,null,null,null,null,null,null,null,{"$f":"IF(L157=\"\",\"\",L157-O157)","v":""},{"$f":"IF(M157=\"\",\"\",M157-P157)","v":""},{"$f":"IF(N157=\"\",\"\",N157-Q157)","v":""}]
[null,null,null,null,null,null,null,null,null,null,null,null,null,null,null,null,null,{"$f":"IF(L158=\"\",\"\",L158-O158)","v":""},{"$f":"IF(M158=\"\",\"\",M158-P158)","v":""},{"$f":"IF(N158=\"\",\"\",N158-Q158)","v":""}]
[null,null,null,null,null,null,null,null,null,null,null,null,null,null,null,null,null,{"$f":"IF(L159=\"\",\"\",L159-O159)","v":""},{"$f":"IF(M159=\"\",\"\",M159-P159)","v":""},{"$f":"IF(N159=\"\",\"\",N159-Q159)","v":""}]
[null,null,null,null,null,null,null,null,null,null,null,null,null,null,null,null,null,{"$f":"IF(L160=\"\",\"\",L160-O160)","v":""},{"$f":"IF(M160=\"\",\"\",M160-P160)","v":""},{"$f":"IF(N160=\"\",\"\",N160-Q160)","v":""}]
[null,null,null,null,null,null,null,null,null,null,null,null,null,null,null,null,null,{"$f":"IF(L161=\"\",\"\",L161-O161)","v":""},{"$f":"IF(M161=\"\",\"\",M161-P161)","v":""},{"$f":"IF(N161=\"\",\"\",N161-Q161)","v":""}]
[null,null,null,null,null,null,null,null,null,null,null,null,null,null,null,null,null,{"$f":"IF(L162=\"\",\"\",L162-O162)","v":""},{"$f":"IF(M162=\"\",\"\",M162-P162)","v":""},{"$f":"IF(N162=\"\",\"\",N162-Q162)","v":""}]
[null,null,null,null,null,null,null,null,null,null,null,null,null,null,null,null,null,{"$f":"IF(L163=\"\",\"\",L163-O163)","v":""},{"$f":"IF(M163=\"\",\"\",M163-P163)","v":""},{"$f":"IF(N163=\"\",\"\",N163-Q163)","v":""}]
[null,null,null,null,null,null,null,null,null,null,null,null,null,null,null,null,null,{"$f":"IF(L164=\"\",\"\",L164-O164)","v":""},{"$f":"IF(M164=\"\",\"\",M164-P164)","v":""},{"$f":"IF(N164=\"\",\"\",N164-Q164)","v":""}]
[null,null,null,null,null,null,null,null,null,null,null,null,null,null,null,null,null,{"$f":"IF(L165=\"\",\"\",L165-O165)","v":""},{"$f":"IF(M165=\"\",\"\",M165-P165)","v":""},{"$f":"IF(N165=\"\",\"\",N165-Q165)","v":""}]
[null,null,null,null,null,null,null,null,null,null,null,null,null,null,null,null,null,{"$f":"IF(L166=\"\",\"\",L166-O166)","v":""},{"$f":"IF(M166=\"\",\"\",M166-P166)","v":""},{"$f":"IF(N166=\"\",\"\",N166-Q166)","v":""}]
[null,null,null,null,null,null,null,null,null,null,null,null,null,null,null,null,null,{"$f":"IF(L167=\"\",\"\",L167-O167)","v":""},{"$f":"IF(M167=\"\",\"\",M167-P167)","v":""},{"$f":"IF(N167=\"\",\"\",N167-Q167)","v":""}]
[null,null,null,null,null,null,null,null,null,null,null,null,null,null,null,null,null,{"$f":"IF(L168=\"\",\"\",L168-O168)","v":""},{"$f":"IF(M168=\"\",\"\",M168-P168)","v":""},{"$f":"IF(N168=\"\",\"\",N168-Q168)","v":""}]
[null,null,null,null,null,null,null,null,null,null,null,null,null,null,null,null,null,{"$f":"IF(L169=\"\",\"\",L169-O169)","v":""},{"$f":"IF(M169=\"\",\"\",M169-P169)","v":""},{"$f":"IF(N169=\"\",\"\",N169-Q169)","v":""}]
[null,null,null,null,null,null,null,null,null,null,null,null,null,null,null,null,null,{"$f":"IF(L170=\"\",\"\",L170-O170)","v":""},{"$f":"IF(M170=\"\",\"\",M170-P170)","v":""},{"$f":"IF(N170=\"\",\"\",N170-Q170)","v":""}]
[null,null,null,null,null,null,null,null,null,null,null,null,null,null,null,null,null,{"$f":"IF(L171=\"\",\"\",L171-O171)","v":""},{"$f":"IF(M171=\"\",\"\",M171-P171)","v":""},{"$f":"IF(N171=\"\",\"\",N171-Q171)","v":""}]
[null,null,null,null,null,null,null,null,null,null,null,null,null,null,null,null,null,{"$f":"IF(L172=\"\",\"\",L172-O172)","v":""},{"$f":"IF(M172=\"\",\"\",M172-P172)","v":""},{"$f":"IF(N172=\"\",\"\",N172-Q172)","v":""}]
[null,null,null,null,null,null,null,null,null,null,null,null,null,null,null,null,null,{"$f":"IF(L173=\"\",\"\",L173-O173)","v":""},{"$f":"IF(M173=\"\",\"\",M173-P173)","v":""},{"$f":"IF(N173=\"\",\"\",N173-Q173)","v":""}]
[null,null,null,null,null,null,null,null,null,null,null,null,null,null,null,null,null,{"$f":"IF(L174=\"\",\"\",L174-O174)","v":""},{"$f":"IF(M174=\"\",\"\",M174-P174)","v":""},{"$f":"IF(N174=\"\",\"\",N174-Q174)","v":""}]
[null,null,null,null,null,null,null,null,null,null,null,null,null,null,null,null,null,{"$f":"IF(L175=\"\",\"\",L175-O175)","v":""},{"$f":"IF(M175=\"\",\"\",M175-P175)","v":""},{"$f":"IF(N175=\"\",\"\",N175-Q175)","v":""}]
[null,null,null,null,null,null,null,null,null,null,null,null,null,null,null,null,null,{"$f":"IF(L176=\"\",\"\",L176-O176)","v":""},{"$f":"IF(M176=\"\",\"\",M176-P176)","v":""},{"$f":"IF(N176=\"\",\"\",N176-Q176)","v":""}]
[null,null,null,null,null,null,null,null,null,null,null,null,null,null,null,null,null,{"$f":"IF(L177=\"\",\"\",L177-O177)","v":""},{"$f":"IF(M177=\"\",\"\",M177-P177)","v":""},{"$f":"IF(N177=\"\",\"\",N177-Q177)","v":""}]
[null,null,null,null,null,null,null,null,null,null,null,null,null,null,null,null,null,{"$f":"IF(L178=\"\",\"\",L178-O178)","v":""},{"$f":"IF(M178=\"\",\"\",M178-P178)","v":""},{"$f":"IF(N178=\"\",\"\",N178-Q178)","v":""}]
[null,null,null,null,null,null,null,null,null,null,null,null,null,null,null,null,null,{"$f":"IF(L179=\"\",\"\",L179-O179)","v":""},{"$f":"IF(M179=\"\",\"\",M179-P179)","v":""},{"$f":"IF(N179=\"\",\"\",N179-Q179)","v":""}]
[null,null,null,null,null,null,null,null,null,null,null,null,null,null,null,null,null,{"$f":"IF(L180=\"\",\"\",L180-O180)","v":""},{"$f":"IF(M180=\"\",\"\",M180-P180)","v":""},{"$f":"IF(N180=\"\",\"\",N180-Q180)","v":""}]
[null,null,null,null,null,null,null,null,null,null,null,null,null,null,null,null,null,{"$f":"IF(L181=\"\",\"\",L181-O181)","v":""},{"$f":"IF(M181=\"\",\"\",M181-P181)","v":""},{"$f":"IF(N181=\"\",\"\",N181-Q181)","v":""}]
[null,null,null,null,null,null,null,null,null,null,null,null,null,null,null,null,null,{"$f":"IF(L182=\"\",\"\",L182-O182)","v":""},{"$f":"IF(M182=\"\",\"\",M182-P182)","v":""},{"$f":"IF(N182=\"\",\"\",N182-Q182)","v":""}]
[null,null,null,null,null,null,null,null,null,null,null,null,null,null,null,null,null,{"$f":"IF(L183=\"\",\"\",L183-O183)","v":""},{"$f":"IF(M183=\"\",\"\",M183-P183)","v":""},{"$f":"IF(N183=\"\",\"\",N183-Q183)","v":""}]
[null,null,null,null,null,null,null,null,null,null,null,null,null,null,null,null,null,{"$f":"IF(L184=\"\",\"\",L184-O184)","v":""},{"$f":"IF(M184=\"\",\"\",M184-P184)","v":""},{"$f":"IF(N184=\"\",\"\",N184-Q184)","v":""}]
[null,null,null,null,null,null,null,null,null,null,null,null,null,null,null,null,null,{"$f":"IF(L185=\"\",\"\",L185-O185)","v":""},{"$f":"IF(M185=\"\",\"\",M185-P185)","v":""},{"$f":"IF(N185=\"\",\"\",N185-Q185)","v":""}]
[null,null,null,null,null,null,null,null,null,null,null,null,null,null,null,null,null,{"$f":"IF(L186=\"\",\"\",L186-O186)","v":""},{"$f":"IF(M186=\"\",\"\",M186-P186)","v":""},{"$f":"IF(N186=\"\",\"\",N186-Q186)","v":""}]
[null,null,null,null,null,null,null,null,null,null,null,null,null,null,null,null,null,{"$f":"IF(L187=\"\",\"\",L187-O187)","v":""},{"$f":"IF(M187=\"\",\"\",M187-P187)","v":""},{"$f":"IF(N187=\"\",\"\",N187-Q187)","v":""}]
[null,null,null,null,null,null,null,null,null,null,null,null,null,null,null,null,null,{"$f":"IF(L188=\"\",\"\",L188-O188)","v":""},{"$f":"IF(M188=\"\",\"\",M188-P188)","v":""},{"$f":"IF(N188=\"\",\"\",N188-Q188)","v":""}]
[null,null,null,null,null,null,null,null,null,null,null,null,null,null,null,null,null,{"$f":"IF(L189=\"\",\"\",L189-O189)","v":""},{"$f":"IF(M189=\"\",\"\",M189-P189)","v":""},{"$f":"IF(N189=\"\",\"\",N189-Q189)","v":""}]
[null,null,null,null,null,null,null,null,null,null,null,null,null,null,null,null,null,{"$f":"IF(L190=\"\",\"\",L190-O190)","v":""},{"$f":"IF(M190=\"\",\"\",M190-P190)","v":""},{"$f":"IF(N190=\"\",\"\",N190-Q190)","v":""}]
[null,null,null,null,null,null,null,null,null,null,null,null,null,null,null,null,null,{"$f":"IF(L191=\"\",\"\",L191-O191)","v":""},{"$f":"IF(M191=\"\",\"\",M191-P191)","v":""},{"$f":"IF(N191=\"\",\"\",N191-Q191)","v":""}]
[null,null,null,null,null,null,null,null,null,null,null,null,null,null,null,null,null,{"$f":"IF(L192=\"\",\"\",L192-O192)","v":""},{"$f":"IF(M192=\"\",\"\",M192-P192)","v":""},{"$f":"IF(N192=\"\",\"\",N192-Q192)","v":""}]
[null,null,null,null,null,null,null,null,null,null,null,null,null,null,null,null,null,{"$f":"IF(L193=\"\",\"\",L193-O193)","v":""},{"$f":"IF(M193=\"\",\"\",M193-P193)","v":""},{"$f":"IF(N193=\"\",\"\",N193-Q193)","v":""}]
[null,null,null,null,null,null,null,null,null,null,null,null,null,null,null,null,null,{"$f":"IF(L194=\"\",\"\",L194-O194)","v":""},{"$f":"IF(M194=\"\",\"\",M194-P194)","v":""},{"$f":"IF(N194=\"\",\"\",N194-Q194)","v":""}]
[null,null,null,null,null,null,null,null,null,null,null,null,null,null,null,null,null,{"$f":"IF(L195=\"\",\"\",L195-O195)","v":""},{"$f":"IF(M195=\"\",\"\",M195-P195)","v":""},{"$f":"IF(N195=\"\",\"\",N195-Q195)","v":""}]
[null,null,null,null,null,null,null,null,null,null,null,null,null,null,null,null,null,{"$f":"IF(L196=\"\",\"\",L196-O196)","v":""},{"$f":"IF(M196=\"\",\"\",M196-P196)","v":""},{"$f":"IF(N196=\"\",\"\",N196-Q196)","v":""}]
[null,null,null,null,null,null,null,null,null,null,null,null,null,null,null,null,null,{"$f":"IF(L197=\"\",\"\",L197-O197)","v":""},{"$f":"IF(M197=\"\",\"\",M197-P197)","v":""},{"$f":"IF(N197=\"\",\"\",N197-Q197)","v":""}]
[null,null,null,null,null,null,null,null,null,null,null,null,null,null,null,null,null,{"$f":"IF(L198=\"\",\"\",L198-O198)","v":""},{"$f":"IF(M198=\"\",\"\",M198-P198)","v":""},{"$f":"IF(N198=\"\",\"\",N198-Q198)","v":""}]
[null,null,null,null,null,null,null,null,null,null,null,null,null,null,null,null,null,{"$f":"IF(L199=\"\",\"\",L199-O199)","v":""},{"$f":"IF(M199=\"\",\"\",M199-P199)","v":""},{"$f":"IF(N199=\"\",\"\",N199-Q199)","v":""}]
[null,null,null,null,null,null,null,null,null,null,null,null,null,null,null,null,null,{"$f":"IF(L200=\"\",\"\",L200-O200)","v":""},{"$f":"IF(M200=\"\",\"\",M200-P200)","v":""},{"$f":"IF(N200=\"\",\"\",N200-Q200)","v":""}]
[null,null,null,null,null,null,null,null,null,null,null,null,null,null,null,null,null,{"$f":"IF(L201=\"\",\"\",L201-O201)","v":""},{"$f":"IF(M201=\"\",\"\",M201-P201)","v":""},{"$f":"IF(N201=\"\",\"\",N201-Q201)","v":""}]
[null,null,null,null,null,null,null,null,null,null,null,null,null,null,null,null,null,{"$f":"IF(L202=\"\",\"\",L202-O202)","v":""},{"$f":"IF(M202=\"\",\"\",M202-P202)","v":""},{"$f":"IF(N202=\"\",\"\",N202-Q202)","v":""}]
[null,null,null,null,null,null,null,null,null,null,null,null,null,null,null,null,null,{"$f":"IF(L203=\"\",\"\",L203-O203)","v":""},{"$f":"IF(M203=\"\",\"\",M203-P203)","v":""},{"$f":"IF(N203=\"\",\"\",N203-Q203)","v":""}]
[null,null,null,null,null,null,null,null,null,null,null,null,null,null,null,null,null,{"$f":"IF(L204=\"\",\"\",L204-O204)","v":""},{"$f":"IF(M204=\"\",\"\",M204-P204)","v":""},{"$f":"IF(N204=\"\",\"\",N204-Q204)","v":""}]
[null,null,null,null,null,null,null,null,null,null,null,null,null,null,null,null,null,{"$f":"IF(L205=\"\",\"\",L205-O205)","v":""},{"$f":"IF(M205=\"\",\"\",M205-P205)","v":""},{"$f":"IF(N205=\"\",\"\",N205-Q205)","v":""}]
[null,null,null,null,null,null,null,null,null,null,null,null,null,null,null,null,null,{"$f":"IF(L206=\"\",\"\",L206-O206)","v":""},{"$f":"IF(M206=\"\",\"\",M206-P206)","v":""},{"$f":"IF(N206=\"\",\"\",N206-Q206)","v":""}]
[null,null,null,null,null,null,null,null,null,null,null,null,null,null,null,null,null,{"$f":"IF(L207=\"\",\"\",L207-O207)","v":""},{"$f":"IF(M207=\"\",\"\",M207-P207)","v":""},{"$f":"IF(N207=\"\",\"\",N207-Q207)","v":""}]
[null,null,null,null,null,null,null,null,null,null,null,null,null,null,null,null,null,{"$f":"IF(L208=\"\",\"\",L208-O208)","v":""},{"$f":"IF(M208=\"\",\"\",M208-P208)","v":""},{"$f":"IF(N208=\"\",\"\",N208-Q208)","v":""}]
[null,null,null,null,null,null,null,null,null,null,null,null,null,null,null,null,null,{"$f":"IF(L209=\"\",\"\",L209-O209)","v":""},{"$f":"IF(M209=\"\",\"\",M209-P209)","v":""},{"$f":"IF(N209=\"\",\"\",N209-Q209)","v":""}]
[null,null,null,null,null,null,null,null,null,null,null,null,null,null,null,null,null,{"$f":"IF(L210=\"\",\"\",L210-O210)","v":""},{"$f":"IF(M210=\"\",\"\",M210-P210)","v":""},{"$f":"IF(N210=\"\",\"\",N210-Q210)","v":""}]
[null,null,null,null,null,null,null,null,null,null,null,null,null,null,null,null,null,{"$f":"IF(L211=\"\",\"\",L211-O211)","v":""},{"$f":"IF(M211=\"\",\"\",M211-P211)","v":""},{"$f":"IF(N211=\"\",\"\",N211-Q211)","v":""}]
[null,null,null,null,null,null,null,null,null,null,null,null,null,null,null,null,null,{"$f":"IF(L212=\"\",\"\",L212-O212)","v":""},{"$f":"IF(M212=\"\",\"\",M212-P212)","v":""},{"$f":"IF(N212=\"\",\"\",N212-Q212)","v":""}]
[null,null,null,null,null,null,null,null,null,null,null,null,null,null,null,null,null,{"$f":"IF(L213=\"\",\"\",L213-O213)","v":""},{"$f":"IF(M213=\"\",\"\",M213-P213)","v":""},{"$f":"IF(N213=\"\",\"\",N213-Q213)","v":""}]
[null,null,null,null,null,null,null,null,null,null,null,null,null,null,null,null,null,{"$f":"IF(L214=\"\",\"\",L214-O214)","v":""},{"$f":"IF(M214=\"\",\"\",M214-P214)","v":""},{"$f":"IF(N214=\"\",\"\",N214-Q214)","v":""}]
[null,null,null,null,null,null,null,null,null,null,null,null,null,null,null,null,null,{"$f":"IF(L215=\"\",\"\",L215-O215)","v":""},{"$f":"IF(M215=\"\",\"\",M215-P215)","v":""},{"$f":"IF(N215=\"\",\"\",N215-Q215)","v":""}]
[null,null,null,null,null,null,null,null,null,null,null,null,null,null,null,null,null,{"$f":"IF(L216=\"\",\"\",L216-O216)","v":""},{"$f":"IF(M216=\"\",\"\",M216-P216)","v":""},{"$f":"IF(N216=\"\",\"\",N216-Q216)","v":""}]
[null,null,null,null,null,null,null,null,null,null,null,null,null,null,null,null,null,{"$f":"IF(L217=\"\",\"\",L217-O217)","v":""},{"$f":"IF(M217=\"\",\"\",M217-P217)","v":""},{"$f":"IF(N217=\"\",\"\",N217-Q217)","v":""}]
[null,null,null,null,null,null,null,null,null,null,null,null,null,null,null,null,null,{"$f":"IF(L218=\"\",\"\",L218-O218)","v":""},{"$f":"IF(M218=\"\",\"\",M218-P218)","v":""},{"$f":"IF(N218=\"\",\"\",N218-Q218)","v":""}]
[null,null,null,null,null,null,null,null,null,null,null,null,null,null,null,null,null,{"$f":"IF(L219=\"\",\"\",L219-O219)","v":""},{"$f":"IF(M219=\"\",\"\",M219-P219)","v":""},{"$f":"IF(N219=\"\",\"\",N219-Q219)","v":""}]
[null,null,null,null,null,null,null,null,null,null,null,null,null,null,null,null,null,{"$f":"IF(L220=\"\",\"\",L220-O220)","v":""},{"$f":"IF(M220=\"\",\"\",M220-P220)","v":""},{"$f":"IF(N220=\"\",\"\",N220-Q220)","v":""}]
[null,null,null,null,null,null,null,null,null,null,null,null,null,null,null,null,null,{"$f":"IF(L221=\"\",\"\",L221-O221)","v":""},{"$f":"IF(M221=\"\",\"\",M221-P221)","v":""},{"$f":"IF(N221=\"\",\"\",N221-Q221)","v":""}]
[null,null,null,null,null,null,null,null,null,null,null,null,null,null,null,null,null,{"$f":"IF(L222=\"\",\"\",L222-O222)","v":""},{"$f":"IF(M222=\"\",\"\",M222-P222)","v":""},{"$f":"IF(N222=\"\",\"\",N222-Q222)","v":""}]
[null,null,null,null,null,null,null,null,null,null,null,null,null,null,null,null,null,{"$f":"IF(L223=\"\",\"\",L223-O223)","v":""},{"$f":"IF(M223=\"\",\"\",M223-P223)","v":""},{"$f":"IF(N223=\"\",\"\",N223-Q223)","v":""}]
[null,null,null,null,null,null,null,null,null,null,null,null,null,null,null,null,null,{"$f":"IF(L224=\"\",\"\",L224-O224)","v":""},{"$f":"IF(M224=\"\",\"\",M224-P224)","v":""},{"$f":"IF(N224=\"\",\"\",N224-Q224)","v":""}]
[null,null,null,null,null,null,null,null,null,null,null,null,null,null,null,null,null,{"$f":"IF(L225=\"\",\"\",L225-O225)","v":""},{"$f":"IF(M225=\"\",\"\",M225-P225)","v":""},{"$f":"IF(N225=\"\",\"\",N225-Q225)","v":""}]
[null,null,null,null,null,null,null,null,null,null,null,null,null,null,null,null,null,{"$f":"IF(L226=\"\",\"\",L226-O226)","v":""},{"$f":"IF(M226=\"\",\"\",M226-P226)","v":""},{"$f":"IF(N226=\"\",\"\",N226-Q226)","v":""}]
[null,null,null,null,null,null,null,null,null,null,null,null,null,null,null,null,null,{"$f":"IF(L227=\"\",\"\",L227-O227)","v":""},{"$f":"IF(M227=\"\",\"\",M227-P227)","v":""},{"$f":"IF(N227=\"\",\"\",N227-Q227)","v":""}]
[null,null,null,null,null,null,null,null,null,null,null,null,null,null,null,null,null,{"$f":"IF(L228=\"\",\"\",L228-O228)","v":""},{"$f":"IF(M228=\"\",\"\",M228-P228)","v":""},{"$f":"IF(N228=\"\",\"\",N228-Q228)","v":""}]
[null,null,null,null,null,null,null,null,null,null,null,null,null,null,null,null,null,{"$f":"IF(L229=\"\",\"\",L229-O229)","v":""},{"$f":"IF(M229=\"\",\"\",M229-P229)","v":""},{"$f":"IF(N229=\"\",\"\",N229-Q229)","v":""}]
[null,null,null,null,null,null,null,null,null,null,null,null,null,null,null,null,null,{"$f":"IF(L230=\"\",\"\",L230-O230)","v":""},{"$f":"IF(M230=\"\",\"\",M230-P230)","v":""},{"$f":"IF(N230=\"\",\"\",N230-Q230)","v":""}]
[null,null,null,null,null,null,null,null,null,null,null,null,null,null,null,null,null,{"$f":"IF(L231=\"\",\"\",L231-O231)","v":""},{"$f":"IF(M231=\"\",\"\",M231-P231)","v":""},{"$f":"IF(N231=\"\",\"\",N231-Q231)","v":""}]
[null,null,null,null,null,null,null,null,null,null,null,null,null,null,null,null,null,{"$f":"IF(L232=\"\",\"\",L232-O232)","v":""},{"$f":"IF(M232=\"\",\"\",M232-P232)","v":""},{"$f":"IF(N232=\"\",\"\",N232-Q232)","v":""}]
[null,null,null,null,null,null,null,null,null,null,null,null,null,null,null,null,null,{"$f":"IF(L233=\"\",\"\",L233-O233)","v":""},{"$f":"IF(M233=\"\",\"\",M233-P233)","v":""},{"$f":"IF(N233=\"\",\"\",N233-Q233)","v":""}]
[null,null,null,null,null,null,null,null,null,null,null,null,null,null,null,null,null,{"$f":"IF(L234=\"\",\"\",L234-O234)","v":""},{"$f":"IF(M234=\"\",\"\",M234-P234)","v":""},{"$f":"IF(N234=\"\",\"\",N234-Q234)","v":""}]
[null,null,null,null,null,null,null,null,null,null,null,null,null,null,null,null,null,{"$f":"IF(L235=\"\",\"\",L235-O235)","v":""},{"$f":"IF(M235=\"\",\"\",M235-P235)","v":""},{"$f":"IF(N235=\"\",\"\",N235-Q235)","v":""}]
[null,null,null,null,null,null,null,null,null,null,null,null,null,null,null,null,null,{"$f":"IF(L236=\"\",\"\",L236-O236)","v":""},{"$f":"IF(M236=\"\",\"\",M236-P236)","v":""},{"$f":"IF(N236=\"\",\"\",N236-Q236)","v":""}]
[null,null,null,null,null,null,null,null,null,null,null,null,null,null,null,null,null,{"$f":"IF(L237=\"\",\"\",L237-O237)","v":""},{"$f":"IF(M237=\"\",\"\",M237-P237)","v":""},{"$f":"IF(N237=\"\",\"\",N237-Q237)","v":""}]
[null,null,null,null,null,null,null,null,null,null,null,null,null,null,null,null,null,{"$f":"IF(L238=\"\",\"\",L238-O238)","v":""},{"$f":"IF(M238=\"\",\"\",M238-P238)","v":""},{"$f":"IF(N238=\"\",\"\",N238-Q238)","v":""}]
[null,null,null,null,null,null,null,null,null,null,null,null,null,null,null,null,null,{"$f":"IF(L239=\"\",\"\",L239-O239)","v":""},{"$f":"IF(M239=\"\",\"\",M239-P239)","v":""},{"$f":"IF(N239=\"\",\"\",N239-Q239)","v":""}]
[null,null,null,null,null,null,null,null,null,null,null,null,null,null,null,null,null,{"$f":"IF(L240=\"\",\"\",L240-O240)","v":""},{"$f":"IF(M240=\"\",\"\",M240-P240)","v":""},{"$f":"IF(N240=\"\",\"\",N240-Q240)","v":""}]
[null,null,null,null,null,null,null,null,null,null,null,null,null,null,null,null,null,{"$f":"IF(L241=\"\",\"\",L241-O241)","v":""},{"$f":"IF(M241=\"\",\"\",M241-P241)","v":""},{"$f":"IF(N241=\"\",\"\",N241-Q241)","v":""}]
[null,null,null,null,null,null,null,null,null,null,null,null,null,null,null,null,null,{"$f":"IF(L242=\"\",\"\",L242-O242)","v":""},{"$f":"IF(M242=\"\",\"\",M242-P242)","v":""},{"$f":"IF(N242=\"\",\"\",N242-Q242)","v":""}]
[null,null,null,null,null,null,null,null,null,null,null,null,null,null,null,null,null,{"$f":"IF(L243=\"\",\"\",L243-O243)","v":""},{"$f":"IF(M243=\"\",\"\",M243-P243)","v":""},{"$f":"IF(N243=\"\",\"\",N243-Q243)","v":""}]
[null,null,null,null,null,null,null,null,null,null,null,null,null,null,null,null,null,{"$f":"IF(L244=\"\",\"\",L244-O244)","v":""},{"$f":"IF(M244=\"\",\"\",M244-P244)","v":""},{"$f":"IF(N244=\"\",\"\",N244-Q244)","v":""}]
[null,null,null,null,null,null,null,null,null,null,null,null,null,null,null,null,null,{"$f":"IF(L245=\"\",\"\",L245-O245)","v":""},{"$f":"IF(M245=\"\",\"\",M245-P245)","v":""},{"$f":"IF(N245=\"\",\"\",N245-Q245)","v":""}]
[null,null,null,null,null,null,null,null,null,null,null,null,null,null,null,null,null,{"$f":"IF(L246=\"\",\"\",L246-O246)","v":""},{"$f":"IF(M246=\"\",\"\",M246-P246)","v":""},{"$f":"IF(N246=\"\",\"\",N246-Q246)","v":""}]
[null,null,null,null,null,null,null,null,null,null,null,null,null,null,null,null,null,{"$f":"IF(L247=\"\",\"\",L247-O247)","v":""},{"$f":"IF(M247=\"\",\"\",M247-P247)","v":""},{"$f":"IF(N247=\"\",\"\",N247-Q247)","v":""}]
[null,null,null,null,null,null,null,null,null,null,null,null,null,null,null,null,null,{"$f":"IF(L248=\"\",\"\",L248-O248)","v":""},{"$f":"IF(M248=\"\",\"\",M248-P248)","v":""},{"$f":"IF(N248=\"\",\"\",N248-Q248)","v":""}]
[null,null,null,null,null,null,null,null,null,null,null,null,null,null,null,null,null,{"$f":"IF(L249=\"\",\"\",L249-O249)","v":""},{"$f":"IF(M249=\"\",\"\",M249-P249)","v":""},{"$f":"IF(N249=\"\",\"\",N249-Q249)","v":""}]
[null,null,null,null,null,null,null,null,null,null,null,null,null,null,null,null,null,{"$f":"IF(L250=\"\",\"\",L250-O250)","v":""},{"$f":"IF(M250=\"\",\"\",M250-P250)","v":""},{"$f":"IF(N250=\"\",\"\",N250-Q250)","v":""}]
[null,null,null,null,null,null,null,null,null,null,null,null,null,null,null,null,null,{"$f":"IF(L251=\"\",\"\",L251-O251)","v":""},{"$f":"IF(M251=\"\",\"\",M251-P251)","v":""},{"$f":"IF(N251=\"\",\"\",N251-Q251)","v":""}]
[null,null,null,null,null,null,null,null,null,null,null,null,null,null,null,null,null,{"$f":"IF(L252=\"\",\"\",L252-O252)","v":""},{"$f":"IF(M252=\"\",\"\",M252-P252)","v":""},{"$f":"IF(N252=\"\",\"\",N252-Q252)","v":""}]
[null,null,null,null,null,null,null,null,null,null,null,null,null,null,null,null,null,{"$f":"IF(L253=\"\",\"\",L253-O253)","v":""},{"$f":"IF(M253=\"\",\"\",M253-P253)","v":""},{"$f":"IF(N253=\"\",\"\",N253-Q253)","v":""}]
[null,null,null,null,null,null,null,null,null,null,null,null,null,null,null,null,null,{"$f":"IF(L254=\"\",\"\",L254-O254)","v":""},{"$f":"IF(M254=\"\",\"\",M254-P254)","v":""},{"$f":"IF(N254=\"\",\"\",N254-Q254)","v":""}]
[null,null,null,null,null,null,null,null,null,null,null,null,null,null,null,null,null,{"$f":"IF(L255=\"\",\"\",L255-O255)","v":""},{"$f":"IF(M255=\"\",\"\",M255-P255)","v":""},{"$f":"IF(N255=\"\",\"\",N255-Q255)","v":""}]
[null,null,null,null,null,null,null,null,null,null,null,null,null,null,null,null,null,{"$f":"IF(L256=\"\",\"\",L256-O256)","v":""},{"$f":"IF(M256=\"\",\"\",M256-P256)","v":""},{"$f":"IF(N256=\"\",\"\",N256-Q256)","v":""}]
[null,null,null,null,null,null,null,null,null,null,null,null,null,null,null,null,null,{"$f":"IF(L257=\"\",\"\",L257-O257)","v":""},{"$f":"IF(M257=\"\",\"\",M257-P257)","v":""},{"$f":"IF(N257=\"\",\"\",N257-Q257)","v":""}]
[null,null,null,null,null,null,null,null,null,null,null,null,null,null,null,null,null,{"$f":"IF(L258=\"\",\"\",L258-O258)","v":""},{"$f":"IF(M258=\"\",\"\",M258-P258)","v":""},{"$f":"IF(N258=\"\",\"\",N258-Q258)","v":""}]
[null,null,null,null,null,null,null,null,null,null,null,null,null,null,null,null,null,{"$f":"IF(L259=\"\",\"\",L259-O259)","v":""},{"$f":"IF(M259=\"\",\"\",M259-P259)","v":""},{"$f":"IF(N259=\"\",\"\",N259-Q259)","v":""}]
[null,null,null,null,null,null,null,null,null,null,null,null,null,null,null,null,null,{"$f":"IF(L260=\"\",\"\",L260-O260)","v":""},{"$f":"IF(M260=\"\",\"\",M260-P260)","v":""},{"$f":"IF(N260=\"\",\"\",N260-Q260)","v":""}]
[null,null,null,null,null,null,null,null,null,null,null,null,null,null,null,null,null,{"$f":"IF(L261=\"\",\"\",L261-O261)","v":""},{"$f":"IF(M261=\"\",\"\",M261-P261)","v":""},{"$f":"IF(N261=\"\",\"\",N261-Q261)","v":""}]
[null,null,null,null,null,null,null,null,null,null,null,null,null,null,null,null,null,{"$f":"IF(L262=\"\",\"\",L262-O262)","v":""},{"$f":"IF(M262=\"\",\"\",M262-P262)","v":""},{"$f":"IF(N262=\"\",\"\",N262-Q262)","v":""}]
[null,null,null,null,null,null,null,null,null,null,null,null,null,null,null,null,null,{"$f":"IF(L263=\"\",\"\",L263-O263)","v":""},{"$f":"IF(M263=\"\",\"\",M263-P263)","v":""},{"$f":"IF(N263=\"\",\"\",N263-Q263)","v":""}]
[null,null,null,null,null,null,null,null,null,null,null,null,null,null,null,null,null,{"$f":"IF(L264=\"\",\"\",L264-O264)","v":""},{"$f":"IF(M264=\"\",\"\",M264-P264)","v":""},{"$f":"IF(N264=\"\",\"\",N264-Q264)","v":""}]
[null,null,null,null,null,null,null,null,null,null,null,null,null,null,null,null,null,{"$f":"IF(L265=\"\",\"\",L265-O265)","v":""},{"$f":"IF(M265=\"\",\"\",M265-P265)","v":""},{"$f":"IF(N265=\"\",\"\",N265-Q265)","v":""}]
[null,null,null,null,null,null,null,null,null,null,null,null,null,null,null,null,null,{"$f":"IF(L266=\"\",\"\",L266-O266)","v":""},{"$f":"IF(M266=\"\",\"\",M266-P266)","v":""},{"$f":"IF(N266=\"\",\"\",N266-Q266)","v":""}]
[null,null,null,null,null,null,null,null,null,null,null,null,null,null,null,null,null,{"$f":"IF(L267=\"\",\"\",L267-O267)","v":""},{"$f":"IF(M267=\"\",\"\",M267-P267)","v":""},{"$f":"IF(N267=\"\",\"\",N267-Q267)","v":""}]
[null,null,null,null,null,null,null,null,null,null,null,null,null,null,null,null,null,{"$f":"IF(L268=\"\",\"\",L268-O268)","v":""},{"$f":"IF(M268=\"\",\"\",M268-P268)","v":""},{"$f":"IF(N268=\"\",\"\",N268-Q268)","v":""}]
[null,null,null,null,null,null,null,null,null,null,null,null,null,null,null,null,null,{"$f":"IF(L269=\"\",\"\",L269-O269)","v":""},{"$f":"IF(M269=\"\",\"\",M269-P269)","v":""},{"$f":"IF(N269=\"\",\"\",N269-Q269)","v":""}]
[null,null,null,null,null,null,null,null,null,null,null,null,null,null,null,null,null,{"$f":"IF(L270=\"\",\"\",L270-O270)","v":""},{"$f":"IF(M270=\"\",\"\",M270-P270)","v":""},{"$f":"IF(N270=\"\",\"\",N270-Q270)","v":""}]
[null,null,null,null,null,null,null,null,null,null,null,null,null,null,null,null,null,{"$f":"IF(L271=\"\",\"\",L271-O271)","v":""},{"$f":"IF(M271=\"\",\"\",M271-P271)","v":""},{"$f":"IF(N271=\"\",\"\",N271-Q271)","v":""}]
[null,null,null,null,null,null,null,null,null,null,null,null,null,null,null,null,null,{"$f":"IF(L272=\"\",\"\",L272-O272)","v":""},{"$f":"IF(M272=\"\",\"\",M272-P272)","v":""},{"$f":"IF(N272=\"\",\"\",N272-Q272)","v":""}]
[null,null,null,null,null,null,null,null,null,null,null,null,null,null,null,null,null,{"$f":"IF(L273=\"\",\"\",L273-O273)","v":""},{"$f":"IF(M273=\"\",\"\",M273-P273)","v":""},{"$f":"IF(N273=\"\",\"\",N273-Q273)","v":""}]
[null,null,null,null,null,null,null,null,null,null,null,null,null,null,null,null,null,{"$f":"IF(L274=\"\",\"\",L274-O274)","v":""},{"$f":"IF(M274=\"\",\"\",M274-P274)","v":""},{"$f":"IF(N274=\"\",\"\",N274-Q274)","v":""}]
[null,null,null,null,null,null,null,null,null,null,null,null,null,null,null,null,null,{"$f":"IF(L275=\"\",\"\",L275-O275)","v":""},{"$f":"IF(M275=\"\",\"\",M275-P275)","v":""},{"$f":"IF(N275=\"\",\"\",N275-Q275)","v":""}]
[null,null,null,null,null,null,null,null,null,null,null,null,null,null,null,null,null,{"$f":"IF(L276=\"\",\"\",L276-O276)","v":""},{"$f":"IF(M276=\"\",\"\",M276-P276)","v":""},{"$f":"IF(N276=\"\",\"\",N276-Q276)","v":""}]
[null,null,null,null,null,null,null,null,null,null,null,null,null,null,null,null,null,{"$f":"IF(L277=\"\",\"\",L277-O277)","v":""},{"$f":"IF(M277=\"\",\"\",M277-P277)","v":""},{"$f":"IF(N277=\"\",\"\",N277-Q277)","v":""}]
[null,null,null,null,null,null,null,null,null,null,null,null,null,null,null,null,null,{"$f":"IF(L278=\"\",\"\",L278-O278)","v":""},{"$f":"IF(M278=\"\",\"\",M278-P278)","v":""},{"$f":"IF(N278=\"\",\"\",N278-Q278)","v":""}]
[null,null,null,null,null,null,null,null,null,null,null,null,null,null,null,null,null,{"$f":"IF(L279=\"\",\"\",L279-O279)","v":""},{"$f":"IF(M279=\"\",\"\",M279-P279)","v":""},{"$f":"IF(N279=\"\",\"\",N279-Q279)","v":""}]
[null,null,null,null,null,null,null,null,null,null,null,null,null,null,null,null,null,{"$f":"IF(L280=\"\",\"\",L280-O280)","v":""},{"$f":"IF(M280=\"\",\"\",M280-P280)","v":""},{"$f":"IF(N280=\"\",\"\",N280-Q280)","v":""}]
[null,null,null,null,null,null,null,null,null,null,null,null,null,null,null,null,null,{"$f":"IF(L281=\"\",\"\",L281-O281)","v":""},{"$f":"IF(M281=\"\",\"\",M281-P281)","v":""},{"$f":"IF(N281=\"\",\"\",N281-Q281)","v":""}]
[null,null,null,null,null,null,null,null,null,null,null,null,null,null,null,null,null,{"$f":"IF(L282=\"\",\"\",L282-O282)","v":""},{"$f":"IF(M282=\"\",\"\",M282-P282)","v":""},{"$f":"IF(N282=\"\",\"\",N282-Q282)","v":""}]
[null,null,null,null,null,null,null,null,null,null,null,null,null,null,null,null,null,{"$f":"IF(L283=\"\",\"\",L283-O283)","v":""},{"$f":"IF(M283=\"\",\"\",M283-P283)","v":""},{"$f":"IF(N283=\"\",\"\",N283-Q283)","v":""}]
[null,null,null,null,null,null,null,null,null,null,null,null,null,null,null,null,null,{"$f":"IF(L284=\"\",\"\",L284-O284)","v":""},{"$f":"IF(M284=\"\",\"\",M284-P284)","v":""},{"$f":"IF(N284=\"\",\"\",N284-Q284)","v":""}]
[null,null,null,null,null,null,null,null,null,null,null,null,null,null,null,null,null,{"$f":"IF(L285=\"\",\"\",L285-O285)","v":""},{"$f":"IF(M285=\"\",\"\",M285-P285)","v":""},{"$f":"IF(N285=\"\",\"\",N285-Q285)","v":""}]
[null,null,null,null,null,null,null,null,null,null,null,null,null,null,null,null,null,{"$f":"IF(L286=\"\",\"\",L286-O286)","v":""},{"$f":"IF(M286=\"\",\"\",M286-P286)","v":""},{"$f":"IF(N286=\"\",\"\",N286-Q286)","v":""}]
[null,null,null,null,null,null,null,null,null,null,null,null,null,null,null,null,null,{"$f":"IF(L287=\"\",\"\",L287-O287)","v":""},{"$f":"IF(M287=\"\",\"\",M287-P287)","v":""},{"$f":"IF(N287=\"\",\"\",N287-Q287)","v":""}]
[null,null,null,null,null,null,null,null,null,null,null,null,null,null,null,null,null,{"$f":"IF(L288=\"\",\"\",L288-O288)","v":""},{"$f":"IF(M288=\"\",\"\",M288-P288)","v":""},{"$f":"IF(N288=\"\",\"\",N288-Q288)","v":""}]
[null,null,null,null,null,null,null,null,null,null,null,null,null,null,null,null,null,{"$f":"IF(L289=\"\",\"\",L289-O289)","v":""},{"$f":"IF(M289=\"\",\"\",M289-P289)","v":""},{"$f":"IF(N289=\"\",\"\",N289-Q289)","v":""}]
[null,null,null,null,null,null,null,null,null,null,null,null,null,null,null,null,null,{"$f":"IF(L290=\"\",\"\",L290-O290)","v":""},{"$f":"IF(M290=\"\",\"\",M290-P290)","v":""},{"$f":"IF(N290=\"\",\"\",N290-Q290)","v":""}]
[null,null,null,null,null,null,null,null,null,null,null,null,null,null,null,null,null,{"$f":"IF(L291=\"\",\"\",L291-O291)","v":""},{"$f":"IF(M291=\"\",\"\",M291-P291)","v":""},{"$f":"IF(N291=\"\",\"\",N291-Q291)","v":""}]
[null,null,null,null,null,null,null,null,null,null,null,null,null,null,null,null,null,{"$f":"IF(L292=\"\",\"\",L292-O292)","v":""},{"$f":"IF(M292=\"\",\"\",M292-P292)","v":""},{"$f":"IF(N292=\"\",\"\",N292-Q292)","v":""}]
[null,null,null,null,null,null,null,null,null,null,null,null,null,null,null,null,null,{"$f":"IF(L293=\"\",\"\",L293-O293)","v":""},{"$f":"IF(M293=\"\",\"\",M293-P293)","v":""},{"$f":"IF(N293=\"\",\"\",N293-Q293)","v":""}]
[null,null,null,null,null,null,null,null,null,null,null,null,null,null,null,null,null,{"$f":"IF(L294=\"\",\"\",L294-O294)","v":""},{"$f":"IF(M294=\"\",\"\",M294-P294)","v":""},{"$f":"IF(N294=\"\",\"\",N294-Q294)","v":""}]
[null,null,null,null,null,null,null,null,null,null,null,null,null,null,null,null,null,{"$f":"IF(L295=\"\",\"\",L295-O295)","v":""},{"$f":"IF(M295=\"\",\"\",M295-P295)","v":""},{"$f":"IF(N295=\"\",\"\",N295-Q295)","v":""}]
[null,null,null,null,null,null,null,null,null,null,null,null,null,null,null,null,null,{"$f":"IF(L296=\"\",\"\",L296-O296)","v":""},{"$f":"IF(M296=\"\",\"\",M296-P296)","v":""},{"$f":"IF(N296=\"\",\"\",N296-Q296)","v":""}]
[null,null,null,null,null,null,null,null,null,null,null,null,null,null,null,null,null,{"$f":"IF(L297=\"\",\"\",L297-O297)","v":""},{"$f":"IF(M297=\"\",\"\",M297-P297)","v":""},{"$f":"IF(N297=\"\",\"\",N297-Q297)","v":""}]
[null,null,null,null,null,null,null,null,null,null,null,null,null,null,null,null,null,{"$f":"IF(L298=\"\",\"\",L298-O298)","v":""},{"$f":"IF(M298=\"\",\"\",M298-P298)","v":""},{"$f":"IF(N298=\"\",\"\",N298-Q298)","v":""}]
[null,null,null,null,null,null,null,null,null,null,null,null,null,null,null,null,null,{"$f":"IF(L299=\"\",\"\",L299-O299)","v":""},{"$f":"IF(M299=\"\",\"\",M299-P299)","v":""},{"$f":"IF(N299=\"\",\"\",N299-Q299)","v":""}]
[null,null,null,null,null,null,null,null,null,null,null,null,null,null,null,null,null,{"$f":"IF(L300=\"\",\"\",L300-O300)","v":""},{"$f":"IF(M300=\"\",\"\",M300-P300)","v":""},{"$f":"IF(N300=\"\",\"\",N300-Q300)","v":""}]
[null,null,null,null,null,null,null,null,null,null,null,null,null,null,null,null,null,{"$f":"IF(L301=\"\",\"\",L301-O301)","v":""},{"$f":"IF(M301=\"\",\"\",M301-P301)","v":""},{"$f":"IF(N301=\"\",\"\",N301-Q301)","v":""}]
[null,null,null,null,null,null,null,null,null,null,null,null,null,null,null,null,null,{"$f":"IF(L302=\"\",\"\",L302-O302)","v":""},{"$f":"IF(M302=\"\",\"\",M302-P302)","v":""},{"$f":"IF(N302=\"\",\"\",N302-Q302)","v":""}]
[null,null,null,null,null,null,null,null,null,null,null,null,null,null,null,null,null,{"$f":"IF(L303=\"\",\"\",L303-O303)","v":""},{"$f":"IF(M303=\"\",\"\",M303-P303)","v":""},{"$f":"IF(N303=\"\",\"\",N303-Q303)","v":""}]
[null,null,null,null,null,null,null,null,null,null,null,null,null,null,null,null,null,{"$f":"IF(L304=\"\",\"\",L304-O304)","v":""},{"$f":"IF(M304=\"\",\"\",M304-P304)","v":""},{"$f":"IF(N304=\"\",\"\",N304-Q304)","v":""}]
[null,null,null,null,null,null,null,null,null,null,null,null,null,null,null,null,null,{"$f":"IF(L305=\"\",\"\",L305-O305)","v":""},{"$f":"IF(M305=\"\",\"\",M305-P305)","v":""},{"$f":"IF(N305=\"\",\"\",N305-Q305)","v":""}]
[null,null,null,null,null,null,null,null,null,null,null,null,null,null,null,null,null,{"$f":"IF(L306=\"\",\"\",L306-O306)","v":""},{"$f":"IF(M306=\"\",\"\",M306-P306)","v":""},{"$f":"IF(N306=\"\",\"\",N306-Q306)","v":""}]
[null,null,null,null,null,null,null,null,null,null,null,null,null,null,null,null,null,{"$f":"IF(L307=\"\",\"\",L307-O307)","v":""},{"$f":"IF(M307=\"\",\"\",M307-P307)","v":""},{"$f":"IF(N307=\"\",\"\",N307-Q307)","v":""}]
[null,null,null,null,null,null,null,null,null,null,null,null,null,null,null,null,null,{"$f":"IF(L308=\"\",\"\",L308-O308)","v":""},{"$f":"IF(M308=\"\",\"\",M308-P308)","v":""},{"$f":"IF(N308=\"\",\"\",N308-Q308)","v":""}]
[null,null,null,null,null,null,null,null,null,null,null,null,null,null,null,null,null,{"$f":"IF(L309=\"\",\"\",L309-O309)","v":""},{"$f":"IF(M309=\"\",\"\",M309-P309)","v":""},{"$f":"IF(N309=\"\",\"\",N309-Q309)","v":""}]
[null,null,null,null,null,null,null,null,null,null,null,null,null,null,null,null,null,{"$f":"IF(L310=\"\",\"\",L310-O310)","v":""},{"$f":"IF(M310=\"\",\"\",M310-P310)","v":""},{"$f":"IF(N310=\"\",\"\",N310-Q310)","v":""}]
[null,null,null,null,null,null,null,null,null,null,null,null,null,null,null,null,null,{"$f":"IF(L311=\"\",\"\",L311-O311)","v":""},{"$f":"IF(M311=\"\",\"\",M311-P311)","v":""},{"$f":"IF(N311=\"\",\"\",N311-Q311)","v":""}]
[null,null,null,null,null,null,null,null,null,null,null,null,null,null,null,null,null,{"$f":"IF(L312=\"\",\"\",L312-O312)","v":""},{"$f":"IF(M312=\"\",\"\",M312-P312)","v":""},{"$f":"IF(N312=\"\",\"\",N312-Q312)","v":""}]
[null,null,null,null,null,null,null,null,null,null,null,null,null,null,null,null,null,{"$f":"IF(L313=\"\",\"\",L313-O313)","v":""},{"$f":"IF(M313=\"\",\"\",M313-P313)","v":""},{"$f":"IF(N313=\"\",\"\",N313-Q313)","v":""}]
[null,null,null,null,null,null,null,null,null,null,null,null,null,null,null,null,null,{"$f":"IF(L314=\"\",\"\",L314-O314)","v":""},{"$f":"IF(M314=\"\",\"\",M314-P314)","v":""},{"$f":"IF(N314=\"\",\"\",N314-Q314)","v":""}]
[null,null,null,null,null,null,null,null,null,null,null,null,null,null,null,null,null,{"$f":"IF(L315=\"\",\"\",L315-O315)","v":""},{"$f":"IF(M315=\"\",\"\",M315-P315)","v":""},{"$f":"IF(N315=\"\",\"\",N315-Q315)","v":""}]
[null,null,null,null,null,null,null,null,null,null,null,null,null,null,null,null,null,{"$f":"IF(L316=\"\",\"\",L316-O316)","v":""},{"$f":"IF(M316=\"\",\"\",M316-P316)","v":""},{"$f":"IF(N316=\"\",\"\",N316-Q316)","v":""}]
[null,null,null,null,null,null,null,null,null,null,null,null,null,null,null,null,null,{"$f":"IF(L317=\"\",\"\",L317-O317)","v":""},{"$f":"IF(M317=\"\",\"\",M317-P317)","v":""},{"$f":"IF(N317=\"\",\"\",N317-Q317)","v":""}]
[null,null,null,null,null,null,null,null,null,null,null,null,null,null,null,null,null,{"$f":"IF(L318=\"\",\"\",L318-O318)","v":""},{"$f":"IF(M318=\"\",\"\",M318-P318)","v":""},{"$f":"IF(N318=\"\",\"\",N318-Q318)","v":""}]
[null,null,null,null,null,null,null,null,null,null,null,null,null,null,null,null,null,{"$f":"IF(L319=\"\",\"\",L319-O319)","v":""},{"$f":"IF(M319=\"\",\"\",M319-P319)","v":""},{"$f":"IF(N319=\"\",\"\",N319-Q319)","v":""}]
[null,null,null,null,null,null,null,null,null,null,null,null,null,null,null,null,null,{"$f":"IF(L320=\"\",\"\",L320-O320)","v":""},{"$f":"IF(M320=\"\",\"\",M320-P320)","v":""},{"$f":"IF(N320=\"\",\"\",N320-Q320)","v":""}]
[null,null,null,null,null,null,null,null,null,null,null,null,null,null,null,null,null,{"$f":"IF(L321=\"\",\"\",L321-O321)","v":""},{"$f":"IF(M321=\"\",\"\",M321-P321)","v":""},{"$f":"IF(N321=\"\",\"\",N321-Q321)","v":""}]
[null,null,null,null,null,null,null,null,null,null,null,null,null,null,null,null,null,{"$f":"IF(L322=\"\",\"\",L322-O322)","v":""},{"$f":"IF(M322=\"\",\"\",M322-P322)","v":""},{"$f":"IF(N322=\"\",\"\",N322-Q322)","v":""}]
[null,null,null,null,null,null,null,null,null,null,null,null,null,null,null,null,null,{"$f":"IF(L323=\"\",\"\",L323-O323)","v":""},{"$f":"IF(M323=\"\",\"\",M323-P323)","v":""},{"$f":"IF(N323=\"\",\"\",N323-Q323)","v":""}]
[null,null,null,null,null,null,null,null,null,null,null,null,null,null,null,null,null,{"$f":"IF(L324=\"\",\"\",L324-O324)","v":""},{"$f":"IF(M324=\"\",\"\",M324-P324)","v":""},{"$f":"IF(N324=\"\",\"\",N324-Q324)","v":""}]
[null,null,null,null,null,null,null,null,null,null,null,null,null,null,null,null,null,{"$f":"IF(L325=\"\",\"\",L325-O325)","v":""},{"$f":"IF(M325=\"\",\"\",M325-P325)","v":""},{"$f":"IF(N325=\"\",\"\",N325-Q325)","v":""}]
[null,null,null,null,null,null,null,null,null,null,null,null,null,null,null,null,null,{"$f":"IF(L326=\"\",\"\",L326-O326)","v":""},{"$f":"IF(M326=\"\",\"\",M326-P326)","v":""},{"$f":"IF(N326=\"\",\"\",N326-Q326)","v":""}]
[null,null,null,null,null,null,null,null,null,null,null,null,null,null,null,null,null,{"$f":"IF(L327=\"\",\"\",L327-O327)","v":""},{"$f":"IF(M327=\"\",\"\",M327-P327)","v":""},{"$f":"IF(N327=\"\",\"\",N327-Q327)","v":""}]
[null,null,null,null,null,null,null,null,null,null,null,null,null,null,null,null,null,{"$f":"IF(L328=\"\",\"\",L328-O328)","v":""},{"$f":"IF(M328=\"\",\"\",M328-P328)","v":""},{"$f":"IF(N328=\"\",\"\",N328-Q328)","v":""}]
[null,null,null,null,null,null,null,null,null,null,null,null,null,null,null,null,null,{"$f":"IF(L329=\"\",\"\",L329-O329)","v":""},{"$f":"IF(M329=\"\",\"\",M329-P329)","v":""},{"$f":"IF(N329=\"\",\"\",N329-Q329)","v":""}]
[null,null,null,null,null,null,null,null,null,null,null,null,null,null,null,null,null,{"$f":"IF(L330=\"\",\"\",L330-O330)","v":""},{"$f":"IF(M330=\"\",\"\",M330-P330)","v":""},{"$f":"IF(N330=\"\",\"\",N330-Q330)","v":""}]
[null,null,null,null,null,null,null,null,null,null,null,null,null,null,null,null,null,{"$f":"IF(L331=\"\",\"\",L331-O331)","v":""},{"$f":"IF(M331=\"\",\"\",M331-P331)","v":""},{"$f":"IF(N331=\"\",\"\",N331-Q331)","v":""}]
[null,null,null,null,null,null,null,null,null,null,null,null,null,null,null,null,null,{"$f":"IF(L332=\"\",\"\",L332-O332)","v":""},{"$f":"IF(M332=\"\",\"\",M332-P332)","v":""},{"$f":"IF(N332=\"\",\"\",N332-Q332)","v":""}]
[null,null,null,null,null,null,null,null,null,null,null,null,null,null,null,null,null,{"$f":"IF(L333=\"\",\"\",L333-O333)","v":""},{"$f":"IF(M333=\"\",\"\",M333-P333)","v":""},{"$f":"IF(N333=\"\",\"\",N333-Q333)","v":""}]
[null,null,null,null,null,null,null,null,null,null,null,null,null,null,null,null,null,{"$f":"IF(L334=\"\",\"\",L334-O334)","v":""},{"$f":"IF(M334=\"\",\"\",M334-P334)","v":""},{"$f":"IF(N334=\"\",\"\",N334-Q334)","v":""}]
[null,null,null,null,null,null,null,null,null,null,null,null,null,null,null,null,null,{"$f":"IF(L335=\"\",\"\",L335-O335)","v":""},{"$f":"IF(M335=\"\",\"\",M335-P335)","v":""},{"$f":"IF(N335=\"\",\"\",N335-Q335)","v":""}]
[null,null,null,null,null,null,null,null,null,null,null,null,null,null,null,null,null,{"$f":"IF(L336=\"\",\"\",L336-O336)","v":""},{"$f":"IF(M336=\"\",\"\",M336-P336)","v":""},{"$f":"IF(N336=\"\",\"\",N336-Q336)","v":""}]
[null,null,null,null,null,null,null,null,null,null,null,null,null,null,null,null,null,{"$f":"IF(L337=\"\",\"\",L337-O337)","v":""},{"$f":"IF(M337=\"\",\"\",M337-P337)","v":""},{"$f":"IF(N337=\"\",\"\",N337-Q337)","v":""}]
[null,null,null,null,null,null,null,null,null,null,null,null,null,null,null,null,null,{"$f":"IF(L338=\"\",\"\",L338-O338)","v":""},{"$f":"IF(M338=\"\",\"\",M338-P338)","v":""},{"$f":"IF(N338=\"\",\"\",N338-Q338)","v":""}]
[null,null,null,null,null,null,null,null,null,null,null,null,null,null,null,null,null,{"$f":"IF(L339=\"\",\"\",L339-O339)","v":""},{"$f":"IF(M339=\"\",\"\",M339-P339)","v":""},{"$f":"IF(N339=\"\",\"\",N339-Q339)","v":""}]
[null,null,null,null,null,null,null,null,null,null,null,null,null,null,null,null,null,{"$f":"IF(L340=\"\",\"\",L340-O340)","v":""},{"$f":"IF(M340=\"\",\"\",M340-P340)","v":""},{"$f":"IF(N340=\"\",\"\",N340-Q340)","v":""}]
[null,null,null,null,null,null,null,null,null,null,null,null,null,null,null,null,null,{"$f":"IF(L341=\"\",\"\",L341-O341)","v":""},{"$f":"IF(M341=\"\",\"\",M341-P341)","v":""},{"$f":"IF(N341=\"\",\"\",N341-Q341)","v":""}]
[null,null,null,null,null,null,null,null,null,null,null,null,null,null,null,null,null,{"$f":"IF(L342=\"\",\"\",L342-O342)","v":""},{"$f":"IF(M342=\"\",\"\",M342-P342)","v":""},{"$f":"IF(N342=\"\",\"\",N342-Q342)","v":""}]
[null,null,null,null,null,null,null,null,null,null,null,null,null,null,null,null,null,{"$f":"IF(L343=\"\",\"\",L343-O343)","v":""},{"$f":"IF(M343=\"\",\"\",M343-P343)","v":""},{"$f":"IF(N343=\"\",\"\",N343-Q343)","v":""}]
[null,null,null,null,null,null,null,null,null,null,null,null,null,null,null,null,null,{"$f":"IF(L344=\"\",\"\",L344-O344)","v":""},{"$f":"IF(M344=\"\",\"\",M344-P344)","v":""},{"$f":"IF(N344=\"\",\"\",N344-Q344)","v":""}]
[null,null,null,null,null,null,null,null,null,null,null,null,null,null,null,null,null,{"$f":"IF(L345=\"\",\"\",L345-O345)","v":""},{"$f":"IF(M345=\"\",\"\",M345-P345)","v":""},{"$f":"IF(N345=\"\",\"\",N345-Q345)","v":""}]
[null,null,null,null,null,null,null,null,null,null,null,null,null,null,null,null,null,{"$f":"IF(L346=\"\",\"\",L346-O346)","v":""},{"$f":"IF(M346=\"\",\"\",M346-P346)","v":""},{"$f":"IF(N346=\"\",\"\",N346-Q346)","v":""}]
[null,null,null,null,null,null,null,null,null,null,null,null,null,null,null,null,null,{"$f":"IF(L347=\"\",\"\",L347-O347)","v":""},{"$f":"IF(M347=\"\",\"\",M347-P347)","v":""},{"$f":"IF(N347=\"\",\"\",N347-Q347)","v":""}]
[null,null,null,null,null,null,null,null,null,null,null,null,null,null,null,null,null,{"$f":"IF(L348=\"\",\"\",L348-O348)","v":""},{"$f":"IF(M348=\"\",\"\",M348-P348)","v":""},{"$f":"IF(N348=\"\",\"\",N348-Q348)","v":""}]
[null,null,null,null,null,null,null,null,null,null,null,null,null,null,null,null,null,{"$f":"IF(L349=\"\",\"\",L349-O349)","v":""},{"$f":"IF(M349=\"\",\"\",M349-P349)","v":""},{"$f":"IF(N349=\"\",\"\",N349-Q349)","v":""}]
[null,null,null,null,null,null,null,null,null,null,null,null,null,null,null,null,null,{"$f":"IF(L350=\"\",\"\",L350-O350)","v":""},{"$f":"IF(M350=\"\",\"\",M350-P350)","v":""},{"$f":"IF(N350=\"\",\"\",N350-Q350)","v":""}]
[null,null,null,null,null,null,null,null,null,null,null,null,null,null,null,null,null,{"$f":"IF(L351=\"\",\"\",L351-O351)","v":""},{"$f":"IF(M351=\"\",\"\",M351-P351)","v":""},{"$f":"IF(N351=\"\",\"\",N351-Q351)","v":""}]
[null,null,null,null,null,null,null,null,null,null,null,null,null,null,null,null,null,{"$f":"IF(L352=\"\",\"\",L352-O352)","v":""},{"$f":"IF(M352=\"\",\"\",M352-P352)","v":""},{"$f":"IF(N352=\"\",\"\",N352-Q352)","v":""}]
[null,null,null,null,null,null,null,null,null,null,null,null,null,null,null,null,null,{"$f":"IF(L353=\"\",\"\",L353-O353)","v":""},{"$f":"IF(M353=\"\",\"\",M353-P353)","v":""},{"$f":"IF(N353=\"\",\"\",N353-Q353)","v":""}]
[null,null,null,null,null,null,null,null,null,null,null,null,null,null,null,null,null,{"$f":"IF(L354=\"\",\"\",L354-O354)","v":""},{"$f":"IF(M354=\"\",\"\",M354-P354)","v":""},{"$f":"IF(N354=\"\",\"\",N354-Q354)","v":""}]
[null,null,null,null,null,null,null,null,null,null,null,null,null,null,null,null,null,{"$f":"IF(L355=\"\",\"\",L355-O355)","v":""},{"$f":"IF(M355=\"\",\"\",M355-P355)","v":""},{"$f":"IF(N355=\"\",\"\",N355-Q355)","v":""}]
[null,null,null,null,null,null,null,null,null,null,null,null,null,null,null,null,null,{"$f":"IF(L356=\"\",\"\",L356-O356)","v":""},{"$f":"IF(M356=\"\",\"\",M356-P356)","v":""},{"$f":"IF(N356=\"\",\"\",N356-Q356)","v":""}]
[null,null,null,null,null,null,null,null,null,null,null,null,null,null,null,null,null,{"$f":"IF(L357=\"\",\"\",L357-O357)","v":""},{"$f":"IF(M357=\"\",\"\",M357-P357)","v":""},{"$f":"IF(N357=\"\",\"\",N357-Q357)","v":""}]
[null,null,null,null,null,null,null,null,null,null,null,null,null,null,null,null,null,{"$f":"IF(L358=\"\",\"\",L358-O358)","v":""},{"$f":"IF(M358=\"\",\"\",M358-P358)","v":""},{"$f":"IF(N358=\"\",\"\",N358-Q358)","v":""}]
[null,null,null,null,null,null,null,null,null,null,null,null,null,null,null,null,null,{"$f":"IF(L359=\"\",\"\",L359-O359)","v":""},{"$f":"IF(M359=\"\",\"\",M359-P359)","v":""},{"$f":"IF(N359=\"\",\"\",N359-Q359)","v":""}]
[null,null,null,null,null,null,null,null,null,null,null,null,null,null,null,null,null,{"$f":"IF(L360=\"\",\"\",L360-O360)","v":""},{"$f":"IF(M360=\"\",\"\",M360-P360)","v":""},{"$f":"IF(N360=\"\",\"\",N360-Q360)","v":""}]
[null,null,null,null,null,null,null,null,null,null,null,null,null,null,null,null,null,{"$f":"IF(L361=\"\",\"\",L361-O361)","v":""},{"$f":"IF(M361=\"\",\"\",M361-P361)","v":""},{"$f":"IF(N361=\"\",\"\",N361-Q361)","v":""}]
[null,null,null,null,null,null,null,null,null,null,null,null,null,null,null,null,null,{"$f":"IF(L362=\"\",\"\",L362-O362)","v":""},{"$f":"IF(M362=\"\",\"\",M362-P362)","v":""},{"$f":"IF(N362=\"\",\"\",N362-Q362)","v":""}]
[null,null,null,null,null,null,null,null,null,null,null,null,null,null,null,null,null,{"$f":"IF(L363=\"\",\"\",L363-O363)","v":""},{"$f":"IF(M363=\"\",\"\",M363-P363)","v":""},{"$f":"IF(N363=\"\",\"\",N363-Q363)","v":""}]
[null,null,null,null,null,null,null,null,null,null,null,null,null,null,null,null,null,{"$f":"IF(L364=\"\",\"\",L364-O364)","v":""},{"$f":"IF(M364=\"\",\"\",M364-P364)","v":""},{"$f":"IF(N364=\"\",\"\",N364-Q364)","v":""}]
[null,null,null,null,null,null,null,null,null,null,null,null,null,null,null,null,null,{"$f":"IF(L365=\"\",\"\",L365-O365)","v":""},{"$f":"IF(M365=\"\",\"\",M365-P365)","v":""},{"$f":"IF(N365=\"\",\"\",N365-Q365)","v":""}]
[null,null,null,null,null,null,null,null,null,null,null,null,null,null,null,null,null,{"$f":"IF(L366=\"\",\"\",L366-O366)","v":""},{"$f":"IF(M366=\"\",\"\",M366-P366)","v":""},{"$f":"IF(N366=\"\",\"\",N366-Q366)","v":""}]
[null,null,null,null,null,null,null,null,null,null,null,null,null,null,null,null,null,{"$f":"IF(L367=\"\",\"\",L367-O367)","v":""},{"$f":"IF(M367=\"\",\"\",M367-P367)","v":""},{"$f":"IF(N367=\"\",\"\",N367-Q367)","v":""}]
[null,null,null,null,null,null,null,null,null,null,null,null,null,null,null,null,null,{"$f":"IF(L368=\"\",\"\",L368-O368)","v":""},{"$f":"IF(M368=\"\",\"\",M368-P368)","v":""},{"$f":"IF(N368=\"\",\"\",N368-Q368)","v":""}]
[null,null,null,null,null,null,null,null,null,null,null,null,null,null,null,null,null,{"$f":"IF(L369=\"\",\"\",L369-O369)","v":""},{"$f":"IF(M369=\"\",\"\",M369-P369)","v":""},{"$f":"IF(N369=\"\",\"\",N369-Q369)","v":""}]
[null,null,null,null,null,null,null,null,null,null,null,null,null,null,null,null,null,{"$f":"IF(L370=\"\",\"\",L370-O370)","v":""},{"$f":"IF(M370=\"\",\"\",M370-P370)","v":""},{"$f":"IF(N370=\"\",\"\",N370-Q370)","v":""}]
[null,null,null,null,null,null,null,null,null,null,null,null,null,null,null,null,null,{"$f":"IF(L371=\"\",\"\",L371-O371)","v":""},{"$f":"IF(M371=\"\",\"\",M371-P371)","v":""},{"$f":"IF(N371=\"\",\"\",N371-Q371)","v":""}]
[null,null,null,null,null,null,null,null,null,null,null,null,null,null,null,null,null,{"$f":"IF(L372=\"\",\"\",L372-O372)","v":""},{"$f":"IF(M372=\"\",\"\",M372-P372)","v":""},{"$f":"IF(N372=\"\",\"\",N372-Q372)","v":""}]
[null,null,null,null,null,null,null,null,null,null,null,null,null,null,null,null,null,{"$f":"IF(L373=\"\",\"\",L373-O373)","v":""},{"$f":"IF(M373=\"\",\"\",M373-P373)","v":""},{"$f":"IF(N373=\"\",\"\",N373-Q373)","v":""}]
[null,null,null,null,null,null,null,null,null,null,null,null,null,null,null,null,null,{"$f":"IF(L374=\"\",\"\",L374-O374)","v":""},{"$f":"IF(M374=\"\",\"\",M374-P374)","v":""},{"$f":"IF(N374=\"\",\"\",N374-Q374)","v":""}]
[null,null,null,null,null,null,null,null,null,null,null,null,null,null,null,null,null,{"$f":"IF(L375=\"\",\"\",L375-O375)","v":""},{"$f":"IF(M375=\"\",\"\",M375-P375)","v":""},{"$f":"IF(N375=\"\",\"\",N375-Q375)","v":""}]
[null,null,null,null,null,null,null,null,null,null,null,null,null,null,null,null,null,{"$f":"IF(L376=\"\",\"\",L376-O376)","v":""},{"$f":"IF(M376=\"\",\"\",M376-P376)","v":""},{"$f":"IF(N376=\"\",\"\",N376-Q376)","v":""}]
[null,null,null,null,null,null,null,null,null,null,null,null,null,null,null,null,null,{"$f":"IF(L377=\"\",\"\",L377-O377)","v":""},{"$f":"IF(M377=\"\",\"\",M377-P377)","v":""},{"$f":"IF(N377=\"\",\"\",N377-Q377)","v":""}]
[null,null,null,null,null,null,null,null,null,null,null,null,null,null,null,null,null,{"$f":"IF(L378=\"\",\"\",L378-O378)","v":""},{"$f":"IF(M378=\"\",\"\",M378-P378)","v":""},{"$f":"IF(N378=\"\",\"\",N378-Q378)","v":""}]
[null,null,null,null,null,null,null,null,null,null,null,null,null,null,null,null,null,{"$f":"IF(L379=\"\",\"\",L379-O379)","v":""},{"$f":"IF(M379=\"\",\"\",M379-P379)","v":""},{"$f":"IF(N379=\"\",\"\",N379-Q379)","v":""}]
[null,null,null,null,null,null,null,null,null,null,null,null,null,null,null,null,null,{"$f":"IF(L380=\"\",\"\",L380-O380)","v":""},{"$f":"IF(M380=\"\",\"\",M380-P380)","v":""},{"$f":"IF(N380=\"\",\"\",N380-Q380)","v":""}]
[null,null,null,null,null,null,null,null,null,null,null,null,null,null,null,null,null,{"$f":"IF(L381=\"\",\"\",L381-O381)","v":""},{"$f":"IF(M381=\"\",\"\",M381-P381)","v":""},{"$f":"IF(N381=\"\",\"\",N381-Q381)","v":""}]
[null,null,null,null,null,null,null,null,null,null,null,null,null,null,null,null,null,{"$f":"IF(L382=\"\",\"\",L382-O382)","v":""},{"$f":"IF(M382=\"\",\"\",M382-P382)","v":""},{"$f":"IF(N382=\"\",\"\",N382-Q382)","v":""}]
[null,null,null,null,null,null,null,null,null,null,null,null,null,null,null,null,null,{"$f":"IF(L383=\"\",\"\",L383-O383)","v":""},{"$f":"IF(M383=\"\",\"\",M383-P383)","v":""},{"$f":"IF(N383=\"\",\"\",N383-Q383)","v":""}]
[null,null,null,null,null,null,null,null,null,null,null,null,null,null,null,null,null,{"$f":"IF(L384=\"\",\"\",L384-O384)","v":""},{"$f":"IF(M384=\"\",\"\",M384-P384)","v":""},{"$f":"IF(N384=\"\",\"\",N384-Q384)","v":""}]
[null,null,null,null,null,null,null,null,null,null,null,null,null,null,null,null,null,{"$f":"IF(L385=\"\",\"\",L385-O385)","v":""},{"$f":"IF(M385=\"\",\"\",M385-P385)","v":""},{"$f":"IF(N385=\"\",\"\",N385-Q385)","v":""}]
[null,null,null,null,null,null,null,null,null,null,null,null,null,null,null,null,null,{"$f":"IF(L386=\"\",\"\",L386-O386)","v":""},{"$f":"IF(M386=\"\",\"\",M386-P386)","v":""},{"$f":"IF(N386=\"\",\"\",N386-Q386)","v":""}]
[null,null,null,null,null,null,null,null,null,null,null,null,null,null,null,null,null,{"$f":"IF(L387=\"\",\"\",L387-O387)","v":""},{"$f":"IF(M387=\"\",\"\",M387-P387)","v":""},{"$f":"IF(N387=\"\",\"\",N387-Q387)","v":""}]
[null,null,null,null,null,null,null,null,null,null,null,null,null,null,null,null,null,{"$f":"IF(L388=\"\",\"\",L388-O388)","v":""},{"$f":"IF(M388=\"\",\"\",M388-P388)","v":""},{"$f":"IF(N388=\"\",\"\",N388-Q388)","v":""}]
[null,null,null,null,null,null,null,null,null,null,null,null,null,null,null,null,null,{"$f":"IF(L389=\"\",\"\",L389-O389)","v":""},{"$f":"IF(M389=\"\",\"\",M389-P389)","v":""},{"$f":"IF(N389=\"\",\"\",N389-Q389)","v":""}]
[null,null,null,null,null,null,null,null,null,null,null,null,null,null,null,null,null,{"$f":"IF(L390=\"\",\"\",L390-O390)","v":""},{"$f":"IF(M390=\"\",\"\",M390-P390)","v":""},{"$f":"IF(N390=\"\",\"\",N390-Q390)","v":""}]
[null,null,null,null,null,null,null,null,null,null,null,null,null,null,null,null,null,{"$f":"IF(L391=\"\",\"\",L391-O391)","v":""},{"$f":"IF(M391=\"\",\"\",M391-P391)","v":""},{"$f":"IF(N391=\"\",\"\",N391-Q391)","v":""}]
[null,null,null,null,null,null,null,null,null,null,null,null,null,null,null,null,null,{"$f":"IF(L392=\"\",\"\",L392-O392)","v":""},{"$f":"IF(M392=\"\",\"\",M392-P392)","v":""},{"$f":"IF(N392=\"\",\"\",N392-Q392)","v":""}]
[null,null,null,null,null,null,null,null,null,null,null,null,null,null,null,null,null,{"$f":"IF(L393=\"\",\"\",L393-O393)","v":""},{"$f":"IF(M393=\"\",\"\",M393-P393)","v":""},{"$f":"IF(N393=\"\",\"\",N393-Q393)","v":""}]
[null,null,null,null,null,null,null,null,null,null,null,null,null,null,null,null,null,{"$f":"IF(L394=\"\",\"\",L394-O394)","v":""},{"$f":"IF(M394=\"\",\"\",M394-P394)","v":""},{"$f":"IF(N394=\"\",\"\",N394-Q394)","v":""}]
[null,null,null,null,null,null,null,null,null,null,null,null,null,null,null,null,null,{"$f":"IF(L395=\"\",\"\",L395-O395)","v":""},{"$f":"IF(M395=\"\",\"\",M395-P395)","v":""},{"$f":"IF(N395=\"\",\"\",N395-Q395)","v":""}]
[null,null,null,null,null,null,null,null,null,null,null,null,null,null,null,null,null,{"$f":"IF(L396=\"\",\"\",L396-O396)","v":""},{"$f":"IF(M396=\"\",\"\",M396-P396)","v":""},{"$f":"IF(N396=\"\",\"\",N396-Q396)","v":""}]
[null,null,null,null,null,null,null,null,null,null,null,null,null,null,null,null,null,{"$f":"IF(L397=\"\",\"\",L397-O397)","v":""},{"$f":"IF(M397=\"\",\"\",M397-P397)","v":""},{"$f":"IF(N397=\"\",\"\",N397-Q397)","v":""}]
[null,null,null,null,null,null,null,null,null,null,null,null,null,null,null,null,null,{"$f":"IF(L398=\"\",\"\",L398-O398)","v":""},{"$f":"IF(M398=\"\",\"\",M398-P398)","v":""},{"$f":"IF(N398=\"\",\"\",N398-Q398)","v":""}]
[null,null,null,null,null,null,null,null,null,null,null,null,null,null,null,null,null,{"$f":"IF(L399=\"\",\"\",L399-O399)","v":""},{"$f":"IF(M399=\"\",\"\",M399-P399)","v":""},{"$f":"IF(N399=\"\",\"\",N399-Q399)","v":""}]
[null,null,null,null,null,null,null,null,null,null,null,null,null,null,null,null,null,{"$f":"IF(L400=\"\",\"\",L400-O400)","v":""},{"$f":"IF(M400=\"\",\"\",M400-P400)","v":""},{"$f":"IF(N400=\"\",\"\",N400-Q400)","v":""}]
[null,null,null,null,null,null,null,null,null,null,null,null,null,null,null,null,null,{"$f":"IF(L401=\"\",\"\",L401-O401)","v":""},{"$f":"IF(M401=\"\",\"\",M401-P401)","v":""},{"$f":"IF(N401=\"\",\"\",N401-Q401)","v":""}]
[null,null,null,null,null,null,null,null,null,null,null,null,null,null,null,null,null,{"$f":"IF(L402=\"\",\"\",L402-O402)","v":""},{"$f":"IF(M402=\"\",\"\",M402-P402)","v":""},{"$f":"IF(N402=\"\",\"\",N402-Q402)","v":""}]
[null,null,null,null,null,null,null,null,null,null,null,null,null,null,null,null,null,{"$f":"IF(L403=\"\",\"\",L403-O403)","v":""},{"$f":"IF(M403=\"\",\"\",M403-P403)","v":""},{"$f":"IF(N403=\"\",\"\",N403-Q403)","v":""}]
[null,null,null,null,null,null,null,null,null,null,null,null,null,null,null,null,null,{"$f":"IF(L404=\"\",\"\",L404-O404)","v":""},{"$f":"IF(M404=\"\",\"\",M404-P404)","v":""},{"$f":"IF(N404=\"\",\"\",N404-Q404)","v":""}]
[null,null,null,null,null,null,null,null,null,null,null,null,null,null,null,null,null,{"$f":"IF(L405=\"\",\"\",L405-O405)","v":""},{"$f":"IF(M405=\"\",\"\",M405-P405)","v":""},{"$f":"IF(N405=\"\",\"\",N405-Q405)","v":""}]
[null,null,null,null,null,null,null,null,null,null,null,null,null,null,null,null,null,{"$f":"IF(L406=\"\",\"\",L406-O406)","v":""},{"$f":"IF(M406=\"\",\"\",M406-P406)","v":""},{"$f":"IF(N406=\"\",\"\",N406-Q406)","v":""}]
[null,null,null,null,null,null,null,null,null,null,null,null,null,null,null,null,null,{"$f":"IF(L407=\"\",\"\",L407-O407)","v":""},{"$f":"IF(M407=\"\",\"\",M407-P407)","v":""},{"$f":"IF(N407=\"\",\"\",N407-Q407)","v":""}]
[null,null,null,null,null,null,null,null,null,null,null,null,null,null,null,null,null,{"$f":"IF(L408=\"\",\"\",L408-O408)","v":""},{"$f":"IF(M408=\"\",\"\",M408-P408)","v":""},{"$f":"IF(N408=\"\",\"\",N408-Q408)","v":""}]
[null,null,null,null,null,null,null,null,null,null,null,null,null,null,null,null,null,{"$f":"IF(L409=\"\",\"\",L409-O409)","v":""},{"$f":"IF(M409=\"\",\"\",M409-P409)","v":""},{"$f":"IF(N409=\"\",\"\",N409-Q409)","v":""}]
[null,null,null,null,null,null,null,null,null,null,null,null,null,null,null,null,null,{"$f":"IF(L410=\"\",\"\",L410-O410)","v":""},{"$f":"IF(M410=\"\",\"\",M410-P410)","v":""},{"$f":"IF(N410=\"\",\"\",N410-Q410)","v":""}]
[null,null,null,null,null,null,null,null,null,null,null,null,null,null,null,null,null,{"$f":"IF(L411=\"\",\"\",L411-O411)","v":""},{"$f":"IF(M411=\"\",\"\",M411-P411)","v":""},{"$f":"IF(N411=\"\",\"\",N411-Q411)","v":""}]
[null,null,null,null,null,null,null,null,null,null,null,null,null,null,null,null,null,{"$f":"IF(L412=\"\",\"\",L412-O412)","v":""},{"$f":"IF(M412=\"\",\"\",M412-P412)","v":""},{"$f":"IF(N412=\"\",\"\",N412-Q412)","v":""}]
[null,null,null,null,null,null,null,null,null,null,null,null,null,null,null,null,null,{"$f":"IF(L413=\"\",\"\",L413-O413)","v":""},{"$f":"IF(M413=\"\",\"\",M413-P413)","v":""},{"$f":"IF(N413=\"\",\"\",N413-Q413)","v":""}]
[null,null,null,null,null,null,null,null,null,null,null,null,null,null,null,null,null,{"$f":"IF(L414=\"\",\"\",L414-O414)","v":""},{"$f":"IF(M414=\"\",\"\",M414-P414)","v":""},{"$f":"IF(N414=\"\",\"\",N414-Q414)","v":""}]
[null,null,null,null,null,null,null,null,null,null,null,null,null,null,null,null,null,{"$f":"IF(L415=\"\",\"\",L415-O415)","v":""},{"$f":"IF(M415=\"\",\"\",M415-P415)","v":""},{"$f":"IF(N415=\"\",\"\",N415-Q415)","v":""}]
[null,null,null,null,null,null,null,null,null,null,null,null,null,null,null,null,null,{"$f":"IF(L416=\"\",\"\",L416-O416)","v":""},{"$f":"IF(M416=\"\",\"\",M416-P416)","v":""},{"$f":"IF(N416=\"\",\"\",N416-Q416)","v":""}]
[null,null,null,null,null,null,null,null,null,null,null,null,null,null,null,null,null,{"$f":"IF(L417=\"\",\"\",L417-O417)","v":""},{"$f":"IF(M417=\"\",\"\",M417-P417)","v":""},{"$f":"IF(N417=\"\",\"\",N417-Q417)","v":""}]
[null,null,null,null,null,null,null,null,null,null,null,null,null,null,null,null,null,{"$f":"IF(L418=\"\",\"\",L418-O418)","v":""},{"$f":"IF(M418=\"\",\"\",M418-P418)","v":""},{"$f":"IF(N418=\"\",\"\",N418-Q418)","v":""}]
[null,null,null,null,null,null,null,null,null,null,null,null,null,null,null,null,null,{"$f":"IF(L419=\"\",\"\",L419-O419)","v":""},{"$f":"IF(M419=\"\",\"\",M419-P419)","v":""},{"$f":"IF(N419=\"\",\"\",N419-Q419)","v":""}]
[null,null,null,null,null,null,null,null,null,null,null,null,null,null,null,null,null,{"$f":"IF(L420=\"\",\"\",L420-O420)","v":""},{"$f":"IF(M420=\"\",\"\",M420-P420)","v":""},{"$f":"IF(N420=\"\",\"\",N420-Q420)","v":""}]
[null,null,null,null,null,null,null,null,null,null,null,null,null,null,null,null,null,{"$f":"IF(L421=\"\",\"\",L421-O421)","v":""},{"$f":"IF(M421=\"\",\"\",M421-P421)","v":""},{"$f":"IF(N421=\"\",\"\",N421-Q421)","v":""}]
[null,null,null,null,null,null,null,null,null,null,null,null,null,null,null,null,null,{"$f":"IF(L422=\"\",\"\",L422-O422)","v":""},{"$f":"IF(M422=\"\",\"\",M422-P422)","v":""},{"$f":"IF(N422=\"\",\"\",N422-Q422)","v":""}]
[null,null,null,null,null,null,null,null,null,null,null,null,null,null,null,null,null,{"$f":"IF(L423=\"\",\"\",L423-O423)","v":""},{"$f":"IF(M423=\"\",\"\",M423-P423)","v":""},{"$f":"IF(N423=\"\",\"\",N423-Q423)","v":""}]
[null,null,null,null,null,null,null,null,null,null,null,null,null,null,null,null,null,{"$f":"IF(L424=\"\",\"\",L424-O424)","v":""},{"$f":"IF(M424=\"\",\"\",M424-P424)","v":""},{"$f":"IF(N424=\"\",\"\",N424-Q424)","v":""}]
[null,null,null,null,null,null,null,null,null,null,null,null,null,null,null,null,null,{"$f":"IF(L425=\"\",\"\",L425-O425)","v":""},{"$f":"IF(M425=\"\",\"\",M425-P425)","v":""},{"$f":"IF(N425=\"\",\"\",N425-Q425)","v":""}]
[null,null,null,null,null,null,null,null,null,null,null,null,null,null,null,null,null,{"$f":"IF(L426=\"\",\"\",L426-O426)","v":""},{"$f":"IF(M426=\"\",\"\",M426-P426)","v":""},{"$f":"IF(N426=\"\",\"\",N426-Q426)","v":""}]
[null,null,null,null,null,null,null,null,null,null,null,null,null,null,null,null,null,{"$f":"IF(L427=\"\",\"\",L427-O427)","v":""},{"$f":"IF(M427=\"\",\"\",M427-P427)","v":""},{"$f":"IF(N427=\"\",\"\",N427-Q427)","v":""}]
[null,null,null,null,null,null,null,null,null,null,null,null,null,null,null,null,null,{"$f":"IF(L428=\"\",\"\",L428-O428)","v":""},{"$f":"IF(M428=\"\",\"\",M428-P428)","v":""},{"$f":"IF(N428=\"\",\"\",N428-Q428)","v":""}]
[null,null,null,null,null,null,null,null,null,null,null,null,null,null,null,null,null,{"$f":"IF(L429=\"\",\"\",L429-O429)","v":""},{"$f":"IF(M429=\"\",\"\",M429-P429)","v":""},{"$f":"IF(N429=\"\",\"\",N429-Q429)","v":""}]
[null,null,null,null,null,null,null,null,null,null,null,null,null,null,null,null,null,{"$f":"IF(L430=\"\",\"\",L430-O430)","v":""},{"$f":"IF(M430=\"\",\"\",M430-P430)","v":""},{"$f":"IF(N430=\"\",\"\",N430-Q430)","v":""}]
[null,null,null,null,null,null,null,null,null,null,null,null,null,null,null,null,null,{"$f":"IF(L431=\"\",\"\",L431-O431)","v":""},{"$f":"IF(M431=\"\",\"\",M431-P431)","v":""},{"$f":"IF(N431=\"\",\"\",N431-Q431)","v":""}]
[null,null,null,null,null,null,null,null,null,null,null,null,null,null,null,null,null,{"$f":"IF(L432=\"\",\"\",L432-O432)","v":""},{"$f":"IF(M432=\"\",\"\",M432-P432)","v":""},{"$f":"IF(N432=\"\",\"\",N432-Q432)","v":""}]
[null,null,null,null,null,null,null,null,null,null,null,null,null,null,null,null,null,{"$f":"IF(L433=\"\",\"\",L433-O433)","v":""},{"$f":"IF(M433=\"\",\"\",M433-P433)","v":""},{"$f":"IF(N433=\"\",\"\",N433-Q433)","v":""}]
[null,null,null,null,null,null,null,null,null,null,null,null,null,null,null,null,null,{"$f":"IF(L434=\"\",\"\",L434-O434)","v":""},{"$f":"IF(M434=\"\",\"\",M434-P434)","v":""},{"$f":"IF(N434=\"\",\"\",N434-Q434)","v":""}]
[null,null,null,null,null,null,null,null,null,null,null,null,null,null,null,null,null,{"$f":"IF(L435=\"\",\"\",L435-O435)","v":""},{"$f":"IF(M435=\"\",\"\",M435-P435)","v":""},{"$f":"IF(N435=\"\",\"\",N435-Q435)","v":""}]
[null,null,null,null,null,null,null,null,null,null,null,null,null,null,null,null,null,{"$f":"IF(L436=\"\",\"\",L436-O436)","v":""},{"$f":"IF(M436=\"\",\"\",M436-P436)","v":""},{"$f":"IF(N436=\"\",\"\",N436-Q436)","v":""}]
[null,null,null,null,null,null,null,null,null,null,null,null,null,null,null,null,null,{"$f":"IF(L437=\"\",\"\",L437-O437)","v":""},{"$f":"IF(M437=\"\",\"\",M437-P437)","v":""},{"$f":"IF(N437=\"\",\"\",N437-Q437)","v":""}]
[null,null,null,null,null,null,null,null,null,null,null,null,null,null,null,null,null,{"$f":"IF(L438=\"\",\"\",L438-O438)","v":""},{"$f":"IF(M438=\"\",\"\",M438-P438)","v":""},{"$f":"IF(N438=\"\",\"\",N438-Q438)","v":""}]
[null,null,null,null,null,null,null,null,null,null,null,null,null,null,null,null,null,{"$f":"IF(L439=\"\",\"\",L439-O439)","v":""},{"$f":"IF(M439=\"\",\"\",M439-P439)","v":""},{"$f":"IF(N439=\"\",\"\",N439-Q439)","v":""}]
[null,null,null,null,null,null,null,null,null,null,null,null,null,null,null,null,null,{"$f":"IF(L440=\"\",\"\",L440-O440)","v":""},{"$f":"IF(M440=\"\",\"\",M440-P440)","v":""},{"$f":"IF(N440=\"\",\"\",N440-Q440)","v":""}]
[null,null,null,null,null,null,null,null,null,null,null,null,null,null,null,null,null,{"$f":"IF(L441=\"\",\"\",L441-O441)","v":""},{"$f":"IF(M441=\"\",\"\",M441-P441)","v":""},{"$f":"IF(N441=\"\",\"\",N441-Q441)","v":""}]
[null,null,null,null,null,null,null,null,null,null,null,null,null,null,null,null,null,{"$f":"IF(L442=\"\",\"\",L442-O442)","v":""},{"$f":"IF(M442=\"\",\"\",M442-P442)","v":""},{"$f":"IF(N442=\"\",\"\",N442-Q442)","v":""}]
[null,null,null,null,null,null,null,null,null,null,null,null,null,null,null,null,null,{"$f":"IF(L443=\"\",\"\",L443-O443)","v":""},{"$f":"IF(M443=\"\",\"\",M443-P443)","v":""},{"$f":"IF(N443=\"\",\"\",N443-Q443)","v":""}]
[null,null,null,null,null,null,null,null,null,null,null,null,null,null,null,null,null,{"$f":"IF(L444=\"\",\"\",L444-O444)","v":""},{"$f":"IF(M444=\"\",\"\",M444-P444)","v":""},{"$f":"IF(N444=\"\",\"\",N444-Q444)","v":""}]
[null,null,null,null,null,null,null,null,null,null,null,null,null,null,null,null,null,{"$f":"IF(L445=\"\",\"\",L445-O445)","v":""},{"$f":"IF(M445=\"\",\"\",M445-P445)","v":""},{"$f":"IF(N445=\"\",\"\",N445-Q445)","v":""}]
[null,null,null,null,null,null,null,null,null,null,null,null,null,null,null,null,null,{"$f":"IF(L446=\"\",\"\",L446-O446)","v":""},{"$f":"IF(M446=\"\",\"\",M446-P446)","v":""},{"$f":"IF(N446=\"\",\"\",N446-Q446)","v":""}]
[null,null,null,null,null,null,null,null,null,null,null,null,null,null,null,null,null,{"$f":"IF(L447=\"\",\"\",L447-O447)","v":""},{"$f":"IF(M447=\"\",\"\",M447-P447)","v":""},{"$f":"IF(N447=\"\",\"\",N447-Q447)","v":""}]
[null,null,null,null,null,null,null,null,null,null,null,null,null,null,null,null,null,{"$f":"IF(L448=\"\",\"\",L448-O448)","v":""},{"$f":"IF(M448=\"\",\"\",M448-P448)","v":""},{"$f":"IF(N448=\"\",\"\",N448-Q448)","v":""}]
[null,null,null,null,null,null,null,null,null,null,null,null,null,null,null,null,null,{"$f":"IF(L449=\"\",\"\",L449-O449)","v":""},{"$f":"IF(M449=\"\",\"\",M449-P449)","v":""},{"$f":"IF(N449=\"\",\"\",N449-Q449)","v":""}]
[null,null,null,null,null,null,null,null,null,null,null,null,null,null,null,null,null,{"$f":"IF(L450=\"\",\"\",L450-O450)","v":""},{"$f":"IF(M450=\"\",\"\",M450-P450)","v":""},{"$f":"IF(N450=\"\",\"\",N450-Q450)","v":""}]
[null,null,null,null,null,null,null,null,null,null,null,null,null,null,null,null,null,{"$f":"IF(L451=\"\",\"\",L451-O451)","v":""},{"$f":"IF(M451=\"\",\"\",M451-P451)","v":""},{"$f":"IF(N451=\"\",\"\",N451-Q451)","v":""}]
[null,null,null,null,null,null,null,null,null,null,null,null,null,null,null,null,null,{"$f":"IF(L452=\"\",\"\",L452-O452)","v":""},{"$f":"IF(M452=\"\",\"\",M452-P452)","v":""},{"$f":"IF(N452=\"\",\"\",N452-Q452)","v":""}]
[null,null,null,null,null,null,null,null,null,null,null,null,null,null,null,null,null,{"$f":"IF(L453=\"\",\"\",L453-O453)","v":""},{"$f":"IF(M453=\"\",\"\",M453-P453)","v":""},{"$f":"IF(N453=\"\",\"\",N453-Q453)","v":""}]
[null,null,null,null,null,null,null,null,null,null,null,null,null,null,null,null,null,{"$f":"IF(L454=\"\",\"\",L454-O454)","v":""},{"$f":"IF(M454=\"\",\"\",M454-P454)","v":""},{"$f":"IF(N454=\"\",\"\",N454-Q454)","v":""}]
[null,null,null,null,null,null,null,null,null,null,null,null,null,null,null,null,null,{"$f":"IF(L455=\"\",\"\",L455-O455)","v":""},{"$f":"IF(M455=\"\",\"\",M455-P455)","v":""},{"$f":"IF(N455=\"\",\"\",N455-Q455)","v":""}]
[null,null,null,null,null,null,null,null,null,null,null,null,null,null,null,null,null,{"$f":"IF(L456=\"\",\"\",L456-O456)","v":""},{"$f":"IF(M456=\"\",\"\",M456-P456)","v":""},{"$f":"IF(N456=\"\",\"\",N456-Q456)","v":""}]
[null,null,null,null,null,null,null,null,null,null,null,null,null,null,null,null,null,{"$f":"IF(L457=\"\",\"\",L457-O457)","v":""},{"$f":"IF(M457=\"\",\"\",M457-P457)","v":""},{"$f":"IF(N457=\"\",\"\",N457-Q457)","v":""}]
[null,null,null,null,null,null,null,null,null,null,null,null,null,null,null,null,null,{"$f":"IF(L458=\"\",\"\",L458-O458)","v":""},{"$f":"IF(M458=\"\",\"\",M458-P458)","v":""},{"$f":"IF(N458=\"\",\"\",N458-Q458)","v":""}]
[null,null,null,null,null,null,null,null,null,null,null,null,null,null,null,null,null,{"$f":"IF(L459=\"\",\"\",L459-O459)","v":""},{"$f":"IF(M459=\"\",\"\",M459-P459)","v":""},{"$f":"IF(N459=\"\",\"\",N459-Q459)","v":""}]
[null,null,null,null,null,null,null,null,null,null,null,null,null,null,null,null,null,{"$f":"IF(L460=\"\",\"\",L460-O460)","v":""},{"$f":"IF(M460=\"\",\"\",M460-P460)","v":""},{"$f":"IF(N460=\"\",\"\",N460-Q460)","v":""}]
[null,null,null,null,null,null,null,null,null,null,null,null,null,null,null,null,null,{"$f":"IF(L461=\"\",\"\",L461-O461)","v":""},{"$f":"IF(M461=\"\",\"\",M461-P461)","v":""},{"$f":"IF(N461=\"\",\"\",N461-Q461)","v":""}]
[null,null,null,null,null,null,null,null,null,null,null,null,null,null,null,null,null,{"$f":"IF(L462=\"\",\"\",L462-O462)","v":""},{"$f":"IF(M462=\"\",\"\",M462-P462)","v":""},{"$f":"IF(N462=\"\",\"\",N462-Q462)","v":""}]
[null,null,null,null,null,null,null,null,null,null,null,null,null,null,null,null,null,{"$f":"IF(L463=\"\",\"\",L463-O463)","v":""},{"$f":"IF(M463=\"\",\"\",M463-P463)","v":""},{"$f":"IF(N463=\"\",\"\",N463-Q463)","v":""}]
[null,null,null,null,null,null,null,null,null,null,null,null,null,null,null,null,null,{"$f":"IF(L464=\"\",\"\",L464-O464)","v":""},{"$f":"IF(M464=\"\",\"\",M464-P464)","v":""},{"$f":"IF(N464=\"\",\"\",N464-Q464)","v":""}]
[null,null,null,null,null,null,null,null,null,null,null,null,null,null,null,null,null,{"$f":"IF(L465=\"\",\"\",L465-O465)","v":""},{"$f":"IF(M465=\"\",\"\",M465-P465)","v":""},{"$f":"IF(N465=\"\",\"\",N465-Q465)","v":""}]
[null,null,null,null,null,null,null,null,null,null,null,null,null,null,null,null,null,{"$f":"IF(L466=\"\",\"\",L466-O466)","v":""},{"$f":"IF(M466=\"\",\"\",M466-P466)","v":""},{"$f":"IF(N466=\"\",\"\",N466-Q466)","v":""}]
[null,null,null,null,null,null,null,null,null,null,null,null,null,null,null,null,null,{"$f":"IF(L467=\"\",\"\",L467-O467)","v":""},{"$f":"IF(M467=\"\",\"\",M467-P467)","v":""},{"$f":"IF(N467=\"\",\"\",N467-Q467)","v":""}]
[null,null,null,null,null,null,null,null,null,null,null,null,null,null,null,null,null,{"$f":"IF(L468=\"\",\"\",L468-O468)","v":""},{"$f":"IF(M468=\"\",\"\",M468-P468)","v":""},{"$f":"IF(N468=\"\",\"\",N468-Q468)","v":""}]
[null,null,null,null,null,null,null,null,null,null,null,null,null,null,null,null,null,{"$f":"IF(L469=\"\",\"\",L469-O469)","v":""},{"$f":"IF(M469=\"\",\"\",M469-P469)","v":""},{"$f":"IF(N469=\"\",\"\",N469-Q469)","v":""}]
[null,null,null,null,null,null,null,null,null,null,null,null,null,null,null,null,null,{"$f":"IF(L470=\"\",\"\",L470-O470)","v":""},{"$f":"IF(M470=\"\",\"\",M470-P470)","v":""},{"$f":"IF(N470=\"\",\"\",N470-Q470)","v":""}]
[null,null,null,null,null,null,null,null,null,null,null,null,null,null,null,null,null,{"$f":"IF(L471=\"\",\"\",L471-O471)","v":""},{"$f":"IF(M471=\"\",\"\",M471-P471)","v":""},{"$f":"IF(N471=\"\",\"\",N471-Q471)","v":""}]
[null,null,null,null,null,null,null,null,null,null,null,null,null,null,null,null,null,{"$f":"IF(L472=\"\",\"\",L472-O472)","v":""},{"$f":"IF(M472=\"\",\"\",M472-P472)","v":""},{"$f":"IF(N472=\"\",\"\",N472-Q472)","v":""}]
[null,null,null,null,null,null,null,null,null,null,null,null,null,null,null,null,null,{"$f":"IF(L473=\"\",\"\",L473-O473)","v":""},{"$f":"IF(M473=\"\",\"\",M473-P473)","v":""},{"$f":"IF(N473=\"\",\"\",N473-Q473)","v":""}]
[null,null,null,null,null,null,null,null,null,null,null,null,null,null,null,null,null,{"$f":"IF(L474=\"\",\"\",L474-O474)","v":""},{"$f":"IF(M474=\"\",\"\",M474-P474)","v":""},{"$f":"IF(N474=\"\",\"\",N474-Q474)","v":""}]
[null,null,null,null,null,null,null,null,null,null,null,null,null,null,null,null,null,{"$f":"IF(L475=\"\",\"\",L475-O475)","v":""},{"$f":"IF(M475=\"\",\"\",M475-P475)","v":""},{"$f":"IF(N475=\"\",\"\",N475-Q475)","v":""}]
[null,null,null,null,null,null,null,null,null,null,null,null,null,null,null,null,null,{"$f":"IF(L476=\"\",\"\",L476-O476)","v":""},{"$f":"IF(M476=\"\",\"\",M476-P476)","v":""},{"$f":"IF(N476=\"\",\"\",N476-Q476)","v":""}]
[null,null,null,null,null,null,null,null,null,null,null,null,null,null,null,null,null,{"$f":"IF(L477=\"\",\"\",L477-O477)","v":""},{"$f":"IF(M477=\"\",\"\",M477-P477)","v":""},{"$f":"IF(N477=\"\",\"\",N477-Q477)","v":""}]
[null,null,null,null,null,null,null,null,null,null,null,null,null,null,null,null,null,{"$f":"IF(L478=\"\",\"\",L478-O478)","v":""},{"$f":"IF(M478=\"\",\"\",M478-P478)","v":""},{"$f":"IF(N478=\"\",\"\",N478-Q478)","v":""}]
[null,null,null,null,null,null,null,null,null,null,null,null,null,null,null,null,null,{"$f":"IF(L479=\"\",\"\",L479-O479)","v":""},{"$f":"IF(M479=\"\",\"\",M479-P479)","v":""},{"$f":"IF(N479=\"\",\"\",N479-Q479)","v":""}]
[null,null,null,null,null,null,null,null,null,null,null,null,null,null,null,null,null,{"$f":"IF(L480=\"\",\"\",L480-O480)","v":""},{"$f":"IF(M480=\"\",\"\",M480-P480)","v":""},{"$f":"IF(N480=\"\",\"\",N480-Q480)","v":""}]
[null,null,null,null,null,null,null,null,null,null,null,null,null,null,null,null,null,{"$f":"IF(L481=\"\",\"\",L481-O481)","v":""},{"$f":"IF(M481=\"\",\"\",M481-P481)","v":""},{"$f":"IF(N481=\"\",\"\",N481-Q481)","v":""}]
[null,null,null,null,null,null,null,null,null,null,null,null,null,null,null,null,null,{"$f":"IF(L482=\"\",\"\",L482-O482)","v":""},{"$f":"IF(M482=\"\",\"\",M482-P482)","v":""},{"$f":"IF(N482=\"\",\"\",N482-Q482)","v":""}]
[null,null,null,null,null,null,null,null,null,null,null,null,null,null,null,null,null,{"$f":"IF(L483=\"\",\"\",L483-O483)","v":""},{"$f":"IF(M483=\"\",\"\",M483-P483)","v":""},{"$f":"IF(N483=\"\",\"\",N483-Q483)","v":""}]
[null,null,null,null,null,null,null,null,null,null,null,null,null,null,null,null,null,{"$f":"IF(L484=\"\",\"\",L484-O484)","v":""},{"$f":"IF(M484=\"\",\"\",M484-P484)","v":""},{"$f":"IF(N484=\"\",\"\",N484-Q484)","v":""}]
[null,null,null,null,null,null,null,null,null,null,null,null,null,null,null,null,null,{"$f":"IF(L485=\"\",\"\",L485-O485)","v":""},{"$f":"IF(M485=\"\",\"\",M485-P485)","v":""},{"$f":"IF(N485=\"\",\"\",N485-Q485)","v":""}]
[null,null,null,null,null,null,null,null,null,null,null,null,null,null,null,null,null,{"$f":"IF(L486=\"\",\"\",L486-O486)","v":""},{"$f":"IF(M486=\"\",\"\",M486-P486)","v":""},{"$f":"IF(N486=\"\",\"\",N486-Q486)","v":""}]
[null,null,null,null,null,null,null,null,null,null,null,null,null,null,null,null,null,{"$f":"IF(L487=\"\",\"\",L487-O487)","v":""},{"$f":"IF(M487=\"\",\"\",M487-P487)","v":""},{"$f":"IF(N487=\"\",\"\",N487-Q487)","v":""}]
[null,null,null,null,null,null,null,null,null,null,null,null,null,null,null,null,null,{"$f":"IF(L488=\"\",\"\",L488-O488)","v":""},{"$f":"IF(M488=\"\",\"\",M488-P488)","v":""},{"$f":"IF(N488=\"\",\"\",N488-Q488)","v":""}]
[null,null,null,null,null,null,null,null,null,null,null,null,null,null,null,null,null,{"$f":"IF(L489=\"\",\"\",L489-O489)","v":""},{"$f":"IF(M489=\"\",\"\",M489-P489)","v":""},{"$f":"IF(N489=\"\",\"\",N489-Q489)","v":""}]
[null,null,null,null,null,null,null,null,null,null,null,null,null,null,null,null,null,{"$f":"IF(L490=\"\",\"\",L490-O490)","v":""},{"$f":"IF(M490=\"\",\"\",M490-P490)","v":""},{"$f":"IF(N490=\"\",\"\",N490-Q490)","v":""}]
[null,null,null,null,null,null,null,null,null,null,null,null,null,null,null,null,null,{"$f":"IF(L491=\"\",\"\",L491-O491)","v":""},{"$f":"IF(M491=\"\",\"\",M491-P491)","v":""},{"$f":"IF(N491=\"\",\"\",N491-Q491)","v":""}]
[null,null,null,null,null,null,null,null,null,null,null,null,null,null,null,null,null,{"$f":"IF(L492=\"\",\"\",L492-O492)","v":""},{"$f":"IF(M492=\"\",\"\",M492-P492)","v":""},{"$f":"IF(N492=\"\",\"\",N492-Q492)","v":""}]
[null,null,null,null,null,null,null,null,null,null,null,null,null,null,null,null,null,{"$f":"IF(L493=\"\",\"\",L493-O493)","v":""},{"$f":"IF(M493=\"\",\"\",M493-P493)","v":""},{"$f":"IF(N493=\"\",\"\",N493-Q493)","v":""}]
[null,null,null,null,null,null,null,null,null,null,null,null,null,null,null,null,null,{"$f":"IF(L494=\"\",\"\",L494-O494)","v":""},{"$f":"IF(M494=\"\",\"\",M494-P494)","v":""},{"$f":"IF(N494=\"\",\"\",N494-Q494)","v":""}]
[null,null,null,null,null,null,null,null,null,null,null,null,null,null,null,null,null,{"$f":"IF(L495=\"\",\"\",L495-O495)","v":""},{"$f":"IF(M495=\"\",\"\",M495-P495)","v":""},{"$f":"IF(N495=\"\",\"\",N495-Q495)","v":""}]
[null,null,null,null,null,null,null,null,null,null,null,null,null,null,null,null,null,{"$f":"IF(L496=\"\",\"\",L496-O496)","v":""},{"$f":"IF(M496=\"\",\"\",M496-P496)","v":""},{"$f":"IF(N496=\"\",\"\",N496-Q496)","v":""}]
[null,null,null,null,null,null,null,null,null,null,null,null,null,null,null,null,null,{"$f":"IF(L497=\"\",\"\",L497-O497)","v":""},{"$f":"IF(M497=\"\",\"\",M497-P497)","v":""},{"$f":"IF(N497=\"\",\"\",N497-Q497)","v":""}]
[null,null,null,null,null,null,null,null,null,null,null,null,null,null,null,null,null,{"$f":"IF(L498=\"\",\"\",L498-O498)","v":""},{"$f":"IF(M498=\"\",\"\",M498-P498)","v":""},{"$f":"IF(N498=\"\",\"\",N498-Q498)","v":""}]
[null,null,null,null,null,null,null,null,null,null,null,null,null,null,null,null,null,{"$f":"IF(L499=\"\",\"\",L499-O499)","v":""},{"$f":"IF(M499=\"\",\"\",M499-P499)","v":""},{"$f":"IF(N499=\"\",\"\",N499-Q499)","v":""}]
[null,null,null,null,null,null,null,null,null,null,null,null,null,null,null,null,null,{"$f":"IF(L500=\"\",\"\",L500-O500)","v":""},{"$f":"IF(M500=\"\",\"\",M500-P500)","v":""},{"$f":"IF(N500=\"\",\"\",N500-Q500)","v":""}]
[null,null,null,null,null,null,null,null,null,null,null,null,null,null,null,null,null,{"$f":"IF(L501=\"\",\"\",L501-O501)","v":""},{"$f":"IF(M501=\"\",\"\",M501-P501)","v":""},{"$f":"IF(N501=\"\",\"\",N501-Q501)","v":""}]
[null,null,null,null,null,null,null,null,null,null,null,null,null,null,null,null,null,{"$f":"IF(L502=\"\",\"\",L502-O502)","v":""},{"$f":"IF(M502=\"\",\"\",M502-P502)","v":""},{"$f":"IF(N502=\"\",\"\",N502-Q502)","v":""}]
[null,null,null,null,null,null,null,null,null,null,null,null,null,null,null,null,null,{"$f":"IF(L503=\"\",\"\",L503-O503)","v":""},{"$f":"IF(M503=\"\",\"\",M503-P503)","v":""},{"$f":"IF(N503=\"\",\"\",N503-Q503)","v":""}]
[null,null,null,null,null,null,null,null,null,null,null,null,null,null,null,null,null,{"$f":"IF(L504=\"\",\"\",L504-O504)","v":""},{"$f":"IF(M504=\"\",\"\",M504-P504)","v":""},{"$f":"IF(N504=\"\",\"\",N504-Q504)","v":""}]
[null,null,null,null,null,null,null,null,null,null,null,null,null,null,null,null,null,{"$f":"IF(L505=\"\",\"\",L505-O505)","v":""},{"$f":"IF(M505=\"\",\"\",M505-P505)","v":""},{"$f":"IF(N505=\"\",\"\",N505-Q505)","v":""}]
[null,null,null,null,null,null,null,null,null,null,null,null,null,null,null,null,null,{"$f":"IF(L506=\"\",\"\",L506-O506)","v":""},{"$f":"IF(M506=\"\",\"\",M506-P506)","v":""},{"$f":"IF(N506=\"\",\"\",N506-Q506)","v":""}]
[null,null,null,null,null,null,null,null,null,null,null,null,null,null,null,null,null,{"$f":"IF(L507=\"\",\"\",L507-O507)","v":""},{"$f":"IF(M507=\"\",\"\",M507-P507)","v":""},{"$f":"IF(N507=\"\",\"\",N507-Q507)","v":""}]
[null,null,null,null,null,null,null,null,null,null,null,null,null,null,null,null,null,{"$f":"IF(L508=\"\",\"\",L508-O508)","v":""},{"$f":"IF(M508=\"\",\"\",M508-P508)","v":""},{"$f":"IF(N508=\"\",\"\",N508-Q508)","v":""}]
[null,null,null,null,null,null,null,null,null,null,null,null,null,null,null,null,null,{"$f":"IF(L509=\"\",\"\",L509-O509)","v":""},{"$f":"IF(M509=\"\",\"\",M509-P509)","v":""},{"$f":"IF(N509=\"\",\"\",N509-Q509)","v":""}]
[null,null,null,null,null,null,null,null,null,null,null,null,null,null,null,null,null,{"$f":"IF(L510=\"\",\"\",L510-O510)","v":""},{"$f":"IF(M510=\"\",\"\",M510-P510)","v":""},{"$f":"IF(N510=\"\",\"\",N510-Q510)","v":""}]
[null,null,null,null,null,null,null,null,null,null,null,null,null,null,null,null,null,{"$f":"IF(L511=\"\",\"\",L511-O511)","v":""},{"$f":"IF(M511=\"\",\"\",M511-P511)","v":""},{"$f":"IF(N511=\"\",\"\",N511-Q511)","v":""}]
[null,null,null,null,null,null,null,null,null,null,null,null,null,null,null,null,null,{"$f":"IF(L512=\"\",\"\",L512-O512)","v":""},{"$f":"IF(M512=\"\",\"\",M512-P512)","v":""},{"$f":"IF(N512=\"\",\"\",N512-Q512)","v":""}]
[null,null,null,null,null,null,null,null,null,null,null,null,null,null,null,null,null,{"$f":"IF(L513=\"\",\"\",L513-O513)","v":""},{"$f":"IF(M513=\"\",\"\",M513-P513)","v":""},{"$f":"IF(N513=\"\",\"\",N513-Q513)","v":""}]
[null,null,null,null,null,null,null,null,null,null,null,null,null,null,null,null,null,{"$f":"IF(L514=\"\",\"\",L514-O514)","v":""},{"$f":"IF(M514=\"\",\"\",M514-P514)","v":""},{"$f":"IF(N514=\"\",\"\",N514-Q514)","v":""}]
[null,null,null,null,null,null,null,null,null,null,null,null,null,null,null,null,null,{"$f":"IF(L515=\"\",\"\",L515-O515)","v":""},{"$f":"IF(M515=\"\",\"\",M515-P515)","v":""},{"$f":"IF(N515=\"\",\"\",N515-Q515)","v":""}]
[null,null,null,null,null,null,null,null,null,null,null,null,null,null,null,null,null,{"$f":"IF(L516=\"\",\"\",L516-O516)","v":""},{"$f":"IF(M516=\"\",\"\",M516-P516)","v":""},{"$f":"IF(N516=\"\",\"\",N516-Q516)","v":""}]
[null,null,null,null,null,null,null,null,null,null,null,null,null,null,null,null,null,{"$f":"IF(L517=\"\",\"\",L517-O517)","v":""},{"$f":"IF(M517=\"\",\"\",M517-P517)","v":""},{"$f":"IF(N517=\"\",\"\",N517-Q517)","v":""}]
[null,null,null,null,null,null,null,null,null,null,null,null,null,null,null,null,null,{"$f":"IF(L518=\"\",\"\",L518-O518)","v":""},{"$f":"IF(M518=\"\",\"\",M518-P518)","v":""},{"$f":"IF(N518=\"\",\"\",N518-Q518)","v":""}]
[null,null,null,null,null,null,null,null,null,null,null,null,null,null,null,null,null,{"$f":"IF(L519=\"\",\"\",L519-O519)","v":""},{"$f":"IF(M519=\"\",\"\",M519-P519)","v":""},{"$f":"IF(N519=\"\",\"\",N519-Q519)","v":""}]
[null,null,null,null,null,null,null,null,null,null,null,null,null,null,null,null,null,{"$f":"IF(L520=\"\",\"\",L520-O520)","v":""},{"$f":"IF(M520=\"\",\"\",M520-P520)","v":""},{"$f":"IF(N520=\"\",\"\",N520-Q520)","v":""}]
[null,null,null,null,null,null,null,null,null,null,null,null,null,null,null,null,null,{"$f":"IF(L521=\"\",\"\",L521-O521)","v":""},{"$f":"IF(M521=\"\",\"\",M521-P521)","v":""},{"$f":"IF(N521=\"\",\"\",N521-Q521)","v":""}]
[null,null,null,null,null,null,null,null,null,null,null,null,null,null,null,null,null,{"$f":"IF(L522=\"\",\"\",L522-O522)","v":""},{"$f":"IF(M522=\"\",\"\",M522-P522)","v":""},{"$f":"IF(N522=\"\",\"\",N522-Q522)","v":""}]
[null,null,null,null,null,null,null,null,null,null,null,null,null,null,null,null,null,{"$f":"IF(L523=\"\",\"\",L523-O523)","v":""},{"$f":"IF(M523=\"\",\"\",M523-P523)","v":""},{"$f":"IF(N523=\"\",\"\",N523-Q523)","v":""}]
[null,null,null,null,null,null,null,null,null,null,null,null,null,null,null,null,null,{"$f":"IF(L524=\"\",\"\",L524-O524)","v":""},{"$f":"IF(M524=\"\",\"\",M524-P524)","v":""},{"$f":"IF(N524=\"\",\"\",N524-Q524)","v":""}]
[null,null,null,null,null,null,null,null,null,null,null,null,null,null,null,null,null,{"$f":"IF(L525=\"\",\"\",L525-O525)","v":""},{"$f":"IF(M525=\"\",\"\",M525-P525)","v":""},{"$f":"IF(N525=\"\",\"\",N525-Q525)","v":""}]
[null,null,null,null,null,null,null,null,null,null,null,null,null,null,null,null,null,{"$f":"IF(L526=\"\",\"\",L526-O526)","v":""},{"$f":"IF(M526=\"\",\"\",M526-P526)","v":""},{"$f":"IF(N526=\"\",\"\",N526-Q526)","v":""}]
[null,null,null,null,null,null,null,null,null,null,null,null,null,null,null,null,null,{"$f":"IF(L527=\"\",\"\",L527-O527)","v":""},{"$f":"IF(M527=\"\",\"\",M527-P527)","v":""},{"$f":"IF(N527=\"\",\"\",N527-Q527)","v":""}]
[null,null,null,null,null,null,null,null,null,null,null,null,null,null,null,null,null,{"$f":"IF(L528=\"\",\"\",L528-O528)","v":""},{"$f":"IF(M528=\"\",\"\",M528-P528)","v":""},{"$f":"IF(N528=\"\",\"\",N528-Q528)","v":""}]
[null,null,null,null,null,null,null,null,null,null,null,null,null,null,null,null,null,{"$f":"IF(L529=\"\",\"\",L529-O529)","v":""},{"$f":"IF(M529=\"\",\"\",M529-P529)","v":""},{"$f":"IF(N529=\"\",\"\",N529-Q529)","v":""}]
[null,null,null,null,null,null,null,null,null,null,null,null,null,null,null,null,null,{"$f":"IF(L530=\"\",\"\",L530-O530)","v":""},{"$f":"IF(M530=\"\",\"\",M530-P530)","v":""},{"$f":"IF(N530=\"\",\"\",N530-Q530)","v":""}]
[null,null,null,null,null,null,null,null,null,null,null,null,null,null,null,null,null,{"$f":"IF(L531=\"\",\"\",L531-O531)","v":""},{"$f":"IF(M531=\"\",\"\",M531-P531)","v":""},{"$f":"IF(N531=\"\",\"\",N531-Q531)","v":""}]
[null,null,null,null,null,null,null,null,null,null,null,null,null,null,null,null,null,{"$f":"IF(L532=\"\",\"\",L532-O532)","v":""},{"$f":"IF(M532=\"\",\"\",M532-P532)","v":""},{"$f":"IF(N532=\"\",\"\",N532-Q532)","v":""}]
[null,null,null,null,null,null,null,null,null,null,null,null,null,null,null,null,null,{"$f":"IF(L533=\"\",\"\",L533-O533)","v":""},{"$f":"IF(M533=\"\",\"\",M533-P533)","v":""},{"$f":"IF(N533=\"\",\"\",N533-Q533)","v":""}]
[null,null,null,null,null,null,null,null,null,null,null,null,null,null,null,null,null,{"$f":"IF(L534=\"\",\"\",L534-O534)","v":""},{"$f":"IF(M534=\"\",\"\",M534-P534)","v":""},{"$f":"IF(N534=\"\",\"\",N534-Q534)","v":""}]
[null,null,null,null,null,null,null,null,null,null,null,null,null,null,null,null,null,{"$f":"IF(L535=\"\",\"\",L535-O535)","v":""},{"$f":"IF(M535=\"\",\"\",M535-P535)","v":""},{"$f":"IF(N535=\"\",\"\",N535-Q535)","v":""}]
[null,null,null,null,null,null,null,null,null,null,null,null,null,null,null,null,null,{"$f":"IF(L536=\"\",\"\",L536-O536)","v":""},{"$f":"IF(M536=\"\",\"\",M536-P536)","v":""},{"$f":"IF(N536=\"\",\"\",N536-Q536)","v":""}]
[null,null,null,null,null,null,null,null,null,null,null,null,null,null,null,null,null,{"$f":"IF(L537=\"\",\"\",L537-O537)","v":""},{"$f":"IF(M537=\"\",\"\",M537-P537)","v":""},{"$f":"IF(N537=\"\",\"\",N537-Q537)","v":""}]
[null,null,null,null,null,null,null,null,null,null,null,null,null,null,null,null,null,{"$f":"IF(L538=\"\",\"\",L538-O538)","v":""},{"$f":"IF(M538=\"\",\"\",M538-P538)","v":""},{"$f":"IF(N538=\"\",\"\",N538-Q538)","v":""}]
[null,null,null,null,null,null,null,null,null,null,null,null,null,null,null,null,null,{"$f":"IF(L539=\"\",\"\",L539-O539)","v":""},{"$f":"IF(M539=\"\",\"\",M539-P539)","v":""},{"$f":"IF(N539=\"\",\"\",N539-Q539)","v":""}]
[null,null,null,null,null,null,null,null,null,null,null,null,null,null,null,null,null,{"$f":"IF(L540=\"\",\"\",L540-O540)","v":""},{"$f":"IF(M540=\"\",\"\",M540-P540)","v":""},{"$f":"IF(N540=\"\",\"\",N540-Q540)","v":""}]
[null,null,null,null,null,null,null,null,null,null,null,null,null,null,null,null,null,{"$f":"IF(L541=\"\",\"\",L541-O541)","v":""},{"$f":"IF(M541=\"\",\"\",M541-P541)","v":""},{"$f":"IF(N541=\"\",\"\",N541-Q541)","v":""}]
[null,null,null,null,null,null,null,null,null,null,null,null,null,null,null,null,null,{"$f":"IF(L542=\"\",\"\",L542-O542)","v":""},{"$f":"IF(M542=\"\",\"\",M542-P542)","v":""},{"$f":"IF(N542=\"\",\"\",N542-Q542)","v":""}]
[null,null,null,null,null,null,null,null,null,null,null,null,null,null,null,null,null,{"$f":"IF(L543=\"\",\"\",L543-O543)","v":""},{"$f":"IF(M543=\"\",\"\",M543-P543)","v":""},{"$f":"IF(N543=\"\",\"\",N543-Q543)","v":""}]
[null,null,null,null,null,null,null,null,null,null,null,null,null,null,null,null,null,{"$f":"IF(L544=\"\",\"\",L544-O544)","v":""},{"$f":"IF(M544=\"\",\"\",M544-P544)","v":""},{"$f":"IF(N544=\"\",\"\",N544-Q544)","v":""}]
[null,null,null,null,null,null,null,null,null,null,null,null,null,null,null,null,null,{"$f":"IF(L545=\"\",\"\",L545-O545)","v":""},{"$f":"IF(M545=\"\",\"\",M545-P545)","v":""},{"$f":"IF(N545=\"\",\"\",N545-Q545)","v":""}]
[null,null,null,null,null,null,null,null,null,null,null,null,null,null,null,null,null,{"$f":"IF(L546=\"\",\"\",L546-O546)","v":""},{"$f":"IF(M546=\"\",\"\",M546-P546)","v":""},{"$f":"IF(N546=\"\",\"\",N546-Q546)","v":""}]
[null,null,null,null,null,null,null,null,null,null,null,null,null,null,null,null,null,{"$f":"IF(L547=\"\",\"\",L547-O547)","v":""},{"$f":"IF(M547=\"\",\"\",M547-P547)","v":""},{"$f":"IF(N547=\"\",\"\",N547-Q547)","v":""}]
[null,null,null,null,null,null,null,null,null,null,null,null,null,null,null,null,null,{"$f":"IF(L548=\"\",\"\",L548-O548)","v":""},{"$f":"IF(M548=\"\",\"\",M548-P548)","v":""},{"$f":"IF(N548=\"\",\"\",N548-Q548)","v":""}]
[null,null,null,null,null,null,null,null,null,null,null,null,null,null,null,null,null,{"$f":"IF(L549=\"\",\"\",L549-O549)","v":""},{"$f":"IF(M549=\"\",\"\",M549-P549)","v":""},{"$f":"IF(N549=\"\",\"\",N549-Q549)","v":""}]
[null,null,null,null,null,null,null,null,null,null,null,null,null,null,null,null,null,{"$f":"IF(L550=\"\",\"\",L550-O550)","v":""},{"$f":"IF(M550=\"\",\"\",M550-P550)","v":""},{"$f":"IF(N550=\"\",\"\",N550-Q550)","v":""}]
[null,null,null,null,null,null,null,null,null,null,null,null,null,null,null,null,null,{"$f":"IF(L551=\"\",\"\",L551-O551)","v":""},{"$f":"IF(M551=\"\",\"\",M551-P551)","v":""},{"$f":"IF(N551=\"\",\"\",N551-Q551)","v":""}]
[null,null,null,null,null,null,null,null,null,null,null,null,null,null,null,null,null,{"$f":"IF(L552=\"\",\"\",L552-O552)","v":""},{"$f":"IF(M552=\"\",\"\",M552-P552)","v":""},{"$f":"IF(N552=\"\",\"\",N552-Q552)","v":""}]
[null,null,null,null,null,null,null,null,null,null,null,null,null,null,null,null,null,{"$f":"IF(L553=\"\",\"\",L553-O553)","v":""},{"$f":"IF(M553=\"\",\"\",M553-P553)","v":""},{"$f":"IF(N553=\"\",\"\",N553-Q553)","v":""}]
[null,null,null,null,null,null,null,null,null,null,null,null,null,null,null,null,null,{"$f":"IF(L554=\"\",\"\",L554-O554)","v":""},{"$f":"IF(M554=\"\",\"\",M554-P554)","v":""},{"$f":"IF(N554=\"\",\"\",N554-Q554)","v":""}]
[null,null,null,null,null,null,null,null,null,null,null,null,null,null,null,null,null,{"$f":"IF(L555=\"\",\"\",L555-O555)","v":""},{"$f":"IF(M555=\"\",\"\",M555-P555)","v":""},{"$f":"IF(N555=\"\",\"\",N555-Q555)","v":""}]
[null,null,null,null,null,null,null,null,null,null,null,null,null,null,null,null,null,{"$f":"IF(L556=\"\",\"\",L556-O556)","v":""},{"$f":"IF(M556=\"\",\"\",M556-P556)","v":""},{"$f":"IF(N556=\"\",\"\",N556-Q556)","v":""}]
[null,null,null,null,null,null,null,null,null,null,null,null,null,null,null,null,null,{"$f":"IF(L557=\"\",\"\",L557-O557)","v":""},{"$f":"IF(M557=\"\",\"\",M557-P557)","v":""},{"$f":"IF(N557=\"\",\"\",N557-Q557)","v":""}]
[null,null,null,null,null,null,null,null,null,null,null,null,null,null,null,null,null,{"$f":"IF(L558=\"\",\"\",L558-O558)","v":""},{"$f":"IF(M558=\"\",\"\",M558-P558)","v":""},{"$f":"IF(N558=\"\",\"\",N558-Q558)","v":""}]
[null,null,null,null,null,null,null,null,null,null,null,null,null,null,null,null,null,{"$f":"IF(L559=\"\",\"\",L559-O559)","v":""},{"$f":"IF(M559=\"\",\"\",M559-P559)","v":""},{"$f":"IF(N559=\"\",\"\",N559-Q559)","v":""}]
[null,null,null,null,null,null,null,null,null,null,null,null,null,null,null,null,null,{"$f":"IF(L560=\"\",\"\",L560-O560)","v":""},{"$f":"IF(M560=\"\",\"\",M560-P560)","v":""},{"$f":"IF(N560=\"\",\"\",N560-Q560)","v":""}]
[null,null,null,null,null,null,null,null,null,null,null,null,null,null,null,null,null,{"$f":"IF(L561=\"\",\"\",L561-O561)","v":""},{"$f":"IF(M561=\"\",\"\",M561-P561)","v":""},{"$f":"IF(N561=\"\",\"\",N561-Q561)","v":""}]
[null,null,null,null,null,null,null,null,null,null,null,null,null,null,null,null,null,{"$f":"IF(L562=\"\",\"\",L562-O562)","v":""},{"$f":"IF(M562=\"\",\"\",M562-P562)","v":""},{"$f":"IF(N562=\"\",\"\",N562-Q562)","v":""}]
[null,null,null,null,null,null,null,null,null,null,null,null,null,null,null,null,null,{"$f":"IF(L563=\"\",\"\",L563-O563)","v":""},{"$f":"IF(M563=\"\",\"\",M563-P563)","v":""},{"$f":"IF(N563=\"\",\"\",N563-Q563)","v":""}]
[null,null,null,null,null,null,null,null,null,null,null,null,null,null,null,null,null,{"$f":"IF(L564=\"\",\"\",L564-O564)","v":""},{"$f":"IF(M564=\"\",\"\",M564-P564)","v":""},{"$f":"IF(N564=\"\",\"\",N564-Q564)","v":""}]
[null,null,null,null,null,null,null,null,null,null,null,null,null,null,null,null,null,{"$f":"IF(L565=\"\",\"\",L565-O565)","v":""},{"$f":"IF(M565=\"\",\"\",M565-P565)","v":""},{"$f":"IF(N565=\"\",\"\",N565-Q565)","v":""}]
[null,null,null,null,null,null,null,null,null,null,null,null,null,null,null,null,null,{"$f":"IF(L566=\"\",\"\",L566-O566)","v":""},{"$f":"IF(M566=\"\",\"\",M566-P566)","v":""},{"$f":"IF(N566=\"\",\"\",N566-Q566)","v":""}]
[null,null,null,null,null,null,null,null,null,null,null,null,null,null,null,null,null,{"$f":"IF(L567=\"\",\"\",L567-O567)","v":""},{"$f":"IF(M567=\"\",\"\",M567-P567)","v":""},{"$f":"IF(N567=\"\",\"\",N567-Q567)","v":""}]
[null,null,null,null,null,null,null,null,null,null,null,null,null,null,null,null,null,{"$f":"IF(L568=\"\",\"\",L568-O568)","v":""},{"$f":"IF(M568=\"\",\"\",M568-P568)","v":""},{"$f":"IF(N568=\"\",\"\",N568-Q568)","v":""}]
[null,null,null,null,null,null,null,null,null,null,null,null,null,null,null,null,null,{"$f":"IF(L569=\"\",\"\",L569-O569)","v":""},{"$f":"IF(M569=\"\",\"\",M569-P569)","v":""},{"$f":"IF(N569=\"\",\"\",N569-Q569)","v":""}]
[null,null,null,null,null,null,null,null,null,null,null,null,null,null,null,null,null,{"$f":"IF(L570=\"\",\"\",L570-O570)","v":""},{"$f":"IF(M570=\"\",\"\",M570-P570)","v":""},{"$f":"IF(N570=\"\",\"\",N570-Q570)","v":""}]
[null,null,null,null,null,null,null,null,null,null,null,null,null,null,null,null,null,{"$f":"IF(L571=\"\",\"\",L571-O571)","v":""},{"$f":"IF(M571=\"\",\"\",M571-P571)","v":""},{"$f":"IF(N571=\"\",\"\",N571-Q571)","v":""}]
[null,null,null,null,null,null,null,null,null,null,null,null,null,null,null,null,null,{"$f":"IF(L572=\"\",\"\",L572-O572)","v":""},{"$f":"IF(M572=\"\",\"\",M572-P572)","v":""},{"$f":"IF(N572=\"\",\"\",N572-Q572)","v":""}]
[null,null,null,null,null,null,null,null,null,null,null,null,null,null,null,null,null,{"$f":"IF(L573=\"\",\"\",L573-O573)","v":""},{"$f":"IF(M573=\"\",\"\",M573-P573)","v":""},{"$f":"IF(N573=\"\",\"\",N573-Q573)","v":""}]
[null,null,null,null,null,null,null,null,null,null,null,null,null,null,null,null,null,{"$f":"IF(L574=\"\",\"\",L574-O574)","v":""},{"$f":"IF(M574=\"\",\"\",M574-P574)","v":""},{"$f":"IF(N574=\"\",\"\",N574-Q574)","v":""}]
[null,null,null,null,null,null,null,null,null,null,null,null,null,null,null,null,null,{"$f":"IF(L575=\"\",\"\",L575-O575)","v":""},{"$f":"IF(M575=\"\",\"\",M575-P575)","v":""},{"$f":"IF(N575=\"\",\"\",N575-Q575)","v":""}]
[null,null,null,null,null,null,null,null,null,null,null,null,null,null,null,null,null,{"$f":"IF(L576=\"\",\"\",L576-O576)","v":""},{"$f":"IF(M576=\"\",\"\",M576-P576)","v":""},{"$f":"IF(N576=\"\",\"\",N576-Q576)","v":""}]
[null,null,null,null,null,null,null,null,null,null,null,null,null,null,null,null,null,{"$f":"IF(L577=\"\",\"\",L577-O577)","v":""},{"$f":"IF(M577=\"\",\"\",M577-P577)","v":""},{"$f":"IF(N577=\"\",\"\",N577-Q577)","v":""}]
[null,null,null,null,null,null,null,null,null,null,null,null,null,null,null,null,null,{"$f":"IF(L578=\"\",\"\",L578-O578)","v":""},{"$f":"IF(M578=\"\",\"\",M578-P578)","v":""},{"$f":"IF(N578=\"\",\"\",N578-Q578)","v":""}]
[null,null,null,null,null,null,null,null,null,null,null,null,null,null,null,null,null,{"$f":"IF(L579=\"\",\"\",L579-O579)","v":""},{"$f":"IF(M579=\"\",\"\",M579-P579)","v":""},{"$f":"IF(N579=\"\",\"\",N579-Q579)","v":""}]
[null,null,null,null,null,null,null,null,null,null,null,null,null,null,null,null,null,{"$f":"IF(L580=\"\",\"\",L580-O580)","v":""},{"$f":"IF(M580=\"\",\"\",M580-P580)","v":""},{"$f":"IF(N580=\"\",\"\",N580-Q580)","v":""}]
[null,null,null,null,null,null,null,null,null,null,null,null,null,null,null,null,null,{"$f":"IF(L581=\"\",\"\",L581-O581)","v":""},{"$f":"IF(M581=\"\",\"\",M581-P581)","v":""},{"$f":"IF(N581=\"\",\"\",N581-Q581)","v":""}]
[null,null,null,null,null,null,null,null,null,null,null,null,null,null,null,null,null,{"$f":"IF(L582=\"\",\"\",L582-O582)","v":""},{"$f":"IF(M582=\"\",\"\",M582-P582)","v":""},{"$f":"IF(N582=\"\",\"\",N582-Q582)","v":""}]
[null,null,null,null,null,null,null,null,null,null,null,null,null,null,null,null,null,{"$f":"IF(L583=\"\",\"\",L583-O583)","v":""},{"$f":"IF(M583=\"\",\"\",M583-P583)","v":""},{"$f":"IF(N583=\"\",\"\",N583-Q583)","v":""}]
[null,null,null,null,null,null,null,null,null,null,null,null,null,null,null,null,null,{"$f":"IF(L584=\"\",\"\",L584-O584)","v":""},{"$f":"IF(M584=\"\",\"\",M584-P584)","v":""},{"$f":"IF(N584=\"\",\"\",N584-Q584)","v":""}]
[null,null,null,null,null,null,null,null,null,null,null,null,null,null,null,null,null,{"$f":"IF(L585=\"\",\"\",L585-O585)","v":""},{"$f":"IF(M585=\"\",\"\",M585-P585)","v":""},{"$f":"IF(N585=\"\",\"\",N585-Q585)","v":""}]
[null,null,null,null,null,null,null,null,null,null,null,null,null,null,null,null,null,{"$f":"IF(L586=\"\",\"\",L586-O586)","v":""},{"$f":"IF(M586=\"\",\"\",M586-P586)","v":""},{"$f":"IF(N586=\"\",\"\",N586-Q586)","v":""}]
[null,null,null,null,null,null,null,null,null,null,null,null,null,null,null,null,null,{"$f":"IF(L587=\"\",\"\",L587-O587)","v":""},{"$f":"IF(M587=\"\",\"\",M587-P587)","v":""},{"$f":"IF(N587=\"\",\"\",N587-Q587)","v":""}]
[null,null,null,null,null,null,null,null,null,null,null,null,null,null,null,null,null,{"$f":"IF(L588=\"\",\"\",L588-O588)","v":""},{"$f":"IF(M588=\"\",\"\",M588-P588)","v":""},{"$f":"IF(N588=\"\",\"\",N588-Q588)","v":""}]
[null,null,null,null,null,null,null,null,null,null,null,null,null,null,null,null,null,{"$f":"IF(L589=\"\",\"\",L589-O589)","v":""},{"$f":"IF(M589=\"\",\"\",M589-P589)","v":""},{"$f":"IF(N589=\"\",\"\",N589-Q589)","v":""}]
[null,null,null,null,null,null,null,null,null,null,null,null,null,null,null,null,null,{"$f":"IF(L590=\"\",\"\",L590-O590)","v":""},{"$f":"IF(M590=\"\",\"\",M590-P590)","v":""},{"$f":"IF(N590=\"\",\"\",N590-Q590)","v":""}]
[null,null,null,null,null,null,null,null,null,null,null,null,null,null,null,null,null,{"$f":"IF(L591=\"\",\"\",L591-O591)","v":""},{"$f":"IF(M591=\"\",\"\",M591-P591)","v":""},{"$f":"IF(N591=\"\",\"\",N591-Q591)","v":""}]
[null,null,null,null,null,null,null,null,null,null,null,null,null,null,null,null,null,{"$f":"IF(L592=\"\",\"\",L592-O592)","v":""},{"$f":"IF(M592=\"\",\"\",M592-P592)","v":""},{"$f":"IF(N592=\"\",\"\",N592-Q592)","v":""}]
[null,null,null,null,null,null,null,null,null,null,null,null,null,null,null,null,null,{"$f":"IF(L593=\"\",\"\",L593-O593)","v":""},{"$f":"IF(M593=\"\",\"\",M593-P593)","v":""},{"$f":"IF(N593=\"\",\"\",N593-Q593)","v":""}]
[null,null,null,null,null,null,null,null,null,null,null,null,null,null,null,null,null,{"$f":"IF(L594=\"\",\"\",L594-O594)","v":""},{"$f":"IF(M594=\"\",\"\",M594-P594)","v":""},{"$f":"IF(N594=\"\",\"\",N594-Q594)","v":""}]
[null,null,null,null,null,null,null,null,null,null,null,null,null,null,null,null,null,{"$f":"IF(L595=\"\",\"\",L595-O595)","v":""},{"$f":"IF(M595=\"\",\"\",M595-P595)","v":""},{"$f":"IF(N595=\"\",\"\",N595-Q595)","v":""}]
[null,null,null,null,null,null,null,null,null,null,null,null,null,null,null,null,null,{"$f":"IF(L596=\"\",\"\",L596-O596)","v":""},{"$f":"IF(M596=\"\",\"\",M596-P596)","v":""},{"$f":"IF(N596=\"\",\"\",N596-Q596)","v":""}]
[null,null,null,null,null,null,null,null,null,null,null,null,null,null,null,null,null,{"$f":"IF(L597=\"\",\"\",L597-O597)","v":""},{"$f":"IF(M597=\"\",\"\",M597-P597)","v":""},{"$f":"IF(N597=\"\",\"\",N597-Q597)","v":""}]
[null,null,null,null,null,null,null,null,null,null,null,null,null,null,null,null,null,{"$f":"IF(L598=\"\",\"\",L598-O598)","v":""},{"$f":"IF(M598=\"\",\"\",M598-P598)","v":""},{"$f":"IF(N598=\"\",\"\",N598-Q598)","v":""}]
[null,null,null,null,null,null,null,null,null,null,null,null,null,null,null,null,null,{"$f":"IF(L599=\"\",\"\",L599-O599)","v":""},{"$f":"IF(M599=\"\",\"\",M599-P599)","v":""},{"$f":"IF(N599=\"\",\"\",N599-Q599)","v":""}]
[null,null,null,null,null,null,null,null,null,null,null,null,null,null,null,null,null,{"$f":"IF(L600=\"\",\"\",L600-O600)","v":""},{"$f":"IF(M600=\"\",\"\",M600-P600)","v":""},{"$f":"IF(N600=\"\",\"\",N600-Q600)","v":""}]
[null,null,null,null,null,null,null,null,null,null,null,null,null,null,null,null,null,{"$f":"IF(L601=\"\",\"\",L601-O601)","v":""},{"$f":"IF(M601=\"\",\"\",M601-P601)","v":""},{"$f":"IF(N601=\"\",\"\",N601-Q601)","v":""}]
[null,null,null,null,null,null,null,null,null,null,null,null,null,null,null,null,null,{"$f":"IF(L602=\"\",\"\",L602-O602)","v":""},{"$f":"IF(M602=\"\",\"\",M602-P602)","v":""},{"$f":"IF(N602=\"\",\"\",N602-Q602)","v":""}]
[null,null,null,null,null,null,null,null,null,null,null,null,null,null,null,null,null,{"$f":"IF(L603=\"\",\"\",L603-O603)","v":""},{"$f":"IF(M603=\"\",\"\",M603-P603)","v":""},{"$f":"IF(N603=\"\",\"\",N603-Q603)","v":""}]
[null,null,null,null,null,null,null,null,null,null,null,null,null,null,null,null,null,{"$f":"IF(L604=\"\",\"\",L604-O604)","v":""},{"$f":"IF(M604=\"\",\"\",M604-P604)","v":""},{"$f":"IF(N604=\"\",\"\",N604-Q604)","v":""}]
[null,null,null,null,null,null,null,null,null,null,null,null,null,null,null,null,null,{"$f":"IF(L605=\"\",\"\",L605-O605)","v":""},{"$f":"IF(M605=\"\",\"\",M605-P605)","v":""},{"$f":"IF(N605=\"\",\"\",N605-Q605)","v":""}]
[null,null,null,null,null,null,null,null,null,null,null,null,null,null,null,null,null,{"$f":"IF(L606=\"\",\"\",L606-O606)","v":""},{"$f":"IF(M606=\"\",\"\",M606-P606)","v":""},{"$f":"IF(N606=\"\",\"\",N606-Q606)","v":""}]
[null,null,null,null,null,null,null,null,null,null,null,null,null,null,null,null,null,{"$f":"IF(L607=\"\",\"\",L607-O607)","v":""},{"$f":"IF(M607=\"\",\"\",M607-P607)","v":""},{"$f":"IF(N607=\"\",\"\",N607-Q607)","v":""}]
[null,null,null,null,null,null,null,null,null,null,null,null,null,null,null,null,null,{"$f":"IF(L608=\"\",\"\",L608-O608)","v":""},{"$f":"IF(M608=\"\",\"\",M608-P608)","v":""},{"$f":"IF(N608=\"\",\"\",N608-Q608)","v":""}]
[null,null,null,null,null,null,null,null,null,null,null,null,null,null,null,null,null,{"$f":"IF(L609=\"\",\"\",L609-O609)","v":""},{"$f":"IF(M609=\"\",\"\",M609-P609)","v":""},{"$f":"IF(N609=\"\",\"\",N609-Q609)","v":""}]
[null,null,null,null,null,null,null,null,null,null,null,null,null,null,null,null,null,{"$f":"IF(L610=\"\",\"\",L610-O610)","v":""},{"$f":"IF(M610=\"\",\"\",M610-P610)","v":""},{"$f":"IF(N610=\"\",\"\",N610-Q610)","v":""}]
[null,null,null,null,null,null,null,null,null,null,null,null,null,null,null,null,null,{"$f":"IF(L611=\"\",\"\",L611-O611)","v":""},{"$f":"IF(M611=\"\",\"\",M611-P611)","v":""},{"$f":"IF(N611=\"\",\"\",N611-Q611)","v":""}]
[null,null,null,null,null,null,null,null,null,null,null,null,null,null,null,null,null,{"$f":"IF(L612=\"\",\"\",L612-O612)","v":""},{"$f":"IF(M612=\"\",\"\",M612-P612)","v":""},{"$f":"IF(N612=\"\",\"\",N612-Q612)","v":""}]
[null,null,null,null,null,null,null,null,null,null,null,null,null,null,null,null,null,{"$f":"IF(L613=\"\",\"\",L613-O613)","v":""},{"$f":"IF(M613=\"\",\"\",M613-P613)","v":""},{"$f":"IF(N613=\"\",\"\",N613-Q613)","v":""}]
[null,null,null,null,null,null,null,null,null,null,null,null,null,null,null,null,null,{"$f":"IF(L614=\"\",\"\",L614-O614)","v":""},{"$f":"IF(M614=\"\",\"\",M614-P614)","v":""},{"$f":"IF(N614=\"\",\"\",N614-Q614)","v":""}]
[null,null,null,null,null,null,null,null,null,null,null,null,null,null,null,null,null,{"$f":"IF(L615=\"\",\"\",L615-O615)","v":""},{"$f":"IF(M615=\"\",\"\",M615-P615)","v":""},{"$f":"IF(N615=\"\",\"\",N615-Q615)","v":""}]
[null,null,null,null,null,null,null,null,null,null,null,null,null,null,null,null,null,{"$f":"IF(L616=\"\",\"\",L616-O616)","v":""},{"$f":"IF(M616=\"\",\"\",M616-P616)","v":""},{"$f":"IF(N616=\"\",\"\",N616-Q616)","v":""}]
[null,null,null,null,null,null,null,null,null,null,null,null,null,null,null,null,null,{"$f":"IF(L617=\"\",\"\",L617-O617)","v":""},{"$f":"IF(M617=\"\",\"\",M617-P617)","v":""},{"$f":"IF(N617=\"\",\"\",N617-Q617)","v":""}]
[null,null,null,null,null,null,null,null,null,null,null,null,null,null,null,null,null,{"$f":"IF(L618=\"\",\"\",L618-O618)","v":""},{"$f":"IF(M618=\"\",\"\",M618-P618)","v":""},{"$f":"IF(N618=\"\",\"\",N618-Q618)","v":""}]
[null,null,null,null,null,null,null,null,null,null,null,null,null,null,null,null,null,{"$f":"IF(L619=\"\",\"\",L619-O619)","v":""},{"$f":"IF(M619=\"\",\"\",M619-P619)","v":""},{"$f":"IF(N619=\"\",\"\",N619-Q619)","v":""}]
[null,null,null,null,null,null,null,null,null,null,null,null,null,null,null,null,null,{"$f":"IF(L620=\"\",\"\",L620-O620)","v":""},{"$f":"IF(M620=\"\",\"\",M620-P620)","v":""},{"$f":"IF(N620=\"\",\"\",N620-Q620)","v":""}]
[null,null,null,null,null,null,null,null,null,null,null,null,null,null,null,null,null,{"$f":"IF(L621=\"\",\"\",L621-O621)","v":""},{"$f":"IF(M621=\"\",\"\",M621-P621)","v":""},{"$f":"IF(N621=\"\",\"\",N621-Q621)","v":""}]
[null,null,null,null,null,null,null,null,null,null,null,null,null,null,null,null,null,{"$f":"IF(L622=\"\",\"\",L622-O622)","v":""},{"$f":"IF(M622=\"\",\"\",M622-P622)","v":""},{"$f":"IF(N622=\"\",\"\",N622-Q622)","v":""}]
[null,null,null,null,null,null,null,null,null,null,null,null,null,null,null,null,null,{"$f":"IF(L623=\"\",\"\",L623-O623)","v":""},{"$f":"IF(M623=\"\",\"\",M623-P623)","v":""},{"$f":"IF(N623=\"\",\"\",N623-Q623)","v":""}]
[null,null,null,null,null,null,null,null,null,null,null,null,null,null,null,null,null,{"$f":"IF(L624=\"\",\"\",L624-O624)","v":""},{"$f":"IF(M624=\"\",\"\",M624-P624)","v":""},{"$f":"IF(N624=\"\",\"\",N624-Q624)","v":""}]
[null,null,null,null,null,null,null,null,null,null,null,null,null,null,null,null,null,{"$f":"IF(L625=\"\",\"\",L625-O625)","v":""},{"$f":"IF(M625=\"\",\"\",M625-P625)","v":""},{"$f":"IF(N625=\"\",\"\",N625-Q625)","v":""}]
[null,null,null,null,null,null,null,null,null,null,null,null,null,null,null,null,null,{"$f":"IF(L626=\"\",\"\",L626-O626)","v":""},{"$f":"IF(M626=\"\",\"\",M626-P626)","v":""},{"$f":"IF(N626=\"\",\"\",N626-Q626)","v":""}]
[null,null,null,null,null,null,null,null,null,null,null,null,null,null,null,null,null,{"$f":"IF(L627=\"\",\"\",L627-O627)","v":""},{"$f":"IF(M627=\"\",\"\",M627-P627)","v":""},{"$f":"IF(N627=\"\",\"\",N627-Q627)","v":""}]
[null,null,null,null,null,null,null,null,null,null,null,null,null,null,null,null,null,{"$f":"IF(L628=\"\",\"\",L628-O628)","v":""},{"$f":"IF(M628=\"\",\"\",M628-P628)","v":""},{"$f":"IF(N628=\"\",\"\",N628-Q628)","v":""}]
[null,null,null,null,null,null,null,null,null,null,null,null,null,null,null,null,null,{"$f":"IF(L629=\"\",\"\",L629-O629)","v":""},{"$f":"IF(M629=\"\",\"\",M629-P629)","v":""},{"$f":"IF(N629=\"\",\"\",N629-Q629)","v":""}]
[null,null,null,null,null,null,null,null,null,null,null,null,null,null,null,null,null,{"$f":"IF(L630=\"\",\"\",L630-O630)","v":""},{"$f":"IF(M630=\"\",\"\",M630-P630)","v":""},{"$f":"IF(N630=\"\",\"\",N630-Q630)","v":""}]
[null,null,null,null,null,null,null,null,null,null,null,null,null,null,null,null,null,{"$f":"IF(L631=\"\",\"\",L631-O631)","v":""},{"$f":"IF(M631=\"\",\"\",M631-P631)","v":""},{"$f":"IF(N631=\"\",\"\",N631-Q631)","v":""}]
[null,null,null,null,null,null,null,null,null,null,null,null,null,null,null,null,null,{"$f":"IF(L632=\"\",\"\",L632-O632)","v":""},{"$f":"IF(M632=\"\",\"\",M632-P632)","v":""},{"$f":"IF(N632=\"\",\"\",N632-Q632)","v":""}]
[null,null,null,null,null,null,null,null,null,null,null,null,null,null,null,null,null,{"$f":"IF(L633=\"\",\"\",L633-O633)","v":""},{"$f":"IF(M633=\"\",\"\",M633-P633)","v":""},{"$f":"IF(N633=\"\",\"\",N633-Q633)","v":""}]
[null,null,null,null,null,null,null,null,null,null,null,null,null,null,null,null,null,{"$f":"IF(L634=\"\",\"\",L634-O634)","v":""},{"$f":"IF(M634=\"\",\"\",M634-P634)","v":""},{"$f":"IF(N634=\"\",\"\",N634-Q634)","v":""}]
[null,null,null,null,null,null,null,null,null,null,null,null,null,null,null,null,null,{"$f":"IF(L635=\"\",\"\",L635-O635)","v":""},{"$f":"IF(M635=\"\",\"\",M635-P635)","v":""},{"$f":"IF(N635=\"\",\"\",N635-Q635)","v":""}]
[null,null,null,null,null,null,null,null,null,null,null,null,null,null,null,null,null,{"$f":"IF(L636=\"\",\"\",L636-O636)","v":""},{"$f":"IF(M636=\"\",\"\",M636-P636)","v":""},{"$f":"IF(N636=\"\",\"\",N636-Q636)","v":""}]
[null,null,null,null,null,null,null,null,null,null,null,null,null,null,null,null,null,{"$f":"IF(L637=\"\",\"\",L637-O637)","v":""},{"$f":"IF(M637=\"\",\"\",M637-P637)","v":""},{"$f":"IF(N637=\"\",\"\",N637-Q637)","v":""}]
[null,null,null,null,null,null,null,null,null,null,null,null,null,null,null,null,null,{"$f":"IF(L638=\"\",\"\",L638-O638)","v":""},{"$f":"IF(M638=\"\",\"\",M638-P638)","v":""},{"$f":"IF(N638=\"\",\"\",N638-Q638)","v":""}]
[null,null,null,null,null,null,null,null,null,null,null,null,null,null,null,null,null,{"$f":"IF(L639=\"\",\"\",L639-O639)","v":""},{"$f":"IF(M639=\"\",\"\",M639-P639)","v":""},{"$f":"IF(N639=\"\",\"\",N639-Q639)","v":""}]
[null,null,null,null,null,null,null,null,null,null,null,null,null,null,null,null,null,{"$f":"IF(L640=\"\",\"\",L640-O640)","v":""},{"$f":"IF(M640=\"\",\"\",M640-P640)","v":""},{"$f":"IF(N640=\"\",\"\",N640-Q640)","v":""}]
[null,null,null,null,null,null,null,null,null,null,null,null,null,null,null,null,null,{"$f":"IF(L641=\"\",\"\",L641-O641)","v":""},{"$f":"IF(M641=\"\",\"\",M641-P641)","v":""},{"$f":"IF(N641=\"\",\"\",N641-Q641)","v":""}]
[null,null,null,null,null,null,null,null,null,null,null,null,null,null,null,null,null,{"$f":"IF(L642=\"\",\"\",L642-O642)","v":""},{"$f":"IF(M642=\"\",\"\",M642-P642)","v":""},{"$f":"IF(N642=\"\",\"\",N642-Q642)","v":""}]
[null,null,null,null,null,null,null,null,null,null,null,null,null,null,null,null,null,{"$f":"IF(L643=\"\",\"\",L643-O643)","v":""},{"$f":"IF(M643=\"\",\"\",M643-P643)","v":""},{"$f":"IF(N643=\"\",\"\",N643-Q643)","v":""}]
[null,null,null,null,null,null,null,null,null,null,null,null,null,null,null,null,null,{"$f":"IF(L644=\"\",\"\",L644-O644)","v":""},{"$f":"IF(M644=\"\",\"\",M644-P644)","v":""},{"$f":"IF(N644=\"\",\"\",N644-Q644)","v":""}]
[null,null,null,null,null,null,null,null,null,null,null,null,null,null,null,null,null,{"$f":"IF(L645=\"\",\"\",L645-O645)","v":""},{"$f":"IF(M645=\"\",\"\",M645-P645)","v":""},{"$f":"IF(N645=\"\",\"\",N645-Q645)","v":""}]
[null,null,null,null,null,null,null,null,null,null,null,null,null,null,null,null,null,{"$f":"IF(L646=\"\",\"\",L646-O646)","v":""},{"$f":"IF(M646=\"\",\"\",M646-P646)","v":""},{"$f":"IF(N646=\"\",\"\",N646-Q646)","v":""}]
[null,null,null,null,null,null,null,null,null,null,null,null,null,null,null,null,null,{"$f":"IF(L647=\"\",\"\",L647-O647)","v":""},{"$f":"IF(M647=\"\",\"\",M647-P647)","v":""},{"$f":"IF(N647=\"\",\"\",N647-Q647)","v":""}]
[null,null,null,null,null,null,null,null,null,null,null,null,null,null,null,null,null,{"$f":"IF(L648=\"\",\"\",L648-O648)","v":""},{"$f":"IF(M648=\"\",\"\",M648-P648)","v":""},{"$f":"IF(N648=\"\",\"\",N648-Q648)","v":""}]
[null,null,null,null,null,null,null,null,null,null,null,null,null,null,null,null,null,{"$f":"IF(L649=\"\",\"\",L649-O649)","v":""},{"$f":"IF(M649=\"\",\"\",M649-P649)","v":""},{"$f":"IF(N649=\"\",\"\",N649-Q649)","v":""}]
[null,null,null,null,null,null,null,null,null,null,null,null,null,null,null,null,null,{"$f":"IF(L650=\"\",\"\",L650-O650)","v":""},{"$f":"IF(M650=\"\",\"\",M650-P650)","v":""},{"$f":"IF(N650=\"\",\"\",N650-Q650)","v":""}]
[null,null,null,null,null,null,null,null,null,null,null,null,null,null,null,null,null,{"$f":"IF(L651=\"\",\"\",L651-O651)","v":""},{"$f":"IF(M651=\"\",\"\",M651-P651)","v":""},{"$f":"IF(N651=\"\",\"\",N651-Q651)","v":""}]
[null,null,null,null,null,null,null,null,null,null,null,null,null,null,null,null,null,{"$f":"IF(L652=\"\",\"\",L652-O652)","v":""},{"$f":"IF(M652=\"\",\"\",M652-P652)","v":""},{"$f":"IF(N652=\"\",\"\",N652-Q652)","v":""}]
[null,null,null,null,null,null,null,null,null,null,null,null,null,null,null,null,null,{"$f":"IF(L653=\"\",\"\",L653-O653)","v":""},{"$f":"IF(M653=\"\",\"\",M653-P653)","v":""},{"$f":"IF(N653=\"\",\"\",N653-Q653)","v":""}]
[null,null,null,null,null,null,null,null,null,null,null,null,null,null,null,null,null,{"$f":"IF(L654=\"\",\"\",L654-O654)","v":""},{"$f":"IF(M654=\"\",\"\",M654-P654)","v":""},{"$f":"IF(N654=\"\",\"\",N654-Q654)","v":""}]
[null,null,null,null,null,null,null,null,null,null,null,null,null,null,null,null,null,{"$f":"IF(L655=\"\",\"\",L655-O655)","v":""},{"$f":"IF(M655=\"\",\"\",M655-P655)","v":""},{"$f":"IF(N655=\"\",\"\",N655-Q655)","v":""}]
[null,null,null,null,null,null,null,null,null,null,null,null,null,null,null,null,null,{"$f":"IF(L656=\"\",\"\",L656-O656)","v":""},{"$f":"IF(M656=\"\",\"\",M656-P656)","v":""},{"$f":"IF(N656=\"\",\"\",N656-Q656)","v":""}]
[null,null,null,null,null,null,null,null,null,null,null,null,null,null,null,null,null,{"$f":"IF(L657=\"\",\"\",L657-O657)","v":""},{"$f":"IF(M657=\"\",\"\",M657-P657)","v":""},{"$f":"IF(N657=\"\",\"\",N657-Q657)","v":""}]
[null,null,null,null,null,null,null,null,null,null,null,null,null,null,null,null,null,{"$f":"IF(L658=\"\",\"\",L658-O658)","v":""},{"$f":"IF(M658=\"\",\"\",M658-P658)","v":""},{"$f":"IF(N658=\"\",\"\",N658-Q658)","v":""}]
[null,null,null,null,null,null,null,null,null,null,null,null,null,null,null,null,null,{"$f":"IF(L659=\"\",\"\",L659-O659)","v":""},{"$f":"IF(M659=\"\",\"\",M659-P659)","v":""},{"$f":"IF(N659=\"\",\"\",N659-Q659)","v":""}]
[null,null,null,null,null,null,null,null,null,null,null,null,null,null,null,null,null,{"$f":"IF(L660=\"\",\"\",L660-O660)","v":""},{"$f":"IF(M660=\"\",\"\",M660-P660)","v":""},{"$f":"IF(N660=\"\",\"\",N660-Q660)","v":""}]
[null,null,null,null,null,null,null,null,null,null,null,null,null,null,null,null,null,{"$f":"IF(L661=\"\",\"\",L661-O661)","v":""},{"$f":"IF(M661=\"\",\"\",M661-P661)","v":""},{"$f":"IF(N661=\"\",\"\",N661-Q661)","v":""}]
[null,null,null,null,null,null,null,null,null,null,null,null,null,null,null,null,null,{"$f":"IF(L662=\"\",\"\",L662-O662)","v":""},{"$f":"IF(M662=\"\",\"\",M662-P662)","v":""},{"$f":"IF(N662=\"\",\"\",N662-Q662)","v":""}]
[null,null,null,null,null,null,null,null,null,null,null,null,null,null,null,null,null,{"$f":"IF(L663=\"\",\"\",L663-O663)","v":""},{"$f":"IF(M663=\"\",\"\",M663-P663)","v":""},{"$f":"IF(N663=\"\",\"\",N663-Q663)","v":""}]
[null,null,null,null,null,null,null,null,null,null,null,null,null,null,null,null,null,{"$f":"IF(L664=\"\",\"\",L664-O664)","v":""},{"$f":"IF(M664=\"\",\"\",M664-P664)","v":""},{"$f":"IF(N664=\"\",\"\",N664-Q664)","v":""}]
[null,null,null,null,null,null,null,null,null,null,null,null,null,null,null,null,null,{"$f":"IF(L665=\"\",\"\",L665-O665)","v":""},{"$f":"IF(M665=\"\",\"\",M665-P665)","v":""},{"$f":"IF(N665=\"\",\"\",N665-Q665)","v":""}]
[null,null,null,null,null,null,null,null,null,null,null,null,null,null,null,null,null,{"$f":"IF(L666=\"\",\"\",L666-O666)","v":""},{"$f":"IF(M666=\"\",\"\",M666-P666)","v":""},{"$f":"IF(N666=\"\",\"\",N666-Q666)","v":""}]
[null,null,null,null,null,null,null,null,null,null,null,null,null,null,null,null,null,{"$f":"IF(L667=\"\",\"\",L667-O667)","v":""},{"$f":"IF(M667=\"\",\"\",M667-P667)","v":""},{"$f":"IF(N667=\"\",\"\",N667-Q667)","v":""}]
[null,null,null,null,null,null,null,null,null,null,null,null,null,null,null,null,null,{"$f":"IF(L668=\"\",\"\",L668-O668)","v":""},{"$f":"IF(M668=\"\",\"\",M668-P668)","v":""},{"$f":"IF(N668=\"\",\"\",N668-Q668)","v":""}]
[null,null,null,null,null,null,null,null,null,null,null,null,null,null,null,null,null,{"$f":"IF(L669=\"\",\"\",L669-O669)","v":""},{"$f":"IF(M669=\"\",\"\",M669-P669)","v":""},{"$f":"IF(N669=\"\",\"\",N669-Q669)","v":""}]
[null,null,null,null,null,null,null,null,null,null,null,null,null,null,null,null,null,{"$f":"IF(L670=\"\",\"\",L670-O670)","v":""},{"$f":"IF(M670=\"\",\"\",M670-P670)","v":""},{"$f":"IF(N670=\"\",\"\",N670-Q670)","v":""}]
[null,null,null,null,null,null,null,null,null,null,null,null,null,null,null,null,null,{"$f":"IF(L671=\"\",\"\",L671-O671)","v":""},{"$f":"IF(M671=\"\",\"\",M671-P671)","v":""},{"$f":"IF(N671=\"\",\"\",N671-Q671)","v":""}]
[null,null,null,null,null,null,null,null,null,null,null,null,null,null,null,null,null,{"$f":"IF(L672=\"\",\"\",L672-O672)","v":""},{"$f":"IF(M672=\"\",\"\",M672-P672)","v":""},{"$f":"IF(N672=\"\",\"\",N672-Q672)","v":""}]
[null,null,null,null,null,null,null,null,null,null,null,null,null,null,null,null,null,{"$f":"IF(L673=\"\",\"\",L673-O673)","v":""},{"$f":"IF(M673=\"\",\"\",M673-P673)","v":""},{"$f":"IF(N673=\"\",\"\",N673-Q673)","v":""}]
[null,null,null,null,null,null,null,null,null,null,null,null,null,null,null,null,null,{"$f":"IF(L674=\"\",\"\",L674-O674)","v":""},{"$f":"IF(M674=\"\",\"\",M674-P674)","v":""},{"$f":"IF(N674=\"\",\"\",N674-Q674)","v":""}]
[null,null,null,null,null,null,null,null,null,null,null,null,null,null,null,null,null,{"$f":"IF(L675=\"\",\"\",L675-O675)","v":""},{"$f":"IF(M675=\"\",\"\",M675-P675)","v":""},{"$f":"IF(N675=\"\",\"\",N675-Q675)","v":""}]
[null,null,null,null,null,null,null,null,null,null,null,null,null,null,null,null,null,{"$f":"IF(L676=\"\",\"\",L676-O676)","v":""},{"$f":"IF(M676=\"\",\"\",M676-P676)","v":""},{"$f":"IF(N676=\"\",\"\",N676-Q676)","v":""}]
[null,null,null,null,null,null,null,null,null,null,null,null,null,null,null,null,null,{"$f":"IF(L677=\"\",\"\",L677-O677)","v":""},{"$f":"IF(M677=\"\",\"\",M677-P677)","v":""},{"$f":"IF(N677=\"\",\"\",N677-Q677)","v":""}]
[null,null,null,null,null,null,null,null,null,null,null,null,null,null,null,null,null,{"$f":"IF(L678=\"\",\"\",L678-O678)","v":""},{"$f":"IF(M678=\"\",\"\",M678-P678)","v":""},{"$f":"IF(N678=\"\",\"\",N678-Q678)","v":""}]
[null,null,null,null,null,null,null,null,null,null,null,null,null,null,null,null,null,{"$f":"IF(L679=\"\",\"\",L679-O679)","v":""},{"$f":"IF(M679=\"\",\"\",M679-P679)","v":""},{"$f":"IF(N679=\"\",\"\",N679-Q679)","v":""}]
[null,null,null,null,null,null,null,null,null,null,null,null,null,null,null,null,null,{"$f":"IF(L680=\"\",\"\",L680-O680)","v":""},{"$f":"IF(M680=\"\",\"\",M680-P680)","v":""},{"$f":"IF(N680=\"\",\"\",N680-Q680)","v":""}]
[null,null,null,null,null,null,null,null,null,null,null,null,null,null,null,null,null,{"$f":"IF(L681=\"\",\"\",L681-O681)","v":""},{"$f":"IF(M681=\"\",\"\",M681-P681)","v":""},{"$f":"IF(N681=\"\",\"\",N681-Q681)","v":""}]
[null,null,null,null,null,null,null,null,null,null,null,null,null,null,null,null,null,{"$f":"IF(L682=\"\",\"\",L682-O682)","v":""},{"$f":"IF(M682=\"\",\"\",M682-P682)","v":""},{"$f":"IF(N682=\"\",\"\",N682-Q682)","v":""}]
[null,null,null,null,null,null,null,null,null,null,null,null,null,null,null,null,null,{"$f":"IF(L683=\"\",\"\",L683-O683)","v":""},{"$f":"IF(M683=\"\",\"\",M683-P683)","v":""},{"$f":"IF(N683=\"\",\"\",N683-Q683)","v":""}]
[null,null,null,null,null,null,null,null,null,null,null,null,null,null,null,null,null,{"$f":"IF(L684=\"\",\"\",L684-O684)","v":""},{"$f":"IF(M684=\"\",\"\",M684-P684)","v":""},{"$f":"IF(N684=\"\",\"\",N684-Q684)","v":""}]
[null,null,null,null,null,null,null,null,null,null,null,null,null,null,null,null,null,{"$f":"IF(L685=\"\",\"\",L685-O685)","v":""},{"$f":"IF(M685=\"\",\"\",M685-P685)","v":""},{"$f":"IF(N685=\"\",\"\",N685-Q685)","v":""}]
[null,null,null,null,null,null,null,null,null,null,null,null,null,null,null,null,null,{"$f":"IF(L686=\"\",\"\",L686-O686)","v":""},{"$f":"IF(M686=\"\",\"\",M686-P686)","v":""},{"$f":"IF(N686=\"\",\"\",N686-Q686)","v":""}]
[null,null,null,null,null,null,null,null,null,null,null,null,null,null,null,null,null,{"$f":"IF(L687=\"\",\"\",L687-O687)","v":""},{"$f":"IF(M687=\"\",\"\",M687-P687)","v":""},{"$f":"IF(N687=\"\",\"\",N687-Q687)","v":""}]
[null,null,null,null,null,null,null,null,null,null,null,null,null,null,null,null,null,{"$f":"IF(L688=\"\",\"\",L688-O688)","v":""},{"$f":"IF(M688=\"\",\"\",M688-P688)","v":""},{"$f":"IF(N688=\"\",\"\",N688-Q688)","v":""}]
[null,null,null,null,null,null,null,null,null,null,null,null,null,null,null,null,null,{"$f":"IF(L689=\"\",\"\",L689-O689)","v":""},{"$f":"IF(M689=\"\",\"\",M689-P689)","v":""},{"$f":"IF(N689=\"\",\"\",N689-Q689)","v":""}]
[null,null,null,null,null,null,null,null,null,null,null,null,null,null,null,null,null,{"$f":"IF(L690=\"\",\"\",L690-O690)","v":""},{"$f":"IF(M690=\"\",\"\",M690-P690)","v":""},{"$f":"IF(N690=\"\",\"\",N690-Q690)","v":""}]
[null,null,null,null,null,null,null,null,null,null,null,null,null,null,null,null,null,{"$f":"IF(L691=\"\",\"\",L691-O691)","v":""},{"$f":"IF(M691=\"\",\"\",M691-P691)","v":""},{"$f":"IF(N691=\"\",\"\",N691-Q691)","v":""}]
[null,null,null,null,null,null,null,null,null,null,null,null,null,null,null,null,null,{"$f":"IF(L692=\"\",\"\",L692-O692)","v":""},{"$f":"IF(M692=\"\",\"\",M692-P692)","v":""},{"$f":"IF(N692=\"\",\"\",N692-Q692)","v":""}]
[null,null,null,null,null,null,null,null,null,null,null,null,null,null,null,null,null,{"$f":"IF(L693=\"\",\"\",L693-O693)","v":""},{"$f":"IF(M693=\"\",\"\",M693-P693)","v":""},{"$f":"IF(N693=\"\",\"\",N693-Q693)","v":""}]
[null,null,null,null,null,null,null,null,null,null,null,null,null,null,null,null,null,{"$f":"IF(L694=\"\",\"\",L694-O694)","v":""},{"$f":"IF(M694=\"\",\"\",M694-P694)","v":""},{"$f":"IF(N694=\"\",\"\",N694-Q694)","v":""}]
[null,null,null,null,null,null,null,null,null,null,null,null,null,null,null,null,null,{"$f":"IF(L695=\"\",\"\",L695-O695)","v":""},{"$f":"IF(M695=\"\",\"\",M695-P695)","v":""},{"$f":"IF(N695=\"\",\"\",N695-Q695)","v":""}]
[null,null,null,null,null,null,null,null,null,null,null,null,null,null,null,null,null,{"$f":"IF(L696=\"\",\"\",L696-O696)","v":""},{"$f":"IF(M696=\"\",\"\",M696-P696)","v":""},{"$f":"IF(N696=\"\",\"\",N696-Q696)","v":""}]
[null,null,null,null,null,null,null,null,null,null,null,null,null,null,null,null,null,{"$f":"IF(L697=\"\",\"\",L697-O697)","v":""},{"$f":"IF(M697=\"\",\"\",M697-P697)","v":""},{"$f":"IF(N697=\"\",\"\",N697-Q697)","v":""}]
[null,null,null,null,null,null,null,null,null,null,null,null,null,null,null,null,null,{"$f":"IF(L698=\"\",\"\",L698-O698)","v":""},{"$f":"IF(M698=\"\",\"\",M698-P698)","v":""},{"$f":"IF(N698=\"\",\"\",N698-Q698)","v":""}]
[null,null,null,null,null,null,null,null,null,null,null,null,null,null,null,null,null,{"$f":"IF(L699=\"\",\"\",L699-O699)","v":""},{"$f":"IF(M699=\"\",\"\",M699-P699)","v":""},{"$f":"IF(N699=\"\",\"\",N699-Q699)","v":""}]
[null,null,null,null,null,null,null,null,null,null,null,null,null,null,null,null,null,{"$f":"IF(L700=\"\",\"\",L700-O700)","v":""},{"$f":"IF(M700=\"\",\"\",M700-P700)","v":""},{"$f":"IF(N700=\"\",\"\",N700-Q700)","v":""}]
[null,null,null,null,null,null,null,null,null,null,null,null,null,null,null,null,null,{"$f":"IF(L701=\"\",\"\",L701-O701)","v":""},{"$f":"IF(M701=\"\",\"\",M701-P701)","v":""},{"$f":"IF(N701=\"\",\"\",N701-Q701)","v":""}]
[null,null,null,null,null,null,null,null,null,null,null,null,null,null,null,null,null,{"$f":"IF(L702=\"\",\"\",L702-O702)","v":""},{"$f":"IF(M702=\"\",\"\",M702-P702)","v":""},{"$f":"IF(N702=\"\",\"\",N702-Q702)","v":""}]
[null,null,null,null,null,null,null,null,null,null,null,null,null,null,null,null,null,{"$f":"IF(L703=\"\",\"\",L703-O703)","v":""},{"$f":"IF(M703=\"\",\"\",M703-P703)","v":""},{"$f":"IF(N703=\"\",\"\",N703-Q703)","v":""}]
[null,null,null,null,null,null,null,null,null,null,null,null,null,null,null,null,null,{"$f":"IF(L704=\"\",\"\",L704-O704)","v":""},{"$f":"IF(M704=\"\",\"\",M704-P704)","v":""},{"$f":"IF(N704=\"\",\"\",N704-Q704)","v":""}]
[null,null,null,null,null,null,null,null,null,null,null,null,null,null,null,null,null,{"$f":"IF(L705=\"\",\"\",L705-O705)","v":""},{"$f":"IF(M705=\"\",\"\",M705-P705)","v":""},{"$f":"IF(N705=\"\",\"\",N705-Q705)","v":""}]
[null,null,null,null,null,null,null,null,null,null,null,null,null,null,null,null,null,{"$f":"IF(L706=\"\",\"\",L706-O706)","v":""},{"$f":"IF(M706=\"\",\"\",M706-P706)","v":""},{"$f":"IF(N706=\"\",\"\",N706-Q706)","v":""}]
[null,null,null,null,null,null,null,null,null,null,null,null,null,null,null,null,null,{"$f":"IF(L707=\"\",\"\",L707-O707)","v":""},{"$f":"IF(M707=\"\",\"\",M707-P707)","v":""},{"$f":"IF(N707=\"\",\"\",N707-Q707)","v":""}]
[null,null,null,null,null,null,null,null,null,null,null,null,null,null,null,null,null,{"$f":"IF(L708=\"\",\"\",L708-O708)","v":""},{"$f":"IF(M708=\"\",\"\",M708-P708)","v":""},{"$f":"IF(N708=\"\",\"\",N708-Q708)","v":""}]
[null,null,null,null,null,null,null,null,null,null,null,null,null,null,null,null,null,{"$f":"IF(L709=\"\",\"\",L709-O709)","v":""},{"$f":"IF(M709=\"\",\"\",M709-P709)","v":""},{"$f":"IF(N709=\"\",\"\",N709-Q709)","v":""}]
[null,null,null,null,null,null,null,null,null,null,null,null,null,null,null,null,null,{"$f":"IF(L710=\"\",\"\",L710-O710)","v":""},{"$f":"IF(M710=\"\",\"\",M710-P710)","v":""},{"$f":"IF(N710=\"\",\"\",N710-Q710)","v":""}]
[null,null,null,null,null,null,null,null,null,null,null,null,null,null,null,null,null,{"$f":"IF(L711=\"\",\"\",L711-O711)","v":""},{"$f":"IF(M711=\"\",\"\",M711-P711)","v":""},{"$f":"IF(N711=\"\",\"\",N711-Q711)","v":""}]
[null,null,null,null,null,null,null,null,null,null,null,null,null,null,null,null,null,{"$f":"IF(L712=\"\",\"\",L712-O712)","v":""},{"$f":"IF(M712=\"\",\"\",M712-P712)","v":""},{"$f":"IF(N712=\"\",\"\",N712-Q712)","v":""}]
[null,null,null,null,null,null,null,null,null,null,null,null,null,null,null,null,null,{"$f":"IF(L713=\"\",\"\",L713-O713)","v":""},{"$f":"IF(M713=\"\",\"\",M713-P713)","v":""},{"$f":"IF(N713=\"\",\"\",N713-Q713)","v":""}]
[null,null,null,null,null,null,null,null,null,null,null,null,null,null,null,null,null,{"$f":"IF(L714=\"\",\"\",L714-O714)","v":""},{"$f":"IF(M714=\"\",\"\",M714-P714)","v":""},{"$f":"IF(N714=\"\",\"\",N714-Q714)","v":""}]
[null,null,null,null,null,null,null,null,null,null,null,null,null,null,null,null,null,{"$f":"IF(L715=\"\",\"\",L715-O715)","v":""},{"$f":"IF(M715=\"\",\"\",M715-P715)","v":""},{"$f":"IF(N715=\"\",\"\",N715-Q715)","v":""}]
[null,null,null,null,null,null,null,null,null,null,null,null,null,null,null,null,null,{"$f":"IF(L716=\"\",\"\",L716-O716)","v":""},{"$f":"IF(M716=\"\",\"\",M716-P716)","v":""},{"$f":"IF(N716=\"\",\"\",N716-Q716)","v":""}]
[null,null,null,null,null,null,null,null,null,null,null,null,null,null,null,null,null,{"$f":"IF(L717=\"\",\"\",L717-O717)","v":""},{"$f":"IF(M717=\"\",\"\",M717-P717)","v":""},{"$f":"IF(N717=\"\",\"\",N717-Q717)","v":""}]
[null,null,null,null,null,null,null,null,null,null,null,null,null,null,null,null,null,{"$f":"IF(L718=\"\",\"\",L718-O718)","v":""},{"$f":"IF(M718=\"\",\"\",M718-P718)","v":""},{"$f":"IF(N718=\"\",\"\",N718-Q718)","v":""}]
[null,null,null,null,null,null,null,null,null,null,null,null,null,null,null,null,null,{"$f":"IF(L719=\"\",\"\",L719-O719)","v":""},{"$f":"IF(M719=\"\",\"\",M719-P719)","v":""},{"$f":"IF(N719=\"\",\"\",N719-Q719)","v":""}]
[null,null,null,null,null,null,null,null,null,null,null,null,null,null,null,null,null,{"$f":"IF(L720=\"\",\"\",L720-O720)","v":""},{"$f":"IF(M720=\"\",\"\",M720-P720)","v":""},{"$f":"IF(N720=\"\",\"\",N720-Q720)","v":""}]
[null,null,null,null,null,null,null,null,null,null,null,null,null,null,null,null,null,{"$f":"IF(L721=\"\",\"\",L721-O721)","v":""},{"$f":"IF(M721=\"\",\"\",M721-P721)","v":""},{"$f":"IF(N721=\"\",\"\",N721-Q721)","v":""}]
[null,null,null,null,null,null,null,null,null,null,null,null,null,null,null,null,null,{"$f":"IF(L722=\"\",\"\",L722-O722)","v":""},{"$f":"IF(M722=\"\",\"\",M722-P722)","v":""},{"$f":"IF(N722=\"\",\"\",N722-Q722)","v":""}]
[null,null,null,null,null,null,null,null,null,null,null,null,null,null,null,null,null,{"$f":"IF(L723=\"\",\"\",L723-O723)","v":""},{"$f":"IF(M723=\"\",\"\",M723-P723)","v":""},{"$f":"IF(N723=\"\",\"\",N723-Q723)","v":""}]
[null,null,null,null,null,null,null,null,null,null,null,null,null,null,null,null,null,{"$f":"IF(L724=\"\",\"\",L724-O724)","v":""},{"$f":"IF(M724=\"\",\"\",M724-P724)","v":""},{"$f":"IF(N724=\"\",\"\",N724-Q724)","v":""}]
[null,null,null,null,null,null,null,null,null,null,null,null,null,null,null,null,null,{"$f":"IF(L725=\"\",\"\",L725-O725)","v":""},{"$f":"IF(M725=\"\",\"\",M725-P725)","v":""},{"$f":"IF(N725=\"\",\"\",N725-Q725)","v":""}]
[null,null,null,null,null,null,null,null,null,null,null,null,null,null,null,null,null,{"$f":"IF(L726=\"\",\"\",L726-O726)","v":""},{"$f":"IF(M726=\"\",\"\",M726-P726)","v":""},{"$f":"IF(N726=\"\",\"\",N726-Q726)","v":""}]
[null,null,null,null,null,null,null,null,null,null,null,null,null,null,null,null,null,{"$f":"IF(L727=\"\",\"\",L727-O727)","v":""},{"$f":"IF(M727=\"\",\"\",M727-P727)","v":""},{"$f":"IF(N727=\"\",\"\",N727-Q727)","v":""}]
[null,null,null,null,null,null,null,null,null,null,null,null,null,null,null,null,null,{"$f":"IF(L728=\"\",\"\",L728-O728)","v":""},{"$f":"IF(M728=\"\",\"\",M728-P728)","v":""},{"$f":"IF(N728=\"\",\"\",N728-Q728)","v":""}]
[null,null,null,null,null,null,null,null,null,null,null,null,null,null,null,null,null,{"$f":"IF(L729=\"\",\"\",L729-O729)","v":""},{"$f":"IF(M729=\"\",\"\",M729-P729)","v":""},{"$f":"IF(N729=\"\",\"\",N729-Q729)","v":""}]
[null,null,null,null,null,null,null,null,null,null,null,null,null,null,null,null,null,{"$f":"IF(L730=\"\",\"\",L730-O730)","v":""},{"$f":"IF(M730=\"\",\"\",M730-P730)","v":""},{"$f":"IF(N730=\"\",\"\",N730-Q730)","v":""}]
[null,null,null,null,null,null,null,null,null,null,null,null,null,null,null,null,null,{"$f":"IF(L731=\"\",\"\",L731-O731)","v":""},{"$f":"IF(M731=\"\",\"\",M731-P731)","v":""},{"$f":"IF(N731=\"\",\"\",N731-Q731)","v":""}]
[null,null,null,null,null,null,null,null,null,null,null,null,null,null,null,null,null,{"$f":"IF(L732=\"\",\"\",L732-O732)","v":""},{"$f":"IF(M732=\"\",\"\",M732-P732)","v":""},{"$f":"IF(N732=\"\",\"\",N732-Q732)","v":""}]
[null,null,null,null,null,null,null,null,null,null,null,null,null,null,null,null,null,{"$f":"IF(L733=\"\",\"\",L733-O733)","v":""},{"$f":"IF(M733=\"\",\"\",M733-P733)","v":""},{"$f":"IF(N733=\"\",\"\",N733-Q733)","v":""}]
[null,null,null,null,null,null,null,null,null,null,null,null,null,null,null,null,null,{"$f":"IF(L734=\"\",\"\",L734-O734)","v":""},{"$f":"IF(M734=\"\",\"\",M734-P734)","v":""},{"$f":"IF(N734=\"\",\"\",N734-Q734)","v":""}]
[null,null,null,null,null,null,null,null,null,null,null,null,null,null,null,null,null,{"$f":"IF(L735=\"\",\"\",L735-O735)","v":""},{"$f":"IF(M735=\"\",\"\",M735-P735)","v":""},{"$f":"IF(N735=\"\",\"\",N735-Q735)","v":""}]
[null,null,null,null,null,null,null,null,null,null,null,null,null,null,null,null,null,{"$f":"IF(L736=\"\",\"\",L736-O736)","v":""},{"$f":"IF(M736=\"\",\"\",M736-P736)","v":""},{"$f":"IF(N736=\"\",\"\",N736-Q736)","v":""}]
[null,null,null,null,null,null,null,null,null,null,null,null,null,null,null,null,null,{"$f":"IF(L737=\"\",\"\",L737-O737)","v":""},{"$f":"IF(M737=\"\",\"\",M737-P737)","v":""},{"$f":"IF(N737=\"\",\"\",N737-Q737)","v":""}]
[null,null,null,null,null,null,null,null,null,null,null,null,null,null,null,null,null,{"$f":"IF(L738=\"\",\"\",L738-O738)","v":""},{"$f":"IF(M738=\"\",\"\",M738-P738)","v":""},{"$f":"IF(N738=\"\",\"\",N738-Q738)","v":""}]
[null,null,null,null,null,null,null,null,null,null,null,null,null,null,null,null,null,{"$f":"IF(L739=\"\",\"\",L739-O739)","v":""},{"$f":"IF(M739=\"\",\"\",M739-P739)","v":""},{"$f":"IF(N739=\"\",\"\",N739-Q739)","v":""}]
[null,null,null,null,null,null,null,null,null,null,null,null,null,null,null,null,null,{"$f":"IF(L740=\"\",\"\",L740-O740)","v":""},{"$f":"IF(M740=\"\",\"\",M740-P740)","v":""},{"$f":"IF(N740=\"\",\"\",N740-Q740)","v":""}]
[null,null,null,null,null,null,null,null,null,null,null,null,null,null,null,null,null,{"$f":"IF(L741=\"\",\"\",L741-O741)","v":""},{"$f":"IF(M741=\"\",\"\",M741-P741)","v":""},{"$f":"IF(N741=\"\",\"\",N741-Q741)","v":""}]
[null,null,null,null,null,null,null,null,null,null,null,null,null,null,null,null,null,{"$f":"IF(L742=\"\",\"\",L742-O742)","v":""},{"$f":"IF(M742=\"\",\"\",M742-P742)","v":""},{"$f":"IF(N742=\"\",\"\",N742-Q742)","v":""}]
[null,null,null,null,null,null,null,null,null,null,null,null,null,null,null,null,null,{"$f":"IF(L743=\"\",\"\",L743-O743)","v":""},{"$f":"IF(M743=\"\",\"\",M743-P743)","v":""},{"$f":"IF(N743=\"\",\"\",N743-Q743)","v":""}]
[null,null,null,null,null,null,null,null,null,null,null,null,null,null,null,null,null,{"$f":"IF(L744=\"\",\"\",L744-O744)","v":""},{"$f":"IF(M744=\"\",\"\",M744-P744)","v":""},{"$f":"IF(N744=\"\",\"\",N744-Q744)","v":""}]
[null,null,null,null,null,null,null,null,null,null,null,null,null,null,null,null,null,{"$f":"IF(L745=\"\",\"\",L745-O745)","v":""},{"$f":"IF(M745=\"\",\"\",M745-P745)","v":""},{"$f":"IF(N745=\"\",\"\",N745-Q745)","v":""}]
[null,null,null,null,null,null,null,null,null,null,null,null,null,null,null,null,null,{"$f":"IF(L746=\"\",\"\",L746-O746)","v":""},{"$f":"IF(M746=\"\",\"\",M746-P746)","v":""},{"$f":"IF(N746=\"\",\"\",N746-Q746)","v":""}]
[null,null,null,null,null,null,null,null,null,null,null,null,null,null,null,null,null,{"$f":"IF(L747=\"\",\"\",L747-O747)","v":""},{"$f":"IF(M747=\"\",\"\",M747-P747)","v":""},{"$f":"IF(N747=\"\",\"\",N747-Q747)","v":""}]
[null,null,null,null,null,null,null,null,null,null,null,null,null,null,null,null,null,{"$f":"IF(L748=\"\",\"\",L748-O748)","v":""},{"$f":"IF(M748=\"\",\"\",M748-P748)","v":""},{"$f":"IF(N748=\"\",\"\",N748-Q748)","v":""}]
[null,null,null,null,null,null,null,null,null,null,null,null,null,null,null,null,null,{"$f":"IF(L749=\"\",\"\",L749-O749)","v":""},{"$f":"IF(M749=\"\",\"\",M749-P749)","v":""},{"$f":"IF(N749=\"\",\"\",N749-Q749)","v":""}]
[null,null,null,null,null,null,null,null,null,null,null,null,null,null,null,null,null,{"$f":"IF(L750=\"\",\"\",L750-O750)","v":""},{"$f":"IF(M750=\"\",\"\",M750-P750)","v":""},{"$f":"IF(N750=\"\",\"\",N750-Q750)","v":""}]
[null,null,null,null,null,null,null,null,null,null,null,null,null,null,null,null,null,{"$f":"IF(L751=\"\",\"\",L751-O751)","v":""},{"$f":"IF(M751=\"\",\"\",M751-P751)","v":""},{"$f":"IF(N751=\"\",\"\",N751-Q751)","v":""}]
[null,null,null,null,null,null,null,null,null,null,null,null,null,null,null,null,null,{"$f":"IF(L752=\"\",\"\",L752-O752)","v":""},{"$f":"IF(M752=\"\",\"\",M752-P752)","v":""},{"$f":"IF(N752=\"\",\"\",N752-Q752)","v":""}]
[null,null,null,null,null,null,null,null,null,null,null,null,null,null,null,null,null,{"$f":"IF(L753=\"\",\"\",L753-O753)","v":""},{"$f":"IF(M753=\"\",\"\",M753-P753)","v":""},{"$f":"IF(N753=\"\",\"\",N753-Q753)","v":""}]
[null,null,null,null,null,null,null,null,null,null,null,null,null,null,null,null,null,{"$f":"IF(L754=\"\",\"\",L754-O754)","v":""},{"$f":"IF(M754=\"\",\"\",M754-P754)","v":""},{"$f":"IF(N754=\"\",\"\",N754-Q754)","v":""}]
[null,null,null,null,null,null,null,null,null,null,null,null,null,null,null,null,null,{"$f":"IF(L755=\"\",\"\",L755-O755)","v":""},{"$f":"IF(M755=\"\",\"\",M755-P755)","v":""},{"$f":"IF(N755=\"\",\"\",N755-Q755)","v":""}]
[null,null,null,null,null,null,null,null,null,null,null,null,null,null,null,null,null,{"$f":"IF(L756=\"\",\"\",L756-O756)","v":""},{"$f":"IF(M756=\"\",\"\",M756-P756)","v":""},{"$f":"IF(N756=\"\",\"\",N756-Q756)","v":""}]
[null,null,null,null,null,null,null,null,null,null,null,null,null,null,null,null,null,{"$f":"IF(L757=\"\",\"\",L757-O757)","v":""},{"$f":"IF(M757=\"\",\"\",M757-P757)","v":""},{"$f":"IF(N757=\"\",\"\",N757-Q757)","v":""}]
[null,null,null,null,null,null,null,null,null,null,null,null,null,null,null,null,null,{"$f":"IF(L758=\"\",\"\",L758-O758)","v":""},{"$f":"IF(M758=\"\",\"\",M758-P758)","v":""},{"$f":"IF(N758=\"\",\"\",N758-Q758)","v":""}]
[null,null,null,null,null,null,null,null,null,null,null,null,null,null,null,null,null,{"$f":"IF(L759=\"\",\"\",L759-O759)","v":""},{"$f":"IF(M759=\"\",\"\",M759-P759)","v":""},{"$f":"IF(N759=\"\",\"\",N759-Q759)","v":""}]
[null,null,null,null,null,null,null,null,null,null,null,null,null,null,null,null,null,{"$f":"IF(L760=\"\",\"\",L760-O760)","v":""},{"$f":"IF(M760=\"\",\"\",M760-P760)","v":""},{"$f":"IF(N760=\"\",\"\",N760-Q760)","v":""}]
[null,null,null,null,null,null,null,null,null,null,null,null,null,null,null,null,null,{"$f":"IF(L761=\"\",\"\",L761-O761)","v":""},{"$f":"IF(M761=\"\",\"\",M761-P761)","v":""},{"$f":"IF(N761=\"\",\"\",N761-Q761)","v":""}]
[null,null,null,null,null,null,null,null,null,null,null,null,null,null,null,null,null,{"$f":"IF(L762=\"\",\"\",L762-O762)","v":""},{"$f":"IF(M762=\"\",\"\",M762-P762)","v":""},{"$f":"IF(N762=\"\",\"\",N762-Q762)","v":""}]
[null,null,null,null,null,null,null,null,null,null,null,null,null,null,null,null,null,{"$f":"IF(L763=\"\",\"\",L763-O763)","v":""},{"$f":"IF(M763=\"\",\"\",M763-P763)","v":""},{"$f":"IF(N763=\"\",\"\",N763-Q763)","v":""}]
[null,null,null,null,null,null,null,null,null,null,null,null,null,null,null,null,null,{"$f":"IF(L764=\"\",\"\",L764-O764)","v":""},{"$f":"IF(M764=\"\",\"\",M764-P764)","v":""},{"$f":"IF(N764=\"\",\"\",N764-Q764)","v":""}]
[null,null,null,null,null,null,null,null,null,null,null,null,null,null,null,null,null,{"$f":"IF(L765=\"\",\"\",L765-O765)","v":""},{"$f":"IF(M765=\"\",\"\",M765-P765)","v":""},{"$f":"IF(N765=\"\",\"\",N765-Q765)","v":""}]
[null,null,null,null,null,null,null,null,null,null,null,null,null,null,null,null,null,{"$f":"IF(L766=\"\",\"\",L766-O766)","v":""},{"$f":"IF(M766=\"\",\"\",M766-P766)","v":""},{"$f":"IF(N766=\"\",\"\",N766-Q766)","v":""}]
[null,null,null,null,null,null,null,null,null,null,null,null,null,null,null,null,null,{"$f":"IF(L767=\"\",\"\",L767-O767)","v":""},{"$f":"IF(M767=\"\",\"\",M767-P767)","v":""},{"$f":"IF(N767=\"\",\"\",N767-Q767)","v":""}]
[null,null,null,null,null,null,null,null,null,null,null,null,null,null,null,null,null,{"$f":"IF(L768=\"\",\"\",L768-O768)","v":""},{"$f":"IF(M768=\"\",\"\",M768-P768)","v":""},{"$f":"IF(N768=\"\",\"\",N768-Q768)","v":""}]
[null,null,null,null,null,null,null,null,null,null,null,null,null,null,null,null,null,{"$f":"IF(L769=\"\",\"\",L769-O769)","v":""},{"$f":"IF(M769=\"\",\"\",M769-P769)","v":""},{"$f":"IF(N769=\"\",\"\",N769-Q769)","v":""}]
[null,null,null,null,null,null,null,null,null,null,null,null,null,null,null,null,null,{"$f":"IF(L770=\"\",\"\",L770-O770)","v":""},{"$f":"IF(M770=\"\",\"\",M770-P770)","v":""},{"$f":"IF(N770=\"\",\"\",N770-Q770)","v":""}]
[null,null,null,null,null,null,null,null,null,null,null,null,null,null,null,null,null,{"$f":"IF(L771=\"\",\"\",L771-O771)","v":""},{"$f":"IF(M771=\"\",\"\",M771-P771)","v":""},{"$f":"IF(N771=\"\",\"\",N771-Q771)","v":""}]
[null,null,null,null,null,null,null,null,null,null,null,null,null,null,null,null,null,{"$f":"IF(L772=\"\",\"\",L772-O772)","v":""},{"$f":"IF(M772=\"\",\"\",M772-P772)","v":""},{"$f":"IF(N772=\"\",\"\",N772-Q772)","v":""}]
[null,null,null,null,null,null,null,null,null,null,null,null,null,null,null,null,null,{"$f":"IF(L773=\"\",\"\",L773-O773)","v":""},{"$f":"IF(M773=\"\",\"\",M773-P773)","v":""},{"$f":"IF(N773=\"\",\"\",N773-Q773)","v":""}]
[null,null,null,null,null,null,null,null,null,null,null,null,null,null,null,null,null,{"$f":"IF(L774=\"\",\"\",L774-O774)","v":""},{"$f":"IF(M774=\"\",\"\",M774-P774)","v":""},{"$f":"IF(N774=\"\",\"\",N774-Q774)","v":""}]
[null,null,null,null,null,null,null,null,null,null,null,null,null,null,null,null,null,{"$f":"IF(L775=\"\",\"\",L775-O775)","v":""},{"$f":"IF(M775=\"\",\"\",M775-P775)","v":""},{"$f":"IF(N775=\"\",\"\",N775-Q775)","v":""}]
[null,null,null,null,null,null,null,null,null,null,null,null,null,null,null,null,null,{"$f":"IF(L776=\"\",\"\",L776-O776)","v":""},{"$f":"IF(M776=\"\",\"\",M776-P776)","v":""},{"$f":"IF(N776=\"\",\"\",N776-Q776)","v":""}]
[null,null,null,null,null,null,null,null,null,null,null,null,null,null,null,null,null,{"$f":"IF(L777=\"\",\"\",L777-O777)","v":""},{"$f":"IF(M777=\"\",\"\",M777-P777)","v":""},{"$f":"IF(N777=\"\",\"\",N777-Q777)","v":""}]
[null,null,null,null,null,null,null,null,null,null,null,null,null,null,null,null,null,{"$f":"IF(L778=\"\",\"\",L778-O778)","v":""},{"$f":"IF(M778=\"\",\"\",M778-P778)","v":""},{"$f":"IF(N778=\"\",\"\",N778-Q778)","v":""}]
[null,null,null,null,null,null,null,null,null,null,null,null,null,null,null,null,null,{"$f":"IF(L779=\"\",\"\",L779-O779)","v":""},{"$f":"IF(M779=\"\",\"\",M779-P779)","v":""},{"$f":"IF(N779=\"\",\"\",N779-Q779)","v":""}]
[null,null,null,null,null,null,null,null,null,null,null,null,null,null,null,null,null,{"$f":"IF(L780=\"\",\"\",L780-O780)","v":""},{"$f":"IF(M780=\"\",\"\",M780-P780)","v":""},{"$f":"IF(N780=\"\",\"\",N780-Q780)","v":""}]
[null,null,null,null,null,null,null,null,null,null,null,null,null,null,null,null,null,{"$f":"IF(L781=\"\",\"\",L781-O781)","v":""},{"$f":"IF(M781=\"\",\"\",M781-P781)","v":""},{"$f":"IF(N781=\"\",\"\",N781-Q781)","v":""}]
[null,null,null,null,null,null,null,null,null,null,null,null,null,null,null,null,null,{"$f":"IF(L782=\"\",\"\",L782-O782)","v":""},{"$f":"IF(M782=\"\",\"\",M782-P782)","v":""},{"$f":"IF(N782=\"\",\"\",N782-Q782)","v":""}]
[null,null,null,null,null,null,null,null,null,null,null,null,null,null,null,null,null,{"$f":"IF(L783=\"\",\"\",L783-O783)","v":""},{"$f":"IF(M783=\"\",\"\",M783-P783)","v":""},{"$f":"IF(N783=\"\",\"\",N783-Q783)","v":""}]
[null,null,null,null,null,null,null,null,null,null,null,null,null,null,null,null,null,{"$f":"IF(L784=\"\",\"\",L784-O784)","v":""},{"$f":"IF(M784=\"\",\"\",M784-P784)","v":""},{"$f":"IF(N784=\"\",\"\",N784-Q784)","v":""}]
[null,null,null,null,null,null,null,null,null,null,null,null,null,null,null,null,null,{"$f":"IF(L785=\"\",\"\",L785-O785)","v":""},{"$f":"IF(M785=\"\",\"\",M785-P785)","v":""},{"$f":"IF(N785=\"\",\"\",N785-Q785)","v":""}]
[null,null,null,null,null,null,null,null,null,null,null,null,null,null,null,null,null,{"$f":"IF(L786=\"\",\"\",L786-O786)","v":""},{"$f":"IF(M786=\"\",\"\",M786-P786)","v":""},{"$f":"IF(N786=\"\",\"\",N786-Q786)","v":""}]
[null,null,null,null,null,null,null,null,null,null,null,null,null,null,null,null,null,{"$f":"IF(L787=\"\",\"\",L787-O787)","v":""},{"$f":"IF(M787=\"\",\"\",M787-P787)","v":""},{"$f":"IF(N787=\"\",\"\",N787-Q787)","v":""}]
[null,null,null,null,null,null,null,null,null,null,null,null,null,null,null,null,null,{"$f":"IF(L788=\"\",\"\",L788-O788)","v":""},{"$f":"IF(M788=\"\",\"\",M788-P788)","v":""},{"$f":"IF(N788=\"\",\"\",N788-Q788)","v":""}]
[null,null,null,null,null,null,null,null,null,null,null,null,null,null,null,null,null,{"$f":"IF(L789=\"\",\"\",L789-O789)","v":""},{"$f":"IF(M789=\"\",\"\",M789-P789)","v":""},{"$f":"IF(N789=\"\",\"\",N789-Q789)","v":""}]
[null,null,null,null,null,null,null,null,null,null,null,null,null,null,null,null,null,{"$f":"IF(L790=\"\",\"\",L790-O790)","v":""},{"$f":"IF(M790=\"\",\"\",M790-P790)","v":""},{"$f":"IF(N790=\"\",\"\",N790-Q790)","v":""}]
[null,null,null,null,null,null,null,null,null,null,null,null,null,null,null,null,null,{"$f":"IF(L791=\"\",\"\",L791-O791)","v":""},{"$f":"IF(M791=\"\",\"\",M791-P791)","v":""},{"$f":"IF(N791=\"\",\"\",N791-Q791)","v":""}]
[null,null,null,null,null,null,null,null,null,null,null,null,null,null,null,null,null,{"$f":"IF(L792=\"\",\"\",L792-O792)","v":""},{"$f":"IF(M792=\"\",\"\",M792-P792)","v":""},{"$f":"IF(N792=\"\",\"\",N792-Q792)","v":""}]
[null,null,null,null,null,null,null,null,null,null,null,null,null,null,null,null,null,{"$f":"IF(L793=\"\",\"\",L793-O793)","v":""},{"$f":"IF(M793=\"\",\"\",M793-P793)","v":""},{"$f":"IF(N793=\"\",\"\",N793-Q793)","v":""}]
[null,null,null,null,null,null,null,null,null,null,null,null,null,null,null,null,null,{"$f":"IF(L794=\"\",\"\",L794-O794)","v":""},{"$f":"IF(M794=\"\",\"\",M794-P794)","v":""},{"$f":"IF(N794=\"\",\"\",N794-Q794)","v":""}]
[null,null,null,null,null,null,null,null,null,null,null,null,null,null,null,null,null,{"$f":"IF(L795=\"\",\"\",L795-O795)","v":""},{"$f":"IF(M795=\"\",\"\",M795-P795)","v":""},{"$f":"IF(N795=\"\",\"\",N795-Q795)","v":""}]
[null,null,null,null,null,null,null,null,null,null,null,null,null,null,null,null,null,{"$f":"IF(L796=\"\",\"\",L796-O796)","v":""},{"$f":"IF(M796=\"\",\"\",M796-P796)","v":""},{"$f":"IF(N796=\"\",\"\",N796-Q796)","v":""}]
[null,null,null,null,null,null,null,null,null,null,null,null,null,null,null,null,null,{"$f":"IF(L797=\"\",\"\",L797-O797)","v":""},{"$f":"IF(M797=\"\",\"\",M797-P797)","v":""},{"$f":"IF(N797=\"\",\"\",N797-Q797)","v":""}]
[null,null,null,null,null,null,null,null,null,null,null,null,null,null,null,null,null,{"$f":"IF(L798=\"\",\"\",L798-O798)","v":""},{"$f":"IF(M798=\"\",\"\",M798-P798)","v":""},{"$f":"IF(N798=\"\",\"\",N798-Q798)","v":""}]
[null,null,null,null,null,null,null,null,null,null,null,null,null,null,null,null,null,{"$f":"IF(L799=\"\",\"\",L799-O799)","v":""},{"$f":"IF(M799=\"\",\"\",M799-P799)","v":""},{"$f":"IF(N799=\"\",\"\",N799-Q799)","v":""}]
[null,null,null,null,null,null,null,null,null,null,null,null,null,null,null,null,null,{"$f":"IF(L800=\"\",\"\",L800-O800)","v":""},{"$f":"IF(M800=\"\",\"\",M800-P800)","v":""},{"$f":"IF(N800=\"\",\"\",N800-Q800)","v":""}]
[null,null,null,null,null,null,null,null,null,null,null,null,null,null,null,null,null,{"$f":"IF(L801=\"\",\"\",L801-O801)","v":""},{"$f":"IF(M801=\"\",\"\",M801-P801)","v":""},{"$f":"IF(N801=\"\",\"\",N801-Q801)","v":""}]
[null,null,null,null,null,null,null,null,null,null,null,null,null,null,null,null,null,{"$f":"IF(L802=\"\",\"\",L802-O802)","v":""},{"$f":"IF(M802=\"\",\"\",M802-P802)","v":""},{"$f":"IF(N802=\"\",\"\",N802-Q802)","v":""}]
[null,null,null,null,null,null,null,null,null,null,null,null,null,null,null,null,null,{"$f":"IF(L803=\"\",\"\",L803-O803)","v":""},{"$f":"IF(M803=\"\",\"\",M803-P803)","v":""},{"$f":"IF(N803=\"\",\"\",N803-Q803)","v":""}]
[null,null,null,null,null,null,null,null,null,null,null,null,null,null,null,null,null,{"$f":"IF(L804=\"\",\"\",L804-O804)","v":""},{"$f":"IF(M804=\"\",\"\",M804-P804)","v":""},{"$f":"IF(N804=\"\",\"\",N804-Q804)","v":""}]
[null,null,null,null,null,null,null,null,null,null,null,null,null,null,null,null,null,{"$f":"IF(L805=\"\",\"\",L805-O805)","v":""},{"$f":"IF(M805=\"\",\"\",M805-P805)","v":""},{"$f":"IF(N805=\"\",\"\",N805-Q805)","v":""}]
[null,null,null,null,null,null,null,null,null,null,null,null,null,null,null,null,null,{"$f":"IF(L806=\"\",\"\",L806-O806)","v":""},{"$f":"IF(M806=\"\",\"\",M806-P806)","v":""},{"$f":"IF(N806=\"\",\"\",N806-Q806)","v":""}]
[null,null,null,null,null,null,null,null,null,null,null,null,null,null,null,null,null,{"$f":"IF(L807=\"\",\"\",L807-O807)","v":""},{"$f":"IF(M807=\"\",\"\",M807-P807)","v":""},{"$f":"IF(N807=\"\",\"\",N807-Q807)","v":""}]
[null,null,null,null,null,null,null,null,null,null,null,null,null,null,null,null,null,{"$f":"IF(L808=\"\",\"\",L808-O808)","v":""},{"$f":"IF(M808=\"\",\"\",M808-P808)","v":""},{"$f":"IF(N808=\"\",\"\",N808-Q808)","v":""}]
[null,null,null,null,null,null,null,null,null,null,null,null,null,null,null,null,null,{"$f":"IF(L809=\"\",\"\",L809-O809)","v":""},{"$f":"IF(M809=\"\",\"\",M809-P809)","v":""},{"$f":"IF(N809=\"\",\"\",N809-Q809)","v":""}]
[null,null,null,null,null,null,null,null,null,null,null,null,null,null,null,null,null,{"$f":"IF(L810=\"\",\"\",L810-O810)","v":""},{"$f":"IF(M810=\"\",\"\",M810-P810)","v":""},{"$f":"IF(N810=\"\",\"\",N810-Q810)","v":""}]
[null,null,null,null,null,null,null,null,null,null,null,null,null,null,null,null,null,{"$f":"IF(L811=\"\",\"\",L811-O811)","v":""},{"$f":"IF(M811=\"\",\"\",M811-P811)","v":""},{"$f":"IF(N811=\"\",\"\",N811-Q811)","v":""}]
[null,null,null,null,null,null,null,null,null,null,null,null,null,null,null,null,null,{"$f":"IF(L812=\"\",\"\",L812-O812)","v":""},{"$f":"IF(M812=\"\",\"\",M812-P812)","v":""},{"$f":"IF(N812=\"\",\"\",N812-Q812)","v":""}]
[null,null,null,null,null,null,null,null,null,null,null,null,null,null,null,null,null,{"$f":"IF(L813=\"\",\"\",L813-O813)","v":""},{"$f":"IF(M813=\"\",\"\",M813-P813)","v":""},{"$f":"IF(N813=\"\",\"\",N813-Q813)","v":""}]
[null,null,null,null,null,null,null,null,null,null,null,null,null,null,null,null,null,{"$f":"IF(L814=\"\",\"\",L814-O814)","v":""},{"$f":"IF(M814=\"\",\"\",M814-P814)","v":""},{"$f":"IF(N814=\"\",\"\",N814-Q814)","v":""}]
[null,null,null,null,null,null,null,null,null,null,null,null,null,null,null,null,null,{"$f":"IF(L815=\"\",\"\",L815-O815)","v":""},{"$f":"IF(M815=\"\",\"\",M815-P815)","v":""},{"$f":"IF(N815=\"\",\"\",N815-Q815)","v":""}]
[null,null,null,null,null,null,null,null,null,null,null,null,null,null,null,null,null,{"$f":"IF(L816=\"\",\"\",L816-O816)","v":""},{"$f":"IF(M816=\"\",\"\",M816-P816)","v":""},{"$f":"IF(N816=\"\",\"\",N816-Q816)","v":""}]
[null,null,null,null,null,null,null,null,null,null,null,null,null,null,null,null,null,{"$f":"IF(L817=\"\",\"\",L817-O817)","v":""},{"$f":"IF(M817=\"\",\"\",M817-P817)","v":""},{"$f":"IF(N817=\"\",\"\",N817-Q817)","v":""}]
[null,null,null,null,null,null,null,null,null,null,null,null,null,null,null,null,null,{"$f":"IF(L818=\"\",\"\",L818-O818)","v":""},{"$f":"IF(M818=\"\",\"\",M818-P818)","v":""},{"$f":"IF(N818=\"\",\"\",N818-Q818)","v":""}]
[null,null,null,null,null,null,null,null,null,null,null,null,null,null,null,null,null,{"$f":"IF(L819=\"\",\"\",L819-O819)","v":""},{"$f":"IF(M819=\"\",\"\",M819-P819)","v":""},{"$f":"IF(N819=\"\",\"\",N819-Q819)","v":""}]
[null,null,null,null,null,null,null,null,null,null,null,null,null,null,null,null,null,{"$f":"IF(L820=\"\",\"\",L820-O820)","v":""},{"$f":"IF(M820=\"\",\"\",M820-P820)","v":""},{"$f":"IF(N820=\"\",\"\",N820-Q820)","v":""}]
[null,null,null,null,null,null,null,null,null,null,null,null,null,null,null,null,null,{"$f":"IF(L821=\"\",\"\",L821-O821)","v":""},{"$f":"IF(M821=\"\",\"\",M821-P821)","v":""},{"$f":"IF(N821=\"\",\"\",N821-Q821)","v":""}]
[null,null,null,null,null,null,null,null,null,null,null,null,null,null,null,null,null,{"$f":"IF(L822=\"\",\"\",L822-O822)","v":""},{"$f":"IF(M822=\"\",\"\",M822-P822)","v":""},{"$f":"IF(N822=\"\",\"\",N822-Q822)","v":""}]
[null,null,null,null,null,null,null,null,null,null,null,null,null,null,null,null,null,{"$f":"IF(L823=\"\",\"\",L823-O823)","v":""},{"$f":"IF(M823=\"\",\"\",M823-P823)","v":""},{"$f":"IF(N823=\"\",\"\",N823-Q823)","v":""}]
[null,null,null,null,null,null,null,null,null,null,null,null,null,null,null,null,null,{"$f":"IF(L824=\"\",\"\",L824-O824)","v":""},{"$f":"IF(M824=\"\",\"\",M824-P824)","v":""},{"$f":"IF(N824=\"\",\"\",N824-Q824)","v":""}]
[null,null,null,null,null,null,null,null,null,null,null,null,null,null,null,null,null,{"$f":"IF(L825=\"\",\"\",L825-O825)","v":""},{"$f":"IF(M825=\"\",\"\",M825-P825)","v":""},{"$f":"IF(N825=\"\",\"\",N825-Q825)","v":""}]
[null,null,null,null,null,null,null,null,null,null,null,null,null,null,null,null,null,{"$f":"IF(L826=\"\",\"\",L826-O826)","v":""},{"$f":"IF(M826=\"\",\"\",M826-P826)","v":""},{"$f":"IF(N826=\"\",\"\",N826-Q826)","v":""}]
[null,null,null,null,null,null,null,null,null,null,null,null,null,null,null,null,null,{"$f":"IF(L827=\"\",\"\",L827-O827)","v":""},{"$f":"IF(M827=\"\",\"\",M827-P827)","v":""},{"$f":"IF(N827=\"\",\"\",N827-Q827)","v":""}]
[null,null,null,null,null,null,null,null,null,null,null,null,null,null,null,null,null,{"$f":"IF(L828=\"\",\"\",L828-O828)","v":""},{"$f":"IF(M828=\"\",\"\",M828-P828)","v":""},{"$f":"IF(N828=\"\",\"\",N828-Q828)","v":""}]
[null,null,null,null,null,null,null,null,null,null,null,null,null,null,null,null,null,{"$f":"IF(L829=\"\",\"\",L829-O829)","v":""},{"$f":"IF(M829=\"\",\"\",M829-P829)","v":""},{"$f":"IF(N829=\"\",\"\",N829-Q829)","v":""}]
[null,null,null,null,null,null,null,null,null,null,null,null,null,null,null,null,null,{"$f":"IF(L830=\"\",\"\",L830-O830)","v":""},{"$f":"IF(M830=\"\",\"\",M830-P830)","v":""},{"$f":"IF(N830=\"\",\"\",N830-Q830)","v":""}]
[null,null,null,null,null,null,null,null,null,null,null,null,null,null,null,null,null,{"$f":"IF(L831=\"\",\"\",L831-O831)","v":""},{"$f":"IF(M831=\"\",\"\",M831-P831)","v":""},{"$f":"IF(N831=\"\",\"\",N831-Q831)","v":""}]
[null,null,null,null,null,null,null,null,null,null,null,null,null,null,null,null,null,{"$f":"IF(L832=\"\",\"\",L832-O832)","v":""},{"$f":"IF(M832=\"\",\"\",M832-P832)","v":""},{"$f":"IF(N832=\"\",\"\",N832-Q832)","v":""}]
[null,null,null,null,null,null,null,null,null,null,null,null,null,null,null,null,null,{"$f":"IF(L833=\"\",\"\",L833-O833)","v":""},{"$f":"IF(M833=\"\",\"\",M833-P833)","v":""},{"$f":"IF(N833=\"\",\"\",N833-Q833)","v":""}]
[null,null,null,null,null,null,null,null,null,null,null,null,null,null,null,null,null,{"$f":"IF(L834=\"\",\"\",L834-O834)","v":""},{"$f":"IF(M834=\"\",\"\",M834-P834)","v":""},{"$f":"IF(N834=\"\",\"\",N834-Q834)","v":""}]
[null,null,null,null,null,null,null,null,null,null,null,null,null,null,null,null,null,{"$f":"IF(L835=\"\",\"\",L835-O835)","v":""},{"$f":"IF(M835=\"\",\"\",M835-P835)","v":""},{"$f":"IF(N835=\"\",\"\",N835-Q835)","v":""}]
[null,null,null,null,null,null,null,null,null,null,null,null,null,null,null,null,null,{"$f":"IF(L836=\"\",\"\",L836-O836)","v":""},{"$f":"IF(M836=\"\",\"\",M836-P836)","v":""},{"$f":"IF(N836=\"\",\"\",N836-Q836)","v":""}]
[null,null,null,null,null,null,null,null,null,null,null,null,null,null,null,null,null,{"$f":"IF(L837=\"\",\"\",L837-O837)","v":""},{"$f":"IF(M837=\"\",\"\",M837-P837)","v":""},{"$f":"IF(N837=\"\",\"\",N837-Q837)","v":""}]
[null,null,null,null,null,null,null,null,null,null,null,null,null,null,null,null,null,{"$f":"IF(L838=\"\",\"\",L838-O838)","v":""},{"$f":"IF(M838=\"\",\"\",M838-P838)","v":""},{"$f":"IF(N838=\"\",\"\",N838-Q838)","v":""}]
[null,null,null,null,null,null,null,null,null,null,null,null,null,null,null,null,null,{"$f":"IF(L839=\"\",\"\",L839-O839)","v":""},{"$f":"IF(M839=\"\",\"\",M839-P839)","v":""},{"$f":"IF(N839=\"\",\"\",N839-Q839)","v":""}]
[null,null,null,null,null,null,null,null,null,null,null,null,null,null,null,null,null,{"$f":"IF(L840=\"\",\"\",L840-O840)","v":""},{"$f":"IF(M840=\"\",\"\",M840-P840)","v":""},{"$f":"IF(N840=\"\",\"\",N840-Q840)","v":""}]
[null,null,null,null,null,null,null,null,null,null,null,null,null,null,null,null,null,{"$f":"IF(L841=\"\",\"\",L841-O841)","v":""},{"$f":"IF(M841=\"\",\"\",M841-P841)","v":""},{"$f":"IF(N841=\"\",\"\",N841-Q841)","v":""}]
[null,null,null,null,null,null,null,null,null,null,null,null,null,null,null,null,null,{"$f":"IF(L842=\"\",\"\",L842-O842)","v":""},{"$f":"IF(M842=\"\",\"\",M842-P842)","v":""},{"$f":"IF(N842=\"\",\"\",N842-Q842)","v":""}]
[null,null,null,null,null,null,null,null,null,null,null,null,null,null,null,null,null,{"$f":"IF(L843=\"\",\"\",L843-O843)","v":""},{"$f":"IF(M843=\"\",\"\",M843-P843)","v":""},{"$f":"IF(N843=\"\",\"\",N843-Q843)","v":""}]
[null,null,null,null,null,null,null,null,null,null,null,null,null,null,null,null,null,{"$f":"IF(L844=\"\",\"\",L844-O844)","v":""},{"$f":"IF(M844=\"\",\"\",M844-P844)","v":""},{"$f":"IF(N844=\"\",\"\",N844-Q844)","v":""}]
[null,null,null,null,null,null,null,null,null,null,null,null,null,null,null,null,null,{"$f":"IF(L845=\"\",\"\",L845-O845)","v":""},{"$f":"IF(M845=\"\",\"\",M845-P845)","v":""},{"$f":"IF(N845=\"\",\"\",N845-Q845)","v":""}]
[null,null,null,null,null,null,null,null,null,null,null,null,null,null,null,null,null,{"$f":"IF(L846=\"\",\"\",L846-O846)","v":""},{"$f":"IF(M846=\"\",\"\",M846-P846)","v":""},{"$f":"IF(N846=\"\",\"\",N846-Q846)","v":""}]
[null,null,null,null,null,null,null,null,null,null,null,null,null,null,null,null,null,{"$f":"IF(L847=\"\",\"\",L847-O847)","v":""},{"$f":"IF(M847=\"\",\"\",M847-P847)","v":""},{"$f":"IF(N847=\"\",\"\",N847-Q847)","v":""}]
[null,null,null,null,null,null,null,null,null,null,null,null,null,null,null,null,null,{"$f":"IF(L848=\"\",\"\",L848-O848)","v":""},{"$f":"IF(M848=\"\",\"\",M848-P848)","v":""},{"$f":"IF(N848=\"\",\"\",N848-Q848)","v":""}]
[null,null,null,null,null,null,null,null,null,null,null,null,null,null,null,null,null,{"$f":"IF(L849=\"\",\"\",L849-O849)","v":""},{"$f":"IF(M849=\"\",\"\",M849-P849)","v":""},{"$f":"IF(N849=\"\",\"\",N849-Q849)","v":""}]
[null,null,null,null,null,null,null,null,null,null,null,null,null,null,null,null,null,{"$f":"IF(L850=\"\",\"\",L850-O850)","v":""},{"$f":"IF(M850=\"\",\"\",M850-P850)","v":""},{"$f":"IF(N850=\"\",\"\",N850-Q850)","v":""}]
[null,null,null,null,null,null,null,null,null,null,null,null,null,null,null,null,null,{"$f":"IF(L851=\"\",\"\",L851-O851)","v":""},{"$f":"IF(M851=\"\",\"\",M851-P851)","v":""},{"$f":"IF(N851=\"\",\"\",N851-Q851)","v":""}]
[null,null,null,null,null,null,null,null,null,null,null,null,null,null,null,null,null,{"$f":"IF(L852=\"\",\"\",L852-O852)","v":""},{"$f":"IF(M852=\"\",\"\",M852-P852)","v":""},{"$f":"IF(N852=\"\",\"\",N852-Q852)","v":""}]
[null,null,null,null,null,null,null,null,null,null,null,null,null,null,null,null,null,{"$f":"IF(L853=\"\",\"\",L853-O853)","v":""},{"$f":"IF(M853=\"\",\"\",M853-P853)","v":""},{"$f":"IF(N853=\"\",\"\",N853-Q853)","v":""}]
[null,null,null,null,null,null,null,null,null,null,null,null,null,null,null,null,null,{"$f":"IF(L854=\"\",\"\",L854-O854)","v":""},{"$f":"IF(M854=\"\",\"\",M854-P854)","v":""},{"$f":"IF(N854=\"\",\"\",N854-Q854)","v":""}]
[null,null,null,null,null,null,null,null,null,null,null,null,null,null,null,null,null,{"$f":"IF(L855=\"\",\"\",L855-O855)","v":""},{"$f":"IF(M855=\"\",\"\",M855-P855)","v":""},{"$f":"IF(N855=\"\",\"\",N855-Q855)","v":""}]
[null,null,null,null,null,null,null,null,null,null,null,null,null,null,null,null,null,{"$f":"IF(L856=\"\",\"\",L856-O856)","v":""},{"$f":"IF(M856=\"\",\"\",M856-P856)","v":""},{"$f":"IF(N856=\"\",\"\",N856-Q856)","v":""}]
[null,null,null,null,null,null,null,null,null,null,null,null,null,null,null,null,null,{"$f":"IF(L857=\"\",\"\",L857-O857)","v":""},{"$f":"IF(M857=\"\",\"\",M857-P857)","v":""},{"$f":"IF(N857=\"\",\"\",N857-Q857)","v":""}]
[null,null,null,null,null,null,null,null,null,null,null,null,null,null,null,null,null,{"$f":"IF(L858=\"\",\"\",L858-O858)","v":""},{"$f":"IF(M858=\"\",\"\",M858-P858)","v":""},{"$f":"IF(N858=\"\",\"\",N858-Q858)","v":""}]
[null,null,null,null,null,null,null,null,null,null,null,null,null,null,null,null,null,{"$f":"IF(L859=\"\",\"\",L859-O859)","v":""},{"$f":"IF(M859=\"\",\"\",M859-P859)","v":""},{"$f":"IF(N859=\"\",\"\",N859-Q859)","v":""}]
[null,null,null,null,null,null,null,null,null,null,null,null,null,null,null,null,null,{"$f":"IF(L860=\"\",\"\",L860-O860)","v":""},{"$f":"IF(M860=\"\",\"\",M860-P860)","v":""},{"$f":"IF(N860=\"\",\"\",N860-Q860)","v":""}]
[null,null,null,null,null,null,null,null,null,null,null,null,null,null,null,null,null,{"$f":"IF(L861=\"\",\"\",L861-O861)","v":""},{"$f":"IF(M861=\"\",\"\",M861-P861)","v":""},{"$f":"IF(N861=\"\",\"\",N861-Q861)","v":""}]
[null,null,null,null,null,null,null,null,null,null,null,null,null,null,null,null,null,{"$f":"IF(L862=\"\",\"\",L862-O862)","v":""},{"$f":"IF(M862=\"\",\"\",M862-P862)","v":""},{"$f":"IF(N862=\"\",\"\",N862-Q862)","v":""}]
[null,null,null,null,null,null,null,null,null,null,null,null,null,null,null,null,null,{"$f":"IF(L863=\"\",\"\",L863-O863)","v":""},{"$f":"IF(M863=\"\",\"\",M863-P863)","v":""},{"$f":"IF(N863=\"\",\"\",N863-Q863)","v":""}]
[null,null,null,null,null,null,null,null,null,null,null,null,null,null,null,null,null,{"$f":"IF(L864=\"\",\"\",L864-O864)","v":""},{"$f":"IF(M864=\"\",\"\",M864-P864)","v":""},{"$f":"IF(N864=\"\",\"\",N864-Q864)","v":""}]
[null,null,null,null,null,null,null,null,null,null,null,null,null,null,null,null,null,{"$f":"IF(L865=\"\",\"\",L865-O865)","v":""},{"$f":"IF(M865=\"\",\"\",M865-P865)","v":""},{"$f":"IF(N865=\"\",\"\",N865-Q865)","v":""}]
[null,null,null,null,null,null,null,null,null,null,null,null,null,null,null,null,null,{"$f":"IF(L866=\"\",\"\",L866-O866)","v":""},{"$f":"IF(M866=\"\",\"\",M866-P866)","v":""},{"$f":"IF(N866=\"\",\"\",N866-Q866)","v":""}]
[null,null,null,null,null,null,null,null,null,null,null,null,null,null,null,null,null,{"$f":"IF(L867=\"\",\"\",L867-O867)","v":""},{"$f":"IF(M867=\"\",\"\",M867-P867)","v":""},{"$f":"IF(N867=\"\",\"\",N867-Q867)","v":""}]
[null,null,null,null,null,null,null,null,null,null,null,null,null,null,null,null,null,{"$f":"IF(L868=\"\",\"\",L868-O868)","v":""},{"$f":"IF(M868=\"\",\"\",M868-P868)","v":""},{"$f":"IF(N868=\"\",\"\",N868-Q868)","v":""}]
[null,null,null,null,null,null,null,null,null,null,null,null,null,null,null,null,null,{"$f":"IF(L869=\"\",\"\",L869-O869)","v":""},{"$f":"IF(M869=\"\",\"\",M869-P869)","v":""},{"$f":"IF(N869=\"\",\"\",N869-Q869)","v":""}]
[null,null,null,null,null,null,null,null,null,null,null,null,null,null,null,null,null,{"$f":"IF(L870=\"\",\"\",L870-O870)","v":""},{"$f":"IF(M870=\"\",\"\",M870-P870)","v":""},{"$f":"IF(N870=\"\",\"\",N870-Q870)","v":""}]
[null,null,null,null,null,null,null,null,null,null,null,null,null,null,null,null,null,{"$f":"IF(L871=\"\",\"\",L871-O871)","v":""},{"$f":"IF(M871=\"\",\"\",M871-P871)","v":""},{"$f":"IF(N871=\"\",\"\",N871-Q871)","v":""}]
[null,null,null,null,null,null,null,null,null,null,null,null,null,null,null,null,null,{"$f":"IF(L872=\"\",\"\",L872-O872)","v":""},{"$f":"IF(M872=\"\",\"\",M872-P872)","v":""},{"$f":"IF(N872=\"\",\"\",N872-Q872)","v":""}]
[null,null,null,null,null,null,null,null,null,null,null,null,null,null,null,null,null,{"$f":"IF(L873=\"\",\"\",L873-O873)","v":""},{"$f":"IF(M873=\"\",\"\",M873-P873)","v":""},{"$f":"IF(N873=\"\",\"\",N873-Q873)","v":""}]
[null,null,null,null,null,null,null,null,null,null,null,null,null,null,null,null,null,{"$f":"IF(L874=\"\",\"\",L874-O874)","v":""},{"$f":"IF(M874=\"\",\"\",M874-P874)","v":""},{"$f":"IF(N874=\"\",\"\",N874-Q874)","v":""}]
[null,null,null,null,null,null,null,null,null,null,null,null,null,null,null,null,null,{"$f":"IF(L875=\"\",\"\",L875-O875)","v":""},{"$f":"IF(M875=\"\",\"\",M875-P875)","v":""},{"$f":"IF(N875=\"\",\"\",N875-Q875)","v":""}]
[null,null,null,null,null,null,null,null,null,null,null,null,null,null,null,null,null,{"$f":"IF(L876=\"\",\"\",L876-O876)","v":""},{"$f":"IF(M876=\"\",\"\",M876-P876)","v":""},{"$f":"IF(N876=\"\",\"\",N876-Q876)","v":""}]
[null,null,null,null,null,null,null,null,null,null,null,null,null,null,null,null,null,{"$f":"IF(L877=\"\",\"\",L877-O877)","v":""},{"$f":"IF(M877=\"\",\"\",M877-P877)","v":""},{"$f":"IF(N877=\"\",\"\",N877-Q877)","v":""}]
[null,null,null,null,null,null,null,null,null,null,null,null,null,null,null,null,null,{"$f":"IF(L878=\"\",\"\",L878-O878)","v":""},{"$f":"IF(M878=\"\",\"\",M878-P878)","v":""},{"$f":"IF(N878=\"\",\"\",N878-Q878)","v":""}]
[null,null,null,null,null,null,null,null,null,null,null,null,null,null,null,null,null,{"$f":"IF(L879=\"\",\"\",L879-O879)","v":""},{"$f":"IF(M879=\"\",\"\",M879-P879)","v":""},{"$f":"IF(N879=\"\",\"\",N879-Q879)","v":""}]
[null,null,null,null,null,null,null,null,null,null,null,null,null,null,null,null,null,{"$f":"IF(L880=\"\",\"\",L880-O880)","v":""},{"$f":"IF(M880=\"\",\"\",M880-P880)","v":""},{"$f":"IF(N880=\"\",\"\",N880-Q880)","v":""}]
[null,null,null,null,null,null,null,null,null,null,null,null,null,null,null,null,null,{"$f":"IF(L881=\"\",\"\",L881-O881)","v":""},{"$f":"IF(M881=\"\",\"\",M881-P881)","v":""},{"$f":"IF(N881=\"\",\"\",N881-Q881)","v":""}]
[null,null,null,null,null,null,null,null,null,null,null,null,null,null,null,null,null,{"$f":"IF(L882=\"\",\"\",L882-O882)","v":""},{"$f":"IF(M882=\"\",\"\",M882-P882)","v":""},{"$f":"IF(N882=\"\",\"\",N882-Q882)","v":""}]
[null,null,null,null,null,null,null,null,null,null,null,null,null,null,null,null,null,{"$f":"IF(L883=\"\",\"\",L883-O883)","v":""},{"$f":"IF(M883=\"\",\"\",M883-P883)","v":""},{"$f":"IF(N883=\"\",\"\",N883-Q883)","v":""}]
[null,null,null,null,null,null,null,null,null,null,null,null,null,null,null,null,null,{"$f":"IF(L884=\"\",\"\",L884-O884)","v":""},{"$f":"IF(M884=\"\",\"\",M884-P884)","v":""},{"$f":"IF(N884=\"\",\"\",N884-Q884)","v":""}]
[null,null,null,null,null,null,null,null,null,null,null,null,null,null,null,null,null,{"$f":"IF(L885=\"\",\"\",L885-O885)","v":""},{"$f":"IF(M885=\"\",\"\",M885-P885)","v":""},{"$f":"IF(N885=\"\",\"\",N885-Q885)","v":""}]
[null,null,null,null,null,null,null,null,null,null,null,null,null,null,null,null,null,{"$f":"IF(L886=\"\",\"\",L886-O886)","v":""},{"$f":"IF(M886=\"\",\"\",M886-P886)","v":""},{"$f":"IF(N886=\"\",\"\",N886-Q886)","v":""}]
[null,null,null,null,null,null,null,null,null,null,null,null,null,null,null,null,null,{"$f":"IF(L887=\"\",\"\",L887-O887)","v":""},{"$f":"IF(M887=\"\",\"\",M887-P887)","v":""},{"$f":"IF(N887=\"\",\"\",N887-Q887)","v":""}]
[null,null,null,null,null,null,null,null,null,null,null,null,null,null,null,null,null,{"$f":"IF(L888=\"\",\"\",L888-O888)","v":""},{"$f":"IF(M888=\"\",\"\",M888-P888)","v":""},{"$f":"IF(N888=\"\",\"\",N888-Q888)","v":""}]
[null,null,null,null,null,null,null,null,null,null,null,null,null,null,null,null,null,{"$f":"IF(L889=\"\",\"\",L889-O889)","v":""},{"$f":"IF(M889=\"\",\"\",M889-P889)","v":""},{"$f":"IF(N889=\"\",\"\",N889-Q889)","v":""}]
[null,null,null,null,null,null,null,null,null,null,null,null,null,null,null,null,null,{"$f":"IF(L890=\"\",\"\",L890-O890)","v":""},{"$f":"IF(M890=\"\",\"\",M890-P890)","v":""},{"$f":"IF(N890=\"\",\"\",N890-Q890)","v":""}]
[null,null,null,null,null,null,null,null,null,null,null,null,null,null,null,null,null,{"$f":"IF(L891=\"\",\"\",L891-O891)","v":""},{"$f":"IF(M891=\"\",\"\",M891-P891)","v":""},{"$f":"IF(N891=\"\",\"\",N891-Q891)","v":""}]
[null,null,null,null,null,null,null,null,null,null,null,null,null,null,null,null,null,{"$f":"IF(L892=\"\",\"\",L892-O892)","v":""},{"$f":"IF(M892=\"\",\"\",M892-P892)","v":""},{"$f":"IF(N892=\"\",\"\",N892-Q892)","v":""}]
[null,null,null,null,null,null,null,null,null,null,null,null,null,null,null,null,null,{"$f":"IF(L893=\"\",\"\",L893-O893)","v":""},{"$f":"IF(M893=\"\",\"\",M893-P893)","v":""},{"$f":"IF(N893=\"\",\"\",N893-Q893)","v":""}]
[null,null,null,null,null,null,null,null,null,null,null,null,null,null,null,null,null,{"$f":"IF(L894=\"\",\"\",L894-O894)","v":""},{"$f":"IF(M894=\"\",\"\",M894-P894)","v":""},{"$f":"IF(N894=\"\",\"\",N894-Q894)","v":""}]
[null,null,null,null,null,null,null,null,null,null,null,null,null,null,null,null,null,{"$f":"IF(L895=\"\",\"\",L895-O895)","v":""},{"$f":"IF(M895=\"\",\"\",M895-P895)","v":""},{"$f":"IF(N895=\"\",\"\",N895-Q895)","v":""}]
[null,null,null,null,null,null,null,null,null,null,null,null,null,null,null,null,null,{"$f":"IF(L896=\"\",\"\",L896-O896)","v":""},{"$f":"IF(M896=\"\",\"\",M896-P896)","v":""},{"$f":"IF(N896=\"\",\"\",N896-Q896)","v":""}]
[null,null,null,null,null,null,null,null,null,null,null,null,null,null,null,null,null,{"$f":"IF(L897=\"\",\"\",L897-O897)","v":""},{"$f":"IF(M897=\"\",\"\",M897-P897)","v":""},{"$f":"IF(N897=\"\",\"\",N897-Q897)","v":""}]
[null,null,null,null,null,null,null,null,null,null,null,null,null,null,null,null,null,{"$f":"IF(L898=\"\",\"\",L898-O898)","v":""},{"$f":"IF(M898=\"\",\"\",M898-P898)","v":""},{"$f":"IF(N898=\"\",\"\",N898-Q898)","v":""}]
[null,null,null,null,null,null,null,null,null,null,null,null,null,null,null,null,null,{"$f":"IF(L899=\"\",\"\",L899-O899)","v":""},{"$f":"IF(M899=\"\",\"\",M899-P899)","v":""},{"$f":"IF(N899=\"\",\"\",N899-Q899)","v":""}]
[null,null,null,null,null,null,null,null,null,null,null,null,null,null,null,null,null,{"$f":"IF(L900=\"\",\"\",L900-O900)","v":""},{"$f":"IF(M900=\"\",\"\",M900-P900)","v":""},{"$f":"IF(N900=\"\",\"\",N900-Q900)","v":""}]
[null,null,null,null,null,null,null,null,null,null,null,null,null,null,null,null,null,{"$f":"IF(L901=\"\",\"\",L901-O901)","v":""},{"$f":"IF(M901=\"\",\"\",M901-P901)","v":""},{"$f":"IF(N901=\"\",\"\",N901-Q901)","v":""}]
[null,null,null,null,null,null,null,null,null,null,null,null,null,null,null,null,null,{"$f":"IF(L902=\"\",\"\",L902-O902)","v":""},{"$f":"IF(M902=\"\",\"\",M902-P902)","v":""},{"$f":"IF(N902=\"\",\"\",N902-Q902)","v":""}]
[null,null,null,null,null,null,null,null,null,null,null,null,null,null,null,null,null,{"$f":"IF(L903=\"\",\"\",L903-O903)","v":""},{"$f":"IF(M903=\"\",\"\",M903-P903)","v":""},{"$f":"IF(N903=\"\",\"\",N903-Q903)","v":""}]
[null,null,null,null,null,null,null,null,null,null,null,null,null,null,null,null,null,{"$f":"IF(L904=\"\",\"\",L904-O904)","v":""},{"$f":"IF(M904=\"\",\"\",M904-P904)","v":""},{"$f":"IF(N904=\"\",\"\",N904-Q904)","v":""}]
[null,null,null,null,null,null,null,null,null,null,null,null,null,null,null,null,null,{"$f":"IF(L905=\"\",\"\",L905-O905)","v":""},{"$f":"IF(M905=\"\",\"\",M905-P905)","v":""},{"$f":"IF(N905=\"\",\"\",N905-Q905)","v":""}]
[null,null,null,null,null,null,null,null,null,null,null,null,null,null,null,null,null,{"$f":"IF(L906=\"\",\"\",L906-O906)","v":""},{"$f":"IF(M906=\"\",\"\",M906-P906)","v":""},{"$f":"IF(N906=\"\",\"\",N906-Q906)","v":""}]
[null,null,null,null,null,null,null,null,null,null,null,null,null,null,null,null,null,{"$f":"IF(L907=\"\",\"\",L907-O907)","v":""},{"$f":"IF(M907=\"\",\"\",M907-P907)","v":""},{"$f":"IF(N907=\"\",\"\",N907-Q907)","v":""}]
[null,null,null,null,null,null,null,null,null,null,null,null,null,null,null,null,null,{"$f":"IF(L908=\"\",\"\",L908-O908)","v":""},{"$f":"IF(M908=\"\",\"\",M908-P908)","v":""},{"$f":"IF(N908=\"\",\"\",N908-Q908)","v":""}]
[null,null,null,null,null,null,null,null,null,null,null,null,null,null,null,null,null,{"$f":"IF(L909=\"\",\"\",L909-O909)","v":""},{"$f":"IF(M909=\"\",\"\",M909-P909)","v":""},{"$f":"IF(N909=\"\",\"\",N909-Q909)","v":""}]
[null,null,null,null,null,null,null,null,null,null,null,null,null,null,null,null,null,{"$f":"IF(L910=\"\",\"\",L910-O910)","v":""},{"$f":"IF(M910=\"\",\"\",M910-P910)","v":""},{"$f":"IF(N910=\"\",\"\",N910-Q910)","v":""}]
[null,null,null,null,null,null,null,null,null,null,null,null,null,null,null,null,null,{"$f":"IF(L911=\"\",\"\",L911-O911)","v":""},{"$f":"IF(M911=\"\",\"\",M911-P911)","v":""},{"$f":"IF(N911=\"\",\"\",N911-Q911)","v":""}]
[null,null,null,null,null,null,null,null,null,null,null,null,null,null,null,null,null,{"$f":"IF(L912=\"\",\"\",L912-O912)","v":""},{"$f":"IF(M912=\"\",\"\",M912-P912)","v":""},{"$f":"IF(N912=\"\",\"\",N912-Q912)","v":""}]
[null,null,null,null,null,null,null,null,null,null,null,null,null,null,null,null,null,{"$f":"IF(L913=\"\",\"\",L913-O913)","v":""},{"$f":"IF(M913=\"\",\"\",M913-P913)","v":""},{"$f":"IF(N913=\"\",\"\",N913-Q913)","v":""}]
[null,null,null,null,null,null,null,null,null,null,null,null,null,null,null,null,null,{"$f":"IF(L914=\"\",\"\",L914-O914)","v":""},{"$f":"IF(M914=\"\",\"\",M914-P914)","v":""},{"$f":"IF(N914=\"\",\"\",N914-Q914)","v":""}]
[null,null,null,null,null,null,null,null,null,null,null,null,null,null,null,null,null,{"$f":"IF(L915=\"\",\"\",L915-O915)","v":""},{"$f":"IF(M915=\"\",\"\",M915-P915)","v":""},{"$f":"IF(N915=\"\",\"\",N915-Q915)","v":""}]
[null,null,null,null,null,null,null,null,null,null,null,null,null,null,null,null,null,{"$f":"IF(L916=\"\",\"\",L916-O916)","v":""},{"$f":"IF(M916=\"\",\"\",M916-P916)","v":""},{"$f":"IF(N916=\"\",\"\",N916-Q916)","v":""}]
[null,null,null,null,null,null,null,null,null,null,null,null,null,null,null,null,null,{"$f":"IF(L917=\"\",\"\",L917-O917)","v":""},{"$f":"IF(M917=\"\",\"\",M917-P917)","v":""},{"$f":"IF(N917=\"\",\"\",N917-Q917)","v":""}]
[null,null,null,null,null,null,null,null,null,null,null,null,null,null,null,null,null,{"$f":"IF(L918=\"\",\"\",L918-O918)","v":""},{"$f":"IF(M918=\"\",\"\",M918-P918)","v":""},{"$f":"IF(N918=\"\",\"\",N918-Q918)","v":""}]
[null,null,null,null,null,null,null,null,null,null,null,null,null,null,null,null,null,{"$f":"IF(L919=\"\",\"\",L919-O919)","v":""},{"$f":"IF(M919=\"\",\"\",M919-P919)","v":""},{"$f":"IF(N919=\"\",\"\",N919-Q919)","v":""}]
[null,null,null,null,null,null,null,null,null,null,null,null,null,null,null,null,null,{"$f":"IF(L920=\"\",\"\",L920-O920)","v":""},{"$f":"IF(M920=\"\",\"\",M920-P920)","v":""},{"$f":"IF(N920=\"\",\"\",N920-Q920)","v":""}]
[null,null,null,null,null,null,null,null,null,null,null,null,null,null,null,null,null,{"$f":"IF(L921=\"\",\"\",L921-O921)","v":""},{"$f":"IF(M921=\"\",\"\",M921-P921)","v":""},{"$f":"IF(N921=\"\",\"\",N921-Q921)","v":""}]
[null,null,null,null,null,null,null,null,null,null,null,null,null,null,null,null,null,{"$f":"IF(L922=\"\",\"\",L922-O922)","v":""},{"$f":"IF(M922=\"\",\"\",M922-P922)","v":""},{"$f":"IF(N922=\"\",\"\",N922-Q922)","v":""}]
[null,null,null,null,null,null,null,null,null,null,null,null,null,null,null,null,null,{"$f":"IF(L923=\"\",\"\",L923-O923)","v":""},{"$f":"IF(M923=\"\",\"\",M923-P923)","v":""},{"$f":"IF(N923=\"\",\"\",N923-Q923)","v":""}]
[null,null,null,null,null,null,null,null,null,null,null,null,null,null,null,null,null,{"$f":"IF(L924=\"\",\"\",L924-O924)","v":""},{"$f":"IF(M924=\"\",\"\",M924-P924)","v":""},{"$f":"IF(N924=\"\",\"\",N924-Q924)","v":""}]
[null,null,null,null,null,null,null,null,null,null,null,null,null,null,null,null,null,{"$f":"IF(L925=\"\",\"\",L925-O925)","v":""},{"$f":"IF(M925=\"\",\"\",M925-P925)","v":""},{"$f":"IF(N925=\"\",\"\",N925-Q925)","v":""}]
[null,null,null,null,null,null,null,null,null,null,null,null,null,null,null,null,null,{"$f":"IF(L926=\"\",\"\",L926-O926)","v":""},{"$f":"IF(M926=\"\",\"\",M926-P926)","v":""},{"$f":"IF(N926=\"\",\"\",N926-Q926)","v":""}]
[null,null,null,null,null,null,null,null,null,null,null,null,null,null,null,null,null,{"$f":"IF(L927=\"\",\"\",L927-O927)","v":""},{"$f":"IF(M927=\"\",\"\",M927-P927)","v":""},{"$f":"IF(N927=\"\",\"\",N927-Q927)","v":""}]
[null,null,null,null,null,null,null,null,null,null,null,null,null,null,null,null,null,{"$f":"IF(L928=\"\",\"\",L928-O928)","v":""},{"$f":"IF(M928=\"\",\"\",M928-P928)","v":""},{"$f":"IF(N928=\"\",\"\",N928-Q928)","v":""}]
[null,null,null,null,null,null,null,null,null,null,null,null,null,null,null,null,null,{"$f":"IF(L929=\"\",\"\",L929-O929)","v":""},{"$f":"IF(M929=\"\",\"\",M929-P929)","v":""},{"$f":"IF(N929=\"\",\"\",N929-Q929)","v":""}]
[null,null,null,null,null,null,null,null,null,null,null,null,null,null,null,null,null,{"$f":"IF(L930=\"\",\"\",L930-O930)","v":""},{"$f":"IF(M930=\"\",\"\",M930-P930)","v":""},{"$f":"IF(N930=\"\",\"\",N930-Q930)","v":""}]
[null,null,null,null,null,null,null,null,null,null,null,null,null,null,null,null,null,{"$f":"IF(L931=\"\",\"\",L931-O931)","v":""},{"$f":"IF(M931=\"\",\"\",M931-P931)","v":""},{"$f":"IF(N931=\"\",\"\",N931-Q931)","v":""}]
[null,null,null,null,null,null,null,null,null,null,null,null,null,null,null,null,null,{"$f":"IF(L932=\"\",\"\",L932-O932)","v":""},{"$f":"IF(M932=\"\",\"\",M932-P932)","v":""},{"$f":"IF(N932=\"\",\"\",N932-Q932)","v":""}]
[null,null,null,null,null,null,null,null,null,null,null,null,null,null,null,null,null,{"$f":"IF(L933=\"\",\"\",L933-O933)","v":""},{"$f":"IF(M933=\"\",\"\",M933-P933)","v":""},{"$f":"IF(N933=\"\",\"\",N933-Q933)","v":""}]
[null,null,null,null,null,null,null,null,null,null,null,null,null,null,null,null,null,{"$f":"IF(L934=\"\",\"\",L934-O934)","v":""},{"$f":"IF(M934=\"\",\"\",M934-P934)","v":""},{"$f":"IF(N934=\"\",\"\",N934-Q934)","v":""}]
[null,null,null,null,null,null,null,null,null,null,null,null,null,null,null,null,null,{"$f":"IF(L935=\"\",\"\",L935-O935)","v":""},{"$f":"IF(M935=\"\",\"\",M935-P935)","v":""},{"$f":"IF(N935=\"\",\"\",N935-Q935)","v":""}]
[null,null,null,null,null,null,null,null,null,null,null,null,null,null,null,null,null,{"$f":"IF(L936=\"\",\"\",L936-O936)","v":""},{"$f":"IF(M936=\"\",\"\",M936-P936)","v":""},{"$f":"IF(N936=\"\",\"\",N936-Q936)","v":""}]
[null,null,null,null,null,null,null,null,null,null,null,null,null,null,null,null,null,{"$f":"IF(L937=\"\",\"\",L937-O937)","v":""},{"$f":"IF(M937=\"\",\"\",M937-P937)","v":""},{"$f":"IF(N937=\"\",\"\",N937-Q937)","v":""}]
[null,null,null,null,null,null,null,null,null,null,null,null,null,null,null,null,null,{"$f":"IF(L938=\"\",\"\",L938-O938)","v":""},{"$f":"IF(M938=\"\",\"\",M938-P938)","v":""},{"$f":"IF(N938=\"\",\"\",N938-Q938)","v":""}]
[null,null,null,null,null,null,null,null,null,null,null,null,null,null,null,null,null,{"$f":"IF(L939=\"\",\"\",L939-O939)","v":""},{"$f":"IF(M939=\"\",\"\",M939-P939)","v":""},{"$f":"IF(N939=\"\",\"\",N939-Q939)","v":""}]
[null,null,null,null,null,null,null,null,null,null,null,null,null,null,null,null,null,{"$f":"IF(L940=\"\",\"\",L940-O940)","v":""},{"$f":"IF(M940=\"\",\"\",M940-P940)","v":""},{"$f":"IF(N940=\"\",\"\",N940-Q940)","v":""}]
[null,null,null,null,null,null,null,null,null,null,null,null,null,null,null,null,null,{"$f":"IF(L941=\"\",\"\",L941-O941)","v":""},{"$f":"IF(M941=\"\",\"\",M941-P941)","v":""},{"$f":"IF(N941=\"\",\"\",N941-Q941)","v":""}]
[null,null,null,null,null,null,null,null,null,null,null,null,null,null,null,null,null,{"$f":"IF(L942=\"\",\"\",L942-O942)","v":""},{"$f":"IF(M942=\"\",\"\",M942-P942)","v":""},{"$f":"IF(N942=\"\",\"\",N942-Q942)","v":""}]
[null,null,null,null,null,null,null,null,null,null,null,null,null,null,null,null,null,{"$f":"IF(L943=\"\",\"\",L943-O943)","v":""},{"$f":"IF(M943=\"\",\"\",M943-P943)","v":""},{"$f":"IF(N943=\"\",\"\",N943-Q943)","v":""}]
[null,null,null,null,null,null,null,null,null,null,null,null,null,null,null,null,null,{"$f":"IF(L944=\"\",\"\",L944-O944)","v":""},{"$f":"IF(M944=\"\",\"\",M944-P944)","v":""},{"$f":"IF(N944=\"\",\"\",N944-Q944)","v":""}]
[null,null,null,null,null,null,null,null,null,null,null,null,null,null,null,null,null,{"$f":"IF(L945=\"\",\"\",L945-O945)","v":""},{"$f":"IF(M945=\"\",\"\",M945-P945)","v":""},{"$f":"IF(N945=\"\",\"\",N945-Q945)","v":""}]
[null,null,null,null,null,null,null,null,null,null,null,null,null,null,null,null,null,{"$f":"IF(L946=\"\",\"\",L946-O946)","v":""},{"$f":"IF(M946=\"\",\"\",M946-P946)","v":""},{"$f":"IF(N946=\"\",\"\",N946-Q946)","v":""}]
[null,null,null,null,null,null,null,null,null,null,null,null,null,null,null,null,null,{"$f":"IF(L947=\"\",\"\",L947-O947)","v":""},{"$f":"IF(M947=\"\",\"\",M947-P947)","v":""},{"$f":"IF(N947=\"\",\"\",N947-Q947)","v":""}]
[null,null,null,null,null,null,null,null,null,null,null,null,null,null,null,null,null,{"$f":"IF(L948=\"\",\"\",L948-O948)","v":""},{"$f":"IF(M948=\"\",\"\",M948-P948)","v":""},{"$f":"IF(N948=\"\",\"\",N948-Q948)","v":""}]
[null,null,null,null,null,null,null,null,null,null,null,null,null,null,null,null,null,{"$f":"IF(L949=\"\",\"\",L949-O949)","v":""},{"$f":"IF(M949=\"\",\"\",M949-P949)","v":""},{"$f":"IF(N949=\"\",\"\",N949-Q949)","v":""}]
[null,null,null,null,null,null,null,null,null,null,null,null,null,null,null,null,null,{"$f":"IF(L950=\"\",\"\",L950-O950)","v":""},{"$f":"IF(M950=\"\",\"\",M950-P950)","v":""},{"$f":"IF(N950=\"\",\"\",N950-Q950)","v":""}]
[null,null,null,null,null,null,null,null,null,null,null,null,null,null,null,null,null,{"$f":"IF(L951=\"\",\"\",L951-O951)","v":""},{"$f":"IF(M951=\"\",\"\",M951-P951)","v":""},{"$f":"IF(N951=\"\",\"\",N951-Q951)","v":""}]
[null,null,null,null,null,null,null,null,null,null,null,null,null,null,null,null,null,{"$f":"IF(L952=\"\",\"\",L952-O952)","v":""},{"$f":"IF(M952=\"\",\"\",M952-P952)","v":""},{"$f":"IF(N952=\"\",\"\",N952-Q952)","v":""}]
[null,null,null,null,null,null,null,null,null,null,null,null,null,null,null,null,null,{"$f":"IF(L953=\"\",\"\",L953-O953)","v":""},{"$f":"IF(M953=\"\",\"\",M953-P953)","v":""},{"$f":"IF(N953=\"\",\"\",N953-Q953)","v":""}]
[null,null,null,null,null,null,null,null,null,null,null,null,null,null,null,null,null,{"$f":"IF(L954=\"\",\"\",L954-O954)","v":""},{"$f":"IF(M954=\"\",\"\",M954-P954)","v":""},{"$f":"IF(N954=\"\",\"\",N954-Q954)","v":""}]
[null,null,null,null,null,null,null,null,null,null,null,null,null,null,null,null,null,{"$f":"IF(L955=\"\",\"\",L955-O955)","v":""},{"$f":"IF(M955=\"\",\"\",M955-P955)","v":""},{"$f":"IF(N955=\"\",\"\",N955-Q955)","v":""}]
[null,null,null,null,null,null,null,null,null,null,null,null,null,null,null,null,null,{"$f":"IF(L956=\"\",\"\",L956-O956)","v":""},{"$f":"IF(M956=\"\",\"\",M956-P956)","v":""},{"$f":"IF(N956=\"\",\"\",N956-Q956)","v":""}]
[null,null,null,null,null,null,null,null,null,null,null,null,null,null,null,null,null,{"$f":"IF(L957=\"\",\"\",L957-O957)","v":""},{"$f":"IF(M957=\"\",\"\",M957-P957)","v":""},{"$f":"IF(N957=\"\",\"\",N957-Q957)","v":""}]
[null,null,null,null,null,null,null,null,null,null,null,null,null,null,null,null,null,{"$f":"IF(L958=\"\",\"\",L958-O958)","v":""},{"$f":"IF(M958=\"\",\"\",M958-P958)","v":""},{"$f":"IF(N958=\"\",\"\",N958-Q958)","v":""}]
[null,null,null,null,null,null,null,null,null,null,null,null,null,null,null,null,null,{"$f":"IF(L959=\"\",\"\",L959-O959)","v":""},{"$f":"IF(M959=\"\",\"\",M959-P959)","v":""},{"$f":"IF(N959=\"\",\"\",N959-Q959)","v":""}]
[null,null,null,null,null,null,null,null,null,null,null,null,null,null,null,null,null,{"$f":"IF(L960=\"\",\"\",L960-O960)","v":""},{"$f":"IF(M960=\"\",\"\",M960-P960)","v":""},{"$f":"IF(N960=\"\",\"\",N960-Q960)","v":""}]
[null,null,null,null,null,null,null,null,null,null,null,null,null,null,null,null,null,{"$f":"IF(L961=\"\",\"\",L961-O961)","v":""},{"$f":"IF(M961=\"\",\"\",M961-P961)","v":""},{"$f":"IF(N961=\"\",\"\",N961-Q961)","v":""}]
[null,null,null,null,null,null,null,null,null,null,null,null,null,null,null,null,null,{"$f":"IF(L962=\"\",\"\",L962-O962)","v":""},{"$f":"IF(M962=\"\",\"\",M962-P962)","v":""},{"$f":"IF(N962=\"\",\"\",N962-Q962)","v":""}]
[null,null,null,null,null,null,null,null,null,null,null,null,null,null,null,null,null,{"$f":"IF(L963=\"\",\"\",L963-O963)","v":""},{"$f":"IF(M963=\"\",\"\",M963-P963)","v":""},{"$f":"IF(N963=\"\",\"\",N963-Q963)","v":""}]
[null,null,null,null,null,null,null,null,null,null,null,null,null,null,null,null,null,{"$f":"IF(L964=\"\",\"\",L964-O964)","v":""},{"$f":"IF(M964=\"\",\"\",M964-P964)","v":""},{"$f":"IF(N964=\"\",\"\",N964-Q964)","v":""}]
[null,null,null,null,null,null,null,null,null,null,null,null,null,null,null,null,null,{"$f":"IF(L965=\"\",\"\",L965-O965)","v":""},{"$f":"IF(M965=\"\",\"\",M965-P965)","v":""},{"$f":"IF(N965=\"\",\"\",N965-Q965)","v":""}]
[null,null,null,null,null,null,null,null,null,null,null,null,null,null,null,null,null,{"$f":"IF(L966=\"\",\"\",L966-O966)","v":""},{"$f":"IF(M966=\"\",\"\",M966-P966)","v":""},{"$f":"IF(N966=\"\",\"\",N966-Q966)","v":""}]
[null,null,null,null,null,null,null,null,null,null,null,null,null,null,null,null,null,{"$f":"IF(L967=\"\",\"\",L967-O967)","v":""},{"$f":"IF(M967=\"\",\"\",M967-P967)","v":""},{"$f":"IF(N967=\"\",\"\",N967-Q967)","v":""}]
[null,null,null,null,null,null,null,null,null,null,null,null,null,null,null,null,null,{"$f":"IF(L968=\"\",\"\",L968-O968)","v":""},{"$f":"IF(M968=\"\",\"\",M968-P968)","v":""},{"$f":"IF(N968=\"\",\"\",N968-Q968)","v":""}]
[null,null,null,null,null,null,null,null,null,null,null,null,null,null,null,null,null,{"$f":"IF(L969=\"\",\"\",L969-O969)","v":""},{"$f":"IF(M969=\"\",\"\",M969-P969)","v":""},{"$f":"IF(N969=\"\",\"\",N969-Q969)","v":""}]
[null,null,null,null,null,null,null,null,null,null,null,null,null,null,null,null,null,{"$f":"IF(L970=\"\",\"\",L970-O970)","v":""},{"$f":"IF(M970=\"\",\"\",M970-P970)","v":""},{"$f":"IF(N970=\"\",\"\",N970-Q970)","v":""}]
[null,null,null,null,null,null,null,null,null,null,null,null,null,null,null,null,null,{"$f":"IF(L971=\"\",\"\",L971-O971)","v":""},{"$f":"IF(M971=\"\",\"\",M971-P971)","v":""},{"$f":"IF(N971=\"\",\"\",N971-Q971)","v":""}]
[null,null,null,null,null,null,null,null,null,null,null,null,null,null,null,null,null,{"$f":"IF(L972=\"\",\"\",L972-O972)","v":""},{"$f":"IF(M972=\"\",\"\",M972-P972)","v":""},{"$f":"IF(N972=\"\",\"\",N972-Q972)","v":""}]
[null,null,null,null,null,null,null,null,null,null,null,null,null,null,null,null,null,{"$f":"IF(L973=\"\",\"\",L973-O973)","v":""},{"$f":"IF(M973=\"\",\"\",M973-P973)","v":""},{"$f":"IF(N973=\"\",\"\",N973-Q973)","v":""}]
[null,null,null,null,null,null,null,null,null,null,null,null,null,null,null,null,null,{"$f":"IF(L974=\"\",\"\",L974-O974)","v":""},{"$f":"IF(M974=\"\",\"\",M974-P974)","v":""},{"$f":"IF(N974=\"\",\"\",N974-Q974)","v":""}]
[null,null,null,null,null,null,null,null,null,null,null,null,null,null,null,null,null,{"$f":"IF(L975=\"\",\"\",L975-O975)","v":""},{"$f":"IF(M975=\"\",\"\",M975-P975)","v":""},{"$f":"IF(N975=\"\",\"\",N975-Q975)","v":""}]
[null,null,null,null,null,null,null,null,null,null,null,null,null,null,null,null,null,{"$f":"IF(L976=\"\",\"\",L976-O976)","v":""},{"$f":"IF(M976=\"\",\"\",M976-P976)","v":""},{"$f":"IF(N976=\"\",\"\",N976-Q976)","v":""}]
[null,null,null,null,null,null,null,null,null,null,null,null,null,null,null,null,null,{"$f":"IF(L977=\"\",\"\",L977-O977)","v":""},{"$f":"IF(M977=\"\",\"\",M977-P977)","v":""},{"$f":"IF(N977=\"\",\"\",N977-Q977)","v":""}]
[null,null,null,null,null,null,null,null,null,null,null,null,null,null,null,null,null,{"$f":"IF(L978=\"\",\"\",L978-O978)","v":""},{"$f":"IF(M978=\"\",\"\",M978-P978)","v":""},{"$f":"IF(N978=\"\",\"\",N978-Q978)","v":""}]
[null,null,null,null,null,null,null,null,null,null,null,null,null,null,null,null,null,{"$f":"IF(L979=\"\",\"\",L979-O979)","v":""},{"$f":"IF(M979=\"\",\"\",M979-P979)","v":""},{"$f":"IF(N979=\"\",\"\",N979-Q979)","v":""}]
[null,null,null,null,null,null,null,null,null,null,null,null,null,null,null,null,null,{"$f":"IF(L980=\"\",\"\",L980-O980)","v":""},{"$f":"IF(M980=\"\",\"\",M980-P980)","v":""},{"$f":"IF(N980=\"\",\"\",N980-Q980)","v":""}]
[null,null,null,null,null,null,null,null,null,null,null,null,null,null,null,null,null,{"$f":"IF(L981=\"\",\"\",L981-O981)","v":""},{"$f":"IF(M981=\"\",\"\",M981-P981)","v":""},{"$f":"IF(N981=\"\",\"\",N981-Q981)","v":""}]
[null,null,null,null,null,null,null,null,null,null,null,null,null,null,null,null,null,{"$f":"IF(L982=\"\",\"\",L982-O982)","v":""},{"$f":"IF(M982=\"\",\"\",M982-P982)","v":""},{"$f":"IF(N982=\"\",\"\",N982-Q982)","v":""}]
[null,null,null,null,null,null,null,null,null,null,null,null,null,null,null,null,null,{"$f":"IF(L983=\"\",\"\",L983-O983)","v":""},{"$f":"IF(M983=\"\",\"\",M983-P983)","v":""},{"$f":"IF(N983=\"\",\"\",N983-Q983)","v":""}]
[null,null,null,null,null,null,null,null,null,null,null,null,null,null,null,null,null,{"$f":"IF(L984=\"\",\"\",L984-O984)","v":""},{"$f":"IF(M984=\"\",\"\",M984-P984)","v":""},{"$f":"IF(N984=\"\",\"\",N984-Q984)","v":""}]
[null,null,null,null,null,null,null,null,null,null,null,null,null,null,null,null,null,{"$f":"IF(L985=\"\",\"\",L985-O985)","v":""},{"$f":"IF(M985=\"\",\"\",M985-P985)","v":""},{"$f":"IF(N985=\"\",\"\",N985-Q985)","v":""}]
[null,null,null,null,null,null,null,null,null,null,null,null,null,null,null,null,null,{"$f":"IF(L986=\"\",\"\",L986-O986)","v":""},{"$f":"IF(M986=\"\",\"\",M986-P986)","v":""},{"$f":"IF(N986=\"\",\"\",N986-Q986)","v":""}]
[null,null,null,null,null,null,null,null,null,null,null,null,null,null,null,null,null,{"$f":"IF(L987=\"\",\"\",L987-O987)","v":""},{"$f":"IF(M987=\"\",\"\",M987-P987)","v":""},{"$f":"IF(N987=\"\",\"\",N987-Q987)","v":""}]
[null,null,null,null,null,null,null,null,null,null,null,null,null,null,null,null,null,{"$f":"IF(L988=\"\",\"\",L988-O988)","v":""},{"$f":"IF(M988=\"\",\"\",M988-P988)","v":""},{"$f":"IF(N988=\"\",\"\",N988-Q988)","v":""}]
[null,null,null,null,null,null,null,null,null,null,null,null,null,null,null,null,null,{"$f":"IF(L989=\"\",\"\",L989-O989)","v":""},{"$f":"IF(M989=\"\",\"\",M989-P989)","v":""},{"$f":"IF(N989=\"\",\"\",N989-Q989)","v":""}]
[null,null,null,null,null,null,null,null,null,null,null,null,null,null,null,null,null,{"$f":"IF(L990=\"\",\"\",L990-O990)","v":""},{"$f":"IF(M990=\"\",\"\",M990-P990)","v":""},{"$f":"IF(N990=\"\",\"\",N990-Q990)","v":""}]
[null,null,null,null,null,null,null,null,null,null,null,null,null,null,null,null,null,{"$f":"IF(L991=\"\",\"\",L991-O991)","v":""},{"$f":"IF(M991=\"\",\"\",M991-P991)","v":""},{"$f":"IF(N991=\"\",\"\",N991-Q991)","v":""}]
[null,null,null,null,null,null,null,null,null,null,null,null,null,null,null,null,null,{"$f":"IF(L992=\"\",\"\",L992-O992)","v":""},{"$f":"IF(M992=\"\",\"\",M992-P992)","v":""},{"$f":"IF(N992=\"\",\"\",N992-Q992)","v":""}]
[null,null,null,null,null,null,null,null,null,null,null,null,null,null,null,null,null,{"$f":"IF(L993=\"\",\"\",L993-O993)","v":""},{"$f":"IF(M993=\"\",\"\",M993-P993)","v":""},{"$f":"IF(N993=\"\",\"\",N993-Q993)","v":""}]
[null,null,null,null,null,null,null,null,null,null,null,null,null,null,null,null,null,{"$f":"IF(L994=\"\",\"\",L994-O994)","v":""},{"$f":"IF(M994=\"\",\"\",M994-P994)","v":""},{"$f":"IF(N994=\"\",\"\",N994-Q994)","v":""}]
[null,null,null,null,null,null,null,null,null,null,null,null,null,null,null,null,null,{"$f":"IF(L995=\"\",\"\",L995-O995)","v":""},{"$f":"IF(M995=\"\",\"\",M995-P995)","v":""},{"$f":"IF(N995=\"\",\"\",N995-Q995)","v":""}]
[null,null,null,null,null,null,null,null,null,null,null,null,null,null,null,null,null,{"$f":"IF(L996=\"\",\"\",L996-O996)","v":""},{"$f":"IF(M996=\"\",\"\",M996-P996)","v":""},{"$f":"IF(N996=\"\",\"\",N996-Q996)","v":""}]
[null,null,null,null,null,null,null,null,null,null,null,null,null,null,null,null,null,{"$f":"IF(L997=\"\",\"\",L997-O997)","v":""},{"$f":"IF(M997=\"\",\"\",M997-P997)","v":""},{"$f":"IF(N997=\"\",\"\",N997-Q997)","v":""}]
[null,null,null,null,null,null,null,null,null,null,null,null,null,null,null,null,null,{"$f":"IF(L998=\"\",\"\",L998-O998)","v":""},{"$f":"IF(M998=\"\",\"\",M998-P998)","v":""},{"$f":"IF(N998=\"\",\"\",N998-Q998)","v":""}]
[null,null,null,null,null,null,null,null,null,null,null,null,null,null,null,null,null,{"$f":"IF(L999=\"\",\"\",L999-O999)","v":""},{"$f":"IF(M999=\"\",\"\",M999-P999)","v":""},{"$f":"IF(N999=\"\",\"\",N999-Q999)","v":""}]
[null,null,null,null,null,null,null,null,null,null,null,null,null,null,null,null,null,{"$f":"IF(L1000=\"\",\"\",L1000-O1000)","v":""},{"$f":"IF(M1000=\"\",\"\",M1000-P1000)","v":""},{"$f":"IF(N1000=\"\",\"\",N1000-Q1000)","v":""}]
[null,null,null,null,null,null,null,null,null,null,null,null,null,null,null,null,null,{"$f":"IF(L1001=\"\",\"\",L1001-O1001)","v":""},{"$f":"IF(M1001=\"\",\"\",M1001-P1001)","v":""},{"$f":"IF(N1001=\"\",\"\",N1001-Q1001)","v":""}]
[null,null,null,null,null,null,null,null,null,null,null,null,null,null,null,null,null,{"$f":"IF(L1002=\"\",\"\",L1002-O1002)","v":""},{"$f":"IF(M1002=\"\",\"\",M1002-P1002)","v":""},{"$f":"IF(N1002=\"\",\"\",N1002-Q1002)","v":""}]
[null,null,null,null,null,null,null,null,null,null,null,null,null,null,null,null,null,{"$f":"IF(L1003=\"\",\"\",L1003-O1003)","v":""},{"$f":"IF(M1003=\"\",\"\",M1003-P1003)","v":""},{"$f":"IF(N1003=\"\",\"\",N1003-Q1003)","v":""}]
[null,null,null,null,null,null,null,null,null,null,null,null,null,null,null,null,null,{"$f":"IF(L1004=\"\",\"\",L1004-O1004)","v":""},{"$f":"IF(M1004=\"\",\"\",M1004-P1004)","v":""},{"$f":"IF(N1004=\"\",\"\",N1004-Q1004)","v":""}]
[null,null,null,null,null,null,null,null,null,null,null,null,null,null,null,null,null,{"$f":"IF(L1005=\"\",\"\",L1005-O1005)","v":""},{"$f":"IF(M1005=\"\",\"\",M1005-P1005)","v":""},{"$f":"IF(N1005=\"\",\"\",N1005-Q1005)","v":""}]
[null,null,null,null,null,null,null,null,null,null,null,null,null,null,null,null,null,{"$f":"IF(L1006=\"\",\"\",L1006-O1006)","v":""},{"$f":"IF(M1006=\"\",\"\",M1006-P1006)","v":""},{"$f":"IF(N1006=\"\",\"\",N1006-Q1006)","v":""}]
[null,null,null,null,null,null,null,null,null,null,null,null,null,null,null,null,null,{"$f":"IF(L1007=\"\",\"\",L1007-O1007)","v":""},{"$f":"IF(M1007=\"\",\"\",M1007-P1007)","v":""},{"$f":"IF(N1007=\"\",\"\",N1007-Q1007)","v":""}]
[null,null,null,null,null,null,null,null,null,null,null,null,null,null,null,null,null,{"$f":"IF(L1008=\"\",\"\",L1008-O1008)","v":""},{"$f":"IF(M1008=\"\",\"\",M1008-P1008)","v":""},{"$f":"IF(N1008=\"\",\"\",N1008-Q1008)","v":""}]
[null,null,null,null,null,null,null,null,null,null,null,null,null,null,null,null,null,{"$f":"IF(L1009=\"\",\"\",L1009-O1009)","v":""},{"$f":"IF(M1009=\"\",\"\",M1009-P1009)","v":""},{"$f":"IF(N1009=\"\",\"\",N1009-Q1009)","v":""}]
[null,null,null,null,null,null,null,null,null,null,null,null,null,null,null,null,null,{"$f":"IF(L1010=\"\",\"\",L1010-O1010)","v":""},{"$f":"IF(M1010=\"\",\"\",M1010-P1010)","v":""},{"$f":"IF(N1010=\"\",\"\",N1010-Q1010)","v":""}]
[null,null,null,null,null,null,null,null,null,null,null,null,null,null,null,null,null,{"$f":"IF(L1011=\"\",\"\",L1011-O1011)","v":""},{"$f":"IF(M1011=\"\",\"\",M1011-P1011)","v":""},{"$f":"IF(N1011=\"\",\"\",N1011-Q1011)","v":""}]
[null,null,null,null,null,null,null,null,null,null,null,null,null,null,null,null,null,{"$f":"IF(L1012=\"\",\"\",L1012-O1012)","v":""},{"$f":"IF(M1012=\"\",\"\",M1012-P1012)","v":""},{"$f":"IF(N1012=\"\",\"\",N1012-Q1012)","v":""}]
[null,null,null,null,null,null,null,null,null,null,null,null,null,null,null,null,null,{"$f":"IF(L1013=\"\",\"\",L1013-O1013)","v":""},{"$f":"IF(M1013=\"\",\"\",M1013-P1013)","v":""},{"$f":"IF(N1013=\"\",\"\",N1013-Q1013)","v":""}]
[null,null,null,null,null,null,null,null,null,null,null,null,null,null,null,null,null,{"$f":"IF(L1014=\"\",\"\",L1014-O1014)","v":""},{"$f":"IF(M1014=\"\",\"\",M1014-P1014)","v":""},{"$f":"IF(N1014=\"\",\"\",N1014-Q1014)","v":""}]
[null,null,null,null,null,null,null,null,null,null,null,null,null,null,null,null,null,{"$f":"IF(L1015=\"\",\"\",L1015-O1015)","v":""},{"$f":"IF(M1015=\"\",\"\",M1015-P1015)","v":""},{"$f":"IF(N1015=\"\",\"\",N1015-Q1015)","v":""}]
[null,null,null,null,null,null,null,null,null,null,null,null,null,null,null,null,null,{"$f":"IF(L1016=\"\",\"\",L1016-O1016)","v":""},{"$f":"IF(M1016=\"\",\"\",M1016-P1016)","v":""},{"$f":"IF(N1016=\"\",\"\",N1016-Q1016)","v":""}]
[null,null,null,null,null,null,null,null,null,null,null,null,null,null,null,null,null,{"$f":"IF(L1017=\"\",\"\",L1017-O1017)","v":""},{"$f":"IF(M1017=\"\",\"\",M1017-P1017)","v":""},{"$f":"IF(N1017=\"\",\"\",N1017-Q1017)","v":""}]
[null,null,null,null,null,null,null,null,null,null,null,null,null,null,null,null,null,{"$f":"IF(L1018=\"\",\"\",L1018-O1018)","v":""},{"$f":"IF(M1018=\"\",\"\",M1018-P1018)","v":""},{"$f":"IF(N1018=\"\",\"\",N1018-Q1018)","v":""}]
[null,null,null,null,null,null,null,null,null,null,null,null,null,null,null,null,null,{"$f":"IF(L1019=\"\",\"\",L1019-O1019)","v":""},{"$f":"IF(M1019=\"\",\"\",M1019-P1019)","v":""},{"$f":"IF(N1019=\"\",\"\",N1019-Q1019)","v":""}]
[null,null,null,null,null,null,null,null,null,null,null,null,null,null,null,null,null,{"$f":"IF(L1020=\"\",\"\",L1020-O1020)","v":""},{"$f":"IF(M1020=\"\",\"\",M1020-P1020)","v":""},{"$f":"IF(N1020=\"\",\"\",N1020-Q1020)","v":""}]
[null,null,null,null,null,null,null,null,null,null,null,null,null,null,null,null,null,{"$f":"IF(L1021=\"\",\"\",L1021-O1021)","v":""},{"$f":"IF(M1021=\"\",\"\",M1021-P1021)","v":""},{"$f":"IF(N1021=\"\",\"\",N1021-Q1021)","v":""}]
[null,null,null,null,null,null,null,null,null,null,null,null,null,null,null,null,null,{"$f":"IF(L1022=\"\",\"\",L1022-O1022)","v":""},{"$f":"IF(M1022=\"\",\"\",M1022-P1022)","v":""},{"$f":"IF(N1022=\"\",\"\",N1022-Q1022)","v":""}]
[null,null,null,null,null,null,null,null,null,null,null,null,null,null,null,null,null,{"$f":"IF(L1023=\"\",\"\",L1023-O1023)","v":""},{"$f":"IF(M1023=\"\",\"\",M1023-P1023)","v":""},{"$f":"IF(N1023=\"\",\"\",N1023-Q1023)","v":""}]
[null,null,null,null,null,null,null,null,null,null,null,null,null,null,null,null,null,{"$f":"IF(L1024=\"\",\"\",L1024-O1024)","v":""},{"$f":"IF(M1024=\"\",\"\",M1024-P1024)","v":""},{"$f":"IF(N1024=\"\",\"\",N1024-Q1024)","v":""}]
[null,null,null,null,null,null,null,null,null,null,null,null,null,null,null,null,null,{"$f":"IF(L1025=\"\",\"\",L1025-O1025)","v":""},{"$f":"IF(M1025=\"\",\"\",M1025-P1025)","v":""},{"$f":"IF(N1025=\"\",\"\",N1025-Q1025)","v":""}]
[null,null,null,null,null,null,null,null,null,null,null,null,null,null,null,null,null,{"$f":"IF(L1026=\"\",\"\",L1026-O1026)","v":""},{"$f":"IF(M1026=\"\",\"\",M1026-P1026)","v":""},{"$f":"IF(N1026=\"\",\"\",N1026-Q1026)","v":""}]
[null,null,null,null,null,null,null,null,null,null,null,null,null,null,null,null,null,{"$f":"IF(L1027=\"\",\"\",L1027-O1027)","v":""},{"$f":"IF(M1027=\"\",\"\",M1027-P1027)","v":""},{"$f":"IF(N1027=\"\",\"\",N1027-Q1027)","v":""}]
[null,null,null,null,null,null,null,null,null,null,null,null,null,null,null,null,null,{"$f":"IF(L1028=\"\",\"\",L1028-O1028)","v":""},{"$f":"IF(M1028=\"\",\"\",M1028-P1028)","v":""},{"$f":"IF(N1028=\"\",\"\",N1028-Q1028)","v":""}]
[null,null,null,null,null,null,null,null,null,null,null,null,null,null,null,null,null,{"$f":"IF(L1029=\"\",\"\",L1029-O1029)","v":""},{"$f":"IF(M1029=\"\",\"\",M1029-P1029)","v":""},{"$f":"IF(N1029=\"\",\"\",N1029-Q1029)","v":""}]
[null,null,null,null,null,null,null,null,null,null,null,null,null,null,null,null,null,{"$f":"IF(L1030=\"\",\"\",L1030-O1030)","v":""},{"$f":"IF(M1030=\"\",\"\",M1030-P1030)","v":""},{"$f":"IF(N1030=\"\",\"\",N1030-Q1030)","v":""}]
[null,null,null,null,null,null,null,null,null,null,null,null,null,null,null,null,null,{"$f":"IF(L1031=\"\",\"\",L1031-O1031)","v":""},{"$f":"IF(M1031=\"\",\"\",M1031-P1031)","v":""},{"$f":"IF(N1031=\"\",\"\",N1031-Q1031)","v":""}]
[null,null,null,null,null,null,null,null,null,null,null,null,null,null,null,null,null,{"$f":"IF(L1032=\"\",\"\",L1032-O1032)","v":""},{"$f":"IF(M1032=\"\",\"\",M1032-P1032)","v":""},{"$f":"IF(N1032=\"\",\"\",N1032-Q1032)","v":""}]
[null,null,null,null,null,null,null,null,null,null,null,null,null,null,null,null,null,{"$f":"IF(L1033=\"\",\"\",L1033-O1033)","v":""},{"$f":"IF(M1033=\"\",\"\",M1033-P1033)","v":""},{"$f":"IF(N1033=\"\",\"\",N1033-Q1033)","v":""}]
[null,null,null,null,null,null,null,null,null,null,null,null,null,null,null,null,null,{"$f":"IF(L1034=\"\",\"\",L1034-O1034)","v":""},{"$f":"IF(M1034=\"\",\"\",M1034-P1034)","v":""},{"$f":"IF(N1034=\"\",\"\",N1034-Q1034)","v":""}]
[null,null,null,null,null,null,null,null,null,null,null,null,null,null,null,null,null,{"$f":"IF(L1035=\"\",\"\",L1035-O1035)","v":""},{"$f":"IF(M1035=\"\",\"\",M1035-P1035)","v":""},{"$f":"IF(N1035=\"\",\"\",N1035-Q1035)","v":""}]
[null,null,null,null,null,null,null,null,null,null,null,null,null,null,null,null,null,{"$f":"IF(L1036=\"\",\"\",L1036-O1036)","v":""},{"$f":"IF(M1036=\"\",\"\",M1036-P1036)","v":""},{"$f":"IF(N1036=\"\",\"\",N1036-Q1036)","v":""}]
[null,null,null,null,null,null,null,null,null,null,null,null,null,null,null,null,null,{"$f":"IF(L1037=\"\",\"\",L1037-O1037)","v":""},{"$f":"IF(M1037=\"\",\"\",M1037-P1037)","v":""},{"$f":"IF(N1037=\"\",\"\",N1037-Q1037)","v":""}]
[null,null,null,null,null,null,null,null,null,null,null,null,null,null,null,null,null,{"$f":"IF(L1038=\"\",\"\",L1038-O1038)","v":""},{"$f":"IF(M1038=\"\",\"\",M1038-P1038)","v":""},{"$f":"IF(N1038=\"\",\"\",N1038-Q1038)","v":""}]
[null,null,null,null,null,null,null,null,null,null,null,null,null,null,null,null,null,{"$f":"IF(L1039=\"\",\"\",L1039-O1039)","v":""},{"$f":"IF(M1039=\"\",\"\",M1039-P1039)","v":""},{"$f":"IF(N1039=\"\",\"\",N1039-Q1039)","v":""}]
[null,null,null,null,null,null,null,null,null,null,null,null,null,null,null,null,null,{"$f":"IF(L1040=\"\",\"\",L1040-O1040)","v":""},{"$f":"IF(M1040=\"\",\"\",M1040-P1040)","v":""},{"$f":"IF(N1040=\"\",\"\",N1040-Q1040)","v":""}]
[null,null,null,null,null,null,null,null,null,null,null,null,null,null,null,null,null,{"$f":"IF(L1041=\"\",\"\",L1041-O1041)","v":""},{"$f":"IF(M1041=\"\",\"\",M1041-P1041)","v":""},{"$f":"IF(N1041=\"\",\"\",N1041-Q1041)","v":""}]
[null,null,null,null,null,null,null,null,null,null,null,null,null,null,null,null,null,{"$f":"IF(L1042=\"\",\"\",L1042-O1042)","v":""},{"$f":"IF(M1042=\"\",\"\",M1042-P1042)","v":""},{"$f":"IF(N1042=\"\",\"\",N1042-Q1042)","v":""}]
[null,null,null,null,null,null,null,null,null,null,null,null,null,null,null,null,null,{"$f":"IF(L1043=\"\",\"\",L1043-O1043)","v":""},{"$f":"IF(M1043=\"\",\"\",M1043-P1043)","v":""},{"$f":"IF(N1043=\"\",\"\",N1043-Q1043)","v":""}]
[null,null,null,null,null,null,null,null,null,null,null,null,null,null,null,null,null,{"$f":"IF(L1044=\"\",\"\",L1044-O1044)","v":""},{"$f":"IF(M1044=\"\",\"\",M1044-P1044)","v":""},{"$f":"IF(N1044=\"\",\"\",N1044-Q1044)","v":""}]
[null,null,null,null,null,null,null,null,null,null,null,null,null,null,null,null,null,{"$f":"IF(L1045=\"\",\"\",L1045-O1045)","v":""},{"$f":"IF(M1045=\"\",\"\",M1045-P1045)","v":""},{"$f":"IF(N1045=\"\",\"\",N1045-Q1045)","v":""}]
[null,null,null,null,null,null,null,null,null,null,null,null,null,null,null,null,null,{"$f":"IF(L1046=\"\",\"\",L1046-O1046)","v":""},{"$f":"IF(M1046=\"\",\"\",M1046-P1046)","v":""},{"$f":"IF(N1046=\"\",\"\",N1046-Q1046)","v":""}]
[null,null,null,null,null,null,null,null,null,null,null,null,null,null,null,null,null,{"$f":"IF(L1047=\"\",\"\",L1047-O1047)","v":""},{"$f":"IF(M1047=\"\",\"\",M1047-P1047)","v":""},{"$f":"IF(N1047=\"\",\"\",N1047-Q1047)","v":""}]
[null,null,null,null,null,null,null,null,null,null,null,null,null,null,null,null,null,{"$f":"IF(L1048=\"\",\"\",L1048-O1048)","v":""},{"$f":"IF(M1048=\"\",\"\",M1048-P1048)","v":""},{"$f":"IF(N1048=\"\",\"\",N1048-Q1048)","v":""}]
[null,null,null,null,null,null,null,null,null,null,null,null,null,null,null,null,null,{"$f":"IF(L1049=\"\",\"\",L1049-O1049)","v":""},{"$f":"IF(M1049=\"\",\"\",M1049-P1049)","v":""},{"$f":"IF(N1049=\"\",\"\",N1049-Q1049)","v":""}]
[null,null,null,null,null,null,null,null,null,null,null,null,null,null,null,null,null,{"$f":"IF(L1050=\"\",\"\",L1050-O1050)","v":""},{"$f":"IF(M1050=\"\",\"\",M1050-P1050)","v":""},{"$f":"IF(N1050=\"\",\"\",N1050-Q1050)","v":""}]
[null,null,null,null,null,null,null,null,null,null,null,null,null,null,null,null,null,{"$f":"IF(L1051=\"\",\"\",L1051-O1051)","v":""},{"$f":"IF(M1051=\"\",\"\",M1051-P1051)","v":""},{"$f":"IF(N1051=\"\",\"\",N1051-Q1051)","v":""}]
[null,null,null,null,null,null,null,null,null,null,null,null,null,null,null,null,null,{"$f":"IF(L1052=\"\",\"\",L1052-O1052)","v":""},{"$f":"IF(M1052=\"\",\"\",M1052-P1052)","v":""},{"$f":"IF(N1052=\"\",\"\",N1052-Q1052)","v":""}]
[null,null,null,null,null,null,null,null,null,null,null,null,null,null,null,null,null,{"$f":"IF(L1053=\"\",\"\",L1053-O1053)","v":""},{"$f":"IF(M1053=\"\",\"\",M1053-P1053)","v":""},{"$f":"IF(N1053=\"\",\"\",N1053-Q1053)","v":""}]
[null,null,null,null,null,null,null,null,null,null,null,null,null,null,null,null,null,{"$f":"IF(L1054=\"\",\"\",L1054-O1054)","v":""},{"$f":"IF(M1054=\"\",\"\",M1054-P1054)","v":""},{"$f":"IF(N1054=\"\",\"\",N1054-Q1054)","v":""}]
[null,null,null,null,null,null,null,null,null,null,null,null,null,null,null,null,null,{"$f":"IF(L1055=\"\",\"\",L1055-O1055)","v":""},{"$f":"IF(M1055=\"\",\"\",M1055-P1055)","v":""},{"$f":"IF(N1055=\"\",\"\",N1055-Q1055)","v":""}]
[null,null,null,null,null,null,null,null,null,null,null,null,null,null,null,null,null,{"$f":"IF(L1056=\"\",\"\",L1056-O1056)","v":""},{"$f":"IF(M1056=\"\",\"\",M1056-P1056)","v":""},{"$f":"IF(N1056=\"\",\"\",N1056-Q1056)","v":""}]
[null,null,null,null,null,null,null,null,null,null,null,null,null,null,null,null,null,{"$f":"IF(L1057=\"\",\"\",L1057-O1057)","v":""},{"$f":"IF(M1057=\"\",\"\",M1057-P1057)","v":""},{"$f":"IF(N1057=\"\",\"\",N1057-Q1057)","v":""}]
[null,null,null,null,null,null,null,null,null,null,null,null,null,null,null,null,null,{"$f":"IF(L1058=\"\",\"\",L1058-O1058)","v":""},{"$f":"IF(M1058=\"\",\"\",M1058-P1058)","v":""},{"$f":"IF(N1058=\"\",\"\",N1058-Q1058)","v":""}]
[null,null,null,null,null,null,null,null,null,null,null,null,null,null,null,null,null,{"$f":"IF(L1059=\"\",\"\",L1059-O1059)","v":""},{"$f":"IF(M1059=\"\",\"\",M1059-P1059)","v":""},{"$f":"IF(N1059=\"\",\"\",N1059-Q1059)","v":""}]
[null,null,null,null,null,null,null,null,null,null,null,null,null,null,null,null,null,{"$f":"IF(L1060=\"\",\"\",L1060-O1060)","v":""},{"$f":"IF(M1060=\"\",\"\",M1060-P1060)","v":""},{"$f":"IF(N1060=\"\",\"\",N1060-Q1060)","v":""}]
[null,null,null,null,null,null,null,null,null,null,null,null,null,null,null,null,null,{"$f":"IF(L1061=\"\",\"\",L1061-O1061)","v":""},{"$f":"IF(M1061=\"\",\"\",M1061-P1061)","v":""},{"$f":"IF(N1061=\"\",\"\",N1061-Q1061)","v":""}]
[null,null,null,null,null,null,null,null,null,null,null,null,null,null,null,null,null,{"$f":"IF(L1062=\"\",\"\",L1062-O1062)","v":""},{"$f":"IF(M1062=\"\",\"\",M1062-P1062)","v":""},{"$f":"IF(N1062=\"\",\"\",N1062-Q1062)","v":""}]
[null,null,null,null,null,null,null,null,null,null,null,null,null,null,null,null,null,{"$f":"IF(L1063=\"\",\"\",L1063-O1063)","v":""},{"$f":"IF(M1063=\"\",\"\",M1063-P1063)","v":""},{"$f":"IF(N1063=\"\",\"\",N1063-Q1063)","v":""}]
[null,null,null,null,null,null,null,null,null,null,null,null,null,null,null,null,null,{"$f":"IF(L1064=\"\",\"\",L1064-O1064)","v":""},{"$f":"IF(M1064=\"\",\"\",M1064-P1064)","v":""},{"$f":"IF(N1064=\"\",\"\",N1064-Q1064)","v":""}]
[null,null,null,null,null,null,null,null,null,null,null,null,null,null,null,null,null,{"$f":"IF(L1065=\"\",\"\",L1065-O1065)","v":""},{"$f":"IF(M1065=\"\",\"\",M1065-P1065)","v":""},{"$f":"IF(N1065=\"\",\"\",N1065-Q1065)","v":""}]
[null,null,null,null,null,null,null,null,null,null,null,null,null,null,null,null,null,{"$f":"IF(L1066=\"\",\"\",L1066-O1066)","v":""},{"$f":"IF(M1066=\"\",\"\",M1066-P1066)","v":""},{"$f":"IF(N1066=\"\",\"\",N1066-Q1066)","v":""}]
[null,null,null,null,null,null,null,null,null,null,null,null,null,null,null,null,null,{"$f":"IF(L1067=\"\",\"\",L1067-O1067)","v":""},{"$f":"IF(M1067=\"\",\"\",M1067-P1067)","v":""},{"$f":"IF(N1067=\"\",\"\",N1067-Q1067)","v":""}]
[null,null,null,null,null,null,null,null,null,null,null,null,null,null,null,null,null,{"$f":"IF(L1068=\"\",\"\",L1068-O1068)","v":""},{"$f":"IF(M1068=\"\",\"\",M1068-P1068)","v":""},{"$f":"IF(N1068=\"\",\"\",N1068-Q1068)","v":""}]
[null,null,null,null,null,null,null,null,null,null,null,null,null,null,null,null,null,{"$f":"IF(L1069=\"\",\"\",L1069-O1069)","v":""},{"$f":"IF(M1069=\"\",\"\",M1069-P1069)","v":""},{"$f":"IF(N1069=\"\",\"\",N1069-Q1069)","v":""}]
[null,null,null,null,null,null,null,null,null,null,null,null,null,null,null,null,null,{"$f":"IF(L1070=\"\",\"\",L1070-O1070)","v":""},{"$f":"IF(M1070=\"\",\"\",M1070-P1070)","v":""},{"$f":"IF(N1070=\"\",\"\",N1070-Q1070)","v":""}]
[null,null,null,null,null,null,null,null,null,null,null,null,null,null,null,null,null,{"$f":"IF(L1071=\"\",\"\",L1071-O1071)","v":""},{"$f":"IF(M1071=\"\",\"\",M1071-P1071)","v":""},{"$f":"IF(N1071=\"\",\"\",N1071-Q1071)","v":""}]
[null,null,null,null,null,null,null,null,null,null,null,null,null,null,null,null,null,{"$f":"IF(L1072=\"\",\"\",L1072-O1072)","v":""},{"$f":"IF(M1072=\"\",\"\",M1072-P1072)","v":""},{"$f":"IF(N1072=\"\",\"\",N1072-Q1072)","v":""}]
[null,null,null,null,null,null,null,null,null,null,null,null,null,null,null,null,null,{"$f":"IF(L1073=\"\",\"\",L1073-O1073)","v":""},{"$f":"IF(M1073=\"\",\"\",M1073-P1073)","v":""},{"$f":"IF(N1073=\"\",\"\",N1073-Q1073)","v":""}]
[null,null,null,null,null,null,null,null,null,null,null,null,null,null,null,null,null,{"$f":"IF(L1074=\"\",\"\",L1074-O1074)","v":""},{"$f":"IF(M1074=\"\",\"\",M1074-P1074)","v":""},{"$f":"IF(N1074=\"\",\"\",N1074-Q1074)","v":""}]
[null,null,null,null,null,null,null,null,null,null,null,null,null,null,null,null,null,{"$f":"IF(L1075=\"\",\"\",L1075-O1075)","v":""},{"$f":"IF(M1075=\"\",\"\",M1075-P1075)","v":""},{"$f":"IF(N1075=\"\",\"\",N1075-Q1075)","v":""}]
[null,null,null,null,null,null,null,null,null,null,null,null,null,null,null,null,null,{"$f":"IF(L1076=\"\",\"\",L1076-O1076)","v":""},{"$f":"IF(M1076=\"\",\"\",M1076-P1076)","v":""},{"$f":"IF(N1076=\"\",\"\",N1076-Q1076)","v":""}]
[null,null,null,null,null,null,null,null,null,null,null,null,null,null,null,null,null,{"$f":"IF(L1077=\"\",\"\",L1077-O1077)","v":""},{"$f":"IF(M1077=\"\",\"\",M1077-P1077)","v":""},{"$f":"IF(N1077=\"\",\"\",N1077-Q1077)","v":""}]
[null,null,null,null,null,null,null,null,null,null,null,null,null,null,null,null,null,{"$f":"IF(L1078=\"\",\"\",L1078-O1078)","v":""},{"$f":"IF(M1078=\"\",\"\",M1078-P1078)","v":""},{"$f":"IF(N1078=\"\",\"\",N1078-Q1078)","v":""}]
[null,null,null,null,null,null,null,null,null,null,null,null,null,null,null,null,null,{"$f":"IF(L1079=\"\",\"\",L1079-O1079)","v":""},{"$f":"IF(M1079=\"\",\"\",M1079-P1079)","v":""},{"$f":"IF(N1079=\"\",\"\",N1079-Q1079)","v":""}]
[null,null,null,null,null,null,null,null,null,null,null,null,null,null,null,null,null,{"$f":"IF(L1080=\"\",\"\",L1080-O1080)","v":""},{"$f":"IF(M1080=\"\",\"\",M1080-P1080)","v":""},{"$f":"IF(N1080=\"\",\"\",N1080-Q1080)","v":""}]
[null,null,null,null,null,null,null,null,null,null,null,null,null,null,null,null,null,{"$f":"IF(L1081=\"\",\"\",L1081-O1081)","v":""},{"$f":"IF(M1081=\"\",\"\",M1081-P1081)","v":""},{"$f":"IF(N1081=\"\",\"\",N1081-Q1081)","v":""}]
[null,null,null,null,null,null,null,null,null,null,null,null,null,null,null,null,null,{"$f":"IF(L1082=\"\",\"\",L1082-O1082)","v":""},{"$f":"IF(M1082=\"\",\"\",M1082-P1082)","v":""},{"$f":"IF(N1082=\"\",\"\",N1082-Q1082)","v":""}]
[null,null,null,null,null,null,null,null,null,null,null,null,null,null,null,null,null,{"$f":"IF(L1083=\"\",\"\",L1083-O1083)","v":""},{"$f":"IF(M1083=\"\",\"\",M1083-P1083)","v":""},{"$f":"IF(N1083=\"\",\"\",N1083-Q1083)","v":""}]
[null,null,null,null,null,null,null,null,null,null,null,null,null,null,null,null,null,{"$f":"IF(L1084=\"\",\"\",L1084-O1084)","v":""},{"$f":"IF(M1084=\"\",\"\",M1084-P1084)","v":""},{"$f":"IF(N1084=\"\",\"\",N1084-Q1084)","v":""}]
[null,null,null,null,null,null,null,null,null,null,null,null,null,null,null,null,null,{"$f":"IF(L1085=\"\",\"\",L1085-O1085)","v":""},{"$f":"IF(M1085=\"\",\"\",M1085-P1085)","v":""},{"$f":"IF(N1085=\"\",\"\",N1085-Q1085)","v":""}]
[null,null,null,null,null,null,null,null,null,null,null,null,null,null,null,null,null,{"$f":"IF(L1086=\"\",\"\",L1086-O1086)","v":""},{"$f":"IF(M1086=\"\",\"\",M1086-P1086)","v":""},{"$f":"IF(N1086=\"\",\"\",N1086-Q1086)","v":""}]
[null,null,null,null,null,null,null,null,null,null,null,null,null,null,null,null,null,{"$f":"IF(L1087=\"\",\"\",L1087-O1087)","v":""},{"$f":"IF(M1087=\"\",\"\",M1087-P1087)","v":""},{"$f":"IF(N1087=\"\",\"\",N1087-Q1087)","v":""}]
[null,null,null,null,null,null,null,null,null,null,null,null,null,null,null,null,null,{"$f":"IF(L1088=\"\",\"\",L1088-O1088)","v":""},{"$f":"IF(M1088=\"\",\"\",M1088-P1088)","v":""},{"$f":"IF(N1088=\"\",\"\",N1088-Q1088)","v":""}]
[null,null,null,null,null,null,null,null,null,null,null,null,null,null,null,null,null,{"$f":"IF(L1089=\"\",\"\",L1089-O1089)","v":""},{"$f":"IF(M1089=\"\",\"\",M1089-P1089)","v":""},{"$f":"IF(N1089=\"\",\"\",N1089-Q1089)","v":""}]
[null,null,null,null,null,null,null,null,null,null,null,null,null,null,null,null,null,{"$f":"IF(L1090=\"\",\"\",L1090-O1090)","v":""},{"$f":"IF(M1090=\"\",\"\",M1090-P1090)","v":""},{"$f":"IF(N1090=\"\",\"\",N1090-Q1090)","v":""}]
[null,null,null,null,null,null,null,null,null,null,null,null,null,null,null,null,null,{"$f":"IF(L1091=\"\",\"\",L1091-O1091)","v":""},{"$f":"IF(M1091=\"\",\"\",M1091-P1091)","v":""},{"$f":"IF(N1091=\"\",\"\",N1091-Q1091)","v":""}]
[null,null,null,null,null,null,null,null,null,null,null,null,null,null,null,null,null,{"$f":"IF(L1092=\"\",\"\",L1092-O1092)","v":""},{"$f":"IF(M1092=\"\",\"\",M1092-P1092)","v":""},{"$f":"IF(N1092=\"\",\"\",N1092-Q1092)","v":""}]
[null,null,null,null,null,null,null,null,null,null,null,null,null,null,null,null,null,{"$f":"IF(L1093=\"\",\"\",L1093-O1093)","v":""},{"$f":"IF(M1093=\"\",\"\",M1093-P1093)","v":""},{"$f":"IF(N1093=\"\",\"\",N1093-Q1093)","v":""}]
[null,null,null,null,null,null,null,null,null,null,null,null,null,null,null,null,null,{"$f":"IF(L1094=\"\",\"\",L1094-O1094)","v":""},{"$f":"IF(M1094=\"\",\"\",M1094-P1094)","v":""},{"$f":"IF(N1094=\"\",\"\",N1094-Q1094)","v":""}]
[null,null,null,null,null,null,null,null,null,null,null,null,null,null,null,null,null,{"$f":"IF(L1095=\"\",\"\",L1095-O1095)","v":""},{"$f":"IF(M1095=\"\",\"\",M1095-P1095)","v":""},{"$f":"IF(N1095=\"\",\"\",N1095-Q1095)","v":""}]
[null,null,null,null,null,null,null,null,null,null,null,null,null,null,null,null,null,{"$f":"IF(L1096=\"\",\"\",L1096-O1096)","v":""},{"$f":"IF(M1096=\"\",\"\",M1096-P1096)","v":""},{"$f":"IF(N1096=\"\",\"\",N1096-Q1096)","v":""}]
[null,null,null,null,null,null,null,null,null,null,null,null,null,null,null,null,null,{"$f":"IF(L1097=\"\",\"\",L1097-O1097)","v":""},{"$f":"IF(M1097=\"\",\"\",M1097-P1097)","v":""},{"$f":"IF(N1097=\"\",\"\",N1097-Q1097)","v":""}]
[null,null,null,null,null,null,null,null,null,null,null,null,null,null,null,null,null,{"$f":"IF(L1098=\"\",\"\",L1098-O1098)","v":""},{"$f":"IF(M1098=\"\",\"\",M1098-P1098)","v":""},{"$f":"IF(N1098=\"\",\"\",N1098-Q1098)","v":""}]
[null,null,null,null,null,null,null,null,null,null,null,null,null,null,null,null,null,{"$f":"IF(L1099=\"\",\"\",L1099-O1099)","v":""},{"$f":"IF(M1099=\"\",\"\",M1099-P1099)","v":""},{"$f":"IF(N1099=\"\",\"\",N1099-Q1099)","v":""}]
[null,null,null,null,null,null,null,null,null,null,null,null,null,null,null,null,null,{"$f":"IF(L1100=\"\",\"\",L1100-O1100)","v":""},{"$f":"IF(M1100=\"\",\"\",M1100-P1100)","v":""},{"$f":"IF(N1100=\"\",\"\",N1100-Q1100)","v":""}]
[null,null,null,null,null,null,null,null,null,null,null,null,null,null,null,null,null,{"$f":"IF(L1101=\"\",\"\",L1101-O1101)","v":""},{"$f":"IF(M1101=\"\",\"\",M1101-P1101)","v":""},{"$f":"IF(N1101=\"\",\"\",N1101-Q1101)","v":""}]
[null,null,null,null,null,null,null,null,null,null,null,null,null,null,null,null,null,{"$f":"IF(L1102=\"\",\"\",L1102-O1102)","v":""},{"$f":"IF(M1102=\"\",\"\",M1102-P1102)","v":""},{"$f":"IF(N1102=\"\",\"\",N1102-Q1102)","v":""}]
[null,null,null,null,null,null,null,null,null,null,null,null,null,null,null,null,null,{"$f":"IF(L1103=\"\",\"\",L1103-O1103)","v":""},{"$f":"IF(M1103=\"\",\"\",M1103-P1103)","v":""},{"$f":"IF(N1103=\"\",\"\",N1103-Q1103)","v":""}]
[null,null,null,null,null,null,null,null,null,null,null,null,null,null,null,null,null,{"$f":"IF(L1104=\"\",\"\",L1104-O1104)","v":""},{"$f":"IF(M1104=\"\",\"\",M1104-P1104)","v":""},{"$f":"IF(N1104=\"\",\"\",N1104-Q1104)","v":""}]
[null,null,null,null,null,null,null,null,null,null,null,null,null,null,null,null,null,{"$f":"IF(L1105=\"\",\"\",L1105-O1105)","v":""},{"$f":"IF(M1105=\"\",\"\",M1105-P1105)","v":""},{"$f":"IF(N1105=\"\",\"\",N1105-Q1105)","v":""}]
[null,null,null,null,null,null,null,null,null,null,null,null,null,null,null,null,null,{"$f":"IF(L1106=\"\",\"\",L1106-O1106)","v":""},{"$f":"IF(M1106=\"\",\"\",M1106-P1106)","v":""},{"$f":"IF(N1106=\"\",\"\",N1106-Q1106)","v":""}]
[null,null,null,null,null,null,null,null,null,null,null,null,null,null,null,null,null,{"$f":"IF(L1107=\"\",\"\",L1107-O1107)","v":""},{"$f":"IF(M1107=\"\",\"\",M1107-P1107)","v":""},{"$f":"IF(N1107=\"\",\"\",N1107-Q1107)","v":""}]
[null,null,null,null,null,null,null,null,null,null,null,null,null,null,null,null,null,{"$f":"IF(L1108=\"\",\"\",L1108-O1108)","v":""},{"$f":"IF(M1108=\"\",\"\",M1108-P1108)","v":""},{"$f":"IF(N1108=\"\",\"\",N1108-Q1108)","v":""}]
[null,null,null,null,null,null,null,null,null,null,null,null,null,null,null,null,null,{"$f":"IF(L1109=\"\",\"\",L1109-O1109)","v":""},{"$f":"IF(M1109=\"\",\"\",M1109-P1109)","v":""},{"$f":"IF(N1109=\"\",\"\",N1109-Q1109)","v":""}]
[null,null,null,null,null,null,null,null,null,null,null,null,null,null,null,null,null,{"$f":"IF(L1110=\"\",\"\",L1110-O1110)","v":""},{"$f":"IF(M1110=\"\",\"\",M1110-P1110)","v":""},{"$f":"IF(N1110=\"\",\"\",N1110-Q1110)","v":""}]
[null,null,null,null,null,null,null,null,null,null,null,null,null,null,null,null,null,{"$f":"IF(L1111=\"\",\"\",L1111-O1111)","v":""},{"$f":"IF(M1111=\"\",\"\",M1111-P1111)","v":""},{"$f":"IF(N1111=\"\",\"\",N1111-Q1111)","v":""}]
[null,null,null,null,null,null,null,null,null,null,null,null,null,null,null,null,null,{"$f":"IF(L1112=\"\",\"\",L1112-O1112)","v":""},{"$f":"IF(M1112=\"\",\"\",M1112-P1112)","v":""},{"$f":"IF(N1112=\"\",\"\",N1112-Q1112)","v":""}]
[null,null,null,null,null,null,null,null,null,null,null,null,null,null,null,null,null,{"$f":"IF(L1113=\"\",\"\",L1113-O1113)","v":""},{"$f":"IF(M1113=\"\",\"\",M1113-P1113)","v":""},{"$f":"IF(N1113=\"\",\"\",N1113-Q1113)","v":""}]
[null,null,null,null,null,null,null,null,null,null,null,null,null,null,null,null,null,{"$f":"IF(L1114=\"\",\"\",L1114-O1114)","v":""},{"$f":"IF(M1114=\"\",\"\",M1114-P1114)","v":""},{"$f":"IF(N1114=\"\",\"\",N1114-Q1114)","v":""}]
[null,null,null,null,null,null,null,null,null,null,null,null,null,null,null,null,null,{"$f":"IF(L1115=\"\",\"\",L1115-O1115)","v":""},{"$f":"IF(M1115=\"\",\"\",M1115-P1115)","v":""},{"$f":"IF(N1115=\"\",\"\",N1115-Q1115)","v":""}]
[null,null,null,null,null,null,null,null,null,null,null,null,null,null,null,null,null,{"$f":"IF(L1116=\"\",\"\",L1116-O1116)","v":""},{"$f":"IF(M1116=\"\",\"\",M1116-P1116)","v":""},{"$f":"IF(N1116=\"\",\"\",N1116-Q1116)","v":""}]
[null,null,null,null,null,null,null,null,null,null,null,null,null,null,null,null,null,{"$f":"IF(L1117=\"\",\"\",L1117-O1117)","v":""},{"$f":"IF(M1117=\"\",\"\",M1117-P1117)","v":""},{"$f":"IF(N1117=\"\",\"\",N1117-Q1117)","v":""}]
[null,null,null,null,null,null,null,null,null,null,null,null,null,null,null,null,null,{"$f":"IF(L1118=\"\",\"\",L1118-O1118)","v":""},{"$f":"IF(M1118=\"\",\"\",M1118-P1118)","v":""},{"$f":"IF(N1118=\"\",\"\",N1118-Q1118)","v":""}]
[null,null,null,null,null,null,null,null,null,null,null,null,null,null,null,null,null,{"$f":"IF(L1119=\"\",\"\",L1119-O1119)","v":""},{"$f":"IF(M1119=\"\",\"\",M1119-P1119)","v":""},{"$f":"IF(N1119=\"\",\"\",N1119-Q1119)","v":""}]
[null,null,null,null,null,null,null,null,null,null,null,null,null,null,null,null,null,{"$f":"IF(L1120=\"\",\"\",L1120-O1120)","v":""},{"$f":"IF(M1120=\"\",\"\",M1120-P1120)","v":""},{"$f":"IF(N1120=\"\",\"\",N1120-Q1120)","v":""}]
[null,null,null,null,null,null,null,null,null,null,null,null,null,null,null,null,null,{"$f":"IF(L1121=\"\",\"\",L1121-O1121)","v":""},{"$f":"IF(M1121=\"\",\"\",M1121-P1121)","v":""},{"$f":"IF(N1121=\"\",\"\",N1121-Q1121)","v":""}]
[null,null,null,null,null,null,null,null,null,null,null,null,null,null,null,null,null,{"$f":"IF(L1122=\"\",\"\",L1122-O1122)","v":""},{"$f":"IF(M1122=\"\",\"\",M1122-P1122)","v":""},{"$f":"IF(N1122=\"\",\"\",N1122-Q1122)","v":""}]
[null,null,null,null,null,null,null,null,null,null,null,null,null,null,null,null,null,{"$f":"IF(L1123=\"\",\"\",L1123-O1123)","v":""},{"$f":"IF(M1123=\"\",\"\",M1123-P1123)","v":""},{"$f":"IF(N1123=\"\",\"\",N1123-Q1123)","v":""}]
[null,null,null,null,null,null,null,null,null,null,null,null,null,null,null,null,null,{"$f":"IF(L1124=\"\",\"\",L1124-O1124)","v":""},{"$f":"IF(M1124=\"\",\"\",M1124-P1124)","v":""},{"$f":"IF(N1124=\"\",\"\",N1124-Q1124)","v":""}]
[null,null,null,null,null,null,null,null,null,null,null,null,null,null,null,null,null,{"$f":"IF(L1125=\"\",\"\",L1125-O1125)","v":""},{"$f":"IF(M1125=\"\",\"\",M1125-P1125)","v":""},{"$f":"IF(N1125=\"\",\"\",N1125-Q1125)","v":""}]
[null,null,null,null,null,null,null,null,null,null,null,null,null,null,null,null,null,{"$f":"IF(L1126=\"\",\"\",L1126-O1126)","v":""},{"$f":"IF(M1126=\"\",\"\",M1126-P1126)","v":""},{"$f":"IF(N1126=\"\",\"\",N1126-Q1126)","v":""}]
[null,null,null,null,null,null,null,null,null,null,null,null,null,null,null,null,null,{"$f":"IF(L1127=\"\",\"\",L1127-O1127)","v":""},{"$f":"IF(M1127=\"\",\"\",M1127-P1127)","v":""},{"$f":"IF(N1127=\"\",\"\",N1127-Q1127)","v":""}]
[null,null,null,null,null,null,null,null,null,null,null,null,null,null,null,null,null,{"$f":"IF(L1128=\"\",\"\",L1128-O1128)","v":""},{"$f":"IF(M1128=\"\",\"\",M1128-P1128)","v":""},{"$f":"IF(N1128=\"\",\"\",N1128-Q1128)","v":""}]
[null,null,null,null,null,null,null,null,null,null,null,null,null,null,null,null,null,{"$f":"IF(L1129=\"\",\"\",L1129-O1129)","v":""},{"$f":"IF(M1129=\"\",\"\",M1129-P1129)","v":""},{"$f":"IF(N1129=\"\",\"\",N1129-Q1129)","v":""}]
[null,null,null,null,null,null,null,null,null,null,null,null,null,null,null,null,null,{"$f":"IF(L1130=\"\",\"\",L1130-O1130)","v":""},{"$f":"IF(M1130=\"\",\"\",M1130-P1130)","v":""},{"$f":"IF(N1130=\"\",\"\",N1130-Q1130)","v":""}]
[null,null,null,null,null,null,null,null,null,null,null,null,null,null,null,null,null,{"$f":"IF(L1131=\"\",\"\",L1131-O1131)","v":""},{"$f":"IF(M1131=\"\",\"\",M1131-P1131)","v":""},{"$f":"IF(N1131=\"\",\"\",N1131-Q1131)","v":""}]
[null,null,null,null,null,null,null,null,null,null,null,null,null,null,null,null,null,{"$f":"IF(L1132=\"\",\"\",L1132-O1132)","v":""},{"$f":"IF(M1132=\"\",\"\",M1132-P1132)","v":""},{"$f":"IF(N1132=\"\",\"\",N1132-Q1132)","v":""}]
[null,null,null,null,null,null,null,null,null,null,null,null,null,null,null,null,null,{"$f":"IF(L1133=\"\",\"\",L1133-O1133)","v":""},{"$f":"IF(M1133=\"\",\"\",M1133-P1133)","v":""},{"$f":"IF(N1133=\"\",\"\",N1133-Q1133)","v":""}]
[null,null,null,null,null,null,null,null,null,null,null,null,null,null,null,null,null,{"$f":"IF(L1134=\"\",\"\",L1134-O1134)","v":""},{"$f":"IF(M1134=\"\",\"\",M1134-P1134)","v":""},{"$f":"IF(N1134=\"\",\"\",N1134-Q1134)","v":""}]
[null,null,null,null,null,null,null,null,null,null,null,null,null,null,null,null,null,{"$f":"IF(L1135=\"\",\"\",L1135-O1135)","v":""},{"$f":"IF(M1135=\"\",\"\",M1135-P1135)","v":""},{"$f":"IF(N1135=\"\",\"\",N1135-Q1135)","v":""}]
[null,null,null,null,null,null,null,null,null,null,null,null,null,null,null,null,null,{"$f":"IF(L1136=\"\",\"\",L1136-O1136)","v":""},{"$f":"IF(M1136=\"\",\"\",M1136-P1136)","v":""},{"$f":"IF(N1136=\"\",\"\",N1136-Q1136)","v":""}]
[null,null,null,null,null,null,null,null,null,null,null,null,null,null,null,null,null,{"$f":"IF(L1137=\"\",\"\",L1137-O1137)","v":""},{"$f":"IF(M1137=\"\",\"\",M1137-P1137)","v":""},{"$f":"IF(N1137=\"\",\"\",N1137-Q1137)","v":""}]
[null,null,null,null,null,null,null,null,null,null,null,null,null,null,null,null,null,{"$f":"IF(L1138=\"\",\"\",L1138-O1138)","v":""},{"$f":"IF(M1138=\"\",\"\",M1138-P1138)","v":""},{"$f":"IF(N1138=\"\",\"\",N1138-Q1138)","v":""}]
[null,null,null,null,null,null,null,null,null,null,null,null,null,null,null,null,null,{"$f":"IF(L1139=\"\",\"\",L1139-O1139)","v":""},{"$f":"IF(M1139=\"\",\"\",M1139-P1139)","v":""},{"$f":"IF(N1139=\"\",\"\",N1139-Q1139)","v":""}]
[null,null,null,null,null,null,null,null,null,null,null,null,null,null,null,null,null,{"$f":"IF(L1140=\"\",\"\",L1140-O1140)","v":""},{"$f":"IF(M1140=\"\",\"\",M1140-P1140)","v":""},{"$f":"IF(N1140=\"\",\"\",N1140-Q1140)","v":""}]
[null,null,null,null,null,null,null,null,null,null,null,null,null,null,null,null,null,{"$f":"IF(L1141=\"\",\"\",L1141-O1141)","v":""},{"$f":"IF(M1141=\"\",\"\",M1141-P1141)","v":""},{"$f":"IF(N1141=\"\",\"\",N1141-Q1141)","v":""}]
[null,null,null,null,null,null,null,null,null,null,null,null,null,null,null,null,null,{"$f":"IF(L1142=\"\",\"\",L1142-O1142)","v":""},{"$f":"IF(M1142=\"\",\"\",M1142-P1142)","v":""},{"$f":"IF(N1142=\"\",\"\",N1142-Q1142)","v":""}]
[null,null,null,null,null,null,null,null,null,null,null,null,null,null,null,null,null,{"$f":"IF(L1143=\"\",\"\",L1143-O1143)","v":""},{"$f":"IF(M1143=\"\",\"\",M1143-P1143)","v":""},{"$f":"IF(N1143=\"\",\"\",N1143-Q1143)","v":""}]
[null,null,null,null,null,null,null,null,null,null,null,null,null,null,null,null,null,{"$f":"IF(L1144=\"\",\"\",L1144-O1144)","v":""},{"$f":"IF(M1144=\"\",\"\",M1144-P1144)","v":""},{"$f":"IF(N1144=\"\",\"\",N1144-Q1144)","v":""}]
[null,null,null,null,null,null,null,null,null,null,null,null,null,null,null,null,null,{"$f":"IF(L1145=\"\",\"\",L1145-O1145)","v":""},{"$f":"IF(M1145=\"\",\"\",M1145-P1145)","v":""},{"$f":"IF(N1145=\"\",\"\",N1145-Q1145)","v":""}]
[null,null,null,null,null,null,null,null,null,null,null,null,null,null,null,null,null,{"$f":"IF(L1146=\"\",\"\",L1146-O1146)","v":""},{"$f":"IF(M1146=\"\",\"\",M1146-P1146)","v":""},{"$f":"IF(N1146=\"\",\"\",N1146-Q1146)","v":""}]
[null,null,null,null,null,null,null,null,null,null,null,null,null,null,null,null,null,{"$f":"IF(L1147=\"\",\"\",L1147-O1147)","v":""},{"$f":"IF(M1147=\"\",\"\",M1147-P1147)","v":""},{"$f":"IF(N1147=\"\",\"\",N1147-Q1147)","v":""}]
[null,null,null,null,null,null,null,null,null,null,null,null,null,null,null,null,null,{"$f":"IF(L1148=\"\",\"\",L1148-O1148)","v":""},{"$f":"IF(M1148=\"\",\"\",M1148-P1148)","v":""},{"$f":"IF(N1148=\"\",\"\",N1148-Q1148)","v":""}]
[null,null,null,null,null,null,null,null,null,null,null,null,null,null,null,null,null,{"$f":"IF(L1149=\"\",\"\",L1149-O1149)","v":""},{"$f":"IF(M1149=\"\",\"\",M1149-P1149)","v":""},{"$f":"IF(N1149=\"\",\"\",N1149-Q1149)","v":""}]
[null,null,null,null,null,null,null,null,null,null,null,null,null,null,null,null,null,{"$f":"IF(L1150=\"\",\"\",L1150-O1150)","v":""},{"$f":"IF(M1150=\"\",\"\",M1150-P1150)","v":""},{"$f":"IF(N1150=\"\",\"\",N1150-Q1150)","v":""}]
[null,null,null,null,null,null,null,null,null,null,null,null,null,null,null,null,null,{"$f":"IF(L1151=\"\",\"\",L1151-O1151)","v":""},{"$f":"IF(M1151=\"\",\"\",M1151-P1151)","v":""},{"$f":"IF(N1151=\"\",\"\",N1151-Q1151)","v":""}]
[null,null,null,null,null,null,null,null,null,null,null,null,null,null,null,null,null,{"$f":"IF(L1152=\"\",\"\",L1152-O1152)","v":""},{"$f":"IF(M1152=\"\",\"\",M1152-P1152)","v":""},{"$f":"IF(N1152=\"\",\"\",N1152-Q1152)","v":""}]
[null,null,null,null,null,null,null,null,null,null,null,null,null,null,null,null,null,{"$f":"IF(L1153=\"\",\"\",L1153-O1153)","v":""},{"$f":"IF(M1153=\"\",\"\",M1153-P1153)","v":""},{"$f":"IF(N1153=\"\",\"\",N1153-Q1153)","v":""}]
[null,null,null,null,null,null,null,null,null,null,null,null,null,null,null,null,null,{"$f":"IF(L1154=\"\",\"\",L1154-O1154)","v":""},{"$f":"IF(M1154=\"\",\"\",M1154-P1154)","v":""},{"$f":"IF(N1154=\"\",\"\",N1154-Q1154)","v":""}]
[null,null,null,null,null,null,null,null,null,null,null,null,null,null,null,null,null,{"$f":"IF(L1155=\"\",\"\",L1155-O1155)","v":""},{"$f":"IF(M1155=\"\",\"\",M1155-P1155)","v":""},{"$f":"IF(N1155=\"\",\"\",N1155-Q1155)","v":""}]
[null,null,null,null,null,null,null,null,null,null,null,null,null,null,null,null,null,{"$f":"IF(L1156=\"\",\"\",L1156-O1156)","v":""},{"$f":"IF(M1156=\"\",\"\",M1156-P1156)","v":""},{"$f":"IF(N1156=\"\",\"\",N1156-Q1156)","v":""}]
[null,null,null,null,null,null,null,null,null,null,null,null,null,null,null,null,null,{"$f":"IF(L1157=\"\",\"\",L1157-O1157)","v":""},{"$f":"IF(M1157=\"\",\"\",M1157-P1157)","v":""},{"$f":"IF(N1157=\"\",\"\",N1157-Q1157)","v":""}]
[null,null,null,null,null,null,null,null,null,null,null,null,null,null,null,null,null,{"$f":"IF(L1158=\"\",\"\",L1158-O1158)","v":""},{"$f":"IF(M1158=\"\",\"\",M1158-P1158)","v":""},{"$f":"IF(N1158=\"\",\"\",N1158-Q1158)","v":""}]
[null,null,null,null,null,null,null,null,null,null,null,null,null,null,null,null,null,{"$f":"IF(L1159=\"\",\"\",L1159-O1159)","v":""},{"$f":"IF(M1159=\"\",\"\",M1159-P1159)","v":""},{"$f":"IF(N1159=\"\",\"\",N1159-Q1159)","v":""}]
[null,null,null,null,null,null,null,null,null,null,null,null,null,null,null,null,null,{"$f":"IF(L1160=\"\",\"\",L1160-O1160)","v":""},{"$f":"IF(M1160=\"\",\"\",M1160-P1160)","v":""},{"$f":"IF(N1160=\"\",\"\",N1160-Q1160)","v":""}]
[null,null,null,null,null,null,null,null,null,null,null,null,null,null,null,null,null,{"$f":"IF(L1161=\"\",\"\",L1161-O1161)","v":""},{"$f":"IF(M1161=\"\",\"\",M1161-P1161)","v":""},{"$f":"IF(N1161=\"\",\"\",N1161-Q1161)","v":""}]
[null,null,null,null,null,null,null,null,null,null,null,null,null,null,null,null,null,{"$f":"IF(L1162=\"\",\"\",L1162-O1162)","v":""},{"$f":"IF(M1162=\"\",\"\",M1162-P1162)","v":""},{"$f":"IF(N1162=\"\",\"\",N1162-Q1162)","v":""}]
[null,null,null,null,null,null,null,null,null,null,null,null,null,null,null,null,null,{"$f":"IF(L1163=\"\",\"\",L1163-O1163)","v":""},{"$f":"IF(M1163=\"\",\"\",M1163-P1163)","v":""},{"$f":"IF(N1163=\"\",\"\",N1163-Q1163)","v":""}]
[null,null,null,null,null,null,null,null,null,null,null,null,null,null,null,null,null,{"$f":"IF(L1164=\"\",\"\",L1164-O1164)","v":""},{"$f":"IF(M1164=\"\",\"\",M1164-P1164)","v":""},{"$f":"IF(N1164=\"\",\"\",N1164-Q1164)","v":""}]
[null,null,null,null,null,null,null,null,null,null,null,null,null,null,null,null,null,{"$f":"IF(L1165=\"\",\"\",L1165-O1165)","v":""},{"$f":"IF(M1165=\"\",\"\",M1165-P1165)","v":""},{"$f":"IF(N1165=\"\",\"\",N1165-Q1165)","v":""}]
[null,null,null,null,null,null,null,null,null,null,null,null,null,null,null,null,null,{"$f":"IF(L1166=\"\",\"\",L1166-O1166)","v":""},{"$f":"IF(M1166=\"\",\"\",M1166-P1166)","v":""},{"$f":"IF(N1166=\"\",\"\",N1166-Q1166)","v":""}]
[null,null,null,null,null,null,null,null,null,null,null,null,null,null,null,null,null,{"$f":"IF(L1167=\"\",\"\",L1167-O1167)","v":""},{"$f":"IF(M1167=\"\",\"\",M1167-P1167)","v":""},{"$f":"IF(N1167=\"\",\"\",N1167-Q1167)","v":""}]
[null,null,null,null,null,null,null,null,null,null,null,null,null,null,null,null,null,{"$f":"IF(L1168=\"\",\"\",L1168-O1168)","v":""},{"$f":"IF(M1168=\"\",\"\",M1168-P1168)","v":""},{"$f":"IF(N1168=\"\",\"\",N1168-Q1168)","v":""}]
[null,null,null,null,null,null,null,null,null,null,null,null,null,null,null,null,null,{"$f":"IF(L1169=\"\",\"\",L1169-O1169)","v":""},{"$f":"IF(M1169=\"\",\"\",M1169-P1169)","v":""},{"$f":"IF(N1169=\"\",\"\",N1169-Q1169)","v":""}]
[null,null,null,null,null,null,null,null,null,null,null,null,null,null,null,null,null,{"$f":"IF(L1170=\"\",\"\",L1170-O1170)","v":""},{"$f":"IF(M1170=\"\",\"\",M1170-P1170)","v":""},{"$f":"IF(N1170=\"\",\"\",N1170-Q1170)","v":""}]
[null,null,null,null,null,null,null,null,null,null,null,null,null,null,null,null,null,{"$f":"IF(L1171=\"\",\"\",L1171-O1171)","v":""},{"$f":"IF(M1171=\"\",\"\",M1171-P1171)","v":""},{"$f":"IF(N1171=\"\",\"\",N1171-Q1171)","v":""}]
[null,null,null,null,null,null,null,null,null,null,null,null,null,null,null,null,null,{"$f":"IF(L1172=\"\",\"\",L1172-O1172)","v":""},{"$f":"IF(M1172=\"\",\"\",M1172-P1172)","v":""},{"$f":"IF(N1172=\"\",\"\",N1172-Q1172)","v":""}]
[null,null,null,null,null,null,null,null,null,null,null,null,null,null,null,null,null,{"$f":"IF(L1173=\"\",\"\",L1173-O1173)","v":""},{"$f":"IF(M1173=\"\",\"\",M1173-P1173)","v":""},{"$f":"IF(N1173=\"\",\"\",N1173-Q1173)","v":""}]
[null,null,null,null,null,null,null,null,null,null,null,null,null,null,null,null,null,{"$f":"IF(L1174=\"\",\"\",L1174-O1174)","v":""},{"$f":"IF(M1174=\"\",\"\",M1174-P1174)","v":""},{"$f":"IF(N1174=\"\",\"\",N1174-Q1174)","v":""}]
[null,null,null,null,null,null,null,null,null,null,null,null,null,null,null,null,null,{"$f":"IF(L1175=\"\",\"\",L1175-O1175)","v":""},{"$f":"IF(M1175=\"\",\"\",M1175-P1175)","v":""},{"$f":"IF(N1175=\"\",\"\",N1175-Q1175)","v":""}]
[null,null,null,null,null,null,null,null,null,null,null,null,null,null,null,null,null,{"$f":"IF(L1176=\"\",\"\",L1176-O1176)","v":""},{"$f":"IF(M1176=\"\",\"\",M1176-P1176)","v":""},{"$f":"IF(N1176=\"\",\"\",N1176-Q1176)","v":""}]
[null,null,null,null,null,null,null,null,null,null,null,null,null,null,null,null,null,{"$f":"IF(L1177=\"\",\"\",L1177-O1177)","v":""},{"$f":"IF(M1177=\"\",\"\",M1177-P1177)","v":""},{"$f":"IF(N1177=\"\",\"\",N1177-Q1177)","v":""}]
[null,null,null,null,null,null,null,null,null,null,null,null,null,null,null,null,null,{"$f":"IF(L1178=\"\",\"\",L1178-O1178)","v":""},{"$f":"IF(M1178=\"\",\"\",M1178-P1178)","v":""},{"$f":"IF(N1178=\"\",\"\",N1178-Q1178)","v":""}]
[null,null,null,null,null,null,null,null,null,null,null,null,null,null,null,null,null,{"$f":"IF(L1179=\"\",\"\",L1179-O1179)","v":""},{"$f":"IF(M1179=\"\",\"\",M1179-P1179)","v":""},{"$f":"IF(N1179=\"\",\"\",N1179-Q1179)","v":""}]
[null,null,null,null,null,null,null,null,null,null,null,null,null,null,null,null,null,{"$f":"IF(L1180=\"\",\"\",L1180-O1180)","v":""},{"$f":"IF(M1180=\"\",\"\",M1180-P1180)","v":""},{"$f":"IF(N1180=\"\",\"\",N1180-Q1180)","v":""}]
[null,null,null,null,null,null,null,null,null,null,null,null,null,null,null,null,null,{"$f":"IF(L1181=\"\",\"\",L1181-O1181)","v":""},{"$f":"IF(M1181=\"\",\"\",M1181-P1181)","v":""},{"$f":"IF(N1181=\"\",\"\",N1181-Q1181)","v":""}]
[null,null,null,null,null,null,null,null,null,null,null,null,null,null,null,null,null,{"$f":"IF(L1182=\"\",\"\",L1182-O1182)","v":""},{"$f":"IF(M1182=\"\",\"\",M1182-P1182)","v":""},{"$f":"IF(N1182=\"\",\"\",N1182-Q1182)","v":""}]
[null,null,null,null,null,null,null,null,null,null,null,null,null,null,null,null,null,{"$f":"IF(L1183=\"\",\"\",L1183-O1183)","v":""},{"$f":"IF(M1183=\"\",\"\",M1183-P1183)","v":""},{"$f":"IF(N1183=\"\",\"\",N1183-Q1183)","v":""}]
[null,null,null,null,null,null,null,null,null,null,null,null,null,null,null,null,null,{"$f":"IF(L1184=\"\",\"\",L1184-O1184)","v":""},{"$f":"IF(M1184=\"\",\"\",M1184-P1184)","v":""},{"$f":"IF(N1184=\"\",\"\",N1184-Q1184)","v":""}]
[null,null,null,null,null,null,null,null,null,null,null,null,null,null,null,null,null,{"$f":"IF(L1185=\"\",\"\",L1185-O1185)","v":""},{"$f":"IF(M1185=\"\",\"\",M1185-P1185)","v":""},{"$f":"IF(N1185=\"\",\"\",N1185-Q1185)","v":""}]
[null,null,null,null,null,null,null,null,null,null,null,null,null,null,null,null,null,{"$f":"IF(L1186=\"\",\"\",L1186-O1186)","v":""},{"$f":"IF(M1186=\"\",\"\",M1186-P1186)","v":""},{"$f":"IF(N1186=\"\",\"\",N1186-Q1186)","v":""}]
[null,null,null,null,null,null,null,null,null,null,null,null,null,null,null,null,null,{"$f":"IF(L1187=\"\",\"\",L1187-O1187)","v":""},{"$f":"IF(M1187=\"\",\"\",M1187-P1187)","v":""},{"$f":"IF(N1187=\"\",\"\",N1187-Q1187)","v":""}]
[null,null,null,null,null,null,null,null,null,null,null,null,null,null,null,null,null,{"$f":"IF(L1188=\"\",\"\",L1188-O1188)","v":""},{"$f":"IF(M1188=\"\",\"\",M1188-P1188)","v":""},{"$f":"IF(N1188=\"\",\"\",N1188-Q1188)","v":""}]
[null,null,null,null,null,null,null,null,null,null,null,null,null,null,null,null,null,{"$f":"IF(L1189=\"\",\"\",L1189-O1189)","v":""},{"$f":"IF(M1189=\"\",\"\",M1189-P1189)","v":""},{"$f":"IF(N1189=\"\",\"\",N1189-Q1189)","v":""}]
[null,null,null,null,null,null,null,null,null,null,null,null,null,null,null,null,null,{"$f":"IF(L1190=\"\",\"\",L1190-O1190)","v":""},{"$f":"IF(M1190=\"\",\"\",M1190-P1190)","v":""},{"$f":"IF(N1190=\"\",\"\",N1190-Q1190)","v":""}]
[null,null,null,null,null,null,null,null,null,null,null,null,null,null,null,null,null,{"$f":"IF(L1191=\"\",\"\",L1191-O1191)","v":""},{"$f":"IF(M1191=\"\",\"\",M1191-P1191)","v":""},{"$f":"IF(N1191=\"\",\"\",N1191-Q1191)","v":""}]
[null,null,null,null,null,null,null,null,null,null,null,null,null,null,null,null,null,{"$f":"IF(L1192=\"\",\"\",L1192-O1192)","v":""},{"$f":"IF(M1192=\"\",\"\",M1192-P1192)","v":""},{"$f":"IF(N1192=\"\",\"\",N1192-Q1192)","v":""}]
[null,null,null,null,null,null,null,null,null,null,null,null,null,null,null,null,null,{"$f":"IF(L1193=\"\",\"\",L1193-O1193)","v":""},{"$f":"IF(M1193=\"\",\"\",M1193-P1193)","v":""},{"$f":"IF(N1193=\"\",\"\",N1193-Q1193)","v":""}]
[null,null,null,null,null,null,null,null,null,null,null,null,null,null,null,null,null,{"$f":"IF(L1194=\"\",\"\",L1194-O1194)","v":""},{"$f":"IF(M1194=\"\",\"\",M1194-P1194)","v":""},{"$f":"IF(N1194=\"\",\"\",N1194-Q1194)","v":""}]
[null,null,null,null,null,null,null,null,null,null,null,null,null,null,null,null,null,{"$f":"IF(L1195=\"\",\"\",L1195-O1195)","v":""},{"$f":"IF(M1195=\"\",\"\",M1195-P1195)","v":""},{"$f":"IF(N1195=\"\",\"\",N1195-Q1195)","v":""}]
[null,null,null,null,null,null,null,null,null,null,null,null,null,null,null,null,null,{"$f":"IF(L1196=\"\",\"\",L1196-O1196)","v":""},{"$f":"IF(M1196=\"\",\"\",M1196-P1196)","v":""},{"$f":"IF(N1196=\"\",\"\",N1196-Q1196)","v":""}]
[null,null,null,null,null,null,null,null,null,null,null,null,null,null,null,null,null,{"$f":"IF(L1197=\"\",\"\",L1197-O1197)","v":""},{"$f":"IF(M1197=\"\",\"\",M1197-P1197)","v":""},{"$f":"IF(N1197=\"\",\"\",N1197-Q1197)","v":""}]
[null,null,null,null,null,null,null,null,null,null,null,null,null,null,null,null,null,{"$f":"IF(L1198=\"\",\"\",L1198-O1198)","v":""},{"$f":"IF(M1198=\"\",\"\",M1198-P1198)","v":""},{"$f":"IF(N1198=\"\",\"\",N1198-Q1198)","v":""}]
[null,null,null,null,null,null,null,null,null,null,null,null,null,null,null,null,null,{"$f":"IF(L1199=\"\",\"\",L1199-O1199)","v":""},{"$f":"IF(M1199=\"\",\"\",M1199-P1199)","v":""},{"$f":"IF(N1199=\"\",\"\",N1199-Q1199)","v":""}]
[null,null,null,null,null,null,null,null,null,null,null,null,null,null,null,null,null,{"$f":"IF(L1200=\"\",\"\",L1200-O1200)","v":""},{"$f":"IF(M1200=\"\",\"\",M1200-P1200)","v":""},{"$f":"IF(N1200=\"\",\"\",N1200-Q1200)","v":""}]
[null,null,null,null,null,null,null,null,null,null,null,null,null,null,null,null,null,{"$f":"IF(L1201=\"\",\"\",L1201-O1201)","v":""},{"$f":"IF(M1201=\"\",\"\",M1201-P1201)","v":""},{"$f":"IF(N1201=\"\",\"\",N1201-Q1201)","v":""}]
[null,null,null,null,null,null,null,null,null,null,null,null,null,null,null,null,null,{"$f":"IF(L1202=\"\",\"\",L1202-O1202)","v":""},{"$f":"IF(M1202=\"\",\"\",M1202-P1202)","v":""},{"$f":"IF(N1202=\"\",\"\",N1202-Q1202)","v":""}]
[null,null,null,null,null,null,null,null,null,null,null,null,null,null,null,null,null,{"$f":"IF(L1203=\"\",\"\",L1203-O1203)","v":""},{"$f":"IF(M1203=\"\",\"\",M1203-P1203)","v":""},{"$f":"IF(N1203=\"\",\"\",N1203-Q1203)","v":""}]
[null,null,null,null,null,null,null,null,null,null,null,null,null,null,null,null,null,{"$f":"IF(L1204=\"\",\"\",L1204-O1204)","v":""},{"$f":"IF(M1204=\"\",\"\",M1204-P1204)","v":""},{"$f":"IF(N1204=\"\",\"\",N1204-Q1204)","v":""}]
[null,null,null,null,null,null,null,null,null,null,null,null,null,null,null,null,null,{"$f":"IF(L1205=\"\",\"\",L1205-O1205)","v":""},{"$f":"IF(M1205=\"\",\"\",M1205-P1205)","v":""},{"$f":"IF(N1205=\"\",\"\",N1205-Q1205)","v":""}]
[null,null,null,null,null,null,null,null,null,null,null,null,null,null,null,null,null,{"$f":"IF(L1206=\"\",\"\",L1206-O1206)","v":""},{"$f":"IF(M1206=\"\",\"\",M1206-P1206)","v":""},{"$f":"IF(N1206=\"\",\"\",N1206-Q1206)","v":""}]
[null,null,null,null,null,null,null,null,null,null,null,null,null,null,null,null,null,{"$f":"IF(L1207=\"\",\"\",L1207-O1207)","v":""},{"$f":"IF(M1207=\"\",\"\",M1207-P1207)","v":""},{"$f":"IF(N1207=\"\",\"\",N1207-Q1207)","v":""}]
[null,null,null,null,null,null,null,null,null,null,null,null,null,null,null,null,null,{"$f":"IF(L1208=\"\",\"\",L1208-O1208)","v":""},{"$f":"IF(M1208=\"\",\"\",M1208-P1208)","v":""},{"$f":"IF(N1208=\"\",\"\",N1208-Q1208)","v":""}]
[null,null,null,null,null,null,null,null,null,null,null,null,null,null,null,null,null,{"$f":"IF(L1209=\"\",\"\",L1209-O1209)","v":""},{"$f":"IF(M1209=\"\",\"\",M1209-P1209)","v":""},{"$f":"IF(N1209=\"\",\"\",N1209-Q1209)","v":""}]
[null,null,null,null,null,null,null,null,null,null,null,null,null,null,null,null,null,{"$f":"IF(L1210=\"\",\"\",L1210-O1210)","v":""},{"$f":"IF(M1210=\"\",\"\",M1210-P1210)","v":""},{"$f":"IF(N1210=\"\",\"\",N1210-Q1210)","v":""}]
[null,null,null,null,null,null,null,null,null,null,null,null,null,null,null,null,null,{"$f":"IF(L1211=\"\",\"\",L1211-O1211)","v":""},{"$f":"IF(M1211=\"\",\"\",M1211-P1211)","v":""},{"$f":"IF(N1211=\"\",\"\",N1211-Q1211)","v":""}]
[null,null,null,null,null,null,null,null,null,null,null,null,null,null,null,null,null,{"$f":"IF(L1212=\"\",\"\",L1212-O1212)","v":""},{"$f":"IF(M1212=\"\",\"\",M1212-P1212)","v":""},{"$f":"IF(N1212=\"\",\"\",N1212-Q1212)","v":""}]
[null,null,null,null,null,null,null,null,null,null,null,null,null,null,null,null,null,{"$f":"IF(L1213=\"\",\"\",L1213-O1213)","v":""},{"$f":"IF(M1213=\"\",\"\",M1213-P1213)","v":""},{"$f":"IF(N1213=\"\",\"\",N1213-Q1213)","v":""}]
[null,null,null,null,null,null,null,null,null,null,null,null,null,null,null,null,null,{"$f":"IF(L1214=\"\",\"\",L1214-O1214)","v":""},{"$f":"IF(M1214=\"\",\"\",M1214-P1214)","v":""},{"$f":"IF(N1214=\"\",\"\",N1214-Q1214)","v":""}]
[null,null,null,null,null,null,null,null,null,null,null,null,null,null,null,null,null,{"$f":"IF(L1215=\"\",\"\",L1215-O1215)","v":""},{"$f":"IF(M1215=\"\",\"\",M1215-P1215)","v":""},{"$f":"IF(N1215=\"\",\"\",N1215-Q1215)","v":""}]
[null,null,null,null,null,null,null,null,null,null,null,null,null,null,null,null,null,{"$f":"IF(L1216=\"\",\"\",L1216-O1216)","v":""},{"$f":"IF(M1216=\"\",\"\",M1216-P1216)","v":""},{"$f":"IF(N1216=\"\",\"\",N1216-Q1216)","v":""}]
[null,null,null,null,null,null,null,null,null,null,null,null,null,null,null,null,null,{"$f":"IF(L1217=\"\",\"\",L1217-O1217)","v":""},{"$f":"IF(M1217=\"\",\"\",M1217-P1217)","v":""},{"$f":"IF(N1217=\"\",\"\",N1217-Q1217)","v":""}]
[null,null,null,null,null,null,null,null,null,null,null,null,null,null,null,null,null,{"$f":"IF(L1218=\"\",\"\",L1218-O1218)","v":""},{"$f":"IF(M1218=\"\",\"\",M1218-P1218)","v":""},{"$f":"IF(N1218=\"\",\"\",N1218-Q1218)","v":""}]
[null,null,null,null,null,null,null,null,null,null,null,null,null,null,null,null,null,{"$f":"IF(L1219=\"\",\"\",L1219-O1219)","v":""},{"$f":"IF(M1219=\"\",\"\",M1219-P1219)","v":""},{"$f":"IF(N1219=\"\",\"\",N1219-Q1219)","v":""}]
[null,null,null,null,null,null,null,null,null,null,null,null,null,null,null,null,null,{"$f":"IF(L1220=\"\",\"\",L1220-O1220)","v":""},{"$f":"IF(M1220=\"\",\"\",M1220-P1220)","v":""},{"$f":"IF(N1220=\"\",\"\",N1220-Q1220)","v":""}]
[null,null,null,null,null,null,null,null,null,null,null,null,null,null,null,null,null,{"$f":"IF(L1221=\"\",\"\",L1221-O1221)","v":""},{"$f":"IF(M1221=\"\",\"\",M1221-P1221)","v":""},{"$f":"IF(N1221=\"\",\"\",N1221-Q1221)","v":""}]
[null,null,null,null,null,null,null,null,null,null,null,null,null,null,null,null,null,{"$f":"IF(L1222=\"\",\"\",L1222-O1222)","v":""},{"$f":"IF(M1222=\"\",\"\",M1222-P1222)","v":""},{"$f":"IF(N1222=\"\",\"\",N1222-Q1222)","v":""}]
[null,null,null,null,null,null,null,null,null,null,null,null,null,null,null,null,null,{"$f":"IF(L1223=\"\",\"\",L1223-O1223)","v":""},{"$f":"IF(M1223=\"\",\"\",M1223-P1223)","v":""},{"$f":"IF(N1223=\"\",\"\",N1223-Q1223)","v":""}]
[null,null,null,null,null,null,null,null,null,null,null,null,null,null,null,null,null,{"$f":"IF(L1224=\"\",\"\",L1224-O1224)","v":""},{"$f":"IF(M1224=\"\",\"\",M1224-P1224)","v":""},{"$f":"IF(N1224=\"\",\"\",N1224-Q1224)","v":""}]
[null,null,null,null,null,null,null,null,null,null,null,null,null,null,null,null,null,{"$f":"IF(L1225=\"\",\"\",L1225-O1225)","v":""},{"$f":"IF(M1225=\"\",\"\",M1225-P1225)","v":""},{"$f":"IF(N1225=\"\",\"\",N1225-Q1225)","v":""}]
[null,null,null,null,null,null,null,null,null,null,null,null,null,null,null,null,null,{"$f":"IF(L1226=\"\",\"\",L1226-O1226)","v":""},{"$f":"IF(M1226=\"\",\"\",M1226-P1226)","v":""},{"$f":"IF(N1226=\"\",\"\",N1226-Q1226)","v":""}]
[null,null,null,null,null,null,null,null,null,null,null,null,null,null,null,null,null,{"$f":"IF(L1227=\"\",\"\",L1227-O1227)","v":""},{"$f":"IF(M1227=\"\",\"\",M1227-P1227)","v":""},{"$f":"IF(N1227=\"\",\"\",N1227-Q1227)","v":""}]
[null,null,null,null,null,null,null,null,null,null,null,null,null,null,null,null,null,{"$f":"IF(L1228=\"\",\"\",L1228-O1228)","v":""},{"$f":"IF(M1228=\"\",\"\",M1228-P1228)","v":""},{"$f":"IF(N1228=\"\",\"\",N1228-Q1228)","v":""}]
[null,null,null,null,null,null,null,null,null,null,null,null,null,null,null,null,null,{"$f":"IF(L1229=\"\",\"\",L1229-O1229)","v":""},{"$f":"IF(M1229=\"\",\"\",M1229-P1229)","v":""},{"$f":"IF(N1229=\"\",\"\",N1229-Q1229)","v":""}]
[null,null,null,null,null,null,null,null,null,null,null,null,null,null,null,null,null,{"$f":"IF(L1230=\"\",\"\",L1230-O1230)","v":""},{"$f":"IF(M1230=\"\",\"\",M1230-P1230)","v":""},{"$f":"IF(N1230=\"\",\"\",N1230-Q1230)","v":""}]
[null,null,null,null,null,null,null,null,null,null,null,null,null,null,null,null,null,{"$f":"IF(L1231=\"\",\"\",L1231-O1231)","v":""},{"$f":"IF(M1231=\"\",\"\",M1231-P1231)","v":""},{"$f":"IF(N1231=\"\",\"\",N1231-Q1231)","v":""}]
[null,null,null,null,null,null,null,null,null,null,null,null,null,null,null,null,null,{"$f":"IF(L1232=\"\",\"\",L1232-O1232)","v":""},{"$f":"IF(M1232=\"\",\"\",M1232-P1232)","v":""},{"$f":"IF(N1232=\"\",\"\",N1232-Q1232)","v":""}]
[null,null,null,null,null,null,null,null,null,null,null,null,null,null,null,null,null,{"$f":"IF(L1233=\"\",\"\",L1233-O1233)","v":""},{"$f":"IF(M1233=\"\",\"\",M1233-P1233)","v":""},{"$f":"IF(N1233=\"\",\"\",N1233-Q1233)","v":""}]
[null,null,null,null,null,null,null,null,null,null,null,null,null,null,null,null,null,{"$f":"IF(L1234=\"\",\"\",L1234-O1234)","v":""},{"$f":"IF(M1234=\"\",\"\",M1234-P1234)","v":""},{"$f":"IF(N1234=\"\",\"\",N1234-Q1234)","v":""}]
[null,null,null,null,null,null,null,null,null,null,null,null,null,null,null,null,null,{"$f":"IF(L1235=\"\",\"\",L1235-O1235)","v":""},{"$f":"IF(M1235=\"\",\"\",M1235-P1235)","v":""},{"$f":"IF(N1235=\"\",\"\",N1235-Q1235)","v":""}]
[null,null,null,null,null,null,null,null,null,null,null,null,null,null,null,null,null,{"$f":"IF(L1236=\"\",\"\",L1236-O1236)","v":""},{"$f":"IF(M1236=\"\",\"\",M1236-P1236)","v":""},{"$f":"IF(N1236=\"\",\"\",N1236-Q1236)","v":""}]
[null,null,null,null,null,null,null,null,null,null,null,null,null,null,null,null,null,{"$f":"IF(L1237=\"\",\"\",L1237-O1237)","v":""},{"$f":"IF(M1237=\"\",\"\",M1237-P1237)","v":""},{"$f":"IF(N1237=\"\",\"\",N1237-Q1237)","v":""}]
[null,null,null,null,null,null,null,null,null,null,null,null,null,null,null,null,null,{"$f":"IF(L1238=\"\",\"\",L1238-O1238)","v":""},{"$f":"IF(M1238=\"\",\"\",M1238-P1238)","v":""},{"$f":"IF(N1238=\"\",\"\",N1238-Q1238)","v":""}]
[null,null,null,null,null,null,null,null,null,null,null,null,null,null,null,null,null,{"$f":"IF(L1239=\"\",\"\",L1239-O1239)","v":""},{"$f":"IF(M1239=\"\",\"\",M1239-P1239)","v":""},{"$f":"IF(N1239=\"\",\"\",N1239-Q1239)","v":""}]
[null,null,null,null,null,null,null,null,null,null,null,null,null,null,null,null,null,{"$f":"IF(L1240=\"\",\"\",L1240-O1240)","v":""},{"$f":"IF(M1240=\"\",\"\",M1240-P1240)","v":""},{"$f":"IF(N1240=\"\",\"\",N1240-Q1240)","v":""}]
[null,null,null,null,null,null,null,null,null,null,null,null,null,null,null,null,null,{"$f":"IF(L1241=\"\",\"\",L1241-O1241)","v":""},{"$f":"IF(M1241=\"\",\"\",M1241-P1241)","v":""},{"$f":"IF(N1241=\"\",\"\",N1241-Q1241)","v":""}]
[null,null,null,null,null,null,null,null,null,null,null,null,null,null,null,null,null,{"$f":"IF(L1242=\"\",\"\",L1242-O1242)","v":""},{"$f":"IF(M1242=\"\",\"\",M1242-P1242)","v":""},{"$f":"IF(N1242=\"\",\"\",N1242-Q1242)","v":""}]
[null,null,null,null,null,null,null,null,null,null,null,null,null,null,null,null,null,{"$f":"IF(L1243=\"\",\"\",L1243-O1243)","v":""},{"$f":"IF(M1243=\"\",\"\",M1243-P1243)","v":""},{"$f":"IF(N1243=\"\",\"\",N1243-Q1243)","v":""}]
[null,null,null,null,null,null,null,null,null,null,null,null,null,null,null,null,null,{"$f":"IF(L1244=\"\",\"\",L1244-O1244)","v":""},{"$f":"IF(M1244=\"\",\"\",M1244-P1244)","v":""},{"$f":"IF(N1244=\"\",\"\",N1244-Q1244)","v":""}]
[null,null,null,null,null,null,null,null,null,null,null,null,null,null,null,null,null,{"$f":"IF(L1245=\"\",\"\",L1245-O1245)","v":""},{"$f":"IF(M1245=\"\",\"\",M1245-P1245)","v":""},{"$f":"IF(N1245=\"\",\"\",N1245-Q1245)","v":""}]
[null,null,null,null,null,null,null,null,null,null,null,null,null,null,null,null,null,{"$f":"IF(L1246=\"\",\"\",L1246-O1246)","v":""},{"$f":"IF(M1246=\"\",\"\",M1246-P1246)","v":""},{"$f":"IF(N1246=\"\",\"\",N1246-Q1246)","v":""}]
[null,null,null,null,null,null,null,null,null,null,null,null,null,null,null,null,null,{"$f":"IF(L1247=\"\",\"\",L1247-O1247)","v":""},{"$f":"IF(M1247=\"\",\"\",M1247-P1247)","v":""},{"$f":"IF(N1247=\"\",\"\",N1247-Q1247)","v":""}]
[null,null,null,null,null,null,null,null,null,null,null,null,null,null,null,null,null,{"$f":"IF(L1248=\"\",\"\",L1248-O1248)","v":""},{"$f":"IF(M1248=\"\",\"\",M1248-P1248)","v":""},{"$f":"IF(N1248=\"\",\"\",N1248-Q1248)","v":""}]
[null,null,null,null,null,null,null,null,null,null,null,null,null,null,null,null,null,{"$f":"IF(L1249=\"\",\"\",L1249-O1249)","v":""},{"$f":"IF(M1249=\"\",\"\",M1249-P1249)","v":""},{"$f":"IF(N1249=\"\",\"\",N1249-Q1249)","v":""}]
[null,null,null,null,null,null,null,null,null,null,null,null,null,null,null,null,null,{"$f":"IF(L1250=\"\",\"\",L1250-O1250)","v":""},{"$f":"IF(M1250=\"\",\"\",M1250-P1250)","v":""},{"$f":"IF(N1250=\"\",\"\",N1250-Q1250)","v":""}]
[null,null,null,null,null,null,null,null,null,null,null,null,null,null,null,null,null,{"$f":"IF(L1251=\"\",\"\",L1251-O1251)","v":""},{"$f":"IF(M1251=\"\",\"\",M1251-P1251)","v":""},{"$f":"IF(N1251=\"\",\"\",N1251-Q1251)","v":""}]
[null,null,null,null,null,null,null,null,null,null,null,null,null,null,null,null,null,{"$f":"IF(L1252=\"\",\"\",L1252-O1252)","v":""},{"$f":"IF(M1252=\"\",\"\",M1252-P1252)","v":""},{"$f":"IF(N1252=\"\",\"\",N1252-Q1252)","v":""}]
[null,null,null,null,null,null,null,null,null,null,null,null,null,null,null,null,null,{"$f":"IF(L1253=\"\",\"\",L1253-O1253)","v":""},{"$f":"IF(M1253=\"\",\"\",M1253-P1253)","v":""},{"$f":"IF(N1253=\"\",\"\",N1253-Q1253)","v":""}]
[null,null,null,null,null,null,null,null,null,null,null,null,null,null,null,null,null,{"$f":"IF(L1254=\"\",\"\",L1254-O1254)","v":""},{"$f":"IF(M1254=\"\",\"\",M1254-P1254)","v":""},{"$f":"IF(N1254=\"\",\"\",N1254-Q1254)","v":""}]
[null,null,null,null,null,null,null,null,null,null,null,null,null,null,null,null,null,{"$f":"IF(L1255=\"\",\"\",L1255-O1255)","v":""},{"$f":"IF(M1255=\"\",\"\",M1255-P1255)","v":""},{"$f":"IF(N1255=\"\",\"\",N1255-Q1255)","v":""}]
[null,null,null,null,null,null,null,null,null,null,null,null,null,null,null,null,null,{"$f":"IF(L1256=\"\",\"\",L1256-O1256)","v":""},{"$f":"IF(M1256=\"\",\"\",M1256-P1256)","v":""},{"$f":"IF(N1256=\"\",\"\",N1256-Q1256)","v":""}]
[null,null,null,null,null,null,null,null,null,null,null,null,null,null,null,null,null,{"$f":"IF(L1257=\"\",\"\",L1257-O1257)","v":""},{"$f":"IF(M1257=\"\",\"\",M1257-P1257)","v":""},{"$f":"IF(N1257=\"\",\"\",N1257-Q1257)","v":""}]
[null,null,null,null,null,null,null,null,null,null,null,null,null,null,null,null,null,{"$f":"IF(L1258=\"\",\"\",L1258-O1258)","v":""},{"$f":"IF(M1258=\"\",\"\",M1258-P1258)","v":""},{"$f":"IF(N1258=\"\",\"\",N1258-Q1258)","v":""}]
[null,null,null,null,null,null,null,null,null,null,null,null,null,null,null,null,null,{"$f":"IF(L1259=\"\",\"\",L1259-O1259)","v":""},{"$f":"IF(M1259=\"\",\"\",M1259-P1259)","v":""},{"$f":"IF(N1259=\"\",\"\",N1259-Q1259)","v":""}]
[null,null,null,null,null,null,null,null,null,null,null,null,null,null,null,null,null,{"$f":"IF(L1260=\"\",\"\",L1260-O1260)","v":""},{"$f":"IF(M1260=\"\",\"\",M1260-P1260)","v":""},{"$f":"IF(N1260=\"\",\"\",N1260-Q1260)","v":""}]
[null,null,null,null,null,null,null,null,null,null,null,null,null,null,null,null,null,{"$f":"IF(L1261=\"\",\"\",L1261-O1261)","v":""},{"$f":"IF(M1261=\"\",\"\",M1261-P1261)","v":""},{"$f":"IF(N1261=\"\",\"\",N1261-Q1261)","v":""}]
[null,null,null,null,null,null,null,null,null,null,null,null,null,null,null,null,null,{"$f":"IF(L1262=\"\",\"\",L1262-O1262)","v":""},{"$f":"IF(M1262=\"\",\"\",M1262-P1262)","v":""},{"$f":"IF(N1262=\"\",\"\",N1262-Q1262)","v":""}]
[null,null,null,null,null,null,null,null,null,null,null,null,null,null,null,null,null,{"$f":"IF(L1263=\"\",\"\",L1263-O1263)","v":""},{"$f":"IF(M1263=\"\",\"\",M1263-P1263)","v":""},{"$f":"IF(N1263=\"\",\"\",N1263-Q1263)","v":""}]
[null,null,null,null,null,null,null,null,null,null,null,null,null,null,null,null,null,{"$f":"IF(L1264=\"\",\"\",L1264-O1264)","v":""},{"$f":"IF(M1264=\"\",\"\",M1264-P1264)","v":""},{"$f":"IF(N1264=\"\",\"\",N1264-Q1264)","v":""}]
[null,null,null,null,null,null,null,null,null,null,null,null,null,null,null,null,null,{"$f":"IF(L1265=\"\",\"\",L1265-O1265)","v":""},{"$f":"IF(M1265=\"\",\"\",M1265-P1265)","v":""},{"$f":"IF(N1265=\"\",\"\",N1265-Q1265)","v":""}]
[null,null,null,null,null,null,null,null,null,null,null,null,null,null,null,null,null,{"$f":"IF(L1266=\"\",\"\",L1266-O1266)","v":""},{"$f":"IF(M1266=\"\",\"\",M1266-P1266)","v":""},{"$f":"IF(N1266=\"\",\"\",N1266-Q1266)","v":""}]
[null,null,null,null,null,null,null,null,null,null,null,null,null,null,null,null,null,{"$f":"IF(L1267=\"\",\"\",L1267-O1267)","v":""},{"$f":"IF(M1267=\"\",\"\",M1267-P1267)","v":""},{"$f":"IF(N1267=\"\",\"\",N1267-Q1267)","v":""}]
[null,null,null,null,null,null,null,null,null,null,null,null,null,null,null,null,null,{"$f":"IF(L1268=\"\",\"\",L1268-O1268)","v":""},{"$f":"IF(M1268=\"\",\"\",M1268-P1268)","v":""},{"$f":"IF(N1268=\"\",\"\",N1268-Q1268)","v":""}]
[null,null,null,null,null,null,null,null,null,null,null,null,null,null,null,null,null,{"$f":"IF(L1269=\"\",\"\",L1269-O1269)","v":""},{"$f":"IF(M1269=\"\",\"\",M1269-P1269)","v":""},{"$f":"IF(N1269=\"\",\"\",N1269-Q1269)","v":""}]
[null,null,null,null,null,null,null,null,null,null,null,null,null,null,null,null,null,{"$f":"IF(L1270=\"\",\"\",L1270-O1270)","v":""},{"$f":"IF(M1270=\"\",\"\",M1270-P1270)","v":""},{"$f":"IF(N1270=\"\",\"\",N1270-Q1270)","v":""}]
[null,null,null,null,null,null,null,null,null,null,null,null,null,null,null,null,null,{"$f":"IF(L1271=\"\",\"\",L1271-O1271)","v":""},{"$f":"IF(M1271=\"\",\"\",M1271-P1271)","v":""},{"$f":"IF(N1271=\"\",\"\",N1271-Q1271)","v":""}]
[null,null,null,null,null,null,null,null,null,null,null,null,null,null,null,null,null,{"$f":"IF(L1272=\"\",\"\",L1272-O1272)","v":""},{"$f":"IF(M1272=\"\",\"\",M1272-P1272)","v":""},{"$f":"IF(N1272=\"\",\"\",N1272-Q1272)","v":""}]
[null,null,null,null,null,null,null,null,null,null,null,null,null,null,null,null,null,{"$f":"IF(L1273=\"\",\"\",L1273-O1273)","v":""},{"$f":"IF(M1273=\"\",\"\",M1273-P1273)","v":""},{"$f":"IF(N1273=\"\",\"\",N1273-Q1273)","v":""}]
[null,null,null,null,null,null,null,null,null,null,null,null,null,null,null,null,null,{"$f":"IF(L1274=\"\",\"\",L1274-O1274)","v":""},{"$f":"IF(M1274=\"\",\"\",M1274-P1274)","v":""},{"$f":"IF(N1274=\"\",\"\",N1274-Q1274)","v":""}]
[null,null,null,null,null,null,null,null,null,null,null,null,null,null,null,null,null,{"$f":"IF(L1275=\"\",\"\",L1275-O1275)","v":""},{"$f":"IF(M1275=\"\",\"\",M1275-P1275)","v":""},{"$f":"IF(N1275=\"\",\"\",N1275-Q1275)","v":""}]
[null,null,null,null,null,null,null,null,null,null,null,null,null,null,null,null,null,{"$f":"IF(L1276=\"\",\"\",L1276-O1276)","v":""},{"$f":"IF(M1276=\"\",\"\",M1276-P1276)","v":""},{"$f":"IF(N1276=\"\",\"\",N1276-Q1276)","v":""}]
[null,null,null,null,null,null,null,null,null,null,null,null,null,null,null,null,null,{"$f":"IF(L1277=\"\",\"\",L1277-O1277)","v":""},{"$f":"IF(M1277=\"\",\"\",M1277-P1277)","v":""},{"$f":"IF(N1277=\"\",\"\",N1277-Q1277)","v":""}]
[null,null,null,null,null,null,null,null,null,null,null,null,null,null,null,null,null,{"$f":"IF(L1278=\"\",\"\",L1278-O1278)","v":""},{"$f":"IF(M1278=\"\",\"\",M1278-P1278)","v":""},{"$f":"IF(N1278=\"\",\"\",N1278-Q1278)","v":""}]
[null,null,null,null,null,null,null,null,null,null,null,null,null,null,null,null,null,{"$f":"IF(L1279=\"\",\"\",L1279-O1279)","v":""},{"$f":"IF(M1279=\"\",\"\",M1279-P1279)","v":""},{"$f":"IF(N1279=\"\",\"\",N1279-Q1279)","v":""}]
[null,null,null,null,null,null,null,null,null,null,null,null,null,null,null,null,null,{"$f":"IF(L1280=\"\",\"\",L1280-O1280)","v":""},{"$f":"IF(M1280=\"\",\"\",M1280-P1280)","v":""},{"$f":"IF(N1280=\"\",\"\",N1280-Q1280)","v":""}]
[null,null,null,null,null,null,null,null,null,null,null,null,null,null,null,null,null,{"$f":"IF(L1281=\"\",\"\",L1281-O1281)","v":""},{"$f":"IF(M1281=\"\",\"\",M1281-P1281)","v":""},{"$f":"IF(N1281=\"\",\"\",N1281-Q1281)","v":""}]
[null,null,null,null,null,null,null,null,null,null,null,null,null,null,null,null,null,{"$f":"IF(L1282=\"\",\"\",L1282-O1282)","v":""},{"$f":"IF(M1282=\"\",\"\",M1282-P1282)","v":""},{"$f":"IF(N1282=\"\",\"\",N1282-Q1282)","v":""}]
[null,null,null,null,null,null,null,null,null,null,null,null,null,null,null,null,null,{"$f":"IF(L1283=\"\",\"\",L1283-O1283)","v":""},{"$f":"IF(M1283=\"\",\"\",M1283-P1283)","v":""},{"$f":"IF(N1283=\"\",\"\",N1283-Q1283)","v":""}]
[null,null,null,null,null,null,null,null,null,null,null,null,null,null,null,null,null,{"$f":"IF(L1284=\"\",\"\",L1284-O1284)","v":""},{"$f":"IF(M1284=\"\",\"\",M1284-P1284)","v":""},{"$f":"IF(N1284=\"\",\"\",N1284-Q1284)","v":""}]
[null,null,null,null,null,null,null,null,null,null,null,null,null,null,null,null,null,{"$f":"IF(L1285=\"\",\"\",L1285-O1285)","v":""},{"$f":"IF(M1285=\"\",\"\",M1285-P1285)","v":""},{"$f":"IF(N1285=\"\",\"\",N1285-Q1285)","v":""}]
[null,null,null,null,null,null,null,null,null,null,null,null,null,null,null,null,null,{"$f":"IF(L1286=\"\",\"\",L1286-O1286)","v":""},{"$f":"IF(M1286=\"\",\"\",M1286-P1286)","v":""},{"$f":"IF(N1286=\"\",\"\",N1286-Q1286)","v":""}]
[null,null,null,null,null,null,null,null,null,null,null,null,null,null,null,null,null,{"$f":"IF(L1287=\"\",\"\",L1287-O1287)","v":""},{"$f":"IF(M1287=\"\",\"\",M1287-P1287)","v":""},{"$f":"IF(N1287=\"\",\"\",N1287-Q1287)","v":""}]
[null,null,null,null,null,null,null,null,null,null,null,null,null,null,null,null,null,{"$f":"IF(L1288=\"\",\"\",L1288-O1288)","v":""},{"$f":"IF(M1288=\"\",\"\",M1288-P1288)","v":""},{"$f":"IF(N1288=\"\",\"\",N1288-Q1288)","v":""}]
[null,null,null,null,null,null,null,null,null,null,null,null,null,null,null,null,null,{"$f":"IF(L1289=\"\",\"\",L1289-O1289)","v":""},{"$f":"IF(M1289=\"\",\"\",M1289-P1289)","v":""},{"$f":"IF(N1289=\"\",\"\",N1289-Q1289)","v":""}]
[null,null,null,null,null,null,null,null,null,null,null,null,null,null,null,null,null,{"$f":"IF(L1290=\"\",\"\",L1290-O1290)","v":""},{"$f":"IF(M1290=\"\",\"\",M1290-P1290)","v":""},{"$f":"IF(N1290=\"\",\"\",N1290-Q1290)","v":""}]
[null,null,null,null,null,null,null,null,null,null,null,null,null,null,null,null,null,{"$f":"IF(L1291=\"\",\"\",L1291-O1291)","v":""},{"$f":"IF(M1291=\"\",\"\",M1291-P1291)","v":""},{"$f":"IF(N1291=\"\",\"\",N1291-Q1291)","v":""}]
[null,null,null,null,null,null,null,null,null,null,null,null,null,null,null,null,null,{"$f":"IF(L1292=\"\",\"\",L1292-O1292)","v":""},{"$f":"IF(M1292=\"\",\"\",M1292-P1292)","v":""},{"$f":"IF(N1292=\"\",\"\",N1292-Q1292)","v":""}]
[null,null,null,null,null,null,null,null,null,null,null,null,null,null,null,null,null,{"$f":"IF(L1293=\"\",\"\",L1293-O1293)","v":""},{"$f":"IF(M1293=\"\",\"\",M1293-P1293)","v":""},{"$f":"IF(N1293=\"\",\"\",N1293-Q1293)","v":""}]
[null,null,null,null,null,null,null,null,null,null,null,null,null,null,null,null,null,{"$f":"IF(L1294=\"\",\"\",L1294-O1294)","v":""},{"$f":"IF(M1294=\"\",\"\",M1294-P1294)","v":""},{"$f":"IF(N1294=\"\",\"\",N1294-Q1294)","v":""}]
[null,null,null,null,null,null,null,null,null,null,null,null,null,null,null,null,null,{"$f":"IF(L1295=\"\",\"\",L1295-O1295)","v":""},{"$f":"IF(M1295=\"\",\"\",M1295-P1295)","v":""},{"$f":"IF(N1295=\"\",\"\",N1295-Q1295)","v":""}]
[null,null,null,null,null,null,null,null,null,null,null,null,null,null,null,null,null,{"$f":"IF(L1296=\"\",\"\",L1296-O1296)","v":""},{"$f":"IF(M1296=\"\",\"\",M1296-P1296)","v":""},{"$f":"IF(N1296=\"\",\"\",N1296-Q1296)","v":""}]
[null,null,null,null,null,null,null,null,null,null,null,null,null,null,null,null,null,{"$f":"IF(L1297=\"\",\"\",L1297-O1297)","v":""},{"$f":"IF(M1297=\"\",\"\",M1297-P1297)","v":""},{"$f":"IF(N1297=\"\",\"\",N1297-Q1297)","v":""}]
[null,null,null,null,null,null,null,null,null,null,null,null,null,null,null,null,null,{"$f":"IF(L1298=\"\",\"\",L1298-O1298)","v":""},{"$f":"IF(M1298=\"\",\"\",M1298-P1298)","v":""},{"$f":"IF(N1298=\"\",\"\",N1298-Q1298)","v":""}]
[null,null,null,null,null,null,null,null,null,null,null,null,null,null,null,null,null,{"$f":"IF(L1299=\"\",\"\",L1299-O1299)","v":""},{"$f":"IF(M1299=\"\",\"\",M1299-P1299)","v":""},{"$f":"IF(N1299=\"\",\"\",N1299-Q1299)","v":""}]
[null,null,null,null,null,null,null,null,null,null,null,null,null,null,null,null,null,{"$f":"IF(L1300=\"\",\"\",L1300-O1300)","v":""},{"$f":"IF(M1300=\"\",\"\",M1300-P1300)","v":""},{"$f":"IF(N1300=\"\",\"\",N1300-Q1300)","v":""}]
[null,null,null,null,null,null,null,null,null,null,null,null,null,null,null,null,null,{"$f":"IF(L1301=\"\",\"\",L1301-O1301)","v":""},{"$f":"IF(M1301=\"\",\"\",M1301-P1301)","v":""},{"$f":"IF(N1301=\"\",\"\",N1301-Q1301)","v":""}]
[null,null,null,null,null,null,null,null,null,null,null,null,null,null,null,null,null,{"$f":"IF(L1302=\"\",\"\",L1302-O1302)","v":""},{"$f":"IF(M1302=\"\",\"\",M1302-P1302)","v":""},{"$f":"IF(N1302=\"\",\"\",N1302-Q1302)","v":""}]
[null,null,null,null,null,null,null,null,null,null,null,null,null,null,null,null,null,{"$f":"IF(L1303=\"\",\"\",L1303-O1303)","v":""},{"$f":"IF(M1303=\"\",\"\",M1303-P1303)","v":""},{"$f":"IF(N1303=\"\",\"\",N1303-Q1303)","v":""}]
[null,null,null,null,null,null,null,null,null,null,null,null,null,null,null,null,null,{"$f":"IF(L1304=\"\",\"\",L1304-O1304)","v":""},{"$f":"IF(M1304=\"\",\"\",M1304-P1304)","v":""},{"$f":"IF(N1304=\"\",\"\",N1304-Q1304)","v":""}]
[null,null,null,null,null,null,null,null,null,null,null,null,null,null,null,null,null,{"$f":"IF(L1305=\"\",\"\",L1305-O1305)","v":""},{"$f":"IF(M1305=\"\",\"\",M1305-P1305)","v":""},{"$f":"IF(N1305=\"\",\"\",N1305-Q1305)","v":""}]
[null,null,null,null,null,null,null,null,null,null,null,null,null,null,null,null,null,{"$f":"IF(L1306=\"\",\"\",L1306-O1306)","v":""},{"$f":"IF(M1306=\"\",\"\",M1306-P1306)","v":""},{"$f":"IF(N1306=\"\",\"\",N1306-Q1306)","v":""}]
[null,null,null,null,null,null,null,null,null,null,null,null,null,null,null,null,null,{"$f":"IF(L1307=\"\",\"\",L1307-O1307)","v":""},{"$f":"IF(M1307=\"\",\"\",M1307-P1307)","v":""},{"$f":"IF(N1307=\"\",\"\",N1307-Q1307)","v":""}]
[null,null,null,null,null,null,null,null,null,null,null,null,null,null,null,null,null,{"$f":"IF(L1308=\"\",\"\",L1308-O1308)","v":""},{"$f":"IF(M1308=\"\",\"\",M1308-P1308)","v":""},{"$f":"IF(N1308=\"\",\"\",N1308-Q1308)","v":""}]
[null,null,null,null,null,null,null,null,null,null,null,null,null,null,null,null,null,{"$f":"IF(L1309=\"\",\"\",L1309-O1309)","v":""},{"$f":"IF(M1309=\"\",\"\",M1309-P1309)","v":""},{"$f":"IF(N1309=\"\",\"\",N1309-Q1309)","v":""}]
[null,null,null,null,null,null,null,null,null,null,null,null,null,null,null,null,null,{"$f":"IF(L1310=\"\",\"\",L1310-O1310)","v":""},{"$f":"IF(M1310=\"\",\"\",M1310-P1310)","v":""},{"$f":"IF(N1310=\"\",\"\",N1310-Q1310)","v":""}]
[null,null,null,null,null,null,null,null,null,null,null,null,null,null,null,null,null,{"$f":"IF(L1311=\"\",\"\",L1311-O1311)","v":""},{"$f":"IF(M1311=\"\",\"\",M1311-P1311)","v":""},{"$f":"IF(N1311=\"\",\"\",N1311-Q1311)","v":""}]
[null,null,null,null,null,null,null,null,null,null,null,null,null,null,null,null,null,{"$f":"IF(L1312=\"\",\"\",L1312-O1312)","v":""},{"$f":"IF(M1312=\"\",\"\",M1312-P1312)","v":""},{"$f":"IF(N1312=\"\",\"\",N1312-Q1312)","v":""}]
[null,null,null,null,null,null,null,null,null,null,null,null,null,null,null,null,null,{"$f":"IF(L1313=\"\",\"\",L1313-O1313)","v":""},{"$f":"IF(M1313=\"\",\"\",M1313-P1313)","v":""},{"$f":"IF(N1313=\"\",\"\",N1313-Q1313)","v":""}]
[null,null,null,null,null,null,null,null,null,null,null,null,null,null,null,null,null,{"$f":"IF(L1314=\"\",\"\",L1314-O1314)","v":""},{"$f":"IF(M1314=\"\",\"\",M1314-P1314)","v":""},{"$f":"IF(N1314=\"\",\"\",N1314-Q1314)","v":""}]
[null,null,null,null,null,null,null,null,null,null,null,null,null,null,null,null,null,{"$f":"IF(L1315=\"\",\"\",L1315-O1315)","v":""},{"$f":"IF(M1315=\"\",\"\",M1315-P1315)","v":""},{"$f":"IF(N1315=\"\",\"\",N1315-Q1315)","v":""}]
[null,null,null,null,null,null,null,null,null,null,null,null,null,null,null,null,null,{"$f":"IF(L1316=\"\",\"\",L1316-O1316)","v":""},{"$f":"IF(M1316=\"\",\"\",M1316-P1316)","v":""},{"$f":"IF(N1316=\"\",\"\",N1316-Q1316)","v":""}]
[null,null,null,null,null,null,null,null,null,null,null,null,null,null,null,null,null,{"$f":"IF(L1317=\"\",\"\",L1317-O1317)","v":""},{"$f":"IF(M1317=\"\",\"\",M1317-P1317)","v":""},{"$f":"IF(N1317=\"\",\"\",N1317-Q1317)","v":""}]
[null,null,null,null,null,null,null,null,null,null,null,null,null,null,null,null,null,{"$f":"IF(L1318=\"\",\"\",L1318-O1318)","v":""},{"$f":"IF(M1318=\"\",\"\",M1318-P1318)","v":""},{"$f":"IF(N1318=\"\",\"\",N1318-Q1318)","v":""}]
[null,null,null,null,null,null,null,null,null,null,null,null,null,null,null,null,null,{"$f":"IF(L1319=\"\",\"\",L1319-O1319)","v":""},{"$f":"IF(M1319=\"\",\"\",M1319-P1319)","v":""},{"$f":"IF(N1319=\"\",\"\",N1319-Q1319)","v":""}]
[null,null,null,null,null,null,null,null,null,null,null,null,null,null,null,null,null,{"$f":"IF(L1320=\"\",\"\",L1320-O1320)","v":""},{"$f":"IF(M1320=\"\",\"\",M1320-P1320)","v":""},{"$f":"IF(N1320=\"\",\"\",N1320-Q1320)","v":""}]
[null,null,null,null,null,null,null,null,null,null,null,null,null,null,null,null,null,{"$f":"IF(L1321=\"\",\"\",L1321-O1321)","v":""},{"$f":"IF(M1321=\"\",\"\",M1321-P1321)","v":""},{"$f":"IF(N1321=\"\",\"\",N1321-Q1321)","v":""}]
[null,null,null,null,null,null,null,null,null,null,null,null,null,null,null,null,null,{"$f":"IF(L1322=\"\",\"\",L1322-O1322)","v":""},{"$f":"IF(M1322=\"\",\"\",M1322-P1322)","v":""},{"$f":"IF(N1322=\"\",\"\",N1322-Q1322)","v":""}]
[null,null,null,null,null,null,null,null,null,null,null,null,null,null,null,null,null,{"$f":"IF(L1323=\"\",\"\",L1323-O1323)","v":""},{"$f":"IF(M1323=\"\",\"\",M1323-P1323)","v":""},{"$f":"IF(N1323=\"\",\"\",N1323-Q1323)","v":""}]
[null,null,null,null,null,null,null,null,null,null,null,null,null,null,null,null,null,{"$f":"IF(L1324=\"\",\"\",L1324-O1324)","v":""},{"$f":"IF(M1324=\"\",\"\",M1324-P1324)","v":""},{"$f":"IF(N1324=\"\",\"\",N1324-Q1324)","v":""}]
[null,null,null,null,null,null,null,null,null,null,null,null,null,null,null,null,null,{"$f":"IF(L1325=\"\",\"\",L1325-O1325)","v":""},{"$f":"IF(M1325=\"\",\"\",M1325-P1325)","v":""},{"$f":"IF(N1325=\"\",\"\",N1325-Q1325)","v":""}]
[null,null,null,null,null,null,null,null,null,null,null,null,null,null,null,null,null,{"$f":"IF(L1326=\"\",\"\",L1326-O1326)","v":""},{"$f":"IF(M1326=\"\",\"\",M1326-P1326)","v":""},{"$f":"IF(N1326=\"\",\"\",N1326-Q1326)","v":""}]
[null,null,null,null,null,null,null,null,null,null,null,null,null,null,null,null,null,{"$f":"IF(L1327=\"\",\"\",L1327-O1327)","v":""},{"$f":"IF(M1327=\"\",\"\",M1327-P1327)","v":""},{"$f":"IF(N1327=\"\",\"\",N1327-Q1327)","v":""}]
[null,null,null,null,null,null,null,null,null,null,null,null,null,null,null,null,null,{"$f":"IF(L1328=\"\",\"\",L1328-O1328)","v":""},{"$f":"IF(M1328=\"\",\"\",M1328-P1328)","v":""},{"$f":"IF(N1328=\"\",\"\",N1328-Q1328)","v":""}]
[null,null,null,null,null,null,null,null,null,null,null,null,null,null,null,null,null,{"$f":"IF(L1329=\"\",\"\",L1329-O1329)","v":""},{"$f":"IF(M1329=\"\",\"\",M1329-P1329)","v":""},{"$f":"IF(N1329=\"\",\"\",N1329-Q1329)","v":""}]
[null,null,null,null,null,null,null,null,null,null,null,null,null,null,null,null,null,{"$f":"IF(L1330=\"\",\"\",L1330-O1330)","v":""},{"$f":"IF(M1330=\"\",\"\",M1330-P1330)","v":""},{"$f":"IF(N1330=\"\",\"\",N1330-Q1330)","v":""}]
[null,null,null,null,null,null,null,null,null,null,null,null,null,null,null,null,null,{"$f":"IF(L1331=\"\",\"\",L1331-O1331)","v":""},{"$f":"IF(M1331=\"\",\"\",M1331-P1331)","v":""},{"$f":"IF(N1331=\"\",\"\",N1331-Q1331)","v":""}]
[null,null,null,null,null,null,null,null,null,null,null,null,null,null,null,null,null,{"$f":"IF(L1332=\"\",\"\",L1332-O1332)","v":""},{"$f":"IF(M1332=\"\",\"\",M1332-P1332)","v":""},{"$f":"IF(N1332=\"\",\"\",N1332-Q1332)","v":""}]
[null,null,null,null,null,null,null,null,null,null,null,null,null,null,null,null,null,{"$f":"IF(L1333=\"\",\"\",L1333-O1333)","v":""},{"$f":"IF(M1333=\"\",\"\",M1333-P1333)","v":""},{"$f":"IF(N1333=\"\",\"\",N1333-Q1333)","v":""}]
[null,null,null,null,null,null,null,null,null,null,null,null,null,null,null,null,null,{"$f":"IF(L1334=\"\",\"\",L1334-O1334)","v":""},{"$f":"IF(M1334=\"\",\"\",M1334-P1334)","v":""},{"$f":"IF(N1334=\"\",\"\",N1334-Q1334)","v":""}]
[null,null,null,null,null,null,null,null,null,null,null,null,null,null,null,null,null,{"$f":"IF(L1335=\"\",\"\",L1335-O1335)","v":""},{"$f":"IF(M1335=\"\",\"\",M1335-P1335)","v":""},{"$f":"IF(N1335=\"\",\"\",N1335-Q1335)","v":""}]
[null,null,null,null,null,null,null,null,null,null,null,null,null,null,null,null,null,{"$f":"IF(L1336=\"\",\"\",L1336-O1336)","v":""},{"$f":"IF(M1336=\"\",\"\",M1336-P1336)","v":""},{"$f":"IF(N1336=\"\",\"\",N1336-Q1336)","v":""}]
[null,null,null,null,null,null,null,null,null,null,null,null,null,null,null,null,null,{"$f":"IF(L1337=\"\",\"\",L1337-O1337)","v":""},{"$f":"IF(M1337=\"\",\"\",M1337-P1337)","v":""},{"$f":"IF(N1337=\"\",\"\",N1337-Q1337)","v":""}]
[null,null,null,null,null,null,null,null,null,null,null,null,null,null,null,null,null,{"$f":"IF(L1338=\"\",\"\",L1338-O1338)","v":""},{"$f":"IF(M1338=\"\",\"\",M1338-P1338)","v":""},{"$f":"IF(N1338=\"\",\"\",N1338-Q1338)","v":""}]
[null,null,null,null,null,null,null,null,null,null,null,null,null,null,null,null,null,{"$f":"IF(L1339=\"\",\"\",L1339-O1339)","v":""},{"$f":"IF(M1339=\"\",\"\",M1339-P1339)","v":""},{"$f":"IF(N1339=\"\",\"\",N1339-Q1339)","v":""}]
[null,null,null,null,null,null,null,null,null,null,null,null,null,null,null,null,null,{"$f":"IF(L1340=\"\",\"\",L1340-O1340)","v":""},{"$f":"IF(M1340=\"\",\"\",M1340-P1340)","v":""},{"$f":"IF(N1340=\"\",\"\",N1340-Q1340)","v":""}]
[null,null,null,null,null,null,null,null,null,null,null,null,null,null,null,null,null,{"$f":"IF(L1341=\"\",\"\",L1341-O1341)","v":""},{"$f":"IF(M1341=\"\",\"\",M1341-P1341)","v":""},{"$f":"IF(N1341=\"\",\"\",N1341-Q1341)","v":""}]
[null,null,null,null,null,null,null,null,null,null,null,null,null,null,null,null,null,{"$f":"IF(L1342=\"\",\"\",L1342-O1342)","v":""},{"$f":"IF(M1342=\"\",\"\",M1342-P1342)","v":""},{"$f":"IF(N1342=\"\",\"\",N1342-Q1342)","v":""}]
[null,null,null,null,null,null,null,null,null,null,null,null,null,null,null,null,null,{"$f":"IF(L1343=\"\",\"\",L1343-O1343)","v":""},{"$f":"IF(M1343=\"\",\"\",M1343-P1343)","v":""},{"$f":"IF(N1343=\"\",\"\",N1343-Q1343)","v":""}]
[null,null,null,null,null,null,null,null,null,null,null,null,null,null,null,null,null,{"$f":"IF(L1344=\"\",\"\",L1344-O1344)","v":""},{"$f":"IF(M1344=\"\",\"\",M1344-P1344)","v":""},{"$f":"IF(N1344=\"\",\"\",N1344-Q1344)","v":""}]
[null,null,null,null,null,null,null,null,null,null,null,null,null,null,null,null,null,{"$f":"IF(L1345=\"\",\"\",L1345-O1345)","v":""},{"$f":"IF(M1345=\"\",\"\",M1345-P1345)","v":""},{"$f":"IF(N1345=\"\",\"\",N1345-Q1345)","v":""}]
[null,null,null,null,null,null,null,null,null,null,null,null,null,null,null,null,null,{"$f":"IF(L1346=\"\",\"\",L1346-O1346)","v":""},{"$f":"IF(M1346=\"\",\"\",M1346-P1346)","v":""},{"$f":"IF(N1346=\"\",\"\",N1346-Q1346)","v":""}]
[null,null,null,null,null,null,null,null,null,null,null,null,null,null,null,null,null,{"$f":"IF(L1347=\"\",\"\",L1347-O1347)","v":""},{"$f":"IF(M1347=\"\",\"\",M1347-P1347)","v":""},{"$f":"IF(N1347=\"\",\"\",N1347-Q1347)","v":""}]
[null,null,null,null,null,null,null,null,null,null,null,null,null,null,null,null,null,{"$f":"IF(L1348=\"\",\"\",L1348-O1348)","v":""},{"$f":"IF(M1348=\"\",\"\",M1348-P1348)","v":""},{"$f":"IF(N1348=\"\",\"\",N1348-Q1348)","v":""}]
[null,null,null,null,null,null,null,null,null,null,null,null,null,null,null,null,null,{"$f":"IF(L1349=\"\",\"\",L1349-O1349)","v":""},{"$f":"IF(M1349=\"\",\"\",M1349-P1349)","v":""},{"$f":"IF(N1349=\"\",\"\",N1349-Q1349)","v":""}]
[null,null,null,null,null,null,null,null,null,null,null,null,null,null,null,null,null,{"$f":"IF(L1350=\"\",\"\",L1350-O1350)","v":""},{"$f":"IF(M1350=\"\",\"\",M1350-P1350)","v":""},{"$f":"IF(N1350=\"\",\"\",N1350-Q1350)","v":""}]
[null,null,null,null,null,null,null,null,null,null,null,null,null,null,null,null,null,{"$f":"IF(L1351=\"\",\"\",L1351-O1351)","v":""},{"$f":"IF(M1351=\"\",\"\",M1351-P1351)","v":""},{"$f":"IF(N1351=\"\",\"\",N1351-Q1351)","v":""}]
[null,null,null,null,null,null,null,null,null,null,null,null,null,null,null,null,null,{"$f":"IF(L1352=\"\",\"\",L1352-O1352)","v":""},{"$f":"IF(M1352=\"\",\"\",M1352-P1352)","v":""},{"$f":"IF(N1352=\"\",\"\",N1352-Q1352)","v":""}]
[null,null,null,null,null,null,null,null,null,null,null,null,null,null,null,null,null,{"$f":"IF(L1353=\"\",\"\",L1353-O1353)","v":""},{"$f":"IF(M1353=\"\",\"\",M1353-P1353)","v":""},{"$f":"IF(N1353=\"\",\"\",N1353-Q1353)","v":""}]
[null,null,null,null,null,null,null,null,null,null,null,null,null,null,null,null,null,{"$f":"IF(L1354=\"\",\"\",L1354-O1354)","v":""},{"$f":"IF(M1354=\"\",\"\",M1354-P1354)","v":""},{"$f":"IF(N1354=\"\",\"\",N1354-Q1354)","v":""}]
[null,null,null,null,null,null,null,null,null,null,null,null,null,null,null,null,null,{"$f":"IF(L1355=\"\",\"\",L1355-O1355)","v":""},{"$f":"IF(M1355=\"\",\"\",M1355-P1355)","v":""},{"$f":"IF(N1355=\"\",\"\",N1355-Q1355)","v":""}]
[null,null,null,null,null,null,null,null,null,null,null,null,null,null,null,null,null,{"$f":"IF(L1356=\"\",\"\",L1356-O1356)","v":""},{"$f":"IF(M1356=\"\",\"\",M1356-P1356)","v":""},{"$f":"IF(N1356=\"\",\"\",N1356-Q1356)","v":""}]
[null,null,null,null,null,null,null,null,null,null,null,null,null,null,null,null,null,{"$f":"IF(L1357=\"\",\"\",L1357-O1357)","v":""},{"$f":"IF(M1357=\"\",\"\",M1357-P1357)","v":""},{"$f":"IF(N1357=\"\",\"\",N1357-Q1357)","v":""}]
[null,null,null,null,null,null,null,null,null,null,null,null,null,null,null,null,null,{"$f":"IF(L1358=\"\",\"\",L1358-O1358)","v":""},{"$f":"IF(M1358=\"\",\"\",M1358-P1358)","v":""},{"$f":"IF(N1358=\"\",\"\",N1358-Q1358)","v":""}]
[null,null,null,null,null,null,null,null,null,null,null,null,null,null,null,null,null,{"$f":"IF(L1359=\"\",\"\",L1359-O1359)","v":""},{"$f":"IF(M1359=\"\",\"\",M1359-P1359)","v":""},{"$f":"IF(N1359=\"\",\"\",N1359-Q1359)","v":""}]
[null,null,null,null,null,null,null,null,null,null,null,null,null,null,null,null,null,{"$f":"IF(L1360=\"\",\"\",L1360-O1360)","v":""},{"$f":"IF(M1360=\"\",\"\",M1360-P1360)","v":""},{"$f":"IF(N1360=\"\",\"\",N1360-Q1360)","v":""}]
[null,null,null,null,null,null,null,null,null,null,null,null,null,null,null,null,null,{"$f":"IF(L1361=\"\",\"\",L1361-O1361)","v":""},{"$f":"IF(M1361=\"\",\"\",M1361-P1361)","v":""},{"$f":"IF(N1361=\"\",\"\",N1361-Q1361)","v":""}]
[null,null,null,null,null,null,null,null,null,null,null,null,null,null,null,null,null,{"$f":"IF(L1362=\"\",\"\",L1362-O1362)","v":""},{"$f":"IF(M1362=\"\",\"\",M1362-P1362)","v":""},{"$f":"IF(N1362=\"\",\"\",N1362-Q1362)","v":""}]
[null,null,null,null,null,null,null,null,null,null,null,null,null,null,null,null,null,{"$f":"IF(L1363=\"\",\"\",L1363-O1363)","v":""},{"$f":"IF(M1363=\"\",\"\",M1363-P1363)","v":""},{"$f":"IF(N1363=\"\",\"\",N1363-Q1363)","v":""}]
[null,null,null,null,null,null,null,null,null,null,null,null,null,null,null,null,null,{"$f":"IF(L1364=\"\",\"\",L1364-O1364)","v":""},{"$f":"IF(M1364=\"\",\"\",M1364-P1364)","v":""},{"$f":"IF(N1364=\"\",\"\",N1364-Q1364)","v":""}]
[null,null,null,null,null,null,null,null,null,null,null,null,null,null,null,null,null,{"$f":"IF(L1365=\"\",\"\",L1365-O1365)","v":""},{"$f":"IF(M1365=\"\",\"\",M1365-P1365)","v":""},{"$f":"IF(N1365=\"\",\"\",N1365-Q1365)","v":""}]
[null,null,null,null,null,null,null,null,null,null,null,null,null,null,null,null,null,{"$f":"IF(L1366=\"\",\"\",L1366-O1366)","v":""},{"$f":"IF(M1366=\"\",\"\",M1366-P1366)","v":""},{"$f":"IF(N1366=\"\",\"\",N1366-Q1366)","v":""}]
[null,null,null,null,null,null,null,null,null,null,null,null,null,null,null,null,null,{"$f":"IF(L1367=\"\",\"\",L1367-O1367)","v":""},{"$f":"IF(M1367=\"\",\"\",M1367-P1367)","v":""},{"$f":"IF(N1367=\"\",\"\",N1367-Q1367)","v":""}]
[null,null,null,null,null,null,null,null,null,null,null,null,null,null,null,null,null,{"$f":"IF(L1368=\"\",\"\",L1368-O1368)","v":""},{"$f":"IF(M1368=\"\",\"\",M1368-P1368)","v":""},{"$f":"IF(N1368=\"\",\"\",N1368-Q1368)","v":""}]
[null,null,null,null,null,null,null,null,null,null,null,null,null,null,null,null,null,{"$f":"IF(L1369=\"\",\"\",L1369-O1369)","v":""},{"$f":"IF(M1369=\"\",\"\",M1369-P1369)","v":""},{"$f":"IF(N1369=\"\",\"\",N1369-Q1369)","v":""}]
[null,null,null,null,null,null,null,null,null,null,null,null,null,null,null,null,null,{"$f":"IF(L1370=\"\",\"\",L1370-O1370)","v":""},{"$f":"IF(M1370=\"\",\"\",M1370-P1370)","v":""},{"$f":"IF(N1370=\"\",\"\",N1370-Q1370)","v":""}]
[null,null,null,null,null,null,null,null,null,null,null,null,null,null,null,null,null,{"$f":"IF(L1371=\"\",\"\",L1371-O1371)","v":""},{"$f":"IF(M1371=\"\",\"\",M1371-P1371)","v":""},{"$f":"IF(N1371=\"\",\"\",N1371-Q1371)","v":""}]
[null,null,null,null,null,null,null,null,null,null,null,null,null,null,null,null,null,{"$f":"IF(L1372=\"\",\"\",L1372-O1372)","v":""},{"$f":"IF(M1372=\"\",\"\",M1372-P1372)","v":""},{"$f":"IF(N1372=\"\",\"\",N1372-Q1372)","v":""}]
[null,null,null,null,null,null,null,null,null,null,null,null,null,null,null,null,null,{"$f":"IF(L1373=\"\",\"\",L1373-O1373)","v":""},{"$f":"IF(M1373=\"\",\"\",M1373-P1373)","v":""},{"$f":"IF(N1373=\"\",\"\",N1373-Q1373)","v":""}]
[null,null,null,null,null,null,null,null,null,null,null,null,null,null,null,null,null,{"$f":"IF(L1374=\"\",\"\",L1374-O1374)","v":""},{"$f":"IF(M1374=\"\",\"\",M1374-P1374)","v":""},{"$f":"IF(N1374=\"\",\"\",N1374-Q1374)","v":""}]
[null,null,null,null,null,null,null,null,null,null,null,null,null,null,null,null,null,{"$f":"IF(L1375=\"\",\"\",L1375-O1375)","v":""},{"$f":"IF(M1375=\"\",\"\",M1375-P1375)","v":""},{"$f":"IF(N1375=\"\",\"\",N1375-Q1375)","v":""}]
[null,null,null,null,null,null,null,null,null,null,null,null,null,null,null,null,null,{"$f":"IF(L1376=\"\",\"\",L1376-O1376)","v":""},{"$f":"IF(M1376=\"\",\"\",M1376-P1376)","v":""},{"$f":"IF(N1376=\"\",\"\",N1376-Q1376)","v":""}]
[null,null,null,null,null,null,null,null,null,null,null,null,null,null,null,null,null,{"$f":"IF(L1377=\"\",\"\",L1377-O1377)","v":""},{"$f":"IF(M1377=\"\",\"\",M1377-P1377)","v":""},{"$f":"IF(N1377=\"\",\"\",N1377-Q1377)","v":""}]
[null,null,null,null,null,null,null,null,null,null,null,null,null,null,null,null,null,{"$f":"IF(L1378=\"\",\"\",L1378-O1378)","v":""},{"$f":"IF(M1378=\"\",\"\",M1378-P1378)","v":""},{"$f":"IF(N1378=\"\",\"\",N1378-Q1378)","v":""}]
[null,null,null,null,null,null,null,null,null,null,null,null,null,null,null,null,null,{"$f":"IF(L1379=\"\",\"\",L1379-O1379)","v":""},{"$f":"IF(M1379=\"\",\"\",M1379-P1379)","v":""},{"$f":"IF(N1379=\"\",\"\",N1379-Q1379)","v":""}]
[null,null,null,null,null,null,null,null,null,null,null,null,null,null,null,null,null,{"$f":"IF(L1380=\"\",\"\",L1380-O1380)","v":""},{"$f":"IF(M1380=\"\",\"\",M1380-P1380)","v":""},{"$f":"IF(N1380=\"\",\"\",N1380-Q1380)","v":""}]
[null,null,null,null,null,null,null,null,null,null,null,null,null,null,null,null,null,{"$f":"IF(L1381=\"\",\"\",L1381-O1381)","v":""},{"$f":"IF(M1381=\"\",\"\",M1381-P1381)","v":""},{"$f":"IF(N1381=\"\",\"\",N1381-Q1381)","v":""}]
[null,null,null,null,null,null,null,null,null,null,null,null,null,null,null,null,null,{"$f":"IF(L1382=\"\",\"\",L1382-O1382)","v":""},{"$f":"IF(M1382=\"\",\"\",M1382-P1382)","v":""},{"$f":"IF(N1382=\"\",\"\",N1382-Q1382)","v":""}]
[null,null,null,null,null,null,null,null,null,null,null,null,null,null,null,null,null,{"$f":"IF(L1383=\"\",\"\",L1383-O1383)","v":""},{"$f":"IF(M1383=\"\",\"\",M1383-P1383)","v":""},{"$f":"IF(N1383=\"\",\"\",N1383-Q1383)","v":""}]
[null,null,null,null,null,null,null,null,null,null,null,null,null,null,null,null,null,{"$f":"IF(L1384=\"\",\"\",L1384-O1384)","v":""},{"$f":"IF(M1384=\"\",\"\",M1384-P1384)","v":""},{"$f":"IF(N1384=\"\",\"\",N1384-Q1384)","v":""}]
[null,null,null,null,null,null,null,null,null,null,null,null,null,null,null,null,null,{"$f":"IF(L1385=\"\",\"\",L1385-O1385)","v":""},{"$f":"IF(M1385=\"\",\"\",M1385-P1385)","v":""},{"$f":"IF(N1385=\"\",\"\",N1385-Q1385)","v":""}]
[null,null,null,null,null,null,null,null,null,null,null,null,null,null,null,null,null,{"$f":"IF(L1386=\"\",\"\",L1386-O1386)","v":""},{"$f":"IF(M1386=\"\",\"\",M1386-P1386)","v":""},{"$f":"IF(N1386=\"\",\"\",N1386-Q1386)","v":""}]
[null,null,null,null,null,null,null,null,null,null,null,null,null,null,null,null,null,{"$f":"IF(L1387=\"\",\"\",L1387-O1387)","v":""},{"$f":"IF(M1387=\"\",\"\",M1387-P1387)","v":""},{"$f":"IF(N1387=\"\",\"\",N1387-Q1387)","v":""}]
[null,null,null,null,null,null,null,null,null,null,null,null,null,null,null,null,null,{"$f":"IF(L1388=\"\",\"\",L1388-O1388)","v":""},{"$f":"IF(M1388=\"\",\"\",M1388-P1388)","v":""},{"$f":"IF(N1388=\"\",\"\",N1388-Q1388)","v":""}]
[null,null,null,null,null,null,null,null,null,null,null,null,null,null,null,null,null,{"$f":"IF(L1389=\"\",\"\",L1389-O1389)","v":""},{"$f":"IF(M1389=\"\",\"\",M1389-P1389)","v":""},{"$f":"IF(N1389=\"\",\"\",N1389-Q1389)","v":""}]
[null,null,null,null,null,null,null,null,null,null,null,null,null,null,null,null,null,{"$f":"IF(L1390=\"\",\"\",L1390-O1390)","v":""},{"$f":"IF(M1390=\"\",\"\",M1390-P1390)","v":""},{"$f":"IF(N1390=\"\",\"\",N1390-Q1390)","v":""}]
[null,null,null,null,null,null,null,null,null,null,null,null,null,null,null,null,null,{"$f":"IF(L1391=\"\",\"\",L1391-O1391)","v":""},{"$f":"IF(M1391=\"\",\"\",M1391-P1391)","v":""},{"$f":"IF(N1391=\"\",\"\",N1391-Q1391)","v":""}]
[null,null,null,null,null,null,null,null,null,null,null,null,null,null,null,null,null,{"$f":"IF(L1392=\"\",\"\",L1392-O1392)","v":""},{"$f":"IF(M1392=\"\",\"\",M1392-P1392)","v":""},{"$f":"IF(N1392=\"\",\"\",N1392-Q1392)","v":""}]
[null,null,null,null,null,null,null,null,null,null,null,null,null,null,null,null,null,{"$f":"IF(L1393=\"\",\"\",L1393-O1393)","v":""},{"$f":"IF(M1393=\"\",\"\",M1393-P1393)","v":""},{"$f":"IF(N1393=\"\",\"\",N1393-Q1393)","v":""}]
[null,null,null,null,null,null,null,null,null,null,null,null,null,null,null,null,null,{"$f":"IF(L1394=\"\",\"\",L1394-O1394)","v":""},{"$f":"IF(M1394=\"\",\"\",M1394-P1394)","v":""},{"$f":"IF(N1394=\"\",\"\",N1394-Q1394)","v":""}]
[null,null,null,null,null,null,null,null,null,null,null,null,null,null,null,null,null,{"$f":"IF(L1395=\"\",\"\",L1395-O1395)","v":""},{"$f":"IF(M1395=\"\",\"\",M1395-P1395)","v":""},{"$f":"IF(N1395=\"\",\"\",N1395-Q1395)","v":""}]
[null,null,null,null,null,null,null,null,null,null,null,null,null,null,null,null,null,{"$f":"IF(L1396=\"\",\"\",L1396-O1396)","v":""},{"$f":"IF(M1396=\"\",\"\",M1396-P1396)","v":""},{"$f":"IF(N1396=\"\",\"\",N1396-Q1396)","v":""}]
[null,null,null,null,null,null,null,null,null,null,null,null,null,null,null,null,null,{"$f":"IF(L1397=\"\",\"\",L1397-O1397)","v":""},{"$f":"IF(M1397=\"\",\"\",M1397-P1397)","v":""},{"$f":"IF(N1397=\"\",\"\",N1397-Q1397)","v":""}]
[null,null,null,null,null,null,null,null,null,null,null,null,null,null,null,null,null,{"$f":"IF(L1398=\"\",\"\",L1398-O1398)","v":""},{"$f":"IF(M1398=\"\",\"\",M1398-P1398)","v":""},{"$f":"IF(N1398=\"\",\"\",N1398-Q1398)","v":""}]
[null,null,null,null,null,null,null,null,null,null,null,null,null,null,null,null,null,{"$f":"IF(L1399=\"\",\"\",L1399-O1399)","v":""},{"$f":"IF(M1399=\"\",\"\",M1399-P1399)","v":""},{"$f":"IF(N1399=\"\",\"\",N1399-Q1399)","v":""}]
[null,null,null,null,null,null,null,null,null,null,null,null,null,null,null,null,null,{"$f":"IF(L1400=\"\",\"\",L1400-O1400)","v":""},{"$f":"IF(M1400=\"\",\"\",M1400-P1400)","v":""},{"$f":"IF(N1400=\"\",\"\",N1400-Q1400)","v":""}]
[null,null,null,null,null,null,null,null,null,null,null,null,null,null,null,null,null,{"$f":"IF(L1401=\"\",\"\",L1401-O1401)","v":""},{"$f":"IF(M1401=\"\",\"\",M1401-P1401)","v":""},{"$f":"IF(N1401=\"\",\"\",N1401-Q1401)","v":""}]
[null,null,null,null,null,null,null,null,null,null,null,null,null,null,null,null,null,{"$f":"IF(L1402=\"\",\"\",L1402-O1402)","v":""},{"$f":"IF(M1402=\"\",\"\",M1402-P1402)","v":""},{"$f":"IF(N1402=\"\",\"\",N1402-Q1402)","v":""}]
[null,null,null,null,null,null,null,null,null,null,null,null,null,null,null,null,null,{"$f":"IF(L1403=\"\",\"\",L1403-O1403)","v":""},{"$f":"IF(M1403=\"\",\"\",M1403-P1403)","v":""},{"$f":"IF(N1403=\"\",\"\",N1403-Q1403)","v":""}]
[null,null,null,null,null,null,null,null,null,null,null,null,null,null,null,null,null,{"$f":"IF(L1404=\"\",\"\",L1404-O1404)","v":""},{"$f":"IF(M1404=\"\",\"\",M1404-P1404)","v":""},{"$f":"IF(N1404=\"\",\"\",N1404-Q1404)","v":""}]
[null,null,null,null,null,null,null,null,null,null,null,null,null,null,null,null,null,{"$f":"IF(L1405=\"\",\"\",L1405-O1405)","v":""},{"$f":"IF(M1405=\"\",\"\",M1405-P1405)","v":""},{"$f":"IF(N1405=\"\",\"\",N1405-Q1405)","v":""}]
[null,null,null,null,null,null,null,null,null,null,null,null,null,null,null,null,null,{"$f":"IF(L1406=\"\",\"\",L1406-O1406)","v":""},{"$f":"IF(M1406=\"\",\"\",M1406-P1406)","v":""},{"$f":"IF(N1406=\"\",\"\",N1406-Q1406)","v":""}]
[null,null,null,null,null,null,null,null,null,null,null,null,null,null,null,null,null,{"$f":"IF(L1407=\"\",\"\",L1407-O1407)","v":""},{"$f":"IF(M1407=\"\",\"\",M1407-P1407)","v":""},{"$f":"IF(N1407=\"\",\"\",N1407-Q1407)","v":""}]
[null,null,null,null,null,null,null,null,null,null,null,null,null,null,null,null,null,{"$f":"IF(L1408=\"\",\"\",L1408-O1408)","v":""},{"$f":"IF(M1408=\"\",\"\",M1408-P1408)","v":""},{"$f":"IF(N1408=\"\",\"\",N1408-Q1408)","v":""}]
[null,null,null,null,null,null,null,null,null,null,null,null,null,null,null,null,null,{"$f":"IF(L1409=\"\",\"\",L1409-O1409)","v":""},{"$f":"IF(M1409=\"\",\"\",M1409-P1409)","v":""},{"$f":"IF(N1409=\"\",\"\",N1409-Q1409)","v":""}]
[null,null,null,null,null,null,null,null,null,null,null,null,null,null,null,null,null,{"$f":"IF(L1410=\"\",\"\",L1410-O1410)","v":""},{"$f":"IF(M1410=\"\",\"\",M1410-P1410)","v":""},{"$f":"IF(N1410=\"\",\"\",N1410-Q1410)","v":""}]
[null,null,null,null,null,null,null,null,null,null,null,null,null,null,null,null,null,{"$f":"IF(L1411=\"\",\"\",L1411-O1411)","v":""},{"$f":"IF(M1411=\"\",\"\",M1411-P1411)","v":""},{"$f":"IF(N1411=\"\",\"\",N1411-Q1411)","v":""}]
[null,null,null,null,null,null,null,null,null,null,null,null,null,null,null,null,null,{"$f":"IF(L1412=\"\",\"\",L1412-O1412)","v":""},{"$f":"IF(M1412=\"\",\"\",M1412-P1412)","v":""},{"$f":"IF(N1412=\"\",\"\",N1412-Q1412)","v":""}]
[null,null,null,null,null,null,null,null,null,null,null,null,null,null,null,null,null,{"$f":"IF(L1413=\"\",\"\",L1413-O1413)","v":""},{"$f":"IF(M1413=\"\",\"\",M1413-P1413)","v":""},{"$f":"IF(N1413=\"\",\"\",N1413-Q1413)","v":""}]
[null,null,null,null,null,null,null,null,null,null,null,null,null,null,null,null,null,{"$f":"IF(L1414=\"\",\"\",L1414-O1414)","v":""},{"$f":"IF(M1414=\"\",\"\",M1414-P1414)","v":""},{"$f":"IF(N1414=\"\",\"\",N1414-Q1414)","v":""}]
[null,null,null,null,null,null,null,null,null,null,null,null,null,null,null,null,null,{"$f":"IF(L1415=\"\",\"\",L1415-O1415)","v":""},{"$f":"IF(M1415=\"\",\"\",M1415-P1415)","v":""},{"$f":"IF(N1415=\"\",\"\",N1415-Q1415)","v":""}]
[null,null,null,null,null,null,null,null,null,null,null,null,null,null,null,null,null,{"$f":"IF(L1416=\"\",\"\",L1416-O1416)","v":""},{"$f":"IF(M1416=\"\",\"\",M1416-P1416)","v":""},{"$f":"IF(N1416=\"\",\"\",N1416-Q1416)","v":""}]
[null,null,null,null,null,null,null,null,null,null,null,null,null,null,null,null,null,{"$f":"IF(L1417=\"\",\"\",L1417-O1417)","v":""},{"$f":"IF(M1417=\"\",\"\",M1417-P1417)","v":""},{"$f":"IF(N1417=\"\",\"\",N1417-Q1417)","v":""}]
[null,null,null,null,null,null,null,null,null,null,null,null,null,null,null,null,null,{"$f":"IF(L1418=\"\",\"\",L1418-O1418)","v":""},{"$f":"IF(M1418=\"\",\"\",M1418-P1418)","v":""},{"$f":"IF(N1418=\"\",\"\",N1418-Q1418)","v":""}]
[null,null,null,null,null,null,null,null,null,null,null,null,null,null,null,null,null,{"$f":"IF(L1419=\"\",\"\",L1419-O1419)","v":""},{"$f":"IF(M1419=\"\",\"\",M1419-P1419)","v":""},{"$f":"IF(N1419=\"\",\"\",N1419-Q1419)","v":""}]
[null,null,null,null,null,null,null,null,null,null,null,null,null,null,null,null,null,{"$f":"IF(L1420=\"\",\"\",L1420-O1420)","v":""},{"$f":"IF(M1420=\"\",\"\",M1420-P1420)","v":""},{"$f":"IF(N1420=\"\",\"\",N1420-Q1420)","v":""}]
[null,null,null,null,null,null,null,null,null,null,null,null,null,null,null,null,null,{"$f":"IF(L1421=\"\",\"\",L1421-O1421)","v":""},{"$f":"IF(M1421=\"\",\"\",M1421-P1421)","v":""},{"$f":"IF(N1421=\"\",\"\",N1421-Q1421)","v":""}]
[null,null,null,null,null,null,null,null,null,null,null,null,null,null,null,null,null,{"$f":"IF(L1422=\"\",\"\",L1422-O1422)","v":""},{"$f":"IF(M1422=\"\",\"\",M1422-P1422)","v":""},{"$f":"IF(N1422=\"\",\"\",N1422-Q1422)","v":""}]
[null,null,null,null,null,null,null,null,null,null,null,null,null,null,null,null,null,{"$f":"IF(L1423=\"\",\"\",L1423-O1423)","v":""},{"$f":"IF(M1423=\"\",\"\",M1423-P1423)","v":""},{"$f":"IF(N1423=\"\",\"\",N1423-Q1423)","v":""}]
[null,null,null,null,null,null,null,null,null,null,null,null,null,null,null,null,null,{"$f":"IF(L1424=\"\",\"\",L1424-O1424)","v":""},{"$f":"IF(M1424=\"\",\"\",M1424-P1424)","v":""},{"$f":"IF(N1424=\"\",\"\",N1424-Q1424)","v":""}]
[null,null,null,null,null,null,null,null,null,null,null,null,null,null,null,null,null,{"$f":"IF(L1425=\"\",\"\",L1425-O1425)","v":""},{"$f":"IF(M1425=\"\",\"\",M1425-P1425)","v":""},{"$f":"IF(N1425=\"\",\"\",N1425-Q1425)","v":""}]
[null,null,null,null,null,null,null,null,null,null,null,null,null,null,null,null,null,{"$f":"IF(L1426=\"\",\"\",L1426-O1426)","v":""},{"$f":"IF(M1426=\"\",\"\",M1426-P1426)","v":""},{"$f":"IF(N1426=\"\",\"\",N1426-Q1426)","v":""}]
[null,null,null,null,null,null,null,null,null,null,null,null,null,null,null,null,null,{"$f":"IF(L1427=\"\",\"\",L1427-O1427)","v":""},{"$f":"IF(M1427=\"\",\"\",M1427-P1427)","v":""},{"$f":"IF(N1427=\"\",\"\",N1427-Q1427)","v":""}]
[null,null,null,null,null,null,null,null,null,null,null,null,null,null,null,null,null,{"$f":"IF(L1428=\"\",\"\",L1428-O1428)","v":""},{"$f":"IF(M1428=\"\",\"\",M1428-P1428)","v":""},{"$f":"IF(N1428=\"\",\"\",N1428-Q1428)","v":""}]
[null,null,null,null,null,null,null,null,null,null,null,null,null,null,null,null,null,{"$f":"IF(L1429=\"\",\"\",L1429-O1429)","v":""},{"$f":"IF(M1429=\"\",\"\",M1429-P1429)","v":""},{"$f":"IF(N1429=\"\",\"\",N1429-Q1429)","v":""}]
[null,null,null,null,null,null,null,null,null,null,null,null,null,null,null,null,null,{"$f":"IF(L1430=\"\",\"\",L1430-O1430)","v":""},{"$f":"IF(M1430=\"\",\"\",M1430-P1430)","v":""},{"$f":"IF(N1430=\"\",\"\",N1430-Q1430)","v":""}]
[null,null,null,null,null,null,null,null,null,null,null,null,null,null,null,null,null,{"$f":"IF(L1431=\"\",\"\",L1431-O1431)","v":""},{"$f":"IF(M1431=\"\",\"\",M1431-P1431)","v":""},{"$f":"IF(N1431=\"\",\"\",N1431-Q1431)","v":""}]
[null,null,null,null,null,null,null,null,null,null,null,null,null,null,null,null,null,{"$f":"IF(L1432=\"\",\"\",L1432-O1432)","v":""},{"$f":"IF(M1432=\"\",\"\",M1432-P1432)","v":""},{"$f":"IF(N1432=\"\",\"\",N1432-Q1432)","v":""}]
[null,null,null,null,null,null,null,null,null,null,null,null,null,null,null,null,null,{"$f":"IF(L1433=\"\",\"\",L1433-O1433)","v":""},{"$f":"IF(M1433=\"\",\"\",M1433-P1433)","v":""},{"$f":"IF(N1433=\"\",\"\",N1433-Q1433)","v":""}]
[null,null,null,null,null,null,null,null,null,null,null,null,null,null,null,null,null,{"$f":"IF(L1434=\"\",\"\",L1434-O1434)","v":""},{"$f":"IF(M1434=\"\",\"\",M1434-P1434)","v":""},{"$f":"IF(N1434=\"\",\"\",N1434-Q1434)","v":""}]
[null,null,null,null,null,null,null,null,null,null,null,null,null,null,null,null,null,{"$f":"IF(L1435=\"\",\"\",L1435-O1435)","v":""},{"$f":"IF(M1435=\"\",\"\",M1435-P1435)","v":""},{"$f":"IF(N1435=\"\",\"\",N1435-Q1435)","v":""}]
[null,null,null,null,null,null,null,null,null,null,null,null,null,null,null,null,null,{"$f":"IF(L1436=\"\",\"\",L1436-O1436)","v":""},{"$f":"IF(M1436=\"\",\"\",M1436-P1436)","v":""},{"$f":"IF(N1436=\"\",\"\",N1436-Q1436)","v":""}]
[null,null,null,null,null,null,null,null,null,null,null,null,null,null,null,null,null,{"$f":"IF(L1437=\"\",\"\",L1437-O1437)","v":""},{"$f":"IF(M1437=\"\",\"\",M1437-P1437)","v":""},{"$f":"IF(N1437=\"\",\"\",N1437-Q1437)","v":""}]
[null,null,null,null,null,null,null,null,null,null,null,null,null,null,null,null,null,{"$f":"IF(L1438=\"\",\"\",L1438-O1438)","v":""},{"$f":"IF(M1438=\"\",\"\",M1438-P1438)","v":""},{"$f":"IF(N1438=\"\",\"\",N1438-Q1438)","v":""}]
[null,null,null,null,null,null,null,null,null,null,null,null,null,null,null,null,null,{"$f":"IF(L1439=\"\",\"\",L1439-O1439)","v":""},{"$f":"IF(M1439=\"\",\"\",M1439-P1439)","v":""},{"$f":"IF(N1439=\"\",\"\",N1439-Q1439)","v":""}]
[null,null,null,null,null,null,null,null,null,null,null,null,null,null,null,null,null,{"$f":"IF(L1440=\"\",\"\",L1440-O1440)","v":""},{"$f":"IF(M1440=\"\",\"\",M1440-P1440)","v":""},{"$f":"IF(N1440=\"\",\"\",N1440-Q1440)","v":""}]
[null,null,null,null,null,null,null,null,null,null,null,null,null,null,null,null,null,{"$f":"IF(L1441=\"\",\"\",L1441-O1441)","v":""},{"$f":"IF(M1441=\"\",\"\",M1441-P1441)","v":""},{"$f":"IF(N1441=\"\",\"\",N1441-Q1441)","v":""}]
[null,null,null,null,null,null,null,null,null,null,null,null,null,null,null,null,null,{"$f":"IF(L1442=\"\",\"\",L1442-O1442)","v":""},{"$f":"IF(M1442=\"\",\"\",M1442-P1442)","v":""},{"$f":"IF(N1442=\"\",\"\",N1442-Q1442)","v":""}]
[null,null,null,null,null,null,null,null,null,null,null,null,null,null,null,null,null,{"$f":"IF(L1443=\"\",\"\",L1443-O1443)","v":""},{"$f":"IF(M1443=\"\",\"\",M1443-P1443)","v":""},{"$f":"IF(N1443=\"\",\"\",N1443-Q1443)","v":""}]
[null,null,null,null,null,null,null,null,null,null,null,null,null,null,null,null,null,{"$f":"IF(L1444=\"\",\"\",L1444-O1444)","v":""},{"$f":"IF(M1444=\"\",\"\",M1444-P1444)","v":""},{"$f":"IF(N1444=\"\",\"\",N1444-Q1444)","v":""}]
[null,null,null,null,null,null,null,null,null,null,null,null,null,null,null,null,null,{"$f":"IF(L1445=\"\",\"\",L1445-O1445)","v":""},{"$f":"IF(M1445=\"\",\"\",M1445-P1445)","v":""},{"$f":"IF(N1445=\"\",\"\",N1445-Q1445)","v":""}]
[null,null,null,null,null,null,null,null,null,null,null,null,null,null,null,null,null,{"$f":"IF(L1446=\"\",\"\",L1446-O1446)","v":""},{"$f":"IF(M1446=\"\",\"\",M1446-P1446)","v":""},{"$f":"IF(N1446=\"\",\"\",N1446-Q1446)","v":""}]
[null,null,null,null,null,null,null,null,null,null,null,null,null,null,null,null,null,{"$f":"IF(L1447=\"\",\"\",L1447-O1447)","v":""},{"$f":"IF(M1447=\"\",\"\",M1447-P1447)","v":""},{"$f":"IF(N1447=\"\",\"\",N1447-Q1447)","v":""}]
[null,null,null,null,null,null,null,null,null,null,null,null,null,null,null,null,null,{"$f":"IF(L1448=\"\",\"\",L1448-O1448)","v":""},{"$f":"IF(M1448=\"\",\"\",M1448-P1448)","v":""},{"$f":"IF(N1448=\"\",\"\",N1448-Q1448)","v":""}]
[null,null,null,null,null,null,null,null,null,null,null,null,null,null,null,null,null,{"$f":"IF(L1449=\"\",\"\",L1449-O1449)","v":""},{"$f":"IF(M1449=\"\",\"\",M1449-P1449)","v":""},{"$f":"IF(N1449=\"\",\"\",N1449-Q1449)","v":""}]
[null,null,null,null,null,null,null,null,null,null,null,null,null,null,null,null,null,{"$f":"IF(L1450=\"\",\"\",L1450-O1450)","v":""},{"$f":"IF(M1450=\"\",\"\",M1450-P1450)","v":""},{"$f":"IF(N1450=\"\",\"\",N1450-Q1450)","v":""}]
[null,null,null,null,null,null,null,null,null,null,null,null,null,null,null,null,null,{"$f":"IF(L1451=\"\",\"\",L1451-O1451)","v":""},{"$f":"IF(M1451=\"\",\"\",M1451-P1451)","v":""},{"$f":"IF(N1451=\"\",\"\",N1451-Q1451)","v":""}]
[null,null,null,null,null,null,null,null,null,null,null,null,null,null,null,null,null,{"$f":"IF(L1452=\"\",\"\",L1452-O1452)","v":""},{"$f":"IF(M1452=\"\",\"\",M1452-P1452)","v":""},{"$f":"IF(N1452=\"\",\"\",N1452-Q1452)","v":""}]
[null,null,null,null,null,null,null,null,null,null,null,null,null,null,null,null,null,{"$f":"IF(L1453=\"\",\"\",L1453-O1453)","v":""},{"$f":"IF(M1453=\"\",\"\",M1453-P1453)","v":""},{"$f":"IF(N1453=\"\",\"\",N1453-Q1453)","v":""}]
[null,null,null,null,null,null,null,null,null,null,null,null,null,null,null,null,null,{"$f":"IF(L1454=\"\",\"\",L1454-O1454)","v":""},{"$f":"IF(M1454=\"\",\"\",M1454-P1454)","v":""},{"$f":"IF(N1454=\"\",\"\",N1454-Q1454)","v":""}]
[null,null,null,null,null,null,null,null,null,null,null,null,null,null,null,null,null,{"$f":"IF(L1455=\"\",\"\",L1455-O1455)","v":""},{"$f":"IF(M1455=\"\",\"\",M1455-P1455)","v":""},{"$f":"IF(N1455=\"\",\"\",N1455-Q1455)","v":""}]
[null,null,null,null,null,null,null,null,null,null,null,null,null,null,null,null,null,{"$f":"IF(L1456=\"\",\"\",L1456-O1456)","v":""},{"$f":"IF(M1456=\"\",\"\",M1456-P1456)","v":""},{"$f":"IF(N1456=\"\",\"\",N1456-Q1456)","v":""}]
[null,null,null,null,null,null,null,null,null,null,null,null,null,null,null,null,null,{"$f":"IF(L1457=\"\",\"\",L1457-O1457)","v":""},{"$f":"IF(M1457=\"\",\"\",M1457-P1457)","v":""},{"$f":"IF(N1457=\"\",\"\",N1457-Q1457)","v":""}]
[null,null,null,null,null,null,null,null,null,null,null,null,null,null,null,null,null,{"$f":"IF(L1458=\"\",\"\",L1458-O1458)","v":""},{"$f":"IF(M1458=\"\",\"\",M1458-P1458)","v":""},{"$f":"IF(N1458=\"\",\"\",N1458-Q1458)","v":""}]
[null,null,null,null,null,null,null,null,null,null,null,null,null,null,null,null,null,{"$f":"IF(L1459=\"\",\"\",L1459-O1459)","v":""},{"$f":"IF(M1459=\"\",\"\",M1459-P1459)","v":""},{"$f":"IF(N1459=\"\",\"\",N1459-Q1459)","v":""}]
[null,null,null,null,null,null,null,null,null,null,null,null,null,null,null,null,null,{"$f":"IF(L1460=\"\",\"\",L1460-O1460)","v":""},{"$f":"IF(M1460=\"\",\"\",M1460-P1460)","v":""},{"$f":"IF(N1460=\"\",\"\",N1460-Q1460)","v":""}]
[null,null,null,null,null,null,null,null,null,null,null,null,null,null,null,null,null,{"$f":"IF(L1461=\"\",\"\",L1461-O1461)","v":""},{"$f":"IF(M1461=\"\",\"\",M1461-P1461)","v":""},{"$f":"IF(N1461=\"\",\"\",N1461-Q1461)","v":""}]
[null,null,null,null,null,null,null,null,null,null,null,null,null,null,null,null,null,{"$f":"IF(L1462=\"\",\"\",L1462-O1462)","v":""},{"$f":"IF(M1462=\"\",\"\",M1462-P1462)","v":""},{"$f":"IF(N1462=\"\",\"\",N1462-Q1462)","v":""}]
[null,null,null,null,null,null,null,null,null,null,null,null,null,null,null,null,null,{"$f":"IF(L1463=\"\",\"\",L1463-O1463)","v":""},{"$f":"IF(M1463=\"\",\"\",M1463-P1463)","v":""},{"$f":"IF(N1463=\"\",\"\",N1463-Q1463)","v":""}]
[null,null,null,null,null,null,null,null,null,null,null,null,null,null,null,null,null,{"$f":"IF(L1464=\"\",\"\",L1464-O1464)","v":""},{"$f":"IF(M1464=\"\",\"\",M1464-P1464)","v":""},{"$f":"IF(N1464=\"\",\"\",N1464-Q1464)","v":""}]
[null,null,null,null,null,null,null,null,null,null,null,null,null,null,null,null,null,{"$f":"IF(L1465=\"\",\"\",L1465-O1465)","v":""},{"$f":"IF(M1465=\"\",\"\",M1465-P1465)","v":""},{"$f":"IF(N1465=\"\",\"\",N1465-Q1465)","v":""}]
[null,null,null,null,null,null,null,null,null,null,null,null,null,null,null,null,null,{"$f":"IF(L1466=\"\",\"\",L1466-O1466)","v":""},{"$f":"IF(M1466=\"\",\"\",M1466-P1466)","v":""},{"$f":"IF(N1466=\"\",\"\",N1466-Q1466)","v":""}]
[null,null,null,null,null,null,null,null,null,null,null,null,null,null,null,null,null,{"$f":"IF(L1467=\"\",\"\",L1467-O1467)","v":""},{"$f":"IF(M1467=\"\",\"\",M1467-P1467)","v":""},{"$f":"IF(N1467=\"\",\"\",N1467-Q1467)","v":""}]
[null,null,null,null,null,null,null,null,null,null,null,null,null,null,null,null,null,{"$f":"IF(L1468=\"\",\"\",L1468-O1468)","v":""},{"$f":"IF(M1468=\"\",\"\",M1468-P1468)","v":""},{"$f":"IF(N1468=\"\",\"\",N1468-Q1468)","v":""}]
[null,null,null,null,null,null,null,null,null,null,null,null,null,null,null,null,null,{"$f":"IF(L1469=\"\",\"\",L1469-O1469)","v":""},{"$f":"IF(M1469=\"\",\"\",M1469-P1469)","v":""},{"$f":"IF(N1469=\"\",\"\",N1469-Q1469)","v":""}]
[null,null,null,null,null,null,null,null,null,null,null,null,null,null,null,null,null,{"$f":"IF(L1470=\"\",\"\",L1470-O1470)","v":""},{"$f":"IF(M1470=\"\",\"\",M1470-P1470)","v":""},{"$f":"IF(N1470=\"\",\"\",N1470-Q1470)","v":""}]
[null,null,null,null,null,null,null,null,null,null,null,null,null,null,null,null,null,{"$f":"IF(L1471=\"\",\"\",L1471-O1471)","v":""},{"$f":"IF(M1471=\"\",\"\",M1471-P1471)","v":""},{"$f":"IF(N1471=\"\",\"\",N1471-Q1471)","v":""}]
[null,null,null,null,null,null,null,null,null,null,null,null,null,null,null,null,null,{"$f":"IF(L1472=\"\",\"\",L1472-O1472)","v":""},{"$f":"IF(M1472=\"\",\"\",M1472-P1472)","v":""},{"$f":"IF(N1472=\"\",\"\",N1472-Q1472)","v":""}]
[null,null,null,null,null,null,null,null,null,null,null,null,null,null,null,null,null,{"$f":"IF(L1473=\"\",\"\",L1473-O1473)","v":""},{"$f":"IF(M1473=\"\",\"\",M1473-P1473)","v":""},{"$f":"IF(N1473=\"\",\"\",N1473-Q1473)","v":""}]
[null,null,null,null,null,null,null,null,null,null,null,null,null,null,null,null,null,{"$f":"IF(L1474=\"\",\"\",L1474-O1474)","v":""},{"$f":"IF(M1474=\"\",\"\",M1474-P1474)","v":""},{"$f":"IF(N1474=\"\",\"\",N1474-Q1474)","v":""}]
[null,null,null,null,null,null,null,null,null,null,null,null,null,null,null,null,null,{"$f":"IF(L1475=\"\",\"\",L1475-O1475)","v":""},{"$f":"IF(M1475=\"\",\"\",M1475-P1475)","v":""},{"$f":"IF(N1475=\"\",\"\",N1475-Q1475)","v":""}]
[null,null,null,null,null,null,null,null,null,null,null,null,null,null,null,null,null,{"$f":"IF(L1476=\"\",\"\",L1476-O1476)","v":""},{"$f":"IF(M1476=\"\",\"\",M1476-P1476)","v":""},{"$f":"IF(N1476=\"\",\"\",N1476-Q1476)","v":""}]
[null,null,null,null,null,null,null,null,null,null,null,null,null,null,null,null,null,{"$f":"IF(L1477=\"\",\"\",L1477-O1477)","v":""},{"$f":"IF(M1477=\"\",\"\",M1477-P1477)","v":""},{"$f":"IF(N1477=\"\",\"\",N1477-Q1477)","v":""}]
[null,null,null,null,null,null,null,null,null,null,null,null,null,null,null,null,null,{"$f":"IF(L1478=\"\",\"\",L1478-O1478)","v":""},{"$f":"IF(M1478=\"\",\"\",M1478-P1478)","v":""},{"$f":"IF(N1478=\"\",\"\",N1478-Q1478)","v":""}]
[null,null,null,null,null,null,null,null,null,null,null,null,null,null,null,null,null,{"$f":"IF(L1479=\"\",\"\",L1479-O1479)","v":""},{"$f":"IF(M1479=\"\",\"\",M1479-P1479)","v":""},{"$f":"IF(N1479=\"\",\"\",N1479-Q1479)","v":""}]
[null,null,null,null,null,null,null,null,null,null,null,null,null,null,null,null,null,{"$f":"IF(L1480=\"\",\"\",L1480-O1480)","v":""},{"$f":"IF(M1480=\"\",\"\",M1480-P1480)","v":""},{"$f":"IF(N1480=\"\",\"\",N1480-Q1480)","v":""}]
[null,null,null,null,null,null,null,null,null,null,null,null,null,null,null,null,null,{"$f":"IF(L1481=\"\",\"\",L1481-O1481)","v":""},{"$f":"IF(M1481=\"\",\"\",M1481-P1481)","v":""},{"$f":"IF(N1481=\"\",\"\",N1481-Q1481)","v":""}]
[null,null,null,null,null,null,null,null,null,null,null,null,null,null,null,null,null,{"$f":"IF(L1482=\"\",\"\",L1482-O1482)","v":""},{"$f":"IF(M1482=\"\",\"\",M1482-P1482)","v":""},{"$f":"IF(N1482=\"\",\"\",N1482-Q1482)","v":""}]
[null,null,null,null,null,null,null,null,null,null,null,null,null,null,null,null,null,{"$f":"IF(L1483=\"\",\"\",L1483-O1483)","v":""},{"$f":"IF(M1483=\"\",\"\",M1483-P1483)","v":""},{"$f":"IF(N1483=\"\",\"\",N1483-Q1483)","v":""}]
[null,null,null,null,null,null,null,null,null,null,null,null,null,null,null,null,null,{"$f":"IF(L1484=\"\",\"\",L1484-O1484)","v":""},{"$f":"IF(M1484=\"\",\"\",M1484-P1484)","v":""},{"$f":"IF(N1484=\"\",\"\",N1484-Q1484)","v":""}]
[null,null,null,null,null,null,null,null,null,null,null,null,null,null,null,null,null,{"$f":"IF(L1485=\"\",\"\",L1485-O1485)","v":""},{"$f":"IF(M1485=\"\",\"\",M1485-P1485)","v":""},{"$f":"IF(N1485=\"\",\"\",N1485-Q1485)","v":""}]
[null,null,null,null,null,null,null,null,null,null,null,null,null,null,null,null,null,{"$f":"IF(L1486=\"\",\"\",L1486-O1486)","v":""},{"$f":"IF(M1486=\"\",\"\",M1486-P1486)","v":""},{"$f":"IF(N1486=\"\",\"\",N1486-Q1486)","v":""}]
[null,null,null,null,null,null,null,null,null,null,null,null,null,null,null,null,null,{"$f":"IF(L1487=\"\",\"\",L1487-O1487)","v":""},{"$f":"IF(M1487=\"\",\"\",M1487-P1487)","v":""},{"$f":"IF(N1487=\"\",\"\",N1487-Q1487)","v":""}]
[null,null,null,null,null,null,null,null,null,null,null,null,null,null,null,null,null,{"$f":"IF(L1488=\"\",\"\",L1488-O1488)","v":""},{"$f":"IF(M1488=\"\",\"\",M1488-P1488)","v":""},{"$f":"IF(N1488=\"\",\"\",N1488-Q1488)","v":""}]
[null,null,null,null,null,null,null,null,null,null,null,null,null,null,null,null,null,{"$f":"IF(L1489=\"\",\"\",L1489-O1489)","v":""},{"$f":"IF(M1489=\"\",\"\",M1489-P1489)","v":""},{"$f":"IF(N1489=\"\",\"\",N1489-Q1489)","v":""}]
[null,null,null,null,null,null,null,null,null,null,null,null,null,null,null,null,null,{"$f":"IF(L1490=\"\",\"\",L1490-O1490)","v":""},{"$f":"IF(M1490=\"\",\"\",M1490-P1490)","v":""},{"$f":"IF(N1490=\"\",\"\",N1490-Q1490)","v":""}]
[null,null,null,null,null,null,null,null,null,null,null,null,null,null,null,null,null,{"$f":"IF(L1491=\"\",\"\",L1491-O1491)","v":""},{"$f":"IF(M1491=\"\",\"\",M1491-P1491)","v":""},{"$f":"IF(N1491=\"\",\"\",N1491-Q1491)","v":""}]
[null,null,null,null,null,null,null,null,null,null,null,null,null,null,null,null,null,{"$f":"IF(L1492=\"\",\"\",L1492-O1492)","v":""},{"$f":"IF(M1492=\"\",\"\",M1492-P1492)","v":""},{"$f":"IF(N1492=\"\",\"\",N1492-Q1492)","v":""}]
[null,null,null,null,null,null,null,null,null,null,null,null,null,null,null,null,null,{"$f":"IF(L1493=\"\",\"\",L1493-O1493)","v":""},{"$f":"IF(M1493=\"\",\"\",M1493-P1493)","v":""},{"$f":"IF(N1493=\"\",\"\",N1493-Q1493)","v":""}]
[null,null,null,null,null,null,null,null,null,null,null,null,null,null,null,null,null,{"$f":"IF(L1494=\"\",\"\",L1494-O1494)","v":""},{"$f":"IF(M1494=\"\",\"\",M1494-P1494)","v":""},{"$f":"IF(N1494=\"\",\"\",N1494-Q1494)","v":""}]
[null,null,null,null,null,null,null,null,null,null,null,null,null,null,null,null,null,{"$f":"IF(L1495=\"\",\"\",L1495-O1495)","v":""},{"$f":"IF(M1495=\"\",\"\",M1495-P1495)","v":""},{"$f":"IF(N1495=\"\",\"\",N1495-Q1495)","v":""}]
[null,null,null,null,null,null,null,null,null,null,null,null,null,null,null,null,null,{"$f":"IF(L1496=\"\",\"\",L1496-O1496)","v":""},{"$f":"IF(M1496=\"\",\"\",M1496-P1496)","v":""},{"$f":"IF(N1496=\"\",\"\",N1496-Q1496)","v":""}]
[null,null,null,null,null,null,null,null,null,null,null,null,null,null,null,null,null,{"$f":"IF(L1497=\"\",\"\",L1497-O1497)","v":""},{"$f":"IF(M1497=\"\",\"\",M1497-P1497)","v":""},{"$f":"IF(N1497=\"\",\"\",N1497-Q1497)","v":""}]
[null,null,null,null,null,null,null,null,null,null,null,null,null,null,null,null,null,{"$f":"IF(L1498=\"\",\"\",L1498-O1498)","v":""},{"$f":"IF(M1498=\"\",\"\",M1498-P1498)","v":""},{"$f":"IF(N1498=\"\",\"\",N1498-Q1498)","v":""}]
[null,null,null,null,null,null,null,null,null,null,null,null,null,null,null,null,null,{"$f":"IF(L1499=\"\",\"\",L1499-O1499)","v":""},{"$f":"IF(M1499=\"\",\"\",M1499-P1499)","v":""},{"$f":"IF(N1499=\"\",\"\",N1499-Q1499)","v":""}]
[null,null,null,null,null,null,null,null,null,null,null,null,null,null,null,null,null,{"$f":"IF(L1500=\"\",\"\",L1500-O1500)","v":""},{"$f":"IF(M1500=\"\",\"\",M1500-P1500)","v":""},{"$f":"IF(N1500=\"\",\"\",N1500-Q1500)","v":""}]
[null,null,null,null,null,null,null,null,null,null,null,null,null,null,null,null,null,{"$f":"IF(L1501=\"\",\"\",L1501-O1501)","v":""},{"$f":"IF(M1501=\"\",\"\",M1501-P1501)","v":""},{"$f":"IF(N1501=\"\",\"\",N1501-Q1501)","v":""}]
[null,null,null,null,null,null,null,null,null,null,null,null,null,null,null,null,null,{"$f":"IF(L1502=\"\",\"\",L1502-O1502)","v":""},{"$f":"IF(M1502=\"\",\"\",M1502-P1502)","v":""},{"$f":"IF(N1502=\"\",\"\",N1502-Q1502)","v":""}]
[null,null,null,null,null,null,null,null,null,null,null,null,null,null,null,null,null,{"$f":"IF(L1503=\"\",\"\",L1503-O1503)","v":""},{"$f":"IF(M1503=\"\",\"\",M1503-P1503)","v":""},{"$f":"IF(N1503=\"\",\"\",N1503-Q1503)","v":""}]
[null,null,null,null,null,null,null,null,null,null,null,null,null,null,null,null,null,{"$f":"IF(L1504=\"\",\"\",L1504-O1504)","v":""},{"$f":"IF(M1504=\"\",\"\",M1504-P1504)","v":""},{"$f":"IF(N1504=\"\",\"\",N1504-Q1504)","v":""}]
[null,null,null,null,null,null,null,null,null,null,null,null,null,null,null,null,null,{"$f":"IF(L1505=\"\",\"\",L1505-O1505)","v":""},{"$f":"IF(M1505=\"\",\"\",M1505-P1505)","v":""},{"$f":"IF(N1505=\"\",\"\",N1505-Q1505)","v":""}]
[null,null,null,null,null,null,null,null,null,null,null,null,null,null,null,null,null,{"$f":"IF(L1506=\"\",\"\",L1506-O1506)","v":""},{"$f":"IF(M1506=\"\",\"\",M1506-P1506)","v":""},{"$f":"IF(N1506=\"\",\"\",N1506-Q1506)","v":""}]
[null,null,null,null,null,null,null,null,null,null,null,null,null,null,null,null,null,{"$f":"IF(L1507=\"\",\"\",L1507-O1507)","v":""},{"$f":"IF(M1507=\"\",\"\",M1507-P1507)","v":""},{"$f":"IF(N1507=\"\",\"\",N1507-Q1507)","v":""}]
[null,null,null,null,null,null,null,null,null,null,null,null,null,null,null,null,null,{"$f":"IF(L1508=\"\",\"\",L1508-O1508)","v":""},{"$f":"IF(M1508=\"\",\"\",M1508-P1508)","v":""},{"$f":"IF(N1508=\"\",\"\",N1508-Q1508)","v":""}]
[null,null,null,null,null,null,null,null,null,null,null,null,null,null,null,null,null,{"$f":"IF(L1509=\"\",\"\",L1509-O1509)","v":""},{"$f":"IF(M1509=\"\",\"\",M1509-P1509)","v":""},{"$f":"IF(N1509=\"\",\"\",N1509-Q1509)","v":""}]
[null,null,null,null,null,null,null,null,null,null,null,null,null,null,null,null,null,{"$f":"IF(L1510=\"\",\"\",L1510-O1510)","v":""},{"$f":"IF(M1510=\"\",\"\",M1510-P1510)","v":""},{"$f":"IF(N1510=\"\",\"\",N1510-Q1510)","v":""}]
[null,null,null,null,null,null,null,null,null,null,null,null,null,null,null,null,null,{"$f":"IF(L1511=\"\",\"\",L1511-O1511)","v":""},{"$f":"IF(M1511=\"\",\"\",M1511-P1511)","v":""},{"$f":"IF(N1511=\"\",\"\",N1511-Q1511)","v":""}]
[null,null,null,null,null,null,null,null,null,null,null,null,null,null,null,null,null,{"$f":"IF(L1512=\"\",\"\",L1512-O1512)","v":""},{"$f":"IF(M1512=\"\",\"\",M1512-P1512)","v":""},{"$f":"IF(N1512=\"\",\"\",N1512-Q1512)","v":""}]
[null,null,null,null,null,null,null,null,null,null,null,null,null,null,null,null,null,{"$f":"IF(L1513=\"\",\"\",L1513-O1513)","v":""},{"$f":"IF(M1513=\"\",\"\",M1513-P1513)","v":""},{"$f":"IF(N1513=\"\",\"\",N1513-Q1513)","v":""}]
[null,null,null,null,null,null,null,null,null,null,null,null,null,null,null,null,null,{"$f":"IF(L1514=\"\",\"\",L1514-O1514)","v":""},{"$f":"IF(M1514=\"\",\"\",M1514-P1514)","v":""},{"$f":"IF(N1514=\"\",\"\",N1514-Q1514)","v":""}]
[null,null,null,null,null,null,null,null,null,null,null,null,null,null,null,null,null,{"$f":"IF(L1515=\"\",\"\",L1515-O1515)","v":""},{"$f":"IF(M1515=\"\",\"\",M1515-P1515)","v":""},{"$f":"IF(N1515=\"\",\"\",N1515-Q1515)","v":""}]
[null,null,null,null,null,null,null,null,null,null,null,null,null,null,null,null,null,{"$f":"IF(L1516=\"\",\"\",L1516-O1516)","v":""},{"$f":"IF(M1516=\"\",\"\",M1516-P1516)","v":""},{"$f":"IF(N1516=\"\",\"\",N1516-Q1516)","v":""}]
[null,null,null,null,null,null,null,null,null,null,null,null,null,null,null,null,null,{"$f":"IF(L1517=\"\",\"\",L1517-O1517)","v":""},{"$f":"IF(M1517=\"\",\"\",M1517-P1517)","v":""},{"$f":"IF(N1517=\"\",\"\",N1517-Q1517)","v":""}]
[null,null,null,null,null,null,null,null,null,null,null,null,null,null,null,null,null,{"$f":"IF(L1518=\"\",\"\",L1518-O1518)","v":""},{"$f":"IF(M1518=\"\",\"\",M1518-P1518)","v":""},{"$f":"IF(N1518=\"\",\"\",N1518-Q1518)","v":""}]
[null,null,null,null,null,null,null,null,null,null,null,null,null,null,null,null,null,{"$f":"IF(L1519=\"\",\"\",L1519-O1519)","v":""},{"$f":"IF(M1519=\"\",\"\",M1519-P1519)","v":""},{"$f":"IF(N1519=\"\",\"\",N1519-Q1519)","v":""}]
[null,null,null,null,null,null,null,null,null,null,null,null,null,null,null,null,null,{"$f":"IF(L1520=\"\",\"\",L1520-O1520)","v":""},{"$f":"IF(M1520=\"\",\"\",M1520-P1520)","v":""},{"$f":"IF(N1520=\"\",\"\",N1520-Q1520)","v":""}]
[null,null,null,null,null,null,null,null,null,null,null,null,null,null,null,null,null,{"$f":"IF(L1521=\"\",\"\",L1521-O1521)","v":""},{"$f":"IF(M1521=\"\",\"\",M1521-P1521)","v":""},{"$f":"IF(N1521=\"\",\"\",N1521-Q1521)","v":""}]
[null,null,null,null,null,null,null,null,null,null,null,null,null,null,null,null,null,{"$f":"IF(L1522=\"\",\"\",L1522-O1522)","v":""},{"$f":"IF(M1522=\"\",\"\",M1522-P1522)","v":""},{"$f":"IF(N1522=\"\",\"\",N1522-Q1522)","v":""}]
[null,null,null,null,null,null,null,null,null,null,null,null,null,null,null,null,null,{"$f":"IF(L1523=\"\",\"\",L1523-O1523)","v":""},{"$f":"IF(M1523=\"\",\"\",M1523-P1523)","v":""},{"$f":"IF(N1523=\"\",\"\",N1523-Q1523)","v":""}]
[null,null,null,null,null,null,null,null,null,null,null,null,null,null,null,null,null,{"$f":"IF(L1524=\"\",\"\",L1524-O1524)","v":""},{"$f":"IF(M1524=\"\",\"\",M1524-P1524)","v":""},{"$f":"IF(N1524=\"\",\"\",N1524-Q1524)","v":""}]
[null,null,null,null,null,null,null,null,null,null,null,null,null,null,null,null,null,{"$f":"IF(L1525=\"\",\"\",L1525-O1525)","v":""},{"$f":"IF(M1525=\"\",\"\",M1525-P1525)","v":""},{"$f":"IF(N1525=\"\",\"\",N1525-Q1525)","v":""}]
[null,null,null,null,null,null,null,null,null,null,null,null,null,null,null,null,null,{"$f":"IF(L1526=\"\",\"\",L1526-O1526)","v":""},{"$f":"IF(M1526=\"\",\"\",M1526-P1526)","v":""},{"$f":"IF(N1526=\"\",\"\",N1526-Q1526)","v":""}]
[null,null,null,null,null,null,null,null,null,null,null,null,null,null,null,null,null,{"$f":"IF(L1527=\"\",\"\",L1527-O1527)","v":""},{"$f":"IF(M1527=\"\",\"\",M1527-P1527)","v":""},{"$f":"IF(N1527=\"\",\"\",N1527-Q1527)","v":""}]
[null,null,null,null,null,null,null,null,null,null,null,null,null,null,null,null,null,{"$f":"IF(L1528=\"\",\"\",L1528-O1528)","v":""},{"$f":"IF(M1528=\"\",\"\",M1528-P1528)","v":""},{"$f":"IF(N1528=\"\",\"\",N1528-Q1528)","v":""}]
[null,null,null,null,null,null,null,null,null,null,null,null,null,null,null,null,null,{"$f":"IF(L1529=\"\",\"\",L1529-O1529)","v":""},{"$f":"IF(M1529=\"\",\"\",M1529-P1529)","v":""},{"$f":"IF(N1529=\"\",\"\",N1529-Q1529)","v":""}]
[null,null,null,null,null,null,null,null,null,null,null,null,null,null,null,null,null,{"$f":"IF(L1530=\"\",\"\",L1530-O1530)","v":""},{"$f":"IF(M1530=\"\",\"\",M1530-P1530)","v":""},{"$f":"IF(N1530=\"\",\"\",N1530-Q1530)","v":""}]
[null,null,null,null,null,null,null,null,null,null,null,null,null,null,null,null,null,{"$f":"IF(L1531=\"\",\"\",L1531-O1531)","v":""},{"$f":"IF(M1531=\"\",\"\",M1531-P1531)","v":""},{"$f":"IF(N1531=\"\",\"\",N1531-Q1531)","v":""}]
[null,null,null,null,null,null,null,null,null,null,null,null,null,null,null,null,null,{"$f":"IF(L1532=\"\",\"\",L1532-O1532)","v":""},{"$f":"IF(M1532=\"\",\"\",M1532-P1532)","v":""},{"$f":"IF(N1532=\"\",\"\",N1532-Q1532)","v":""}]
[null,null,null,null,null,null,null,null,null,null,null,null,null,null,null,null,null,{"$f":"IF(L1533=\"\",\"\",L1533-O1533)","v":""},{"$f":"IF(M1533=\"\",\"\",M1533-P1533)","v":""},{"$f":"IF(N1533=\"\",\"\",N1533-Q1533)","v":""}]
[null,null,null,null,null,null,null,null,null,null,null,null,null,null,null,null,null,{"$f":"IF(L1534=\"\",\"\",L1534-O1534)","v":""},{"$f":"IF(M1534=\"\",\"\",M1534-P1534)","v":""},{"$f":"IF(N1534=\"\",\"\",N1534-Q1534)","v":""}]
[null,null,null,null,null,null,null,null,null,null,null,null,null,null,null,null,null,{"$f":"IF(L1535=\"\",\"\",L1535-O1535)","v":""},{"$f":"IF(M1535=\"\",\"\",M1535-P1535)","v":""},{"$f":"IF(N1535=\"\",\"\",N1535-Q1535)","v":""}]
[null,null,null,null,null,null,null,null,null,null,null,null,null,null,null,null,null,{"$f":"IF(L1536=\"\",\"\",L1536-O1536)","v":""},{"$f":"IF(M1536=\"\",\"\",M1536-P1536)","v":""},{"$f":"IF(N1536=\"\",\"\",N1536-Q1536)","v":""}]
[null,null,null,null,null,null,null,null,null,null,null,null,null,null,null,null,null,{"$f":"IF(L1537=\"\",\"\",L1537-O1537)","v":""},{"$f":"IF(M1537=\"\",\"\",M1537-P1537)","v":""},{"$f":"IF(N1537=\"\",\"\",N1537-Q1537)","v":""}]
[null,null,null,null,null,null,null,null,null,null,null,null,null,null,null,null,null,{"$f":"IF(L1538=\"\",\"\",L1538-O1538)","v":""},{"$f":"IF(M1538=\"\",\"\",M1538-P1538)","v":""},{"$f":"IF(N1538=\"\",\"\",N1538-Q1538)","v":""}]
[null,null,null,null,null,null,null,null,null,null,null,null,null,null,null,null,null,{"$f":"IF(L1539=\"\",\"\",L1539-O1539)","v":""},{"$f":"IF(M1539=\"\",\"\",M1539-P1539)","v":""},{"$f":"IF(N1539=\"\",\"\",N1539-Q1539)","v":""}]
[null,null,null,null,null,null,null,null,null,null,null,null,null,null,null,null,null,{"$f":"IF(L1540=\"\",\"\",L1540-O1540)","v":""},{"$f":"IF(M1540=\"\",\"\",M1540-P1540)","v":""},{"$f":"IF(N1540=\"\",\"\",N1540-Q1540)","v":""}]
[null,null,null,null,null,null,null,null,null,null,null,null,null,null,null,null,null,{"$f":"IF(L1541=\"\",\"\",L1541-O1541)","v":""},{"$f":"IF(M1541=\"\",\"\",M1541-P1541)","v":""},{"$f":"IF(N1541=\"\",\"\",N1541-Q1541)","v":""}]
[null,null,null,null,null,null,null,null,null,null,null,null,null,null,null,null,null,{"$f":"IF(L1542=\"\",\"\",L1542-O1542)","v":""},{"$f":"IF(M1542=\"\",\"\",M1542-P1542)","v":""},{"$f":"IF(N1542=\"\",\"\",N1542-Q1542)","v":""}]
[null,null,null,null,null,null,null,null,null,null,null,null,null,null,null,null,null,{"$f":"IF(L1543=\"\",\"\",L1543-O1543)","v":""},{"$f":"IF(M1543=\"\",\"\",M1543-P1543)","v":""},{"$f":"IF(N1543=\"\",\"\",N1543-Q1543)","v":""}]
[null,null,null,null,null,null,null,null,null,null,null,null,null,null,null,null,null,{"$f":"IF(L1544=\"\",\"\",L1544-O1544)","v":""},{"$f":"IF(M1544=\"\",\"\",M1544-P1544)","v":""},{"$f":"IF(N1544=\"\",\"\",N1544-Q1544)","v":""}]
[null,null,null,null,null,null,null,null,null,null,null,null,null,null,null,null,null,{"$f":"IF(L1545=\"\",\"\",L1545-O1545)","v":""},{"$f":"IF(M1545=\"\",\"\",M1545-P1545)","v":""},{"$f":"IF(N1545=\"\",\"\",N1545-Q1545)","v":""}]
[null,null,null,null,null,null,null,null,null,null,null,null,null,null,null,null,null,{"$f":"IF(L1546=\"\",\"\",L1546-O1546)","v":""},{"$f":"IF(M1546=\"\",\"\",M1546-P1546)","v":""},{"$f":"IF(N1546=\"\",\"\",N1546-Q1546)","v":""}]
[null,null,null,null,null,null,null,null,null,null,null,null,null,null,null,null,null,{"$f":"IF(L1547=\"\",\"\",L1547-O1547)","v":""},{"$f":"IF(M1547=\"\",\"\",M1547-P1547)","v":""},{"$f":"IF(N1547=\"\",\"\",N1547-Q1547)","v":""}]
[null,null,null,null,null,null,null,null,null,null,null,null,null,null,null,null,null,{"$f":"IF(L1548=\"\",\"\",L1548-O1548)","v":""},{"$f":"IF(M1548=\"\",\"\",M1548-P1548)","v":""},{"$f":"IF(N1548=\"\",\"\",N1548-Q1548)","v":""}]
[null,null,null,null,null,null,null,null,null,null,null,null,null,null,null,null,null,{"$f":"IF(L1549=\"\",\"\",L1549-O1549)","v":""},{"$f":"IF(M1549=\"\",\"\",M1549-P1549)","v":""},{"$f":"IF(N1549=\"\",\"\",N1549-Q1549)","v":""}]
[null,null,null,null,null,null,null,null,null,null,null,null,null,null,null,null,null,{"$f":"IF(L1550=\"\",\"\",L1550-O1550)","v":""},{"$f":"IF(M1550=\"\",\"\",M1550-P1550)","v":""},{"$f":"IF(N1550=\"\",\"\",N1550-Q1550)","v":""}]
[null,null,null,null,null,null,null,null,null,null,null,null,null,null,null,null,null,{"$f":"IF(L1551=\"\",\"\",L1551-O1551)","v":""},{"$f":"IF(M1551=\"\",\"\",M1551-P1551)","v":""},{"$f":"IF(N1551=\"\",\"\",N1551-Q1551)","v":""}]
[null,null,null,null,null,null,null,null,null,null,null,null,null,null,null,null,null,{"$f":"IF(L1552=\"\",\"\",L1552-O1552)","v":""},{"$f":"IF(M1552=\"\",\"\",M1552-P1552)","v":""},{"$f":"IF(N1552=\"\",\"\",N1552-Q1552)","v":""}]
[null,null,null,null,null,null,null,null,null,null,null,null,null,null,null,null,null,{"$f":"IF(L1553=\"\",\"\",L1553-O1553)","v":""},{"$f":"IF(M1553=\"\",\"\",M1553-P1553)","v":""},{"$f":"IF(N1553=\"\",\"\",N1553-Q1553)","v":""}]
[null,null,null,null,null,null,null,null,null,null,null,null,null,null,null,null,null,{"$f":"IF(L1554=\"\",\"\",L1554-O1554)","v":""},{"$f":"IF(M1554=\"\",\"\",M1554-P1554)","v":""},{"$f":"IF(N1554=\"\",\"\",N1554-Q1554)","v":""}]
[null,null,null,null,null,null,null,null,null,null,null,null,null,null,null,null,null,{"$f":"IF(L1555=\"\",\"\",L1555-O1555)","v":""},{"$f":"IF(M1555=\"\",\"\",M1555-P1555)","v":""},{"$f":"IF(N1555=\"\",\"\",N1555-Q1555)","v":""}]
[null,null,null,null,null,null,null,null,null,null,null,null,null,null,null,null,null,{"$f":"IF(L1556=\"\",\"\",L1556-O1556)","v":""},{"$f":"IF(M1556=\"\",\"\",M1556-P1556)","v":""},{"$f":"IF(N1556=\"\",\"\",N1556-Q1556)","v":""}]
[null,null,null,null,null,null,null,null,null,null,null,null,null,null,null,null,null,{"$f":"IF(L1557=\"\",\"\",L1557-O1557)","v":""},{"$f":"IF(M1557=\"\",\"\",M1557-P1557)","v":""},{"$f":"IF(N1557=\"\",\"\",N1557-Q1557)","v":""}]
[null,null,null,null,null,null,null,null,null,null,null,null,null,null,null,null,null,{"$f":"IF(L1558=\"\",\"\",L1558-O1558)","v":""},{"$f":"IF(M1558=\"\",\"\",M1558-P1558)","v":""},{"$f":"IF(N1558=\"\",\"\",N1558-Q1558)","v":""}]
[null,null,null,null,null,null,null,null,null,null,null,null,null,null,null,null,null,{"$f":"IF(L1559=\"\",\"\",L1559-O1559)","v":""},{"$f":"IF(M1559=\"\",\"\",M1559-P1559)","v":""},{"$f":"IF(N1559=\"\",\"\",N1559-Q1559)","v":""}]
[null,null,null,null,null,null,null,null,null,null,null,null,null,null,null,null,null,{"$f":"IF(L1560=\"\",\"\",L1560-O1560)","v":""},{"$f":"IF(M1560=\"\",\"\",M1560-P1560)","v":""},{"$f":"IF(N1560=\"\",\"\",N1560-Q1560)","v":""}]
[null,null,null,null,null,null,null,null,null,null,null,null,null,null,null,null,null,{"$f":"IF(L1561=\"\",\"\",L1561-O1561)","v":""},{"$f":"IF(M1561=\"\",\"\",M1561-P1561)","v":""},{"$f":"IF(N1561=\"\",\"\",N1561-Q1561)","v":""}]
[null,null,null,null,null,null,null,null,null,null,null,null,null,null,null,null,null,{"$f":"IF(L1562=\"\",\"\",L1562-O1562)","v":""},{"$f":"IF(M1562=\"\",\"\",M1562-P1562)","v":""},{"$f":"IF(N1562=\"\",\"\",N1562-Q1562)","v":""}]
[null,null,null,null,null,null,null,null,null,null,null,null,null,null,null,null,null,{"$f":"IF(L1563=\"\",\"\",L1563-O1563)","v":""},{"$f":"IF(M1563=\"\",\"\",M1563-P1563)","v":""},{"$f":"IF(N1563=\"\",\"\",N1563-Q1563)","v":""}]
[null,null,null,null,null,null,null,null,null,null,null,null,null,null,null,null,null,{"$f":"IF(L1564=\"\",\"\",L1564-O1564)","v":""},{"$f":"IF(M1564=\"\",\"\",M1564-P1564)","v":""},{"$f":"IF(N1564=\"\",\"\",N1564-Q1564)","v":""}]
[null,null,null,null,null,null,null,null,null,null,null,null,null,null,null,null,null,{"$f":"IF(L1565=\"\",\"\",L1565-O1565)","v":""},{"$f":"IF(M1565=\"\",\"\",M1565-P1565)","v":""},{"$f":"IF(N1565=\"\",\"\",N1565-Q1565)","v":""}]
[null,null,null,null,null,null,null,null,null,null,null,null,null,null,null,null,null,{"$f":"IF(L1566=\"\",\"\",L1566-O1566)","v":""},{"$f":"IF(M1566=\"\",\"\",M1566-P1566)","v":""},{"$f":"IF(N1566=\"\",\"\",N1566-Q1566)","v":""}]
[null,null,null,null,null,null,null,null,null,null,null,null,null,null,null,null,null,{"$f":"IF(L1567=\"\",\"\",L1567-O1567)","v":""},{"$f":"IF(M1567=\"\",\"\",M1567-P1567)","v":""},{"$f":"IF(N1567=\"\",\"\",N1567-Q1567)","v":""}]
[null,null,null,null,null,null,null,null,null,null,null,null,null,null,null,null,null,{"$f":"IF(L1568=\"\",\"\",L1568-O1568)","v":""},{"$f":"IF(M1568=\"\",\"\",M1568-P1568)","v":""},{"$f":"IF(N1568=\"\",\"\",N1568-Q1568)","v":""}]
[null,null,null,null,null,null,null,null,null,null,null,null,null,null,null,null,null,{"$f":"IF(L1569=\"\",\"\",L1569-O1569)","v":""},{"$f":"IF(M1569=\"\",\"\",M1569-P1569)","v":""},{"$f":"IF(N1569=\"\",\"\",N1569-Q1569)","v":""}]
[null,null,null,null,null,null,null,null,null,null,null,null,null,null,null,null,null,{"$f":"IF(L1570=\"\",\"\",L1570-O1570)","v":""},{"$f":"IF(M1570=\"\",\"\",M1570-P1570)","v":""},{"$f":"IF(N1570=\"\",\"\",N1570-Q1570)","v":""}]
[null,null,null,null,null,null,null,null,null,null,null,null,null,null,null,null,null,{"$f":"IF(L1571=\"\",\"\",L1571-O1571)","v":""},{"$f":"IF(M1571=\"\",\"\",M1571-P1571)","v":""},{"$f":"IF(N1571=\"\",\"\",N1571-Q1571)","v":""}]
[null,null,null,null,null,null,null,null,null,null,null,null,null,null,null,null,null,{"$f":"IF(L1572=\"\",\"\",L1572-O1572)","v":""},{"$f":"IF(M1572=\"\",\"\",M1572-P1572)","v":""},{"$f":"IF(N1572=\"\",\"\",N1572-Q1572)","v":""}]
[null,null,null,null,null,null,null,null,null,null,null,null,null,null,null,null,null,{"$f":"IF(L1573=\"\",\"\",L1573-O1573)","v":""},{"$f":"IF(M1573=\"\",\"\",M1573-P1573)","v":""},{"$f":"IF(N1573=\"\",\"\",N1573-Q1573)","v":""}]
[null,null,null,null,null,null,null,null,null,null,null,null,null,null,null,null,null,{"$f":"IF(L1574=\"\",\"\",L1574-O1574)","v":""},{"$f":"IF(M1574=\"\",\"\",M1574-P1574)","v":""},{"$f":"IF(N1574=\"\",\"\",N1574-Q1574)","v":""}]
[null,null,null,null,null,null,null,null,null,null,null,null,null,null,null,null,null,{"$f":"IF(L1575=\"\",\"\",L1575-O1575)","v":""},{"$f":"IF(M1575=\"\",\"\",M1575-P1575)","v":""},{"$f":"IF(N1575=\"\",\"\",N1575-Q1575)","v":""}]
[null,null,null,null,null,null,null,null,null,null,null,null,null,null,null,null,null,{"$f":"IF(L1576=\"\",\"\",L1576-O1576)","v":""},{"$f":"IF(M1576=\"\",\"\",M1576-P1576)","v":""},{"$f":"IF(N1576=\"\",\"\",N1576-Q1576)","v":""}]
[null,null,null,null,null,null,null,null,null,null,null,null,null,null,null,null,null,{"$f":"IF(L1577=\"\",\"\",L1577-O1577)","v":""},{"$f":"IF(M1577=\"\",\"\",M1577-P1577)","v":""},{"$f":"IF(N1577=\"\",\"\",N1577-Q1577)","v":""}]
[null,null,null,null,null,null,null,null,null,null,null,null,null,null,null,null,null,{"$f":"IF(L1578=\"\",\"\",L1578-O1578)","v":""},{"$f":"IF(M1578=\"\",\"\",M1578-P1578)","v":""},{"$f":"IF(N1578=\"\",\"\",N1578-Q1578)","v":""}]
[null,null,null,null,null,null,null,null,null,null,null,null,null,null,null,null,null,{"$f":"IF(L1579=\"\",\"\",L1579-O1579)","v":""},{"$f":"IF(M1579=\"\",\"\",M1579-P1579)","v":""},{"$f":"IF(N1579=\"\",\"\",N1579-Q1579)","v":""}]
[null,null,null,null,null,null,null,null,null,null,null,null,null,null,null,null,null,{"$f":"IF(L1580=\"\",\"\",L1580-O1580)","v":""},{"$f":"IF(M1580=\"\",\"\",M1580-P1580)","v":""},{"$f":"IF(N1580=\"\",\"\",N1580-Q1580)","v":""}]
[null,null,null,null,null,null,null,null,null,null,null,null,null,null,null,null,null,{"$f":"IF(L1581=\"\",\"\",L1581-O1581)","v":""},{"$f":"IF(M1581=\"\",\"\",M1581-P1581)","v":""},{"$f":"IF(N1581=\"\",\"\",N1581-Q1581)","v":""}]
[null,null,null,null,null,null,null,null,null,null,null,null,null,null,null,null,null,{"$f":"IF(L1582=\"\",\"\",L1582-O1582)","v":""},{"$f":"IF(M1582=\"\",\"\",M1582-P1582)","v":""},{"$f":"IF(N1582=\"\",\"\",N1582-Q1582)","v":""}]
[null,null,null,null,null,null,null,null,null,null,null,null,null,null,null,null,null,{"$f":"IF(L1583=\"\",\"\",L1583-O1583)","v":""},{"$f":"IF(M1583=\"\",\"\",M1583-P1583)","v":""},{"$f":"IF(N1583=\"\",\"\",N1583-Q1583)","v":""}]
[null,null,null,null,null,null,null,null,null,null,null,null,null,null,null,null,null,{"$f":"IF(L1584=\"\",\"\",L1584-O1584)","v":""},{"$f":"IF(M1584=\"\",\"\",M1584-P1584)","v":""},{"$f":"IF(N1584=\"\",\"\",N1584-Q1584)","v":""}]
[null,null,null,null,null,null,null,null,null,null,null,null,null,null,null,null,null,{"$f":"IF(L1585=\"\",\"\",L1585-O1585)","v":""},{"$f":"IF(M1585=\"\",\"\",M1585-P1585)","v":""},{"$f":"IF(N1585=\"\",\"\",N1585-Q1585)","v":""}]
[null,null,null,null,null,null,null,null,null,null,null,null,null,null,null,null,null,{"$f":"IF(L1586=\"\",\"\",L1586-O1586)","v":""},{"$f":"IF(M1586=\"\",\"\",M1586-P1586)","v":""},{"$f":"IF(N1586=\"\",\"\",N1586-Q1586)","v":""}]
[null,null,null,null,null,null,null,null,null,null,null,null,null,null,null,null,null,{"$f":"IF(L1587=\"\",\"\",L1587-O1587)","v":""},{"$f":"IF(M1587=\"\",\"\",M1587-P1587)","v":""},{"$f":"IF(N1587=\"\",\"\",N1587-Q1587)","v":""}]
[null,null,null,null,null,null,null,null,null,null,null,null,null,null,null,null,null,{"$f":"IF(L1588=\"\",\"\",L1588-O1588)","v":""},{"$f":"IF(M1588=\"\",\"\",M1588-P1588)","v":""},{"$f":"IF(N1588=\"\",\"\",N1588-Q1588)","v":""}]
[null,null,null,null,null,null,null,null,null,null,null,null,null,null,null,null,null,{"$f":"IF(L1589=\"\",\"\",L1589-O1589)","v":""},{"$f":"IF(M1589=\"\",\"\",M1589-P1589)","v":""},{"$f":"IF(N1589=\"\",\"\",N1589-Q1589)","v":""}]
[null,null,null,null,null,null,null,null,null,null,null,null,null,null,null,null,null,{"$f":"IF(L1590=\"\",\"\",L1590-O1590)","v":""},{"$f":"IF(M1590=\"\",\"\",M1590-P1590)","v":""},{"$f":"IF(N1590=\"\",\"\",N1590-Q1590)","v":""}]
[null,null,null,null,null,null,null,null,null,null,null,null,null,null,null,null,null,{"$f":"IF(L1591=\"\",\"\",L1591-O1591)","v":""},{"$f":"IF(M1591=\"\",\"\",M1591-P1591)","v":""},{"$f":"IF(N1591=\"\",\"\",N1591-Q1591)","v":""}]
[null,null,null,null,null,null,null,null,null,null,null,null,null,null,null,null,null,{"$f":"IF(L1592=\"\",\"\",L1592-O1592)","v":""},{"$f":"IF(M1592=\"\",\"\",M1592-P1592)","v":""},{"$f":"IF(N1592=\"\",\"\",N1592-Q1592)","v":""}]
[null,null,null,null,null,null,null,null,null,null,null,null,null,null,null,null,null,{"$f":"IF(L1593=\"\",\"\",L1593-O1593)","v":""},{"$f":"IF(M1593=\"\",\"\",M1593-P1593)","v":""},{"$f":"IF(N1593=\"\",\"\",N1593-Q1593)","v":""}]
[null,null,null,null,null,null,null,null,null,null,null,null,null,null,null,null,null,{"$f":"IF(L1594=\"\",\"\",L1594-O1594)","v":""},{"$f":"IF(M1594=\"\",\"\",M1594-P1594)","v":""},{"$f":"IF(N1594=\"\",\"\",N1594-Q1594)","v":""}]
[null,null,null,null,null,null,null,null,null,null,null,null,null,null,null,null,null,{"$f":"IF(L1595=\"\",\"\",L1595-O1595)","v":""},{"$f":"IF(M1595=\"\",\"\",M1595-P1595)","v":""},{"$f":"IF(N1595=\"\",\"\",N1595-Q1595)","v":""}]
[null,null,null,null,null,null,null,null,null,null,null,null,null,null,null,null,null,{"$f":"IF(L1596=\"\",\"\",L1596-O1596)","v":""},{"$f":"IF(M1596=\"\",\"\",M1596-P1596)","v":""},{"$f":"IF(N1596=\"\",\"\",N1596-Q1596)","v":""}]
[null,null,null,null,null,null,null,null,null,null,null,null,null,null,null,null,null,{"$f":"IF(L1597=\"\",\"\",L1597-O1597)","v":""},{"$f":"IF(M1597=\"\",\"\",M1597-P1597)","v":""},{"$f":"IF(N1597=\"\",\"\",N1597-Q1597)","v":""}]
[null,null,null,null,null,null,null,null,null,null,null,null,null,null,null,null,null,{"$f":"IF(L1598=\"\",\"\",L1598-O1598)","v":""},{"$f":"IF(M1598=\"\",\"\",M1598-P1598)","v":""},{"$f":"IF(N1598=\"\",\"\",N1598-Q1598)","v":""}]
[null,null,null,null,null,null,null,null,null,null,null,null,null,null,null,null,null,{"$f":"IF(L1599=\"\",\"\",L1599-O1599)","v":""},{"$f":"IF(M1599=\"\",\"\",M1599-P1599)","v":""},{"$f":"IF(N1599=\"\",\"\",N1599-Q1599)","v":""}]
[null,null,null,null,null,null,null,null,null,null,null,null,null,null,null,null,null,{"$f":"IF(L1600=\"\",\"\",L1600-O1600)","v":""},{"$f":"IF(M1600=\"\",\"\",M1600-P1600)","v":""},{"$f":"IF(N1600=\"\",\"\",N1600-Q1600)","v":""}]
[null,null,null,null,null,null,null,null,null,null,null,null,null,null,null,null,null,{"$f":"IF(L1601=\"\",\"\",L1601-O1601)","v":""},{"$f":"IF(M1601=\"\",\"\",M1601-P1601)","v":""},{"$f":"IF(N1601=\"\",\"\",N1601-Q1601)","v":""}]
[null,null,null,null,null,null,null,null,null,null,null,null,null,null,null,null,null,{"$f":"IF(L1602=\"\",\"\",L1602-O1602)","v":""},{"$f":"IF(M1602=\"\",\"\",M1602-P1602)","v":""},{"$f":"IF(N1602=\"\",\"\",N1602-Q1602)","v":""}]
[null,null,null,null,null,null,null,null,null,null,null,null,null,null,null,null,null,{"$f":"IF(L1603=\"\",\"\",L1603-O1603)","v":""},{"$f":"IF(M1603=\"\",\"\",M1603-P1603)","v":""},{"$f":"IF(N1603=\"\",\"\",N1603-Q1603)","v":""}]
[null,null,null,null,null,null,null,null,null,null,null,null,null,null,null,null,null,{"$f":"IF(L1604=\"\",\"\",L1604-O1604)","v":""},{"$f":"IF(M1604=\"\",\"\",M1604-P1604)","v":""},{"$f":"IF(N1604=\"\",\"\",N1604-Q1604)","v":""}]
[null,null,null,null,null,null,null,null,null,null,null,null,null,null,null,null,null,{"$f":"IF(L1605=\"\",\"\",L1605-O1605)","v":""},{"$f":"IF(M1605=\"\",\"\",M1605-P1605)","v":""},{"$f":"IF(N1605=\"\",\"\",N1605-Q1605)","v":""}]
[null,null,null,null,null,null,null,null,null,null,null,null,null,null,null,null,null,{"$f":"IF(L1606=\"\",\"\",L1606-O1606)","v":""},{"$f":"IF(M1606=\"\",\"\",M1606-P1606)","v":""},{"$f":"IF(N1606=\"\",\"\",N1606-Q1606)","v":""}]
[null,null,null,null,null,null,null,null,null,null,null,null,null,null,null,null,null,{"$f":"IF(L1607=\"\",\"\",L1607-O1607)","v":""},{"$f":"IF(M1607=\"\",\"\",M1607-P1607)","v":""},{"$f":"IF(N1607=\"\",\"\",N1607-Q1607)","v":""}]
[null,null,null,null,null,null,null,null,null,null,null,null,null,null,null,null,null,{"$f":"IF(L1608=\"\",\"\",L1608-O1608)","v":""},{"$f":"IF(M1608=\"\",\"\",M1608-P1608)","v":""},{"$f":"IF(N1608=\"\",\"\",N1608-Q1608)","v":""}]
[null,null,null,null,null,null,null,null,null,null,null,null,null,null,null,null,null,{"$f":"IF(L1609=\"\",\"\",L1609-O1609)","v":""},{"$f":"IF(M1609=\"\",\"\",M1609-P1609)","v":""},{"$f":"IF(N1609=\"\",\"\",N1609-Q1609)","v":""}]
[null,null,null,null,null,null,null,null,null,null,null,null,null,null,null,null,null,{"$f":"IF(L1610=\"\",\"\",L1610-O1610)","v":""},{"$f":"IF(M1610=\"\",\"\",M1610-P1610)","v":""},{"$f":"IF(N1610=\"\",\"\",N1610-Q1610)","v":""}]
[null,null,null,null,null,null,null,null,null,null,null,null,null,null,null,null,null,{"$f":"IF(L1611=\"\",\"\",L1611-O1611)","v":""},{"$f":"IF(M1611=\"\",\"\",M1611-P1611)","v":""},{"$f":"IF(N1611=\"\",\"\",N1611-Q1611)","v":""}]
[null,null,null,null,null,null,null,null,null,null,null,null,null,null,null,null,null,{"$f":"IF(L1612=\"\",\"\",L1612-O1612)","v":""},{"$f":"IF(M1612=\"\",\"\",M1612-P1612)","v":""},{"$f":"IF(N1612=\"\",\"\",N1612-Q1612)","v":""}]
[null,null,null,null,null,null,null,null,null,null,null,null,null,null,null,null,null,{"$f":"IF(L1613=\"\",\"\",L1613-O1613)","v":""},{"$f":"IF(M1613=\"\",\"\",M1613-P1613)","v":""},{"$f":"IF(N1613=\"\",\"\",N1613-Q1613)","v":""}]
[null,null,null,null,null,null,null,null,null,null,null,null,null,null,null,null,null,{"$f":"IF(L1614=\"\",\"\",L1614-O1614)","v":""},{"$f":"IF(M1614=\"\",\"\",M1614-P1614)","v":""},{"$f":"IF(N1614=\"\",\"\",N1614-Q1614)","v":""}]
[null,null,null,null,null,null,null,null,null,null,null,null,null,null,null,null,null,{"$f":"IF(L1615=\"\",\"\",L1615-O1615)","v":""},{"$f":"IF(M1615=\"\",\"\",M1615-P1615)","v":""},{"$f":"IF(N1615=\"\",\"\",N1615-Q1615)","v":""}]
[null,null,null,null,null,null,null,null,null,null,null,null,null,null,null,null,null,{"$f":"IF(L1616=\"\",\"\",L1616-O1616)","v":""},{"$f":"IF(M1616=\"\",\"\",M1616-P1616)","v":""},{"$f":"IF(N1616=\"\",\"\",N1616-Q1616)","v":""}]
[null,null,null,null,null,null,null,null,null,null,null,null,null,null,null,null,null,{"$f":"IF(L1617=\"\",\"\",L1617-O1617)","v":""},{"$f":"IF(M1617=\"\",\"\",M1617-P1617)","v":""},{"$f":"IF(N1617=\"\",\"\",N1617-Q1617)","v":""}]
[null,null,null,null,null,null,null,null,null,null,null,null,null,null,null,null,null,{"$f":"IF(L1618=\"\",\"\",L1618-O1618)","v":""},{"$f":"IF(M1618=\"\",\"\",M1618-P1618)","v":""},{"$f":"IF(N1618=\"\",\"\",N1618-Q1618)","v":""}]
[null,null,null,null,null,null,null,null,null,null,null,null,null,null,null,null,null,{"$f":"IF(L1619=\"\",\"\",L1619-O1619)","v":""},{"$f":"IF(M1619=\"\",\"\",M1619-P1619)","v":""},{"$f":"IF(N1619=\"\",\"\",N1619-Q1619)","v":""}]
[null,null,null,null,null,null,null,null,null,null,null,null,null,null,null,null,null,{"$f":"IF(L1620=\"\",\"\",L1620-O1620)","v":""},{"$f":"IF(M1620=\"\",\"\",M1620-P1620)","v":""},{"$f":"IF(N1620=\"\",\"\",N1620-Q1620)","v":""}]
[null,null,null,null,null,null,null,null,null,null,null,null,null,null,null,null,null,{"$f":"IF(L1621=\"\",\"\",L1621-O1621)","v":""},{"$f":"IF(M1621=\"\",\"\",M1621-P1621)","v":""},{"$f":"IF(N1621=\"\",\"\",N1621-Q1621)","v":""}]
[null,null,null,null,null,null,null,null,null,null,null,null,null,null,null,null,null,{"$f":"IF(L1622=\"\",\"\",L1622-O1622)","v":""},{"$f":"IF(M1622=\"\",\"\",M1622-P1622)","v":""},{"$f":"IF(N1622=\"\",\"\",N1622-Q1622)","v":""}]
[null,null,null,null,null,null,null,null,null,null,null,null,null,null,null,null,null,{"$f":"IF(L1623=\"\",\"\",L1623-O1623)","v":""},{"$f":"IF(M1623=\"\",\"\",M1623-P1623)","v":""},{"$f":"IF(N1623=\"\",\"\",N1623-Q1623)","v":""}]
[null,null,null,null,null,null,null,null,null,null,null,null,null,null,null,null,null,{"$f":"IF(L1624=\"\",\"\",L1624-O1624)","v":""},{"$f":"IF(M1624=\"\",\"\",M1624-P1624)","v":""},{"$f":"IF(N1624=\"\",\"\",N1624-Q1624)","v":""}]
[null,null,null,null,null,null,null,null,null,null,null,null,null,null,null,null,null,{"$f":"IF(L1625=\"\",\"\",L1625-O1625)","v":""},{"$f":"IF(M1625=\"\",\"\",M1625-P1625)","v":""},{"$f":"IF(N1625=\"\",\"\",N1625-Q1625)","v":""}]
[null,null,null,null,null,null,null,null,null,null,null,null,null,null,null,null,null,{"$f":"IF(L1626=\"\",\"\",L1626-O1626)","v":""},{"$f":"IF(M1626=\"\",\"\",M1626-P1626)","v":""},{"$f":"IF(N1626=\"\",\"\",N1626-Q1626)","v":""}]
[null,null,null,null,null,null,null,null,null,null,null,null,null,null,null,null,null,{"$f":"IF(L1627=\"\",\"\",L1627-O1627)","v":""},{"$f":"IF(M1627=\"\",\"\",M1627-P1627)","v":""},{"$f":"IF(N1627=\"\",\"\",N1627-Q1627)","v":""}]
[null,null,null,null,null,null,null,null,null,null,null,null,null,null,null,null,null,{"$f":"IF(L1628=\"\",\"\",L1628-O1628)","v":""},{"$f":"IF(M1628=\"\",\"\",M1628-P1628)","v":""},{"$f":"IF(N1628=\"\",\"\",N1628-Q1628)","v":""}]
[null,null,null,null,null,null,null,null,null,null,null,null,null,null,null,null,null,{"$f":"IF(L1629=\"\",\"\",L1629-O1629)","v":""},{"$f":"IF(M1629=\"\",\"\",M1629-P1629)","v":""},{"$f":"IF(N1629=\"\",\"\",N1629-Q1629)","v":""}]
[null,null,null,null,null,null,null,null,null,null,null,null,null,null,null,null,null,{"$f":"IF(L1630=\"\",\"\",L1630-O1630)","v":""},{"$f":"IF(M1630=\"\",\"\",M1630-P1630)","v":""},{"$f":"IF(N1630=\"\",\"\",N1630-Q1630)","v":""}]
[null,null,null,null,null,null,null,null,null,null,null,null,null,null,null,null,null,{"$f":"IF(L1631=\"\",\"\",L1631-O1631)","v":""},{"$f":"IF(M1631=\"\",\"\",M1631-P1631)","v":""},{"$f":"IF(N1631=\"\",\"\",N1631-Q1631)","v":""}]
[null,null,null,null,null,null,null,null,null,null,null,null,null,null,null,null,null,{"$f":"IF(L1632=\"\",\"\",L1632-O1632)","v":""},{"$f":"IF(M1632=\"\",\"\",M1632-P1632)","v":""},{"$f":"IF(N1632=\"\",\"\",N1632-Q1632)","v":""}]
[null,null,null,null,null,null,null,null,null,null,null,null,null,null,null,null,null,{"$f":"IF(L1633=\"\",\"\",L1633-O1633)","v":""},{"$f":"IF(M1633=\"\",\"\",M1633-P1633)","v":""},{"$f":"IF(N1633=\"\",\"\",N1633-Q1633)","v":""}]
[null,null,null,null,null,null,null,null,null,null,null,null,null,null,null,null,null,{"$f":"IF(L1634=\"\",\"\",L1634-O1634)","v":""},{"$f":"IF(M1634=\"\",\"\",M1634-P1634)","v":""},{"$f":"IF(N1634=\"\",\"\",N1634-Q1634)","v":""}]
[null,null,null,null,null,null,null,null,null,null,null,null,null,null,null,null,null,{"$f":"IF(L1635=\"\",\"\",L1635-O1635)","v":""},{"$f":"IF(M1635=\"\",\"\",M1635-P1635)","v":""},{"$f":"IF(N1635=\"\",\"\",N1635-Q1635)","v":""}]
[null,null,null,null,null,null,null,null,null,null,null,null,null,null,null,null,null,{"$f":"IF(L1636=\"\",\"\",L1636-O1636)","v":""},{"$f":"IF(M1636=\"\",\"\",M1636-P1636)","v":""},{"$f":"IF(N1636=\"\",\"\",N1636-Q1636)","v":""}]
[null,null,null,null,null,null,null,null,null,null,null,null,null,null,null,null,null,{"$f":"IF(L1637=\"\",\"\",L1637-O1637)","v":""},{"$f":"IF(M1637=\"\",\"\",M1637-P1637)","v":""},{"$f":"IF(N1637=\"\",\"\",N1637-Q1637)","v":""}]
[null,null,null,null,null,null,null,null,null,null,null,null,null,null,null,null,null,{"$f":"IF(L1638=\"\",\"\",L1638-O1638)","v":""},{"$f":"IF(M1638=\"\",\"\",M1638-P1638)","v":""},{"$f":"IF(N1638=\"\",\"\",N1638-Q1638)","v":""}]
[null,null,null,null,null,null,null,null,null,null,null,null,null,null,null,null,null,{"$f":"IF(L1639=\"\",\"\",L1639-O1639)","v":""},{"$f":"IF(M1639=\"\",\"\",M1639-P1639)","v":""},{"$f":"IF(N1639=\"\",\"\",N1639-Q1639)","v":""}]
[null,null,null,null,null,null,null,null,null,null,null,null,null,null,null,null,null,{"$f":"IF(L1640=\"\",\"\",L1640-O1640)","v":""},{"$f":"IF(M1640=\"\",\"\",M1640-P1640)","v":""},{"$f":"IF(N1640=\"\",\"\",N1640-Q1640)","v":""}]
[null,null,null,null,null,null,null,null,null,null,null,null,null,null,null,null,null,{"$f":"IF(L1641=\"\",\"\",L1641-O1641)","v":""},{"$f":"IF(M1641=\"\",\"\",M1641-P1641)","v":""},{"$f":"IF(N1641=\"\",\"\",N1641-Q1641)","v":""}]
[null,null,null,null,null,null,null,null,null,null,null,null,null,null,null,null,null,{"$f":"IF(L1642=\"\",\"\",L1642-O1642)","v":""},{"$f":"IF(M1642=\"\",\"\",M1642-P1642)","v":""},{"$f":"IF(N1642=\"\",\"\",N1642-Q1642)","v":""}]
[null,null,null,null,null,null,null,null,null,null,null,null,null,null,null,null,null,{"$f":"IF(L1643=\"\",\"\",L1643-O1643)","v":""},{"$f":"IF(M1643=\"\",\"\",M1643-P1643)","v":""},{"$f":"IF(N1643=\"\",\"\",N1643-Q1643)","v":""}]
[null,null,null,null,null,null,null,null,null,null,null,null,null,null,null,null,null,{"$f":"IF(L1644=\"\",\"\",L1644-O1644)","v":""},{"$f":"IF(M1644=\"\",\"\",M1644-P1644)","v":""},{"$f":"IF(N1644=\"\",\"\",N1644-Q1644)","v":""}]
[null,null,null,null,null,null,null,null,null,null,null,null,null,null,null,null,null,{"$f":"IF(L1645=\"\",\"\",L1645-O1645)","v":""},{"$f":"IF(M1645=\"\",\"\",M1645-P1645)","v":""},{"$f":"IF(N1645=\"\",\"\",N1645-Q1645)","v":""}]
[null,null,null,null,null,null,null,null,null,null,null,null,null,null,null,null,null,{"$f":"IF(L1646=\"\",\"\",L1646-O1646)","v":""},{"$f":"IF(M1646=\"\",\"\",M1646-P1646)","v":""},{"$f":"IF(N1646=\"\",\"\",N1646-Q1646)","v":""}]
[null,null,null,null,null,null,null,null,null,null,null,null,null,null,null,null,null,{"$f":"IF(L1647=\"\",\"\",L1647-O1647)","v":""},{"$f":"IF(M1647=\"\",\"\",M1647-P1647)","v":""},{"$f":"IF(N1647=\"\",\"\",N1647-Q1647)","v":""}]
[null,null,null,null,null,null,null,null,null,null,null,null,null,null,null,null,null,{"$f":"IF(L1648=\"\",\"\",L1648-O1648)","v":""},{"$f":"IF(M1648=\"\",\"\",M1648-P1648)","v":""},{"$f":"IF(N1648=\"\",\"\",N1648-Q1648)","v":""}]
[null,null,null,null,null,null,null,null,null,null,null,null,null,null,null,null,null,{"$f":"IF(L1649=\"\",\"\",L1649-O1649)","v":""},{"$f":"IF(M1649=\"\",\"\",M1649-P1649)","v":""},{"$f":"IF(N1649=\"\",\"\",N1649-Q1649)","v":""}]
[null,null,null,null,null,null,null,null,null,null,null,null,null,null,null,null,null,{"$f":"IF(L1650=\"\",\"\",L1650-O1650)","v":""},{"$f":"IF(M1650=\"\",\"\",M1650-P1650)","v":""},{"$f":"IF(N1650=\"\",\"\",N1650-Q1650)","v":""}]
[null,null,null,null,null,null,null,null,null,null,null,null,null,null,null,null,null,{"$f":"IF(L1651=\"\",\"\",L1651-O1651)","v":""},{"$f":"IF(M1651=\"\",\"\",M1651-P1651)","v":""},{"$f":"IF(N1651=\"\",\"\",N1651-Q1651)","v":""}]
[null,null,null,null,null,null,null,null,null,null,null,null,null,null,null,null,null,{"$f":"IF(L1652=\"\",\"\",L1652-O1652)","v":""},{"$f":"IF(M1652=\"\",\"\",M1652-P1652)","v":""},{"$f":"IF(N1652=\"\",\"\",N1652-Q1652)","v":""}]
[null,null,null,null,null,null,null,null,null,null,null,null,null,null,null,null,null,{"$f":"IF(L1653=\"\",\"\",L1653-O1653)","v":""},{"$f":"IF(M1653=\"\",\"\",M1653-P1653)","v":""},{"$f":"IF(N1653=\"\",\"\",N1653-Q1653)","v":""}]
[null,null,null,null,null,null,null,null,null,null,null,null,null,null,null,null,null,{"$f":"IF(L1654=\"\",\"\",L1654-O1654)","v":""},{"$f":"IF(M1654=\"\",\"\",M1654-P1654)","v":""},{"$f":"IF(N1654=\"\",\"\",N1654-Q1654)","v":""}]
[null,null,null,null,null,null,null,null,null,null,null,null,null,null,null,null,null,{"$f":"IF(L1655=\"\",\"\",L1655-O1655)","v":""},{"$f":"IF(M1655=\"\",\"\",M1655-P1655)","v":""},{"$f":"IF(N1655=\"\",\"\",N1655-Q1655)","v":""}]
[null,null,null,null,null,null,null,null,null,null,null,null,null,null,null,null,null,{"$f":"IF(L1656=\"\",\"\",L1656-O1656)","v":""},{"$f":"IF(M1656=\"\",\"\",M1656-P1656)","v":""},{"$f":"IF(N1656=\"\",\"\",N1656-Q1656)","v":""}]
[null,null,null,null,null,null,null,null,null,null,null,null,null,null,null,null,null,{"$f":"IF(L1657=\"\",\"\",L1657-O1657)","v":""},{"$f":"IF(M1657=\"\",\"\",M1657-P1657)","v":""},{"$f":"IF(N1657=\"\",\"\",N1657-Q1657)","v":""}]
[null,null,null,null,null,null,null,null,null,null,null,null,null,null,null,null,null,{"$f":"IF(L1658=\"\",\"\",L1658-O1658)","v":""},{"$f":"IF(M1658=\"\",\"\",M1658-P1658)","v":""},{"$f":"IF(N1658=\"\",\"\",N1658-Q1658)","v":""}]
[null,null,null,null,null,null,null,null,null,null,null,null,null,null,null,null,null,{"$f":"IF(L1659=\"\",\"\",L1659-O1659)","v":""},{"$f":"IF(M1659=\"\",\"\",M1659-P1659)","v":""},{"$f":"IF(N1659=\"\",\"\",N1659-Q1659)","v":""}]
[null,null,null,null,null,null,null,null,null,null,null,null,null,null,null,null,null,{"$f":"IF(L1660=\"\",\"\",L1660-O1660)","v":""},{"$f":"IF(M1660=\"\",\"\",M1660-P1660)","v":""},{"$f":"IF(N1660=\"\",\"\",N1660-Q1660)","v":""}]
[null,null,null,null,null,null,null,null,null,null,null,null,null,null,null,null,null,{"$f":"IF(L1661=\"\",\"\",L1661-O1661)","v":""},{"$f":"IF(M1661=\"\",\"\",M1661-P1661)","v":""},{"$f":"IF(N1661=\"\",\"\",N1661-Q1661)","v":""}]
[null,null,null,null,null,null,null,null,null,null,null,null,null,null,null,null,null,{"$f":"IF(L1662=\"\",\"\",L1662-O1662)","v":""},{"$f":"IF(M1662=\"\",\"\",M1662-P1662)","v":""},{"$f":"IF(N1662=\"\",\"\",N1662-Q1662)","v":""}]
[null,null,null,null,null,null,null,null,null,null,null,null,null,null,null,null,null,{"$f":"IF(L1663=\"\",\"\",L1663-O1663)","v":""},{"$f":"IF(M1663=\"\",\"\",M1663-P1663)","v":""},{"$f":"IF(N1663=\"\",\"\",N1663-Q1663)","v":""}]
[null,null,null,null,null,null,null,null,null,null,null,null,null,null,null,null,null,{"$f":"IF(L1664=\"\",\"\",L1664-O1664)","v":""},{"$f":"IF(M1664=\"\",\"\",M1664-P1664)","v":""},{"$f":"IF(N1664=\"\",\"\",N1664-Q1664)","v":""}]
[null,null,null,null,null,null,null,null,null,null,null,null,null,null,null,null,null,{"$f":"IF(L1665=\"\",\"\",L1665-O1665)","v":""},{"$f":"IF(M1665=\"\",\"\",M1665-P1665)","v":""},{"$f":"IF(N1665=\"\",\"\",N1665-Q1665)","v":""}]
[null,null,null,null,null,null,null,null,null,null,null,null,null,null,null,null,null,{"$f":"IF(L1666=\"\",\"\",L1666-O1666)","v":""},{"$f":"IF(M1666=\"\",\"\",M1666-P1666)","v":""},{"$f":"IF(N1666=\"\",\"\",N1666-Q1666)","v":""}]
[null,null,null,null,null,null,null,null,null,null,null,null,null,null,null,null,null,{"$f":"IF(L1667=\"\",\"\",L1667-O1667)","v":""},{"$f":"IF(M1667=\"\",\"\",M1667-P1667)","v":""},{"$f":"IF(N1667=\"\",\"\",N1667-Q1667)","v":""}]
[null,null,null,null,null,null,null,null,null,null,null,null,null,null,null,null,null,{"$f":"IF(L1668=\"\",\"\",L1668-O1668)","v":""},{"$f":"IF(M1668=\"\",\"\",M1668-P1668)","v":""},{"$f":"IF(N1668=\"\",\"\",N1668-Q1668)","v":""}]
[null,null,null,null,null,null,null,null,null,null,null,null,null,null,null,null,null,{"$f":"IF(L1669=\"\",\"\",L1669-O1669)","v":""},{"$f":"IF(M1669=\"\",\"\",M1669-P1669)","v":""},{"$f":"IF(N1669=\"\",\"\",N1669-Q1669)","v":""}]
[null,null,null,null,null,null,null,null,null,null,null,null,null,null,null,null,null,{"$f":"IF(L1670=\"\",\"\",L1670-O1670)","v":""},{"$f":"IF(M1670=\"\",\"\",M1670-P1670)","v":""},{"$f":"IF(N1670=\"\",\"\",N1670-Q1670)","v":""}]
[null,null,null,null,null,null,null,null,null,null,null,null,null,null,null,null,null,{"$f":"IF(L1671=\"\",\"\",L1671-O1671)","v":""},{"$f":"IF(M1671=\"\",\"\",M1671-P1671)","v":""},{"$f":"IF(N1671=\"\",\"\",N1671-Q1671)","v":""}]
[null,null,null,null,null,null,null,null,null,null,null,null,null,null,null,null,null,{"$f":"IF(L1672=\"\",\"\",L1672-O1672)","v":""},{"$f":"IF(M1672=\"\",\"\",M1672-P1672)","v":""},{"$f":"IF(N1672=\"\",\"\",N1672-Q1672)","v":""}]
[null,null,null,null,null,null,null,null,null,null,null,null,null,null,null,null,null,{"$f":"IF(L1673=\"\",\"\",L1673-O1673)","v":""},{"$f":"IF(M1673=\"\",\"\",M1673-P1673)","v":""},{"$f":"IF(N1673=\"\",\"\",N1673-Q1673)","v":""}]
[null,null,null,null,null,null,null,null,null,null,null,null,null,null,null,null,null,{"$f":"IF(L1674=\"\",\"\",L1674-O1674)","v":""},{"$f":"IF(M1674=\"\",\"\",M1674-P1674)","v":""},{"$f":"IF(N1674=\"\",\"\",N1674-Q1674)","v":""}]
[null,null,null,null,null,null,null,null,null,null,null,null,null,null,null,null,null,{"$f":"IF(L1675=\"\",\"\",L1675-O1675)","v":""},{"$f":"IF(M1675=\"\",\"\",M1675-P1675)","v":""},{"$f":"IF(N1675=\"\",\"\",N1675-Q1675)","v":""}]
[null,null,null,null,null,null,null,null,null,null,null,null,null,null,null,null,null,{"$f":"IF(L1676=\"\",\"\",L1676-O1676)","v":""},{"$f":"IF(M1676=\"\",\"\",M1676-P1676)","v":""},{"$f":"IF(N1676=\"\",\"\",N1676-Q1676)","v":""}]
[null,null,null,null,null,null,null,null,null,null,null,null,null,null,null,null,null,{"$f":"IF(L1677=\"\",\"\",L1677-O1677)","v":""},{"$f":"IF(M1677=\"\",\"\",M1677-P1677)","v":""},{"$f":"IF(N1677=\"\",\"\",N1677-Q1677)","v":""}]
[null,null,null,null,null,null,null,null,null,null,null,null,null,null,null,null,null,{"$f":"IF(L1678=\"\",\"\",L1678-O1678)","v":""},{"$f":"IF(M1678=\"\",\"\",M1678-P1678)","v":""},{"$f":"IF(N1678=\"\",\"\",N1678-Q1678)","v":""}]
[null,null,null,null,null,null,null,null,null,null,null,null,null,null,null,null,null,{"$f":"IF(L1679=\"\",\"\",L1679-O1679)","v":""},{"$f":"IF(M1679=\"\",\"\",M1679-P1679)","v":""},{"$f":"IF(N1679=\"\",\"\",N1679-Q1679)","v":""}]
[null,null,null,null,null,null,null,null,null,null,null,null,null,null,null,null,null,{"$f":"IF(L1680=\"\",\"\",L1680-O1680)","v":""},{"$f":"IF(M1680=\"\",\"\",M1680-P1680)","v":""},{"$f":"IF(N1680=\"\",\"\",N1680-Q1680)","v":""}]
[null,null,null,null,null,null,null,null,null,null,null,null,null,null,null,null,null,{"$f":"IF(L1681=\"\",\"\",L1681-O1681)","v":""},{"$f":"IF(M1681=\"\",\"\",M1681-P1681)","v":""},{"$f":"IF(N1681=\"\",\"\",N1681-Q1681)","v":""}]
[null,null,null,null,null,null,null,null,null,null,null,null,null,null,null,null,null,{"$f":"IF(L1682=\"\",\"\",L1682-O1682)","v":""},{"$f":"IF(M1682=\"\",\"\",M1682-P1682)","v":""},{"$f":"IF(N1682=\"\",\"\",N1682-Q1682)","v":""}]
[null,null,null,null,null,null,null,null,null,null,null,null,null,null,null,null,null,{"$f":"IF(L1683=\"\",\"\",L1683-O1683)","v":""},{"$f":"IF(M1683=\"\",\"\",M1683-P1683)","v":""},{"$f":"IF(N1683=\"\",\"\",N1683-Q1683)","v":""}]
[null,null,null,null,null,null,null,null,null,null,null,null,null,null,null,null,null,{"$f":"IF(L1684=\"\",\"\",L1684-O1684)","v":""},{"$f":"IF(M1684=\"\",\"\",M1684-P1684)","v":""},{"$f":"IF(N1684=\"\",\"\",N1684-Q1684)","v":""}]
[null,null,null,null,null,null,null,null,null,null,null,null,null,null,null,null,null,{"$f":"IF(L1685=\"\",\"\",L1685-O1685)","v":""},{"$f":"IF(M1685=\"\",\"\",M1685-P1685)","v":""},{"$f":"IF(N1685=\"\",\"\",N1685-Q1685)","v":""}]
[null,null,null,null,null,null,null,null,null,null,null,null,null,null,null,null,null,{"$f":"IF(L1686=\"\",\"\",L1686-O1686)","v":""},{"$f":"IF(M1686=\"\",\"\",M1686-P1686)","v":""},{"$f":"IF(N1686=\"\",\"\",N1686-Q1686)","v":""}]
[null,null,null,null,null,null,null,null,null,null,null,null,null,null,null,null,null,{"$f":"IF(L1687=\"\",\"\",L1687-O1687)","v":""},{"$f":"IF(M1687=\"\",\"\",M1687-P1687)","v":""},{"$f":"IF(N1687=\"\",\"\",N1687-Q1687)","v":""}]
[null,null,null,null,null,null,null,null,null,null,null,null,null,null,null,null,null,{"$f":"IF(L1688=\"\",\"\",L1688-O1688)","v":""},{"$f":"IF(M1688=\"\",\"\",M1688-P1688)","v":""},{"$f":"IF(N1688=\"\",\"\",N1688-Q1688)","v":""}]
[null,null,null,null,null,null,null,null,null,null,null,null,null,null,null,null,null,{"$f":"IF(L1689=\"\",\"\",L1689-O1689)","v":""},{"$f":"IF(M1689=\"\",\"\",M1689-P1689)","v":""},{"$f":"IF(N1689=\"\",\"\",N1689-Q1689)","v":""}]
[null,null,null,null,null,null,null,null,null,null,null,null,null,null,null,null,null,{"$f":"IF(L1690=\"\",\"\",L1690-O1690)","v":""},{"$f":"IF(M1690=\"\",\"\",M1690-P1690)","v":""},{"$f":"IF(N1690=\"\",\"\",N1690-Q1690)","v":""}]
[null,null,null,null,null,null,null,null,null,null,null,null,null,null,null,null,null,{"$f":"IF(L1691=\"\",\"\",L1691-O1691)","v":""},{"$f":"IF(M1691=\"\",\"\",M1691-P1691)","v":""},{"$f":"IF(N1691=\"\",\"\",N1691-Q1691)","v":""}]
[null,null,null,null,null,null,null,null,null,null,null,null,null,null,null,null,null,{"$f":"IF(L1692=\"\",\"\",L1692-O1692)","v":""},{"$f":"IF(M1692=\"\",\"\",M1692-P1692)","v":""},{"$f":"IF(N1692=\"\",\"\",N1692-Q1692)","v":""}]
[null,null,null,null,null,null,null,null,null,null,null,null,null,null,null,null,null,{"$f":"IF(L1693=\"\",\"\",L1693-O1693)","v":""},{"$f":"IF(M1693=\"\",\"\",M1693-P1693)","v":""},{"$f":"IF(N1693=\"\",\"\",N1693-Q1693)","v":""}]
[null,null,null,null,null,null,null,null,null,null,null,null,null,null,null,null,null,{"$f":"IF(L1694=\"\",\"\",L1694-O1694)","v":""},{"$f":"IF(M1694=\"\",\"\",M1694-P1694)","v":""},{"$f":"IF(N1694=\"\",\"\",N1694-Q1694)","v":""}]
[null,null,null,null,null,null,null,null,null,null,null,null,null,null,null,null,null,{"$f":"IF(L1695=\"\",\"\",L1695-O1695)","v":""},{"$f":"IF(M1695=\"\",\"\",M1695-P1695)","v":""},{"$f":"IF(N1695=\"\",\"\",N1695-Q1695)","v":""}]
[null,null,null,null,null,null,null,null,null,null,null,null,null,null,null,null,null,{"$f":"IF(L1696=\"\",\"\",L1696-O1696)","v":""},{"$f":"IF(M1696=\"\",\"\",M1696-P1696)","v":""},{"$f":"IF(N1696=\"\",\"\",N1696-Q1696)","v":""}]
[null,null,null,null,null,null,null,null,null,null,null,null,null,null,null,null,null,{"$f":"IF(L1697=\"\",\"\",L1697-O1697)","v":""},{"$f":"IF(M1697=\"\",\"\",M1697-P1697)","v":""},{"$f":"IF(N1697=\"\",\"\",N1697-Q1697)","v":""}]
[null,null,null,null,null,null,null,null,null,null,null,null,null,null,null,null,null,{"$f":"IF(L1698=\"\",\"\",L1698-O1698)","v":""},{"$f":"IF(M1698=\"\",\"\",M1698-P1698)","v":""},{"$f":"IF(N1698=\"\",\"\",N1698-Q1698)","v":""}]
[null,null,null,null,null,null,null,null,null,null,null,null,null,null,null,null,null,{"$f":"IF(L1699=\"\",\"\",L1699-O1699)","v":""},{"$f":"IF(M1699=\"\",\"\",M1699-P1699)","v":""},{"$f":"IF(N1699=\"\",\"\",N1699-Q1699)","v":""}]
[null,null,null,null,null,null,null,null,null,null,null,null,null,null,null,null,null,{"$f":"IF(L1700=\"\",\"\",L1700-O1700)","v":""},{"$f":"IF(M1700=\"\",\"\",M1700-P1700)","v":""},{"$f":"IF(N1700=\"\",\"\",N1700-Q1700)","v":""}]
[null,null,null,null,null,null,null,null,null,null,null,null,null,null,null,null,null,{"$f":"IF(L1701=\"\",\"\",L1701-O1701)","v":""},{"$f":"IF(M1701=\"\",\"\",M1701-P1701)","v":""},{"$f":"IF(N1701=\"\",\"\",N1701-Q1701)","v":""}]
[null,null,null,null,null,null,null,null,null,null,null,null,null,null,null,null,null,{"$f":"IF(L1702=\"\",\"\",L1702-O1702)","v":""},{"$f":"IF(M1702=\"\",\"\",M1702-P1702)","v":""},{"$f":"IF(N1702=\"\",\"\",N1702-Q1702)","v":""}]
[null,null,null,null,null,null,null,null,null,null,null,null,null,null,null,null,null,{"$f":"IF(L1703=\"\",\"\",L1703-O1703)","v":""},{"$f":"IF(M1703=\"\",\"\",M1703-P1703)","v":""},{"$f":"IF(N1703=\"\",\"\",N1703-Q1703)","v":""}]
[null,null,null,null,null,null,null,null,null,null,null,null,null,null,null,null,null,{"$f":"IF(L1704=\"\",\"\",L1704-O1704)","v":""},{"$f":"IF(M1704=\"\",\"\",M1704-P1704)","v":""},{"$f":"IF(N1704=\"\",\"\",N1704-Q1704)","v":""}]
[null,null,null,null,null,null,null,null,null,null,null,null,null,null,null,null,null,{"$f":"IF(L1705=\"\",\"\",L1705-O1705)","v":""},{"$f":"IF(M1705=\"\",\"\",M1705-P1705)","v":""},{"$f":"IF(N1705=\"\",\"\",N1705-Q1705)","v":""}]
[null,null,null,null,null,null,null,null,null,null,null,null,null,null,null,null,null,{"$f":"IF(L1706=\"\",\"\",L1706-O1706)","v":""},{"$f":"IF(M1706=\"\",\"\",M1706-P1706)","v":""},{"$f":"IF(N1706=\"\",\"\",N1706-Q1706)","v":""}]
[null,null,null,null,null,null,null,null,null,null,null,null,null,null,null,null,null,{"$f":"IF(L1707=\"\",\"\",L1707-O1707)","v":""},{"$f":"IF(M1707=\"\",\"\",M1707-P1707)","v":""},{"$f":"IF(N1707=\"\",\"\",N1707-Q1707)","v":""}]
[null,null,null,null,null,null,null,null,null,null,null,null,null,null,null,null,null,{"$f":"IF(L1708=\"\",\"\",L1708-O1708)","v":""},{"$f":"IF(M1708=\"\",\"\",M1708-P1708)","v":""},{"$f":"IF(N1708=\"\",\"\",N1708-Q1708)","v":""}]
[null,null,null,null,null,null,null,null,null,null,null,null,null,null,null,null,null,{"$f":"IF(L1709=\"\",\"\",L1709-O1709)","v":""},{"$f":"IF(M1709=\"\",\"\",M1709-P1709)","v":""},{"$f":"IF(N1709=\"\",\"\",N1709-Q1709)","v":""}]
[null,null,null,null,null,null,null,null,null,null,null,null,null,null,null,null,null,{"$f":"IF(L1710=\"\",\"\",L1710-O1710)","v":""},{"$f":"IF(M1710=\"\",\"\",M1710-P1710)","v":""},{"$f":"IF(N1710=\"\",\"\",N1710-Q1710)","v":""}]
[null,null,null,null,null,null,null,null,null,null,null,null,null,null,null,null,null,{"$f":"IF(L1711=\"\",\"\",L1711-O1711)","v":""},{"$f":"IF(M1711=\"\",\"\",M1711-P1711)","v":""},{"$f":"IF(N1711=\"\",\"\",N1711-Q1711)","v":""}]
[null,null,null,null,null,null,null,null,null,null,null,null,null,null,null,null,null,{"$f":"IF(L1712=\"\",\"\",L1712-O1712)","v":""},{"$f":"IF(M1712=\"\",\"\",M1712-P1712)","v":""},{"$f":"IF(N1712=\"\",\"\",N1712-Q1712)","v":""}]
[null,null,null,null,null,null,null,null,null,null,null,null,null,null,null,null,null,{"$f":"IF(L1713=\"\",\"\",L1713-O1713)","v":""},{"$f":"IF(M1713=\"\",\"\",M1713-P1713)","v":""},{"$f":"IF(N1713=\"\",\"\",N1713-Q1713)","v":""}]
[null,null,null,null,null,null,null,null,null,null,null,null,null,null,null,null,null,{"$f":"IF(L1714=\"\",\"\",L1714-O1714)","v":""},{"$f":"IF(M1714=\"\",\"\",M1714-P1714)","v":""},{"$f":"IF(N1714=\"\",\"\",N1714-Q1714)","v":""}]
[null,null,null,null,null,null,null,null,null,null,null,null,null,null,null,null,null,{"$f":"IF(L1715=\"\",\"\",L1715-O1715)","v":""},{"$f":"IF(M1715=\"\",\"\",M1715-P1715)","v":""},{"$f":"IF(N1715=\"\",\"\",N1715-Q1715)","v":""}]
[null,null,null,null,null,null,null,null,null,null,null,null,null,null,null,null,null,{"$f":"IF(L1716=\"\",\"\",L1716-O1716)","v":""},{"$f":"IF(M1716=\"\",\"\",M1716-P1716)","v":""},{"$f":"IF(N1716=\"\",\"\",N1716-Q1716)","v":""}]
[null,null,null,null,null,null,null,null,null,null,null,null,null,null,null,null,null,{"$f":"IF(L1717=\"\",\"\",L1717-O1717)","v":""},{"$f":"IF(M1717=\"\",\"\",M1717-P1717)","v":""},{"$f":"IF(N1717=\"\",\"\",N1717-Q1717)","v":""}]
[null,null,null,null,null,null,null,null,null,null,null,null,null,null,null,null,null,{"$f":"IF(L1718=\"\",\"\",L1718-O1718)","v":""},{"$f":"IF(M1718=\"\",\"\",M1718-P1718)","v":""},{"$f":"IF(N1718=\"\",\"\",N1718-Q1718)","v":""}]
[null,null,null,null,null,null,null,null,null,null,null,null,null,null,null,null,null,{"$f":"IF(L1719=\"\",\"\",L1719-O1719)","v":""},{"$f":"IF(M1719=\"\",\"\",M1719-P1719)","v":""},{"$f":"IF(N1719=\"\",\"\",N1719-Q1719)","v":""}]
[null,null,null,null,null,null,null,null,null,null,null,null,null,null,null,null,null,{"$f":"IF(L1720=\"\",\"\",L1720-O1720)","v":""},{"$f":"IF(M1720=\"\",\"\",M1720-P1720)","v":""},{"$f":"IF(N1720=\"\",\"\",N1720-Q1720)","v":""}]
[null,null,null,null,null,null,null,null,null,null,null,null,null,null,null,null,null,{"$f":"IF(L1721=\"\",\"\",L1721-O1721)","v":""},{"$f":"IF(M1721=\"\",\"\",M1721-P1721)","v":""},{"$f":"IF(N1721=\"\",\"\",N1721-Q1721)","v":""}]
[null,null,null,null,null,null,null,null,null,null,null,null,null,null,null,null,null,{"$f":"IF(L1722=\"\",\"\",L1722-O1722)","v":""},{"$f":"IF(M1722=\"\",\"\",M1722-P1722)","v":""},{"$f":"IF(N1722=\"\",\"\",N1722-Q1722)","v":""}]
[null,null,null,null,null,null,null,null,null,null,null,null,null,null,null,null,null,{"$f":"IF(L1723=\"\",\"\",L1723-O1723)","v":""},{"$f":"IF(M1723=\"\",\"\",M1723-P1723)","v":""},{"$f":"IF(N1723=\"\",\"\",N1723-Q1723)","v":""}]
[null,null,null,null,null,null,null,null,null,null,null,null,null,null,null,null,null,{"$f":"IF(L1724=\"\",\"\",L1724-O1724)","v":""},{"$f":"IF(M1724=\"\",\"\",M1724-P1724)","v":""},{"$f":"IF(N1724=\"\",\"\",N1724-Q1724)","v":""}]
[null,null,null,null,null,null,null,null,null,null,null,null,null,null,null,null,null,{"$f":"IF(L1725=\"\",\"\",L1725-O1725)","v":""},{"$f":"IF(M1725=\"\",\"\",M1725-P1725)","v":""},{"$f":"IF(N1725=\"\",\"\",N1725-Q1725)","v":""}]
[null,null,null,null,null,null,null,null,null,null,null,null,null,null,null,null,null,{"$f":"IF(L1726=\"\",\"\",L1726-O1726)","v":""},{"$f":"IF(M1726=\"\",\"\",M1726-P1726)","v":""},{"$f":"IF(N1726=\"\",\"\",N1726-Q1726)","v":""}]
[null,null,null,null,null,null,null,null,null,null,null,null,null,null,null,null,null,{"$f":"IF(L1727=\"\",\"\",L1727-O1727)","v":""},{"$f":"IF(M1727=\"\",\"\",M1727-P1727)","v":""},{"$f":"IF(N1727=\"\",\"\",N1727-Q1727)","v":""}]
[null,null,null,null,null,null,null,null,null,null,null,null,null,null,null,null,null,{"$f":"IF(L1728=\"\",\"\",L1728-O1728)","v":""},{"$f":"IF(M1728=\"\",\"\",M1728-P1728)","v":""},{"$f":"IF(N1728=\"\",\"\",N1728-Q1728)","v":""}]
[null,null,null,null,null,null,null,null,null,null,null,null,null,null,null,null,null,{"$f":"IF(L1729=\"\",\"\",L1729-O1729)","v":""},{"$f":"IF(M1729=\"\",\"\",M1729-P1729)","v":""},{"$f":"IF(N1729=\"\",\"\",N1729-Q1729)","v":""}]
[null,null,null,null,null,null,null,null,null,null,null,null,null,null,null,null,null,{"$f":"IF(L1730=\"\",\"\",L1730-O1730)","v":""},{"$f":"IF(M1730=\"\",\"\",M1730-P1730)","v":""},{"$f":"IF(N1730=\"\",\"\",N1730-Q1730)","v":""}]
[null,null,null,null,null,null,null,null,null,null,null,null,null,null,null,null,null,{"$f":"IF(L1731=\"\",\"\",L1731-O1731)","v":""},{"$f":"IF(M1731=\"\",\"\",M1731-P1731)","v":""},{"$f":"IF(N1731=\"\",\"\",N1731-Q1731)","v":""}]
[null,null,null,null,null,null,null,null,null,null,null,null,null,null,null,null,null,{"$f":"IF(L1732=\"\",\"\",L1732-O1732)","v":""},{"$f":"IF(M1732=\"\",\"\",M1732-P1732)","v":""},{"$f":"IF(N1732=\"\",\"\",N1732-Q1732)","v":""}]
[null,null,null,null,null,null,null,null,null,null,null,null,null,null,null,null,null,{"$f":"IF(L1733=\"\",\"\",L1733-O1733)","v":""},{"$f":"IF(M1733=\"\",\"\",M1733-P1733)","v":""},{"$f":"IF(N1733=\"\",\"\",N1733-Q1733)","v":""}]
[null,null,null,null,null,null,null,null,null,null,null,null,null,null,null,null,null,{"$f":"IF(L1734=\"\",\"\",L1734-O1734)","v":""},{"$f":"IF(M1734=\"\",\"\",M1734-P1734)","v":""},{"$f":"IF(N1734=\"\",\"\",N1734-Q1734)","v":""}]
[null,null,null,null,null,null,null,null,null,null,null,null,null,null,null,null,null,{"$f":"IF(L1735=\"\",\"\",L1735-O1735)","v":""},{"$f":"IF(M1735=\"\",\"\",M1735-P1735)","v":""},{"$f":"IF(N1735=\"\",\"\",N1735-Q1735)","v":""}]
[null,null,null,null,null,null,null,null,null,null,null,null,null,null,null,null,null,{"$f":"IF(L1736=\"\",\"\",L1736-O1736)","v":""},{"$f":"IF(M1736=\"\",\"\",M1736-P1736)","v":""},{"$f":"IF(N1736=\"\",\"\",N1736-Q1736)","v":""}]
[null,null,null,null,null,null,null,null,null,null,null,null,null,null,null,null,null,{"$f":"IF(L1737=\"\",\"\",L1737-O1737)","v":""},{"$f":"IF(M1737=\"\",\"\",M1737-P1737)","v":""},{"$f":"IF(N1737=\"\",\"\",N1737-Q1737)","v":""}]
[null,null,null,null,null,null,null,null,null,null,null,null,null,null,null,null,null,{"$f":"IF(L1738=\"\",\"\",L1738-O1738)","v":""},{"$f":"IF(M1738=\"\",\"\",M1738-P1738)","v":""},{"$f":"IF(N1738=\"\",\"\",N1738-Q1738)","v":""}]
[null,null,null,null,null,null,null,null,null,null,null,null,null,null,null,null,null,{"$f":"IF(L1739=\"\",\"\",L1739-O1739)","v":""},{"$f":"IF(M1739=\"\",\"\",M1739-P1739)","v":""},{"$f":"IF(N1739=\"\",\"\",N1739-Q1739)","v":""}]
[null,null,null,null,null,null,null,null,null,null,null,null,null,null,null,null,null,{"$f":"IF(L1740=\"\",\"\",L1740-O1740)","v":""},{"$f":"IF(M1740=\"\",\"\",M1740-P1740)","v":""},{"$f":"IF(N1740=\"\",\"\",N1740-Q1740)","v":""}]
[null,null,null,null,null,null,null,null,null,null,null,null,null,null,null,null,null,{"$f":"IF(L1741=\"\",\"\",L1741-O1741)","v":""},{"$f":"IF(M1741=\"\",\"\",M1741-P1741)","v":""},{"$f":"IF(N1741=\"\",\"\",N1741-Q1741)","v":""}]
[null,null,null,null,null,null,null,null,null,null,null,null,null,null,null,null,null,{"$f":"IF(L1742=\"\",\"\",L1742-O1742)","v":""},{"$f":"IF(M1742=\"\",\"\",M1742-P1742)","v":""},{"$f":"IF(N1742=\"\",\"\",N1742-Q1742)","v":""}]
[null,null,null,null,null,null,null,null,null,null,null,null,null,null,null,null,null,{"$f":"IF(L1743=\"\",\"\",L1743-O1743)","v":""},{"$f":"IF(M1743=\"\",\"\",M1743-P1743)","v":""},{"$f":"IF(N1743=\"\",\"\",N1743-Q1743)","v":""}]
[null,null,null,null,null,null,null,null,null,null,null,null,null,null,null,null,null,{"$f":"IF(L1744=\"\",\"\",L1744-O1744)","v":""},{"$f":"IF(M1744=\"\",\"\",M1744-P1744)","v":""},{"$f":"IF(N1744=\"\",\"\",N1744-Q1744)","v":""}]
[null,null,null,null,null,null,null,null,null,null,null,null,null,null,null,null,null,{"$f":"IF(L1745=\"\",\"\",L1745-O1745)","v":""},{"$f":"IF(M1745=\"\",\"\",M1745-P1745)","v":""},{"$f":"IF(N1745=\"\",\"\",N1745-Q1745)","v":""}]
[null,null,null,null,null,null,null,null,null,null,null,null,null,null,null,null,null,{"$f":"IF(L1746=\"\",\"\",L1746-O1746)","v":""},{"$f":"IF(M1746=\"\",\"\",M1746-P1746)","v":""},{"$f":"IF(N1746=\"\",\"\",N1746-Q1746)","v":""}]
[null,null,null,null,null,null,null,null,null,null,null,null,null,null,null,null,null,{"$f":"IF(L1747=\"\",\"\",L1747-O1747)","v":""},{"$f":"IF(M1747=\"\",\"\",M1747-P1747)","v":""},{"$f":"IF(N1747=\"\",\"\",N1747-Q1747)","v":""}]
[null,null,null,null,null,null,null,null,null,null,null,null,null,null,null,null,null,{"$f":"IF(L1748=\"\",\"\",L1748-O1748)","v":""},{"$f":"IF(M1748=\"\",\"\",M1748-P1748)","v":""},{"$f":"IF(N1748=\"\",\"\",N1748-Q1748)","v":""}]
[null,null,null,null,null,null,null,null,null,null,null,null,null,null,null,null,null,{"$f":"IF(L1749=\"\",\"\",L1749-O1749)","v":""},{"$f":"IF(M1749=\"\",\"\",M1749-P1749)","v":""},{"$f":"IF(N1749=\"\",\"\",N1749-Q1749)","v":""}]
[null,null,null,null,null,null,null,null,null,null,null,null,null,null,null,null,null,{"$f":"IF(L1750=\"\",\"\",L1750-O1750)","v":""},{"$f":"IF(M1750=\"\",\"\",M1750-P1750)","v":""},{"$f":"IF(N1750=\"\",\"\",N1750-Q1750)","v":""}]
[null,null,null,null,null,null,null,null,null,null,null,null,null,null,null,null,null,{"$f":"IF(L1751=\"\",\"\",L1751-O1751)","v":""},{"$f":"IF(M1751=\"\",\"\",M1751-P1751)","v":""},{"$f":"IF(N1751=\"\",\"\",N1751-Q1751)","v":""}]
[null,null,null,null,null,null,null,null,null,null,null,null,null,null,null,null,null,{"$f":"IF(L1752=\"\",\"\",L1752-O1752)","v":""},{"$f":"IF(M1752=\"\",\"\",M1752-P1752)","v":""},{"$f":"IF(N1752=\"\",\"\",N1752-Q1752)","v":""}]
[null,null,null,null,null,null,null,null,null,null,null,null,null,null,null,null,null,{"$f":"IF(L1753=\"\",\"\",L1753-O1753)","v":""},{"$f":"IF(M1753=\"\",\"\",M1753-P1753)","v":""},{"$f":"IF(N1753=\"\",\"\",N1753-Q1753)","v":""}]
[null,null,null,null,null,null,null,null,null,null,null,null,null,null,null,null,null,{"$f":"IF(L1754=\"\",\"\",L1754-O1754)","v":""},{"$f":"IF(M1754=\"\",\"\",M1754-P1754)","v":""},{"$f":"IF(N1754=\"\",\"\",N1754-Q1754)","v":""}]
[null,null,null,null,null,null,null,null,null,null,null,null,null,null,null,null,null,{"$f":"IF(L1755=\"\",\"\",L1755-O1755)","v":""},{"$f":"IF(M1755=\"\",\"\",M1755-P1755)","v":""},{"$f":"IF(N1755=\"\",\"\",N1755-Q1755)","v":""}]
[null,null,null,null,null,null,null,null,null,null,null,null,null,null,null,null,null,{"$f":"IF(L1756=\"\",\"\",L1756-O1756)","v":""},{"$f":"IF(M1756=\"\",\"\",M1756-P1756)","v":""},{"$f":"IF(N1756=\"\",\"\",N1756-Q1756)","v":""}]

{"sheet":"Mill(Итог)","index":1,"n_rows":33,"n_cols":18,"rows_kept":33,"cut":false,"hidden":false,"merged":[[20,17,21,20],[14,6,15,9],[16,5,17,5],[18,5,19,5],[20,5,21,5],[16,6,17,9],[18,6,19,9],[20,6,21,9],[20,10,21,15],[14,16,15,16],[16,16,17,16],[18,16,19,16],[20,16,21,16],[14,15,15,15],[18,15,19,15],[18,17,19,20],[9,10,9,15],[11,8,11,12],[22,10,23,15],[12,5,13,9],[14,5,15,5],[14,10,15,11],[14,13,15,14],[14,12,15,12],[11,13,11,17],[10,10,10,15],[18,11,19,11],[16,10,17,15],[12,16,13,20],[14,17,15,20],[16,17,17,20],[12,10,13,15],[26,9,27,10],[26,15,27,16],[18,10,19,10],[18,12,19,12],[18,14,19,14],[18,13,19,13],[24,10,25,15],[32,11,33,14],[28,11,29,12],[28,13,29,14],[30,11,31,14],[26,11,27,14]]}
[]
[]
[]
[]
[]
[]
[]
[]
[]
[null,null,null,null,null,null,null,null,null,null,{"$f":"INDEX(Список!A1:D1000,SUMPRODUCT(ROW(Список!A1:D1000)*(Список!A1:D1000=N12)),SUMPRODUCT(COLUMN(Список!A1:D1000)*(Список!A1:D1000=N12))-3)","v":"АЛБАНИЯ: Суперлига"}]
[null,null,null,null,null,null,null,null,null,null,{"$f":"INDEX(Список!A1:D1000,SUMPRODUCT(ROW(Список!A1:D1000)*(Список!A1:D1000=N12)),SUMPRODUCT(COLUMN(Список!A1:D1000)*(Список!A1:D1000=N12))-2)","v":"2019.12.23 14:00"}]
[null,null,null,null,null,null,null,null,{"$f":"Mill!P24","v":"Флямуртари"},null,null,null,null,{"$f":"Mill!P36","v":"Теута"}]
[null,null,null,null,null,"Синдикат",null,null,null,null,"Mill total",null,null,null,null,null,"Пояснение"]
[]
[null,null,null,null,null,"Тест №1",{"$f":"Mill!M2","v":"Команда 2"},null,null,null,"ТМ2,5",null,{"$f":"Mill!W42","v":65.601092896174862},"ТБ2,5",null,{"$f":"Mill!Y42","v":34.398907103825138},"Тест №1","Анализ 10 последних игр дома и 10 игр в гостях"]
[]
[null,null,null,null,null,"Тест №2",{"$f":"Mill!C39","v":"Лучше взять фору 1 (+1)"},null,null,null,"Mill Исход",null,null,null,null,null,"Тест №2","Аналих 3 очных встреч"]
[]
[null,null,null,null,null,"Тест №3",{"$f":"Mill!J49","v":"Победа 1"},null,null,null,"П1",{"$f":"Mill!W37","v":22.857142857142858},"Х",{"$f":"Mill!X39","v":65.714285714285722},"П2",{"$f":"Mill!Y37","v":11.428571428571429},"Тест №3","Анализ 5 последних игр 5 домашних(гостевых) и 3 очных"]
[]
[null,null,null,null,null,"Тест №4",{"$f":"Mill!I55","v":"Победа 1"},null,null,null,"MILL+(Исход)",null,null,null,null,null,"Тест №4","Анализ по тоталам"]
[]
[null,null,null,null,null,null,null,null,null,null,{"$f":"Mill!C75","v":"Наиболее веротяен исход : ФОРА 1(+1)"}]
[]
[null,null,null,null,null,null,null,null,null,null,"Фут17"]
[]
[null,null,null,null,null,null,null,null,null,{"$f":"Mill!G90","v":"ОЗ-Нет"},null,{"$f":"Mill!J91","v":"1 тайм Х   /  Матч П 2"},null,null,null,{"$f":"Mill!H90","v":"2,5 ТМ"}]
[]
[null,null,null,null,null,null,null,null,null,null,null,{"$f":"Mill!K89","v":"0 - 0"},null,{"$f":"Mill!K90","v":"0 - 1"}]
[]
[null,null,null,null,null,null,null,null,null,null,null,{"$f":"Mill!I89","v":"1й забьет"}]
[]
[null,null,null,null,null,null,null,null,null,null,null,{"$f":"Mill!I90","v":"Теута"}]

{"sheet":"Дома","index":2,"n_rows":150,"n_cols":59,"rows_kept":150,"cut":false,"hidden":true,"merged":[]}
["Чемпионат","Дата/Время","Дома","Гости","К1 в 1Т","К2 в 1Т","К1 во 2Т","К2 во 2Т","Где играли","К1 Голов","К2 Голов","Забито","Пропущено","Результат","Всего Игр","Всего выиграно","Всего ничьих","Всего проиграно","Всего забито","Всего пропущено","Всего очков","Дома игр","Дома выиграно","Дома ничьих","Дома проиграно","Дома забито","Дома пропущено","Дома очков","Гости игр","Гости выиграно","Гости ничьих","Гости проиграно","Гости забито","Гости пропущено","Гости очков","Тотал",null,"счёт",null,null,"В","Н","П","2.5 +","2.5 -","GG","NG","",null,null,"#","В","Н","П","2.5 +","2.5 -","GG","NG"]
["АЛБАНИЯ: Суперлига","2019.12.18 18:00","Тирана","Флямуртари",0,0,2,0,"Гости",{"$f":"IF(I2=\"\",\"\",E2+G2)","v":2},{"$f":"IF(I2=\"\",\"\",F2+H2)","v":0},{"$f":"IF(I2=\"\",\"\",IF(I2=\"Дома\",J2,K2))","v":0},{"$f":"IF(I2=\"\",\"\",IF(I2=\"Дома\",K2,J2))","v":2},{"$f":"IF(I2=\"\",\"\",IF(I2=\"Дома\",IF(J2>K2,\"В\",IF(J2=K2,\"Н\",\"П\")),IF(J2<K2,\"В\",IF(J2=K2,\"Н\",\"П\"))))","v":"П"},{"$f":"IF(I2=\"\",\"\",1)","v":1},{"$f":"IF(I2=\"\",\"\",IF(N2=\"В\",1,0))","v":0},{"$f":"IF(I2=\"\",\"\",IF(N2=\"Н\",1,0))","v":0},{"$f":"IF(I2=\"\",\"\",IF(N2=\"П\",1,0))","v":1},{"$f":"IF(I2=\"\",\"\",L2)","v":0},{"$f":"IF(I2=\"\",\"\",M2)","v":2},{"$f":"IF(I2=\"\",\"\",P2*3+Q2)","v":0},{"$f":"IF(I2=\"\",\"\",IF(I2=\"Дома\",1,0))","v":0},{"$f":"IF(I2=\"\",\"\",IF(I2=\"Дома\",IF(N2=\"В\",1,0),0))","v":0},{"$f":"IF(I2=\"\",\"\",IF(I2=\"Дома\",IF(N2=\"Н\",1,0),0))","v":0},{"$f":"IF(I2=\"\",\"\",IF(I2=\"Дома\",IF(N2=\"П\",1,0),0))","v":0},{"$f":"IF(I2=\"\",\"\",IF(I2=\"Дома\",L2,0))","v":0},{"$f":"IF(I2=\"\",\"\",IF(I2=\"Дома\",M2,0))","v":0},{"$f":"IF(I2=\"\",\"\",IF(I2=\"Дома\",W2*3+X2,0))","v":0},{"$f":"IF(I2=\"\",\"\",IF(I2=\"Гости\",1,0))","v":1},{"$f":"IF(I2=\"\",\"\",IF(I2=\"Гости\",IF(N2=\"В\",1,0),0))","v":0},{"$f":"IF(I2=\"\",\"\",IF(I2=\"Гости\",IF(N2=\"Н\",1,0),0))","v":0},{"$f":"IF(I2=\"\",\"\",IF(I2=\"Гости\",IF(N2=\"П\",1,0),0))","v":1},{"$f":"IF(I2=\"\",\"\",IF(I2=\"Гости\",L2,0))","v":0},{"$f":"IF(I2=\"\",\"\",IF(I2=\"Гости\",M2,0))","v":2},{"$f":"IF(I2=\"\",\"\",IF(I2=\"Гости\",AD2*3+AE2,0))","v":0},{"$f":"IF(C2=D2,C2,IF(C2=D3,C2,IF(C2=C3,C2,D2)))","v":"Флямуртари"},null,{"$f":"CONCATENATE(J2,\" - \",K2)","v":"2 - 0"},null,null,{"$f":"COUNTIF($N$2:$N$26,AO1)","v":3},{"$f":"COUNTIF($N$2:$N$26,AP1)","v":7},{"$f":"COUNTIF($N$2:$N$26,AQ1)","v":15},{"$f":"COUNTIF(AO4:AO18,AR1)","v":9},{"$f":"COUNTIF(AO4:AO18,AS1)","v":6},{"$f":"COUNTIF(AP4:AP18,AT1)","v":9},{"$f":"COUNTIF(AP4:AP18,AU1)","v":6},null,{"$f":"IF(J2+K2>2.5,\"2.5 +\",\"2.5 -\")","v":"2.5 -"},{"$f":"IF((IF(J2>=1,1,0)+IF(K2>=1,1,0))=2,\"GG\",\"NG\")","v":"NG"},{"$f":"AZ2+BA2+BB2","v":10},{"$f":"COUNTIF($N$2:$N$11,AZ1)","v":0},{"$f":"COUNTIF($N$2:$N$11,BA1)","v":5},{"$f":"COUNTIF($N$2:$N$11,BB1)","v":5},{"$f":"COUNTIF(AW2:AW11,BC1)","v":4},{"$f":"COUNTIF(AW2:AW11,BD1)","v":6},{"$f":"COUNTIF(AX2:AX11,BE1)","v":6},{"$f":"COUNTIF(AX2:AX11,BF1)","v":4},{"$f":"N2","v":"П"}]
["АЛБАНИЯ: Суперлига","2019.12.14 15:00","Флямуртари","Билис",1,1,1,1,"Дома",{"$f":"IF(I3=\"\",\"\",E3+G3)","v":2},{"$f":"IF(I3=\"\",\"\",F3+H3)","v":2},{"$f":"IF(I3=\"\",\"\",IF(I3=\"Дома\",J3,K3))","v":2},{"$f":"IF(I3=\"\",\"\",IF(I3=\"Дома\",K3,J3))","v":2},{"$f":"IF(I3=\"\",\"\",IF(I3=\"Дома\",IF(J3>K3,\"В\",IF(J3=K3,\"Н\",\"П\")),IF(J3<K3,\"В\",IF(J3=K3,\"Н\",\"П\"))))","v":"Н"},{"$f":"IF(I3=\"\",\"\",O2+1)","v":2},{"$f":"IF(I3=\"\",\"\",IF(N3=\"В\",P2+1,P2))","v":0},{"$f":"IF(I3=\"\",\"\",IF(N3=\"Н\",Q2+1,Q2))","v":1},{"$f":"IF(I3=\"\",\"\",IF(N3=\"П\",R2+1,R2))","v":1},{"$f":"IF(I3=\"\",\"\",S2+L3)","v":2},{"$f":"IF(I3=\"\",\"\",T2+M3)","v":4},{"$f":"IF(I3=\"\",\"\",P3*3+Q3)","v":1},{"$f":"IF(I3=\"\",\"\",IF(I3=\"Дома\",V2+1,V2+0))","v":1},{"$f":"IF(I3=\"\",\"\",IF(I3=\"Дома\",IF(N3=\"В\",W2+1,W2),W2))","v":0},{"$f":"IF(I3=\"\",\"\",IF(I3=\"Дома\",IF(N3=\"Н\",X2+1,X2),X2))","v":1},{"$f":"IF(I3=\"\",\"\",IF(I3=\"Дома\",IF(N3=\"П\",Y2+1,Y2),Y2))","v":0},{"$f":"IF(I3=\"\",\"\",IF(I3=\"Дома\",L3+Z2,Z2))","v":2},{"$f":"IF(I3=\"\",\"\",IF(I3=\"Дома\",M3+AA2,AA2))","v":2},{"$f":"IF(I3=\"\",\"\",IF(I3=\"Дома\",W3*3+X3,AB2))","v":1},{"$f":"IF(I3=\"\",\"\",IF(I3=\"Гости\",AC2+1,AC2+0))","v":1},{"$f":"IF(I3=\"\",\"\",IF(I3=\"Гости\",IF(N3=\"В\",AD2+1,AD2),AD2))","v":0},{"$f":"IF(I3=\"\",\"\",IF(I3=\"Гости\",IF(N3=\"Н\",AE2+1,AE2),AE2))","v":0},{"$f":"IF(I3=\"\",\"\",IF(I3=\"Гости\",IF(N3=\"П\",AF2+1,AF2),AF2))","v":1},{"$f":"IF(I3=\"\",\"\",IF(I3=\"Гости\",L3+AG2,AG2))","v":0},{"$f":"IF(I3=\"\",\"\",IF(I3=\"Гости\",M3+AH2,AH2))","v":2},{"$f":"IF(I3=\"\",\"\",IF(I3=\"Гости\",AD3*3+AE3,AI2))","v":0},{"$f":"IF(I3=\"Дома\",L3+M3,\"\")","v":4},null,{"$f":"CONCATENATE(J3,\" - \",K3)","v":"2 - 2"},null,null,null,null,null,null,null,null,null,null,"2.5 +","GG",null,{"$f":"AZ2/$AY$2","v":0},0.5,0.5,0.4,0.6,0.6,0.4,{"$f":"N3","v":"Н"}]
["АЛБАНИЯ: Суперлига","2019.12.08 15:30","Лячи","Флямуртари",0,0,3,0,"Гости",3,0,0,3,"П",3,{"$f":"IF(I4=\"\",\"\",IF(N4=\"В\",P3+1,P3))","v":0},{"$f":"IF(I4=\"\",\"\",IF(N4=\"Н\",Q3+1,Q3))","v":1},{"$f":"IF(I4=\"\",\"\",IF(N4=\"П\",R3+1,R3))","v":2},{"$f":"IF(I4=\"\",\"\",S3+L4)","v":2},{"$f":"IF(I4=\"\",\"\",T3+M4)","v":7},1,{"$f":"IF(I4=\"\",\"\",IF(I4=\"Дома\",V3+1,V3+0))","v":1},{"$f":"IF(I4=\"\",\"\",IF(I4=\"Дома\",IF(N4=\"В\",W3+1,W3),W3))","v":0},{"$f":"IF(I4=\"\",\"\",IF(I4=\"Дома\",IF(N4=\"Н\",X3+1,X3),X3))","v":1},{"$f":"IF(I4=\"\",\"\",IF(I4=\"Дома\",IF(N4=\"П\",Y3+1,Y3),Y3))","v":0},{"$f":"IF(I4=\"\",\"\",IF(I4=\"Дома\",L4+Z3,Z3))","v":2},{"$f":"IF(I4=\"\",\"\",IF(I4=\"Дома\",M4+AA3,AA3))","v":2},{"$f":"IF(I4=\"\",\"\",IF(I4=\"Дома\",W4*3+X4,AB3))","v":1},{"$f":"IF(I4=\"\",\"\",IF(I4=\"Гости\",AC3+1,AC3+0))","v":2},{"$f":"IF(I4=\"\",\"\",IF(I4=\"Гости\",IF(N4=\"В\",AD3+1,AD3),AD3))","v":0},{"$f":"IF(I4=\"\",\"\",IF(I4=\"Гости\",IF(N4=\"Н\",AE3+1,AE3),AE3))","v":0},{"$f":"IF(I4=\"\",\"\",IF(I4=\"Гости\",IF(N4=\"П\",AF3+1,AF3),AF3))","v":2},{"$f":"IF(I4=\"\",\"\",IF(I4=\"Гости\",L4+AG3,AG3))","v":0},{"$f":"IF(I4=\"\",\"\",IF(I4=\"Гости\",M4+AH3,AH3))","v":5},{"$f":"IF(I4=\"\",\"\",IF(I4=\"Гости\",AD4*3+AE4,AI3))","v":0},"",null,"3 - 0",null,null,{"$f":"IF(J2+K2>2.5,\"2.5 +\",\"2.5 -\")","v":"2.5 -"},{"$f":"IF((IF(J2>=1,1,0)+IF(K2>=1,1,0))=2,\"GG\",\"NG\")","v":"NG"},null,null,null,null,null,null,"2.5 +","NG",null,null,null,null,null,null,null,null,"П"]
["АЛБАНИЯ: Суперлига","2019.11.23 15:30","Флямуртари","Люфтетари Гирокастра",0,0,1,1,"Дома",1,1,1,1,"Н",4,0,2,2,3,8,2,2,0,2,0,3,3,2,2,0,0,2,0,5,0,2,null,"1 - 1",null,null,{"$f":"IF(J3+K3>2.5,\"2.5 +\",\"2.5 -\")","v":"2.5 +"},{"$f":"IF((IF(J3>=1,1,0)+IF(K3>=1,1,0))=2,\"GG\",\"NG\")","v":"GG"},null,null,null,null,null,null,"2.5 -","GG",null,null,null,null,null,null,null,null,"Н"]
["АЛБАНИЯ: Суперлига","2019.11.10 18:30","Флямуртари","Партизани",0,0,1,1,"Дома",1,1,1,1,"Н",5,0,3,2,4,9,3,3,0,3,0,4,4,3,2,0,0,2,0,5,0,2,null,"1 - 1",null,null,"2.5 +","NG",null,null,null,null,null,null,"2.5 -","GG",null,null,null,null,null,null,null,null,"Н"]
["АЛБАНИЯ: Суперлига","2019.11.03 16:00","Кукеси","Флямуртари",0,0,1,0,"Гости",1,0,0,1,"П",6,0,3,3,4,10,3,3,0,3,0,4,4,3,3,0,0,3,0,6,0,"",null,"1 - 0",null,null,"2.5 -","GG",null,null,null,null,null,null,"2.5 -","NG",null,null,null,null,null,null,null,null,"П"]
["АЛБАНИЯ: Суперлига","2019.10.28 20:00","Флямуртари","Скендербеу",1,1,0,0,"Дома",1,1,1,1,"Н",7,0,4,3,5,11,4,4,0,4,0,5,5,4,3,0,0,3,0,6,0,2,null,"1 - 1",null,null,"2.5 -","GG",null,null,null,null,null,null,"2.5 -","GG"]
["АЛБАНИЯ: Суперлига","2019.10.23 17:00","Флямуртари","Влазния",1,1,0,2,"Дома",1,3,1,3,{"$f":"IF(I9=\"\",\"\",IF(I9=\"Дома\",IF(J9>K9,\"В\",IF(J9=K9,\"Н\",\"П\")),IF(J9<K9,\"В\",IF(J9=K9,\"Н\",\"П\"))))","v":"П"},8,0,4,4,6,14,4,5,0,4,1,6,8,4,3,0,0,3,0,6,0,4,null,"1 - 3",null,null,"2.5 -","NG",null,null,null,null,null,null,"2.5 +","GG"]
["АЛБАНИЯ: Суперлига","2019.10.18 19:00","Теута","Флямуртари",0,0,1,0,"Гости",1,0,0,1,{"$f":"IF(I10=\"\",\"\",IF(I10=\"Дома\",IF(J10>K10,\"В\",IF(J10=K10,\"Н\",\"П\")),IF(J10<K10,\"В\",IF(J10=K10,\"Н\",\"П\"))))","v":"П"},9,0,4,5,6,15,4,5,0,4,1,6,8,4,4,0,0,4,0,7,0,"",null,"1 - 0",null,null,"2.5 -","GG",null,null,null,null,null,null,"2.5 -","NG"]
["АЛБАНИЯ: Суперлига","2019.10.05 18:00","Флямуртари","Тирана",1,2,1,0,"Дома",2,2,2,2,"Н",10,0,5,5,8,17,5,6,0,5,1,8,10,5,4,0,0,4,0,7,0,4,null,"2 - 2",null,null,"2.5 +","GG",null,null,null,null,null,null,"2.5 +","GG"]
["АЛБАНИЯ: Кубок Албании","2019.10.02 15:00","Флямуртари","Коплик",0,0,5,0,"Дома",5,0,5,0,"В",11,1,5,5,13,17,{"$f":"IF(I12=\"\",\"\",P12*3+Q12)","v":8},7,1,5,1,13,10,8,4,0,0,4,0,7,0,5,null,"5 - 0",null,null,"2.5 -","NG"]
["АЛБАНИЯ: Суперлига","2019.09.28 17:00","Билис","Флямуртари",3,0,2,0,"Гости",5,0,0,5,"П",12,1,5,6,13,22,8,7,1,5,1,13,10,8,5,0,0,5,0,12,0,"",null,"5 - 0",null,null,"2.5 +","GG"]
["АЛБАНИЯ: Суперлига","2019.09.22 17:00","Флямуртари","Лячи",2,1,1,2,"Дома",3,3,3,3,"Н",13,1,6,6,16,25,9,8,1,6,1,16,13,9,5,0,0,5,0,12,0,6,null,"3 - 3",null,null,"2.5 +","NG"]
["АЛБАНИЯ: Кубок Албании","2019.09.18 17:00","Коплик","Флямуртари",1,2,2,0,"Гости",3,2,2,3,"П",14,1,6,7,18,28,9,8,1,6,1,16,13,9,6,0,0,6,2,15,0,"",null,"3 - 2",null,null,"2.5 +","NG"]
["АЛБАНИЯ: Суперлига","2019.09.14 17:00","Люфтетари Гирокастра","Флямуртари",0,0,2,1,"Гости",2,1,1,2,"П",15,1,6,8,19,30,9,8,1,6,1,16,13,9,7,0,0,7,3,17,0,"",null,"2 - 1",null,null,"2.5 +","GG"]
["АЛБАНИЯ: Суперлига","2019.09.01 20:00","Партизани","Флямуртари",1,0,0,0,"Гости",1,0,0,1,"П",16,1,6,9,19,31,9,8,1,6,1,16,13,9,8,0,0,8,3,18,0,"",null,null,null,null,"2.5 +","GG"]
["АЛБАНИЯ: Суперлига","2019.08.28 20:00","Флямуртари","Кукеси",0,1,0,2,"Дома",0,3,0,3,"П",17,1,6,10,19,34,9,9,1,6,2,16,16,9,8,0,0,8,3,18,0,3,null,null,null,null,"2.5 +","GG"]
["АЛБАНИЯ: Суперлига","2019.08.24 20:00","Скендербеу","Флямуртари",0,0,1,0,"Гости",1,0,0,1,"П",18,1,6,11,19,35,9,9,1,6,2,16,16,9,9,0,0,9,3,19,0,"",null,null,null,null,null,null,null,"2.5 +","2.5 -","GG","NG"]
["АЛБАНИЯ: Суперлига","2019.05.30 17:00","Тирана","Флямуртари",0,0,3,0,"Гости",3,0,0,3,"П",19,1,6,12,19,38,9,9,1,6,2,16,16,9,10,0,0,10,3,22,0,"",null,null,null,null,null,null,null,{"$f":"COUNTIF(AO4:AO8,AR19)","v":2},{"$f":"COUNTIF(AO4:AO8,AS19)","v":3},{"$f":"COUNTIF(AP4:AP8,AT19)","v":3},{"$f":"COUNTIF(AP4:AP8,AU19)","v":2}]
["АЛБАНИЯ: Суперлига","2019.05.25 18:00","Флямуртари","Камза",0,0,3,0,"Дома",3,0,3,0,"В",20,2,6,12,22,38,12,10,2,6,2,19,16,12,10,0,0,10,3,22,0,3]
["АЛБАНИЯ: Суперлига","2019.05.18 17:30","Флямуртари","Лячи",1,0,0,0,"Дома",1,0,1,0,"В",21,3,6,12,23,38,15,11,3,6,2,20,16,15,10,0,0,10,3,22,0,1]
["АЛБАНИЯ: Суперлига","2019.05.12 17:30","Кастриоти","Флямуртари",1,0,1,0,"Гости",2,0,0,2,"П",22,3,6,13,23,40,15,11,3,6,2,20,16,15,11,0,0,11,3,24,0,""]
["АЛБАНИЯ: Суперлига","2019.05.04 16:00","Флямуртари","Партизани",0,1,0,2,"Дома",0,3,0,3,"П",23,3,6,14,23,43,15,12,3,6,3,20,19,15,11,0,0,11,3,24,0,3]
["АЛБАНИЯ: Суперлига","2019.04.28 20:00","Скендербеу","Флямуртари",1,0,1,0,"Гости",2,0,0,2,"П",24,3,6,15,23,45,15,12,3,6,3,20,19,15,12,0,0,12,3,26,0,""]
["АЛБАНИЯ: Суперлига","2019.04.20 20:00","Флямуртари","Люфтетари Гирокастра",0,0,1,1,"Дома",1,1,1,1,"Н",25,3,7,15,24,46,16,13,3,7,3,21,20,16,12,0,0,12,3,26,0,2]
["АЛБАНИЯ: Суперлига","2019.04.14 16:45","Кукеси","Флямуртари",0,1,1,1,"Гости",1,2,2,1,"В",26,4,7,15,26,47,19,13,3,7,3,21,20,16,13,1,0,12,5,27,3,""]
["АЛБАНИЯ: Суперлига","2019.04.10 19:30","Флямуртари","Теута",1,0,2,1,"Дома",3,1,3,1,"В",27,5,7,15,29,48,22,14,4,7,3,24,21,19,13,1,0,12,5,27,3,4]
["АЛБАНИЯ: Суперлига","2019.04.06 19:45","Флямуртари","Тирана",1,0,0,0,"Дома",1,0,1,0,"В",28,6,7,15,30,48,25,15,5,7,3,25,21,22,13,1,0,12,5,27,3,1]
["АЛБАНИЯ: Суперлига","2019.03.30 19:00","Камза","Флямуртари",1,0,0,0,"Гости",1,0,0,1,"П",29,6,7,16,30,49,25,15,5,7,3,25,21,22,14,1,0,13,5,28,3,""]
["АЛБАНИЯ: Суперлига","2019.03.17 16:00","Лячи","Флямуртари",0,0,0,0,"Гости",0,0,0,0,"Н",30,6,8,16,30,49,26,15,5,7,3,25,21,22,15,1,1,13,5,28,4,""]
["АЛБАНИЯ: Суперлига","2019.03.03 19:00","Флямуртари","Кастриоти",1,0,0,1,"Дома",1,1,1,1,"Н",31,6,9,16,31,50,27,16,5,8,3,26,22,23,15,1,1,13,5,28,4,2]
["АЛБАНИЯ: Суперлига","2019.02.23 19:00","Партизани","Флямуртари",1,1,2,0,"Гости",3,1,1,3,"П",32,6,9,17,32,53,27,16,5,8,3,26,22,23,16,1,1,14,6,31,4,""]
["АЛБАНИЯ: Суперлига","2019.02.17 19:00","Флямуртари","Скендербеу",0,0,2,0,"Дома",2,0,2,0,"В",33,7,9,17,34,53,30,17,6,8,3,28,22,26,16,1,1,14,6,31,4,2]
["АЛБАНИЯ: Суперлига","2019.02.10 16:00","Люфтетари Гирокастра","Флямуртари",0,0,0,0,"Гости",0,0,0,0,"Н",{"$f":"IF(I35=\"\",\"\",O34+1)","v":34},7,10,17,34,53,31,17,6,8,3,28,22,26,17,1,2,14,6,31,5,""]
["АЛБАНИЯ: Кубок Албании","2019.02.06 15:30","Флямуртари","Тирана",0,0,1,0,"Дома",1,0,1,0,"В",35,8,10,17,35,53,34,18,7,8,3,29,22,29,17,1,2,14,6,31,5,1]
["АЛБАНИЯ: Суперлига","2019.02.02 19:00","Флямуртари","Кукеси",1,2,0,0,"Дома",1,2,1,2,"П",36,8,10,18,36,55,34,19,7,8,4,30,24,29,17,1,2,14,6,31,5,3]
["АЛБАНИЯ: Суперлига","2019.01.27 19:00","Теута","Флямуртари",1,1,0,0,"Гости",1,1,1,1,"Н",37,8,11,18,37,56,35,19,7,8,4,30,24,29,18,1,3,14,7,32,6,""]
["АЛБАНИЯ: Кубок Албании","2019.01.24 15:00","Тирана","Флямуртари",2,0,0,0,"Гости",2,0,0,2,"П",38,8,11,19,37,58,35,19,7,8,4,30,24,29,19,1,3,15,7,34,6,""]
["АЛБАНИЯ: Суперлига","2018.12.21 18:30","Тирана","Флямуртари",0,0,1,0,"Гости",1,0,0,1,"П",39,8,11,20,37,59,35,19,7,8,4,30,24,29,20,1,3,16,7,35,6,""]
["АЛБАНИЯ: Суперлига","2018.12.15 19:00","Флямуртари","Камза",0,0,1,0,"Дома",1,0,1,0,"В",40,9,11,20,38,59,38,20,8,8,4,31,24,32,20,1,3,16,7,35,6,1]
[null,null,null,null,null,null,null,null,null,"","","","","","","","","","","","","","","","","","","","","","","","","","",""]
[null,null,null,null,null,null,null,null,null,"","","","","","","","","","","","","","","","","","","","","","","","","","",""]
[null,null,null,null,null,null,null,null,null,"","","","","","","","","","","","","","","","","","","","","","","","","","",""]
[null,null,null,null,null,null,null,null,null,"","","","","","","","","","","","","","","","","","","","","","","","","","",""]
[null,null,null,null,null,null,null,null,null,"","","","","","","","","","","","","","","","","","","","","","","","","","",""]
[null,null,null,null,null,null,null,null,null,"","","","","","","","","","","","","","","","","","","","","","","","","","",""]
[null,null,null,null,null,null,null,null,null,"","","","","","","","","","","","","","","","","","","","","","","","","","",""]
[null,null,null,null,null,null,null,null,null,"","","","","","","","","","","","","","","","","","","","","","","","","","",""]
[null,null,null,null,null,null,null,null,null,"","","","","","","","","","","","","","","","","","","","","","","","","","",""]
[null,null,null,null,null,null,null,null,null,"","","","","","","","","","","","","","","","","","","","","","","","","","",""]
[null,null,null,null,null,null,null,null,null,"","","","","","","","","","","","","","","","","","","","","","","","","","",""]
[null,null,null,null,null,null,null,null,null,"","","","","","","","","","","","","","","","","","","","","","","","","","",""]
[null,null,null,null,null,null,null,null,null,"","","","","","","","","","","","","","","","","","","","","","","","","","",""]
[null,null,null,null,null,null,null,null,null,"","","","","","","","","","","","","","","","","","","","","","","","","","",""]
[null,null,null,null,null,null,null,null,null,"","","","","","","","","","","","","","","","","","","","","","","","","","",""]
[null,null,null,null,null,null,null,null,null,"","","","","","","","","","","","","","","","","","","","","","","","","","",""]
[null,null,null,null,null,null,null,null,null,"","","","","","","","","","","","","","","","","","","","","","","","","","",""]
[null,null,null,null,null,null,null,null,null,"","","","","","","","","","","","","","","","","","","","","","","","","","",""]
[null,null,null,null,null,null,null,null,null,"","","","","","","","","","","","","","","","","","","","","","","","","","",""]
[null,null,null,null,null,null,null,null,null,"","","","","","","","","","","","","","","","","","","","","","","","","","",""]
[null,null,null,null,null,null,null,null,null,"","","","","","","","","","","","","","","","","","","","","","","","","","",""]
[null,null,null,null,null,null,null,null,null,"","","","","","","","","","","","","","","","","","","","","","","","","","",""]
[null,null,null,null,null,null,null,null,null,"","","","","","","","","","","","","","","","","","","","","","","","","","",""]
[null,null,null,null,null,null,null,null,null,"","","","","","","","","","","","","","","","","","","","","","","","","","",""]
[null,null,null,null,null,null,null,null,null,"","","","","","","","","","","","","","","","","","","","","","","","","","",""]
[null,null,null,null,null,null,null,null,null,{"$f":"IF(I67=\"\",\"\",E67+G67)","v":""},{"$f":"IF(I67=\"\",\"\",F67+H67)","v":""},{"$f":"IF(I67=\"\",\"\",IF(I67=\"Дома\",J67,K67))","v":""},{"$f":"IF(I67=\"\",\"\",IF(I67=\"Дома\",K67,J67))","v":""},"",{"$f":"IF(I67=\"\",\"\",O66+1)","v":""},"","","","","",{"$f":"IF(I67=\"\",\"\",P67*3+Q67)","v":""},"","","","","","","","","","","","","","",{"$f":"IF(I67=\"Дома\",L67+M67,\"\")","v":""}]
[null,null,null,null,null,null,null,null,null,"","","","","","",{"$f":"IF(I68=\"\",\"\",IF(N68=\"В\",P67+1,P67))","v":""},{"$f":"IF(I68=\"\",\"\",IF(N68=\"Н\",Q67+1,Q67))","v":""},{"$f":"IF(I68=\"\",\"\",IF(N68=\"П\",R67+1,R67))","v":""},{"$f":"IF(I68=\"\",\"\",S67+L68)","v":""},{"$f":"IF(I68=\"\",\"\",T67+M68)","v":""},"",{"$f":"IF(I68=\"\",\"\",IF(I68=\"Дома\",V67+1,V67+0))","v":""},{"$f":"IF(I68=\"\",\"\",IF(I68=\"Дома\",IF(N68=\"В\",W67+1,W67),W67))","v":""},{"$f":"IF(I68=\"\",\"\",IF(I68=\"Дома\",IF(N68=\"Н\",X67+1,X67),X67))","v":""},{"$f":"IF(I68=\"\",\"\",IF(I68=\"Дома\",IF(N68=\"П\",Y67+1,Y67),Y67))","v":""},{"$f":"IF(I68=\"\",\"\",IF(I68=\"Дома\",L68+Z67,Z67))","v":""},{"$f":"IF(I68=\"\",\"\",IF(I68=\"Дома\",M68+AA67,AA67))","v":""},{"$f":"IF(I68=\"\",\"\",IF(I68=\"Дома\",W68*3+X68,AB67))","v":""},{"$f":"IF(I68=\"\",\"\",IF(I68=\"Гости\",AC67+1,AC67+0))","v":""},{"$f":"IF(I68=\"\",\"\",IF(I68=\"Гости\",IF(N68=\"В\",AD67+1,AD67),AD67))","v":""},{"$f":"IF(I68=\"\",\"\",IF(I68=\"Гости\",IF(N68=\"Н\",AE67+1,AE67),AE67))","v":""},{"$f":"IF(I68=\"\",\"\",IF(I68=\"Гости\",IF(N68=\"П\",AF67+1,AF67),AF67))","v":""},{"$f":"IF(I68=\"\",\"\",IF(I68=\"Гости\",L68+AG67,AG67))","v":""},{"$f":"IF(I68=\"\",\"\",IF(I68=\"Гости\",M68+AH67,AH67))","v":""},{"$f":"IF(I68=\"\",\"\",IF(I68=\"Гости\",AD68*3+AE68,AI67))","v":""},""]
[null,null,null,null,null,null,null,null,null,"","","","","","","","","","","","","","","","","","","","","","","","","","",""]
[null,null,null,null,null,null,null,null,null,"","","","","","","","","","","","","","","","","","","","","","","","","","",""]
[null,null,null,null,null,null,null,null,null,"","","","","","","","","","","","","","","","","","","","","","","","","","",""]
[null,null,null,null,null,null,null,null,null,"","","","","","","","","","","","","","","","","","","","","","","","","","",""]
[null,null,null,null,null,null,null,null,null,"","","","","","","","","","","","","","","","","","","","","","","","","","",""]
[null,null,null,null,null,null,null,null,null,"","","","",{"$f":"IF(I74=\"\",\"\",IF(I74=\"Дома\",IF(J74>K74,\"В\",IF(J74=K74,\"Н\",\"П\")),IF(J74<K74,\"В\",IF(J74=K74,\"Н\",\"П\"))))","v":""},"","","","","","","","","","","","","","","","","","","","","",""]
[null,null,null,null,null,null,null,null,null,"","","","","","","","","","","","","","","","","","","","","","","","","","",""]
[null,null,null,null,null,null,null,null,null,"","","","","","","","","","","","","","","","","","","","","","","","","","",""]
[null,null,null,null,null,null,null,null,null,"","","","","","","","","","","","","","","","","","","","","","","","","","",""]
[null,null,null,null,null,null,null,null,null,"","","","","","","","","","","","","","","","","","","","","","","","","","",""]
[null,null,null,null,null,null,null,null,null,"","","","","","","","","","","","","","","","","","","","","","","","","","",""]
[null,null,null,null,null,null,null,null,null,"","","","","","","","","","","","","","","","","","","","","","","","","","",""]
[null,null,null,null,null,null,null,null,null,"","","","","","","","","","","","","","","","","","","","","","","","","","",""]
[null,null,null,null,null,null,null,null,null,"","","","","","","","","","","","","","","","","","","","","","","","","","",""]
[null,null,null,null,null,null,null,null,null,"","","","","","","","","","","","","","","","","","","","","","","","","","",""]
[null,null,null,null,null,null,null,null,null,"","","","","","","","","","","","","","","","","","","","","","","","","","",""]
[null,null,null,null,null,null,null,null,null,"","","","","","","","","","","","","","","","","","","","","","","","","","",""]
[null,null,null,null,null,null,null,null,null,"","","","","","","","","","","","","","","","","","","","","","","","","","",""]
[null,null,null,null,null,null,null,null,null,"","","","","","","","","","","","","","","","","","","","","","","","","","",""]
[null,null,null,null,null,null,null,null,null,"","","","","","","","","","","","","","","","","","","","","","","","","","",""]
[null,null,null,null,null,null,null,null,null,"","","","","","","","","","","","","","","","","","","","","","","","","","",""]
[null,null,null,null,null,null,null,null,null,"","","","","","","","","","","","","","","","","","","","","","","","","","",""]
[null,null,null,null,null,null,null,null,null,"","","","","","","","","","","","","","","","","","","","","","","","","","",""]
[null,null,null,null,null,null,null,null,null,"","","","","","","","","","","","","","","","","","","","","","","","","","",""]
[null,null,null,null,null,null,null,null,null,"","","","","","","","","","","","","","","","","","","","","","","","","","",""]
[null,null,null,null,null,null,null,null,null,"","","","","","","","","","","","","","","","","","","","","","","","","","",""]
[null,null,null,null,null,null,null,null,null,"","","","","","","","","","","","","","","","","","","","","","","","","","",""]
[null,null,null,null,null,null,null,null,null,"","","","","","","","","","","","","","","","","","","","","","","","","","",""]
[null,null,null,null,null,null,null,null,null,"","","","","","","","","","","","","","","","","","","","","","","","","","",""]
[null,null,null,null,null,null,null,null,null,"","","","","","","","","","","","","","","","","","","","","","","","","","",""]
[null,null,null,null,null,null,null,null,null,"","","","","",{"$f":"IF(I99=\"\",\"\",O98+1)","v":""},"","","","","","","","","","","","","","","","","","","","",""]
[null,null,null,null,null,null,null,null,null,"","","","","","","","","","","","","","","","","","","","","","","","","","",""]
[null,null,null,null,null,null,null,null,null,"","","","","","","","","","","","","","","","","","","","","","","","","","",""]
[null,null,null,null,null,null,null,null,null,"","","","","","","","","","","","","","","","","","","","","","","","","","",""]
[null,null,null,null,null,null,null,null,null,"","","","","","","","","","","","","","","","","","","","","","","","","","",""]
[null,null,null,null,null,null,null,null,null,"","","","","","","","","","","","","","","","","","","","","","","","","","",""]
[null,null,null,null,null,null,null,null,null,"","","","","","","","","","","","","","","","","","","","","","","","","","",""]
[null,null,null,null,null,null,null,null,null,"","","","","","","","","","","","","","","","","","","","","","","","","","",""]
[null,null,null,null,null,null,null,null,null,"","","","","","","","","","","","","","","","","","","","","","","","","","",""]
[null,null,null,null,null,null,null,null,null,"","","","","","","","","","","","","","","","","","","","","","","","","","",""]
[null,null,null,null,null,null,null,null,null,"","","","","","","","","","","","","","","","","","","","","","","","","","",""]
[null,null,null,null,null,null,null,null,null,"","","","","","","","","","","","","","","","","","","","","","","","","","",""]
[null,null,null,null,null,null,null,null,null,"","","","","","","","","","","","","","","","","","","","","","","","","","",""]
[null,null,null,null,null,null,null,null,null,"","","","","","","","","","","","","","","","","","","","","","","","","","",""]
[null,null,null,null,null,null,null,null,null,"","","","","","","","","","","","","","","","","","","","","","","","","","",""]
[null,null,null,null,null,null,null,null,null,"","","","","","","","","","","","","","","","","","","","","","","","","","",""]
[null,null,null,null,null,null,null,null,null,"","","","","","","","","","","","","","","","","","","","","","","","","","",""]
[null,null,null,null,null,null,null,null,null,"","","","","","","","","","","","","","","","","","","","","","","","","","",""]
[null,null,null,null,null,null,null,null,null,"","","","","","","","","","","","","","","","","","","","","","","","","","",""]
[null,null,null,null,null,null,null,null,null,"","","","","","","","","","","","","","","","","","","","","","","","","","",""]
[null,null,null,null,null,null,null,null,null,"","","","","","","","","","","","","","","","","","","","","","","","","","",""]
[null,null,null,null,null,null,null,null,null,"","","","","","","","","","","","","","","","","","","","","","","","","","",""]
[null,null,null,null,null,null,null,null,null,"","","","","","","","","","","","","","","","","","","","","","","","","","",""]
[null,null,null,null,null,null,null,null,null,"","","","","","","","","","","","","","","","","","","","","","","","","","",""]
[null,null,null,null,null,null,null,null,null,"","","","","","","","","","","","","","","","","","","","","","","","","","",""]
[null,null,null,null,null,null,null,null,null,"","","","","","","","","","","","","","","","","","","","","","","","","","",""]
[null,null,null,null,null,null,null,null,null,"","","","","","","","","","","","","","","","","","","","","","","","","","",""]
[null,null,null,null,null,null,null,null,null,"","","","","","","","","","","","","","","","","","","","","","","","","","",""]
[null,null,null,null,null,null,null,null,null,"","","","","","","","","","","","","","","","","","","","","","","","","","",""]
[null,null,null,null,null,null,null,null,null,"","","","","","","","","","","","","","","","","","","","","","","","","","",""]
[null,null,null,null,null,null,null,null,null,"","","","","","","","","","","","","","","","","","","","","","","","","","",""]
[null,null,null,null,null,null,null,null,null,"","","","","","","","","","","","","","","","","","","","","","","","","","",""]
[null,null,null,null,null,null,null,null,null,{"$f":"IF(I131=\"\",\"\",E131+G131)","v":""},{"$f":"IF(I131=\"\",\"\",F131+H131)","v":""},{"$f":"IF(I131=\"\",\"\",IF(I131=\"Дома\",J131,K131))","v":""},{"$f":"IF(I131=\"\",\"\",IF(I131=\"Дома\",K131,J131))","v":""},"",{"$f":"IF(I131=\"\",\"\",O130+1)","v":""},"","","","","",{"$f":"IF(I131=\"\",\"\",P131*3+Q131)","v":""},"","","","","","","","","","","","","","",{"$f":"IF(I131=\"Дома\",L131+M131,\"\")","v":""}]
[null,null,null,null,null,null,null,null,null,"","","","","","",{"$f":"IF(I132=\"\",\"\",IF(N132=\"В\",P131+1,P131))","v":""},{"$f":"IF(I132=\"\",\"\",IF(N132=\"Н\",Q131+1,Q131))","v":""},{"$f":"IF(I132=\"\",\"\",IF(N132=\"П\",R131+1,R131))","v":""},{"$f":"IF(I132=\"\",\"\",S131+L132)","v":""},{"$f":"IF(I132=\"\",\"\",T131+M132)","v":""},"",{"$f":"IF(I132=\"\",\"\",IF(I132=\"Дома\",V131+1,V131+0))","v":""},{"$f":"IF(I132=\"\",\"\",IF(I132=\"Дома\",IF(N132=\"В\",W131+1,W131),W131))","v":""},{"$f":"IF(I132=\"\",\"\",IF(I132=\"Дома\",IF(N132=\"Н\",X131+1,X131),X131))","v":""},{"$f":"IF(I132=\"\",\"\",IF(I132=\"Дома\",IF(N132=\"П\",Y131+1,Y131),Y131))","v":""},{"$f":"IF(I132=\"\",\"\",IF(I132=\"Дома\",L132+Z131,Z131))","v":""},{"$f":"IF(I132=\"\",\"\",IF(I132=\"Дома\",M132+AA131,AA131))","v":""},{"$f":"IF(I132=\"\",\"\",IF(I132=\"Дома\",W132*3+X132,AB131))","v":""},{"$f":"IF(I132=\"\",\"\",IF(I132=\"Гости\",AC131+1,AC131+0))","v":""},{"$f":"IF(I132=\"\",\"\",IF(I132=\"Гости\",IF(N132=\"В\",AD131+1,AD131),AD131))","v":""},{"$f":"IF(I132=\"\",\"\",IF(I132=\"Гости\",IF(N132=\"Н\",AE131+1,AE131),AE131))","v":""},{"$f":"IF(I132=\"\",\"\",IF(I132=\"Гости\",IF(N132=\"П\",AF131+1,AF131),AF131))","v":""},{"$f":"IF(I132=\"\",\"\",IF(I132=\"Гости\",L132+AG131,AG131))","v":""},{"$f":"IF(I132=\"\",\"\",IF(I132=\"Гости\",M132+AH131,AH131))","v":""},{"$f":"IF(I132=\"\",\"\",IF(I132=\"Гости\",AD132*3+AE132,AI131))","v":""},""]
[null,null,null,null,null,null,null,null,null,"","","","","","","","","","","","","","","","","","","","","","","","","","",""]
[null,null,null,null,null,null,null,null,null,"","","","","","","","","","","","","","","","","","","","","","","","","","",""]
[null,null,null,null,null,null,null,null,null,"","","","","","","","","","","","","","","","","","","","","","","","","","",""]
[null,null,null,null,null,null,null,null,null,"","","","","","","","","","","","","","","","","","","","","","","","","","",""]
[null,null,null,null,null,null,null,null,null,"","","","","","","","","","","","","","","","","","","","","","","","","","",""]
[null,null,null,null,null,null,null,null,null,"","","","",{"$f":"IF(I138=\"\",\"\",IF(I138=\"Дома\",IF(J138>K138,\"В\",IF(J138=K138,\"Н\",\"П\")),IF(J138<K138,\"В\",IF(J138=K138,\"Н\",\"П\"))))","v":""},"","","","","","","","","","","","","","","","","","","","","",""]
[null,null,null,null,null,null,null,null,null,"","","","","","","","","","","","","","","","","","","","","","","","","","",""]
[null,null,null,null,null,null,null,null,null,"","","","","","","","","","","","","","","","","","","","","","","","","","",""]
[null,null,null,null,null,null,null,null,null,"","","","","","","","","","","","","","","","","","","","","","","","","","",""]
[null,null,null,null,null,null,null,null,null,"","","","","","","","","","","","","","","","","","","","","","","","","","",""]
[null,null,null,null,null,null,null,null,null,"","","","","","","","","","","","","","","","","","","","","","","","","","",""]
[null,null,null,null,null,null,null,null,null,"","","","","","","","","","","","","","","","","","","","","","","","","","",""]
[null,null,null,null,null,null,null,null,null,"","","","","","","","","","","","","","","","","","","","","","","","","","",""]
[null,null,null,null,null,null,null,null,null,"","","","","","","","","","","","","","","","","","","","","","","","","","",""]
[null,null,null,null,null,null,null,null,null,"","","","","","","","","","","","","","","","","","","","","","","","","","",""]
[null,null,null,null,null,null,null,null,null,"","","","","","","","","","","","","","","","","","","","","","","","","","",""]
[null,null,null,null,null,null,null,null,null,"","","","","","","","","","","","","","","","","","","","","","","","","","",""]
[null,null,null,null,null,null,null,null,null,"","","","","","","","","","","","","","","","","","","","","","","","","","",""]

{"sheet":"Гости","index":3,"n_rows":150,"n_cols":60,"rows_kept":150,"cut":false,"hidden":true,"merged":[]}
["Чемпионат","Дата/Время","Дома","Гости","К1 в 1Т","К2 в 1Т","К1 во 2Т","К2 во 2Т","Где играли","К1 Голов","К2 Голов","Забито","Пропущено","Результат","Всего Игр","Всего выиграно","Всего ничьих","Всего проиграно","Всего забито","Всего пропущено","Всего очков","Дома игр","Дома выиграно","Дома ничьих","Дома проиграно","Дома забито","Дома пропущено","Дома очков","Гости игр","Гости выиграно","Гости ничьих","Гости проиграно","Гости забито","Гости пропущено","Гости очков","Тотал",{"$f":"IF(C2=D2,C2,IF(C2=D3,C2,IF(C2=C3,C2,D2)))","v":"Теута"},"счёт",null,null,"В","Н","П","2.5 +","2.5 -","GG","NG",null,{"$f":"IF(J2+K2>2.5,\"2.5 +\",\"2.5 -\")","v":"2.5 -"},{"$f":"IF((IF(J2>=1,1,0)+IF(K2>=1,1,0))=2,\"GG\",\"NG\")","v":"NG"},"#","В","Н","П","2.5 +","2.5 -","GG","NG"]
["АЛБАНИЯ: Суперлига","2019.12.18 15:00","Теута","Партизани",1,0,0,0,"Дома",{"$f":"IF(I2=\"\",\"\",E2+G2)","v":1},{"$f":"IF(I2=\"\",\"\",F2+H2)","v":0},{"$f":"IF(I2=\"\",\"\",IF(I2=\"Дома\",J2,K2))","v":1},{"$f":"IF(I2=\"\",\"\",IF(I2=\"Дома\",K2,J2))","v":0},{"$f":"IF(I2=\"\",\"\",IF(I2=\"Дома\",IF(J2>K2,\"В\",IF(J2=K2,\"Н\",\"П\")),IF(J2<K2,\"В\",IF(J2=K2,\"Н\",\"П\"))))","v":"В"},{"$f":"IF(I2=\"\",\"\",1)","v":1},{"$f":"IF(I2=\"\",\"\",IF(N2=\"В\",1,0))","v":1},{"$f":"IF(I2=\"\",\"\",IF(N2=\"Н\",1,0))","v":0},{"$f":"IF(I2=\"\",\"\",IF(N2=\"П\",1,0))","v":0},{"$f":"IF(I2=\"\",\"\",L2)","v":1},{"$f":"IF(I2=\"\",\"\",M2)","v":0},{"$f":"IF(I2=\"\",\"\",P2*3+Q2)","v":3},{"$f":"IF(I2=\"\",\"\",IF(I2=\"Дома\",1,0))","v":1},{"$f":"IF(I2=\"\",\"\",IF(I2=\"Дома\",IF(N2=\"В\",1,0),0))","v":1},{"$f":"IF(I2=\"\",\"\",IF(I2=\"Дома\",IF(N2=\"Н\",1,0),0))","v":0},{"$f":"IF(I2=\"\",\"\",IF(I2=\"Дома\",IF(N2=\"П\",1,0),0))","v":0},{"$f":"IF(I2=\"\",\"\",IF(I2=\"Дома\",L2,0))","v":1},{"$f":"IF(I2=\"\",\"\",IF(I2=\"Дома\",M2,0))","v":0},{"$f":"IF(I2=\"\",\"\",IF(I2=\"Дома\",W2*3+X2,0))","v":3},{"$f":"IF(I2=\"\",\"\",IF(I2=\"Гости\",1,0))","v":0},{"$f":"IF(I2=\"\",\"\",IF(I2=\"Гости\",IF(N2=\"В\",1,0),0))","v":0},{"$f":"IF(I2=\"\",\"\",IF(I2=\"Гости\",IF(N2=\"Н\",1,0),0))","v":0},{"$f":"IF(I2=\"\",\"\",IF(I2=\"Гости\",IF(N2=\"П\",1,0),0))","v":0},{"$f":"IF(I2=\"\",\"\",IF(I2=\"Гости\",L2,0))","v":0},{"$f":"IF(I2=\"\",\"\",IF(I2=\"Гости\",M2,0))","v":0},{"$f":"IF(I2=\"\",\"\",IF(I2=\"Гости\",AD2*3+AE2,0))","v":0},{"$f":"IF(I2=\"Гости\",L2+M2,\"\")","v":""},null,{"$f":"CONCATENATE(J2,\" - \",K2)","v":"1 - 0"},null,null,{"$f":"COUNTIF($N$2:$N$26,AO1)","v":13},{"$f":"COUNTIF($N$2:$N$26,AP1)","v":7},{"$f":"COUNTIF($N$2:$N$26,AQ1)","v":5},{"$f":"COUNTIF(AO4:AO18,AR1)","v":3},{"$f":"COUNTIF(AO4:AO18,AS1)","v":12},{"$f":"COUNTIF(AP4:AP18,AT1)","v":3},{"$f":"COUNTIF(AP4:AP18,AU1)","v":12},null,"2.5 +","NG",{"$f":"AZ2+BA2+BB2","v":10},{"$f":"COUNTIF($N$2:$N$11,AZ1)","v":3},{"$f":"COUNTIF($N$2:$N$11,BA1)","v":5},{"$f":"COUNTIF($N$2:$N$11,BB1)","v":2},{"$f":"COUNTIF(AW1:AW10,BC1)","v":2},{"$f":"COUNTIF(AW1:AW10,BD1)","v":8},{"$f":"COUNTIF(AX1:AX10,BE1)","v":2},{"$f":"COUNTIF(AX1:AX10,BF1)","v":8},{"$f":"J2","v":1},{"$f":"LEFT(L2,5)","v":"1"}]
["АЛБАНИЯ: Суперлига","2019.12.14 18:00","Кукеси","Теута",1,0,3,0,"Гости",{"$f":"IF(I3=\"\",\"\",E3+G3)","v":4},{"$f":"IF(I3=\"\",\"\",F3+H3)","v":0},{"$f":"IF(I3=\"\",\"\",IF(I3=\"Дома\",J3,K3))","v":0},{"$f":"IF(I3=\"\",\"\",IF(I3=\"Дома\",K3,J3))","v":4},{"$f":"IF(I3=\"\",\"\",IF(I3=\"Дома\",IF(J3>K3,\"В\",IF(J3=K3,\"Н\",\"П\")),IF(J3<K3,\"В\",IF(J3=K3,\"Н\",\"П\"))))","v":"П"},{"$f":"IF(I3=\"\",\"\",O2+1)","v":2},{"$f":"IF(I3=\"\",\"\",IF(N3=\"В\",P2+1,P2))","v":1},{"$f":"IF(I3=\"\",\"\",IF(N3=\"Н\",Q2+1,Q2))","v":0},{"$f":"IF(I3=\"\",\"\",IF(N3=\"П\",R2+1,R2))","v":1},{"$f":"IF(I3=\"\",\"\",S2+L3)","v":1},{"$f":"IF(I3=\"\",\"\",T2+M3)","v":4},{"$f":"IF(I3=\"\",\"\",P3*3+Q3)","v":3},{"$f":"IF(I3=\"\",\"\",IF(I3=\"Дома\",V2+1,V2+0))","v":1},{"$f":"IF(I3=\"\",\"\",IF(I3=\"Дома\",IF(N3=\"В\",W2+1,W2),W2))","v":1},{"$f":"IF(I3=\"\",\"\",IF(I3=\"Дома\",IF(N3=\"Н\",X2+1,X2),X2))","v":0},{"$f":"IF(I3=\"\",\"\",IF(I3=\"Дома\",IF(N3=\"П\",Y2+1,Y2),Y2))","v":0},{"$f":"IF(I3=\"\",\"\",IF(I3=\"Дома\",L3+Z2,Z2))","v":1},{"$f":"IF(I3=\"\",\"\",IF(I3=\"Дома\",M3+AA2,AA2))","v":0},{"$f":"IF(I3=\"\",\"\",IF(I3=\"Дома\",W3*3+X3,AB2))","v":3},{"$f":"IF(I3=\"\",\"\",IF(I3=\"Гости\",AC2+1,AC2+0))","v":1},{"$f":"IF(I3=\"\",\"\",IF(I3=\"Гости\",IF(N3=\"В\",AD2+1,AD2),AD2))","v":0},{"$f":"IF(I3=\"\",\"\",IF(I3=\"Гости\",IF(N3=\"Н\",AE2+1,AE2),AE2))","v":0},{"$f":"IF(I3=\"\",\"\",IF(I3=\"Гости\",IF(N3=\"П\",AF2+1,AF2),AF2))","v":1},{"$f":"IF(I3=\"\",\"\",IF(I3=\"Гости\",L3+AG2,AG2))","v":0},{"$f":"IF(I3=\"\",\"\",IF(I3=\"Гости\",M3+AH2,AH2))","v":4},{"$f":"IF(I3=\"\",\"\",IF(I3=\"Гости\",AD3*3+AE3,AI2))","v":0},{"$f":"IF(I3=\"Гости\",L3+M3,\"\")","v":4},null,{"$f":"CONCATENATE(J3,\" - \",K3)","v":"4 - 0"},null,null,null,null,null,null,null,null,null,null,"2.5 -","NG",null,{"$f":"AZ2/$AY$2","v":0.3},0.5,0.2,0.2,0.8,0.2,0.8,4,"0"]
["АЛБАНИЯ: Суперлига","2019.12.08 18:30","Теута","Скендербеу",0,0,1,0,"Дома",1,0,1,0,"В",3,{"$f":"IF(I4=\"\",\"\",IF(N4=\"В\",P3+1,P3))","v":2},{"$f":"IF(I4=\"\",\"\",IF(N4=\"Н\",Q3+1,Q3))","v":0},{"$f":"IF(I4=\"\",\"\",IF(N4=\"П\",R3+1,R3))","v":1},{"$f":"IF(I4=\"\",\"\",S3+L4)","v":2},{"$f":"IF(I4=\"\",\"\",T3+M4)","v":4},6,{"$f":"IF(I4=\"\",\"\",IF(I4=\"Дома\",V3+1,V3+0))","v":2},{"$f":"IF(I4=\"\",\"\",IF(I4=\"Дома\",IF(N4=\"В\",W3+1,W3),W3))","v":2},{"$f":"IF(I4=\"\",\"\",IF(I4=\"Дома\",IF(N4=\"Н\",X3+1,X3),X3))","v":0},{"$f":"IF(I4=\"\",\"\",IF(I4=\"Дома\",IF(N4=\"П\",Y3+1,Y3),Y3))","v":0},{"$f":"IF(I4=\"\",\"\",IF(I4=\"Дома\",L4+Z3,Z3))","v":2},{"$f":"IF(I4=\"\",\"\",IF(I4=\"Дома\",M4+AA3,AA3))","v":0},{"$f":"IF(I4=\"\",\"\",IF(I4=\"Дома\",W4*3+X4,AB3))","v":6},{"$f":"IF(I4=\"\",\"\",IF(I4=\"Гости\",AC3+1,AC3+0))","v":1},{"$f":"IF(I4=\"\",\"\",IF(I4=\"Гости\",IF(N4=\"В\",AD3+1,AD3),AD3))","v":0},{"$f":"IF(I4=\"\",\"\",IF(I4=\"Гости\",IF(N4=\"Н\",AE3+1,AE3),AE3))","v":0},{"$f":"IF(I4=\"\",\"\",IF(I4=\"Гости\",IF(N4=\"П\",AF3+1,AF3),AF3))","v":1},{"$f":"IF(I4=\"\",\"\",IF(I4=\"Гости\",L4+AG3,AG3))","v":0},{"$f":"IF(I4=\"\",\"\",IF(I4=\"Гости\",M4+AH3,AH3))","v":4},{"$f":"IF(I4=\"\",\"\",IF(I4=\"Гости\",AD4*3+AE4,AI3))","v":0},"",null,"1 - 0",null,null,{"$f":"IF(J2+K2>2.5,\"2.5 +\",\"2.5 -\")","v":"2.5 -"},{"$f":"IF((IF(J2>=1,1,0)+IF(K2>=1,1,0))=2,\"GG\",\"NG\")","v":"NG"},null,null,null,null,null,null,"2.5 -","NG",null,null,null,null,null,null,null,null,1,"1"]
["АЛБАНИЯ: Суперлига","2019.11.24 18:30","Влазния","Теута",0,0,0,0,"Гости",0,0,0,0,"Н",4,2,1,1,2,4,7,2,2,0,0,2,0,6,2,0,1,1,0,4,1,0,null,"0 - 0",null,null,{"$f":"IF(J3+K3>2.5,\"2.5 +\",\"2.5 -\")","v":"2.5 +"},{"$f":"IF((IF(J3>=1,1,0)+IF(K3>=1,1,0))=2,\"GG\",\"NG\")","v":"NG"},null,null,null,null,null,null,"2.5 -","NG",null,null,null,null,null,null,null,null,0,"0"]
["АЛБАНИЯ: Суперлига","2019.11.09 15:30","Люфтетари Гирокастра","Теута",0,0,0,0,"Гости",0,0,0,0,"Н",5,2,2,1,2,4,8,2,2,0,0,2,0,6,3,0,2,1,0,4,2,0,null,"0 - 0",null,null,"2.5 -","NG",null,null,null,null,null,null,"2.5 -","GG",null,null,null,null,null,null,null,null,0,"0"]
["АЛБАНИЯ: Суперлига","2019.11.02 19:00","Теута","Тирана",0,1,1,0,"Дома",1,1,1,1,"Н",6,2,3,1,3,5,9,3,2,1,0,3,1,7,3,0,2,1,0,4,2,"",null,"1 - 1",null,null,"2.5 -","NG",null,null,null,null,null,null,"2.5 -","NG",null,null,null,null,null,null,null,null,1,"1"]
["АЛБАНИЯ: Суперлига","2019.10.27 15:00","Билис","Теута",0,0,0,0,"Гости",0,0,0,0,"Н",7,2,4,1,3,5,10,3,2,1,0,3,1,7,4,0,3,1,0,4,3,0,null,"0 - 0",null,null,"2.5 -","NG",null,null,null,null,null,null,"2.5 +","NG"]
["АЛБАНИЯ: Суперлига","2019.10.23 14:00","Лячи","Теута",2,0,1,0,"Гости",3,0,0,3,{"$f":"IF(I9=\"\",\"\",IF(I9=\"Дома\",IF(J9>K9,\"В\",IF(J9=K9,\"Н\",\"П\")),IF(J9<K9,\"В\",IF(J9=K9,\"Н\",\"П\"))))","v":"П"},8,2,4,2,3,8,10,3,2,1,0,3,1,7,5,0,3,2,0,7,3,3,null,"3 - 0",null,null,"2.5 -","GG",null,null,null,null,null,null,"2.5 -","NG"]
["АЛБАНИЯ: Суперлига","2019.10.18 19:00","Теута","Флямуртари",0,0,1,0,"Дома",1,0,1,0,{"$f":"IF(I10=\"\",\"\",IF(I10=\"Дома\",IF(J10>K10,\"В\",IF(J10=K10,\"Н\",\"П\")),IF(J10<K10,\"В\",IF(J10=K10,\"Н\",\"П\"))))","v":"В"},9,3,4,2,4,8,13,4,3,1,0,4,1,10,5,0,3,2,0,7,3,"",null,"1 - 0",null,null,"2.5 -","NG",null,null,null,null,null,null,"2.5 -","GG"]
["АЛБАНИЯ: Суперлига","2019.10.05 18:00","Партизани","Теута",1,1,0,0,"Гости",1,1,1,1,"Н",10,3,5,2,5,9,14,4,3,1,0,4,1,10,6,0,4,2,1,8,4,2,null,"1 - 1",null,null,"2.5 +","NG"]
["АЛБАНИЯ: Кубок Албании","2019.10.02 15:00","Теута","Тербуни",2,1,4,1,"Дома",6,2,6,2,"В",11,4,5,2,11,11,{"$f":"IF(I12=\"\",\"\",P12*3+Q12)","v":17},5,4,1,0,10,3,13,6,0,4,2,1,8,4,"",null,"6 - 2",null,null,"2.5 -","NG"]
["АЛБАНИЯ: Суперлига","2019.09.28 17:00","Теута","Кукеси",0,0,1,0,"Дома",1,0,1,0,"В",12,5,5,2,12,11,20,6,5,1,0,11,3,16,6,0,4,2,1,8,4,"",null,"1 - 0",null,null,"2.5 -","GG"]
["АЛБАНИЯ: Суперлига","2019.09.21 17:00","Скендербеу","Теута",1,0,0,0,"Гости",1,0,0,1,"П",13,5,5,3,12,12,20,6,5,1,0,11,3,16,7,0,4,3,1,9,4,1,null,"1 - 0",null,null,"2.5 +","GG"]
["АЛБАНИЯ: Кубок Албании","2019.09.18 17:00","Тербуни","Теута",0,0,0,2,"Гости",0,2,2,0,"В",14,6,5,3,14,12,23,6,5,1,0,11,3,16,8,1,4,3,3,9,7,2,null,"0 - 2",null,null,"2.5 -","NG"]
["АЛБАНИЯ: Суперлига","2019.09.14 17:00","Теута","Влазния",0,0,0,0,"Дома",0,0,0,0,"Н",15,6,6,3,14,12,24,7,5,2,0,11,3,17,8,1,4,3,3,9,7,"",null,"0 - 0",null,null,"2.5 -","NG"]
["АЛБАНИЯ: Суперлига","2019.08.31 20:00","Теута","Люфтетари Гирокастра",2,0,1,1,"Дома",3,1,3,1,"В",16,7,6,3,17,13,27,8,6,2,0,14,4,20,8,1,4,3,3,9,7,"",null,null,null,null,"2.5 -","NG"]
["АЛБАНИЯ: Суперлига","2019.08.27 20:00","Тирана","Теута",0,0,0,0,"Гости",0,0,0,0,"Н",17,7,7,3,17,13,28,8,6,2,0,14,4,20,9,1,5,3,3,9,8,0,null,null,null,null,"2.5 -","NG"]
["АЛБАНИЯ: Суперлига","2019.08.24 20:00","Теута","Билис",1,0,0,0,"Дома",1,0,1,0,"В",18,8,7,3,18,13,31,9,7,2,0,15,4,23,9,1,5,3,3,9,8,"",null,null,null,null,null,null,null,"2.5 +","2.5 -","GG","NG"]
["ЕВРОПА: Лига Европы - Квалификация","2019.07.18 18:00","Теута","Вентспилс",0,0,1,0,"Дома",1,0,1,0,"В",19,9,7,3,19,13,34,10,8,2,0,16,4,26,9,1,5,3,3,9,8,"",null,null,null,null,null,null,null,{"$f":"COUNTIF(AO4:AO8,AR19)","v":1},{"$f":"COUNTIF(AO4:AO8,AS19)","v":4},{"$f":"COUNTIF(AP4:AP8,AT19)","v":0},{"$f":"COUNTIF(AP4:AP8,AU19)","v":5}]
["ЕВРОПА: Лига Европы - Квалификация","2019.07.11 17:45","Вентспилс","Теута",1,0,2,0,"Гости",3,0,0,3,"П",20,9,7,4,19,16,34,10,8,2,0,16,4,26,10,1,5,4,3,12,8,3]
["МИР: Клубные товарищеские матчи","2019.07.03 18:45","Септември София","Теута",0,1,0,1,"Гости",0,2,2,0,"В",21,10,7,4,21,16,37,10,8,2,0,16,4,26,11,2,5,4,5,12,11,2]
["АЛБАНИЯ: Суперлига","2019.05.30 17:00","Теута","Лячи",0,0,2,0,"Дома",2,0,2,0,"В",22,11,7,4,23,16,40,11,9,2,0,18,4,29,11,2,5,4,5,12,11,""]
["АЛБАНИЯ: Суперлига","2019.05.26 17:30","Кастриоти","Теута",0,0,2,1,"Гости",2,1,1,2,"П",23,11,7,5,24,18,40,11,9,2,0,18,4,29,12,2,5,5,6,14,11,3]
["АЛБАНИЯ: Суперлига","2019.05.18 17:30","Теута","Партизани",1,0,1,0,"Дома",2,0,2,0,"В",24,12,7,5,26,18,43,12,10,2,0,20,4,32,12,2,5,5,6,14,11,""]
["АЛБАНИЯ: Суперлига","2019.05.12 17:30","Скендербеу","Теута",0,1,1,1,"Гости",1,2,2,1,"В",25,13,7,5,28,19,46,12,10,2,0,20,4,32,13,3,5,5,8,15,14,3]
["АЛБАНИЯ: Суперлига","2019.05.04 16:00","Теута","Люфтетари Гирокастра",0,0,0,0,"Дома",0,0,0,0,"Н",26,13,8,5,28,19,47,13,10,3,0,20,4,33,13,3,5,5,8,15,14,""]
["АЛБАНИЯ: Суперлига","2019.04.28 17:00","Кукеси","Теута",0,0,0,0,"Гости",0,0,0,0,"Н",27,13,9,5,28,19,48,13,10,3,0,20,4,33,14,3,6,5,8,15,15,0]
["АЛБАНИЯ: Суперлига","2019.04.20 18:00","Камза","Теута",0,0,0,0,"Гости",0,0,0,0,"Н",28,13,10,5,28,19,49,13,10,3,0,20,4,33,15,3,7,5,8,15,16,0]
["АЛБАНИЯ: Суперлига","2019.04.14 19:45","Теута","Тирана",0,1,1,2,"Дома",1,3,1,3,"П",29,13,10,6,29,22,49,14,10,3,1,21,7,33,15,3,7,5,8,15,16,""]
["АЛБАНИЯ: Суперлига","2019.04.10 19:30","Флямуртари","Теута",1,0,2,1,"Гости",3,1,1,3,"П",30,13,10,7,30,25,49,14,10,3,1,21,7,33,16,3,7,6,9,18,16,4]
["АЛБАНИЯ: Суперлига","2019.04.06 16:45","Лячи","Теута",2,0,3,0,"Гости",5,0,0,5,"П",31,13,10,8,30,30,49,14,10,3,1,21,7,33,17,3,7,7,9,23,16,5]
["АЛБАНИЯ: Кубок Албании","2019.04.03 18:00","Кукеси","Теута",0,0,1,0,"Гости",1,0,0,1,"П",32,13,10,9,30,31,49,14,10,3,1,21,7,33,18,3,7,8,9,24,16,1]
["АЛБАНИЯ: Суперлига","2019.03.30 19:00","Теута","Кастриоти",1,0,0,0,"Дома",1,0,1,0,"В",33,14,10,9,31,31,52,15,11,3,1,22,7,36,18,3,7,8,9,24,16,""]
["АЛБАНИЯ: Суперлига","2019.03.17 19:00","Партизани","Теута",2,0,1,0,"Гости",3,0,0,3,"П",34,14,10,10,31,34,52,15,11,3,1,22,7,36,19,3,7,9,9,27,16,3]
["АЛБАНИЯ: Кубок Албании","2019.03.12 19:00","Теута","Кукеси",0,1,2,1,"Дома",2,2,2,2,"Н",35,14,11,10,33,36,53,16,11,4,1,24,9,37,19,3,7,9,9,27,16,""]
["АЛБАНИЯ: Суперлига","2019.03.02 19:00","Теута","Скендербеу",1,0,1,2,"Дома",2,2,2,2,"Н",36,14,12,10,35,38,54,17,11,5,1,26,11,38,19,3,7,9,9,27,16,""]
["АЛБАНИЯ: Суперлига","2019.02.23 16:00","Люфтетари Гирокастра","Теута",1,0,0,0,"Гости",1,0,0,1,"П",37,14,12,11,35,39,54,17,11,5,1,26,11,38,20,3,7,10,9,28,16,1]
["АЛБАНИЯ: Суперлига","2019.02.15 20:00","Теута","Кукеси",0,1,2,0,"Дома",2,1,2,1,"В",38,15,12,11,37,40,57,18,12,5,1,28,12,41,20,3,7,10,9,28,16,""]
["АЛБАНИЯ: Суперлига","2019.02.10 19:00","Теута","Камза",0,0,0,0,"Дома",0,0,0,0,"Н",39,15,13,11,37,40,58,19,12,6,1,28,12,42,20,3,7,10,9,28,16,""]
["АЛБАНИЯ: Кубок Албании","2019.02.06 15:30","Теута","Люшня",2,0,2,0,"Дома",4,0,4,0,"В",40,16,13,11,41,40,61,20,13,6,1,32,12,45,20,3,7,10,9,28,16,""]
["АЛБАНИЯ: Суперлига","2019.02.01 20:00","Тирана","Теута",1,1,0,0,"Гости",1,1,1,1,"Н",41,16,14,11,42,41,62,20,13,6,1,32,12,45,21,3,8,10,10,29,17,2]
["АЛБАНИЯ: Суперлига","2018.12.15 19:00","Флямуртари","Камза",0,0,1,0,"Дома",1,0,1,0,"В",42,17,14,11,43,41,65,21,14,6,1,33,12,48,21,3,8,10,10,29,17,""]
[null,null,null,null,null,null,null,null,null,"","","","","","","","","","","","","","","","","","","","","","","","","","",""]
[null,null,null,null,null,null,null,null,null,"","","","","","","","","","","","","","","","","","","","","","","","","","",""]
[null,null,null,null,null,null,null,null,null,"","","","","","","","","","","","","","","","","","","","","","","","","","",""]
[null,null,null,null,null,null,null,null,null,"","","","","","","","","","","","","","","","","","","","","","","","","","",""]
[null,null,null,null,null,null,null,null,null,"","","","","","","","","","","","","","","","","","","","","","","","","","",""]
[null,null,null,null,null,null,null,null,null,"","","","","","","","","","","","","","","","","","","","","","","","","","",""]
[null,null,null,null,null,null,null,null,null,"","","","","","","","","","","","","","","","","","","","","","","","","","",""]
[null,null,null,null,null,null,null,null,null,"","","","","","","","","","","","","","","","","","","","","","","","","","",""]
[null,null,null,null,null,null,null,null,null,"","","","","","","","","","","","","","","","","","","","","","","","","","",""]
[null,null,null,null,null,null,null,null,null,"","","","","","","","","","","","","","","","","","","","","","","","","","",""]
[null,null,null,null,null,null,null,null,null,"","","","","","","","","","","","","","","","","","","","","","","","","","",""]
[null,null,null,null,null,null,null,null,null,"","","","","","","","","","","","","","","","","","","","","","","","","","",""]
[null,null,null,null,null,null,null,null,null,"","","","","","","","","","","","","","","","","","","","","","","","","","",""]
[null,null,null,null,null,null,null,null,null,"","","","","","","","","","","","","","","","","","","","","","","","","","",""]
[null,null,null,null,null,null,null,null,null,"","","","","","","","","","","","","","","","","","","","","","","","","","",""]
[null,null,null,null,null,null,null,null,null,"","","","","","","","","","","","","","","","","","","","","","","","","","",""]
[null,null,null,null,null,null,null,null,null,"","","","","","","","","","","","","","","","","","","","","","","","","","",""]
[null,null,null,null,null,null,null,null,null,"","","","","","","","","","","","","","","","","","","","","","","","","","",""]
[null,null,null,null,null,null,null,null,null,"","","","","","","","","","","","","","","","","","","","","","","","","","",""]
[null,null,null,null,null,null,null,null,null,"","","","","","","","","","","","","","","","","","","","","","","","","","",""]
[null,null,null,null,null,null,null,null,null,"","","","","","","","","","","","","","","","","","","","","","","","","","",""]
[null,null,null,null,null,null,null,null,null,"","","","","","","","","","","","","","","","","","","","","","","","","","",""]
[null,null,null,null,null,null,null,null,null,"","","","","","","","","","","","","","","","","","","","","","","","","","",""]
[null,null,null,null,null,null,null,null,null,{"$f":"IF(I67=\"\",\"\",E67+G67)","v":""},{"$f":"IF(I67=\"\",\"\",F67+H67)","v":""},{"$f":"IF(I67=\"\",\"\",IF(I67=\"Дома\",J67,K67))","v":""},{"$f":"IF(I67=\"\",\"\",IF(I67=\"Дома\",K67,J67))","v":""},"",{"$f":"IF(I67=\"\",\"\",O66+1)","v":""},"","","","","",{"$f":"IF(I67=\"\",\"\",P67*3+Q67)","v":""},"","","","","","","","","","","","","","",{"$f":"IF(I67=\"Гости\",L67+M67,\"\")","v":""}]
[null,null,null,null,null,null,null,null,null,"","","","","","",{"$f":"IF(I68=\"\",\"\",IF(N68=\"В\",P67+1,P67))","v":""},{"$f":"IF(I68=\"\",\"\",IF(N68=\"Н\",Q67+1,Q67))","v":""},{"$f":"IF(I68=\"\",\"\",IF(N68=\"П\",R67+1,R67))","v":""},{"$f":"IF(I68=\"\",\"\",S67+L68)","v":""},{"$f":"IF(I68=\"\",\"\",T67+M68)","v":""},"",{"$f":"IF(I68=\"\",\"\",IF(I68=\"Дома\",V67+1,V67+0))","v":""},{"$f":"IF(I68=\"\",\"\",IF(I68=\"Дома\",IF(N68=\"В\",W67+1,W67),W67))","v":""},{"$f":"IF(I68=\"\",\"\",IF(I68=\"Дома\",IF(N68=\"Н\",X67+1,X67),X67))","v":""},{"$f":"IF(I68=\"\",\"\",IF(I68=\"Дома\",IF(N68=\"П\",Y67+1,Y67),Y67))","v":""},{"$f":"IF(I68=\"\",\"\",IF(I68=\"Дома\",L68+Z67,Z67))","v":""},{"$f":"IF(I68=\"\",\"\",IF(I68=\"Дома\",M68+AA67,AA67))","v":""},{"$f":"IF(I68=\"\",\"\",IF(I68=\"Дома\",W68*3+X68,AB67))","v":""},{"$f":"IF(I68=\"\",\"\",IF(I68=\"Гости\",AC67+1,AC67+0))","v":""},{"$f":"IF(I68=\"\",\"\",IF(I68=\"Гости\",IF(N68=\"В\",AD67+1,AD67),AD67))","v":""},{"$f":"IF(I68=\"\",\"\",IF(I68=\"Гости\",IF(N68=\"Н\",AE67+1,AE67),AE67))","v":""},{"$f":"IF(I68=\"\",\"\",IF(I68=\"Гости\",IF(N68=\"П\",AF67+1,AF67),AF67))","v":""},{"$f":"IF(I68=\"\",\"\",IF(I68=\"Гости\",L68+AG67,AG67))","v":""},{"$f":"IF(I68=\"\",\"\",IF(I68=\"Гости\",M68+AH67,AH67))","v":""},{"$f":"IF(I68=\"\",\"\",IF(I68=\"Гости\",AD68*3+AE68,AI67))","v":""},""]
[null,null,null,null,null,null,null,null,null,"","","","","","","","","","","","","","","","","","","","","","","","","","",""]
[null,null,null,null,null,null,null,null,null,"","","","","","","","","","","","","","","","","","","","","","","","","","",""]
[null,null,null,null,null,null,null,null,null,"","","","","","","","","","","","","","","","","","","","","","","","","","",""]
[null,null,null,null,null,null,null,null,null,"","","","","","","","","","","","","","","","","","","","","","","","","","",""]
[null,null,null,null,null,null,null,null,null,"","","","","","","","","","","","","","","","","","","","","","","","","","",""]
[null,null,null,null,null,null,null,null,null,"","","","",{"$f":"IF(I74=\"\",\"\",IF(I74=\"Дома\",IF(J74>K74,\"В\",IF(J74=K74,\"Н\",\"П\")),IF(J74<K74,\"В\",IF(J74=K74,\"Н\",\"П\"))))","v":""},"","","","","","","","","","","","","","","","","","","","","",""]
[null,null,null,null,null,null,null,null,null,"","","","","","","","","","","","","","","","","","","","","","","","","","",""]
[null,null,null,null,null,null,null,null,null,"","","","","","","","","","","","","","","","","","","","","","","","","","",""]
[null,null,null,null,null,null,null,null,null,"","","","","","","","","","","","","","","","","","","","","","","","","","",""]
[null,null,null,null,null,null,null,null,null,"","","","","","","","","","","","","","","","","","","","","","","","","","",""]
[null,null,null,null,null,null,null,null,null,"","","","","","","","","","","","","","","","","","","","","","","","","","",""]
[null,null,null,null,null,null,null,null,null,"","","","","","","","","","","","","","","","","","","","","","","","","","",""]
[null,null,null,null,null,null,null,null,null,"","","","","","","","","","","","","","","","","","","","","","","","","","",""]
[null,null,null,null,null,null,null,null,null,"","","","","","","","","","","","","","","","","","","","","","","","","","",""]
[null,null,null,null,null,null,null,null,null,"","","","","","","","","","","","","","","","","","","","","","","","","","",""]
[null,null,null,null,null,null,null,null,null,"","","","","","","","","","","","","","","","","","","","","","","","","","",""]
[null,null,null,null,null,null,null,null,null,"","","","","","","","","","","","","","","","","","","","","","","","","","",""]
[null,null,null,null,null,null,null,null,null,"","","","","","","","","","","","","","","","","","","","","","","","","","",""]
[null,null,null,null,null,null,null,null,null,"","","","","","","","","","","","","","","","","","","","","","","","","","",""]
[null,null,null,null,null,null,null,null,null,"","","","","","","","","","","","","","","","","","","","","","","","","","",""]
[null,null,null,null,null,null,null,null,null,"","","","","","","","","","","","","","","","","","","","","","","","","","",""]
[null,null,null,null,null,null,null,null,null,"","","","","","","","","","","","","","","","","","","","","","","","","","",""]
[null,null,null,null,null,null,null,null,null,"","","","","","","","","","","","","","","","","","","","","","","","","","",""]
[null,null,null,null,null,null,null,null,null,"","","","","","","","","","","","","","","","","","","","","","","","","","",""]
[null,null,null,null,null,null,null,null,null,"","","","","","","","","","","","","","","","","","","","","","","","","","",""]
[null,null,null,null,null,null,null,null,null,"","","","","","","","","","","","","","","","","","","","","","","","","","",""]
[null,null,null,null,null,null,null,null,null,"","","","","","","","","","","","","","","","","","","","","","","","","","",""]
[null,null,null,null,null,null,null,null,null,"","","","","","","","","","","","","","","","","","","","","","","","","","",""]
[null,null,null,null,null,null,null,null,null,"","","","","","","","","","","","","","","","","","","","","","","","","","",""]
[null,null,null,null,null,null,null,null,null,"","","","","","","","","","","","","","","","","","","","","","","","","","",""]
[null,null,null,null,null,null,null,null,null,"","","","","","","","","","","","","","","","","","","","","","","","","","",""]
[null,null,null,null,null,null,null,null,null,"","","","","","","","","","","","","","","","","","","","","","","","","","",""]
[null,null,null,null,null,null,null,null,null,"","","","","","","","","","","","","","","","","","","","","","","","","","",""]
[null,null,null,null,null,null,null,null,null,"","","","","","","","","","","","","","","","","","","","","","","","","","",""]
[null,null,null,null,null,null,null,null,null,"","","","","","","","","","","","","","","","","","","","","","","","","","",""]
[null,null,null,null,null,null,null,null,null,"","","","","","","","","","","","","","","","","","","","","","","","","","",""]
[null,null,null,null,null,null,null,null,null,"","","","","","","","","","","","","","","","","","","","","","","","","","",""]
[null,null,null,null,null,null,null,null,null,"","","","","","","","","","","","","","","","","","","","","","","","","","",""]
[null,null,null,null,null,null,null,null,null,"","","","","","","","","","","","","","","","","","","","","","","","","","",""]
[null,null,null,null,null,null,null,null,null,"","","","","","","","","","","","","","","","","","","","","","","","","","",""]
[null,null,null,null,null,null,null,null,null,"","","","","","","","","","","","","","","","","","","","","","","","","","",""]
[null,null,null,null,null,null,null,null,null,"","","","","","","","","","","","","","","","","","","","","","","","","","",""]
[null,null,null,null,null,null,null,null,null,"","","","","","","","","","","","","","","","","","","","","","","","","","",""]
[null,null,null,null,null,null,null,null,null,"","","","","","","","","","","","","","","","","","","","","","","","","","",""]
[null,null,null,null,null,null,null,null,null,"","","","","","","","","","","","","","","","","","","","","","","","","","",""]
[null,null,null,null,null,null,null,null,null,"","","","","","","","","","","","","","","","","","","","","","","","","","",""]
[null,null,null,null,null,null,null,null,null,"","","","","","","","","","","","","","","","","","","","","","","","","","",""]
[null,null,null,null,null,null,null,null,null,"","","","","","","","","","","","","","","","","","","","","","","","","","",""]
[null,null,null,null,null,null,null,null,null,"","","","","","","","","","","","","","","","","","","","","","","","","","",""]
[null,null,null,null,null,null,null,null,null,"","","","","","","","","","","","","","","","","","","","","","","","","","",""]
[null,null,null,null,null,null,null,null,null,"","","","","","","","","","","","","","","","","","","","","","","","","","",""]
[null,null,null,null,null,null,null,null,null,"","","","","","","","","","","","","","","","","","","","","","","","","","",""]
[null,null,null,null,null,null,null,null,null,"","","","","","","","","","","","","","","","","","","","","","","","","","",""]
[null,null,null,null,null,null,null,null,null,"","","","","","","","","","","","","","","","","","","","","","","","","","",""]
[null,null,null,null,null,null,null,null,null,"","","","","","","","","","","","","","","","","","","","","","","","","","",""]
[null,null,null,null,null,null,null,null,null,"","","","","","","","","","","","","","","","","","","","","","","","","","",""]
[null,null,null,null,null,null,null,null,null,"","","","","","","","","","","","","","","","","","","","","","","","","","",""]
[null,null,null,null,null,null,null,null,null,"","","","","","","","","","","","","","","","","","","","","","","","","","",""]
[null,null,null,null,null,null,null,null,null,"","","","","","","","","","","","","","","","","","","","","","","","","","",""]
[null,null,null,null,null,null,null,null,null,"","","","","","","","","","","","","","","","","","","","","","","","","","",""]
[null,null,null,null,null,null,null,null,null,"","","","","","","","","","","","","","","","","","","","","","","","","","",""]
[null,null,null,null,null,null,null,null,null,"","","","","","","","","","","","","","","","","","","","","","","","","","",""]
[null,null,null,null,null,null,null,null,null,{"$f":"IF(I131=\"\",\"\",E131+G131)","v":""},{"$f":"IF(I131=\"\",\"\",F131+H131)","v":""},{"$f":"IF(I131=\"\",\"\",IF(I131=\"Дома\",J131,K131))","v":""},{"$f":"IF(I131=\"\",\"\",IF(I131=\"Дома\",K131,J131))","v":""},"",{"$f":"IF(I131=\"\",\"\",O130+1)","v":""},"","","","","",{"$f":"IF(I131=\"\",\"\",P131*3+Q131)","v":""},"","","","","","","","","","","","","","",{"$f":"IF(I131=\"Гости\",L131+M131,\"\")","v":""}]
[null,null,null,null,null,null,null,null,null,"","","","","","",{"$f":"IF(I132=\"\",\"\",IF(N132=\"В\",P131+1,P131))","v":""},{"$f":"IF(I132=\"\",\"\",IF(N132=\"Н\",Q131+1,Q131))","v":""},{"$f":"IF(I132=\"\",\"\",IF(N132=\"П\",R131+1,R131))","v":""},{"$f":"IF(I132=\"\",\"\",S131+L132)","v":""},{"$f":"IF(I132=\"\",\"\",T131+M132)","v":""},"",{"$f":"IF(I132=\"\",\"\",IF(I132=\"Дома\",V131+1,V131+0))","v":""},{"$f":"IF(I132=\"\",\"\",IF(I132=\"Дома\",IF(N132=\"В\",W131+1,W131),W131))","v":""},{"$f":"IF(I132=\"\",\"\",IF(I132=\"Дома\",IF(N132=\"Н\",X131+1,X131),X131))","v":""},{"$f":"IF(I132=\"\",\"\",IF(I132=\"Дома\",IF(N132=\"П\",Y131+1,Y131),Y131))","v":""},{"$f":"IF(I132=\"\",\"\",IF(I132=\"Дома\",L132+Z131,Z131))","v":""},{"$f":"IF(I132=\"\",\"\",IF(I132=\"Дома\",M132+AA131,AA131))","v":""},{"$f":"IF(I132=\"\",\"\",IF(I132=\"Дома\",W132*3+X132,AB131))","v":""},{"$f":"IF(I132=\"\",\"\",IF(I132=\"Гости\",AC131+1,AC131+0))","v":""},{"$f":"IF(I132=\"\",\"\",IF(I132=\"Гости\",IF(N132=\"В\",AD131+1,AD131),AD131))","v":""},{"$f":"IF(I132=\"\",\"\",IF(I132=\"Гости\",IF(N132=\"Н\",AE131+1,AE131),AE131))","v":""},{"$f":"IF(I132=\"\",\"\",IF(I132=\"Гости\",IF(N132=\"П\",AF131+1,AF131),AF131))","v":""},{"$f":"IF(I132=\"\",\"\",IF(I132=\"Гости\",L132+AG131,AG131))","v":""},{"$f":"IF(I132=\"\",\"\",IF(I132=\"Гости\",M132+AH131,AH131))","v":""},{"$f":"IF(I132=\"\",\"\",IF(I132=\"Гости\",AD132*3+AE132,AI131))","v":""},""]
[null,null,null,null,null,null,null,null,null,"","","","","","","","","","","","","","","","","","","","","","","","","","",""]
[null,null,null,null,null,null,null,null,null,"","","","","","","","","","","","","","","","","","","","","","","","","","",""]
[null,null,null,null,null,null,null,null,null,"","","","","","","","","","","","","","","","","","","","","","","","","","",""]
[null,null,null,null,null,null,null,null,null,"","","","","","","","","","","","","","","","","","","","","","","","","","",""]
[null,null,null,null,null,null,null,null,null,"","","","","","","","","","","","","","","","","","","","","","","","","","",""]
[null,null,null,null,null,null,null,null,null,"","","","",{"$f":"IF(I138=\"\",\"\",IF(I138=\"Дома\",IF(J138>K138,\"В\",IF(J138=K138,\"Н\",\"П\")),IF(J138<K138,\"В\",IF(J138=K138,\"Н\",\"П\"))))","v":""},"","","","","","","","","","","","","","","","","","","","","",""]
[null,null,null,null,null,null,null,null,null,"","","","","","","","","","","","","","","","","","","","","","","","","","",""]
[null,null,null,null,null,null,null,null,null,"","","","","","","","","","","","","","","","","","","","","","","","","","",""]
[null,null,null,null,null,null,null,null,null,"","","","","","","","","","","","","","","","","","","","","","","","","","",""]
[null,null,null,null,null,null,null,null,null,"","","","","","","","","","","","","","","","","","","","","","","","","","",""]
[null,null,null,null,null,null,null,null,null,"","","","","","","","","","","","","","","","","","","","","","","","","","",""]
[null,null,null,null,null,null,null,null,null,"","","","","","","","","","","","","","","","","","","","","","","","","","",""]
[null,null,null,null,null,null,null,null,null,"","","","","","","","","","","","","","","","","","","","","","","","","","",""]
[null,null,null,null,null,null,null,null,null,"","","","","","","","","","","","","","","","","","","","","","","","","","",""]
[null,null,null,null,null,null,null,null,null,"","","","","","","","","","","","","","","","","","","","","","","","","","",""]
[null,null,null,null,null,null,null,null,null,"","","","","","","","","","","","","","","","","","","","","","","","","","",""]
[null,null,null,null,null,null,null,null,null,"","","","","","","","","","","","","","","","","","","","","","","","","","",""]
[null,null,null,null,null,null,null,null,null,"","","","","","","","","","","","","","","","","","","","","","","","","","",""]

{"sheet":"Mill","index":4,"n_rows":97,"n_cols":25,"rows_kept":97,"cut":false,"hidden":false,"merged":[[23,24,24,24],[24,15,24,16],[17,1,17,4],[74,2,74,6],[1,12,1,14],[35,15,35,16],[35,17,35,19],[23,15,23,16],[23,17,23,19],[23,21,23,22],[25,21,25,22],[26,15,26,16],[27,21,27,22],[28,15,29,16],[31,15,31,16],[36,15,36,16],[38,15,38,16],[40,15,41,16],[43,15,43,16],[40,1,40,10],[42,1,42,4],[42,6,42,9],[43,1,43,4],[43,6,43,9],[44,1,44,4],[44,6,44,9],[45,1,45,4],[45,6,45,9],[51,1,51,10]]}
[]
[null,"Тест №1 Анализ 10 последних игр команд дома и в гостях",null,null,null,null,null,{"$f":"IF(ДомаДома!N2=\"В\",1,0)","v":0},{"$f":"IF(C7=\"Победа\",1,0)","v":0},{"$f":"IF(ГостиГости!N2=\"В\",1,0)","v":0},{"$f":"IF(E7=\"Победа\",1,0)","v":1},null,{"$f":"IF(F20>F21,B20,IF(F20<F21,B21,\"Ничья\"))","v":"Команда 2"}]
[null,null,null,null,null,null,null,{"$f":"IF(ДомаДома!N3=\"В\",1,0)","v":0},{"$f":"IF(C8=\"Победа\",1,0)","v":0},{"$f":"IF(ГостиГости!N3=\"В\",1,0)","v":0},{"$f":"IF(E8=\"Победа\",1,0)","v":0}]
[null,null,null,null,null,null,null,{"$f":"IF(ДомаДома!N4=\"В\",1,0)","v":0},0,{"$f":"IF(ГостиГости!N4=\"В\",1,0)","v":0},1]
[null,"Последние 10 игр команды 1",null,"Последние 10 игр команды 2",null,null,null,{"$f":"IF(ДомаДома!N5=\"В\",1,0)","v":0},0,{"$f":"IF(ГостиГости!N5=\"В\",1,0)","v":0},0]
[null,"№ игры","Исход","№ игры","Исход",null,null,{"$f":"IF(ДомаДома!N6=\"В\",1,0)","v":0},0,{"$f":"IF(ГостиГости!N6=\"В\",1,0)","v":0},0]
[null,1,{"$f":"IF(Дома!N2=\"В\",\"Победа\",IF(Дома!N2=\"П\",\"Поражение\",\"Ничья\"))","v":"Поражение"},1,{"$f":"IF(Гости!N2=\"В\",\"Победа\",IF(Гости!N2=\"П\",\"Поражение\",\"Ничья\"))","v":"Победа"},null,null,{"$f":"IF(ДомаДома!N7=\"В\",1,0)","v":0},0,{"$f":"IF(ГостиГости!N7=\"В\",1,0)","v":0},0]
[null,2,{"$f":"IF(Дома!N3=\"В\",\"Победа\",IF(Дома!N3=\"П\",\"Поражение\",\"Ничья\"))","v":"Ничья"},2,{"$f":"IF(Гости!N3=\"В\",\"Победа\",IF(Гости!N3=\"П\",\"Поражение\",\"Ничья\"))","v":"Поражение"},null,null,{"$f":"IF(ДомаДома!N8=\"В\",1,0)","v":1},0,{"$f":"IF(ГостиГости!N8=\"В\",1,0)","v":0},0]
[null,3,{"$f":"IF(Дома!N4=\"В\",\"Победа\",IF(Дома!N4=\"П\",\"Поражение\",\"Ничья\"))","v":"Поражение"},3,{"$f":"IF(Гости!N4=\"В\",\"Победа\",IF(Гости!N4=\"П\",\"Поражение\",\"Ничья\"))","v":"Победа"},null,null,{"$f":"IF(ДомаДома!N9=\"В\",1,0)","v":0},0,{"$f":"IF(ГостиГости!N9=\"В\",1,0)","v":1},0]
[null,4,{"$f":"IF(Дома!N5=\"В\",\"Победа\",IF(Дома!N5=\"П\",\"Поражение\",\"Ничья\"))","v":"Ничья"},4,{"$f":"IF(Гости!N5=\"В\",\"Победа\",IF(Гости!N5=\"П\",\"Поражение\",\"Ничья\"))","v":"Ничья"},null,null,{"$f":"IF(ДомаДома!N10=\"В\",1,0)","v":0},0,{"$f":"IF(ГостиГости!N10=\"В\",1,0)","v":0},1]
[null,5,{"$f":"IF(Дома!N6=\"В\",\"Победа\",IF(Дома!N6=\"П\",\"Поражение\",\"Ничья\"))","v":"Ничья"},5,{"$f":"IF(Гости!N6=\"В\",\"Победа\",IF(Гости!N6=\"П\",\"Поражение\",\"Ничья\"))","v":"Ничья"},null,null,{"$f":"IF(ДомаДома!N11=\"В\",1,0)","v":1},0,{"$f":"IF(ГостиГости!N11=\"В\",1,0)","v":0},0]
[null,6,{"$f":"IF(Дома!N7=\"В\",\"Победа\",IF(Дома!N7=\"П\",\"Поражение\",\"Ничья\"))","v":"Поражение"},6,{"$f":"IF(Гости!N7=\"В\",\"Победа\",IF(Гости!N7=\"П\",\"Поражение\",\"Ничья\"))","v":"Ничья"},null,null,{"$f":"SUM(H2:H11)","v":2},{"$f":"SUM(I2:I11)","v":0},{"$f":"SUM(J2:J11)","v":1},{"$f":"SUM(K2:K11)","v":3},null,null,null,null,{"$f":"IF(C7=\"Победа\",2,IF(C7=\"Ничья\",1,0))","v":0},{"$f":"IF(C7=\"Победа\",1,0)","v":0},{"$f":"IF(E7=\"Победа\",2,IF(E7=\"Ничья\",1,0))","v":2},{"$f":"IF(E7=\"Победа\",1,0)","v":1}]
[null,7,{"$f":"IF(Дома!N8=\"В\",\"Победа\",IF(Дома!N8=\"П\",\"Поражение\",\"Ничья\"))","v":"Ничья"},7,{"$f":"IF(Гости!N8=\"В\",\"Победа\",IF(Гости!N8=\"П\",\"Поражение\",\"Ничья\"))","v":"Ничья"},null,null,null,null,null,null,null,null,null,null,{"$f":"IF(C8=\"Победа\",2,IF(C8=\"Ничья\",1,0))","v":1},{"$f":"IF(C8=\"Победа\",1,0)","v":0},{"$f":"IF(E8=\"Победа\",2,IF(E8=\"Ничья\",1,0))","v":0},{"$f":"IF(E8=\"Победа\",1,0)","v":0}]
[null,8,{"$f":"IF(Дома!N9=\"В\",\"Победа\",IF(Дома!N9=\"П\",\"Поражение\",\"Ничья\"))","v":"Поражение"},8,{"$f":"IF(Гости!N9=\"В\",\"Победа\",IF(Гости!N9=\"П\",\"Поражение\",\"Ничья\"))","v":"Поражение"},null,null,null,null,null,null,null,null,null,null,0,0,2,1]
[null,9,{"$f":"IF(Дома!N10=\"В\",\"Победа\",IF(Дома!N10=\"П\",\"Поражение\",\"Ничья\"))","v":"Поражение"},9,{"$f":"IF(Гости!N10=\"В\",\"Победа\",IF(Гости!N10=\"П\",\"Поражение\",\"Ничья\"))","v":"Победа"},null,null,null,null,null,null,null,null,null,null,1,0,1,0]
[null,10,{"$f":"IF(Дома!N11=\"В\",\"Победа\",IF(Дома!N11=\"П\",\"Поражение\",\"Ничья\"))","v":"Ничья"},10,{"$f":"IF(Гости!N11=\"В\",\"Победа\",IF(Гости!N11=\"П\",\"Поражение\",\"Ничья\"))","v":"Ничья"},null,null,null,null,null,null,null,null,null,null,1,0,1,0]
[null,null,null,null,null,null,null,null,null,null,null,null,null,null,null,0,0,1,0]
[null,"Итог анализа Теста №1",null,null,null,null,null,{"$f":"SUM(H2:H6)","v":0},{"$f":"SUM(I2:I6)","v":0},{"$f":"SUM(J2:J6)","v":0},{"$f":"SUM(K2:K6)","v":2},null,null,null,null,1,0,1,0]
[null,"Команда ","Очки","Значение Теста","Число","ИТОГ",null,null,null,null,null,null,null,null,null,0,0,0,0]
[null,"Команда 1",{"$f":"P22","v":5},{"$f":"IF(C20>18,4,IF(C20>15,3,IF(C20>10,2,IF(C20>5,1,0))))","v":0},{"$f":"IF(Q22>=9,3,IF(Q22>=6,2,IF(Q22>=4,1,0)))","v":0},{"$f":"IF(C20>C21,1,0)+IF(D20>D21,1,0)+E20","v":0},null,null,null,null,null,null,null,null,null,0,0,2,1]
[null,"Команда 2",{"$f":"R22","v":11},{"$f":"IF(C21>18,4,IF(C21>15,3,IF(C21>10,2,IF(C21>5,1,0))))","v":2},{"$f":"IF(S22>=9,3,IF(S22>=6,2,IF(S22>=4,1,0)))","v":0},{"$f":"IF(C21>C20,1,0)+IF(D21>D20,1,0)+E21","v":2},null,null,null,null,null,null,null,null,null,{"$f":"IF(C16=\"Победа\",2,IF(C16=\"Ничья\",1,0))","v":1},0,{"$f":"IF(E16=\"Победа\",2,IF(E16=\"Ничья\",1,0))","v":1},{"$f":"IF(E16=\"Победа\",1,0)","v":0}]
[null,null,null,"    Последние  три  игры  команд  между  собой",null,null,null,null,null,null,null,null,null,null,null,{"$f":"SUM(P12:P21)","v":5},{"$f":"SUM(Q12:Q21)","v":0},{"$f":"SUM(R12:R21)","v":11},{"$f":"SUM(S12:S21)","v":3}]
[null,null,"КОМАНДА 1","гости","Очки",null,null,"хозяева","КОМАНДА 2","Очки","Уверенная победа команды 1"]
[null,"1 игра",{"$f":"ДомаДома!L2","v":2},{"$f":"ДомаДома!M2","v":2},{"$f":"IF(C24>D24,2+(C24-D24),IF(C24=D24,1,0))","v":1},null,"1 игра",{"$f":"ГостиГости!M2","v":4},{"$f":"ГостиГости!L2","v":0},{"$f":"IF(I24>H24,2+(I24-H24),IF(H24=I24,1,0))","v":0},"Уверенная победа команды 2",null,null,null,null,{"$f":"Очные!A1","v":"Флямуртари"},null,"ввод данных",null,null,null,"РАСЧЁТ ДАННЫХ",null,"Очки","Итоговые очки"]
[null,"2 игра",{"$f":"ДомаДома!L3","v":1},{"$f":"ДомаДома!M3","v":1},{"$f":"IF(C25>D25,2+(C25-D25),IF(C25=D25,1,0))","v":1},null,"2 игра",{"$f":"ГостиГости!M3","v":0},{"$f":"ГостиГости!L3","v":0},{"$f":"IF(I25>H25,2+(I25-H25),IF(H25=I25,1,0))","v":1},"П1 с небольшой разницей в счёте",null,null,null,null,"Место в турнирной таблице",null,{"$f":"VLOOKUP(P24,P46:Q78,2,FALSE)","v":10},"из",{"$f":"MAX(Таблица!A:A)","v":10}]
[null,"3 игра",{"$f":"ДомаДома!L4","v":1},{"$f":"ДомаДома!M4","v":1},{"$f":"IF(C26>D26,2+(C26-D26),IF(C26=D26,1,0))","v":1},null,"3 игра",{"$f":"ГостиГости!M4","v":0},{"$f":"ГостиГости!L4","v":0},{"$f":"IF(I26>H26,2+(I26-H26),IF(H26=I26,1,0))","v":1},"П2 с небольшой разницей в счёте",null,null,null,null,null,null,null,null,null,null,"Команда1",null,{"$f":"S46+S47+IF(R27>R39,U46,0)","v":8},{"$f":"X26*U47","v":6}]
[null,null,null,"Итого:",{"$f":"SUM(E24,E25,E26) +1","v":4},null,null,null,"Итого:",{"$f":"SUM(J24,J25,J26)","v":2},"Наиболее вероятен исход 1Х",null,null,null,null,"Сколько мячей забито",null,{"$f":"VLOOKUP(P24,Таблица!B2:G45,6,FALSE)","v":12}]
[null,"какая команда дома","Счёт","Счёт","Очки","Какая команда победила ","Какая команда в гостях",null,null,null,"Наиболее вероятен исход Х2",null,null,null,null,null,null,null,null,null,null,"Команда2",null,{"$f":"T46+T47+IF(R39>R27,U46,0)","v":4},{"$f":"X28*U48","v":2.5}]
[null,{"$f":"IF(Очные!C2=Очные!A1,1,2)","v":2},{"$f":"Очные!E2","v":0},{"$f":"Очные!F2","v":0},{"$f":"IF(C29>D29,3+(C29-D29),IF(C29=D29,1,IF(D29>C29,3+(D29-C29),0)))","v":1},{"$f":"IF(C29>D29,B29,IF(D29>C29,G29,0))","v":0},{"$f":"IF(B29=2,1,2)","v":1},null,null,{"$f":"IF(F29=0,1,0)","v":1},"Лучше взять фору 1 (+1)",null,null,null,null,"Сколько мячей забито за  последние 3 игры дома",null,{"$f":"ДомаДома!S4","v":4}]
[null,{"$f":"IF(Очные!C3=Очные!A1,1,2)","v":2},{"$f":"Очные!E3","v":0},{"$f":"Очные!F3","v":0},{"$f":"IF(C30>D30,3+(C30-D30),IF(C30=D30,0,IF(D30>C30,3+(D30-C30),0)))","v":0},{"$f":"IF(C30>D30,B30,IF(D30>C30,G30,0))","v":0},{"$f":"IF(B30=2,1,2)","v":1},null,null,{"$f":"IF(B29=2,1,0)","v":1},"Лучше взять фору 2 (+1)"]
[null,{"$f":"IF(Очные!C4=Очные!A1,1,2)","v":2},{"$f":"Очные!E4","v":0},{"$f":"Очные!F4","v":0},{"$f":"IF(C31>D31,3+(C31-D31),IF(C31=D31,0,IF(D31>C31,3+(D31-C31),0)))","v":0},{"$f":"IF(C31>D31,B31,IF(D31>C31,G31,0))","v":0},{"$f":"IF(B31=2,1,2)","v":1},null,null,{"$f":"IF(J30=J29,1,0)","v":1},"Х но с прейимуществом 1 команды"]
[null,"ИТОГ",null,null,null,null,null,null,null,null,"Х но с прейимуществом 2 команды",null,null,null,null,"Игр сыграно за сезон",null,{"$f":"VLOOKUP(P24,Таблица!B2:C50,2,FALSE)","v":16}]
[null,"Дополнительная информация, НЕОБЯЗАТЕЛЬНО для заполнения: "]
[null,"Кто выше в турнирной таблице?",null,{"$f":"IF(R25<R37,1,2)","v":2},{"$f":"IF(C38>D38,1,IF(C38=D38,0,2))","v":1},{"$f":"IF(E34=1,C38-D38,IF(E34=2,D38-C38,0))","v":2},{"$f":"IF(D34=1,1,2)+IF(F34>0,99,0)","v":101},null,{"$f":"IF(G29=1,1,0)","v":1},{"$f":"IF(G29=2,1,0)","v":0}]
[null,null,1,2,"Для к1","Для к2",null,null,{"$f":"IF(G30=1,1,0)","v":1},{"$f":"IF(G30=2,1,0)","v":0}]
[null,"Очки",{"$f":"E27+IF(F29=1,E29,0)+IF(F30=1,E30,0)+IF(F31=1,E31,0)","v":4},{"$f":"J27+IF(F29=2,E29,0)+IF(F30=2,E30,0)+IF(F31=2,E31,0)","v":2},{"$f":"IF(E34=1,F34,0)","v":2},{"$f":"IF(E34=2,F34,0)","v":0},null,null,{"$f":"IF(G31=1,1,0)","v":1},{"$f":"IF(G31=2,1,0)","v":0},null,null,null,null,null,{"$f":"Очные!B1","v":"Теута"},null,"ввод данных",null,null,null,"Вероятный исход в процентах"]
[null,"Доп. Очки",{"$f":"IF(J315=1,1,0)","v":0},null,{"$f":"IF(E36>12,K23,IF(E36>7,K25,IF(E36>4,K27,IF(E36>0,K29,0))))","v":"Лучше взять фору 1 (+1)"},{"$f":"IF(F36>13,K24,IF(F36>7,K26,IF(F36>4,K28,IF(F36>0,K30,0))))","v":0},null,null,{"$f":"SUM(I34:I36)","v":3},{"$f":"SUM(J34:J36)","v":0},null,null,null,null,null,"Место в турнирной таблице",null,{"$f":"VLOOKUP(P36,P46:Q78,2,FALSE)","v":6},"из",{"$f":"T25","v":10},null,"П1",{"$f":"(X26/S49)*100","v":22.857142857142858},"П2",{"$f":"(X28/S49)*100","v":11.428571428571429}]
[null,"Итоговые:",{"$f":"SUM(C36,C37)","v":4},{"$f":"SUM(D36,D37)","v":2}]
[null,"ИТОГО:",{"$f":"IF(E34=1,E37,IF(G34=1,K31,IF(E34=2,F37,K32)))","v":"Лучше взять фору 1 (+1)"},null,null,null,null,null,null,null,null,null,null,null,null,"Сколько мячей забито",null,{"$f":"VLOOKUP(P36,Таблица!B2:G45,6,FALSE)","v":10},null,null,null,null,"Ничья",{"$f":"100-(W37+Y37)","v":65.714285714285722}]
[]
[null,"Тест №3 Общая теория",null,null,null,null,null,null,null,null,null,null,null,null,null,"Мячей забито за  последние 3 игры в гостях",null,{"$f":"ГостиГости!S4","v":0}]
[null,null,null,null,null,null,null,null,null,null,null,null,null,null,null,null,null,null,null,null,null,"ТМ 2,5",{"$f":"100-Y42","v":65.601092896174862},"ТБ2,5",{"$f":"(S53/T52)*100-10","v":34.398907103825138}]
[null,"Расчёт команды 1",null,null,null,"Число","Расчёт команды 2",null,null,null,"Число"]
[null,"Сколько Побед из 5 последних игр дома",null,null,null,{"$f":"H18","v":0},"Сколько Побед из 5 последних игр в гостях",null,null,null,{"$f":"J18","v":0},null,null,null,null,"Игр сыграно за сезон",null,{"$f":"VLOOKUP(P36,Таблица!B2:C50,2,FALSE)","v":16}]
[null,"Сколько Побед из 5 последних игр вообще",null,null,null,{"$f":"I18","v":0},"Сколько Побед из 5 последних игр вообще",null,null,null,{"$f":"K18","v":2}]
[null,"Сколько Побед из 3 последних игр между командами",null,null,null,{"$f":"I37","v":3},"Сколько Побед из 3 последних игр между командами",null,null,null,0,null,null,null,null,{"$f":"Таблица!B2","v":"Кукеси"},{"$f":"Таблица!A2","v":1},null,{"$f":"T25-R25","v":0},{"$f":"T37-R37","v":4},{"$f":"IF(R27>R39,R27-R39,IF(R39>R27,R39-R27,0))","v":2}]
[null,null,null,null,null,{"$f":"SUM(F44:F46)/13","v":0.23076923076923078},null,null,null,null,{"$f":"SUM(K44:K46)/13","v":0.15384615384615385},null,null,null,null,{"$f":"Таблица!B3","v":"Билис"},{"$f":"Таблица!A3","v":2},null,{"$f":"(R29*3)/2","v":6},{"$f":"(R41*3)/2","v":0},{"$f":"R27/R32","v":0.75}]
[null,null,null,null,null,{"$f":"(1+1-1)/3","v":0.33333333333333331},null,null,null,null,{"$f":"(1+1-1)/3","v":0.33333333333333331},null,null,null,null,{"$f":"Таблица!B4","v":"Тирана"},{"$f":"Таблица!A4","v":3},null,null,null,{"$f":"R39/R44","v":0.625}]
[null,null,null,null,null,{"$f":"F47/F48","v":0.6923076923076924},1,{"$f":"F49+G49+K49","v":2.1538461538461542},"Итог",{"$f":"IF(F50>K50,\"Победа 1\",IF(K50>F50,\"Победа 2\",\"Ничья\"))","v":"Победа 1"},{"$f":"K47/K48","v":0.46153846153846156},null,null,null,null,{"$f":"Таблица!B5","v":"Партизани"},{"$f":"Таблица!A5","v":4},null,{"$f":"T25-1+5+((R32+R44)/2)+(((R27+R44)/2)/2)-2","v":35}]
[null,null,null,null,null,{"$f":"((H49-F49)*F49)/3","v":0.33727810650887585},null,{"$f":"(H49-G49)*1/3","v":0.38461538461538475},null,null,{"$f":"((H49-K49)*K49)/3","v":0.26035502958579887},null,null,null,null,{"$f":"Таблица!B6","v":"Лячи"},{"$f":"Таблица!A6","v":5}]
[null,null,null,null,null,null,null,null,null,null,null,null,null,null,null,{"$f":"Таблица!B7","v":"Теута"},{"$f":"Таблица!A7","v":6},null,{"$f":"(R27/R32)+R29/3","v":2.083333333333333},{"$f":"(R32+R44)/2","v":16}]
[null,"Тест №4 Тоталы",null,null,null,null,null,null,null,null,null,null,null,null,null,{"$f":"Таблица!B8","v":"Влазния"},{"$f":"Таблица!A8","v":7},null,{"$f":"R39/R44+R41/3","v":0.625},{"$f":"((T51/4)*3+(T51/2)+(T51)+(T51/5)*4)/T51","v":3.05}]
[null,"Второй анализ.","Команда 1","Команда 2",{"$f":"C54*C55","v":1.2000000000000002},{"$f":"D54+D55","v":0.83333333333333337},"Победа 1",null,null,null,null,null,null,null,null,{"$f":"Таблица!B9","v":"Скендербеу"},{"$f":"Таблица!A9","v":8},null,{"$f":"(S51+S52)/2","v":1.3541666666666665}]
[null,"Забьёт в абстрактном матче ",{"$f":"(C24+C25+C26+1+H24+H25+H26)/6","v":1.5},{"$f":"(D24+D25+D26+I24+I25+I26+1)/6","v":0.83333333333333337},{"$f":"E53/F53","v":1.4400000000000002},{"$f":"F53/E53","v":0.69444444444444442},"Победа 2",null,null,null,null,null,null,null,null,{"$f":"Таблица!B10","v":"Люфтетари Гирокастра"},{"$f":"Таблица!A10","v":9}]
[null,"Забьёт/пропустит в конкретном",{"$f":"(C24+C25+C26)/(D24+D25+D26+1)","v":0.8},{"$f":"(I24+I25+I26)/(H24+H25+H26+1)","v":0},null,null,"Ничья","Итог",{"$f":"IF(E56>F56,G53,IF(F56>E56,G54,G55))","v":"Победа 1"},null,null,null,null,null,null,{"$f":"Таблица!B11","v":"Флямуртари"},{"$f":"Таблица!A11","v":10}]
[null,"Забьёт в этом матче",{"$f":"E54","v":1.4400000000000002},{"$f":"F54","v":0.69444444444444442},{"$f":"C54+C55+C56","v":3.74},{"$f":"D54+D55+D56","v":1.5277777777777777},null,null,null,null,null,null,null,null,null,{"$f":"Таблица!B12","v":0},{"$f":"Таблица!A12","v":0}]
[null,null,null,null,null,null,null,null,null,null,null,null,null,null,null,{"$f":"Таблица!B13","v":0},{"$f":"Таблица!A13","v":0}]
[null,null,"Mill+ Исход",null,null,null,null,null,null,null,null,null,null,null,null,{"$f":"Таблица!B14","v":0},{"$f":"Таблица!A14","v":0}]
[null,null,null,null,null,null,null,null,null,null,null,null,null,null,null,{"$f":"Таблица!B15","v":0},{"$f":"Таблица!A15","v":0}]
[null,"Первая партия",null,null,null,null,"Первая партия",null,null,null,null,null,null,null,null,{"$f":"Таблица!B16","v":0},{"$f":"Таблица!A16","v":0}]
[null,"Игра","Команда 1","Гости","Очки",null,"Игра","Домашняя ","Команда 2","Очки",null,null,null,null,null,{"$f":"Таблица!B17","v":0},{"$f":"Таблица!A17","v":0}]
[null,"1 игра",{"$f":"ДомаДома!L2","v":2},{"$f":"ДомаДома!M2","v":2},{"$f":"IF(C62>D62,2+(C62-D62),IF(C62=D62,1,0))","v":1},null,"1 игра",{"$f":"ГостиГости!M2","v":4},{"$f":"ГостиГости!L2","v":0},{"$f":"IF(I62>H62,2+(I62-H62),IF(H62=I62,1,0))","v":0},null,null,null,null,null,{"$f":"Таблица!B18","v":0},{"$f":"Таблица!A18","v":0}]
[null,"2 игра",{"$f":"ДомаДома!L3","v":1},{"$f":"ДомаДома!M3","v":1},{"$f":"IF(C63>D63,2+(C63-D63),IF(C63=D63,1,0))","v":1},null,"2 игра",{"$f":"ГостиГости!M3","v":0},{"$f":"ГостиГости!L3","v":0},{"$f":"IF(I63>H63,2+(I63-H63),IF(H63=I63,1,0))","v":1},null,null,null,null,null,{"$f":"Таблица!B19","v":0},{"$f":"Таблица!A19","v":0}]
[null,null,null,"Итог:",{"$f":"E62+E63","v":2},null,null,null,"Итог:",{"$f":"J62+J63","v":1},null,null,null,null,null,{"$f":"Таблица!B20","v":0},{"$f":"Таблица!A20","v":0}]
[null,"Вторая партия",null,null,null,null,"Вторая партия",null,null,null,null,null,null,null,null,{"$f":"Таблица!B21","v":0},{"$f":"Таблица!A21","v":0}]
[null,"Игра","Команда 1","Гости","Очки",null,"Игра","Домашняя ","Команда2","Очки",null,null,null,null,null,{"$f":"Таблица!B22","v":0},{"$f":"Таблица!A22","v":0}]
[null,"5 игра ",{"$f":"ДомаДома!L6","v":1},{"$f":"ДомаДома!M6","v":3},0,null,"5 игра ",{"$f":"ГостиГости!M6","v":3},{"$f":"ГостиГости!L6","v":0},{"$f":"IF(I67>H67,2+(I67-H67),IF(H67=I67,1,0))","v":0},null,null,null,null,null,{"$f":"Таблица!B23","v":0},{"$f":"Таблица!A23","v":0}]
[null,"6 игра",{"$f":"ДомаДома!L7","v":2},{"$f":"ДомаДома!M7","v":2},1,null,"6 игра",{"$f":"ГостиГости!M7","v":1},{"$f":"ГостиГости!L7","v":1},{"$f":"IF(I68>H68,2+(I68-H68),IF(H68=I68,1,0))","v":1},null,null,null,null,null,{"$f":"Таблица!B24","v":0},{"$f":"Таблица!A24","v":0}]
[null,null,null,"Итог:",{"$f":"SUM(E67:E68)","v":1},null,null,null,"Итог:",{"$f":"J67+J68","v":1},null,null,null,null,null,{"$f":"Таблица!B25","v":0},{"$f":"Таблица!A25","v":0}]
[null,"Сколько побед за последни 10 игр:",null,null,{"$f":"H12","v":2},null,"Сколько побед за последни 10 игр:",null,null,{"$f":"J12","v":1},null,null,null,null,null,{"$f":"Таблица!B26","v":0},{"$f":"Таблица!A26","v":0}]
[null,"Итоговые очки:",null,"Очки","Динамика","Итоговые очки",null,"10BUH1","10BUH2",null,null,null,null,null,null,{"$f":"Таблица!B27","v":0},{"$f":"Таблица!A27","v":0}]
[null,"Команда 1",null,{"$f":"E64+E69+IF(F29=1,E29,0)+IF(F30=1,E30,0)+IF(F31=1,E31,0)","v":3},{"$f":"IF(E64>E69,2,IF(E64=E69,1,0))","v":2},{"$f":"IF(E72=2,D72+(D72*0.3),IF(E72=1,D72,IF(E72=0,D72-(D72*0.3),0)))+IF(E64>J64,(D72*0.15),0)+H72","v":3.7499999999999996},null,{"$f":"IF(E70<=4,-(D72*0.2),IF(E70>=6,D72*0.1,IF(E70>=9,D72*0.2,0)))","v":-0.60000000000000009},{"$f":"IF(J70<=4,-(D73*0.2),IF(J70>=6,D73*0.1,IF(J70>=9,D73*0.2,0)))","v":-0.4},null,null,null,null,null,null,{"$f":"Таблица!B28","v":0},{"$f":"Таблица!A28","v":0}]
[null,"Команда 2",null,{"$f":"J64+J69+IF(F29=2,E29,0)+IF(F30=2,E30,0)+IF(F31=2,E31,0)","v":2},{"$f":"IF(J64>J69,2,IF(J64=J69,1,0))","v":1},{"$f":"IF(E73=2,D73+(D73*0.3),IF(E73=1,D73,IF(E73=0,D73-(D73*0.3),0)))+IF(J64>E64,(D73*0.15),0)+I72","v":1.6},null,"КТО ПОБЕДИЛ","Разница",null,null,null,null,null,null,{"$f":"Таблица!B29","v":0},{"$f":"Таблица!A29","v":0}]
[null,null,null,null,null,null,null,{"$f":"IF(F72>F73,1,IF(F72=F73,0,2))","v":1},{"$f":"IF(H74=1,F72-F73,IF(H74=2,F73-F72,0))","v":2.1499999999999995},null,null,null,null,null,null,{"$f":"Таблица!B30","v":0},{"$f":"Таблица!A30","v":0}]
[null,"Mill+(Исход):",{"$f":"IF(H74=1,I76,I77)","v":"Наиболее веротяен исход : ФОРА 1(+1)"},null,null,null,null," Победа 1","ИТОГ",null,null,null,null,null,null,{"$f":"Таблица!B31","v":0},{"$f":"Таблица!A31","v":0}]
[null,null,null,null,null,null,null," Победа 2",{"$f":"IF(I74<6,H79,IF(I74<10,H77,H75))","v":"Наиболее веротяен исход : ФОРА 1(+1)"},null,null,null,null,null,null,{"$f":"Таблица!B32","v":0},{"$f":"Таблица!A32","v":0}]
[null,null,null,null,null,null,null,"Наиболее веротяен исход : 1Х",{"$f":"IF(I74<6,H80,IF(I74<10,H78,H76))","v":"Наиболее веротяен исход : ФОРА 2(+1)"},null,null,null,null,null,null,{"$f":"Таблица!B33","v":0},{"$f":"Таблица!A33","v":0}]
[null,null,null,null,null,null,null,"Наиболее веротяен исход : Х2",null,null,null,null,null,null,null,{"$f":"Таблица!B34","v":0},{"$f":"Таблица!A34","v":0}]
[null,null,null,null,null,null,null,"Наиболее веротяен исход : ФОРА 1(+1)"]
[null,null,null,null,null,null,null,"Наиболее веротяен исход : ФОРА 2(+1)"]
[]
[]
[]
[]
[]
[]
[]
[]
[null,null,null,"Фут17",null,null,"ОЗ","Тотал","1й забьет",{"$f":"IF(C97>D97,\"1 тайм П1\",IF(D97>C97,\"1 тайм П2\",\"1 тайм Х\"))","v":"1 тайм Х"},{"$f":"C97& \" - \" &D97","v":"0 - 0"}]
[null,null,{"$f":"IF(C91-TRUNC(C91)>=0.7,TRUNC(C91)+1,TRUNC(C91))","v":0},{"$f":"IF(D91-TRUNC(D91)>=0.7,TRUNC(D91)+1,TRUNC(D91))","v":1},null,null,{"$f":"IF(AND(C90>0,D90>0),\"ОЗ-Да\",\"ОЗ-Нет\")","v":"ОЗ-Нет"},{"$f":"IF(C90+D90>2,\"2,5 ТБ\",\"2,5 ТМ\")","v":"2,5 ТМ"},{"$f":"IF(C92>D92,P24,P36)","v":"Теута"},{"$f":"IF(C90>D90,\"Матч П 1\",IF(D90>C90,\"Матч П 2\",\"Матч X\"))","v":"Матч П 2"},{"$f":"C90& \" - \" &D90","v":"0 - 1"}]
[null,null,{"$f":"SUM(C93:C95)","v":0.48},{"$f":"SUM(D93:D95)","v":0.92000000000000015},null,null,null,null,null,{"$f":"J89&\"   /  \"&J90","v":"1 тайм Х   /  Матч П 2"}]
[null,null,{"$f":"C91/2","v":0.24},{"$f":"D91/2","v":0.46000000000000008}]
[{"$f":"IF(Очные!D2=Очные!B1,Очные!F2,Очные!E2)","v":0},{"$f":"AVERAGE(ДомаДома!L2:L6)","v":1.2},{"$f":"B93*0.4","v":0.48},{"$f":"E93*0.4","v":0.64000000000000012},{"$f":"AVERAGE(ДомаДома!M2:M6)","v":1.6},{"$f":"IF(Очные!C2=Очные!A1,Очные!E2,Очные!F2)","v":0}]
[{"$f":"IF(Очные!D3=Очные!B1,Очные!F3,Очные!E3)","v":0},{"$f":"AVERAGE(ГостиГости!L2:L6)","v":0},{"$f":"B94*0.2","v":0},{"$f":"E94*0.2","v":0.27999999999999997},{"$f":"AVERAGE(ГостиГости!M2:M6)","v":1.4},{"$f":"IF(Очные!C3=Очные!A1,Очные!E3,Очные!F3)","v":0}]
[{"$f":"IF(Очные!D4=Очные!B1,Очные!F4,Очные!E4)","v":0},{"$f":"AVERAGE(A93:A97)","v":0},{"$f":"B95*0.4","v":0},{"$f":"E95*0.4","v":0},{"$f":"AVERAGE(F93:F97)","v":0},{"$f":"IF(Очные!C4=Очные!A1,Очные!E4,Очные!F4)","v":0}]
[{"$f":"IF(Очные!D5=Очные!B1,Очные!F5,Очные!E5)","v":0},null,null,null,null,{"$f":"IF(Очные!C5=Очные!A1,Очные!E5,Очные!F5)","v":0}]
[{"$f":"IF(Очные!D6=Очные!B1,Очные!F6,Очные!E6)","v":0},null,{"$f":"IF(C92-TRUNC(C92)>=0.7,TRUNC(C92)+1,TRUNC(C92))","v":0},{"$f":"IF(D92-TRUNC(D92)>=0.7,TRUNC(D92)+1,TRUNC(D92))","v":0},null,{"$f":"IF(Очные!C6=Очные!A1,Очные!E6,Очные!F6)","v":0}]

{"sheet":"ГостиГости","index":5,"n_rows":150,"n_cols":42,"rows_kept":150,"cut":false,"hidden":true,"merged":[]}
["Чемпионат","Дата/Время","Дома","Гости","К1 в 1Т","К2 в 1Т","К1 во 2Т","К2 во 2Т","Где играли","К1 Голов","К2 Голов","Забито","Пропущено","Результат","Всего Игр","Всего выиграно","Всего ничьих","Всего проиграно","Всего забито","Всего пропущено","Всего очков","Дома игр","Дома выиграно","Дома ничьих","Дома проиграно","Дома забито","Дома пропущено","Дома очков","Гости игр","Гости выиграно","Гости ничьих","Гости проиграно","Гости забито","Гости пропущено","Гости очков",null,null,null,"2.5 +","2.5 -","GG","NG"]
["АЛБАНИЯ: Суперлига","2019.12.14 18:00","Кукеси","Теута",1,0,3,0,"Гости",{"$f":"IF(I2=\"\",\"\",E2+G2)","v":4},{"$f":"IF(I2=\"\",\"\",F2+H2)","v":0},{"$f":"IF(I2=\"\",\"\",IF(I2=\"Дома\",J2,K2))","v":0},{"$f":"IF(I2=\"\",\"\",IF(I2=\"Дома\",K2,J2))","v":4},{"$f":"IF(I2=\"\",\"\",IF(I2=\"Дома\",IF(J2>K2,\"В\",IF(J2=K2,\"Н\",\"П\")),IF(J2<K2,\"В\",IF(J2=K2,\"Н\",\"П\"))))","v":"П"},{"$f":"IF(I2=\"\",\"\",1)","v":1},{"$f":"IF(I2=\"\",\"\",IF(N2=\"В\",1,0))","v":0},{"$f":"IF(I2=\"\",\"\",IF(N2=\"Н\",1,0))","v":0},{"$f":"IF(I2=\"\",\"\",IF(N2=\"П\",1,0))","v":1},{"$f":"IF(I2=\"\",\"\",L2)","v":0},{"$f":"IF(I2=\"\",\"\",M2)","v":4},{"$f":"IF(I2=\"\",\"\",P2*3+Q2)","v":0},{"$f":"IF(I2=\"\",\"\",IF(I2=\"Дома\",1,0))","v":0},{"$f":"IF(I2=\"\",\"\",IF(I2=\"Дома\",IF(N2=\"В\",1,0),0))","v":0},{"$f":"IF(I2=\"\",\"\",IF(I2=\"Дома\",IF(N2=\"Н\",1,0),0))","v":0},{"$f":"IF(I2=\"\",\"\",IF(I2=\"Дома\",IF(N2=\"П\",1,0),0))","v":0},{"$f":"IF(I2=\"\",\"\",IF(I2=\"Дома\",L2,0))","v":0},{"$f":"IF(I2=\"\",\"\",IF(I2=\"Дома\",M2,0))","v":0},{"$f":"IF(I2=\"\",\"\",IF(I2=\"Дома\",W2*3+X2,0))","v":0},{"$f":"IF(I2=\"\",\"\",IF(I2=\"Гости\",1,0))","v":1},{"$f":"IF(I2=\"\",\"\",IF(I2=\"Гости\",IF(N2=\"В\",1,0),0))","v":0},{"$f":"IF(I2=\"\",\"\",IF(I2=\"Гости\",IF(N2=\"Н\",1,0),0))","v":0},{"$f":"IF(I2=\"\",\"\",IF(I2=\"Гости\",IF(N2=\"П\",1,0),0))","v":1},{"$f":"IF(I2=\"\",\"\",IF(I2=\"Гости\",L2,0))","v":0},{"$f":"IF(I2=\"\",\"\",IF(I2=\"Гости\",M2,0))","v":4},{"$f":"IF(I2=\"\",\"\",IF(I2=\"Гости\",AD2*3+AE2,0))","v":0},null,null,null,{"$f":"COUNTIF(AM4:AM18,AM1)","v":5},{"$f":"COUNTIF(AM4:AM18,AN1)","v":10},{"$f":"COUNTIF(AN4:AN18,AO1)","v":3},{"$f":"COUNTIF(AN4:AN18,AP1)","v":12}]
["АЛБАНИЯ: Суперлига","2019.11.24 18:30","Влазния","Теута",0,0,0,0,"Гости",{"$f":"IF(I3=\"\",\"\",E3+G3)","v":0},{"$f":"IF(I3=\"\",\"\",F3+H3)","v":0},{"$f":"IF(I3=\"\",\"\",IF(I3=\"Дома\",J3,K3))","v":0},{"$f":"IF(I3=\"\",\"\",IF(I3=\"Дома\",K3,J3))","v":0},{"$f":"IF(I3=\"\",\"\",IF(I3=\"Дома\",IF(J3>K3,\"В\",IF(J3=K3,\"Н\",\"П\")),IF(J3<K3,\"В\",IF(J3=K3,\"Н\",\"П\"))))","v":"Н"},{"$f":"IF(I3=\"\",\"\",O2+1)","v":2},{"$f":"IF(I3=\"\",\"\",IF(N3=\"В\",P2+1,P2))","v":0},{"$f":"IF(I3=\"\",\"\",IF(N3=\"Н\",Q2+1,Q2))","v":1},{"$f":"IF(I3=\"\",\"\",IF(N3=\"П\",R2+1,R2))","v":1},{"$f":"IF(I3=\"\",\"\",S2+L3)","v":0},{"$f":"IF(I3=\"\",\"\",T2+M3)","v":4},{"$f":"IF(I3=\"\",\"\",P3*3+Q3)","v":1},{"$f":"IF(I3=\"\",\"\",IF(I3=\"Дома\",V2+1,V2+0))","v":0},{"$f":"IF(I3=\"\",\"\",IF(I3=\"Дома\",IF(N3=\"В\",W2+1,W2),W2))","v":0},{"$f":"IF(I3=\"\",\"\",IF(I3=\"Дома\",IF(N3=\"Н\",X2+1,X2),X2))","v":0},{"$f":"IF(I3=\"\",\"\",IF(I3=\"Дома\",IF(N3=\"П\",Y2+1,Y2),Y2))","v":0},{"$f":"IF(I3=\"\",\"\",IF(I3=\"Дома\",L3+Z2,Z2))","v":0},{"$f":"IF(I3=\"\",\"\",IF(I3=\"Дома\",M3+AA2,AA2))","v":0},{"$f":"IF(I3=\"\",\"\",IF(I3=\"Дома\",W3*3+X3,AB2))","v":0},{"$f":"IF(I3=\"\",\"\",IF(I3=\"Гости\",AC2+1,AC2+0))","v":2},{"$f":"IF(I3=\"\",\"\",IF(I3=\"Гости\",IF(N3=\"В\",AD2+1,AD2),AD2))","v":0},{"$f":"IF(I3=\"\",\"\",IF(I3=\"Гости\",IF(N3=\"Н\",AE2+1,AE2),AE2))","v":1},{"$f":"IF(I3=\"\",\"\",IF(I3=\"Гости\",IF(N3=\"П\",AF2+1,AF2),AF2))","v":1},{"$f":"IF(I3=\"\",\"\",IF(I3=\"Гости\",L3+AG2,AG2))","v":0},{"$f":"IF(I3=\"\",\"\",IF(I3=\"Гости\",M3+AH2,AH2))","v":4},{"$f":"IF(I3=\"\",\"\",IF(I3=\"Гости\",AD3*3+AE3,AI2))","v":1}]
["АЛБАНИЯ: Суперлига","2019.11.09 15:30","Люфтетари Гирокастра","Теута",0,0,0,0,"Гости",0,0,0,0,"Н",3,{"$f":"IF(I4=\"\",\"\",IF(N4=\"В\",P3+1,P3))","v":0},{"$f":"IF(I4=\"\",\"\",IF(N4=\"Н\",Q3+1,Q3))","v":2},{"$f":"IF(I4=\"\",\"\",IF(N4=\"П\",R3+1,R3))","v":1},{"$f":"IF(I4=\"\",\"\",S3+L4)","v":0},{"$f":"IF(I4=\"\",\"\",T3+M4)","v":4},2,{"$f":"IF(I4=\"\",\"\",IF(I4=\"Дома\",V3+1,V3+0))","v":0},{"$f":"IF(I4=\"\",\"\",IF(I4=\"Дома\",IF(N4=\"В\",W3+1,W3),W3))","v":0},{"$f":"IF(I4=\"\",\"\",IF(I4=\"Дома\",IF(N4=\"Н\",X3+1,X3),X3))","v":0},{"$f":"IF(I4=\"\",\"\",IF(I4=\"Дома\",IF(N4=\"П\",Y3+1,Y3),Y3))","v":0},{"$f":"IF(I4=\"\",\"\",IF(I4=\"Дома\",L4+Z3,Z3))","v":0},{"$f":"IF(I4=\"\",\"\",IF(I4=\"Дома\",M4+AA3,AA3))","v":0},{"$f":"IF(I4=\"\",\"\",IF(I4=\"Дома\",W4*3+X4,AB3))","v":0},{"$f":"IF(I4=\"\",\"\",IF(I4=\"Гости\",AC3+1,AC3+0))","v":3},{"$f":"IF(I4=\"\",\"\",IF(I4=\"Гости\",IF(N4=\"В\",AD3+1,AD3),AD3))","v":0},{"$f":"IF(I4=\"\",\"\",IF(I4=\"Гости\",IF(N4=\"Н\",AE3+1,AE3),AE3))","v":2},{"$f":"IF(I4=\"\",\"\",IF(I4=\"Гости\",IF(N4=\"П\",AF3+1,AF3),AF3))","v":1},{"$f":"IF(I4=\"\",\"\",IF(I4=\"Гости\",L4+AG3,AG3))","v":0},{"$f":"IF(I4=\"\",\"\",IF(I4=\"Гости\",M4+AH3,AH3))","v":4},{"$f":"IF(I4=\"\",\"\",IF(I4=\"Гости\",AD4*3+AE4,AI3))","v":2},null,null,null,{"$f":"IF(J2+K2>2.5,\"2.5 +\",\"2.5 -\")","v":"2.5 +"},{"$f":"IF((IF(J2>=1,1,0)+IF(K2>=1,1,0))=2,\"GG\",\"NG\")","v":"NG"}]
["АЛБАНИЯ: Суперлига","2019.10.27 15:00","Билис","Теута",0,0,0,0,"Гости",0,0,0,0,"Н",4,0,3,1,0,4,3,0,0,0,0,0,0,0,4,0,3,1,0,4,3,null,null,null,{"$f":"IF(J3+K3>2.5,\"2.5 +\",\"2.5 -\")","v":"2.5 -"},{"$f":"IF((IF(J3>=1,1,0)+IF(K3>=1,1,0))=2,\"GG\",\"NG\")","v":"NG"}]
["АЛБАНИЯ: Суперлига","2019.10.23 14:00","Лячи","Теута",2,0,1,0,"Гости",3,0,0,3,"П",5,0,3,2,0,7,3,0,0,0,0,0,0,0,5,0,3,2,0,7,3,null,null,null,"2.5 -","NG"]
["АЛБАНИЯ: Суперлига","2019.10.05 18:00","Партизани","Теута",1,1,0,0,"Гости",1,1,1,1,"Н",6,0,4,2,1,8,4,0,0,0,0,0,0,0,6,0,4,2,1,8,4,null,null,null,"2.5 -","NG"]
["АЛБАНИЯ: Суперлига","2019.09.21 17:00","Скендербеу","Теута",1,0,0,0,"Гости",1,0,0,1,"П",7,0,4,3,1,9,4,0,0,0,0,0,0,0,7,0,4,3,1,9,4,null,null,null,"2.5 +","NG"]
["АЛБАНИЯ: Кубок Албании","2019.09.18 17:00","Тербуни","Теута",0,0,0,2,"Гости",0,2,2,0,{"$f":"IF(I9=\"\",\"\",IF(I9=\"Дома\",IF(J9>K9,\"В\",IF(J9=K9,\"Н\",\"П\")),IF(J9<K9,\"В\",IF(J9=K9,\"Н\",\"П\"))))","v":"В"},8,1,4,3,3,9,7,0,0,0,0,0,0,0,8,1,4,3,3,9,7,null,null,null,"2.5 -","GG"]
["АЛБАНИЯ: Суперлига","2019.08.27 20:00","Тирана","Теута",0,0,0,0,"Гости",0,0,0,0,{"$f":"IF(I10=\"\",\"\",IF(I10=\"Дома\",IF(J10>K10,\"В\",IF(J10=K10,\"Н\",\"П\")),IF(J10<K10,\"В\",IF(J10=K10,\"Н\",\"П\"))))","v":"Н"},9,1,5,3,3,9,8,0,0,0,0,0,0,0,9,1,5,3,3,9,8,null,null,null,"2.5 -","NG"]
["ЕВРОПА: Лига Европы - Квалификация","2019.07.11 17:45","Вентспилс","Теута",1,0,2,0,"Гости",3,0,0,3,"П",10,1,5,4,3,12,8,0,0,0,0,0,0,0,10,1,5,4,3,12,8,null,null,null,"2.5 -","NG"]
["МИР: Клубные товарищеские матчи","2019.07.03 18:45","Септември София","Теута",0,1,0,1,"Гости",0,2,2,0,"В",11,2,5,4,5,12,{"$f":"IF(I12=\"\",\"\",P12*3+Q12)","v":11},0,0,0,0,0,0,0,11,2,5,4,5,12,11,null,null,null,"2.5 -","NG"]
["АЛБАНИЯ: Суперлига","2019.05.26 17:30","Кастриоти","Теута",0,0,2,1,"Гости",2,1,1,2,"П",12,2,5,5,6,14,11,0,0,0,0,0,0,0,12,2,5,5,6,14,11,null,null,null,"2.5 +","NG"]
["АЛБАНИЯ: Суперлига","2019.05.12 17:30","Скендербеу","Теута",0,1,1,1,"Гости",1,2,2,1,"В",13,3,5,5,8,15,14,0,0,0,0,0,0,0,13,3,5,5,8,15,14,null,null,null,"2.5 -","NG"]
["АЛБАНИЯ: Суперлига","2019.04.28 17:00","Кукеси","Теута",0,0,0,0,"Гости",0,0,0,0,"Н",14,3,6,5,8,15,15,0,0,0,0,0,0,0,14,3,6,5,8,15,15,null,null,null,"2.5 +","GG"]
["АЛБАНИЯ: Суперлига","2019.04.20 18:00","Камза","Теута",0,0,0,0,"Гости",0,0,0,0,"Н",15,3,7,5,8,15,16,0,0,0,0,0,0,0,15,3,7,5,8,15,16,null,null,null,"2.5 +","GG"]
["АЛБАНИЯ: Суперлига","2019.04.10 19:30","Флямуртари","Теута",1,0,2,1,"Гости",3,1,1,3,"П",16,3,7,6,9,18,16,0,0,0,0,0,0,0,16,3,7,6,9,18,16,null,null,null,"2.5 -","NG"]
["АЛБАНИЯ: Суперлига","2019.04.06 16:45","Лячи","Теута",2,0,3,0,"Гости",5,0,0,5,"П",17,3,7,7,9,23,16,0,0,0,0,0,0,0,17,3,7,7,9,23,16,null,null,null,"2.5 -","NG"]
["АЛБАНИЯ: Кубок Албании","2019.04.03 18:00","Кукеси","Теута",0,0,1,0,"Гости",1,0,0,1,"П",18,3,7,8,9,24,16,0,0,0,0,0,0,0,18,3,7,8,9,24,16]
["АЛБАНИЯ: Суперлига","2019.03.17 19:00","Партизани","Теута",2,0,1,0,"Гости",3,0,0,3,"П",19,3,7,9,9,27,16,0,0,0,0,0,0,0,19,3,7,9,9,27,16]
["АЛБАНИЯ: Суперлига","2019.02.23 16:00","Люфтетари Гирокастра","Теута",1,0,0,0,"Гости",1,0,0,1,"П",20,3,7,10,9,28,16,0,0,0,0,0,0,0,20,3,7,10,9,28,16]
["АЛБАНИЯ: Суперлига","2019.02.01 20:00","Тирана","Теута",1,1,0,0,"Гости",1,1,1,1,"Н",21,3,8,10,10,29,17,0,0,0,0,0,0,0,21,3,8,10,10,29,17]
[null,null,null,null,null,null,null,null,null,"","","","","","","","","","","","","","","","","","","","","","","","","",""]
[null,null,null,null,null,null,null,null,null,"","","","","","","","","","","","","","","","","","","","","","","","","",""]
[null,null,null,null,null,null,null,null,null,"","","","","","","","","","","","","","","","","","","","","","","","","",""]
[null,null,null,null,null,null,null,null,null,"","","","","","","","","","","","","","","","","","","","","","","","","",""]
[null,null,null,null,null,null,null,null,null,"","","","","","","","","","","","","","","","","","","","","","","","","",""]
[null,null,null,null,null,null,null,null,null,"","","","","","","","","","","","","","","","","","","","","","","","","",""]
[null,null,null,null,null,null,null,null,null,"","","","","","","","","","","","","","","","","","","","","","","","","",""]
[null,null,null,null,null,null,null,null,null,"","","","","","","","","","","","","","","","","","","","","","","","","",""]
[null,null,null,null,null,null,null,null,null,"","","","","","","","","","","","","","","","","","","","","","","","","",""]
[null,null,null,null,null,null,null,null,null,"","","","","","","","","","","","","","","","","","","","","","","","","",""]
[null,null,null,null,null,null,null,null,null,"","","","","","","","","","","","","","","","","","","","","","","","","",""]
[null,null,null,null,null,null,null,null,null,"","","","","","","","","","","","","","","","","","","","","","","","","",""]
[null,null,null,null,null,null,null,null,null,"","","","","","","","","","","","","","","","","","","","","","","","","",""]
[null,null,null,null,null,null,null,null,null,"","","","","","","","","","","","","","","","","","","","","","","","","",""]
[null,null,null,null,null,null,null,null,null,"","","","","","","","","","","","","","","","","","","","","","","","","",""]
[null,null,null,null,null,null,null,null,null,"","","","","","","","","","","","","","","","","","","","","","","","","",""]
[null,null,null,null,null,null,null,null,null,"","","","","","","","","","","","","","","","","","","","","","","","","",""]
[null,null,null,null,null,null,null,null,null,"","","","","","","","","","","","","","","","","","","","","","","","","",""]
[null,null,null,null,null,null,null,null,null,"","","","","","","","","","","","","","","","","","","","","","","","","",""]
[null,null,null,null,null,null,null,null,null,"","","","","","","","","","","","","","","","","","","","","","","","","",""]
[null,null,null,null,null,null,null,null,null,"","","","","","","","","","","","","","","","","","","","","","","","","",""]
[null,null,null,null,null,null,null,null,null,"","","","","","","","","","","","","","","","","","","","","","","","","",""]
[null,null,null,null,null,null,null,null,null,"","","","","","","","","","","","","","","","","","","","","","","","","",""]
[null,null,null,null,null,null,null,null,null,"","","","","","","","","","","","","","","","","","","","","","","","","",""]
[null,null,null,null,null,null,null,null,null,"","","","","","","","","","","","","","","","","","","","","","","","","",""]
[null,null,null,null,null,null,null,null,null,"","","","","","","","","","","","","","","","","","","","","","","","","",""]
[null,null,null,null,null,null,null,null,null,"","","","","","","","","","","","","","","","","","","","","","","","","",""]
[null,null,null,null,null,null,null,null,null,"","","","","","","","","","","","","","","","","","","","","","","","","",""]
[null,null,null,null,null,null,null,null,null,"","","","","","","","","","","","","","","","","","","","","","","","","",""]
[null,null,null,null,null,null,null,null,null,"","","","","","","","","","","","","","","","","","","","","","","","","",""]
[null,null,null,null,null,null,null,null,null,"","","","","","","","","","","","","","","","","","","","","","","","","",""]
[null,null,null,null,null,null,null,null,null,"","","","","","","","","","","","","","","","","","","","","","","","","",""]
[null,null,null,null,null,null,null,null,null,"","","","","","","","","","","","","","","","","","","","","","","","","",""]
[null,null,null,null,null,null,null,null,null,"","","","","","","","","","","","","","","","","","","","","","","","","",""]
[null,null,null,null,null,null,null,null,null,"","","","","","","","","","","","","","","","","","","","","","","","","",""]
[null,null,null,null,null,null,null,null,null,"","","","","","","","","","","","","","","","","","","","","","","","","",""]
[null,null,null,null,null,null,null,null,null,"","","","","","","","","","","","","","","","","","","","","","","","","",""]
[null,null,null,null,null,null,null,null,null,"","","","","","","","","","","","","","","","","","","","","","","","","",""]
[null,null,null,null,null,null,null,null,null,"","","","","","","","","","","","","","","","","","","","","","","","","",""]
[null,null,null,null,null,null,null,null,null,"","","","","","","","","","","","","","","","","","","","","","","","","",""]
[null,null,null,null,null,null,null,null,null,"","","","","","","","","","","","","","","","","","","","","","","","","",""]
[null,null,null,null,null,null,null,null,null,"","","","","","","","","","","","","","","","","","","","","","","","","",""]
[null,null,null,null,null,null,null,null,null,"","","","","","","","","","","","","","","","","","","","","","","","","",""]
[null,null,null,null,null,null,null,null,null,"","","","","","","","","","","","","","","","","","","","","","","","","",""]
[null,null,null,null,null,null,null,null,null,{"$f":"IF(I67=\"\",\"\",E67+G67)","v":""},{"$f":"IF(I67=\"\",\"\",F67+H67)","v":""},{"$f":"IF(I67=\"\",\"\",IF(I67=\"Дома\",J67,K67))","v":""},{"$f":"IF(I67=\"\",\"\",IF(I67=\"Дома\",K67,J67))","v":""},"",{"$f":"IF(I67=\"\",\"\",O66+1)","v":""},"","","","","",{"$f":"IF(I67=\"\",\"\",P67*3+Q67)","v":""},"","","","","","","","","","","","","",""]
[null,null,null,null,null,null,null,null,null,"","","","","","",{"$f":"IF(I68=\"\",\"\",IF(N68=\"В\",P67+1,P67))","v":""},{"$f":"IF(I68=\"\",\"\",IF(N68=\"Н\",Q67+1,Q67))","v":""},{"$f":"IF(I68=\"\",\"\",IF(N68=\"П\",R67+1,R67))","v":""},{"$f":"IF(I68=\"\",\"\",S67+L68)","v":""},{"$f":"IF(I68=\"\",\"\",T67+M68)","v":""},"",{"$f":"IF(I68=\"\",\"\",IF(I68=\"Дома\",V67+1,V67+0))","v":""},{"$f":"IF(I68=\"\",\"\",IF(I68=\"Дома\",IF(N68=\"В\",W67+1,W67),W67))","v":""},{"$f":"IF(I68=\"\",\"\",IF(I68=\"Дома\",IF(N68=\"Н\",X67+1,X67),X67))","v":""},{"$f":"IF(I68=\"\",\"\",IF(I68=\"Дома\",IF(N68=\"П\",Y67+1,Y67),Y67))","v":""},{"$f":"IF(I68=\"\",\"\",IF(I68=\"Дома\",L68+Z67,Z67))","v":""},{"$f":"IF(I68=\"\",\"\",IF(I68=\"Дома\",M68+AA67,AA67))","v":""},{"$f":"IF(I68=\"\",\"\",IF(I68=\"Дома\",W68*3+X68,AB67))","v":""},{"$f":"IF(I68=\"\",\"\",IF(I68=\"Гости\",AC67+1,AC67+0))","v":""},{"$f":"IF(I68=\"\",\"\",IF(I68=\"Гости\",IF(N68=\"В\",AD67+1,AD67),AD67))","v":""},{"$f":"IF(I68=\"\",\"\",IF(I68=\"Гости\",IF(N68=\"Н\",AE67+1,AE67),AE67))","v":""},{"$f":"IF(I68=\"\",\"\",IF(I68=\"Гости\",IF(N68=\"П\",AF67+1,AF67),AF67))","v":""},{"$f":"IF(I68=\"\",\"\",IF(I68=\"Гости\",L68+AG67,AG67))","v":""},{"$f":"IF(I68=\"\",\"\",IF(I68=\"Гости\",M68+AH67,AH67))","v":""},{"$f":"IF(I68=\"\",\"\",IF(I68=\"Гости\",AD68*3+AE68,AI67))","v":""}]
[null,null,null,null,null,null,null,null,null,"","","","","","","","","","","","","","","","","","","","","","","","","",""]
[null,null,null,null,null,null,null,null,null,"","","","","","","","","","","","","","","","","","","","","","","","","",""]
[null,null,null,null,null,null,null,null,null,"","","","","","","","","","","","","","","","","","","","","","","","","",""]
[null,null,null,null,null,null,null,null,null,"","","","","","","","","","","","","","","","","","","","","","","","","",""]
[null,null,null,null,null,null,null,null,null,"","","","","","","","","","","","","","","","","","","","","","","","","",""]
[null,null,null,null,null,null,null,null,null,"","","","",{"$f":"IF(I74=\"\",\"\",IF(I74=\"Дома\",IF(J74>K74,\"В\",IF(J74=K74,\"Н\",\"П\")),IF(J74<K74,\"В\",IF(J74=K74,\"Н\",\"П\"))))","v":""},"","","","","","","","","","","","","","","","","","","","",""]
[null,null,null,null,null,null,null,null,null,"","","","","","","","","","","","","","","","","","","","","","","","","",""]
[null,null,null,null,null,null,null,null,null,"","","","","","","","","","","","","","","","","","","","","","","","","",""]
[null,null,null,null,null,null,null,null,null,"","","","","","","","","","","","","","","","","","","","","","","","","",""]
[null,null,null,null,null,null,null,null,null,"","","","","","","","","","","","","","","","","","","","","","","","","",""]
[null,null,null,null,null,null,null,null,null,"","","","","","","","","","","","","","","","","","","","","","","","","",""]
[null,null,null,null,null,null,null,null,null,"","","","","","","","","","","","","","","","","","","","","","","","","",""]
[null,null,null,null,null,null,null,null,null,"","","","","","","","","","","","","","","","","","","","","","","","","",""]
[null,null,null,null,null,null,null,null,null,"","","","","","","","","","","","","","","","","","","","","","","","","",""]
[null,null,null,null,null,null,null,null,null,"","","","","","","","","","","","","","","","","","","","","","","","","",""]
[null,null,null,null,null,null,null,null,null,"","","","","","","","","","","","","","","","","","","","","","","","","",""]
[null,null,null,null,null,null,null,null,null,"","","","","","","","","","","","","","","","","","","","","","","","","",""]
[null,null,null,null,null,null,null,null,null,"","","","","","","","","","","","","","","","","","","","","","","","","",""]
[null,null,null,null,null,null,null,null,null,"","","","","","","","","","","","","","","","","","","","","","","","","",""]
[null,null,null,null,null,null,null,null,null,"","","","","","","","","","","","","","","","","","","","","","","","","",""]
[null,null,null,null,null,null,null,null,null,"","","","","","","","","","","","","","","","","","","","","","","","","",""]
[null,null,null,null,null,null,null,null,null,"","","","","","","","","","","","","","","","","","","","","","","","","",""]
[null,null,null,null,null,null,null,null,null,"","","","","","","","","","","","","","","","","","","","","","","","","",""]
[null,null,null,null,null,null,null,null,null,"","","","","","","","","","","","","","","","","","","","","","","","","",""]
[null,null,null,null,null,null,null,null,null,"","","","","","","","","","","","","","","","","","","","","","","","","",""]
[null,null,null,null,null,null,null,null,null,"","","","","","","","","","","","","","","","","","","","","","","","","",""]
[null,null,null,null,null,null,null,null,null,"","","","","","","","","","","","","","","","","","","","","","","","","",""]
[null,null,null,null,null,null,null,null,null,"","","","","","","","","","","","","","","","","","","","","","","","","",""]
[null,null,null,null,null,null,null,null,null,"","","","","","","","","","","","","","","","","","","","","","","","","",""]
[null,null,null,null,null,null,null,null,null,"","","","","","","","","","","","","","","","","","","","","","","","","",""]
[null,null,null,null,null,null,null,null,null,"","","","","","","","","","","","","","","","","","","","","","","","","",""]
[null,null,null,null,null,null,null,null,null,"","","","","","","","","","","","","","","","","","","","","","","","","",""]
[null,null,null,null,null,null,null,null,null,"","","","","","","","","","","","","","","","","","","","","","","","","",""]
[null,null,null,null,null,null,null,null,null,"","","","","","","","","","","","","","","","","","","","","","","","","",""]
[null,null,null,null,null,null,null,null,null,"","","","","","","","","","","","","","","","","","","","","","","","","",""]
[null,null,null,null,null,null,null,null,null,"","","","","","","","","","","","","","","","","","","","","","","","","",""]
[null,null,null,null,null,null,null,null,null,"","","","","","","","","","","","","","","","","","","","","","","","","",""]
[null,null,null,null,null,null,null,null,null,"","","","","","","","","","","","","","","","","","","","","","","","","",""]
[null,null,null,null,null,null,null,null,null,"","","","","","","","","","","","","","","","","","","","","","","","","",""]
[null,null,null,null,null,null,null,null,null,"","","","","","","","","","","","","","","","","","","","","","","","","",""]
[null,null,null,null,null,null,null,null,null,"","","","","","","","","","","","","","","","","","","","","","","","","",""]
[null,null,null,null,null,null,null,null,null,"","","","","","","","","","","","","","","","","","","","","","","","","",""]
[null,null,null,null,null,null,null,null,null,"","","","","","","","","","","","","","","","","","","","","","","","","",""]
[null,null,null,null,null,null,null,null,null,"","","","","","","","","","","","","","","","","","","","","","","","","",""]
[null,null,null,null,null,null,null,null,null,"","","","","","","","","","","","","","","","","","","","","","","","","",""]
[null,null,null,null,null,null,null,null,null,"","","","","","","","","","","","","","","","","","","","","","","","","",""]
[null,null,null,null,null,null,null,null,null,"","","","","","","","","","","","","","","","","","","","","","","","","",""]
[null,null,null,null,null,null,null,null,null,"","","","","","","","","","","","","","","","","","","","","","","","","",""]
[null,null,null,null,null,null,null,null,null,"","","","","","","","","","","","","","","","","","","","","","","","","",""]
[null,null,null,null,null,null,null,null,null,"","","","","","","","","","","","","","","","","","","","","","","","","",""]
[null,null,null,null,null,null,null,null,null,"","","","","","","","","","","","","","","","","","","","","","","","","",""]
[null,null,null,null,null,null,null,null,null,"","","","","","","","","","","","","","","","","","","","","","","","","",""]
[null,null,null,null,null,null,null,null,null,"","","","","","","","","","","","","","","","","","","","","","","","","",""]
[null,null,null,null,null,null,null,null,null,"","","","","","","","","","","","","","","","","","","","","","","","","",""]
[null,null,null,null,null,null,null,null,null,"","","","","","","","","","","","","","","","","","","","","","","","","",""]
[null,null,null,null,null,null,null,null,null,"","","","","","","","","","","","","","","","","","","","","","","","","",""]
[null,null,null,null,null,null,null,null,null,"","","","","","","","","","","","","","","","","","","","","","","","","",""]
[null,null,null,null,null,null,null,null,null,"","","","","","","","","","","","","","","","","","","","","","","","","",""]
[null,null,null,null,null,null,null,null,null,"","","","","","","","","","","","","","","","","","","","","","","","","",""]
[null,null,null,null,null,null,null,null,null,"","","","","","","","","","","","","","","","","","","","","","","","","",""]
[null,null,null,null,null,null,null,null,null,"","","","","","","","","","","","","","","","","","","","","","","","","",""]
[null,null,null,null,null,null,null,null,null,"","","","","","","","","","","","","","","","","","","","","","","","","",""]
[null,null,null,null,null,null,null,null,null,{"$f":"IF(I131=\"\",\"\",E131+G131)","v":""},{"$f":"IF(I131=\"\",\"\",F131+H131)","v":""},{"$f":"IF(I131=\"\",\"\",IF(I131=\"Дома\",J131,K131))","v":""},{"$f":"IF(I131=\"\",\"\",IF(I131=\"Дома\",K131,J131))","v":""},"",{"$f":"IF(I131=\"\",\"\",O130+1)","v":""},"","","","","",{"$f":"IF(I131=\"\",\"\",P131*3+Q131)","v":""},"","","","","","","","","","","","","",""]
[null,null,null,null,null,null,null,null,null,"","","","","","",{"$f":"IF(I132=\"\",\"\",IF(N132=\"В\",P131+1,P131))","v":""},{"$f":"IF(I132=\"\",\"\",IF(N132=\"Н\",Q131+1,Q131))","v":""},{"$f":"IF(I132=\"\",\"\",IF(N132=\"П\",R131+1,R131))","v":""},{"$f":"IF(I132=\"\",\"\",S131+L132)","v":""},{"$f":"IF(I132=\"\",\"\",T131+M132)","v":""},"",{"$f":"IF(I132=\"\",\"\",IF(I132=\"Дома\",V131+1,V131+0))","v":""},{"$f":"IF(I132=\"\",\"\",IF(I132=\"Дома\",IF(N132=\"В\",W131+1,W131),W131))","v":""},{"$f":"IF(I132=\"\",\"\",IF(I132=\"Дома\",IF(N132=\"Н\",X131+1,X131),X131))","v":""},{"$f":"IF(I132=\"\",\"\",IF(I132=\"Дома\",IF(N132=\"П\",Y131+1,Y131),Y131))","v":""},{"$f":"IF(I132=\"\",\"\",IF(I132=\"Дома\",L132+Z131,Z131))","v":""},{"$f":"IF(I132=\"\",\"\",IF(I132=\"Дома\",M132+AA131,AA131))","v":""},{"$f":"IF(I132=\"\",\"\",IF(I132=\"Дома\",W132*3+X132,AB131))","v":""},{"$f":"IF(I132=\"\",\"\",IF(I132=\"Гости\",AC131+1,AC131+0))","v":""},{"$f":"IF(I132=\"\",\"\",IF(I132=\"Гости\",IF(N132=\"В\",AD131+1,AD131),AD131))","v":""},{"$f":"IF(I132=\"\",\"\",IF(I132=\"Гости\",IF(N132=\"Н\",AE131+1,AE131),AE131))","v":""},{"$f":"IF(I132=\"\",\"\",IF(I132=\"Гости\",IF(N132=\"П\",AF131+1,AF131),AF131))","v":""},{"$f":"IF(I132=\"\",\"\",IF(I132=\"Гости\",L132+AG131,AG131))","v":""},{"$f":"IF(I132=\"\",\"\",IF(I132=\"Гости\",M132+AH131,AH131))","v":""},{"$f":"IF(I132=\"\",\"\",IF(I132=\"Гости\",AD132*3+AE132,AI131))","v":""}]
[null,null,null,null,null,null,null,null,null,"","","","","","","","","","","","","","","","","","","","","","","","","",""]
[null,null,null,null,null,null,null,null,null,"","","","","","","","","","","","","","","","","","","","","","","","","",""]
[null,null,null,null,null,null,null,null,null,"","","","","","","","","","","","","","","","","","","","","","","","","",""]
[null,null,null,null,null,null,null,null,null,"","","","","","","","","","","","","","","","","","","","","","","","","",""]
[null,null,null,null,null,null,null,null,null,"","","","","","","","","","","","","","","","","","","","","","","","","",""]
[null,null,null,null,null,null,null,null,null,"","","","",{"$f":"IF(I138=\"\",\"\",IF(I138=\"Дома\",IF(J138>K138,\"В\",IF(J138=K138,\"Н\",\"П\")),IF(J138<K138,\"В\",IF(J138=K138,\"Н\",\"П\"))))","v":""},"","","","","","","","","","","","","","","","","","","","",""]
[null,null,null,null,null,null,null,null,null,"","","","","","","","","","","","","","","","","","","","","","","","","",""]
[null,null,null,null,null,null,null,null,null,"","","","","","","","","","","","","","","","","","","","","","","","","",""]
[null,null,null,null,null,null,null,null,null,"","","","","","","","","","","","","","","","","","","","","","","","","",""]
[null,null,null,null,null,null,null,null,null,"","","","","","","","","","","","","","","","","","","","","","","","","",""]
[null,null,null,null,null,null,null,null,null,"","","","","","","","","","","","","","","","","","","","","","","","","",""]
[null,null,null,null,null,null,null,null,null,"","","","","","","","","","","","","","","","","","","","","","","","","",""]
[null,null,null,null,null,null,null,null,null,"","","","","","","","","","","","","","","","","","","","","","","","","",""]
[null,null,null,null,null,null,null,null,null,"","","","","","","","","","","","","","","","","","","","","","","","","",""]
[null,null,null,null,null,null,null,null,null,"","","","","","","","","","","","","","","","","","","","","","","","","",""]
[null,null,null,null,null,null,null,null,null,"","","","","","","","","","","","","","","","","","","","","","","","","",""]
[null,null,null,null,null,null,null,null,null,"","","","","","","","","","","","","","","","","","","","","","","","","",""]
[null,null,null,null,null,null,null,null,null,"","","","","","","","","","","","","","","","","","","","","","","","","",""]

{"sheet":"ДомаДома","index":6,"n_rows":150,"n_cols":42,"rows_kept":150,"cut":false,"hidden":true,"merged":[]}
["Чемпионат","Дата/Время","Дома","Гости","К1 в 1Т","К2 в 1Т","К1 во 2Т","К2 во 2Т","Где играли","К1 Голов","К2 Голов","Забито","Пропущено","Результат","Всего Игр","Всего выиграно","Всего ничьих","Всего проиграно","Всего забито","Всего пропущено","Всего очков","Дома игр","Дома выиграно","Дома ничьих","Дома проиграно","Дома забито","Дома пропущено","Дома очков","Гости игр","Гости выиграно","Гости ничьих","Гости проиграно","Гости забито","Гости пропущено","Гости очков"]
["АЛБАНИЯ: Суперлига","2019.12.14 15:00","Флямуртари","Билис",1,1,1,1,"Дома",{"$f":"IF(I2=\"\",\"\",E2+G2)","v":2},{"$f":"IF(I2=\"\",\"\",F2+H2)","v":2},{"$f":"IF(I2=\"\",\"\",IF(I2=\"Дома\",J2,K2))","v":2},{"$f":"IF(I2=\"\",\"\",IF(I2=\"Дома\",K2,J2))","v":2},{"$f":"IF(I2=\"\",\"\",IF(I2=\"Дома\",IF(J2>K2,\"В\",IF(J2=K2,\"Н\",\"П\")),IF(J2<K2,\"В\",IF(J2=K2,\"Н\",\"П\"))))","v":"Н"},{"$f":"IF(I2=\"\",\"\",1)","v":1},{"$f":"IF(I2=\"\",\"\",IF(N2=\"В\",1,0))","v":0},{"$f":"IF(I2=\"\",\"\",IF(N2=\"Н\",1,0))","v":1},{"$f":"IF(I2=\"\",\"\",IF(N2=\"П\",1,0))","v":0},{"$f":"IF(I2=\"\",\"\",L2)","v":2},{"$f":"IF(I2=\"\",\"\",M2)","v":2},{"$f":"IF(I2=\"\",\"\",P2*3+Q2)","v":1},{"$f":"IF(I2=\"\",\"\",IF(I2=\"Дома\",1,0))","v":1},{"$f":"IF(I2=\"\",\"\",IF(I2=\"Дома\",IF(N2=\"В\",1,0),0))","v":0},{"$f":"IF(I2=\"\",\"\",IF(I2=\"Дома\",IF(N2=\"Н\",1,0),0))","v":1},{"$f":"IF(I2=\"\",\"\",IF(I2=\"Дома\",IF(N2=\"П\",1,0),0))","v":0},{"$f":"IF(I2=\"\",\"\",IF(I2=\"Дома\",L2,0))","v":2},{"$f":"IF(I2=\"\",\"\",IF(I2=\"Дома\",M2,0))","v":2},{"$f":"IF(I2=\"\",\"\",IF(I2=\"Дома\",W2*3+X2,0))","v":1},{"$f":"IF(I2=\"\",\"\",IF(I2=\"Гости\",1,0))","v":0},{"$f":"IF(I2=\"\",\"\",IF(I2=\"Гости\",IF(N2=\"В\",1,0),0))","v":0},{"$f":"IF(I2=\"\",\"\",IF(I2=\"Гости\",IF(N2=\"Н\",1,0),0))","v":0},{"$f":"IF(I2=\"\",\"\",IF(I2=\"Гости\",IF(N2=\"П\",1,0),0))","v":0},{"$f":"IF(I2=\"\",\"\",IF(I2=\"Гости\",L2,0))","v":0},{"$f":"IF(I2=\"\",\"\",IF(I2=\"Гости\",M2,0))","v":0},{"$f":"IF(I2=\"\",\"\",IF(I2=\"Гости\",AD2*3+AE2,0))","v":0},null,null,null,"2.5 +","2.5 -","GG","NG"]
["АЛБАНИЯ: Суперлига","2019.11.23 15:30","Флямуртари","Люфтетари Гирокастра",0,0,1,1,"Дома",{"$f":"IF(I3=\"\",\"\",E3+G3)","v":1},{"$f":"IF(I3=\"\",\"\",F3+H3)","v":1},{"$f":"IF(I3=\"\",\"\",IF(I3=\"Дома\",J3,K3))","v":1},{"$f":"IF(I3=\"\",\"\",IF(I3=\"Дома\",K3,J3))","v":1},{"$f":"IF(I3=\"\",\"\",IF(I3=\"Дома\",IF(J3>K3,\"В\",IF(J3=K3,\"Н\",\"П\")),IF(J3<K3,\"В\",IF(J3=K3,\"Н\",\"П\"))))","v":"Н"},{"$f":"IF(I3=\"\",\"\",O2+1)","v":2},{"$f":"IF(I3=\"\",\"\",IF(N3=\"В\",P2+1,P2))","v":0},{"$f":"IF(I3=\"\",\"\",IF(N3=\"Н\",Q2+1,Q2))","v":2},{"$f":"IF(I3=\"\",\"\",IF(N3=\"П\",R2+1,R2))","v":0},{"$f":"IF(I3=\"\",\"\",S2+L3)","v":3},{"$f":"IF(I3=\"\",\"\",T2+M3)","v":3},{"$f":"IF(I3=\"\",\"\",P3*3+Q3)","v":2},{"$f":"IF(I3=\"\",\"\",IF(I3=\"Дома\",V2+1,V2+0))","v":2},{"$f":"IF(I3=\"\",\"\",IF(I3=\"Дома\",IF(N3=\"В\",W2+1,W2),W2))","v":0},{"$f":"IF(I3=\"\",\"\",IF(I3=\"Дома\",IF(N3=\"Н\",X2+1,X2),X2))","v":2},{"$f":"IF(I3=\"\",\"\",IF(I3=\"Дома\",IF(N3=\"П\",Y2+1,Y2),Y2))","v":0},{"$f":"IF(I3=\"\",\"\",IF(I3=\"Дома\",L3+Z2,Z2))","v":3},{"$f":"IF(I3=\"\",\"\",IF(I3=\"Дома\",M3+AA2,AA2))","v":3},{"$f":"IF(I3=\"\",\"\",IF(I3=\"Дома\",W3*3+X3,AB2))","v":2},{"$f":"IF(I3=\"\",\"\",IF(I3=\"Гости\",AC2+1,AC2+0))","v":0},{"$f":"IF(I3=\"\",\"\",IF(I3=\"Гости\",IF(N3=\"В\",AD2+1,AD2),AD2))","v":0},{"$f":"IF(I3=\"\",\"\",IF(I3=\"Гости\",IF(N3=\"Н\",AE2+1,AE2),AE2))","v":0},{"$f":"IF(I3=\"\",\"\",IF(I3=\"Гости\",IF(N3=\"П\",AF2+1,AF2),AF2))","v":0},{"$f":"IF(I3=\"\",\"\",IF(I3=\"Гости\",L3+AG2,AG2))","v":0},{"$f":"IF(I3=\"\",\"\",IF(I3=\"Гости\",M3+AH2,AH2))","v":0},{"$f":"IF(I3=\"\",\"\",IF(I3=\"Гости\",AD3*3+AE3,AI2))","v":0},null,null,null,{"$f":"COUNTIF(AM5:AM19,AM2)","v":9},{"$f":"COUNTIF(AM5:AM19,AN2)","v":6},{"$f":"COUNTIF(AN5:AN19,AO2)","v":9},{"$f":"COUNTIF(AN5:AN19,AP2)","v":6}]
["АЛБАНИЯ: Суперлига","2019.11.10 18:30","Флямуртари","Партизани",0,0,1,1,"Дома",1,1,1,1,"Н",3,{"$f":"IF(I4=\"\",\"\",IF(N4=\"В\",P3+1,P3))","v":0},{"$f":"IF(I4=\"\",\"\",IF(N4=\"Н\",Q3+1,Q3))","v":3},{"$f":"IF(I4=\"\",\"\",IF(N4=\"П\",R3+1,R3))","v":0},{"$f":"IF(I4=\"\",\"\",S3+L4)","v":4},{"$f":"IF(I4=\"\",\"\",T3+M4)","v":4},3,{"$f":"IF(I4=\"\",\"\",IF(I4=\"Дома\",V3+1,V3+0))","v":3},{"$f":"IF(I4=\"\",\"\",IF(I4=\"Дома\",IF(N4=\"В\",W3+1,W3),W3))","v":0},{"$f":"IF(I4=\"\",\"\",IF(I4=\"Дома\",IF(N4=\"Н\",X3+1,X3),X3))","v":3},{"$f":"IF(I4=\"\",\"\",IF(I4=\"Дома\",IF(N4=\"П\",Y3+1,Y3),Y3))","v":0},{"$f":"IF(I4=\"\",\"\",IF(I4=\"Дома\",L4+Z3,Z3))","v":4},{"$f":"IF(I4=\"\",\"\",IF(I4=\"Дома\",M4+AA3,AA3))","v":4},{"$f":"IF(I4=\"\",\"\",IF(I4=\"Дома\",W4*3+X4,AB3))","v":3},{"$f":"IF(I4=\"\",\"\",IF(I4=\"Гости\",AC3+1,AC3+0))","v":0},{"$f":"IF(I4=\"\",\"\",IF(I4=\"Гости\",IF(N4=\"В\",AD3+1,AD3),AD3))","v":0},{"$f":"IF(I4=\"\",\"\",IF(I4=\"Гости\",IF(N4=\"Н\",AE3+1,AE3),AE3))","v":0},{"$f":"IF(I4=\"\",\"\",IF(I4=\"Гости\",IF(N4=\"П\",AF3+1,AF3),AF3))","v":0},{"$f":"IF(I4=\"\",\"\",IF(I4=\"Гости\",L4+AG3,AG3))","v":0},{"$f":"IF(I4=\"\",\"\",IF(I4=\"Гости\",M4+AH3,AH3))","v":0},{"$f":"IF(I4=\"\",\"\",IF(I4=\"Гости\",AD4*3+AE4,AI3))","v":0}]
["АЛБАНИЯ: Суперлига","2019.10.28 20:00","Флямуртари","Скендербеу",1,1,0,0,"Дома",1,1,1,1,"Н",4,0,{"$f":"IF(I5=\"\",\"\",IF(N5=\"Н\",Q4+1,Q4))","v":4},0,5,5,4,4,0,4,0,5,5,4,0,0,0,0,0,0,0,null,null,null,{"$f":"IF(J2+K2>2.5,\"2.5 +\",\"2.5 -\")","v":"2.5 +"},{"$f":"IF((IF(J2>=1,1,0)+IF(K2>=1,1,0))=2,\"GG\",\"NG\")","v":"GG"}]
["АЛБАНИЯ: Суперлига","2019.10.23 17:00","Флямуртари","Влазния",1,1,0,2,"Дома",1,3,1,3,"П",5,0,4,1,6,8,4,5,0,4,1,6,8,4,0,0,0,0,0,0,0,null,null,null,{"$f":"IF(J3+K3>2.5,\"2.5 +\",\"2.5 -\")","v":"2.5 -"},{"$f":"IF((IF(J3>=1,1,0)+IF(K3>=1,1,0))=2,\"GG\",\"NG\")","v":"GG"}]
["АЛБАНИЯ: Суперлига","2019.10.05 18:00","Флямуртари","Тирана",1,2,1,0,"Дома",2,2,2,2,"Н",6,0,5,1,8,10,5,6,0,5,1,8,10,5,0,0,0,0,0,0,0,null,null,null,"2.5 -","GG"]
["АЛБАНИЯ: Кубок Албании","2019.10.02 15:00","Флямуртари","Коплик",0,0,5,0,"Дома",5,0,5,0,"В",7,1,5,1,13,10,8,7,1,5,1,13,10,8,0,0,0,0,0,0,0,null,null,null,"2.5 -","GG"]
["АЛБАНИЯ: Суперлига","2019.09.22 17:00","Флямуртари","Лячи",2,1,1,2,"Дома",3,3,3,3,{"$f":"IF(I9=\"\",\"\",IF(I9=\"Дома\",IF(J9>K9,\"В\",IF(J9=K9,\"Н\",\"П\")),IF(J9<K9,\"В\",IF(J9=K9,\"Н\",\"П\"))))","v":"Н"},8,1,6,1,16,13,9,8,1,6,1,16,13,9,0,0,0,0,0,0,0,null,null,null,"2.5 +","GG"]
["АЛБАНИЯ: Суперлига","2019.08.28 20:00","Флямуртари","Кукеси",0,1,0,2,"Дома",0,3,0,3,{"$f":"IF(I10=\"\",\"\",IF(I10=\"Дома\",IF(J10>K10,\"В\",IF(J10=K10,\"Н\",\"П\")),IF(J10<K10,\"В\",IF(J10=K10,\"Н\",\"П\"))))","v":"П"},9,1,6,2,16,16,9,9,1,6,2,16,16,9,0,0,0,0,0,0,0,null,null,null,"2.5 +","GG"]
["АЛБАНИЯ: Суперлига","2019.05.25 18:00","Флямуртари","Камза",0,0,3,0,"Дома",3,0,3,0,"В",10,2,6,2,19,16,12,10,2,6,2,19,16,12,0,0,0,0,0,0,0,null,null,null,"2.5 +","NG"]
["АЛБАНИЯ: Суперлига","2019.05.18 17:30","Флямуртари","Лячи",1,0,0,0,"Дома",1,0,1,0,"В",11,3,6,2,20,16,{"$f":"IF(I12=\"\",\"\",P12*3+Q12)","v":15},11,3,6,2,20,16,15,0,0,0,0,0,0,0,null,null,null,"2.5 +","GG"]
["АЛБАНИЯ: Суперлига","2019.05.04 16:00","Флямуртари","Партизани",0,1,0,2,"Дома",0,3,0,3,"П",12,3,6,3,20,19,15,12,3,6,3,20,19,15,0,0,0,0,0,0,0,null,null,null,"2.5 +","NG"]
["АЛБАНИЯ: Суперлига","2019.04.20 20:00","Флямуртари","Люфтетари Гирокастра",0,0,1,1,"Дома",1,1,1,1,"Н",13,3,7,3,21,20,16,13,3,7,3,21,20,16,0,0,0,0,0,0,0,null,null,null,"2.5 +","NG"]
["АЛБАНИЯ: Суперлига","2019.04.10 19:30","Флямуртари","Теута",1,0,2,1,"Дома",3,1,3,1,"В",14,4,7,3,24,21,19,14,4,7,3,24,21,19,0,0,0,0,0,0,0,null,null,null,"2.5 -","NG"]
["АЛБАНИЯ: Суперлига","2019.04.06 19:45","Флямуртари","Тирана",1,0,0,0,"Дома",1,0,1,0,"В",15,5,7,3,25,21,22,15,5,7,3,25,21,22,0,0,0,0,0,0,0,null,null,null,"2.5 +","NG"]
["АЛБАНИЯ: Суперлига","2019.03.03 19:00","Флямуртари","Кастриоти",1,0,0,1,"Дома",1,1,1,1,"Н",16,5,8,3,26,22,23,16,5,8,3,26,22,23,0,0,0,0,0,0,0,null,null,null,"2.5 -","GG"]
["АЛБАНИЯ: Суперлига","2019.02.17 19:00","Флямуртари","Скендербеу",0,0,2,0,"Дома",2,0,2,0,"В",17,6,8,3,28,22,26,17,6,8,3,28,22,26,0,0,0,0,0,0,0,null,null,null,"2.5 +","GG"]
["АЛБАНИЯ: Кубок Албании","2019.02.06 15:30","Флямуртари","Тирана",0,0,1,0,"Дома",1,0,1,0,"В",18,7,8,3,29,22,29,18,7,8,3,29,22,29,0,0,0,0,0,0,0,null,null,null,"2.5 -","NG"]
["АЛБАНИЯ: Суперлига","2019.02.02 19:00","Флямуртари","Кукеси",1,2,0,0,"Дома",1,2,1,2,"П",19,7,8,4,30,24,29,19,7,8,4,30,24,29,0,0,0,0,0,0,0]
["АЛБАНИЯ: Суперлига","2018.12.15 19:00","Флямуртари","Камза",0,0,1,0,"Дома",1,0,1,0,"В",20,8,8,4,31,24,32,20,8,8,4,31,24,32,0,0,0,0,0,0,0]
[null,null,null,null,null,null,null,null,null,"","","","","","","","","","","","","","","","","","","","","","","","","",""]
[null,null,null,null,null,null,null,null,null,"","","","","","","","","","","","","","","","","","","","","","","","","",""]
[null,null,null,null,null,null,null,null,null,"","","","","","","","","","","","","","","","","","","","","","","","","",""]
[null,null,null,null,null,null,null,null,null,"","","","","","","","","","","","","","","","","","","","","","","","","",""]
[null,null,null,null,null,null,null,null,null,"","","","","","","","","","","","","","","","","","","","","","","","","",""]
[null,null,null,null,null,null,null,null,null,"","","","","","","","","","","","","","","","","","","","","","","","","",""]
[null,null,null,null,null,null,null,null,null,"","","","","","","","","","","","","","","","","","","","","","","","","",""]
[null,null,null,null,null,null,null,null,null,"","","","","","","","","","","","","","","","","","","","","","","","","",""]
[null,null,null,null,null,null,null,null,null,"","","","","","","","","","","","","","","","","","","","","","","","","",""]
[null,null,null,null,null,null,null,null,null,"","","","","","","","","","","","","","","","","","","","","","","","","",""]
[null,null,null,null,null,null,null,null,null,"","","","","","","","","","","","","","","","","","","","","","","","","",""]
[null,null,null,null,null,null,null,null,null,"","","","","","","","","","","","","","","","","","","","","","","","","",""]
[null,null,null,null,null,null,null,null,null,"","","","","","","","","","","","","","","","","","","","","","","","","",""]
[null,null,null,null,null,null,null,null,null,"","","","","","","","","","","","","","","","","","","","","","","","","",""]
[null,null,null,null,null,null,null,null,null,"","","","","","","","","","","","","","","","","","","","","","","","","",""]
[null,null,null,null,null,null,null,null,null,"","","","","","","","","","","","","","","","","","","","","","","","","",""]
[null,null,null,null,null,null,null,null,null,"","","","","","","","","","","","","","","","","","","","","","","","","",""]
[null,null,null,null,null,null,null,null,null,"","","","","","","","","","","","","","","","","","","","","","","","","",""]
[null,null,null,null,null,null,null,null,null,"","","","","","","","","","","","","","","","","","","","","","","","","",""]
[null,null,null,null,null,null,null,null,null,"","","","","","","","","","","","","","","","","","","","","","","","","",""]
[null,null,null,null,null,null,null,null,null,"","","","","","","","","","","","","","","","","","","","","","","","","",""]
[null,null,null,null,null,null,null,null,null,"","","","","","","","","","","","","","","","","","","","","","","","","",""]
[null,null,null,null,null,null,null,null,null,"","","","","","","","","","","","","","","","","","","","","","","","","",""]
[null,null,null,null,null,null,null,null,null,"","","","","","","","","","","","","","","","","","","","","","","","","",""]
[null,null,null,null,null,null,null,null,null,"","","","","","","","","","","","","","","","","","","","","","","","","",""]
[null,null,null,null,null,null,null,null,null,"","","","","","","","","","","","","","","","","","","","","","","","","",""]
[null,null,null,null,null,null,null,null,null,"","","","","","","","","","","","","","","","","","","","","","","","","",""]
[null,null,null,null,null,null,null,null,null,"","","","","","","","","","","","","","","","","","","","","","","","","",""]
[null,null,null,null,null,null,null,null,null,"","","","","","","","","","","","","","","","","","","","","","","","","",""]
[null,null,null,null,null,null,null,null,null,"","","","","","","","","","","","","","","","","","","","","","","","","",""]
[null,null,null,null,null,null,null,null,null,"","","","","","","","","","","","","","","","","","","","","","","","","",""]
[null,null,null,null,null,null,null,null,null,"","","","","","","","","","","","","","","","","","","","","","","","","",""]
[null,null,null,null,null,null,null,null,null,"","","","","","","","","","","","","","","","","","","","","","","","","",""]
[null,null,null,null,null,null,null,null,null,"","","","","","","","","","","","","","","","","","","","","","","","","",""]
[null,null,null,null,null,null,null,null,null,"","","","","","","","","","","","","","","","","","","","","","","","","",""]
[null,null,null,null,null,null,null,null,null,"","","","","","","","","","","","","","","","","","","","","","","","","",""]
[null,null,null,null,null,null,null,null,null,"","","","","","","","","","","","","","","","","","","","","","","","","",""]
[null,null,null,null,null,null,null,null,null,"","","","","","","","","","","","","","","","","","","","","","","","","",""]
[null,null,null,null,null,null,null,null,null,"","","","","","","","","","","","","","","","","","","","","","","","","",""]
[null,null,null,null,null,null,null,null,null,"","","","","","","","","","","","","","","","","","","","","","","","","",""]
[null,null,null,null,null,null,null,null,null,"","","","","","","","","","","","","","","","","","","","","","","","","",""]
[null,null,null,null,null,null,null,null,null,"","","","","","","","","","","","","","","","","","","","","","","","","",""]
[null,null,null,null,null,null,null,null,null,"","","","","","","","","","","","","","","","","","","","","","","","","",""]
[null,null,null,null,null,null,null,null,null,"","","","","","","","","","","","","","","","","","","","","","","","","",""]
[null,null,null,null,null,null,null,null,null,"","","","","","","","","","","","","","","","","","","","","","","","","",""]
[null,null,null,null,null,null,null,null,null,{"$f":"IF(I67=\"\",\"\",E67+G67)","v":""},{"$f":"IF(I67=\"\",\"\",F67+H67)","v":""},{"$f":"IF(I67=\"\",\"\",IF(I67=\"Дома\",J67,K67))","v":""},{"$f":"IF(I67=\"\",\"\",IF(I67=\"Дома\",K67,J67))","v":""},"",{"$f":"IF(I67=\"\",\"\",O66+1)","v":""},"","","","","",{"$f":"IF(I67=\"\",\"\",P67*3+Q67)","v":""},"","","","","","","","","","","","","",""]
[null,null,null,null,null,null,null,null,null,"","","","","","",{"$f":"IF(I68=\"\",\"\",IF(N68=\"В\",P67+1,P67))","v":""},{"$f":"IF(I68=\"\",\"\",IF(N68=\"Н\",Q67+1,Q67))","v":""},{"$f":"IF(I68=\"\",\"\",IF(N68=\"П\",R67+1,R67))","v":""},{"$f":"IF(I68=\"\",\"\",S67+L68)","v":""},{"$f":"IF(I68=\"\",\"\",T67+M68)","v":""},"",{"$f":"IF(I68=\"\",\"\",IF(I68=\"Дома\",V67+1,V67+0))","v":""},{"$f":"IF(I68=\"\",\"\",IF(I68=\"Дома\",IF(N68=\"В\",W67+1,W67),W67))","v":""},{"$f":"IF(I68=\"\",\"\",IF(I68=\"Дома\",IF(N68=\"Н\",X67+1,X67),X67))","v":""},{"$f":"IF(I68=\"\",\"\",IF(I68=\"Дома\",IF(N68=\"П\",Y67+1,Y67),Y67))","v":""},{"$f":"IF(I68=\"\",\"\",IF(I68=\"Дома\",L68+Z67,Z67))","v":""},{"$f":"IF(I68=\"\",\"\",IF(I68=\"Дома\",M68+AA67,AA67))","v":""},{"$f":"IF(I68=\"\",\"\",IF(I68=\"Дома\",W68*3+X68,AB67))","v":""},{"$f":"IF(I68=\"\",\"\",IF(I68=\"Гости\",AC67+1,AC67+0))","v":""},{"$f":"IF(I68=\"\",\"\",IF(I68=\"Гости\",IF(N68=\"В\",AD67+1,AD67),AD67))","v":""},{"$f":"IF(I68=\"\",\"\",IF(I68=\"Гости\",IF(N68=\"Н\",AE67+1,AE67),AE67))","v":""},{"$f":"IF(I68=\"\",\"\",IF(I68=\"Гости\",IF(N68=\"П\",AF67+1,AF67),AF67))","v":""},{"$f":"IF(I68=\"\",\"\",IF(I68=\"Гости\",L68+AG67,AG67))","v":""},{"$f":"IF(I68=\"\",\"\",IF(I68=\"Гости\",M68+AH67,AH67))","v":""},{"$f":"IF(I68=\"\",\"\",IF(I68=\"Гости\",AD68*3+AE68,AI67))","v":""}]
[null,null,null,null,null,null,null,null,null,"","","","","","","","","","","","","","","","","","","","","","","","","",""]
[null,null,null,null,null,null,null,null,null,"","","","","","","","","","","","","","","","","","","","","","","","","",""]
[null,null,null,null,null,null,null,null,null,"","","","","","","","","","","","","","","","","","","","","","","","","",""]
[null,null,null,null,null,null,null,null,null,"","","","","","","","","","","","","","","","","","","","","","","","","",""]
[null,null,null,null,null,null,null,null,null,"","","","","","","","","","","","","","","","","","","","","","","","","",""]
[null,null,null,null,null,null,null,null,null,"","","","",{"$f":"IF(I74=\"\",\"\",IF(I74=\"Дома\",IF(J74>K74,\"В\",IF(J74=K74,\"Н\",\"П\")),IF(J74<K74,\"В\",IF(J74=K74,\"Н\",\"П\"))))","v":""},"","","","","","","","","","","","","","","","","","","","",""]
[null,null,null,null,null,null,null,null,null,"","","","","","","","","","","","","","","","","","","","","","","","","",""]
[null,null,null,null,null,null,null,null,null,"","","","","","","","","","","","","","","","","","","","","","","","","",""]
[null,null,null,null,null,null,null,null,null,"","","","","","","","","","","","","","","","","","","","","","","","","",""]
[null,null,null,null,null,null,null,null,null,"","","","","","","","","","","","","","","","","","","","","","","","","",""]
[null,null,null,null,null,null,null,null,null,"","","","","","","","","","","","","","","","","","","","","","","","","",""]
[null,null,null,null,null,null,null,null,null,"","","","","","","","","","","","","","","","","","","","","","","","","",""]
[null,null,null,null,null,null,null,null,null,"","","","","","","","","","","","","","","","","","","","","","","","","",""]
[null,null,null,null,null,null,null,null,null,"","","","","","","","","","","","","","","","","","","","","","","","","",""]
[null,null,null,null,null,null,null,null,null,"","","","","","","","","","","","","","","","","","","","","","","","","",""]
[null,null,null,null,null,null,null,null,null,"","","","","","","","","","","","","","","","","","","","","","","","","",""]
[null,null,null,null,null,null,null,null,null,"","","","","","","","","","","","","","","","","","","","","","","","","",""]
[null,null,null,null,null,null,null,null,null,"","","","","","","","","","","","","","","","","","","","","","","","","",""]
[null,null,null,null,null,null,null,null,null,"","","","","","","","","","","","","","","","","","","","","","","","","",""]
[null,null,null,null,null,null,null,null,null,"","","","","","","","","","","","","","","","","","","","","","","","","",""]
[null,null,null,null,null,null,null,null,null,"","","","","","","","","","","","","","","","","","","","","","","","","",""]
[null,null,null,null,null,null,null,null,null,"","","","","","","","","","","","","","","","","","","","","","","","","",""]
[null,null,null,null,null,null,null,null,null,"","","","","","","","","","","","","","","","","","","","","","","","","",""]
[null,null,null,null,null,null,null,null,null,"","","","","","","","","","","","","","","","","","","","","","","","","",""]
[null,null,null,null,null,null,null,null,null,"","","","","","","","","","","","","","","","","","","","","","","","","",""]
[null,null,null,null,null,null,null,null,null,"","","","","","","","","","","","","","","","","","","","","","","","","",""]
[null,null,null,null,null,null,null,null,null,"","","","","","","","","","","","","","","","","","","","","","","","","",""]
[null,null,null,null,null,null,null,null,null,"","","","","","","","","","","","","","","","","","","","","","","","","",""]
[null,null,null,null,null,null,null,null,null,"","","","","","","","","","","","","","","","","","","","","","","","","",""]
[null,null,null,null,null,null,null,null,null,"","","","","","","","","","","","","","","","","","","","","","","","","",""]
[null,null,null,null,null,null,null,null,null,"","","","","","","","","","","","","","","","","","","","","","","","","",""]
[null,null,null,null,null,null,null,null,null,"","","","","","","","","","","","","","","","","","","","","","","","","",""]
[null,null,null,null,null,null,null,null,null,"","","","","","","","","","","","","","","","","","","","","","","","","",""]
[null,null,null,null,null,null,null,null,null,"","","","","","","","","","","","","","","","","","","","","","","","","",""]
[null,null,null,null,null,null,null,null,null,"","","","","","","","","","","","","","","","","","","","","","","","","",""]
[null,null,null,null,null,null,null,null,null,"","","","","","","","","","","","","","","","","","","","","","","","","",""]
[null,null,null,null,null,null,null,null,null,"","","","","","","","","","","","","","","","","","","","","","","","","",""]
[null,null,null,null,null,null,null,null,null,"","","","","","","","","","","","","","","","","","","","","","","","","",""]
[null,null,null,null,null,null,null,null,null,"","","","","","","","","","","","","","","","","","","","","","","","","",""]
[null,null,null,null,null,null,null,null,null,"","","","","","","","","","","","","","","","","","","","","","","","","",""]
[null,null,null,null,null,null,null,null,null,"","","","","","","","","","","","","","","","","","","","","","","","","",""]
[null,null,null,null,null,null,null,null,null,"","","","","","","","","","","","","","","","","","","","","","","","","",""]
[null,null,null,null,null,null,null,null,null,"","","","","","","","","","","","","","","","","","","","","","","","","",""]
[null,null,null,null,null,null,null,null,null,"","","","","","","","","","","","","","","","","","","","","","","","","",""]
[null,null,null,null,null,null,null,null,null,"","","","","","","","","","","","","","","","","","","","","","","","","",""]
[null,null,null,null,null,null,null,null,null,"","","","","","","","","","","","","","","","","","","","","","","","","",""]
[null,null,null,null,null,null,null,null,null,"","","","","","","","","","","","","","","","","","","","","","","","","",""]
[null,null,null,null,null,null,null,null,null,"","","","","","","","","","","","","","","","","","","","","","","","","",""]
[null,null,null,null,null,null,null,null,null,"","","","","","","","","","","","","","","","","","","","","","","","","",""]
[null,null,null,null,null,null,null,null,null,"","","","","","","","","","","","","","","","","","","","","","","","","",""]
[null,null,null,null,null,null,null,null,null,"","","","","","","","","","","","","","","","","","","","","","","","","",""]
[null,null,null,null,null,null,null,null,null,"","","","","","","","","","","","","","","","","","","","","","","","","",""]
[null,null,null,null,null,null,null,null,null,"","","","","","","","","","","","","","","","","","","","","","","","","",""]
[null,null,null,null,null,null,null,null,null,"","","","","","","","","","","","","","","","","","","","","","","","","",""]
[null,null,null,null,null,null,null,null,null,"","","","","","","","","","","","","","","","","","","","","","","","","",""]
[null,null,null,null,null,null,null,null,null,"","","","","","","","","","","","","","","","","","","","","","","","","",""]
[null,null,null,null,null,null,null,null,null,"","","","","","","","","","","","","","","","","","","","","","","","","",""]
[null,null,null,null,null,null,null,null,null,"","","","","","","","","","","","","","","","","","","","","","","","","",""]
[null,null,null,null,null,null,null,null,null,"","","","","","","","","","","","","","","","","","","","","","","","","",""]
[null,null,null,null,null,null,null,null,null,"","","","","","","","","","","","","","","","","","","","","","","","","",""]
[null,null,null,null,null,null,null,null,null,"","","","","","","","","","","","","","","","","","","","","","","","","",""]
[null,null,null,null,null,null,null,null,null,"","","","","","","","","","","","","","","","","","","","","","","","","",""]
[null,null,null,null,null,null,null,null,null,{"$f":"IF(I131=\"\",\"\",E131+G131)","v":""},{"$f":"IF(I131=\"\",\"\",F131+H131)","v":""},{"$f":"IF(I131=\"\",\"\",IF(I131=\"Дома\",J131,K131))","v":""},{"$f":"IF(I131=\"\",\"\",IF(I131=\"Дома\",K131,J131))","v":""},"",{"$f":"IF(I131=\"\",\"\",O130+1)","v":""},"","","","","",{"$f":"IF(I131=\"\",\"\",P131*3+Q131)","v":""},"","","","","","","","","","","","","",""]
[null,null,null,null,null,null,null,null,null,"","","","","","",{"$f":"IF(I132=\"\",\"\",IF(N132=\"В\",P131+1,P131))","v":""},{"$f":"IF(I132=\"\",\"\",IF(N132=\"Н\",Q131+1,Q131))","v":""},{"$f":"IF(I132=\"\",\"\",IF(N132=\"П\",R131+1,R131))","v":""},{"$f":"IF(I132=\"\",\"\",S131+L132)","v":""},{"$f":"IF(I132=\"\",\"\",T131+M132)","v":""},"",{"$f":"IF(I132=\"\",\"\",IF(I132=\"Дома\",V131+1,V131+0))","v":""},{"$f":"IF(I132=\"\",\"\",IF(I132=\"Дома\",IF(N132=\"В\",W131+1,W131),W131))","v":""},{"$f":"IF(I132=\"\",\"\",IF(I132=\"Дома\",IF(N132=\"Н\",X131+1,X131),X131))","v":""},{"$f":"IF(I132=\"\",\"\",IF(I132=\"Дома\",IF(N132=\"П\",Y131+1,Y131),Y131))","v":""},{"$f":"IF(I132=\"\",\"\",IF(I132=\"Дома\",L132+Z131,Z131))","v":""},{"$f":"IF(I132=\"\",\"\",IF(I132=\"Дома\",M132+AA131,AA131))","v":""},{"$f":"IF(I132=\"\",\"\",IF(I132=\"Дома\",W132*3+X132,AB131))","v":""},{"$f":"IF(I132=\"\",\"\",IF(I132=\"Гости\",AC131+1,AC131+0))","v":""},{"$f":"IF(I132=\"\",\"\",IF(I132=\"Гости\",IF(N132=\"В\",AD131+1,AD131),AD131))","v":""},{"$f":"IF(I132=\"\",\"\",IF(I132=\"Гости\",IF(N132=\"Н\",AE131+1,AE131),AE131))","v":""},{"$f":"IF(I132=\"\",\"\",IF(I132=\"Гости\",IF(N132=\"П\",AF131+1,AF131),AF131))","v":""},{"$f":"IF(I132=\"\",\"\",IF(I132=\"Гости\",L132+AG131,AG131))","v":""},{"$f":"IF(I132=\"\",\"\",IF(I132=\"Гости\",M132+AH131,AH131))","v":""},{"$f":"IF(I132=\"\",\"\",IF(I132=\"Гости\",AD132*3+AE132,AI131))","v":""}]
[null,null,null,null,null,null,null,null,null,"","","","","","","","","","","","","","","","","","","","","","","","","",""]
[null,null,null,null,null,null,null,null,null,"","","","","","","","","","","","","","","","","","","","","","","","","",""]
[null,null,null,null,null,null,null,null,null,"","","","","","","","","","","","","","","","","","","","","","","","","",""]
[null,null,null,null,null,null,null,null,null,"","","","","","","","","","","","","","","","","","","","","","","","","",""]
[null,null,null,null,null,null,null,null,null,"","","","","","","","","","","","","","","","","","","","","","","","","",""]
[null,null,null,null,null,null,null,null,null,"","","","",{"$f":"IF(I138=\"\",\"\",IF(I138=\"Дома\",IF(J138>K138,\"В\",IF(J138=K138,\"Н\",\"П\")),IF(J138<K138,\"В\",IF(J138=K138,\"Н\",\"П\"))))","v":""},"","","","","","","","","","","","","","","","","","","","",""]
[null,null,null,null,null,null,null,null,null,"","","","","","","","","","","","","","","","","","","","","","","","","",""]
[null,null,null,null,null,null,null,null,null,"","","","","","","","","","","","","","","","","","","","","","","","","",""]
[null,null,null,null,null,null,null,null,null,"","","","","","","","","","","","","","","","","","","","","","","","","",""]
[null,null,null,null,null,null,null,null,null,"","","","","","","","","","","","","","","","","","","","","","","","","",""]
[null,null,null,null,null,null,null,null,null,"","","","","","","","","","","","","","","","","","","","","","","","","",""]
[null,null,null,null,null,null,null,null,null,"","","","","","","","","","","","","","","","","","","","","","","","","",""]
[null,null,null,null,null,null,null,null,null,"","","","","","","","","","","","","","","","","","","","","","","","","",""]
[null,null,null,null,null,null,null,null,null,"","","","","","","","","","","","","","","","","","","","","","","","","",""]
[null,null,null,null,null,null,null,null,null,"","","","","","","","","","","","","","","","","","","","","","","","","",""]
[null,null,null,null,null,null,null,null,null,"","","","","","","","","","","","","","","","","","","","","","","","","",""]
[null,null,null,null,null,null,null,null,null,"","","","","","","","","","","","","","","","","","","","","","","","","",""]
[null,null,null,null,null,null,null,null,null,"","","","","","","","","","","","","","","","","","","","","","","","","",""]

{"sheet":"Итог","index":7,"n_rows":26,"n_cols":27,"rows_kept":26,"cut":false,"hidden":true,"merged":[[1,14,1,18],[21,3,23,3],[21,4,23,4],[21,5,23,5],[21,6,23,7],[21,8,23,9],[21,10,23,11],[21,12,23,13],[15,8,17,9],[15,10,17,11],[15,12,17,13],[18,3,20,3],[18,4,20,4],[18,5,20,5],[18,6,20,7],[18,8,20,9],[18,10,20,11],[18,12,20,13],[15,4,17,4],[8,5,9,5],[8,4,9,4],[8,3,9,3],[4,12,5,13],[4,10,5,11],[11,0,12,0],[13,0,14,2],[11,1,12,1],[11,2,12,2],[18,1,18,2],[13,3,14,13],[16,1,16,2],[17,1,17,2],[15,3,17,3],[15,1,15,2],[10,1,10,2],[4,6,5,7],[22,16,24,16],[39,10,40,11],[41,10,42,11],[20,22,21,22],[16,18,17,18],[8,1,9,1],[10,9,12,10],[10,8,12,8],[10,7,12,7],[10,6,12,6],[10,11,12,11],[10,12,12,12],[10,13,12,13],[10,17,11,26],[12,18,15,18],[12,23,15,23],[12,24,15,24],[12,25,15,25],[16,17,17,17],[18,17,19,26],[38,4,39,5],[4,8,5,9],[4,17,9,17],[6,18,9,18],[6,19,9,19],[42,4,44,5],[40,4,41,4],[16,22,17,22],[16,21,17,21],[16,20,17,20],[16,19,17,19],[12,19,15,19],[12,20,15,20],[12,21,15,21],[12,22,15,22],[15,5,17,5],[15,6,17,7],[22,22,24,22],[22,21,24,21],[22,20,24,20],[22,19,24,19],[40,5,41,5],[20,17,21,18],[20,19,21,19],[20,20,21,20],[20,21,21,21],[16,24,17,24],[16,23,17,23],[22,24,24,24],[22,23,24,23],[4,20,5,20],[6,24,9,24],[4,21,5,21],[4,22,5,22],[4,23,5,23],[1,19,1,26],[20,0,21,2],[22,0,24,2],[8,6,9,6],[8,7,9,7],[8,8,9,8],[8,11,9,11],[8,12,9,12],[8,13,9,13],[2,6,3,13],[8,9,9,10],[8,0,9,0],[6,12,7,13],[6,10,7,11],[6,8,7,9],[6,6,7,7],[4,0,7,1],[4,4,7,5],[4,2,7,3],[2,0,3,5],[8,2,9,2],[1,0,1,5],[1,7,1,12],[4,24,5,24],[22,17,24,18],[2,14,3,16],[22,14,24,14],[22,15,24,15],[2,17,3,26],[4,18,5,18],[4,19,5,19],[4,25,5,26],[6,25,9,25],[6,26,9,26],[16,26,17,26],[16,25,17,25],[22,26,24,26],[22,25,24,25],[12,26,15,26],[20,25,21,25],[20,26,21,26],[6,20,9,20],[6,21,9,21],[6,22,9,22],[6,23,9,23],[12,17,15,17],[20,23,21,23],[20,24,21,24]]}
[]
[{"$f":"INDEX(Список!A1:D1000,SUMPRODUCT(ROW(Список!A1:D1000)*(Список!A1:D1000=T2)),SUMPRODUCT(COLUMN(Список!A1:D1000)*(Список!A1:D1000=T2))-3)","v":{"$error":"#REF!"}},null,null,null,null,null,null,{"$f":"INDEX(Список!A1:D1000,SUMPRODUCT(ROW(Список!A1:D1000)*(Список!A1:D1000=T2)),SUMPRODUCT(COLUMN(Список!A1:D1000)*(Список!A1:D1000=T2))-2)","v":{"$error":"#REF!"}},null,null,null,null,null,null,{"$f":"#REF!","v":{"$error":"#REF!"}},null,null,null,null,{"$f":"#REF!","v":{"$error":"#REF!"}}]
["MY BET MY SCORE",null,null,null,null,null,"METODO PICCHETTI",null,null,null,null,null,null,null,"пуассон",null,null,"max bet 3"]
[]
["ТС \"Програмный\"",null,"ТС по Миллеру",null,"ТС на ТМ (2А,ЗА)",null,"ТБ 1.5",null,"ТМ 3.5",null,"ТБ/ТМ",null,"ИСХОД",null,"ИД","%","КФ","FT","Матч","ТБ/ТМ","Матчь","Дома Заб","Гости Заб","ОЗ","ТБ 2.5","СЧЁТ"]
[null,null,null,null,null,null,null,null,null,null,null,null,null,null,1,{"$f":"#REF!","v":{"$error":"#REF!"}},{"$f":"#REF!","v":{"$error":"#REF!"}}]
[null,null,null,null,null,null,{"$f":"#REF!","v":{"$error":"#REF!"}},null,{"$f":"#REF!","v":{"$error":"#REF!"}},null,{"$f":"CONCATENATE(#REF!,\" / \",#REF!)","v":{"$error":"#REF!"}},null,{"$f":"#REF!","v":{"$error":"#REF!"}},null,"Х",{"$f":"#REF!","v":{"$error":"#REF!"}},{"$f":"#REF!","v":{"$error":"#REF!"}},null,{"$f":"#REF!","v":{"$error":"#REF!"}},{"$f":"#REF!","v":{"$error":"#REF!"}},{"$f":"#REF!","v":{"$error":"#REF!"}},{"$f":"#REF!","v":{"$error":"#REF!"}},{"$f":"#REF!","v":{"$error":"#REF!"}},{"$f":"#REF!","v":{"$error":"#REF!"}},{"$f":"#REF!","v":{"$error":"#REF!"}},{"$f":"#REF!","v":{"$error":"#REF!"}},{"$f":"#REF!","v":{"$error":"#REF!"}}]
[null,null,null,null,null,null,null,null,null,null,null,null,null,null,2,{"$f":"#REF!","v":{"$error":"#REF!"}},{"$f":"#REF!","v":{"$error":"#REF!"}}]
[{"$f":"CONCATENATE(#REF!,\" - \",#REF!)","v":{"$error":"#REF!"}},{"$f":"CONCATENATE(#REF!,\" - \",#REF!)","v":{"$error":"#REF!"}},{"$f":"CONCATENATE(#REF!,\" - \",#REF!)","v":{"$error":"#REF!"}},{"$f":"CONCATENATE(#REF!,\" - \",#REF!)","v":{"$error":"#REF!"}},{"$f":"CONCATENATE(#REF!,\" - \",#REF!)","v":{"$error":"#REF!"}},{"$f":"CONCATENATE(#REF!,\" - \",#REF!)","v":{"$error":"#REF!"}},"П1","Х","П2","ТБ/ТМ - MG",null,"П1","Х","П2","ТБ 1.5",{"$f":"#REF!","v":{"$error":"#REF!"}},{"$f":"#REF!","v":{"$error":"#REF!"}}]
[null,null,null,null,null,null,null,null,null,null,null,null,null,null,"ТМ 1.5",{"$f":"#REF!","v":{"$error":"#REF!"}},{"$f":"#REF!","v":{"$error":"#REF!"}}]
["Исход матча","Вероятный счет",null,"ТБ 1,5","ТБ 2,5","ТБ 3,5",{"$f":"#REF!","v":{"$error":"#REF!"}},{"$f":"#REF!","v":{"$error":"#REF!"}},{"$f":"#REF!","v":{"$error":"#REF!"}},{"$f":"CONCATENATE(#REF!,\" / \",#REF!)","v":{"$error":"#REF!"}},null,{"$f":"#REF!","v":{"$error":"#REF!"}},{"$f":"#REF!","v":{"$error":"#REF!"}},{"$f":"#REF!","v":{"$error":"#REF!"}},"ТБ 2.5",{"$f":"#REF!","v":{"$error":"#REF!"}},{"$f":"#REF!","v":{"$error":"#REF!"}},"7 в 1 больше 1.5"]
[{"$f":"#REF!","v":{"$error":"#REF!"}},{"$f":"#REF!","v":{"$error":"#REF!"}},{"$f":"#REF!","v":{"$error":"#REF!"}},{"$f":"#REF!/100","v":{"$error":"#REF!"}},{"$f":"#REF!/100","v":{"$error":"#REF!"}},{"$f":"#REF!/100","v":{"$error":"#REF!"}},null,null,null,null,null,null,null,null,"ТМ 2.5",{"$f":"#REF!","v":{"$error":"#REF!"}},{"$f":"#REF!","v":{"$error":"#REF!"}}]
[null,null,null,{"$f":"#REF!","v":{"$error":"#REF!"}},{"$f":"#REF!","v":{"$error":"#REF!"}},{"$f":"#REF!","v":{"$error":"#REF!"}},null,null,null,null,null,null,null,null,"ТБ 3.5",{"$f":"#REF!","v":{"$error":"#REF!"}},{"$f":"#REF!","v":{"$error":"#REF!"}},"GG + OV 1,5","Collevola 1.5","Collevola 2.5","Kalos Gheros","Montebianco","Palella","Sirjo","Spettro","Superliuk","Superliuk 2.5"]
["Теория \"Синдиката\"",null,null,"ALONE V2",null,null,null,null,null,null,null,null,null,null,"ТМ 3.5",{"$f":"#REF!","v":{"$error":"#REF!"}},{"$f":"#REF!","v":{"$error":"#REF!"}}]
[null,null,null,null,null,null,null,null,null,null,null,null,null,null,"К1 Заб",{"$f":"#REF!","v":{"$error":"#REF!"}},{"$f":"#REF!","v":{"$error":"#REF!"}}]
["Тест № 1",{"$f":"#REF!","v":{"$error":"#REF!"}},null,"П1","Х","П2","ТМ 2.5",null,"ТБ 2.5",null,"ОЗ Да",null,"ОЗ Нет",null,"К1 НЗ",{"$f":"#REF!","v":{"$error":"#REF!"}},{"$f":"#REF!","v":{"$error":"#REF!"}}]
["Тест № 2",{"$f":"#REF!","v":{"$error":"#REF!"}},null,null,null,null,null,null,null,null,null,null,null,null,"К2 Заб",{"$f":"#REF!","v":{"$error":"#REF!"}},{"$f":"#REF!","v":{"$error":"#REF!"}},{"$f":"#REF!","v":{"$error":"#REF!"}},{"$f":"#REF!","v":{"$error":"#REF!"}},{"$f":"#REF!","v":{"$error":"#REF!"}},{"$f":"#REF!","v":{"$error":"#REF!"}},{"$f":"#REF!","v":{"$error":"#REF!"}},{"$f":"#REF!","v":{"$error":"#REF!"}},{"$f":"#REF!","v":{"$error":"#REF!"}},{"$f":"#REF!","v":{"$error":"#REF!"}},{"$f":"#REF!","v":{"$error":"#REF!"}},{"$f":"#REF!","v":{"$error":"#REF!"}}]
["Тест № 3",{"$f":"#REF!","v":{"$error":"#REF!"}},null,null,null,null,null,null,null,null,null,null,null,null,"К2 НЗ",{"$f":"#REF!","v":{"$error":"#REF!"}},{"$f":"#REF!","v":{"$error":"#REF!"}}]
["Тест № 4",{"$f":"#REF!","v":{"$error":"#REF!"}},null,{"$f":"#REF!","v":{"$error":"#REF!"}},{"$f":"#REF!","v":{"$error":"#REF!"}},{"$f":"#REF!","v":{"$error":"#REF!"}},{"$f":"#REF!","v":{"$error":"#REF!"}},null,{"$f":"#REF!","v":{"$error":"#REF!"}},null,{"$f":"#REF!","v":{"$error":"#REF!"}},null,{"$f":"#REF!","v":{"$error":"#REF!"}},null,"ОЗ",{"$f":"#REF!","v":{"$error":"#REF!"}},{"$f":"#REF!","v":{"$error":"#REF!"}},"SENATORE V8.5"]
["Тотал",{"$f":"#REF!","v":{"$error":"#REF!"}},null,null,null,null,null,null,null,null,null,null,null,null,"ОЗ нет",{"$f":"#REF!","v":{"$error":"#REF!"}},{"$f":"#REF!","v":{"$error":"#REF!"}}]
["Счет матча",null,null,null,null,null,null,null,null,null,null,null,null,null,"ТБ 0.5",{"$f":"#REF!","v":{"$error":"#REF!"}},{"$f":"#REF!","v":{"$error":"#REF!"}},"1Х/Х2/12",null,"П1","ИСХОД","ТБ 1.5","ТОТАЛ","К1 ЗАБ","К2 ЗАБ","ТБ 1.5 1 К","1X2"]
[null,null,null,{"$f":"#REF!","v":{"$error":"#REF!"}},{"$f":"#REF!","v":{"$error":"#REF!"}},{"$f":"#REF!","v":{"$error":"#REF!"}},{"$f":"#REF!","v":{"$error":"#REF!"}},null,{"$f":"#REF!","v":{"$error":"#REF!"}},null,{"$f":"#REF!","v":{"$error":"#REF!"}},null,{"$f":"#REF!","v":{"$error":"#REF!"}},null,"ТМ 0.5",{"$f":"#REF!","v":{"$error":"#REF!"}},{"$f":"#REF!","v":{"$error":"#REF!"}}]
[{"$f":"CONCATENATE(#REF!,\" - \",#REF!)","v":{"$error":"#REF!"}},null,null,null,null,null,null,null,null,null,null,null,null,null,{"$f":"#REF!","v":{"$error":"#REF!"}},"-",{"$f":"#REF!","v":{"$error":"#REF!"}},{"$f":"#REF!","v":{"$error":"#REF!"}},null,{"$f":"#REF!","v":{"$error":"#REF!"}},{"$f":"#REF!","v":{"$error":"#REF!"}},{"$f":"#REF!","v":{"$error":"#REF!"}},{"$f":"#REF!","v":{"$error":"#REF!"}},{"$f":"#REF!","v":{"$error":"#REF!"}},{"$f":"#REF!","v":{"$error":"#REF!"}},{"$f":"#REF!","v":{"$error":"#REF!"}},{"$f":"#REF!","v":{"$error":"#REF!"}}]
[]
[]
[" "]

{"sheet":"Очные","index":8,"n_rows":150,"n_cols":18,"rows_kept":150,"cut":false,"hidden":true,"merged":[]}
["Флямуртари","Теута",null,null,null,null,"Результат К1","Забито К1","Пропущено К1","Выиграно К1","Ничьих К1","Проиграно К1","РезультатК2","Забито К2","Пропущено К2","Выиграно К2","Ничьих К2","Пропущено К2"]
[null,null,null,null,null,null,{"$f":"IF(A2=\"\",\"\",IF(A1=C2,IF(E2>F2,\"В\",IF(E2=F2,\"Н\",\"П\")),IF(E2<F2,\"В\",IF(E2=F2,\"Н\",\"П\"))))","v":""},{"$f":"IF(A2=\"\",\"\",IF(A1=C2,E2,F2))","v":""},{"$f":"IF(A2=\"\",\"\",IF(A1=C2,F2,E2))","v":""},{"$f":"IF(A2=\"\",\"\",IF(G2=\"В\",1,0))","v":""},{"$f":"IF(A2=\"\",\"\",IF(G2=\"Н\",1,0))","v":""},{"$f":"IF(A2=\"\",\"\",IF(G2=\"П\",1,0))","v":""},{"$f":"IF(A2=\"\",\"\",IF(B1=D2,IF(F2>E2,\"В\",IF(F2=E2,\"Н\",\"П\")),IF(F2<E2,\"В\",IF(F2=E2,\"Н\",\"П\"))))","v":""},{"$f":"IF(A2=\"\",\"\",IF(B1=D2,F2,E2))","v":""},{"$f":"IF(A2=\"\",\"\",IF(B1=D2,E2,F2))","v":""},{"$f":"IF(A2=\"\",\"\",IF(M2=\"В\",1,0))","v":""},{"$f":"IF(A2=\"\",\"\",IF(M2=\"Н\",1,0))","v":""},{"$f":"IF(A2=\"\",\"\",IF(M2=\"П\",1,0))","v":""}]
[null,null,null,null,null,null,{"$f":"IF(A3=\"\",\"\",IF($A$1=C3,IF(E3>F3,\"В\",IF(E3=F3,\"Н\",\"П\")),IF(E3<F3,\"В\",IF(E3=F3,\"Н\",\"П\"))))","v":""},{"$f":"IF(A3=\"\",\"\",IF($A$1=C3,E3+H2,F3+H2))","v":""},{"$f":"IF(A3=\"\",\"\",IF($A$1=C3,F3+I2,E3+I2))","v":""},{"$f":"IF(A3=\"\",\"\",IF(G3=\"В\",1+J2,0+J2))","v":""},{"$f":"IF(A3=\"\",\"\",IF(G3=\"Н\",1+K2,0+K2))","v":""},{"$f":"IF(A3=\"\",\"\",IF(G3=\"П\",1+L2,0+L2))","v":""},{"$f":"IF(A3=\"\",\"\",IF($B$1=D3,IF(F3>E3,\"В\",IF(F3=E3,\"Н\",\"П\")),IF(F3<E3,\"В\",IF(F3=E3,\"Н\",\"П\"))))","v":""},{"$f":"IF(A3=\"\",\"\",IF($B$1=D3,F3+N2,E3+N2))","v":""},{"$f":"IF(A3=\"\",\"\",IF($B$1=D3,E3+O2,F3+O2))","v":""},{"$f":"IF(A3=\"\",\"\",IF(M3=\"В\",1+P2,0+P2))","v":""},{"$f":"IF(A3=\"\",\"\",IF(M3=\"Н\",1+Q2,0+Q2))","v":""},{"$f":"IF(A3=\"\",\"\",IF(M3=\"П\",1+R2,0+R2))","v":""}]
[null,null,null,null,null,null,"","","",{"$f":"IF(A4=\"\",\"\",IF(G4=\"В\",1+J3,0+J3))","v":""},{"$f":"IF(A4=\"\",\"\",IF(G4=\"Н\",1+K3,0+K3))","v":""},{"$f":"IF(A4=\"\",\"\",IF(G4=\"П\",1+L3,0+L3))","v":""},{"$f":"IF(A4=\"\",\"\",IF($B$1=D4,IF(F4>E4,\"В\",IF(F4=E4,\"Н\",\"П\")),IF(F4<E4,\"В\",IF(F4=E4,\"Н\",\"П\"))))","v":""},{"$f":"IF(A4=\"\",\"\",IF($B$1=D4,F4+N3,E4+N3))","v":""},{"$f":"IF(A4=\"\",\"\",IF($B$1=D4,E4+O3,F4+O3))","v":""},{"$f":"IF(A4=\"\",\"\",IF(M4=\"В\",1+P3,0+P3))","v":""},{"$f":"IF(A4=\"\",\"\",IF(M4=\"Н\",1+Q3,0+Q3))","v":""},{"$f":"IF(A4=\"\",\"\",IF(M4=\"П\",1+R3,0+R3))","v":""}]
[null,null,null,null,null,null,"","","","","","","","","","","",""]
[null,null,null,null,null,null,"","","","","","","","","","","",""]
[null,null,null,null,null,null,"","","","","","","","","","","",""]
[null,null,null,null,null,null,"","","","","","","","","","","",""]
[null,null,null,null,null,null,"","","","","","","","","","","",""]
[null,null,null,null,null,null,"","","","","","","","","","","",""]
[null,null,null,null,null,null,"","","","","","","","","","","",""]
[null,null,null,null,null,null,"","","","","","","","","","","",""]
[null,null,null,null,null,null,"","","","","","","","","","","",""]
[null,null,null,null,null,null,"","","","","","","","","","","",""]
[null,null,null,null,null,null,"","","","","","","","","","","",""]
[null,null,null,null,null,null,"","","","","","","","","","","",""]
[null,null,null,null,null,null,"","","","","","","","","","","",""]
[null,null,null,null,null,null,"","","","","","","","","","","",""]
[null,null,null,null,null,null,"","","","","","","","","","","",""]
[null,null,null,null,null,null,"","","","","","","","","","","",""]
[null,null,null,null,null,null,"","","","","","","","","","","",""]
[null,null,null,null,null,null,"","","","","","","","","","","",""]
[null,null,null,null,null,null,"","","","","","","","","","","",""]
[null,null,null,null,null,null,"","","","","","","","","","","",""]
[null,null,null,null,null,null,"","","","","","","","","","","",""]
[null,null,null,null,null,null,"","","","","","","","","","","",""]
[null,null,null,null,null,null,"","","","","","","","","","","",""]
[null,null,null,null,null,null,"","","","","","","","","","","",""]
[null,null,null,null,null,null,"","","","","","","","","","","",""]
[null,null,null,null,null,null,"","","","","","","","","","","",""]
[null,null,null,null,null,null,"","","","","","","","","","","",""]
[null,null,null,null,null,null,"","","","","","","","","","","",""]
[null,null,null,null,null,null,"","","","","","","","","","","",""]
[null,null,null,null,null,null,"","","","","","","","","","","",""]
[null,null,null,null,null,null,{"$f":"IF(A35=\"\",\"\",IF($A$1=C35,IF(E35>F35,\"В\",IF(E35=F35,\"Н\",\"П\")),IF(E35<F35,\"В\",IF(E35=F35,\"Н\",\"П\"))))","v":""},{"$f":"IF(A35=\"\",\"\",IF($A$1=C35,E35+H34,F35+H34))","v":""},{"$f":"IF(A35=\"\",\"\",IF($A$1=C35,F35+I34,E35+I34))","v":""},"","","","","","","","",""]
[null,null,null,null,null,null,"","","","","","","","","","","",""]
[null,null,null,null,null,null,"","","","","","","","","","","",""]
[null,null,null,null,null,null,"","","","","","","","","","","",""]
[null,null,null,null,null,null,"","","","","","","","","","","",""]
[null,null,null,null,null,null,"","","","","","","","","","","",""]
[null,null,null,null,null,null,"","","","","","","","","","","",""]
[null,null,null,null,null,null,"","","","","","","","","","","",""]
[null,null,null,null,null,null,"","","","","","","","","","","",""]
[null,null,null,null,null,null,"","","","","","","","","","","",""]
[null,null,null,null,null,null,"","","","","","","","","","","",""]
[null,null,null,null,null,null,"","","","","","","","","","","",""]
[null,null,null,null,null,null,"","","","","","","","","","","",""]
[null,null,null,null,null,null,"","","","","","","","","","","",""]
[null,null,null,null,null,null,"","","","","","","","","","","",""]
[null,null,null,null,null,null,"","","","","","","","","","","",""]
[null,null,null,null,null,null,"","","","","","","","","","","",""]
[null,null,null,null,null,null,"","","","","","","","","","","",""]
[null,null,null,null,null,null,"","","","","","","","","","","",""]
[null,null,null,null,null,null,"","","","","","","","","","","",""]
[null,null,null,null,null,null,"","","","","","","","","","","",""]
[null,null,null,null,null,null,"","","","","","","","","","","",""]
[null,null,null,null,null,null,"","","","","","","","","","","",""]
[null,null,null,null,null,null,"","","","","","","","","","","",""]
[null,null,null,null,null,null,"","","","","","","","","","","",""]
[null,null,null,null,null,null,"","","","","","","","","","","",""]
[null,null,null,null,null,null,"","","","","","","","","","","",""]
[null,null,null,null,null,null,"","","","","","","","","","","",""]
[null,null,null,null,null,null,"","","","","","","","","","","",""]
[null,null,null,null,null,null,"","","","","","","","","","","",""]
[null,null,null,null,null,null,"","","","","","","","","","","",""]
[null,null,null,null,null,null,"","","","","","","","","","","",""]
[null,null,null,null,null,null,{"$f":"IF(A67=\"\",\"\",IF($A$1=C67,IF(E67>F67,\"В\",IF(E67=F67,\"Н\",\"П\")),IF(E67<F67,\"В\",IF(E67=F67,\"Н\",\"П\"))))","v":""},{"$f":"IF(A67=\"\",\"\",IF($A$1=C67,E67+H66,F67+H66))","v":""},{"$f":"IF(A67=\"\",\"\",IF($A$1=C67,F67+I66,E67+I66))","v":""},"","","","","","","","",""]
[null,null,null,null,null,null,"","","",{"$f":"IF(A68=\"\",\"\",IF(G68=\"В\",1+J67,0+J67))","v":""},{"$f":"IF(A68=\"\",\"\",IF(G68=\"Н\",1+K67,0+K67))","v":""},{"$f":"IF(A68=\"\",\"\",IF(G68=\"П\",1+L67,0+L67))","v":""},{"$f":"IF(A68=\"\",\"\",IF($B$1=D68,IF(F68>E68,\"В\",IF(F68=E68,\"Н\",\"П\")),IF(F68<E68,\"В\",IF(F68=E68,\"Н\",\"П\"))))","v":""},{"$f":"IF(A68=\"\",\"\",IF($B$1=D68,F68+N67,E68+N67))","v":""},{"$f":"IF(A68=\"\",\"\",IF($B$1=D68,E68+O67,F68+O67))","v":""},{"$f":"IF(A68=\"\",\"\",IF(M68=\"В\",1+P67,0+P67))","v":""},{"$f":"IF(A68=\"\",\"\",IF(M68=\"Н\",1+Q67,0+Q67))","v":""},{"$f":"IF(A68=\"\",\"\",IF(M68=\"П\",1+R67,0+R67))","v":""}]
[null,null,null,null,null,null,"","","","","","","","","","","",""]
[null,null,null,null,null,null,"","","","","","","","","","","",""]
[null,null,null,null,null,null,"","","","","","","","","","","",""]
[null,null,null,null,null,null,"","","","","","","","","","","",""]
[null,null,null,null,null,null,"","","","","","","","","","","",""]
[null,null,null,null,null,null,"","","","","","","","","","","",""]
[null,null,null,null,null,null,"","","","","","","","","","","",""]
[null,null,null,null,null,null,"","","","","","","","","","","",""]
[null,null,null,null,null,null,"","","","","","","","","","","",""]
[null,null,null,null,null,null,"","","","","","","","","","","",""]
[null,null,null,null,null,null,"","","","","","","","","","","",""]
[null,null,null,null,null,null,"","","","","","","","","","","",""]
[null,null,null,null,null,null,"","","","","","","","","","","",""]
[null,null,null,null,null,null,"","","","","","","","","","","",""]
[null,null,null,null,null,null,"","","","","","","","","","","",""]
[null,null,null,null,null,null,"","","","","","","","","","","",""]
[null,null,null,null,null,null,"","","","","","","","","","","",""]
[null,null,null,null,null,null,"","","","","","","","","","","",""]
[null,null,null,null,null,null,"","","","","","","","","","","",""]
[null,null,null,null,null,null,"","","","","","","","","","","",""]
[null,null,null,null,null,null,"","","","","","","","","","","",""]
[null,null,null,null,null,null,"","","","","","","","","","","",""]
[null,null,null,null,null,null,"","","","","","","","","","","",""]
[null,null,null,null,null,null,"","","","","","","","","","","",""]
[null,null,null,null,null,null,"","","","","","","","","","","",""]
[null,null,null,null,null,null,"","","","","","","","","","","",""]
[null,null,null,null,null,null,"","","","","","","","","","","",""]
[null,null,null,null,null,null,"","","","","","","","","","","",""]
[null,null,null,null,null,null,"","","","","","","","","","","",""]
[null,null,null,null,null,null,"","","","","","","","","","","",""]
[null,null,null,null,null,null,{"$f":"IF(A99=\"\",\"\",IF($A$1=C99,IF(E99>F99,\"В\",IF(E99=F99,\"Н\",\"П\")),IF(E99<F99,\"В\",IF(E99=F99,\"Н\",\"П\"))))","v":""},{"$f":"IF(A99=\"\",\"\",IF($A$1=C99,E99+H98,F99+H98))","v":""},{"$f":"IF(A99=\"\",\"\",IF($A$1=C99,F99+I98,E99+I98))","v":""},"","","","","","","","",""]
[null,null,null,null,null,null,"","","","","","","","","","","",""]
[null,null,null,null,null,null,"","","","","","","","","","","",""]
[null,null,null,null,null,null,"","","","","","","","","","","",""]
[null,null,null,null,null,null,"","","","","","","","","","","",""]
[null,null,null,null,null,null,"","","","","","","","","","","",""]
[null,null,null,null,null,null,"","","","","","","","","","","",""]
[null,null,null,null,null,null,"","","","","","","","","","","",""]
[null,null,null,null,null,null,"","","","","","","","","","","",""]
[null,null,null,null,null,null,"","","","","","","","","","","",""]
[null,null,null,null,null,null,"","","","","","","","","","","",""]
[null,null,null,null,null,null,"","","","","","","","","","","",""]
[null,null,null,null,null,null,"","","","","","","","","","","",""]
[null,null,null,null,null,null,"","","","","","","","","","","",""]
[null,null,null,null,null,null,"","","","","","","","","","","",""]
[null,null,null,null,null,null,"","","","","","","","","","","",""]
[null,null,null,null,null,null,"","","","","","","","","","","",""]
[null,null,null,null,null,null,"","","","","","","","","","","",""]
[null,null,null,null,null,null,"","","","","","","","","","","",""]
[null,null,null,null,null,null,"","","","","","","","","","","",""]
[null,null,null,null,null,null,"","","","","","","","","","","",""]
[null,null,null,null,null,null,"","","","","","","","","","","",""]
[null,null,null,null,null,null,"","","","","","","","","","","",""]
[null,null,null,null,null,null,"","","","","","","","","","","",""]
[null,null,null,null,null,null,"","","","","","","","","","","",""]
[null,null,null,null,null,null,"","","","","","","","","","","",""]
[null,null,null,null,null,null,"","","","","","","","","","","",""]
[null,null,null,null,null,null,"","","","","","","","","","","",""]
[null,null,null,null,null,null,"","","","","","","","","","","",""]
[null,null,null,null,null,null,"","","","","","","","","","","",""]
[null,null,null,null,null,null,"","","","","","","","","","","",""]
[null,null,null,null,null,null,"","","","","","","","","","","",""]
[null,null,null,null,null,null,{"$f":"IF(A131=\"\",\"\",IF($A$1=C131,IF(E131>F131,\"В\",IF(E131=F131,\"Н\",\"П\")),IF(E131<F131,\"В\",IF(E131=F131,\"Н\",\"П\"))))","v":""},{"$f":"IF(A131=\"\",\"\",IF($A$1=C131,E131+H130,F131+H130))","v":""},{"$f":"IF(A131=\"\",\"\",IF($A$1=C131,F131+I130,E131+I130))","v":""},"","","","","","","","",""]
[null,null,null,null,null,null,"","","",{"$f":"IF(A132=\"\",\"\",IF(G132=\"В\",1+J131,0+J131))","v":""},{"$f":"IF(A132=\"\",\"\",IF(G132=\"Н\",1+K131,0+K131))","v":""},{"$f":"IF(A132=\"\",\"\",IF(G132=\"П\",1+L131,0+L131))","v":""},{"$f":"IF(A132=\"\",\"\",IF($B$1=D132,IF(F132>E132,\"В\",IF(F132=E132,\"Н\",\"П\")),IF(F132<E132,\"В\",IF(F132=E132,\"Н\",\"П\"))))","v":""},{"$f":"IF(A132=\"\",\"\",IF($B$1=D132,F132+N131,E132+N131))","v":""},{"$f":"IF(A132=\"\",\"\",IF($B$1=D132,E132+O131,F132+O131))","v":""},{"$f":"IF(A132=\"\",\"\",IF(M132=\"В\",1+P131,0+P131))","v":""},{"$f":"IF(A132=\"\",\"\",IF(M132=\"Н\",1+Q131,0+Q131))","v":""},{"$f":"IF(A132=\"\",\"\",IF(M132=\"П\",1+R131,0+R131))","v":""}]
[null,null,null,null,null,null,"","","","","","","","","","","",""]
[null,null,null,null,null,null,"","","","","","","","","","","",""]
[null,null,null,null,null,null,"","","","","","","","","","","",""]
[null,null,null,null,null,null,"","","","","","","","","","","",""]
[null,null,null,null,null,null,"","","","","","","","","","","",""]
[null,null,null,null,null,null,"","","","","","","","","","","",""]
[null,null,null,null,null,null,"","","","","","","","","","","",""]
[null,null,null,null,null,null,"","","","","","","","","","","",""]
[null,null,null,null,null,null,"","","","","","","","","","","",""]
[null,null,null,null,null,null,"","","","","","","","","","","",""]
[null,null,null,null,null,null,"","","","","","","","","","","",""]
[null,null,null,null,null,null,"","","","","","","","","","","",""]
[null,null,null,null,null,null,"","","","","","","","","","","",""]
[null,null,null,null,null,null,"","","","","","","","","","","",""]
[null,null,null,null,null,null,"","","","","","","","","","","",""]
[null,null,null,null,null,null,"","","","","","","","","","","",""]
[null,null,null,null,null,null,"","","","","","","","","","","",""]
[null,null,null,null,null,null,"","","","","","","","","","","",""]

{"sheet":"ДомаГости","index":9,"n_rows":150,"n_cols":35,"rows_kept":150,"cut":false,"hidden":true,"merged":[]}
["Чемпионат","Дата/Время","Дома","Гости","К1 в 1Т","К2 в 1Т","К1 во 2Т","К2 во 2Т","Где играли","К1 Голов","К2 Голов","Забито","Пропущено","Результат","Всего Игр","Всего выиграно","Всего ничьих","Всего проиграно","Всего забито","Всего пропущено","Всего очков","Дома игр","Дома выиграно","Дома ничьих","Дома проиграно","Дома забито","Дома пропущено","Дома очков","Гости игр","Гости выиграно","Гости ничьих","Гости проиграно","Гости забито","Гости пропущено","Гости очков"]
["АЛБАНИЯ: Суперлига","2019.12.18 18:00","Тирана","Флямуртари",0,0,2,0,"Гости",{"$f":"IF(I2=\"\",\"\",E2+G2)","v":2},{"$f":"IF(I2=\"\",\"\",F2+H2)","v":0},{"$f":"IF(I2=\"\",\"\",IF(I2=\"Дома\",J2,K2))","v":0},{"$f":"IF(I2=\"\",\"\",IF(I2=\"Дома\",K2,J2))","v":2},{"$f":"IF(I2=\"\",\"\",IF(I2=\"Дома\",IF(J2>K2,\"В\",IF(J2=K2,\"Н\",\"П\")),IF(J2<K2,\"В\",IF(J2=K2,\"Н\",\"П\"))))","v":"П"},{"$f":"IF(I2=\"\",\"\",1)","v":1},{"$f":"IF(I2=\"\",\"\",IF(N2=\"В\",1,0))","v":0},{"$f":"IF(I2=\"\",\"\",IF(N2=\"Н\",1,0))","v":0},{"$f":"IF(I2=\"\",\"\",IF(N2=\"П\",1,0))","v":1},{"$f":"IF(I2=\"\",\"\",L2)","v":0},{"$f":"IF(I2=\"\",\"\",M2)","v":2},{"$f":"IF(I2=\"\",\"\",P2*3+Q2)","v":0},{"$f":"IF(I2=\"\",\"\",IF(I2=\"Дома\",1,0))","v":0},{"$f":"IF(I2=\"\",\"\",IF(I2=\"Дома\",IF(N2=\"В\",1,0),0))","v":0},{"$f":"IF(I2=\"\",\"\",IF(I2=\"Дома\",IF(N2=\"Н\",1,0),0))","v":0},{"$f":"IF(I2=\"\",\"\",IF(I2=\"Дома\",IF(N2=\"П\",1,0),0))","v":0},{"$f":"IF(I2=\"\",\"\",IF(I2=\"Дома\",L2,0))","v":0},{"$f":"IF(I2=\"\",\"\",IF(I2=\"Дома\",M2,0))","v":0},{"$f":"IF(I2=\"\",\"\",IF(I2=\"Дома\",W2*3+X2,0))","v":0},{"$f":"IF(I2=\"\",\"\",IF(I2=\"Гости\",1,0))","v":1},{"$f":"IF(I2=\"\",\"\",IF(I2=\"Гости\",IF(N2=\"В\",1,0),0))","v":0},{"$f":"IF(I2=\"\",\"\",IF(I2=\"Гости\",IF(N2=\"Н\",1,0),0))","v":0},{"$f":"IF(I2=\"\",\"\",IF(I2=\"Гости\",IF(N2=\"П\",1,0),0))","v":1},{"$f":"IF(I2=\"\",\"\",IF(I2=\"Гости\",L2,0))","v":0},{"$f":"IF(I2=\"\",\"\",IF(I2=\"Гости\",M2,0))","v":2},{"$f":"IF(I2=\"\",\"\",IF(I2=\"Гости\",AD2*3+AE2,0))","v":0}]
["АЛБАНИЯ: Суперлига","2019.12.08 15:30","Лячи","Флямуртари",0,0,3,0,"Гости",{"$f":"IF(I3=\"\",\"\",E3+G3)","v":3},{"$f":"IF(I3=\"\",\"\",F3+H3)","v":0},{"$f":"IF(I3=\"\",\"\",IF(I3=\"Дома\",J3,K3))","v":0},{"$f":"IF(I3=\"\",\"\",IF(I3=\"Дома\",K3,J3))","v":3},{"$f":"IF(I3=\"\",\"\",IF(I3=\"Дома\",IF(J3>K3,\"В\",IF(J3=K3,\"Н\",\"П\")),IF(J3<K3,\"В\",IF(J3=K3,\"Н\",\"П\"))))","v":"П"},{"$f":"IF(I3=\"\",\"\",O2+1)","v":2},{"$f":"IF(I3=\"\",\"\",IF(N3=\"В\",P2+1,P2))","v":0},{"$f":"IF(I3=\"\",\"\",IF(N3=\"Н\",Q2+1,Q2))","v":0},{"$f":"IF(I3=\"\",\"\",IF(N3=\"П\",R2+1,R2))","v":2},{"$f":"IF(I3=\"\",\"\",S2+L3)","v":0},{"$f":"IF(I3=\"\",\"\",T2+M3)","v":5},{"$f":"IF(I3=\"\",\"\",P3*3+Q3)","v":0},{"$f":"IF(I3=\"\",\"\",IF(I3=\"Дома\",V2+1,V2+0))","v":0},{"$f":"IF(I3=\"\",\"\",IF(I3=\"Дома\",IF(N3=\"В\",W2+1,W2),W2))","v":0},{"$f":"IF(I3=\"\",\"\",IF(I3=\"Дома\",IF(N3=\"Н\",X2+1,X2),X2))","v":0},{"$f":"IF(I3=\"\",\"\",IF(I3=\"Дома\",IF(N3=\"П\",Y2+1,Y2),Y2))","v":0},{"$f":"IF(I3=\"\",\"\",IF(I3=\"Дома\",L3+Z2,Z2))","v":0},{"$f":"IF(I3=\"\",\"\",IF(I3=\"Дома\",M3+AA2,AA2))","v":0},{"$f":"IF(I3=\"\",\"\",IF(I3=\"Дома\",W3*3+X3,AB2))","v":0},{"$f":"IF(I3=\"\",\"\",IF(I3=\"Гости\",AC2+1,AC2+0))","v":2},{"$f":"IF(I3=\"\",\"\",IF(I3=\"Гости\",IF(N3=\"В\",AD2+1,AD2),AD2))","v":0},{"$f":"IF(I3=\"\",\"\",IF(I3=\"Гости\",IF(N3=\"Н\",AE2+1,AE2),AE2))","v":0},{"$f":"IF(I3=\"\",\"\",IF(I3=\"Гости\",IF(N3=\"П\",AF2+1,AF2),AF2))","v":2},{"$f":"IF(I3=\"\",\"\",IF(I3=\"Гости\",L3+AG2,AG2))","v":0},{"$f":"IF(I3=\"\",\"\",IF(I3=\"Гости\",M3+AH2,AH2))","v":5},{"$f":"IF(I3=\"\",\"\",IF(I3=\"Гости\",AD3*3+AE3,AI2))","v":0}]
["АЛБАНИЯ: Суперлига","2019.11.03 16:00","Кукеси","Флямуртари",0,0,1,0,"Гости",1,0,0,1,"П",3,{"$f":"IF(I4=\"\",\"\",IF(N4=\"В\",P3+1,P3))","v":0},{"$f":"IF(I4=\"\",\"\",IF(N4=\"Н\",Q3+1,Q3))","v":0},{"$f":"IF(I4=\"\",\"\",IF(N4=\"П\",R3+1,R3))","v":3},{"$f":"IF(I4=\"\",\"\",S3+L4)","v":0},{"$f":"IF(I4=\"\",\"\",T3+M4)","v":6},0,{"$f":"IF(I4=\"\",\"\",IF(I4=\"Дома\",V3+1,V3+0))","v":0},{"$f":"IF(I4=\"\",\"\",IF(I4=\"Дома\",IF(N4=\"В\",W3+1,W3),W3))","v":0},{"$f":"IF(I4=\"\",\"\",IF(I4=\"Дома\",IF(N4=\"Н\",X3+1,X3),X3))","v":0},{"$f":"IF(I4=\"\",\"\",IF(I4=\"Дома\",IF(N4=\"П\",Y3+1,Y3),Y3))","v":0},{"$f":"IF(I4=\"\",\"\",IF(I4=\"Дома\",L4+Z3,Z3))","v":0},{"$f":"IF(I4=\"\",\"\",IF(I4=\"Дома\",M4+AA3,AA3))","v":0},{"$f":"IF(I4=\"\",\"\",IF(I4=\"Дома\",W4*3+X4,AB3))","v":0},{"$f":"IF(I4=\"\",\"\",IF(I4=\"Гости\",AC3+1,AC3+0))","v":3},{"$f":"IF(I4=\"\",\"\",IF(I4=\"Гости\",IF(N4=\"В\",AD3+1,AD3),AD3))","v":0},{"$f":"IF(I4=\"\",\"\",IF(I4=\"Гости\",IF(N4=\"Н\",AE3+1,AE3),AE3))","v":0},{"$f":"IF(I4=\"\",\"\",IF(I4=\"Гости\",IF(N4=\"П\",AF3+1,AF3),AF3))","v":3},{"$f":"IF(I4=\"\",\"\",IF(I4=\"Гости\",L4+AG3,AG3))","v":0},{"$f":"IF(I4=\"\",\"\",IF(I4=\"Гости\",M4+AH3,AH3))","v":6},{"$f":"IF(I4=\"\",\"\",IF(I4=\"Гости\",AD4*3+AE4,AI3))","v":0}]
["АЛБАНИЯ: Суперлига","2019.10.18 19:00","Теута","Флямуртари",0,0,1,0,"Гости",1,0,0,1,"П",4,0,0,4,0,7,0,0,0,0,0,0,0,0,4,0,0,4,0,7,0]
["АЛБАНИЯ: Суперлига","2019.09.28 17:00","Билис","Флямуртари",3,0,2,0,"Гости",5,0,0,5,"П",5,0,0,5,0,12,0,0,0,0,0,0,0,0,5,0,0,5,0,12,0]
["АЛБАНИЯ: Кубок Албании","2019.09.18 17:00","Коплик","Флямуртари",1,2,2,0,"Гости",3,2,2,3,"П",6,0,0,6,2,15,0,0,0,0,0,0,0,0,6,0,0,6,2,15,0]
["АЛБАНИЯ: Суперлига","2019.09.14 17:00","Люфтетари Гирокастра","Флямуртари",0,0,2,1,"Гости",2,1,1,2,"П",7,0,0,7,3,17,0,0,0,0,0,0,0,0,7,0,0,7,3,17,0]
["АЛБАНИЯ: Суперлига","2019.09.01 20:00","Партизани","Флямуртари",1,0,0,0,"Гости",1,0,0,1,{"$f":"IF(I9=\"\",\"\",IF(I9=\"Дома\",IF(J9>K9,\"В\",IF(J9=K9,\"Н\",\"П\")),IF(J9<K9,\"В\",IF(J9=K9,\"Н\",\"П\"))))","v":"П"},8,0,0,8,3,18,0,0,0,0,0,0,0,0,8,0,0,8,3,18,0]
["АЛБАНИЯ: Суперлига","2019.08.24 20:00","Скендербеу","Флямуртари",0,0,1,0,"Гости",1,0,0,1,{"$f":"IF(I10=\"\",\"\",IF(I10=\"Дома\",IF(J10>K10,\"В\",IF(J10=K10,\"Н\",\"П\")),IF(J10<K10,\"В\",IF(J10=K10,\"Н\",\"П\"))))","v":"П"},9,0,0,9,3,19,0,0,0,0,0,0,0,0,9,0,0,9,3,19,0]
["АЛБАНИЯ: Суперлига","2019.05.30 17:00","Тирана","Флямуртари",0,0,3,0,"Гости",3,0,0,3,"П",10,0,0,10,3,22,0,0,0,0,0,0,0,0,10,0,0,10,3,22,0]
["АЛБАНИЯ: Суперлига","2019.05.12 17:30","Кастриоти","Флямуртари",1,0,1,0,"Гости",2,0,0,2,"П",11,0,0,11,3,24,{"$f":"IF(I12=\"\",\"\",P12*3+Q12)","v":0},0,0,0,0,0,0,0,11,0,0,11,3,24,0]
["АЛБАНИЯ: Суперлига","2019.04.28 20:00","Скендербеу","Флямуртари",1,0,1,0,"Гости",2,0,0,2,"П",12,0,0,12,3,26,0,0,0,0,0,0,0,0,12,0,0,12,3,26,0]
["АЛБАНИЯ: Суперлига","2019.04.14 16:45","Кукеси","Флямуртари",0,1,1,1,"Гости",1,2,2,1,"В",13,1,0,12,5,27,3,0,0,0,0,0,0,0,13,1,0,12,5,27,3]
["АЛБАНИЯ: Суперлига","2019.03.30 19:00","Камза","Флямуртари",1,0,0,0,"Гости",1,0,0,1,"П",14,1,0,13,5,28,3,0,0,0,0,0,0,0,14,1,0,13,5,28,3]
["АЛБАНИЯ: Суперлига","2019.03.17 16:00","Лячи","Флямуртари",0,0,0,0,"Гости",0,0,0,0,"Н",15,1,1,13,5,28,4,0,0,0,0,0,0,0,15,1,1,13,5,28,4]
["АЛБАНИЯ: Суперлига","2019.02.23 19:00","Партизани","Флямуртари",1,1,2,0,"Гости",3,1,1,3,"П",16,1,1,14,6,31,4,0,0,0,0,0,0,0,16,1,1,14,6,31,4]
["АЛБАНИЯ: Суперлига","2019.02.10 16:00","Люфтетари Гирокастра","Флямуртари",0,0,0,0,"Гости",0,0,0,0,"Н",17,1,2,14,6,31,5,0,0,0,0,0,0,0,17,1,2,14,6,31,5]
["АЛБАНИЯ: Суперлига","2019.01.27 19:00","Теута","Флямуртари",1,1,0,0,"Гости",1,1,1,1,"Н",18,1,3,14,7,32,6,0,0,0,0,0,0,0,18,1,3,14,7,32,6]
["АЛБАНИЯ: Кубок Албании","2019.01.24 15:00","Тирана","Флямуртари",2,0,0,0,"Гости",2,0,0,2,"П",19,1,3,15,7,34,6,0,0,0,0,0,0,0,19,1,3,15,7,34,6]
["АЛБАНИЯ: Суперлига","2018.12.21 18:30","Тирана","Флямуртари",0,0,1,0,"Гости",1,0,0,1,"П",20,1,3,16,7,35,6,0,0,0,0,0,0,0,20,1,3,16,7,35,6]
[null,null,null,null,null,null,null,null,null,"","","","","","","","","","","","","","","","","","","","","","","","","",""]
[null,null,null,null,null,null,null,null,null,"","","","","","","","","","","","","","","","","","","","","","","","","",""]
[null,null,null,null,null,null,null,null,null,"","","","","","","","","","","","","","","","","","","","","","","","","",""]
[null,null,null,null,null,null,null,null,null,"","","","","","","","","","","","","","","","","","","","","","","","","",""]
[null,null,null,null,null,null,null,null,null,"","","","","","","","","","","","","","","","","","","","","","","","","",""]
[null,null,null,null,null,null,null,null,null,"","","","","","","","","","","","","","","","","","","","","","","","","",""]
[null,null,null,null,null,null,null,null,null,"","","","","","","","","","","","","","","","","","","","","","","","","",""]
[null,null,null,null,null,null,null,null,null,"","","","","","","","","","","","","","","","","","","","","","","","","",""]
[null,null,null,null,null,null,null,null,null,"","","","","","","","","","","","","","","","","","","","","","","","","",""]
[null,null,null,null,null,null,null,null,null,"","","","","","","","","","","","","","","","","","","","","","","","","",""]
[null,null,null,null,null,null,null,null,null,"","","","","","","","","","","","","","","","","","","","","","","","","",""]
[null,null,null,null,null,null,null,null,null,"","","","","","","","","","","","","","","","","","","","","","","","","",""]
[null,null,null,null,null,null,null,null,null,"","","","","","","","","","","","","","","","","","","","","","","","","",""]
[null,null,null,null,null,null,null,null,null,"","","","","","","","","","","","","","","","","","","","","","","","","",""]
[null,null,null,null,null,null,null,null,null,"","","","","","","","","","","","","","","","","","","","","","","","","",""]
[null,null,null,null,null,null,null,null,null,"","","","","","","","","","","","","","","","","","","","","","","","","",""]
[null,null,null,null,null,null,null,null,null,"","","","","","","","","","","","","","","","","","","","","","","","","",""]
[null,null,null,null,null,null,null,null,null,"","","","","","","","","","","","","","","","","","","","","","","","","",""]
[null,null,null,null,null,null,null,null,null,"","","","","","","","","","","","","","","","","","","","","","","","","",""]
[null,null,null,null,null,null,null,null,null,"","","","","","","","","","","","","","","","","","","","","","","","","",""]
[null,null,null,null,null,null,null,null,null,"","","","","","","","","","","","","","","","","","","","","","","","","",""]
[null,null,null,null,null,null,null,null,null,"","","","","","","","","","","","","","","","","","","","","","","","","",""]
[null,null,null,null,null,null,null,null,null,"","","","","","","","","","","","","","","","","","","","","","","","","",""]
[null,null,null,null,null,null,null,null,null,"","","","","","","","","","","","","","","","","","","","","","","","","",""]
[null,null,null,null,null,null,null,null,null,"","","","","","","","","","","","","","","","","","","","","","","","","",""]
[null,null,null,null,null,null,null,null,null,"","","","","","","","","","","","","","","","","","","","","","","","","",""]
[null,null,null,null,null,null,null,null,null,"","","","","","","","","","","","","","","","","","","","","","","","","",""]
[null,null,null,null,null,null,null,null,null,"","","","","","","","","","","","","","","","","","","","","","","","","",""]
[null,null,null,null,null,null,null,null,null,"","","","","","","","","","","","","","","","","","","","","","","","","",""]
[null,null,null,null,null,null,null,null,null,"","","","","","","","","","","","","","","","","","","","","","","","","",""]
[null,null,null,null,null,null,null,null,null,"","","","","","","","","","","","","","","","","","","","","","","","","",""]
[null,null,null,null,null,null,null,null,null,"","","","","","","","","","","","","","","","","","","","","","","","","",""]
[null,null,null,null,null,null,null,null,null,"","","","","","","","","","","","","","","","","","","","","","","","","",""]
[null,null,null,null,null,null,null,null,null,"","","","","","","","","","","","","","","","","","","","","","","","","",""]
[null,null,null,null,null,null,null,null,null,"","","","","","","","","","","","","","","","","","","","","","","","","",""]
[null,null,null,null,null,null,null,null,null,"","","","","","","","","","","","","","","","","","","","","","","","","",""]
[null,null,null,null,null,null,null,null,null,"","","","","","","","","","","","","","","","","","","","","","","","","",""]
[null,null,null,null,null,null,null,null,null,"","","","","","","","","","","","","","","","","","","","","","","","","",""]
[null,null,null,null,null,null,null,null,null,"","","","","","","","","","","","","","","","","","","","","","","","","",""]
[null,null,null,null,null,null,null,null,null,"","","","","","","","","","","","","","","","","","","","","","","","","",""]
[null,null,null,null,null,null,null,null,null,"","","","","","","","","","","","","","","","","","","","","","","","","",""]
[null,null,null,null,null,null,null,null,null,"","","","","","","","","","","","","","","","","","","","","","","","","",""]
[null,null,null,null,null,null,null,null,null,"","","","","","","","","","","","","","","","","","","","","","","","","",""]
[null,null,null,null,null,null,null,null,null,"","","","","","","","","","","","","","","","","","","","","","","","","",""]
[null,null,null,null,null,null,null,null,null,"","","","","","","","","","","","","","","","","","","","","","","","","",""]
[null,null,null,null,null,null,null,null,null,{"$f":"IF(I67=\"\",\"\",E67+G67)","v":""},{"$f":"IF(I67=\"\",\"\",F67+H67)","v":""},{"$f":"IF(I67=\"\",\"\",IF(I67=\"Дома\",J67,K67))","v":""},{"$f":"IF(I67=\"\",\"\",IF(I67=\"Дома\",K67,J67))","v":""},"",{"$f":"IF(I67=\"\",\"\",O66+1)","v":""},"","","","","",{"$f":"IF(I67=\"\",\"\",P67*3+Q67)","v":""},"","","","","","","","","","","","","",""]
[null,null,null,null,null,null,null,null,null,"","","","","","",{"$f":"IF(I68=\"\",\"\",IF(N68=\"В\",P67+1,P67))","v":""},{"$f":"IF(I68=\"\",\"\",IF(N68=\"Н\",Q67+1,Q67))","v":""},{"$f":"IF(I68=\"\",\"\",IF(N68=\"П\",R67+1,R67))","v":""},{"$f":"IF(I68=\"\",\"\",S67+L68)","v":""},{"$f":"IF(I68=\"\",\"\",T67+M68)","v":""},"",{"$f":"IF(I68=\"\",\"\",IF(I68=\"Дома\",V67+1,V67+0))","v":""},{"$f":"IF(I68=\"\",\"\",IF(I68=\"Дома\",IF(N68=\"В\",W67+1,W67),W67))","v":""},{"$f":"IF(I68=\"\",\"\",IF(I68=\"Дома\",IF(N68=\"Н\",X67+1,X67),X67))","v":""},{"$f":"IF(I68=\"\",\"\",IF(I68=\"Дома\",IF(N68=\"П\",Y67+1,Y67),Y67))","v":""},{"$f":"IF(I68=\"\",\"\",IF(I68=\"Дома\",L68+Z67,Z67))","v":""},{"$f":"IF(I68=\"\",\"\",IF(I68=\"Дома\",M68+AA67,AA67))","v":""},{"$f":"IF(I68=\"\",\"\",IF(I68=\"Дома\",W68*3+X68,AB67))","v":""},{"$f":"IF(I68=\"\",\"\",IF(I68=\"Гости\",AC67+1,AC67+0))","v":""},{"$f":"IF(I68=\"\",\"\",IF(I68=\"Гости\",IF(N68=\"В\",AD67+1,AD67),AD67))","v":""},{"$f":"IF(I68=\"\",\"\",IF(I68=\"Гости\",IF(N68=\"Н\",AE67+1,AE67),AE67))","v":""},{"$f":"IF(I68=\"\",\"\",IF(I68=\"Гости\",IF(N68=\"П\",AF67+1,AF67),AF67))","v":""},{"$f":"IF(I68=\"\",\"\",IF(I68=\"Гости\",L68+AG67,AG67))","v":""},{"$f":"IF(I68=\"\",\"\",IF(I68=\"Гости\",M68+AH67,AH67))","v":""},{"$f":"IF(I68=\"\",\"\",IF(I68=\"Гости\",AD68*3+AE68,AI67))","v":""}]
[null,null,null,null,null,null,null,null,null,"","","","","","","","","","","","","","","","","","","","","","","","","",""]
[null,null,null,null,null,null,null,null,null,"","","","","","","","","","","","","","","","","","","","","","","","","",""]
[null,null,null,null,null,null,null,null,null,"","","","","","","","","","","","","","","","","","","","","","","","","",""]
[null,null,null,null,null,null,null,null,null,"","","","","","","","","","","","","","","","","","","","","","","","","",""]
[null,null,null,null,null,null,null,null,null,"","","","","","","","","","","","","","","","","","","","","","","","","",""]
[null,null,null,null,null,null,null,null,null,"","","","",{"$f":"IF(I74=\"\",\"\",IF(I74=\"Дома\",IF(J74>K74,\"В\",IF(J74=K74,\"Н\",\"П\")),IF(J74<K74,\"В\",IF(J74=K74,\"Н\",\"П\"))))","v":""},"","","","","","","","","","","","","","","","","","","","",""]
[null,null,null,null,null,null,null,null,null,"","","","","","","","","","","","","","","","","","","","","","","","","",""]
[null,null,null,null,null,null,null,null,null,"","","","","","","","","","","","","","","","","","","","","","","","","",""]
[null,null,null,null,null,null,null,null,null,"","","","","","","","","","","","","","","","","","","","","","","","","",""]
[null,null,null,null,null,null,null,null,null,"","","","","","","","","","","","","","","","","","","","","","","","","",""]
[null,null,null,null,null,null,null,null,null,"","","","","","","","","","","","","","","","","","","","","","","","","",""]
[null,null,null,null,null,null,null,null,null,"","","","","","","","","","","","","","","","","","","","","","","","","",""]
[null,null,null,null,null,null,null,null,null,"","","","","","","","","","","","","","","","","","","","","","","","","",""]
[null,null,null,null,null,null,null,null,null,"","","","","","","","","","","","","","","","","","","","","","","","","",""]
[null,null,null,null,null,null,null,null,null,"","","","","","","","","","","","","","","","","","","","","","","","","",""]
[null,null,null,null,null,null,null,null,null,"","","","","","","","","","","","","","","","","","","","","","","","","",""]
[null,null,null,null,null,null,null,null,null,"","","","","","","","","","","","","","","","","","","","","","","","","",""]
[null,null,null,null,null,null,null,null,null,"","","","","","","","","","","","","","","","","","","","","","","","","",""]
[null,null,null,null,null,null,null,null,null,"","","","","","","","","","","","","","","","","","","","","","","","","",""]
[null,null,null,null,null,null,null,null,null,"","","","","","","","","","","","","","","","","","","","","","","","","",""]
[null,null,null,null,null,null,null,null,null,"","","","","","","","","","","","","","","","","","","","","","","","","",""]
[null,null,null,null,null,null,null,null,null,"","","","","","","","","","","","","","","","","","","","","","","","","",""]
[null,null,null,null,null,null,null,null,null,"","","","","","","","","","","","","","","","","","","","","","","","","",""]
[null,null,null,null,null,null,null,null,null,"","","","","","","","","","","","","","","","","","","","","","","","","",""]
[null,null,null,null,null,null,null,null,null,"","","","","","","","","","","","","","","","","","","","","","","","","",""]
[null,null,null,null,null,null,null,null,null,"","","","","","","","","","","","","","","","","","","","","","","","","",""]
[null,null,null,null,null,null,null,null,null,"","","","","","","","","","","","","","","","","","","","","","","","","",""]
[null,null,null,null,null,null,null,null,null,"","","","","","","","","","","","","","","","","","","","","","","","","",""]
[null,null,null,null,null,null,null,null,null,"","","","","","","","","","","","","","","","","","","","","","","","","",""]
[null,null,null,null,null,null,null,null,null,"","","","","","","","","","","","","","","","","","","","","","","","","",""]
[null,null,null,null,null,null,null,null,null,"","","","","","","","","","","","","","","","","","","","","","","","","",""]
[null,null,null,null,null,null,null,null,null,"","","","","","","","","","","","","","","","","","","","","","","","","",""]
[null,null,null,null,null,null,null,null,null,"","","","","","","","","","","","","","","","","","","","","","","","","",""]
[null,null,null,null,null,null,null,null,null,"","","","","","","","","","","","","","","","","","","","","","","","","",""]
[null,null,null,null,null,null,null,null,null,"","","","","","","","","","","","","","","","","","","","","","","","","",""]
[null,null,null,null,null,null,null,null,null,"","","","","","","","","","","","","","","","","","","","","","","","","",""]
[null,null,null,null,null,null,null,null,null,"","","","","","","","","","","","","","","","","","","","","","","","","",""]
[null,null,null,null,null,null,null,null,null,"","","","","","","","","","","","","","","","","","","","","","","","","",""]
[null,null,null,null,null,null,null,null,null,"","","","","","","","","","","","","","","","","","","","","","","","","",""]
[null,null,null,null,null,null,null,null,null,"","","","","","","","","","","","","","","","","","","","","","","","","",""]
[null,null,null,null,null,null,null,null,null,"","","","","","","","","","","","","","","","","","","","","","","","","",""]
[null,null,null,null,null,null,null,null,null,"","","","","","","","","","","","","","","","","","","","","","","","","",""]
[null,null,null,null,null,null,null,null,null,"","","","","","","","","","","","","","","","","","","","","","","","","",""]
[null,null,null,null,null,null,null,null,null,"","","","","","","","","","","","","","","","","","","","","","","","","",""]
[null,null,null,null,null,null,null,null,null,"","","","","","","","","","","","","","","","","","","","","","","","","",""]
[null,null,null,null,null,null,null,null,null,"","","","","","","","","","","","","","","","","","","","","","","","","",""]
[null,null,null,null,null,null,null,null,null,"","","","","","","","","","","","","","","","","","","","","","","","","",""]
[null,null,null,null,null,null,null,null,null,"","","","","","","","","","","","","","","","","","","","","","","","","",""]
[null,null,null,null,null,null,null,null,null,"","","","","","","","","","","","","","","","","","","","","","","","","",""]
[null,null,null,null,null,null,null,null,null,"","","","","","","","","","","","","","","","","","","","","","","","","",""]
[null,null,null,null,null,null,null,null,null,"","","","","","","","","","","","","","","","","","","","","","","","","",""]
[null,null,null,null,null,null,null,null,null,"","","","","","","","","","","","","","","","","","","","","","","","","",""]
[null,null,null,null,null,null,null,null,null,"","","","","","","","","","","","","","","","","","","","","","","","","",""]
[null,null,null,null,null,null,null,null,null,"","","","","","","","","","","","","","","","","","","","","","","","","",""]
[null,null,null,null,null,null,null,null,null,"","","","","","","","","","","","","","","","","","","","","","","","","",""]
[null,null,null,null,null,null,null,null,null,"","","","","","","","","","","","","","","","","","","","","","","","","",""]
[null,null,null,null,null,null,null,null,null,"","","","","","","","","","","","","","","","","","","","","","","","","",""]
[null,null,null,null,null,null,null,null,null,"","","","","","","","","","","","","","","","","","","","","","","","","",""]
[null,null,null,null,null,null,null,null,null,"","","","","","","","","","","","","","","","","","","","","","","","","",""]
[null,null,null,null,null,null,null,null,null,"","","","","","","","","","","","","","","","","","","","","","","","","",""]
[null,null,null,null,null,null,null,null,null,"","","","","","","","","","","","","","","","","","","","","","","","","",""]
[null,null,null,null,null,null,null,null,null,"","","","","","","","","","","","","","","","","","","","","","","","","",""]
[null,null,null,null,null,null,null,null,null,{"$f":"IF(I131=\"\",\"\",E131+G131)","v":""},{"$f":"IF(I131=\"\",\"\",F131+H131)","v":""},{"$f":"IF(I131=\"\",\"\",IF(I131=\"Дома\",J131,K131))","v":""},{"$f":"IF(I131=\"\",\"\",IF(I131=\"Дома\",K131,J131))","v":""},"",{"$f":"IF(I131=\"\",\"\",O130+1)","v":""},"","","","","",{"$f":"IF(I131=\"\",\"\",P131*3+Q131)","v":""},"","","","","","","","","","","","","",""]
[null,null,null,null,null,null,null,null,null,"","","","","","",{"$f":"IF(I132=\"\",\"\",IF(N132=\"В\",P131+1,P131))","v":""},{"$f":"IF(I132=\"\",\"\",IF(N132=\"Н\",Q131+1,Q131))","v":""},{"$f":"IF(I132=\"\",\"\",IF(N132=\"П\",R131+1,R131))","v":""},{"$f":"IF(I132=\"\",\"\",S131+L132)","v":""},{"$f":"IF(I132=\"\",\"\",T131+M132)","v":""},"",{"$f":"IF(I132=\"\",\"\",IF(I132=\"Дома\",V131+1,V131+0))","v":""},{"$f":"IF(I132=\"\",\"\",IF(I132=\"Дома\",IF(N132=\"В\",W131+1,W131),W131))","v":""},{"$f":"IF(I132=\"\",\"\",IF(I132=\"Дома\",IF(N132=\"Н\",X131+1,X131),X131))","v":""},{"$f":"IF(I132=\"\",\"\",IF(I132=\"Дома\",IF(N132=\"П\",Y131+1,Y131),Y131))","v":""},{"$f":"IF(I132=\"\",\"\",IF(I132=\"Дома\",L132+Z131,Z131))","v":""},{"$f":"IF(I132=\"\",\"\",IF(I132=\"Дома\",M132+AA131,AA131))","v":""},{"$f":"IF(I132=\"\",\"\",IF(I132=\"Дома\",W132*3+X132,AB131))","v":""},{"$f":"IF(I132=\"\",\"\",IF(I132=\"Гости\",AC131+1,AC131+0))","v":""},{"$f":"IF(I132=\"\",\"\",IF(I132=\"Гости\",IF(N132=\"В\",AD131+1,AD131),AD131))","v":""},{"$f":"IF(I132=\"\",\"\",IF(I132=\"Гости\",IF(N132=\"Н\",AE131+1,AE131),AE131))","v":""},{"$f":"IF(I132=\"\",\"\",IF(I132=\"Гости\",IF(N132=\"П\",AF131+1,AF131),AF131))","v":""},{"$f":"IF(I132=\"\",\"\",IF(I132=\"Гости\",L132+AG131,AG131))","v":""},{"$f":"IF(I132=\"\",\"\",IF(I132=\"Гости\",M132+AH131,AH131))","v":""},{"$f":"IF(I132=\"\",\"\",IF(I132=\"Гости\",AD132*3+AE132,AI131))","v":""}]
[null,null,null,null,null,null,null,null,null,"","","","","","","","","","","","","","","","","","","","","","","","","",""]
[null,null,null,null,null,null,null,null,null,"","","","","","","","","","","","","","","","","","","","","","","","","",""]
[null,null,null,null,null,null,null,null,null,"","","","","","","","","","","","","","","","","","","","","","","","","",""]
[null,null,null,null,null,null,null,null,null,"","","","","","","","","","","","","","","","","","","","","","","","","",""]
[null,null,null,null,null,null,null,null,null,"","","","","","","","","","","","","","","","","","","","","","","","","",""]
[null,null,null,null,null,null,null,null,null,"","","","",{"$f":"IF(I138=\"\",\"\",IF(I138=\"Дома\",IF(J138>K138,\"В\",IF(J138=K138,\"Н\",\"П\")),IF(J138<K138,\"В\",IF(J138=K138,\"Н\",\"П\"))))","v":""},"","","","","","","","","","","","","","","","","","","","",""]
[null,null,null,null,null,null,null,null,null,"","","","","","","","","","","","","","","","","","","","","","","","","",""]
[null,null,null,null,null,null,null,null,null,"","","","","","","","","","","","","","","","","","","","","","","","","",""]
[null,null,null,null,null,null,null,null,null,"","","","","","","","","","","","","","","","","","","","","","","","","",""]
[null,null,null,null,null,null,null,null,null,"","","","","","","","","","","","","","","","","","","","","","","","","",""]
[null,null,null,null,null,null,null,null,null,"","","","","","","","","","","","","","","","","","","","","","","","","",""]
[null,null,null,null,null,null,null,null,null,"","","","","","","","","","","","","","","","","","","","","","","","","",""]
[null,null,null,null,null,null,null,null,null,"","","","","","","","","","","","","","","","","","","","","","","","","",""]
[null,null,null,null,null,null,null,null,null,"","","","","","","","","","","","","","","","","","","","","","","","","",""]
[null,null,null,null,null,null,null,null,null,"","","","","","","","","","","","","","","","","","","","","","","","","",""]
[null,null,null,null,null,null,null,null,null,"","","","","","","","","","","","","","","","","","","","","","","","","",""]
[null,null,null,null,null,null,null,null,null,"","","","","","","","","","","","","","","","","","","","","","","","","",""]
[null,null,null,null,null,null,null,null,null,"","","","","","","","","","","","","","","","","","","","","","","","","",""]

{"sheet":"ГостиДома","index":10,"n_rows":150,"n_cols":35,"rows_kept":150,"cut":false,"hidden":true,"merged":[]}
["Чемпионат","Дата/Время","Дома","Гости","К1 в 1Т","К2 в 1Т","К1 во 2Т","К2 во 2Т","Где играли","К1 Голов","К2 Голов","Забито","Пропущено","Результат","Всего Игр","Всего выиграно","Всего ничьих","Всего проиграно","Всего забито","Всего пропущено","Всего очков","Дома игр","Дома выиграно","Дома ничьих","Дома проиграно","Дома забито","Дома пропущено","Дома очков","Гости игр","Гости выиграно","Гости ничьих","Гости проиграно","Гости забито","Гости пропущено","Гости очков"]
["АЛБАНИЯ: Суперлига","2019.12.18 15:00","Теута","Партизани",1,0,0,0,"Дома",{"$f":"IF(I2=\"\",\"\",E2+G2)","v":1},{"$f":"IF(I2=\"\",\"\",F2+H2)","v":0},{"$f":"IF(I2=\"\",\"\",IF(I2=\"Дома\",J2,K2))","v":1},{"$f":"IF(I2=\"\",\"\",IF(I2=\"Дома\",K2,J2))","v":0},{"$f":"IF(I2=\"\",\"\",IF(I2=\"Дома\",IF(J2>K2,\"В\",IF(J2=K2,\"Н\",\"П\")),IF(J2<K2,\"В\",IF(J2=K2,\"Н\",\"П\"))))","v":"В"},{"$f":"IF(I2=\"\",\"\",1)","v":1},{"$f":"IF(I2=\"\",\"\",IF(N2=\"В\",1,0))","v":1},{"$f":"IF(I2=\"\",\"\",IF(N2=\"Н\",1,0))","v":0},{"$f":"IF(I2=\"\",\"\",IF(N2=\"П\",1,0))","v":0},{"$f":"IF(I2=\"\",\"\",L2)","v":1},{"$f":"IF(I2=\"\",\"\",M2)","v":0},{"$f":"IF(I2=\"\",\"\",P2*3+Q2)","v":3},{"$f":"IF(I2=\"\",\"\",IF(I2=\"Дома\",1,0))","v":1},{"$f":"IF(I2=\"\",\"\",IF(I2=\"Дома\",IF(N2=\"В\",1,0),0))","v":1},{"$f":"IF(I2=\"\",\"\",IF(I2=\"Дома\",IF(N2=\"Н\",1,0),0))","v":0},{"$f":"IF(I2=\"\",\"\",IF(I2=\"Дома\",IF(N2=\"П\",1,0),0))","v":0},{"$f":"IF(I2=\"\",\"\",IF(I2=\"Дома\",L2,0))","v":1},{"$f":"IF(I2=\"\",\"\",IF(I2=\"Дома\",M2,0))","v":0},{"$f":"IF(I2=\"\",\"\",IF(I2=\"Дома\",W2*3+X2,0))","v":3},{"$f":"IF(I2=\"\",\"\",IF(I2=\"Гости\",1,0))","v":0},{"$f":"IF(I2=\"\",\"\",IF(I2=\"Гости\",IF(N2=\"В\",1,0),0))","v":0},{"$f":"IF(I2=\"\",\"\",IF(I2=\"Гости\",IF(N2=\"Н\",1,0),0))","v":0},{"$f":"IF(I2=\"\",\"\",IF(I2=\"Гости\",IF(N2=\"П\",1,0),0))","v":0},{"$f":"IF(I2=\"\",\"\",IF(I2=\"Гости\",L2,0))","v":0},{"$f":"IF(I2=\"\",\"\",IF(I2=\"Гости\",M2,0))","v":0},{"$f":"IF(I2=\"\",\"\",IF(I2=\"Гости\",AD2*3+AE2,0))","v":0}]
["АЛБАНИЯ: Суперлига","2019.12.08 18:30","Теута","Скендербеу",0,0,1,0,"Дома",{"$f":"IF(I3=\"\",\"\",E3+G3)","v":1},{"$f":"IF(I3=\"\",\"\",F3+H3)","v":0},{"$f":"IF(I3=\"\",\"\",IF(I3=\"Дома\",J3,K3))","v":1},{"$f":"IF(I3=\"\",\"\",IF(I3=\"Дома\",K3,J3))","v":0},{"$f":"IF(I3=\"\",\"\",IF(I3=\"Дома\",IF(J3>K3,\"В\",IF(J3=K3,\"Н\",\"П\")),IF(J3<K3,\"В\",IF(J3=K3,\"Н\",\"П\"))))","v":"В"},{"$f":"IF(I3=\"\",\"\",O2+1)","v":2},{"$f":"IF(I3=\"\",\"\",IF(N3=\"В\",P2+1,P2))","v":2},{"$f":"IF(I3=\"\",\"\",IF(N3=\"Н\",Q2+1,Q2))","v":0},{"$f":"IF(I3=\"\",\"\",IF(N3=\"П\",R2+1,R2))","v":0},{"$f":"IF(I3=\"\",\"\",S2+L3)","v":2},{"$f":"IF(I3=\"\",\"\",T2+M3)","v":0},{"$f":"IF(I3=\"\",\"\",P3*3+Q3)","v":6},{"$f":"IF(I3=\"\",\"\",IF(I3=\"Дома\",V2+1,V2+0))","v":2},{"$f":"IF(I3=\"\",\"\",IF(I3=\"Дома\",IF(N3=\"В\",W2+1,W2),W2))","v":2},{"$f":"IF(I3=\"\",\"\",IF(I3=\"Дома\",IF(N3=\"Н\",X2+1,X2),X2))","v":0},{"$f":"IF(I3=\"\",\"\",IF(I3=\"Дома\",IF(N3=\"П\",Y2+1,Y2),Y2))","v":0},{"$f":"IF(I3=\"\",\"\",IF(I3=\"Дома\",L3+Z2,Z2))","v":2},{"$f":"IF(I3=\"\",\"\",IF(I3=\"Дома\",M3+AA2,AA2))","v":0},{"$f":"IF(I3=\"\",\"\",IF(I3=\"Дома\",W3*3+X3,AB2))","v":6},{"$f":"IF(I3=\"\",\"\",IF(I3=\"Гости\",AC2+1,AC2+0))","v":0},{"$f":"IF(I3=\"\",\"\",IF(I3=\"Гости\",IF(N3=\"В\",AD2+1,AD2),AD2))","v":0},{"$f":"IF(I3=\"\",\"\",IF(I3=\"Гости\",IF(N3=\"Н\",AE2+1,AE2),AE2))","v":0},{"$f":"IF(I3=\"\",\"\",IF(I3=\"Гости\",IF(N3=\"П\",AF2+1,AF2),AF2))","v":0},{"$f":"IF(I3=\"\",\"\",IF(I3=\"Гости\",L3+AG2,AG2))","v":0},{"$f":"IF(I3=\"\",\"\",IF(I3=\"Гости\",M3+AH2,AH2))","v":0},{"$f":"IF(I3=\"\",\"\",IF(I3=\"Гости\",AD3*3+AE3,AI2))","v":0}]
["АЛБАНИЯ: Суперлига","2019.11.02 19:00","Теута","Тирана",0,1,1,0,"Дома",1,1,1,1,"Н",3,{"$f":"IF(I4=\"\",\"\",IF(N4=\"В\",P3+1,P3))","v":2},{"$f":"IF(I4=\"\",\"\",IF(N4=\"Н\",Q3+1,Q3))","v":1},{"$f":"IF(I4=\"\",\"\",IF(N4=\"П\",R3+1,R3))","v":0},{"$f":"IF(I4=\"\",\"\",S3+L4)","v":3},{"$f":"IF(I4=\"\",\"\",T3+M4)","v":1},7,{"$f":"IF(I4=\"\",\"\",IF(I4=\"Дома\",V3+1,V3+0))","v":3},{"$f":"IF(I4=\"\",\"\",IF(I4=\"Дома\",IF(N4=\"В\",W3+1,W3),W3))","v":2},{"$f":"IF(I4=\"\",\"\",IF(I4=\"Дома\",IF(N4=\"Н\",X3+1,X3),X3))","v":1},{"$f":"IF(I4=\"\",\"\",IF(I4=\"Дома\",IF(N4=\"П\",Y3+1,Y3),Y3))","v":0},{"$f":"IF(I4=\"\",\"\",IF(I4=\"Дома\",L4+Z3,Z3))","v":3},{"$f":"IF(I4=\"\",\"\",IF(I4=\"Дома\",M4+AA3,AA3))","v":1},{"$f":"IF(I4=\"\",\"\",IF(I4=\"Дома\",W4*3+X4,AB3))","v":7},{"$f":"IF(I4=\"\",\"\",IF(I4=\"Гости\",AC3+1,AC3+0))","v":0},{"$f":"IF(I4=\"\",\"\",IF(I4=\"Гости\",IF(N4=\"В\",AD3+1,AD3),AD3))","v":0},{"$f":"IF(I4=\"\",\"\",IF(I4=\"Гости\",IF(N4=\"Н\",AE3+1,AE3),AE3))","v":0},{"$f":"IF(I4=\"\",\"\",IF(I4=\"Гости\",IF(N4=\"П\",AF3+1,AF3),AF3))","v":0},{"$f":"IF(I4=\"\",\"\",IF(I4=\"Гости\",L4+AG3,AG3))","v":0},{"$f":"IF(I4=\"\",\"\",IF(I4=\"Гости\",M4+AH3,AH3))","v":0},{"$f":"IF(I4=\"\",\"\",IF(I4=\"Гости\",AD4*3+AE4,AI3))","v":0}]
["АЛБАНИЯ: Суперлига","2019.10.18 19:00","Теута","Флямуртари",0,0,1,0,"Дома",1,0,1,0,"В",4,3,1,0,4,1,10,4,3,1,0,4,1,10,0,0,0,0,0,0,0]
["АЛБАНИЯ: Кубок Албании","2019.10.02 15:00","Теута","Тербуни",2,1,4,1,"Дома",6,2,6,2,"В",5,4,1,0,10,3,13,5,4,1,0,10,3,13,0,0,0,0,0,0,0]
["АЛБАНИЯ: Суперлига","2019.09.28 17:00","Теута","Кукеси",0,0,1,0,"Дома",1,0,1,0,"В",6,5,1,0,11,3,16,6,5,1,0,11,3,16,0,0,0,0,0,0,0]
["АЛБАНИЯ: Суперлига","2019.09.14 17:00","Теута","Влазния",0,0,0,0,"Дома",0,0,0,0,"Н",7,5,2,0,11,3,17,7,5,2,0,11,3,17,0,0,0,0,0,0,0]
["АЛБАНИЯ: Суперлига","2019.08.31 20:00","Теута","Люфтетари Гирокастра",2,0,1,1,"Дома",3,1,3,1,{"$f":"IF(I9=\"\",\"\",IF(I9=\"Дома\",IF(J9>K9,\"В\",IF(J9=K9,\"Н\",\"П\")),IF(J9<K9,\"В\",IF(J9=K9,\"Н\",\"П\"))))","v":"В"},8,6,2,0,14,4,20,8,6,2,0,14,4,20,0,0,0,0,0,0,0]
["АЛБАНИЯ: Суперлига","2019.08.24 20:00","Теута","Билис",1,0,0,0,"Дома",1,0,1,0,{"$f":"IF(I10=\"\",\"\",IF(I10=\"Дома\",IF(J10>K10,\"В\",IF(J10=K10,\"Н\",\"П\")),IF(J10<K10,\"В\",IF(J10=K10,\"Н\",\"П\"))))","v":"В"},9,7,2,0,15,4,23,9,7,2,0,15,4,23,0,0,0,0,0,0,0]
["ЕВРОПА: Лига Европы - Квалификация","2019.07.18 18:00","Теута","Вентспилс",0,0,1,0,"Дома",1,0,1,0,"В",10,8,2,0,16,4,26,10,8,2,0,16,4,26,0,0,0,0,0,0,0]
["АЛБАНИЯ: Суперлига","2019.05.30 17:00","Теута","Лячи",0,0,2,0,"Дома",2,0,2,0,"В",11,9,2,0,18,4,{"$f":"IF(I12=\"\",\"\",P12*3+Q12)","v":29},11,9,2,0,18,4,29,0,0,0,0,0,0,0]
["АЛБАНИЯ: Суперлига","2019.05.18 17:30","Теута","Партизани",1,0,1,0,"Дома",2,0,2,0,"В",12,10,2,0,20,4,32,12,10,2,0,20,4,32,0,0,0,0,0,0,0]
["АЛБАНИЯ: Суперлига","2019.05.04 16:00","Теута","Люфтетари Гирокастра",0,0,0,0,"Дома",0,0,0,0,"Н",13,10,3,0,20,4,33,13,10,3,0,20,4,33,0,0,0,0,0,0,0]
["АЛБАНИЯ: Суперлига","2019.04.14 19:45","Теута","Тирана",0,1,1,2,"Дома",1,3,1,3,"П",14,10,3,1,21,7,33,14,10,3,1,21,7,33,0,0,0,0,0,0,0]
["АЛБАНИЯ: Суперлига","2019.03.30 19:00","Теута","Кастриоти",1,0,0,0,"Дома",1,0,1,0,"В",15,11,3,1,22,7,36,15,11,3,1,22,7,36,0,0,0,0,0,0,0]
["АЛБАНИЯ: Кубок Албании","2019.03.12 19:00","Теута","Кукеси",0,1,2,1,"Дома",2,2,2,2,"Н",16,11,4,1,24,9,37,16,11,4,1,24,9,37,0,0,0,0,0,0,0]
["АЛБАНИЯ: Суперлига","2019.03.02 19:00","Теута","Скендербеу",1,0,1,2,"Дома",2,2,2,2,"Н",17,11,5,1,26,11,38,17,11,5,1,26,11,38,0,0,0,0,0,0,0]
["АЛБАНИЯ: Суперлига","2019.02.15 20:00","Теута","Кукеси",0,1,2,0,"Дома",2,1,2,1,"В",18,12,5,1,28,12,41,18,12,5,1,28,12,41,0,0,0,0,0,0,0]
["АЛБАНИЯ: Суперлига","2019.02.10 19:00","Теута","Камза",0,0,0,0,"Дома",0,0,0,0,"Н",19,12,6,1,28,12,42,19,12,6,1,28,12,42,0,0,0,0,0,0,0]
["АЛБАНИЯ: Кубок Албании","2019.02.06 15:30","Теута","Люшня",2,0,2,0,"Дома",4,0,4,0,"В",20,13,6,1,32,12,45,20,13,6,1,32,12,45,0,0,0,0,0,0,0]
["АЛБАНИЯ: Суперлига","2018.12.15 19:00","Флямуртари","Камза",0,0,1,0,"Дома",1,0,1,0,"В",21,14,6,1,33,12,48,21,14,6,1,33,12,48,0,0,0,0,0,0,0]
[null,null,null,null,null,null,null,null,null,"","","","","","","","","","","","","","","","","","","","","","","","","",""]
[null,null,null,null,null,null,null,null,null,"","","","","","","","","","","","","","","","","","","","","","","","","",""]
[null,null,null,null,null,null,null,null,null,"","","","","","","","","","","","","","","","","","","","","","","","","",""]
[null,null,null,null,null,null,null,null,null,"","","","","","","","","","","","","","","","","","","","","","","","","",""]
[null,null,null,null,null,null,null,null,null,"","","","","","","","","","","","","","","","","","","","","","","","","",""]
[null,null,null,null,null,null,null,null,null,"","","","","","","","","","","","","","","","","","","","","","","","","",""]
[null,null,null,null,null,null,null,null,null,"","","","","","","","","","","","","","","","","","","","","","","","","",""]
[null,null,null,null,null,null,null,null,null,"","","","","","","","","","","","","","","","","","","","","","","","","",""]
[null,null,null,null,null,null,null,null,null,"","","","","","","","","","","","","","","","","","","","","","","","","",""]
[null,null,null,null,null,null,null,null,null,"","","","","","","","","","","","","","","","","","","","","","","","","",""]
[null,null,null,null,null,null,null,null,null,"","","","","","","","","","","","","","","","","","","","","","","","","",""]
[null,null,null,null,null,null,null,null,null,"","","","","","","","","","","","","","","","","","","","","","","","","",""]
[null,null,null,null,null,null,null,null,null,"","","","","","","","","","","","","","","","","","","","","","","","","",""]
[null,null,null,null,null,null,null,null,null,"","","","","","","","","","","","","","","","","","","","","","","","","",""]
[null,null,null,null,null,null,null,null,null,"","","","","","","","","","","","","","","","","","","","","","","","","",""]
[null,null,null,null,null,null,null,null,null,"","","","","","","","","","","","","","","","","","","","","","","","","",""]
[null,null,null,null,null,null,null,null,null,"","","","","","","","","","","","","","","","","","","","","","","","","",""]
[null,null,null,null,null,null,null,null,null,"","","","","","","","","","","","","","","","","","","","","","","","","",""]
[null,null,null,null,null,null,null,null,null,"","","","","","","","","","","","","","","","","","","","","","","","","",""]
[null,null,null,null,null,null,null,null,null,"","","","","","","","","","","","","","","","","","","","","","","","","",""]
[null,null,null,null,null,null,null,null,null,"","","","","","","","","","","","","","","","","","","","","","","","","",""]
[null,null,null,null,null,null,null,null,null,"","","","","","","","","","","","","","","","","","","","","","","","","",""]
[null,null,null,null,null,null,null,null,null,"","","","","","","","","","","","","","","","","","","","","","","","","",""]
[null,null,null,null,null,null,null,null,null,"","","","","","","","","","","","","","","","","","","","","","","","","",""]
[null,null,null,null,null,null,null,null,null,"","","","","","","","","","","","","","","","","","","","","","","","","",""]
[null,null,null,null,null,null,null,null,null,"","","","","","","","","","","","","","","","","","","","","","","","","",""]
[null,null,null,null,null,null,null,null,null,"","","","","","","","","","","","","","","","","","","","","","","","","",""]
[null,null,null,null,null,null,null,null,null,"","","","","","","","","","","","","","","","","","","","","","","","","",""]
[null,null,null,null,null,null,null,null,null,"","","","","","","","","","","","","","","","","","","","","","","","","",""]
[null,null,null,null,null,null,null,null,null,"","","","","","","","","","","","","","","","","","","","","","","","","",""]
[null,null,null,null,null,null,null,null,null,"","","","","","","","","","","","","","","","","","","","","","","","","",""]
[null,null,null,null,null,null,null,null,null,"","","","","","","","","","","","","","","","","","","","","","","","","",""]
[null,null,null,null,null,null,null,null,null,"","","","","","","","","","","","","","","","","","","","","","","","","",""]
[null,null,null,null,null,null,null,null,null,"","","","","","","","","","","","","","","","","","","","","","","","","",""]
[null,null,null,null,null,null,null,null,null,"","","","","","","","","","","","","","","","","","","","","","","","","",""]
[null,null,null,null,null,null,null,null,null,"","","","","","","","","","","","","","","","","","","","","","","","","",""]
[null,null,null,null,null,null,null,null,null,"","","","","","","","","","","","","","","","","","","","","","","","","",""]
[null,null,null,null,null,null,null,null,null,"","","","","","","","","","","","","","","","","","","","","","","","","",""]
[null,null,null,null,null,null,null,null,null,"","","","","","","","","","","","","","","","","","","","","","","","","",""]
[null,null,null,null,null,null,null,null,null,"","","","","","","","","","","","","","","","","","","","","","","","","",""]
[null,null,null,null,null,null,null,null,null,"","","","","","","","","","","","","","","","","","","","","","","","","",""]
[null,null,null,null,null,null,null,null,null,"","","","","","","","","","","","","","","","","","","","","","","","","",""]
[null,null,null,null,null,null,null,null,null,"","","","","","","","","","","","","","","","","","","","","","","","","",""]
[null,null,null,null,null,null,null,null,null,"","","","","","","","","","","","","","","","","","","","","","","","","",""]
[null,null,null,null,null,null,null,null,null,{"$f":"IF(I67=\"\",\"\",E67+G67)","v":""},{"$f":"IF(I67=\"\",\"\",F67+H67)","v":""},{"$f":"IF(I67=\"\",\"\",IF(I67=\"Дома\",J67,K67))","v":""},{"$f":"IF(I67=\"\",\"\",IF(I67=\"Дома\",K67,J67))","v":""},"",{"$f":"IF(I67=\"\",\"\",O66+1)","v":""},"","","","","",{"$f":"IF(I67=\"\",\"\",P67*3+Q67)","v":""},"","","","","","","","","","","","","",""]
[null,null,null,null,null,null,null,null,null,"","","","","","",{"$f":"IF(I68=\"\",\"\",IF(N68=\"В\",P67+1,P67))","v":""},{"$f":"IF(I68=\"\",\"\",IF(N68=\"Н\",Q67+1,Q67))","v":""},{"$f":"IF(I68=\"\",\"\",IF(N68=\"П\",R67+1,R67))","v":""},{"$f":"IF(I68=\"\",\"\",S67+L68)","v":""},{"$f":"IF(I68=\"\",\"\",T67+M68)","v":""},"",{"$f":"IF(I68=\"\",\"\",IF(I68=\"Дома\",V67+1,V67+0))","v":""},{"$f":"IF(I68=\"\",\"\",IF(I68=\"Дома\",IF(N68=\"В\",W67+1,W67),W67))","v":""},{"$f":"IF(I68=\"\",\"\",IF(I68=\"Дома\",IF(N68=\"Н\",X67+1,X67),X67))","v":""},{"$f":"IF(I68=\"\",\"\",IF(I68=\"Дома\",IF(N68=\"П\",Y67+1,Y67),Y67))","v":""},{"$f":"IF(I68=\"\",\"\",IF(I68=\"Дома\",L68+Z67,Z67))","v":""},{"$f":"IF(I68=\"\",\"\",IF(I68=\"Дома\",M68+AA67,AA67))","v":""},{"$f":"IF(I68=\"\",\"\",IF(I68=\"Дома\",W68*3+X68,AB67))","v":""},{"$f":"IF(I68=\"\",\"\",IF(I68=\"Гости\",AC67+1,AC67+0))","v":""},{"$f":"IF(I68=\"\",\"\",IF(I68=\"Гости\",IF(N68=\"В\",AD67+1,AD67),AD67))","v":""},{"$f":"IF(I68=\"\",\"\",IF(I68=\"Гости\",IF(N68=\"Н\",AE67+1,AE67),AE67))","v":""},{"$f":"IF(I68=\"\",\"\",IF(I68=\"Гости\",IF(N68=\"П\",AF67+1,AF67),AF67))","v":""},{"$f":"IF(I68=\"\",\"\",IF(I68=\"Гости\",L68+AG67,AG67))","v":""},{"$f":"IF(I68=\"\",\"\",IF(I68=\"Гости\",M68+AH67,AH67))","v":""},{"$f":"IF(I68=\"\",\"\",IF(I68=\"Гости\",AD68*3+AE68,AI67))","v":""}]
[null,null,null,null,null,null,null,null,null,"","","","","","","","","","","","","","","","","","","","","","","","","",""]
[null,null,null,null,null,null,null,null,null,"","","","","","","","","","","","","","","","","","","","","","","","","",""]
[null,null,null,null,null,null,null,null,null,"","","","","","","","","","","","","","","","","","","","","","","","","",""]
[null,null,null,null,null,null,null,null,null,"","","","","","","","","","","","","","","","","","","","","","","","","",""]
[null,null,null,null,null,null,null,null,null,"","","","","","","","","","","","","","","","","","","","","","","","","",""]
[null,null,null,null,null,null,null,null,null,"","","","",{"$f":"IF(I74=\"\",\"\",IF(I74=\"Дома\",IF(J74>K74,\"В\",IF(J74=K74,\"Н\",\"П\")),IF(J74<K74,\"В\",IF(J74=K74,\"Н\",\"П\"))))","v":""},"","","","","","","","","","","","","","","","","","","","",""]
[null,null,null,null,null,null,null,null,null,"","","","","","","","","","","","","","","","","","","","","","","","","",""]
[null,null,null,null,null,null,null,null,null,"","","","","","","","","","","","","","","","","","","","","","","","","",""]
[null,null,null,null,null,null,null,null,null,"","","","","","","","","","","","","","","","","","","","","","","","","",""]
[null,null,null,null,null,null,null,null,null,"","","","","","","","","","","","","","","","","","","","","","","","","",""]
[null,null,null,null,null,null,null,null,null,"","","","","","","","","","","","","","","","","","","","","","","","","",""]
[null,null,null,null,null,null,null,null,null,"","","","","","","","","","","","","","","","","","","","","","","","","",""]
[null,null,null,null,null,null,null,null,null,"","","","","","","","","","","","","","","","","","","","","","","","","",""]
[null,null,null,null,null,null,null,null,null,"","","","","","","","","","","","","","","","","","","","","","","","","",""]
[null,null,null,null,null,null,null,null,null,"","","","","","","","","","","","","","","","","","","","","","","","","",""]
[null,null,null,null,null,null,null,null,null,"","","","","","","","","","","","","","","","","","","","","","","","","",""]
[null,null,null,null,null,null,null,null,null,"","","","","","","","","","","","","","","","","","","","","","","","","",""]
[null,null,null,null,null,null,null,null,null,"","","","","","","","","","","","","","","","","","","","","","","","","",""]
[null,null,null,null,null,null,null,null,null,"","","","","","","","","","","","","","","","","","","","","","","","","",""]
[null,null,null,null,null,null,null,null,null,"","","","","","","","","","","","","","","","","","","","","","","","","",""]
[null,null,null,null,null,null,null,null,null,"","","","","","","","","","","","","","","","","","","","","","","","","",""]
[null,null,null,null,null,null,null,null,null,"","","","","","","","","","","","","","","","","","","","","","","","","",""]
[null,null,null,null,null,null,null,null,null,"","","","","","","","","","","","","","","","","","","","","","","","","",""]
[null,null,null,null,null,null,null,null,null,"","","","","","","","","","","","","","","","","","","","","","","","","",""]
[null,null,null,null,null,null,null,null,null,"","","","","","","","","","","","","","","","","","","","","","","","","",""]
[null,null,null,null,null,null,null,null,null,"","","","","","","","","","","","","","","","","","","","","","","","","",""]
[null,null,null,null,null,null,null,null,null,"","","","","","","","","","","","","","","","","","","","","","","","","",""]
[null,null,null,null,null,null,null,null,null,"","","","","","","","","","","","","","","","","","","","","","","","","",""]
[null,null,null,null,null,null,null,null,null,"","","","","","","","","","","","","","","","","","","","","","","","","",""]
[null,null,null,null,null,null,null,null,null,"","","","","","","","","","","","","","","","","","","","","","","","","",""]
[null,null,null,null,null,null,null,null,null,"","","","","","","","","","","","","","","","","","","","","","","","","",""]
[null,null,null,null,null,null,null,null,null,"","","","","","","","","","","","","","","","","","","","","","","","","",""]
[null,null,null,null,null,null,null,null,null,"","","","","","","","","","","","","","","","","","","","","","","","","",""]
[null,null,null,null,null,null,null,null,null,"","","","","","","","","","","","","","","","","","","","","","","","","",""]
[null,null,null,null,null,null,null,null,null,"","","","","","","","","","","","","","","","","","","","","","","","","",""]
[null,null,null,null,null,null,null,null,null,"","","","","","","","","","","","","","","","","","","","","","","","","",""]
[null,null,null,null,null,null,null,null,null,"","","","","","","","","","","","","","","","","","","","","","","","","",""]
[null,null,null,null,null,null,null,null,null,"","","","","","","","","","","","","","","","","","","","","","","","","",""]
[null,null,null,null,null,null,null,null,null,"","","","","","","","","","","","","","","","","","","","","","","","","",""]
[null,null,null,null,null,null,null,null,null,"","","","","","","","","","","","","","","","","","","","","","","","","",""]
[null,null,null,null,null,null,null,null,null,"","","","","","","","","","","","","","","","","","","","","","","","","",""]
[null,null,null,null,null,null,null,null,null,"","","","","","","","","","","","","","","","","","","","","","","","","",""]
[null,null,null,null,null,null,null,null,null,"","","","","","","","","","","","","","","","","","","","","","","","","",""]
[null,null,null,null,null,null,null,null,null,"","","","","","","","","","","","","","","","","","","","","","","","","",""]
[null,null,null,null,null,null,null,null,null,"","","","","","","","","","","","","","","","","","","","","","","","","",""]
[null,null,null,null,null,null,null,null,null,"","","","","","","","","","","","","","","","","","","","","","","","","",""]
[null,null,null,null,null,null,null,null,null,"","","","","","","","","","","","","","","","","","","","","","","","","",""]
[null,null,null,null,null,null,null,null,null,"","","","","","","","","","","","","","","","","","","","","","","","","",""]
[null,null,null,null,null,null,null,null,null,"","","","","","","","","","","","","","","","","","","","","","","","","",""]
[null,null,null,null,null,null,null,null,null,"","","","","","","","","","","","","","","","","","","","","","","","","",""]
[null,null,null,null,null,null,null,null,null,"","","","","","","","","","","","","","","","","","","","","","","","","",""]
[null,null,null,null,null,null,null,null,null,"","","","","","","","","","","","","","","","","","","","","","","","","",""]
[null,null,null,null,null,null,null,null,null,"","","","","","","","","","","","","","","","","","","","","","","","","",""]
[null,null,null,null,null,null,null,null,null,"","","","","","","","","","","","","","","","","","","","","","","","","",""]
[null,null,null,null,null,null,null,null,null,"","","","","","","","","","","","","","","","","","","","","","","","","",""]
[null,null,null,null,null,null,null,null,null,"","","","","","","","","","","","","","","","","","","","","","","","","",""]
[null,null,null,null,null,null,null,null,null,"","","","","","","","","","","","","","","","","","","","","","","","","",""]
[null,null,null,null,null,null,null,null,null,"","","","","","","","","","","","","","","","","","","","","","","","","",""]
[null,null,null,null,null,null,null,null,null,"","","","","","","","","","","","","","","","","","","","","","","","","",""]
[null,null,null,null,null,null,null,null,null,"","","","","","","","","","","","","","","","","","","","","","","","","",""]
[null,null,null,null,null,null,null,null,null,"","","","","","","","","","","","","","","","","","","","","","","","","",""]
[null,null,null,null,null,null,null,null,null,"","","","","","","","","","","","","","","","","","","","","","","","","",""]
[null,null,null,null,null,null,null,null,null,{"$f":"IF(I131=\"\",\"\",E131+G131)","v":""},{"$f":"IF(I131=\"\",\"\",F131+H131)","v":""},{"$f":"IF(I131=\"\",\"\",IF(I131=\"Дома\",J131,K131))","v":""},{"$f":"IF(I131=\"\",\"\",IF(I131=\"Дома\",K131,J131))","v":""},"",{"$f":"IF(I131=\"\",\"\",O130+1)","v":""},"","","","","",{"$f":"IF(I131=\"\",\"\",P131*3+Q131)","v":""},"","","","","","","","","","","","","",""]
[null,null,null,null,null,null,null,null,null,"","","","","","",{"$f":"IF(I132=\"\",\"\",IF(N132=\"В\",P131+1,P131))","v":""},{"$f":"IF(I132=\"\",\"\",IF(N132=\"Н\",Q131+1,Q131))","v":""},{"$f":"IF(I132=\"\",\"\",IF(N132=\"П\",R131+1,R131))","v":""},{"$f":"IF(I132=\"\",\"\",S131+L132)","v":""},{"$f":"IF(I132=\"\",\"\",T131+M132)","v":""},"",{"$f":"IF(I132=\"\",\"\",IF(I132=\"Дома\",V131+1,V131+0))","v":""},{"$f":"IF(I132=\"\",\"\",IF(I132=\"Дома\",IF(N132=\"В\",W131+1,W131),W131))","v":""},{"$f":"IF(I132=\"\",\"\",IF(I132=\"Дома\",IF(N132=\"Н\",X131+1,X131),X131))","v":""},{"$f":"IF(I132=\"\",\"\",IF(I132=\"Дома\",IF(N132=\"П\",Y131+1,Y131),Y131))","v":""},{"$f":"IF(I132=\"\",\"\",IF(I132=\"Дома\",L132+Z131,Z131))","v":""},{"$f":"IF(I132=\"\",\"\",IF(I132=\"Дома\",M132+AA131,AA131))","v":""},{"$f":"IF(I132=\"\",\"\",IF(I132=\"Дома\",W132*3+X132,AB131))","v":""},{"$f":"IF(I132=\"\",\"\",IF(I132=\"Гости\",AC131+1,AC131+0))","v":""},{"$f":"IF(I132=\"\",\"\",IF(I132=\"Гости\",IF(N132=\"В\",AD131+1,AD131),AD131))","v":""},{"$f":"IF(I132=\"\",\"\",IF(I132=\"Гости\",IF(N132=\"Н\",AE131+1,AE131),AE131))","v":""},{"$f":"IF(I132=\"\",\"\",IF(I132=\"Гости\",IF(N132=\"П\",AF131+1,AF131),AF131))","v":""},{"$f":"IF(I132=\"\",\"\",IF(I132=\"Гости\",L132+AG131,AG131))","v":""},{"$f":"IF(I132=\"\",\"\",IF(I132=\"Гости\",M132+AH131,AH131))","v":""},{"$f":"IF(I132=\"\",\"\",IF(I132=\"Гости\",AD132*3+AE132,AI131))","v":""}]
[null,null,null,null,null,null,null,null,null,"","","","","","","","","","","","","","","","","","","","","","","","","",""]
[null,null,null,null,null,null,null,null,null,"","","","","","","","","","","","","","","","","","","","","","","","","",""]
[null,null,null,null,null,null,null,null,null,"","","","","","","","","","","","","","","","","","","","","","","","","",""]
[null,null,null,null,null,null,null,null,null,"","","","","","","","","","","","","","","","","","","","","","","","","",""]
[null,null,null,null,null,null,null,null,null,"","","","","","","","","","","","","","","","","","","","","","","","","",""]
[null,null,null,null,null,null,null,null,null,"","","","",{"$f":"IF(I138=\"\",\"\",IF(I138=\"Дома\",IF(J138>K138,\"В\",IF(J138=K138,\"Н\",\"П\")),IF(J138<K138,\"В\",IF(J138=K138,\"Н\",\"П\"))))","v":""},"","","","","","","","","","","","","","","","","","","","",""]
[null,null,null,null,null,null,null,null,null,"","","","","","","","","","","","","","","","","","","","","","","","","",""]
[null,null,null,null,null,null,null,null,null,"","","","","","","","","","","","","","","","","","","","","","","","","",""]
[null,null,null,null,null,null,null,null,null,"","","","","","","","","","","","","","","","","","","","","","","","","",""]
[null,null,null,null,null,null,null,null,null,"","","","","","","","","","","","","","","","","","","","","","","","","",""]
[null,null,null,null,null,null,null,null,null,"","","","","","","","","","","","","","","","","","","","","","","","","",""]
[null,null,null,null,null,null,null,null,null,"","","","","","","","","","","","","","","","","","","","","","","","","",""]
[null,null,null,null,null,null,null,null,null,"","","","","","","","","","","","","","","","","","","","","","","","","",""]
[null,null,null,null,null,null,null,null,null,"","","","","","","","","","","","","","","","","","","","","","","","","",""]
[null,null,null,null,null,null,null,null,null,"","","","","","","","","","","","","","","","","","","","","","","","","",""]
[null,null,null,null,null,null,null,null,null,"","","","","","","","","","","","","","","","","","","","","","","","","",""]
[null,null,null,null,null,null,null,null,null,"","","","","","","","","","","","","","","","","","","","","","","","","",""]
[null,null,null,null,null,null,null,null,null,"","","","","","","","","","","","","","","","","","","","","","","","","",""]

{"sheet":"ОчныеДГ","index":11,"n_rows":150,"n_cols":18,"rows_kept":150,"cut":false,"hidden":true,"merged":[]}
["Флямуртари","Теута",null,null,null,null,"Результат К1","Забито К1","Пропущено К1","Выиграно К1","Ничьих К1","Проиграно К1","РезультатК2","Забито К2","Пропущено К2","Выиграно К2","Ничьих К2","Пропущено К2"]
[null,null,null,null,null,null,{"$f":"IF(A2=\"\",\"\",IF($A$1=C2,IF(E2>F2,\"В\",IF(E2=F2,\"Н\",\"П\")),IF(E2<F2,\"В\",IF(E2=F2,\"Н\",\"П\"))))","v":""},{"$f":"IF(A2=\"\",\"\",IF($A$1=C2,E2,F2))","v":""},{"$f":"IF(A2=\"\",\"\",IF($A$1=C2,F2,E2))","v":""},{"$f":"IF(A2=\"\",\"\",IF(G2=\"В\",1,0))","v":""},{"$f":"IF(A2=\"\",\"\",IF(G2=\"Н\",1,0))","v":""},{"$f":"IF(A2=\"\",\"\",IF(G2=\"П\",1,0))","v":""},{"$f":"IF(A2=\"\",\"\",IF(B1=D2,IF(F2>E2,\"В\",IF(F2=E2,\"Н\",\"П\")),IF(F2<E2,\"В\",IF(F2=E2,\"Н\",\"П\"))))","v":""},{"$f":"IF(A2=\"\",\"\",IF(B1=D2,F2,E2))","v":""},{"$f":"IF(A2=\"\",\"\",IF(B1=D2,E2,F2))","v":""},{"$f":"IF(A2=\"\",\"\",IF(M2=\"В\",1,0))","v":""},{"$f":"IF(A2=\"\",\"\",IF(M2=\"Н\",1,0))","v":""},{"$f":"IF(A2=\"\",\"\",IF(M2=\"П\",1,0))","v":""}]
[null,null,null,null,null,null,"",{"$f":"IF(A3=\"\",\"\",IF($A$1=C3,E3+H2,F3+H2))","v":""},{"$f":"IF(A3=\"\",\"\",IF($A$1=C3,F3+I2,E3+I2))","v":""},{"$f":"IF(A3=\"\",\"\",IF(G3=\"В\",1+J2,0+J2))","v":""},{"$f":"IF(A3=\"\",\"\",IF(G3=\"Н\",1+K2,0+K2))","v":""},{"$f":"IF(A3=\"\",\"\",IF(G3=\"П\",1+L2,0+L2))","v":""},{"$f":"IF(A3=\"\",\"\",IF($B$1=D3,IF(F3>E3,\"В\",IF(F3=E3,\"Н\",\"П\")),IF(F3<E3,\"В\",IF(F3=E3,\"Н\",\"П\"))))","v":""},{"$f":"IF(A3=\"\",\"\",IF($B$1=D3,F3+N2,E3+N2))","v":""},{"$f":"IF(A3=\"\",\"\",IF($B$1=D3,E3+O2,F3+O2))","v":""},{"$f":"IF(A3=\"\",\"\",IF(M3=\"В\",1+P2,0+P2))","v":""},{"$f":"IF(A3=\"\",\"\",IF(M3=\"Н\",1+Q2,0+Q2))","v":""},{"$f":"IF(A3=\"\",\"\",IF(M3=\"П\",1+R2,0+R2))","v":""}]
[null,null,null,null,null,null,"",{"$f":"IF(A4=\"\",\"\",IF($A$1=C4,E4+H3,F4+H3))","v":""},{"$f":"IF(A4=\"\",\"\",IF($A$1=C4,F4+I3,E4+I3))","v":""},{"$f":"IF(A4=\"\",\"\",IF(G4=\"В\",1+J3,0+J3))","v":""},{"$f":"IF(A4=\"\",\"\",IF(G4=\"Н\",1+K3,0+K3))","v":""},{"$f":"IF(A4=\"\",\"\",IF(G4=\"П\",1+L3,0+L3))","v":""},{"$f":"IF(A4=\"\",\"\",IF($B$1=D4,IF(F4>E4,\"В\",IF(F4=E4,\"Н\",\"П\")),IF(F4<E4,\"В\",IF(F4=E4,\"Н\",\"П\"))))","v":""},{"$f":"IF(A4=\"\",\"\",IF($B$1=D4,F4+N3,E4+N3))","v":""},{"$f":"IF(A4=\"\",\"\",IF($B$1=D4,E4+O3,F4+O3))","v":""},{"$f":"IF(A4=\"\",\"\",IF(M4=\"В\",1+P3,0+P3))","v":""},{"$f":"IF(A4=\"\",\"\",IF(M4=\"Н\",1+Q3,0+Q3))","v":""},{"$f":"IF(A4=\"\",\"\",IF(M4=\"П\",1+R3,0+R3))","v":""}]
[null,null,null,null,null,null,"","","","","","","","","","","",""]
[null,null,null,null,null,null,"","","","","","","","","","","",""]
[null,null,null,null,null,null,"","","",{"$f":"IF(A7=\"\",\"\",IF(G7=\"В\",1+J6,0+J6))","v":""},{"$f":"IF(A7=\"\",\"\",IF(G7=\"Н\",1+K6,0+K6))","v":""},{"$f":"IF(A7=\"\",\"\",IF(G7=\"П\",1+L6,0+L6))","v":""},{"$f":"IF(A7=\"\",\"\",IF($B$1=D7,IF(F7>E7,\"В\",IF(F7=E7,\"Н\",\"П\")),IF(F7<E7,\"В\",IF(F7=E7,\"Н\",\"П\"))))","v":""},{"$f":"IF(A7=\"\",\"\",IF($B$1=D7,F7+N6,E7+N6))","v":""},{"$f":"IF(A7=\"\",\"\",IF($B$1=D7,E7+O6,F7+O6))","v":""},{"$f":"IF(A7=\"\",\"\",IF(M7=\"В\",1+P6,0+P6))","v":""},{"$f":"IF(A7=\"\",\"\",IF(M7=\"Н\",1+Q6,0+Q6))","v":""},{"$f":"IF(A7=\"\",\"\",IF(M7=\"П\",1+R6,0+R6))","v":""}]
[null,null,null,null,null,null,"","","","","","","","","","","",""]
[null,null,null,null,null,null,"","","","","","","","","","","",""]
[null,null,null,null,null,null,"","","","","","","","","","","",""]
[null,null,null,null,null,null,"","","","","","","","","","","",""]
[null,null,null,null,null,null,"","","","","","","","","","","",""]
[null,null,null,null,null,null,"","","","","","","","","","","",""]
[null,null,null,null,null,null,"","","","","","","","","","","",""]
[null,null,null,null,null,null,"","","","","","","","","","","",""]
[null,null,null,null,null,null,"","","","","","","","","","","",""]
[null,null,null,null,null,null,"","","","","","","","","","","",""]
[null,null,null,null,null,null,"","","","","","","","","","","",""]
[null,null,null,null,null,null,"","","","","","","","","","","",""]
[null,null,null,null,null,null,"","","","","","","","","","","",""]
[null,null,null,null,null,null,"","","","","","","","","","","",""]
[null,null,null,null,null,null,"","","","","","","","","","","",""]
[null,null,null,null,null,null,"","","","","","","","","","","",""]
[null,null,null,null,null,null,"","","","","","","","","","","",""]
[null,null,null,null,null,null,"","","","","","","","","","","",""]
[null,null,null,null,null,null,"","","","","","","","","","","",""]
[null,null,null,null,null,null,"","","","","","","","","","","",""]
[null,null,null,null,null,null,"","","","","","","","","","","",""]
[null,null,null,null,null,null,"","","","","","","","","","","",""]
[null,null,null,null,null,null,"","","","","","","","","","","",""]
[null,null,null,null,null,null,"","","","","","","","","","","",""]
[null,null,null,null,null,null,"","","","","","","","","","","",""]
[null,null,null,null,null,null,"","","","","","","","","","","",""]
[null,null,null,null,null,null,{"$f":"IF(A34=\"\",\"\",IF($A$1=C34,IF(E34>F34,\"В\",IF(E34=F34,\"Н\",\"П\")),IF(E34<F34,\"В\",IF(E34=F34,\"Н\",\"П\"))))","v":""},"","","","","","","","","","",""]
[null,null,null,null,null,null,"","","","","","","","","","","",""]
[null,null,null,null,null,null,"","","","","","","","","","","",""]
[null,null,null,null,null,null,"","","","","","","","","","","",""]
[null,null,null,null,null,null,"","","","","","","","","","","",""]
[null,null,null,null,null,null,"","","","","","","","","","","",""]
[null,null,null,null,null,null,"","","","","","","","","","","",""]
[null,null,null,null,null,null,"","","","","","","","","","","",""]
[null,null,null,null,null,null,"","","","","","","","","","","",""]
[null,null,null,null,null,null,"","","","","","","","","","","",""]
[null,null,null,null,null,null,"","","","","","","","","","","",""]
[null,null,null,null,null,null,"","","","","","","","","","","",""]
[null,null,null,null,null,null,"","","","","","","","","","","",""]
[null,null,null,null,null,null,"","","","","","","","","","","",""]
[null,null,null,null,null,null,"","","","","","","","","","","",""]
[null,null,null,null,null,null,"","","","","","","","","","","",""]
[null,null,null,null,null,null,"","","","","","","","","","","",""]
[null,null,null,null,null,null,"","","","","","","","","","","",""]
[null,null,null,null,null,null,"","","","","","","","","","","",""]
[null,null,null,null,null,null,"","","","","","","","","","","",""]
[null,null,null,null,null,null,"","","","","","","","","","","",""]
[null,null,null,null,null,null,"","","","","","","","","","","",""]
[null,null,null,null,null,null,"","","","","","","","","","","",""]
[null,null,null,null,null,null,"","","","","","","","","","","",""]
[null,null,null,null,null,null,"","","","","","","","","","","",""]
[null,null,null,null,null,null,"","","","","","","","","","","",""]
[null,null,null,null,null,null,"","","","","","","","","","","",""]
[null,null,null,null,null,null,"","","","","","","","","","","",""]
[null,null,null,null,null,null,"","","","","","","","","","","",""]
[null,null,null,null,null,null,"","","","","","","","","","","",""]
[null,null,null,null,null,null,"","","","","","","","","","","",""]
[null,null,null,null,null,null,"","","","","","","","","","","",""]
[null,null,null,null,null,null,{"$f":"IF(A66=\"\",\"\",IF($A$1=C66,IF(E66>F66,\"В\",IF(E66=F66,\"Н\",\"П\")),IF(E66<F66,\"В\",IF(E66=F66,\"Н\",\"П\"))))","v":""},"","","","","","","","","","",""]
[null,null,null,null,null,null,"","","","","","","","","","","",""]
[null,null,null,null,null,null,"",{"$f":"IF(A68=\"\",\"\",IF($A$1=C68,E68+H67,F68+H67))","v":""},{"$f":"IF(A68=\"\",\"\",IF($A$1=C68,F68+I67,E68+I67))","v":""},"","","","","","","","",""]
[null,null,null,null,null,null,"","","","","","","","","","","",""]
[null,null,null,null,null,null,"","","","","","","","","","","",""]
[null,null,null,null,null,null,"","","",{"$f":"IF(A71=\"\",\"\",IF(G71=\"В\",1+J70,0+J70))","v":""},{"$f":"IF(A71=\"\",\"\",IF(G71=\"Н\",1+K70,0+K70))","v":""},{"$f":"IF(A71=\"\",\"\",IF(G71=\"П\",1+L70,0+L70))","v":""},{"$f":"IF(A71=\"\",\"\",IF($B$1=D71,IF(F71>E71,\"В\",IF(F71=E71,\"Н\",\"П\")),IF(F71<E71,\"В\",IF(F71=E71,\"Н\",\"П\"))))","v":""},{"$f":"IF(A71=\"\",\"\",IF($B$1=D71,F71+N70,E71+N70))","v":""},{"$f":"IF(A71=\"\",\"\",IF($B$1=D71,E71+O70,F71+O70))","v":""},{"$f":"IF(A71=\"\",\"\",IF(M71=\"В\",1+P70,0+P70))","v":""},{"$f":"IF(A71=\"\",\"\",IF(M71=\"Н\",1+Q70,0+Q70))","v":""},{"$f":"IF(A71=\"\",\"\",IF(M71=\"П\",1+R70,0+R70))","v":""}]
[null,null,null,null,null,null,"","","","","","","","","","","",""]
[null,null,null,null,null,null,"","","","","","","","","","","",""]
[null,null,null,null,null,null,"","","","","","","","","","","",""]
[null,null,null,null,null,null,"","","","","","","","","","","",""]
[null,null,null,null,null,null,"","","","","","","","","","","",""]
[null,null,null,null,null,null,"","","","","","","","","","","",""]
[null,null,null,null,null,null,"","","","","","","","","","","",""]
[null,null,null,null,null,null,"","","","","","","","","","","",""]
[null,null,null,null,null,null,"","","","","","","","","","","",""]
[null,null,null,null,null,null,"","","","","","","","","","","",""]
[null,null,null,null,null,null,"","","","","","","","","","","",""]
[null,null,null,null,null,null,"","","","","","","","","","","",""]
[null,null,null,null,null,null,"","","","","","","","","","","",""]
[null,null,null,null,null,null,"","","","","","","","","","","",""]
[null,null,null,null,null,null,"","","","","","","","","","","",""]
[null,null,null,null,null,null,"","","","","","","","","","","",""]
[null,null,null,null,null,null,"","","","","","","","","","","",""]
[null,null,null,null,null,null,"","","","","","","","","","","",""]
[null,null,null,null,null,null,"","","","","","","","","","","",""]
[null,null,null,null,null,null,"","","","","","","","","","","",""]
[null,null,null,null,null,null,"","","","","","","","","","","",""]
[null,null,null,null,null,null,"","","","","","","","","","","",""]
[null,null,null,null,null,null,"","","","","","","","","","","",""]
[null,null,null,null,null,null,"","","","","","","","","","","",""]
[null,null,null,null,null,null,"","","","","","","","","","","",""]
[null,null,null,null,null,null,"","","","","","","","","","","",""]
[null,null,null,null,null,null,{"$f":"IF(A98=\"\",\"\",IF($A$1=C98,IF(E98>F98,\"В\",IF(E98=F98,\"Н\",\"П\")),IF(E98<F98,\"В\",IF(E98=F98,\"Н\",\"П\"))))","v":""},"","","","","","","","","","",""]
[null,null,null,null,null,null,"","","","","","","","","","","",""]
[null,null,null,null,null,null,"","","","","","","","","","","",""]
[null,null,null,null,null,null,"","","","","","","","","","","",""]
[null,null,null,null,null,null,"","","","","","","","","","","",""]
[null,null,null,null,null,null,"","","","","","","","","","","",""]
[null,null,null,null,null,null,"","","","","","","","","","","",""]
[null,null,null,null,null,null,"","","","","","","","","","","",""]
[null,null,null,null,null,null,"","","","","","","","","","","",""]
[null,null,null,null,null,null,"","","","","","","","","","","",""]
[null,null,null,null,null,null,"","","","","","","","","","","",""]
[null,null,null,null,null,null,"","","","","","","","","","","",""]
[null,null,null,null,null,null,"","","","","","","","","","","",""]
[null,null,null,null,null,null,"","","","","","","","","","","",""]
[null,null,null,null,null,null,"","","","","","","","","","","",""]
[null,null,null,null,null,null,"","","","","","","","","","","",""]
[null,null,null,null,null,null,"","","","","","","","","","","",""]
[null,null,null,null,null,null,"","","","","","","","","","","",""]
[null,null,null,null,null,null,"","","","","","","","","","","",""]
[null,null,null,null,null,null,"","","","","","","","","","","",""]
[null,null,null,null,null,null,"","","","","","","","","","","",""]
[null,null,null,null,null,null,"","","","","","","","","","","",""]
[null,null,null,null,null,null,"","","","","","","","","","","",""]
[null,null,null,null,null,null,"","","","","","","","","","","",""]
[null,null,null,null,null,null,"","","","","","","","","","","",""]
[null,null,null,null,null,null,"","","","","","","","","","","",""]
[null,null,null,null,null,null,"","","","","","","","","","","",""]
[null,null,null,null,null,null,"","","","","","","","","","","",""]
[null,null,null,null,null,null,"","","","","","","","","","","",""]
[null,null,null,null,null,null,"","","","","","","","","","","",""]
[null,null,null,null,null,null,"","","","","","","","","","","",""]
[null,null,null,null,null,null,"","","","","","","","","","","",""]
[null,null,null,null,null,null,{"$f":"IF(A130=\"\",\"\",IF($A$1=C130,IF(E130>F130,\"В\",IF(E130=F130,\"Н\",\"П\")),IF(E130<F130,\"В\",IF(E130=F130,\"Н\",\"П\"))))","v":""},"","","","","","","","","","",""]
[null,null,null,null,null,null,"","","","","","","","","","","",""]
[null,null,null,null,null,null,"",{"$f":"IF(A132=\"\",\"\",IF($A$1=C132,E132+H131,F132+H131))","v":""},{"$f":"IF(A132=\"\",\"\",IF($A$1=C132,F132+I131,E132+I131))","v":""},"","","","","","","","",""]
[null,null,null,null,null,null,"","","","","","","","","","","",""]
[null,null,null,null,null,null,"","","","","","","","","","","",""]
[null,null,null,null,null,null,"","","",{"$f":"IF(A135=\"\",\"\",IF(G135=\"В\",1+J134,0+J134))","v":""},{"$f":"IF(A135=\"\",\"\",IF(G135=\"Н\",1+K134,0+K134))","v":""},{"$f":"IF(A135=\"\",\"\",IF(G135=\"П\",1+L134,0+L134))","v":""},{"$f":"IF(A135=\"\",\"\",IF($B$1=D135,IF(F135>E135,\"В\",IF(F135=E135,\"Н\",\"П\")),IF(F135<E135,\"В\",IF(F135=E135,\"Н\",\"П\"))))","v":""},{"$f":"IF(A135=\"\",\"\",IF($B$1=D135,F135+N134,E135+N134))","v":""},{"$f":"IF(A135=\"\",\"\",IF($B$1=D135,E135+O134,F135+O134))","v":""},{"$f":"IF(A135=\"\",\"\",IF(M135=\"В\",1+P134,0+P134))","v":""},{"$f":"IF(A135=\"\",\"\",IF(M135=\"Н\",1+Q134,0+Q134))","v":""},{"$f":"IF(A135=\"\",\"\",IF(M135=\"П\",1+R134,0+R134))","v":""}]
[null,null,null,null,null,null,"","","","","","","","","","","",""]
[null,null,null,null,null,null,"","","","","","","","","","","",""]
[null,null,null,null,null,null,"","","","","","","","","","","",""]
[null,null,null,null,null,null,"","","","","","","","","","","",""]
[null,null,null,null,null,null,"","","","","","","","","","","",""]
[null,null,null,null,null,null,"","","","","","","","","","","",""]
[null,null,null,null,null,null,"","","","","","","","","","","",""]
[null,null,null,null,null,null,"","","","","","","","","","","",""]
[null,null,null,null,null,null,"","","","","","","","","","","",""]
[null,null,null,null,null,null,"","","","","","","","","","","",""]
[null,null,null,null,null,null,"","","","","","","","","","","",""]
[null,null,null,null,null,null,"","","","","","","","","","","",""]
[null,null,null,null,null,null,"","","","","","","","","","","",""]
[null,null,null,null,null,null,"","","","","","","","","","","",""]
[null,null,null,null,null,null,"","","","","","","","","","","",""]

{"sheet":"Таблица","index":12,"n_rows":11,"n_cols":29,"rows_kept":11,"cut":false,"hidden":true,"merged":[]}
["Место","Команда","Игр","Выиграно","Ничьих","Проиграно","Забито","Пропущено","Очков",null,"Место","Команда","Игр","Выиграно","Ничьих","Проиграно","Забито","Пропущено","Очков",null,"Место","Команда","Игр","Выиграно","Ничьих","Проиграно","Забито","Пропущено","Очков"]
[1,"Кукеси",17,9,4,4,26,13,31,null,1,"Кукеси",9,6,2,1,17,7,20]
[2,"Билис",17,8,6,3,25,13,30,null,2,"Билис",9,6,2,1,16,6,20]
[3,"Тирана",17,8,4,5,27,19,28,null,3,"Теута",8,6,2,0,9,2,20]
[4,"Партизани",17,8,4,5,19,13,28,null,4,"Лячи",9,6,1,2,17,4,19]
[5,"Лячи",17,7,4,6,27,15,25,null,5,"Партизани",9,5,3,1,11,5,18]
[6,"Теута",16,6,7,3,10,11,25,null,6,"Тирана",8,4,2,2,12,7,14]
[7,"Влазния",17,6,5,6,15,14,23,null,7,"Скендербеу",8,4,1,3,7,9,13]
[8,"Скендербеу",17,6,3,8,16,27,21,null,8,"Люфтетари Гирокастра",8,2,3,3,6,9,9]
[9,"Люфтетари Гирокастра",17,2,5,10,9,29,11,null,9,"Влазния",8,2,2,4,7,8,8]
[10,"Флямуртари",16,0,6,10,12,32,6,null,10,"Флямуртари",8,0,6,2,11,16,6]

{"sheet":"Коэффициенты","index":13,"n_rows":1,"n_cols":3,"rows_kept":1,"cut":false,"hidden":true,"merged":[]}
["Идентификатор","Стартовый","Текущий"]

{"sheet":"АРХИВ","index":14,"n_rows":6,"n_cols":14,"rows_kept":6,"cut":false,"hidden":false,"merged":[[0,7,0,10],[0,13,1,13],[0,0,1,0],[0,1,1,1],[0,2,1,2],[0,3,1,3],[0,12,1,12],[0,11,1,11],[0,4,0,5]]}
["ЧЕМПИОНАТ","ДАТА/ВРЕМЯ","ДОМА","ГОСТИ","Total Mill",null,"Mill Исход","Синдикат",null,null,null,"СТАВКА","ИТОГ","WIN/LOS"]
[null,null,null,null,"ТМ2,5","ТБ2,5","ТБ/ТМ","Тест 1","Тест 2","Тест 3","Тест 4"]
["ГВАТЕМАЛА: Национальная лига - Апертура","2017.08.13 23:00","Кобан Империаль","Депортиво Малакатеко",-0.10363832351432656,3.6787944117144233,"Under 3.5",{"$error":"#DIV/0!"},0.51134380199932961,0.41812809989969907,{"$error":"#DIV/0!"}]
["ИНДОНЕЗИЯ: Лига 2","2019.10.17 11:30","ПСМС Медан","Персираджа Ацех",20.148321623731448,79.851678376268552," Победа 1","Команда 2","Лучше взять фору 1 (+1)","Победа 1","Победа 1"]
["ИНДОНЕЗИЯ: Лига 1","2019.10.18 11:30","Персела Ламонган","ПСИС Семаранг",15.542544886807178,84.457455113192822,"Наиболее веротяен исход : 1Х","Команда 1","П1 с небольшой разницей в счёте","Победа 1","Победа 1"]
["ИНДОНЕЗИЯ: Лига 1","2019.10.18 11:30","ПСС Слеман","Kalteng Putra",20.510254772549871,79.489745227450129,"Наиболее веротяен исход : ФОРА 1(+1)","Команда 1","Наиболее вероятен исход 1Х","Победа 1","Победа 1"]