{"text_format":"1","workbook":"xlsx","n_sheets":13,"sheets":["myset","site","listing","settodownload","downloadmatch","HOME","AWAY","HEAD1","HEAD2","predict","MAXODDS","ARCHIVIO","Инструкция"],"not_rendered":{"charts":0,"images":5,"macros":1,"external_links":0,"defined_names":6209,"comments":0,"pivot_tables":0},"unopened":[],"bounds":{"document_bytes":16777216,"sheet_cells":100000,"rows_first":2000,"rows_last":500,"rows_between":2000,"halvings":0,"cell_chars":16384,"cell_head_chars":4096},"cells_cut":0,"cells_raw":0,"read":"whole","date_system":"1900"}

{"sheet":"myset","index":0,"n_rows":27,"n_cols":7,"rows_kept":27,"cut":false,"hidden":true,"merged":[]}
[{"$f":"CONCATENATE(\"https://en.24score.com/football/?date=\",B17)","v":"https://en.24score.com/football/?date=2020-11-20"},null,null,null,{"$f":"G1-3","v":-3},{"$f":"CONCATENATE(\"GMT\",\" \",G1)","v":"GMT 0"},0]
[{"$f":"A3-1","v":"2020-11-11"},{"$f":"fmt(A2,\"YYYY-MM-DD\")","v":"2020-11-11"},null,null,{"$f":"G2-3","v":-4},{"$f":"CONCATENATE(\"GMT\",\" \",G2)","v":"GMT -1"},{"$f":"G1-1","v":-1}]
["2020-11-12",{"$f":"fmt(A3,\"YYYY-MM-DD\")","v":"2020-11-12"},null,null,-5,"GMT -2",{"$f":"G2-1","v":-2}]
["2020-11-13","2020-11-13",null,null,-6,"GMT -3",-3]
["2020-11-14","2020-11-14",null,null,-7,"GMT -4",-4]
["2020-11-15","2020-11-15",null,null,-8,"GMT -5",-5]
["2020-11-16","2020-11-16",null,null,-9,"GMT -6",-6]
["2020-11-17","2020-11-17",null,null,-10,"GMT -7",-7]
[{"$f":"A10-1","v":"2020-11-18"},"2020-11-18",null,null,-11,"GMT -8",-8]
[{"$f":"TODAY()","v":"2020-11-19"},"2020-11-19",null,null,-12,"GMT -9",-9]
[{"$f":"A10+1","v":"2020-11-20"},"2020-11-20",null,null,-13,"GMT -10",-10]
[{"$f":"A11+1","v":"2020-11-21"},"2020-11-21",null,null,-14,"GMT -11",-11]
["2020-11-22","2020-11-22",null,null,-15,"GMT -12",{"$f":"G12-1","v":-12}]
["2020-11-23","2020-11-23",null,null,{"$f":"G14-3","v":-2},"GMT 1",{"$f":"G1+1","v":1}]
["2020-11-24","2020-11-24",null,null,-1,"GMT 2",{"$f":"G14+1","v":2}]
[null,null,null,null,0,"GMT 3",{"$f":"G15+1","v":3}]
[10,{"$f":"INDEX(B2:B15,A17)","v":"2020-11-20"},null,null,1,"GMT 4",4]
[null,null,null,null,2,"GMT 5",5]
[null,null,null,null,3,"GMT 6",6]
[null,null,null,null,4,"GMT 7",7]
[null,null,null,null,5,"GMT 8",8]
[null,null,null,null,6,"GMT 9",9]
[null,null,null,null,7,"GMT 10",10]
[null,null,null,null,8,"GMT 11",11]
[null,null,null,null,9,"GMT 12",12]
[]
[null,null,null,null,17,{"$f":"INDEX(E1:E25,E27)","v":1}]

{"sheet":"site","index":1,"n_rows":1811,"n_cols":18,"rows_kept":1811,"cut":false,"hidden":true,"merged":[[797,0,797,9],[780,0,780,9],[781,0,781,9],[782,0,782,9],[783,0,783,9],[784,0,784,3],[786,0,786,9],[787,0,787,9],[788,0,788,9],[789,0,789,9],[777,0,777,9],[778,0,778,9],[779,0,779,9],[790,0,790,9],[791,0,791,9],[792,0,792,9],[794,0,794,9],[795,0,795,9],[796,0,796,9],[766,0,766,3],[768,0,768,9],[769,0,769,9],[770,0,770,9],[771,0,771,9],[772,0,772,9],[774,0,774,9],[775,0,775,9],[776,0,776,9],[757,0,757,9],[758,0,758,9],[759,0,759,9],[760,0,760,9],[761,0,761,9],[762,0,762,9],[763,0,763,9],[764,0,764,9],[765,0,765,9],[747,0,747,9],[748,0,748,9],[749,0,749,9],[750,0,750,9],[751,0,751,9],[752,0,752,9],[754,0,754,9],[755,0,755,9],[756,0,756,9],[736,0,736,9],[737,0,737,9],[738,0,738,9],[740,0,740,9],[741,0,741,9],[742,0,742,9],[744,0,744,9],[745,0,745,9],[746,0,746,9],[726,0,726,9],[727,0,727,9],[728,0,728,9],[729,0,729,9],[730,0,730,9],[731,0,731,9],[732,0,732,9],[733,0,733,9],[734,0,734,3],[716,0,716,9],[717,0,717,9],[718,0,718,9],[719,0,719,9],[720,0,720,9],[721,0,721,9],[722,0,722,3],[724,0,724,9],[725,0,725,9],[707,0,707,9],[708,0,708,9],[709,0,709,9],[710,0,710,9],[711,0,711,9],[712,0,712,9],[713,0,713,9],[714,0,714,9],[715,0,715,9],[695,0,695,3],[697,0,697,9],[698,0,698,9],[699,0,699,9],[700,0,700,9],[701,0,701,9],[702,0,702,9],[703,0,703,9],[706,0,706,9],[685,0,685,9],[686,0,686,9],[687,0,687,9],[689,0,689,9],[690,0,690,9],[691,0,691,9],[692,0,692,9],[693,0,693,9],[694,0,694,9],[673,0,673,9],[674,0,674,9],[675,0,675,9],[676,0,676,9],[678,0,678,9],[679,0,679,9],[680,0,680,9],[683,0,683,9],[684,0,684,9],[662,0,662,9],[663,0,663,9],[664,0,664,9],[666,0,666,9],[667,0,667,9],[668,0,668,9],[670,0,670,9],[671,0,671,9],[672,0,672,9],[651,0,651,9],[652,0,652,9],[653,0,653,9],[654,0,654,9],[655,0,655,9],[656,0,656,9],[657,0,657,9],[658,0,658,9],[659,0,659,3],[641,0,641,9],[643,0,643,9],[644,0,644,9],[645,0,645,9],[646,0,646,9],[647,0,647,9],[648,0,648,9],[649,0,649,9],[650,0,650,9],[632,0,632,9],[633,0,633,9],[634,0,634,9],[635,0,635,9],[636,0,636,9],[637,0,637,9],[638,0,638,9],[639,0,639,9],[640,0,640,9],[620,0,620,9],[621,0,621,3],[623,0,623,9],[624,0,624,9],[625,0,625,9],[627,0,627,9],[628,0,628,9],[629,0,629,9],[631,0,631,9],[609,0,609,9],[611,0,611,9],[612,0,612,9],[613,0,613,9],[614,0,614,9],[615,0,615,9],[617,0,617,9],[618,0,618,9],[619,0,619,9],[598,0,598,9],[599,0,599,9],[600,0,600,9],[601,0,601,3],[603,0,603,9],[604,0,604,9],[605,0,605,9],[607,0,607,9],[608,0,608,9],[588,0,588,9],[589,0,589,9],[590,0,590,9],[591,0,591,3],[593,0,593,9],[594,0,594,9],[595,0,595,9],[596,0,596,9],[597,0,597,9],[575,0,575,3],[577,0,577,9],[578,0,578,9],[579,0,579,9],[580,0,580,9],[581,0,581,3],[585,0,585,9],[586,0,586,9],[587,0,587,9],[566,0,566,9],[567,0,567,9],[568,0,568,9],[569,0,569,9],[570,0,570,9],[571,0,571,9],[572,0,572,9],[573,0,573,9],[574,0,574,9],[555,0,555,3],[557,0,557,9],[558,0,558,9],[559,0,559,9],[560,0,560,9],[561,0,561,3],[563,0,563,9],[564,0,564,9],[565,0,565,9],[544,0,544,9],[545,0,545,9],[546,0,546,9],[548,0,548,9],[549,0,549,9],[550,0,550,9],[551,0,551,9],[552,0,552,9],[554,0,554,9],[532,0,532,9],[533,0,533,3],[535,0,535,9],[536,0,536,9],[537,0,537,9],[538,0,538,9],[539,0,539,9],[540,0,540,9],[541,0,541,9],[521,0,521,9],[523,0,523,9],[524,0,524,9],[525,0,525,9],[527,0,527,9],[528,0,528,9],[529,0,529,9],[530,0,530,9],[531,0,531,9],[512,0,512,9],[513,0,513,9],[514,0,514,9],[515,0,515,9],[516,0,516,9],[517,0,517,9],[518,0,518,9],[519,0,519,9],[520,0,520,9],[500,0,500,9],[501,0,501,9],[502,0,502,9],[504,0,504,9],[505,0,505,9],[506,0,506,9],[509,0,509,9],[510,0,510,9],[511,0,511,9],[489,0,489,9],[490,0,490,9],[491,0,491,9],[492,0,492,9],[493,0,493,3],[495,0,495,9],[496,0,496,3],[498,0,498,9],[499,0,499,9],[478,0,478,9],[479,0,479,9],[480,0,480,9],[481,0,481,9],[482,0,482,9],[485,0,485,9],[486,0,486,9],[487,0,487,9],[488,0,488,9],[465,0,465,9],[466,0,466,9],[467,0,467,9],[468,0,468,3],[471,0,471,9],[472,0,472,9],[473,0,473,9],[474,0,474,9],[475,0,475,9],[454,0,454,9],[456,0,456,9],[457,0,457,9],[458,0,458,9],[459,0,459,9],[460,0,460,3],[462,0,462,9],[463,0,463,9],[464,0,464,9],[444,0,444,9],[445,0,445,9],[446,0,446,9],[447,0,447,9],[448,0,448,9],[450,0,450,9],[451,0,451,9],[452,0,452,9],[453,0,453,9],[432,0,432,9],[433,0,433,3],[435,0,435,9],[436,0,436,9],[437,0,437,9],[440,0,440,9],[441,0,441,9],[442,0,442,9],[443,0,443,9],[422,0,422,9],[423,0,423,9],[425,0,425,9],[426,0,426,9],[427,0,427,9],[428,0,428,9],[429,0,429,9],[430,0,430,9],[431,0,431,9],[411,0,411,3],[413,0,413,9],[414,0,414,9],[415,0,415,9],[416,0,416,9],[417,0,417,9],[418,0,418,9],[419,0,419,9],[421,0,421,9],[401,0,401,9],[402,0,402,9],[403,0,403,9],[404,0,404,9],[405,0,405,9],[406,0,406,9],[407,0,407,9],[408,0,408,3],[410,0,410,9],[392,0,392,9],[393,0,393,9],[394,0,394,9],[395,0,395,9],[396,0,396,9],[397,0,397,9],[398,0,398,9],[399,0,399,9],[400,0,400,9],[382,0,382,3],[384,0,384,9],[385,0,385,9],[386,0,386,9],[387,0,387,9],[388,0,388,9],[389,0,389,9],[390,0,390,9],[391,0,391,9],[373,0,373,9],[374,0,374,9],[375,0,375,9],[376,0,376,9],[377,0,377,9],[378,0,378,9],[379,0,379,9],[380,0,380,9],[381,0,381,9],[363,0,363,9],[364,0,364,3],[366,0,366,9],[367,0,367,9],[368,0,368,9],[369,0,369,9],[370,0,370,9],[371,0,371,9],[372,0,372,9],[353,0,353,9],[354,0,354,9],[355,0,355,9],[356,0,356,9],[357,0,357,9],[358,0,358,3],[360,0,360,9],[361,0,361,9],[362,0,362,9],[344,0,344,9],[345,0,345,9],[346,0,346,9],[347,0,347,9],[348,0,348,9],[349,0,349,9],[350,0,350,9],[351,0,351,9],[352,0,352,9],[335,0,335,9],[336,0,336,9],[337,0,337,9],[338,0,338,9],[339,0,339,9],[340,0,340,9],[341,0,341,9],[342,0,342,9],[343,0,343,9],[326,0,326,9],[327,0,327,9],[328,0,328,9],[329,0,329,9],[330,0,330,9],[331,0,331,9],[332,0,332,9],[333,0,333,9],[334,0,334,9],[317,0,317,9],[318,0,318,9],[319,0,319,9],[320,0,320,9],[321,0,321,9],[322,0,322,9],[323,0,323,9],[324,0,324,9],[325,0,325,9],[308,0,308,9],[309,0,309,9],[310,0,310,9],[311,0,311,9],[312,0,312,9],[313,0,313,9],[314,0,314,9],[315,0,315,9],[316,0,316,9],[295,0,295,9],[296,0,296,9],[297,0,297,9],[299,0,299,9],[300,0,300,3],[303,0,303,9],[304,0,304,3],[306,0,306,9],[307,0,307,9],[285,0,285,9],[286,0,286,9],[287,0,287,3],[289,0,289,9],[290,0,290,9],[291,0,291,9],[292,0,292,9],[293,0,293,9],[294,0,294,9],[275,0,275,9],[276,0,276,9],[277,0,277,9],[279,0,279,9],[280,0,280,9],[281,0,281,9],[282,0,282,9],[283,0,283,9],[284,0,284,9],[266,0,266,9],[267,0,267,9],[268,0,268,9],[269,0,269,9],[270,0,270,9],[271,0,271,9],[272,0,272,9],[273,0,273,9],[274,0,274,9],[255,0,255,9],[256,0,256,9],[257,0,257,9],[258,0,258,9],[259,0,259,9],[260,0,260,3],[262,0,262,9],[263,0,263,3],[265,0,265,9],[245,0,245,9],[246,0,246,9],[248,0,248,9],[249,0,249,9],[250,0,250,9],[251,0,251,9],[252,0,252,9],[253,0,253,9],[254,0,254,9],[235,0,235,9],[236,0,236,3],[238,0,238,9],[239,0,239,9],[240,0,240,9],[241,0,241,9],[242,0,242,9],[243,0,243,9],[244,0,244,9],[223,0,223,9],[224,0,224,9],[225,0,225,9],[226,0,226,3],[228,0,228,9],[229,0,229,9],[230,0,230,9],[232,0,232,9],[233,0,233,3],[211,0,211,9],[212,0,212,9],[213,0,213,3],[215,0,215,9],[216,0,216,9],[217,0,217,9],[218,0,218,9],[219,0,219,3],[222,0,222,9],[201,0,201,9],[202,0,202,9],[203,0,203,9],[205,0,205,9],[206,0,206,9],[207,0,207,9],[208,0,208,9],[209,0,209,9],[210,0,210,9],[144,0,144,3],[149,0,149,9],[158,0,158,9],[159,0,159,9],[163,0,163,9],[169,0,169,9],[170,0,170,9],[171,0,171,9],[173,0,173,9],[153,0,153,9],[154,0,154,9],[29,0,29,9],[30,0,30,9],[32,0,32,9],[33,0,33,3],[35,0,35,9],[36,0,36,3],[38,0,38,9],[40,0,40,9],[41,0,41,9],[39,0,39,9],[104,0,104,9],[110,0,110,9],[123,0,123,9],[142,0,142,9],[143,0,143,9],[42,0,42,9],[43,0,43,9],[44,0,44,3],[49,0,49,9],[50,0,50,9],[52,0,52,9],[53,0,53,3],[56,0,56,3],[66,0,66,3],[73,0,73,9],[74,0,74,9],[76,0,76,9],[77,0,77,9],[80,0,80,3],[88,0,88,3],[47,0,47,9],[48,0,48,9],[58,0,58,9],[129,0,129,9],[99,0,99,9],[100,0,100,3],[106,0,106,3],[112,0,112,3],[116,0,116,9],[117,0,117,9],[118,0,118,9],[120,0,120,9],[122,0,122,9],[126,0,126,3],[128,0,128,9],[83,0,83,9],[78,0,78,9],[79,0,79,9],[82,0,82,9],[84,0,84,9],[111,0,111,9],[124,0,124,9],[64,0,64,9],[68,0,68,9],[69,0,69,9],[148,0,148,9],[150,0,150,9],[1511,0,1511,9],[1507,0,1507,9],[1508,0,1508,3],[1510,0,1510,9],[146,0,146,9],[147,0,147,9],[155,0,155,9],[162,0,162,9],[165,0,165,9],[166,0,166,9],[160,0,160,9],[164,0,164,9],[156,0,156,9],[151,0,151,9],[157,0,157,9],[152,0,152,9],[174,0,174,9],[175,0,175,9],[176,0,176,9],[181,0,181,3],[183,0,183,9],[184,0,184,9],[177,0,177,3],[180,0,180,9],[1518,0,1518,9],[1519,0,1519,9],[1520,0,1520,9],[1523,0,1523,9],[1524,0,1524,9],[1512,0,1512,9],[1513,0,1513,9],[1514,0,1514,9],[1516,0,1516,9],[1517,0,1517,9],[185,0,185,9],[187,0,187,9],[188,0,188,9],[189,0,189,9],[191,0,191,9],[192,0,192,9],[193,0,193,9],[194,0,194,9],[195,0,195,9],[197,0,197,9],[198,0,198,9],[199,0,199,9],[1,0,1,3],[1506,0,1506,9],[1500,0,1500,9],[15,0,15,9],[23,0,23,9],[1501,0,1501,9],[1502,0,1502,9],[1503,0,1503,9],[1504,0,1504,9],[1505,0,1505,9],[21,0,21,9],[7,0,7,9],[8,0,8,9],[13,0,13,9],[17,0,17,9],[86,0,86,9],[60,0,60,9],[61,0,61,9],[63,0,63,9],[22,0,22,9],[51,0,51,9],[62,0,62,9],[75,0,75,9],[70,0,70,9],[1541,0,1541,9],[1542,0,1542,9],[1543,0,1543,9],[1544,0,1544,9],[1545,0,1545,3],[1536,0,1536,9],[1537,0,1537,9],[1538,0,1538,9],[1539,0,1539,9],[1540,0,1540,9],[1531,0,1531,9],[1532,0,1532,9],[1533,0,1533,9],[1534,0,1534,9],[1535,0,1535,9],[1525,0,1525,9],[1526,0,1526,9],[1527,0,1527,9],[1528,0,1528,9],[1529,0,1529,9],[1547,0,1547,9],[1548,0,1548,9],[1549,0,1549,9],[1550,0,1550,9],[1551,0,1551,9],[1563,0,1563,9],[1567,0,1567,9],[1568,0,1568,9],[1569,0,1569,9],[1557,0,1557,9],[1559,0,1559,9],[1560,0,1560,9],[1561,0,1561,9],[1562,0,1562,9],[1591,0,1591,9],[1592,0,1592,3],[1595,0,1595,9],[1584,0,1584,9],[1585,0,1585,9],[1586,0,1586,9],[1587,0,1587,9],[1588,0,1588,9],[1552,0,1552,9],[1553,0,1553,9],[1554,0,1554,9],[1555,0,1555,9],[1556,0,1556,9],[1570,0,1570,9],[1580,0,1580,9],[1581,0,1581,9],[1571,0,1571,9],[1572,0,1572,9],[1573,0,1573,9],[1574,0,1574,9],[1575,0,1575,9],[1589,0,1589,9],[1590,0,1590,9],[1631,0,1631,9],[1632,0,1632,9],[1633,0,1633,3],[1622,0,1622,9],[1623,0,1623,9],[1625,0,1625,9],[1612,0,1612,9],[1615,0,1615,9],[1616,0,1616,9],[1617,0,1617,9],[1618,0,1618,9],[1626,0,1626,9],[1627,0,1627,9],[1628,0,1628,9],[1629,0,1629,9],[1630,0,1630,9],[1619,0,1619,9],[1621,0,1621,9],[1644,0,1644,9],[1645,0,1645,9],[1646,0,1646,9],[1647,0,1647,9],[1648,0,1648,9],[1637,0,1637,9],[1638,0,1638,9],[1639,0,1639,9],[1640,0,1640,9],[1641,0,1641,9],[1635,0,1635,9],[1636,0,1636,9],[1798,0,1798,9],[1788,0,1788,9],[1811,0,1811,9],[1805,0,1805,9],[1806,0,1806,3],[1808,0,1808,9],[1809,0,1809,9],[1810,0,1810,9],[1800,0,1800,9],[1801,0,1801,9],[1802,0,1802,9],[1803,0,1803,9],[1804,0,1804,9],[1789,0,1789,9],[1790,0,1790,9],[1791,0,1791,9],[1792,0,1792,9],[1794,0,1794,9],[1795,0,1795,9],[1785,0,1785,9],[1786,0,1786,9],[1787,0,1787,9],[1778,0,1778,9],[1779,0,1779,9],[1780,0,1780,9],[1781,0,1781,9],[1782,0,1782,9],[1771,0,1771,9],[1772,0,1772,9],[1774,0,1774,9],[1775,0,1775,9],[1776,0,1776,9],[1783,0,1783,9],[1784,0,1784,9],[1796,0,1796,9],[1797,0,1797,9],[1685,0,1685,9],[1746,0,1746,3],[1717,0,1717,9],[1718,0,1718,9],[1719,0,1719,9],[1720,0,1720,9],[1721,0,1721,9],[1712,0,1712,9],[1769,0,1769,9],[1770,0,1770,9],[1745,0,1745,9],[1763,0,1763,9],[1764,0,1764,9],[1768,0,1768,9],[1734,0,1734,9],[1736,0,1736,9],[1759,0,1759,9],[1760,0,1760,3],[1762,0,1762,9],[1740,0,1740,9],[1742,0,1742,9],[1743,0,1743,9],[1744,0,1744,9],[1722,0,1722,9],[1716,0,1716,9],[1723,0,1723,9],[1724,0,1724,3],[1726,0,1726,9],[1727,0,1727,9],[1737,0,1737,9],[1738,0,1738,9],[1739,0,1739,9],[1728,0,1728,9],[1729,0,1729,9],[1730,0,1730,9],[1732,0,1732,9],[1733,0,1733,9],[1741,0,1741,9],[1715,0,1715,9],[1705,0,1705,9],[1708,0,1708,9],[1709,0,1709,9],[1710,0,1710,9],[1711,0,1711,9],[1699,0,1699,9],[1700,0,1700,9],[1701,0,1701,3],[1703,0,1703,9],[1704,0,1704,9],[1713,0,1713,9],[1714,0,1714,9],[1697,0,1697,9],[1677,0,1677,9],[1678,0,1678,9],[1672,0,1672,9],[1673,0,1673,9],[1698,0,1698,9],[1686,0,1686,9],[1674,0,1674,3],[1687,0,1687,9],[1688,0,1688,9],[1689,0,1689,9],[1679,0,1679,9],[1680,0,1680,9],[1681,0,1681,9],[1682,0,1682,9],[1683,0,1683,3],[1693,0,1693,9],[1694,0,1694,9],[1695,0,1695,9],[1655,0,1655,9],[1656,0,1656,9],[1657,0,1657,9],[1658,0,1658,9],[1659,0,1659,9],[1650,0,1650,9],[1651,0,1651,9],[1652,0,1652,9],[1653,0,1653,9],[1654,0,1654,9],[1666,0,1666,9],[1667,0,1667,9],[1668,0,1668,9],[1670,0,1670,9],[1671,0,1671,9],[1660,0,1660,9],[1662,0,1662,9],[1663,0,1663,9],[1664,0,1664,9],[1665,0,1665,9],[1596,0,1596,9],[1597,0,1597,9],[1598,0,1598,9],[1599,0,1599,9],[1600,0,1600,9],[1601,0,1601,9],[1602,0,1602,9],[1603,0,1603,3],[1610,0,1610,9],[1611,0,1611,9],[1577,0,1577,9],[1578,0,1578,9],[1579,0,1579,9],[3,0,3,9],[14,0,14,9],[20,0,20,9],[25,0,25,9],[24,0,24,9],[31,0,31,9],[4,0,4,9],[5,0,5,9],[6,0,6,9],[9,0,9,3],[11,0,11,9],[12,0,12,9],[18,0,18,9],[19,0,19,9],[26,0,26,9],[27,0,27,3],[55,0,55,9],[59,0,59,9],[65,0,65,9],[72,0,72,9],[85,0,85,9],[87,0,87,9],[90,0,90,9],[91,0,91,9],[94,0,94,9],[95,0,95,9],[102,0,102,9],[92,0,92,9],[103,0,103,9],[96,0,96,9],[97,0,97,9],[98,0,98,9],[133,0,133,9],[134,0,134,9],[136,0,136,3],[139,0,139,9],[140,0,140,9],[141,0,141,9],[105,0,105,9],[108,0,108,9],[109,0,109,9],[119,0,119,9],[125,0,125,9],[114,0,114,9],[115,0,115,9],[130,0,130,9],[131,0,131,9],[132,0,132,9],[135,0,135,9],[138,0,138,9]]}
[]
["flagSpain Primera Division",null,null,null,1,"X",2,null,null,null,{"$f":"IFERROR(SEARCH(\"flag\",A2),0)","v":1},{"$f":"IF(K2=1,MID(A2,5,100),L1)","v":"Spain Primera Division"},{"$f":"IF(B2=\"\",\"\",IFERROR(fmt(LEFT(A2,SEARCH(\" \",A2)-1),\"HH:MM\"),fmt(A2,\"HH:MM\")))","v":""},{"$f":"IF(M2=\"\",\"\",L2)","v":""},{"$f":"IF(N2=\"\",\"\",fmt(M2+myset!$F$27/24,\"HH:MM\"))","v":""},{"$f":"IF(O2=\"\",\"\",B2)","v":""},{"$f":"IF(P2=\"\",\"\",C2)","v":""},{"$f":"IF(Q2=\"\",\"\",GetURL(J2))","v":""}]
["23:00 570997","Osasuna ","Huesca ","— — ","2.39 ","3.28 ","3.28 ",2,null,null,{"$f":"IFERROR(SEARCH(\"flag\",A3),0)","v":0},{"$f":"IF(K3=1,MID(A3,5,100),L2)","v":"Spain Primera Division"},{"$f":"IF(B3=\"\",\"\",IFERROR(fmt(LEFT(A3,SEARCH(\" \",A3)-1),\"HH:MM\"),fmt(A3,\"HH:MM\")))","v":"23:00"},{"$f":"IF(M3=\"\",\"\",L3)","v":"Spain Primera Division"},{"$f":"IF(N3=\"\",\"\",fmt(M3+myset!$F$27/24,\"HH:MM\"))","v":"00:00"},{"$f":"IF(O3=\"\",\"\",B3)","v":"Osasuna "},"Huesca ",{"$f":"IF(Q3=\"\",\"\",GetURL(J3))","v":"https://en.24score.com/football/match/570997-osasuna-huesca"}]
["X",null,null,null,null,null,null,null,null,null,0,"Spain Primera Division","","",{"$f":"IF(N4=\"\",\"\",fmt(M4+myset!$F$27/24,\"HH:MM\"))","v":""},{"$f":"IF(O4=\"\",\"\",B4)","v":""},"",{"$f":"IF(Q4=\"\",\"\",GetURL(J4))","v":""}]
[null,null,null,null,null,null,null,null,null,null,0,"Spain Primera Division","","",{"$f":"IF(N5=\"\",\"\",fmt(M5+myset!$F$27/24,\"HH:MM\"))","v":""},{"$f":"IF(O5=\"\",\"\",B5)","v":""},"",{"$f":"IF(Q5=\"\",\"\",GetURL(J5))","v":""}]
["Huesca has lost 1st half in 4 last games",null,null,null,null,null,null,null,null,null,0,"Spain Primera Division","","",{"$f":"IF(N6=\"\",\"\",fmt(M6+myset!$F$27/24,\"HH:MM\"))","v":""},{"$f":"IF(O6=\"\",\"\",B6)","v":""},"",{"$f":"IF(Q6=\"\",\"\",GetURL(J6))","v":""}]
[null,null,null,null,null,null,null,null,null,null,0,"Spain Primera Division","","",{"$f":"IF(N7=\"\",\"\",fmt(M7+myset!$F$27/24,\"HH:MM\"))","v":""},{"$f":"IF(O7=\"\",\"\",B7)","v":""},"",{"$f":"IF(Q7=\"\",\"\",GetURL(J7))","v":""}]
["Huesca has not tied 8 periods on end",null,null,null,null,null,null,null,null,null,0,"Spain Primera Division","","",{"$f":"IF(N8=\"\",\"\",fmt(M8+myset!$F$27/24,\"HH:MM\"))","v":""},{"$f":"IF(O8=\"\",\"\",B8)","v":""},"",{"$f":"IF(Q8=\"\",\"\",GetURL(J8))","v":""}]
[null,null,null,null,null,null,null,null,null,null,0,"Spain Primera Division","","",{"$f":"IF(N9=\"\",\"\",fmt(M9+myset!$F$27/24,\"HH:MM\"))","v":""},{"$f":"IF(O9=\"\",\"\",B9)","v":""},"",{"$f":"IF(Q9=\"\",\"\",GetURL(J9))","v":""}]
["flagFrance Ligue 1",null,null,null,1,"X",2,null,null,null,1,"France Ligue 1","","",{"$f":"IF(N10=\"\",\"\",fmt(M10+myset!$F$27/24,\"HH:MM\"))","v":""},{"$f":"IF(O10=\"\",\"\",B10)","v":""},"",{"$f":"IF(Q10=\"\",\"\",GetURL(J10))","v":""}]
["21:00 553206","Rennes ","Bordeaux ","— — ","1.95 ","3.56 ","4.28 ",2,null,null,0,"France Ligue 1","21:00","France Ligue 1",{"$f":"IF(N11=\"\",\"\",fmt(M11+myset!$F$27/24,\"HH:MM\"))","v":"22:00"},{"$f":"IF(O11=\"\",\"\",B11)","v":"Rennes "},"Bordeaux ",{"$f":"IF(Q11=\"\",\"\",GetURL(J11))","v":"https://en.24score.com/football/match/553206-rennes-bordeaux"}]
["X",null,null,null,null,null,null,null,null,null,0,"France Ligue 1","","",{"$f":"IF(N12=\"\",\"\",fmt(M12+myset!$F$27/24,\"HH:MM\"))","v":""},{"$f":"IF(O12=\"\",\"\",B12)","v":""},"",{"$f":"IF(Q12=\"\",\"\",GetURL(J12))","v":""}]
[null,null,null,null,null,null,null,null,null,null,0,"France Ligue 1","","",{"$f":"IF(N13=\"\",\"\",fmt(M13+myset!$F$27/24,\"HH:MM\"))","v":""},{"$f":"IF(O13=\"\",\"\",B13)","v":""},"",{"$f":"IF(Q13=\"\",\"\",GetURL(J13))","v":""}]
["Rennes have had over 2.5 goals in their last 7 home matches",null,null,null,null,null,null,null,null,null,0,"France Ligue 1","","",{"$f":"IF(N14=\"\",\"\",fmt(M14+myset!$F$27/24,\"HH:MM\"))","v":""},{"$f":"IF(O14=\"\",\"\",B14)","v":""},"",{"$f":"IF(Q14=\"\",\"\",GetURL(J14))","v":""}]
[null,null,null,null,null,null,null,null,null,null,0,"France Ligue 1","","",{"$f":"IF(N15=\"\",\"\",fmt(M15+myset!$F$27/24,\"HH:MM\"))","v":""},{"$f":"IF(O15=\"\",\"\",B15)","v":""},"",{"$f":"IF(Q15=\"\",\"\",GetURL(J15))","v":""}]
["Bordeaux has lost 5 halves on end in away games",null,null,null,null,null,null,null,null,null,0,"France Ligue 1","","",{"$f":"IF(N16=\"\",\"\",fmt(M16+myset!$F$27/24,\"HH:MM\"))","v":""},{"$f":"IF(O16=\"\",\"\",B16)","v":""},"",{"$f":"IF(Q16=\"\",\"\",GetURL(J16))","v":""}]
["23:00 553214","Monaco ","PSG ","— — ","5.3 ","5.2 ","1.55 ",4,null,null,0,"France Ligue 1","23:00","France Ligue 1",{"$f":"IF(N17=\"\",\"\",fmt(M17+myset!$F$27/24,\"HH:MM\"))","v":"00:00"},{"$f":"IF(O17=\"\",\"\",B17)","v":"Monaco "},"PSG ",{"$f":"IF(Q17=\"\",\"\",GetURL(J17))","v":"https://en.24score.com/football/match/553214-monaco-psg"}]
["X",null,null,null,null,null,null,null,null,null,0,"France Ligue 1","","",{"$f":"IF(N18=\"\",\"\",fmt(M18+myset!$F$27/24,\"HH:MM\"))","v":""},{"$f":"IF(O18=\"\",\"\",B18)","v":""},"",{"$f":"IF(Q18=\"\",\"\",GetURL(J18))","v":""}]
[null,null,null,null,null,null,null,null,null,null,0,"France Ligue 1","","",{"$f":"IF(N19=\"\",\"\",fmt(M19+myset!$F$27/24,\"HH:MM\"))","v":""},{"$f":"IF(O19=\"\",\"\",B19)","v":""},"",{"$f":"IF(Q19=\"\",\"\",GetURL(J19))","v":""}]
["PSG has won 8 last games",null,null,null,null,null,null,null,null,null,0,"France Ligue 1","","",{"$f":"IF(N20=\"\",\"\",fmt(M20+myset!$F$27/24,\"HH:MM\"))","v":""},{"$f":"IF(O20=\"\",\"\",B20)","v":""},"",{"$f":"IF(Q20=\"\",\"\",GetURL(J20))","v":""}]
[null,null,null,null,null,null,null,null,null,null,0,"France Ligue 1","","",{"$f":"IF(N21=\"\",\"\",fmt(M21+myset!$F$27/24,\"HH:MM\"))","v":""},{"$f":"IF(O21=\"\",\"\",B21)","v":""},"",{"$f":"IF(Q21=\"\",\"\",GetURL(J21))","v":""}]
["PSG has won 4 last away games",null,null,null,null,null,null,null,null,null,0,"France Ligue 1","","",{"$f":"IF(N22=\"\",\"\",fmt(M22+myset!$F$27/24,\"HH:MM\"))","v":""},{"$f":"IF(O22=\"\",\"\",B22)","v":""},"",{"$f":"IF(Q22=\"\",\"\",GetURL(J22))","v":""}]
[null,null,null,null,null,null,null,null,null,null,0,"France Ligue 1","","",{"$f":"IF(N23=\"\",\"\",fmt(M23+myset!$F$27/24,\"HH:MM\"))","v":""},{"$f":"IF(O23=\"\",\"\",B23)","v":""},"",{"$f":"IF(Q23=\"\",\"\",GetURL(J23))","v":""}]
["PSG has won 2nd period in 8 last games",null,null,null,null,null,null,null,null,null,0,"France Ligue 1","","",{"$f":"IF(N24=\"\",\"\",fmt(M24+myset!$F$27/24,\"HH:MM\"))","v":""},{"$f":"IF(O24=\"\",\"\",B24)","v":""},"",{"$f":"IF(Q24=\"\",\"\",GetURL(J24))","v":""}]
[null,null,null,null,null,null,null,null,null,null,0,"France Ligue 1","","",{"$f":"IF(N25=\"\",\"\",fmt(M25+myset!$F$27/24,\"HH:MM\"))","v":""},{"$f":"IF(O25=\"\",\"\",B25)","v":""},"",{"$f":"IF(Q25=\"\",\"\",GetURL(J25))","v":""}]
["PSG has won 2nd period in 4 last away games",null,null,null,null,null,null,null,null,null,0,"France Ligue 1","","",{"$f":"IF(N26=\"\",\"\",fmt(M26+myset!$F$27/24,\"HH:MM\"))","v":""},{"$f":"IF(O26=\"\",\"\",B26)","v":""},"",{"$f":"IF(Q26=\"\",\"\",GetURL(J26))","v":""}]
[null,null,null,null,null,null,null,null,null,null,0,"France Ligue 1","","",{"$f":"IF(N27=\"\",\"\",fmt(M27+myset!$F$27/24,\"HH:MM\"))","v":""},{"$f":"IF(O27=\"\",\"\",B27)","v":""},"",{"$f":"IF(Q27=\"\",\"\",GetURL(J27))","v":""}]
["flagUkraine - Premier League",null,null,null,1,"X",2,null,null,null,1,"Ukraine - Premier League","","",{"$f":"IF(N28=\"\",\"\",fmt(M28+myset!$F$27/24,\"HH:MM\"))","v":""},{"$f":"IF(O28=\"\",\"\",B28)","v":""},"",{"$f":"IF(Q28=\"\",\"\",GetURL(J28))","v":""}]
["20:00 572756","Rukh Lviv ","FC Mariupol ","— — ","2.82 ","3.32 ","2.48 ",1,null,null,0,"Ukraine - Premier League","20:00","Ukraine - Premier League",{"$f":"IF(N29=\"\",\"\",fmt(M29+myset!$F$27/24,\"HH:MM\"))","v":"21:00"},{"$f":"IF(O29=\"\",\"\",B29)","v":"Rukh Lviv "},"FC Mariupol ",{"$f":"IF(Q29=\"\",\"\",GetURL(J29))","v":"https://en.24score.com/football/match/572756-rukh-lviv-fc-mariupol"}]
["X",null,null,null,null,null,null,null,null,null,0,"Ukraine - Premier League","","",{"$f":"IF(N30=\"\",\"\",fmt(M30+myset!$F$27/24,\"HH:MM\"))","v":""},{"$f":"IF(O30=\"\",\"\",B30)","v":""},"",{"$f":"IF(Q30=\"\",\"\",GetURL(J30))","v":""}]
[null,null,null,null,null,null,null,null,null,null,0,"Ukraine - Premier League","","",{"$f":"IF(N31=\"\",\"\",fmt(M31+myset!$F$27/24,\"HH:MM\"))","v":""},{"$f":"IF(O31=\"\",\"\",B31)","v":""},"",{"$f":"IF(Q31=\"\",\"\",GetURL(J31))","v":""}]
["FC Mariupol have had over 1.5 goals 4 last halves in a row in away matches",null,null,null,null,null,null,null,null,null,0,"Ukraine - Premier League","","",{"$f":"IF(N32=\"\",\"\",fmt(M32+myset!$F$27/24,\"HH:MM\"))","v":""},{"$f":"IF(O32=\"\",\"\",B32)","v":""},"",{"$f":"IF(Q32=\"\",\"\",GetURL(J32))","v":""}]
[null,null,null,null,null,null,null,null,null,null,0,"Ukraine - Premier League","","",{"$f":"IF(N33=\"\",\"\",fmt(M33+myset!$F$27/24,\"HH:MM\"))","v":""},{"$f":"IF(O33=\"\",\"\",B33)","v":""},"",{"$f":"IF(Q33=\"\",\"\",GetURL(J33))","v":""}]
["flagCzech Republic Gambrinus League",null,null,null,1,"X",2,null,null,null,1,"Czech Republic Gambrinus League","","",{"$f":"IF(N34=\"\",\"\",fmt(M34+myset!$F$27/24,\"HH:MM\"))","v":""},{"$f":"IF(O34=\"\",\"\",B34)","v":""},"",{"$f":"IF(Q34=\"\",\"\",GetURL(J34))","v":""}]
["20:45 560799","Slovan Liberec ","Jablonec ","— — ","2.16 ","3.44 ","3.3 ",0,null,null,0,"Czech Republic Gambrinus League","20:45","Czech Republic Gambrinus League",{"$f":"IF(N35=\"\",\"\",fmt(M35+myset!$F$27/24,\"HH:MM\"))","v":"21:45"},{"$f":"IF(O35=\"\",\"\",B35)","v":"Slovan Liberec "},"Jablonec ",{"$f":"IF(Q35=\"\",\"\",GetURL(J35))","v":"https://en.24score.com/football/match/560799-slovan-liberec-jablonec"}]
[null,null,null,null,null,null,null,null,null,null,0,"Czech Republic Gambrinus League","","",{"$f":"IF(N36=\"\",\"\",fmt(M36+myset!$F$27/24,\"HH:MM\"))","v":""},{"$f":"IF(O36=\"\",\"\",B36)","v":""},"",{"$f":"IF(Q36=\"\",\"\",GetURL(J36))","v":""}]
["flagDenmark - Superligaen",null,null,null,1,"X",2,null,null,null,1,"Denmark - Superligaen","","",{"$f":"IF(N37=\"\",\"\",fmt(M37+myset!$F$27/24,\"HH:MM\"))","v":""},{"$f":"IF(O37=\"\",\"\",B37)","v":""},"",{"$f":"IF(Q37=\"\",\"\",GetURL(J37))","v":""}]
["21:00 575143","Lyngby ","Horsens ","— — ","2.43 ","3.5 ","2.85 ",2,null,null,0,"Denmark - Superligaen","21:00","Denmark - Superligaen",{"$f":"IF(N38=\"\",\"\",fmt(M38+myset!$F$27/24,\"HH:MM\"))","v":"22:00"},{"$f":"IF(O38=\"\",\"\",B38)","v":"Lyngby "},"Horsens ",{"$f":"IF(Q38=\"\",\"\",GetURL(J38))","v":"https://en.24score.com/football/match/575143-lyngby-horsens"}]
["X",null,null,null,null,null,null,null,null,null,0,"Denmark - Superligaen","","",{"$f":"IF(N39=\"\",\"\",fmt(M39+myset!$F$27/24,\"HH:MM\"))","v":""},{"$f":"IF(O39=\"\",\"\",B39)","v":""},"",{"$f":"IF(Q39=\"\",\"\",GetURL(J39))","v":""}]
[null,null,null,null,null,null,null,null,null,null,0,"Denmark - Superligaen","","",{"$f":"IF(N40=\"\",\"\",fmt(M40+myset!$F$27/24,\"HH:MM\"))","v":""},{"$f":"IF(O40=\"\",\"\",B40)","v":""},"",{"$f":"IF(Q40=\"\",\"\",GetURL(J40))","v":""}]
["Lyngby has not won 9 last home games",null,null,null,null,null,null,null,null,null,0,"Denmark - Superligaen","","",{"$f":"IF(N41=\"\",\"\",fmt(M41+myset!$F$27/24,\"HH:MM\"))","v":""},{"$f":"IF(O41=\"\",\"\",B41)","v":""},"",{"$f":"IF(Q41=\"\",\"\",GetURL(J41))","v":""}]
[null,null,null,null,null,null,null,null,null,null,0,"Denmark - Superligaen","","",{"$f":"IF(N42=\"\",\"\",fmt(M42+myset!$F$27/24,\"HH:MM\"))","v":""},{"$f":"IF(O42=\"\",\"\",B42)","v":""},"",{"$f":"IF(Q42=\"\",\"\",GetURL(J42))","v":""}]
["Lyngby have had over 2.5 goals in their last 6 matches",null,null,null,null,null,null,null,null,null,0,"Denmark - Superligaen","","",{"$f":"IF(N43=\"\",\"\",fmt(M43+myset!$F$27/24,\"HH:MM\"))","v":""},{"$f":"IF(O43=\"\",\"\",B43)","v":""},"",{"$f":"IF(Q43=\"\",\"\",GetURL(J43))","v":""}]
[null,null,null,null,null,null,null,null,null,null,0,"Denmark - Superligaen","","",{"$f":"IF(N44=\"\",\"\",fmt(M44+myset!$F$27/24,\"HH:MM\"))","v":""},{"$f":"IF(O44=\"\",\"\",B44)","v":""},"",{"$f":"IF(Q44=\"\",\"\",GetURL(J44))","v":""}]
["flagPoland Ekstraklasa",null,null,null,1,"X",2,null,null,null,1,"Poland Ekstraklasa","","",{"$f":"IF(N45=\"\",\"\",fmt(M45+myset!$F$27/24,\"HH:MM\"))","v":""},{"$f":"IF(O45=\"\",\"\",B45)","v":""},"",{"$f":"IF(Q45=\"\",\"\",GetURL(J45))","v":""}]
["20:00 569329","KS Lechia ","Slask Wroclaw ","— — ","2.392 ","3.58 ","2.86 ",0,null,null,0,"Poland Ekstraklasa","20:00","Poland Ekstraklasa",{"$f":"IF(N46=\"\",\"\",fmt(M46+myset!$F$27/24,\"HH:MM\"))","v":"21:00"},{"$f":"IF(O46=\"\",\"\",B46)","v":"KS Lechia "},"Slask Wroclaw ",{"$f":"IF(Q46=\"\",\"\",GetURL(J46))","v":"https://en.24score.com/football/match/569329-ks-lechia-slask-wroclaw"}]
["22:30 569328","Gornik Zabrze ","Piast Gliwice ","— — ","2.41 ","3.34 ",3,2,null,null,0,"Poland Ekstraklasa","22:30","Poland Ekstraklasa",{"$f":"IF(N47=\"\",\"\",fmt(M47+myset!$F$27/24,\"HH:MM\"))","v":"23:30"},{"$f":"IF(O47=\"\",\"\",B47)","v":"Gornik Zabrze "},"Piast Gliwice ",{"$f":"IF(Q47=\"\",\"\",GetURL(J47))","v":"https://en.24score.com/football/match/569328-gornik-zabrze-piast-gliwice"}]
["X",null,null,null,null,null,null,null,null,null,0,"Poland Ekstraklasa","","",{"$f":"IF(N48=\"\",\"\",fmt(M48+myset!$F$27/24,\"HH:MM\"))","v":""},{"$f":"IF(O48=\"\",\"\",B48)","v":""},"",{"$f":"IF(Q48=\"\",\"\",GetURL(J48))","v":""}]
[null,null,null,null,null,null,null,null,null,null,0,"Poland Ekstraklasa","","",{"$f":"IF(N49=\"\",\"\",fmt(M49+myset!$F$27/24,\"HH:MM\"))","v":""},{"$f":"IF(O49=\"\",\"\",B49)","v":""},"",{"$f":"IF(Q49=\"\",\"\",GetURL(J49))","v":""}]
["Piast Gliwice has not won 16 halves on end",null,null,null,null,null,null,null,null,null,0,"Poland Ekstraklasa","","",{"$f":"IF(N50=\"\",\"\",fmt(M50+myset!$F$27/24,\"HH:MM\"))","v":""},{"$f":"IF(O50=\"\",\"\",B50)","v":""},"",{"$f":"IF(Q50=\"\",\"\",GetURL(J50))","v":""}]
[null,null,null,null,null,null,null,null,null,null,0,"Poland Ekstraklasa","","",{"$f":"IF(N51=\"\",\"\",fmt(M51+myset!$F$27/24,\"HH:MM\"))","v":""},{"$f":"IF(O51=\"\",\"\",B51)","v":""},"",{"$f":"IF(Q51=\"\",\"\",GetURL(J51))","v":""}]
["Piast Gliwice has not won 14 halves on end in away games",null,null,null,null,null,null,null,null,null,0,"Poland Ekstraklasa","","",{"$f":"IF(N52=\"\",\"\",fmt(M52+myset!$F$27/24,\"HH:MM\"))","v":""},{"$f":"IF(O52=\"\",\"\",B52)","v":""},"",{"$f":"IF(Q52=\"\",\"\",GetURL(J52))","v":""}]
[null,null,null,null,null,null,null,null,null,null,0,"Poland Ekstraklasa","","",{"$f":"IF(N53=\"\",\"\",fmt(M53+myset!$F$27/24,\"HH:MM\"))","v":""},{"$f":"IF(O53=\"\",\"\",B53)","v":""},"",{"$f":"IF(Q53=\"\",\"\",GetURL(J53))","v":""}]
["flagBrazil - Serie A",null,null,null,1,"X",2,null,null,null,1,"Brazil - Serie A","","",{"$f":"IF(N54=\"\",\"\",fmt(M54+myset!$F$27/24,\"HH:MM\"))","v":""},{"$f":"IF(O54=\"\",\"\",B54)","v":""},"",{"$f":"IF(Q54=\"\",\"\",GetURL(J54))","v":""}]
["01:00 555712","Vasco da Gama ","Fortaleza ","— — ","2.45 ","3.1 ","3.168 ",0,null,null,0,"Brazil - Serie A","01:00","Brazil - Serie A",{"$f":"IF(N55=\"\",\"\",fmt(M55+myset!$F$27/24,\"HH:MM\"))","v":"02:00"},{"$f":"IF(O55=\"\",\"\",B55)","v":"Vasco da Gama "},"Fortaleza ",{"$f":"IF(Q55=\"\",\"\",GetURL(J55))","v":"https://en.24score.com/football/match/555712-vasco-da-gama-fortaleza"}]
[null,null,null,null,null,null,null,null,null,null,0,"Brazil - Serie A","","",{"$f":"IF(N56=\"\",\"\",fmt(M56+myset!$F$27/24,\"HH:MM\"))","v":""},{"$f":"IF(O56=\"\",\"\",B56)","v":""},"",{"$f":"IF(Q56=\"\",\"\",GetURL(J56))","v":""}]
["flagRussia - 1. Division",null,null,null,1,"X",2,null,null,null,1,"Russia - 1. Division","","",{"$f":"IF(N57=\"\",\"\",fmt(M57+myset!$F$27/24,\"HH:MM\"))","v":""},{"$f":"IF(O57=\"\",\"\",B57)","v":""},"",{"$f":"IF(Q57=\"\",\"\",GetURL(J57))","v":""}]
["14:00 559845","Krasnodar-2 ","Shinnik Yaroslavl ","— — ","2.11 ","3.56 ","3.3 ",3,null,null,0,"Russia - 1. Division","14:00","Russia - 1. Division",{"$f":"IF(N58=\"\",\"\",fmt(M58+myset!$F$27/24,\"HH:MM\"))","v":"15:00"},{"$f":"IF(O58=\"\",\"\",B58)","v":"Krasnodar-2 "},"Shinnik Yaroslavl ",{"$f":"IF(Q58=\"\",\"\",GetURL(J58))","v":"https://en.24score.com/football/match/559845-krasnodar-2-shinnik-yaroslavl"}]
["X",null,null,null,null,null,null,null,null,null,0,"Russia - 1. Division","","",{"$f":"IF(N59=\"\",\"\",fmt(M59+myset!$F$27/24,\"HH:MM\"))","v":""},{"$f":"IF(O59=\"\",\"\",B59)","v":""},"",{"$f":"IF(Q59=\"\",\"\",GetURL(J59))","v":""}]
[null,null,null,null,null,null,null,null,null,null,0,"Russia - 1. Division","","",{"$f":"IF(N60=\"\",\"\",fmt(M60+myset!$F$27/24,\"HH:MM\"))","v":""},{"$f":"IF(O60=\"\",\"\",B60)","v":""},"",{"$f":"IF(Q60=\"\",\"\",GetURL(J60))","v":""}]
["Krasnodar-2 has not won 15 halves on end",null,null,null,null,null,null,null,null,null,0,"Russia - 1. Division","","",{"$f":"IF(N61=\"\",\"\",fmt(M61+myset!$F$27/24,\"HH:MM\"))","v":""},{"$f":"IF(O61=\"\",\"\",B61)","v":""},"",{"$f":"IF(Q61=\"\",\"\",GetURL(J61))","v":""}]
[null,null,null,null,null,null,null,null,null,null,0,"Russia - 1. Division","","",{"$f":"IF(N62=\"\",\"\",fmt(M62+myset!$F$27/24,\"HH:MM\"))","v":""},{"$f":"IF(O62=\"\",\"\",B62)","v":""},"",{"$f":"IF(Q62=\"\",\"\",GetURL(J62))","v":""}]
["Shinnik Yaroslavl has lost 5 halves on end in away games",null,null,null,null,null,null,null,null,null,0,"Russia - 1. Division","","",{"$f":"IF(N63=\"\",\"\",fmt(M63+myset!$F$27/24,\"HH:MM\"))","v":""},{"$f":"IF(O63=\"\",\"\",B63)","v":""},"",{"$f":"IF(Q63=\"\",\"\",GetURL(J63))","v":""}]
[null,null,null,null,null,null,null,null,null,null,0,"Russia - 1. Division","","",{"$f":"IF(N64=\"\",\"\",fmt(M64+myset!$F$27/24,\"HH:MM\"))","v":""},{"$f":"IF(O64=\"\",\"\",B64)","v":""},"",{"$f":"IF(Q64=\"\",\"\",GetURL(J64))","v":""}]
["Shinnik Yaroslavl has lost 2nd half in 6 last away games",null,null,null,null,null,null,null,null,null,0,"Russia - 1. Division","","",{"$f":"IF(N65=\"\",\"\",fmt(M65+myset!$F$27/24,\"HH:MM\"))","v":""},{"$f":"IF(O65=\"\",\"\",B65)","v":""},"",{"$f":"IF(Q65=\"\",\"\",GetURL(J65))","v":""}]
[null,null,null,null,null,null,null,null,null,null,0,"Russia - 1. Division","","",{"$f":"IF(N66=\"\",\"\",fmt(M66+myset!$F$27/24,\"HH:MM\"))","v":""},{"$f":"IF(O66=\"\",\"\",B66)","v":""},"",{"$f":"IF(Q66=\"\",\"\",GetURL(J66))","v":""}]
["flagRomania Liga I",null,null,null,1,"X",2,null,null,null,{"$f":"IFERROR(SEARCH(\"flag\",A67),0)","v":1},{"$f":"IF(K67=1,MID(A67,5,100),L66)","v":"Romania Liga I"},{"$f":"IF(B67=\"\",\"\",IFERROR(fmt(LEFT(A67,SEARCH(\" \",A67)-1),\"HH:MM\"),fmt(A67,\"HH:MM\")))","v":""},{"$f":"IF(M67=\"\",\"\",L67)","v":""},{"$f":"IF(N67=\"\",\"\",fmt(M67+myset!$F$27/24,\"HH:MM\"))","v":""},{"$f":"IF(O67=\"\",\"\",B67)","v":""},"",{"$f":"IF(Q67=\"\",\"\",GetURL(J67))","v":""}]
["18:30 564726","CSMS Iasi ","Arges ","— — ","2.44 ","3.24 ","2.96 ",1,null,null,0,"Romania Liga I","18:30","Romania Liga I",{"$f":"IF(N68=\"\",\"\",fmt(M68+myset!$F$27/24,\"HH:MM\"))","v":"19:30"},{"$f":"IF(O68=\"\",\"\",B68)","v":"CSMS Iasi "},"Arges ",{"$f":"IF(Q68=\"\",\"\",GetURL(J68))","v":"https://en.24score.com/football/match/564726-csms-iasi-arges"}]
["X",null,null,null,null,null,null,null,null,null,0,"Romania Liga I","","",{"$f":"IF(N69=\"\",\"\",fmt(M69+myset!$F$27/24,\"HH:MM\"))","v":""},{"$f":"IF(O69=\"\",\"\",B69)","v":""},"",{"$f":"IF(Q69=\"\",\"\",GetURL(J69))","v":""}]
[null,null,null,null,null,null,null,null,null,null,0,"Romania Liga I","","",{"$f":"IF(N70=\"\",\"\",fmt(M70+myset!$F$27/24,\"HH:MM\"))","v":""},{"$f":"IF(O70=\"\",\"\",B70)","v":""},"",{"$f":"IF(Q70=\"\",\"\",GetURL(J70))","v":""}]
["CSMS Iasi have had over 1.5 goals 6 last halves in a row in home matches",null,null,null,null,null,null,null,null,null,0,"Romania Liga I","","",{"$f":"IF(N71=\"\",\"\",fmt(M71+myset!$F$27/24,\"HH:MM\"))","v":""},{"$f":"IF(O71=\"\",\"\",B71)","v":""},"",{"$f":"IF(Q71=\"\",\"\",GetURL(J71))","v":""}]
["21:30 564727","Dinamo B. ","Voluntari ","— — ","2.07 ","3.34 ","3.66 ",3,null,null,0,"Romania Liga I","21:30","Romania Liga I",{"$f":"IF(N72=\"\",\"\",fmt(M72+myset!$F$27/24,\"HH:MM\"))","v":"22:30"},{"$f":"IF(O72=\"\",\"\",B72)","v":"Dinamo B. "},"Voluntari ",{"$f":"IF(Q72=\"\",\"\",GetURL(J72))","v":"https://en.24score.com/football/match/564727-dinamo-b--voluntari"}]
["X",null,null,null,null,null,null,null,null,null,0,"Romania Liga I","","",{"$f":"IF(N73=\"\",\"\",fmt(M73+myset!$F$27/24,\"HH:MM\"))","v":""},{"$f":"IF(O73=\"\",\"\",B73)","v":""},"",{"$f":"IF(Q73=\"\",\"\",GetURL(J73))","v":""}]
[null,null,null,null,null,null,null,null,null,null,0,"Romania Liga I","","",{"$f":"IF(N74=\"\",\"\",fmt(M74+myset!$F$27/24,\"HH:MM\"))","v":""},{"$f":"IF(O74=\"\",\"\",B74)","v":""},"",{"$f":"IF(Q74=\"\",\"\",GetURL(J74))","v":""}]
["Dinamo B. has not won 10 last home games",null,null,null,null,null,null,null,null,null,0,"Romania Liga I","","",{"$f":"IF(N75=\"\",\"\",fmt(M75+myset!$F$27/24,\"HH:MM\"))","v":""},{"$f":"IF(O75=\"\",\"\",B75)","v":""},"",{"$f":"IF(Q75=\"\",\"\",GetURL(J75))","v":""}]
[null,null,null,null,null,null,null,null,null,null,0,"Romania Liga I","","",{"$f":"IF(N76=\"\",\"\",fmt(M76+myset!$F$27/24,\"HH:MM\"))","v":""},{"$f":"IF(O76=\"\",\"\",B76)","v":""},"",{"$f":"IF(Q76=\"\",\"\",GetURL(J76))","v":""}]
["Dinamo B. have had under 2.5 goals in their last 8 home matches",null,null,null,null,null,null,null,null,null,0,"Romania Liga I","","",{"$f":"IF(N77=\"\",\"\",fmt(M77+myset!$F$27/24,\"HH:MM\"))","v":""},{"$f":"IF(O77=\"\",\"\",B77)","v":""},"",{"$f":"IF(Q77=\"\",\"\",GetURL(J77))","v":""}]
[null,null,null,null,null,null,null,null,null,null,0,"Romania Liga I","","",{"$f":"IF(N78=\"\",\"\",fmt(M78+myset!$F$27/24,\"HH:MM\"))","v":""},{"$f":"IF(O78=\"\",\"\",B78)","v":""},"",{"$f":"IF(Q78=\"\",\"\",GetURL(J78))","v":""}]
["Voluntari has tied 2nd period in 5 last away games",null,null,null,null,null,null,null,null,null,0,"Romania Liga I","","",{"$f":"IF(N79=\"\",\"\",fmt(M79+myset!$F$27/24,\"HH:MM\"))","v":""},{"$f":"IF(O79=\"\",\"\",B79)","v":""},"",{"$f":"IF(Q79=\"\",\"\",GetURL(J79))","v":""}]
[null,null,null,null,null,null,null,null,null,null,0,"Romania Liga I","","",{"$f":"IF(N80=\"\",\"\",fmt(M80+myset!$F$27/24,\"HH:MM\"))","v":""},{"$f":"IF(O80=\"\",\"\",B80)","v":""},"",{"$f":"IF(Q80=\"\",\"\",GetURL(J80))","v":""}]
["flagRussia PFL South",null,null,null,1,"X",2,null,null,null,1,"Russia PFL South","","",{"$f":"IF(N81=\"\",\"\",fmt(M81+myset!$F$27/24,\"HH:MM\"))","v":""},{"$f":"IF(O81=\"\",\"\",B81)","v":""},"",{"$f":"IF(Q81=\"\",\"\",GetURL(J81))","v":""}]
["14:00 561573","Inter Cherkessk ","Makhachkala ","— — ",null,null,null,2,null,null,0,"Russia PFL South","14:00","Russia PFL South",{"$f":"IF(N82=\"\",\"\",fmt(M82+myset!$F$27/24,\"HH:MM\"))","v":"15:00"},{"$f":"IF(O82=\"\",\"\",B82)","v":"Inter Cherkessk "},"Makhachkala ",{"$f":"IF(Q82=\"\",\"\",GetURL(J82))","v":"https://en.24score.com/football/match/561573-inter-cherkessk-makhachkala"}]
["X",null,null,null,null,null,null,null,null,null,0,"Russia PFL South","","",{"$f":"IF(N83=\"\",\"\",fmt(M83+myset!$F$27/24,\"HH:MM\"))","v":""},{"$f":"IF(O83=\"\",\"\",B83)","v":""},"",{"$f":"IF(Q83=\"\",\"\",GetURL(J83))","v":""}]
[null,null,null,null,null,null,null,null,null,null,0,"Russia PFL South","","",{"$f":"IF(N84=\"\",\"\",fmt(M84+myset!$F$27/24,\"HH:MM\"))","v":""},{"$f":"IF(O84=\"\",\"\",B84)","v":""},"",{"$f":"IF(Q84=\"\",\"\",GetURL(J84))","v":""}]
["Inter Cherkessk has lost 4 halves on end in home games",null,null,null,null,null,null,null,null,null,0,"Russia PFL South","","",{"$f":"IF(N85=\"\",\"\",fmt(M85+myset!$F$27/24,\"HH:MM\"))","v":""},{"$f":"IF(O85=\"\",\"\",B85)","v":""},"",{"$f":"IF(Q85=\"\",\"\",GetURL(J85))","v":""}]
[null,null,null,null,null,null,null,null,null,null,0,"Russia PFL South","","",{"$f":"IF(N86=\"\",\"\",fmt(M86+myset!$F$27/24,\"HH:MM\"))","v":""},{"$f":"IF(O86=\"\",\"\",B86)","v":""},"",{"$f":"IF(Q86=\"\",\"\",GetURL(J86))","v":""}]
["Makhachkala has not tied 1st period in 11 last away games",null,null,null,null,null,null,null,null,null,0,"Russia PFL South","","",{"$f":"IF(N87=\"\",\"\",fmt(M87+myset!$F$27/24,\"HH:MM\"))","v":""},{"$f":"IF(O87=\"\",\"\",B87)","v":""},"",{"$f":"IF(Q87=\"\",\"\",GetURL(J87))","v":""}]
[null,null,null,null,null,null,null,null,null,null,0,"Russia PFL South","","",{"$f":"IF(N88=\"\",\"\",fmt(M88+myset!$F$27/24,\"HH:MM\"))","v":""},{"$f":"IF(O88=\"\",\"\",B88)","v":""},"",{"$f":"IF(Q88=\"\",\"\",GetURL(J88))","v":""}]
["flagRussia Youth teams",null,null,null,1,"X",2,null,null,null,1,"Russia Youth teams","","",{"$f":"IF(N89=\"\",\"\",fmt(M89+myset!$F$27/24,\"HH:MM\"))","v":""},{"$f":"IF(O89=\"\",\"\",B89)","v":""},"",{"$f":"IF(Q89=\"\",\"\",GetURL(J89))","v":""}]
["14:00 581084","Arsenal Youth ","Dinamo Moscow Youth ","— — ",null,null,null,1,null,null,0,"Russia Youth teams","14:00","Russia Youth teams",{"$f":"IF(N90=\"\",\"\",fmt(M90+myset!$F$27/24,\"HH:MM\"))","v":"15:00"},{"$f":"IF(O90=\"\",\"\",B90)","v":"Arsenal Youth "},"Dinamo Moscow Youth ",{"$f":"IF(Q90=\"\",\"\",GetURL(J90))","v":"https://en.24score.com/football/match/581084-arsenal-youth-dinamo-moscow-youth"}]
["X",null,null,null,null,null,null,null,null,null,0,"Russia Youth teams","","",{"$f":"IF(N91=\"\",\"\",fmt(M91+myset!$F$27/24,\"HH:MM\"))","v":""},{"$f":"IF(O91=\"\",\"\",B91)","v":""},"",{"$f":"IF(Q91=\"\",\"\",GetURL(J91))","v":""}]
[null,null,null,null,null,null,null,null,null,null,0,"Russia Youth teams","","",{"$f":"IF(N92=\"\",\"\",fmt(M92+myset!$F$27/24,\"HH:MM\"))","v":""},{"$f":"IF(O92=\"\",\"\",B92)","v":""},"",{"$f":"IF(Q92=\"\",\"\",GetURL(J92))","v":""}]
["Dinamo Moscow Youth has not tied 9 periods on end in away games",null,null,null,null,null,null,null,null,null,0,"Russia Youth teams","","",{"$f":"IF(N93=\"\",\"\",fmt(M93+myset!$F$27/24,\"HH:MM\"))","v":""},{"$f":"IF(O93=\"\",\"\",B93)","v":""},"",{"$f":"IF(Q93=\"\",\"\",GetURL(J93))","v":""}]
["16:00 581083","PFC Sochi Youth ","Akhmat Youth ","— — ",null,null,null,2,null,null,0,"Russia Youth teams","16:00","Russia Youth teams",{"$f":"IF(N94=\"\",\"\",fmt(M94+myset!$F$27/24,\"HH:MM\"))","v":"17:00"},{"$f":"IF(O94=\"\",\"\",B94)","v":"PFC Sochi Youth "},"Akhmat Youth ",{"$f":"IF(Q94=\"\",\"\",GetURL(J94))","v":"https://en.24score.com/football/match/581083-pfc-sochi-youth-akhmat-youth"}]
["X",null,null,null,null,null,null,null,null,null,0,"Russia Youth teams","","",{"$f":"IF(N95=\"\",\"\",fmt(M95+myset!$F$27/24,\"HH:MM\"))","v":""},{"$f":"IF(O95=\"\",\"\",B95)","v":""},"",{"$f":"IF(Q95=\"\",\"\",GetURL(J95))","v":""}]
[null,null,null,null,null,null,null,null,null,null,0,"Russia Youth teams","","",{"$f":"IF(N96=\"\",\"\",fmt(M96+myset!$F$27/24,\"HH:MM\"))","v":""},{"$f":"IF(O96=\"\",\"\",B96)","v":""},"",{"$f":"IF(Q96=\"\",\"\",GetURL(J96))","v":""}]
["PFC Sochi Youth has won 4 periods on end in home games",null,null,null,null,null,null,null,null,null,0,"Russia Youth teams","","",{"$f":"IF(N97=\"\",\"\",fmt(M97+myset!$F$27/24,\"HH:MM\"))","v":""},{"$f":"IF(O97=\"\",\"\",B97)","v":""},"",{"$f":"IF(Q97=\"\",\"\",GetURL(J97))","v":""}]
[null,null,null,null,null,null,null,null,null,null,0,"Russia Youth teams","","",{"$f":"IF(N98=\"\",\"\",fmt(M98+myset!$F$27/24,\"HH:MM\"))","v":""},{"$f":"IF(O98=\"\",\"\",B98)","v":""},"",{"$f":"IF(Q98=\"\",\"\",GetURL(J98))","v":""}]
["Akhmat Youth has not lost 2nd period in 14 last games",null,null,null,null,null,null,null,null,null,0,"Russia Youth teams","","",{"$f":"IF(N99=\"\",\"\",fmt(M99+myset!$F$27/24,\"HH:MM\"))","v":""},{"$f":"IF(O99=\"\",\"\",B99)","v":""},"",{"$f":"IF(Q99=\"\",\"\",GetURL(J99))","v":""}]
[null,null,null,null,null,null,null,null,null,null,0,"Russia Youth teams","","",{"$f":"IF(N100=\"\",\"\",fmt(M100+myset!$F$27/24,\"HH:MM\"))","v":""},{"$f":"IF(O100=\"\",\"\",B100)","v":""},"",{"$f":"IF(Q100=\"\",\"\",GetURL(J100))","v":""}]
["flagEngland Championship",null,null,null,1,"X",2,null,null,null,1,"England Championship","","",{"$f":"IF(N101=\"\",\"\",fmt(M101+myset!$F$27/24,\"HH:MM\"))","v":""},{"$f":"IF(O101=\"\",\"\",B101)","v":""},"",{"$f":"IF(Q101=\"\",\"\",GetURL(J101))","v":""}]
["22:45 566134","Coventry ","Birmingham ","— — ","2.89 ","3.18 ","2.65 ",1,null,null,0,"England Championship","22:45","England Championship",{"$f":"IF(N102=\"\",\"\",fmt(M102+myset!$F$27/24,\"HH:MM\"))","v":"23:45"},{"$f":"IF(O102=\"\",\"\",B102)","v":"Coventry "},"Birmingham ",{"$f":"IF(Q102=\"\",\"\",GetURL(J102))","v":"https://en.24score.com/football/match/566134-coventry-birmingham"}]
["X",null,null,null,null,null,null,null,null,null,0,"England Championship","","",{"$f":"IF(N103=\"\",\"\",fmt(M103+myset!$F$27/24,\"HH:MM\"))","v":""},{"$f":"IF(O103=\"\",\"\",B103)","v":""},"",{"$f":"IF(Q103=\"\",\"\",GetURL(J103))","v":""}]
[null,null,null,null,null,null,null,null,null,null,0,"England Championship","","",{"$f":"IF(N104=\"\",\"\",fmt(M104+myset!$F$27/24,\"HH:MM\"))","v":""},{"$f":"IF(O104=\"\",\"\",B104)","v":""},"",{"$f":"IF(Q104=\"\",\"\",GetURL(J104))","v":""}]
["Coventry have had over 1.5 2nd half goals in 5 last matches",null,null,null,null,null,null,null,null,null,0,"England Championship","","",{"$f":"IF(N105=\"\",\"\",fmt(M105+myset!$F$27/24,\"HH:MM\"))","v":""},{"$f":"IF(O105=\"\",\"\",B105)","v":""},"",{"$f":"IF(Q105=\"\",\"\",GetURL(J105))","v":""}]
[null,null,null,null,null,null,null,null,null,null,0,"England Championship","","",{"$f":"IF(N106=\"\",\"\",fmt(M106+myset!$F$27/24,\"HH:MM\"))","v":""},{"$f":"IF(O106=\"\",\"\",B106)","v":""},"",{"$f":"IF(Q106=\"\",\"\",GetURL(J106))","v":""}]
["flagEngland League Two",null,null,null,1,"X",2,null,null,null,1,"England League Two","","",{"$f":"IF(N107=\"\",\"\",fmt(M107+myset!$F$27/24,\"HH:MM\"))","v":""},{"$f":"IF(O107=\"\",\"\",B107)","v":""},"",{"$f":"IF(Q107=\"\",\"\",GetURL(J107))","v":""}]
["22:00 567248","Mansfield ","Colchester ","— — ","2.415 ","3.52 ","3.05 ",1,null,null,0,"England League Two","22:00","England League Two",{"$f":"IF(N108=\"\",\"\",fmt(M108+myset!$F$27/24,\"HH:MM\"))","v":"23:00"},{"$f":"IF(O108=\"\",\"\",B108)","v":"Mansfield "},"Colchester ",{"$f":"IF(Q108=\"\",\"\",GetURL(J108))","v":"https://en.24score.com/football/match/567248-mansfield-colchester"}]
["X",null,null,null,null,null,null,null,null,null,0,"England League Two","","",{"$f":"IF(N109=\"\",\"\",fmt(M109+myset!$F$27/24,\"HH:MM\"))","v":""},{"$f":"IF(O109=\"\",\"\",B109)","v":""},"",{"$f":"IF(Q109=\"\",\"\",GetURL(J109))","v":""}]
[null,null,null,null,null,null,null,null,null,null,0,"England League Two","","",{"$f":"IF(N110=\"\",\"\",fmt(M110+myset!$F$27/24,\"HH:MM\"))","v":""},{"$f":"IF(O110=\"\",\"\",B110)","v":""},"",{"$f":"IF(Q110=\"\",\"\",GetURL(J110))","v":""}]
["Mansfield has not won 2nd half in 19 last games",null,null,null,null,null,null,null,null,null,0,"England League Two","","",{"$f":"IF(N111=\"\",\"\",fmt(M111+myset!$F$27/24,\"HH:MM\"))","v":""},{"$f":"IF(O111=\"\",\"\",B111)","v":""},"",{"$f":"IF(Q111=\"\",\"\",GetURL(J111))","v":""}]
[null,null,null,null,null,null,null,null,null,null,0,"England League Two","","",{"$f":"IF(N112=\"\",\"\",fmt(M112+myset!$F$27/24,\"HH:MM\"))","v":""},{"$f":"IF(O112=\"\",\"\",B112)","v":""},"",{"$f":"IF(Q112=\"\",\"\",GetURL(J112))","v":""}]
["flagSpain Segunda Division",null,null,null,1,"X",2,null,null,null,1,"Spain Segunda Division","","",{"$f":"IF(N113=\"\",\"\",fmt(M113+myset!$F$27/24,\"HH:MM\"))","v":""},{"$f":"IF(O113=\"\",\"\",B113)","v":""},"",{"$f":"IF(Q113=\"\",\"\",GetURL(J113))","v":""}]
["21:00 571423","Alcorcon ","Lugo ","— — ","2.85 ","2.94 ","2.79 ",3,null,null,0,"Spain Segunda Division","21:00","Spain Segunda Division",{"$f":"IF(N114=\"\",\"\",fmt(M114+myset!$F$27/24,\"HH:MM\"))","v":"22:00"},{"$f":"IF(O114=\"\",\"\",B114)","v":"Alcorcon "},"Lugo ",{"$f":"IF(Q114=\"\",\"\",GetURL(J114))","v":"https://en.24score.com/football/match/571423-alcorcon-lugo"}]
["X",null,null,null,null,null,null,null,null,null,0,"Spain Segunda Division","","",{"$f":"IF(N115=\"\",\"\",fmt(M115+myset!$F$27/24,\"HH:MM\"))","v":""},{"$f":"IF(O115=\"\",\"\",B115)","v":""},"",{"$f":"IF(Q115=\"\",\"\",GetURL(J115))","v":""}]
[null,null,null,null,null,null,null,null,null,null,0,"Spain Segunda Division","","",{"$f":"IF(N116=\"\",\"\",fmt(M116+myset!$F$27/24,\"HH:MM\"))","v":""},{"$f":"IF(O116=\"\",\"\",B116)","v":""},"",{"$f":"IF(Q116=\"\",\"\",GetURL(J116))","v":""}]
["Alcorcon has lost 8 last games",null,null,null,null,null,null,null,null,null,0,"Spain Segunda Division","","",{"$f":"IF(N117=\"\",\"\",fmt(M117+myset!$F$27/24,\"HH:MM\"))","v":""},{"$f":"IF(O117=\"\",\"\",B117)","v":""},"",{"$f":"IF(Q117=\"\",\"\",GetURL(J117))","v":""}]
[null,null,null,null,null,null,null,null,null,null,0,"Spain Segunda Division","","",{"$f":"IF(N118=\"\",\"\",fmt(M118+myset!$F$27/24,\"HH:MM\"))","v":""},{"$f":"IF(O118=\"\",\"\",B118)","v":""},"",{"$f":"IF(Q118=\"\",\"\",GetURL(J118))","v":""}]
["Alcorcon has not won 16 halves on end",null,null,null,null,null,null,null,null,null,0,"Spain Segunda Division","","",{"$f":"IF(N119=\"\",\"\",fmt(M119+myset!$F$27/24,\"HH:MM\"))","v":""},{"$f":"IF(O119=\"\",\"\",B119)","v":""},"",{"$f":"IF(Q119=\"\",\"\",GetURL(J119))","v":""}]
[null,null,null,null,null,null,null,null,null,null,0,"Spain Segunda Division","","",{"$f":"IF(N120=\"\",\"\",fmt(M120+myset!$F$27/24,\"HH:MM\"))","v":""},{"$f":"IF(O120=\"\",\"\",B120)","v":""},"",{"$f":"IF(Q120=\"\",\"\",GetURL(J120))","v":""}]
["Alcorcon has not won 1st half in 14 last games",null,null,null,null,null,null,null,null,null,0,"Spain Segunda Division","","",{"$f":"IF(N121=\"\",\"\",fmt(M121+myset!$F$27/24,\"HH:MM\"))","v":""},{"$f":"IF(O121=\"\",\"\",B121)","v":""},"",{"$f":"IF(Q121=\"\",\"\",GetURL(J121))","v":""}]
["23:00 571422","Espanyol ","Girona ","— — ","1.52 ","3.88 ","7.4 ",1,null,null,0,"Spain Segunda Division","23:00","Spain Segunda Division",{"$f":"IF(N122=\"\",\"\",fmt(M122+myset!$F$27/24,\"HH:MM\"))","v":"00:00"},{"$f":"IF(O122=\"\",\"\",B122)","v":"Espanyol "},"Girona ",{"$f":"IF(Q122=\"\",\"\",GetURL(J122))","v":"https://en.24score.com/football/match/571422-espanyol-girona"}]
["X",null,null,null,null,null,null,null,null,null,0,"Spain Segunda Division","","",{"$f":"IF(N123=\"\",\"\",fmt(M123+myset!$F$27/24,\"HH:MM\"))","v":""},{"$f":"IF(O123=\"\",\"\",B123)","v":""},"",{"$f":"IF(Q123=\"\",\"\",GetURL(J123))","v":""}]
[null,null,null,null,null,null,null,null,null,null,0,"Spain Segunda Division","","",{"$f":"IF(N124=\"\",\"\",fmt(M124+myset!$F$27/24,\"HH:MM\"))","v":""},{"$f":"IF(O124=\"\",\"\",B124)","v":""},"",{"$f":"IF(Q124=\"\",\"\",GetURL(J124))","v":""}]
["Girona has not lost 1st period in 11 last away games",null,null,null,null,null,null,null,null,null,0,"Spain Segunda Division","","",{"$f":"IF(N125=\"\",\"\",fmt(M125+myset!$F$27/24,\"HH:MM\"))","v":""},{"$f":"IF(O125=\"\",\"\",B125)","v":""},"",{"$f":"IF(Q125=\"\",\"\",GetURL(J125))","v":""}]
[null,null,null,null,null,null,null,null,null,null,0,"Spain Segunda Division","","",{"$f":"IF(N126=\"\",\"\",fmt(M126+myset!$F$27/24,\"HH:MM\"))","v":""},{"$f":"IF(O126=\"\",\"\",B126)","v":""},"",{"$f":"IF(Q126=\"\",\"\",GetURL(J126))","v":""}]
["flagItaly Serie B",null,null,null,1,"X",2,null,null,null,1,"Italy Serie B","","",{"$f":"IF(N127=\"\",\"\",fmt(M127+myset!$F$27/24,\"HH:MM\"))","v":""},{"$f":"IF(O127=\"\",\"\",B127)","v":""},"",{"$f":"IF(Q127=\"\",\"\",GetURL(J127))","v":""}]
["23:00 576333","Frosinone ","Cosenza ","— — ","1.81 ","3.18 ","5.55 ",3,null,null,0,"Italy Serie B","23:00","Italy Serie B",{"$f":"IF(N128=\"\",\"\",fmt(M128+myset!$F$27/24,\"HH:MM\"))","v":"00:00"},{"$f":"IF(O128=\"\",\"\",B128)","v":"Frosinone "},"Cosenza ",{"$f":"IF(Q128=\"\",\"\",GetURL(J128))","v":"https://en.24score.com/football/match/576333-frosinone-cosenza"}]
["X",null,null,null,null,null,null,null,null,null,0,"Italy Serie B","","",{"$f":"IF(N129=\"\",\"\",fmt(M129+myset!$F$27/24,\"HH:MM\"))","v":""},{"$f":"IF(O129=\"\",\"\",B129)","v":""},"",{"$f":"IF(Q129=\"\",\"\",GetURL(J129))","v":""}]
[null,null,null,null,null,null,null,null,null,null,0,"Italy Serie B","","",{"$f":"IF(N130=\"\",\"\",fmt(M130+myset!$F$27/24,\"HH:MM\"))","v":""},{"$f":"IF(O130=\"\",\"\",B130)","v":""},"",{"$f":"IF(Q130=\"\",\"\",GetURL(J130))","v":""}]
["Frosinone have had under 1.5 goals 12 last halves in a row in home matches",null,null,null,null,null,null,null,null,null,{"$f":"IFERROR(SEARCH(\"flag\",A131),0)","v":0},{"$f":"IF(K131=1,MID(A131,5,100),L130)","v":"Italy Serie B"},{"$f":"IF(B131=\"\",\"\",IFERROR(fmt(LEFT(A131,SEARCH(\" \",A131)-1),\"HH:MM\"),fmt(A131,\"HH:MM\")))","v":""},{"$f":"IF(M131=\"\",\"\",L131)","v":""},{"$f":"IF(N131=\"\",\"\",fmt(M131+myset!$F$27/24,\"HH:MM\"))","v":""},{"$f":"IF(O131=\"\",\"\",B131)","v":""},"",{"$f":"IF(Q131=\"\",\"\",GetURL(J131))","v":""}]
[null,null,null,null,null,null,null,null,null,null,0,"Italy Serie B","","",{"$f":"IF(N132=\"\",\"\",fmt(M132+myset!$F$27/24,\"HH:MM\"))","v":""},{"$f":"IF(O132=\"\",\"\",B132)","v":""},"",{"$f":"IF(Q132=\"\",\"\",GetURL(J132))","v":""}]
["Frosinone have had under 2.5 goals in their last 11 matches",null,null,null,null,null,null,null,null,null,0,"Italy Serie B","","",{"$f":"IF(N133=\"\",\"\",fmt(M133+myset!$F$27/24,\"HH:MM\"))","v":""},{"$f":"IF(O133=\"\",\"\",B133)","v":""},"",{"$f":"IF(Q133=\"\",\"\",GetURL(J133))","v":""}]
[null,null,null,null,null,null,null,null,null,null,0,"Italy Serie B","","",{"$f":"IF(N134=\"\",\"\",fmt(M134+myset!$F$27/24,\"HH:MM\"))","v":""},{"$f":"IF(O134=\"\",\"\",B134)","v":""},"",{"$f":"IF(Q134=\"\",\"\",GetURL(J134))","v":""}]
["Frosinone have had under 2.5 goals in their last 7 home matches",null,null,null,null,null,null,null,null,null,0,"Italy Serie B","","",{"$f":"IF(N135=\"\",\"\",fmt(M135+myset!$F$27/24,\"HH:MM\"))","v":""},{"$f":"IF(O135=\"\",\"\",B135)","v":""},"",{"$f":"IF(Q135=\"\",\"\",GetURL(J135))","v":""}]
[null,null,null,null,null,null,null,null,null,null,0,"Italy Serie B","","",{"$f":"IF(N136=\"\",\"\",fmt(M136+myset!$F$27/24,\"HH:MM\"))","v":""},{"$f":"IF(O136=\"\",\"\",B136)","v":""},"",{"$f":"IF(Q136=\"\",\"\",GetURL(J136))","v":""}]
["flagGermany - 3. Liga",null,null,null,1,"X",2,null,null,null,1,"Germany - 3. Liga","","",{"$f":"IF(N137=\"\",\"\",fmt(M137+myset!$F$27/24,\"HH:MM\"))","v":""},{"$f":"IF(O137=\"\",\"\",B137)","v":""},"",{"$f":"IF(Q137=\"\",\"\",GetURL(J137))","v":""}]
["21:00 573330","Duisburg ","Verl ","— — ","2.5 ","3.32 ","2.795 ",2,null,null,0,"Germany - 3. Liga","21:00","Germany - 3. Liga",{"$f":"IF(N138=\"\",\"\",fmt(M138+myset!$F$27/24,\"HH:MM\"))","v":"22:00"},{"$f":"IF(O138=\"\",\"\",B138)","v":"Duisburg "},"Verl ",{"$f":"IF(Q138=\"\",\"\",GetURL(J138))","v":"https://en.24score.com/football/match/573330-duisburg-verl"}]
["X",null,null,null,null,null,null,null,null,null,0,"Germany - 3. Liga","","",{"$f":"IF(N139=\"\",\"\",fmt(M139+myset!$F$27/24,\"HH:MM\"))","v":""},{"$f":"IF(O139=\"\",\"\",B139)","v":""},"",{"$f":"IF(Q139=\"\",\"\",GetURL(J139))","v":""}]
[null,null,null,null,null,null,null,null,null,null,0,"Germany - 3. Liga","","",{"$f":"IF(N140=\"\",\"\",fmt(M140+myset!$F$27/24,\"HH:MM\"))","v":""},{"$f":"IF(O140=\"\",\"\",B140)","v":""},"",{"$f":"IF(Q140=\"\",\"\",GetURL(J140))","v":""}]
["Duisburg has not won 10 halves on end in home games",null,null,null,null,null,null,null,null,null,0,"Germany - 3. Liga","","",{"$f":"IF(N141=\"\",\"\",fmt(M141+myset!$F$27/24,\"HH:MM\"))","v":""},{"$f":"IF(O141=\"\",\"\",B141)","v":""},"",{"$f":"IF(Q141=\"\",\"\",GetURL(J141))","v":""}]
[null,null,null,null,null,null,null,null,null,null,0,"Germany - 3. Liga","","",{"$f":"IF(N142=\"\",\"\",fmt(M142+myset!$F$27/24,\"HH:MM\"))","v":""},{"$f":"IF(O142=\"\",\"\",B142)","v":""},"",{"$f":"IF(Q142=\"\",\"\",GetURL(J142))","v":""}]
["Verl have had over 2.5 goals in their last 7 matches",null,null,null,null,null,null,null,null,null,0,"Germany - 3. Liga","","",{"$f":"IF(N143=\"\",\"\",fmt(M143+myset!$F$27/24,\"HH:MM\"))","v":""},{"$f":"IF(O143=\"\",\"\",B143)","v":""},"",{"$f":"IF(Q143=\"\",\"\",GetURL(J143))","v":""}]
[null,null,null,null,null,null,null,null,null,null,0,"Germany - 3. Liga","","",{"$f":"IF(N144=\"\",\"\",fmt(M144+myset!$F$27/24,\"HH:MM\"))","v":""},{"$f":"IF(O144=\"\",\"\",B144)","v":""},"",{"$f":"IF(Q144=\"\",\"\",GetURL(J144))","v":""}]
["flagFrance National",null,null,null,1,"X",2,null,null,null,1,"France National","","",{"$f":"IF(N145=\"\",\"\",fmt(M145+myset!$F$27/24,\"HH:MM\"))","v":""},{"$f":"IF(O145=\"\",\"\",B145)","v":""},"",{"$f":"IF(Q145=\"\",\"\",GetURL(J145))","v":""}]
["20:00 568973","Lyon-Duchere ","Cholet ","— — ","2.72 ","3.18 ","2.54 ",7,null,null,0,"France National","20:00","France National",{"$f":"IF(N146=\"\",\"\",fmt(M146+myset!$F$27/24,\"HH:MM\"))","v":"21:00"},{"$f":"IF(O146=\"\",\"\",B146)","v":"Lyon-Duchere "},"Cholet ",{"$f":"IF(Q146=\"\",\"\",GetURL(J146))","v":"https://en.24score.com/football/match/568973-lyon-duchere-cholet"}]
["X",null,null,null,null,null,null,null,null,null,0,"France National","","",{"$f":"IF(N147=\"\",\"\",fmt(M147+myset!$F$27/24,\"HH:MM\"))","v":""},{"$f":"IF(O147=\"\",\"\",B147)","v":""},"",{"$f":"IF(Q147=\"\",\"\",GetURL(J147))","v":""}]
[null,null,null,null,null,null,null,null,null,null,0,"France National","","",{"$f":"IF(N148=\"\",\"\",fmt(M148+myset!$F$27/24,\"HH:MM\"))","v":""},{"$f":"IF(O148=\"\",\"\",B148)","v":""},"",{"$f":"IF(Q148=\"\",\"\",GetURL(J148))","v":""}]
["Lyon-Duchere has tied 2nd period in 6 last games",null,null,null,null,null,null,null,null,null,0,"France National","","",{"$f":"IF(N149=\"\",\"\",fmt(M149+myset!$F$27/24,\"HH:MM\"))","v":""},{"$f":"IF(O149=\"\",\"\",B149)","v":""},"",{"$f":"IF(Q149=\"\",\"\",GetURL(J149))","v":""}]
[null,null,null,null,null,null,null,null,null,null,0,"France National","","",{"$f":"IF(N150=\"\",\"\",fmt(M150+myset!$F$27/24,\"HH:MM\"))","v":""},{"$f":"IF(O150=\"\",\"\",B150)","v":""},"",{"$f":"IF(Q150=\"\",\"\",GetURL(J150))","v":""}]
["Lyon-Duchere has tied 2nd period in 6 last home games",null,null,null,null,null,null,null,null,null,0,"France National","","",{"$f":"IF(N151=\"\",\"\",fmt(M151+myset!$F$27/24,\"HH:MM\"))","v":""},{"$f":"IF(O151=\"\",\"\",B151)","v":""},"",{"$f":"IF(Q151=\"\",\"\",GetURL(J151))","v":""}]
[null,null,null,null,null,null,null,null,null,null,0,"France National","","",{"$f":"IF(N152=\"\",\"\",fmt(M152+myset!$F$27/24,\"HH:MM\"))","v":""},{"$f":"IF(O152=\"\",\"\",B152)","v":""},"",{"$f":"IF(Q152=\"\",\"\",GetURL(J152))","v":""}]
["Lyon-Duchere has not won 11 last games",null,null,null,null,null,null,null,null,null,0,"France National","","",{"$f":"IF(N153=\"\",\"\",fmt(M153+myset!$F$27/24,\"HH:MM\"))","v":""},{"$f":"IF(O153=\"\",\"\",B153)","v":""},"",{"$f":"IF(Q153=\"\",\"\",GetURL(J153))","v":""}]
[null,null,null,null,null,null,null,null,null,null,0,"France National","","",{"$f":"IF(N154=\"\",\"\",fmt(M154+myset!$F$27/24,\"HH:MM\"))","v":""},{"$f":"IF(O154=\"\",\"\",B154)","v":""},"",{"$f":"IF(Q154=\"\",\"\",GetURL(J154))","v":""}]
["Lyon-Duchere has not won 17 halves on end",null,null,null,null,null,null,null,null,null,0,"France National","","",{"$f":"IF(N155=\"\",\"\",fmt(M155+myset!$F$27/24,\"HH:MM\"))","v":""},{"$f":"IF(O155=\"\",\"\",B155)","v":""},"",{"$f":"IF(Q155=\"\",\"\",GetURL(J155))","v":""}]
[null,null,null,null,null,null,null,null,null,null,0,"France National","","",{"$f":"IF(N156=\"\",\"\",fmt(M156+myset!$F$27/24,\"HH:MM\"))","v":""},{"$f":"IF(O156=\"\",\"\",B156)","v":""},"",{"$f":"IF(Q156=\"\",\"\",GetURL(J156))","v":""}]
["Lyon-Duchere has not won 15 halves on end in home games",null,null,null,null,null,null,null,null,null,0,"France National","","",{"$f":"IF(N157=\"\",\"\",fmt(M157+myset!$F$27/24,\"HH:MM\"))","v":""},{"$f":"IF(O157=\"\",\"\",B157)","v":""},"",{"$f":"IF(Q157=\"\",\"\",GetURL(J157))","v":""}]
[null,null,null,null,null,null,null,null,null,null,0,"France National","","",{"$f":"IF(N158=\"\",\"\",fmt(M158+myset!$F$27/24,\"HH:MM\"))","v":""},{"$f":"IF(O158=\"\",\"\",B158)","v":""},"",{"$f":"IF(Q158=\"\",\"\",GetURL(J158))","v":""}]
["Lyon-Duchere has not won 2nd half in 17 last games",null,null,null,null,null,null,null,null,null,0,"France National","","",{"$f":"IF(N159=\"\",\"\",fmt(M159+myset!$F$27/24,\"HH:MM\"))","v":""},{"$f":"IF(O159=\"\",\"\",B159)","v":""},"",{"$f":"IF(Q159=\"\",\"\",GetURL(J159))","v":""}]
[null,null,null,null,null,null,null,null,null,null,0,"France National","","",{"$f":"IF(N160=\"\",\"\",fmt(M160+myset!$F$27/24,\"HH:MM\"))","v":""},{"$f":"IF(O160=\"\",\"\",B160)","v":""},"",{"$f":"IF(Q160=\"\",\"\",GetURL(J160))","v":""}]
["Lyon-Duchere has not won 2nd half in 9 last home games",null,null,null,null,null,null,null,null,null,0,"France National","","",{"$f":"IF(N161=\"\",\"\",fmt(M161+myset!$F$27/24,\"HH:MM\"))","v":""},{"$f":"IF(O161=\"\",\"\",B161)","v":""},"",{"$f":"IF(Q161=\"\",\"\",GetURL(J161))","v":""}]
["20:00 568978","Laval ","Boulogne ","— — ","2.22 ",3,"3.08 ",2,null,null,0,"France National","20:00","France National",{"$f":"IF(N162=\"\",\"\",fmt(M162+myset!$F$27/24,\"HH:MM\"))","v":"21:00"},{"$f":"IF(O162=\"\",\"\",B162)","v":"Laval "},"Boulogne ",{"$f":"IF(Q162=\"\",\"\",GetURL(J162))","v":"https://en.24score.com/football/match/568978-laval-boulogne"}]
["X",null,null,null,null,null,null,null,null,null,0,"France National","","",{"$f":"IF(N163=\"\",\"\",fmt(M163+myset!$F$27/24,\"HH:MM\"))","v":""},{"$f":"IF(O163=\"\",\"\",B163)","v":""},"",{"$f":"IF(Q163=\"\",\"\",GetURL(J163))","v":""}]
[null,null,null,null,null,null,null,null,null,null,0,"France National","","",{"$f":"IF(N164=\"\",\"\",fmt(M164+myset!$F$27/24,\"HH:MM\"))","v":""},{"$f":"IF(O164=\"\",\"\",B164)","v":""},"",{"$f":"IF(Q164=\"\",\"\",GetURL(J164))","v":""}]
["Laval has not tied 1st period in 10 last home games",null,null,null,null,null,null,null,null,null,0,"France National","","",{"$f":"IF(N165=\"\",\"\",fmt(M165+myset!$F$27/24,\"HH:MM\"))","v":""},{"$f":"IF(O165=\"\",\"\",B165)","v":""},"",{"$f":"IF(Q165=\"\",\"\",GetURL(J165))","v":""}]
[null,null,null,null,null,null,null,null,null,null,0,"France National","","",{"$f":"IF(N166=\"\",\"\",fmt(M166+myset!$F$27/24,\"HH:MM\"))","v":""},{"$f":"IF(O166=\"\",\"\",B166)","v":""},"",{"$f":"IF(Q166=\"\",\"\",GetURL(J166))","v":""}]
["Laval has not won 13 halves on end",null,null,null,null,null,null,null,null,null,0,"France National","","",{"$f":"IF(N167=\"\",\"\",fmt(M167+myset!$F$27/24,\"HH:MM\"))","v":""},{"$f":"IF(O167=\"\",\"\",B167)","v":""},"",{"$f":"IF(Q167=\"\",\"\",GetURL(J167))","v":""}]
["20:00 568940","Sete ","Red Star ","— — ","2.68 ","3.2 ","2.56 ",0,null,null,0,"France National","20:00","France National",{"$f":"IF(N168=\"\",\"\",fmt(M168+myset!$F$27/24,\"HH:MM\"))","v":"21:00"},{"$f":"IF(O168=\"\",\"\",B168)","v":"Sete "},"Red Star ",{"$f":"IF(Q168=\"\",\"\",GetURL(J168))","v":"https://en.24score.com/football/match/568940-sete-red-star"}]
["20:00 568910","Annecy ","Villefranche ","— — ","2.42 ","3.15 ","2.92 ",1,null,null,0,"France National","20:00","France National",{"$f":"IF(N169=\"\",\"\",fmt(M169+myset!$F$27/24,\"HH:MM\"))","v":"21:00"},{"$f":"IF(O169=\"\",\"\",B169)","v":"Annecy "},"Villefranche ",{"$f":"IF(Q169=\"\",\"\",GetURL(J169))","v":"https://en.24score.com/football/match/568910-annecy-villefranche"}]
["X",null,null,null,null,null,null,null,null,null,0,"France National","","",{"$f":"IF(N170=\"\",\"\",fmt(M170+myset!$F$27/24,\"HH:MM\"))","v":""},{"$f":"IF(O170=\"\",\"\",B170)","v":""},"",{"$f":"IF(Q170=\"\",\"\",GetURL(J170))","v":""}]
[null,null,null,null,null,null,null,null,null,null,0,"France National","","",{"$f":"IF(N171=\"\",\"\",fmt(M171+myset!$F$27/24,\"HH:MM\"))","v":""},{"$f":"IF(O171=\"\",\"\",B171)","v":""},"",{"$f":"IF(Q171=\"\",\"\",GetURL(J171))","v":""}]
["Villefranche have had under 1.5 goals 13 last halves in a row",null,null,null,null,null,null,null,null,null,0,"France National","","",{"$f":"IF(N172=\"\",\"\",fmt(M172+myset!$F$27/24,\"HH:MM\"))","v":""},{"$f":"IF(O172=\"\",\"\",B172)","v":""},"",{"$f":"IF(Q172=\"\",\"\",GetURL(J172))","v":""}]
["20:00 568912","Quevilly Rouen ","Bourg Peronnas ","— — ","2.41 ","3.15 ","2.93 ",1,null,null,0,"France National","20:00","France National",{"$f":"IF(N173=\"\",\"\",fmt(M173+myset!$F$27/24,\"HH:MM\"))","v":"21:00"},{"$f":"IF(O173=\"\",\"\",B173)","v":"Quevilly Rouen "},"Bourg Peronnas ",{"$f":"IF(Q173=\"\",\"\",GetURL(J173))","v":"https://en.24score.com/football/match/568912-quevilly-rouen-bourg-peronnas"}]
["X",null,null,null,null,null,null,null,null,null,0,"France National","","",{"$f":"IF(N174=\"\",\"\",fmt(M174+myset!$F$27/24,\"HH:MM\"))","v":""},{"$f":"IF(O174=\"\",\"\",B174)","v":""},"",{"$f":"IF(Q174=\"\",\"\",GetURL(J174))","v":""}]
[null,null,null,null,null,null,null,null,null,null,0,"France National","","",{"$f":"IF(N175=\"\",\"\",fmt(M175+myset!$F$27/24,\"HH:MM\"))","v":""},{"$f":"IF(O175=\"\",\"\",B175)","v":""},"",{"$f":"IF(Q175=\"\",\"\",GetURL(J175))","v":""}]
["Quevilly Rouen have had over 1.5 1st half goals in 4 last matches",null,null,null,null,null,null,null,null,null,0,"France National","","",{"$f":"IF(N176=\"\",\"\",fmt(M176+myset!$F$27/24,\"HH:MM\"))","v":""},{"$f":"IF(O176=\"\",\"\",B176)","v":""},"",{"$f":"IF(Q176=\"\",\"\",GetURL(J176))","v":""}]
[null,null,null,null,null,null,null,null,null,null,0,"France National","","",{"$f":"IF(N177=\"\",\"\",fmt(M177+myset!$F$27/24,\"HH:MM\"))","v":""},{"$f":"IF(O177=\"\",\"\",B177)","v":""},"",{"$f":"IF(Q177=\"\",\"\",GetURL(J177))","v":""}]
["flagArgentina Copa Liga",null,null,null,1,"X",2,null,null,null,1,"Argentina Copa Liga","","",{"$f":"IF(N178=\"\",\"\",fmt(M178+myset!$F$27/24,\"HH:MM\"))","v":""},{"$f":"IF(O178=\"\",\"\",B178)","v":""},"",{"$f":"IF(Q178=\"\",\"\",GetURL(J178))","v":""}]
["03:15 584244","Atletico Tucuman ","Racing ","— — ","1.58 ","4.2 ","5.65 ",0,null,null,0,"Argentina Copa Liga","03:15","Argentina Copa Liga",{"$f":"IF(N179=\"\",\"\",fmt(M179+myset!$F$27/24,\"HH:MM\"))","v":"04:15"},{"$f":"IF(O179=\"\",\"\",B179)","v":"Atletico Tucuman "},"Racing ",{"$f":"IF(Q179=\"\",\"\",GetURL(J179))","v":"https://en.24score.com/football/match/584244-atletico-tucuman-racing"}]
["23:10 584245","Arsenal S ","Santa Fe ","— — ","2.44 ","3.24 ","3.04 ",0,null,null,0,"Argentina Copa Liga","23:10","Argentina Copa Liga",{"$f":"IF(N180=\"\",\"\",fmt(M180+myset!$F$27/24,\"HH:MM\"))","v":"00:10"},{"$f":"IF(O180=\"\",\"\",B180)","v":"Arsenal S "},"Santa Fe ",{"$f":"IF(Q180=\"\",\"\",GetURL(J180))","v":"https://en.24score.com/football/match/584245-arsenal-s-santa-fe"}]
[null,null,null,null,null,null,null,null,null,null,0,"Argentina Copa Liga","","",{"$f":"IF(N181=\"\",\"\",fmt(M181+myset!$F$27/24,\"HH:MM\"))","v":""},{"$f":"IF(O181=\"\",\"\",B181)","v":""},"",{"$f":"IF(Q181=\"\",\"\",GetURL(J181))","v":""}]
["flagAustria - ADEG Erste Liga",null,null,null,1,"X",2,null,null,null,1,"Austria - ADEG Erste Liga","","",{"$f":"IF(N182=\"\",\"\",fmt(M182+myset!$F$27/24,\"HH:MM\"))","v":""},{"$f":"IF(O182=\"\",\"\",B182)","v":""},"",{"$f":"IF(Q182=\"\",\"\",GetURL(J182))","v":""}]
["20:00 567854","BW Linz ","Horn ","— — ","1.72 ","4.14 ","4.28 ",1,null,null,0,"Austria - ADEG Erste Liga","20:00","Austria - ADEG Erste Liga",{"$f":"IF(N183=\"\",\"\",fmt(M183+myset!$F$27/24,\"HH:MM\"))","v":"21:00"},{"$f":"IF(O183=\"\",\"\",B183)","v":"BW Linz "},"Horn ",{"$f":"IF(Q183=\"\",\"\",GetURL(J183))","v":"https://en.24score.com/football/match/567854-bw-linz-horn"}]
["X",null,null,null,null,null,null,null,null,null,0,"Austria - ADEG Erste Liga","","",{"$f":"IF(N184=\"\",\"\",fmt(M184+myset!$F$27/24,\"HH:MM\"))","v":""},{"$f":"IF(O184=\"\",\"\",B184)","v":""},"",{"$f":"IF(Q184=\"\",\"\",GetURL(J184))","v":""}]
[null,null,null,null,null,null,null,null,null,null,0,"Austria - ADEG Erste Liga","","",{"$f":"IF(N185=\"\",\"\",fmt(M185+myset!$F$27/24,\"HH:MM\"))","v":""},{"$f":"IF(O185=\"\",\"\",B185)","v":""},"",{"$f":"IF(Q185=\"\",\"\",GetURL(J185))","v":""}]
["BW Linz have had over 1.5 2nd half goals in 10 last home matches",null,null,null,null,null,null,null,null,null,0,"Austria - ADEG Erste Liga","","",{"$f":"IF(N186=\"\",\"\",fmt(M186+myset!$F$27/24,\"HH:MM\"))","v":""},{"$f":"IF(O186=\"\",\"\",B186)","v":""},"",{"$f":"IF(Q186=\"\",\"\",GetURL(J186))","v":""}]
["20:30 567859","Amstetten ","Austria Wien II ","— — ","1.93 ","3.96 ","3.5 ",1,null,null,0,"Austria - ADEG Erste Liga","20:30","Austria - ADEG Erste Liga",{"$f":"IF(N187=\"\",\"\",fmt(M187+myset!$F$27/24,\"HH:MM\"))","v":"21:30"},{"$f":"IF(O187=\"\",\"\",B187)","v":"Amstetten "},"Austria Wien II ",{"$f":"IF(Q187=\"\",\"\",GetURL(J187))","v":"https://en.24score.com/football/match/567859-amstetten-austria-wien-ii"}]
["X",null,null,null,null,null,null,null,null,null,0,"Austria - ADEG Erste Liga","","",{"$f":"IF(N188=\"\",\"\",fmt(M188+myset!$F$27/24,\"HH:MM\"))","v":""},{"$f":"IF(O188=\"\",\"\",B188)","v":""},"",{"$f":"IF(Q188=\"\",\"\",GetURL(J188))","v":""}]
[null,null,null,null,null,null,null,null,null,null,0,"Austria - ADEG Erste Liga","","",{"$f":"IF(N189=\"\",\"\",fmt(M189+myset!$F$27/24,\"HH:MM\"))","v":""},{"$f":"IF(O189=\"\",\"\",B189)","v":""},"",{"$f":"IF(Q189=\"\",\"\",GetURL(J189))","v":""}]
["Amstetten has tied 4 last home games",null,null,null,null,null,null,null,null,null,0,"Austria - ADEG Erste Liga","","",{"$f":"IF(N190=\"\",\"\",fmt(M190+myset!$F$27/24,\"HH:MM\"))","v":""},{"$f":"IF(O190=\"\",\"\",B190)","v":""},"",{"$f":"IF(Q190=\"\",\"\",GetURL(J190))","v":""}]
["20:30 567856","Austria Lustenau ","Floridsdorf ","— — ","2.15 ","3.72 ","3.11 ",2,null,null,0,"Austria - ADEG Erste Liga","20:30","Austria - ADEG Erste Liga",{"$f":"IF(N191=\"\",\"\",fmt(M191+myset!$F$27/24,\"HH:MM\"))","v":"21:30"},{"$f":"IF(O191=\"\",\"\",B191)","v":"Austria Lustenau "},"Floridsdorf ",{"$f":"IF(Q191=\"\",\"\",GetURL(J191))","v":"https://en.24score.com/football/match/567856-austria-lustenau-floridsdorf"}]
["X",null,null,null,null,null,null,null,null,null,0,"Austria - ADEG Erste Liga","","",{"$f":"IF(N192=\"\",\"\",fmt(M192+myset!$F$27/24,\"HH:MM\"))","v":""},{"$f":"IF(O192=\"\",\"\",B192)","v":""},"",{"$f":"IF(Q192=\"\",\"\",GetURL(J192))","v":""}]
[null,null,null,null,null,null,null,null,null,null,0,"Austria - ADEG Erste Liga","","",{"$f":"IF(N193=\"\",\"\",fmt(M193+myset!$F$27/24,\"HH:MM\"))","v":""},{"$f":"IF(O193=\"\",\"\",B193)","v":""},"",{"$f":"IF(Q193=\"\",\"\",GetURL(J193))","v":""}]
["Floridsdorf have had over 1.5 2nd half goals in 5 last matches",null,null,null,null,null,null,null,null,null,0,"Austria - ADEG Erste Liga","","",{"$f":"IF(N194=\"\",\"\",fmt(M194+myset!$F$27/24,\"HH:MM\"))","v":""},{"$f":"IF(O194=\"\",\"\",B194)","v":""},"",{"$f":"IF(Q194=\"\",\"\",GetURL(J194))","v":""}]
[null,null,null,null,null,null,null,null,null,null,{"$f":"IFERROR(SEARCH(\"flag\",A195),0)","v":0},{"$f":"IF(K195=1,MID(A195,5,100),L194)","v":"Austria - ADEG Erste Liga"},{"$f":"IF(B195=\"\",\"\",IFERROR(fmt(LEFT(A195,SEARCH(\" \",A195)-1),\"HH:MM\"),fmt(A195,\"HH:MM\")))","v":""},{"$f":"IF(M195=\"\",\"\",L195)","v":""},{"$f":"IF(N195=\"\",\"\",fmt(M195+myset!$F$27/24,\"HH:MM\"))","v":""},{"$f":"IF(O195=\"\",\"\",B195)","v":""},"",{"$f":"IF(Q195=\"\",\"\",GetURL(J195))","v":""}]
["Floridsdorf have had over 2.5 goals in their last 7 matches",null,null,null,null,null,null,null,null,null,0,"Austria - ADEG Erste Liga","","",{"$f":"IF(N196=\"\",\"\",fmt(M196+myset!$F$27/24,\"HH:MM\"))","v":""},{"$f":"IF(O196=\"\",\"\",B196)","v":""},"",{"$f":"IF(Q196=\"\",\"\",GetURL(J196))","v":""}]
["20:30 567860","Liefering ","Kapfenberg ","— — ","1.31 ","5.8 ","8.3 ",1,null,null,0,"Austria - ADEG Erste Liga","20:30","Austria - ADEG Erste Liga",{"$f":"IF(N197=\"\",\"\",fmt(M197+myset!$F$27/24,\"HH:MM\"))","v":"21:30"},{"$f":"IF(O197=\"\",\"\",B197)","v":"Liefering "},"Kapfenberg ",{"$f":"IF(Q197=\"\",\"\",GetURL(J197))","v":"https://en.24score.com/football/match/567860-liefering-kapfenberg"}]
["X",null,null,null,null,null,null,null,null,null,0,"Austria - ADEG Erste Liga","","",{"$f":"IF(N198=\"\",\"\",fmt(M198+myset!$F$27/24,\"HH:MM\"))","v":""},{"$f":"IF(O198=\"\",\"\",B198)","v":""},"",{"$f":"IF(Q198=\"\",\"\",GetURL(J198))","v":""}]
[null,null,null,null,null,null,null,null,null,null,0,"Austria - ADEG Erste Liga","","",{"$f":"IF(N199=\"\",\"\",fmt(M199+myset!$F$27/24,\"HH:MM\"))","v":""},{"$f":"IF(O199=\"\",\"\",B199)","v":""},"",{"$f":"IF(Q199=\"\",\"\",GetURL(J199))","v":""}]
["Kapfenberg has played 18 away games without draws",null,null,null,null,null,null,null,null,null,0,"Austria - ADEG Erste Liga","","",{"$f":"IF(N200=\"\",\"\",fmt(M200+myset!$F$27/24,\"HH:MM\"))","v":""},{"$f":"IF(O200=\"\",\"\",B200)","v":""},"",{"$f":"IF(Q200=\"\",\"\",GetURL(J200))","v":""}]
["20:30 567857","Lafnitz ","Vorwarts Steyr ","— — ","1.685 ","4.1 ","4.56 ",1,null,null,0,"Austria - ADEG Erste Liga","20:30","Austria - ADEG Erste Liga",{"$f":"IF(N201=\"\",\"\",fmt(M201+myset!$F$27/24,\"HH:MM\"))","v":"21:30"},{"$f":"IF(O201=\"\",\"\",B201)","v":"Lafnitz "},"Vorwarts Steyr ",{"$f":"IF(Q201=\"\",\"\",GetURL(J201))","v":"https://en.24score.com/football/match/567857-lafnitz-vorwarts-steyr"}]
["X",null,null,null,null,null,null,null,null,null,0,"Austria - ADEG Erste Liga","","",{"$f":"IF(N202=\"\",\"\",fmt(M202+myset!$F$27/24,\"HH:MM\"))","v":""},{"$f":"IF(O202=\"\",\"\",B202)","v":""},"",{"$f":"IF(Q202=\"\",\"\",GetURL(J202))","v":""}]
[null,null,null,null,null,null,null,null,null,null,0,"Austria - ADEG Erste Liga","","",{"$f":"IF(N203=\"\",\"\",fmt(M203+myset!$F$27/24,\"HH:MM\"))","v":""},{"$f":"IF(O203=\"\",\"\",B203)","v":""},"",{"$f":"IF(Q203=\"\",\"\",GetURL(J203))","v":""}]
["Vorwarts Steyr has tied 4 last games",null,null,null,null,null,null,null,null,null,0,"Austria - ADEG Erste Liga","","",{"$f":"IF(N204=\"\",\"\",fmt(M204+myset!$F$27/24,\"HH:MM\"))","v":""},{"$f":"IF(O204=\"\",\"\",B204)","v":""},"",{"$f":"IF(Q204=\"\",\"\",GetURL(J204))","v":""}]
["22:25 567861","Austria Kl ","Wacker Innsbruck ","— — ",null,null,null,3,null,null,0,"Austria - ADEG Erste Liga","22:25","Austria - ADEG Erste Liga",{"$f":"IF(N205=\"\",\"\",fmt(M205+myset!$F$27/24,\"HH:MM\"))","v":"23:25"},{"$f":"IF(O205=\"\",\"\",B205)","v":"Austria Kl "},"Wacker Innsbruck ",{"$f":"IF(Q205=\"\",\"\",GetURL(J205))","v":"https://en.24score.com/football/match/567861-austria-kl-wacker-innsbruck"}]
["X",null,null,null,null,null,null,null,null,null,0,"Austria - ADEG Erste Liga","","",{"$f":"IF(N206=\"\",\"\",fmt(M206+myset!$F$27/24,\"HH:MM\"))","v":""},{"$f":"IF(O206=\"\",\"\",B206)","v":""},"",{"$f":"IF(Q206=\"\",\"\",GetURL(J206))","v":""}]
[null,null,null,null,null,null,null,null,null,null,0,"Austria - ADEG Erste Liga","","",{"$f":"IF(N207=\"\",\"\",fmt(M207+myset!$F$27/24,\"HH:MM\"))","v":""},{"$f":"IF(O207=\"\",\"\",B207)","v":""},"",{"$f":"IF(Q207=\"\",\"\",GetURL(J207))","v":""}]
["Austria Kl has won 7 last home games",null,null,null,null,null,null,null,null,null,0,"Austria - ADEG Erste Liga","","",{"$f":"IF(N208=\"\",\"\",fmt(M208+myset!$F$27/24,\"HH:MM\"))","v":""},{"$f":"IF(O208=\"\",\"\",B208)","v":""},"",{"$f":"IF(Q208=\"\",\"\",GetURL(J208))","v":""}]
[null,null,null,null,null,null,null,null,null,null,0,"Austria - ADEG Erste Liga","","",{"$f":"IF(N209=\"\",\"\",fmt(M209+myset!$F$27/24,\"HH:MM\"))","v":""},{"$f":"IF(O209=\"\",\"\",B209)","v":""},"",{"$f":"IF(Q209=\"\",\"\",GetURL(J209))","v":""}]
["Austria Kl has won 5 periods on end in home games",null,null,null,null,null,null,null,null,null,0,"Austria - ADEG Erste Liga","","",{"$f":"IF(N210=\"\",\"\",fmt(M210+myset!$F$27/24,\"HH:MM\"))","v":""},{"$f":"IF(O210=\"\",\"\",B210)","v":""},"",{"$f":"IF(Q210=\"\",\"\",GetURL(J210))","v":""}]
[null,null,null,null,null,null,null,null,null,null,0,"Austria - ADEG Erste Liga","","",{"$f":"IF(N211=\"\",\"\",fmt(M211+myset!$F$27/24,\"HH:MM\"))","v":""},{"$f":"IF(O211=\"\",\"\",B211)","v":""},"",{"$f":"IF(Q211=\"\",\"\",GetURL(J211))","v":""}]
["Austria Kl has won 2nd period in 7 last home games",null,null,null,null,null,null,null,null,null,0,"Austria - ADEG Erste Liga","","",{"$f":"IF(N212=\"\",\"\",fmt(M212+myset!$F$27/24,\"HH:MM\"))","v":""},{"$f":"IF(O212=\"\",\"\",B212)","v":""},"",{"$f":"IF(Q212=\"\",\"\",GetURL(J212))","v":""}]
[null,null,null,null,null,null,null,null,null,null,0,"Austria - ADEG Erste Liga","","",{"$f":"IF(N213=\"\",\"\",fmt(M213+myset!$F$27/24,\"HH:MM\"))","v":""},{"$f":"IF(O213=\"\",\"\",B213)","v":""},"",{"$f":"IF(Q213=\"\",\"\",GetURL(J213))","v":""}]
["flagBelgium Tweede Klasse",null,null,null,1,"X",2,null,null,null,1,"Belgium Tweede Klasse","","",{"$f":"IF(N214=\"\",\"\",fmt(M214+myset!$F$27/24,\"HH:MM\"))","v":""},{"$f":"IF(O214=\"\",\"\",B214)","v":""},"",{"$f":"IF(Q214=\"\",\"\",GetURL(J214))","v":""}]
["22:00 563669","Brugge U23 ","Lierse ","— — ","2.98 ","3.64 ","2.245 ",1,null,null,0,"Belgium Tweede Klasse","22:00","Belgium Tweede Klasse",{"$f":"IF(N215=\"\",\"\",fmt(M215+myset!$F$27/24,\"HH:MM\"))","v":"23:00"},{"$f":"IF(O215=\"\",\"\",B215)","v":"Brugge U23 "},"Lierse ",{"$f":"IF(Q215=\"\",\"\",GetURL(J215))","v":"https://en.24score.com/football/match/563669-brugge-u23-lierse"}]
["X",null,null,null,null,null,null,null,null,null,0,"Belgium Tweede Klasse","","",{"$f":"IF(N216=\"\",\"\",fmt(M216+myset!$F$27/24,\"HH:MM\"))","v":""},{"$f":"IF(O216=\"\",\"\",B216)","v":""},"",{"$f":"IF(Q216=\"\",\"\",GetURL(J216))","v":""}]
[null,null,null,null,null,null,null,null,null,null,0,"Belgium Tweede Klasse","","",{"$f":"IF(N217=\"\",\"\",fmt(M217+myset!$F$27/24,\"HH:MM\"))","v":""},{"$f":"IF(O217=\"\",\"\",B217)","v":""},"",{"$f":"IF(Q217=\"\",\"\",GetURL(J217))","v":""}]
["Brugge U23 has not won 16 halves on end",null,null,null,null,null,null,null,null,null,0,"Belgium Tweede Klasse","","",{"$f":"IF(N218=\"\",\"\",fmt(M218+myset!$F$27/24,\"HH:MM\"))","v":""},{"$f":"IF(O218=\"\",\"\",B218)","v":""},"",{"$f":"IF(Q218=\"\",\"\",GetURL(J218))","v":""}]
[null,null,null,null,null,null,null,null,null,null,0,"Belgium Tweede Klasse","","",{"$f":"IF(N219=\"\",\"\",fmt(M219+myset!$F$27/24,\"HH:MM\"))","v":""},{"$f":"IF(O219=\"\",\"\",B219)","v":""},"",{"$f":"IF(Q219=\"\",\"\",GetURL(J219))","v":""}]
["flagBrazil - Serie B",null,null,null,1,"X",2,null,null,null,1,"Brazil - Serie B","","",{"$f":"IF(N220=\"\",\"\",fmt(M220+myset!$F$27/24,\"HH:MM\"))","v":""},{"$f":"IF(O220=\"\",\"\",B220)","v":""},"",{"$f":"IF(Q220=\"\",\"\",GetURL(J220))","v":""}]
["22:30 558222","Vitoria ","Ponte Preta ","— — ","2.26 ","3.26 ","3.26 ",0,null,null,0,"Brazil - Serie B","22:30","Brazil - Serie B",{"$f":"IF(N221=\"\",\"\",fmt(M221+myset!$F$27/24,\"HH:MM\"))","v":"23:30"},{"$f":"IF(O221=\"\",\"\",B221)","v":"Vitoria "},"Ponte Preta ",{"$f":"IF(Q221=\"\",\"\",GetURL(J221))","v":"https://en.24score.com/football/match/558222-vitoria-ponte-preta"}]
["22:30 558227","Avai ","Confianca ","— — ","2.32 ","3.24 ","3.165 ",1,null,null,0,"Brazil - Serie B","22:30","Brazil - Serie B",{"$f":"IF(N222=\"\",\"\",fmt(M222+myset!$F$27/24,\"HH:MM\"))","v":"23:30"},{"$f":"IF(O222=\"\",\"\",B222)","v":"Avai "},"Confianca ",{"$f":"IF(Q222=\"\",\"\",GetURL(J222))","v":"https://en.24score.com/football/match/558227-avai-confianca"}]
["X",null,null,null,null,null,null,null,null,null,0,"Brazil - Serie B","","",{"$f":"IF(N223=\"\",\"\",fmt(M223+myset!$F$27/24,\"HH:MM\"))","v":""},{"$f":"IF(O223=\"\",\"\",B223)","v":""},"",{"$f":"IF(Q223=\"\",\"\",GetURL(J223))","v":""}]
[null,null,null,null,null,null,null,null,null,null,0,"Brazil - Serie B","","",{"$f":"IF(N224=\"\",\"\",fmt(M224+myset!$F$27/24,\"HH:MM\"))","v":""},{"$f":"IF(O224=\"\",\"\",B224)","v":""},"",{"$f":"IF(Q224=\"\",\"\",GetURL(J224))","v":""}]
["Confianca has tied 2nd period in 5 last away games",null,null,null,null,null,null,null,null,null,0,"Brazil - Serie B","","",{"$f":"IF(N225=\"\",\"\",fmt(M225+myset!$F$27/24,\"HH:MM\"))","v":""},{"$f":"IF(O225=\"\",\"\",B225)","v":""},"",{"$f":"IF(Q225=\"\",\"\",GetURL(J225))","v":""}]
[null,null,null,null,null,null,null,null,null,null,0,"Brazil - Serie B","","",{"$f":"IF(N226=\"\",\"\",fmt(M226+myset!$F$27/24,\"HH:MM\"))","v":""},{"$f":"IF(O226=\"\",\"\",B226)","v":""},"",{"$f":"IF(Q226=\"\",\"\",GetURL(J226))","v":""}]
["flagChile Primera Division",null,null,null,1,"X",2,null,null,null,1,"Chile Primera Division","","",{"$f":"IF(N227=\"\",\"\",fmt(M227+myset!$F$27/24,\"HH:MM\"))","v":""},{"$f":"IF(O227=\"\",\"\",B227)","v":""},"",{"$f":"IF(Q227=\"\",\"\",GetURL(J227))","v":""}]
["00:30 584295","Colo-Colo ","Audax ","— — ","1.93 ","3.78 ","3.78 ",1,null,null,0,"Chile Primera Division","00:30","Chile Primera Division",{"$f":"IF(N228=\"\",\"\",fmt(M228+myset!$F$27/24,\"HH:MM\"))","v":"01:30"},{"$f":"IF(O228=\"\",\"\",B228)","v":"Colo-Colo "},"Audax ",{"$f":"IF(Q228=\"\",\"\",GetURL(J228))","v":"https://en.24score.com/football/match/584295-colo-colo-audax"}]
["X",null,null,null,null,null,null,null,null,null,0,"Chile Primera Division","","",{"$f":"IF(N229=\"\",\"\",fmt(M229+myset!$F$27/24,\"HH:MM\"))","v":""},{"$f":"IF(O229=\"\",\"\",B229)","v":""},"",{"$f":"IF(Q229=\"\",\"\",GetURL(J229))","v":""}]
[null,null,null,null,null,null,null,null,null,null,0,"Chile Primera Division","","",{"$f":"IF(N230=\"\",\"\",fmt(M230+myset!$F$27/24,\"HH:MM\"))","v":""},{"$f":"IF(O230=\"\",\"\",B230)","v":""},"",{"$f":"IF(Q230=\"\",\"\",GetURL(J230))","v":""}]
["Audax have had over 1.5 1st half goals in 4 last away matches",null,null,null,null,null,null,null,null,null,0,"Chile Primera Division","","",{"$f":"IF(N231=\"\",\"\",fmt(M231+myset!$F$27/24,\"HH:MM\"))","v":""},{"$f":"IF(O231=\"\",\"\",B231)","v":""},"",{"$f":"IF(Q231=\"\",\"\",GetURL(J231))","v":""}]
["03:30 584296","S. Wanderers ","Union Espanola ","— — ","3.144 ","3.84 ","2.12 ",0,null,null,0,"Chile Primera Division","03:30","Chile Primera Division",{"$f":"IF(N232=\"\",\"\",fmt(M232+myset!$F$27/24,\"HH:MM\"))","v":"04:30"},{"$f":"IF(O232=\"\",\"\",B232)","v":"S. Wanderers "},"Union Espanola ",{"$f":"IF(Q232=\"\",\"\",GetURL(J232))","v":"https://en.24score.com/football/match/584296-s-wanderers-union-espanola"}]
[null,null,null,null,null,null,null,null,null,null,0,"Chile Primera Division","","",{"$f":"IF(N233=\"\",\"\",fmt(M233+myset!$F$27/24,\"HH:MM\"))","v":""},{"$f":"IF(O233=\"\",\"\",B233)","v":""},"",{"$f":"IF(Q233=\"\",\"\",GetURL(J233))","v":""}]
["flagCosta Rica Primera Division",null,null,null,1,"X",2,null,null,null,1,"Costa Rica Primera Division","","",{"$f":"IF(N234=\"\",\"\",fmt(M234+myset!$F$27/24,\"HH:MM\"))","v":""},{"$f":"IF(O234=\"\",\"\",B234)","v":""},"",{"$f":"IF(Q234=\"\",\"\",GetURL(J234))","v":""}]
["00:00 583754","Limon ","Herediano ","— — ","3.01 ","3.32 ","2.3 ",0,null,null,0,"Costa Rica Primera Division","00:00","Costa Rica Primera Division",{"$f":"IF(N235=\"\",\"\",fmt(M235+myset!$F$27/24,\"HH:MM\"))","v":"01:00"},{"$f":"IF(O235=\"\",\"\",B235)","v":"Limon "},"Herediano ",{"$f":"IF(Q235=\"\",\"\",GetURL(J235))","v":"https://en.24score.com/football/match/583754-limon-herediano"}]
[null,null,null,null,null,null,null,null,null,null,0,"Costa Rica Primera Division","","",{"$f":"IF(N236=\"\",\"\",fmt(M236+myset!$F$27/24,\"HH:MM\"))","v":""},{"$f":"IF(O236=\"\",\"\",B236)","v":""},"",{"$f":"IF(Q236=\"\",\"\",GetURL(J236))","v":""}]
["flagCroatia 1. Division",null,null,null,1,"X",2,null,null,null,1,"Croatia 1. Division","","",{"$f":"IF(N237=\"\",\"\",fmt(M237+myset!$F$27/24,\"HH:MM\"))","v":""},{"$f":"IF(O237=\"\",\"\",B237)","v":""},"",{"$f":"IF(Q237=\"\",\"\",GetURL(J237))","v":""}]
["19:00 564397","Lok Zagreb ","Varazdin ","— — ","1.784 ","3.68 ","4.26 ",4,null,null,0,"Croatia 1. Division","19:00","Croatia 1. Division",{"$f":"IF(N238=\"\",\"\",fmt(M238+myset!$F$27/24,\"HH:MM\"))","v":"20:00"},{"$f":"IF(O238=\"\",\"\",B238)","v":"Lok Zagreb "},"Varazdin ",{"$f":"IF(Q238=\"\",\"\",GetURL(J238))","v":"https://en.24score.com/football/match/564397-lok-zagreb-varazdin"}]
["X",null,null,null,null,null,null,null,null,null,0,"Croatia 1. Division","","",{"$f":"IF(N239=\"\",\"\",fmt(M239+myset!$F$27/24,\"HH:MM\"))","v":""},{"$f":"IF(O239=\"\",\"\",B239)","v":""},"",{"$f":"IF(Q239=\"\",\"\",GetURL(J239))","v":""}]
[null,null,null,null,null,null,null,null,null,null,0,"Croatia 1. Division","","",{"$f":"IF(N240=\"\",\"\",fmt(M240+myset!$F$27/24,\"HH:MM\"))","v":""},{"$f":"IF(O240=\"\",\"\",B240)","v":""},"",{"$f":"IF(Q240=\"\",\"\",GetURL(J240))","v":""}]
["Lok Zagreb has tied 5 periods on end in home games",null,null,null,null,null,null,null,null,null,0,"Croatia 1. Division","","",{"$f":"IF(N241=\"\",\"\",fmt(M241+myset!$F$27/24,\"HH:MM\"))","v":""},{"$f":"IF(O241=\"\",\"\",B241)","v":""},"",{"$f":"IF(Q241=\"\",\"\",GetURL(J241))","v":""}]
[null,null,null,null,null,null,null,null,null,null,0,"Croatia 1. Division","","",{"$f":"IF(N242=\"\",\"\",fmt(M242+myset!$F$27/24,\"HH:MM\"))","v":""},{"$f":"IF(O242=\"\",\"\",B242)","v":""},"",{"$f":"IF(Q242=\"\",\"\",GetURL(J242))","v":""}]
["Varazdin has lost 6 last games",null,null,null,null,null,null,null,null,null,0,"Croatia 1. Division","","",{"$f":"IF(N243=\"\",\"\",fmt(M243+myset!$F$27/24,\"HH:MM\"))","v":""},{"$f":"IF(O243=\"\",\"\",B243)","v":""},"",{"$f":"IF(Q243=\"\",\"\",GetURL(J243))","v":""}]
[null,null,null,null,null,null,null,null,null,null,0,"Croatia 1. Division","","",{"$f":"IF(N244=\"\",\"\",fmt(M244+myset!$F$27/24,\"HH:MM\"))","v":""},{"$f":"IF(O244=\"\",\"\",B244)","v":""},"",{"$f":"IF(Q244=\"\",\"\",GetURL(J244))","v":""}]
["Varazdin has not won 13 halves on end",null,null,null,null,null,null,null,null,null,0,"Croatia 1. Division","","",{"$f":"IF(N245=\"\",\"\",fmt(M245+myset!$F$27/24,\"HH:MM\"))","v":""},{"$f":"IF(O245=\"\",\"\",B245)","v":""},"",{"$f":"IF(Q245=\"\",\"\",GetURL(J245))","v":""}]
[null,null,null,null,null,null,null,null,null,null,0,"Croatia 1. Division","","",{"$f":"IF(N246=\"\",\"\",fmt(M246+myset!$F$27/24,\"HH:MM\"))","v":""},{"$f":"IF(O246=\"\",\"\",B246)","v":""},"",{"$f":"IF(Q246=\"\",\"\",GetURL(J246))","v":""}]
["Varazdin have had under 1.5 2nd half goals in 7 last away matches",null,null,null,null,null,null,null,null,null,0,"Croatia 1. Division","","",{"$f":"IF(N247=\"\",\"\",fmt(M247+myset!$F$27/24,\"HH:MM\"))","v":""},{"$f":"IF(O247=\"\",\"\",B247)","v":""},"",{"$f":"IF(Q247=\"\",\"\",GetURL(J247))","v":""}]
["21:05 564398","Sibenik ","Gorica ","— — ","3.14 ","3.34 ","2.22 ",5,null,null,0,"Croatia 1. Division","21:05","Croatia 1. Division",{"$f":"IF(N248=\"\",\"\",fmt(M248+myset!$F$27/24,\"HH:MM\"))","v":"22:05"},{"$f":"IF(O248=\"\",\"\",B248)","v":"Sibenik "},"Gorica ",{"$f":"IF(Q248=\"\",\"\",GetURL(J248))","v":"https://en.24score.com/football/match/564398-sibenik-gorica"}]
["X",null,null,null,null,null,null,null,null,null,0,"Croatia 1. Division","","",{"$f":"IF(N249=\"\",\"\",fmt(M249+myset!$F$27/24,\"HH:MM\"))","v":""},{"$f":"IF(O249=\"\",\"\",B249)","v":""},"",{"$f":"IF(Q249=\"\",\"\",GetURL(J249))","v":""}]
[null,null,null,null,null,null,null,null,null,null,0,"Croatia 1. Division","","",{"$f":"IF(N250=\"\",\"\",fmt(M250+myset!$F$27/24,\"HH:MM\"))","v":""},{"$f":"IF(O250=\"\",\"\",B250)","v":""},"",{"$f":"IF(Q250=\"\",\"\",GetURL(J250))","v":""}]
["Gorica has not tied 1st period in 9 last away games",null,null,null,null,null,null,null,null,null,0,"Croatia 1. Division","","",{"$f":"IF(N251=\"\",\"\",fmt(M251+myset!$F$27/24,\"HH:MM\"))","v":""},{"$f":"IF(O251=\"\",\"\",B251)","v":""},"",{"$f":"IF(Q251=\"\",\"\",GetURL(J251))","v":""}]
[null,null,null,null,null,null,null,null,null,null,0,"Croatia 1. Division","","",{"$f":"IF(N252=\"\",\"\",fmt(M252+myset!$F$27/24,\"HH:MM\"))","v":""},{"$f":"IF(O252=\"\",\"\",B252)","v":""},"",{"$f":"IF(Q252=\"\",\"\",GetURL(J252))","v":""}]
["Gorica has not lost 2nd period in 12 last away games",null,null,null,null,null,null,null,null,null,0,"Croatia 1. Division","","",{"$f":"IF(N253=\"\",\"\",fmt(M253+myset!$F$27/24,\"HH:MM\"))","v":""},{"$f":"IF(O253=\"\",\"\",B253)","v":""},"",{"$f":"IF(Q253=\"\",\"\",GetURL(J253))","v":""}]
[null,null,null,null,null,null,null,null,null,null,0,"Croatia 1. Division","","",{"$f":"IF(N254=\"\",\"\",fmt(M254+myset!$F$27/24,\"HH:MM\"))","v":""},{"$f":"IF(O254=\"\",\"\",B254)","v":""},"",{"$f":"IF(Q254=\"\",\"\",GetURL(J254))","v":""}]
["Gorica have had over 1.5 2nd half goals in 8 last matches",null,null,null,null,null,null,null,null,null,0,"Croatia 1. Division","","",{"$f":"IF(N255=\"\",\"\",fmt(M255+myset!$F$27/24,\"HH:MM\"))","v":""},{"$f":"IF(O255=\"\",\"\",B255)","v":""},"",{"$f":"IF(Q255=\"\",\"\",GetURL(J255))","v":""}]
[null,null,null,null,null,null,null,null,null,null,0,"Croatia 1. Division","","",{"$f":"IF(N256=\"\",\"\",fmt(M256+myset!$F$27/24,\"HH:MM\"))","v":""},{"$f":"IF(O256=\"\",\"\",B256)","v":""},"",{"$f":"IF(Q256=\"\",\"\",GetURL(J256))","v":""}]
["Gorica have had over 1.5 2nd half goals in 5 last away matches",null,null,null,null,null,null,null,null,null,0,"Croatia 1. Division","","",{"$f":"IF(N257=\"\",\"\",fmt(M257+myset!$F$27/24,\"HH:MM\"))","v":""},{"$f":"IF(O257=\"\",\"\",B257)","v":""},"",{"$f":"IF(Q257=\"\",\"\",GetURL(J257))","v":""}]
[null,null,null,null,null,null,null,null,null,null,0,"Croatia 1. Division","","",{"$f":"IF(N258=\"\",\"\",fmt(M258+myset!$F$27/24,\"HH:MM\"))","v":""},{"$f":"IF(O258=\"\",\"\",B258)","v":""},"",{"$f":"IF(Q258=\"\",\"\",GetURL(J258))","v":""}]
["Gorica have had over 2.5 goals in their last 8 matches",null,null,null,null,null,null,null,null,null,{"$f":"IFERROR(SEARCH(\"flag\",A259),0)","v":0},{"$f":"IF(K259=1,MID(A259,5,100),L258)","v":"Croatia 1. Division"},{"$f":"IF(B259=\"\",\"\",IFERROR(fmt(LEFT(A259,SEARCH(\" \",A259)-1),\"HH:MM\"),fmt(A259,\"HH:MM\")))","v":""},{"$f":"IF(M259=\"\",\"\",L259)","v":""},{"$f":"IF(N259=\"\",\"\",fmt(M259+myset!$F$27/24,\"HH:MM\"))","v":""},{"$f":"IF(O259=\"\",\"\",B259)","v":""},"",{"$f":"IF(Q259=\"\",\"\",GetURL(J259))","v":""}]
[null,null,null,null,null,null,null,null,null,null,0,"Croatia 1. Division","","",{"$f":"IF(N260=\"\",\"\",fmt(M260+myset!$F$27/24,\"HH:MM\"))","v":""},{"$f":"IF(O260=\"\",\"\",B260)","v":""},"",{"$f":"IF(Q260=\"\",\"\",GetURL(J260))","v":""}]
["flagCzech Republic 1. Division",null,null,null,1,"X",2,null,null,null,1,"Czech Republic 1. Division","","",{"$f":"IF(N261=\"\",\"\",fmt(M261+myset!$F$27/24,\"HH:MM\"))","v":""},{"$f":"IF(O261=\"\",\"\",B261)","v":""},"",{"$f":"IF(Q261=\"\",\"\",GetURL(J261))","v":""}]
["15:30 561094","Jihlava ","Blansko ","— — ","1.85 ","3.58 ","3.86 ",0,null,null,0,"Czech Republic 1. Division","15:30","Czech Republic 1. Division",{"$f":"IF(N262=\"\",\"\",fmt(M262+myset!$F$27/24,\"HH:MM\"))","v":"16:30"},{"$f":"IF(O262=\"\",\"\",B262)","v":"Jihlava "},"Blansko ",{"$f":"IF(Q262=\"\",\"\",GetURL(J262))","v":"https://en.24score.com/football/match/561094-jihlava-blansko"}]
[null,null,null,null,null,null,null,null,null,null,0,"Czech Republic 1. Division","","",{"$f":"IF(N263=\"\",\"\",fmt(M263+myset!$F$27/24,\"HH:MM\"))","v":""},{"$f":"IF(O263=\"\",\"\",B263)","v":""},"",{"$f":"IF(Q263=\"\",\"\",GetURL(J263))","v":""}]
["flagDenmark 1. Division",null,null,null,1,"X",2,null,null,null,1,"Denmark 1. Division","","",{"$f":"IF(N264=\"\",\"\",fmt(M264+myset!$F$27/24,\"HH:MM\"))","v":""},{"$f":"IF(O264=\"\",\"\",B264)","v":""},"",{"$f":"IF(Q264=\"\",\"\",GetURL(J264))","v":""}]
["20:00 573102","Viborg ","Hobro ","— — ","1.66 ","4.24 ","4.6 ",6,null,null,0,"Denmark 1. Division","20:00","Denmark 1. Division",{"$f":"IF(N265=\"\",\"\",fmt(M265+myset!$F$27/24,\"HH:MM\"))","v":"21:00"},{"$f":"IF(O265=\"\",\"\",B265)","v":"Viborg "},"Hobro ",{"$f":"IF(Q265=\"\",\"\",GetURL(J265))","v":"https://en.24score.com/football/match/573102-viborg-hobro"}]
["X",null,null,null,null,null,null,null,null,null,0,"Denmark 1. Division","","",{"$f":"IF(N266=\"\",\"\",fmt(M266+myset!$F$27/24,\"HH:MM\"))","v":""},{"$f":"IF(O266=\"\",\"\",B266)","v":""},"",{"$f":"IF(Q266=\"\",\"\",GetURL(J266))","v":""}]
[null,null,null,null,null,null,null,null,null,null,0,"Denmark 1. Division","","",{"$f":"IF(N267=\"\",\"\",fmt(M267+myset!$F$27/24,\"HH:MM\"))","v":""},{"$f":"IF(O267=\"\",\"\",B267)","v":""},"",{"$f":"IF(Q267=\"\",\"\",GetURL(J267))","v":""}]
["Viborg has won 1st half in 5 last home games",null,null,null,null,null,null,null,null,null,0,"Denmark 1. Division","","",{"$f":"IF(N268=\"\",\"\",fmt(M268+myset!$F$27/24,\"HH:MM\"))","v":""},{"$f":"IF(O268=\"\",\"\",B268)","v":""},"",{"$f":"IF(Q268=\"\",\"\",GetURL(J268))","v":""}]
[null,null,null,null,null,null,null,null,null,null,0,"Denmark 1. Division","","",{"$f":"IF(N269=\"\",\"\",fmt(M269+myset!$F$27/24,\"HH:MM\"))","v":""},{"$f":"IF(O269=\"\",\"\",B269)","v":""},"",{"$f":"IF(Q269=\"\",\"\",GetURL(J269))","v":""}]
["Viborg has not tied 8 periods on end",null,null,null,null,null,null,null,null,null,0,"Denmark 1. Division","","",{"$f":"IF(N270=\"\",\"\",fmt(M270+myset!$F$27/24,\"HH:MM\"))","v":""},{"$f":"IF(O270=\"\",\"\",B270)","v":""},"",{"$f":"IF(Q270=\"\",\"\",GetURL(J270))","v":""}]
[null,null,null,null,null,null,null,null,null,null,0,"Denmark 1. Division","","",{"$f":"IF(N271=\"\",\"\",fmt(M271+myset!$F$27/24,\"HH:MM\"))","v":""},{"$f":"IF(O271=\"\",\"\",B271)","v":""},"",{"$f":"IF(Q271=\"\",\"\",GetURL(J271))","v":""}]
["Viborg has not tied 1st period in 10 last games",null,null,null,null,null,null,null,null,null,0,"Denmark 1. Division","","",{"$f":"IF(N272=\"\",\"\",fmt(M272+myset!$F$27/24,\"HH:MM\"))","v":""},{"$f":"IF(O272=\"\",\"\",B272)","v":""},"",{"$f":"IF(Q272=\"\",\"\",GetURL(J272))","v":""}]
[null,null,null,null,null,null,null,null,null,null,0,"Denmark 1. Division","","",{"$f":"IF(N273=\"\",\"\",fmt(M273+myset!$F$27/24,\"HH:MM\"))","v":""},{"$f":"IF(O273=\"\",\"\",B273)","v":""},"",{"$f":"IF(Q273=\"\",\"\",GetURL(J273))","v":""}]
["Viborg has not tied 1st period in 9 last home games",null,null,null,null,null,null,null,null,null,0,"Denmark 1. Division","","",{"$f":"IF(N274=\"\",\"\",fmt(M274+myset!$F$27/24,\"HH:MM\"))","v":""},{"$f":"IF(O274=\"\",\"\",B274)","v":""},"",{"$f":"IF(Q274=\"\",\"\",GetURL(J274))","v":""}]
[null,null,null,null,null,null,null,null,null,null,0,"Denmark 1. Division","","",{"$f":"IF(N275=\"\",\"\",fmt(M275+myset!$F$27/24,\"HH:MM\"))","v":""},{"$f":"IF(O275=\"\",\"\",B275)","v":""},"",{"$f":"IF(Q275=\"\",\"\",GetURL(J275))","v":""}]
["Viborg has not lost 11 last games",null,null,null,null,null,null,null,null,null,0,"Denmark 1. Division","","",{"$f":"IF(N276=\"\",\"\",fmt(M276+myset!$F$27/24,\"HH:MM\"))","v":""},{"$f":"IF(O276=\"\",\"\",B276)","v":""},"",{"$f":"IF(Q276=\"\",\"\",GetURL(J276))","v":""}]
[null,null,null,null,null,null,null,null,null,null,0,"Denmark 1. Division","","",{"$f":"IF(N277=\"\",\"\",fmt(M277+myset!$F$27/24,\"HH:MM\"))","v":""},{"$f":"IF(O277=\"\",\"\",B277)","v":""},"",{"$f":"IF(Q277=\"\",\"\",GetURL(J277))","v":""}]
["Hobro has not tied 1st period in 10 last games",null,null,null,null,null,null,null,null,null,0,"Denmark 1. Division","","",{"$f":"IF(N278=\"\",\"\",fmt(M278+myset!$F$27/24,\"HH:MM\"))","v":""},{"$f":"IF(O278=\"\",\"\",B278)","v":""},"",{"$f":"IF(Q278=\"\",\"\",GetURL(J278))","v":""}]
["21:00 573105","Kolding IF ","Fredericia ","— — ","3.42 ","3.88 ","1.98 ",3,null,null,0,"Denmark 1. Division","21:00","Denmark 1. Division",{"$f":"IF(N279=\"\",\"\",fmt(M279+myset!$F$27/24,\"HH:MM\"))","v":"22:00"},{"$f":"IF(O279=\"\",\"\",B279)","v":"Kolding IF "},"Fredericia ",{"$f":"IF(Q279=\"\",\"\",GetURL(J279))","v":"https://en.24score.com/football/match/573105-kolding-if-fredericia"}]
["X",null,null,null,null,null,null,null,null,null,0,"Denmark 1. Division","","",{"$f":"IF(N280=\"\",\"\",fmt(M280+myset!$F$27/24,\"HH:MM\"))","v":""},{"$f":"IF(O280=\"\",\"\",B280)","v":""},"",{"$f":"IF(Q280=\"\",\"\",GetURL(J280))","v":""}]
[null,null,null,null,null,null,null,null,null,null,0,"Denmark 1. Division","","",{"$f":"IF(N281=\"\",\"\",fmt(M281+myset!$F$27/24,\"HH:MM\"))","v":""},{"$f":"IF(O281=\"\",\"\",B281)","v":""},"",{"$f":"IF(Q281=\"\",\"\",GetURL(J281))","v":""}]
["Kolding IF has not won 2nd half in 15 last games",null,null,null,null,null,null,null,null,null,0,"Denmark 1. Division","","",{"$f":"IF(N282=\"\",\"\",fmt(M282+myset!$F$27/24,\"HH:MM\"))","v":""},{"$f":"IF(O282=\"\",\"\",B282)","v":""},"",{"$f":"IF(Q282=\"\",\"\",GetURL(J282))","v":""}]
[null,null,null,null,null,null,null,null,null,null,0,"Denmark 1. Division","","",{"$f":"IF(N283=\"\",\"\",fmt(M283+myset!$F$27/24,\"HH:MM\"))","v":""},{"$f":"IF(O283=\"\",\"\",B283)","v":""},"",{"$f":"IF(Q283=\"\",\"\",GetURL(J283))","v":""}]
["Fredericia has not tied 1st period in 14 last games",null,null,null,null,null,null,null,null,null,0,"Denmark 1. Division","","",{"$f":"IF(N284=\"\",\"\",fmt(M284+myset!$F$27/24,\"HH:MM\"))","v":""},{"$f":"IF(O284=\"\",\"\",B284)","v":""},"",{"$f":"IF(Q284=\"\",\"\",GetURL(J284))","v":""}]
[null,null,null,null,null,null,null,null,null,null,0,"Denmark 1. Division","","",{"$f":"IF(N285=\"\",\"\",fmt(M285+myset!$F$27/24,\"HH:MM\"))","v":""},{"$f":"IF(O285=\"\",\"\",B285)","v":""},"",{"$f":"IF(Q285=\"\",\"\",GetURL(J285))","v":""}]
["Fredericia has not tied 1st period in 8 last away games",null,null,null,null,null,null,null,null,null,0,"Denmark 1. Division","","",{"$f":"IF(N286=\"\",\"\",fmt(M286+myset!$F$27/24,\"HH:MM\"))","v":""},{"$f":"IF(O286=\"\",\"\",B286)","v":""},"",{"$f":"IF(Q286=\"\",\"\",GetURL(J286))","v":""}]
[null,null,null,null,null,null,null,null,null,null,0,"Denmark 1. Division","","",{"$f":"IF(N287=\"\",\"\",fmt(M287+myset!$F$27/24,\"HH:MM\"))","v":""},{"$f":"IF(O287=\"\",\"\",B287)","v":""},"",{"$f":"IF(Q287=\"\",\"\",GetURL(J287))","v":""}]
["flagDenmark 2nd Division",null,null,null,1,"X",2,null,null,null,1,"Denmark 2nd Division","","",{"$f":"IF(N288=\"\",\"\",fmt(M288+myset!$F$27/24,\"HH:MM\"))","v":""},{"$f":"IF(O288=\"\",\"\",B288)","v":""},"",{"$f":"IF(Q288=\"\",\"\",GetURL(J288))","v":""}]
["21:00 565152","Hellerup ","Nykoebing ","— — ","4.26 ","3.92 ","1.68 ",4,null,null,0,"Denmark 2nd Division","21:00","Denmark 2nd Division",{"$f":"IF(N289=\"\",\"\",fmt(M289+myset!$F$27/24,\"HH:MM\"))","v":"22:00"},{"$f":"IF(O289=\"\",\"\",B289)","v":"Hellerup "},"Nykoebing ",{"$f":"IF(Q289=\"\",\"\",GetURL(J289))","v":"https://en.24score.com/football/match/565152-hellerup-nykoebing"}]
["X",null,null,null,null,null,null,null,null,null,0,"Denmark 2nd Division","","",{"$f":"IF(N290=\"\",\"\",fmt(M290+myset!$F$27/24,\"HH:MM\"))","v":""},{"$f":"IF(O290=\"\",\"\",B290)","v":""},"",{"$f":"IF(Q290=\"\",\"\",GetURL(J290))","v":""}]
[null,null,null,null,null,null,null,null,null,null,0,"Denmark 2nd Division","","",{"$f":"IF(N291=\"\",\"\",fmt(M291+myset!$F$27/24,\"HH:MM\"))","v":""},{"$f":"IF(O291=\"\",\"\",B291)","v":""},"",{"$f":"IF(Q291=\"\",\"\",GetURL(J291))","v":""}]
["Hellerup has won 6 last home games",null,null,null,null,null,null,null,null,null,0,"Denmark 2nd Division","","",{"$f":"IF(N292=\"\",\"\",fmt(M292+myset!$F$27/24,\"HH:MM\"))","v":""},{"$f":"IF(O292=\"\",\"\",B292)","v":""},"",{"$f":"IF(Q292=\"\",\"\",GetURL(J292))","v":""}]
[null,null,null,null,null,null,null,null,null,null,0,"Denmark 2nd Division","","",{"$f":"IF(N293=\"\",\"\",fmt(M293+myset!$F$27/24,\"HH:MM\"))","v":""},{"$f":"IF(O293=\"\",\"\",B293)","v":""},"",{"$f":"IF(Q293=\"\",\"\",GetURL(J293))","v":""}]
["Nykoebing has won 1st period in 4 last away games",null,null,null,null,null,null,null,null,null,0,"Denmark 2nd Division","","",{"$f":"IF(N294=\"\",\"\",fmt(M294+myset!$F$27/24,\"HH:MM\"))","v":""},{"$f":"IF(O294=\"\",\"\",B294)","v":""},"",{"$f":"IF(Q294=\"\",\"\",GetURL(J294))","v":""}]
[null,null,null,null,null,null,null,null,null,null,0,"Denmark 2nd Division","","",{"$f":"IF(N295=\"\",\"\",fmt(M295+myset!$F$27/24,\"HH:MM\"))","v":""},{"$f":"IF(O295=\"\",\"\",B295)","v":""},"",{"$f":"IF(Q295=\"\",\"\",GetURL(J295))","v":""}]
["Nykoebing has not tied 11 periods on end in away games",null,null,null,null,null,null,null,null,null,0,"Denmark 2nd Division","","",{"$f":"IF(N296=\"\",\"\",fmt(M296+myset!$F$27/24,\"HH:MM\"))","v":""},{"$f":"IF(O296=\"\",\"\",B296)","v":""},"",{"$f":"IF(Q296=\"\",\"\",GetURL(J296))","v":""}]
[null,null,null,null,null,null,null,null,null,null,0,"Denmark 2nd Division","","",{"$f":"IF(N297=\"\",\"\",fmt(M297+myset!$F$27/24,\"HH:MM\"))","v":""},{"$f":"IF(O297=\"\",\"\",B297)","v":""},"",{"$f":"IF(Q297=\"\",\"\",GetURL(J297))","v":""}]
["Nykoebing has not lost 12 last games",null,null,null,null,null,null,null,null,null,0,"Denmark 2nd Division","","",{"$f":"IF(N298=\"\",\"\",fmt(M298+myset!$F$27/24,\"HH:MM\"))","v":""},{"$f":"IF(O298=\"\",\"\",B298)","v":""},"",{"$f":"IF(Q298=\"\",\"\",GetURL(J298))","v":""}]
["21:00 565153","Roskilde ","Gladsaxe ","— — ","3.42 ","3.54 ","1.96 ",0,null,null,0,"Denmark 2nd Division","21:00","Denmark 2nd Division",{"$f":"IF(N299=\"\",\"\",fmt(M299+myset!$F$27/24,\"HH:MM\"))","v":"22:00"},{"$f":"IF(O299=\"\",\"\",B299)","v":"Roskilde "},"Gladsaxe ",{"$f":"IF(Q299=\"\",\"\",GetURL(J299))","v":"https://en.24score.com/football/match/565153-roskilde-gladsaxe"}]
[null,null,null,null,null,null,null,null,null,null,0,"Denmark 2nd Division","","",{"$f":"IF(N300=\"\",\"\",fmt(M300+myset!$F$27/24,\"HH:MM\"))","v":""},{"$f":"IF(O300=\"\",\"\",B300)","v":""},"",{"$f":"IF(Q300=\"\",\"\",GetURL(J300))","v":""}]
["flagEcuador Primera Division",null,null,null,1,"X",2,null,null,null,1,"Ecuador Primera Division","","",{"$f":"IF(N301=\"\",\"\",fmt(M301+myset!$F$27/24,\"HH:MM\"))","v":""},{"$f":"IF(O301=\"\",\"\",B301)","v":""},"",{"$f":"IF(Q301=\"\",\"\",GetURL(J301))","v":""}]
["00:45 584399","Portoviejo ","Orense ","— — ","2.288 ","3.54 ","2.85 ",0,null,null,0,"Ecuador Primera Division","00:45","Ecuador Primera Division",{"$f":"IF(N302=\"\",\"\",fmt(M302+myset!$F$27/24,\"HH:MM\"))","v":"01:45"},{"$f":"IF(O302=\"\",\"\",B302)","v":"Portoviejo "},"Orense ",{"$f":"IF(Q302=\"\",\"\",GetURL(J302))","v":"https://en.24score.com/football/match/584399-portoviejo-orense"}]
["03:00 584400","Barcelona Guayaquil ","Cuenca ","— — ",null,null,null,0,null,null,0,"Ecuador Primera Division","03:00","Ecuador Primera Division",{"$f":"IF(N303=\"\",\"\",fmt(M303+myset!$F$27/24,\"HH:MM\"))","v":"04:00"},{"$f":"IF(O303=\"\",\"\",B303)","v":"Barcelona Guayaquil "},"Cuenca ",{"$f":"IF(Q303=\"\",\"\",GetURL(J303))","v":"https://en.24score.com/football/match/584400-barcelona-guayaquil-cuenca"}]
[null,null,null,null,null,null,null,null,null,null,0,"Ecuador Primera Division","","",{"$f":"IF(N304=\"\",\"\",fmt(M304+myset!$F$27/24,\"HH:MM\"))","v":""},{"$f":"IF(O304=\"\",\"\",B304)","v":""},"",{"$f":"IF(Q304=\"\",\"\",GetURL(J304))","v":""}]
["flagFrance Division 1 Women",null,null,null,1,"X",2,null,null,null,1,"France Division 1 Women","","",{"$f":"IF(N305=\"\",\"\",fmt(M305+myset!$F$27/24,\"HH:MM\"))","v":""},{"$f":"IF(O305=\"\",\"\",B305)","v":""},"",{"$f":"IF(Q305=\"\",\"\",GetURL(J305))","v":""}]
["23:00 572088","PSG W ","Lyon W ","— — ",null,null,null,25,null,null,0,"France Division 1 Women","23:00","France Division 1 Women",{"$f":"IF(N306=\"\",\"\",fmt(M306+myset!$F$27/24,\"HH:MM\"))","v":"00:00"},{"$f":"IF(O306=\"\",\"\",B306)","v":"PSG W "},"Lyon W ",{"$f":"IF(Q306=\"\",\"\",GetURL(J306))","v":"https://en.24score.com/football/match/572088-psg-w-lyon-w"}]
["X",null,null,null,null,null,null,null,null,null,0,"France Division 1 Women","","",{"$f":"IF(N307=\"\",\"\",fmt(M307+myset!$F$27/24,\"HH:MM\"))","v":""},{"$f":"IF(O307=\"\",\"\",B307)","v":""},"",{"$f":"IF(Q307=\"\",\"\",GetURL(J307))","v":""}]
[null,null,null,null,null,null,null,null,null,null,0,"France Division 1 Women","","",{"$f":"IF(N308=\"\",\"\",fmt(M308+myset!$F$27/24,\"HH:MM\"))","v":""},{"$f":"IF(O308=\"\",\"\",B308)","v":""},"",{"$f":"IF(Q308=\"\",\"\",GetURL(J308))","v":""}]
["PSG W has won 6 last games",null,null,null,null,null,null,null,null,null,0,"France Division 1 Women","","",{"$f":"IF(N309=\"\",\"\",fmt(M309+myset!$F$27/24,\"HH:MM\"))","v":""},{"$f":"IF(O309=\"\",\"\",B309)","v":""},"",{"$f":"IF(Q309=\"\",\"\",GetURL(J309))","v":""}]
[null,null,null,null,null,null,null,null,null,null,0,"France Division 1 Women","","",{"$f":"IF(N310=\"\",\"\",fmt(M310+myset!$F$27/24,\"HH:MM\"))","v":""},{"$f":"IF(O310=\"\",\"\",B310)","v":""},"",{"$f":"IF(Q310=\"\",\"\",GetURL(J310))","v":""}]
["PSG W has won 6 last home games",null,null,null,null,null,null,null,null,null,0,"France Division 1 Women","","",{"$f":"IF(N311=\"\",\"\",fmt(M311+myset!$F$27/24,\"HH:MM\"))","v":""},{"$f":"IF(O311=\"\",\"\",B311)","v":""},"",{"$f":"IF(Q311=\"\",\"\",GetURL(J311))","v":""}]
[null,null,null,null,null,null,null,null,null,null,0,"France Division 1 Women","","",{"$f":"IF(N312=\"\",\"\",fmt(M312+myset!$F$27/24,\"HH:MM\"))","v":""},{"$f":"IF(O312=\"\",\"\",B312)","v":""},"",{"$f":"IF(Q312=\"\",\"\",GetURL(J312))","v":""}]
["PSG W has won 5 periods on end",null,null,null,null,null,null,null,null,null,0,"France Division 1 Women","","",{"$f":"IF(N313=\"\",\"\",fmt(M313+myset!$F$27/24,\"HH:MM\"))","v":""},{"$f":"IF(O313=\"\",\"\",B313)","v":""},"",{"$f":"IF(Q313=\"\",\"\",GetURL(J313))","v":""}]
[null,null,null,null,null,null,null,null,null,null,0,"France Division 1 Women","","",{"$f":"IF(N314=\"\",\"\",fmt(M314+myset!$F$27/24,\"HH:MM\"))","v":""},{"$f":"IF(O314=\"\",\"\",B314)","v":""},"",{"$f":"IF(Q314=\"\",\"\",GetURL(J314))","v":""}]
["PSG W has won 7 periods on end in home games",null,null,null,null,null,null,null,null,null,0,"France Division 1 Women","","",{"$f":"IF(N315=\"\",\"\",fmt(M315+myset!$F$27/24,\"HH:MM\"))","v":""},{"$f":"IF(O315=\"\",\"\",B315)","v":""},"",{"$f":"IF(Q315=\"\",\"\",GetURL(J315))","v":""}]
[null,null,null,null,null,null,null,null,null,null,0,"France Division 1 Women","","",{"$f":"IF(N316=\"\",\"\",fmt(M316+myset!$F$27/24,\"HH:MM\"))","v":""},{"$f":"IF(O316=\"\",\"\",B316)","v":""},"",{"$f":"IF(Q316=\"\",\"\",GetURL(J316))","v":""}]
["PSG W has won 2nd period in 6 last games",null,null,null,null,null,null,null,null,null,0,"France Division 1 Women","","",{"$f":"IF(N317=\"\",\"\",fmt(M317+myset!$F$27/24,\"HH:MM\"))","v":""},{"$f":"IF(O317=\"\",\"\",B317)","v":""},"",{"$f":"IF(Q317=\"\",\"\",GetURL(J317))","v":""}]
[null,null,null,null,null,null,null,null,null,null,0,"France Division 1 Women","","",{"$f":"IF(N318=\"\",\"\",fmt(M318+myset!$F$27/24,\"HH:MM\"))","v":""},{"$f":"IF(O318=\"\",\"\",B318)","v":""},"",{"$f":"IF(Q318=\"\",\"\",GetURL(J318))","v":""}]
["PSG W has won 2nd period in 6 last home games",null,null,null,null,null,null,null,null,null,0,"France Division 1 Women","","",{"$f":"IF(N319=\"\",\"\",fmt(M319+myset!$F$27/24,\"HH:MM\"))","v":""},{"$f":"IF(O319=\"\",\"\",B319)","v":""},"",{"$f":"IF(Q319=\"\",\"\",GetURL(J319))","v":""}]
[null,null,null,null,null,null,null,null,null,null,0,"France Division 1 Women","","",{"$f":"IF(N320=\"\",\"\",fmt(M320+myset!$F$27/24,\"HH:MM\"))","v":""},{"$f":"IF(O320=\"\",\"\",B320)","v":""},"",{"$f":"IF(Q320=\"\",\"\",GetURL(J320))","v":""}]
["PSG W has not lost 15 last games",null,null,null,null,null,null,null,null,null,0,"France Division 1 Women","","",{"$f":"IF(N321=\"\",\"\",fmt(M321+myset!$F$27/24,\"HH:MM\"))","v":""},{"$f":"IF(O321=\"\",\"\",B321)","v":""},"",{"$f":"IF(Q321=\"\",\"\",GetURL(J321))","v":""}]
[null,null,null,null,null,null,null,null,null,null,0,"France Division 1 Women","","",{"$f":"IF(N322=\"\",\"\",fmt(M322+myset!$F$27/24,\"HH:MM\"))","v":""},{"$f":"IF(O322=\"\",\"\",B322)","v":""},"",{"$f":"IF(Q322=\"\",\"\",GetURL(J322))","v":""}]
["PSG W has not lost 1st period in 14 last games",null,null,null,null,null,null,null,null,null,{"$f":"IFERROR(SEARCH(\"flag\",A323),0)","v":0},{"$f":"IF(K323=1,MID(A323,5,100),L322)","v":"France Division 1 Women"},{"$f":"IF(B323=\"\",\"\",IFERROR(fmt(LEFT(A323,SEARCH(\" \",A323)-1),\"HH:MM\"),fmt(A323,\"HH:MM\")))","v":""},{"$f":"IF(M323=\"\",\"\",L323)","v":""},{"$f":"IF(N323=\"\",\"\",fmt(M323+myset!$F$27/24,\"HH:MM\"))","v":""},{"$f":"IF(O323=\"\",\"\",B323)","v":""},"",{"$f":"IF(Q323=\"\",\"\",GetURL(J323))","v":""}]
[null,null,null,null,null,null,null,null,null,null,0,"France Division 1 Women","","",{"$f":"IF(N324=\"\",\"\",fmt(M324+myset!$F$27/24,\"HH:MM\"))","v":""},{"$f":"IF(O324=\"\",\"\",B324)","v":""},"",{"$f":"IF(Q324=\"\",\"\",GetURL(J324))","v":""}]
["PSG W has not lost 2nd period in 13 last games",null,null,null,null,null,null,null,null,null,0,"France Division 1 Women","","",{"$f":"IF(N325=\"\",\"\",fmt(M325+myset!$F$27/24,\"HH:MM\"))","v":""},{"$f":"IF(O325=\"\",\"\",B325)","v":""},"",{"$f":"IF(Q325=\"\",\"\",GetURL(J325))","v":""}]
[null,null,null,null,null,null,null,null,null,null,0,"France Division 1 Women","","",{"$f":"IF(N326=\"\",\"\",fmt(M326+myset!$F$27/24,\"HH:MM\"))","v":""},{"$f":"IF(O326=\"\",\"\",B326)","v":""},"",{"$f":"IF(Q326=\"\",\"\",GetURL(J326))","v":""}]
["PSG W have had over 1.5 goals 5 last halves in a row",null,null,null,null,null,null,null,null,null,0,"France Division 1 Women","","",{"$f":"IF(N327=\"\",\"\",fmt(M327+myset!$F$27/24,\"HH:MM\"))","v":""},{"$f":"IF(O327=\"\",\"\",B327)","v":""},"",{"$f":"IF(Q327=\"\",\"\",GetURL(J327))","v":""}]
[null,null,null,null,null,null,null,null,null,null,0,"France Division 1 Women","","",{"$f":"IF(N328=\"\",\"\",fmt(M328+myset!$F$27/24,\"HH:MM\"))","v":""},{"$f":"IF(O328=\"\",\"\",B328)","v":""},"",{"$f":"IF(Q328=\"\",\"\",GetURL(J328))","v":""}]
["PSG W have had over 2.5 goals in their last 6 matches",null,null,null,null,null,null,null,null,null,0,"France Division 1 Women","","",{"$f":"IF(N329=\"\",\"\",fmt(M329+myset!$F$27/24,\"HH:MM\"))","v":""},{"$f":"IF(O329=\"\",\"\",B329)","v":""},"",{"$f":"IF(Q329=\"\",\"\",GetURL(J329))","v":""}]
[null,null,null,null,null,null,null,null,null,null,0,"France Division 1 Women","","",{"$f":"IF(N330=\"\",\"\",fmt(M330+myset!$F$27/24,\"HH:MM\"))","v":""},{"$f":"IF(O330=\"\",\"\",B330)","v":""},"",{"$f":"IF(Q330=\"\",\"\",GetURL(J330))","v":""}]
["PSG W have had over 2.5 goals in their last 6 home matches",null,null,null,null,null,null,null,null,null,0,"France Division 1 Women","","",{"$f":"IF(N331=\"\",\"\",fmt(M331+myset!$F$27/24,\"HH:MM\"))","v":""},{"$f":"IF(O331=\"\",\"\",B331)","v":""},"",{"$f":"IF(Q331=\"\",\"\",GetURL(J331))","v":""}]
[null,null,null,null,null,null,null,null,null,null,0,"France Division 1 Women","","",{"$f":"IF(N332=\"\",\"\",fmt(M332+myset!$F$27/24,\"HH:MM\"))","v":""},{"$f":"IF(O332=\"\",\"\",B332)","v":""},"",{"$f":"IF(Q332=\"\",\"\",GetURL(J332))","v":""}]
["Lyon W has won 11 last games",null,null,null,null,null,null,null,null,null,0,"France Division 1 Women","","",{"$f":"IF(N333=\"\",\"\",fmt(M333+myset!$F$27/24,\"HH:MM\"))","v":""},{"$f":"IF(O333=\"\",\"\",B333)","v":""},"",{"$f":"IF(Q333=\"\",\"\",GetURL(J333))","v":""}]
[null,null,null,null,null,null,null,null,null,null,0,"France Division 1 Women","","",{"$f":"IF(N334=\"\",\"\",fmt(M334+myset!$F$27/24,\"HH:MM\"))","v":""},{"$f":"IF(O334=\"\",\"\",B334)","v":""},"",{"$f":"IF(Q334=\"\",\"\",GetURL(J334))","v":""}]
["Lyon W has won 4 last away games",null,null,null,null,null,null,null,null,null,0,"France Division 1 Women","","",{"$f":"IF(N335=\"\",\"\",fmt(M335+myset!$F$27/24,\"HH:MM\"))","v":""},{"$f":"IF(O335=\"\",\"\",B335)","v":""},"",{"$f":"IF(Q335=\"\",\"\",GetURL(J335))","v":""}]
[null,null,null,null,null,null,null,null,null,null,0,"France Division 1 Women","","",{"$f":"IF(N336=\"\",\"\",fmt(M336+myset!$F$27/24,\"HH:MM\"))","v":""},{"$f":"IF(O336=\"\",\"\",B336)","v":""},"",{"$f":"IF(Q336=\"\",\"\",GetURL(J336))","v":""}]
["Lyon W has won 9 periods on end",null,null,null,null,null,null,null,null,null,0,"France Division 1 Women","","",{"$f":"IF(N337=\"\",\"\",fmt(M337+myset!$F$27/24,\"HH:MM\"))","v":""},{"$f":"IF(O337=\"\",\"\",B337)","v":""},"",{"$f":"IF(Q337=\"\",\"\",GetURL(J337))","v":""}]
[null,null,null,null,null,null,null,null,null,null,0,"France Division 1 Women","","",{"$f":"IF(N338=\"\",\"\",fmt(M338+myset!$F$27/24,\"HH:MM\"))","v":""},{"$f":"IF(O338=\"\",\"\",B338)","v":""},"",{"$f":"IF(Q338=\"\",\"\",GetURL(J338))","v":""}]
["Lyon W has won 1st period in 4 last games",null,null,null,null,null,null,null,null,null,0,"France Division 1 Women","","",{"$f":"IF(N339=\"\",\"\",fmt(M339+myset!$F$27/24,\"HH:MM\"))","v":""},{"$f":"IF(O339=\"\",\"\",B339)","v":""},"",{"$f":"IF(Q339=\"\",\"\",GetURL(J339))","v":""}]
[null,null,null,null,null,null,null,null,null,null,0,"France Division 1 Women","","",{"$f":"IF(N340=\"\",\"\",fmt(M340+myset!$F$27/24,\"HH:MM\"))","v":""},{"$f":"IF(O340=\"\",\"\",B340)","v":""},"",{"$f":"IF(Q340=\"\",\"\",GetURL(J340))","v":""}]
["Lyon W has won 2nd period in 5 last games",null,null,null,null,null,null,null,null,null,0,"France Division 1 Women","","",{"$f":"IF(N341=\"\",\"\",fmt(M341+myset!$F$27/24,\"HH:MM\"))","v":""},{"$f":"IF(O341=\"\",\"\",B341)","v":""},"",{"$f":"IF(Q341=\"\",\"\",GetURL(J341))","v":""}]
[null,null,null,null,null,null,null,null,null,null,0,"France Division 1 Women","","",{"$f":"IF(N342=\"\",\"\",fmt(M342+myset!$F$27/24,\"HH:MM\"))","v":""},{"$f":"IF(O342=\"\",\"\",B342)","v":""},"",{"$f":"IF(Q342=\"\",\"\",GetURL(J342))","v":""}]
["Lyon W has won 2nd period in 4 last away games",null,null,null,null,null,null,null,null,null,0,"France Division 1 Women","","",{"$f":"IF(N343=\"\",\"\",fmt(M343+myset!$F$27/24,\"HH:MM\"))","v":""},{"$f":"IF(O343=\"\",\"\",B343)","v":""},"",{"$f":"IF(Q343=\"\",\"\",GetURL(J343))","v":""}]
[null,null,null,null,null,null,null,null,null,null,0,"France Division 1 Women","","",{"$f":"IF(N344=\"\",\"\",fmt(M344+myset!$F$27/24,\"HH:MM\"))","v":""},{"$f":"IF(O344=\"\",\"\",B344)","v":""},"",{"$f":"IF(Q344=\"\",\"\",GetURL(J344))","v":""}]
["Lyon W has not tied 9 periods on end",null,null,null,null,null,null,null,null,null,0,"France Division 1 Women","","",{"$f":"IF(N345=\"\",\"\",fmt(M345+myset!$F$27/24,\"HH:MM\"))","v":""},{"$f":"IF(O345=\"\",\"\",B345)","v":""},"",{"$f":"IF(Q345=\"\",\"\",GetURL(J345))","v":""}]
[null,null,null,null,null,null,null,null,null,null,0,"France Division 1 Women","","",{"$f":"IF(N346=\"\",\"\",fmt(M346+myset!$F$27/24,\"HH:MM\"))","v":""},{"$f":"IF(O346=\"\",\"\",B346)","v":""},"",{"$f":"IF(Q346=\"\",\"\",GetURL(J346))","v":""}]
["Lyon W has not lost 24 last games",null,null,null,null,null,null,null,null,null,0,"France Division 1 Women","","",{"$f":"IF(N347=\"\",\"\",fmt(M347+myset!$F$27/24,\"HH:MM\"))","v":""},{"$f":"IF(O347=\"\",\"\",B347)","v":""},"",{"$f":"IF(Q347=\"\",\"\",GetURL(J347))","v":""}]
[null,null,null,null,null,null,null,null,null,null,0,"France Division 1 Women","","",{"$f":"IF(N348=\"\",\"\",fmt(M348+myset!$F$27/24,\"HH:MM\"))","v":""},{"$f":"IF(O348=\"\",\"\",B348)","v":""},"",{"$f":"IF(Q348=\"\",\"\",GetURL(J348))","v":""}]
["Lyon W has not lost 10 last away games",null,null,null,null,null,null,null,null,null,0,"France Division 1 Women","","",{"$f":"IF(N349=\"\",\"\",fmt(M349+myset!$F$27/24,\"HH:MM\"))","v":""},{"$f":"IF(O349=\"\",\"\",B349)","v":""},"",{"$f":"IF(Q349=\"\",\"\",GetURL(J349))","v":""}]
[null,null,null,null,null,null,null,null,null,null,0,"France Division 1 Women","","",{"$f":"IF(N350=\"\",\"\",fmt(M350+myset!$F$27/24,\"HH:MM\"))","v":""},{"$f":"IF(O350=\"\",\"\",B350)","v":""},"",{"$f":"IF(Q350=\"\",\"\",GetURL(J350))","v":""}]
["Lyon W has not lost 1st period in 24 last games",null,null,null,null,null,null,null,null,null,0,"France Division 1 Women","","",{"$f":"IF(N351=\"\",\"\",fmt(M351+myset!$F$27/24,\"HH:MM\"))","v":""},{"$f":"IF(O351=\"\",\"\",B351)","v":""},"",{"$f":"IF(Q351=\"\",\"\",GetURL(J351))","v":""}]
[null,null,null,null,null,null,null,null,null,null,0,"France Division 1 Women","","",{"$f":"IF(N352=\"\",\"\",fmt(M352+myset!$F$27/24,\"HH:MM\"))","v":""},{"$f":"IF(O352=\"\",\"\",B352)","v":""},"",{"$f":"IF(Q352=\"\",\"\",GetURL(J352))","v":""}]
["Lyon W has not lost 2nd period in 24 last games",null,null,null,null,null,null,null,null,null,0,"France Division 1 Women","","",{"$f":"IF(N353=\"\",\"\",fmt(M353+myset!$F$27/24,\"HH:MM\"))","v":""},{"$f":"IF(O353=\"\",\"\",B353)","v":""},"",{"$f":"IF(Q353=\"\",\"\",GetURL(J353))","v":""}]
[null,null,null,null,null,null,null,null,null,null,0,"France Division 1 Women","","",{"$f":"IF(N354=\"\",\"\",fmt(M354+myset!$F$27/24,\"HH:MM\"))","v":""},{"$f":"IF(O354=\"\",\"\",B354)","v":""},"",{"$f":"IF(Q354=\"\",\"\",GetURL(J354))","v":""}]
["Lyon W has not lost 2nd period in 10 last away games",null,null,null,null,null,null,null,null,null,0,"France Division 1 Women","","",{"$f":"IF(N355=\"\",\"\",fmt(M355+myset!$F$27/24,\"HH:MM\"))","v":""},{"$f":"IF(O355=\"\",\"\",B355)","v":""},"",{"$f":"IF(Q355=\"\",\"\",GetURL(J355))","v":""}]
[null,null,null,null,null,null,null,null,null,null,0,"France Division 1 Women","","",{"$f":"IF(N356=\"\",\"\",fmt(M356+myset!$F$27/24,\"HH:MM\"))","v":""},{"$f":"IF(O356=\"\",\"\",B356)","v":""},"",{"$f":"IF(Q356=\"\",\"\",GetURL(J356))","v":""}]
["Lyon W have had over 1.5 goals 5 last halves in a row",null,null,null,null,null,null,null,null,null,0,"France Division 1 Women","","",{"$f":"IF(N357=\"\",\"\",fmt(M357+myset!$F$27/24,\"HH:MM\"))","v":""},{"$f":"IF(O357=\"\",\"\",B357)","v":""},"",{"$f":"IF(Q357=\"\",\"\",GetURL(J357))","v":""}]
[null,null,null,null,null,null,null,null,null,null,0,"France Division 1 Women","","",{"$f":"IF(N358=\"\",\"\",fmt(M358+myset!$F$27/24,\"HH:MM\"))","v":""},{"$f":"IF(O358=\"\",\"\",B358)","v":""},"",{"$f":"IF(Q358=\"\",\"\",GetURL(J358))","v":""}]
["flagGermany Regionalliga North",null,null,null,1,"X",2,null,null,null,1,"Germany Regionalliga North","","",{"$f":"IF(N359=\"\",\"\",fmt(M359+myset!$F$27/24,\"HH:MM\"))","v":""},{"$f":"IF(O359=\"\",\"\",B359)","v":""},"",{"$f":"IF(Q359=\"\",\"\",GetURL(J359))","v":""}]
["20:00 571827","Weiche ","St. Pauli II ","— — ",null,null,null,1,null,null,0,"Germany Regionalliga North","20:00","Germany Regionalliga North",{"$f":"IF(N360=\"\",\"\",fmt(M360+myset!$F$27/24,\"HH:MM\"))","v":"21:00"},{"$f":"IF(O360=\"\",\"\",B360)","v":"Weiche "},"St. Pauli II ",{"$f":"IF(Q360=\"\",\"\",GetURL(J360))","v":"https://en.24score.com/football/match/571827-weiche-st-pauli-ii"}]
["X",null,null,null,null,null,null,null,null,null,0,"Germany Regionalliga North","","",{"$f":"IF(N361=\"\",\"\",fmt(M361+myset!$F$27/24,\"HH:MM\"))","v":""},{"$f":"IF(O361=\"\",\"\",B361)","v":""},"",{"$f":"IF(Q361=\"\",\"\",GetURL(J361))","v":""}]
[null,null,null,null,null,null,null,null,null,null,0,"Germany Regionalliga North","","",{"$f":"IF(N362=\"\",\"\",fmt(M362+myset!$F$27/24,\"HH:MM\"))","v":""},{"$f":"IF(O362=\"\",\"\",B362)","v":""},"",{"$f":"IF(Q362=\"\",\"\",GetURL(J362))","v":""}]
["Weiche has not tied 2nd period in 17 last home games",null,null,null,null,null,null,null,null,null,0,"Germany Regionalliga North","","",{"$f":"IF(N363=\"\",\"\",fmt(M363+myset!$F$27/24,\"HH:MM\"))","v":""},{"$f":"IF(O363=\"\",\"\",B363)","v":""},"",{"$f":"IF(Q363=\"\",\"\",GetURL(J363))","v":""}]
[null,null,null,null,null,null,null,null,null,null,0,"Germany Regionalliga North","","",{"$f":"IF(N364=\"\",\"\",fmt(M364+myset!$F$27/24,\"HH:MM\"))","v":""},{"$f":"IF(O364=\"\",\"\",B364)","v":""},"",{"$f":"IF(Q364=\"\",\"\",GetURL(J364))","v":""}]
["flagGermany Regionalliga West",null,null,null,1,"X",2,null,null,null,1,"Germany Regionalliga West","","",{"$f":"IF(N365=\"\",\"\",fmt(M365+myset!$F$27/24,\"HH:MM\"))","v":""},{"$f":"IF(O365=\"\",\"\",B365)","v":""},"",{"$f":"IF(Q365=\"\",\"\",GetURL(J365))","v":""}]
["15:00 575407","Schalke II ","Dortmund II ","— — ",null,null,null,7,null,null,0,"Germany Regionalliga West","15:00","Germany Regionalliga West",{"$f":"IF(N366=\"\",\"\",fmt(M366+myset!$F$27/24,\"HH:MM\"))","v":"16:00"},{"$f":"IF(O366=\"\",\"\",B366)","v":"Schalke II "},"Dortmund II ",{"$f":"IF(Q366=\"\",\"\",GetURL(J366))","v":"https://en.24score.com/football/match/575407-schalke-ii-dortmund-ii"}]
["X",null,null,null,null,null,null,null,null,null,0,"Germany Regionalliga West","","",{"$f":"IF(N367=\"\",\"\",fmt(M367+myset!$F$27/24,\"HH:MM\"))","v":""},{"$f":"IF(O367=\"\",\"\",B367)","v":""},"",{"$f":"IF(Q367=\"\",\"\",GetURL(J367))","v":""}]
[null,null,null,null,null,null,null,null,null,null,0,"Germany Regionalliga West","","",{"$f":"IF(N368=\"\",\"\",fmt(M368+myset!$F$27/24,\"HH:MM\"))","v":""},{"$f":"IF(O368=\"\",\"\",B368)","v":""},"",{"$f":"IF(Q368=\"\",\"\",GetURL(J368))","v":""}]
["Schalke II has tied 2nd period in 6 last home games",null,null,null,null,null,null,null,null,null,0,"Germany Regionalliga West","","",{"$f":"IF(N369=\"\",\"\",fmt(M369+myset!$F$27/24,\"HH:MM\"))","v":""},{"$f":"IF(O369=\"\",\"\",B369)","v":""},"",{"$f":"IF(Q369=\"\",\"\",GetURL(J369))","v":""}]
[null,null,null,null,null,null,null,null,null,null,0,"Germany Regionalliga West","","",{"$f":"IF(N370=\"\",\"\",fmt(M370+myset!$F$27/24,\"HH:MM\"))","v":""},{"$f":"IF(O370=\"\",\"\",B370)","v":""},"",{"$f":"IF(Q370=\"\",\"\",GetURL(J370))","v":""}]
["Dortmund II has won 5 last away games",null,null,null,null,null,null,null,null,null,0,"Germany Regionalliga West","","",{"$f":"IF(N371=\"\",\"\",fmt(M371+myset!$F$27/24,\"HH:MM\"))","v":""},{"$f":"IF(O371=\"\",\"\",B371)","v":""},"",{"$f":"IF(Q371=\"\",\"\",GetURL(J371))","v":""}]
[null,null,null,null,null,null,null,null,null,null,0,"Germany Regionalliga West","","",{"$f":"IF(N372=\"\",\"\",fmt(M372+myset!$F$27/24,\"HH:MM\"))","v":""},{"$f":"IF(O372=\"\",\"\",B372)","v":""},"",{"$f":"IF(Q372=\"\",\"\",GetURL(J372))","v":""}]
["Dortmund II has won 1st period in 4 last games",null,null,null,null,null,null,null,null,null,0,"Germany Regionalliga West","","",{"$f":"IF(N373=\"\",\"\",fmt(M373+myset!$F$27/24,\"HH:MM\"))","v":""},{"$f":"IF(O373=\"\",\"\",B373)","v":""},"",{"$f":"IF(Q373=\"\",\"\",GetURL(J373))","v":""}]
[null,null,null,null,null,null,null,null,null,null,0,"Germany Regionalliga West","","",{"$f":"IF(N374=\"\",\"\",fmt(M374+myset!$F$27/24,\"HH:MM\"))","v":""},{"$f":"IF(O374=\"\",\"\",B374)","v":""},"",{"$f":"IF(Q374=\"\",\"\",GetURL(J374))","v":""}]
["Dortmund II has not tied 9 periods on end in away games",null,null,null,null,null,null,null,null,null,0,"Germany Regionalliga West","","",{"$f":"IF(N375=\"\",\"\",fmt(M375+myset!$F$27/24,\"HH:MM\"))","v":""},{"$f":"IF(O375=\"\",\"\",B375)","v":""},"",{"$f":"IF(Q375=\"\",\"\",GetURL(J375))","v":""}]
[null,null,null,null,null,null,null,null,null,null,0,"Germany Regionalliga West","","",{"$f":"IF(N376=\"\",\"\",fmt(M376+myset!$F$27/24,\"HH:MM\"))","v":""},{"$f":"IF(O376=\"\",\"\",B376)","v":""},"",{"$f":"IF(Q376=\"\",\"\",GetURL(J376))","v":""}]
["Dortmund II has not tied 2nd period in 8 last away games",null,null,null,null,null,null,null,null,null,0,"Germany Regionalliga West","","",{"$f":"IF(N377=\"\",\"\",fmt(M377+myset!$F$27/24,\"HH:MM\"))","v":""},{"$f":"IF(O377=\"\",\"\",B377)","v":""},"",{"$f":"IF(Q377=\"\",\"\",GetURL(J377))","v":""}]
[null,null,null,null,null,null,null,null,null,null,0,"Germany Regionalliga West","","",{"$f":"IF(N378=\"\",\"\",fmt(M378+myset!$F$27/24,\"HH:MM\"))","v":""},{"$f":"IF(O378=\"\",\"\",B378)","v":""},"",{"$f":"IF(Q378=\"\",\"\",GetURL(J378))","v":""}]
["Dortmund II has not lost 11 last games",null,null,null,null,null,null,null,null,null,0,"Germany Regionalliga West","","",{"$f":"IF(N379=\"\",\"\",fmt(M379+myset!$F$27/24,\"HH:MM\"))","v":""},{"$f":"IF(O379=\"\",\"\",B379)","v":""},"",{"$f":"IF(Q379=\"\",\"\",GetURL(J379))","v":""}]
[null,null,null,null,null,null,null,null,null,null,0,"Germany Regionalliga West","","",{"$f":"IF(N380=\"\",\"\",fmt(M380+myset!$F$27/24,\"HH:MM\"))","v":""},{"$f":"IF(O380=\"\",\"\",B380)","v":""},"",{"$f":"IF(Q380=\"\",\"\",GetURL(J380))","v":""}]
["Dortmund II have had over 1.5 1st half goals in 5 last matches",null,null,null,null,null,null,null,null,null,0,"Germany Regionalliga West","","",{"$f":"IF(N381=\"\",\"\",fmt(M381+myset!$F$27/24,\"HH:MM\"))","v":""},{"$f":"IF(O381=\"\",\"\",B381)","v":""},"",{"$f":"IF(Q381=\"\",\"\",GetURL(J381))","v":""}]
[null,null,null,null,null,null,null,null,null,null,0,"Germany Regionalliga West","","",{"$f":"IF(N382=\"\",\"\",fmt(M382+myset!$F$27/24,\"HH:MM\"))","v":""},{"$f":"IF(O382=\"\",\"\",B382)","v":""},"",{"$f":"IF(Q382=\"\",\"\",GetURL(J382))","v":""}]
["flagGermany Women Bundesliga",null,null,null,1,"X",2,null,null,null,1,"Germany Women Bundesliga","","",{"$f":"IF(N383=\"\",\"\",fmt(M383+myset!$F$27/24,\"HH:MM\"))","v":""},{"$f":"IF(O383=\"\",\"\",B383)","v":""},"",{"$f":"IF(Q383=\"\",\"\",GetURL(J383))","v":""}]
["21:15 569741","Wolfsburg W ","Frankfurt W ","— — ",null,null,null,11,null,null,0,"Germany Women Bundesliga","21:15","Germany Women Bundesliga",{"$f":"IF(N384=\"\",\"\",fmt(M384+myset!$F$27/24,\"HH:MM\"))","v":"22:15"},{"$f":"IF(O384=\"\",\"\",B384)","v":"Wolfsburg W "},"Frankfurt W ",{"$f":"IF(Q384=\"\",\"\",GetURL(J384))","v":"https://en.24score.com/football/match/569741-wolfsburg-w-frankfurt-w"}]
["X",null,null,null,null,null,null,null,null,null,0,"Germany Women Bundesliga","","",{"$f":"IF(N385=\"\",\"\",fmt(M385+myset!$F$27/24,\"HH:MM\"))","v":""},{"$f":"IF(O385=\"\",\"\",B385)","v":""},"",{"$f":"IF(Q385=\"\",\"\",GetURL(J385))","v":""}]
[null,null,null,null,null,null,null,null,null,null,0,"Germany Women Bundesliga","","",{"$f":"IF(N386=\"\",\"\",fmt(M386+myset!$F$27/24,\"HH:MM\"))","v":""},{"$f":"IF(O386=\"\",\"\",B386)","v":""},"",{"$f":"IF(Q386=\"\",\"\",GetURL(J386))","v":""}]
["Wolfsburg W has won 10 last home games",null,null,null,null,null,null,null,null,null,{"$f":"IFERROR(SEARCH(\"flag\",A387),0)","v":0},{"$f":"IF(K387=1,MID(A387,5,100),L386)","v":"Germany Women Bundesliga"},{"$f":"IF(B387=\"\",\"\",IFERROR(fmt(LEFT(A387,SEARCH(\" \",A387)-1),\"HH:MM\"),fmt(A387,\"HH:MM\")))","v":""},{"$f":"IF(M387=\"\",\"\",L387)","v":""},{"$f":"IF(N387=\"\",\"\",fmt(M387+myset!$F$27/24,\"HH:MM\"))","v":""},{"$f":"IF(O387=\"\",\"\",B387)","v":""},"",{"$f":"IF(Q387=\"\",\"\",GetURL(J387))","v":""}]
[null,null,null,null,null,null,null,null,null,null,0,"Germany Women Bundesliga","","",{"$f":"IF(N388=\"\",\"\",fmt(M388+myset!$F$27/24,\"HH:MM\"))","v":""},{"$f":"IF(O388=\"\",\"\",B388)","v":""},"",{"$f":"IF(Q388=\"\",\"\",GetURL(J388))","v":""}]
["Wolfsburg W has won 1st half in 9 last home games",null,null,null,null,null,null,null,null,null,0,"Germany Women Bundesliga","","",{"$f":"IF(N389=\"\",\"\",fmt(M389+myset!$F$27/24,\"HH:MM\"))","v":""},{"$f":"IF(O389=\"\",\"\",B389)","v":""},"",{"$f":"IF(Q389=\"\",\"\",GetURL(J389))","v":""}]
[null,null,null,null,null,null,null,null,null,null,0,"Germany Women Bundesliga","","",{"$f":"IF(N390=\"\",\"\",fmt(M390+myset!$F$27/24,\"HH:MM\"))","v":""},{"$f":"IF(O390=\"\",\"\",B390)","v":""},"",{"$f":"IF(Q390=\"\",\"\",GetURL(J390))","v":""}]
["Wolfsburg W has not tied 19 periods on end in home games",null,null,null,null,null,null,null,null,null,0,"Germany Women Bundesliga","","",{"$f":"IF(N391=\"\",\"\",fmt(M391+myset!$F$27/24,\"HH:MM\"))","v":""},{"$f":"IF(O391=\"\",\"\",B391)","v":""},"",{"$f":"IF(Q391=\"\",\"\",GetURL(J391))","v":""}]
[null,null,null,null,null,null,null,null,null,null,0,"Germany Women Bundesliga","","",{"$f":"IF(N392=\"\",\"\",fmt(M392+myset!$F$27/24,\"HH:MM\"))","v":""},{"$f":"IF(O392=\"\",\"\",B392)","v":""},"",{"$f":"IF(Q392=\"\",\"\",GetURL(J392))","v":""}]
["Wolfsburg W has not tied 1st period in 9 last home games",null,null,null,null,null,null,null,null,null,0,"Germany Women Bundesliga","","",{"$f":"IF(N393=\"\",\"\",fmt(M393+myset!$F$27/24,\"HH:MM\"))","v":""},{"$f":"IF(O393=\"\",\"\",B393)","v":""},"",{"$f":"IF(Q393=\"\",\"\",GetURL(J393))","v":""}]
[null,null,null,null,null,null,null,null,null,null,0,"Germany Women Bundesliga","","",{"$f":"IF(N394=\"\",\"\",fmt(M394+myset!$F$27/24,\"HH:MM\"))","v":""},{"$f":"IF(O394=\"\",\"\",B394)","v":""},"",{"$f":"IF(Q394=\"\",\"\",GetURL(J394))","v":""}]
["Wolfsburg W has not tied 2nd period in 15 last home games",null,null,null,null,null,null,null,null,null,0,"Germany Women Bundesliga","","",{"$f":"IF(N395=\"\",\"\",fmt(M395+myset!$F$27/24,\"HH:MM\"))","v":""},{"$f":"IF(O395=\"\",\"\",B395)","v":""},"",{"$f":"IF(Q395=\"\",\"\",GetURL(J395))","v":""}]
[null,null,null,null,null,null,null,null,null,null,0,"Germany Women Bundesliga","","",{"$f":"IF(N396=\"\",\"\",fmt(M396+myset!$F$27/24,\"HH:MM\"))","v":""},{"$f":"IF(O396=\"\",\"\",B396)","v":""},"",{"$f":"IF(Q396=\"\",\"\",GetURL(J396))","v":""}]
["Wolfsburg W has not lost 15 last home games",null,null,null,null,null,null,null,null,null,0,"Germany Women Bundesliga","","",{"$f":"IF(N397=\"\",\"\",fmt(M397+myset!$F$27/24,\"HH:MM\"))","v":""},{"$f":"IF(O397=\"\",\"\",B397)","v":""},"",{"$f":"IF(Q397=\"\",\"\",GetURL(J397))","v":""}]
[null,null,null,null,null,null,null,null,null,null,0,"Germany Women Bundesliga","","",{"$f":"IF(N398=\"\",\"\",fmt(M398+myset!$F$27/24,\"HH:MM\"))","v":""},{"$f":"IF(O398=\"\",\"\",B398)","v":""},"",{"$f":"IF(Q398=\"\",\"\",GetURL(J398))","v":""}]
["Wolfsburg W have had over 1.5 goals 7 last halves in a row",null,null,null,null,null,null,null,null,null,0,"Germany Women Bundesliga","","",{"$f":"IF(N399=\"\",\"\",fmt(M399+myset!$F$27/24,\"HH:MM\"))","v":""},{"$f":"IF(O399=\"\",\"\",B399)","v":""},"",{"$f":"IF(Q399=\"\",\"\",GetURL(J399))","v":""}]
[null,null,null,null,null,null,null,null,null,null,0,"Germany Women Bundesliga","","",{"$f":"IF(N400=\"\",\"\",fmt(M400+myset!$F$27/24,\"HH:MM\"))","v":""},{"$f":"IF(O400=\"\",\"\",B400)","v":""},"",{"$f":"IF(Q400=\"\",\"\",GetURL(J400))","v":""}]
["Wolfsburg W have had over 1.5 goals 4 last halves in a row in home matches",null,null,null,null,null,null,null,null,null,0,"Germany Women Bundesliga","","",{"$f":"IF(N401=\"\",\"\",fmt(M401+myset!$F$27/24,\"HH:MM\"))","v":""},{"$f":"IF(O401=\"\",\"\",B401)","v":""},"",{"$f":"IF(Q401=\"\",\"\",GetURL(J401))","v":""}]
[null,null,null,null,null,null,null,null,null,null,0,"Germany Women Bundesliga","","",{"$f":"IF(N402=\"\",\"\",fmt(M402+myset!$F$27/24,\"HH:MM\"))","v":""},{"$f":"IF(O402=\"\",\"\",B402)","v":""},"",{"$f":"IF(Q402=\"\",\"\",GetURL(J402))","v":""}]
["Wolfsburg W have had over 1.5 2nd half goals in 6 last matches",null,null,null,null,null,null,null,null,null,0,"Germany Women Bundesliga","","",{"$f":"IF(N403=\"\",\"\",fmt(M403+myset!$F$27/24,\"HH:MM\"))","v":""},{"$f":"IF(O403=\"\",\"\",B403)","v":""},"",{"$f":"IF(Q403=\"\",\"\",GetURL(J403))","v":""}]
[null,null,null,null,null,null,null,null,null,null,0,"Germany Women Bundesliga","","",{"$f":"IF(N404=\"\",\"\",fmt(M404+myset!$F$27/24,\"HH:MM\"))","v":""},{"$f":"IF(O404=\"\",\"\",B404)","v":""},"",{"$f":"IF(Q404=\"\",\"\",GetURL(J404))","v":""}]
["Frankfurt W has not tied 2nd period in 10 last away games",null,null,null,null,null,null,null,null,null,0,"Germany Women Bundesliga","","",{"$f":"IF(N405=\"\",\"\",fmt(M405+myset!$F$27/24,\"HH:MM\"))","v":""},{"$f":"IF(O405=\"\",\"\",B405)","v":""},"",{"$f":"IF(Q405=\"\",\"\",GetURL(J405))","v":""}]
[null,null,null,null,null,null,null,null,null,null,0,"Germany Women Bundesliga","","",{"$f":"IF(N406=\"\",\"\",fmt(M406+myset!$F$27/24,\"HH:MM\"))","v":""},{"$f":"IF(O406=\"\",\"\",B406)","v":""},"",{"$f":"IF(Q406=\"\",\"\",GetURL(J406))","v":""}]
["Frankfurt W have had over 2.5 goals in their last 15 away matches",null,null,null,null,null,null,null,null,null,0,"Germany Women Bundesliga","","",{"$f":"IF(N407=\"\",\"\",fmt(M407+myset!$F$27/24,\"HH:MM\"))","v":""},{"$f":"IF(O407=\"\",\"\",B407)","v":""},"",{"$f":"IF(Q407=\"\",\"\",GetURL(J407))","v":""}]
[null,null,null,null,null,null,null,null,null,null,0,"Germany Women Bundesliga","","",{"$f":"IF(N408=\"\",\"\",fmt(M408+myset!$F$27/24,\"HH:MM\"))","v":""},{"$f":"IF(O408=\"\",\"\",B408)","v":""},"",{"$f":"IF(Q408=\"\",\"\",GetURL(J408))","v":""}]
["flagHungary - NBI Liga",null,null,null,1,"X",2,null,null,null,1,"Hungary - NBI Liga","","",{"$f":"IF(N409=\"\",\"\",fmt(M409+myset!$F$27/24,\"HH:MM\"))","v":""},{"$f":"IF(O409=\"\",\"\",B409)","v":""},"",{"$f":"IF(Q409=\"\",\"\",GetURL(J409))","v":""}]
["22:00 568077","Kisvarda ","Paksi ","— — ",null,null,null,0,null,null,0,"Hungary - NBI Liga","22:00","Hungary - NBI Liga",{"$f":"IF(N410=\"\",\"\",fmt(M410+myset!$F$27/24,\"HH:MM\"))","v":"23:00"},{"$f":"IF(O410=\"\",\"\",B410)","v":"Kisvarda "},"Paksi ",{"$f":"IF(Q410=\"\",\"\",GetURL(J410))","v":"https://en.24score.com/football/match/568077-kisvarda-paksi"}]
[null,null,null,null,null,null,null,null,null,null,0,"Hungary - NBI Liga","","",{"$f":"IF(N411=\"\",\"\",fmt(M411+myset!$F$27/24,\"HH:MM\"))","v":""},{"$f":"IF(O411=\"\",\"\",B411)","v":""},"",{"$f":"IF(Q411=\"\",\"\",GetURL(J411))","v":""}]
["flagIran Pro League",null,null,null,1,"X",2,null,null,null,1,"Iran Pro League","","",{"$f":"IF(N412=\"\",\"\",fmt(M412+myset!$F$27/24,\"HH:MM\"))","v":""},{"$f":"IF(O412=\"\",\"\",B412)","v":""},"",{"$f":"IF(Q412=\"\",\"\",GetURL(J412))","v":""}]
["15:40 584404","Mes Rafsanjan ","Gohar Sirjan ","— — ","2.91 ","2.875 ","2.56 ",3,null,null,0,"Iran Pro League","15:40","Iran Pro League",{"$f":"IF(N413=\"\",\"\",fmt(M413+myset!$F$27/24,\"HH:MM\"))","v":"16:40"},{"$f":"IF(O413=\"\",\"\",B413)","v":"Mes Rafsanjan "},"Gohar Sirjan ",{"$f":"IF(Q413=\"\",\"\",GetURL(J413))","v":"https://en.24score.com/football/match/584404-mes-rafsanjan-gohar-sirjan"}]
["X",null,null,null,null,null,null,null,null,null,0,"Iran Pro League","","",{"$f":"IF(N414=\"\",\"\",fmt(M414+myset!$F$27/24,\"HH:MM\"))","v":""},{"$f":"IF(O414=\"\",\"\",B414)","v":""},"",{"$f":"IF(Q414=\"\",\"\",GetURL(J414))","v":""}]
[null,null,null,null,null,null,null,null,null,null,0,"Iran Pro League","","",{"$f":"IF(N415=\"\",\"\",fmt(M415+myset!$F$27/24,\"HH:MM\"))","v":""},{"$f":"IF(O415=\"\",\"\",B415)","v":""},"",{"$f":"IF(Q415=\"\",\"\",GetURL(J415))","v":""}]
["Gohar Sirjan have had over 1.5 goals 8 last halves in a row",null,null,null,null,null,null,null,null,null,0,"Iran Pro League","","",{"$f":"IF(N416=\"\",\"\",fmt(M416+myset!$F$27/24,\"HH:MM\"))","v":""},{"$f":"IF(O416=\"\",\"\",B416)","v":""},"",{"$f":"IF(Q416=\"\",\"\",GetURL(J416))","v":""}]
[null,null,null,null,null,null,null,null,null,null,0,"Iran Pro League","","",{"$f":"IF(N417=\"\",\"\",fmt(M417+myset!$F$27/24,\"HH:MM\"))","v":""},{"$f":"IF(O417=\"\",\"\",B417)","v":""},"",{"$f":"IF(Q417=\"\",\"\",GetURL(J417))","v":""}]
["Gohar Sirjan have had over 1.5 goals 5 last halves in a row in away matches",null,null,null,null,null,null,null,null,null,0,"Iran Pro League","","",{"$f":"IF(N418=\"\",\"\",fmt(M418+myset!$F$27/24,\"HH:MM\"))","v":""},{"$f":"IF(O418=\"\",\"\",B418)","v":""},"",{"$f":"IF(Q418=\"\",\"\",GetURL(J418))","v":""}]
[null,null,null,null,null,null,null,null,null,null,0,"Iran Pro League","","",{"$f":"IF(N419=\"\",\"\",fmt(M419+myset!$F$27/24,\"HH:MM\"))","v":""},{"$f":"IF(O419=\"\",\"\",B419)","v":""},"",{"$f":"IF(Q419=\"\",\"\",GetURL(J419))","v":""}]
["Gohar Sirjan have had over 1.5 1st half goals in 4 last matches",null,null,null,null,null,null,null,null,null,0,"Iran Pro League","","",{"$f":"IF(N420=\"\",\"\",fmt(M420+myset!$F$27/24,\"HH:MM\"))","v":""},{"$f":"IF(O420=\"\",\"\",B420)","v":""},"",{"$f":"IF(Q420=\"\",\"\",GetURL(J420))","v":""}]
["16:05 584405","Machine Tabriz ","Zob Ahan ","— — ","2.456 ","2.91 ","3.04 ",1,null,null,0,"Iran Pro League","16:05","Iran Pro League",{"$f":"IF(N421=\"\",\"\",fmt(M421+myset!$F$27/24,\"HH:MM\"))","v":"17:05"},{"$f":"IF(O421=\"\",\"\",B421)","v":"Machine Tabriz "},"Zob Ahan ",{"$f":"IF(Q421=\"\",\"\",GetURL(J421))","v":"https://en.24score.com/football/match/584405-machine-tabriz-zob-ahan"}]
["X",null,null,null,null,null,null,null,null,null,0,"Iran Pro League","","",{"$f":"IF(N422=\"\",\"\",fmt(M422+myset!$F$27/24,\"HH:MM\"))","v":""},{"$f":"IF(O422=\"\",\"\",B422)","v":""},"",{"$f":"IF(Q422=\"\",\"\",GetURL(J422))","v":""}]
[null,null,null,null,null,null,null,null,null,null,0,"Iran Pro League","","",{"$f":"IF(N423=\"\",\"\",fmt(M423+myset!$F$27/24,\"HH:MM\"))","v":""},{"$f":"IF(O423=\"\",\"\",B423)","v":""},"",{"$f":"IF(Q423=\"\",\"\",GetURL(J423))","v":""}]
["Machine Tabriz have had under 1.5 1st half goals in 11 last home matches",null,null,null,null,null,null,null,null,null,0,"Iran Pro League","","",{"$f":"IF(N424=\"\",\"\",fmt(M424+myset!$F$27/24,\"HH:MM\"))","v":""},{"$f":"IF(O424=\"\",\"\",B424)","v":""},"",{"$f":"IF(Q424=\"\",\"\",GetURL(J424))","v":""}]
["16:10 584406","Foolad ","Esteghlal ","— — ","2.536 ","2.936 ","2.88 ",3,null,null,0,"Iran Pro League","16:10","Iran Pro League",{"$f":"IF(N425=\"\",\"\",fmt(M425+myset!$F$27/24,\"HH:MM\"))","v":"17:10"},{"$f":"IF(O425=\"\",\"\",B425)","v":"Foolad "},"Esteghlal ",{"$f":"IF(Q425=\"\",\"\",GetURL(J425))","v":"https://en.24score.com/football/match/584406-foolad-esteghlal"}]
["X",null,null,null,null,null,null,null,null,null,0,"Iran Pro League","","",{"$f":"IF(N426=\"\",\"\",fmt(M426+myset!$F$27/24,\"HH:MM\"))","v":""},{"$f":"IF(O426=\"\",\"\",B426)","v":""},"",{"$f":"IF(Q426=\"\",\"\",GetURL(J426))","v":""}]
[null,null,null,null,null,null,null,null,null,null,0,"Iran Pro League","","",{"$f":"IF(N427=\"\",\"\",fmt(M427+myset!$F$27/24,\"HH:MM\"))","v":""},{"$f":"IF(O427=\"\",\"\",B427)","v":""},"",{"$f":"IF(Q427=\"\",\"\",GetURL(J427))","v":""}]
["Foolad has not lost 1st period in 14 last games",null,null,null,null,null,null,null,null,null,0,"Iran Pro League","","",{"$f":"IF(N428=\"\",\"\",fmt(M428+myset!$F$27/24,\"HH:MM\"))","v":""},{"$f":"IF(O428=\"\",\"\",B428)","v":""},"",{"$f":"IF(Q428=\"\",\"\",GetURL(J428))","v":""}]
[null,null,null,null,null,null,null,null,null,null,0,"Iran Pro League","","",{"$f":"IF(N429=\"\",\"\",fmt(M429+myset!$F$27/24,\"HH:MM\"))","v":""},{"$f":"IF(O429=\"\",\"\",B429)","v":""},"",{"$f":"IF(Q429=\"\",\"\",GetURL(J429))","v":""}]
["Esteghlal has won 2nd period in 4 last away games",null,null,null,null,null,null,null,null,null,0,"Iran Pro League","","",{"$f":"IF(N430=\"\",\"\",fmt(M430+myset!$F$27/24,\"HH:MM\"))","v":""},{"$f":"IF(O430=\"\",\"\",B430)","v":""},"",{"$f":"IF(Q430=\"\",\"\",GetURL(J430))","v":""}]
[null,null,null,null,null,null,null,null,null,null,0,"Iran Pro League","","",{"$f":"IF(N431=\"\",\"\",fmt(M431+myset!$F$27/24,\"HH:MM\"))","v":""},{"$f":"IF(O431=\"\",\"\",B431)","v":""},"",{"$f":"IF(Q431=\"\",\"\",GetURL(J431))","v":""}]
["Esteghlal has not tied 9 periods on end in away games",null,null,null,null,null,null,null,null,null,0,"Iran Pro League","","",{"$f":"IF(N432=\"\",\"\",fmt(M432+myset!$F$27/24,\"HH:MM\"))","v":""},{"$f":"IF(O432=\"\",\"\",B432)","v":""},"",{"$f":"IF(Q432=\"\",\"\",GetURL(J432))","v":""}]
[null,null,null,null,null,null,null,null,null,null,0,"Iran Pro League","","",{"$f":"IF(N433=\"\",\"\",fmt(M433+myset!$F$27/24,\"HH:MM\"))","v":""},{"$f":"IF(O433=\"\",\"\",B433)","v":""},"",{"$f":"IF(Q433=\"\",\"\",GetURL(J433))","v":""}]
["flagIsrael Liga Leumit",null,null,null,1,"X",2,null,null,null,1,"Israel Liga Leumit","","",{"$f":"IF(N434=\"\",\"\",fmt(M434+myset!$F$27/24,\"HH:MM\"))","v":""},{"$f":"IF(O434=\"\",\"\",B434)","v":""},"",{"$f":"IF(Q434=\"\",\"\",GetURL(J434))","v":""}]
["16:00 570355","Hapoel Kfar Shelem ","H. Petah Tikva ","— — ","2.79 ","3.18 ","2.45 ",1,null,null,0,"Israel Liga Leumit","16:00","Israel Liga Leumit",{"$f":"IF(N435=\"\",\"\",fmt(M435+myset!$F$27/24,\"HH:MM\"))","v":"17:00"},{"$f":"IF(O435=\"\",\"\",B435)","v":"Hapoel Kfar Shelem "},"H. Petah Tikva ",{"$f":"IF(Q435=\"\",\"\",GetURL(J435))","v":"https://en.24score.com/football/match/570355-hapoel-kfar-shelem-h-petah-tikva"}]
["X",null,null,null,null,null,null,null,null,null,0,"Israel Liga Leumit","","",{"$f":"IF(N436=\"\",\"\",fmt(M436+myset!$F$27/24,\"HH:MM\"))","v":""},{"$f":"IF(O436=\"\",\"\",B436)","v":""},"",{"$f":"IF(Q436=\"\",\"\",GetURL(J436))","v":""}]
[null,null,null,null,null,null,null,null,null,null,0,"Israel Liga Leumit","","",{"$f":"IF(N437=\"\",\"\",fmt(M437+myset!$F$27/24,\"HH:MM\"))","v":""},{"$f":"IF(O437=\"\",\"\",B437)","v":""},"",{"$f":"IF(Q437=\"\",\"\",GetURL(J437))","v":""}]
["H. Petah Tikva has not won 2nd half in 13 last games",null,null,null,null,null,null,null,null,null,0,"Israel Liga Leumit","","",{"$f":"IF(N438=\"\",\"\",fmt(M438+myset!$F$27/24,\"HH:MM\"))","v":""},{"$f":"IF(O438=\"\",\"\",B438)","v":""},"",{"$f":"IF(Q438=\"\",\"\",GetURL(J438))","v":""}]
["16:00 570352","Sektzia Nes Tziona ","Hapoel Um El Fahem ","— — ","2.03 ","3.34 ","3.5 ",0,null,null,0,"Israel Liga Leumit","16:00","Israel Liga Leumit",{"$f":"IF(N439=\"\",\"\",fmt(M439+myset!$F$27/24,\"HH:MM\"))","v":"17:00"},{"$f":"IF(O439=\"\",\"\",B439)","v":"Sektzia Nes Tziona "},"Hapoel Um El Fahem ",{"$f":"IF(Q439=\"\",\"\",GetURL(J439))","v":"https://en.24score.com/football/match/570352-sektzia-nes-tziona-hapoel-um-el-fahem"}]
["16:00 570348","Hapoel Acre ","Nir Ramat Hasharon ","— — ","2.44 ","3.14 ","2.83 ",4,null,null,0,"Israel Liga Leumit","16:00","Israel Liga Leumit",{"$f":"IF(N440=\"\",\"\",fmt(M440+myset!$F$27/24,\"HH:MM\"))","v":"17:00"},{"$f":"IF(O440=\"\",\"\",B440)","v":"Hapoel Acre "},"Nir Ramat Hasharon ",{"$f":"IF(Q440=\"\",\"\",GetURL(J440))","v":"https://en.24score.com/football/match/570348-hapoel-acre-nir-ramat-hasharon"}]
["X",null,null,null,null,null,null,null,null,null,0,"Israel Liga Leumit","","",{"$f":"IF(N441=\"\",\"\",fmt(M441+myset!$F$27/24,\"HH:MM\"))","v":""},{"$f":"IF(O441=\"\",\"\",B441)","v":""},"",{"$f":"IF(Q441=\"\",\"\",GetURL(J441))","v":""}]
[null,null,null,null,null,null,null,null,null,null,0,"Israel Liga Leumit","","",{"$f":"IF(N442=\"\",\"\",fmt(M442+myset!$F$27/24,\"HH:MM\"))","v":""},{"$f":"IF(O442=\"\",\"\",B442)","v":""},"",{"$f":"IF(Q442=\"\",\"\",GetURL(J442))","v":""}]
["Hapoel Acre have had under 1.5 goals 10 last halves in a row in home matches",null,null,null,null,null,null,null,null,null,0,"Israel Liga Leumit","","",{"$f":"IF(N443=\"\",\"\",fmt(M443+myset!$F$27/24,\"HH:MM\"))","v":""},{"$f":"IF(O443=\"\",\"\",B443)","v":""},"",{"$f":"IF(Q443=\"\",\"\",GetURL(J443))","v":""}]
[null,null,null,null,null,null,null,null,null,null,0,"Israel Liga Leumit","","",{"$f":"IF(N444=\"\",\"\",fmt(M444+myset!$F$27/24,\"HH:MM\"))","v":""},{"$f":"IF(O444=\"\",\"\",B444)","v":""},"",{"$f":"IF(Q444=\"\",\"\",GetURL(J444))","v":""}]
["Hapoel Acre have had under 1.5 1st half goals in 15 last home matches",null,null,null,null,null,null,null,null,null,0,"Israel Liga Leumit","","",{"$f":"IF(N445=\"\",\"\",fmt(M445+myset!$F$27/24,\"HH:MM\"))","v":""},{"$f":"IF(O445=\"\",\"\",B445)","v":""},"",{"$f":"IF(Q445=\"\",\"\",GetURL(J445))","v":""}]
[null,null,null,null,null,null,null,null,null,null,0,"Israel Liga Leumit","","",{"$f":"IF(N446=\"\",\"\",fmt(M446+myset!$F$27/24,\"HH:MM\"))","v":""},{"$f":"IF(O446=\"\",\"\",B446)","v":""},"",{"$f":"IF(Q446=\"\",\"\",GetURL(J446))","v":""}]
["Nir Ramat Hasharon have had under 1.5 2nd half goals in 10 last matches",null,null,null,null,null,null,null,null,null,0,"Israel Liga Leumit","","",{"$f":"IF(N447=\"\",\"\",fmt(M447+myset!$F$27/24,\"HH:MM\"))","v":""},{"$f":"IF(O447=\"\",\"\",B447)","v":""},"",{"$f":"IF(Q447=\"\",\"\",GetURL(J447))","v":""}]
[null,null,null,null,null,null,null,null,null,null,0,"Israel Liga Leumit","","",{"$f":"IF(N448=\"\",\"\",fmt(M448+myset!$F$27/24,\"HH:MM\"))","v":""},{"$f":"IF(O448=\"\",\"\",B448)","v":""},"",{"$f":"IF(Q448=\"\",\"\",GetURL(J448))","v":""}]
["Nir Ramat Hasharon have had under 1.5 2nd half goals in 7 last away matches",null,null,null,null,null,null,null,null,null,0,"Israel Liga Leumit","","",{"$f":"IF(N449=\"\",\"\",fmt(M449+myset!$F$27/24,\"HH:MM\"))","v":""},{"$f":"IF(O449=\"\",\"\",B449)","v":""},"",{"$f":"IF(Q449=\"\",\"\",GetURL(J449))","v":""}]
["16:00 570353","Hapoel Iksal ","Hapoel Raanana ","— — ","2.46 ","3.2 ","2.76 ",2,null,null,0,"Israel Liga Leumit","16:00","Israel Liga Leumit",{"$f":"IF(N450=\"\",\"\",fmt(M450+myset!$F$27/24,\"HH:MM\"))","v":"17:00"},{"$f":"IF(O450=\"\",\"\",B450)","v":"Hapoel Iksal "},"Hapoel Raanana ",{"$f":"IF(Q450=\"\",\"\",GetURL(J450))","v":"https://en.24score.com/football/match/570353-hapoel-iksal-hapoel-raanana"}]
["X",null,null,null,null,null,null,null,null,null,{"$f":"IFERROR(SEARCH(\"flag\",A451),0)","v":0},{"$f":"IF(K451=1,MID(A451,5,100),L450)","v":"Israel Liga Leumit"},{"$f":"IF(B451=\"\",\"\",IFERROR(fmt(LEFT(A451,SEARCH(\" \",A451)-1),\"HH:MM\"),fmt(A451,\"HH:MM\")))","v":""},{"$f":"IF(M451=\"\",\"\",L451)","v":""},{"$f":"IF(N451=\"\",\"\",fmt(M451+myset!$F$27/24,\"HH:MM\"))","v":""},{"$f":"IF(O451=\"\",\"\",B451)","v":""},"",{"$f":"IF(Q451=\"\",\"\",GetURL(J451))","v":""}]
[null,null,null,null,null,null,null,null,null,null,0,"Israel Liga Leumit","","",{"$f":"IF(N452=\"\",\"\",fmt(M452+myset!$F$27/24,\"HH:MM\"))","v":""},{"$f":"IF(O452=\"\",\"\",B452)","v":""},"",{"$f":"IF(Q452=\"\",\"\",GetURL(J452))","v":""}]
["Hapoel Raanana has tied 6 periods on end",null,null,null,null,null,null,null,null,null,0,"Israel Liga Leumit","","",{"$f":"IF(N453=\"\",\"\",fmt(M453+myset!$F$27/24,\"HH:MM\"))","v":""},{"$f":"IF(O453=\"\",\"\",B453)","v":""},"",{"$f":"IF(Q453=\"\",\"\",GetURL(J453))","v":""}]
[null,null,null,null,null,null,null,null,null,null,0,"Israel Liga Leumit","","",{"$f":"IF(N454=\"\",\"\",fmt(M454+myset!$F$27/24,\"HH:MM\"))","v":""},{"$f":"IF(O454=\"\",\"\",B454)","v":""},"",{"$f":"IF(Q454=\"\",\"\",GetURL(J454))","v":""}]
["Hapoel Raanana have had under 1.5 2nd half goals in 9 last matches",null,null,null,null,null,null,null,null,null,0,"Israel Liga Leumit","","",{"$f":"IF(N455=\"\",\"\",fmt(M455+myset!$F$27/24,\"HH:MM\"))","v":""},{"$f":"IF(O455=\"\",\"\",B455)","v":""},"",{"$f":"IF(Q455=\"\",\"\",GetURL(J455))","v":""}]
["16:00 570351","Ramat Gan Givatayim ","Beitar Tel Aviv ","— — ","1.76 ","3.52 ","4.42 ",1,null,null,0,"Israel Liga Leumit","16:00","Israel Liga Leumit",{"$f":"IF(N456=\"\",\"\",fmt(M456+myset!$F$27/24,\"HH:MM\"))","v":"17:00"},{"$f":"IF(O456=\"\",\"\",B456)","v":"Ramat Gan Givatayim "},"Beitar Tel Aviv ",{"$f":"IF(Q456=\"\",\"\",GetURL(J456))","v":"https://en.24score.com/football/match/570351-ramat-gan-givatayim-beitar-tel-aviv"}]
["X",null,null,null,null,null,null,null,null,null,0,"Israel Liga Leumit","","",{"$f":"IF(N457=\"\",\"\",fmt(M457+myset!$F$27/24,\"HH:MM\"))","v":""},{"$f":"IF(O457=\"\",\"\",B457)","v":""},"",{"$f":"IF(Q457=\"\",\"\",GetURL(J457))","v":""}]
[null,null,null,null,null,null,null,null,null,null,0,"Israel Liga Leumit","","",{"$f":"IF(N458=\"\",\"\",fmt(M458+myset!$F$27/24,\"HH:MM\"))","v":""},{"$f":"IF(O458=\"\",\"\",B458)","v":""},"",{"$f":"IF(Q458=\"\",\"\",GetURL(J458))","v":""}]
["Ramat Gan Givatayim has tied 6 periods on end",null,null,null,null,null,null,null,null,null,0,"Israel Liga Leumit","","",{"$f":"IF(N459=\"\",\"\",fmt(M459+myset!$F$27/24,\"HH:MM\"))","v":""},{"$f":"IF(O459=\"\",\"\",B459)","v":""},"",{"$f":"IF(Q459=\"\",\"\",GetURL(J459))","v":""}]
[null,null,null,null,null,null,null,null,null,null,0,"Israel Liga Leumit","","",{"$f":"IF(N460=\"\",\"\",fmt(M460+myset!$F$27/24,\"HH:MM\"))","v":""},{"$f":"IF(O460=\"\",\"\",B460)","v":""},"",{"$f":"IF(Q460=\"\",\"\",GetURL(J460))","v":""}]
["flagLatvia - Virsliga",null,null,null,1,"X",2,null,null,null,1,"Latvia - Virsliga","","",{"$f":"IF(N461=\"\",\"\",fmt(M461+myset!$F$27/24,\"HH:MM\"))","v":""},{"$f":"IF(O461=\"\",\"\",B461)","v":""},"",{"$f":"IF(Q461=\"\",\"\",GetURL(J461))","v":""}]
["14:00 583943","Jelgava ","Valmiera ","— — ","3.36 ","3.56 ",2,2,null,null,0,"Latvia - Virsliga","14:00","Latvia - Virsliga",{"$f":"IF(N462=\"\",\"\",fmt(M462+myset!$F$27/24,\"HH:MM\"))","v":"15:00"},{"$f":"IF(O462=\"\",\"\",B462)","v":"Jelgava "},"Valmiera ",{"$f":"IF(Q462=\"\",\"\",GetURL(J462))","v":"https://en.24score.com/football/match/583943-jelgava-valmiera"}]
["X",null,null,null,null,null,null,null,null,null,0,"Latvia - Virsliga","","",{"$f":"IF(N463=\"\",\"\",fmt(M463+myset!$F$27/24,\"HH:MM\"))","v":""},{"$f":"IF(O463=\"\",\"\",B463)","v":""},"",{"$f":"IF(Q463=\"\",\"\",GetURL(J463))","v":""}]
[null,null,null,null,null,null,null,null,null,null,0,"Latvia - Virsliga","","",{"$f":"IF(N464=\"\",\"\",fmt(M464+myset!$F$27/24,\"HH:MM\"))","v":""},{"$f":"IF(O464=\"\",\"\",B464)","v":""},"",{"$f":"IF(Q464=\"\",\"\",GetURL(J464))","v":""}]
["Jelgava has lost 4 halves on end in home games",null,null,null,null,null,null,null,null,null,0,"Latvia - Virsliga","","",{"$f":"IF(N465=\"\",\"\",fmt(M465+myset!$F$27/24,\"HH:MM\"))","v":""},{"$f":"IF(O465=\"\",\"\",B465)","v":""},"",{"$f":"IF(Q465=\"\",\"\",GetURL(J465))","v":""}]
[null,null,null,null,null,null,null,null,null,null,0,"Latvia - Virsliga","","",{"$f":"IF(N466=\"\",\"\",fmt(M466+myset!$F$27/24,\"HH:MM\"))","v":""},{"$f":"IF(O466=\"\",\"\",B466)","v":""},"",{"$f":"IF(Q466=\"\",\"\",GetURL(J466))","v":""}]
["Jelgava has not won 1st half in 18 last games",null,null,null,null,null,null,null,null,null,0,"Latvia - Virsliga","","",{"$f":"IF(N467=\"\",\"\",fmt(M467+myset!$F$27/24,\"HH:MM\"))","v":""},{"$f":"IF(O467=\"\",\"\",B467)","v":""},"",{"$f":"IF(Q467=\"\",\"\",GetURL(J467))","v":""}]
[null,null,null,null,null,null,null,null,null,null,0,"Latvia - Virsliga","","",{"$f":"IF(N468=\"\",\"\",fmt(M468+myset!$F$27/24,\"HH:MM\"))","v":""},{"$f":"IF(O468=\"\",\"\",B468)","v":""},"",{"$f":"IF(Q468=\"\",\"\",GetURL(J468))","v":""}]
["flagMoldova - Divizia Nationala",null,null,null,1,"X",2,null,null,null,1,"Moldova - Divizia Nationala","","",{"$f":"IF(N469=\"\",\"\",fmt(M469+myset!$F$27/24,\"HH:MM\"))","v":""},{"$f":"IF(O469=\"\",\"\",B469)","v":""},"",{"$f":"IF(Q469=\"\",\"\",GetURL(J469))","v":""}]
["19:00 555092","Dinamo Auto ","Dacia Buiucani ","— — ",null,null,null,0,null,null,0,"Moldova - Divizia Nationala","19:00","Moldova - Divizia Nationala",{"$f":"IF(N470=\"\",\"\",fmt(M470+myset!$F$27/24,\"HH:MM\"))","v":"20:00"},{"$f":"IF(O470=\"\",\"\",B470)","v":"Dinamo Auto "},"Dacia Buiucani ",{"$f":"IF(Q470=\"\",\"\",GetURL(J470))","v":"https://en.24score.com/football/match/555092-dinamo-auto-dacia-buiucani"}]
["19:00 555096","Zimbru ","Sfintul G ","— — ",null,null,null,2,null,null,0,"Moldova - Divizia Nationala","19:00","Moldova - Divizia Nationala",{"$f":"IF(N471=\"\",\"\",fmt(M471+myset!$F$27/24,\"HH:MM\"))","v":"20:00"},{"$f":"IF(O471=\"\",\"\",B471)","v":"Zimbru "},"Sfintul G ",{"$f":"IF(Q471=\"\",\"\",GetURL(J471))","v":"https://en.24score.com/football/match/555096-zimbru-sfintul-g"}]
["X",null,null,null,null,null,null,null,null,null,0,"Moldova - Divizia Nationala","","",{"$f":"IF(N472=\"\",\"\",fmt(M472+myset!$F$27/24,\"HH:MM\"))","v":""},{"$f":"IF(O472=\"\",\"\",B472)","v":""},"",{"$f":"IF(Q472=\"\",\"\",GetURL(J472))","v":""}]
[null,null,null,null,null,null,null,null,null,null,0,"Moldova - Divizia Nationala","","",{"$f":"IF(N473=\"\",\"\",fmt(M473+myset!$F$27/24,\"HH:MM\"))","v":""},{"$f":"IF(O473=\"\",\"\",B473)","v":""},"",{"$f":"IF(Q473=\"\",\"\",GetURL(J473))","v":""}]
["Sfintul G has won 4 periods on end in away games",null,null,null,null,null,null,null,null,null,0,"Moldova - Divizia Nationala","","",{"$f":"IF(N474=\"\",\"\",fmt(M474+myset!$F$27/24,\"HH:MM\"))","v":""},{"$f":"IF(O474=\"\",\"\",B474)","v":""},"",{"$f":"IF(Q474=\"\",\"\",GetURL(J474))","v":""}]
[null,null,null,null,null,null,null,null,null,null,0,"Moldova - Divizia Nationala","","",{"$f":"IF(N475=\"\",\"\",fmt(M475+myset!$F$27/24,\"HH:MM\"))","v":""},{"$f":"IF(O475=\"\",\"\",B475)","v":""},"",{"$f":"IF(Q475=\"\",\"\",GetURL(J475))","v":""}]
["Sfintul G has won 1st period in 4 last away games",null,null,null,null,null,null,null,null,null,0,"Moldova - Divizia Nationala","","",{"$f":"IF(N476=\"\",\"\",fmt(M476+myset!$F$27/24,\"HH:MM\"))","v":""},{"$f":"IF(O476=\"\",\"\",B476)","v":""},"",{"$f":"IF(Q476=\"\",\"\",GetURL(J476))","v":""}]
["19:00 555093","Floresti ","Petrocub ","— — ",null,null,null,0,null,null,0,"Moldova - Divizia Nationala","19:00","Moldova - Divizia Nationala",{"$f":"IF(N477=\"\",\"\",fmt(M477+myset!$F$27/24,\"HH:MM\"))","v":"20:00"},{"$f":"IF(O477=\"\",\"\",B477)","v":"Floresti "},"Petrocub ",{"$f":"IF(Q477=\"\",\"\",GetURL(J477))","v":"https://en.24score.com/football/match/555093-floresti-petrocub"}]
["19:00 555094","Milsami ","Speranta ","— — ",null,null,null,2,null,null,0,"Moldova - Divizia Nationala","19:00","Moldova - Divizia Nationala",{"$f":"IF(N478=\"\",\"\",fmt(M478+myset!$F$27/24,\"HH:MM\"))","v":"20:00"},{"$f":"IF(O478=\"\",\"\",B478)","v":"Milsami "},"Speranta ",{"$f":"IF(Q478=\"\",\"\",GetURL(J478))","v":"https://en.24score.com/football/match/555094-milsami-speranta"}]
["X",null,null,null,null,null,null,null,null,null,0,"Moldova - Divizia Nationala","","",{"$f":"IF(N479=\"\",\"\",fmt(M479+myset!$F$27/24,\"HH:MM\"))","v":""},{"$f":"IF(O479=\"\",\"\",B479)","v":""},"",{"$f":"IF(Q479=\"\",\"\",GetURL(J479))","v":""}]
[null,null,null,null,null,null,null,null,null,null,0,"Moldova - Divizia Nationala","","",{"$f":"IF(N480=\"\",\"\",fmt(M480+myset!$F$27/24,\"HH:MM\"))","v":""},{"$f":"IF(O480=\"\",\"\",B480)","v":""},"",{"$f":"IF(Q480=\"\",\"\",GetURL(J480))","v":""}]
["Milsami has won 5 periods on end in home games",null,null,null,null,null,null,null,null,null,0,"Moldova - Divizia Nationala","","",{"$f":"IF(N481=\"\",\"\",fmt(M481+myset!$F$27/24,\"HH:MM\"))","v":""},{"$f":"IF(O481=\"\",\"\",B481)","v":""},"",{"$f":"IF(Q481=\"\",\"\",GetURL(J481))","v":""}]
[null,null,null,null,null,null,null,null,null,null,0,"Moldova - Divizia Nationala","","",{"$f":"IF(N482=\"\",\"\",fmt(M482+myset!$F$27/24,\"HH:MM\"))","v":""},{"$f":"IF(O482=\"\",\"\",B482)","v":""},"",{"$f":"IF(Q482=\"\",\"\",GetURL(J482))","v":""}]
["Milsami has won 2nd period in 6 last home games",null,null,null,null,null,null,null,null,null,0,"Moldova - Divizia Nationala","","",{"$f":"IF(N483=\"\",\"\",fmt(M483+myset!$F$27/24,\"HH:MM\"))","v":""},{"$f":"IF(O483=\"\",\"\",B483)","v":""},"",{"$f":"IF(Q483=\"\",\"\",GetURL(J483))","v":""}]
["14:00 555086","Dinamo Auto ","Floresti ","— — ",null,null,null,0,null,null,0,"Moldova - Divizia Nationala","14:00","Moldova - Divizia Nationala",{"$f":"IF(N484=\"\",\"\",fmt(M484+myset!$F$27/24,\"HH:MM\"))","v":"15:00"},{"$f":"IF(O484=\"\",\"\",B484)","v":"Dinamo Auto "},"Floresti ",{"$f":"IF(Q484=\"\",\"\",GetURL(J484))","v":"https://en.24score.com/football/match/555086-dinamo-auto-floresti"}]
["17:00 555084","Zimbru ","Dacia Buiucani ","— — ",null,null,null,3,null,null,0,"Moldova - Divizia Nationala","17:00","Moldova - Divizia Nationala",{"$f":"IF(N485=\"\",\"\",fmt(M485+myset!$F$27/24,\"HH:MM\"))","v":"18:00"},{"$f":"IF(O485=\"\",\"\",B485)","v":"Zimbru "},"Dacia Buiucani ",{"$f":"IF(Q485=\"\",\"\",GetURL(J485))","v":"https://en.24score.com/football/match/555084-zimbru-dacia-buiucani"}]
["X",null,null,null,null,null,null,null,null,null,0,"Moldova - Divizia Nationala","","",{"$f":"IF(N486=\"\",\"\",fmt(M486+myset!$F$27/24,\"HH:MM\"))","v":""},{"$f":"IF(O486=\"\",\"\",B486)","v":""},"",{"$f":"IF(Q486=\"\",\"\",GetURL(J486))","v":""}]
[null,null,null,null,null,null,null,null,null,null,0,"Moldova - Divizia Nationala","","",{"$f":"IF(N487=\"\",\"\",fmt(M487+myset!$F$27/24,\"HH:MM\"))","v":""},{"$f":"IF(O487=\"\",\"\",B487)","v":""},"",{"$f":"IF(Q487=\"\",\"\",GetURL(J487))","v":""}]
["Zimbru has not won 10 halves on end in home games",null,null,null,null,null,null,null,null,null,0,"Moldova - Divizia Nationala","","",{"$f":"IF(N488=\"\",\"\",fmt(M488+myset!$F$27/24,\"HH:MM\"))","v":""},{"$f":"IF(O488=\"\",\"\",B488)","v":""},"",{"$f":"IF(Q488=\"\",\"\",GetURL(J488))","v":""}]
[null,null,null,null,null,null,null,null,null,null,0,"Moldova - Divizia Nationala","","",{"$f":"IF(N489=\"\",\"\",fmt(M489+myset!$F$27/24,\"HH:MM\"))","v":""},{"$f":"IF(O489=\"\",\"\",B489)","v":""},"",{"$f":"IF(Q489=\"\",\"\",GetURL(J489))","v":""}]
["Zimbru has not won 1st half in 16 last games",null,null,null,null,null,null,null,null,null,0,"Moldova - Divizia Nationala","","",{"$f":"IF(N490=\"\",\"\",fmt(M490+myset!$F$27/24,\"HH:MM\"))","v":""},{"$f":"IF(O490=\"\",\"\",B490)","v":""},"",{"$f":"IF(Q490=\"\",\"\",GetURL(J490))","v":""}]
[null,null,null,null,null,null,null,null,null,null,0,"Moldova - Divizia Nationala","","",{"$f":"IF(N491=\"\",\"\",fmt(M491+myset!$F$27/24,\"HH:MM\"))","v":""},{"$f":"IF(O491=\"\",\"\",B491)","v":""},"",{"$f":"IF(Q491=\"\",\"\",GetURL(J491))","v":""}]
["Zimbru has not won 1st half in 19 last home games",null,null,null,null,null,null,null,null,null,0,"Moldova - Divizia Nationala","","",{"$f":"IF(N492=\"\",\"\",fmt(M492+myset!$F$27/24,\"HH:MM\"))","v":""},{"$f":"IF(O492=\"\",\"\",B492)","v":""},"",{"$f":"IF(Q492=\"\",\"\",GetURL(J492))","v":""}]
[null,null,null,null,null,null,null,null,null,null,0,"Moldova - Divizia Nationala","","",{"$f":"IF(N493=\"\",\"\",fmt(M493+myset!$F$27/24,\"HH:MM\"))","v":""},{"$f":"IF(O493=\"\",\"\",B493)","v":""},"",{"$f":"IF(Q493=\"\",\"\",GetURL(J493))","v":""}]
["flagN. Ireland Premiership",null,null,null,1,"X",2,null,null,null,1,"N. Ireland Premiership","","",{"$f":"IF(N494=\"\",\"\",fmt(M494+myset!$F$27/24,\"HH:MM\"))","v":""},{"$f":"IF(O494=\"\",\"\",B494)","v":""},"",{"$f":"IF(Q494=\"\",\"\",GetURL(J494))","v":""}]
["22:30 582354","Portadown ","Glentoran ","— — ",null,null,null,0,null,null,0,"N. Ireland Premiership","22:30","N. Ireland Premiership",{"$f":"IF(N495=\"\",\"\",fmt(M495+myset!$F$27/24,\"HH:MM\"))","v":"23:30"},{"$f":"IF(O495=\"\",\"\",B495)","v":"Portadown "},"Glentoran ",{"$f":"IF(Q495=\"\",\"\",GetURL(J495))","v":"https://en.24score.com/football/match/582354-portadown-glentoran"}]
[null,null,null,null,null,null,null,null,null,null,0,"N. Ireland Premiership","","",{"$f":"IF(N496=\"\",\"\",fmt(M496+myset!$F$27/24,\"HH:MM\"))","v":""},{"$f":"IF(O496=\"\",\"\",B496)","v":""},"",{"$f":"IF(Q496=\"\",\"\",GetURL(J496))","v":""}]
["flagNetherlands Eerste Divisie",null,null,null,1,"X",2,null,null,null,1,"Netherlands Eerste Divisie","","",{"$f":"IF(N497=\"\",\"\",fmt(M497+myset!$F$27/24,\"HH:MM\"))","v":""},{"$f":"IF(O497=\"\",\"\",B497)","v":""},"",{"$f":"IF(Q497=\"\",\"\",GetURL(J497))","v":""}]
["20:45 558975","Volendam ","Oss ","— — ","1.26 ","6.1 ","11.5 ",2,null,null,0,"Netherlands Eerste Divisie","20:45","Netherlands Eerste Divisie",{"$f":"IF(N498=\"\",\"\",fmt(M498+myset!$F$27/24,\"HH:MM\"))","v":"21:45"},{"$f":"IF(O498=\"\",\"\",B498)","v":"Volendam "},"Oss ",{"$f":"IF(Q498=\"\",\"\",GetURL(J498))","v":"https://en.24score.com/football/match/558975-volendam-oss"}]
["X",null,null,null,null,null,null,null,null,null,0,"Netherlands Eerste Divisie","","",{"$f":"IF(N499=\"\",\"\",fmt(M499+myset!$F$27/24,\"HH:MM\"))","v":""},{"$f":"IF(O499=\"\",\"\",B499)","v":""},"",{"$f":"IF(Q499=\"\",\"\",GetURL(J499))","v":""}]
[null,null,null,null,null,null,null,null,null,null,0,"Netherlands Eerste Divisie","","",{"$f":"IF(N500=\"\",\"\",fmt(M500+myset!$F$27/24,\"HH:MM\"))","v":""},{"$f":"IF(O500=\"\",\"\",B500)","v":""},"",{"$f":"IF(Q500=\"\",\"\",GetURL(J500))","v":""}]
["Volendam have had over 1.5 1st half goals in 4 last matches",null,null,null,null,null,null,null,null,null,0,"Netherlands Eerste Divisie","","",{"$f":"IF(N501=\"\",\"\",fmt(M501+myset!$F$27/24,\"HH:MM\"))","v":""},{"$f":"IF(O501=\"\",\"\",B501)","v":""},"",{"$f":"IF(Q501=\"\",\"\",GetURL(J501))","v":""}]
[null,null,null,null,null,null,null,null,null,null,0,"Netherlands Eerste Divisie","","",{"$f":"IF(N502=\"\",\"\",fmt(M502+myset!$F$27/24,\"HH:MM\"))","v":""},{"$f":"IF(O502=\"\",\"\",B502)","v":""},"",{"$f":"IF(Q502=\"\",\"\",GetURL(J502))","v":""}]
["Oss has not won 17 last away games",null,null,null,null,null,null,null,null,null,0,"Netherlands Eerste Divisie","","",{"$f":"IF(N503=\"\",\"\",fmt(M503+myset!$F$27/24,\"HH:MM\"))","v":""},{"$f":"IF(O503=\"\",\"\",B503)","v":""},"",{"$f":"IF(Q503=\"\",\"\",GetURL(J503))","v":""}]
["20:45 558984","NEC Nijmegen ","Roda ","— — ","1.92 ","3.74 ","3.86 ",1,null,null,0,"Netherlands Eerste Divisie","20:45","Netherlands Eerste Divisie",{"$f":"IF(N504=\"\",\"\",fmt(M504+myset!$F$27/24,\"HH:MM\"))","v":"21:45"},{"$f":"IF(O504=\"\",\"\",B504)","v":"NEC Nijmegen "},"Roda ",{"$f":"IF(Q504=\"\",\"\",GetURL(J504))","v":"https://en.24score.com/football/match/558984-nec-nijmegen-roda"}]
["X",null,null,null,null,null,null,null,null,null,0,"Netherlands Eerste Divisie","","",{"$f":"IF(N505=\"\",\"\",fmt(M505+myset!$F$27/24,\"HH:MM\"))","v":""},{"$f":"IF(O505=\"\",\"\",B505)","v":""},"",{"$f":"IF(Q505=\"\",\"\",GetURL(J505))","v":""}]
[null,null,null,null,null,null,null,null,null,null,0,"Netherlands Eerste Divisie","","",{"$f":"IF(N506=\"\",\"\",fmt(M506+myset!$F$27/24,\"HH:MM\"))","v":""},{"$f":"IF(O506=\"\",\"\",B506)","v":""},"",{"$f":"IF(Q506=\"\",\"\",GetURL(J506))","v":""}]
["Roda has not tied 1st period in 8 last away games",null,null,null,null,null,null,null,null,null,0,"Netherlands Eerste Divisie","","",{"$f":"IF(N507=\"\",\"\",fmt(M507+myset!$F$27/24,\"HH:MM\"))","v":""},{"$f":"IF(O507=\"\",\"\",B507)","v":""},"",{"$f":"IF(Q507=\"\",\"\",GetURL(J507))","v":""}]
["20:45 558981","Excelsior ","Jong AZ ","— — ","1.64 ","4.6 ","4.54 ",0,null,null,0,"Netherlands Eerste Divisie","20:45","Netherlands Eerste Divisie",{"$f":"IF(N508=\"\",\"\",fmt(M508+myset!$F$27/24,\"HH:MM\"))","v":"21:45"},{"$f":"IF(O508=\"\",\"\",B508)","v":"Excelsior "},"Jong AZ ",{"$f":"IF(Q508=\"\",\"\",GetURL(J508))","v":"https://en.24score.com/football/match/558981-excelsior-jong-az"}]
["23:00 558979","Den Bosch ","Jong Ajax ","— — ","3.065 ","4.04 ","2.11 ",6,null,null,0,"Netherlands Eerste Divisie","23:00","Netherlands Eerste Divisie",{"$f":"IF(N509=\"\",\"\",fmt(M509+myset!$F$27/24,\"HH:MM\"))","v":"00:00"},{"$f":"IF(O509=\"\",\"\",B509)","v":"Den Bosch "},"Jong Ajax ",{"$f":"IF(Q509=\"\",\"\",GetURL(J509))","v":"https://en.24score.com/football/match/558979-den-bosch-jong-ajax"}]
["X",null,null,null,null,null,null,null,null,null,0,"Netherlands Eerste Divisie","","",{"$f":"IF(N510=\"\",\"\",fmt(M510+myset!$F$27/24,\"HH:MM\"))","v":""},{"$f":"IF(O510=\"\",\"\",B510)","v":""},"",{"$f":"IF(Q510=\"\",\"\",GetURL(J510))","v":""}]
[null,null,null,null,null,null,null,null,null,null,0,"Netherlands Eerste Divisie","","",{"$f":"IF(N511=\"\",\"\",fmt(M511+myset!$F$27/24,\"HH:MM\"))","v":""},{"$f":"IF(O511=\"\",\"\",B511)","v":""},"",{"$f":"IF(Q511=\"\",\"\",GetURL(J511))","v":""}]
["Jong Ajax have had over 1.5 goals 7 last halves in a row",null,null,null,null,null,null,null,null,null,0,"Netherlands Eerste Divisie","","",{"$f":"IF(N512=\"\",\"\",fmt(M512+myset!$F$27/24,\"HH:MM\"))","v":""},{"$f":"IF(O512=\"\",\"\",B512)","v":""},"",{"$f":"IF(Q512=\"\",\"\",GetURL(J512))","v":""}]
[null,null,null,null,null,null,null,null,null,null,0,"Netherlands Eerste Divisie","","",{"$f":"IF(N513=\"\",\"\",fmt(M513+myset!$F$27/24,\"HH:MM\"))","v":""},{"$f":"IF(O513=\"\",\"\",B513)","v":""},"",{"$f":"IF(Q513=\"\",\"\",GetURL(J513))","v":""}]
["Jong Ajax have had over 1.5 goals 7 last halves in a row in away matches",null,null,null,null,null,null,null,null,null,0,"Netherlands Eerste Divisie","","",{"$f":"IF(N514=\"\",\"\",fmt(M514+myset!$F$27/24,\"HH:MM\"))","v":""},{"$f":"IF(O514=\"\",\"\",B514)","v":""},"",{"$f":"IF(Q514=\"\",\"\",GetURL(J514))","v":""}]
[null,null,null,null,null,null,null,null,null,null,{"$f":"IFERROR(SEARCH(\"flag\",A515),0)","v":0},{"$f":"IF(K515=1,MID(A515,5,100),L514)","v":"Netherlands Eerste Divisie"},{"$f":"IF(B515=\"\",\"\",IFERROR(fmt(LEFT(A515,SEARCH(\" \",A515)-1),\"HH:MM\"),fmt(A515,\"HH:MM\")))","v":""},{"$f":"IF(M515=\"\",\"\",L515)","v":""},{"$f":"IF(N515=\"\",\"\",fmt(M515+myset!$F$27/24,\"HH:MM\"))","v":""},{"$f":"IF(O515=\"\",\"\",B515)","v":""},"",{"$f":"IF(Q515=\"\",\"\",GetURL(J515))","v":""}]
["Jong Ajax have had over 1.5 2nd half goals in 8 last matches",null,null,null,null,null,null,null,null,null,0,"Netherlands Eerste Divisie","","",{"$f":"IF(N516=\"\",\"\",fmt(M516+myset!$F$27/24,\"HH:MM\"))","v":""},{"$f":"IF(O516=\"\",\"\",B516)","v":""},"",{"$f":"IF(Q516=\"\",\"\",GetURL(J516))","v":""}]
[null,null,null,null,null,null,null,null,null,null,0,"Netherlands Eerste Divisie","","",{"$f":"IF(N517=\"\",\"\",fmt(M517+myset!$F$27/24,\"HH:MM\"))","v":""},{"$f":"IF(O517=\"\",\"\",B517)","v":""},"",{"$f":"IF(Q517=\"\",\"\",GetURL(J517))","v":""}]
["Jong Ajax have had over 1.5 2nd half goals in 9 last away matches",null,null,null,null,null,null,null,null,null,0,"Netherlands Eerste Divisie","","",{"$f":"IF(N518=\"\",\"\",fmt(M518+myset!$F$27/24,\"HH:MM\"))","v":""},{"$f":"IF(O518=\"\",\"\",B518)","v":""},"",{"$f":"IF(Q518=\"\",\"\",GetURL(J518))","v":""}]
[null,null,null,null,null,null,null,null,null,null,0,"Netherlands Eerste Divisie","","",{"$f":"IF(N519=\"\",\"\",fmt(M519+myset!$F$27/24,\"HH:MM\"))","v":""},{"$f":"IF(O519=\"\",\"\",B519)","v":""},"",{"$f":"IF(Q519=\"\",\"\",GetURL(J519))","v":""}]
["Jong Ajax have had over 2.5 goals in their last 13 matches",null,null,null,null,null,null,null,null,null,0,"Netherlands Eerste Divisie","","",{"$f":"IF(N520=\"\",\"\",fmt(M520+myset!$F$27/24,\"HH:MM\"))","v":""},{"$f":"IF(O520=\"\",\"\",B520)","v":""},"",{"$f":"IF(Q520=\"\",\"\",GetURL(J520))","v":""}]
[null,null,null,null,null,null,null,null,null,null,0,"Netherlands Eerste Divisie","","",{"$f":"IF(N521=\"\",\"\",fmt(M521+myset!$F$27/24,\"HH:MM\"))","v":""},{"$f":"IF(O521=\"\",\"\",B521)","v":""},"",{"$f":"IF(Q521=\"\",\"\",GetURL(J521))","v":""}]
["Jong Ajax have had over 2.5 goals in their last 6 away matches",null,null,null,null,null,null,null,null,null,0,"Netherlands Eerste Divisie","","",{"$f":"IF(N522=\"\",\"\",fmt(M522+myset!$F$27/24,\"HH:MM\"))","v":""},{"$f":"IF(O522=\"\",\"\",B522)","v":""},"",{"$f":"IF(Q522=\"\",\"\",GetURL(J522))","v":""}]
["23:00 558977","Jong Utrecht ","Helmond ","— — ","1.97 ","3.8 ","3.62 ",1,null,null,0,"Netherlands Eerste Divisie","23:00","Netherlands Eerste Divisie",{"$f":"IF(N523=\"\",\"\",fmt(M523+myset!$F$27/24,\"HH:MM\"))","v":"00:00"},{"$f":"IF(O523=\"\",\"\",B523)","v":"Jong Utrecht "},"Helmond ",{"$f":"IF(Q523=\"\",\"\",GetURL(J523))","v":"https://en.24score.com/football/match/558977-jong-utrecht-helmond"}]
["X",null,null,null,null,null,null,null,null,null,0,"Netherlands Eerste Divisie","","",{"$f":"IF(N524=\"\",\"\",fmt(M524+myset!$F$27/24,\"HH:MM\"))","v":""},{"$f":"IF(O524=\"\",\"\",B524)","v":""},"",{"$f":"IF(Q524=\"\",\"\",GetURL(J524))","v":""}]
[null,null,null,null,null,null,null,null,null,null,0,"Netherlands Eerste Divisie","","",{"$f":"IF(N525=\"\",\"\",fmt(M525+myset!$F$27/24,\"HH:MM\"))","v":""},{"$f":"IF(O525=\"\",\"\",B525)","v":""},"",{"$f":"IF(Q525=\"\",\"\",GetURL(J525))","v":""}]
["Jong Utrecht has played 15 games without draws",null,null,null,null,null,null,null,null,null,0,"Netherlands Eerste Divisie","","",{"$f":"IF(N526=\"\",\"\",fmt(M526+myset!$F$27/24,\"HH:MM\"))","v":""},{"$f":"IF(O526=\"\",\"\",B526)","v":""},"",{"$f":"IF(Q526=\"\",\"\",GetURL(J526))","v":""}]
["23:00 558983","Maastricht ","Jong PSV ","— — ","2.23 ","3.94 ","2.896 ",2,null,null,0,"Netherlands Eerste Divisie","23:00","Netherlands Eerste Divisie",{"$f":"IF(N527=\"\",\"\",fmt(M527+myset!$F$27/24,\"HH:MM\"))","v":"00:00"},{"$f":"IF(O527=\"\",\"\",B527)","v":"Maastricht "},"Jong PSV ",{"$f":"IF(Q527=\"\",\"\",GetURL(J527))","v":"https://en.24score.com/football/match/558983-maastricht-jong-psv"}]
["X",null,null,null,null,null,null,null,null,null,0,"Netherlands Eerste Divisie","","",{"$f":"IF(N528=\"\",\"\",fmt(M528+myset!$F$27/24,\"HH:MM\"))","v":""},{"$f":"IF(O528=\"\",\"\",B528)","v":""},"",{"$f":"IF(Q528=\"\",\"\",GetURL(J528))","v":""}]
[null,null,null,null,null,null,null,null,null,null,0,"Netherlands Eerste Divisie","","",{"$f":"IF(N529=\"\",\"\",fmt(M529+myset!$F$27/24,\"HH:MM\"))","v":""},{"$f":"IF(O529=\"\",\"\",B529)","v":""},"",{"$f":"IF(Q529=\"\",\"\",GetURL(J529))","v":""}]
["Maastricht have had over 1.5 goals 4 last halves in a row in home matches",null,null,null,null,null,null,null,null,null,0,"Netherlands Eerste Divisie","","",{"$f":"IF(N530=\"\",\"\",fmt(M530+myset!$F$27/24,\"HH:MM\"))","v":""},{"$f":"IF(O530=\"\",\"\",B530)","v":""},"",{"$f":"IF(Q530=\"\",\"\",GetURL(J530))","v":""}]
[null,null,null,null,null,null,null,null,null,null,0,"Netherlands Eerste Divisie","","",{"$f":"IF(N531=\"\",\"\",fmt(M531+myset!$F$27/24,\"HH:MM\"))","v":""},{"$f":"IF(O531=\"\",\"\",B531)","v":""},"",{"$f":"IF(Q531=\"\",\"\",GetURL(J531))","v":""}]
["Jong PSV have had over 2.5 goals in their last 6 away matches",null,null,null,null,null,null,null,null,null,0,"Netherlands Eerste Divisie","","",{"$f":"IF(N532=\"\",\"\",fmt(M532+myset!$F$27/24,\"HH:MM\"))","v":""},{"$f":"IF(O532=\"\",\"\",B532)","v":""},"",{"$f":"IF(Q532=\"\",\"\",GetURL(J532))","v":""}]
[null,null,null,null,null,null,null,null,null,null,0,"Netherlands Eerste Divisie","","",{"$f":"IF(N533=\"\",\"\",fmt(M533+myset!$F$27/24,\"HH:MM\"))","v":""},{"$f":"IF(O533=\"\",\"\",B533)","v":""},"",{"$f":"IF(Q533=\"\",\"\",GetURL(J533))","v":""}]
["flagNicaragua Primera",null,null,null,1,"X",2,null,null,null,1,"Nicaragua Primera","","",{"$f":"IF(N534=\"\",\"\",fmt(M534+myset!$F$27/24,\"HH:MM\"))","v":""},{"$f":"IF(O534=\"\",\"\",B534)","v":""},"",{"$f":"IF(Q534=\"\",\"\",GetURL(J534))","v":""}]
["04:00 584323","Esteli ","Managua FC ","— — ",null,null,null,3,null,null,0,"Nicaragua Primera","04:00","Nicaragua Primera",{"$f":"IF(N535=\"\",\"\",fmt(M535+myset!$F$27/24,\"HH:MM\"))","v":"05:00"},{"$f":"IF(O535=\"\",\"\",B535)","v":"Esteli "},"Managua FC ",{"$f":"IF(Q535=\"\",\"\",GetURL(J535))","v":"https://en.24score.com/football/match/584323-esteli-managua-fc"}]
["X",null,null,null,null,null,null,null,null,null,0,"Nicaragua Primera","","",{"$f":"IF(N536=\"\",\"\",fmt(M536+myset!$F$27/24,\"HH:MM\"))","v":""},{"$f":"IF(O536=\"\",\"\",B536)","v":""},"",{"$f":"IF(Q536=\"\",\"\",GetURL(J536))","v":""}]
[null,null,null,null,null,null,null,null,null,null,0,"Nicaragua Primera","","",{"$f":"IF(N537=\"\",\"\",fmt(M537+myset!$F$27/24,\"HH:MM\"))","v":""},{"$f":"IF(O537=\"\",\"\",B537)","v":""},"",{"$f":"IF(Q537=\"\",\"\",GetURL(J537))","v":""}]
["Esteli has not lost 17 last home games",null,null,null,null,null,null,null,null,null,0,"Nicaragua Primera","","",{"$f":"IF(N538=\"\",\"\",fmt(M538+myset!$F$27/24,\"HH:MM\"))","v":""},{"$f":"IF(O538=\"\",\"\",B538)","v":""},"",{"$f":"IF(Q538=\"\",\"\",GetURL(J538))","v":""}]
[null,null,null,null,null,null,null,null,null,null,0,"Nicaragua Primera","","",{"$f":"IF(N539=\"\",\"\",fmt(M539+myset!$F$27/24,\"HH:MM\"))","v":""},{"$f":"IF(O539=\"\",\"\",B539)","v":""},"",{"$f":"IF(Q539=\"\",\"\",GetURL(J539))","v":""}]
["Esteli has not lost 2nd period in 17 last home games",null,null,null,null,null,null,null,null,null,0,"Nicaragua Primera","","",{"$f":"IF(N540=\"\",\"\",fmt(M540+myset!$F$27/24,\"HH:MM\"))","v":""},{"$f":"IF(O540=\"\",\"\",B540)","v":""},"",{"$f":"IF(Q540=\"\",\"\",GetURL(J540))","v":""}]
[null,null,null,null,null,null,null,null,null,null,0,"Nicaragua Primera","","",{"$f":"IF(N541=\"\",\"\",fmt(M541+myset!$F$27/24,\"HH:MM\"))","v":""},{"$f":"IF(O541=\"\",\"\",B541)","v":""},"",{"$f":"IF(Q541=\"\",\"\",GetURL(J541))","v":""}]
["Managua FC has tied 2nd period in 5 last away games",null,null,null,null,null,null,null,null,null,0,"Nicaragua Primera","","",{"$f":"IF(N542=\"\",\"\",fmt(M542+myset!$F$27/24,\"HH:MM\"))","v":""},{"$f":"IF(O542=\"\",\"\",B542)","v":""},"",{"$f":"IF(Q542=\"\",\"\",GetURL(J542))","v":""}]
["04:00 584326","Walter Ferretti ","Chinandega FC ","— — ",null,null,null,0,null,null,0,"Nicaragua Primera","04:00","Nicaragua Primera",{"$f":"IF(N543=\"\",\"\",fmt(M543+myset!$F$27/24,\"HH:MM\"))","v":"05:00"},{"$f":"IF(O543=\"\",\"\",B543)","v":"Walter Ferretti "},"Chinandega FC ",{"$f":"IF(Q543=\"\",\"\",GetURL(J543))","v":"https://en.24score.com/football/match/584326-walter-ferretti-chinandega-fc"}]
["04:00 584327","Art Municipal Jalapa ","Real Madriz ","— — ",null,null,null,1,null,null,0,"Nicaragua Primera","04:00","Nicaragua Primera",{"$f":"IF(N544=\"\",\"\",fmt(M544+myset!$F$27/24,\"HH:MM\"))","v":"05:00"},{"$f":"IF(O544=\"\",\"\",B544)","v":"Art Municipal Jalapa "},"Real Madriz ",{"$f":"IF(Q544=\"\",\"\",GetURL(J544))","v":"https://en.24score.com/football/match/584327-art-municipal-jalapa-real-madriz"}]
["X",null,null,null,null,null,null,null,null,null,0,"Nicaragua Primera","","",{"$f":"IF(N545=\"\",\"\",fmt(M545+myset!$F$27/24,\"HH:MM\"))","v":""},{"$f":"IF(O545=\"\",\"\",B545)","v":""},"",{"$f":"IF(Q545=\"\",\"\",GetURL(J545))","v":""}]
[null,null,null,null,null,null,null,null,null,null,0,"Nicaragua Primera","","",{"$f":"IF(N546=\"\",\"\",fmt(M546+myset!$F$27/24,\"HH:MM\"))","v":""},{"$f":"IF(O546=\"\",\"\",B546)","v":""},"",{"$f":"IF(Q546=\"\",\"\",GetURL(J546))","v":""}]
["Art Municipal Jalapa has not lost 2nd period in 21 last home games",null,null,null,null,null,null,null,null,null,0,"Nicaragua Primera","","",{"$f":"IF(N547=\"\",\"\",fmt(M547+myset!$F$27/24,\"HH:MM\"))","v":""},{"$f":"IF(O547=\"\",\"\",B547)","v":""},"",{"$f":"IF(Q547=\"\",\"\",GetURL(J547))","v":""}]
["04:00 584324","Diriangen FC ","Ocotal ","— — ",null,null,null,2,null,null,0,"Nicaragua Primera","04:00","Nicaragua Primera",{"$f":"IF(N548=\"\",\"\",fmt(M548+myset!$F$27/24,\"HH:MM\"))","v":"05:00"},{"$f":"IF(O548=\"\",\"\",B548)","v":"Diriangen FC "},"Ocotal ",{"$f":"IF(Q548=\"\",\"\",GetURL(J548))","v":"https://en.24score.com/football/match/584324-diriangen-fc-ocotal"}]
["X",null,null,null,null,null,null,null,null,null,0,"Nicaragua Primera","","",{"$f":"IF(N549=\"\",\"\",fmt(M549+myset!$F$27/24,\"HH:MM\"))","v":""},{"$f":"IF(O549=\"\",\"\",B549)","v":""},"",{"$f":"IF(Q549=\"\",\"\",GetURL(J549))","v":""}]
[null,null,null,null,null,null,null,null,null,null,0,"Nicaragua Primera","","",{"$f":"IF(N550=\"\",\"\",fmt(M550+myset!$F$27/24,\"HH:MM\"))","v":""},{"$f":"IF(O550=\"\",\"\",B550)","v":""},"",{"$f":"IF(Q550=\"\",\"\",GetURL(J550))","v":""}]
["Diriangen FC has not tied 8 periods on end in home games",null,null,null,null,null,null,null,null,null,0,"Nicaragua Primera","","",{"$f":"IF(N551=\"\",\"\",fmt(M551+myset!$F$27/24,\"HH:MM\"))","v":""},{"$f":"IF(O551=\"\",\"\",B551)","v":""},"",{"$f":"IF(Q551=\"\",\"\",GetURL(J551))","v":""}]
[null,null,null,null,null,null,null,null,null,null,0,"Nicaragua Primera","","",{"$f":"IF(N552=\"\",\"\",fmt(M552+myset!$F$27/24,\"HH:MM\"))","v":""},{"$f":"IF(O552=\"\",\"\",B552)","v":""},"",{"$f":"IF(Q552=\"\",\"\",GetURL(J552))","v":""}]
["Ocotal have had under 1.5 goals 9 last halves in a row",null,null,null,null,null,null,null,null,null,0,"Nicaragua Primera","","",{"$f":"IF(N553=\"\",\"\",fmt(M553+myset!$F$27/24,\"HH:MM\"))","v":""},{"$f":"IF(O553=\"\",\"\",B553)","v":""},"",{"$f":"IF(Q553=\"\",\"\",GetURL(J553))","v":""}]
["04:00 584325","CD Junior ","Juventus Managua ","— — ",null,null,null,0,null,null,0,"Nicaragua Primera","04:00","Nicaragua Primera",{"$f":"IF(N554=\"\",\"\",fmt(M554+myset!$F$27/24,\"HH:MM\"))","v":"05:00"},{"$f":"IF(O554=\"\",\"\",B554)","v":"CD Junior "},"Juventus Managua ",{"$f":"IF(Q554=\"\",\"\",GetURL(J554))","v":"https://en.24score.com/football/match/584325-cd-junior-juventus-managua"}]
[null,null,null,null,null,null,null,null,null,null,0,"Nicaragua Primera","","",{"$f":"IF(N555=\"\",\"\",fmt(M555+myset!$F$27/24,\"HH:MM\"))","v":""},{"$f":"IF(O555=\"\",\"\",B555)","v":""},"",{"$f":"IF(Q555=\"\",\"\",GetURL(J555))","v":""}]
["flagPanama LPF",null,null,null,1,"X",2,null,null,null,1,"Panama LPF","","",{"$f":"IF(N556=\"\",\"\",fmt(M556+myset!$F$27/24,\"HH:MM\"))","v":""},{"$f":"IF(O556=\"\",\"\",B556)","v":""},"",{"$f":"IF(Q556=\"\",\"\",GetURL(J556))","v":""}]
["02:00 583543","Costa Del Este FC ","Alianza ","— — ",null,null,null,1,null,null,0,"Panama LPF","02:00","Panama LPF",{"$f":"IF(N557=\"\",\"\",fmt(M557+myset!$F$27/24,\"HH:MM\"))","v":"03:00"},{"$f":"IF(O557=\"\",\"\",B557)","v":"Costa Del Este FC "},"Alianza ",{"$f":"IF(Q557=\"\",\"\",GetURL(J557))","v":"https://en.24score.com/football/match/583543-costa-del-este-fc-alianza"}]
["X",null,null,null,null,null,null,null,null,null,0,"Panama LPF","","",{"$f":"IF(N558=\"\",\"\",fmt(M558+myset!$F$27/24,\"HH:MM\"))","v":""},{"$f":"IF(O558=\"\",\"\",B558)","v":""},"",{"$f":"IF(Q558=\"\",\"\",GetURL(J558))","v":""}]
[null,null,null,null,null,null,null,null,null,null,0,"Panama LPF","","",{"$f":"IF(N559=\"\",\"\",fmt(M559+myset!$F$27/24,\"HH:MM\"))","v":""},{"$f":"IF(O559=\"\",\"\",B559)","v":""},"",{"$f":"IF(Q559=\"\",\"\",GetURL(J559))","v":""}]
["Alianza have had under 1.5 1st half goals in 12 last matches",null,null,null,null,null,null,null,null,null,0,"Panama LPF","","",{"$f":"IF(N560=\"\",\"\",fmt(M560+myset!$F$27/24,\"HH:MM\"))","v":""},{"$f":"IF(O560=\"\",\"\",B560)","v":""},"",{"$f":"IF(Q560=\"\",\"\",GetURL(J560))","v":""}]
[null,null,null,null,null,null,null,null,null,null,0,"Panama LPF","","",{"$f":"IF(N561=\"\",\"\",fmt(M561+myset!$F$27/24,\"HH:MM\"))","v":""},{"$f":"IF(O561=\"\",\"\",B561)","v":""},"",{"$f":"IF(Q561=\"\",\"\",GetURL(J561))","v":""}]
["flagPoland I Liga",null,null,null,1,"X",2,null,null,null,1,"Poland I Liga","","",{"$f":"IF(N562=\"\",\"\",fmt(M562+myset!$F$27/24,\"HH:MM\"))","v":""},{"$f":"IF(O562=\"\",\"\",B562)","v":""},"",{"$f":"IF(Q562=\"\",\"\",GetURL(J562))","v":""}]
["19:40 568340","Nieciecza ","Widzew Lodz ","— — ","2.025 ","3.38 ","3.72 ",5,null,null,0,"Poland I Liga","19:40","Poland I Liga",{"$f":"IF(N563=\"\",\"\",fmt(M563+myset!$F$27/24,\"HH:MM\"))","v":"20:40"},{"$f":"IF(O563=\"\",\"\",B563)","v":"Nieciecza "},"Widzew Lodz ",{"$f":"IF(Q563=\"\",\"\",GetURL(J563))","v":"https://en.24score.com/football/match/568340-nieciecza-widzew-lodz"}]
["X",null,null,null,null,null,null,null,null,null,0,"Poland I Liga","","",{"$f":"IF(N564=\"\",\"\",fmt(M564+myset!$F$27/24,\"HH:MM\"))","v":""},{"$f":"IF(O564=\"\",\"\",B564)","v":""},"",{"$f":"IF(Q564=\"\",\"\",GetURL(J564))","v":""}]
[null,null,null,null,null,null,null,null,null,null,0,"Poland I Liga","","",{"$f":"IF(N565=\"\",\"\",fmt(M565+myset!$F$27/24,\"HH:MM\"))","v":""},{"$f":"IF(O565=\"\",\"\",B565)","v":""},"",{"$f":"IF(Q565=\"\",\"\",GetURL(J565))","v":""}]
["Nieciecza has won 6 last games",null,null,null,null,null,null,null,null,null,0,"Poland I Liga","","",{"$f":"IF(N566=\"\",\"\",fmt(M566+myset!$F$27/24,\"HH:MM\"))","v":""},{"$f":"IF(O566=\"\",\"\",B566)","v":""},"",{"$f":"IF(Q566=\"\",\"\",GetURL(J566))","v":""}]
[null,null,null,null,null,null,null,null,null,null,0,"Poland I Liga","","",{"$f":"IF(N567=\"\",\"\",fmt(M567+myset!$F$27/24,\"HH:MM\"))","v":""},{"$f":"IF(O567=\"\",\"\",B567)","v":""},"",{"$f":"IF(Q567=\"\",\"\",GetURL(J567))","v":""}]
["Nieciecza has won 2nd period in 4 last games",null,null,null,null,null,null,null,null,null,0,"Poland I Liga","","",{"$f":"IF(N568=\"\",\"\",fmt(M568+myset!$F$27/24,\"HH:MM\"))","v":""},{"$f":"IF(O568=\"\",\"\",B568)","v":""},"",{"$f":"IF(Q568=\"\",\"\",GetURL(J568))","v":""}]
[null,null,null,null,null,null,null,null,null,null,0,"Poland I Liga","","",{"$f":"IF(N569=\"\",\"\",fmt(M569+myset!$F$27/24,\"HH:MM\"))","v":""},{"$f":"IF(O569=\"\",\"\",B569)","v":""},"",{"$f":"IF(Q569=\"\",\"\",GetURL(J569))","v":""}]
["Nieciecza has not lost 1st period in 14 last games",null,null,null,null,null,null,null,null,null,0,"Poland I Liga","","",{"$f":"IF(N570=\"\",\"\",fmt(M570+myset!$F$27/24,\"HH:MM\"))","v":""},{"$f":"IF(O570=\"\",\"\",B570)","v":""},"",{"$f":"IF(Q570=\"\",\"\",GetURL(J570))","v":""}]
[null,null,null,null,null,null,null,null,null,null,0,"Poland I Liga","","",{"$f":"IF(N571=\"\",\"\",fmt(M571+myset!$F$27/24,\"HH:MM\"))","v":""},{"$f":"IF(O571=\"\",\"\",B571)","v":""},"",{"$f":"IF(Q571=\"\",\"\",GetURL(J571))","v":""}]
["Widzew Lodz has tied 5 periods on end in away games",null,null,null,null,null,null,null,null,null,0,"Poland I Liga","","",{"$f":"IF(N572=\"\",\"\",fmt(M572+myset!$F$27/24,\"HH:MM\"))","v":""},{"$f":"IF(O572=\"\",\"\",B572)","v":""},"",{"$f":"IF(Q572=\"\",\"\",GetURL(J572))","v":""}]
[null,null,null,null,null,null,null,null,null,null,0,"Poland I Liga","","",{"$f":"IF(N573=\"\",\"\",fmt(M573+myset!$F$27/24,\"HH:MM\"))","v":""},{"$f":"IF(O573=\"\",\"\",B573)","v":""},"",{"$f":"IF(Q573=\"\",\"\",GetURL(J573))","v":""}]
["Widzew Lodz has tied 1st period in 5 last games",null,null,null,null,null,null,null,null,null,0,"Poland I Liga","","",{"$f":"IF(N574=\"\",\"\",fmt(M574+myset!$F$27/24,\"HH:MM\"))","v":""},{"$f":"IF(O574=\"\",\"\",B574)","v":""},"",{"$f":"IF(Q574=\"\",\"\",GetURL(J574))","v":""}]
[null,null,null,null,null,null,null,null,null,null,0,"Poland I Liga","","",{"$f":"IF(N575=\"\",\"\",fmt(M575+myset!$F$27/24,\"HH:MM\"))","v":""},{"$f":"IF(O575=\"\",\"\",B575)","v":""},"",{"$f":"IF(Q575=\"\",\"\",GetURL(J575))","v":""}]
["flagScotland Championship",null,null,null,1,"X",2,null,null,null,1,"Scotland Championship","","",{"$f":"IF(N576=\"\",\"\",fmt(M576+myset!$F$27/24,\"HH:MM\"))","v":""},{"$f":"IF(O576=\"\",\"\",B576)","v":""},"",{"$f":"IF(Q576=\"\",\"\",GetURL(J576))","v":""}]
["22:45 581717","Dunfermline ","Hearts ","— — ",null,null,null,1,null,null,0,"Scotland Championship","22:45","Scotland Championship",{"$f":"IF(N577=\"\",\"\",fmt(M577+myset!$F$27/24,\"HH:MM\"))","v":"23:45"},{"$f":"IF(O577=\"\",\"\",B577)","v":"Dunfermline "},"Hearts ",{"$f":"IF(Q577=\"\",\"\",GetURL(J577))","v":"https://en.24score.com/football/match/581717-dunfermline-hearts"}]
["X",null,null,null,null,null,null,null,null,null,0,"Scotland Championship","","",{"$f":"IF(N578=\"\",\"\",fmt(M578+myset!$F$27/24,\"HH:MM\"))","v":""},{"$f":"IF(O578=\"\",\"\",B578)","v":""},"",{"$f":"IF(Q578=\"\",\"\",GetURL(J578))","v":""}]
[null,null,null,null,null,null,null,null,null,null,{"$f":"IFERROR(SEARCH(\"flag\",A579),0)","v":0},{"$f":"IF(K579=1,MID(A579,5,100),L578)","v":"Scotland Championship"},{"$f":"IF(B579=\"\",\"\",IFERROR(fmt(LEFT(A579,SEARCH(\" \",A579)-1),\"HH:MM\"),fmt(A579,\"HH:MM\")))","v":""},{"$f":"IF(M579=\"\",\"\",L579)","v":""},{"$f":"IF(N579=\"\",\"\",fmt(M579+myset!$F$27/24,\"HH:MM\"))","v":""},{"$f":"IF(O579=\"\",\"\",B579)","v":""},"",{"$f":"IF(Q579=\"\",\"\",GetURL(J579))","v":""}]
["Dunfermline have had over 1.5 goals 4 last halves in a row in home matches",null,null,null,null,null,null,null,null,null,0,"Scotland Championship","","",{"$f":"IF(N580=\"\",\"\",fmt(M580+myset!$F$27/24,\"HH:MM\"))","v":""},{"$f":"IF(O580=\"\",\"\",B580)","v":""},"",{"$f":"IF(Q580=\"\",\"\",GetURL(J580))","v":""}]
[null,null,null,null,null,null,null,null,null,null,0,"Scotland Championship","","",{"$f":"IF(N581=\"\",\"\",fmt(M581+myset!$F$27/24,\"HH:MM\"))","v":""},{"$f":"IF(O581=\"\",\"\",B581)","v":""},"",{"$f":"IF(Q581=\"\",\"\",GetURL(J581))","v":""}]
["flagSerbia - Superliga",null,null,null,1,"X",2,null,null,null,1,"Serbia - Superliga","","",{"$f":"IF(N582=\"\",\"\",fmt(M582+myset!$F$27/24,\"HH:MM\"))","v":""},{"$f":"IF(O582=\"\",\"\",B582)","v":""},"",{"$f":"IF(Q582=\"\",\"\",GetURL(J582))","v":""}]
["19:00 558441","Javor ","Spartak Subotica ","— — ","2.81 ","3.3 ","2.35 ",0,null,null,0,"Serbia - Superliga","19:00","Serbia - Superliga",{"$f":"IF(N583=\"\",\"\",fmt(M583+myset!$F$27/24,\"HH:MM\"))","v":"20:00"},{"$f":"IF(O583=\"\",\"\",B583)","v":"Javor "},"Spartak Subotica ",{"$f":"IF(Q583=\"\",\"\",GetURL(J583))","v":"https://en.24score.com/football/match/558441-javor-spartak-subotica"}]
["19:00 558443","Mladost L ","Cukaricki ","— — ","2.625 ","3.28 ","2.49 ",0,null,null,0,"Serbia - Superliga","19:00","Serbia - Superliga",{"$f":"IF(N584=\"\",\"\",fmt(M584+myset!$F$27/24,\"HH:MM\"))","v":"20:00"},{"$f":"IF(O584=\"\",\"\",B584)","v":"Mladost L "},"Cukaricki ",{"$f":"IF(Q584=\"\",\"\",GetURL(J584))","v":"https://en.24score.com/football/match/558443-mladost-l-cukaricki"}]
["19:00 558436","Radnik ","Macva ","— — ","1.55 ",4,"5.25 ",2,null,null,0,"Serbia - Superliga","19:00","Serbia - Superliga",{"$f":"IF(N585=\"\",\"\",fmt(M585+myset!$F$27/24,\"HH:MM\"))","v":"20:00"},{"$f":"IF(O585=\"\",\"\",B585)","v":"Radnik "},"Macva ",{"$f":"IF(Q585=\"\",\"\",GetURL(J585))","v":"https://en.24score.com/football/match/558436-radnik-macva"}]
["X",null,null,null,null,null,null,null,null,null,0,"Serbia - Superliga","","",{"$f":"IF(N586=\"\",\"\",fmt(M586+myset!$F$27/24,\"HH:MM\"))","v":""},{"$f":"IF(O586=\"\",\"\",B586)","v":""},"",{"$f":"IF(Q586=\"\",\"\",GetURL(J586))","v":""}]
[null,null,null,null,null,null,null,null,null,null,0,"Serbia - Superliga","","",{"$f":"IF(N587=\"\",\"\",fmt(M587+myset!$F$27/24,\"HH:MM\"))","v":""},{"$f":"IF(O587=\"\",\"\",B587)","v":""},"",{"$f":"IF(Q587=\"\",\"\",GetURL(J587))","v":""}]
["Macva has not won 21 last away games",null,null,null,null,null,null,null,null,null,0,"Serbia - Superliga","","",{"$f":"IF(N588=\"\",\"\",fmt(M588+myset!$F$27/24,\"HH:MM\"))","v":""},{"$f":"IF(O588=\"\",\"\",B588)","v":""},"",{"$f":"IF(Q588=\"\",\"\",GetURL(J588))","v":""}]
[null,null,null,null,null,null,null,null,null,null,0,"Serbia - Superliga","","",{"$f":"IF(N589=\"\",\"\",fmt(M589+myset!$F$27/24,\"HH:MM\"))","v":""},{"$f":"IF(O589=\"\",\"\",B589)","v":""},"",{"$f":"IF(Q589=\"\",\"\",GetURL(J589))","v":""}]
["Macva has not won 2nd half in 15 last away games",null,null,null,null,null,null,null,null,null,0,"Serbia - Superliga","","",{"$f":"IF(N590=\"\",\"\",fmt(M590+myset!$F$27/24,\"HH:MM\"))","v":""},{"$f":"IF(O590=\"\",\"\",B590)","v":""},"",{"$f":"IF(Q590=\"\",\"\",GetURL(J590))","v":""}]
[null,null,null,null,null,null,null,null,null,null,0,"Serbia - Superliga","","",{"$f":"IF(N591=\"\",\"\",fmt(M591+myset!$F$27/24,\"HH:MM\"))","v":""},{"$f":"IF(O591=\"\",\"\",B591)","v":""},"",{"$f":"IF(Q591=\"\",\"\",GetURL(J591))","v":""}]
["flagSweden Div 1",null,null,null,1,"X",2,null,null,null,1,"Sweden Div 1","","",{"$f":"IF(N592=\"\",\"\",fmt(M592+myset!$F$27/24,\"HH:MM\"))","v":""},{"$f":"IF(O592=\"\",\"\",B592)","v":""},"",{"$f":"IF(Q592=\"\",\"\",GetURL(J592))","v":""}]
["21:00 549163","Motala ","Linkoping ","— — ",null,null,null,3,null,null,0,"Sweden Div 1","21:00","Sweden Div 1",{"$f":"IF(N593=\"\",\"\",fmt(M593+myset!$F$27/24,\"HH:MM\"))","v":"22:00"},{"$f":"IF(O593=\"\",\"\",B593)","v":"Motala "},"Linkoping ",{"$f":"IF(Q593=\"\",\"\",GetURL(J593))","v":"https://en.24score.com/football/match/549163-motala-linkoping"}]
["X",null,null,null,null,null,null,null,null,null,0,"Sweden Div 1","","",{"$f":"IF(N594=\"\",\"\",fmt(M594+myset!$F$27/24,\"HH:MM\"))","v":""},{"$f":"IF(O594=\"\",\"\",B594)","v":""},"",{"$f":"IF(Q594=\"\",\"\",GetURL(J594))","v":""}]
[null,null,null,null,null,null,null,null,null,null,0,"Sweden Div 1","","",{"$f":"IF(N595=\"\",\"\",fmt(M595+myset!$F$27/24,\"HH:MM\"))","v":""},{"$f":"IF(O595=\"\",\"\",B595)","v":""},"",{"$f":"IF(Q595=\"\",\"\",GetURL(J595))","v":""}]
["Motala has lost 5 halves on end",null,null,null,null,null,null,null,null,null,0,"Sweden Div 1","","",{"$f":"IF(N596=\"\",\"\",fmt(M596+myset!$F$27/24,\"HH:MM\"))","v":""},{"$f":"IF(O596=\"\",\"\",B596)","v":""},"",{"$f":"IF(Q596=\"\",\"\",GetURL(J596))","v":""}]
[null,null,null,null,null,null,null,null,null,null,0,"Sweden Div 1","","",{"$f":"IF(N597=\"\",\"\",fmt(M597+myset!$F$27/24,\"HH:MM\"))","v":""},{"$f":"IF(O597=\"\",\"\",B597)","v":""},"",{"$f":"IF(Q597=\"\",\"\",GetURL(J597))","v":""}]
["Linkoping has not won 2nd half in 13 last away games",null,null,null,null,null,null,null,null,null,0,"Sweden Div 1","","",{"$f":"IF(N598=\"\",\"\",fmt(M598+myset!$F$27/24,\"HH:MM\"))","v":""},{"$f":"IF(O598=\"\",\"\",B598)","v":""},"",{"$f":"IF(Q598=\"\",\"\",GetURL(J598))","v":""}]
[null,null,null,null,null,null,null,null,null,null,0,"Sweden Div 1","","",{"$f":"IF(N599=\"\",\"\",fmt(M599+myset!$F$27/24,\"HH:MM\"))","v":""},{"$f":"IF(O599=\"\",\"\",B599)","v":""},"",{"$f":"IF(Q599=\"\",\"\",GetURL(J599))","v":""}]
["Linkoping have had over 2.5 goals in their last 6 away matches",null,null,null,null,null,null,null,null,null,0,"Sweden Div 1","","",{"$f":"IF(N600=\"\",\"\",fmt(M600+myset!$F$27/24,\"HH:MM\"))","v":""},{"$f":"IF(O600=\"\",\"\",B600)","v":""},"",{"$f":"IF(Q600=\"\",\"\",GetURL(J600))","v":""}]
[null,null,null,null,null,null,null,null,null,null,0,"Sweden Div 1","","",{"$f":"IF(N601=\"\",\"\",fmt(M601+myset!$F$27/24,\"HH:MM\"))","v":""},{"$f":"IF(O601=\"\",\"\",B601)","v":""},"",{"$f":"IF(Q601=\"\",\"\",GetURL(J601))","v":""}]
["flagSwitzerland - Challenge League",null,null,null,1,"X",2,null,null,null,1,"Switzerland - Challenge League","","",{"$f":"IF(N602=\"\",\"\",fmt(M602+myset!$F$27/24,\"HH:MM\"))","v":""},{"$f":"IF(O602=\"\",\"\",B602)","v":""},"",{"$f":"IF(Q602=\"\",\"\",GetURL(J602))","v":""}]
["21:00 577028","Stade Ouchy ","Schaffhausen ","— — ",null,null,null,1,null,null,0,"Switzerland - Challenge League","21:00","Switzerland - Challenge League",{"$f":"IF(N603=\"\",\"\",fmt(M603+myset!$F$27/24,\"HH:MM\"))","v":"22:00"},{"$f":"IF(O603=\"\",\"\",B603)","v":"Stade Ouchy "},"Schaffhausen ",{"$f":"IF(Q603=\"\",\"\",GetURL(J603))","v":"https://en.24score.com/football/match/577028-stade-ouchy-schaffhausen"}]
["X",null,null,null,null,null,null,null,null,null,0,"Switzerland - Challenge League","","",{"$f":"IF(N604=\"\",\"\",fmt(M604+myset!$F$27/24,\"HH:MM\"))","v":""},{"$f":"IF(O604=\"\",\"\",B604)","v":""},"",{"$f":"IF(Q604=\"\",\"\",GetURL(J604))","v":""}]
[null,null,null,null,null,null,null,null,null,null,0,"Switzerland - Challenge League","","",{"$f":"IF(N605=\"\",\"\",fmt(M605+myset!$F$27/24,\"HH:MM\"))","v":""},{"$f":"IF(O605=\"\",\"\",B605)","v":""},"",{"$f":"IF(Q605=\"\",\"\",GetURL(J605))","v":""}]
["Schaffhausen have had over 1.5 2nd half goals in 5 last matches",null,null,null,null,null,null,null,null,null,0,"Switzerland - Challenge League","","",{"$f":"IF(N606=\"\",\"\",fmt(M606+myset!$F$27/24,\"HH:MM\"))","v":""},{"$f":"IF(O606=\"\",\"\",B606)","v":""},"",{"$f":"IF(Q606=\"\",\"\",GetURL(J606))","v":""}]
["21:00 577026","Chiasso ","Aarau ","— — ",null,null,null,1,null,null,0,"Switzerland - Challenge League","21:00","Switzerland - Challenge League",{"$f":"IF(N607=\"\",\"\",fmt(M607+myset!$F$27/24,\"HH:MM\"))","v":"22:00"},{"$f":"IF(O607=\"\",\"\",B607)","v":"Chiasso "},"Aarau ",{"$f":"IF(Q607=\"\",\"\",GetURL(J607))","v":"https://en.24score.com/football/match/577026-chiasso-aarau"}]
["X",null,null,null,null,null,null,null,null,null,0,"Switzerland - Challenge League","","",{"$f":"IF(N608=\"\",\"\",fmt(M608+myset!$F$27/24,\"HH:MM\"))","v":""},{"$f":"IF(O608=\"\",\"\",B608)","v":""},"",{"$f":"IF(Q608=\"\",\"\",GetURL(J608))","v":""}]
[null,null,null,null,null,null,null,null,null,null,0,"Switzerland - Challenge League","","",{"$f":"IF(N609=\"\",\"\",fmt(M609+myset!$F$27/24,\"HH:MM\"))","v":""},{"$f":"IF(O609=\"\",\"\",B609)","v":""},"",{"$f":"IF(Q609=\"\",\"\",GetURL(J609))","v":""}]
["Chiasso has tied 5 periods on end",null,null,null,null,null,null,null,null,null,0,"Switzerland - Challenge League","","",{"$f":"IF(N610=\"\",\"\",fmt(M610+myset!$F$27/24,\"HH:MM\"))","v":""},{"$f":"IF(O610=\"\",\"\",B610)","v":""},"",{"$f":"IF(Q610=\"\",\"\",GetURL(J610))","v":""}]
["22:00 577027","Winterthur ","Kriens ","— — ",null,null,null,2,null,null,0,"Switzerland - Challenge League","22:00","Switzerland - Challenge League",{"$f":"IF(N611=\"\",\"\",fmt(M611+myset!$F$27/24,\"HH:MM\"))","v":"23:00"},{"$f":"IF(O611=\"\",\"\",B611)","v":"Winterthur "},"Kriens ",{"$f":"IF(Q611=\"\",\"\",GetURL(J611))","v":"https://en.24score.com/football/match/577027-winterthur-kriens"}]
["X",null,null,null,null,null,null,null,null,null,0,"Switzerland - Challenge League","","",{"$f":"IF(N612=\"\",\"\",fmt(M612+myset!$F$27/24,\"HH:MM\"))","v":""},{"$f":"IF(O612=\"\",\"\",B612)","v":""},"",{"$f":"IF(Q612=\"\",\"\",GetURL(J612))","v":""}]
[null,null,null,null,null,null,null,null,null,null,0,"Switzerland - Challenge League","","",{"$f":"IF(N613=\"\",\"\",fmt(M613+myset!$F$27/24,\"HH:MM\"))","v":""},{"$f":"IF(O613=\"\",\"\",B613)","v":""},"",{"$f":"IF(Q613=\"\",\"\",GetURL(J613))","v":""}]
["Winterthur has not tied 1st period in 13 last home games",null,null,null,null,null,null,null,null,null,0,"Switzerland - Challenge League","","",{"$f":"IF(N614=\"\",\"\",fmt(M614+myset!$F$27/24,\"HH:MM\"))","v":""},{"$f":"IF(O614=\"\",\"\",B614)","v":""},"",{"$f":"IF(Q614=\"\",\"\",GetURL(J614))","v":""}]
[null,null,null,null,null,null,null,null,null,null,0,"Switzerland - Challenge League","","",{"$f":"IF(N615=\"\",\"\",fmt(M615+myset!$F$27/24,\"HH:MM\"))","v":""},{"$f":"IF(O615=\"\",\"\",B615)","v":""},"",{"$f":"IF(Q615=\"\",\"\",GetURL(J615))","v":""}]
["Winterthur have had over 1.5 1st half goals in 4 last home matches",null,null,null,null,null,null,null,null,null,0,"Switzerland - Challenge League","","",{"$f":"IF(N616=\"\",\"\",fmt(M616+myset!$F$27/24,\"HH:MM\"))","v":""},{"$f":"IF(O616=\"\",\"\",B616)","v":""},"",{"$f":"IF(Q616=\"\",\"\",GetURL(J616))","v":""}]
["22:00 577025","Grasshopper ","Neuchatel Xamax ","— — ",null,null,null,1,null,null,0,"Switzerland - Challenge League","22:00","Switzerland - Challenge League",{"$f":"IF(N617=\"\",\"\",fmt(M617+myset!$F$27/24,\"HH:MM\"))","v":"23:00"},{"$f":"IF(O617=\"\",\"\",B617)","v":"Grasshopper "},"Neuchatel Xamax ",{"$f":"IF(Q617=\"\",\"\",GetURL(J617))","v":"https://en.24score.com/football/match/577025-grasshopper-neuchatel-xamax"}]
["X",null,null,null,null,null,null,null,null,null,0,"Switzerland - Challenge League","","",{"$f":"IF(N618=\"\",\"\",fmt(M618+myset!$F$27/24,\"HH:MM\"))","v":""},{"$f":"IF(O618=\"\",\"\",B618)","v":""},"",{"$f":"IF(Q618=\"\",\"\",GetURL(J618))","v":""}]
[null,null,null,null,null,null,null,null,null,null,0,"Switzerland - Challenge League","","",{"$f":"IF(N619=\"\",\"\",fmt(M619+myset!$F$27/24,\"HH:MM\"))","v":""},{"$f":"IF(O619=\"\",\"\",B619)","v":""},"",{"$f":"IF(Q619=\"\",\"\",GetURL(J619))","v":""}]
["Grasshopper have had over 1.5 2nd half goals in 11 last home matches",null,null,null,null,null,null,null,null,null,0,"Switzerland - Challenge League","","",{"$f":"IF(N620=\"\",\"\",fmt(M620+myset!$F$27/24,\"HH:MM\"))","v":""},{"$f":"IF(O620=\"\",\"\",B620)","v":""},"",{"$f":"IF(Q620=\"\",\"\",GetURL(J620))","v":""}]
[null,null,null,null,null,null,null,null,null,null,0,"Switzerland - Challenge League","","",{"$f":"IF(N621=\"\",\"\",fmt(M621+myset!$F$27/24,\"HH:MM\"))","v":""},{"$f":"IF(O621=\"\",\"\",B621)","v":""},"",{"$f":"IF(Q621=\"\",\"\",GetURL(J621))","v":""}]
["flagU.A.E. Etisalat National League",null,null,null,1,"X",2,null,null,null,1,"U.A.E. Etisalat National League","","",{"$f":"IF(N622=\"\",\"\",fmt(M622+myset!$F$27/24,\"HH:MM\"))","v":""},{"$f":"IF(O622=\"\",\"\",B622)","v":""},"",{"$f":"IF(Q622=\"\",\"\",GetURL(J622))","v":""}]
["17:00 582660","Al-Wasl ","AL Ain ","— — ","3.66 ","3.74 ","1.9 ",1,null,null,0,"U.A.E. Etisalat National League","17:00","U.A.E. Etisalat National League",{"$f":"IF(N623=\"\",\"\",fmt(M623+myset!$F$27/24,\"HH:MM\"))","v":"18:00"},{"$f":"IF(O623=\"\",\"\",B623)","v":"Al-Wasl "},"AL Ain ",{"$f":"IF(Q623=\"\",\"\",GetURL(J623))","v":"https://en.24score.com/football/match/582660-al-wasl-al-ain"}]
["X",null,null,null,null,null,null,null,null,null,0,"U.A.E. Etisalat National League","","",{"$f":"IF(N624=\"\",\"\",fmt(M624+myset!$F$27/24,\"HH:MM\"))","v":""},{"$f":"IF(O624=\"\",\"\",B624)","v":""},"",{"$f":"IF(Q624=\"\",\"\",GetURL(J624))","v":""}]
[null,null,null,null,null,null,null,null,null,null,0,"U.A.E. Etisalat National League","","",{"$f":"IF(N625=\"\",\"\",fmt(M625+myset!$F$27/24,\"HH:MM\"))","v":""},{"$f":"IF(O625=\"\",\"\",B625)","v":""},"",{"$f":"IF(Q625=\"\",\"\",GetURL(J625))","v":""}]
["Al-Wasl have had over 2.5 goals in their last 8 matches",null,null,null,null,null,null,null,null,null,0,"U.A.E. Etisalat National League","","",{"$f":"IF(N626=\"\",\"\",fmt(M626+myset!$F$27/24,\"HH:MM\"))","v":""},{"$f":"IF(O626=\"\",\"\",B626)","v":""},"",{"$f":"IF(Q626=\"\",\"\",GetURL(J626))","v":""}]
["17:00 582656","Baniyas ","Kalba ","— — ","1.45 ","4.6 ","6.2 ",1,null,null,0,"U.A.E. Etisalat National League","17:00","U.A.E. Etisalat National League",{"$f":"IF(N627=\"\",\"\",fmt(M627+myset!$F$27/24,\"HH:MM\"))","v":"18:00"},{"$f":"IF(O627=\"\",\"\",B627)","v":"Baniyas "},"Kalba ",{"$f":"IF(Q627=\"\",\"\",GetURL(J627))","v":"https://en.24score.com/football/match/582656-baniyas-kalba"}]
["X",null,null,null,null,null,null,null,null,null,0,"U.A.E. Etisalat National League","","",{"$f":"IF(N628=\"\",\"\",fmt(M628+myset!$F$27/24,\"HH:MM\"))","v":""},{"$f":"IF(O628=\"\",\"\",B628)","v":""},"",{"$f":"IF(Q628=\"\",\"\",GetURL(J628))","v":""}]
[null,null,null,null,null,null,null,null,null,null,0,"U.A.E. Etisalat National League","","",{"$f":"IF(N629=\"\",\"\",fmt(M629+myset!$F$27/24,\"HH:MM\"))","v":""},{"$f":"IF(O629=\"\",\"\",B629)","v":""},"",{"$f":"IF(Q629=\"\",\"\",GetURL(J629))","v":""}]
["Kalba has played 15 games without draws",null,null,null,null,null,null,null,null,null,0,"U.A.E. Etisalat National League","","",{"$f":"IF(N630=\"\",\"\",fmt(M630+myset!$F$27/24,\"HH:MM\"))","v":""},{"$f":"IF(O630=\"\",\"\",B630)","v":""},"",{"$f":"IF(Q630=\"\",\"\",GetURL(J630))","v":""}]
["20:00 582661","Sharjah ","Al-Nasr Dubai ","— — ","2.02 ","3.6 ","2.975 ",5,null,null,0,"U.A.E. Etisalat National League","20:00","U.A.E. Etisalat National League",{"$f":"IF(N631=\"\",\"\",fmt(M631+myset!$F$27/24,\"HH:MM\"))","v":"21:00"},{"$f":"IF(O631=\"\",\"\",B631)","v":"Sharjah "},"Al-Nasr Dubai ",{"$f":"IF(Q631=\"\",\"\",GetURL(J631))","v":"https://en.24score.com/football/match/582661-sharjah-al-nasr-dubai"}]
["X",null,null,null,null,null,null,null,null,null,0,"U.A.E. Etisalat National League","","",{"$f":"IF(N632=\"\",\"\",fmt(M632+myset!$F$27/24,\"HH:MM\"))","v":""},{"$f":"IF(O632=\"\",\"\",B632)","v":""},"",{"$f":"IF(Q632=\"\",\"\",GetURL(J632))","v":""}]
[null,null,null,null,null,null,null,null,null,null,0,"U.A.E. Etisalat National League","","",{"$f":"IF(N633=\"\",\"\",fmt(M633+myset!$F$27/24,\"HH:MM\"))","v":""},{"$f":"IF(O633=\"\",\"\",B633)","v":""},"",{"$f":"IF(Q633=\"\",\"\",GetURL(J633))","v":""}]
["Sharjah has won 6 last games",null,null,null,null,null,null,null,null,null,0,"U.A.E. Etisalat National League","","",{"$f":"IF(N634=\"\",\"\",fmt(M634+myset!$F$27/24,\"HH:MM\"))","v":""},{"$f":"IF(O634=\"\",\"\",B634)","v":""},"",{"$f":"IF(Q634=\"\",\"\",GetURL(J634))","v":""}]
[null,null,null,null,null,null,null,null,null,null,0,"U.A.E. Etisalat National League","","",{"$f":"IF(N635=\"\",\"\",fmt(M635+myset!$F$27/24,\"HH:MM\"))","v":""},{"$f":"IF(O635=\"\",\"\",B635)","v":""},"",{"$f":"IF(Q635=\"\",\"\",GetURL(J635))","v":""}]
["Sharjah has not tied 12 periods on end in home games",null,null,null,null,null,null,null,null,null,0,"U.A.E. Etisalat National League","","",{"$f":"IF(N636=\"\",\"\",fmt(M636+myset!$F$27/24,\"HH:MM\"))","v":""},{"$f":"IF(O636=\"\",\"\",B636)","v":""},"",{"$f":"IF(Q636=\"\",\"\",GetURL(J636))","v":""}]
[null,null,null,null,null,null,null,null,null,null,0,"U.A.E. Etisalat National League","","",{"$f":"IF(N637=\"\",\"\",fmt(M637+myset!$F$27/24,\"HH:MM\"))","v":""},{"$f":"IF(O637=\"\",\"\",B637)","v":""},"",{"$f":"IF(Q637=\"\",\"\",GetURL(J637))","v":""}]
["Al-Nasr Dubai has won 5 periods on end in away games",null,null,null,null,null,null,null,null,null,0,"U.A.E. Etisalat National League","","",{"$f":"IF(N638=\"\",\"\",fmt(M638+myset!$F$27/24,\"HH:MM\"))","v":""},{"$f":"IF(O638=\"\",\"\",B638)","v":""},"",{"$f":"IF(Q638=\"\",\"\",GetURL(J638))","v":""}]
[null,null,null,null,null,null,null,null,null,null,0,"U.A.E. Etisalat National League","","",{"$f":"IF(N639=\"\",\"\",fmt(M639+myset!$F$27/24,\"HH:MM\"))","v":""},{"$f":"IF(O639=\"\",\"\",B639)","v":""},"",{"$f":"IF(Q639=\"\",\"\",GetURL(J639))","v":""}]
["Al-Nasr Dubai has won 2nd period in 4 last games",null,null,null,null,null,null,null,null,null,0,"U.A.E. Etisalat National League","","",{"$f":"IF(N640=\"\",\"\",fmt(M640+myset!$F$27/24,\"HH:MM\"))","v":""},{"$f":"IF(O640=\"\",\"\",B640)","v":""},"",{"$f":"IF(Q640=\"\",\"\",GetURL(J640))","v":""}]
[null,null,null,null,null,null,null,null,null,null,0,"U.A.E. Etisalat National League","","",{"$f":"IF(N641=\"\",\"\",fmt(M641+myset!$F$27/24,\"HH:MM\"))","v":""},{"$f":"IF(O641=\"\",\"\",B641)","v":""},"",{"$f":"IF(Q641=\"\",\"\",GetURL(J641))","v":""}]
["Al-Nasr Dubai has won 2nd period in 4 last away games",null,null,null,null,null,null,null,null,null,0,"U.A.E. Etisalat National League","","",{"$f":"IF(N642=\"\",\"\",fmt(M642+myset!$F$27/24,\"HH:MM\"))","v":""},{"$f":"IF(O642=\"\",\"\",B642)","v":""},"",{"$f":"IF(Q642=\"\",\"\",GetURL(J642))","v":""}]
["20:00 582657","Fujairah ","Hatta ","— — ","2.22 ","3.54 ","2.984 ",7,null,null,{"$f":"IFERROR(SEARCH(\"flag\",A643),0)","v":0},{"$f":"IF(K643=1,MID(A643,5,100),L642)","v":"U.A.E. Etisalat National League"},{"$f":"IF(B643=\"\",\"\",IFERROR(fmt(LEFT(A643,SEARCH(\" \",A643)-1),\"HH:MM\"),fmt(A643,\"HH:MM\")))","v":"20:00"},{"$f":"IF(M643=\"\",\"\",L643)","v":"U.A.E. Etisalat National League"},{"$f":"IF(N643=\"\",\"\",fmt(M643+myset!$F$27/24,\"HH:MM\"))","v":"21:00"},{"$f":"IF(O643=\"\",\"\",B643)","v":"Fujairah "},"Hatta ",{"$f":"IF(Q643=\"\",\"\",GetURL(J643))","v":"https://en.24score.com/football/match/582657-fujairah-hatta"}]
["X",null,null,null,null,null,null,null,null,null,0,"U.A.E. Etisalat National League","","",{"$f":"IF(N644=\"\",\"\",fmt(M644+myset!$F$27/24,\"HH:MM\"))","v":""},{"$f":"IF(O644=\"\",\"\",B644)","v":""},"",{"$f":"IF(Q644=\"\",\"\",GetURL(J644))","v":""}]
[null,null,null,null,null,null,null,null,null,null,0,"U.A.E. Etisalat National League","","",{"$f":"IF(N645=\"\",\"\",fmt(M645+myset!$F$27/24,\"HH:MM\"))","v":""},{"$f":"IF(O645=\"\",\"\",B645)","v":""},"",{"$f":"IF(Q645=\"\",\"\",GetURL(J645))","v":""}]
["Fujairah has lost 2nd half in 7 last games",null,null,null,null,null,null,null,null,null,0,"U.A.E. Etisalat National League","","",{"$f":"IF(N646=\"\",\"\",fmt(M646+myset!$F$27/24,\"HH:MM\"))","v":""},{"$f":"IF(O646=\"\",\"\",B646)","v":""},"",{"$f":"IF(Q646=\"\",\"\",GetURL(J646))","v":""}]
[null,null,null,null,null,null,null,null,null,null,0,"U.A.E. Etisalat National League","","",{"$f":"IF(N647=\"\",\"\",fmt(M647+myset!$F$27/24,\"HH:MM\"))","v":""},{"$f":"IF(O647=\"\",\"\",B647)","v":""},"",{"$f":"IF(Q647=\"\",\"\",GetURL(J647))","v":""}]
["Fujairah has lost 2nd half in 4 last home games",null,null,null,null,null,null,null,null,null,0,"U.A.E. Etisalat National League","","",{"$f":"IF(N648=\"\",\"\",fmt(M648+myset!$F$27/24,\"HH:MM\"))","v":""},{"$f":"IF(O648=\"\",\"\",B648)","v":""},"",{"$f":"IF(Q648=\"\",\"\",GetURL(J648))","v":""}]
[null,null,null,null,null,null,null,null,null,null,0,"U.A.E. Etisalat National League","","",{"$f":"IF(N649=\"\",\"\",fmt(M649+myset!$F$27/24,\"HH:MM\"))","v":""},{"$f":"IF(O649=\"\",\"\",B649)","v":""},"",{"$f":"IF(Q649=\"\",\"\",GetURL(J649))","v":""}]
["Fujairah has not won 14 last games",null,null,null,null,null,null,null,null,null,0,"U.A.E. Etisalat National League","","",{"$f":"IF(N650=\"\",\"\",fmt(M650+myset!$F$27/24,\"HH:MM\"))","v":""},{"$f":"IF(O650=\"\",\"\",B650)","v":""},"",{"$f":"IF(Q650=\"\",\"\",GetURL(J650))","v":""}]
[null,null,null,null,null,null,null,null,null,null,0,"U.A.E. Etisalat National League","","",{"$f":"IF(N651=\"\",\"\",fmt(M651+myset!$F$27/24,\"HH:MM\"))","v":""},{"$f":"IF(O651=\"\",\"\",B651)","v":""},"",{"$f":"IF(Q651=\"\",\"\",GetURL(J651))","v":""}]
["Fujairah has not won 2nd half in 10 last home games",null,null,null,null,null,null,null,null,null,0,"U.A.E. Etisalat National League","","",{"$f":"IF(N652=\"\",\"\",fmt(M652+myset!$F$27/24,\"HH:MM\"))","v":""},{"$f":"IF(O652=\"\",\"\",B652)","v":""},"",{"$f":"IF(Q652=\"\",\"\",GetURL(J652))","v":""}]
[null,null,null,null,null,null,null,null,null,null,0,"U.A.E. Etisalat National League","","",{"$f":"IF(N653=\"\",\"\",fmt(M653+myset!$F$27/24,\"HH:MM\"))","v":""},{"$f":"IF(O653=\"\",\"\",B653)","v":""},"",{"$f":"IF(Q653=\"\",\"\",GetURL(J653))","v":""}]
["Hatta has not won 13 halves on end",null,null,null,null,null,null,null,null,null,0,"U.A.E. Etisalat National League","","",{"$f":"IF(N654=\"\",\"\",fmt(M654+myset!$F$27/24,\"HH:MM\"))","v":""},{"$f":"IF(O654=\"\",\"\",B654)","v":""},"",{"$f":"IF(Q654=\"\",\"\",GetURL(J654))","v":""}]
[null,null,null,null,null,null,null,null,null,null,0,"U.A.E. Etisalat National League","","",{"$f":"IF(N655=\"\",\"\",fmt(M655+myset!$F$27/24,\"HH:MM\"))","v":""},{"$f":"IF(O655=\"\",\"\",B655)","v":""},"",{"$f":"IF(Q655=\"\",\"\",GetURL(J655))","v":""}]
["Hatta has not won 2nd half in 24 last games",null,null,null,null,null,null,null,null,null,0,"U.A.E. Etisalat National League","","",{"$f":"IF(N656=\"\",\"\",fmt(M656+myset!$F$27/24,\"HH:MM\"))","v":""},{"$f":"IF(O656=\"\",\"\",B656)","v":""},"",{"$f":"IF(Q656=\"\",\"\",GetURL(J656))","v":""}]
[null,null,null,null,null,null,null,null,null,null,0,"U.A.E. Etisalat National League","","",{"$f":"IF(N657=\"\",\"\",fmt(M657+myset!$F$27/24,\"HH:MM\"))","v":""},{"$f":"IF(O657=\"\",\"\",B657)","v":""},"",{"$f":"IF(Q657=\"\",\"\",GetURL(J657))","v":""}]
["Hatta has not won 2nd half in 13 last away games",null,null,null,null,null,null,null,null,null,0,"U.A.E. Etisalat National League","","",{"$f":"IF(N658=\"\",\"\",fmt(M658+myset!$F$27/24,\"HH:MM\"))","v":""},{"$f":"IF(O658=\"\",\"\",B658)","v":""},"",{"$f":"IF(Q658=\"\",\"\",GetURL(J658))","v":""}]
[null,null,null,null,null,null,null,null,null,null,0,"U.A.E. Etisalat National League","","",{"$f":"IF(N659=\"\",\"\",fmt(M659+myset!$F$27/24,\"HH:MM\"))","v":""},{"$f":"IF(O659=\"\",\"\",B659)","v":""},"",{"$f":"IF(Q659=\"\",\"\",GetURL(J659))","v":""}]
["flagUkraine - Persha Liga",null,null,null,1,"X",2,null,null,null,1,"Ukraine - Persha Liga","","",{"$f":"IF(N660=\"\",\"\",fmt(M660+myset!$F$27/24,\"HH:MM\"))","v":""},{"$f":"IF(O660=\"\",\"\",B660)","v":""},"",{"$f":"IF(Q660=\"\",\"\",GetURL(J660))","v":""}]
["14:00 572276","Girnik ","Obolon-Brovar ","— — ","2.03 ","3.15 ","3.66 ",0,null,null,0,"Ukraine - Persha Liga","14:00","Ukraine - Persha Liga",{"$f":"IF(N661=\"\",\"\",fmt(M661+myset!$F$27/24,\"HH:MM\"))","v":"15:00"},{"$f":"IF(O661=\"\",\"\",B661)","v":"Girnik "},"Obolon-Brovar ",{"$f":"IF(Q661=\"\",\"\",GetURL(J661))","v":"https://en.24score.com/football/match/572276-girnik-obolon-brovar"}]
["14:00 572281","Agrobiznes ","Nyva Ternopil ","— — ","1.57 ","3.82 ","5.4 ",1,null,null,0,"Ukraine - Persha Liga","14:00","Ukraine - Persha Liga",{"$f":"IF(N662=\"\",\"\",fmt(M662+myset!$F$27/24,\"HH:MM\"))","v":"15:00"},{"$f":"IF(O662=\"\",\"\",B662)","v":"Agrobiznes "},"Nyva Ternopil ",{"$f":"IF(Q662=\"\",\"\",GetURL(J662))","v":"https://en.24score.com/football/match/572281-agrobiznes-nyva-ternopil"}]
["X",null,null,null,null,null,null,null,null,null,0,"Ukraine - Persha Liga","","",{"$f":"IF(N663=\"\",\"\",fmt(M663+myset!$F$27/24,\"HH:MM\"))","v":""},{"$f":"IF(O663=\"\",\"\",B663)","v":""},"",{"$f":"IF(Q663=\"\",\"\",GetURL(J663))","v":""}]
[null,null,null,null,null,null,null,null,null,null,0,"Ukraine - Persha Liga","","",{"$f":"IF(N664=\"\",\"\",fmt(M664+myset!$F$27/24,\"HH:MM\"))","v":""},{"$f":"IF(O664=\"\",\"\",B664)","v":""},"",{"$f":"IF(Q664=\"\",\"\",GetURL(J664))","v":""}]
["Agrobiznes has won 6 last home games",null,null,null,null,null,null,null,null,null,0,"Ukraine - Persha Liga","","",{"$f":"IF(N665=\"\",\"\",fmt(M665+myset!$F$27/24,\"HH:MM\"))","v":""},{"$f":"IF(O665=\"\",\"\",B665)","v":""},"",{"$f":"IF(Q665=\"\",\"\",GetURL(J665))","v":""}]
["14:00 572274","A. Kramatorsk ","Veres Rivne ","— — ","5.5 ","3.78 ","1.568 ",1,null,null,0,"Ukraine - Persha Liga","14:00","Ukraine - Persha Liga",{"$f":"IF(N666=\"\",\"\",fmt(M666+myset!$F$27/24,\"HH:MM\"))","v":"15:00"},{"$f":"IF(O666=\"\",\"\",B666)","v":"A. Kramatorsk "},"Veres Rivne ",{"$f":"IF(Q666=\"\",\"\",GetURL(J666))","v":"https://en.24score.com/football/match/572274-a-kramatorsk-veres-rivne"}]
["X",null,null,null,null,null,null,null,null,null,0,"Ukraine - Persha Liga","","",{"$f":"IF(N667=\"\",\"\",fmt(M667+myset!$F$27/24,\"HH:MM\"))","v":""},{"$f":"IF(O667=\"\",\"\",B667)","v":""},"",{"$f":"IF(Q667=\"\",\"\",GetURL(J667))","v":""}]
[null,null,null,null,null,null,null,null,null,null,0,"Ukraine - Persha Liga","","",{"$f":"IF(N668=\"\",\"\",fmt(M668+myset!$F$27/24,\"HH:MM\"))","v":""},{"$f":"IF(O668=\"\",\"\",B668)","v":""},"",{"$f":"IF(Q668=\"\",\"\",GetURL(J668))","v":""}]
["A. Kramatorsk has lost 5 halves on end",null,null,null,null,null,null,null,null,null,0,"Ukraine - Persha Liga","","",{"$f":"IF(N669=\"\",\"\",fmt(M669+myset!$F$27/24,\"HH:MM\"))","v":""},{"$f":"IF(O669=\"\",\"\",B669)","v":""},"",{"$f":"IF(Q669=\"\",\"\",GetURL(J669))","v":""}]
["14:00 572275","Polissya ","Mykolaiv ","— — ","2.115 ","3.184 ","3.36 ",3,null,null,0,"Ukraine - Persha Liga","14:00","Ukraine - Persha Liga",{"$f":"IF(N670=\"\",\"\",fmt(M670+myset!$F$27/24,\"HH:MM\"))","v":"15:00"},{"$f":"IF(O670=\"\",\"\",B670)","v":"Polissya "},"Mykolaiv ",{"$f":"IF(Q670=\"\",\"\",GetURL(J670))","v":"https://en.24score.com/football/match/572275-polissya-mykolaiv"}]
["X",null,null,null,null,null,null,null,null,null,0,"Ukraine - Persha Liga","","",{"$f":"IF(N671=\"\",\"\",fmt(M671+myset!$F$27/24,\"HH:MM\"))","v":""},{"$f":"IF(O671=\"\",\"\",B671)","v":""},"",{"$f":"IF(Q671=\"\",\"\",GetURL(J671))","v":""}]
[null,null,null,null,null,null,null,null,null,null,0,"Ukraine - Persha Liga","","",{"$f":"IF(N672=\"\",\"\",fmt(M672+myset!$F$27/24,\"HH:MM\"))","v":""},{"$f":"IF(O672=\"\",\"\",B672)","v":""},"",{"$f":"IF(Q672=\"\",\"\",GetURL(J672))","v":""}]
["Polissya have had under 1.5 1st half goals in 11 last matches",null,null,null,null,null,null,null,null,null,0,"Ukraine - Persha Liga","","",{"$f":"IF(N673=\"\",\"\",fmt(M673+myset!$F$27/24,\"HH:MM\"))","v":""},{"$f":"IF(O673=\"\",\"\",B673)","v":""},"",{"$f":"IF(Q673=\"\",\"\",GetURL(J673))","v":""}]
[null,null,null,null,null,null,null,null,null,null,0,"Ukraine - Persha Liga","","",{"$f":"IF(N674=\"\",\"\",fmt(M674+myset!$F$27/24,\"HH:MM\"))","v":""},{"$f":"IF(O674=\"\",\"\",B674)","v":""},"",{"$f":"IF(Q674=\"\",\"\",GetURL(J674))","v":""}]
["Mykolaiv has not lost 2nd period in 13 last games",null,null,null,null,null,null,null,null,null,0,"Ukraine - Persha Liga","","",{"$f":"IF(N675=\"\",\"\",fmt(M675+myset!$F$27/24,\"HH:MM\"))","v":""},{"$f":"IF(O675=\"\",\"\",B675)","v":""},"",{"$f":"IF(Q675=\"\",\"\",GetURL(J675))","v":""}]
[null,null,null,null,null,null,null,null,null,null,0,"Ukraine - Persha Liga","","",{"$f":"IF(N676=\"\",\"\",fmt(M676+myset!$F$27/24,\"HH:MM\"))","v":""},{"$f":"IF(O676=\"\",\"\",B676)","v":""},"",{"$f":"IF(Q676=\"\",\"\",GetURL(J676))","v":""}]
["Mykolaiv has not lost 2nd period in 14 last away games",null,null,null,null,null,null,null,null,null,0,"Ukraine - Persha Liga","","",{"$f":"IF(N677=\"\",\"\",fmt(M677+myset!$F$27/24,\"HH:MM\"))","v":""},{"$f":"IF(O677=\"\",\"\",B677)","v":""},"",{"$f":"IF(Q677=\"\",\"\",GetURL(J677))","v":""}]
["14:00 572280","Krystal ","VPK-Agro ","— — ","2.696 ","3.06 ","2.568 ",1,null,null,0,"Ukraine - Persha Liga","14:00","Ukraine - Persha Liga",{"$f":"IF(N678=\"\",\"\",fmt(M678+myset!$F$27/24,\"HH:MM\"))","v":"15:00"},{"$f":"IF(O678=\"\",\"\",B678)","v":"Krystal "},"VPK-Agro ",{"$f":"IF(Q678=\"\",\"\",GetURL(J678))","v":"https://en.24score.com/football/match/572280-krystal-vpk-agro"}]
["X",null,null,null,null,null,null,null,null,null,0,"Ukraine - Persha Liga","","",{"$f":"IF(N679=\"\",\"\",fmt(M679+myset!$F$27/24,\"HH:MM\"))","v":""},{"$f":"IF(O679=\"\",\"\",B679)","v":""},"",{"$f":"IF(Q679=\"\",\"\",GetURL(J679))","v":""}]
[null,null,null,null,null,null,null,null,null,null,0,"Ukraine - Persha Liga","","",{"$f":"IF(N680=\"\",\"\",fmt(M680+myset!$F$27/24,\"HH:MM\"))","v":""},{"$f":"IF(O680=\"\",\"\",B680)","v":""},"",{"$f":"IF(Q680=\"\",\"\",GetURL(J680))","v":""}]
["Krystal has lost 7 last home games",null,null,null,null,null,null,null,null,null,0,"Ukraine - Persha Liga","","",{"$f":"IF(N681=\"\",\"\",fmt(M681+myset!$F$27/24,\"HH:MM\"))","v":""},{"$f":"IF(O681=\"\",\"\",B681)","v":""},"",{"$f":"IF(Q681=\"\",\"\",GetURL(J681))","v":""}]
["15:00 572278","Volyn ","Prykarpattya ","— — ","1.496 ","4.1 ","5.75 ",0,null,null,0,"Ukraine - Persha Liga","15:00","Ukraine - Persha Liga",{"$f":"IF(N682=\"\",\"\",fmt(M682+myset!$F$27/24,\"HH:MM\"))","v":"16:00"},{"$f":"IF(O682=\"\",\"\",B682)","v":"Volyn "},"Prykarpattya ",{"$f":"IF(Q682=\"\",\"\",GetURL(J682))","v":"https://en.24score.com/football/match/572278-volyn-prykarpattya"}]
["15:00 572277","Lypova Dolyna ","Chernomorets Odessa ","— — ","3.62 ","3.16 ","2.03 ",2,null,null,0,"Ukraine - Persha Liga","15:00","Ukraine - Persha Liga",{"$f":"IF(N683=\"\",\"\",fmt(M683+myset!$F$27/24,\"HH:MM\"))","v":"16:00"},{"$f":"IF(O683=\"\",\"\",B683)","v":"Lypova Dolyna "},"Chernomorets Odessa ",{"$f":"IF(Q683=\"\",\"\",GetURL(J683))","v":"https://en.24score.com/football/match/572277-lypova-dolyna-chernomorets-odessa"}]
["X",null,null,null,null,null,null,null,null,null,0,"Ukraine - Persha Liga","","",{"$f":"IF(N684=\"\",\"\",fmt(M684+myset!$F$27/24,\"HH:MM\"))","v":""},{"$f":"IF(O684=\"\",\"\",B684)","v":""},"",{"$f":"IF(Q684=\"\",\"\",GetURL(J684))","v":""}]
[null,null,null,null,null,null,null,null,null,null,0,"Ukraine - Persha Liga","","",{"$f":"IF(N685=\"\",\"\",fmt(M685+myset!$F$27/24,\"HH:MM\"))","v":""},{"$f":"IF(O685=\"\",\"\",B685)","v":""},"",{"$f":"IF(Q685=\"\",\"\",GetURL(J685))","v":""}]
["Chernomorets Odessa has won 4 periods on end in away games",null,null,null,null,null,null,null,null,null,0,"Ukraine - Persha Liga","","",{"$f":"IF(N686=\"\",\"\",fmt(M686+myset!$F$27/24,\"HH:MM\"))","v":""},{"$f":"IF(O686=\"\",\"\",B686)","v":""},"",{"$f":"IF(Q686=\"\",\"\",GetURL(J686))","v":""}]
[null,null,null,null,null,null,null,null,null,null,0,"Ukraine - Persha Liga","","",{"$f":"IF(N687=\"\",\"\",fmt(M687+myset!$F$27/24,\"HH:MM\"))","v":""},{"$f":"IF(O687=\"\",\"\",B687)","v":""},"",{"$f":"IF(Q687=\"\",\"\",GetURL(J687))","v":""}]
["Chernomorets Odessa has not lost 2nd period in 11 last away games",null,null,null,null,null,null,null,null,null,0,"Ukraine - Persha Liga","","",{"$f":"IF(N688=\"\",\"\",fmt(M688+myset!$F$27/24,\"HH:MM\"))","v":""},{"$f":"IF(O688=\"\",\"\",B688)","v":""},"",{"$f":"IF(Q688=\"\",\"\",GetURL(J688))","v":""}]
["16:00 572279","Metalist ","Kremin ","— — ","1.808 ","3.4 ","4.18 ",2,null,null,0,"Ukraine - Persha Liga","16:00","Ukraine - Persha Liga",{"$f":"IF(N689=\"\",\"\",fmt(M689+myset!$F$27/24,\"HH:MM\"))","v":"17:00"},{"$f":"IF(O689=\"\",\"\",B689)","v":"Metalist "},"Kremin ",{"$f":"IF(Q689=\"\",\"\",GetURL(J689))","v":"https://en.24score.com/football/match/572279-metalist-kremin"}]
["X",null,null,null,null,null,null,null,null,null,0,"Ukraine - Persha Liga","","",{"$f":"IF(N690=\"\",\"\",fmt(M690+myset!$F$27/24,\"HH:MM\"))","v":""},{"$f":"IF(O690=\"\",\"\",B690)","v":""},"",{"$f":"IF(Q690=\"\",\"\",GetURL(J690))","v":""}]
[null,null,null,null,null,null,null,null,null,null,0,"Ukraine - Persha Liga","","",{"$f":"IF(N691=\"\",\"\",fmt(M691+myset!$F$27/24,\"HH:MM\"))","v":""},{"$f":"IF(O691=\"\",\"\",B691)","v":""},"",{"$f":"IF(Q691=\"\",\"\",GetURL(J691))","v":""}]
["Metalist have had under 1.5 1st half goals in 11 last matches",null,null,null,null,null,null,null,null,null,0,"Ukraine - Persha Liga","","",{"$f":"IF(N692=\"\",\"\",fmt(M692+myset!$F$27/24,\"HH:MM\"))","v":""},{"$f":"IF(O692=\"\",\"\",B692)","v":""},"",{"$f":"IF(Q692=\"\",\"\",GetURL(J692))","v":""}]
[null,null,null,null,null,null,null,null,null,null,0,"Ukraine - Persha Liga","","",{"$f":"IF(N693=\"\",\"\",fmt(M693+myset!$F$27/24,\"HH:MM\"))","v":""},{"$f":"IF(O693=\"\",\"\",B693)","v":""},"",{"$f":"IF(Q693=\"\",\"\",GetURL(J693))","v":""}]
["Kremin has lost 2nd half in 7 last away games",null,null,null,null,null,null,null,null,null,0,"Ukraine - Persha Liga","","",{"$f":"IF(N694=\"\",\"\",fmt(M694+myset!$F$27/24,\"HH:MM\"))","v":""},{"$f":"IF(O694=\"\",\"\",B694)","v":""},"",{"$f":"IF(Q694=\"\",\"\",GetURL(J694))","v":""}]
[null,null,null,null,null,null,null,null,null,null,0,"Ukraine - Persha Liga","","",{"$f":"IF(N695=\"\",\"\",fmt(M695+myset!$F$27/24,\"HH:MM\"))","v":""},{"$f":"IF(O695=\"\",\"\",B695)","v":""},"",{"$f":"IF(Q695=\"\",\"\",GetURL(J695))","v":""}]
["flagUkraine U-21 League",null,null,null,1,"X",2,null,null,null,1,"Ukraine U-21 League","","",{"$f":"IF(N696=\"\",\"\",fmt(M696+myset!$F$27/24,\"HH:MM\"))","v":""},{"$f":"IF(O696=\"\",\"\",B696)","v":""},"",{"$f":"IF(Q696=\"\",\"\",GetURL(J696))","v":""}]
["13:00 584418","Shakhtar-D ","Oleksandriya-D ","— — ",null,null,null,3,null,null,0,"Ukraine U-21 League","13:00","Ukraine U-21 League",{"$f":"IF(N697=\"\",\"\",fmt(M697+myset!$F$27/24,\"HH:MM\"))","v":"14:00"},{"$f":"IF(O697=\"\",\"\",B697)","v":"Shakhtar-D "},"Oleksandriya-D ",{"$f":"IF(Q697=\"\",\"\",GetURL(J697))","v":"https://en.24score.com/football/match/584418-shakhtar-d-oleksandriya-d"}]
["X",null,null,null,null,null,null,null,null,null,0,"Ukraine U-21 League","","",{"$f":"IF(N698=\"\",\"\",fmt(M698+myset!$F$27/24,\"HH:MM\"))","v":""},{"$f":"IF(O698=\"\",\"\",B698)","v":""},"",{"$f":"IF(Q698=\"\",\"\",GetURL(J698))","v":""}]
[null,null,null,null,null,null,null,null,null,null,0,"Ukraine U-21 League","","",{"$f":"IF(N699=\"\",\"\",fmt(M699+myset!$F$27/24,\"HH:MM\"))","v":""},{"$f":"IF(O699=\"\",\"\",B699)","v":""},"",{"$f":"IF(Q699=\"\",\"\",GetURL(J699))","v":""}]
["Shakhtar-D has won 7 last home games",null,null,null,null,null,null,null,null,null,0,"Ukraine U-21 League","","",{"$f":"IF(N700=\"\",\"\",fmt(M700+myset!$F$27/24,\"HH:MM\"))","v":""},{"$f":"IF(O700=\"\",\"\",B700)","v":""},"",{"$f":"IF(Q700=\"\",\"\",GetURL(J700))","v":""}]
[null,null,null,null,null,null,null,null,null,null,0,"Ukraine U-21 League","","",{"$f":"IF(N701=\"\",\"\",fmt(M701+myset!$F$27/24,\"HH:MM\"))","v":""},{"$f":"IF(O701=\"\",\"\",B701)","v":""},"",{"$f":"IF(Q701=\"\",\"\",GetURL(J701))","v":""}]
["Shakhtar-D has played 16 games without draws",null,null,null,null,null,null,null,null,null,0,"Ukraine U-21 League","","",{"$f":"IF(N702=\"\",\"\",fmt(M702+myset!$F$27/24,\"HH:MM\"))","v":""},{"$f":"IF(O702=\"\",\"\",B702)","v":""},"",{"$f":"IF(Q702=\"\",\"\",GetURL(J702))","v":""}]
[null,null,null,null,null,null,null,null,null,null,0,"Ukraine U-21 League","","",{"$f":"IF(N703=\"\",\"\",fmt(M703+myset!$F$27/24,\"HH:MM\"))","v":""},{"$f":"IF(O703=\"\",\"\",B703)","v":""},"",{"$f":"IF(Q703=\"\",\"\",GetURL(J703))","v":""}]
["Shakhtar-D have had over 1.5 1st half goals in 4 last home matches",null,null,null,null,null,null,null,null,null,0,"Ukraine U-21 League","","",{"$f":"IF(N704=\"\",\"\",fmt(M704+myset!$F$27/24,\"HH:MM\"))","v":""},{"$f":"IF(O704=\"\",\"\",B704)","v":""},"",{"$f":"IF(Q704=\"\",\"\",GetURL(J704))","v":""}]
["13:00 584417","Olimpik Donetsk-D ","Zorya-D ","— — ",null,null,null,0,null,null,0,"Ukraine U-21 League","13:00","Ukraine U-21 League",{"$f":"IF(N705=\"\",\"\",fmt(M705+myset!$F$27/24,\"HH:MM\"))","v":"14:00"},{"$f":"IF(O705=\"\",\"\",B705)","v":"Olimpik Donetsk-D "},"Zorya-D ",{"$f":"IF(Q705=\"\",\"\",GetURL(J705))","v":"https://en.24score.com/football/match/584417-olimpik-donetsk-d-zorya-d"}]
["14:00 584419","Ingulets-D ","Dinamo-D ","— — ",null,null,null,7,null,null,0,"Ukraine U-21 League","14:00","Ukraine U-21 League",{"$f":"IF(N706=\"\",\"\",fmt(M706+myset!$F$27/24,\"HH:MM\"))","v":"15:00"},{"$f":"IF(O706=\"\",\"\",B706)","v":"Ingulets-D "},"Dinamo-D ",{"$f":"IF(Q706=\"\",\"\",GetURL(J706))","v":"https://en.24score.com/football/match/584419-ingulets-d-dinamo-d"}]
["X",null,null,null,null,null,null,null,null,null,{"$f":"IFERROR(SEARCH(\"flag\",A707),0)","v":0},{"$f":"IF(K707=1,MID(A707,5,100),L706)","v":"Ukraine U-21 League"},{"$f":"IF(B707=\"\",\"\",IFERROR(fmt(LEFT(A707,SEARCH(\" \",A707)-1),\"HH:MM\"),fmt(A707,\"HH:MM\")))","v":""},{"$f":"IF(M707=\"\",\"\",L707)","v":""},{"$f":"IF(N707=\"\",\"\",fmt(M707+myset!$F$27/24,\"HH:MM\"))","v":""},{"$f":"IF(O707=\"\",\"\",B707)","v":""},"",{"$f":"IF(Q707=\"\",\"\",GetURL(J707))","v":""}]
[null,null,null,null,null,null,null,null,null,null,0,"Ukraine U-21 League","","",{"$f":"IF(N708=\"\",\"\",fmt(M708+myset!$F$27/24,\"HH:MM\"))","v":""},{"$f":"IF(O708=\"\",\"\",B708)","v":""},"",{"$f":"IF(Q708=\"\",\"\",GetURL(J708))","v":""}]
["Ingulets-D has lost 10 halves on end",null,null,null,null,null,null,null,null,null,0,"Ukraine U-21 League","","",{"$f":"IF(N709=\"\",\"\",fmt(M709+myset!$F$27/24,\"HH:MM\"))","v":""},{"$f":"IF(O709=\"\",\"\",B709)","v":""},"",{"$f":"IF(Q709=\"\",\"\",GetURL(J709))","v":""}]
[null,null,null,null,null,null,null,null,null,null,0,"Ukraine U-21 League","","",{"$f":"IF(N710=\"\",\"\",fmt(M710+myset!$F$27/24,\"HH:MM\"))","v":""},{"$f":"IF(O710=\"\",\"\",B710)","v":""},"",{"$f":"IF(Q710=\"\",\"\",GetURL(J710))","v":""}]
["Ingulets-D has lost 6 halves on end in home games",null,null,null,null,null,null,null,null,null,0,"Ukraine U-21 League","","",{"$f":"IF(N711=\"\",\"\",fmt(M711+myset!$F$27/24,\"HH:MM\"))","v":""},{"$f":"IF(O711=\"\",\"\",B711)","v":""},"",{"$f":"IF(Q711=\"\",\"\",GetURL(J711))","v":""}]
[null,null,null,null,null,null,null,null,null,null,0,"Ukraine U-21 League","","",{"$f":"IF(N712=\"\",\"\",fmt(M712+myset!$F$27/24,\"HH:MM\"))","v":""},{"$f":"IF(O712=\"\",\"\",B712)","v":""},"",{"$f":"IF(Q712=\"\",\"\",GetURL(J712))","v":""}]
["Ingulets-D has lost 1st half in 5 last games",null,null,null,null,null,null,null,null,null,0,"Ukraine U-21 League","","",{"$f":"IF(N713=\"\",\"\",fmt(M713+myset!$F$27/24,\"HH:MM\"))","v":""},{"$f":"IF(O713=\"\",\"\",B713)","v":""},"",{"$f":"IF(Q713=\"\",\"\",GetURL(J713))","v":""}]
[null,null,null,null,null,null,null,null,null,null,0,"Ukraine U-21 League","","",{"$f":"IF(N714=\"\",\"\",fmt(M714+myset!$F$27/24,\"HH:MM\"))","v":""},{"$f":"IF(O714=\"\",\"\",B714)","v":""},"",{"$f":"IF(Q714=\"\",\"\",GetURL(J714))","v":""}]
["Ingulets-D has lost 2nd half in 5 last games",null,null,null,null,null,null,null,null,null,0,"Ukraine U-21 League","","",{"$f":"IF(N715=\"\",\"\",fmt(M715+myset!$F$27/24,\"HH:MM\"))","v":""},{"$f":"IF(O715=\"\",\"\",B715)","v":""},"",{"$f":"IF(Q715=\"\",\"\",GetURL(J715))","v":""}]
[null,null,null,null,null,null,null,null,null,null,0,"Ukraine U-21 League","","",{"$f":"IF(N716=\"\",\"\",fmt(M716+myset!$F$27/24,\"HH:MM\"))","v":""},{"$f":"IF(O716=\"\",\"\",B716)","v":""},"",{"$f":"IF(Q716=\"\",\"\",GetURL(J716))","v":""}]
["Ingulets-D has not tied 11 periods on end",null,null,null,null,null,null,null,null,null,0,"Ukraine U-21 League","","",{"$f":"IF(N717=\"\",\"\",fmt(M717+myset!$F$27/24,\"HH:MM\"))","v":""},{"$f":"IF(O717=\"\",\"\",B717)","v":""},"",{"$f":"IF(Q717=\"\",\"\",GetURL(J717))","v":""}]
[null,null,null,null,null,null,null,null,null,null,0,"Ukraine U-21 League","","",{"$f":"IF(N718=\"\",\"\",fmt(M718+myset!$F$27/24,\"HH:MM\"))","v":""},{"$f":"IF(O718=\"\",\"\",B718)","v":""},"",{"$f":"IF(Q718=\"\",\"\",GetURL(J718))","v":""}]
["Dinamo-D has not tied 1st period in 19 last games",null,null,null,null,null,null,null,null,null,0,"Ukraine U-21 League","","",{"$f":"IF(N719=\"\",\"\",fmt(M719+myset!$F$27/24,\"HH:MM\"))","v":""},{"$f":"IF(O719=\"\",\"\",B719)","v":""},"",{"$f":"IF(Q719=\"\",\"\",GetURL(J719))","v":""}]
[null,null,null,null,null,null,null,null,null,null,0,"Ukraine U-21 League","","",{"$f":"IF(N720=\"\",\"\",fmt(M720+myset!$F$27/24,\"HH:MM\"))","v":""},{"$f":"IF(O720=\"\",\"\",B720)","v":""},"",{"$f":"IF(Q720=\"\",\"\",GetURL(J720))","v":""}]
["Dinamo-D has not tied 1st period in 12 last away games",null,null,null,null,null,null,null,null,null,0,"Ukraine U-21 League","","",{"$f":"IF(N721=\"\",\"\",fmt(M721+myset!$F$27/24,\"HH:MM\"))","v":""},{"$f":"IF(O721=\"\",\"\",B721)","v":""},"",{"$f":"IF(Q721=\"\",\"\",GetURL(J721))","v":""}]
[null,null,null,null,null,null,null,null,null,null,0,"Ukraine U-21 League","","",{"$f":"IF(N722=\"\",\"\",fmt(M722+myset!$F$27/24,\"HH:MM\"))","v":""},{"$f":"IF(O722=\"\",\"\",B722)","v":""},"",{"$f":"IF(Q722=\"\",\"\",GetURL(J722))","v":""}]
["flagUruguay Primera Division",null,null,null,1,"X",2,null,null,null,1,"Uruguay Primera Division","","",{"$f":"IF(N723=\"\",\"\",fmt(M723+myset!$F$27/24,\"HH:MM\"))","v":""},{"$f":"IF(O723=\"\",\"\",B723)","v":""},"",{"$f":"IF(Q723=\"\",\"\",GetURL(J723))","v":""}]
["01:00 584427","Cerro ","Rentistas ","— — ",null,null,null,4,null,null,0,"Uruguay Primera Division","01:00","Uruguay Primera Division",{"$f":"IF(N724=\"\",\"\",fmt(M724+myset!$F$27/24,\"HH:MM\"))","v":"02:00"},{"$f":"IF(O724=\"\",\"\",B724)","v":"Cerro "},"Rentistas ",{"$f":"IF(Q724=\"\",\"\",GetURL(J724))","v":"https://en.24score.com/football/match/584427-cerro-rentistas"}]
["X",null,null,null,null,null,null,null,null,null,0,"Uruguay Primera Division","","",{"$f":"IF(N725=\"\",\"\",fmt(M725+myset!$F$27/24,\"HH:MM\"))","v":""},{"$f":"IF(O725=\"\",\"\",B725)","v":""},"",{"$f":"IF(Q725=\"\",\"\",GetURL(J725))","v":""}]
[null,null,null,null,null,null,null,null,null,null,0,"Uruguay Primera Division","","",{"$f":"IF(N726=\"\",\"\",fmt(M726+myset!$F$27/24,\"HH:MM\"))","v":""},{"$f":"IF(O726=\"\",\"\",B726)","v":""},"",{"$f":"IF(Q726=\"\",\"\",GetURL(J726))","v":""}]
["Rentistas has tied 4 last away games",null,null,null,null,null,null,null,null,null,0,"Uruguay Primera Division","","",{"$f":"IF(N727=\"\",\"\",fmt(M727+myset!$F$27/24,\"HH:MM\"))","v":""},{"$f":"IF(O727=\"\",\"\",B727)","v":""},"",{"$f":"IF(Q727=\"\",\"\",GetURL(J727))","v":""}]
[null,null,null,null,null,null,null,null,null,null,0,"Uruguay Primera Division","","",{"$f":"IF(N728=\"\",\"\",fmt(M728+myset!$F$27/24,\"HH:MM\"))","v":""},{"$f":"IF(O728=\"\",\"\",B728)","v":""},"",{"$f":"IF(Q728=\"\",\"\",GetURL(J728))","v":""}]
["Rentistas has tied 6 periods on end",null,null,null,null,null,null,null,null,null,0,"Uruguay Primera Division","","",{"$f":"IF(N729=\"\",\"\",fmt(M729+myset!$F$27/24,\"HH:MM\"))","v":""},{"$f":"IF(O729=\"\",\"\",B729)","v":""},"",{"$f":"IF(Q729=\"\",\"\",GetURL(J729))","v":""}]
[null,null,null,null,null,null,null,null,null,null,0,"Uruguay Primera Division","","",{"$f":"IF(N730=\"\",\"\",fmt(M730+myset!$F$27/24,\"HH:MM\"))","v":""},{"$f":"IF(O730=\"\",\"\",B730)","v":""},"",{"$f":"IF(Q730=\"\",\"\",GetURL(J730))","v":""}]
["Rentistas has tied 9 periods on end in away games",null,null,null,null,null,null,null,null,null,0,"Uruguay Primera Division","","",{"$f":"IF(N731=\"\",\"\",fmt(M731+myset!$F$27/24,\"HH:MM\"))","v":""},{"$f":"IF(O731=\"\",\"\",B731)","v":""},"",{"$f":"IF(Q731=\"\",\"\",GetURL(J731))","v":""}]
[null,null,null,null,null,null,null,null,null,null,0,"Uruguay Primera Division","","",{"$f":"IF(N732=\"\",\"\",fmt(M732+myset!$F$27/24,\"HH:MM\"))","v":""},{"$f":"IF(O732=\"\",\"\",B732)","v":""},"",{"$f":"IF(Q732=\"\",\"\",GetURL(J732))","v":""}]
["Rentistas has tied 2nd period in 5 last away games",null,null,null,null,null,null,null,null,null,0,"Uruguay Primera Division","","",{"$f":"IF(N733=\"\",\"\",fmt(M733+myset!$F$27/24,\"HH:MM\"))","v":""},{"$f":"IF(O733=\"\",\"\",B733)","v":""},"",{"$f":"IF(Q733=\"\",\"\",GetURL(J733))","v":""}]
[null,null,null,null,null,null,null,null,null,null,0,"Uruguay Primera Division","","",{"$f":"IF(N734=\"\",\"\",fmt(M734+myset!$F$27/24,\"HH:MM\"))","v":""},{"$f":"IF(O734=\"\",\"\",B734)","v":""},"",{"$f":"IF(Q734=\"\",\"\",GetURL(J734))","v":""}]
["flagUzbekistan Superleague",null,null,null,1,"X",2,null,null,null,1,"Uzbekistan Superleague","","",{"$f":"IF(N735=\"\",\"\",fmt(M735+myset!$F$27/24,\"HH:MM\"))","v":""},{"$f":"IF(O735=\"\",\"\",B735)","v":""},"",{"$f":"IF(Q735=\"\",\"\",GetURL(J735))","v":""}]
["13:00 584413","Metallurg B ","Bunyodkor ","— — ","2.29 ","3.22 ","3.096 ",1,null,null,0,"Uzbekistan Superleague","13:00","Uzbekistan Superleague",{"$f":"IF(N736=\"\",\"\",fmt(M736+myset!$F$27/24,\"HH:MM\"))","v":"14:00"},{"$f":"IF(O736=\"\",\"\",B736)","v":"Metallurg B "},"Bunyodkor ",{"$f":"IF(Q736=\"\",\"\",GetURL(J736))","v":"https://en.24score.com/football/match/584413-metallurg-b-bunyodkor"}]
["X",null,null,null,null,null,null,null,null,null,0,"Uzbekistan Superleague","","",{"$f":"IF(N737=\"\",\"\",fmt(M737+myset!$F$27/24,\"HH:MM\"))","v":""},{"$f":"IF(O737=\"\",\"\",B737)","v":""},"",{"$f":"IF(Q737=\"\",\"\",GetURL(J737))","v":""}]
[null,null,null,null,null,null,null,null,null,null,0,"Uzbekistan Superleague","","",{"$f":"IF(N738=\"\",\"\",fmt(M738+myset!$F$27/24,\"HH:MM\"))","v":""},{"$f":"IF(O738=\"\",\"\",B738)","v":""},"",{"$f":"IF(Q738=\"\",\"\",GetURL(J738))","v":""}]
["Bunyodkor have had over 2.5 goals in their last 6 away matches",null,null,null,null,null,null,null,null,null,0,"Uzbekistan Superleague","","",{"$f":"IF(N739=\"\",\"\",fmt(M739+myset!$F$27/24,\"HH:MM\"))","v":""},{"$f":"IF(O739=\"\",\"\",B739)","v":""},"",{"$f":"IF(Q739=\"\",\"\",GetURL(J739))","v":""}]
["13:00 584414","Sogdiana ","FC Nasaf ","— — ","3.32 ","3.22 ","2.175 ",1,null,null,0,"Uzbekistan Superleague","13:00","Uzbekistan Superleague",{"$f":"IF(N740=\"\",\"\",fmt(M740+myset!$F$27/24,\"HH:MM\"))","v":"14:00"},{"$f":"IF(O740=\"\",\"\",B740)","v":"Sogdiana "},"FC Nasaf ",{"$f":"IF(Q740=\"\",\"\",GetURL(J740))","v":"https://en.24score.com/football/match/584414-sogdiana-fc-nasaf"}]
["X",null,null,null,null,null,null,null,null,null,0,"Uzbekistan Superleague","","",{"$f":"IF(N741=\"\",\"\",fmt(M741+myset!$F$27/24,\"HH:MM\"))","v":""},{"$f":"IF(O741=\"\",\"\",B741)","v":""},"",{"$f":"IF(Q741=\"\",\"\",GetURL(J741))","v":""}]
[null,null,null,null,null,null,null,null,null,null,0,"Uzbekistan Superleague","","",{"$f":"IF(N742=\"\",\"\",fmt(M742+myset!$F$27/24,\"HH:MM\"))","v":""},{"$f":"IF(O742=\"\",\"\",B742)","v":""},"",{"$f":"IF(Q742=\"\",\"\",GetURL(J742))","v":""}]
["FC Nasaf has not lost 11 last games",null,null,null,null,null,null,null,null,null,0,"Uzbekistan Superleague","","",{"$f":"IF(N743=\"\",\"\",fmt(M743+myset!$F$27/24,\"HH:MM\"))","v":""},{"$f":"IF(O743=\"\",\"\",B743)","v":""},"",{"$f":"IF(Q743=\"\",\"\",GetURL(J743))","v":""}]
["15:00 584415","Navbahor ","Surkhon Termez ","— — ",null,null,null,4,null,null,0,"Uzbekistan Superleague","15:00","Uzbekistan Superleague",{"$f":"IF(N744=\"\",\"\",fmt(M744+myset!$F$27/24,\"HH:MM\"))","v":"16:00"},{"$f":"IF(O744=\"\",\"\",B744)","v":"Navbahor "},"Surkhon Termez ",{"$f":"IF(Q744=\"\",\"\",GetURL(J744))","v":"https://en.24score.com/football/match/584415-navbahor-surkhon-termez"}]
["X",null,null,null,null,null,null,null,null,null,0,"Uzbekistan Superleague","","",{"$f":"IF(N745=\"\",\"\",fmt(M745+myset!$F$27/24,\"HH:MM\"))","v":""},{"$f":"IF(O745=\"\",\"\",B745)","v":""},"",{"$f":"IF(Q745=\"\",\"\",GetURL(J745))","v":""}]
[null,null,null,null,null,null,null,null,null,null,0,"Uzbekistan Superleague","","",{"$f":"IF(N746=\"\",\"\",fmt(M746+myset!$F$27/24,\"HH:MM\"))","v":""},{"$f":"IF(O746=\"\",\"\",B746)","v":""},"",{"$f":"IF(Q746=\"\",\"\",GetURL(J746))","v":""}]
["Navbahor has tied 1st period in 6 last home games",null,null,null,null,null,null,null,null,null,0,"Uzbekistan Superleague","","",{"$f":"IF(N747=\"\",\"\",fmt(M747+myset!$F$27/24,\"HH:MM\"))","v":""},{"$f":"IF(O747=\"\",\"\",B747)","v":""},"",{"$f":"IF(Q747=\"\",\"\",GetURL(J747))","v":""}]
[null,null,null,null,null,null,null,null,null,null,0,"Uzbekistan Superleague","","",{"$f":"IF(N748=\"\",\"\",fmt(M748+myset!$F$27/24,\"HH:MM\"))","v":""},{"$f":"IF(O748=\"\",\"\",B748)","v":""},"",{"$f":"IF(Q748=\"\",\"\",GetURL(J748))","v":""}]
["Navbahor have had under 1.5 2nd half goals in 12 last matches",null,null,null,null,null,null,null,null,null,0,"Uzbekistan Superleague","","",{"$f":"IF(N749=\"\",\"\",fmt(M749+myset!$F$27/24,\"HH:MM\"))","v":""},{"$f":"IF(O749=\"\",\"\",B749)","v":""},"",{"$f":"IF(Q749=\"\",\"\",GetURL(J749))","v":""}]
[null,null,null,null,null,null,null,null,null,null,0,"Uzbekistan Superleague","","",{"$f":"IF(N750=\"\",\"\",fmt(M750+myset!$F$27/24,\"HH:MM\"))","v":""},{"$f":"IF(O750=\"\",\"\",B750)","v":""},"",{"$f":"IF(Q750=\"\",\"\",GetURL(J750))","v":""}]
["Navbahor have had under 1.5 2nd half goals in 8 last home matches",null,null,null,null,null,null,null,null,null,0,"Uzbekistan Superleague","","",{"$f":"IF(N751=\"\",\"\",fmt(M751+myset!$F$27/24,\"HH:MM\"))","v":""},{"$f":"IF(O751=\"\",\"\",B751)","v":""},"",{"$f":"IF(Q751=\"\",\"\",GetURL(J751))","v":""}]
[null,null,null,null,null,null,null,null,null,null,0,"Uzbekistan Superleague","","",{"$f":"IF(N752=\"\",\"\",fmt(M752+myset!$F$27/24,\"HH:MM\"))","v":""},{"$f":"IF(O752=\"\",\"\",B752)","v":""},"",{"$f":"IF(Q752=\"\",\"\",GetURL(J752))","v":""}]
["Surkhon Termez has played 24 away games without draws",null,null,null,null,null,null,null,null,null,0,"Uzbekistan Superleague","","",{"$f":"IF(N753=\"\",\"\",fmt(M753+myset!$F$27/24,\"HH:MM\"))","v":""},{"$f":"IF(O753=\"\",\"\",B753)","v":""},"",{"$f":"IF(Q753=\"\",\"\",GetURL(J753))","v":""}]
["15:00 584416","Pakhtakor ","FK Kokand ","— — ","1.136 ",8,15,5,null,null,0,"Uzbekistan Superleague","15:00","Uzbekistan Superleague",{"$f":"IF(N754=\"\",\"\",fmt(M754+myset!$F$27/24,\"HH:MM\"))","v":"16:00"},{"$f":"IF(O754=\"\",\"\",B754)","v":"Pakhtakor "},"FK Kokand ",{"$f":"IF(Q754=\"\",\"\",GetURL(J754))","v":"https://en.24score.com/football/match/584416-pakhtakor-fk-kokand"}]
["X",null,null,null,null,null,null,null,null,null,0,"Uzbekistan Superleague","","",{"$f":"IF(N755=\"\",\"\",fmt(M755+myset!$F$27/24,\"HH:MM\"))","v":""},{"$f":"IF(O755=\"\",\"\",B755)","v":""},"",{"$f":"IF(Q755=\"\",\"\",GetURL(J755))","v":""}]
[null,null,null,null,null,null,null,null,null,null,0,"Uzbekistan Superleague","","",{"$f":"IF(N756=\"\",\"\",fmt(M756+myset!$F$27/24,\"HH:MM\"))","v":""},{"$f":"IF(O756=\"\",\"\",B756)","v":""},"",{"$f":"IF(Q756=\"\",\"\",GetURL(J756))","v":""}]
["Pakhtakor has won 2nd period in 11 last home games",null,null,null,null,null,null,null,null,null,0,"Uzbekistan Superleague","","",{"$f":"IF(N757=\"\",\"\",fmt(M757+myset!$F$27/24,\"HH:MM\"))","v":""},{"$f":"IF(O757=\"\",\"\",B757)","v":""},"",{"$f":"IF(Q757=\"\",\"\",GetURL(J757))","v":""}]
[null,null,null,null,null,null,null,null,null,null,0,"Uzbekistan Superleague","","",{"$f":"IF(N758=\"\",\"\",fmt(M758+myset!$F$27/24,\"HH:MM\"))","v":""},{"$f":"IF(O758=\"\",\"\",B758)","v":""},"",{"$f":"IF(Q758=\"\",\"\",GetURL(J758))","v":""}]
["Pakhtakor has not tied 2nd period in 11 last home games",null,null,null,null,null,null,null,null,null,0,"Uzbekistan Superleague","","",{"$f":"IF(N759=\"\",\"\",fmt(M759+myset!$F$27/24,\"HH:MM\"))","v":""},{"$f":"IF(O759=\"\",\"\",B759)","v":""},"",{"$f":"IF(Q759=\"\",\"\",GetURL(J759))","v":""}]
[null,null,null,null,null,null,null,null,null,null,0,"Uzbekistan Superleague","","",{"$f":"IF(N760=\"\",\"\",fmt(M760+myset!$F$27/24,\"HH:MM\"))","v":""},{"$f":"IF(O760=\"\",\"\",B760)","v":""},"",{"$f":"IF(Q760=\"\",\"\",GetURL(J760))","v":""}]
["Pakhtakor has not lost 2nd period in 19 last home games",null,null,null,null,null,null,null,null,null,0,"Uzbekistan Superleague","","",{"$f":"IF(N761=\"\",\"\",fmt(M761+myset!$F$27/24,\"HH:MM\"))","v":""},{"$f":"IF(O761=\"\",\"\",B761)","v":""},"",{"$f":"IF(Q761=\"\",\"\",GetURL(J761))","v":""}]
[null,null,null,null,null,null,null,null,null,null,0,"Uzbekistan Superleague","","",{"$f":"IF(N762=\"\",\"\",fmt(M762+myset!$F$27/24,\"HH:MM\"))","v":""},{"$f":"IF(O762=\"\",\"\",B762)","v":""},"",{"$f":"IF(Q762=\"\",\"\",GetURL(J762))","v":""}]
["Pakhtakor have had over 1.5 goals 8 last halves in a row",null,null,null,null,null,null,null,null,null,0,"Uzbekistan Superleague","","",{"$f":"IF(N763=\"\",\"\",fmt(M763+myset!$F$27/24,\"HH:MM\"))","v":""},{"$f":"IF(O763=\"\",\"\",B763)","v":""},"",{"$f":"IF(Q763=\"\",\"\",GetURL(J763))","v":""}]
[null,null,null,null,null,null,null,null,null,null,0,"Uzbekistan Superleague","","",{"$f":"IF(N764=\"\",\"\",fmt(M764+myset!$F$27/24,\"HH:MM\"))","v":""},{"$f":"IF(O764=\"\",\"\",B764)","v":""},"",{"$f":"IF(Q764=\"\",\"\",GetURL(J764))","v":""}]
["Pakhtakor have had over 1.5 1st half goals in 4 last matches",null,null,null,null,null,null,null,null,null,0,"Uzbekistan Superleague","","",{"$f":"IF(N765=\"\",\"\",fmt(M765+myset!$F$27/24,\"HH:MM\"))","v":""},{"$f":"IF(O765=\"\",\"\",B765)","v":""},"",{"$f":"IF(Q765=\"\",\"\",GetURL(J765))","v":""}]
[null,null,null,null,null,null,null,null,null,null,0,"Uzbekistan Superleague","","",{"$f":"IF(N766=\"\",\"\",fmt(M766+myset!$F$27/24,\"HH:MM\"))","v":""},{"$f":"IF(O766=\"\",\"\",B766)","v":""},"",{"$f":"IF(Q766=\"\",\"\",GetURL(J766))","v":""}]
["flagVenezuela Primera Division",null,null,null,1,"X",2,null,null,null,1,"Venezuela Primera Division","","",{"$f":"IF(N767=\"\",\"\",fmt(M767+myset!$F$27/24,\"HH:MM\"))","v":""},{"$f":"IF(O767=\"\",\"\",B767)","v":""},"",{"$f":"IF(Q767=\"\",\"\",GetURL(J767))","v":""}]
["00:00 583176","Aragua ","Metropolitanos ","— — ","2.656 ","3.16 ","2.656 ",2,null,null,0,"Venezuela Primera Division","00:00","Venezuela Primera Division",{"$f":"IF(N768=\"\",\"\",fmt(M768+myset!$F$27/24,\"HH:MM\"))","v":"01:00"},{"$f":"IF(O768=\"\",\"\",B768)","v":"Aragua "},"Metropolitanos ",{"$f":"IF(Q768=\"\",\"\",GetURL(J768))","v":"https://en.24score.com/football/match/583176-aragua-metropolitanos"}]
["X",null,null,null,null,null,null,null,null,null,0,"Venezuela Primera Division","","",{"$f":"IF(N769=\"\",\"\",fmt(M769+myset!$F$27/24,\"HH:MM\"))","v":""},{"$f":"IF(O769=\"\",\"\",B769)","v":""},"",{"$f":"IF(Q769=\"\",\"\",GetURL(J769))","v":""}]
[null,null,null,null,null,null,null,null,null,null,0,"Venezuela Primera Division","","",{"$f":"IF(N770=\"\",\"\",fmt(M770+myset!$F$27/24,\"HH:MM\"))","v":""},{"$f":"IF(O770=\"\",\"\",B770)","v":""},"",{"$f":"IF(Q770=\"\",\"\",GetURL(J770))","v":""}]
["Aragua has tied 1st period in 5 last home games",null,null,null,null,null,null,null,null,null,{"$f":"IFERROR(SEARCH(\"flag\",A771),0)","v":0},{"$f":"IF(K771=1,MID(A771,5,100),L770)","v":"Venezuela Primera Division"},{"$f":"IF(B771=\"\",\"\",IFERROR(fmt(LEFT(A771,SEARCH(\" \",A771)-1),\"HH:MM\"),fmt(A771,\"HH:MM\")))","v":""},{"$f":"IF(M771=\"\",\"\",L771)","v":""},{"$f":"IF(N771=\"\",\"\",fmt(M771+myset!$F$27/24,\"HH:MM\"))","v":""},{"$f":"IF(O771=\"\",\"\",B771)","v":""},"",{"$f":"IF(Q771=\"\",\"\",GetURL(J771))","v":""}]
[null,null,null,null,null,null,null,null,null,null,0,"Venezuela Primera Division","","",{"$f":"IF(N772=\"\",\"\",fmt(M772+myset!$F$27/24,\"HH:MM\"))","v":""},{"$f":"IF(O772=\"\",\"\",B772)","v":""},"",{"$f":"IF(Q772=\"\",\"\",GetURL(J772))","v":""}]
["Metropolitanos has not tied 2nd period in 8 last away games",null,null,null,null,null,null,null,null,null,0,"Venezuela Primera Division","","",{"$f":"IF(N773=\"\",\"\",fmt(M773+myset!$F$27/24,\"HH:MM\"))","v":""},{"$f":"IF(O773=\"\",\"\",B773)","v":""},"",{"$f":"IF(Q773=\"\",\"\",GetURL(J773))","v":""}]
["03:00 583177","Tachira ","Monagas ","— — ",null,null,null,4,null,null,0,"Venezuela Primera Division","03:00","Venezuela Primera Division",{"$f":"IF(N774=\"\",\"\",fmt(M774+myset!$F$27/24,\"HH:MM\"))","v":"04:00"},{"$f":"IF(O774=\"\",\"\",B774)","v":"Tachira "},"Monagas ",{"$f":"IF(Q774=\"\",\"\",GetURL(J774))","v":"https://en.24score.com/football/match/583177-tachira-monagas"}]
["X",null,null,null,null,null,null,null,null,null,0,"Venezuela Primera Division","","",{"$f":"IF(N775=\"\",\"\",fmt(M775+myset!$F$27/24,\"HH:MM\"))","v":""},{"$f":"IF(O775=\"\",\"\",B775)","v":""},"",{"$f":"IF(Q775=\"\",\"\",GetURL(J775))","v":""}]
[null,null,null,null,null,null,null,null,null,null,0,"Venezuela Primera Division","","",{"$f":"IF(N776=\"\",\"\",fmt(M776+myset!$F$27/24,\"HH:MM\"))","v":""},{"$f":"IF(O776=\"\",\"\",B776)","v":""},"",{"$f":"IF(Q776=\"\",\"\",GetURL(J776))","v":""}]
["Tachira has not lost 1st period in 28 last home games",null,null,null,null,null,null,null,null,null,0,"Venezuela Primera Division","","",{"$f":"IF(N777=\"\",\"\",fmt(M777+myset!$F$27/24,\"HH:MM\"))","v":""},{"$f":"IF(O777=\"\",\"\",B777)","v":""},"",{"$f":"IF(Q777=\"\",\"\",GetURL(J777))","v":""}]
[null,null,null,null,null,null,null,null,null,null,0,"Venezuela Primera Division","","",{"$f":"IF(N778=\"\",\"\",fmt(M778+myset!$F$27/24,\"HH:MM\"))","v":""},{"$f":"IF(O778=\"\",\"\",B778)","v":""},"",{"$f":"IF(Q778=\"\",\"\",GetURL(J778))","v":""}]
["Tachira have had under 1.5 goals 12 last halves in a row",null,null,null,null,null,null,null,null,null,0,"Venezuela Primera Division","","",{"$f":"IF(N779=\"\",\"\",fmt(M779+myset!$F$27/24,\"HH:MM\"))","v":""},{"$f":"IF(O779=\"\",\"\",B779)","v":""},"",{"$f":"IF(Q779=\"\",\"\",GetURL(J779))","v":""}]
[null,null,null,null,null,null,null,null,null,null,0,"Venezuela Primera Division","","",{"$f":"IF(N780=\"\",\"\",fmt(M780+myset!$F$27/24,\"HH:MM\"))","v":""},{"$f":"IF(O780=\"\",\"\",B780)","v":""},"",{"$f":"IF(Q780=\"\",\"\",GetURL(J780))","v":""}]
["Monagas has lost 1st half in 4 last away games",null,null,null,null,null,null,null,null,null,0,"Venezuela Primera Division","","",{"$f":"IF(N781=\"\",\"\",fmt(M781+myset!$F$27/24,\"HH:MM\"))","v":""},{"$f":"IF(O781=\"\",\"\",B781)","v":""},"",{"$f":"IF(Q781=\"\",\"\",GetURL(J781))","v":""}]
[null,null,null,null,null,null,null,null,null,null,0,"Venezuela Primera Division","","",{"$f":"IF(N782=\"\",\"\",fmt(M782+myset!$F$27/24,\"HH:MM\"))","v":""},{"$f":"IF(O782=\"\",\"\",B782)","v":""},"",{"$f":"IF(Q782=\"\",\"\",GetURL(J782))","v":""}]
["Monagas has not won 15 last away games",null,null,null,null,null,null,null,null,null,0,"Venezuela Primera Division","","",{"$f":"IF(N783=\"\",\"\",fmt(M783+myset!$F$27/24,\"HH:MM\"))","v":""},{"$f":"IF(O783=\"\",\"\",B783)","v":""},"",{"$f":"IF(Q783=\"\",\"\",GetURL(J783))","v":""}]
[null,null,null,null,null,null,null,null,null,null,0,"Venezuela Primera Division","","",{"$f":"IF(N784=\"\",\"\",fmt(M784+myset!$F$27/24,\"HH:MM\"))","v":""},{"$f":"IF(O784=\"\",\"\",B784)","v":""},"",{"$f":"IF(Q784=\"\",\"\",GetURL(J784))","v":""}]
["flagWales Premier League",null,null,null,1,"X",2,null,null,null,1,"Wales Premier League","","",{"$f":"IF(N785=\"\",\"\",fmt(M785+myset!$F$27/24,\"HH:MM\"))","v":""},{"$f":"IF(O785=\"\",\"\",B785)","v":""},"",{"$f":"IF(Q785=\"\",\"\",GetURL(J785))","v":""}]
["22:45 575829","Connahs Quay ","Cefn Druids ","— — ","1.23 ","6.1 ","9.8 ",3,null,null,0,"Wales Premier League","22:45","Wales Premier League",{"$f":"IF(N786=\"\",\"\",fmt(M786+myset!$F$27/24,\"HH:MM\"))","v":"23:45"},{"$f":"IF(O786=\"\",\"\",B786)","v":"Connahs Quay "},"Cefn Druids ",{"$f":"IF(Q786=\"\",\"\",GetURL(J786))","v":"https://en.24score.com/football/match/575829-connahs-quay-cefn-druids"}]
["X",null,null,null,null,null,null,null,null,null,0,"Wales Premier League","","",{"$f":"IF(N787=\"\",\"\",fmt(M787+myset!$F$27/24,\"HH:MM\"))","v":""},{"$f":"IF(O787=\"\",\"\",B787)","v":""},"",{"$f":"IF(Q787=\"\",\"\",GetURL(J787))","v":""}]
[null,null,null,null,null,null,null,null,null,null,0,"Wales Premier League","","",{"$f":"IF(N788=\"\",\"\",fmt(M788+myset!$F$27/24,\"HH:MM\"))","v":""},{"$f":"IF(O788=\"\",\"\",B788)","v":""},"",{"$f":"IF(Q788=\"\",\"\",GetURL(J788))","v":""}]
["Connahs Quay has not lost 17 last home games",null,null,null,null,null,null,null,null,null,0,"Wales Premier League","","",{"$f":"IF(N789=\"\",\"\",fmt(M789+myset!$F$27/24,\"HH:MM\"))","v":""},{"$f":"IF(O789=\"\",\"\",B789)","v":""},"",{"$f":"IF(Q789=\"\",\"\",GetURL(J789))","v":""}]
[null,null,null,null,null,null,null,null,null,null,0,"Wales Premier League","","",{"$f":"IF(N790=\"\",\"\",fmt(M790+myset!$F$27/24,\"HH:MM\"))","v":""},{"$f":"IF(O790=\"\",\"\",B790)","v":""},"",{"$f":"IF(Q790=\"\",\"\",GetURL(J790))","v":""}]
["Cefn Druids has lost 2nd half in 6 last games",null,null,null,null,null,null,null,null,null,0,"Wales Premier League","","",{"$f":"IF(N791=\"\",\"\",fmt(M791+myset!$F$27/24,\"HH:MM\"))","v":""},{"$f":"IF(O791=\"\",\"\",B791)","v":""},"",{"$f":"IF(Q791=\"\",\"\",GetURL(J791))","v":""}]
[null,null,null,null,null,null,null,null,null,null,0,"Wales Premier League","","",{"$f":"IF(N792=\"\",\"\",fmt(M792+myset!$F$27/24,\"HH:MM\"))","v":""},{"$f":"IF(O792=\"\",\"\",B792)","v":""},"",{"$f":"IF(Q792=\"\",\"\",GetURL(J792))","v":""}]
["Cefn Druids has not tied 9 periods on end",null,null,null,null,null,null,null,null,null,0,"Wales Premier League","","",{"$f":"IF(N793=\"\",\"\",fmt(M793+myset!$F$27/24,\"HH:MM\"))","v":""},{"$f":"IF(O793=\"\",\"\",B793)","v":""},"",{"$f":"IF(Q793=\"\",\"\",GetURL(J793))","v":""}]
["22:45 575830","Aberystwyth ","Bala Town ","— — ","4.12 ",4,"1.71 ",1,null,null,0,"Wales Premier League","22:45","Wales Premier League",{"$f":"IF(N794=\"\",\"\",fmt(M794+myset!$F$27/24,\"HH:MM\"))","v":"23:45"},{"$f":"IF(O794=\"\",\"\",B794)","v":"Aberystwyth "},"Bala Town ",{"$f":"IF(Q794=\"\",\"\",GetURL(J794))","v":"https://en.24score.com/football/match/575830-aberystwyth-bala-town"}]
["X",null,null,null,null,null,null,null,null,null,0,"Wales Premier League","","",{"$f":"IF(N795=\"\",\"\",fmt(M795+myset!$F$27/24,\"HH:MM\"))","v":""},{"$f":"IF(O795=\"\",\"\",B795)","v":""},"",{"$f":"IF(Q795=\"\",\"\",GetURL(J795))","v":""}]
[null,null,null,null,null,null,null,null,null,null,0,"Wales Premier League","","",{"$f":"IF(N796=\"\",\"\",fmt(M796+myset!$F$27/24,\"HH:MM\"))","v":""},{"$f":"IF(O796=\"\",\"\",B796)","v":""},"",{"$f":"IF(Q796=\"\",\"\",GetURL(J796))","v":""}]
["Aberystwyth have had over 1.5 2nd half goals in 5 last matches",null,null,null,null,null,null,null,null,null,0,"Wales Premier League","","",{"$f":"IF(N797=\"\",\"\",fmt(M797+myset!$F$27/24,\"HH:MM\"))","v":""},{"$f":"IF(O797=\"\",\"\",B797)","v":""},"",{"$f":"IF(Q797=\"\",\"\",GetURL(J797))","v":""}]
[null,null,null,null,null,null,null,null,null,null,0,"Wales Premier League","","",{"$f":"IF(N798=\"\",\"\",fmt(M798+myset!$F$27/24,\"HH:MM\"))","v":""},{"$f":"IF(O798=\"\",\"\",B798)","v":""},"",{"$f":"IF(Q798=\"\",\"\",GetURL(J798))","v":""}]
[null,null,null,null,null,null,null,null,null,null,0,"Wales Premier League","","",{"$f":"IF(N799=\"\",\"\",fmt(M799+myset!$F$27/24,\"HH:MM\"))","v":""},{"$f":"IF(O799=\"\",\"\",B799)","v":""},"",{"$f":"IF(Q799=\"\",\"\",GetURL(J799))","v":""}]
[null,null,null,null,null,null,null,null,null,null,0,"Wales Premier League","","",{"$f":"IF(N800=\"\",\"\",fmt(M800+myset!$F$27/24,\"HH:MM\"))","v":""},{"$f":"IF(O800=\"\",\"\",B800)","v":""},"",{"$f":"IF(Q800=\"\",\"\",GetURL(J800))","v":""}]
[null,null,null,null,null,null,null,null,null,null,0,"Wales Premier League","","",{"$f":"IF(N801=\"\",\"\",fmt(M801+myset!$F$27/24,\"HH:MM\"))","v":""},{"$f":"IF(O801=\"\",\"\",B801)","v":""},"",{"$f":"IF(Q801=\"\",\"\",GetURL(J801))","v":""}]
[null,null,null,null,null,null,null,null,null,null,0,"Wales Premier League","","",{"$f":"IF(N802=\"\",\"\",fmt(M802+myset!$F$27/24,\"HH:MM\"))","v":""},{"$f":"IF(O802=\"\",\"\",B802)","v":""},"",{"$f":"IF(Q802=\"\",\"\",GetURL(J802))","v":""}]
[null,null,null,null,null,null,null,null,null,null,0,"Wales Premier League","","",{"$f":"IF(N803=\"\",\"\",fmt(M803+myset!$F$27/24,\"HH:MM\"))","v":""},{"$f":"IF(O803=\"\",\"\",B803)","v":""},"",{"$f":"IF(Q803=\"\",\"\",GetURL(J803))","v":""}]
[null,null,null,null,null,null,null,null,null,null,0,"Wales Premier League","","",{"$f":"IF(N804=\"\",\"\",fmt(M804+myset!$F$27/24,\"HH:MM\"))","v":""},{"$f":"IF(O804=\"\",\"\",B804)","v":""},"",{"$f":"IF(Q804=\"\",\"\",GetURL(J804))","v":""}]
[null,null,null,null,null,null,null,null,null,null,0,"Wales Premier League","","",{"$f":"IF(N805=\"\",\"\",fmt(M805+myset!$F$27/24,\"HH:MM\"))","v":""},{"$f":"IF(O805=\"\",\"\",B805)","v":""},"",{"$f":"IF(Q805=\"\",\"\",GetURL(J805))","v":""}]
[null,null,null,null,null,null,null,null,null,null,0,"Wales Premier League","","",{"$f":"IF(N806=\"\",\"\",fmt(M806+myset!$F$27/24,\"HH:MM\"))","v":""},{"$f":"IF(O806=\"\",\"\",B806)","v":""},"",{"$f":"IF(Q806=\"\",\"\",GetURL(J806))","v":""}]
[null,null,null,null,null,null,null,null,null,null,0,"Wales Premier League","","",{"$f":"IF(N807=\"\",\"\",fmt(M807+myset!$F$27/24,\"HH:MM\"))","v":""},{"$f":"IF(O807=\"\",\"\",B807)","v":""},"",{"$f":"IF(Q807=\"\",\"\",GetURL(J807))","v":""}]
[null,null,null,null,null,null,null,null,null,null,0,"Wales Premier League","","",{"$f":"IF(N808=\"\",\"\",fmt(M808+myset!$F$27/24,\"HH:MM\"))","v":""},{"$f":"IF(O808=\"\",\"\",B808)","v":""},"",{"$f":"IF(Q808=\"\",\"\",GetURL(J808))","v":""}]
[null,null,null,null,null,null,null,null,null,null,0,"Wales Premier League","","",{"$f":"IF(N809=\"\",\"\",fmt(M809+myset!$F$27/24,\"HH:MM\"))","v":""},{"$f":"IF(O809=\"\",\"\",B809)","v":""},"",{"$f":"IF(Q809=\"\",\"\",GetURL(J809))","v":""}]
[null,null,null,null,null,null,null,null,null,null,0,"Wales Premier League","","",{"$f":"IF(N810=\"\",\"\",fmt(M810+myset!$F$27/24,\"HH:MM\"))","v":""},{"$f":"IF(O810=\"\",\"\",B810)","v":""},"",{"$f":"IF(Q810=\"\",\"\",GetURL(J810))","v":""}]
[null,null,null,null,null,null,null,null,null,null,0,"Wales Premier League","","",{"$f":"IF(N811=\"\",\"\",fmt(M811+myset!$F$27/24,\"HH:MM\"))","v":""},{"$f":"IF(O811=\"\",\"\",B811)","v":""},"",{"$f":"IF(Q811=\"\",\"\",GetURL(J811))","v":""}]
[null,null,null,null,null,null,null,null,null,null,0,"Wales Premier League","","",{"$f":"IF(N812=\"\",\"\",fmt(M812+myset!$F$27/24,\"HH:MM\"))","v":""},{"$f":"IF(O812=\"\",\"\",B812)","v":""},"",{"$f":"IF(Q812=\"\",\"\",GetURL(J812))","v":""}]
[null,null,null,null,null,null,null,null,null,null,0,"Wales Premier League","","",{"$f":"IF(N813=\"\",\"\",fmt(M813+myset!$F$27/24,\"HH:MM\"))","v":""},{"$f":"IF(O813=\"\",\"\",B813)","v":""},"",{"$f":"IF(Q813=\"\",\"\",GetURL(J813))","v":""}]
[null,null,null,null,null,null,null,null,null,null,0,"Wales Premier League","","",{"$f":"IF(N814=\"\",\"\",fmt(M814+myset!$F$27/24,\"HH:MM\"))","v":""},{"$f":"IF(O814=\"\",\"\",B814)","v":""},"",{"$f":"IF(Q814=\"\",\"\",GetURL(J814))","v":""}]
[null,null,null,null,null,null,null,null,null,null,0,"Wales Premier League","","",{"$f":"IF(N815=\"\",\"\",fmt(M815+myset!$F$27/24,\"HH:MM\"))","v":""},{"$f":"IF(O815=\"\",\"\",B815)","v":""},"",{"$f":"IF(Q815=\"\",\"\",GetURL(J815))","v":""}]
[null,null,null,null,null,null,null,null,null,null,0,"Wales Premier League","","",{"$f":"IF(N816=\"\",\"\",fmt(M816+myset!$F$27/24,\"HH:MM\"))","v":""},{"$f":"IF(O816=\"\",\"\",B816)","v":""},"",{"$f":"IF(Q816=\"\",\"\",GetURL(J816))","v":""}]
[null,null,null,null,null,null,null,null,null,null,0,"Wales Premier League","","",{"$f":"IF(N817=\"\",\"\",fmt(M817+myset!$F$27/24,\"HH:MM\"))","v":""},{"$f":"IF(O817=\"\",\"\",B817)","v":""},"",{"$f":"IF(Q817=\"\",\"\",GetURL(J817))","v":""}]
[null,null,null,null,null,null,null,null,null,null,0,"Wales Premier League","","",{"$f":"IF(N818=\"\",\"\",fmt(M818+myset!$F$27/24,\"HH:MM\"))","v":""},{"$f":"IF(O818=\"\",\"\",B818)","v":""},"",{"$f":"IF(Q818=\"\",\"\",GetURL(J818))","v":""}]
[null,null,null,null,null,null,null,null,null,null,0,"Wales Premier League","","",{"$f":"IF(N819=\"\",\"\",fmt(M819+myset!$F$27/24,\"HH:MM\"))","v":""},{"$f":"IF(O819=\"\",\"\",B819)","v":""},"",{"$f":"IF(Q819=\"\",\"\",GetURL(J819))","v":""}]
[null,null,null,null,null,null,null,null,null,null,0,"Wales Premier League","","",{"$f":"IF(N820=\"\",\"\",fmt(M820+myset!$F$27/24,\"HH:MM\"))","v":""},{"$f":"IF(O820=\"\",\"\",B820)","v":""},"",{"$f":"IF(Q820=\"\",\"\",GetURL(J820))","v":""}]
[null,null,null,null,null,null,null,null,null,null,0,"Wales Premier League","","",{"$f":"IF(N821=\"\",\"\",fmt(M821+myset!$F$27/24,\"HH:MM\"))","v":""},{"$f":"IF(O821=\"\",\"\",B821)","v":""},"",{"$f":"IF(Q821=\"\",\"\",GetURL(J821))","v":""}]
[null,null,null,null,null,null,null,null,null,null,0,"Wales Premier League","","",{"$f":"IF(N822=\"\",\"\",fmt(M822+myset!$F$27/24,\"HH:MM\"))","v":""},{"$f":"IF(O822=\"\",\"\",B822)","v":""},"",{"$f":"IF(Q822=\"\",\"\",GetURL(J822))","v":""}]
[null,null,null,null,null,null,null,null,null,null,0,"Wales Premier League","","",{"$f":"IF(N823=\"\",\"\",fmt(M823+myset!$F$27/24,\"HH:MM\"))","v":""},{"$f":"IF(O823=\"\",\"\",B823)","v":""},"",{"$f":"IF(Q823=\"\",\"\",GetURL(J823))","v":""}]
[null,null,null,null,null,null,null,null,null,null,0,"Wales Premier League","","",{"$f":"IF(N824=\"\",\"\",fmt(M824+myset!$F$27/24,\"HH:MM\"))","v":""},{"$f":"IF(O824=\"\",\"\",B824)","v":""},"",{"$f":"IF(Q824=\"\",\"\",GetURL(J824))","v":""}]
[null,null,null,null,null,null,null,null,null,null,0,"Wales Premier League","","",{"$f":"IF(N825=\"\",\"\",fmt(M825+myset!$F$27/24,\"HH:MM\"))","v":""},{"$f":"IF(O825=\"\",\"\",B825)","v":""},"",{"$f":"IF(Q825=\"\",\"\",GetURL(J825))","v":""}]
[null,null,null,null,null,null,null,null,null,null,0,"Wales Premier League","","",{"$f":"IF(N826=\"\",\"\",fmt(M826+myset!$F$27/24,\"HH:MM\"))","v":""},{"$f":"IF(O826=\"\",\"\",B826)","v":""},"",{"$f":"IF(Q826=\"\",\"\",GetURL(J826))","v":""}]
[null,null,null,null,null,null,null,null,null,null,0,"Wales Premier League","","",{"$f":"IF(N827=\"\",\"\",fmt(M827+myset!$F$27/24,\"HH:MM\"))","v":""},{"$f":"IF(O827=\"\",\"\",B827)","v":""},"",{"$f":"IF(Q827=\"\",\"\",GetURL(J827))","v":""}]
[null,null,null,null,null,null,null,null,null,null,0,"Wales Premier League","","",{"$f":"IF(N828=\"\",\"\",fmt(M828+myset!$F$27/24,\"HH:MM\"))","v":""},{"$f":"IF(O828=\"\",\"\",B828)","v":""},"",{"$f":"IF(Q828=\"\",\"\",GetURL(J828))","v":""}]
[null,null,null,null,null,null,null,null,null,null,0,"Wales Premier League","","",{"$f":"IF(N829=\"\",\"\",fmt(M829+myset!$F$27/24,\"HH:MM\"))","v":""},{"$f":"IF(O829=\"\",\"\",B829)","v":""},"",{"$f":"IF(Q829=\"\",\"\",GetURL(J829))","v":""}]
[null,null,null,null,null,null,null,null,null,null,0,"Wales Premier League","","",{"$f":"IF(N830=\"\",\"\",fmt(M830+myset!$F$27/24,\"HH:MM\"))","v":""},{"$f":"IF(O830=\"\",\"\",B830)","v":""},"",{"$f":"IF(Q830=\"\",\"\",GetURL(J830))","v":""}]
[null,null,null,null,null,null,null,null,null,null,0,"Wales Premier League","","",{"$f":"IF(N831=\"\",\"\",fmt(M831+myset!$F$27/24,\"HH:MM\"))","v":""},{"$f":"IF(O831=\"\",\"\",B831)","v":""},"",{"$f":"IF(Q831=\"\",\"\",GetURL(J831))","v":""}]
[null,null,null,null,null,null,null,null,null,null,0,"Wales Premier League","","",{"$f":"IF(N832=\"\",\"\",fmt(M832+myset!$F$27/24,\"HH:MM\"))","v":""},{"$f":"IF(O832=\"\",\"\",B832)","v":""},"",{"$f":"IF(Q832=\"\",\"\",GetURL(J832))","v":""}]
[null,null,null,null,null,null,null,null,null,null,0,"Wales Premier League","","",{"$f":"IF(N833=\"\",\"\",fmt(M833+myset!$F$27/24,\"HH:MM\"))","v":""},{"$f":"IF(O833=\"\",\"\",B833)","v":""},"",{"$f":"IF(Q833=\"\",\"\",GetURL(J833))","v":""}]
[null,null,null,null,null,null,null,null,null,null,0,"Wales Premier League","","",{"$f":"IF(N834=\"\",\"\",fmt(M834+myset!$F$27/24,\"HH:MM\"))","v":""},{"$f":"IF(O834=\"\",\"\",B834)","v":""},"",{"$f":"IF(Q834=\"\",\"\",GetURL(J834))","v":""}]
[null,null,null,null,null,null,null,null,null,null,{"$f":"IFERROR(SEARCH(\"flag\",A835),0)","v":0},{"$f":"IF(K835=1,MID(A835,5,100),L834)","v":"Wales Premier League"},{"$f":"IF(B835=\"\",\"\",IFERROR(fmt(LEFT(A835,SEARCH(\" \",A835)-1),\"HH:MM\"),fmt(A835,\"HH:MM\")))","v":""},{"$f":"IF(M835=\"\",\"\",L835)","v":""},{"$f":"IF(N835=\"\",\"\",fmt(M835+myset!$F$27/24,\"HH:MM\"))","v":""},{"$f":"IF(O835=\"\",\"\",B835)","v":""},"",{"$f":"IF(Q835=\"\",\"\",GetURL(J835))","v":""}]
[null,null,null,null,null,null,null,null,null,null,0,"Wales Premier League","","",{"$f":"IF(N836=\"\",\"\",fmt(M836+myset!$F$27/24,\"HH:MM\"))","v":""},{"$f":"IF(O836=\"\",\"\",B836)","v":""},"",{"$f":"IF(Q836=\"\",\"\",GetURL(J836))","v":""}]
[null,null,null,null,null,null,null,null,null,null,0,"Wales Premier League","","",{"$f":"IF(N837=\"\",\"\",fmt(M837+myset!$F$27/24,\"HH:MM\"))","v":""},{"$f":"IF(O837=\"\",\"\",B837)","v":""},"",{"$f":"IF(Q837=\"\",\"\",GetURL(J837))","v":""}]
[null,null,null,null,null,null,null,null,null,null,0,"Wales Premier League","","",{"$f":"IF(N838=\"\",\"\",fmt(M838+myset!$F$27/24,\"HH:MM\"))","v":""},{"$f":"IF(O838=\"\",\"\",B838)","v":""},"",{"$f":"IF(Q838=\"\",\"\",GetURL(J838))","v":""}]
[null,null,null,null,null,null,null,null,null,null,0,"Wales Premier League","","",{"$f":"IF(N839=\"\",\"\",fmt(M839+myset!$F$27/24,\"HH:MM\"))","v":""},{"$f":"IF(O839=\"\",\"\",B839)","v":""},"",{"$f":"IF(Q839=\"\",\"\",GetURL(J839))","v":""}]
[null,null,null,null,null,null,null,null,null,null,0,"Wales Premier League","","",{"$f":"IF(N840=\"\",\"\",fmt(M840+myset!$F$27/24,\"HH:MM\"))","v":""},{"$f":"IF(O840=\"\",\"\",B840)","v":""},"",{"$f":"IF(Q840=\"\",\"\",GetURL(J840))","v":""}]
[null,null,null,null,null,null,null,null,null,null,0,"Wales Premier League","","",{"$f":"IF(N841=\"\",\"\",fmt(M841+myset!$F$27/24,\"HH:MM\"))","v":""},{"$f":"IF(O841=\"\",\"\",B841)","v":""},"",{"$f":"IF(Q841=\"\",\"\",GetURL(J841))","v":""}]
[null,null,null,null,null,null,null,null,null,null,0,"Wales Premier League","","",{"$f":"IF(N842=\"\",\"\",fmt(M842+myset!$F$27/24,\"HH:MM\"))","v":""},{"$f":"IF(O842=\"\",\"\",B842)","v":""},"",{"$f":"IF(Q842=\"\",\"\",GetURL(J842))","v":""}]
[null,null,null,null,null,null,null,null,null,null,0,"Wales Premier League","","",{"$f":"IF(N843=\"\",\"\",fmt(M843+myset!$F$27/24,\"HH:MM\"))","v":""},{"$f":"IF(O843=\"\",\"\",B843)","v":""},"",{"$f":"IF(Q843=\"\",\"\",GetURL(J843))","v":""}]
[null,null,null,null,null,null,null,null,null,null,0,"Wales Premier League","","",{"$f":"IF(N844=\"\",\"\",fmt(M844+myset!$F$27/24,\"HH:MM\"))","v":""},{"$f":"IF(O844=\"\",\"\",B844)","v":""},"",{"$f":"IF(Q844=\"\",\"\",GetURL(J844))","v":""}]
[null,null,null,null,null,null,null,null,null,null,0,"Wales Premier League","","",{"$f":"IF(N845=\"\",\"\",fmt(M845+myset!$F$27/24,\"HH:MM\"))","v":""},{"$f":"IF(O845=\"\",\"\",B845)","v":""},"",{"$f":"IF(Q845=\"\",\"\",GetURL(J845))","v":""}]
[null,null,null,null,null,null,null,null,null,null,0,"Wales Premier League","","",{"$f":"IF(N846=\"\",\"\",fmt(M846+myset!$F$27/24,\"HH:MM\"))","v":""},{"$f":"IF(O846=\"\",\"\",B846)","v":""},"",{"$f":"IF(Q846=\"\",\"\",GetURL(J846))","v":""}]
[null,null,null,null,null,null,null,null,null,null,0,"Wales Premier League","","",{"$f":"IF(N847=\"\",\"\",fmt(M847+myset!$F$27/24,\"HH:MM\"))","v":""},{"$f":"IF(O847=\"\",\"\",B847)","v":""},"",{"$f":"IF(Q847=\"\",\"\",GetURL(J847))","v":""}]
[null,null,null,null,null,null,null,null,null,null,0,"Wales Premier League","","",{"$f":"IF(N848=\"\",\"\",fmt(M848+myset!$F$27/24,\"HH:MM\"))","v":""},{"$f":"IF(O848=\"\",\"\",B848)","v":""},"",{"$f":"IF(Q848=\"\",\"\",GetURL(J848))","v":""}]
[null,null,null,null,null,null,null,null,null,null,0,"Wales Premier League","","",{"$f":"IF(N849=\"\",\"\",fmt(M849+myset!$F$27/24,\"HH:MM\"))","v":""},{"$f":"IF(O849=\"\",\"\",B849)","v":""},"",{"$f":"IF(Q849=\"\",\"\",GetURL(J849))","v":""}]
[null,null,null,null,null,null,null,null,null,null,0,"Wales Premier League","","",{"$f":"IF(N850=\"\",\"\",fmt(M850+myset!$F$27/24,\"HH:MM\"))","v":""},{"$f":"IF(O850=\"\",\"\",B850)","v":""},"",{"$f":"IF(Q850=\"\",\"\",GetURL(J850))","v":""}]
[null,null,null,null,null,null,null,null,null,null,0,"Wales Premier League","","",{"$f":"IF(N851=\"\",\"\",fmt(M851+myset!$F$27/24,\"HH:MM\"))","v":""},{"$f":"IF(O851=\"\",\"\",B851)","v":""},"",{"$f":"IF(Q851=\"\",\"\",GetURL(J851))","v":""}]
[null,null,null,null,null,null,null,null,null,null,0,"Wales Premier League","","",{"$f":"IF(N852=\"\",\"\",fmt(M852+myset!$F$27/24,\"HH:MM\"))","v":""},{"$f":"IF(O852=\"\",\"\",B852)","v":""},"",{"$f":"IF(Q852=\"\",\"\",GetURL(J852))","v":""}]
[null,null,null,null,null,null,null,null,null,null,0,"Wales Premier League","","",{"$f":"IF(N853=\"\",\"\",fmt(M853+myset!$F$27/24,\"HH:MM\"))","v":""},{"$f":"IF(O853=\"\",\"\",B853)","v":""},"",{"$f":"IF(Q853=\"\",\"\",GetURL(J853))","v":""}]
[null,null,null,null,null,null,null,null,null,null,0,"Wales Premier League","","",{"$f":"IF(N854=\"\",\"\",fmt(M854+myset!$F$27/24,\"HH:MM\"))","v":""},{"$f":"IF(O854=\"\",\"\",B854)","v":""},"",{"$f":"IF(Q854=\"\",\"\",GetURL(J854))","v":""}]
[null,null,null,null,null,null,null,null,null,null,0,"Wales Premier League","","",{"$f":"IF(N855=\"\",\"\",fmt(M855+myset!$F$27/24,\"HH:MM\"))","v":""},{"$f":"IF(O855=\"\",\"\",B855)","v":""},"",{"$f":"IF(Q855=\"\",\"\",GetURL(J855))","v":""}]
[null,null,null,null,null,null,null,null,null,null,0,"Wales Premier League","","",{"$f":"IF(N856=\"\",\"\",fmt(M856+myset!$F$27/24,\"HH:MM\"))","v":""},{"$f":"IF(O856=\"\",\"\",B856)","v":""},"",{"$f":"IF(Q856=\"\",\"\",GetURL(J856))","v":""}]
[null,null,null,null,null,null,null,null,null,null,0,"Wales Premier League","","",{"$f":"IF(N857=\"\",\"\",fmt(M857+myset!$F$27/24,\"HH:MM\"))","v":""},{"$f":"IF(O857=\"\",\"\",B857)","v":""},"",{"$f":"IF(Q857=\"\",\"\",GetURL(J857))","v":""}]
[null,null,null,null,null,null,null,null,null,null,0,"Wales Premier League","","",{"$f":"IF(N858=\"\",\"\",fmt(M858+myset!$F$27/24,\"HH:MM\"))","v":""},{"$f":"IF(O858=\"\",\"\",B858)","v":""},"",{"$f":"IF(Q858=\"\",\"\",GetURL(J858))","v":""}]
[null,null,null,null,null,null,null,null,null,null,0,"Wales Premier League","","",{"$f":"IF(N859=\"\",\"\",fmt(M859+myset!$F$27/24,\"HH:MM\"))","v":""},{"$f":"IF(O859=\"\",\"\",B859)","v":""},"",{"$f":"IF(Q859=\"\",\"\",GetURL(J859))","v":""}]
[null,null,null,null,null,null,null,null,null,null,0,"Wales Premier League","","",{"$f":"IF(N860=\"\",\"\",fmt(M860+myset!$F$27/24,\"HH:MM\"))","v":""},{"$f":"IF(O860=\"\",\"\",B860)","v":""},"",{"$f":"IF(Q860=\"\",\"\",GetURL(J860))","v":""}]
[null,null,null,null,null,null,null,null,null,null,0,"Wales Premier League","","",{"$f":"IF(N861=\"\",\"\",fmt(M861+myset!$F$27/24,\"HH:MM\"))","v":""},{"$f":"IF(O861=\"\",\"\",B861)","v":""},"",{"$f":"IF(Q861=\"\",\"\",GetURL(J861))","v":""}]
[null,null,null,null,null,null,null,null,null,null,0,"Wales Premier League","","",{"$f":"IF(N862=\"\",\"\",fmt(M862+myset!$F$27/24,\"HH:MM\"))","v":""},{"$f":"IF(O862=\"\",\"\",B862)","v":""},"",{"$f":"IF(Q862=\"\",\"\",GetURL(J862))","v":""}]
[null,null,null,null,null,null,null,null,null,null,0,"Wales Premier League","","",{"$f":"IF(N863=\"\",\"\",fmt(M863+myset!$F$27/24,\"HH:MM\"))","v":""},{"$f":"IF(O863=\"\",\"\",B863)","v":""},"",{"$f":"IF(Q863=\"\",\"\",GetURL(J863))","v":""}]
[null,null,null,null,null,null,null,null,null,null,0,"Wales Premier League","","",{"$f":"IF(N864=\"\",\"\",fmt(M864+myset!$F$27/24,\"HH:MM\"))","v":""},{"$f":"IF(O864=\"\",\"\",B864)","v":""},"",{"$f":"IF(Q864=\"\",\"\",GetURL(J864))","v":""}]
[null,null,null,null,null,null,null,null,null,null,0,"Wales Premier League","","",{"$f":"IF(N865=\"\",\"\",fmt(M865+myset!$F$27/24,\"HH:MM\"))","v":""},{"$f":"IF(O865=\"\",\"\",B865)","v":""},"",{"$f":"IF(Q865=\"\",\"\",GetURL(J865))","v":""}]
[null,null,null,null,null,null,null,null,null,null,0,"Wales Premier League","","",{"$f":"IF(N866=\"\",\"\",fmt(M866+myset!$F$27/24,\"HH:MM\"))","v":""},{"$f":"IF(O866=\"\",\"\",B866)","v":""},"",{"$f":"IF(Q866=\"\",\"\",GetURL(J866))","v":""}]
[null,null,null,null,null,null,null,null,null,null,0,"Wales Premier League","","",{"$f":"IF(N867=\"\",\"\",fmt(M867+myset!$F$27/24,\"HH:MM\"))","v":""},{"$f":"IF(O867=\"\",\"\",B867)","v":""},"",{"$f":"IF(Q867=\"\",\"\",GetURL(J867))","v":""}]
[null,null,null,null,null,null,null,null,null,null,0,"Wales Premier League","","",{"$f":"IF(N868=\"\",\"\",fmt(M868+myset!$F$27/24,\"HH:MM\"))","v":""},{"$f":"IF(O868=\"\",\"\",B868)","v":""},"",{"$f":"IF(Q868=\"\",\"\",GetURL(J868))","v":""}]
[null,null,null,null,null,null,null,null,null,null,0,"Wales Premier League","","",{"$f":"IF(N869=\"\",\"\",fmt(M869+myset!$F$27/24,\"HH:MM\"))","v":""},{"$f":"IF(O869=\"\",\"\",B869)","v":""},"",{"$f":"IF(Q869=\"\",\"\",GetURL(J869))","v":""}]
[null,null,null,null,null,null,null,null,null,null,0,"Wales Premier League","","",{"$f":"IF(N870=\"\",\"\",fmt(M870+myset!$F$27/24,\"HH:MM\"))","v":""},{"$f":"IF(O870=\"\",\"\",B870)","v":""},"",{"$f":"IF(Q870=\"\",\"\",GetURL(J870))","v":""}]
[null,null,null,null,null,null,null,null,null,null,0,"Wales Premier League","","",{"$f":"IF(N871=\"\",\"\",fmt(M871+myset!$F$27/24,\"HH:MM\"))","v":""},{"$f":"IF(O871=\"\",\"\",B871)","v":""},"",{"$f":"IF(Q871=\"\",\"\",GetURL(J871))","v":""}]
[null,null,null,null,null,null,null,null,null,null,0,"Wales Premier League","","",{"$f":"IF(N872=\"\",\"\",fmt(M872+myset!$F$27/24,\"HH:MM\"))","v":""},{"$f":"IF(O872=\"\",\"\",B872)","v":""},"",{"$f":"IF(Q872=\"\",\"\",GetURL(J872))","v":""}]
[null,null,null,null,null,null,null,null,null,null,0,"Wales Premier League","","",{"$f":"IF(N873=\"\",\"\",fmt(M873+myset!$F$27/24,\"HH:MM\"))","v":""},{"$f":"IF(O873=\"\",\"\",B873)","v":""},"",{"$f":"IF(Q873=\"\",\"\",GetURL(J873))","v":""}]
[null,null,null,null,null,null,null,null,null,null,0,"Wales Premier League","","",{"$f":"IF(N874=\"\",\"\",fmt(M874+myset!$F$27/24,\"HH:MM\"))","v":""},{"$f":"IF(O874=\"\",\"\",B874)","v":""},"",{"$f":"IF(Q874=\"\",\"\",GetURL(J874))","v":""}]
[null,null,null,null,null,null,null,null,null,null,0,"Wales Premier League","","",{"$f":"IF(N875=\"\",\"\",fmt(M875+myset!$F$27/24,\"HH:MM\"))","v":""},{"$f":"IF(O875=\"\",\"\",B875)","v":""},"",{"$f":"IF(Q875=\"\",\"\",GetURL(J875))","v":""}]
[null,null,null,null,null,null,null,null,null,null,0,"Wales Premier League","","",{"$f":"IF(N876=\"\",\"\",fmt(M876+myset!$F$27/24,\"HH:MM\"))","v":""},{"$f":"IF(O876=\"\",\"\",B876)","v":""},"",{"$f":"IF(Q876=\"\",\"\",GetURL(J876))","v":""}]
[null,null,null,null,null,null,null,null,null,null,0,"Wales Premier League","","",{"$f":"IF(N877=\"\",\"\",fmt(M877+myset!$F$27/24,\"HH:MM\"))","v":""},{"$f":"IF(O877=\"\",\"\",B877)","v":""},"",{"$f":"IF(Q877=\"\",\"\",GetURL(J877))","v":""}]
[null,null,null,null,null,null,null,null,null,null,0,"Wales Premier League","","",{"$f":"IF(N878=\"\",\"\",fmt(M878+myset!$F$27/24,\"HH:MM\"))","v":""},{"$f":"IF(O878=\"\",\"\",B878)","v":""},"",{"$f":"IF(Q878=\"\",\"\",GetURL(J878))","v":""}]
[null,null,null,null,null,null,null,null,null,null,0,"Wales Premier League","","",{"$f":"IF(N879=\"\",\"\",fmt(M879+myset!$F$27/24,\"HH:MM\"))","v":""},{"$f":"IF(O879=\"\",\"\",B879)","v":""},"",{"$f":"IF(Q879=\"\",\"\",GetURL(J879))","v":""}]
[null,null,null,null,null,null,null,null,null,null,0,"Wales Premier League","","",{"$f":"IF(N880=\"\",\"\",fmt(M880+myset!$F$27/24,\"HH:MM\"))","v":""},{"$f":"IF(O880=\"\",\"\",B880)","v":""},"",{"$f":"IF(Q880=\"\",\"\",GetURL(J880))","v":""}]
[null,null,null,null,null,null,null,null,null,null,0,"Wales Premier League","","",{"$f":"IF(N881=\"\",\"\",fmt(M881+myset!$F$27/24,\"HH:MM\"))","v":""},{"$f":"IF(O881=\"\",\"\",B881)","v":""},"",{"$f":"IF(Q881=\"\",\"\",GetURL(J881))","v":""}]
[null,null,null,null,null,null,null,null,null,null,0,"Wales Premier League","","",{"$f":"IF(N882=\"\",\"\",fmt(M882+myset!$F$27/24,\"HH:MM\"))","v":""},{"$f":"IF(O882=\"\",\"\",B882)","v":""},"",{"$f":"IF(Q882=\"\",\"\",GetURL(J882))","v":""}]
[null,null,null,null,null,null,null,null,null,null,0,"Wales Premier League","","",{"$f":"IF(N883=\"\",\"\",fmt(M883+myset!$F$27/24,\"HH:MM\"))","v":""},{"$f":"IF(O883=\"\",\"\",B883)","v":""},"",{"$f":"IF(Q883=\"\",\"\",GetURL(J883))","v":""}]
[null,null,null,null,null,null,null,null,null,null,0,"Wales Premier League","","",{"$f":"IF(N884=\"\",\"\",fmt(M884+myset!$F$27/24,\"HH:MM\"))","v":""},{"$f":"IF(O884=\"\",\"\",B884)","v":""},"",{"$f":"IF(Q884=\"\",\"\",GetURL(J884))","v":""}]
[null,null,null,null,null,null,null,null,null,null,0,"Wales Premier League","","",{"$f":"IF(N885=\"\",\"\",fmt(M885+myset!$F$27/24,\"HH:MM\"))","v":""},{"$f":"IF(O885=\"\",\"\",B885)","v":""},"",{"$f":"IF(Q885=\"\",\"\",GetURL(J885))","v":""}]
[null,null,null,null,null,null,null,null,null,null,0,"Wales Premier League","","",{"$f":"IF(N886=\"\",\"\",fmt(M886+myset!$F$27/24,\"HH:MM\"))","v":""},{"$f":"IF(O886=\"\",\"\",B886)","v":""},"",{"$f":"IF(Q886=\"\",\"\",GetURL(J886))","v":""}]
[null,null,null,null,null,null,null,null,null,null,0,"Wales Premier League","","",{"$f":"IF(N887=\"\",\"\",fmt(M887+myset!$F$27/24,\"HH:MM\"))","v":""},{"$f":"IF(O887=\"\",\"\",B887)","v":""},"",{"$f":"IF(Q887=\"\",\"\",GetURL(J887))","v":""}]
[null,null,null,null,null,null,null,null,null,null,0,"Wales Premier League","","",{"$f":"IF(N888=\"\",\"\",fmt(M888+myset!$F$27/24,\"HH:MM\"))","v":""},{"$f":"IF(O888=\"\",\"\",B888)","v":""},"",{"$f":"IF(Q888=\"\",\"\",GetURL(J888))","v":""}]
[null,null,null,null,null,null,null,null,null,null,0,"Wales Premier League","","",{"$f":"IF(N889=\"\",\"\",fmt(M889+myset!$F$27/24,\"HH:MM\"))","v":""},{"$f":"IF(O889=\"\",\"\",B889)","v":""},"",{"$f":"IF(Q889=\"\",\"\",GetURL(J889))","v":""}]
[null,null,null,null,null,null,null,null,null,null,0,"Wales Premier League","","",{"$f":"IF(N890=\"\",\"\",fmt(M890+myset!$F$27/24,\"HH:MM\"))","v":""},{"$f":"IF(O890=\"\",\"\",B890)","v":""},"",{"$f":"IF(Q890=\"\",\"\",GetURL(J890))","v":""}]
[null,null,null,null,null,null,null,null,null,null,0,"Wales Premier League","","",{"$f":"IF(N891=\"\",\"\",fmt(M891+myset!$F$27/24,\"HH:MM\"))","v":""},{"$f":"IF(O891=\"\",\"\",B891)","v":""},"",{"$f":"IF(Q891=\"\",\"\",GetURL(J891))","v":""}]
[null,null,null,null,null,null,null,null,null,null,0,"Wales Premier League","","",{"$f":"IF(N892=\"\",\"\",fmt(M892+myset!$F$27/24,\"HH:MM\"))","v":""},{"$f":"IF(O892=\"\",\"\",B892)","v":""},"",{"$f":"IF(Q892=\"\",\"\",GetURL(J892))","v":""}]
[null,null,null,null,null,null,null,null,null,null,0,"Wales Premier League","","",{"$f":"IF(N893=\"\",\"\",fmt(M893+myset!$F$27/24,\"HH:MM\"))","v":""},{"$f":"IF(O893=\"\",\"\",B893)","v":""},"",{"$f":"IF(Q893=\"\",\"\",GetURL(J893))","v":""}]
[null,null,null,null,null,null,null,null,null,null,0,"Wales Premier League","","",{"$f":"IF(N894=\"\",\"\",fmt(M894+myset!$F$27/24,\"HH:MM\"))","v":""},{"$f":"IF(O894=\"\",\"\",B894)","v":""},"",{"$f":"IF(Q894=\"\",\"\",GetURL(J894))","v":""}]
[null,null,null,null,null,null,null,null,null,null,0,"Wales Premier League","","",{"$f":"IF(N895=\"\",\"\",fmt(M895+myset!$F$27/24,\"HH:MM\"))","v":""},{"$f":"IF(O895=\"\",\"\",B895)","v":""},"",{"$f":"IF(Q895=\"\",\"\",GetURL(J895))","v":""}]
[null,null,null,null,null,null,null,null,null,null,0,"Wales Premier League","","",{"$f":"IF(N896=\"\",\"\",fmt(M896+myset!$F$27/24,\"HH:MM\"))","v":""},{"$f":"IF(O896=\"\",\"\",B896)","v":""},"",{"$f":"IF(Q896=\"\",\"\",GetURL(J896))","v":""}]
[null,null,null,null,null,null,null,null,null,null,0,"Wales Premier League","","",{"$f":"IF(N897=\"\",\"\",fmt(M897+myset!$F$27/24,\"HH:MM\"))","v":""},{"$f":"IF(O897=\"\",\"\",B897)","v":""},"",{"$f":"IF(Q897=\"\",\"\",GetURL(J897))","v":""}]
[null,null,null,null,null,null,null,null,null,null,0,"Wales Premier League","","",{"$f":"IF(N898=\"\",\"\",fmt(M898+myset!$F$27/24,\"HH:MM\"))","v":""},{"$f":"IF(O898=\"\",\"\",B898)","v":""},"",{"$f":"IF(Q898=\"\",\"\",GetURL(J898))","v":""}]
[null,null,null,null,null,null,null,null,null,null,{"$f":"IFERROR(SEARCH(\"flag\",A899),0)","v":0},{"$f":"IF(K899=1,MID(A899,5,100),L898)","v":"Wales Premier League"},{"$f":"IF(B899=\"\",\"\",IFERROR(fmt(LEFT(A899,SEARCH(\" \",A899)-1),\"HH:MM\"),fmt(A899,\"HH:MM\")))","v":""},{"$f":"IF(M899=\"\",\"\",L899)","v":""},{"$f":"IF(N899=\"\",\"\",fmt(M899+myset!$F$27/24,\"HH:MM\"))","v":""},{"$f":"IF(O899=\"\",\"\",B899)","v":""},"",{"$f":"IF(Q899=\"\",\"\",GetURL(J899))","v":""}]
[null,null,null,null,null,null,null,null,null,null,0,"Wales Premier League","","",{"$f":"IF(N900=\"\",\"\",fmt(M900+myset!$F$27/24,\"HH:MM\"))","v":""},{"$f":"IF(O900=\"\",\"\",B900)","v":""},"",{"$f":"IF(Q900=\"\",\"\",GetURL(J900))","v":""}]
[null,null,null,null,null,null,null,null,null,null,0,"Wales Premier League","","",{"$f":"IF(N901=\"\",\"\",fmt(M901+myset!$F$27/24,\"HH:MM\"))","v":""},{"$f":"IF(O901=\"\",\"\",B901)","v":""},"",{"$f":"IF(Q901=\"\",\"\",GetURL(J901))","v":""}]
[null,null,null,null,null,null,null,null,null,null,0,"Wales Premier League","","",{"$f":"IF(N902=\"\",\"\",fmt(M902+myset!$F$27/24,\"HH:MM\"))","v":""},{"$f":"IF(O902=\"\",\"\",B902)","v":""},"",{"$f":"IF(Q902=\"\",\"\",GetURL(J902))","v":""}]
[null,null,null,null,null,null,null,null,null,null,0,"Wales Premier League","","",{"$f":"IF(N903=\"\",\"\",fmt(M903+myset!$F$27/24,\"HH:MM\"))","v":""},{"$f":"IF(O903=\"\",\"\",B903)","v":""},"",{"$f":"IF(Q903=\"\",\"\",GetURL(J903))","v":""}]
[null,null,null,null,null,null,null,null,null,null,0,"Wales Premier League","","",{"$f":"IF(N904=\"\",\"\",fmt(M904+myset!$F$27/24,\"HH:MM\"))","v":""},{"$f":"IF(O904=\"\",\"\",B904)","v":""},"",{"$f":"IF(Q904=\"\",\"\",GetURL(J904))","v":""}]
[null,null,null,null,null,null,null,null,null,null,0,"Wales Premier League","","",{"$f":"IF(N905=\"\",\"\",fmt(M905+myset!$F$27/24,\"HH:MM\"))","v":""},{"$f":"IF(O905=\"\",\"\",B905)","v":""},"",{"$f":"IF(Q905=\"\",\"\",GetURL(J905))","v":""}]
[null,null,null,null,null,null,null,null,null,null,0,"Wales Premier League","","",{"$f":"IF(N906=\"\",\"\",fmt(M906+myset!$F$27/24,\"HH:MM\"))","v":""},{"$f":"IF(O906=\"\",\"\",B906)","v":""},"",{"$f":"IF(Q906=\"\",\"\",GetURL(J906))","v":""}]
[null,null,null,null,null,null,null,null,null,null,0,"Wales Premier League","","",{"$f":"IF(N907=\"\",\"\",fmt(M907+myset!$F$27/24,\"HH:MM\"))","v":""},{"$f":"IF(O907=\"\",\"\",B907)","v":""},"",{"$f":"IF(Q907=\"\",\"\",GetURL(J907))","v":""}]
[null,null,null,null,null,null,null,null,null,null,0,"Wales Premier League","","",{"$f":"IF(N908=\"\",\"\",fmt(M908+myset!$F$27/24,\"HH:MM\"))","v":""},{"$f":"IF(O908=\"\",\"\",B908)","v":""},"",{"$f":"IF(Q908=\"\",\"\",GetURL(J908))","v":""}]
[null,null,null,null,null,null,null,null,null,null,0,"Wales Premier League","","",{"$f":"IF(N909=\"\",\"\",fmt(M909+myset!$F$27/24,\"HH:MM\"))","v":""},{"$f":"IF(O909=\"\",\"\",B909)","v":""},"",{"$f":"IF(Q909=\"\",\"\",GetURL(J909))","v":""}]
[null,null,null,null,null,null,null,null,null,null,0,"Wales Premier League","","",{"$f":"IF(N910=\"\",\"\",fmt(M910+myset!$F$27/24,\"HH:MM\"))","v":""},{"$f":"IF(O910=\"\",\"\",B910)","v":""},"",{"$f":"IF(Q910=\"\",\"\",GetURL(J910))","v":""}]
[null,null,null,null,null,null,null,null,null,null,0,"Wales Premier League","","",{"$f":"IF(N911=\"\",\"\",fmt(M911+myset!$F$27/24,\"HH:MM\"))","v":""},{"$f":"IF(O911=\"\",\"\",B911)","v":""},"",{"$f":"IF(Q911=\"\",\"\",GetURL(J911))","v":""}]
[null,null,null,null,null,null,null,null,null,null,0,"Wales Premier League","","",{"$f":"IF(N912=\"\",\"\",fmt(M912+myset!$F$27/24,\"HH:MM\"))","v":""},{"$f":"IF(O912=\"\",\"\",B912)","v":""},"",{"$f":"IF(Q912=\"\",\"\",GetURL(J912))","v":""}]
[null,null,null,null,null,null,null,null,null,null,0,"Wales Premier League","","",{"$f":"IF(N913=\"\",\"\",fmt(M913+myset!$F$27/24,\"HH:MM\"))","v":""},{"$f":"IF(O913=\"\",\"\",B913)","v":""},"",{"$f":"IF(Q913=\"\",\"\",GetURL(J913))","v":""}]
[null,null,null,null,null,null,null,null,null,null,0,"Wales Premier League","","",{"$f":"IF(N914=\"\",\"\",fmt(M914+myset!$F$27/24,\"HH:MM\"))","v":""},{"$f":"IF(O914=\"\",\"\",B914)","v":""},"",{"$f":"IF(Q914=\"\",\"\",GetURL(J914))","v":""}]
[null,null,null,null,null,null,null,null,null,null,0,"Wales Premier League","","",{"$f":"IF(N915=\"\",\"\",fmt(M915+myset!$F$27/24,\"HH:MM\"))","v":""},{"$f":"IF(O915=\"\",\"\",B915)","v":""},"",{"$f":"IF(Q915=\"\",\"\",GetURL(J915))","v":""}]
[null,null,null,null,null,null,null,null,null,null,0,"Wales Premier League","","",{"$f":"IF(N916=\"\",\"\",fmt(M916+myset!$F$27/24,\"HH:MM\"))","v":""},{"$f":"IF(O916=\"\",\"\",B916)","v":""},"",{"$f":"IF(Q916=\"\",\"\",GetURL(J916))","v":""}]
[null,null,null,null,null,null,null,null,null,null,0,"Wales Premier League","","",{"$f":"IF(N917=\"\",\"\",fmt(M917+myset!$F$27/24,\"HH:MM\"))","v":""},{"$f":"IF(O917=\"\",\"\",B917)","v":""},"",{"$f":"IF(Q917=\"\",\"\",GetURL(J917))","v":""}]
[null,null,null,null,null,null,null,null,null,null,0,"Wales Premier League","","",{"$f":"IF(N918=\"\",\"\",fmt(M918+myset!$F$27/24,\"HH:MM\"))","v":""},{"$f":"IF(O918=\"\",\"\",B918)","v":""},"",{"$f":"IF(Q918=\"\",\"\",GetURL(J918))","v":""}]
[null,null,null,null,null,null,null,null,null,null,0,"Wales Premier League","","",{"$f":"IF(N919=\"\",\"\",fmt(M919+myset!$F$27/24,\"HH:MM\"))","v":""},{"$f":"IF(O919=\"\",\"\",B919)","v":""},"",{"$f":"IF(Q919=\"\",\"\",GetURL(J919))","v":""}]
[null,null,null,null,null,null,null,null,null,null,0,"Wales Premier League","","",{"$f":"IF(N920=\"\",\"\",fmt(M920+myset!$F$27/24,\"HH:MM\"))","v":""},{"$f":"IF(O920=\"\",\"\",B920)","v":""},"",{"$f":"IF(Q920=\"\",\"\",GetURL(J920))","v":""}]
[null,null,null,null,null,null,null,null,null,null,0,"Wales Premier League","","",{"$f":"IF(N921=\"\",\"\",fmt(M921+myset!$F$27/24,\"HH:MM\"))","v":""},{"$f":"IF(O921=\"\",\"\",B921)","v":""},"",{"$f":"IF(Q921=\"\",\"\",GetURL(J921))","v":""}]
[null,null,null,null,null,null,null,null,null,null,0,"Wales Premier League","","",{"$f":"IF(N922=\"\",\"\",fmt(M922+myset!$F$27/24,\"HH:MM\"))","v":""},{"$f":"IF(O922=\"\",\"\",B922)","v":""},"",{"$f":"IF(Q922=\"\",\"\",GetURL(J922))","v":""}]
[null,null,null,null,null,null,null,null,null,null,0,"Wales Premier League","","",{"$f":"IF(N923=\"\",\"\",fmt(M923+myset!$F$27/24,\"HH:MM\"))","v":""},{"$f":"IF(O923=\"\",\"\",B923)","v":""},"",{"$f":"IF(Q923=\"\",\"\",GetURL(J923))","v":""}]
[null,null,null,null,null,null,null,null,null,null,0,"Wales Premier League","","",{"$f":"IF(N924=\"\",\"\",fmt(M924+myset!$F$27/24,\"HH:MM\"))","v":""},{"$f":"IF(O924=\"\",\"\",B924)","v":""},"",{"$f":"IF(Q924=\"\",\"\",GetURL(J924))","v":""}]
[null,null,null,null,null,null,null,null,null,null,0,"Wales Premier League","","",{"$f":"IF(N925=\"\",\"\",fmt(M925+myset!$F$27/24,\"HH:MM\"))","v":""},{"$f":"IF(O925=\"\",\"\",B925)","v":""},"",{"$f":"IF(Q925=\"\",\"\",GetURL(J925))","v":""}]
[null,null,null,null,null,null,null,null,null,null,0,"Wales Premier League","","",{"$f":"IF(N926=\"\",\"\",fmt(M926+myset!$F$27/24,\"HH:MM\"))","v":""},{"$f":"IF(O926=\"\",\"\",B926)","v":""},"",{"$f":"IF(Q926=\"\",\"\",GetURL(J926))","v":""}]
[null,null,null,null,null,null,null,null,null,null,0,"Wales Premier League","","",{"$f":"IF(N927=\"\",\"\",fmt(M927+myset!$F$27/24,\"HH:MM\"))","v":""},{"$f":"IF(O927=\"\",\"\",B927)","v":""},"",{"$f":"IF(Q927=\"\",\"\",GetURL(J927))","v":""}]
[null,null,null,null,null,null,null,null,null,null,0,"Wales Premier League","","",{"$f":"IF(N928=\"\",\"\",fmt(M928+myset!$F$27/24,\"HH:MM\"))","v":""},{"$f":"IF(O928=\"\",\"\",B928)","v":""},"",{"$f":"IF(Q928=\"\",\"\",GetURL(J928))","v":""}]
[null,null,null,null,null,null,null,null,null,null,0,"Wales Premier League","","",{"$f":"IF(N929=\"\",\"\",fmt(M929+myset!$F$27/24,\"HH:MM\"))","v":""},{"$f":"IF(O929=\"\",\"\",B929)","v":""},"",{"$f":"IF(Q929=\"\",\"\",GetURL(J929))","v":""}]
[null,null,null,null,null,null,null,null,null,null,0,"Wales Premier League","","",{"$f":"IF(N930=\"\",\"\",fmt(M930+myset!$F$27/24,\"HH:MM\"))","v":""},{"$f":"IF(O930=\"\",\"\",B930)","v":""},"",{"$f":"IF(Q930=\"\",\"\",GetURL(J930))","v":""}]
[null,null,null,null,null,null,null,null,null,null,0,"Wales Premier League","","",{"$f":"IF(N931=\"\",\"\",fmt(M931+myset!$F$27/24,\"HH:MM\"))","v":""},{"$f":"IF(O931=\"\",\"\",B931)","v":""},"",{"$f":"IF(Q931=\"\",\"\",GetURL(J931))","v":""}]
[null,null,null,null,null,null,null,null,null,null,0,"Wales Premier League","","",{"$f":"IF(N932=\"\",\"\",fmt(M932+myset!$F$27/24,\"HH:MM\"))","v":""},{"$f":"IF(O932=\"\",\"\",B932)","v":""},"",{"$f":"IF(Q932=\"\",\"\",GetURL(J932))","v":""}]
[null,null,null,null,null,null,null,null,null,null,0,"Wales Premier League","","",{"$f":"IF(N933=\"\",\"\",fmt(M933+myset!$F$27/24,\"HH:MM\"))","v":""},{"$f":"IF(O933=\"\",\"\",B933)","v":""},"",{"$f":"IF(Q933=\"\",\"\",GetURL(J933))","v":""}]
[null,null,null,null,null,null,null,null,null,null,0,"Wales Premier League","","",{"$f":"IF(N934=\"\",\"\",fmt(M934+myset!$F$27/24,\"HH:MM\"))","v":""},{"$f":"IF(O934=\"\",\"\",B934)","v":""},"",{"$f":"IF(Q934=\"\",\"\",GetURL(J934))","v":""}]
[null,null,null,null,null,null,null,null,null,null,0,"Wales Premier League","","",{"$f":"IF(N935=\"\",\"\",fmt(M935+myset!$F$27/24,\"HH:MM\"))","v":""},{"$f":"IF(O935=\"\",\"\",B935)","v":""},"",{"$f":"IF(Q935=\"\",\"\",GetURL(J935))","v":""}]
[null,null,null,null,null,null,null,null,null,null,0,"Wales Premier League","","",{"$f":"IF(N936=\"\",\"\",fmt(M936+myset!$F$27/24,\"HH:MM\"))","v":""},{"$f":"IF(O936=\"\",\"\",B936)","v":""},"",{"$f":"IF(Q936=\"\",\"\",GetURL(J936))","v":""}]
[null,null,null,null,null,null,null,null,null,null,0,"Wales Premier League","","",{"$f":"IF(N937=\"\",\"\",fmt(M937+myset!$F$27/24,\"HH:MM\"))","v":""},{"$f":"IF(O937=\"\",\"\",B937)","v":""},"",{"$f":"IF(Q937=\"\",\"\",GetURL(J937))","v":""}]
[null,null,null,null,null,null,null,null,null,null,0,"Wales Premier League","","",{"$f":"IF(N938=\"\",\"\",fmt(M938+myset!$F$27/24,\"HH:MM\"))","v":""},{"$f":"IF(O938=\"\",\"\",B938)","v":""},"",{"$f":"IF(Q938=\"\",\"\",GetURL(J938))","v":""}]
[null,null,null,null,null,null,null,null,null,null,0,"Wales Premier League","","",{"$f":"IF(N939=\"\",\"\",fmt(M939+myset!$F$27/24,\"HH:MM\"))","v":""},{"$f":"IF(O939=\"\",\"\",B939)","v":""},"",{"$f":"IF(Q939=\"\",\"\",GetURL(J939))","v":""}]
[null,null,null,null,null,null,null,null,null,null,0,"Wales Premier League","","",{"$f":"IF(N940=\"\",\"\",fmt(M940+myset!$F$27/24,\"HH:MM\"))","v":""},{"$f":"IF(O940=\"\",\"\",B940)","v":""},"",{"$f":"IF(Q940=\"\",\"\",GetURL(J940))","v":""}]
[null,null,null,null,null,null,null,null,null,null,0,"Wales Premier League","","",{"$f":"IF(N941=\"\",\"\",fmt(M941+myset!$F$27/24,\"HH:MM\"))","v":""},{"$f":"IF(O941=\"\",\"\",B941)","v":""},"",{"$f":"IF(Q941=\"\",\"\",GetURL(J941))","v":""}]
[null,null,null,null,null,null,null,null,null,null,0,"Wales Premier League","","",{"$f":"IF(N942=\"\",\"\",fmt(M942+myset!$F$27/24,\"HH:MM\"))","v":""},{"$f":"IF(O942=\"\",\"\",B942)","v":""},"",{"$f":"IF(Q942=\"\",\"\",GetURL(J942))","v":""}]
[null,null,null,null,null,null,null,null,null,null,0,"Wales Premier League","","",{"$f":"IF(N943=\"\",\"\",fmt(M943+myset!$F$27/24,\"HH:MM\"))","v":""},{"$f":"IF(O943=\"\",\"\",B943)","v":""},"",{"$f":"IF(Q943=\"\",\"\",GetURL(J943))","v":""}]
[null,null,null,null,null,null,null,null,null,null,0,"Wales Premier League","","",{"$f":"IF(N944=\"\",\"\",fmt(M944+myset!$F$27/24,\"HH:MM\"))","v":""},{"$f":"IF(O944=\"\",\"\",B944)","v":""},"",{"$f":"IF(Q944=\"\",\"\",GetURL(J944))","v":""}]
[null,null,null,null,null,null,null,null,null,null,0,"Wales Premier League","","",{"$f":"IF(N945=\"\",\"\",fmt(M945+myset!$F$27/24,\"HH:MM\"))","v":""},{"$f":"IF(O945=\"\",\"\",B945)","v":""},"",{"$f":"IF(Q945=\"\",\"\",GetURL(J945))","v":""}]
[null,null,null,null,null,null,null,null,null,null,0,"Wales Premier League","","",{"$f":"IF(N946=\"\",\"\",fmt(M946+myset!$F$27/24,\"HH:MM\"))","v":""},{"$f":"IF(O946=\"\",\"\",B946)","v":""},"",{"$f":"IF(Q946=\"\",\"\",GetURL(J946))","v":""}]
[null,null,null,null,null,null,null,null,null,null,0,"Wales Premier League","","",{"$f":"IF(N947=\"\",\"\",fmt(M947+myset!$F$27/24,\"HH:MM\"))","v":""},{"$f":"IF(O947=\"\",\"\",B947)","v":""},"",{"$f":"IF(Q947=\"\",\"\",GetURL(J947))","v":""}]
[null,null,null,null,null,null,null,null,null,null,0,"Wales Premier League","","",{"$f":"IF(N948=\"\",\"\",fmt(M948+myset!$F$27/24,\"HH:MM\"))","v":""},{"$f":"IF(O948=\"\",\"\",B948)","v":""},"",{"$f":"IF(Q948=\"\",\"\",GetURL(J948))","v":""}]
[null,null,null,null,null,null,null,null,null,null,0,"Wales Premier League","","",{"$f":"IF(N949=\"\",\"\",fmt(M949+myset!$F$27/24,\"HH:MM\"))","v":""},{"$f":"IF(O949=\"\",\"\",B949)","v":""},"",{"$f":"IF(Q949=\"\",\"\",GetURL(J949))","v":""}]
[null,null,null,null,null,null,null,null,null,null,0,"Wales Premier League","","",{"$f":"IF(N950=\"\",\"\",fmt(M950+myset!$F$27/24,\"HH:MM\"))","v":""},{"$f":"IF(O950=\"\",\"\",B950)","v":""},"",{"$f":"IF(Q950=\"\",\"\",GetURL(J950))","v":""}]
[null,null,null,null,null,null,null,null,null,null,0,"Wales Premier League","","",{"$f":"IF(N951=\"\",\"\",fmt(M951+myset!$F$27/24,\"HH:MM\"))","v":""},{"$f":"IF(O951=\"\",\"\",B951)","v":""},"",{"$f":"IF(Q951=\"\",\"\",GetURL(J951))","v":""}]
[null,null,null,null,null,null,null,null,null,null,0,"Wales Premier League","","",{"$f":"IF(N952=\"\",\"\",fmt(M952+myset!$F$27/24,\"HH:MM\"))","v":""},{"$f":"IF(O952=\"\",\"\",B952)","v":""},"",{"$f":"IF(Q952=\"\",\"\",GetURL(J952))","v":""}]
[null,null,null,null,null,null,null,null,null,null,0,"Wales Premier League","","",{"$f":"IF(N953=\"\",\"\",fmt(M953+myset!$F$27/24,\"HH:MM\"))","v":""},{"$f":"IF(O953=\"\",\"\",B953)","v":""},"",{"$f":"IF(Q953=\"\",\"\",GetURL(J953))","v":""}]
[null,null,null,null,null,null,null,null,null,null,0,"Wales Premier League","","",{"$f":"IF(N954=\"\",\"\",fmt(M954+myset!$F$27/24,\"HH:MM\"))","v":""},{"$f":"IF(O954=\"\",\"\",B954)","v":""},"",{"$f":"IF(Q954=\"\",\"\",GetURL(J954))","v":""}]
[null,null,null,null,null,null,null,null,null,null,0,"Wales Premier League","","",{"$f":"IF(N955=\"\",\"\",fmt(M955+myset!$F$27/24,\"HH:MM\"))","v":""},{"$f":"IF(O955=\"\",\"\",B955)","v":""},"",{"$f":"IF(Q955=\"\",\"\",GetURL(J955))","v":""}]
[null,null,null,null,null,null,null,null,null,null,0,"Wales Premier League","","",{"$f":"IF(N956=\"\",\"\",fmt(M956+myset!$F$27/24,\"HH:MM\"))","v":""},{"$f":"IF(O956=\"\",\"\",B956)","v":""},"",{"$f":"IF(Q956=\"\",\"\",GetURL(J956))","v":""}]
[null,null,null,null,null,null,null,null,null,null,0,"Wales Premier League","","",{"$f":"IF(N957=\"\",\"\",fmt(M957+myset!$F$27/24,\"HH:MM\"))","v":""},{"$f":"IF(O957=\"\",\"\",B957)","v":""},"",{"$f":"IF(Q957=\"\",\"\",GetURL(J957))","v":""}]
[null,null,null,null,null,null,null,null,null,null,0,"Wales Premier League","","",{"$f":"IF(N958=\"\",\"\",fmt(M958+myset!$F$27/24,\"HH:MM\"))","v":""},{"$f":"IF(O958=\"\",\"\",B958)","v":""},"",{"$f":"IF(Q958=\"\",\"\",GetURL(J958))","v":""}]
[null,null,null,null,null,null,null,null,null,null,0,"Wales Premier League","","",{"$f":"IF(N959=\"\",\"\",fmt(M959+myset!$F$27/24,\"HH:MM\"))","v":""},{"$f":"IF(O959=\"\",\"\",B959)","v":""},"",{"$f":"IF(Q959=\"\",\"\",GetURL(J959))","v":""}]
[null,null,null,null,null,null,null,null,null,null,0,"Wales Premier League","","",{"$f":"IF(N960=\"\",\"\",fmt(M960+myset!$F$27/24,\"HH:MM\"))","v":""},{"$f":"IF(O960=\"\",\"\",B960)","v":""},"",{"$f":"IF(Q960=\"\",\"\",GetURL(J960))","v":""}]
[null,null,null,null,null,null,null,null,null,null,0,"Wales Premier League","","",{"$f":"IF(N961=\"\",\"\",fmt(M961+myset!$F$27/24,\"HH:MM\"))","v":""},{"$f":"IF(O961=\"\",\"\",B961)","v":""},"",{"$f":"IF(Q961=\"\",\"\",GetURL(J961))","v":""}]
[null,null,null,null,null,null,null,null,null,null,0,"Wales Premier League","","",{"$f":"IF(N962=\"\",\"\",fmt(M962+myset!$F$27/24,\"HH:MM\"))","v":""},{"$f":"IF(O962=\"\",\"\",B962)","v":""},"",{"$f":"IF(Q962=\"\",\"\",GetURL(J962))","v":""}]
[null,null,null,null,null,null,null,null,null,null,{"$f":"IFERROR(SEARCH(\"flag\",A963),0)","v":0},{"$f":"IF(K963=1,MID(A963,5,100),L962)","v":"Wales Premier League"},{"$f":"IF(B963=\"\",\"\",IFERROR(fmt(LEFT(A963,SEARCH(\" \",A963)-1),\"HH:MM\"),fmt(A963,\"HH:MM\")))","v":""},{"$f":"IF(M963=\"\",\"\",L963)","v":""},{"$f":"IF(N963=\"\",\"\",fmt(M963+myset!$F$27/24,\"HH:MM\"))","v":""},{"$f":"IF(O963=\"\",\"\",B963)","v":""},"",{"$f":"IF(Q963=\"\",\"\",GetURL(J963))","v":""}]
[null,null,null,null,null,null,null,null,null,null,0,"Wales Premier League","","",{"$f":"IF(N964=\"\",\"\",fmt(M964+myset!$F$27/24,\"HH:MM\"))","v":""},{"$f":"IF(O964=\"\",\"\",B964)","v":""},"",{"$f":"IF(Q964=\"\",\"\",GetURL(J964))","v":""}]
[null,null,null,null,null,null,null,null,null,null,0,"Wales Premier League","","",{"$f":"IF(N965=\"\",\"\",fmt(M965+myset!$F$27/24,\"HH:MM\"))","v":""},{"$f":"IF(O965=\"\",\"\",B965)","v":""},"",{"$f":"IF(Q965=\"\",\"\",GetURL(J965))","v":""}]
[null,null,null,null,null,null,null,null,null,null,0,"Wales Premier League","","",{"$f":"IF(N966=\"\",\"\",fmt(M966+myset!$F$27/24,\"HH:MM\"))","v":""},{"$f":"IF(O966=\"\",\"\",B966)","v":""},"",{"$f":"IF(Q966=\"\",\"\",GetURL(J966))","v":""}]
[null,null,null,null,null,null,null,null,null,null,0,"Wales Premier League","","",{"$f":"IF(N967=\"\",\"\",fmt(M967+myset!$F$27/24,\"HH:MM\"))","v":""},{"$f":"IF(O967=\"\",\"\",B967)","v":""},"",{"$f":"IF(Q967=\"\",\"\",GetURL(J967))","v":""}]
[null,null,null,null,null,null,null,null,null,null,0,"Wales Premier League","","",{"$f":"IF(N968=\"\",\"\",fmt(M968+myset!$F$27/24,\"HH:MM\"))","v":""},{"$f":"IF(O968=\"\",\"\",B968)","v":""},"",{"$f":"IF(Q968=\"\",\"\",GetURL(J968))","v":""}]
[null,null,null,null,null,null,null,null,null,null,0,"Wales Premier League","","",{"$f":"IF(N969=\"\",\"\",fmt(M969+myset!$F$27/24,\"HH:MM\"))","v":""},{"$f":"IF(O969=\"\",\"\",B969)","v":""},"",{"$f":"IF(Q969=\"\",\"\",GetURL(J969))","v":""}]
[null,null,null,null,null,null,null,null,null,null,0,"Wales Premier League","","",{"$f":"IF(N970=\"\",\"\",fmt(M970+myset!$F$27/24,\"HH:MM\"))","v":""},{"$f":"IF(O970=\"\",\"\",B970)","v":""},"",{"$f":"IF(Q970=\"\",\"\",GetURL(J970))","v":""}]
[null,null,null,null,null,null,null,null,null,null,0,"Wales Premier League","","",{"$f":"IF(N971=\"\",\"\",fmt(M971+myset!$F$27/24,\"HH:MM\"))","v":""},{"$f":"IF(O971=\"\",\"\",B971)","v":""},"",{"$f":"IF(Q971=\"\",\"\",GetURL(J971))","v":""}]
[null,null,null,null,null,null,null,null,null,null,0,"Wales Premier League","","",{"$f":"IF(N972=\"\",\"\",fmt(M972+myset!$F$27/24,\"HH:MM\"))","v":""},{"$f":"IF(O972=\"\",\"\",B972)","v":""},"",{"$f":"IF(Q972=\"\",\"\",GetURL(J972))","v":""}]
[null,null,null,null,null,null,null,null,null,null,0,"Wales Premier League","","",{"$f":"IF(N973=\"\",\"\",fmt(M973+myset!$F$27/24,\"HH:MM\"))","v":""},{"$f":"IF(O973=\"\",\"\",B973)","v":""},"",{"$f":"IF(Q973=\"\",\"\",GetURL(J973))","v":""}]
[null,null,null,null,null,null,null,null,null,null,0,"Wales Premier League","","",{"$f":"IF(N974=\"\",\"\",fmt(M974+myset!$F$27/24,\"HH:MM\"))","v":""},{"$f":"IF(O974=\"\",\"\",B974)","v":""},"",{"$f":"IF(Q974=\"\",\"\",GetURL(J974))","v":""}]
[null,null,null,null,null,null,null,null,null,null,0,"Wales Premier League","","",{"$f":"IF(N975=\"\",\"\",fmt(M975+myset!$F$27/24,\"HH:MM\"))","v":""},{"$f":"IF(O975=\"\",\"\",B975)","v":""},"",{"$f":"IF(Q975=\"\",\"\",GetURL(J975))","v":""}]
[null,null,null,null,null,null,null,null,null,null,0,"Wales Premier League","","",{"$f":"IF(N976=\"\",\"\",fmt(M976+myset!$F$27/24,\"HH:MM\"))","v":""},{"$f":"IF(O976=\"\",\"\",B976)","v":""},"",{"$f":"IF(Q976=\"\",\"\",GetURL(J976))","v":""}]
[null,null,null,null,null,null,null,null,null,null,0,"Wales Premier League","","",{"$f":"IF(N977=\"\",\"\",fmt(M977+myset!$F$27/24,\"HH:MM\"))","v":""},{"$f":"IF(O977=\"\",\"\",B977)","v":""},"",{"$f":"IF(Q977=\"\",\"\",GetURL(J977))","v":""}]
[null,null,null,null,null,null,null,null,null,null,0,"Wales Premier League","","",{"$f":"IF(N978=\"\",\"\",fmt(M978+myset!$F$27/24,\"HH:MM\"))","v":""},{"$f":"IF(O978=\"\",\"\",B978)","v":""},"",{"$f":"IF(Q978=\"\",\"\",GetURL(J978))","v":""}]
[null,null,null,null,null,null,null,null,null,null,0,"Wales Premier League","","",{"$f":"IF(N979=\"\",\"\",fmt(M979+myset!$F$27/24,\"HH:MM\"))","v":""},{"$f":"IF(O979=\"\",\"\",B979)","v":""},"",{"$f":"IF(Q979=\"\",\"\",GetURL(J979))","v":""}]
[null,null,null,null,null,null,null,null,null,null,0,"Wales Premier League","","",{"$f":"IF(N980=\"\",\"\",fmt(M980+myset!$F$27/24,\"HH:MM\"))","v":""},{"$f":"IF(O980=\"\",\"\",B980)","v":""},"",{"$f":"IF(Q980=\"\",\"\",GetURL(J980))","v":""}]
[null,null,null,null,null,null,null,null,null,null,0,"Wales Premier League","","",{"$f":"IF(N981=\"\",\"\",fmt(M981+myset!$F$27/24,\"HH:MM\"))","v":""},{"$f":"IF(O981=\"\",\"\",B981)","v":""},"",{"$f":"IF(Q981=\"\",\"\",GetURL(J981))","v":""}]
[null,null,null,null,null,null,null,null,null,null,0,"Wales Premier League","","",{"$f":"IF(N982=\"\",\"\",fmt(M982+myset!$F$27/24,\"HH:MM\"))","v":""},{"$f":"IF(O982=\"\",\"\",B982)","v":""},"",{"$f":"IF(Q982=\"\",\"\",GetURL(J982))","v":""}]
[null,null,null,null,null,null,null,null,null,null,0,"Wales Premier League","","",{"$f":"IF(N983=\"\",\"\",fmt(M983+myset!$F$27/24,\"HH:MM\"))","v":""},{"$f":"IF(O983=\"\",\"\",B983)","v":""},"",{"$f":"IF(Q983=\"\",\"\",GetURL(J983))","v":""}]
[null,null,null,null,null,null,null,null,null,null,0,"Wales Premier League","","",{"$f":"IF(N984=\"\",\"\",fmt(M984+myset!$F$27/24,\"HH:MM\"))","v":""},{"$f":"IF(O984=\"\",\"\",B984)","v":""},"",{"$f":"IF(Q984=\"\",\"\",GetURL(J984))","v":""}]
[null,null,null,null,null,null,null,null,null,null,0,"Wales Premier League","","",{"$f":"IF(N985=\"\",\"\",fmt(M985+myset!$F$27/24,\"HH:MM\"))","v":""},{"$f":"IF(O985=\"\",\"\",B985)","v":""},"",{"$f":"IF(Q985=\"\",\"\",GetURL(J985))","v":""}]
[null,null,null,null,null,null,null,null,null,null,0,"Wales Premier League","","",{"$f":"IF(N986=\"\",\"\",fmt(M986+myset!$F$27/24,\"HH:MM\"))","v":""},{"$f":"IF(O986=\"\",\"\",B986)","v":""},"",{"$f":"IF(Q986=\"\",\"\",GetURL(J986))","v":""}]
[null,null,null,null,null,null,null,null,null,null,0,"Wales Premier League","","",{"$f":"IF(N987=\"\",\"\",fmt(M987+myset!$F$27/24,\"HH:MM\"))","v":""},{"$f":"IF(O987=\"\",\"\",B987)","v":""},"",{"$f":"IF(Q987=\"\",\"\",GetURL(J987))","v":""}]
[null,null,null,null,null,null,null,null,null,null,0,"Wales Premier League","","",{"$f":"IF(N988=\"\",\"\",fmt(M988+myset!$F$27/24,\"HH:MM\"))","v":""},{"$f":"IF(O988=\"\",\"\",B988)","v":""},"",{"$f":"IF(Q988=\"\",\"\",GetURL(J988))","v":""}]
[null,null,null,null,null,null,null,null,null,null,0,"Wales Premier League","","",{"$f":"IF(N989=\"\",\"\",fmt(M989+myset!$F$27/24,\"HH:MM\"))","v":""},{"$f":"IF(O989=\"\",\"\",B989)","v":""},"",{"$f":"IF(Q989=\"\",\"\",GetURL(J989))","v":""}]
[null,null,null,null,null,null,null,null,null,null,0,"Wales Premier League","","",{"$f":"IF(N990=\"\",\"\",fmt(M990+myset!$F$27/24,\"HH:MM\"))","v":""},{"$f":"IF(O990=\"\",\"\",B990)","v":""},"",{"$f":"IF(Q990=\"\",\"\",GetURL(J990))","v":""}]
[null,null,null,null,null,null,null,null,null,null,0,"Wales Premier League","","",{"$f":"IF(N991=\"\",\"\",fmt(M991+myset!$F$27/24,\"HH:MM\"))","v":""},{"$f":"IF(O991=\"\",\"\",B991)","v":""},"",{"$f":"IF(Q991=\"\",\"\",GetURL(J991))","v":""}]
[null,null,null,null,null,null,null,null,null,null,0,"Wales Premier League","","",{"$f":"IF(N992=\"\",\"\",fmt(M992+myset!$F$27/24,\"HH:MM\"))","v":""},{"$f":"IF(O992=\"\",\"\",B992)","v":""},"",{"$f":"IF(Q992=\"\",\"\",GetURL(J992))","v":""}]
[null,null,null,null,null,null,null,null,null,null,0,"Wales Premier League","","",{"$f":"IF(N993=\"\",\"\",fmt(M993+myset!$F$27/24,\"HH:MM\"))","v":""},{"$f":"IF(O993=\"\",\"\",B993)","v":""},"",{"$f":"IF(Q993=\"\",\"\",GetURL(J993))","v":""}]
[null,null,null,null,null,null,null,null,null,null,0,"Wales Premier League","","",{"$f":"IF(N994=\"\",\"\",fmt(M994+myset!$F$27/24,\"HH:MM\"))","v":""},{"$f":"IF(O994=\"\",\"\",B994)","v":""},"",{"$f":"IF(Q994=\"\",\"\",GetURL(J994))","v":""}]
[null,null,null,null,null,null,null,null,null,null,0,"Wales Premier League","","",{"$f":"IF(N995=\"\",\"\",fmt(M995+myset!$F$27/24,\"HH:MM\"))","v":""},{"$f":"IF(O995=\"\",\"\",B995)","v":""},"",{"$f":"IF(Q995=\"\",\"\",GetURL(J995))","v":""}]
[null,null,null,null,null,null,null,null,null,null,0,"Wales Premier League","","",{"$f":"IF(N996=\"\",\"\",fmt(M996+myset!$F$27/24,\"HH:MM\"))","v":""},{"$f":"IF(O996=\"\",\"\",B996)","v":""},"",{"$f":"IF(Q996=\"\",\"\",GetURL(J996))","v":""}]
[null,null,null,null,null,null,null,null,null,null,0,"Wales Premier League","","",{"$f":"IF(N997=\"\",\"\",fmt(M997+myset!$F$27/24,\"HH:MM\"))","v":""},{"$f":"IF(O997=\"\",\"\",B997)","v":""},"",{"$f":"IF(Q997=\"\",\"\",GetURL(J997))","v":""}]
[null,null,null,null,null,null,null,null,null,null,0,"Wales Premier League","","",{"$f":"IF(N998=\"\",\"\",fmt(M998+myset!$F$27/24,\"HH:MM\"))","v":""},{"$f":"IF(O998=\"\",\"\",B998)","v":""},"",{"$f":"IF(Q998=\"\",\"\",GetURL(J998))","v":""}]
[null,null,null,null,null,null,null,null,null,null,0,"Wales Premier League","","",{"$f":"IF(N999=\"\",\"\",fmt(M999+myset!$F$27/24,\"HH:MM\"))","v":""},{"$f":"IF(O999=\"\",\"\",B999)","v":""},"",{"$f":"IF(Q999=\"\",\"\",GetURL(J999))","v":""}]
[null,null,null,null,null,null,null,null,null,null,0,"Wales Premier League","","",{"$f":"IF(N1000=\"\",\"\",fmt(M1000+myset!$F$27/24,\"HH:MM\"))","v":""},{"$f":"IF(O1000=\"\",\"\",B1000)","v":""},"",{"$f":"IF(Q1000=\"\",\"\",GetURL(J1000))","v":""}]
[]
[]
[]
[]
[]
[]
[]
[]
[]
[]
[]
[]
[]
[]
[]
[]
[]
[]
[]
[]
[]
[]
[]
[]
[]
[]
[]
[]
[]
[]
[]
[]
[]
[]
[]
[]
[]
[]
[]
[]
[]
[]
[]
[]
[]
[]
[]
[]
[]
[]
[]
[]
[]
[]
[]
[]
[]
[]
[]
[]
[]
[]
[]
[]
[]
[]
[]
[]
[]
[]
[]
[]
[]
[]
[]
[]
[]
[]
[]
[]
[]
[]
[]
[]
[]
[]
[]
[]
[]
[]
[]
[]
[]
[]
[]
[]
[]
[]
[]
[]
[]
[]
[]
[]
[]
[]
[]
[]
[]
[]
[]
[]
[]
[]
[]
[]
[]
[]
[]
[]
[]
[]
[]
[]
[]
[]
[]
[]
[]
[]
[]
[]
[]
[]
[]
[]
[]
[]
[]
[]
[]
[]
[]
[]
[]
[]
[]
[]
[]
[]
[]
[]
[]
[]
[]
[]
[]
[]
[]
[]
[]
[]
[]
[]
[]
[]
[]
[]
[]
[]
[]
[]
[]
[]
[]
[]
[]
[]
[]
[]
[]
[]
[]
[]
[]
[]
[]
[]
[]
[]
[]
[]
[]
[]
[]
[]
[]
[]
[]
[]
[]
[]
[]
[]
[]
[]
[]
[]
[]
[]
[]
[]
[]
[]
[]
[]
[]
[]
[]
[]
[]
[]
[]
[]
[]
[]
[]
[]
[]
[]
[]
[]
[]
[]
[]
[]
[]
[]
[]
[]
[]
[]
[]
[]
[]
[]
[]
[]
[]
[]
[]
[]
[]
[]
[]
[]
[]
[]
[]
[]
[]
[]
[]
[]
[]
[]
[]
[]
[]
[]
[]
[]
[]
[]
[]
[]
[]
[]
[]
[]
[]
[]
[]
[]
[]
[]
[]
[]
[]
[]
[]
[]
[]
[]
[]
[]
[]
[]
[]
[]
[]
[]
[]
[]
[]
[]
[]
[]
[]
[]
[]
[]
[]
[]
[]
[]
[]
[]
[]
[]
[]
[]
[]
[]
[]
[]
[]
[]
[]
[]
[]
[]
[]
[]
[]
[]
[]
[]
[]
[]
[]
[]
[]
[]
[]
[]
[]
[]
[]
[]
[]
[]
[]
[]
[]
[]
[]
[]
[]
[]
[]
[]
[]
[]
[]
[]
[]
[]
[]
[]
[]
[]
[]
[]
[]
[]
[]
[]
[]
[]
[]
[]
[]
[]
[]
[]
[]
[]
[]
[]
[]
[]
[]
[]
[]
[]
[]
[]
[]
[]
[]
[]
[]
[]
[]
[]
[]
[]
[]
[]
[]
[]
[]
[]
[]
[]
[]
[]
[]
[]
[]
[]
[]
[]
[]
[]
[]
[]
[]
[]
[]
[]
[]
[]
[]
[]
[]
[]
[]
[]
[]
[]
[]
[]
[]
[]
[]
[]
[]
[]
[]
[]
[]
[]
[]
[]
[]
[]
[]
[]
[]
[]
[]
[]
[]
[]
[]
[]
[]
[]
[]
[]
[]
[]
[]
[]
[]
[]
[]
[]
[]
[]
[]
[]
[]
[]
[]
[]
[]
[]
[]
[]
[]
[]
[]
[]
[]
[]
[]
[]
["X"]
[]
["Montrose has won 1st half in 5 last home games"]
[]
["Montrose has played 14 games without draws"]
[]
["Montrose has played 14 home games without draws"]
[]
["flagScotland League Two",null,null,null,1,"X",2]
["17:00 512012","Queens Park ","Edinburgh ","— — ",null,null,null,2]
["X"]
[]
["Queens Park has not tied 1st period in 10 last home games"]
[]
["Edinburgh have had under 1.5 1st half goals in 12 last matches"]
["17:00 512015","Brechin ","Stenhousemuir ","— — ",null,null,null,2]
["X"]
[]
["Brechin has not won 11 last games"]
[]
["Brechin has not won 2nd half in 9 last home games"]
["17:00 512013","Stirling ","Cowdenbeath ","— — ",null,null,null,0]
["17:00 512016","Albion Rovers ","Annan ","— — ",null,null,null,3]
["X"]
[]
["Albion Rovers has not tied 1st period in 12 last home games"]
[]
["Annan has lost 1st half in 5 last away games"]
[]
["Annan has played 22 away games without draws"]
["17:00 512014","Cove Rangers ","Elgin City ","— — ",null,null,null,6]
["X"]
[]
["Cove Rangers has won 15 last home games"]
[]
["Cove Rangers has won 1st period in 4 last games"]
[]
["Cove Rangers has played 15 home games without draws"]
[]
["Cove Rangers has not lost 15 last home games"]
[]
["Cove Rangers has not lost 2nd period in 15 last home games"]
[]
["Elgin City has not tied 1st period in 13 last games"]
[]
["flagSerbia - Superliga",null,null,null,1,"X",2]
["20:00 507439","Macva ","Spartak Subotica ","— — ",null,null,null,5]
["X"]
[]
["Macva has not won 2nd half in 16 last games"]
[]
["Macva has not won 2nd half in 12 last home games"]
[]
["Macva have had under 1.5 2nd half goals in 12 last home matches"]
[]
["Spartak Subotica have had over 1.5 goals 6 last halves in a row in away matches"]
[]
["Spartak Subotica have had over 1.5 1st half goals in 6 last away matches"]
["20:00 507444","Rad ","Vozdovac ","— — ",null,null,null,2]
["X"]
[]
["Vozdovac has lost 6 last games"]
[]
["Vozdovac have had over 2.5 goals in their last 7 matches"]
["20:00 507442","Radnik ","Radnicki Nis ","— — ",null,null,null,0]
["20:00 507440","Indija ","Vojvodina ","— — ",null,null,null,0]
["20:00 507445","Backa ","Red Star ","— — ",null,null,null,4]
["X"]
[]
["Red Star has not lost 19 last games"]
[]
["Red Star has not lost 10 last away games"]
[]
["Red Star has not lost 2nd period in 17 last games"]
[]
["Red Star has not lost 2nd period in 10 last away games"]
["20:00 507443","Napredak Krusevac ","Mladost L ","— — ",null,null,null,2]
["X"]
[]
["Napredak Krusevac has not won 13 halves on end"]
[]
["Mladost L have had under 1.5 1st half goals in 11 last away matches"]
["20:00 507441","Partizan ","Cukaricki ","— — ",null,null,null,0]
["20:00 507446","Proleter ","Javor ","— — ",null,null,null,3]
["X"]
[]
["Javor has not won 11 last games"]
[]
["Javor has not won 21 halves on end"]
[]
["Javor has not won 2nd half in 13 last games"]
[]
["flagSingapore - S.League",null,null,null,1,"X",2]
["12:30 535253","Albirex Niigata ","Home United ","— — ",null,null,null,0]
["12:30 535252","Geylang Int. ","Balestier Khalsa ","— — ",null,null,null,3]
["X"]
[]
["Geylang Int. has not tied 1st period in 8 last games"]
[]
["Geylang Int. have had over 1.5 2nd half goals in 8 last matches"]
[]
["Geylang Int. have had over 2.5 goals in their last 10 matches"]
[]
["flagSlovenia - 1. Division",null,null,null,1,"X",2]
["19:00 511465","Rudar ","Triglav ","— — ",null,null,null,0]
["19:00 511463","Tabor Sezana ","Bravo ","— — ",null,null,null,0]
["19:00 511466","Mura ","Domzale ","— — ",null,null,null,0]
["19:00 511464","Olimpija L ","Maribor ","— — ",null,null,null,0]
["19:00 511462","Aluminij K ","Celje ","— — ",null,null,null,0]
["19:00 511455","Olimpija L ","Bravo ","— — ",null,null,null,1]
["X"]
[]
["Olimpija L has not tied 2nd half in 18 last games"]
["19:00 511453","Triglav ","Maribor ","— — ",null,null,null,0]
["19:00 511456","Aluminij K ","Tabor Sezana ","— — ",null,null,null,2]
["X"]
[]
["Tabor Sezana has tied 1st period in 5 last games"]
[]
["Tabor Sezana have had under 1.5 2nd half goals in 9 last away matches"]
["19:00 511454","Mura ","Celje ","— — ",null,null,null,1]
["X"]
[]
["Celje has not tied 9 periods on end in away games"]
["19:00 511452","Rudar ","Domzale ","— — ",null,null,null,3]
["X"]
[]
["Rudar has not won 26 last games"]
[]
["Rudar has not won 14 last home games"]
[]
["Domzale has not tied 2nd period in 9 last away games"]
[]
["flagSouth Africa Premier Soccer League",null,null,null,1,"X",2]
["16:00 523403","Orlando Pirates ","Baroka FC ","— — ",null,null,null,3]
["X"]
[]
["Orlando Pirates have had under 1.5 2nd half goals in 9 last matches"]
[]
["Baroka FC have had under 1.5 1st half goals in 23 last matches"]
[]
["Baroka FC have had under 1.5 1st half goals in 14 last away matches"]
["16:00 523401","Chippa Utd ","Highlands Park ","— — ",null,null,null,0]
["16:00 523402","Stellenbosch ","Cape Town City FC ","— — ",null,null,null,2]
["X"]
[]
["Cape Town City FC has not won 24 halves on end in away games"]
[]
["Cape Town City FC has not won 1st half in 20 last away games"]
["19:00 523404","Supersport United ","Polokwane ","— — ",null,null,null,5]
["X"]
[]
["Supersport United has won 4 periods on end in home games"]
[]
["Polokwane has lost 9 last away games"]
[]
["Polokwane has not won 19 halves on end in away games"]
[]
["Polokwane has not won 2nd half in 13 last away games"]
[]
["Polokwane have had under 1.5 goals 10 last halves in a row in away matches"]
["21:15 523406","Bidwest Wits ","Amazulu ","— — ",null,null,null,3]
["X"]
[]
["Bidwest Wits has tied 2nd period in 5 last home games"]
[]
["Amazulu have had under 1.5 goals 9 last halves in a row in away matches"]
[]
["Amazulu have had under 1.5 2nd half goals in 13 last away matches"]
["21:15 523405","Maritzburg United ","Mamelodi Sundowns ","— — ",null,null,null,1]
["X"]
[]
["Maritzburg United has not lost 2nd period in 13 last games"]
[]
["flagSouth Korea - K-League Challenge",null,null,null,1,"X",2]
["08:00 535076","FC Anyang ","Jeju Utd ","— — ",null,null,null,0]
["09:00 535077","Bucheon ","Suwon City ","— — ",null,null,null,2]
["X"]
[]
["Bucheon has not tied 11 periods on end in home games"]
[]
["Bucheon has not tied 1st period in 8 last games"]
[]
["flagSwitzerland - Super League",null,null,null,1,"X",2]
["17:00 515881","Young Boys ","Lugano ","— — ",null,null,null,2]
["X"]
[]
["Young Boys has won 7 last home games"]
[]
["Young Boys has not lost 23 last home games"]
["17:00 515879","St. Gallen ","Sion ","— — ",null,null,null,0]
["17:00 515877","Basel ","Neuchatel Xamax ","— — ",null,null,null,0]
["17:00 515880","Zurich ","Servette ","— — ",null,null,null,1]
["X"]
[]
["Zurich have had over 1.5 1st half goals in 4 last home matches"]
["17:00 515878","Luzern ","Thun ","— — ",null,null,null,1]
["X"]
[]
["Thun has not tied 2nd period in 10 last away games"]
[]
["flagTurkey 2nd Lig",null,null,null,1,"X",2]
["15:00 527749","Sancaktepe ","Bak Spor ","— — ",null,null,null,1]
["X"]
[]
["Bak Spor has won 4 periods on end"]
["15:00 528054","Tuzlaspor ","Sivas B. Spor ","— — ",null,null,null,0]
["15:00 527744","Hacettepe ","Gumushanespor ","— — ",null,null,null,7]
["X"]
[]
["Hacettepe has played 21 games without draws"]
[]
["Hacettepe has played 14 home games without draws"]
[]
["Gumushanespor has lost 1st half in 5 last away games"]
[]
["Gumushanespor has not tied 10 periods on end in away games"]
[]
["Gumushanespor have had over 1.5 goals 4 last halves in a row in away matches"]
[]
["Gumushanespor have had over 1.5 1st half goals in 5 last away matches"]
[]
["Gumushanespor have had over 2.5 goals in their last 6 away matches"]
[]
["flagUSA MLS",null,null,null,1,"X",2]
["04:00 537651","DC United ","NYC FC ","— — ",null,null,null,2]
["X"]
[]
["NYC FC has lost 2nd half in 5 last games"]
[]
["NYC FC has lost 2nd half in 5 last away games"]
["06:00 537652","Nashville SC ","Seattle ","— — ",null,null,null,1]
["X"]
[]
["Seattle has won 2nd period in 5 last games"]
["23:00 537653","Chicago Fire ","New York ","— — ",null,null,null,4]
["X"]
[]
["Chicago Fire has tied 2nd period in 5 last home games"]
[]
["Chicago Fire has not won 2nd half in 11 last home games"]
[]
["New York has not tied 8 periods on end"]
[]
["New York has not tied 11 periods on end in away games"]
[]
["flagUSA USL",null,null,null,1,"X",2]
["22:00 538781","Indy Eleven ","Louisville City ","Postponed ",null,null,null,0]
["22:00 538786","Hartford ","Memphis ","Postponed ",null,null,null,0]
["22:00 538779","Reno FC ","Las Vegas Lights ","Postponed ",null,null,null,0]
["22:00 538784","Colorado Springs Sw. ","New Mexico ","Postponed ",null,null,null,0]
["22:00 538777","Tampa Bay ","Kansas City II ","Postponed ",null,null,null,0]
["22:00 538782","Pittsburgh II ","Birmingham Legion FC ","Postponed ",null,null,null,0]
["22:00 538787","OKC Energy FC ","Austin Bold ","Postponed ",null,null,null,0]
["22:00 538780","Rio Grande Valley ","Sacramento Republic ","Postponed ",null,null,null,0]
["22:00 538785","Orange County ","Tacoma Defiance ","Postponed ",null,null,null,0]
["22:00 538778","San Diego Loyal SC ","Real Monarchs ","Postponed ",null,null,null,0]
["22:00 538783","El Paso ","LA Galaxy II ","Postponed ",null,null,null,0]
["22:00 538776","Tulsa ","Phoenix Rising ","Postponed ",null,null,null,0]
[]
["flagUkraine - Persha Liga",null,null,null,1,"X",2]
["15:00 527337","Metalist ","Girnik ","— — ",null,null,null,1]
["X"]
[]
["Girnik has won 4 periods on end in away games"]
["15:00 527335","Chernomorets Odessa ","Mykolaiv ","— — ",null,null,null,0]
["15:00 527340","Obolon-Brovar ","Prykarpattya ","— — ",null,null,null,0]
["15:00 527333","Ingulets ","A. Kramatorsk ","— — ",null,null,null,2]
["X"]
[]
["Ingulets has not lost 14 last home games"]
[]
["Ingulets has not lost 2nd period in 15 last home games"]
["15:00 527338","Balkany ","FC Minaj ","— — ",null,null,null,1]
["X"]
[]
["Balkany has not won 17 halves on end"]
["15:00 527336","Agrobiznes ","Cherkashchyna ","— — ",null,null,null,7]
["X"]
[]
["Agrobiznes has played 18 games without draws"]
[]
["Cherkashchyna has lost 7 last away games"]
[]
["Cherkashchyna has not won 14 last games"]
[]
["Cherkashchyna has not won 28 halves on end"]
[]
["Cherkashchyna has not won 14 halves on end in away games"]
[]
["Cherkashchyna has not won 1st half in 14 last games"]
[]
["Cherkashchyna has not won 2nd half in 14 last games"]
["15:00 527334","Kremin ","Volyn ","— — ",null,null,null,2]
["X"]
[]
["Kremin have had over 1.5 2nd half goals in 8 last home matches"]
[]
["Volyn has not lost 1st period in 15 last away games"]
["15:00 527339","Rukh Lviv ","Metalurg Z. ","— — ",null,null,null,2]
["X"]
[]
["Metalurg Z. has lost 2nd half in 5 last away games"]
[]
["Metalurg Z. has not tied 2nd period in 10 last away games"]
[]
["flagVenezuela Primera Division",null,null,null,1,"X",2]
["23:00 535407","Metropolitanos ","Est. Merida ","— — ",null,null,null,1]
["X"]
[]
["Metropolitanos have had over 2.5 goals in their last 7 matches"]

{"sheet":"listing","index":2,"n_rows":116,"n_cols":5,"rows_kept":116,"cut":false,"hidden":true,"merged":[]}
["Spain Primera Division","00:00","Osasuna ","Huesca ","https://en.24score.com/football/match/570997-osasuna-huesca"]
["France Ligue 1","00:00","Monaco ","PSG ","https://en.24score.com/football/match/553214-monaco-psg"]
["Spain Segunda Division","00:00","Espanyol ","Girona ","https://en.24score.com/football/match/571422-espanyol-girona"]
["Italy Serie B","00:00","Frosinone ","Cosenza ","https://en.24score.com/football/match/576333-frosinone-cosenza"]
["France Division 1 Women","00:00","PSG W ","Lyon W ","https://en.24score.com/football/match/572088-psg-w-lyon-w"]
["Netherlands Eerste Divisie","00:00","Den Bosch ","Jong Ajax ","https://en.24score.com/football/match/558979-den-bosch-jong-ajax"]
["Netherlands Eerste Divisie","00:00","Jong Utrecht ","Helmond ","https://en.24score.com/football/match/558977-jong-utrecht-helmond"]
["Netherlands Eerste Divisie","00:00","Maastricht ","Jong PSV ","https://en.24score.com/football/match/558983-maastricht-jong-psv"]
["Argentina Copa Liga","00:10","Arsenal S ","Santa Fe ","https://en.24score.com/football/match/584245-arsenal-s-santa-fe"]
["Costa Rica Primera Division","01:00","Limon ","Herediano ","https://en.24score.com/football/match/583754-limon-herediano"]
["Venezuela Primera Division","01:00","Aragua ","Metropolitanos ","https://en.24score.com/football/match/583176-aragua-metropolitanos"]
["Chile Primera Division","01:30","Colo-Colo ","Audax ","https://en.24score.com/football/match/584295-colo-colo-audax"]
["Ecuador Primera Division","01:45","Portoviejo ","Orense ","https://en.24score.com/football/match/584399-portoviejo-orense"]
["Brazil - Serie A","02:00","Vasco da Gama ","Fortaleza ","https://en.24score.com/football/match/555712-vasco-da-gama-fortaleza"]
["Uruguay Primera Division","02:00","Cerro ","Rentistas ","https://en.24score.com/football/match/584427-cerro-rentistas"]
["Panama LPF","03:00","Costa Del Este FC ","Alianza ","https://en.24score.com/football/match/583543-costa-del-este-fc-alianza"]
["Ecuador Primera Division","04:00","Barcelona Guayaquil ","Cuenca ","https://en.24score.com/football/match/584400-barcelona-guayaquil-cuenca"]
["Venezuela Primera Division","04:00","Tachira ","Monagas ","https://en.24score.com/football/match/583177-tachira-monagas"]
["Argentina Copa Liga","04:15","Atletico Tucuman ","Racing ","https://en.24score.com/football/match/584244-atletico-tucuman-racing"]
["Chile Primera Division","04:30","S. Wanderers ","Union Espanola ","https://en.24score.com/football/match/584296-s-wanderers-union-espanola"]
["Nicaragua Primera","05:00","Esteli ","Managua FC ","https://en.24score.com/football/match/584323-esteli-managua-fc"]
["Nicaragua Primera","05:00","Walter Ferretti ","Chinandega FC ","https://en.24score.com/football/match/584326-walter-ferretti-chinandega-fc"]
["Nicaragua Primera","05:00","Art Municipal Jalapa ","Real Madriz ","https://en.24score.com/football/match/584327-art-municipal-jalapa-real-madriz"]
["Nicaragua Primera","05:00","Diriangen FC ","Ocotal ","https://en.24score.com/football/match/584324-diriangen-fc-ocotal"]
["Nicaragua Primera","05:00","CD Junior ","Juventus Managua ","https://en.24score.com/football/match/584325-cd-junior-juventus-managua"]
["Ukraine U-21 League","14:00","Shakhtar-D ","Oleksandriya-D ","https://en.24score.com/football/match/584418-shakhtar-d-oleksandriya-d"]
["Ukraine U-21 League","14:00","Olimpik Donetsk-D ","Zorya-D ","https://en.24score.com/football/match/584417-olimpik-donetsk-d-zorya-d"]
["Uzbekistan Superleague","14:00","Metallurg B ","Bunyodkor ","https://en.24score.com/football/match/584413-metallurg-b-bunyodkor"]
["Uzbekistan Superleague","14:00","Sogdiana ","FC Nasaf ","https://en.24score.com/football/match/584414-sogdiana-fc-nasaf"]
["Russia - 1. Division","15:00","Krasnodar-2 ","Shinnik Yaroslavl ","https://en.24score.com/football/match/559845-krasnodar-2-shinnik-yaroslavl"]
["Russia PFL South","15:00","Inter Cherkessk ","Makhachkala ","https://en.24score.com/football/match/561573-inter-cherkessk-makhachkala"]
["Russia Youth teams","15:00","Arsenal Youth ","Dinamo Moscow Youth ","https://en.24score.com/football/match/581084-arsenal-youth-dinamo-moscow-youth"]
["Latvia - Virsliga","15:00","Jelgava ","Valmiera ","https://en.24score.com/football/match/583943-jelgava-valmiera"]
["Moldova - Divizia Nationala","15:00","Dinamo Auto ","Floresti ","https://en.24score.com/football/match/555086-dinamo-auto-floresti"]
["Ukraine - Persha Liga","15:00","Girnik ","Obolon-Brovar ","https://en.24score.com/football/match/572276-girnik-obolon-brovar"]
["Ukraine - Persha Liga","15:00","Agrobiznes ","Nyva Ternopil ","https://en.24score.com/football/match/572281-agrobiznes-nyva-ternopil"]
["Ukraine - Persha Liga","15:00","A. Kramatorsk ","Veres Rivne ","https://en.24score.com/football/match/572274-a-kramatorsk-veres-rivne"]
["Ukraine - Persha Liga","15:00","Polissya ","Mykolaiv ","https://en.24score.com/football/match/572275-polissya-mykolaiv"]
["Ukraine - Persha Liga","15:00","Krystal ","VPK-Agro ","https://en.24score.com/football/match/572280-krystal-vpk-agro"]
["Ukraine U-21 League","15:00","Ingulets-D ","Dinamo-D ","https://en.24score.com/football/match/584419-ingulets-d-dinamo-d"]
["Germany Regionalliga West","16:00","Schalke II ","Dortmund II ","https://en.24score.com/football/match/575407-schalke-ii-dortmund-ii"]
["Ukraine - Persha Liga","16:00","Volyn ","Prykarpattya ","https://en.24score.com/football/match/572278-volyn-prykarpattya"]
["Ukraine - Persha Liga","16:00","Lypova Dolyna ","Chernomorets Odessa ","https://en.24score.com/football/match/572277-lypova-dolyna-chernomorets-odessa"]
["Uzbekistan Superleague","16:00","Navbahor ","Surkhon Termez ","https://en.24score.com/football/match/584415-navbahor-surkhon-termez"]
["Uzbekistan Superleague","16:00","Pakhtakor ","FK Kokand ","https://en.24score.com/football/match/584416-pakhtakor-fk-kokand"]
["Czech Republic 1. Division","16:30","Jihlava ","Blansko ","https://en.24score.com/football/match/561094-jihlava-blansko"]
["Iran Pro League","16:40","Mes Rafsanjan ","Gohar Sirjan ","https://en.24score.com/football/match/584404-mes-rafsanjan-gohar-sirjan"]
["Russia Youth teams","17:00","PFC Sochi Youth ","Akhmat Youth ","https://en.24score.com/football/match/581083-pfc-sochi-youth-akhmat-youth"]
["Israel Liga Leumit","17:00","Hapoel Kfar Shelem ","H. Petah Tikva ","https://en.24score.com/football/match/570355-hapoel-kfar-shelem-h-petah-tikva"]
["Israel Liga Leumit","17:00","Sektzia Nes Tziona ","Hapoel Um El Fahem ","https://en.24score.com/football/match/570352-sektzia-nes-tziona-hapoel-um-el-fahem"]
["Israel Liga Leumit","17:00","Hapoel Acre ","Nir Ramat Hasharon ","https://en.24score.com/football/match/570348-hapoel-acre-nir-ramat-hasharon"]
["Israel Liga Leumit","17:00","Hapoel Iksal ","Hapoel Raanana ","https://en.24score.com/football/match/570353-hapoel-iksal-hapoel-raanana"]
["Israel Liga Leumit","17:00","Ramat Gan Givatayim ","Beitar Tel Aviv ","https://en.24score.com/football/match/570351-ramat-gan-givatayim-beitar-tel-aviv"]
["Ukraine - Persha Liga","17:00","Metalist ","Kremin ","https://en.24score.com/football/match/572279-metalist-kremin"]
["Iran Pro League","17:05","Machine Tabriz ","Zob Ahan ","https://en.24score.com/football/match/584405-machine-tabriz-zob-ahan"]
["Iran Pro League","17:10","Foolad ","Esteghlal ","https://en.24score.com/football/match/584406-foolad-esteghlal"]
["Moldova - Divizia Nationala","18:00","Zimbru ","Dacia Buiucani ","https://en.24score.com/football/match/555084-zimbru-dacia-buiucani"]
["U.A.E. Etisalat National League","18:00","Al-Wasl ","AL Ain ","https://en.24score.com/football/match/582660-al-wasl-al-ain"]
["U.A.E. Etisalat National League","18:00","Baniyas ","Kalba ","https://en.24score.com/football/match/582656-baniyas-kalba"]
["Romania Liga I","19:30","CSMS Iasi ","Arges ","https://en.24score.com/football/match/564726-csms-iasi-arges"]
["Croatia 1. Division","20:00","Lok Zagreb ","Varazdin ","https://en.24score.com/football/match/564397-lok-zagreb-varazdin"]
["Moldova - Divizia Nationala","20:00","Dinamo Auto ","Dacia Buiucani ","https://en.24score.com/football/match/555092-dinamo-auto-dacia-buiucani"]
["Moldova - Divizia Nationala","20:00","Zimbru ","Sfintul G ","https://en.24score.com/football/match/555096-zimbru-sfintul-g"]
["Moldova - Divizia Nationala","20:00","Floresti ","Petrocub ","https://en.24score.com/football/match/555093-floresti-petrocub"]
["Moldova - Divizia Nationala","20:00","Milsami ","Speranta ","https://en.24score.com/football/match/555094-milsami-speranta"]
["Serbia - Superliga","20:00","Javor ","Spartak Subotica ","https://en.24score.com/football/match/558441-javor-spartak-subotica"]
["Serbia - Superliga","20:00","Mladost L ","Cukaricki ","https://en.24score.com/football/match/558443-mladost-l-cukaricki"]
["Serbia - Superliga","20:00","Radnik ","Macva ","https://en.24score.com/football/match/558436-radnik-macva"]
["Poland I Liga","20:40","Nieciecza ","Widzew Lodz ","https://en.24score.com/football/match/568340-nieciecza-widzew-lodz"]
["Ukraine - Premier League","21:00","Rukh Lviv ","FC Mariupol ","https://en.24score.com/football/match/572756-rukh-lviv-fc-mariupol"]
["Poland Ekstraklasa","21:00","KS Lechia ","Slask Wroclaw ","https://en.24score.com/football/match/569329-ks-lechia-slask-wroclaw"]
["France National","21:00","Lyon-Duchere ","Cholet ","https://en.24score.com/football/match/568973-lyon-duchere-cholet"]
["France National","21:00","Laval ","Boulogne ","https://en.24score.com/football/match/568978-laval-boulogne"]
["France National","21:00","Sete ","Red Star ","https://en.24score.com/football/match/568940-sete-red-star"]
["France National","21:00","Annecy ","Villefranche ","https://en.24score.com/football/match/568910-annecy-villefranche"]
["France National","21:00","Quevilly Rouen ","Bourg Peronnas ","https://en.24score.com/football/match/568912-quevilly-rouen-bourg-peronnas"]
["Austria - ADEG Erste Liga","21:00","BW Linz ","Horn ","https://en.24score.com/football/match/567854-bw-linz-horn"]
["Denmark 1. Division","21:00","Viborg ","Hobro ","https://en.24score.com/football/match/573102-viborg-hobro"]
["Germany Regionalliga North","21:00","Weiche ","St. Pauli II ","https://en.24score.com/football/match/571827-weiche-st-pauli-ii"]
["U.A.E. Etisalat National League","21:00","Sharjah ","Al-Nasr Dubai ","https://en.24score.com/football/match/582661-sharjah-al-nasr-dubai"]
["U.A.E. Etisalat National League","21:00","Fujairah ","Hatta ","https://en.24score.com/football/match/582657-fujairah-hatta"]
["Austria - ADEG Erste Liga","21:30","Amstetten ","Austria Wien II ","https://en.24score.com/football/match/567859-amstetten-austria-wien-ii"]
["Austria - ADEG Erste Liga","21:30","Austria Lustenau ","Floridsdorf ","https://en.24score.com/football/match/567856-austria-lustenau-floridsdorf"]
["Austria - ADEG Erste Liga","21:30","Liefering ","Kapfenberg ","https://en.24score.com/football/match/567860-liefering-kapfenberg"]
["Austria - ADEG Erste Liga","21:30","Lafnitz ","Vorwarts Steyr ","https://en.24score.com/football/match/567857-lafnitz-vorwarts-steyr"]
["Czech Republic Gambrinus League","21:45","Slovan Liberec ","Jablonec ","https://en.24score.com/football/match/560799-slovan-liberec-jablonec"]
["Netherlands Eerste Divisie","21:45","Volendam ","Oss ","https://en.24score.com/football/match/558975-volendam-oss"]
["Netherlands Eerste Divisie","21:45","NEC Nijmegen ","Roda ","https://en.24score.com/football/match/558984-nec-nijmegen-roda"]
["Netherlands Eerste Divisie","21:45","Excelsior ","Jong AZ ","https://en.24score.com/football/match/558981-excelsior-jong-az"]
["France Ligue 1","22:00","Rennes ","Bordeaux ","https://en.24score.com/football/match/553206-rennes-bordeaux"]
["Denmark - Superligaen","22:00","Lyngby ","Horsens ","https://en.24score.com/football/match/575143-lyngby-horsens"]
["Spain Segunda Division","22:00","Alcorcon ","Lugo ","https://en.24score.com/football/match/571423-alcorcon-lugo"]
["Germany - 3. Liga","22:00","Duisburg ","Verl ","https://en.24score.com/football/match/573330-duisburg-verl"]
["Denmark 1. Division","22:00","Kolding IF ","Fredericia ","https://en.24score.com/football/match/573105-kolding-if-fredericia"]
["Denmark 2nd Division","22:00","Hellerup ","Nykoebing ","https://en.24score.com/football/match/565152-hellerup-nykoebing"]
["Denmark 2nd Division","22:00","Roskilde ","Gladsaxe ","https://en.24score.com/football/match/565153-roskilde-gladsaxe"]
["Sweden Div 1","22:00","Motala ","Linkoping ","https://en.24score.com/football/match/549163-motala-linkoping"]
["Switzerland - Challenge League","22:00","Stade Ouchy ","Schaffhausen ","https://en.24score.com/football/match/577028-stade-ouchy-schaffhausen"]
["Switzerland - Challenge League","22:00","Chiasso ","Aarau ","https://en.24score.com/football/match/577026-chiasso-aarau"]
["Croatia 1. Division","22:05","Sibenik ","Gorica ","https://en.24score.com/football/match/564398-sibenik-gorica"]
["Germany Women Bundesliga","22:15","Wolfsburg W ","Frankfurt W ","https://en.24score.com/football/match/569741-wolfsburg-w-frankfurt-w"]
["Romania Liga I","22:30","Dinamo B. ","Voluntari ","https://en.24score.com/football/match/564727-dinamo-b--voluntari"]
["England League Two","23:00","Mansfield ","Colchester ","https://en.24score.com/football/match/567248-mansfield-colchester"]
["Belgium Tweede Klasse","23:00","Brugge U23 ","Lierse ","https://en.24score.com/football/match/563669-brugge-u23-lierse"]
["Hungary - NBI Liga","23:00","Kisvarda ","Paksi ","https://en.24score.com/football/match/568077-kisvarda-paksi"]
["Switzerland - Challenge League","23:00","Winterthur ","Kriens ","https://en.24score.com/football/match/577027-winterthur-kriens"]
["Switzerland - Challenge League","23:00","Grasshopper ","Neuchatel Xamax ","https://en.24score.com/football/match/577025-grasshopper-neuchatel-xamax"]
["Austria - ADEG Erste Liga","23:25","Austria Kl ","Wacker Innsbruck ","https://en.24score.com/football/match/567861-austria-kl-wacker-innsbruck"]
["Poland Ekstraklasa","23:30","Gornik Zabrze ","Piast Gliwice ","https://en.24score.com/football/match/569328-gornik-zabrze-piast-gliwice"]
["Brazil - Serie B","23:30","Vitoria ","Ponte Preta ","https://en.24score.com/football/match/558222-vitoria-ponte-preta"]
["Brazil - Serie B","23:30","Avai ","Confianca ","https://en.24score.com/football/match/558227-avai-confianca"]
["N. Ireland Premiership","23:30","Portadown ","Glentoran ","https://en.24score.com/football/match/582354-portadown-glentoran"]
["England Championship","23:45","Coventry ","Birmingham ","https://en.24score.com/football/match/566134-coventry-birmingham"]
["Scotland Championship","23:45","Dunfermline ","Hearts ","https://en.24score.com/football/match/581717-dunfermline-hearts"]
["Wales Premier League","23:45","Connahs Quay ","Cefn Druids ","https://en.24score.com/football/match/575829-connahs-quay-cefn-druids"]
["Wales Premier League","23:45","Aberystwyth ","Bala Town ","https://en.24score.com/football/match/575830-aberystwyth-bala-town"]

{"sheet":"settodownload","index":3,"n_rows":5,"n_cols":7,"rows_kept":5,"cut":false,"hidden":true,"merged":[]}
[]
[null,0,2,1,3,4,5]
[116,{"$f":"fmt(INDEX(myset!A2:A15,myset!A17),\"DD-MM-YYYY\")","v":"20-11-2020"},{"$f":"INDEX(listing!$A:$E,$A$3,C$2)","v":"23:45"},{"$f":"INDEX(listing!$A:$E,$A$3,D$2)","v":"Wales Premier League"},{"$f":"SUBSTITUTE(SUBSTITUTE(INDEX(listing!$A:$E,$A$3,E$2),1,\"\"),2,\"\")","v":"Aberystwyth "},{"$f":"SUBSTITUTE(SUBSTITUTE(INDEX(listing!$A:$E,$A$3,F$2),1,\"\"),2,\"\")","v":"Bala Town "},{"$f":"INDEX(listing!$A:$E,$A$3,G$2)","v":"https://en.24score.com/football/match/575830-aberystwyth-bala-town"}]
[]
[null,{"$f":"fmt(B3,\"YYYY\")","v":"2020"},{"$f":"B5-1","v":2019},{"$f":"C5-1","v":2018},2017,{"$f":"E5-1","v":2016}]

{"sheet":"downloadmatch","index":4,"n_rows":643,"n_cols":11,"rows_kept":643,"cut":false,"hidden":true,"merged":[]}
["24score"]
[]
["Top Streaks"]
["Contact Us"]
["Useful links"]
[]
["Football"]
["Basketball"]
["Ice Hockey"]
["Tennis"]
["Volleyball"]
["Handball"]
[]
["Popular"]
["Club Domestic"]
["International"]
[]
["UEFA Champions League "]
["UEFA Europa League "]
["Premier League "]
["Premier League "]
["Primera Division "]
["Serie A "]
["1. Bundesliga "]
["Ligue 1 "]
["Pro League "]
["Liga Sagres "]
["Superlig "]
["Premier League "]
["Premier League "]
["Gambrinus League "]
["Ekstraklasa "]
["Superligaen "]
["UEFA Nations League "]
[]
["ABCDEFGHIJKLMNPRSTUVWAll"]
[]
["Albania - Superleague "]
["Algeria - Ligue 1 "]
["Argentina - Copa Liga "]
["Argentina - Primera Division "]
["Armenia - Premier League "]
["Australia - A-League "]
["Australia - NPL Queensland "]
["Australia - NPL Victoria "]
["Australia - NPL Northern New S "]
["Australia - NPL Capital Footba "]
["Australia - NPL Tasmania "]
["Australia - NPL Western Austra "]
["Australia - NPL South Australi "]
["Austria - tipp3-Bundesliga "]
["Austria - ADEG Erste Liga "]
["Azerbaijan - Premier League "]
["Belarus - Premier League "]
["Belarus - Pervaya Liga "]
["Belarus - Vysshaya Liga Women "]
["Belarus - Belarus Cup "]
["Belarus - Reserve League "]
["Belgium - Pro League "]
["Belgium - Beker van Belgie "]
["Belgium - Tweede Klasse "]
["Bolivia - Primera Division "]
["Bosnia-Herzegovina - Premier L "]
["Brazil - Serie A "]
["Brazil - Copa do Brasil "]
["Brazil - Serie B "]
["Brazil - Paulista "]
["Brazil - Carioca "]
["Bulgaria - A Grupa "]
["Chile - Chile Primera Division "]
["China - Super League "]
["Colombia - Primera Division "]
["Costa Rica - Primera Division "]
["Croatia - 1. Division "]
["Cyprus - 1st Division "]
["Czech Republic - 1. Division "]
["Czech Republic - Gambrinus Lea "]
["Denmark - 2nd Division "]
["Denmark - Ekstra Bladet Cup "]
["Denmark - 1. Division "]
["Denmark - Superligaen "]
["Ecuador - Primera Division "]
["Egypt - Premier League "]
["England - Premier League "]
["England - FA Cup "]
["England - Capital One Cup "]
["England - Championship "]
["England - League One "]
["England - League Two "]
["England - National League "]
["England - Premier League 2 "]
["England - National League Sout "]
["England - National League Nort "]
["England - The FA Women's Super "]
["England - Community Shield "]
["Estonia - Meistriliiga "]
["Faroe Islands - Premier League "]
["Finland - Ykkonen "]
["Finland - Veikkausliga "]
["France - Ligue 1 "]
["France - Coupe de France "]
["France - Coupe de la Ligue "]
["France - Ligue 2 "]
["France - National "]
["France - Division 1 Women "]
["Georgia - Umaglesi Liga "]
["Germany - 1. Bundesliga "]
["Germany - DFB Pokal "]
["Germany - 2. Bundesliga "]
["Germany - 3. Liga "]
["Germany - Regionalliga Southwe "]
["Germany - Regionalliga North "]
["Germany - Regionalliga Bayern "]
["Germany - Regionalliga West "]
["Germany - Super Cup "]
["Germany - Women Bundesliga "]
["Germany - Regionalliga Northea "]
["Greece - Super League "]
["Greece - Greece Cup "]
["Guatemala - Liga Nacional "]
["Hungary - Hungary Cup "]
["Hungary - NBI Liga "]
["Iceland - Pepsi-deild karla "]
["Iceland - 1st deild "]
["India - I-League "]
["Indonesia - Championship A "]
["Iran - Pro League "]
["Ireland Republic - 1. Division "]
["Ireland Republic - Eircom Leag "]
["Israel - Ligat-Al "]
["Israel - Liga Leumit "]
["Italy - Serie A "]
["Italy - Coppa Italia "]
["Italy - Serie B "]
["Italy - Super Cup "]
["Jamaica - Premier League "]
["Japan - J. League 3 "]
["Japan - J. League "]
["Japan - J. League 2 "]
["Kazakhstan - Premier League "]
["Latvia - Virsliga "]
["Lithuania - A Lyga "]
["Malaysia - Super League "]
["Mexico - Primera Division "]
["Moldova - Divizia Nationala "]
["Montenegro - CFL "]
["Morocco - Botola "]
["Myanmar - National League "]
["Netherlands - Eredivisie "]
["Netherlands - KNVB beker "]
["Netherlands - Eerste Divisie "]
["Nicaragua - Primera "]
["Nigeria - Premier League "]
["Northern Ireland - Premiership "]
["Norway - Norway Cup "]
["Norway - Adeccoligaen "]
["Norway - Tippeligaen "]
["Panama - LPF "]
["Paraguay - Primera Division "]
["Peru - Primera division "]
["Poland - II Liga "]
["Poland - Puchar Polski "]
["Poland - I Liga "]
["Poland - Ekstraklasa "]
["Portugal - Liga Sagres "]
["Portugal - Taca de Portugal "]
["Portugal - Liga Vitalis "]
["Portugal - League Cup "]
["Romania - Liga I "]
["Romania - Romania Cup "]
["Russia - Premier League "]
["Russia - Russia Cup "]
["Russia - 1. Division "]
["Russia - PFL East "]
["Russia - PFL West "]
["Russia - PFL Ural "]
["Russia - PFL Center "]
["Russia - PFL South "]
["Russia - Youth teams "]
["Russia - Premier Women "]
["Russia - Super Cup "]
["Saudi Arabia - Professional Le "]
["Scotland - Premier League "]
["Scotland - Scottish Cup "]
["Scotland - League Two "]
["Scotland - League One "]
["Scotland - League Cup "]
["Scotland - Championship "]
["Serbia - Superliga "]
["Singapore - S.League "]
["Slovakia - Corgon Liga "]
["Slovenia - 1. Division "]
["South Africa - Premier Soccer "]
["South Korea - Women WK-League "]
["South Korea - K-League Challen "]
["South Korea - K-League "]
["Spain - Primera Division "]
["Spain - Copa del Rey "]
["Spain - Segunda Division "]
["Spain - Primera Division Women "]
["Spain - Super Cup "]
["Sweden - Superettan "]
["Sweden - Div 1 "]
["Sweden - Allsvenskan "]
["Sweden - Damallsvenskan "]
["Switzerland - Challenge League "]
["Switzerland - Schweizer Cup "]
["Switzerland - Super League "]
["Syria - Premier League "]
["Taiwan - Mulan League Women "]
["Taiwan - Premier League "]
["Thailand - Premier League "]
["Tunisia - Ligue 1 "]
["Turkey - Superlig "]
["Turkey - Ziraat Turkiye Kupasi "]
["Turkey - 2nd Lig "]
["Turkey - Super Cup "]
["Turkey - TFF 1st Divison "]
["UAE - Etisalat National League "]
["Ukraine - Premier League "]
["Ukraine - Persha Liga "]
["Ukraine - U-21 League "]
["Ukraine - Ukraine Cup "]
["Uruguay - Primera Division "]
["USA - USL "]
["USA - MLS "]
["Uzbekistan - Superleague "]
["Venezuela - Primera Division "]
["Vietnam - V-League "]
["Vietnam - V-League 2 "]
["Wales - Premier League "]
[]
["Current tournaments"]
["National Teams"]
["Club Competitions"]
[]
["UEFA Champions League "]
["UEFA EURO Championship "]
["UEFA Europa League "]
["World Cup Qual. South America "]
["AFC Champions League "]
["Copa Libertadores "]
["EURO U-21 Qualification "]
["UEFA Nations League "]
[]
["Copa America "]
["UEFA Womens EURO "]
["World Cup Qual. Europe "]
["UEFA EURO Championship "]
["World Cup Qual. South America "]
["FIFA U-20 World Cup "]
["FIFA - World Cup "]
["Confederations Cup "]
["Olympic Womens "]
["Olimpic Mens "]
["FIFA U-17 World Cup "]
["World Cup Qual. Africa "]
["International Friendlies "]
["World Cup Qual. Inter-Confeder "]
["World Cup Qual. North America "]
["UEFA Nations League "]
["Womens World Cup "]
["World Cup Qual. Asia "]
["Africa Cup of Nations "]
["AFC Asian Cup "]
["EURO U21 "]
["EURO U-21 Qualification "]
[]
["UEFA Champions League "]
["UEFA Europa League "]
["European Ch.ship QF "]
["Copa Sudamericana "]
["Int. Champions Cup "]
["Club World Cup "]
["CAF Champions League "]
["UEFA Youth League "]
["AFC Champions League "]
["UEFA Super Cup "]
["EURO U-17 "]
["EURO U19 "]
["Intertoto Cup "]
["Copa Libertadores "]
["EURO 2013 U-21 qual. "]
["Intenational Club Friendlies "]
[]
["Aberystwyth "]
[":"]
["Bala Town "]
["Expected"]
["  20 Nov 2020 Round 14"]
["home draw away"]
["4.2 4 1.71 "]
["Head to heads"]
["Odds"]
["Last 20 matches"]
["Last 10 matches"]
["Last 5 matches"]
["Aberystwyth",null,"Average performance","Bala Town"]
["Overall","Home",null,"Overall","Away"]
["3.5",4,"Average per game","3.55",3]
["1.7",2,"Average goals scored per game","2.55","2.2"]
["1.8",2,"Average goals conceded per game",1,"0.8"]
["Aberystwyth",null,"Average performance","Bala Town"]
["Overall","Home",null,"Overall","Away"]
["3.15","3.33","Average per game","3.2","2.8"]
["1.6","1.67","Average goals scored per game","2.1","1.8"]
["1.55","1.67","Average goals conceded per game","1.1",1]
["Aberystwyth",null,"Average performance","Bala Town"]
["Overall","Home",null,"Overall","Away"]
["3.5",4,"Average per game","3.7","3.25"]
["1.7",2,"Average goals scored per game","2.7","2.5"]
["1.8",2,"Average goals conceded per game",1,"0.75"]
["Aberystwyth",null,"Average performance","Bala Town"]
["Overall","Home",null,"Overall","Away"]
[4,"3.5","Average per game","2.8","2.33"]
[2,"1.5","Average goals scored per game",2,"1.67"]
[2,2,"Average goals conceded per game","0.8","0.67"]
["Aberystwyth",null,"Over","Bala Town"]
[null,null,"Under"]
["Overall","Home",null,"Overall","Away"]
[1,0,"Full Time",3,1]
[9,4,"1.5",8,4]
[0,0,"2.5","-","-"]
[10,4,"3.5","-","-"]
[7,7,"4.5",7,2]
[7,7,"5.5",4,3]
[0,0,null,11,5]
[10,4,null,0,0]
["-","-",null,1,0]
["-","-",null,10,5]
[2,1,null,11,5]
[8,3,null,0,0]
[10,4,null,4,1]
[0,0,null,7,4]
[1,0,null,0,0]
[9,4,null,11,5]
[5,3,null,2,2]
[5,1,null,2,2]
[10,4,null,2,1]
[0,0,null,9,4]
[6,4,null,0,0]
[4,0,null,11,5]
[7,7,"Half time",0,0]
[7,7,"0.5",11,5]
[0,0,"1.5",2,2]
[10,4,"2.5",2,2]
[0,0,"3.5","-","-"]
[10,4,null,"-","-"]
["-","-",null,0,0]
["-","-",null,11,5]
[1,0,null,5,1]
[9,4,null,6,4]
[4,1,null,3,0]
[6,3,null,8,5]
[0,0,null,9,4]
[10,4,null,2,1]
[8,3,null,1,0]
[2,1,null,10,5]
[4,3,"2nd half",2,2]
[6,1,"0.5",2,2]
[7,4,"1.5",0,0]
[3,0,"2.5",11,5]
[9,4,"3.5",2,1]
[1,0,null,9,4]
[2,1,null,5,2]
[8,3,null,6,3]
[0,0,null,11,5]
[10,4,null,0,0]
["-","-",null,2,1]
["-","-",null,9,4]
[7,7,null,"-","-"]
[7,7,null,"-","-"]
[0,0,null,1,1]
[10,4,null,10,4]
["Aberystwyth",null,"Over","Bala Town"]
[null,null,"Under"]
["Overall","Home",null,"Overall","Away"]
[16,6,"Full Time",3,1]
[4,3,"1.5",17,9]
[12,6,"2.5","-","-"]
[8,3,"3.5","-","-"]
[8,4,"4.5",14,6]
[12,5,"5.5",6,4]
[2,1,null,19,9]
[18,8,null,1,1]
[19,9,null,1,0]
[1,0,null,19,10]
[3,2,null,20,10]
[17,7,null,0,0]
["-","-",null,5,1]
["-","-",null,15,9]
[0,0,null,0,0]
[20,9,null,20,10]
[2,1,null,2,2]
[18,8,null,2,2]
[1,1,null,2,1]
[19,8,null,18,9]
[7,7,null,0,0]
[7,7,null,20,10]
[0,0,"Half time",0,0]
[20,9,"0.5",20,10]
[7,7,"1.5","-","-"]
[7,7,"2.5","-","-"]
[7,2,"3.5",7,2]
[13,7,null,13,8]
[2,1,null,4,0]
[18,8,null,16,10]
[0,0,null,1,0]
[20,9,null,19,10]
[14,6,null,15,7]
[6,3,null,5,3]
["-","-",null,0,0]
["-","-",null,20,10]
[0,0,null,2,2]
[20,9,null,2,2]
[0,0,"2nd half",1,1]
[20,9,"0.5",19,9]
[7,7,"1.5","-","-"]
[7,7,"2.5","-","-"]
[13,6,"3.5",10,5]
[7,3,null,10,5]
[6,4,null,4,2]
[14,5,null,16,8]
[3,2,null,2,1]
[17,7,null,18,9]
[17,8,null,20,10]
[3,1,null,0,0]
[1,1,null,0,0]
[19,8,null,20,10]
["-","-",null,2,2]
["-","-",null,2,2]
["Aberystwyth",null,"Over","Bala Town"]
[null,null,"Under"]
["Overall","Home",null,"Overall","Away"]
["-","-","Full Time",0,0]
["-","-","1.5",10,4]
[2,1,"2.5",2,2]
[8,3,"3.5",2,2]
[10,4,"4.5",0,0]
[0,0,"5.5",10,4]
[5,3,null,2,1]
[5,1,null,8,3]
[1,0,null,7,2]
[9,4,null,3,2]
[6,4,null,10,4]
[4,0,null,0,0]
[10,4,null,4,1]
[0,0,null,6,3]
[7,7,null,10,4]
[7,7,null,0,0]
[0,0,null,1,0]
[10,4,null,9,4]
[1,0,null,3,1]
[9,4,null,7,3]
[0,0,null,"-","-"]
[10,4,null,"-","-"]
[0,0,"Half time",2,2]
[10,4,"0.5",2,2]
[7,7,"1.5",0,0]
[7,7,"2.5",10,4]
["-","-","3.5","-","-"]
["-","-",null,"-","-"]
[0,0,null,0,0]
[10,4,null,10,4]
[0,0,null,3,0]
[10,4,null,7,4]
[8,3,null,5,1]
[2,1,null,5,3]
[4,1,null,8,3]
[6,3,null,2,1]
[1,0,null,1,0]
[9,4,null,9,4]
[0,0,"2nd half",2,1]
[10,4,"0.5",8,3]
[7,7,"1.5",5,2]
[7,7,"2.5",5,2]
[7,4,"3.5",2,1]
[3,0,null,8,3]
[4,3,null,10,4]
[6,1,null,0,0]
[9,4,null,1,1]
[1,0,null,9,3]
[2,1,null,"-","-"]
[8,3,null,"-","-"]
["-","-",null,2,2]
["-","-",null,2,2]
[0,0,null,0,0]
[10,4,null,10,4]
["Aberystwyth",null,"Over","Bala Town"]
[null,null,"Under"]
["Overall","Home",null,"Overall","Away"]
[1,0,"Full Time",5,3]
[4,2,"1.5",0,0]
["-","-","2.5",1,0]
["-","-","3.5",4,3]
[5,2,"4.5",0,0]
[0,0,"5.5",5,3]
[4,2,null,2,1]
[1,0,null,3,2]
[3,1,null,5,3]
[2,1,null,0,0]
[5,2,null,"-","-"]
[0,0,null,"-","-"]
[1,0,null,1,0]
[4,2,null,4,3]
[1,0,null,0,0]
[4,2,null,5,3]
[0,0,null,0,0]
[5,2,null,5,3]
[7,7,null,2,2]
[7,7,null,2,2]
[0,0,null,0,0]
[5,2,null,5,3]
[0,0,"Half time",1,0]
[5,2,"0.5",4,3]
[7,7,"1.5",2,1]
[7,7,"2.5",3,2]
[2,0,"3.5",1,0]
[3,2,null,4,3]
[1,0,null,3,2]
[4,2,null,2,1]
[0,0,null,"-","-"]
[5,2,null,"-","-"]
[3,1,null,0,0]
[2,1,null,5,3]
[0,0,null,2,2]
[5,2,null,2,2]
["-","-",null,0,0]
["-","-",null,5,3]
[7,7,"2nd half","-","-"]
[7,7,"0.5","-","-"]
[0,0,"1.5",0,0]
[5,2,"2.5",5,3]
[3,2,"3.5",0,0]
[2,0,null,5,3]
[5,2,null,2,1]
[0,0,null,3,2]
[1,0,null,0,0]
[4,2,null,5,3]
[5,2,null,5,3]
[0,0,null,0,0]
["-","-",null,2,2]
["-","-",null,2,2]
[0,0,null,0,0]
[5,2,null,5,3]
["Top Streaks"]
["Over","Aberystwyth have had over 1.5 2nd half goals in 5 last matches"]
["Both scored","Aberystwyth has scored and conceded in 2nd period in 3 last games"]
["Aberystwyth - Last matches"]
["13.11.20 Cardiff Met - Aberystwyth","D 1:1 (0:0)"]
["16.10.20 Aberystwyth - New Saints","D 2:2 (0:1)"]
["10.10.20 Bala Town - Aberystwyth","L 5:2 (2:1)"]
["06.10.20 Cefn Druids - Aberystwyth","W 0:4 (0:2)"]
["03.10.20 Aberystwyth - Barry Town","L 1:2 (0:0)"]
["30.09.20 Connahs Quay - Aberystwyth","L 2:0 (2:0)"]
["25.09.20 Newtown - Aberystwyth","D 1:1 (0:1)"]
["18.09.20 Aberystwyth - Flint Town Utd","W 3:1 (1:1)"]
["10.07.14 Aberystwyth - Derry City","L 0:5 (0:2)"]
["03.07.14 Derry City - Aberystwyth","L 4:0 (2:0)"]
["Bala Town - Last matches"]
["14.11.20 Bala Town - Penybont","W 4:1 (3:1)"]
["07.11.20 Bala Town - New Saints","D 1:1 (0:0)"]
["31.10.20 Haverfordwest - Bala Town","D 1:1 (0:0)"]
["20.10.20 Flint Town Utd - Bala Town","W 1:2 (1:1)"]
["17.10.20 Newtown - Bala Town","W 0:2 (0:1)"]
["14.10.20 Bala Town - Barry Town","W 4:0 (3:0)"]
["10.10.20 Bala Town - Aberystwyth","W 5:2 (2:1)"]
["03.10.20 Bala Town - Haverfordwest","L 1:2 (1:1)"]
["17.09.20 Standard - Bala Town","L 2:0 (2:0)"]
["27.08.20 Valletta - Bala Town","W 0:1 (0:1)"]
["05.07.18 Bala Town - Tre Fiori","W 1:0 (0:0)"]
["28.06.18 Tre Fiori - Bala Town","L 3:0 (3:0)"]
["06.07.17 Vaduz - Bala Town","L 3:0 (3:0)"]
["29.06.17 Bala Town - Vaduz","L 1:2 (0:2)"]
["07.07.16 Bala Town - AIK","L 0:2 (0:2)"]
["30.06.16 AIK - Bala Town","L 2:0 (1:0)"]
["Aberystwyth - Bala Town - Head to heads"]
["08.11.19 Aberystwyth - Bala Town","L 0:5 (0:2)"]
["15.09.18 Aberystwyth - Bala Town","W 3:2 (1:0)"]
["17.11.17 Aberystwyth - Bala Town","L 1:2 (0:0)"]
["25.11.16 Aberystwyth - Bala Town","L 1:3 (0:2)"]
["22.09.15 Aberystwyth - Bala Town","D 1:1 (0:1)"]
["17.04.15 Aberystwyth - Bala Town","L 1:2 (1:0)"]
["26.09.14 Aberystwyth - Bala Town","W 4:0 (2:0)"]
["11.04.14 Aberystwyth - Bala Town","L 2:3 (1:1)"]
["Bala Town - Aberystwyth - Head to heads"]
["10.10.20 Bala Town - Aberystwyth","W 5:2 (2:1)"]
["27.09.19 Bala Town - Aberystwyth","W 2:0 (1:0)"]
["17.11.18 Bala Town - Aberystwyth","L 2:3 (1:0)"]
["29.09.17 Bala Town - Aberystwyth","D 1:1 (1:1)"]
["11.11.16 Bala Town - Aberystwyth","W 4:0 (3:0)"]
["06.10.15 Bala Town - Aberystwyth","L 0:1 (0:0)"]
["27.02.15 Bala Town - Aberystwyth","D 3:3 (2:1)"]
["24.10.14 Bala Town - Aberystwyth","W 4:0 (2:0)"]
["Team","W","D","L","Pts"]
["New Saints",9,2,0,29]
["Bala Town",7,3,1,24]
["Connahs Quay",7,2,1,23]
["Barry Town",5,2,3,17]
["Penybont",4,2,4,14]
["Caernarfon",3,2,5,11]
["Aberystwyth",2,4,4,10]
["Haverfordwest",2,4,4,10]
["Newtown",2,3,5,9]
["Cardiff Met",2,3,5,9]
["Flint Town Utd",2,0,8,6]
["Cefn Druids",1,1,6,4]
["WDL"]
["Double Chance"]
["Over/Under"]
["Corners"]
["Yellow cards"]
["Bookmaker","Aberystwyth","X","Bala Town"]
["1xСтавка","4.12 ",4,"1.71 "]
["MarathonBet","4.2 ",4,"1.69 "]
["Bookmaker","1X",12,"X2"]
["1xСтавка"]
["MarathonBet","2.05 ","1.21 ","1.188 "]
["Bookmaker","0.5",null,"1.5",null,"2.5",null,"3.5",null,"4.5"]
[null,"Over","Under","Over","Under","Over","Under","Over","Under","Over","Under"]
["1xСтавка","1.01 ",14,"1.15 ","4.7 ","1.53 ","2.31 ","2.44 ","1.57 ","4.04 ","1.19 "]
["MarathonBet",null,null,null,null,"1.53 ","2.31 ","2.44 ","1.57 ","4.05 ","1.192 "]
["Bookmaker","7.5",null,"8.5",null,"9.5",null,"10.5",null,"11.5"]
[null,"Over","Under","Over","Under","Over","Under","Over","Under","Over","Under"]
["1xСтавка"]
["MarathonBet"]
["Bookmaker","3.5",null,"4.5",null,"5.5",null,"6.5",null,"7.5"]
[null,"Over","Under","Over","Under","Over","Under","Over","Under","Over","Under"]
["1xСтавка"]
["MarathonBet"]
[]
["Football"]
["Basketball"]
["Ice Hockey"]
["Tennis"]
["Volleyball"]
["Handball"]
[]
[]
["Mobile version"]
["Contact Us"]
["Useful links"]
["Recommended sites"]

{"sheet":"HOME","index":5,"n_rows":100,"n_cols":51,"rows_kept":100,"cut":false,"hidden":true,"merged":[[0,45,0,47],[0,16,0,17],[0,18,0,19],[0,20,0,21],[1,14,1,15],[1,16,1,21],[0,22,0,23],[0,24,0,25],[0,26,0,27],[0,38,0,39],[0,40,0,41],[0,42,0,44]]}
[{"$f":"CONCATENATE(settodownload!E3,\"- Last matches\")","v":"Aberystwyth - Last matches"},null,null,null,null,null,null,null,null,null,null,null,null,null,null,null,"HT",null,"ST",null,"FT",null,{"$f":"Q1","v":"HT"},null,{"$f":"S1","v":"ST"},null,{"$f":"U1","v":"FT"},null,"+","-","+","-","+","-",null,null,null,null,"HT",null,"ST",null,"FT",null,null,"WINNER"]
[{"$f":"MATCH(A1,downloadmatch!$A:$A,0)","v":549},1,{"$f":"B2+1","v":2},null,"DATE","TEAMS","REST","FT - HT","FT","HT",null,null,null,null,{"$f":"IF(COUNTIF(O3:P17,O3)>COUNTIF(O3:P17,P3),O3,P3)","v":"Aberystwyth"},null,"NOSORT",null,null,null,null,null,null,null,null,null,null,null,{"$f":"COUNTIF(AC3:AC99,\"ok\")/$AI$99","v":0.5},{"$f":"COUNTIF(AD3:AD99,\"ok\")/$AI$99","v":0.5},0.75,0.625,0.875,0.875,null,null,null,null,{"$f":"COUNTIF(AM3:AM99,\"OK\")/$AI$99","v":0.75},{"$f":"COUNTIF(AN3:AN99,\"OK\")/$AI$99","v":0.5},{"$f":"COUNTIF(AO3:AO99,\"OK\")/$AI$99","v":0.875},0.75,{"$f":"COUNTIF(AQ3:AQ99,\"OK\")/$AI$99","v":1},{"$f":"COUNTIF(AR3:AR99,\"OK\")/$AI$99","v":0.625},{"$f":"COUNTIF(AS3:AS99,\"OK\")/$AI$99","v":0.5},{"$f":"COUNTIF(AT3:AT99,\"OK\")/$AI$99","v":0.125},{"$f":"COUNTIF(AU3:AU99,\"OK\")/$AI$99","v":0.125},0.125,"W","D","L"]
[{"$f":"A2+1","v":550},{"$f":"IF(C3=\"\",\"\",INDEX(downloadmatch!$A:$B,$A3,B$2))","v":"13.11.20 Cardiff Met - Aberystwyth"},{"$f":"IF(INDEX(downloadmatch!$A:$B,$A3,C$2)=0,\"\",INDEX(downloadmatch!$A:$B,$A3,C$2))","v":"D 1:1 (0:0)"},null,{"$f":"IF(B3=\"\",\"\",LEFT(B3,SEARCH(\" \",B3)-1))","v":"13.11.20"},{"$f":"IF(E3=\"\",\"\",MID(B3,SEARCH(\" \",B3)+1,100))","v":"Cardiff Met - Aberystwyth"},{"$f":"IF(F3=\"\",\"\",LEFT(C3,SEARCH(\" \",C3)-1))","v":"D"},{"$f":"IF(G3=\"\",\"\",MID(C3,SEARCH(\" \",C3)+1,100))","v":"1:1 (0:0)"},{"$f":"IF(H3=\"\",\"\",IF(K3=\"\",LEFT(H3,SEARCH(\" \",H3)-1),K3))","v":"1:1"},{"$f":"IF(F3=\"\",\"\",SUBSTITUTE(SUBSTITUTE(MID(C3,SEARCH(\" \",H3)+3,100),\"(\",\"\"),\")\",\"\"))","v":"0:0"},{"$f":"IFERROR(MID(J3,SEARCH(\"AET\",J3)+4,100),\"\")","v":""},{"$f":"IFERROR(LEFT(J3,SEARCH(\"AET\",J3)-2),\"\")","v":""},{"$f":"IF(F3=\"\",\"\",fmt(E3,\"YYYY\")*1)","v":2020},{"$f":"IF(M3=\"\",\"\",IF(M3>=settodownload!$C$5,\"OK\",\"\"))","v":"OK"},{"$f":"IF(N3=\"\",\"\",LEFT(F3,SEARCH(\" - \",F3)-1))","v":"Cardiff Met"},{"$f":"IF(O3=\"\",\"\",MID(F3,SEARCH(\" - \",F3)+3,100))","v":"Aberystwyth"},{"$f":"IFERROR(IF(P3=\"\",\"\",LEFT(J3,SEARCH(\":\",J3)-1)*1),IF(L3=\"\",\"\",LEFT(L3,SEARCH(\":\",L3)-1)*1))","v":0},{"$f":"IFERROR(IF(Q3=\"\",\"\",MID(J3,SEARCH(\":\",J3)+1,100)*1),IF(L3=\"\",\"\",MID(L3,SEARCH(\":\",L3)+1,100)*1))","v":0},{"$f":"IF(R3=\"\",\"\",U3-Q3)","v":1},{"$f":"IF(S3=\"\",\"\",V3-R3)","v":1},{"$f":"IF(N3=\"\",\"\",LEFT(I3,SEARCH(\":\",I3)-1)*1)","v":1},{"$f":"IF(U3=\"\",\"\",MID(I3,SEARCH(\":\",I3)+1,100)*1)","v":1},{"$f":"IF($O$2=O3,Q3,R3)","v":0},{"$f":"IF($O$2=P3,Q3,R3)","v":0},{"$f":"IF($O$2=O3,S3,T3)","v":1},{"$f":"IF($O$2=P3,S3,T3)","v":1},{"$f":"IF($O$2=O3,U3,V3)","v":1},{"$f":"IF($O$2=P3,U3,V3)","v":1},{"$f":"IF(W3=\"\",\"\",IF(W3>0,\"ok\",\"\"))","v":""},{"$f":"IF(X3=\"\",\"\",IF(X3>0,\"ok\",\"\"))","v":""},"ok","ok","ok","ok",{"$f":"IF(W3=\"\",AI2,AI2+1)","v":1},{"$f":"IF(W3=\"\",\"\",IF(W3>X3,\"W\",IF(W3=X3,\"D\",IF(W3<X3,\"l\",\"\"))))","v":"D"},{"$f":"IF(Y3=\"\",\"\",IF(Y3>Z3,\"W\",IF(Y3=Z3,\"D\",IF(Y3<Z3,\"l\",\"\"))))","v":"D"},{"$f":"IF(AA3=\"\",\"\",IF(AA3>AB3,\"W\",IF(AA3=AB3,\"D\",IF(AA3<AB3,\"l\",\"\"))))","v":"D"},{"$f":"IF(AL3=\"\",\"\",IF((W3+X3)>0.5,\"OK\",\"\"))","v":""},{"$f":"IF(AM3=\"\",\"\",IF((W3+X3)>1,\"OK\",\"\"))","v":""},{"$f":"IF(AL3=\"\",\"\",IF((Y3+Z3)>0.5,\"OK\",\"\"))","v":"OK"},{"$f":"IF(AL3=\"\",\"\",IF((Y3+Z3)>1,\"OK\",\"\"))","v":"OK"},{"$f":"IF(AL3=\"\",\"\",IF((AA3+AB3)>1,\"OK\",\"\"))","v":"OK"},{"$f":"IF(AL3=\"\",\"\",IF((AA3+AB3)>2,\"OK\",\"\"))","v":""},{"$f":"IF(AL3=\"\",\"\",IF((AA3+AB3)>3,\"OK\",\"\"))","v":""},{"$f":"IF(AL3=\"\",\"\",IF(AND(AJ3=\"W\",AK3=\"W\"),\"OK\",\"\"))","v":""},{"$f":"IF(AL3=\"\",\"\",IF(AND(AJ3=\"D\",AK3=\"D\"),\"OK\",\"\"))","v":"OK"},{"$f":"IF(AL3=\"\",\"\",IF(AND(AJ3=\"L\",AK3=\"L\"),\"OK\",\"\"))","v":""},{"$f":"COUNTIF($AJ:$AJ,AW2)","v":2},{"$f":"COUNTIF($AJ:$AJ,AX2)","v":3},3]
[{"$f":"A3+1","v":551},{"$f":"IF(C4=\"\",\"\",INDEX(downloadmatch!$A:$B,$A4,B$2))","v":"16.10.20 Aberystwyth - New Saints"},{"$f":"IF(C3=\"\",\"\",IF(INDEX(downloadmatch!$A:$B,$A4,C$2)=0,\"\",INDEX(downloadmatch!$A:$B,$A4,C$2)))","v":"D 2:2 (0:1)"},null,{"$f":"IF(B4=\"\",\"\",LEFT(B4,SEARCH(\" \",B4)-1))","v":"16.10.20"},{"$f":"IF(E4=\"\",\"\",MID(B4,SEARCH(\" \",B4)+1,100))","v":"Aberystwyth - New Saints"},{"$f":"IF(F4=\"\",\"\",LEFT(C4,SEARCH(\" \",C4)-1))","v":"D"},{"$f":"IF(G4=\"\",\"\",MID(C4,SEARCH(\" \",C4)+1,100))","v":"2:2 (0:1)"},{"$f":"IF(H4=\"\",\"\",IF(K4=\"\",LEFT(H4,SEARCH(\" \",H4)-1),K4))","v":"2:2"},{"$f":"IF(F4=\"\",\"\",SUBSTITUTE(SUBSTITUTE(MID(C4,SEARCH(\" \",H4)+3,100),\"(\",\"\"),\")\",\"\"))","v":"0:1"},"","",2020,{"$f":"IF(M4=\"\",\"\",IF(M4>=settodownload!$C$5,\"OK\",\"\"))","v":"OK"},{"$f":"IF(N4=\"\",\"\",LEFT(F4,SEARCH(\" - \",F4)-1))","v":"Aberystwyth"},{"$f":"IF(O4=\"\",\"\",MID(F4,SEARCH(\" - \",F4)+3,100))","v":"New Saints"},0,1,{"$f":"IF(R4=\"\",\"\",U4-Q4)","v":2},1,{"$f":"IF(N4=\"\",\"\",LEFT(I4,SEARCH(\":\",I4)-1)*1)","v":2},{"$f":"IF(U4=\"\",\"\",MID(I4,SEARCH(\":\",I4)+1,100)*1)","v":2},{"$f":"IF($O$2=O4,Q4,R4)","v":0},{"$f":"IF($O$2=P4,Q4,R4)","v":1},{"$f":"IF($O$2=O4,S4,T4)","v":2},{"$f":"IF($O$2=P4,S4,T4)","v":1},{"$f":"IF($O$2=O4,U4,V4)","v":2},{"$f":"IF($O$2=P4,U4,V4)","v":2},{"$f":"IF(W4=\"\",\"\",IF(W4>0,\"ok\",\"\"))","v":""},{"$f":"IF(X4=\"\",\"\",IF(X4>0,\"ok\",\"\"))","v":"ok"},{"$f":"IF(Y4=\"\",\"\",IF(Y4>0,\"ok\",\"\"))","v":"ok"},{"$f":"IF(Z4=\"\",\"\",IF(Z4>0,\"ok\",\"\"))","v":"ok"},{"$f":"IF(AA4=\"\",\"\",IF(AA4>0,\"ok\",\"\"))","v":"ok"},{"$f":"IF(AB4=\"\",\"\",IF(AB4>0,\"ok\",\"\"))","v":"ok"},{"$f":"IF(W4=\"\",AI3,AI3+1)","v":2},{"$f":"IF(W4=\"\",\"\",IF(W4>X4,\"W\",IF(W4=X4,\"D\",IF(W4<X4,\"l\",\"\"))))","v":"l"},{"$f":"IF(Y4=\"\",\"\",IF(Y4>Z4,\"W\",IF(Y4=Z4,\"D\",IF(Y4<Z4,\"l\",\"\"))))","v":"W"},{"$f":"IF(AA4=\"\",\"\",IF(AA4>AB4,\"W\",IF(AA4=AB4,\"D\",IF(AA4<AB4,\"l\",\"\"))))","v":"D"},{"$f":"IF(AL4=\"\",\"\",IF((W4+X4)>0.5,\"OK\",\"\"))","v":"OK"},{"$f":"IF(AM4=\"\",\"\",IF((W4+X4)>1,\"OK\",\"\"))","v":""},{"$f":"IF(AL4=\"\",\"\",IF((Y4+Z4)>0.5,\"OK\",\"\"))","v":"OK"},{"$f":"IF(AL4=\"\",\"\",IF((Y4+Z4)>1,\"OK\",\"\"))","v":"OK"},{"$f":"IF(AL4=\"\",\"\",IF((AA4+AB4)>1,\"OK\",\"\"))","v":"OK"},{"$f":"IF(AL4=\"\",\"\",IF((AA4+AB4)>2,\"OK\",\"\"))","v":"OK"},{"$f":"IF(AL4=\"\",\"\",IF((AA4+AB4)>3,\"OK\",\"\"))","v":"OK"},{"$f":"IF(AL4=\"\",\"\",IF(AND(AJ4=\"W\",AK4=\"W\"),\"OK\",\"\"))","v":""},{"$f":"IF(AL4=\"\",\"\",IF(AND(AJ4=\"D\",AK4=\"D\"),\"OK\",\"\"))","v":""},{"$f":"IF(AL4=\"\",\"\",IF(AND(AJ4=\"L\",AK4=\"L\"),\"OK\",\"\"))","v":""},{"$f":"AW3/$AI$99","v":0.25},{"$f":"AX3/$AI$99","v":0.375},0.375]
[{"$f":"A4+1","v":552},{"$f":"IF(C5=\"\",\"\",INDEX(downloadmatch!$A:$B,$A5,B$2))","v":"10.10.20 Bala Town - Aberystwyth"},{"$f":"IF(C4=\"\",\"\",IF(INDEX(downloadmatch!$A:$B,$A5,C$2)=0,\"\",INDEX(downloadmatch!$A:$B,$A5,C$2)))","v":"L 5:2 (2:1)"},null,"10.10.20","Bala Town - Aberystwyth","L","5:2 (2:1)","5:2","2:1","","",2020,{"$f":"IF(M5=\"\",\"\",IF(M5>=settodownload!$C$5,\"OK\",\"\"))","v":"OK"},"Bala Town","Aberystwyth",2,1,3,1,5,2,1,2,1,3,2,5,"ok","ok","ok","ok","ok","ok",3,"l","l","l","OK","OK","OK","OK","OK","OK","OK","","","OK"]
[553,{"$f":"IF(C6=\"\",\"\",INDEX(downloadmatch!$A:$B,$A6,B$2))","v":"06.10.20 Cefn Druids - Aberystwyth"},{"$f":"IF(C5=\"\",\"\",IF(INDEX(downloadmatch!$A:$B,$A6,C$2)=0,\"\",INDEX(downloadmatch!$A:$B,$A6,C$2)))","v":"W 0:4 (0:2)"},null,"06.10.20","Cefn Druids - Aberystwyth","W","0:4 (0:2)","0:4","0:2","","",2020,{"$f":"IF(M6=\"\",\"\",IF(M6>=settodownload!$C$5,\"OK\",\"\"))","v":"OK"},"Cefn Druids","Aberystwyth",0,2,0,2,0,4,2,0,2,0,4,0,"ok","","ok","","ok","",4,"W","W","W","OK","OK","OK","OK","OK","OK","OK","OK","",""]
[554,{"$f":"IF(C7=\"\",\"\",INDEX(downloadmatch!$A:$B,$A7,B$2))","v":"03.10.20 Aberystwyth - Barry Town"},{"$f":"IF(C6=\"\",\"\",IF(INDEX(downloadmatch!$A:$B,$A7,C$2)=0,\"\",INDEX(downloadmatch!$A:$B,$A7,C$2)))","v":"L 1:2 (0:0)"},null,"03.10.20","Aberystwyth - Barry Town","L","1:2 (0:0)","1:2","0:0","","",2020,{"$f":"IF(M7=\"\",\"\",IF(M7>=settodownload!$C$5,\"OK\",\"\"))","v":"OK"},"Aberystwyth","Barry Town",0,0,1,2,1,2,0,0,1,2,1,2,"","","ok","ok","ok","ok",5,"D","l","l","","","OK","OK","OK","OK","","","","",{"$f":"COUNTIF($AK:$AK,AW2)","v":3},{"$f":"COUNTIF($AK:$AK,AX2)","v":2},3]
[555,{"$f":"IF(C8=\"\",\"\",INDEX(downloadmatch!$A:$B,$A8,B$2))","v":"30.09.20 Connahs Quay - Aberystwyth"},{"$f":"IF(C7=\"\",\"\",IF(INDEX(downloadmatch!$A:$B,$A8,C$2)=0,\"\",INDEX(downloadmatch!$A:$B,$A8,C$2)))","v":"L 2:0 (2:0)"},null,"30.09.20","Connahs Quay - Aberystwyth","L","2:0 (2:0)","2:0","2:0","","",2020,{"$f":"IF(M8=\"\",\"\",IF(M8>=settodownload!$C$5,\"OK\",\"\"))","v":"OK"},"Connahs Quay","Aberystwyth",2,0,0,0,2,0,0,2,0,0,0,2,"","ok","","","","ok",6,"l","D","l","OK","OK","","","OK","","","","","",{"$f":"AW7/$AI$99","v":0.375},{"$f":"AX7/$AI$99","v":0.25},{"$f":"AY7/$AI$99","v":0.375}]
[556,{"$f":"IF(C9=\"\",\"\",INDEX(downloadmatch!$A:$B,$A9,B$2))","v":"25.09.20 Newtown - Aberystwyth"},{"$f":"IF(C8=\"\",\"\",IF(INDEX(downloadmatch!$A:$B,$A9,C$2)=0,\"\",INDEX(downloadmatch!$A:$B,$A9,C$2)))","v":"D 1:1 (0:1)"},null,"25.09.20","Newtown - Aberystwyth","D","1:1 (0:1)","1:1","0:1","","",2020,{"$f":"IF(M9=\"\",\"\",IF(M9>=settodownload!$C$5,\"OK\",\"\"))","v":"OK"},"Newtown","Aberystwyth",0,1,1,0,1,1,1,0,0,1,1,1,"ok","","","ok","ok","ok",7,"W","l","D","OK","","OK","","OK","","","","",""]
[557,{"$f":"IF(C10=\"\",\"\",INDEX(downloadmatch!$A:$B,$A10,B$2))","v":"18.09.20 Aberystwyth - Flint Town Utd"},{"$f":"IF(C9=\"\",\"\",IF(INDEX(downloadmatch!$A:$B,$A10,C$2)=0,\"\",INDEX(downloadmatch!$A:$B,$A10,C$2)))","v":"W 3:1 (1:1)"},null,"18.09.20","Aberystwyth - Flint Town Utd","W","3:1 (1:1)","3:1","1:1","","",2020,{"$f":"IF(M10=\"\",\"\",IF(M10>=settodownload!$C$5,\"OK\",\"\"))","v":"OK"},"Aberystwyth","Flint Town Utd",1,1,2,0,3,1,1,1,2,0,3,1,"ok","ok","ok","","ok","ok",8,"D","W","W","OK","OK","OK","OK","OK","OK","OK","","",""]
[558,{"$f":"IF(C11=\"\",\"\",INDEX(downloadmatch!$A:$B,$A11,B$2))","v":"10.07.14 Aberystwyth - Derry City"},{"$f":"IF(C10=\"\",\"\",IF(INDEX(downloadmatch!$A:$B,$A11,C$2)=0,\"\",INDEX(downloadmatch!$A:$B,$A11,C$2)))","v":"L 0:5 (0:2)"},null,"10.07.14","Aberystwyth - Derry City","L","0:5 (0:2)","0:5","0:2","","",2014,{"$f":"IF(M11=\"\",\"\",IF(M11>=settodownload!$C$5,\"OK\",\"\"))","v":""},"","","","","","","","","","","","","","","","","","","","",8,"","","","","","","","","","","","","",{"$f":"COUNTIF($AL:$AL,AW2)","v":2},{"$f":"COUNTIF($AL:$AL,AX2)","v":3},3]
[559,{"$f":"IF(C12=\"\",\"\",INDEX(downloadmatch!$A:$B,$A12,B$2))","v":"03.07.14 Derry City - Aberystwyth"},{"$f":"IF(C11=\"\",\"\",IF(INDEX(downloadmatch!$A:$B,$A12,C$2)=0,\"\",INDEX(downloadmatch!$A:$B,$A12,C$2)))","v":"L 4:0 (2:0)"},null,"03.07.14","Derry City - Aberystwyth","L","4:0 (2:0)","4:0","2:0","","",2014,{"$f":"IF(M12=\"\",\"\",IF(M12>=settodownload!$C$5,\"OK\",\"\"))","v":""},"","","","","","","","","","","","","","","","","","","","",8,"","","","","","","","","","","","","",{"$f":"AW11/$AI$99","v":0.25},{"$f":"AX11/$AI$99","v":0.375},{"$f":"AY11/$AI$99","v":0.375}]
[560,{"$f":"IF(C13=\"\",\"\",INDEX(downloadmatch!$A:$B,$A13,B$2))","v":""},{"$f":"IF(C12=\"\",\"\",IF(INDEX(downloadmatch!$A:$B,$A13,C$2)=0,\"\",INDEX(downloadmatch!$A:$B,$A13,C$2)))","v":""},null,"","","","","","","","","",{"$f":"IF(M13=\"\",\"\",IF(M13>=settodownload!$C$5,\"OK\",\"\"))","v":""},"","","","","","","","","","","","","","","","","","","","",8,"","","","","","","","","","","","",""]
[561,{"$f":"IF(C14=\"\",\"\",INDEX(downloadmatch!$A:$B,$A14,B$2))","v":""},{"$f":"IF(C13=\"\",\"\",IF(INDEX(downloadmatch!$A:$B,$A14,C$2)=0,\"\",INDEX(downloadmatch!$A:$B,$A14,C$2)))","v":""},null,"","","","","","","","","",{"$f":"IF(M14=\"\",\"\",IF(M14>=settodownload!$C$5,\"OK\",\"\"))","v":""},"","","","","","","","","","","","","","","","","","","","",8,"","","","","","","","","","","","",""]
[562,{"$f":"IF(C15=\"\",\"\",INDEX(downloadmatch!$A:$B,$A15,B$2))","v":""},{"$f":"IF(C14=\"\",\"\",IF(INDEX(downloadmatch!$A:$B,$A15,C$2)=0,\"\",INDEX(downloadmatch!$A:$B,$A15,C$2)))","v":""},null,"","","","","","","","","",{"$f":"IF(M15=\"\",\"\",IF(M15>=settodownload!$C$5,\"OK\",\"\"))","v":""},"","","","","","","","","","","","","","","","","","","","",8,"","","","","","","","","","","","",""]
[563,{"$f":"IF(C16=\"\",\"\",INDEX(downloadmatch!$A:$B,$A16,B$2))","v":""},{"$f":"IF(C15=\"\",\"\",IF(INDEX(downloadmatch!$A:$B,$A16,C$2)=0,\"\",INDEX(downloadmatch!$A:$B,$A16,C$2)))","v":""},null,"","","","","","","","","",{"$f":"IF(M16=\"\",\"\",IF(M16>=settodownload!$C$5,\"OK\",\"\"))","v":""},"","","","","","","","","","","","","","","","","","","","",8,"","","","","","","","","","","","",""]
[564,{"$f":"IF(C17=\"\",\"\",INDEX(downloadmatch!$A:$B,$A17,B$2))","v":""},{"$f":"IF(C16=\"\",\"\",IF(INDEX(downloadmatch!$A:$B,$A17,C$2)=0,\"\",INDEX(downloadmatch!$A:$B,$A17,C$2)))","v":""},null,"","","","","","","","","",{"$f":"IF(M17=\"\",\"\",IF(M17>=settodownload!$C$5,\"OK\",\"\"))","v":""},"","","","","","","","","","","","","","","","","","","","",8,"","","","","","","","","","","","",""]
[{"$f":"A17+1","v":565},{"$f":"IF(C18=\"\",\"\",INDEX(downloadmatch!$A:$B,$A18,B$2))","v":""},{"$f":"IF(C17=\"\",\"\",IF(INDEX(downloadmatch!$A:$B,$A18,C$2)=0,\"\",INDEX(downloadmatch!$A:$B,$A18,C$2)))","v":""},null,"","","","","","","","","",{"$f":"IF(M18=\"\",\"\",IF(M18>=settodownload!$C$5,\"OK\",\"\"))","v":""},"","","","","","","","","","","","","","","","","","","","",8,{"$f":"IF(W18=\"\",\"\",IF(W18>X18,\"W\",IF(W18=X18,\"D\",IF(W18<X18,\"l\",\"\"))))","v":""},{"$f":"IF(Y18=\"\",\"\",IF(Y18>Z18,\"W\",IF(Y18=Z18,\"D\",IF(Y18<Z18,\"l\",\"\"))))","v":""},{"$f":"IF(AA18=\"\",\"\",IF(AA18>AB18,\"W\",IF(AA18=AB18,\"D\",IF(AA18<AB18,\"l\",\"\"))))","v":""},"","","","","","","","","",""]
[566,{"$f":"IF(C19=\"\",\"\",INDEX(downloadmatch!$A:$B,$A19,B$2))","v":""},{"$f":"IF(C18=\"\",\"\",IF(INDEX(downloadmatch!$A:$B,$A19,C$2)=0,\"\",INDEX(downloadmatch!$A:$B,$A19,C$2)))","v":""},null,"","","","","","","","","",{"$f":"IF(M19=\"\",\"\",IF(M19>=settodownload!$C$5,\"OK\",\"\"))","v":""},"","","","","","","","","","","","","","","","","","","","",8,"","","","","","","","","","","","",""]
[567,{"$f":"IF(C20=\"\",\"\",INDEX(downloadmatch!$A:$B,$A20,B$2))","v":""},{"$f":"IF(C19=\"\",\"\",IF(INDEX(downloadmatch!$A:$B,$A20,C$2)=0,\"\",INDEX(downloadmatch!$A:$B,$A20,C$2)))","v":""},null,"","","","","","","","","",{"$f":"IF(M20=\"\",\"\",IF(M20>=settodownload!$C$5,\"OK\",\"\"))","v":""},"","","","",{"$f":"IF(R20=\"\",\"\",U20-Q20)","v":""},"","","","","","","","","","","","","","","",8,"","","","","","","","","","","","",""]
[568,{"$f":"IF(C21=\"\",\"\",INDEX(downloadmatch!$A:$B,$A21,B$2))","v":""},{"$f":"IF(C20=\"\",\"\",IF(INDEX(downloadmatch!$A:$B,$A21,C$2)=0,\"\",INDEX(downloadmatch!$A:$B,$A21,C$2)))","v":""},null,"","","","","","","","","",{"$f":"IF(M21=\"\",\"\",IF(M21>=settodownload!$C$5,\"OK\",\"\"))","v":""},"","","","","","","","","","","","","","","","","","","","",8,"","","","","","","","","","","","",""]
[569,{"$f":"IF(C22=\"\",\"\",INDEX(downloadmatch!$A:$B,$A22,B$2))","v":""},{"$f":"IF(C21=\"\",\"\",IF(INDEX(downloadmatch!$A:$B,$A22,C$2)=0,\"\",INDEX(downloadmatch!$A:$B,$A22,C$2)))","v":""},null,"","","","","","","","","",{"$f":"IF(M22=\"\",\"\",IF(M22>=settodownload!$C$5,\"OK\",\"\"))","v":""},"","","","","","","","","","","","","","","","","","","","",8,"","","","","","","","","","","","",""]
[570,{"$f":"IF(C23=\"\",\"\",INDEX(downloadmatch!$A:$B,$A23,B$2))","v":""},{"$f":"IF(C22=\"\",\"\",IF(INDEX(downloadmatch!$A:$B,$A23,C$2)=0,\"\",INDEX(downloadmatch!$A:$B,$A23,C$2)))","v":""},null,"","","","","","","","","",{"$f":"IF(M23=\"\",\"\",IF(M23>=settodownload!$C$5,\"OK\",\"\"))","v":""},"","","","","","","","","","","","","","","","","","","","",8,"","","","","","","","","","","","",""]
[571,{"$f":"IF(C24=\"\",\"\",INDEX(downloadmatch!$A:$B,$A24,B$2))","v":""},{"$f":"IF(C23=\"\",\"\",IF(INDEX(downloadmatch!$A:$B,$A24,C$2)=0,\"\",INDEX(downloadmatch!$A:$B,$A24,C$2)))","v":""},null,"","","","","","","","","",{"$f":"IF(M24=\"\",\"\",IF(M24>=settodownload!$C$5,\"OK\",\"\"))","v":""},"","","","","","","","","","","","","","","","","","","","",8,"","","","","","","","","","","","",""]
[572,{"$f":"IF(C25=\"\",\"\",INDEX(downloadmatch!$A:$B,$A25,B$2))","v":""},{"$f":"IF(C24=\"\",\"\",IF(INDEX(downloadmatch!$A:$B,$A25,C$2)=0,\"\",INDEX(downloadmatch!$A:$B,$A25,C$2)))","v":""},null,"","","","","",{"$f":"IF(F25=\"\",\"\",SUBSTITUTE(SUBSTITUTE(MID(C25,SEARCH(\" \",H25)+3,100),\"(\",\"\"),\")\",\"\"))","v":""},{"$f":"IFERROR(MID(J25,SEARCH(\"AET\",J25)+4,100),\"\")","v":""},{"$f":"IFERROR(LEFT(J25,SEARCH(\"AET\",J25)-2),\"\")","v":""},"",{"$f":"IF(M25=\"\",\"\",IF(M25>=settodownload!$C$5,\"OK\",\"\"))","v":""},"","","","","","","","","","","","","","","","","","","","",8,"","","","","","","","","","","","",""]
[573,{"$f":"IF(C26=\"\",\"\",INDEX(downloadmatch!$A:$B,$A26,B$2))","v":""},{"$f":"IF(C25=\"\",\"\",IF(INDEX(downloadmatch!$A:$B,$A26,C$2)=0,\"\",INDEX(downloadmatch!$A:$B,$A26,C$2)))","v":""},null,"","","","","","",{"$f":"IFERROR(MID(J26,SEARCH(\"AET\",J26)+4,100),\"\")","v":""},{"$f":"IFERROR(LEFT(J26,SEARCH(\"AET\",J26)-2),\"\")","v":""},"",{"$f":"IF(M26=\"\",\"\",IF(M26>=settodownload!$C$5,\"OK\",\"\"))","v":""},"","","","","","","","","","","","","","","","","","","","",8,"","","","","","","","","","","","",""]
[574,{"$f":"IF(C27=\"\",\"\",INDEX(downloadmatch!$A:$B,$A27,B$2))","v":""},{"$f":"IF(C26=\"\",\"\",IF(INDEX(downloadmatch!$A:$B,$A27,C$2)=0,\"\",INDEX(downloadmatch!$A:$B,$A27,C$2)))","v":""},null,"","","","","","","","","",{"$f":"IF(M27=\"\",\"\",IF(M27>=settodownload!$C$5,\"OK\",\"\"))","v":""},"","","","","","","","","","","","","","","","","","","","",8,"","","","","","","","","","","","",""]
[{"$f":"A27+1","v":575},{"$f":"IF(C28=\"\",\"\",INDEX(downloadmatch!$A:$B,$A28,B$2))","v":""},{"$f":"IF(C27=\"\",\"\",IF(INDEX(downloadmatch!$A:$B,$A28,C$2)=0,\"\",INDEX(downloadmatch!$A:$B,$A28,C$2)))","v":""},null,"","","","","","","","","",{"$f":"IF(M28=\"\",\"\",IF(M28>=settodownload!$C$5,\"OK\",\"\"))","v":""},"","","","","","","","","","","","","","","","","","","","",8,"","","","","","","","","","","","",""]
[576,{"$f":"IF(C29=\"\",\"\",INDEX(downloadmatch!$A:$B,$A29,B$2))","v":""},{"$f":"IF(C28=\"\",\"\",IF(INDEX(downloadmatch!$A:$B,$A29,C$2)=0,\"\",INDEX(downloadmatch!$A:$B,$A29,C$2)))","v":""},null,"","","","","","","","","",{"$f":"IF(M29=\"\",\"\",IF(M29>=settodownload!$C$5,\"OK\",\"\"))","v":""},"","","","","","","","","","","","","","","","","","","","",8,"","","","","","","","","","","","",""]
[577,{"$f":"IF(C30=\"\",\"\",INDEX(downloadmatch!$A:$B,$A30,B$2))","v":""},{"$f":"IF(C29=\"\",\"\",IF(INDEX(downloadmatch!$A:$B,$A30,C$2)=0,\"\",INDEX(downloadmatch!$A:$B,$A30,C$2)))","v":""},null,"","","","","","","","","",{"$f":"IF(M30=\"\",\"\",IF(M30>=settodownload!$C$5,\"OK\",\"\"))","v":""},"","","","","","","","","","","","","","","","","","","","",8,"","","","","","","","","","","","",""]
[578,{"$f":"IF(C31=\"\",\"\",INDEX(downloadmatch!$A:$B,$A31,B$2))","v":""},{"$f":"IF(C30=\"\",\"\",IF(INDEX(downloadmatch!$A:$B,$A31,C$2)=0,\"\",INDEX(downloadmatch!$A:$B,$A31,C$2)))","v":""},null,"","","","","","","","","",{"$f":"IF(M31=\"\",\"\",IF(M31>=settodownload!$C$5,\"OK\",\"\"))","v":""},"","","","","","","","","","","","","","","","","","","","",8,"","","","","","","","","","","","",""]
[579,{"$f":"IF(C32=\"\",\"\",INDEX(downloadmatch!$A:$B,$A32,B$2))","v":""},{"$f":"IF(C31=\"\",\"\",IF(INDEX(downloadmatch!$A:$B,$A32,C$2)=0,\"\",INDEX(downloadmatch!$A:$B,$A32,C$2)))","v":""},null,"","","","","","","","","",{"$f":"IF(M32=\"\",\"\",IF(M32>=settodownload!$C$5,\"OK\",\"\"))","v":""},"","","","","","","","","","","","","","","","","","","","",8,"","","","","","","","","","","","",""]
[580,{"$f":"IF(C33=\"\",\"\",INDEX(downloadmatch!$A:$B,$A33,B$2))","v":""},{"$f":"IF(C32=\"\",\"\",IF(INDEX(downloadmatch!$A:$B,$A33,C$2)=0,\"\",INDEX(downloadmatch!$A:$B,$A33,C$2)))","v":""},null,"","","","","","","","","",{"$f":"IF(M33=\"\",\"\",IF(M33>=settodownload!$C$5,\"OK\",\"\"))","v":""},"","","","","","","","","","","","","","","","","","","","",8,"","","","","","","","","","","","",""]
[581,{"$f":"IF(C34=\"\",\"\",INDEX(downloadmatch!$A:$B,$A34,B$2))","v":""},{"$f":"IF(C33=\"\",\"\",IF(INDEX(downloadmatch!$A:$B,$A34,C$2)=0,\"\",INDEX(downloadmatch!$A:$B,$A34,C$2)))","v":""},null,"","","","","","","","","",{"$f":"IF(M34=\"\",\"\",IF(M34>=settodownload!$C$5,\"OK\",\"\"))","v":""},"","","","","","","","","","","","","","","","","","","","",8,"","","","","","","","","","","","",""]
[582,{"$f":"IF(C35=\"\",\"\",INDEX(downloadmatch!$A:$B,$A35,B$2))","v":""},{"$f":"IF(C34=\"\",\"\",IF(INDEX(downloadmatch!$A:$B,$A35,C$2)=0,\"\",INDEX(downloadmatch!$A:$B,$A35,C$2)))","v":""},null,"","","","","","","","","",{"$f":"IF(M35=\"\",\"\",IF(M35>=settodownload!$C$5,\"OK\",\"\"))","v":""},"","","","","","","","","","","","","","","","","","","","",8,"","","","","","","","","","","","",""]
[583,{"$f":"IF(C36=\"\",\"\",INDEX(downloadmatch!$A:$B,$A36,B$2))","v":""},{"$f":"IF(C35=\"\",\"\",IF(INDEX(downloadmatch!$A:$B,$A36,C$2)=0,\"\",INDEX(downloadmatch!$A:$B,$A36,C$2)))","v":""},null,"","","","","","","","","",{"$f":"IF(M36=\"\",\"\",IF(M36>=settodownload!$C$5,\"OK\",\"\"))","v":""},"","","","",{"$f":"IF(R36=\"\",\"\",U36-Q36)","v":""},"","","","","","","","","","","","","","","",8,"","","","","","","","","","","","",""]
[584,{"$f":"IF(C37=\"\",\"\",INDEX(downloadmatch!$A:$B,$A37,B$2))","v":""},{"$f":"IF(C36=\"\",\"\",IF(INDEX(downloadmatch!$A:$B,$A37,C$2)=0,\"\",INDEX(downloadmatch!$A:$B,$A37,C$2)))","v":""},null,"","","","","","","","","",{"$f":"IF(M37=\"\",\"\",IF(M37>=settodownload!$C$5,\"OK\",\"\"))","v":""},"","","","","","","","","","","","","","","","","","","","",8,"","","","","","","","","","","","",""]
[585,{"$f":"IF(C38=\"\",\"\",INDEX(downloadmatch!$A:$B,$A38,B$2))","v":""},{"$f":"IF(C37=\"\",\"\",IF(INDEX(downloadmatch!$A:$B,$A38,C$2)=0,\"\",INDEX(downloadmatch!$A:$B,$A38,C$2)))","v":""},null,"","","","","","","","","",{"$f":"IF(M38=\"\",\"\",IF(M38>=settodownload!$C$5,\"OK\",\"\"))","v":""},"","","","","","","","","","","","","","","","","","","","",8,"","","","","","","","","","","","",""]
[586,{"$f":"IF(C39=\"\",\"\",INDEX(downloadmatch!$A:$B,$A39,B$2))","v":""},{"$f":"IF(C38=\"\",\"\",IF(INDEX(downloadmatch!$A:$B,$A39,C$2)=0,\"\",INDEX(downloadmatch!$A:$B,$A39,C$2)))","v":""},null,"","","","","","","","","",{"$f":"IF(M39=\"\",\"\",IF(M39>=settodownload!$C$5,\"OK\",\"\"))","v":""},"","","","","","","","","","","","","","","","","","","","",8,"","","","","","","","","","","","",""]
[{"$f":"A39+1","v":587},{"$f":"IF(C40=\"\",\"\",INDEX(downloadmatch!$A:$B,$A40,B$2))","v":""},{"$f":"IF(C39=\"\",\"\",IF(INDEX(downloadmatch!$A:$B,$A40,C$2)=0,\"\",INDEX(downloadmatch!$A:$B,$A40,C$2)))","v":""},null,"","","","","","","","","",{"$f":"IF(M40=\"\",\"\",IF(M40>=settodownload!$C$5,\"OK\",\"\"))","v":""},"","","","","","","","","","","","","","","","","","","","",8,"","","","","","","","","","","","",""]
[588,{"$f":"IF(C41=\"\",\"\",INDEX(downloadmatch!$A:$B,$A41,B$2))","v":""},{"$f":"IF(C40=\"\",\"\",IF(INDEX(downloadmatch!$A:$B,$A41,C$2)=0,\"\",INDEX(downloadmatch!$A:$B,$A41,C$2)))","v":""},null,"","","","","","","","","",{"$f":"IF(M41=\"\",\"\",IF(M41>=settodownload!$C$5,\"OK\",\"\"))","v":""},"","","","","","","","","","","","","","","","","","","","",8,"","","","","","","","","","","","",""]
[589,{"$f":"IF(C42=\"\",\"\",INDEX(downloadmatch!$A:$B,$A42,B$2))","v":""},{"$f":"IF(C41=\"\",\"\",IF(INDEX(downloadmatch!$A:$B,$A42,C$2)=0,\"\",INDEX(downloadmatch!$A:$B,$A42,C$2)))","v":""},null,"","","","","","","","","",{"$f":"IF(M42=\"\",\"\",IF(M42>=settodownload!$C$5,\"OK\",\"\"))","v":""},"","","","","","","","","","","","","","","","","","","","",8,"","","","","","","","","","","","",""]
[590,{"$f":"IF(C43=\"\",\"\",INDEX(downloadmatch!$A:$B,$A43,B$2))","v":""},{"$f":"IF(C42=\"\",\"\",IF(INDEX(downloadmatch!$A:$B,$A43,C$2)=0,\"\",INDEX(downloadmatch!$A:$B,$A43,C$2)))","v":""},null,"","","","","","","","","",{"$f":"IF(M43=\"\",\"\",IF(M43>=settodownload!$C$5,\"OK\",\"\"))","v":""},"","","","","","","","","","","","","","","","","","","","",8,"","","","","","","","","","","","",""]
[591,{"$f":"IF(C44=\"\",\"\",INDEX(downloadmatch!$A:$B,$A44,B$2))","v":""},{"$f":"IF(C43=\"\",\"\",IF(INDEX(downloadmatch!$A:$B,$A44,C$2)=0,\"\",INDEX(downloadmatch!$A:$B,$A44,C$2)))","v":""},null,"","","","","","","","","",{"$f":"IF(M44=\"\",\"\",IF(M44>=settodownload!$C$5,\"OK\",\"\"))","v":""},"","","","","","","","","","","","","","","","","","","","",8,"","","","","","","","","","","","",""]
[592,{"$f":"IF(C45=\"\",\"\",INDEX(downloadmatch!$A:$B,$A45,B$2))","v":""},{"$f":"IF(C44=\"\",\"\",IF(INDEX(downloadmatch!$A:$B,$A45,C$2)=0,\"\",INDEX(downloadmatch!$A:$B,$A45,C$2)))","v":""},null,null,null,null,null,"","","","","",{"$f":"IF(M45=\"\",\"\",IF(M45>=settodownload!$C$5,\"OK\",\"\"))","v":""},"","","","","","","","","","","","","","","","","","","","",8,"","","","","","","","","","","","",""]
[593,{"$f":"IF(C46=\"\",\"\",INDEX(downloadmatch!$A:$B,$A46,B$2))","v":""},{"$f":"IF(C45=\"\",\"\",IF(INDEX(downloadmatch!$A:$B,$A46,C$2)=0,\"\",INDEX(downloadmatch!$A:$B,$A46,C$2)))","v":""},null,null,null,null,null,"","","","","",{"$f":"IF(M46=\"\",\"\",IF(M46>=settodownload!$C$5,\"OK\",\"\"))","v":""},"","","","","","","","","","","","","","","","","","","","",8,"","","","","","","","","","","","",""]
[594,{"$f":"IF(C47=\"\",\"\",INDEX(downloadmatch!$A:$B,$A47,B$2))","v":""},{"$f":"IF(C46=\"\",\"\",IF(INDEX(downloadmatch!$A:$B,$A47,C$2)=0,\"\",INDEX(downloadmatch!$A:$B,$A47,C$2)))","v":""},null,null,null,null,null,"","","","","",{"$f":"IF(M47=\"\",\"\",IF(M47>=settodownload!$C$5,\"OK\",\"\"))","v":""},"","","","","","","","","","","","","","","","","","","","",8,"","","","","","","","","","","","",""]
[595,{"$f":"IF(C48=\"\",\"\",INDEX(downloadmatch!$A:$B,$A48,B$2))","v":""},{"$f":"IF(C47=\"\",\"\",IF(INDEX(downloadmatch!$A:$B,$A48,C$2)=0,\"\",INDEX(downloadmatch!$A:$B,$A48,C$2)))","v":""},null,null,null,null,null,"","","","","",{"$f":"IF(M48=\"\",\"\",IF(M48>=settodownload!$C$5,\"OK\",\"\"))","v":""},"","","","","","","","","","","","","","","","","","","","",8,"","","","","","","","","","","","",""]
[596,{"$f":"IF(C49=\"\",\"\",INDEX(downloadmatch!$A:$B,$A49,B$2))","v":""},{"$f":"IF(C48=\"\",\"\",IF(INDEX(downloadmatch!$A:$B,$A49,C$2)=0,\"\",INDEX(downloadmatch!$A:$B,$A49,C$2)))","v":""},null,null,null,null,null,"","","","","",{"$f":"IF(M49=\"\",\"\",IF(M49>=settodownload!$C$5,\"OK\",\"\"))","v":""},"","","","","","","","","","","","","","","","","","","","",8,"","","","","","","","","","","","",""]
[597,{"$f":"IF(C50=\"\",\"\",INDEX(downloadmatch!$A:$B,$A50,B$2))","v":""},{"$f":"IF(C49=\"\",\"\",IF(INDEX(downloadmatch!$A:$B,$A50,C$2)=0,\"\",INDEX(downloadmatch!$A:$B,$A50,C$2)))","v":""},null,null,null,null,null,"","","","","",{"$f":"IF(M50=\"\",\"\",IF(M50>=settodownload!$C$5,\"OK\",\"\"))","v":""},"","","","","","","","","","","","","","","","","","","","",8,"","","","","","","","","","","","",""]
[598,{"$f":"IF(C51=\"\",\"\",INDEX(downloadmatch!$A:$B,$A51,B$2))","v":""},{"$f":"IF(C50=\"\",\"\",IF(INDEX(downloadmatch!$A:$B,$A51,C$2)=0,\"\",INDEX(downloadmatch!$A:$B,$A51,C$2)))","v":""},null,null,null,null,null,"","","","","",{"$f":"IF(M51=\"\",\"\",IF(M51>=settodownload!$C$5,\"OK\",\"\"))","v":""},"","","","","","","","","","","","","","","","","","","","",8,"","","","","","","","","","","","",""]
[599,{"$f":"IF(C52=\"\",\"\",INDEX(downloadmatch!$A:$B,$A52,B$2))","v":""},{"$f":"IF(C51=\"\",\"\",IF(INDEX(downloadmatch!$A:$B,$A52,C$2)=0,\"\",INDEX(downloadmatch!$A:$B,$A52,C$2)))","v":""},null,null,null,null,null,"","","","","",{"$f":"IF(M52=\"\",\"\",IF(M52>=settodownload!$C$5,\"OK\",\"\"))","v":""},"","","","",{"$f":"IF(R52=\"\",\"\",U52-Q52)","v":""},"","","","","","","","","","","","","","","",8,"","","","","","","","","","","","",""]
[600,{"$f":"IF(C53=\"\",\"\",INDEX(downloadmatch!$A:$B,$A53,B$2))","v":""},{"$f":"IF(C52=\"\",\"\",IF(INDEX(downloadmatch!$A:$B,$A53,C$2)=0,\"\",INDEX(downloadmatch!$A:$B,$A53,C$2)))","v":""},null,null,null,null,null,"","","","","",{"$f":"IF(M53=\"\",\"\",IF(M53>=settodownload!$C$5,\"OK\",\"\"))","v":""},"","","","","","","","","","","","","","","","","","","","",8,"","","","","","","","","","","","",""]
[601,{"$f":"IF(C54=\"\",\"\",INDEX(downloadmatch!$A:$B,$A54,B$2))","v":""},{"$f":"IF(C53=\"\",\"\",IF(INDEX(downloadmatch!$A:$B,$A54,C$2)=0,\"\",INDEX(downloadmatch!$A:$B,$A54,C$2)))","v":""},null,null,null,null,null,"","","","","",{"$f":"IF(M54=\"\",\"\",IF(M54>=settodownload!$C$5,\"OK\",\"\"))","v":""},"","","","","","","","","","","","","","","","","","","","",8,"","","","","","","","","","","","",""]
[602,{"$f":"IF(C55=\"\",\"\",INDEX(downloadmatch!$A:$B,$A55,B$2))","v":""},{"$f":"IF(C54=\"\",\"\",IF(INDEX(downloadmatch!$A:$B,$A55,C$2)=0,\"\",INDEX(downloadmatch!$A:$B,$A55,C$2)))","v":""},null,null,null,null,null,"","","","","",{"$f":"IF(M55=\"\",\"\",IF(M55>=settodownload!$C$5,\"OK\",\"\"))","v":""},"","","","","","","","","","","","","","","","","","","","",8,"","","","","","","","","","","","",""]
[603,{"$f":"IF(C56=\"\",\"\",INDEX(downloadmatch!$A:$B,$A56,B$2))","v":""},{"$f":"IF(C55=\"\",\"\",IF(INDEX(downloadmatch!$A:$B,$A56,C$2)=0,\"\",INDEX(downloadmatch!$A:$B,$A56,C$2)))","v":""},null,null,null,null,null,"","","","","",{"$f":"IF(M56=\"\",\"\",IF(M56>=settodownload!$C$5,\"OK\",\"\"))","v":""},"","","","","","","","","","","","","","","","","","","","",8,"","","","","","","","","","","","",""]
[604,{"$f":"IF(C57=\"\",\"\",INDEX(downloadmatch!$A:$B,$A57,B$2))","v":""},{"$f":"IF(C56=\"\",\"\",IF(INDEX(downloadmatch!$A:$B,$A57,C$2)=0,\"\",INDEX(downloadmatch!$A:$B,$A57,C$2)))","v":""},null,null,null,null,null,"","","","","",{"$f":"IF(M57=\"\",\"\",IF(M57>=settodownload!$C$5,\"OK\",\"\"))","v":""},"","","","","","","","","","","","","","","","","","","","",8,"","","","","","","","","","","","",""]
[605,{"$f":"IF(C58=\"\",\"\",INDEX(downloadmatch!$A:$B,$A58,B$2))","v":""},{"$f":"IF(C57=\"\",\"\",IF(INDEX(downloadmatch!$A:$B,$A58,C$2)=0,\"\",INDEX(downloadmatch!$A:$B,$A58,C$2)))","v":""},null,null,null,null,null,"","","","","",{"$f":"IF(M58=\"\",\"\",IF(M58>=settodownload!$C$5,\"OK\",\"\"))","v":""},"","","","","","","","","","","","","","","","","","","","",8,"","","","","","","","","","","","",""]
[606,{"$f":"IF(C59=\"\",\"\",INDEX(downloadmatch!$A:$B,$A59,B$2))","v":""},{"$f":"IF(C58=\"\",\"\",IF(INDEX(downloadmatch!$A:$B,$A59,C$2)=0,\"\",INDEX(downloadmatch!$A:$B,$A59,C$2)))","v":""},null,null,null,null,null,"","","","","",{"$f":"IF(M59=\"\",\"\",IF(M59>=settodownload!$C$5,\"OK\",\"\"))","v":""},"","","","","","","","","","","","","","","","","","","","",8,"","","","","","","","","","","","",""]
[607,{"$f":"IF(C60=\"\",\"\",INDEX(downloadmatch!$A:$B,$A60,B$2))","v":""},{"$f":"IF(C59=\"\",\"\",IF(INDEX(downloadmatch!$A:$B,$A60,C$2)=0,\"\",INDEX(downloadmatch!$A:$B,$A60,C$2)))","v":""},null,null,null,null,null,"","","","","",{"$f":"IF(M60=\"\",\"\",IF(M60>=settodownload!$C$5,\"OK\",\"\"))","v":""},"","","","","","","","","","","","","","","","","","","","",8,"","","","","","","","","","","","",""]
[608,{"$f":"IF(C61=\"\",\"\",INDEX(downloadmatch!$A:$B,$A61,B$2))","v":""},{"$f":"IF(C60=\"\",\"\",IF(INDEX(downloadmatch!$A:$B,$A61,C$2)=0,\"\",INDEX(downloadmatch!$A:$B,$A61,C$2)))","v":""},null,null,null,null,null,"","","","","",{"$f":"IF(M61=\"\",\"\",IF(M61>=settodownload!$C$5,\"OK\",\"\"))","v":""},"","","","","","","","","","","","","","","","","","","","",8,"","","","","","","","","","","","",""]
[609,{"$f":"IF(C62=\"\",\"\",INDEX(downloadmatch!$A:$B,$A62,B$2))","v":""},{"$f":"IF(C61=\"\",\"\",IF(INDEX(downloadmatch!$A:$B,$A62,C$2)=0,\"\",INDEX(downloadmatch!$A:$B,$A62,C$2)))","v":""},null,null,null,null,null,"","","","","",{"$f":"IF(M62=\"\",\"\",IF(M62>=settodownload!$C$5,\"OK\",\"\"))","v":""},"","","","","","","","","","","","","","","","","","","","",8,"","","","","","","","","","","","",""]
[610,{"$f":"IF(C63=\"\",\"\",INDEX(downloadmatch!$A:$B,$A63,B$2))","v":""},{"$f":"IF(C62=\"\",\"\",IF(INDEX(downloadmatch!$A:$B,$A63,C$2)=0,\"\",INDEX(downloadmatch!$A:$B,$A63,C$2)))","v":""},null,null,null,null,null,"","","","","",{"$f":"IF(M63=\"\",\"\",IF(M63>=settodownload!$C$5,\"OK\",\"\"))","v":""},"","","","","","","","","","","","","","","","","","","","",8,"","","","","","","","","","","","",""]
[611,{"$f":"IF(C64=\"\",\"\",INDEX(downloadmatch!$A:$B,$A64,B$2))","v":""},{"$f":"IF(C63=\"\",\"\",IF(INDEX(downloadmatch!$A:$B,$A64,C$2)=0,\"\",INDEX(downloadmatch!$A:$B,$A64,C$2)))","v":""},null,null,null,null,null,"","","","","",{"$f":"IF(M64=\"\",\"\",IF(M64>=settodownload!$C$5,\"OK\",\"\"))","v":""},"","","","","","","","","","","","","","","","","","","","",8,"","","","","","","","","","","","",""]
[612,{"$f":"IF(C65=\"\",\"\",INDEX(downloadmatch!$A:$B,$A65,B$2))","v":""},{"$f":"IF(C64=\"\",\"\",IF(INDEX(downloadmatch!$A:$B,$A65,C$2)=0,\"\",INDEX(downloadmatch!$A:$B,$A65,C$2)))","v":""},null,null,null,null,null,"","","","","",{"$f":"IF(M65=\"\",\"\",IF(M65>=settodownload!$C$5,\"OK\",\"\"))","v":""},"","","","","","","","","","","","","","","","","","","","",8,"","","","","","","","","","","","",""]
[613,{"$f":"IF(C66=\"\",\"\",INDEX(downloadmatch!$A:$B,$A66,B$2))","v":""},{"$f":"IF(C65=\"\",\"\",IF(INDEX(downloadmatch!$A:$B,$A66,C$2)=0,\"\",INDEX(downloadmatch!$A:$B,$A66,C$2)))","v":""},null,null,null,null,null,"","","","","",{"$f":"IF(M66=\"\",\"\",IF(M66>=settodownload!$C$5,\"OK\",\"\"))","v":""},"","","","","","","","","","","","","","","","","","","","",8,"","","","","","","","","","","","",""]
[614,{"$f":"IF(C67=\"\",\"\",INDEX(downloadmatch!$A:$B,$A67,B$2))","v":""},{"$f":"IF(C66=\"\",\"\",IF(INDEX(downloadmatch!$A:$B,$A67,C$2)=0,\"\",INDEX(downloadmatch!$A:$B,$A67,C$2)))","v":""},null,null,null,null,null,"","","","",{"$f":"IF(F67=\"\",\"\",fmt(E67,\"YYYY\")*1)","v":""},{"$f":"IF(M67=\"\",\"\",IF(M67>=settodownload!$C$5,\"OK\",\"\"))","v":""},"","",{"$f":"IFERROR(IF(P67=\"\",\"\",LEFT(J67,SEARCH(\":\",J67)-1)*1),IF(L67=\"\",\"\",LEFT(L67,SEARCH(\":\",L67)-1)*1))","v":""},{"$f":"IFERROR(IF(Q67=\"\",\"\",MID(J67,SEARCH(\":\",J67)+1,100)*1),IF(L67=\"\",\"\",MID(L67,SEARCH(\":\",L67)+1,100)*1))","v":""},"","","","","","","","","","","","","","","","",8,"","","","","","","","","","","","",""]
[615,{"$f":"IF(C68=\"\",\"\",INDEX(downloadmatch!$A:$B,$A68,B$2))","v":""},{"$f":"IF(C67=\"\",\"\",IF(INDEX(downloadmatch!$A:$B,$A68,C$2)=0,\"\",INDEX(downloadmatch!$A:$B,$A68,C$2)))","v":""},null,null,null,null,null,{"$f":"IF(H68=\"\",\"\",IF(K68=\"\",LEFT(H68,SEARCH(\" \",H68)-1),K68))","v":""},{"$f":"IF(F68=\"\",\"\",SUBSTITUTE(SUBSTITUTE(MID(C68,SEARCH(\" \",H68)+3,100),\"(\",\"\"),\")\",\"\"))","v":""},"","","",{"$f":"IF(M68=\"\",\"\",IF(M68>=settodownload!$C$5,\"OK\",\"\"))","v":""},{"$f":"IF(N68=\"\",\"\",LEFT(F68,SEARCH(\" - \",F68)-1))","v":""},{"$f":"IF(O68=\"\",\"\",MID(F68,SEARCH(\" - \",F68)+3,100))","v":""},"","",{"$f":"IF(R68=\"\",\"\",U68-Q68)","v":""},"",{"$f":"IF(N68=\"\",\"\",LEFT(I68,SEARCH(\":\",I68)-1)*1)","v":""},{"$f":"IF(U68=\"\",\"\",MID(I68,SEARCH(\":\",I68)+1,100)*1)","v":""},{"$f":"IF($O$2=O68,Q68,R68)","v":""},{"$f":"IF($O$2=P68,Q68,R68)","v":""},{"$f":"IF($O$2=O68,S68,T68)","v":""},{"$f":"IF($O$2=P68,S68,T68)","v":""},{"$f":"IF($O$2=O68,U68,V68)","v":""},{"$f":"IF($O$2=P68,U68,V68)","v":""},{"$f":"IF(W68=\"\",\"\",IF(W68>0,\"ok\",\"\"))","v":""},{"$f":"IF(X68=\"\",\"\",IF(X68>0,\"ok\",\"\"))","v":""},{"$f":"IF(Y68=\"\",\"\",IF(Y68>0,\"ok\",\"\"))","v":""},{"$f":"IF(Z68=\"\",\"\",IF(Z68>0,\"ok\",\"\"))","v":""},{"$f":"IF(AA68=\"\",\"\",IF(AA68>0,\"ok\",\"\"))","v":""},{"$f":"IF(AB68=\"\",\"\",IF(AB68>0,\"ok\",\"\"))","v":""},{"$f":"IF(W68=\"\",AI67,AI67+1)","v":8},"","","",{"$f":"IF(AL68=\"\",\"\",IF((W68+X68)>0.5,\"OK\",\"\"))","v":""},{"$f":"IF(AM68=\"\",\"\",IF((W68+X68)>1,\"OK\",\"\"))","v":""},{"$f":"IF(AL68=\"\",\"\",IF((Y68+Z68)>0.5,\"OK\",\"\"))","v":""},{"$f":"IF(AL68=\"\",\"\",IF((Y68+Z68)>1,\"OK\",\"\"))","v":""},{"$f":"IF(AL68=\"\",\"\",IF((AA68+AB68)>1,\"OK\",\"\"))","v":""},{"$f":"IF(AL68=\"\",\"\",IF((AA68+AB68)>2,\"OK\",\"\"))","v":""},{"$f":"IF(AL68=\"\",\"\",IF((AA68+AB68)>3,\"OK\",\"\"))","v":""},{"$f":"IF(AL68=\"\",\"\",IF(AND(AJ68=\"W\",AK68=\"W\"),\"OK\",\"\"))","v":""},{"$f":"IF(AL68=\"\",\"\",IF(AND(AJ68=\"D\",AK68=\"D\"),\"OK\",\"\"))","v":""},{"$f":"IF(AL68=\"\",\"\",IF(AND(AJ68=\"L\",AK68=\"L\"),\"OK\",\"\"))","v":""}]
[616,{"$f":"IF(C69=\"\",\"\",INDEX(downloadmatch!$A:$B,$A69,B$2))","v":""},{"$f":"IF(C68=\"\",\"\",IF(INDEX(downloadmatch!$A:$B,$A69,C$2)=0,\"\",INDEX(downloadmatch!$A:$B,$A69,C$2)))","v":""},null,null,null,null,null,"","","","","",{"$f":"IF(M69=\"\",\"\",IF(M69>=settodownload!$C$5,\"OK\",\"\"))","v":""},"","","","","","","","","","","","","","","","","","","","",8,"","","","","","","","","","","","",""]
[617,{"$f":"IF(C70=\"\",\"\",INDEX(downloadmatch!$A:$B,$A70,B$2))","v":""},{"$f":"IF(C69=\"\",\"\",IF(INDEX(downloadmatch!$A:$B,$A70,C$2)=0,\"\",INDEX(downloadmatch!$A:$B,$A70,C$2)))","v":""},null,null,null,null,null,"","","","","",{"$f":"IF(M70=\"\",\"\",IF(M70>=settodownload!$C$5,\"OK\",\"\"))","v":""},"","","","","","","","","","","","","","","","","","","","",8,"","","","","","","","","","","","",""]
[618,{"$f":"IF(C71=\"\",\"\",INDEX(downloadmatch!$A:$B,$A71,B$2))","v":""},{"$f":"IF(C70=\"\",\"\",IF(INDEX(downloadmatch!$A:$B,$A71,C$2)=0,\"\",INDEX(downloadmatch!$A:$B,$A71,C$2)))","v":""},null,null,null,null,null,"","","","","",{"$f":"IF(M71=\"\",\"\",IF(M71>=settodownload!$C$5,\"OK\",\"\"))","v":""},"","","","","","","","","","","","","","","","","","","","",8,"","","","","","","","","","","","",""]
[619,{"$f":"IF(C72=\"\",\"\",INDEX(downloadmatch!$A:$B,$A72,B$2))","v":""},{"$f":"IF(C71=\"\",\"\",IF(INDEX(downloadmatch!$A:$B,$A72,C$2)=0,\"\",INDEX(downloadmatch!$A:$B,$A72,C$2)))","v":""},null,null,null,null,null,"","","","","",{"$f":"IF(M72=\"\",\"\",IF(M72>=settodownload!$C$5,\"OK\",\"\"))","v":""},"","","","","","","","","","","","","","","","","","","","",8,"","","","","","","","","","","","",""]
[620,{"$f":"IF(C73=\"\",\"\",INDEX(downloadmatch!$A:$B,$A73,B$2))","v":""},{"$f":"IF(C72=\"\",\"\",IF(INDEX(downloadmatch!$A:$B,$A73,C$2)=0,\"\",INDEX(downloadmatch!$A:$B,$A73,C$2)))","v":""},null,null,null,null,null,"","","","","",{"$f":"IF(M73=\"\",\"\",IF(M73>=settodownload!$C$5,\"OK\",\"\"))","v":""},"","","","","","","","","","","","","","","","","","","","",8,"","","","","","","","","","","","",""]
[621,{"$f":"IF(C74=\"\",\"\",INDEX(downloadmatch!$A:$B,$A74,B$2))","v":""},{"$f":"IF(C73=\"\",\"\",IF(INDEX(downloadmatch!$A:$B,$A74,C$2)=0,\"\",INDEX(downloadmatch!$A:$B,$A74,C$2)))","v":""},null,null,null,null,null,"","","","","",{"$f":"IF(M74=\"\",\"\",IF(M74>=settodownload!$C$5,\"OK\",\"\"))","v":""},"","","","","","","","","","","","","","","","","","","","",8,"","","","","","","","","","","","",""]
[622,{"$f":"IF(C75=\"\",\"\",INDEX(downloadmatch!$A:$B,$A75,B$2))","v":""},{"$f":"IF(C74=\"\",\"\",IF(INDEX(downloadmatch!$A:$B,$A75,C$2)=0,\"\",INDEX(downloadmatch!$A:$B,$A75,C$2)))","v":""},null,null,null,null,null,"","","","","",{"$f":"IF(M75=\"\",\"\",IF(M75>=settodownload!$C$5,\"OK\",\"\"))","v":""},"","","","","","","","","","","","","","","","","","","","",8,"","","","","","","","","","","","",""]
[623,{"$f":"IF(C76=\"\",\"\",INDEX(downloadmatch!$A:$B,$A76,B$2))","v":""},{"$f":"IF(C75=\"\",\"\",IF(INDEX(downloadmatch!$A:$B,$A76,C$2)=0,\"\",INDEX(downloadmatch!$A:$B,$A76,C$2)))","v":""},null,null,null,null,null,"","","","","",{"$f":"IF(M76=\"\",\"\",IF(M76>=settodownload!$C$5,\"OK\",\"\"))","v":""},"","","","","","","","","","","","","","","","","","","","",8,"","","","","","","","","","","","",""]
[624,{"$f":"IF(C77=\"\",\"\",INDEX(downloadmatch!$A:$B,$A77,B$2))","v":""},{"$f":"IF(C76=\"\",\"\",IF(INDEX(downloadmatch!$A:$B,$A77,C$2)=0,\"\",INDEX(downloadmatch!$A:$B,$A77,C$2)))","v":""},null,null,null,null,null,"","","","","",{"$f":"IF(M77=\"\",\"\",IF(M77>=settodownload!$C$5,\"OK\",\"\"))","v":""},"","","","","","","","","","","","","","","","","","","","",8,"","","","","","","","","","","","",""]
[625,{"$f":"IF(C78=\"\",\"\",INDEX(downloadmatch!$A:$B,$A78,B$2))","v":""},{"$f":"IF(C77=\"\",\"\",IF(INDEX(downloadmatch!$A:$B,$A78,C$2)=0,\"\",INDEX(downloadmatch!$A:$B,$A78,C$2)))","v":""},null,null,null,null,null,"","","","","",{"$f":"IF(M78=\"\",\"\",IF(M78>=settodownload!$C$5,\"OK\",\"\"))","v":""},"","","","","","","","","","","","","","","","","","","","",8,"","","","","","","","","","","","",""]
[626,{"$f":"IF(C79=\"\",\"\",INDEX(downloadmatch!$A:$B,$A79,B$2))","v":""},{"$f":"IF(C78=\"\",\"\",IF(INDEX(downloadmatch!$A:$B,$A79,C$2)=0,\"\",INDEX(downloadmatch!$A:$B,$A79,C$2)))","v":""},null,null,null,null,null,"","","","","",{"$f":"IF(M79=\"\",\"\",IF(M79>=settodownload!$C$5,\"OK\",\"\"))","v":""},"","","","","","","","","","","","","","","","","","","","",8,"","","","","","","","","","","","",""]
[627,{"$f":"IF(C80=\"\",\"\",INDEX(downloadmatch!$A:$B,$A80,B$2))","v":""},{"$f":"IF(C79=\"\",\"\",IF(INDEX(downloadmatch!$A:$B,$A80,C$2)=0,\"\",INDEX(downloadmatch!$A:$B,$A80,C$2)))","v":""},null,null,null,null,null,"","","","","",{"$f":"IF(M80=\"\",\"\",IF(M80>=settodownload!$C$5,\"OK\",\"\"))","v":""},"","","","","","","","","","","","","","","","","","","","",8,"","","","","","","","","","","","",""]
[628,{"$f":"IF(C81=\"\",\"\",INDEX(downloadmatch!$A:$B,$A81,B$2))","v":""},{"$f":"IF(C80=\"\",\"\",IF(INDEX(downloadmatch!$A:$B,$A81,C$2)=0,\"\",INDEX(downloadmatch!$A:$B,$A81,C$2)))","v":""},null,null,null,null,null,"","","","","",{"$f":"IF(M81=\"\",\"\",IF(M81>=settodownload!$C$5,\"OK\",\"\"))","v":""},"","","","","","","","","","","","","","","","","","","","",8,"","","","","","","","","","","","",""]
[629,{"$f":"IF(C82=\"\",\"\",INDEX(downloadmatch!$A:$B,$A82,B$2))","v":""},{"$f":"IF(C81=\"\",\"\",IF(INDEX(downloadmatch!$A:$B,$A82,C$2)=0,\"\",INDEX(downloadmatch!$A:$B,$A82,C$2)))","v":""},null,null,null,null,null,"","","","","",{"$f":"IF(M82=\"\",\"\",IF(M82>=settodownload!$C$5,\"OK\",\"\"))","v":""},"","","","","","","","","","","","","","","","","","","","",8,{"$f":"IF(W82=\"\",\"\",IF(W82>X82,\"W\",IF(W82=X82,\"D\",IF(W82<X82,\"l\",\"\"))))","v":""},{"$f":"IF(Y82=\"\",\"\",IF(Y82>Z82,\"W\",IF(Y82=Z82,\"D\",IF(Y82<Z82,\"l\",\"\"))))","v":""},{"$f":"IF(AA82=\"\",\"\",IF(AA82>AB82,\"W\",IF(AA82=AB82,\"D\",IF(AA82<AB82,\"l\",\"\"))))","v":""},"","","","","","","","","",""]
[{"$f":"A82+1","v":630},{"$f":"IF(C83=\"\",\"\",INDEX(downloadmatch!$A:$B,$A83,B$2))","v":""},{"$f":"IF(C82=\"\",\"\",IF(INDEX(downloadmatch!$A:$B,$A83,C$2)=0,\"\",INDEX(downloadmatch!$A:$B,$A83,C$2)))","v":""},null,null,null,null,null,"","","","","",{"$f":"IF(M83=\"\",\"\",IF(M83>=settodownload!$C$5,\"OK\",\"\"))","v":""},"","","","","","","","","","","","","","","","","","","","",8,"","","","","","","","","","","","",""]
[631,{"$f":"IF(C84=\"\",\"\",INDEX(downloadmatch!$A:$B,$A84,B$2))","v":""},{"$f":"IF(C83=\"\",\"\",IF(INDEX(downloadmatch!$A:$B,$A84,C$2)=0,\"\",INDEX(downloadmatch!$A:$B,$A84,C$2)))","v":""},null,null,null,null,null,"","","","","",{"$f":"IF(M84=\"\",\"\",IF(M84>=settodownload!$C$5,\"OK\",\"\"))","v":""},"","","","",{"$f":"IF(R84=\"\",\"\",U84-Q84)","v":""},"","","","","","","","","","","","","","","",8,"","","","","","","","","","","","",""]
[632,{"$f":"IF(C85=\"\",\"\",INDEX(downloadmatch!$A:$B,$A85,B$2))","v":""},{"$f":"IF(C84=\"\",\"\",IF(INDEX(downloadmatch!$A:$B,$A85,C$2)=0,\"\",INDEX(downloadmatch!$A:$B,$A85,C$2)))","v":""},null,null,null,null,null,"","","","","",{"$f":"IF(M85=\"\",\"\",IF(M85>=settodownload!$C$5,\"OK\",\"\"))","v":""},"","","","","","","","","","","","","","","","","","","","",8,"","","","","","","","","","","","",""]
[633,{"$f":"IF(C86=\"\",\"\",INDEX(downloadmatch!$A:$B,$A86,B$2))","v":""},{"$f":"IF(C85=\"\",\"\",IF(INDEX(downloadmatch!$A:$B,$A86,C$2)=0,\"\",INDEX(downloadmatch!$A:$B,$A86,C$2)))","v":""},null,null,null,null,null,"","","","","",{"$f":"IF(M86=\"\",\"\",IF(M86>=settodownload!$C$5,\"OK\",\"\"))","v":""},"","","","","","","","","","","","","","","","","","","","",8,"","","","","","","","","","","","",""]
[634,{"$f":"IF(C87=\"\",\"\",INDEX(downloadmatch!$A:$B,$A87,B$2))","v":""},{"$f":"IF(C86=\"\",\"\",IF(INDEX(downloadmatch!$A:$B,$A87,C$2)=0,\"\",INDEX(downloadmatch!$A:$B,$A87,C$2)))","v":""},null,null,null,null,null,"","","","","",{"$f":"IF(M87=\"\",\"\",IF(M87>=settodownload!$C$5,\"OK\",\"\"))","v":""},"","","","","","","","","","","","","","","","","","","","",8,"","","","","","","","","","","","",""]
[635,{"$f":"IF(C88=\"\",\"\",INDEX(downloadmatch!$A:$B,$A88,B$2))","v":""},{"$f":"IF(C87=\"\",\"\",IF(INDEX(downloadmatch!$A:$B,$A88,C$2)=0,\"\",INDEX(downloadmatch!$A:$B,$A88,C$2)))","v":""},null,null,null,null,null,"","","","","",{"$f":"IF(M88=\"\",\"\",IF(M88>=settodownload!$C$5,\"OK\",\"\"))","v":""},"","","","","","","","","","","","","","","","","","","","",8,"","","","","","","","","","","","",""]
[636,{"$f":"IF(C89=\"\",\"\",INDEX(downloadmatch!$A:$B,$A89,B$2))","v":""},{"$f":"IF(C88=\"\",\"\",IF(INDEX(downloadmatch!$A:$B,$A89,C$2)=0,\"\",INDEX(downloadmatch!$A:$B,$A89,C$2)))","v":""},null,null,null,null,null,"","","","","",{"$f":"IF(M89=\"\",\"\",IF(M89>=settodownload!$C$5,\"OK\",\"\"))","v":""},"","","","","","","","","","","","","","","","","","","","",8,"","","","","","","","","","","","",""]
[637,{"$f":"IF(C90=\"\",\"\",INDEX(downloadmatch!$A:$B,$A90,B$2))","v":""},{"$f":"IF(C89=\"\",\"\",IF(INDEX(downloadmatch!$A:$B,$A90,C$2)=0,\"\",INDEX(downloadmatch!$A:$B,$A90,C$2)))","v":""},null,null,null,null,null,"","",{"$f":"IFERROR(MID(J90,SEARCH(\"AET\",J90)+4,100),\"\")","v":""},{"$f":"IFERROR(LEFT(J90,SEARCH(\"AET\",J90)-2),\"\")","v":""},"",{"$f":"IF(M90=\"\",\"\",IF(M90>=settodownload!$C$5,\"OK\",\"\"))","v":""},"","","","","","","","","","","","","","","","","","","","",8,"","","","","","","","","","","","",""]
[638,{"$f":"IF(C91=\"\",\"\",INDEX(downloadmatch!$A:$B,$A91,B$2))","v":""},{"$f":"IF(C90=\"\",\"\",IF(INDEX(downloadmatch!$A:$B,$A91,C$2)=0,\"\",INDEX(downloadmatch!$A:$B,$A91,C$2)))","v":""},null,null,null,null,null,"","","","","",{"$f":"IF(M91=\"\",\"\",IF(M91>=settodownload!$C$5,\"OK\",\"\"))","v":""},"","","","","","","","","","","","","","","","","","","","",8,"","","","","","","","","","","","",""]
[639,{"$f":"IF(C92=\"\",\"\",INDEX(downloadmatch!$A:$B,$A92,B$2))","v":""},{"$f":"IF(C91=\"\",\"\",IF(INDEX(downloadmatch!$A:$B,$A92,C$2)=0,\"\",INDEX(downloadmatch!$A:$B,$A92,C$2)))","v":""},null,null,null,null,null,"","","","","",{"$f":"IF(M92=\"\",\"\",IF(M92>=settodownload!$C$5,\"OK\",\"\"))","v":""},"","","","","","","","","","","","","","","","","","","","",8,"","","","","","","","","","","","",""]
[640,{"$f":"IF(C93=\"\",\"\",INDEX(downloadmatch!$A:$B,$A93,B$2))","v":""},{"$f":"IF(C92=\"\",\"\",IF(INDEX(downloadmatch!$A:$B,$A93,C$2)=0,\"\",INDEX(downloadmatch!$A:$B,$A93,C$2)))","v":""},null,null,null,null,null,"","","","","",{"$f":"IF(M93=\"\",\"\",IF(M93>=settodownload!$C$5,\"OK\",\"\"))","v":""},"","","","","","","","","","","","","","","","","","","","",8,"","","","","","","","","","","","",""]
[641,{"$f":"IF(C94=\"\",\"\",INDEX(downloadmatch!$A:$B,$A94,B$2))","v":""},{"$f":"IF(C93=\"\",\"\",IF(INDEX(downloadmatch!$A:$B,$A94,C$2)=0,\"\",INDEX(downloadmatch!$A:$B,$A94,C$2)))","v":""},null,null,null,null,null,"","","","","",{"$f":"IF(M94=\"\",\"\",IF(M94>=settodownload!$C$5,\"OK\",\"\"))","v":""},"","","","","","","","","","","","","","","","","","","","",8,"","","","","","","","","","","","",""]
[642,{"$f":"IF(C95=\"\",\"\",INDEX(downloadmatch!$A:$B,$A95,B$2))","v":""},{"$f":"IF(C94=\"\",\"\",IF(INDEX(downloadmatch!$A:$B,$A95,C$2)=0,\"\",INDEX(downloadmatch!$A:$B,$A95,C$2)))","v":""},null,null,null,null,null,"","","","","",{"$f":"IF(M95=\"\",\"\",IF(M95>=settodownload!$C$5,\"OK\",\"\"))","v":""},"","","","","","","","","","","","","","","","","","","","",8,"","","","","","","","","","","","",""]
[643,{"$f":"IF(C96=\"\",\"\",INDEX(downloadmatch!$A:$B,$A96,B$2))","v":""},{"$f":"IF(C95=\"\",\"\",IF(INDEX(downloadmatch!$A:$B,$A96,C$2)=0,\"\",INDEX(downloadmatch!$A:$B,$A96,C$2)))","v":""},null,null,null,null,null,"","","","","",{"$f":"IF(M96=\"\",\"\",IF(M96>=settodownload!$C$5,\"OK\",\"\"))","v":""},"","","","","","","","","","","","","","","","","","","","",8,"","","","","","","","","","","","",""]
[644,{"$f":"IF(C97=\"\",\"\",INDEX(downloadmatch!$A:$B,$A97,B$2))","v":""},{"$f":"IF(C96=\"\",\"\",IF(INDEX(downloadmatch!$A:$B,$A97,C$2)=0,\"\",INDEX(downloadmatch!$A:$B,$A97,C$2)))","v":""},null,null,null,null,null,"","","","","",{"$f":"IF(M97=\"\",\"\",IF(M97>=settodownload!$C$5,\"OK\",\"\"))","v":""},"","","","","","","","","","","","","","","","","","","","",8,"","","","","","","","","","","","",""]
[645,{"$f":"IF(C98=\"\",\"\",INDEX(downloadmatch!$A:$B,$A98,B$2))","v":""},{"$f":"IF(C97=\"\",\"\",IF(INDEX(downloadmatch!$A:$B,$A98,C$2)=0,\"\",INDEX(downloadmatch!$A:$B,$A98,C$2)))","v":""},null,null,null,null,null,"","","","","",{"$f":"IF(M98=\"\",\"\",IF(M98>=settodownload!$C$5,\"OK\",\"\"))","v":""},"","","","","","","","","","","","","","","","","","","","",8,"","","","","","","","","","","","",""]
[646,{"$f":"IF(C99=\"\",\"\",INDEX(downloadmatch!$A:$B,$A99,B$2))","v":""},{"$f":"IF(C98=\"\",\"\",IF(INDEX(downloadmatch!$A:$B,$A99,C$2)=0,\"\",INDEX(downloadmatch!$A:$B,$A99,C$2)))","v":""},null,null,null,null,null,"","","","","",{"$f":"IF(M99=\"\",\"\",IF(M99>=settodownload!$C$5,\"OK\",\"\"))","v":""},"","","","","","","","","","","","","","","","","","","","",{"$f":"IF(W99=\"\",AI98,AI98+1)","v":8},"","","","","","","","","","","","",""]
[647,{"$f":"IF(C100=\"\",\"\",INDEX(downloadmatch!$A:$B,$A100,B$2))","v":""},{"$f":"IF(C99=\"\",\"\",IF(INDEX(downloadmatch!$A:$B,$A100,C$2)=0,\"\",INDEX(downloadmatch!$A:$B,$A100,C$2)))","v":""},null,null,null,null,null,null,"",null,null,"",{"$f":"IF(M100=\"\",\"\",IF(M100>=settodownload!$C$5,\"OK\",\"\"))","v":""}]

{"sheet":"AWAY","index":6,"n_rows":100,"n_cols":51,"rows_kept":100,"cut":false,"hidden":true,"merged":[[1,14,1,15],[1,16,1,21],[0,38,0,39],[0,40,0,41],[0,42,0,44],[0,45,0,47],[0,16,0,17],[0,18,0,19],[0,20,0,21],[0,22,0,23],[0,24,0,25],[0,26,0,27]]}
[{"$f":"CONCATENATE(settodownload!F3,\"- Last matches\")","v":"Bala Town - Last matches"},null,null,null,null,null,null,null,null,null,null,null,null,null,null,null,"HT",null,"ST",null,"FT",null,{"$f":"Q1","v":"HT"},null,{"$f":"S1","v":"ST"},null,{"$f":"U1","v":"FT"},null,"+","-","+","-","+","-",null,null,null,null,"HT",null,"ST",null,"FT",null,null,"WINNER"]
[{"$f":"MATCH(A1,downloadmatch!$A:$A,0)","v":560},1,{"$f":"B2+1","v":2},null,"DATE","TEAMS","REST","FT - HT","FT","HT",null,null,null,null,{"$f":"IF(COUNTIF(O3:P17,O3)>COUNTIF(O3:P17,P3),O3,P3)","v":"Bala Town"},null,"NOSORT",null,null,null,null,null,null,null,null,null,null,null,{"$f":"COUNTIF(AC3:AC99,\"ok\")/$AI$99","v":0.7},{"$f":"COUNTIF(AD3:AD99,\"ok\")/$AI$99","v":0.5},0.7,0.4,0.9,0.7,null,null,null,null,{"$f":"COUNTIF(AM3:AM99,\"OK\")/$AI$99","v":0.8},{"$f":"COUNTIF(AN3:AN99,\"OK\")/$AI$99","v":0.6},{"$f":"COUNTIF(AO3:AO99,\"OK\")/$AI$99","v":0.8},0.3,{"$f":"COUNTIF(AQ3:AQ99,\"OK\")/$AI$99","v":0.9},{"$f":"COUNTIF(AR3:AR99,\"OK\")/$AI$99","v":0.5},{"$f":"COUNTIF(AS3:AS99,\"OK\")/$AI$99","v":0.3},{"$f":"COUNTIF(AT3:AT99,\"OK\")/$AI$99","v":0.4},{"$f":"COUNTIF(AU3:AU99,\"OK\")/$AI$99","v":0.2},0,"W","D","L"]
[{"$f":"A2+1","v":561},{"$f":"IF(C3=\"\",\"\",INDEX(downloadmatch!$A:$B,$A3,B$2))","v":"14.11.20 Bala Town - Penybont"},{"$f":"IF(C2=\"\",\"\",IF(INDEX(downloadmatch!$A:$B,$A3,C$2)=0,\"\",INDEX(downloadmatch!$A:$B,$A3,C$2)))","v":"W 4:1 (3:1)"},null,{"$f":"IF(B3=\"\",\"\",LEFT(B3,SEARCH(\" \",B3)-1))","v":"14.11.20"},{"$f":"IF(E3=\"\",\"\",MID(B3,SEARCH(\" \",B3)+1,100))","v":"Bala Town - Penybont"},{"$f":"IF(F3=\"\",\"\",LEFT(C3,SEARCH(\" \",C3)-1))","v":"W"},{"$f":"IF(G3=\"\",\"\",MID(C3,SEARCH(\" \",C3)+1,100))","v":"4:1 (3:1)"},{"$f":"IF(H3=\"\",\"\",IF(K3=\"\",LEFT(H3,SEARCH(\" \",H3)-1),K3))","v":"4:1"},{"$f":"IF(F3=\"\",\"\",SUBSTITUTE(SUBSTITUTE(MID(C3,SEARCH(\" \",H3)+3,100),\"(\",\"\"),\")\",\"\"))","v":"3:1"},{"$f":"IFERROR(MID(J3,SEARCH(\"AET\",J3)+4,100),\"\")","v":""},{"$f":"IFERROR(LEFT(J3,SEARCH(\"AET\",J3)-2),\"\")","v":""},{"$f":"IF(F3=\"\",\"\",fmt(E3,\"YYYY\")*1)","v":2020},{"$f":"IF(M3=\"\",\"\",IF(M3>=settodownload!$C$5,\"OK\",\"\"))","v":"OK"},{"$f":"IF(N3=\"\",\"\",LEFT(F3,SEARCH(\" - \",F3)-1))","v":"Bala Town"},{"$f":"IF(O3=\"\",\"\",MID(F3,SEARCH(\" - \",F3)+3,100))","v":"Penybont"},{"$f":"IFERROR(IF(P3=\"\",\"\",LEFT(J3,SEARCH(\":\",J3)-1)*1),IF(L3=\"\",\"\",LEFT(L3,SEARCH(\":\",L3)-1)*1))","v":3},{"$f":"IFERROR(IF(Q3=\"\",\"\",MID(J3,SEARCH(\":\",J3)+1,100)*1),IF(L3=\"\",\"\",MID(L3,SEARCH(\":\",L3)+1,100)*1))","v":1},{"$f":"IF(R3=\"\",\"\",U3-Q3)","v":1},{"$f":"IF(S3=\"\",\"\",V3-R3)","v":0},{"$f":"IF(N3=\"\",\"\",LEFT(I3,SEARCH(\":\",I3)-1)*1)","v":4},{"$f":"IF(U3=\"\",\"\",MID(I3,SEARCH(\":\",I3)+1,100)*1)","v":1},{"$f":"IF($O$2=O3,Q3,R3)","v":3},{"$f":"IF($O$2=P3,Q3,R3)","v":1},{"$f":"IF($O$2=O3,S3,T3)","v":1},{"$f":"IF($O$2=P3,S3,T3)","v":0},{"$f":"IF($O$2=O3,U3,V3)","v":4},{"$f":"IF($O$2=P3,U3,V3)","v":1},{"$f":"IF(W3=\"\",\"\",IF(W3>0,\"ok\",\"\"))","v":"ok"},{"$f":"IF(X3=\"\",\"\",IF(X3>0,\"ok\",\"\"))","v":"ok"},"ok","","ok","ok",{"$f":"IF(W3=\"\",AI2,AI2+1)","v":1},{"$f":"IF(W3=\"\",\"\",IF(W3>X3,\"W\",IF(W3=X3,\"D\",IF(W3<X3,\"l\",\"\"))))","v":"W"},{"$f":"IF(Y3=\"\",\"\",IF(Y3>Z3,\"W\",IF(Y3=Z3,\"D\",IF(Y3<Z3,\"l\",\"\"))))","v":"W"},{"$f":"IF(AA3=\"\",\"\",IF(AA3>AB3,\"W\",IF(AA3=AB3,\"D\",IF(AA3<AB3,\"l\",\"\"))))","v":"W"},{"$f":"IF(AL3=\"\",\"\",IF((W3+X3)>0.5,\"OK\",\"\"))","v":"OK"},{"$f":"IF(AM3=\"\",\"\",IF((W3+X3)>1,\"OK\",\"\"))","v":"OK"},{"$f":"IF(AL3=\"\",\"\",IF((Y3+Z3)>0.5,\"OK\",\"\"))","v":"OK"},{"$f":"IF(AL3=\"\",\"\",IF((Y3+Z3)>1,\"OK\",\"\"))","v":""},{"$f":"IF(AL3=\"\",\"\",IF((AA3+AB3)>1,\"OK\",\"\"))","v":"OK"},{"$f":"IF(AL3=\"\",\"\",IF((AA3+AB3)>2,\"OK\",\"\"))","v":"OK"},{"$f":"IF(AL3=\"\",\"\",IF((AA3+AB3)>3,\"OK\",\"\"))","v":"OK"},{"$f":"IF(AL3=\"\",\"\",IF(AND(AJ3=\"W\",AK3=\"W\"),\"OK\",\"\"))","v":"OK"},{"$f":"IF(AL3=\"\",\"\",IF(AND(AJ3=\"D\",AK3=\"D\"),\"OK\",\"\"))","v":""},{"$f":"IF(AL3=\"\",\"\",IF(AND(AJ3=\"L\",AK3=\"L\"),\"OK\",\"\"))","v":""},{"$f":"COUNTIF($AJ:$AJ,AW2)","v":5},{"$f":"COUNTIF($AJ:$AJ,AX2)","v":4},1]
[{"$f":"A3+1","v":562},{"$f":"IF(C4=\"\",\"\",INDEX(downloadmatch!$A:$B,$A4,B$2))","v":"07.11.20 Bala Town - New Saints"},{"$f":"IF(C3=\"\",\"\",IF(INDEX(downloadmatch!$A:$B,$A4,C$2)=0,\"\",INDEX(downloadmatch!$A:$B,$A4,C$2)))","v":"D 1:1 (0:0)"},null,{"$f":"IF(B4=\"\",\"\",LEFT(B4,SEARCH(\" \",B4)-1))","v":"07.11.20"},{"$f":"IF(E4=\"\",\"\",MID(B4,SEARCH(\" \",B4)+1,100))","v":"Bala Town - New Saints"},{"$f":"IF(F4=\"\",\"\",LEFT(C4,SEARCH(\" \",C4)-1))","v":"D"},{"$f":"IF(G4=\"\",\"\",MID(C4,SEARCH(\" \",C4)+1,100))","v":"1:1 (0:0)"},{"$f":"IF(H4=\"\",\"\",IF(K4=\"\",LEFT(H4,SEARCH(\" \",H4)-1),K4))","v":"1:1"},{"$f":"IF(F4=\"\",\"\",SUBSTITUTE(SUBSTITUTE(MID(C4,SEARCH(\" \",H4)+3,100),\"(\",\"\"),\")\",\"\"))","v":"0:0"},"","",2020,{"$f":"IF(M4=\"\",\"\",IF(M4>=settodownload!$C$5,\"OK\",\"\"))","v":"OK"},{"$f":"IF(N4=\"\",\"\",LEFT(F4,SEARCH(\" - \",F4)-1))","v":"Bala Town"},{"$f":"IF(O4=\"\",\"\",MID(F4,SEARCH(\" - \",F4)+3,100))","v":"New Saints"},0,0,{"$f":"IF(R4=\"\",\"\",U4-Q4)","v":1},1,{"$f":"IF(N4=\"\",\"\",LEFT(I4,SEARCH(\":\",I4)-1)*1)","v":1},{"$f":"IF(U4=\"\",\"\",MID(I4,SEARCH(\":\",I4)+1,100)*1)","v":1},{"$f":"IF($O$2=O4,Q4,R4)","v":0},{"$f":"IF($O$2=P4,Q4,R4)","v":0},{"$f":"IF($O$2=O4,S4,T4)","v":1},{"$f":"IF($O$2=P4,S4,T4)","v":1},{"$f":"IF($O$2=O4,U4,V4)","v":1},{"$f":"IF($O$2=P4,U4,V4)","v":1},{"$f":"IF(W4=\"\",\"\",IF(W4>0,\"ok\",\"\"))","v":""},"","ok","ok","ok","ok",{"$f":"IF(W4=\"\",AI3,AI3+1)","v":2},{"$f":"IF(W4=\"\",\"\",IF(W4>X4,\"W\",IF(W4=X4,\"D\",IF(W4<X4,\"l\",\"\"))))","v":"D"},{"$f":"IF(Y4=\"\",\"\",IF(Y4>Z4,\"W\",IF(Y4=Z4,\"D\",IF(Y4<Z4,\"l\",\"\"))))","v":"D"},{"$f":"IF(AA4=\"\",\"\",IF(AA4>AB4,\"W\",IF(AA4=AB4,\"D\",IF(AA4<AB4,\"l\",\"\"))))","v":"D"},{"$f":"IF(AL4=\"\",\"\",IF((W4+X4)>0.5,\"OK\",\"\"))","v":""},{"$f":"IF(AM4=\"\",\"\",IF((W4+X4)>1,\"OK\",\"\"))","v":""},{"$f":"IF(AL4=\"\",\"\",IF((Y4+Z4)>0.5,\"OK\",\"\"))","v":"OK"},{"$f":"IF(AL4=\"\",\"\",IF((Y4+Z4)>1,\"OK\",\"\"))","v":"OK"},{"$f":"IF(AL4=\"\",\"\",IF((AA4+AB4)>1,\"OK\",\"\"))","v":"OK"},{"$f":"IF(AL4=\"\",\"\",IF((AA4+AB4)>2,\"OK\",\"\"))","v":""},{"$f":"IF(AL4=\"\",\"\",IF((AA4+AB4)>3,\"OK\",\"\"))","v":""},{"$f":"IF(AL4=\"\",\"\",IF(AND(AJ4=\"W\",AK4=\"W\"),\"OK\",\"\"))","v":""},{"$f":"IF(AL4=\"\",\"\",IF(AND(AJ4=\"D\",AK4=\"D\"),\"OK\",\"\"))","v":"OK"},{"$f":"IF(AL4=\"\",\"\",IF(AND(AJ4=\"L\",AK4=\"L\"),\"OK\",\"\"))","v":""},{"$f":"AW3/$AI$99","v":0.5},{"$f":"AX3/$AI$99","v":0.4},0.1]
[{"$f":"A4+1","v":563},{"$f":"IF(C5=\"\",\"\",INDEX(downloadmatch!$A:$B,$A5,B$2))","v":"31.10.20 Haverfordwest - Bala Town"},{"$f":"IF(C4=\"\",\"\",IF(INDEX(downloadmatch!$A:$B,$A5,C$2)=0,\"\",INDEX(downloadmatch!$A:$B,$A5,C$2)))","v":"D 1:1 (0:0)"},null,"31.10.20","Haverfordwest - Bala Town","D","1:1 (0:0)","1:1","0:0","","",2020,{"$f":"IF(M5=\"\",\"\",IF(M5>=settodownload!$C$5,\"OK\",\"\"))","v":"OK"},"Haverfordwest","Bala Town",0,0,1,1,1,1,0,0,1,1,1,1,"","","ok","ok","ok","ok",3,"D","D","D","","","OK","OK","OK","","","","OK",""]
[564,{"$f":"IF(C6=\"\",\"\",INDEX(downloadmatch!$A:$B,$A6,B$2))","v":"20.10.20 Flint Town Utd - Bala Town"},{"$f":"IF(C5=\"\",\"\",IF(INDEX(downloadmatch!$A:$B,$A6,C$2)=0,\"\",INDEX(downloadmatch!$A:$B,$A6,C$2)))","v":"W 1:2 (1:1)"},null,"20.10.20","Flint Town Utd - Bala Town","W","1:2 (1:1)","1:2","1:1","","",2020,{"$f":"IF(M6=\"\",\"\",IF(M6>=settodownload!$C$5,\"OK\",\"\"))","v":"OK"},"Flint Town Utd","Bala Town",1,1,0,1,1,2,1,1,1,0,2,1,"ok","ok","ok","","ok","ok",4,"D","W","W","OK","OK","OK","","OK","OK","","","",""]
[565,{"$f":"IF(C7=\"\",\"\",INDEX(downloadmatch!$A:$B,$A7,B$2))","v":"17.10.20 Newtown - Bala Town"},{"$f":"IF(C6=\"\",\"\",IF(INDEX(downloadmatch!$A:$B,$A7,C$2)=0,\"\",INDEX(downloadmatch!$A:$B,$A7,C$2)))","v":"W 0:2 (0:1)"},null,"17.10.20","Newtown - Bala Town","W","0:2 (0:1)","0:2","0:1","","",2020,{"$f":"IF(M7=\"\",\"\",IF(M7>=settodownload!$C$5,\"OK\",\"\"))","v":"OK"},"Newtown","Bala Town",0,1,0,1,0,2,1,0,1,0,2,0,"ok","","ok","","ok","",5,"W","W","W","OK","","OK","","OK","","","OK","","",{"$f":"COUNTIF($AK:$AK,AW2)","v":5},{"$f":"COUNTIF($AK:$AK,AX2)","v":4},1]
[566,{"$f":"IF(C8=\"\",\"\",INDEX(downloadmatch!$A:$B,$A8,B$2))","v":"14.10.20 Bala Town - Barry Town"},{"$f":"IF(C7=\"\",\"\",IF(INDEX(downloadmatch!$A:$B,$A8,C$2)=0,\"\",INDEX(downloadmatch!$A:$B,$A8,C$2)))","v":"W 4:0 (3:0)"},null,"14.10.20","Bala Town - Barry Town","W","4:0 (3:0)","4:0","3:0","","",2020,{"$f":"IF(M8=\"\",\"\",IF(M8>=settodownload!$C$5,\"OK\",\"\"))","v":"OK"},"Bala Town","Barry Town",3,0,1,0,4,0,3,0,1,0,4,0,"ok","","ok","","ok","",6,"W","W","W","OK","OK","OK","","OK","OK","OK","OK","","",{"$f":"AW7/$AI$99","v":0.5},{"$f":"AX7/$AI$99","v":0.4},0.1]
[567,{"$f":"IF(C9=\"\",\"\",INDEX(downloadmatch!$A:$B,$A9,B$2))","v":"10.10.20 Bala Town - Aberystwyth"},{"$f":"IF(C8=\"\",\"\",IF(INDEX(downloadmatch!$A:$B,$A9,C$2)=0,\"\",INDEX(downloadmatch!$A:$B,$A9,C$2)))","v":"W 5:2 (2:1)"},null,"10.10.20","Bala Town - Aberystwyth","W","5:2 (2:1)","5:2","2:1","","",2020,{"$f":"IF(M9=\"\",\"\",IF(M9>=settodownload!$C$5,\"OK\",\"\"))","v":"OK"},"Bala Town","Aberystwyth",2,1,3,1,5,2,2,1,3,1,5,2,"ok","ok","ok","ok","ok","ok",7,"W","W","W","OK","OK","OK","OK","OK","OK","OK","OK","",""]
[568,{"$f":"IF(C10=\"\",\"\",INDEX(downloadmatch!$A:$B,$A10,B$2))","v":"03.10.20 Bala Town - Haverfordwest"},{"$f":"IF(C9=\"\",\"\",IF(INDEX(downloadmatch!$A:$B,$A10,C$2)=0,\"\",INDEX(downloadmatch!$A:$B,$A10,C$2)))","v":"L 1:2 (1:1)"},null,"03.10.20","Bala Town - Haverfordwest","L","1:2 (1:1)","1:2","1:1","","",2020,{"$f":"IF(M10=\"\",\"\",IF(M10>=settodownload!$C$5,\"OK\",\"\"))","v":"OK"},"Bala Town","Haverfordwest",1,1,0,1,1,2,1,1,0,1,1,2,"ok","ok","","ok","ok","ok",8,"D","l","l","OK","OK","OK","","OK","OK","","","",""]
[569,{"$f":"IF(C11=\"\",\"\",INDEX(downloadmatch!$A:$B,$A11,B$2))","v":"17.09.20 Standard - Bala Town"},{"$f":"IF(C10=\"\",\"\",IF(INDEX(downloadmatch!$A:$B,$A11,C$2)=0,\"\",INDEX(downloadmatch!$A:$B,$A11,C$2)))","v":"L 2:0 (2:0)"},null,"17.09.20","Standard - Bala Town","L","2:0 (2:0)","2:0","2:0","","",2020,{"$f":"IF(M11=\"\",\"\",IF(M11>=settodownload!$C$5,\"OK\",\"\"))","v":"OK"},"Standard","Bala Town",2,0,0,0,2,0,0,2,0,0,0,2,"","ok","","","","ok",9,"l","D","l","OK","OK","","","OK","","","","","",{"$f":"COUNTIF($AL:$AL,AW2)","v":6},{"$f":"COUNTIF($AL:$AL,AX2)","v":2},2]
[570,{"$f":"IF(C12=\"\",\"\",INDEX(downloadmatch!$A:$B,$A12,B$2))","v":"27.08.20 Valletta - Bala Town"},{"$f":"IF(C11=\"\",\"\",IF(INDEX(downloadmatch!$A:$B,$A12,C$2)=0,\"\",INDEX(downloadmatch!$A:$B,$A12,C$2)))","v":"W 0:1 (0:1)"},null,"27.08.20","Valletta - Bala Town","W","0:1 (0:1)","0:1","0:1","","",2020,{"$f":"IF(M12=\"\",\"\",IF(M12>=settodownload!$C$5,\"OK\",\"\"))","v":"OK"},"Valletta","Bala Town",0,1,0,0,0,1,1,0,0,0,1,0,"ok","","","","ok","",10,"W","D","W","OK","","","","","","","","","",{"$f":"AW11/$AI$99","v":0.6},{"$f":"AX11/$AI$99","v":0.2},0.2]
[571,{"$f":"IF(C13=\"\",\"\",INDEX(downloadmatch!$A:$B,$A13,B$2))","v":"05.07.18 Bala Town - Tre Fiori"},{"$f":"IF(C12=\"\",\"\",IF(INDEX(downloadmatch!$A:$B,$A13,C$2)=0,\"\",INDEX(downloadmatch!$A:$B,$A13,C$2)))","v":"W 1:0 (0:0)"},null,"05.07.18","Bala Town - Tre Fiori","W","1:0 (0:0)","1:0","0:0","","",2018,{"$f":"IF(M13=\"\",\"\",IF(M13>=settodownload!$C$5,\"OK\",\"\"))","v":""},"","","","","","","","","","","","","","","","","","","","",10,"","","","","","","","","","","","",""]
[572,{"$f":"IF(C14=\"\",\"\",INDEX(downloadmatch!$A:$B,$A14,B$2))","v":"28.06.18 Tre Fiori - Bala Town"},{"$f":"IF(C13=\"\",\"\",IF(INDEX(downloadmatch!$A:$B,$A14,C$2)=0,\"\",INDEX(downloadmatch!$A:$B,$A14,C$2)))","v":"L 3:0 (3:0)"},null,"28.06.18","Tre Fiori - Bala Town","L","3:0 (3:0)","3:0","3:0","","",2018,{"$f":"IF(M14=\"\",\"\",IF(M14>=settodownload!$C$5,\"OK\",\"\"))","v":""},"","","","","","","","","","","","","","","","","","","","",10,"","","","","","","","","","","","",""]
[573,{"$f":"IF(C15=\"\",\"\",INDEX(downloadmatch!$A:$B,$A15,B$2))","v":"06.07.17 Vaduz - Bala Town"},{"$f":"IF(C14=\"\",\"\",IF(INDEX(downloadmatch!$A:$B,$A15,C$2)=0,\"\",INDEX(downloadmatch!$A:$B,$A15,C$2)))","v":"L 3:0 (3:0)"},null,"06.07.17","Vaduz - Bala Town","L","3:0 (3:0)","3:0","3:0","","",2017,{"$f":"IF(M15=\"\",\"\",IF(M15>=settodownload!$C$5,\"OK\",\"\"))","v":""},"","","","","","","","","","","","","","","","","","","","",10,"","","","","","","","","","","","",""]
[574,{"$f":"IF(C16=\"\",\"\",INDEX(downloadmatch!$A:$B,$A16,B$2))","v":"29.06.17 Bala Town - Vaduz"},{"$f":"IF(C15=\"\",\"\",IF(INDEX(downloadmatch!$A:$B,$A16,C$2)=0,\"\",INDEX(downloadmatch!$A:$B,$A16,C$2)))","v":"L 1:2 (0:2)"},null,"29.06.17","Bala Town - Vaduz","L","1:2 (0:2)","1:2","0:2","","",2017,{"$f":"IF(M16=\"\",\"\",IF(M16>=settodownload!$C$5,\"OK\",\"\"))","v":""},"","","","","","","","","","","","","","","","","","","","",10,"","","","","","","","","","","","",""]
[575,{"$f":"IF(C17=\"\",\"\",INDEX(downloadmatch!$A:$B,$A17,B$2))","v":"07.07.16 Bala Town - AIK"},{"$f":"IF(C16=\"\",\"\",IF(INDEX(downloadmatch!$A:$B,$A17,C$2)=0,\"\",INDEX(downloadmatch!$A:$B,$A17,C$2)))","v":"L 0:2 (0:2)"},null,"07.07.16","Bala Town - AIK","L","0:2 (0:2)","0:2","0:2","","",2016,{"$f":"IF(M17=\"\",\"\",IF(M17>=settodownload!$C$5,\"OK\",\"\"))","v":""},"","","","","","","","","","","","","","","","","","","","",10,"","","","","","","","","","","","",""]
[576,{"$f":"IF(C18=\"\",\"\",INDEX(downloadmatch!$A:$B,$A18,B$2))","v":"30.06.16 AIK - Bala Town"},{"$f":"IF(C17=\"\",\"\",IF(INDEX(downloadmatch!$A:$B,$A18,C$2)=0,\"\",INDEX(downloadmatch!$A:$B,$A18,C$2)))","v":"L 2:0 (1:0)"},null,"30.06.16","AIK - Bala Town","L","2:0 (1:0)","2:0","1:0","","",2016,{"$f":"IF(M18=\"\",\"\",IF(M18>=settodownload!$C$5,\"OK\",\"\"))","v":""},"","","","","","","","","","","","","","","","","","","","",10,"","","","","","","","","","","","",""]
[577,{"$f":"IF(C19=\"\",\"\",INDEX(downloadmatch!$A:$B,$A19,B$2))","v":""},{"$f":"IF(C18=\"\",\"\",IF(INDEX(downloadmatch!$A:$B,$A19,C$2)=0,\"\",INDEX(downloadmatch!$A:$B,$A19,C$2)))","v":""},null,"","","","","","","","","",{"$f":"IF(M19=\"\",\"\",IF(M19>=settodownload!$C$5,\"OK\",\"\"))","v":""},"","","","","","","","","","","","","","","","","","","","",10,"","","","","","","","","","","","",""]
[578,{"$f":"IF(C20=\"\",\"\",INDEX(downloadmatch!$A:$B,$A20,B$2))","v":""},{"$f":"IF(C19=\"\",\"\",IF(INDEX(downloadmatch!$A:$B,$A20,C$2)=0,\"\",INDEX(downloadmatch!$A:$B,$A20,C$2)))","v":""},null,"","","","","","","","","",{"$f":"IF(M20=\"\",\"\",IF(M20>=settodownload!$C$5,\"OK\",\"\"))","v":""},"","","","",{"$f":"IF(R20=\"\",\"\",U20-Q20)","v":""},"","","","","","","","","","","","","","","",10,"","","","","","","","","","","","",""]
[579,{"$f":"IF(C21=\"\",\"\",INDEX(downloadmatch!$A:$B,$A21,B$2))","v":""},{"$f":"IF(C20=\"\",\"\",IF(INDEX(downloadmatch!$A:$B,$A21,C$2)=0,\"\",INDEX(downloadmatch!$A:$B,$A21,C$2)))","v":""},null,"","","","","","","","","",{"$f":"IF(M21=\"\",\"\",IF(M21>=settodownload!$C$5,\"OK\",\"\"))","v":""},"","","","","","","","","","","","","","","","","","","","",10,"","","","","","","","","","","","",""]
[580,{"$f":"IF(C22=\"\",\"\",INDEX(downloadmatch!$A:$B,$A22,B$2))","v":""},{"$f":"IF(C21=\"\",\"\",IF(INDEX(downloadmatch!$A:$B,$A22,C$2)=0,\"\",INDEX(downloadmatch!$A:$B,$A22,C$2)))","v":""},null,"","","","","","","","","",{"$f":"IF(M22=\"\",\"\",IF(M22>=settodownload!$C$5,\"OK\",\"\"))","v":""},"","","","","","","","","","","","","","","","","","","","",10,"","","","","","","","","","","","",""]
[581,{"$f":"IF(C23=\"\",\"\",INDEX(downloadmatch!$A:$B,$A23,B$2))","v":""},{"$f":"IF(C22=\"\",\"\",IF(INDEX(downloadmatch!$A:$B,$A23,C$2)=0,\"\",INDEX(downloadmatch!$A:$B,$A23,C$2)))","v":""},null,"","","","","","","","","",{"$f":"IF(M23=\"\",\"\",IF(M23>=settodownload!$C$5,\"OK\",\"\"))","v":""},"","","","","","","","","","","","","","","","","","","","",10,"","","","","","","","","","","","",""]
[582,{"$f":"IF(C24=\"\",\"\",INDEX(downloadmatch!$A:$B,$A24,B$2))","v":""},{"$f":"IF(C23=\"\",\"\",IF(INDEX(downloadmatch!$A:$B,$A24,C$2)=0,\"\",INDEX(downloadmatch!$A:$B,$A24,C$2)))","v":""},null,"","","","","","","","","",{"$f":"IF(M24=\"\",\"\",IF(M24>=settodownload!$C$5,\"OK\",\"\"))","v":""},"","","","","","","","","","","","","","","","","","","","",10,"","","","","","","","","","","","",""]
[583,{"$f":"IF(C25=\"\",\"\",INDEX(downloadmatch!$A:$B,$A25,B$2))","v":""},{"$f":"IF(C24=\"\",\"\",IF(INDEX(downloadmatch!$A:$B,$A25,C$2)=0,\"\",INDEX(downloadmatch!$A:$B,$A25,C$2)))","v":""},null,"","","","","",{"$f":"IF(F25=\"\",\"\",SUBSTITUTE(SUBSTITUTE(MID(C25,SEARCH(\" \",H25)+3,100),\"(\",\"\"),\")\",\"\"))","v":""},{"$f":"IFERROR(MID(J25,SEARCH(\"AET\",J25)+4,100),\"\")","v":""},{"$f":"IFERROR(LEFT(J25,SEARCH(\"AET\",J25)-2),\"\")","v":""},"",{"$f":"IF(M25=\"\",\"\",IF(M25>=settodownload!$C$5,\"OK\",\"\"))","v":""},"","","","","","","","","","","","","","","","","","","","",10,"","","","","","","","","","","","",""]
[584,{"$f":"IF(C26=\"\",\"\",INDEX(downloadmatch!$A:$B,$A26,B$2))","v":""},{"$f":"IF(C25=\"\",\"\",IF(INDEX(downloadmatch!$A:$B,$A26,C$2)=0,\"\",INDEX(downloadmatch!$A:$B,$A26,C$2)))","v":""},null,"","","","","","",{"$f":"IFERROR(MID(J26,SEARCH(\"AET\",J26)+4,100),\"\")","v":""},{"$f":"IFERROR(LEFT(J26,SEARCH(\"AET\",J26)-2),\"\")","v":""},"",{"$f":"IF(M26=\"\",\"\",IF(M26>=settodownload!$C$5,\"OK\",\"\"))","v":""},"","","","","","","","","","","","","","","","","","","","",10,"","","","","","","","","","","","",""]
[{"$f":"A26+1","v":585},{"$f":"IF(C27=\"\",\"\",INDEX(downloadmatch!$A:$B,$A27,B$2))","v":""},{"$f":"IF(C26=\"\",\"\",IF(INDEX(downloadmatch!$A:$B,$A27,C$2)=0,\"\",INDEX(downloadmatch!$A:$B,$A27,C$2)))","v":""},null,{"$f":"IF(B27=\"\",\"\",LEFT(B27,SEARCH(\" \",B27)-1))","v":""},{"$f":"IF(E27=\"\",\"\",MID(B27,SEARCH(\" \",B27)+1,100))","v":""},{"$f":"IF(F27=\"\",\"\",LEFT(C27,SEARCH(\" \",C27)-1))","v":""},{"$f":"IF(G27=\"\",\"\",MID(C27,SEARCH(\" \",C27)+1,100))","v":""},{"$f":"IF(H27=\"\",\"\",IF(K27=\"\",LEFT(H27,SEARCH(\" \",H27)-1),K27))","v":""},{"$f":"IF(F27=\"\",\"\",SUBSTITUTE(SUBSTITUTE(MID(C27,SEARCH(\" \",H27)+3,100),\"(\",\"\"),\")\",\"\"))","v":""},"",{"$f":"IFERROR(LEFT(J27,SEARCH(\"AET\",J27)-2),\"\")","v":""},{"$f":"IF(F27=\"\",\"\",fmt(E27,\"YYYY\")*1)","v":""},{"$f":"IF(M27=\"\",\"\",IF(M27>=settodownload!$C$5,\"OK\",\"\"))","v":""},{"$f":"IF(N27=\"\",\"\",LEFT(F27,SEARCH(\" - \",F27)-1))","v":""},{"$f":"IF(O27=\"\",\"\",MID(F27,SEARCH(\" - \",F27)+3,100))","v":""},{"$f":"IFERROR(IF(P27=\"\",\"\",LEFT(J27,SEARCH(\":\",J27)-1)*1),IF(L27=\"\",\"\",LEFT(L27,SEARCH(\":\",L27)-1)*1))","v":""},{"$f":"IFERROR(IF(Q27=\"\",\"\",MID(J27,SEARCH(\":\",J27)+1,100)*1),IF(L27=\"\",\"\",MID(L27,SEARCH(\":\",L27)+1,100)*1))","v":""},{"$f":"IF(R27=\"\",\"\",U27-Q27)","v":""},{"$f":"IF(S27=\"\",\"\",V27-R27)","v":""},{"$f":"IF(N27=\"\",\"\",LEFT(I27,SEARCH(\":\",I27)-1)*1)","v":""},{"$f":"IF(U27=\"\",\"\",MID(I27,SEARCH(\":\",I27)+1,100)*1)","v":""},{"$f":"IF($O$2=O27,Q27,R27)","v":""},{"$f":"IF($O$2=P27,Q27,R27)","v":""},{"$f":"IF($O$2=O27,S27,T27)","v":""},{"$f":"IF($O$2=P27,S27,T27)","v":""},{"$f":"IF($O$2=O27,U27,V27)","v":""},{"$f":"IF($O$2=P27,U27,V27)","v":""},"","","","","","",10,"","","","","","","","","","","","",""]
[586,{"$f":"IF(C28=\"\",\"\",INDEX(downloadmatch!$A:$B,$A28,B$2))","v":""},{"$f":"IF(C27=\"\",\"\",IF(INDEX(downloadmatch!$A:$B,$A28,C$2)=0,\"\",INDEX(downloadmatch!$A:$B,$A28,C$2)))","v":""},null,"","","","","","","","","",{"$f":"IF(M28=\"\",\"\",IF(M28>=settodownload!$C$5,\"OK\",\"\"))","v":""},"","","","","","","","","","","","","","","","","","","","",10,"","","","","","","","","","","","",""]
[587,{"$f":"IF(C29=\"\",\"\",INDEX(downloadmatch!$A:$B,$A29,B$2))","v":""},{"$f":"IF(C28=\"\",\"\",IF(INDEX(downloadmatch!$A:$B,$A29,C$2)=0,\"\",INDEX(downloadmatch!$A:$B,$A29,C$2)))","v":""},null,"","","","","","","","","",{"$f":"IF(M29=\"\",\"\",IF(M29>=settodownload!$C$5,\"OK\",\"\"))","v":""},"","","","","","","","","","","","","","","","","","","","",10,"","","","","","","","","","","","",""]
[588,{"$f":"IF(C30=\"\",\"\",INDEX(downloadmatch!$A:$B,$A30,B$2))","v":""},{"$f":"IF(C29=\"\",\"\",IF(INDEX(downloadmatch!$A:$B,$A30,C$2)=0,\"\",INDEX(downloadmatch!$A:$B,$A30,C$2)))","v":""},null,"","","","","","","","","",{"$f":"IF(M30=\"\",\"\",IF(M30>=settodownload!$C$5,\"OK\",\"\"))","v":""},"","","","","","","","","","","","","","","","","","","","",10,"","","","","","","","","","","","",""]
[589,{"$f":"IF(C31=\"\",\"\",INDEX(downloadmatch!$A:$B,$A31,B$2))","v":""},{"$f":"IF(C30=\"\",\"\",IF(INDEX(downloadmatch!$A:$B,$A31,C$2)=0,\"\",INDEX(downloadmatch!$A:$B,$A31,C$2)))","v":""},null,"","","","","","","","","",{"$f":"IF(M31=\"\",\"\",IF(M31>=settodownload!$C$5,\"OK\",\"\"))","v":""},"","","","","","","","","","","","","","","","","","","","",10,"","","","","","","","","","","","",""]
[590,{"$f":"IF(C32=\"\",\"\",INDEX(downloadmatch!$A:$B,$A32,B$2))","v":""},{"$f":"IF(C31=\"\",\"\",IF(INDEX(downloadmatch!$A:$B,$A32,C$2)=0,\"\",INDEX(downloadmatch!$A:$B,$A32,C$2)))","v":""},null,"","","","","","","","","",{"$f":"IF(M32=\"\",\"\",IF(M32>=settodownload!$C$5,\"OK\",\"\"))","v":""},"","","","","","","","","","","","","","","","","","","","",10,"","","","","","","","","","","","",""]
[591,{"$f":"IF(C33=\"\",\"\",INDEX(downloadmatch!$A:$B,$A33,B$2))","v":""},{"$f":"IF(C32=\"\",\"\",IF(INDEX(downloadmatch!$A:$B,$A33,C$2)=0,\"\",INDEX(downloadmatch!$A:$B,$A33,C$2)))","v":""},null,"","","","","","","","","",{"$f":"IF(M33=\"\",\"\",IF(M33>=settodownload!$C$5,\"OK\",\"\"))","v":""},"","","","","","","","","","","","","","","","","","","","",10,"","","","","","","","","","","","",""]
[592,{"$f":"IF(C34=\"\",\"\",INDEX(downloadmatch!$A:$B,$A34,B$2))","v":""},{"$f":"IF(C33=\"\",\"\",IF(INDEX(downloadmatch!$A:$B,$A34,C$2)=0,\"\",INDEX(downloadmatch!$A:$B,$A34,C$2)))","v":""},null,"","","","","","","","","",{"$f":"IF(M34=\"\",\"\",IF(M34>=settodownload!$C$5,\"OK\",\"\"))","v":""},"","","","","","","","","","","","","","","","","","","","",10,"","","","","","","","","","","","",""]
[593,{"$f":"IF(C35=\"\",\"\",INDEX(downloadmatch!$A:$B,$A35,B$2))","v":""},{"$f":"IF(C34=\"\",\"\",IF(INDEX(downloadmatch!$A:$B,$A35,C$2)=0,\"\",INDEX(downloadmatch!$A:$B,$A35,C$2)))","v":""},null,"","","","","","","","","",{"$f":"IF(M35=\"\",\"\",IF(M35>=settodownload!$C$5,\"OK\",\"\"))","v":""},"","","","","","","","","","","","","","","","","","","","",10,"","","","","","","","","","","","",""]
[594,{"$f":"IF(C36=\"\",\"\",INDEX(downloadmatch!$A:$B,$A36,B$2))","v":""},{"$f":"IF(C35=\"\",\"\",IF(INDEX(downloadmatch!$A:$B,$A36,C$2)=0,\"\",INDEX(downloadmatch!$A:$B,$A36,C$2)))","v":""},null,"","","","","","","","","",{"$f":"IF(M36=\"\",\"\",IF(M36>=settodownload!$C$5,\"OK\",\"\"))","v":""},"","","","","","","","","","","","","","","","","","","","",10,"","","","","","","","","","","","",""]
[595,{"$f":"IF(C37=\"\",\"\",INDEX(downloadmatch!$A:$B,$A37,B$2))","v":""},{"$f":"IF(C36=\"\",\"\",IF(INDEX(downloadmatch!$A:$B,$A37,C$2)=0,\"\",INDEX(downloadmatch!$A:$B,$A37,C$2)))","v":""},null,"","","","","","","","","",{"$f":"IF(M37=\"\",\"\",IF(M37>=settodownload!$C$5,\"OK\",\"\"))","v":""},"","","","","","","","","","","","","","","","","","","","",10,"","","","","","","","","","","","",""]
[596,{"$f":"IF(C38=\"\",\"\",INDEX(downloadmatch!$A:$B,$A38,B$2))","v":""},{"$f":"IF(C37=\"\",\"\",IF(INDEX(downloadmatch!$A:$B,$A38,C$2)=0,\"\",INDEX(downloadmatch!$A:$B,$A38,C$2)))","v":""},null,"","","","","","","","","",{"$f":"IF(M38=\"\",\"\",IF(M38>=settodownload!$C$5,\"OK\",\"\"))","v":""},"","","","","","","","","","","","","","","","","","","","",10,"","","","","","","","","","","","",""]
[597,{"$f":"IF(C39=\"\",\"\",INDEX(downloadmatch!$A:$B,$A39,B$2))","v":""},{"$f":"IF(C38=\"\",\"\",IF(INDEX(downloadmatch!$A:$B,$A39,C$2)=0,\"\",INDEX(downloadmatch!$A:$B,$A39,C$2)))","v":""},null,"","","","","","","","","",{"$f":"IF(M39=\"\",\"\",IF(M39>=settodownload!$C$5,\"OK\",\"\"))","v":""},"","","","","","","","","","","","","","","","","","","","",10,"","","","","","","","","","","","",""]
[598,{"$f":"IF(C40=\"\",\"\",INDEX(downloadmatch!$A:$B,$A40,B$2))","v":""},{"$f":"IF(C39=\"\",\"\",IF(INDEX(downloadmatch!$A:$B,$A40,C$2)=0,\"\",INDEX(downloadmatch!$A:$B,$A40,C$2)))","v":""},null,"","","","","","","","","",{"$f":"IF(M40=\"\",\"\",IF(M40>=settodownload!$C$5,\"OK\",\"\"))","v":""},"","","","","","","","","","","","","","","","","","","","",10,"","","","","","","","","","","","",""]
[599,{"$f":"IF(C41=\"\",\"\",INDEX(downloadmatch!$A:$B,$A41,B$2))","v":""},{"$f":"IF(C40=\"\",\"\",IF(INDEX(downloadmatch!$A:$B,$A41,C$2)=0,\"\",INDEX(downloadmatch!$A:$B,$A41,C$2)))","v":""},null,"","","","","","","","","",{"$f":"IF(M41=\"\",\"\",IF(M41>=settodownload!$C$5,\"OK\",\"\"))","v":""},"","","","","","","","","","","","","","","","","","","","",10,"","","","","","","","","","","","",""]
[600,{"$f":"IF(C42=\"\",\"\",INDEX(downloadmatch!$A:$B,$A42,B$2))","v":""},{"$f":"IF(C41=\"\",\"\",IF(INDEX(downloadmatch!$A:$B,$A42,C$2)=0,\"\",INDEX(downloadmatch!$A:$B,$A42,C$2)))","v":""},null,"","","","","","","","","",{"$f":"IF(M42=\"\",\"\",IF(M42>=settodownload!$C$5,\"OK\",\"\"))","v":""},"","","","","","","","","","","","","","","","","","","","",10,"","","","","","","","","","","","",""]
[601,{"$f":"IF(C43=\"\",\"\",INDEX(downloadmatch!$A:$B,$A43,B$2))","v":""},{"$f":"IF(C42=\"\",\"\",IF(INDEX(downloadmatch!$A:$B,$A43,C$2)=0,\"\",INDEX(downloadmatch!$A:$B,$A43,C$2)))","v":""},null,"","","","","","","","","",{"$f":"IF(M43=\"\",\"\",IF(M43>=settodownload!$C$5,\"OK\",\"\"))","v":""},"","","","","","","","","","","","","","","","","","","","",10,"","","","","","","","","","","","",""]
[602,{"$f":"IF(C44=\"\",\"\",INDEX(downloadmatch!$A:$B,$A44,B$2))","v":""},{"$f":"IF(C43=\"\",\"\",IF(INDEX(downloadmatch!$A:$B,$A44,C$2)=0,\"\",INDEX(downloadmatch!$A:$B,$A44,C$2)))","v":""},null,"","","","","","","","","",{"$f":"IF(M44=\"\",\"\",IF(M44>=settodownload!$C$5,\"OK\",\"\"))","v":""},"","","","","","","","","","","","","","","","","","","","",10,"","","","","","","","","","","","",""]
[603,{"$f":"IF(C45=\"\",\"\",INDEX(downloadmatch!$A:$B,$A45,B$2))","v":""},{"$f":"IF(C44=\"\",\"\",IF(INDEX(downloadmatch!$A:$B,$A45,C$2)=0,\"\",INDEX(downloadmatch!$A:$B,$A45,C$2)))","v":""},null,"","","","","","","","","",{"$f":"IF(M45=\"\",\"\",IF(M45>=settodownload!$C$5,\"OK\",\"\"))","v":""},"","","","","","","","","","","","","","","","","","","","",10,"","","","","","","","","","","","",""]
[604,{"$f":"IF(C46=\"\",\"\",INDEX(downloadmatch!$A:$B,$A46,B$2))","v":""},{"$f":"IF(C45=\"\",\"\",IF(INDEX(downloadmatch!$A:$B,$A46,C$2)=0,\"\",INDEX(downloadmatch!$A:$B,$A46,C$2)))","v":""},null,"","","","","","","","","",{"$f":"IF(M46=\"\",\"\",IF(M46>=settodownload!$C$5,\"OK\",\"\"))","v":""},"","","","","","","","","","","","","","","","","","","","",10,"","","","","","","","","","","","",""]
[605,{"$f":"IF(C47=\"\",\"\",INDEX(downloadmatch!$A:$B,$A47,B$2))","v":""},{"$f":"IF(C46=\"\",\"\",IF(INDEX(downloadmatch!$A:$B,$A47,C$2)=0,\"\",INDEX(downloadmatch!$A:$B,$A47,C$2)))","v":""},null,"","","","","","","","","",{"$f":"IF(M47=\"\",\"\",IF(M47>=settodownload!$C$5,\"OK\",\"\"))","v":""},"","","","","","","","","","","","","","","","","","","","",10,"","","","","","","","","","","","",""]
[606,{"$f":"IF(C48=\"\",\"\",INDEX(downloadmatch!$A:$B,$A48,B$2))","v":""},{"$f":"IF(C47=\"\",\"\",IF(INDEX(downloadmatch!$A:$B,$A48,C$2)=0,\"\",INDEX(downloadmatch!$A:$B,$A48,C$2)))","v":""},null,"","","","","","","","","",{"$f":"IF(M48=\"\",\"\",IF(M48>=settodownload!$C$5,\"OK\",\"\"))","v":""},"","","","","","","","","","","","","","","","","","","","",10,"","","","","","","","","","","","",""]
[607,{"$f":"IF(C49=\"\",\"\",INDEX(downloadmatch!$A:$B,$A49,B$2))","v":""},{"$f":"IF(C48=\"\",\"\",IF(INDEX(downloadmatch!$A:$B,$A49,C$2)=0,\"\",INDEX(downloadmatch!$A:$B,$A49,C$2)))","v":""},null,"","","","","","","","","",{"$f":"IF(M49=\"\",\"\",IF(M49>=settodownload!$C$5,\"OK\",\"\"))","v":""},"","","","","","","","","","","","","","","","","","","","",10,"","","","","","","","","","","","",""]
[608,{"$f":"IF(C50=\"\",\"\",INDEX(downloadmatch!$A:$B,$A50,B$2))","v":""},{"$f":"IF(C49=\"\",\"\",IF(INDEX(downloadmatch!$A:$B,$A50,C$2)=0,\"\",INDEX(downloadmatch!$A:$B,$A50,C$2)))","v":""},null,"","","","","","","","","",{"$f":"IF(M50=\"\",\"\",IF(M50>=settodownload!$C$5,\"OK\",\"\"))","v":""},"","","","","","","","","","","","","","","","","","","","",10,"","","","","","","","","","","","",""]
[609,{"$f":"IF(C51=\"\",\"\",INDEX(downloadmatch!$A:$B,$A51,B$2))","v":""},{"$f":"IF(C50=\"\",\"\",IF(INDEX(downloadmatch!$A:$B,$A51,C$2)=0,\"\",INDEX(downloadmatch!$A:$B,$A51,C$2)))","v":""},null,"","","","","","","","","",{"$f":"IF(M51=\"\",\"\",IF(M51>=settodownload!$C$5,\"OK\",\"\"))","v":""},"","","","","","","","","","","","","","","","","","","","",10,"","","","","","","","","","","","",""]
[610,{"$f":"IF(C52=\"\",\"\",INDEX(downloadmatch!$A:$B,$A52,B$2))","v":""},{"$f":"IF(C51=\"\",\"\",IF(INDEX(downloadmatch!$A:$B,$A52,C$2)=0,\"\",INDEX(downloadmatch!$A:$B,$A52,C$2)))","v":""},null,"","","","","","","","","",{"$f":"IF(M52=\"\",\"\",IF(M52>=settodownload!$C$5,\"OK\",\"\"))","v":""},"","","","","","","","","","","","","","","","","","","","",10,"","","","","","","","","","","","",""]
[611,{"$f":"IF(C53=\"\",\"\",INDEX(downloadmatch!$A:$B,$A53,B$2))","v":""},{"$f":"IF(C52=\"\",\"\",IF(INDEX(downloadmatch!$A:$B,$A53,C$2)=0,\"\",INDEX(downloadmatch!$A:$B,$A53,C$2)))","v":""},null,"","","","","","","","","",{"$f":"IF(M53=\"\",\"\",IF(M53>=settodownload!$C$5,\"OK\",\"\"))","v":""},"","","","","","","","","","","","","","","","","","","","",10,"","","","","","","","","","","","",""]
[612,{"$f":"IF(C54=\"\",\"\",INDEX(downloadmatch!$A:$B,$A54,B$2))","v":""},{"$f":"IF(C53=\"\",\"\",IF(INDEX(downloadmatch!$A:$B,$A54,C$2)=0,\"\",INDEX(downloadmatch!$A:$B,$A54,C$2)))","v":""},null,"","","","","","","","","",{"$f":"IF(M54=\"\",\"\",IF(M54>=settodownload!$C$5,\"OK\",\"\"))","v":""},"","","","","","","","","","","","","","","","","","","","",10,"","","","","","","","","","","","",""]
[613,{"$f":"IF(C55=\"\",\"\",INDEX(downloadmatch!$A:$B,$A55,B$2))","v":""},{"$f":"IF(C54=\"\",\"\",IF(INDEX(downloadmatch!$A:$B,$A55,C$2)=0,\"\",INDEX(downloadmatch!$A:$B,$A55,C$2)))","v":""},null,"","","","","","","","","",{"$f":"IF(M55=\"\",\"\",IF(M55>=settodownload!$C$5,\"OK\",\"\"))","v":""},"","","","","","","","","","","","","","","","","","","","",10,"","","","","","","","","","","","",""]
[614,{"$f":"IF(C56=\"\",\"\",INDEX(downloadmatch!$A:$B,$A56,B$2))","v":""},{"$f":"IF(C55=\"\",\"\",IF(INDEX(downloadmatch!$A:$B,$A56,C$2)=0,\"\",INDEX(downloadmatch!$A:$B,$A56,C$2)))","v":""},null,"","","","","","","","","",{"$f":"IF(M56=\"\",\"\",IF(M56>=settodownload!$C$5,\"OK\",\"\"))","v":""},"","","","","","","","","","","","","","","","","","","","",10,"","","","","","","","","","","","",""]
[615,{"$f":"IF(C57=\"\",\"\",INDEX(downloadmatch!$A:$B,$A57,B$2))","v":""},{"$f":"IF(C56=\"\",\"\",IF(INDEX(downloadmatch!$A:$B,$A57,C$2)=0,\"\",INDEX(downloadmatch!$A:$B,$A57,C$2)))","v":""},null,"","","","","","","","","",{"$f":"IF(M57=\"\",\"\",IF(M57>=settodownload!$C$5,\"OK\",\"\"))","v":""},"","","","","","","","","","","","","","","","","","","","",10,"","","","","","","","","","","","",""]
[616,{"$f":"IF(C58=\"\",\"\",INDEX(downloadmatch!$A:$B,$A58,B$2))","v":""},{"$f":"IF(C57=\"\",\"\",IF(INDEX(downloadmatch!$A:$B,$A58,C$2)=0,\"\",INDEX(downloadmatch!$A:$B,$A58,C$2)))","v":""},null,"","","","","","","","","",{"$f":"IF(M58=\"\",\"\",IF(M58>=settodownload!$C$5,\"OK\",\"\"))","v":""},"","","","","","","","","","","","","","","","","","","","",10,"","","","","","","","","","","","",""]
[617,{"$f":"IF(C59=\"\",\"\",INDEX(downloadmatch!$A:$B,$A59,B$2))","v":""},{"$f":"IF(C58=\"\",\"\",IF(INDEX(downloadmatch!$A:$B,$A59,C$2)=0,\"\",INDEX(downloadmatch!$A:$B,$A59,C$2)))","v":""},null,"","","","","","","","","",{"$f":"IF(M59=\"\",\"\",IF(M59>=settodownload!$C$5,\"OK\",\"\"))","v":""},"","","","","","","","","","","","","","",{"$f":"IF(W59=\"\",\"\",IF(W59>0,\"ok\",\"\"))","v":""},"","","","","",10,"","","","","","","","","","","","",""]
[618,{"$f":"IF(C60=\"\",\"\",INDEX(downloadmatch!$A:$B,$A60,B$2))","v":""},{"$f":"IF(C59=\"\",\"\",IF(INDEX(downloadmatch!$A:$B,$A60,C$2)=0,\"\",INDEX(downloadmatch!$A:$B,$A60,C$2)))","v":""},null,"","","","","","","","","",{"$f":"IF(M60=\"\",\"\",IF(M60>=settodownload!$C$5,\"OK\",\"\"))","v":""},"","","","","","","","","","","","","","","","","","","","",10,"","","","","","","","","","","","",""]
[619,{"$f":"IF(C61=\"\",\"\",INDEX(downloadmatch!$A:$B,$A61,B$2))","v":""},{"$f":"IF(C60=\"\",\"\",IF(INDEX(downloadmatch!$A:$B,$A61,C$2)=0,\"\",INDEX(downloadmatch!$A:$B,$A61,C$2)))","v":""},null,"","","","","","","","","",{"$f":"IF(M61=\"\",\"\",IF(M61>=settodownload!$C$5,\"OK\",\"\"))","v":""},"","","","","","","","","","","","","","","","","","","","",10,"","","","","","","","","","","","",""]
[620,{"$f":"IF(C62=\"\",\"\",INDEX(downloadmatch!$A:$B,$A62,B$2))","v":""},{"$f":"IF(C61=\"\",\"\",IF(INDEX(downloadmatch!$A:$B,$A62,C$2)=0,\"\",INDEX(downloadmatch!$A:$B,$A62,C$2)))","v":""},null,"","","","","","","","","",{"$f":"IF(M62=\"\",\"\",IF(M62>=settodownload!$C$5,\"OK\",\"\"))","v":""},"","","","","","","","","","","","","","","","","","","","",10,"","","","","","","","","","","","",""]
[621,{"$f":"IF(C63=\"\",\"\",INDEX(downloadmatch!$A:$B,$A63,B$2))","v":""},{"$f":"IF(C62=\"\",\"\",IF(INDEX(downloadmatch!$A:$B,$A63,C$2)=0,\"\",INDEX(downloadmatch!$A:$B,$A63,C$2)))","v":""},null,"","","","","","","","","",{"$f":"IF(M63=\"\",\"\",IF(M63>=settodownload!$C$5,\"OK\",\"\"))","v":""},"","","","","","","","","","","","","","","","","","","","",10,"","","","","","","","","","","","",""]
[622,{"$f":"IF(C64=\"\",\"\",INDEX(downloadmatch!$A:$B,$A64,B$2))","v":""},{"$f":"IF(C63=\"\",\"\",IF(INDEX(downloadmatch!$A:$B,$A64,C$2)=0,\"\",INDEX(downloadmatch!$A:$B,$A64,C$2)))","v":""},null,"","","","","","","","","",{"$f":"IF(M64=\"\",\"\",IF(M64>=settodownload!$C$5,\"OK\",\"\"))","v":""},"","","","","","","","","","","","","","","","","","","","",10,"","","","","","","","","","","","",""]
[623,{"$f":"IF(C65=\"\",\"\",INDEX(downloadmatch!$A:$B,$A65,B$2))","v":""},{"$f":"IF(C64=\"\",\"\",IF(INDEX(downloadmatch!$A:$B,$A65,C$2)=0,\"\",INDEX(downloadmatch!$A:$B,$A65,C$2)))","v":""},null,"","","","","","","","","",{"$f":"IF(M65=\"\",\"\",IF(M65>=settodownload!$C$5,\"OK\",\"\"))","v":""},"","","","","","","","","","","","","","","","","","","","",10,"","","","","","","","","","","","",""]
[624,{"$f":"IF(C66=\"\",\"\",INDEX(downloadmatch!$A:$B,$A66,B$2))","v":""},{"$f":"IF(C65=\"\",\"\",IF(INDEX(downloadmatch!$A:$B,$A66,C$2)=0,\"\",INDEX(downloadmatch!$A:$B,$A66,C$2)))","v":""},null,"","","","","","","","","",{"$f":"IF(M66=\"\",\"\",IF(M66>=settodownload!$C$5,\"OK\",\"\"))","v":""},"","","","","","","","","","","","","","","","","","","","",10,"","","","","","","","","","","","",""]
[625,{"$f":"IF(C67=\"\",\"\",INDEX(downloadmatch!$A:$B,$A67,B$2))","v":""},{"$f":"IF(C66=\"\",\"\",IF(INDEX(downloadmatch!$A:$B,$A67,C$2)=0,\"\",INDEX(downloadmatch!$A:$B,$A67,C$2)))","v":""},null,"","","","","","","","","",{"$f":"IF(M67=\"\",\"\",IF(M67>=settodownload!$C$5,\"OK\",\"\"))","v":""},"","","","","","","","","","","","","","","","","","","","",10,"","","","","","","","","","","","",""]
[626,{"$f":"IF(C68=\"\",\"\",INDEX(downloadmatch!$A:$B,$A68,B$2))","v":""},{"$f":"IF(C67=\"\",\"\",IF(INDEX(downloadmatch!$A:$B,$A68,C$2)=0,\"\",INDEX(downloadmatch!$A:$B,$A68,C$2)))","v":""},null,"","","","","","","","","",{"$f":"IF(M68=\"\",\"\",IF(M68>=settodownload!$C$5,\"OK\",\"\"))","v":""},"","","","","","","","","","","","","","","","","","","","",{"$f":"IF(W68=\"\",AI67,AI67+1)","v":10},{"$f":"IF(W68=\"\",\"\",IF(W68>X68,\"W\",IF(W68=X68,\"D\",IF(W68<X68,\"l\",\"\"))))","v":""},{"$f":"IF(Y68=\"\",\"\",IF(Y68>Z68,\"W\",IF(Y68=Z68,\"D\",IF(Y68<Z68,\"l\",\"\"))))","v":""},{"$f":"IF(AA68=\"\",\"\",IF(AA68>AB68,\"W\",IF(AA68=AB68,\"D\",IF(AA68<AB68,\"l\",\"\"))))","v":""},{"$f":"IF(AL68=\"\",\"\",IF((W68+X68)>0.5,\"OK\",\"\"))","v":""},{"$f":"IF(AM68=\"\",\"\",IF((W68+X68)>1,\"OK\",\"\"))","v":""},{"$f":"IF(AL68=\"\",\"\",IF((Y68+Z68)>0.5,\"OK\",\"\"))","v":""},{"$f":"IF(AL68=\"\",\"\",IF((Y68+Z68)>1,\"OK\",\"\"))","v":""},{"$f":"IF(AL68=\"\",\"\",IF((AA68+AB68)>1,\"OK\",\"\"))","v":""},{"$f":"IF(AL68=\"\",\"\",IF((AA68+AB68)>2,\"OK\",\"\"))","v":""},{"$f":"IF(AL68=\"\",\"\",IF((AA68+AB68)>3,\"OK\",\"\"))","v":""},{"$f":"IF(AL68=\"\",\"\",IF(AND(AJ68=\"W\",AK68=\"W\"),\"OK\",\"\"))","v":""},{"$f":"IF(AL68=\"\",\"\",IF(AND(AJ68=\"D\",AK68=\"D\"),\"OK\",\"\"))","v":""},{"$f":"IF(AL68=\"\",\"\",IF(AND(AJ68=\"L\",AK68=\"L\"),\"OK\",\"\"))","v":""}]
[627,{"$f":"IF(C69=\"\",\"\",INDEX(downloadmatch!$A:$B,$A69,B$2))","v":""},{"$f":"IF(C68=\"\",\"\",IF(INDEX(downloadmatch!$A:$B,$A69,C$2)=0,\"\",INDEX(downloadmatch!$A:$B,$A69,C$2)))","v":""},null,"","","","","","","","","",{"$f":"IF(M69=\"\",\"\",IF(M69>=settodownload!$C$5,\"OK\",\"\"))","v":""},"","","","","","","","","","","","","","","","","","","","",10,"","","","","","","","","","","","",""]
[628,{"$f":"IF(C70=\"\",\"\",INDEX(downloadmatch!$A:$B,$A70,B$2))","v":""},{"$f":"IF(C69=\"\",\"\",IF(INDEX(downloadmatch!$A:$B,$A70,C$2)=0,\"\",INDEX(downloadmatch!$A:$B,$A70,C$2)))","v":""},null,"","","","","","","","","",{"$f":"IF(M70=\"\",\"\",IF(M70>=settodownload!$C$5,\"OK\",\"\"))","v":""},"","","","","","","","","","","","","","","","","","","","",10,"","","","","","","","","","","","",""]
[629,{"$f":"IF(C71=\"\",\"\",INDEX(downloadmatch!$A:$B,$A71,B$2))","v":""},{"$f":"IF(C70=\"\",\"\",IF(INDEX(downloadmatch!$A:$B,$A71,C$2)=0,\"\",INDEX(downloadmatch!$A:$B,$A71,C$2)))","v":""},null,"","","","","","","","","",{"$f":"IF(M71=\"\",\"\",IF(M71>=settodownload!$C$5,\"OK\",\"\"))","v":""},"","","","","","","","","","","","","","","","","","","","",10,"","","","","","","","","","","","",""]
[630,{"$f":"IF(C72=\"\",\"\",INDEX(downloadmatch!$A:$B,$A72,B$2))","v":""},{"$f":"IF(C71=\"\",\"\",IF(INDEX(downloadmatch!$A:$B,$A72,C$2)=0,\"\",INDEX(downloadmatch!$A:$B,$A72,C$2)))","v":""},null,"","","","","","","","","",{"$f":"IF(M72=\"\",\"\",IF(M72>=settodownload!$C$5,\"OK\",\"\"))","v":""},"","","","","","","","","","","","","","","","","","","","",10,"","","","","","","","","","","","",""]
[631,{"$f":"IF(C73=\"\",\"\",INDEX(downloadmatch!$A:$B,$A73,B$2))","v":""},{"$f":"IF(C72=\"\",\"\",IF(INDEX(downloadmatch!$A:$B,$A73,C$2)=0,\"\",INDEX(downloadmatch!$A:$B,$A73,C$2)))","v":""},null,"","","","","","","","","",{"$f":"IF(M73=\"\",\"\",IF(M73>=settodownload!$C$5,\"OK\",\"\"))","v":""},"","","","","","","","","","","","","","","","","","","","",10,"","","","","","","","","","","","",""]
[632,{"$f":"IF(C74=\"\",\"\",INDEX(downloadmatch!$A:$B,$A74,B$2))","v":""},{"$f":"IF(C73=\"\",\"\",IF(INDEX(downloadmatch!$A:$B,$A74,C$2)=0,\"\",INDEX(downloadmatch!$A:$B,$A74,C$2)))","v":""},null,"","","","","","","","","",{"$f":"IF(M74=\"\",\"\",IF(M74>=settodownload!$C$5,\"OK\",\"\"))","v":""},"","","","","","","","","","","","","","","","","","","","",10,"","","","","","","","","","","","",""]
[633,{"$f":"IF(C75=\"\",\"\",INDEX(downloadmatch!$A:$B,$A75,B$2))","v":""},{"$f":"IF(C74=\"\",\"\",IF(INDEX(downloadmatch!$A:$B,$A75,C$2)=0,\"\",INDEX(downloadmatch!$A:$B,$A75,C$2)))","v":""},null,"","","","","","","","","",{"$f":"IF(M75=\"\",\"\",IF(M75>=settodownload!$C$5,\"OK\",\"\"))","v":""},"","","","","","","","","","","","","","","","","","","","",10,"","","","","","","","","","","","",""]
[634,{"$f":"IF(C76=\"\",\"\",INDEX(downloadmatch!$A:$B,$A76,B$2))","v":""},{"$f":"IF(C75=\"\",\"\",IF(INDEX(downloadmatch!$A:$B,$A76,C$2)=0,\"\",INDEX(downloadmatch!$A:$B,$A76,C$2)))","v":""},null,"","","","","","","","","",{"$f":"IF(M76=\"\",\"\",IF(M76>=settodownload!$C$5,\"OK\",\"\"))","v":""},"","","","","","","","","","","","","","","","","","","","",10,"","","","","","","","","","","","",""]
[635,{"$f":"IF(C77=\"\",\"\",INDEX(downloadmatch!$A:$B,$A77,B$2))","v":""},{"$f":"IF(C76=\"\",\"\",IF(INDEX(downloadmatch!$A:$B,$A77,C$2)=0,\"\",INDEX(downloadmatch!$A:$B,$A77,C$2)))","v":""},null,"","","","","","","","","",{"$f":"IF(M77=\"\",\"\",IF(M77>=settodownload!$C$5,\"OK\",\"\"))","v":""},"","","","","","","","","","","","","","","","","","","","",10,"","","","","","","","","","","","",""]
[636,{"$f":"IF(C78=\"\",\"\",INDEX(downloadmatch!$A:$B,$A78,B$2))","v":""},{"$f":"IF(C77=\"\",\"\",IF(INDEX(downloadmatch!$A:$B,$A78,C$2)=0,\"\",INDEX(downloadmatch!$A:$B,$A78,C$2)))","v":""},null,"","","","","","","","","",{"$f":"IF(M78=\"\",\"\",IF(M78>=settodownload!$C$5,\"OK\",\"\"))","v":""},"","","","","","","","","","","","","","","","","","","","",10,"","","","","","","","","","","","",""]
[637,{"$f":"IF(C79=\"\",\"\",INDEX(downloadmatch!$A:$B,$A79,B$2))","v":""},{"$f":"IF(C78=\"\",\"\",IF(INDEX(downloadmatch!$A:$B,$A79,C$2)=0,\"\",INDEX(downloadmatch!$A:$B,$A79,C$2)))","v":""},null,"","","","","","","","","",{"$f":"IF(M79=\"\",\"\",IF(M79>=settodownload!$C$5,\"OK\",\"\"))","v":""},"","","","","","","","","","","","","","","","","","","","",10,"","","","","","","","","","","","",""]
[638,{"$f":"IF(C80=\"\",\"\",INDEX(downloadmatch!$A:$B,$A80,B$2))","v":""},{"$f":"IF(C79=\"\",\"\",IF(INDEX(downloadmatch!$A:$B,$A80,C$2)=0,\"\",INDEX(downloadmatch!$A:$B,$A80,C$2)))","v":""},null,"","","","","","","","","",{"$f":"IF(M80=\"\",\"\",IF(M80>=settodownload!$C$5,\"OK\",\"\"))","v":""},"","","","","","","","","","","","","","","","","","","","",10,"","","","","","","","","","","","",""]
[639,{"$f":"IF(C81=\"\",\"\",INDEX(downloadmatch!$A:$B,$A81,B$2))","v":""},{"$f":"IF(C80=\"\",\"\",IF(INDEX(downloadmatch!$A:$B,$A81,C$2)=0,\"\",INDEX(downloadmatch!$A:$B,$A81,C$2)))","v":""},null,"","","","","","","","","",{"$f":"IF(M81=\"\",\"\",IF(M81>=settodownload!$C$5,\"OK\",\"\"))","v":""},"","","","","","","","","","","","","","","","","","","","",10,"","","","","","","","","","","","",""]
[640,{"$f":"IF(C82=\"\",\"\",INDEX(downloadmatch!$A:$B,$A82,B$2))","v":""},{"$f":"IF(C81=\"\",\"\",IF(INDEX(downloadmatch!$A:$B,$A82,C$2)=0,\"\",INDEX(downloadmatch!$A:$B,$A82,C$2)))","v":""},null,"","","","","","","","","",{"$f":"IF(M82=\"\",\"\",IF(M82>=settodownload!$C$5,\"OK\",\"\"))","v":""},"","","","","","","","","","","","","","","","","","","","",10,"","","","","","","","","","","","",""]
[641,{"$f":"IF(C83=\"\",\"\",INDEX(downloadmatch!$A:$B,$A83,B$2))","v":""},{"$f":"IF(C82=\"\",\"\",IF(INDEX(downloadmatch!$A:$B,$A83,C$2)=0,\"\",INDEX(downloadmatch!$A:$B,$A83,C$2)))","v":""},null,"","","","","","","","","",{"$f":"IF(M83=\"\",\"\",IF(M83>=settodownload!$C$5,\"OK\",\"\"))","v":""},"","","","","","","","","","","","","","","","","","","","",10,"","","","","","","","","","","","",""]
[642,{"$f":"IF(C84=\"\",\"\",INDEX(downloadmatch!$A:$B,$A84,B$2))","v":""},{"$f":"IF(C83=\"\",\"\",IF(INDEX(downloadmatch!$A:$B,$A84,C$2)=0,\"\",INDEX(downloadmatch!$A:$B,$A84,C$2)))","v":""},null,"","","","","","","","","",{"$f":"IF(M84=\"\",\"\",IF(M84>=settodownload!$C$5,\"OK\",\"\"))","v":""},"","","","","","","","","","","","","","","","","","","","",10,"","","","","","","","","","","","",""]
[643,{"$f":"IF(C85=\"\",\"\",INDEX(downloadmatch!$A:$B,$A85,B$2))","v":""},{"$f":"IF(C84=\"\",\"\",IF(INDEX(downloadmatch!$A:$B,$A85,C$2)=0,\"\",INDEX(downloadmatch!$A:$B,$A85,C$2)))","v":""},null,"","","","","","","","","",{"$f":"IF(M85=\"\",\"\",IF(M85>=settodownload!$C$5,\"OK\",\"\"))","v":""},"","","","","","","","","","","","","","","","","","","","",10,"","","","","","","","","","","","",""]
[644,{"$f":"IF(C86=\"\",\"\",INDEX(downloadmatch!$A:$B,$A86,B$2))","v":""},{"$f":"IF(C85=\"\",\"\",IF(INDEX(downloadmatch!$A:$B,$A86,C$2)=0,\"\",INDEX(downloadmatch!$A:$B,$A86,C$2)))","v":""},null,"","","","","","","","","",{"$f":"IF(M86=\"\",\"\",IF(M86>=settodownload!$C$5,\"OK\",\"\"))","v":""},"","","","","","","","","","","","","","","","","","","","",10,"","","","","","","","","","","","",""]
[645,{"$f":"IF(C87=\"\",\"\",INDEX(downloadmatch!$A:$B,$A87,B$2))","v":""},{"$f":"IF(C86=\"\",\"\",IF(INDEX(downloadmatch!$A:$B,$A87,C$2)=0,\"\",INDEX(downloadmatch!$A:$B,$A87,C$2)))","v":""},null,"","","","","","","","","",{"$f":"IF(M87=\"\",\"\",IF(M87>=settodownload!$C$5,\"OK\",\"\"))","v":""},"","","","","","","","","","","","","","","","","","","","",10,"","","","","","","","","","","","",""]
[646,{"$f":"IF(C88=\"\",\"\",INDEX(downloadmatch!$A:$B,$A88,B$2))","v":""},{"$f":"IF(C87=\"\",\"\",IF(INDEX(downloadmatch!$A:$B,$A88,C$2)=0,\"\",INDEX(downloadmatch!$A:$B,$A88,C$2)))","v":""},null,"","","","","","","","","",{"$f":"IF(M88=\"\",\"\",IF(M88>=settodownload!$C$5,\"OK\",\"\"))","v":""},"","","","","","","","","","","","","","","","","","","","",10,"","","","","","","","","","","","",""]
[647,{"$f":"IF(C89=\"\",\"\",INDEX(downloadmatch!$A:$B,$A89,B$2))","v":""},{"$f":"IF(C88=\"\",\"\",IF(INDEX(downloadmatch!$A:$B,$A89,C$2)=0,\"\",INDEX(downloadmatch!$A:$B,$A89,C$2)))","v":""},null,"","","","","","","","","",{"$f":"IF(M89=\"\",\"\",IF(M89>=settodownload!$C$5,\"OK\",\"\"))","v":""},"","","","","","","","","","","","","","","","","","","","",10,"","","","","","","","","","","","",""]
[648,{"$f":"IF(C90=\"\",\"\",INDEX(downloadmatch!$A:$B,$A90,B$2))","v":""},{"$f":"IF(C89=\"\",\"\",IF(INDEX(downloadmatch!$A:$B,$A90,C$2)=0,\"\",INDEX(downloadmatch!$A:$B,$A90,C$2)))","v":""},null,"","","","","","",{"$f":"IFERROR(MID(J90,SEARCH(\"AET\",J90)+4,100),\"\")","v":""},"","",{"$f":"IF(M90=\"\",\"\",IF(M90>=settodownload!$C$5,\"OK\",\"\"))","v":""},"","","","","","","","","","","","","","","","","","","","",10,"","","","","","","","","","","","",""]
[{"$f":"A90+1","v":649},{"$f":"IF(C91=\"\",\"\",INDEX(downloadmatch!$A:$B,$A91,B$2))","v":""},{"$f":"IF(C90=\"\",\"\",IF(INDEX(downloadmatch!$A:$B,$A91,C$2)=0,\"\",INDEX(downloadmatch!$A:$B,$A91,C$2)))","v":""},null,{"$f":"IF(B91=\"\",\"\",LEFT(B91,SEARCH(\" \",B91)-1))","v":""},{"$f":"IF(E91=\"\",\"\",MID(B91,SEARCH(\" \",B91)+1,100))","v":""},{"$f":"IF(F91=\"\",\"\",LEFT(C91,SEARCH(\" \",C91)-1))","v":""},{"$f":"IF(G91=\"\",\"\",MID(C91,SEARCH(\" \",C91)+1,100))","v":""},{"$f":"IF(H91=\"\",\"\",IF(K91=\"\",LEFT(H91,SEARCH(\" \",H91)-1),K91))","v":""},{"$f":"IF(F91=\"\",\"\",SUBSTITUTE(SUBSTITUTE(MID(C91,SEARCH(\" \",H91)+3,100),\"(\",\"\"),\")\",\"\"))","v":""},"",{"$f":"IFERROR(LEFT(J91,SEARCH(\"AET\",J91)-2),\"\")","v":""},{"$f":"IF(F91=\"\",\"\",fmt(E91,\"YYYY\")*1)","v":""},{"$f":"IF(M91=\"\",\"\",IF(M91>=settodownload!$C$5,\"OK\",\"\"))","v":""},{"$f":"IF(N91=\"\",\"\",LEFT(F91,SEARCH(\" - \",F91)-1))","v":""},{"$f":"IF(O91=\"\",\"\",MID(F91,SEARCH(\" - \",F91)+3,100))","v":""},{"$f":"IFERROR(IF(P91=\"\",\"\",LEFT(J91,SEARCH(\":\",J91)-1)*1),IF(L91=\"\",\"\",LEFT(L91,SEARCH(\":\",L91)-1)*1))","v":""},{"$f":"IFERROR(IF(Q91=\"\",\"\",MID(J91,SEARCH(\":\",J91)+1,100)*1),IF(L91=\"\",\"\",MID(L91,SEARCH(\":\",L91)+1,100)*1))","v":""},{"$f":"IF(R91=\"\",\"\",U91-Q91)","v":""},{"$f":"IF(S91=\"\",\"\",V91-R91)","v":""},{"$f":"IF(N91=\"\",\"\",LEFT(I91,SEARCH(\":\",I91)-1)*1)","v":""},{"$f":"IF(U91=\"\",\"\",MID(I91,SEARCH(\":\",I91)+1,100)*1)","v":""},{"$f":"IF($O$2=O91,Q91,R91)","v":""},{"$f":"IF($O$2=P91,Q91,R91)","v":""},{"$f":"IF($O$2=O91,S91,T91)","v":""},{"$f":"IF($O$2=P91,S91,T91)","v":""},{"$f":"IF($O$2=O91,U91,V91)","v":""},{"$f":"IF($O$2=P91,U91,V91)","v":""},"","","","","","",10,"","","","","","","","","","","","",""]
[650,{"$f":"IF(C92=\"\",\"\",INDEX(downloadmatch!$A:$B,$A92,B$2))","v":""},{"$f":"IF(C91=\"\",\"\",IF(INDEX(downloadmatch!$A:$B,$A92,C$2)=0,\"\",INDEX(downloadmatch!$A:$B,$A92,C$2)))","v":""},null,"","","","","","","","","",{"$f":"IF(M92=\"\",\"\",IF(M92>=settodownload!$C$5,\"OK\",\"\"))","v":""},"","","","","","","","","","","","","","","","","","","","",10,"","","","","","","","","","","","",""]
[651,{"$f":"IF(C93=\"\",\"\",INDEX(downloadmatch!$A:$B,$A93,B$2))","v":""},{"$f":"IF(C92=\"\",\"\",IF(INDEX(downloadmatch!$A:$B,$A93,C$2)=0,\"\",INDEX(downloadmatch!$A:$B,$A93,C$2)))","v":""},null,"","","","","","","","","",{"$f":"IF(M93=\"\",\"\",IF(M93>=settodownload!$C$5,\"OK\",\"\"))","v":""},"","","","","","","","","","","","","","","","","","","","",10,"","","","","","","","","","","","",""]
[652,{"$f":"IF(C94=\"\",\"\",INDEX(downloadmatch!$A:$B,$A94,B$2))","v":""},{"$f":"IF(C93=\"\",\"\",IF(INDEX(downloadmatch!$A:$B,$A94,C$2)=0,\"\",INDEX(downloadmatch!$A:$B,$A94,C$2)))","v":""},null,"","","","","","","","","",{"$f":"IF(M94=\"\",\"\",IF(M94>=settodownload!$C$5,\"OK\",\"\"))","v":""},"","","","","","","","","","","","","","","","","","","","",10,"","","","","","","","","","","","",""]
[653,{"$f":"IF(C95=\"\",\"\",INDEX(downloadmatch!$A:$B,$A95,B$2))","v":""},{"$f":"IF(C94=\"\",\"\",IF(INDEX(downloadmatch!$A:$B,$A95,C$2)=0,\"\",INDEX(downloadmatch!$A:$B,$A95,C$2)))","v":""},null,"","","","","","","","","",{"$f":"IF(M95=\"\",\"\",IF(M95>=settodownload!$C$5,\"OK\",\"\"))","v":""},"","","","","","","","","","","","","","","","","","","","",10,"","","","","","","","","","","","",""]
[654,{"$f":"IF(C96=\"\",\"\",INDEX(downloadmatch!$A:$B,$A96,B$2))","v":""},{"$f":"IF(C95=\"\",\"\",IF(INDEX(downloadmatch!$A:$B,$A96,C$2)=0,\"\",INDEX(downloadmatch!$A:$B,$A96,C$2)))","v":""},null,"","","","","","","","","",{"$f":"IF(M96=\"\",\"\",IF(M96>=settodownload!$C$5,\"OK\",\"\"))","v":""},"","","","","","","","","","","","","","","","","","","","",10,"","","","","","","","","","","","",""]
[655,{"$f":"IF(C97=\"\",\"\",INDEX(downloadmatch!$A:$B,$A97,B$2))","v":""},{"$f":"IF(C96=\"\",\"\",IF(INDEX(downloadmatch!$A:$B,$A97,C$2)=0,\"\",INDEX(downloadmatch!$A:$B,$A97,C$2)))","v":""},null,"","","","","","","","","",{"$f":"IF(M97=\"\",\"\",IF(M97>=settodownload!$C$5,\"OK\",\"\"))","v":""},"","","","","","","","","","","","","","","","","","","","",10,"","","","","","","","","","","","",""]
[656,{"$f":"IF(C98=\"\",\"\",INDEX(downloadmatch!$A:$B,$A98,B$2))","v":""},{"$f":"IF(C97=\"\",\"\",IF(INDEX(downloadmatch!$A:$B,$A98,C$2)=0,\"\",INDEX(downloadmatch!$A:$B,$A98,C$2)))","v":""},null,"","","","","","","","","",{"$f":"IF(M98=\"\",\"\",IF(M98>=settodownload!$C$5,\"OK\",\"\"))","v":""},"","","","","","","","","","","","","","","","","","","","",10,"","","","","","","","","","","","",""]
[657,{"$f":"IF(C99=\"\",\"\",INDEX(downloadmatch!$A:$B,$A99,B$2))","v":""},{"$f":"IF(C98=\"\",\"\",IF(INDEX(downloadmatch!$A:$B,$A99,C$2)=0,\"\",INDEX(downloadmatch!$A:$B,$A99,C$2)))","v":""},null,"","","","","","","","","",{"$f":"IF(M99=\"\",\"\",IF(M99>=settodownload!$C$5,\"OK\",\"\"))","v":""},"","","","","","","","","","","","","","","","","","","","",{"$f":"IF(W99=\"\",AI98,AI98+1)","v":10},"","","","","","","","","","","","",""]
[{"$f":"A99+1","v":658},{"$f":"IF(C100=\"\",\"\",INDEX(downloadmatch!#REF!,$A100,B$2))","v":""},{"$f":"IF(C99=\"\",\"\",IF(INDEX(downloadmatch!#REF!,$A100,C$2)=0,\"\",INDEX(downloadmatch!#REF!,$A100,C$2)))","v":""},null,null,null,null,null,null,{"$f":"IF(F100=\"\",\"\",SUBSTITUTE(SUBSTITUTE(MID(C100,SEARCH(\" \",H100)+3,100),\"(\",\"\"),\")\",\"\"))","v":""},null,null,{"$f":"IF(F100=\"\",\"\",fmt(E100,\"YYYY\")*1)","v":""},{"$f":"IF(M100=\"\",\"\",IF(M100>=settodownload!$C$5,\"OK\",\"\"))","v":""}]

{"sheet":"HEAD1","index":7,"n_rows":100,"n_cols":51,"rows_kept":100,"cut":false,"hidden":true,"merged":[[1,14,1,15],[1,16,1,21],[0,38,0,39],[0,40,0,41],[0,42,0,44],[0,45,0,47],[0,16,0,17],[0,18,0,19],[0,20,0,21],[0,22,0,23],[0,24,0,25],[0,26,0,27]]}
[{"$f":"CONCATENATE(settodownload!E3,\"- \",settodownload!F3,\"- Head to heads\")","v":"Aberystwyth - Bala Town - Head to heads"},null,null,null,null,null,null,null,null,null,null,null,null,null,null,null,"HT",null,"ST",null,"FT",null,{"$f":"Q1","v":"HT"},null,{"$f":"S1","v":"ST"},null,{"$f":"U1","v":"FT"},null,"+","-","+","-","+","-",null,null,null,null,"HT",null,"ST",null,"FT",null,null,"WINNER"]
[{"$f":"MATCH(A1,downloadmatch!$A:$A,0)","v":577},1,{"$f":"B2+1","v":2},null,"DATE","TEAMS","REST","FT - HT","FT","HT",null,null,null,null,{"$f":"HOME!O2","v":"Aberystwyth"},null,"NOSORT",null,null,null,null,null,null,null,null,null,null,null,{"$f":"COUNTIF(AC3:AC99,\"ok\")/$AI$99","v":0.25},{"$f":"COUNTIF(AD3:AD99,\"ok\")/$AI$99","v":0.5},0.75,1,0.75,1,null,null,null,null,{"$f":"COUNTIF(AM3:AM99,\"OK\")/$AI$99","v":0.75},{"$f":"COUNTIF(AN3:AN99,\"OK\")/$AI$99","v":0.5},{"$f":"COUNTIF(AO3:AO99,\"OK\")/$AI$99","v":1},1,{"$f":"COUNTIF(AQ3:AQ99,\"OK\")/$AI$99","v":1},{"$f":"COUNTIF(AR3:AR99,\"OK\")/$AI$99","v":1},{"$f":"COUNTIF(AS3:AS99,\"OK\")/$AI$99","v":0.75},{"$f":"COUNTIF(AT3:AT99,\"OK\")/$AI$99","v":0},{"$f":"COUNTIF(AU3:AU99,\"OK\")/$AI$99","v":0},0.25,"W","D","L"]
[{"$f":"A2+1","v":578},{"$f":"IF(C3=\"\",\"\",INDEX(downloadmatch!$A:$B,$A3,B$2))","v":"08.11.19 Aberystwyth - Bala Town"},{"$f":"IF(C2=\"\",\"\",IF(INDEX(downloadmatch!$A:$B,$A3,C$2)=0,\"\",INDEX(downloadmatch!$A:$B,$A3,C$2)))","v":"L 0:5 (0:2)"},null,{"$f":"IF(B3=\"\",\"\",LEFT(B3,SEARCH(\" \",B3)-1))","v":"08.11.19"},{"$f":"IF(E3=\"\",\"\",MID(B3,SEARCH(\" \",B3)+1,100))","v":"Aberystwyth - Bala Town"},{"$f":"IF(F3=\"\",\"\",LEFT(C3,SEARCH(\" \",C3)-1))","v":"L"},{"$f":"IF(G3=\"\",\"\",MID(C3,SEARCH(\" \",C3)+1,100))","v":"0:5 (0:2)"},{"$f":"IF(H3=\"\",\"\",IF(K3=\"\",LEFT(H3,SEARCH(\" \",H3)-1),K3))","v":"0:5"},{"$f":"IF(F3=\"\",\"\",SUBSTITUTE(SUBSTITUTE(MID(C3,SEARCH(\" \",H3)+3,100),\"(\",\"\"),\")\",\"\"))","v":"0:2"},{"$f":"IFERROR(MID(J3,SEARCH(\"AET\",J3)+4,100),\"\")","v":""},{"$f":"IFERROR(LEFT(J3,SEARCH(\"AET\",J3)-2),\"\")","v":""},{"$f":"IF(F3=\"\",\"\",fmt(E3,\"YYYY\")*1)","v":2019},{"$f":"IF(M3=\"\",\"\",IF(M3>=settodownload!$F$5,\"OK\",\"\"))","v":"OK"},{"$f":"IF(N3=\"\",\"\",LEFT(F3,SEARCH(\" - \",F3)-1))","v":"Aberystwyth"},{"$f":"IF(O3=\"\",\"\",MID(F3,SEARCH(\" - \",F3)+3,100))","v":"Bala Town"},{"$f":"IFERROR(IF(P3=\"\",\"\",LEFT(J3,SEARCH(\":\",J3)-1)*1),IF(L3=\"\",\"\",LEFT(L3,SEARCH(\":\",L3)-1)*1))","v":0},{"$f":"IFERROR(IF(Q3=\"\",\"\",MID(J3,SEARCH(\":\",J3)+1,100)*1),IF(L3=\"\",\"\",MID(L3,SEARCH(\":\",L3)+1,100)*1))","v":2},{"$f":"IF(R3=\"\",\"\",U3-Q3)","v":0},{"$f":"IF(S3=\"\",\"\",V3-R3)","v":3},{"$f":"IF(N3=\"\",\"\",LEFT(I3,SEARCH(\":\",I3)-1)*1)","v":0},{"$f":"IF(U3=\"\",\"\",MID(I3,SEARCH(\":\",I3)+1,100)*1)","v":5},{"$f":"IF($O$2=O3,Q3,R3)","v":0},{"$f":"IF($O$2=P3,Q3,R3)","v":2},{"$f":"IF($O$2=O3,S3,T3)","v":0},{"$f":"IF($O$2=P3,S3,T3)","v":3},{"$f":"IF($O$2=O3,U3,V3)","v":0},{"$f":"IF($O$2=P3,U3,V3)","v":5},{"$f":"IF(W3=\"\",\"\",IF(W3>0,\"ok\",\"\"))","v":""},{"$f":"IF(X3=\"\",\"\",IF(X3>0,\"ok\",\"\"))","v":"ok"},"","ok","","ok",{"$f":"IF(W3=\"\",AI2,AI2+1)","v":1},{"$f":"IF(W3=\"\",\"\",IF(W3>X3,\"W\",IF(W3=X3,\"D\",IF(W3<X3,\"l\",\"\"))))","v":"l"},{"$f":"IF(Y3=\"\",\"\",IF(Y3>Z3,\"W\",IF(Y3=Z3,\"D\",IF(Y3<Z3,\"l\",\"\"))))","v":"l"},{"$f":"IF(AA3=\"\",\"\",IF(AA3>AB3,\"W\",IF(AA3=AB3,\"D\",IF(AA3<AB3,\"l\",\"\"))))","v":"l"},{"$f":"IF(AL3=\"\",\"\",IF((W3+X3)>0.5,\"OK\",\"\"))","v":"OK"},{"$f":"IF(AM3=\"\",\"\",IF((W3+X3)>1,\"OK\",\"\"))","v":"OK"},{"$f":"IF(AL3=\"\",\"\",IF((Y3+Z3)>0.5,\"OK\",\"\"))","v":"OK"},{"$f":"IF(AL3=\"\",\"\",IF((Y3+Z3)>1,\"OK\",\"\"))","v":"OK"},{"$f":"IF(AL3=\"\",\"\",IF((AA3+AB3)>1,\"OK\",\"\"))","v":"OK"},{"$f":"IF(AL3=\"\",\"\",IF((AA3+AB3)>2,\"OK\",\"\"))","v":"OK"},{"$f":"IF(AL3=\"\",\"\",IF((AA3+AB3)>3,\"OK\",\"\"))","v":"OK"},{"$f":"IF(AL3=\"\",\"\",IF(AND(AJ3=\"W\",AK3=\"W\"),\"OK\",\"\"))","v":""},{"$f":"IF(AL3=\"\",\"\",IF(AND(AJ3=\"D\",AK3=\"D\"),\"OK\",\"\"))","v":""},{"$f":"IF(AL3=\"\",\"\",IF(AND(AJ3=\"L\",AK3=\"L\"),\"OK\",\"\"))","v":"OK"},{"$f":"COUNTIF($AJ:$AJ,AW2)","v":1},{"$f":"COUNTIF($AJ:$AJ,AX2)","v":1},2]
[{"$f":"A3+1","v":579},{"$f":"IF(C4=\"\",\"\",INDEX(downloadmatch!$A:$B,$A4,B$2))","v":"15.09.18 Aberystwyth - Bala Town"},{"$f":"IF(C3=\"\",\"\",IF(INDEX(downloadmatch!$A:$B,$A4,C$2)=0,\"\",INDEX(downloadmatch!$A:$B,$A4,C$2)))","v":"W 3:2 (1:0)"},null,{"$f":"IF(B4=\"\",\"\",LEFT(B4,SEARCH(\" \",B4)-1))","v":"15.09.18"},{"$f":"IF(E4=\"\",\"\",MID(B4,SEARCH(\" \",B4)+1,100))","v":"Aberystwyth - Bala Town"},{"$f":"IF(F4=\"\",\"\",LEFT(C4,SEARCH(\" \",C4)-1))","v":"W"},{"$f":"IF(G4=\"\",\"\",MID(C4,SEARCH(\" \",C4)+1,100))","v":"3:2 (1:0)"},{"$f":"IF(H4=\"\",\"\",IF(K4=\"\",LEFT(H4,SEARCH(\" \",H4)-1),K4))","v":"3:2"},{"$f":"IF(F4=\"\",\"\",SUBSTITUTE(SUBSTITUTE(MID(C4,SEARCH(\" \",H4)+3,100),\"(\",\"\"),\")\",\"\"))","v":"1:0"},"","",2018,{"$f":"IF(M4=\"\",\"\",IF(M4>=settodownload!$F$5,\"OK\",\"\"))","v":"OK"},{"$f":"IF(N4=\"\",\"\",LEFT(F4,SEARCH(\" - \",F4)-1))","v":"Aberystwyth"},{"$f":"IF(O4=\"\",\"\",MID(F4,SEARCH(\" - \",F4)+3,100))","v":"Bala Town"},1,0,{"$f":"IF(R4=\"\",\"\",U4-Q4)","v":2},2,{"$f":"IF(N4=\"\",\"\",LEFT(I4,SEARCH(\":\",I4)-1)*1)","v":3},{"$f":"IF(U4=\"\",\"\",MID(I4,SEARCH(\":\",I4)+1,100)*1)","v":2},{"$f":"IF($O$2=O4,Q4,R4)","v":1},{"$f":"IF($O$2=P4,Q4,R4)","v":0},{"$f":"IF($O$2=O4,S4,T4)","v":2},{"$f":"IF($O$2=P4,S4,T4)","v":2},{"$f":"IF($O$2=O4,U4,V4)","v":3},{"$f":"IF($O$2=P4,U4,V4)","v":2},{"$f":"IF(W4=\"\",\"\",IF(W4>0,\"ok\",\"\"))","v":"ok"},"","ok","ok","ok","ok",{"$f":"IF(W4=\"\",AI3,AI3+1)","v":2},{"$f":"IF(W4=\"\",\"\",IF(W4>X4,\"W\",IF(W4=X4,\"D\",IF(W4<X4,\"l\",\"\"))))","v":"W"},{"$f":"IF(Y4=\"\",\"\",IF(Y4>Z4,\"W\",IF(Y4=Z4,\"D\",IF(Y4<Z4,\"l\",\"\"))))","v":"D"},{"$f":"IF(AA4=\"\",\"\",IF(AA4>AB4,\"W\",IF(AA4=AB4,\"D\",IF(AA4<AB4,\"l\",\"\"))))","v":"W"},{"$f":"IF(AL4=\"\",\"\",IF((W4+X4)>0.5,\"OK\",\"\"))","v":"OK"},{"$f":"IF(AM4=\"\",\"\",IF((W4+X4)>1,\"OK\",\"\"))","v":""},{"$f":"IF(AL4=\"\",\"\",IF((Y4+Z4)>0.5,\"OK\",\"\"))","v":"OK"},{"$f":"IF(AL4=\"\",\"\",IF((Y4+Z4)>1,\"OK\",\"\"))","v":"OK"},{"$f":"IF(AL4=\"\",\"\",IF((AA4+AB4)>1,\"OK\",\"\"))","v":"OK"},{"$f":"IF(AL4=\"\",\"\",IF((AA4+AB4)>2,\"OK\",\"\"))","v":"OK"},{"$f":"IF(AL4=\"\",\"\",IF((AA4+AB4)>3,\"OK\",\"\"))","v":"OK"},{"$f":"IF(AL4=\"\",\"\",IF(AND(AJ4=\"W\",AK4=\"W\"),\"OK\",\"\"))","v":""},{"$f":"IF(AL4=\"\",\"\",IF(AND(AJ4=\"D\",AK4=\"D\"),\"OK\",\"\"))","v":""},{"$f":"IF(AL4=\"\",\"\",IF(AND(AJ4=\"L\",AK4=\"L\"),\"OK\",\"\"))","v":""},{"$f":"AW3/$AI$99","v":0.25},{"$f":"AX3/$AI$99","v":0.25},0.5]
[{"$f":"A4+1","v":580},{"$f":"IF(C5=\"\",\"\",INDEX(downloadmatch!$A:$B,$A5,B$2))","v":"17.11.17 Aberystwyth - Bala Town"},{"$f":"IF(C4=\"\",\"\",IF(INDEX(downloadmatch!$A:$B,$A5,C$2)=0,\"\",INDEX(downloadmatch!$A:$B,$A5,C$2)))","v":"L 1:2 (0:0)"},null,"17.11.17","Aberystwyth - Bala Town","L","1:2 (0:0)","1:2","0:0","","",2017,{"$f":"IF(M5=\"\",\"\",IF(M5>=settodownload!$F$5,\"OK\",\"\"))","v":"OK"},"Aberystwyth","Bala Town",0,0,1,2,1,2,0,0,1,2,1,2,"","","ok","ok","ok","ok",3,"D","l","l","","","OK","OK","OK","OK","","","",""]
[581,{"$f":"IF(C6=\"\",\"\",INDEX(downloadmatch!$A:$B,$A6,B$2))","v":"25.11.16 Aberystwyth - Bala Town"},{"$f":"IF(C5=\"\",\"\",IF(INDEX(downloadmatch!$A:$B,$A6,C$2)=0,\"\",INDEX(downloadmatch!$A:$B,$A6,C$2)))","v":"L 1:3 (0:2)"},null,"25.11.16","Aberystwyth - Bala Town","L","1:3 (0:2)","1:3","0:2","","",2016,{"$f":"IF(M6=\"\",\"\",IF(M6>=settodownload!$F$5,\"OK\",\"\"))","v":"OK"},"Aberystwyth","Bala Town",0,2,1,1,1,3,0,2,1,1,1,3,"","ok","ok","ok","ok","ok",4,"l","D","l","OK","OK","OK","OK","OK","OK","OK","","",""]
[582,{"$f":"IF(C7=\"\",\"\",INDEX(downloadmatch!$A:$B,$A7,B$2))","v":"22.09.15 Aberystwyth - Bala Town"},{"$f":"IF(C6=\"\",\"\",IF(INDEX(downloadmatch!$A:$B,$A7,C$2)=0,\"\",INDEX(downloadmatch!$A:$B,$A7,C$2)))","v":"D 1:1 (0:1)"},null,"22.09.15","Aberystwyth - Bala Town","D","1:1 (0:1)","1:1","0:1","","",2015,{"$f":"IF(M7=\"\",\"\",IF(M7>=settodownload!$F$5,\"OK\",\"\"))","v":""},"","","","","","","","","","","","","","","","","","","","",4,"","","","","","","","","","","","","",{"$f":"COUNTIF($AK:$AK,AW2)","v":0},{"$f":"COUNTIF($AK:$AK,AX2)","v":2},2]
[583,{"$f":"IF(C8=\"\",\"\",INDEX(downloadmatch!$A:$B,$A8,B$2))","v":"17.04.15 Aberystwyth - Bala Town"},{"$f":"IF(C7=\"\",\"\",IF(INDEX(downloadmatch!$A:$B,$A8,C$2)=0,\"\",INDEX(downloadmatch!$A:$B,$A8,C$2)))","v":"L 1:2 (1:0)"},null,"17.04.15","Aberystwyth - Bala Town","L","1:2 (1:0)","1:2","1:0","","",2015,{"$f":"IF(M8=\"\",\"\",IF(M8>=settodownload!$F$5,\"OK\",\"\"))","v":""},"","","","","","","","","","","","","","","","","","","","",4,"","","","","","","","","","","","","",{"$f":"AW7/$AI$99","v":0},{"$f":"AX7/$AI$99","v":0.5},0.5]
[584,{"$f":"IF(C9=\"\",\"\",INDEX(downloadmatch!$A:$B,$A9,B$2))","v":"26.09.14 Aberystwyth - Bala Town"},{"$f":"IF(C8=\"\",\"\",IF(INDEX(downloadmatch!$A:$B,$A9,C$2)=0,\"\",INDEX(downloadmatch!$A:$B,$A9,C$2)))","v":"W 4:0 (2:0)"},null,"26.09.14","Aberystwyth - Bala Town","W","4:0 (2:0)","4:0","2:0","","",2014,{"$f":"IF(M9=\"\",\"\",IF(M9>=settodownload!$F$5,\"OK\",\"\"))","v":""},"","","","","","","","","","","","","","","","","","","","",4,"","","","","","","","","","","","",""]
[585,{"$f":"IF(C10=\"\",\"\",INDEX(downloadmatch!$A:$B,$A10,B$2))","v":"11.04.14 Aberystwyth - Bala Town"},{"$f":"IF(C9=\"\",\"\",IF(INDEX(downloadmatch!$A:$B,$A10,C$2)=0,\"\",INDEX(downloadmatch!$A:$B,$A10,C$2)))","v":"L 2:3 (1:1)"},null,"11.04.14","Aberystwyth - Bala Town","L","2:3 (1:1)","2:3","1:1","","",2014,{"$f":"IF(M10=\"\",\"\",IF(M10>=settodownload!$F$5,\"OK\",\"\"))","v":""},"","","","","","","","","","","","","","","","","","","","",4,"","","","","","","","","","","","",""]
[586,{"$f":"IF(C11=\"\",\"\",INDEX(downloadmatch!$A:$B,$A11,B$2))","v":""},{"$f":"IF(C10=\"\",\"\",IF(INDEX(downloadmatch!$A:$B,$A11,C$2)=0,\"\",INDEX(downloadmatch!$A:$B,$A11,C$2)))","v":""},null,"","","","","","","","","",{"$f":"IF(M11=\"\",\"\",IF(M11>=settodownload!$F$5,\"OK\",\"\"))","v":""},"","","","","","","","","","","","","","","","","","","","",4,"","","","","","","","","","","","","",{"$f":"COUNTIF($AL:$AL,AW2)","v":1},{"$f":"COUNTIF($AL:$AL,AX2)","v":0},3]
[587,{"$f":"IF(C12=\"\",\"\",INDEX(downloadmatch!$A:$B,$A12,B$2))","v":""},{"$f":"IF(C11=\"\",\"\",IF(INDEX(downloadmatch!$A:$B,$A12,C$2)=0,\"\",INDEX(downloadmatch!$A:$B,$A12,C$2)))","v":""},null,"","","","","","","","","",{"$f":"IF(M12=\"\",\"\",IF(M12>=settodownload!$F$5,\"OK\",\"\"))","v":""},"","","","","","","","","","","","","","","","","","","","",4,"","","","","","","","","","","","","",{"$f":"AW11/$AI$99","v":0.25},{"$f":"AX11/$AI$99","v":0},0.75]
[588,{"$f":"IF(C13=\"\",\"\",INDEX(downloadmatch!$A:$B,$A13,B$2))","v":""},{"$f":"IF(C12=\"\",\"\",IF(INDEX(downloadmatch!$A:$B,$A13,C$2)=0,\"\",INDEX(downloadmatch!$A:$B,$A13,C$2)))","v":""},null,"","","","","","","","","",{"$f":"IF(M13=\"\",\"\",IF(M13>=settodownload!$F$5,\"OK\",\"\"))","v":""},"","","","","","","","","","","","","","","","","","","","",4,"","","","","","","","","","","","",""]
[589,{"$f":"IF(C14=\"\",\"\",INDEX(downloadmatch!$A:$B,$A14,B$2))","v":""},{"$f":"IF(C13=\"\",\"\",IF(INDEX(downloadmatch!$A:$B,$A14,C$2)=0,\"\",INDEX(downloadmatch!$A:$B,$A14,C$2)))","v":""},null,"","","","","","","","","",{"$f":"IF(M14=\"\",\"\",IF(M14>=settodownload!$F$5,\"OK\",\"\"))","v":""},"","","","","","","","","","","","","","","","","","","","",4,"","","","","","","","","","","","",""]
[590,{"$f":"IF(C15=\"\",\"\",INDEX(downloadmatch!$A:$B,$A15,B$2))","v":""},{"$f":"IF(C14=\"\",\"\",IF(INDEX(downloadmatch!$A:$B,$A15,C$2)=0,\"\",INDEX(downloadmatch!$A:$B,$A15,C$2)))","v":""},null,"","","","","","","","","",{"$f":"IF(M15=\"\",\"\",IF(M15>=settodownload!$F$5,\"OK\",\"\"))","v":""},"","","","","","","","","","","","","","","","","","","","",4,"","","","","","","","","","","","",""]
[591,{"$f":"IF(C16=\"\",\"\",INDEX(downloadmatch!$A:$B,$A16,B$2))","v":""},{"$f":"IF(C15=\"\",\"\",IF(INDEX(downloadmatch!$A:$B,$A16,C$2)=0,\"\",INDEX(downloadmatch!$A:$B,$A16,C$2)))","v":""},null,"","","","","","","","","",{"$f":"IF(M16=\"\",\"\",IF(M16>=settodownload!$F$5,\"OK\",\"\"))","v":""},"","","","","","","","","","","","","","","","","","","","",4,"","","","","","","","","","","","",""]
[592,{"$f":"IF(C17=\"\",\"\",INDEX(downloadmatch!$A:$B,$A17,B$2))","v":""},{"$f":"IF(C16=\"\",\"\",IF(INDEX(downloadmatch!$A:$B,$A17,C$2)=0,\"\",INDEX(downloadmatch!$A:$B,$A17,C$2)))","v":""},null,"","","","","","","","","",{"$f":"IF(M17=\"\",\"\",IF(M17>=settodownload!$F$5,\"OK\",\"\"))","v":""},"","","","","","","","","","","","","","","","","","","","",4,"","","","","","","","","","","","",""]
[593,{"$f":"IF(C18=\"\",\"\",INDEX(downloadmatch!$A:$B,$A18,B$2))","v":""},{"$f":"IF(C17=\"\",\"\",IF(INDEX(downloadmatch!$A:$B,$A18,C$2)=0,\"\",INDEX(downloadmatch!$A:$B,$A18,C$2)))","v":""},null,"","","","","","","","","",{"$f":"IF(M18=\"\",\"\",IF(M18>=settodownload!$F$5,\"OK\",\"\"))","v":""},"","","","","","","","","","","","","","","","","","","","",4,"","","","","","","","","","","","",""]
[594,{"$f":"IF(C19=\"\",\"\",INDEX(downloadmatch!$A:$B,$A19,B$2))","v":""},{"$f":"IF(C18=\"\",\"\",IF(INDEX(downloadmatch!$A:$B,$A19,C$2)=0,\"\",INDEX(downloadmatch!$A:$B,$A19,C$2)))","v":""},null,"","","","","","","","","",{"$f":"IF(M19=\"\",\"\",IF(M19>=settodownload!$F$5,\"OK\",\"\"))","v":""},"","","","","","","","","","","","","","","","","","","","",4,"","","","","","","","","","","","",""]
[595,{"$f":"IF(C20=\"\",\"\",INDEX(downloadmatch!$A:$B,$A20,B$2))","v":""},{"$f":"IF(C19=\"\",\"\",IF(INDEX(downloadmatch!$A:$B,$A20,C$2)=0,\"\",INDEX(downloadmatch!$A:$B,$A20,C$2)))","v":""},null,"","","","","","","","","",{"$f":"IF(M20=\"\",\"\",IF(M20>=settodownload!$F$5,\"OK\",\"\"))","v":""},"","","","",{"$f":"IF(R20=\"\",\"\",U20-Q20)","v":""},"","","","","","","","","","","","","","","",4,"","","","","","","","","","","","",""]
[596,{"$f":"IF(C21=\"\",\"\",INDEX(downloadmatch!$A:$B,$A21,B$2))","v":""},{"$f":"IF(C20=\"\",\"\",IF(INDEX(downloadmatch!$A:$B,$A21,C$2)=0,\"\",INDEX(downloadmatch!$A:$B,$A21,C$2)))","v":""},null,"","","","","","","","","",{"$f":"IF(M21=\"\",\"\",IF(M21>=settodownload!$F$5,\"OK\",\"\"))","v":""},"","","","","","","","","","","","","","","","","","","","",4,"","","","","","","","","","","","",""]
[597,{"$f":"IF(C22=\"\",\"\",INDEX(downloadmatch!$A:$B,$A22,B$2))","v":""},{"$f":"IF(C21=\"\",\"\",IF(INDEX(downloadmatch!$A:$B,$A22,C$2)=0,\"\",INDEX(downloadmatch!$A:$B,$A22,C$2)))","v":""},null,"","","","","","","","","",{"$f":"IF(M22=\"\",\"\",IF(M22>=settodownload!$F$5,\"OK\",\"\"))","v":""},"","","","","","","","","","","","","","","","","","","","",4,"","","","","","","","","","","","",""]
[598,{"$f":"IF(C23=\"\",\"\",INDEX(downloadmatch!$A:$B,$A23,B$2))","v":""},{"$f":"IF(C22=\"\",\"\",IF(INDEX(downloadmatch!$A:$B,$A23,C$2)=0,\"\",INDEX(downloadmatch!$A:$B,$A23,C$2)))","v":""},null,"","","","","","","","","",{"$f":"IF(M23=\"\",\"\",IF(M23>=settodownload!$F$5,\"OK\",\"\"))","v":""},"","","","","","","","","","","","","","","","","","","","",4,"","","","","","","","","","","","",""]
[599,{"$f":"IF(C24=\"\",\"\",INDEX(downloadmatch!$A:$B,$A24,B$2))","v":""},{"$f":"IF(C23=\"\",\"\",IF(INDEX(downloadmatch!$A:$B,$A24,C$2)=0,\"\",INDEX(downloadmatch!$A:$B,$A24,C$2)))","v":""},null,"","","","","","","","","",{"$f":"IF(M24=\"\",\"\",IF(M24>=settodownload!$F$5,\"OK\",\"\"))","v":""},"","","","","","","","","","","","","","","","","","","","",4,"","","","","","","","","","","","",""]
[600,{"$f":"IF(C25=\"\",\"\",INDEX(downloadmatch!$A:$B,$A25,B$2))","v":""},{"$f":"IF(C24=\"\",\"\",IF(INDEX(downloadmatch!$A:$B,$A25,C$2)=0,\"\",INDEX(downloadmatch!$A:$B,$A25,C$2)))","v":""},null,"","","","","",{"$f":"IF(F25=\"\",\"\",SUBSTITUTE(SUBSTITUTE(MID(C25,SEARCH(\" \",H25)+3,100),\"(\",\"\"),\")\",\"\"))","v":""},{"$f":"IFERROR(MID(J25,SEARCH(\"AET\",J25)+4,100),\"\")","v":""},{"$f":"IFERROR(LEFT(J25,SEARCH(\"AET\",J25)-2),\"\")","v":""},"",{"$f":"IF(M25=\"\",\"\",IF(M25>=settodownload!$F$5,\"OK\",\"\"))","v":""},"","","","","","","","","","","","","","","","","","","","",4,"","","","","","","","","","","","",""]
[601,{"$f":"IF(C26=\"\",\"\",INDEX(downloadmatch!$A:$B,$A26,B$2))","v":""},{"$f":"IF(C25=\"\",\"\",IF(INDEX(downloadmatch!$A:$B,$A26,C$2)=0,\"\",INDEX(downloadmatch!$A:$B,$A26,C$2)))","v":""},null,"","","","","","",{"$f":"IFERROR(MID(J26,SEARCH(\"AET\",J26)+4,100),\"\")","v":""},{"$f":"IFERROR(LEFT(J26,SEARCH(\"AET\",J26)-2),\"\")","v":""},"",{"$f":"IF(M26=\"\",\"\",IF(M26>=settodownload!$F$5,\"OK\",\"\"))","v":""},"","","","","","","","","","","","","","","","","","","","",4,"","","","","","","","","","","","",""]
[602,{"$f":"IF(C27=\"\",\"\",INDEX(downloadmatch!$A:$B,$A27,B$2))","v":""},{"$f":"IF(C26=\"\",\"\",IF(INDEX(downloadmatch!$A:$B,$A27,C$2)=0,\"\",INDEX(downloadmatch!$A:$B,$A27,C$2)))","v":""},null,"","","","","","","","","",{"$f":"IF(M27=\"\",\"\",IF(M27>=settodownload!$F$5,\"OK\",\"\"))","v":""},"","","","","","","","","","","","","","","","","","","","",4,"","","","","","","","","","","","",""]
[603,{"$f":"IF(C28=\"\",\"\",INDEX(downloadmatch!$A:$B,$A28,B$2))","v":""},{"$f":"IF(C27=\"\",\"\",IF(INDEX(downloadmatch!$A:$B,$A28,C$2)=0,\"\",INDEX(downloadmatch!$A:$B,$A28,C$2)))","v":""},null,"","","","","","","","","",{"$f":"IF(M28=\"\",\"\",IF(M28>=settodownload!$F$5,\"OK\",\"\"))","v":""},"","","","","","","","","","","","","","","","","","","","",4,"","","","","","","","","","","","",""]
[604,{"$f":"IF(C29=\"\",\"\",INDEX(downloadmatch!$A:$B,$A29,B$2))","v":""},{"$f":"IF(C28=\"\",\"\",IF(INDEX(downloadmatch!$A:$B,$A29,C$2)=0,\"\",INDEX(downloadmatch!$A:$B,$A29,C$2)))","v":""},null,"","","","","","","","","",{"$f":"IF(M29=\"\",\"\",IF(M29>=settodownload!$F$5,\"OK\",\"\"))","v":""},"","","","","","","","","","","","","","","","","","","","",4,"","","","","","","","","","","","",""]
[605,{"$f":"IF(C30=\"\",\"\",INDEX(downloadmatch!$A:$B,$A30,B$2))","v":""},{"$f":"IF(C29=\"\",\"\",IF(INDEX(downloadmatch!$A:$B,$A30,C$2)=0,\"\",INDEX(downloadmatch!$A:$B,$A30,C$2)))","v":""},null,"","","","","","","","","",{"$f":"IF(M30=\"\",\"\",IF(M30>=settodownload!$F$5,\"OK\",\"\"))","v":""},"","","","","","","","","","","","","","","","","","","","",4,"","","","","","","","","","","","",""]
[606,{"$f":"IF(C31=\"\",\"\",INDEX(downloadmatch!$A:$B,$A31,B$2))","v":""},{"$f":"IF(C30=\"\",\"\",IF(INDEX(downloadmatch!$A:$B,$A31,C$2)=0,\"\",INDEX(downloadmatch!$A:$B,$A31,C$2)))","v":""},null,"","","","","","","","","",{"$f":"IF(M31=\"\",\"\",IF(M31>=settodownload!$F$5,\"OK\",\"\"))","v":""},"","","","","","","","","","","","","","","","","","","","",4,"","","","","","","","","","","","",""]
[607,{"$f":"IF(C32=\"\",\"\",INDEX(downloadmatch!$A:$B,$A32,B$2))","v":""},{"$f":"IF(C31=\"\",\"\",IF(INDEX(downloadmatch!$A:$B,$A32,C$2)=0,\"\",INDEX(downloadmatch!$A:$B,$A32,C$2)))","v":""},null,"","","","","","","","","",{"$f":"IF(M32=\"\",\"\",IF(M32>=settodownload!$F$5,\"OK\",\"\"))","v":""},"","","","","","","","","","","","","","","","","","","","",4,"","","","","","","","","","","","",""]
[608,{"$f":"IF(C33=\"\",\"\",INDEX(downloadmatch!$A:$B,$A33,B$2))","v":""},{"$f":"IF(C32=\"\",\"\",IF(INDEX(downloadmatch!$A:$B,$A33,C$2)=0,\"\",INDEX(downloadmatch!$A:$B,$A33,C$2)))","v":""},null,"","","","","","","","","",{"$f":"IF(M33=\"\",\"\",IF(M33>=settodownload!$F$5,\"OK\",\"\"))","v":""},"","","","","","","","","","","","","","","","","","","","",4,"","","","","","","","","","","","",""]
[609,{"$f":"IF(C34=\"\",\"\",INDEX(downloadmatch!$A:$B,$A34,B$2))","v":""},{"$f":"IF(C33=\"\",\"\",IF(INDEX(downloadmatch!$A:$B,$A34,C$2)=0,\"\",INDEX(downloadmatch!$A:$B,$A34,C$2)))","v":""},null,"","","","","","","","","",{"$f":"IF(M34=\"\",\"\",IF(M34>=settodownload!$F$5,\"OK\",\"\"))","v":""},"","","","","","","","","","","","","","","","","","","","",4,"","","","","","","","","","","","",""]
[610,{"$f":"IF(C35=\"\",\"\",INDEX(downloadmatch!$A:$B,$A35,B$2))","v":""},{"$f":"IF(C34=\"\",\"\",IF(INDEX(downloadmatch!$A:$B,$A35,C$2)=0,\"\",INDEX(downloadmatch!$A:$B,$A35,C$2)))","v":""},null,"","","","","","","","","",{"$f":"IF(M35=\"\",\"\",IF(M35>=settodownload!$F$5,\"OK\",\"\"))","v":""},"","","","","","","","","","","","","","","","","","","","",4,"","","","","","","","","","","","",""]
[611,{"$f":"IF(C36=\"\",\"\",INDEX(downloadmatch!$A:$B,$A36,B$2))","v":""},{"$f":"IF(C35=\"\",\"\",IF(INDEX(downloadmatch!$A:$B,$A36,C$2)=0,\"\",INDEX(downloadmatch!$A:$B,$A36,C$2)))","v":""},null,"","","","","","","","","",{"$f":"IF(M36=\"\",\"\",IF(M36>=settodownload!$F$5,\"OK\",\"\"))","v":""},"","","","",{"$f":"IF(R36=\"\",\"\",U36-Q36)","v":""},"","","","","","","","","","","","","","","",4,"","","","","","","","","","","","",""]
[612,{"$f":"IF(C37=\"\",\"\",INDEX(downloadmatch!$A:$B,$A37,B$2))","v":""},{"$f":"IF(C36=\"\",\"\",IF(INDEX(downloadmatch!$A:$B,$A37,C$2)=0,\"\",INDEX(downloadmatch!$A:$B,$A37,C$2)))","v":""},null,"","","","","","","","","",{"$f":"IF(M37=\"\",\"\",IF(M37>=settodownload!$F$5,\"OK\",\"\"))","v":""},"","","","","","","","","","","","","","","","","","","","",4,"","","","","","","","","","","","",""]
[613,{"$f":"IF(C38=\"\",\"\",INDEX(downloadmatch!$A:$B,$A38,B$2))","v":""},{"$f":"IF(C37=\"\",\"\",IF(INDEX(downloadmatch!$A:$B,$A38,C$2)=0,\"\",INDEX(downloadmatch!$A:$B,$A38,C$2)))","v":""},null,"","","","","","","","","",{"$f":"IF(M38=\"\",\"\",IF(M38>=settodownload!$F$5,\"OK\",\"\"))","v":""},"","","","","","","","","","","","","","","","","","","","",4,"","","","","","","","","","","","",""]
[614,{"$f":"IF(C39=\"\",\"\",INDEX(downloadmatch!$A:$B,$A39,B$2))","v":""},{"$f":"IF(C38=\"\",\"\",IF(INDEX(downloadmatch!$A:$B,$A39,C$2)=0,\"\",INDEX(downloadmatch!$A:$B,$A39,C$2)))","v":""},null,"","","","","","","","","",{"$f":"IF(M39=\"\",\"\",IF(M39>=settodownload!$F$5,\"OK\",\"\"))","v":""},"","","","","","","","","","","","","","","","","","","","",4,"","","","","","","","","","","","",""]
[615,{"$f":"IF(C40=\"\",\"\",INDEX(downloadmatch!$A:$B,$A40,B$2))","v":""},{"$f":"IF(C39=\"\",\"\",IF(INDEX(downloadmatch!$A:$B,$A40,C$2)=0,\"\",INDEX(downloadmatch!$A:$B,$A40,C$2)))","v":""},null,"","","","","","","","","",{"$f":"IF(M40=\"\",\"\",IF(M40>=settodownload!$F$5,\"OK\",\"\"))","v":""},"","","","","","","","","","","","","","","","","","","","",4,"","","","","","","","","","","","",""]
[616,{"$f":"IF(C41=\"\",\"\",INDEX(downloadmatch!$A:$B,$A41,B$2))","v":""},{"$f":"IF(C40=\"\",\"\",IF(INDEX(downloadmatch!$A:$B,$A41,C$2)=0,\"\",INDEX(downloadmatch!$A:$B,$A41,C$2)))","v":""},null,"","","","","","","","","",{"$f":"IF(M41=\"\",\"\",IF(M41>=settodownload!$F$5,\"OK\",\"\"))","v":""},"","","","","","","","","","","","","","","","","","","","",4,"","","","","","","","","","","","",""]
[617,{"$f":"IF(C42=\"\",\"\",INDEX(downloadmatch!$A:$B,$A42,B$2))","v":""},{"$f":"IF(C41=\"\",\"\",IF(INDEX(downloadmatch!$A:$B,$A42,C$2)=0,\"\",INDEX(downloadmatch!$A:$B,$A42,C$2)))","v":""},null,"","","","","","","","","",{"$f":"IF(M42=\"\",\"\",IF(M42>=settodownload!$F$5,\"OK\",\"\"))","v":""},"","","","","","","","","","","","","","","","","","","","",4,"","","","","","","","","","","","",""]
[618,{"$f":"IF(C43=\"\",\"\",INDEX(downloadmatch!$A:$B,$A43,B$2))","v":""},{"$f":"IF(C42=\"\",\"\",IF(INDEX(downloadmatch!$A:$B,$A43,C$2)=0,\"\",INDEX(downloadmatch!$A:$B,$A43,C$2)))","v":""},null,"","","","","","","","","",{"$f":"IF(M43=\"\",\"\",IF(M43>=settodownload!$F$5,\"OK\",\"\"))","v":""},"","","","","","","","","","","","","","","","","","","","",4,"","","","","","","","","","","","",""]
[619,{"$f":"IF(C44=\"\",\"\",INDEX(downloadmatch!$A:$B,$A44,B$2))","v":""},{"$f":"IF(C43=\"\",\"\",IF(INDEX(downloadmatch!$A:$B,$A44,C$2)=0,\"\",INDEX(downloadmatch!$A:$B,$A44,C$2)))","v":""},null,"","","","","","","","","",{"$f":"IF(M44=\"\",\"\",IF(M44>=settodownload!$F$5,\"OK\",\"\"))","v":""},"","","","","","","","","","","","","","","","","","","","",4,"","","","","","","","","","","","",""]
[620,{"$f":"IF(C45=\"\",\"\",INDEX(downloadmatch!$A:$B,$A45,B$2))","v":""},{"$f":"IF(C44=\"\",\"\",IF(INDEX(downloadmatch!$A:$B,$A45,C$2)=0,\"\",INDEX(downloadmatch!$A:$B,$A45,C$2)))","v":""},null,null,null,null,null,"","","","","",{"$f":"IF(M45=\"\",\"\",IF(M45>=settodownload!$F$5,\"OK\",\"\"))","v":""},"","","","","","","","","","","","","","","","","","","","",4,"","","","","","","","","","","","",""]
[621,{"$f":"IF(C46=\"\",\"\",INDEX(downloadmatch!$A:$B,$A46,B$2))","v":""},{"$f":"IF(C45=\"\",\"\",IF(INDEX(downloadmatch!$A:$B,$A46,C$2)=0,\"\",INDEX(downloadmatch!$A:$B,$A46,C$2)))","v":""},null,null,null,null,null,"","","","","",{"$f":"IF(M46=\"\",\"\",IF(M46>=settodownload!$F$5,\"OK\",\"\"))","v":""},"","","","","","","","","","","","","","","","","","","","",4,"","","","","","","","","","","","",""]
[622,{"$f":"IF(C47=\"\",\"\",INDEX(downloadmatch!$A:$B,$A47,B$2))","v":""},{"$f":"IF(C46=\"\",\"\",IF(INDEX(downloadmatch!$A:$B,$A47,C$2)=0,\"\",INDEX(downloadmatch!$A:$B,$A47,C$2)))","v":""},null,null,null,null,null,"","","","","",{"$f":"IF(M47=\"\",\"\",IF(M47>=settodownload!$F$5,\"OK\",\"\"))","v":""},"","","","","","","","","","","","","","","","","","","","",4,"","","","","","","","","","","","",""]
[623,{"$f":"IF(C48=\"\",\"\",INDEX(downloadmatch!$A:$B,$A48,B$2))","v":""},{"$f":"IF(C47=\"\",\"\",IF(INDEX(downloadmatch!$A:$B,$A48,C$2)=0,\"\",INDEX(downloadmatch!$A:$B,$A48,C$2)))","v":""},null,null,null,null,null,"","","","","",{"$f":"IF(M48=\"\",\"\",IF(M48>=settodownload!$F$5,\"OK\",\"\"))","v":""},"","","","","","","","","","","","","","","","","","","","",4,"","","","","","","","","","","","",""]
[624,{"$f":"IF(C49=\"\",\"\",INDEX(downloadmatch!$A:$B,$A49,B$2))","v":""},{"$f":"IF(C48=\"\",\"\",IF(INDEX(downloadmatch!$A:$B,$A49,C$2)=0,\"\",INDEX(downloadmatch!$A:$B,$A49,C$2)))","v":""},null,null,null,null,null,"","","","","",{"$f":"IF(M49=\"\",\"\",IF(M49>=settodownload!$F$5,\"OK\",\"\"))","v":""},"","","","","","","","","","","","","","","","","","","","",4,"","","","","","","","","","","","",""]
[625,{"$f":"IF(C50=\"\",\"\",INDEX(downloadmatch!$A:$B,$A50,B$2))","v":""},{"$f":"IF(C49=\"\",\"\",IF(INDEX(downloadmatch!$A:$B,$A50,C$2)=0,\"\",INDEX(downloadmatch!$A:$B,$A50,C$2)))","v":""},null,null,null,null,null,"","","","","",{"$f":"IF(M50=\"\",\"\",IF(M50>=settodownload!$F$5,\"OK\",\"\"))","v":""},"","","","","","","","","","","","","","","","","","","","",4,"","","","","","","","","","","","",""]
[626,{"$f":"IF(C51=\"\",\"\",INDEX(downloadmatch!$A:$B,$A51,B$2))","v":""},{"$f":"IF(C50=\"\",\"\",IF(INDEX(downloadmatch!$A:$B,$A51,C$2)=0,\"\",INDEX(downloadmatch!$A:$B,$A51,C$2)))","v":""},null,null,null,null,null,"","","","","",{"$f":"IF(M51=\"\",\"\",IF(M51>=settodownload!$F$5,\"OK\",\"\"))","v":""},"","","","","","","","","","","","","","","","","","","","",4,"","","","","","","","","","","","",""]
[627,{"$f":"IF(C52=\"\",\"\",INDEX(downloadmatch!$A:$B,$A52,B$2))","v":""},{"$f":"IF(C51=\"\",\"\",IF(INDEX(downloadmatch!$A:$B,$A52,C$2)=0,\"\",INDEX(downloadmatch!$A:$B,$A52,C$2)))","v":""},null,null,null,null,null,"","","","","",{"$f":"IF(M52=\"\",\"\",IF(M52>=settodownload!$F$5,\"OK\",\"\"))","v":""},"","","","",{"$f":"IF(R52=\"\",\"\",U52-Q52)","v":""},"","","","","","","","","","","","","","","",4,"","","","","","","","","","","","",""]
[628,{"$f":"IF(C53=\"\",\"\",INDEX(downloadmatch!$A:$B,$A53,B$2))","v":""},{"$f":"IF(C52=\"\",\"\",IF(INDEX(downloadmatch!$A:$B,$A53,C$2)=0,\"\",INDEX(downloadmatch!$A:$B,$A53,C$2)))","v":""},null,null,null,null,null,"","","","","",{"$f":"IF(M53=\"\",\"\",IF(M53>=settodownload!$F$5,\"OK\",\"\"))","v":""},"","","","","","","","","","","","","","","","","","","","",4,"","","","","","","","","","","","",""]
[629,{"$f":"IF(C54=\"\",\"\",INDEX(downloadmatch!$A:$B,$A54,B$2))","v":""},{"$f":"IF(C53=\"\",\"\",IF(INDEX(downloadmatch!$A:$B,$A54,C$2)=0,\"\",INDEX(downloadmatch!$A:$B,$A54,C$2)))","v":""},null,null,null,null,null,"","","","","",{"$f":"IF(M54=\"\",\"\",IF(M54>=settodownload!$F$5,\"OK\",\"\"))","v":""},"","","","","","","","","","","","","","","","","","","","",4,"","","","","","","","","","","","",""]
[630,{"$f":"IF(C55=\"\",\"\",INDEX(downloadmatch!$A:$B,$A55,B$2))","v":""},{"$f":"IF(C54=\"\",\"\",IF(INDEX(downloadmatch!$A:$B,$A55,C$2)=0,\"\",INDEX(downloadmatch!$A:$B,$A55,C$2)))","v":""},null,null,null,null,null,"","","","","",{"$f":"IF(M55=\"\",\"\",IF(M55>=settodownload!$F$5,\"OK\",\"\"))","v":""},"","","","","","","","","","","","","","","","","","","","",4,"","","","","","","","","","","","",""]
[631,{"$f":"IF(C56=\"\",\"\",INDEX(downloadmatch!$A:$B,$A56,B$2))","v":""},{"$f":"IF(C55=\"\",\"\",IF(INDEX(downloadmatch!$A:$B,$A56,C$2)=0,\"\",INDEX(downloadmatch!$A:$B,$A56,C$2)))","v":""},null,null,null,null,null,"","","","","",{"$f":"IF(M56=\"\",\"\",IF(M56>=settodownload!$F$5,\"OK\",\"\"))","v":""},"","","","","","","","","","","","","","","","","","","","",4,"","","","","","","","","","","","",""]
[632,{"$f":"IF(C57=\"\",\"\",INDEX(downloadmatch!$A:$B,$A57,B$2))","v":""},{"$f":"IF(C56=\"\",\"\",IF(INDEX(downloadmatch!$A:$B,$A57,C$2)=0,\"\",INDEX(downloadmatch!$A:$B,$A57,C$2)))","v":""},null,null,null,null,null,"","","","","",{"$f":"IF(M57=\"\",\"\",IF(M57>=settodownload!$F$5,\"OK\",\"\"))","v":""},"","","","","","","","","","","","","","","","","","","","",4,"","","","","","","","","","","","",""]
[633,{"$f":"IF(C58=\"\",\"\",INDEX(downloadmatch!$A:$B,$A58,B$2))","v":""},{"$f":"IF(C57=\"\",\"\",IF(INDEX(downloadmatch!$A:$B,$A58,C$2)=0,\"\",INDEX(downloadmatch!$A:$B,$A58,C$2)))","v":""},null,null,null,null,null,"","","","","",{"$f":"IF(M58=\"\",\"\",IF(M58>=settodownload!$F$5,\"OK\",\"\"))","v":""},"","","","","","","","","","","","","","","","","","","","",4,"","","","","","","","","","","","",""]
[634,{"$f":"IF(C59=\"\",\"\",INDEX(downloadmatch!$A:$B,$A59,B$2))","v":""},{"$f":"IF(C58=\"\",\"\",IF(INDEX(downloadmatch!$A:$B,$A59,C$2)=0,\"\",INDEX(downloadmatch!$A:$B,$A59,C$2)))","v":""},null,null,null,null,null,"","","","","",{"$f":"IF(M59=\"\",\"\",IF(M59>=settodownload!$F$5,\"OK\",\"\"))","v":""},"","","","","","","","","","","","","","",{"$f":"IF(W59=\"\",\"\",IF(W59>0,\"ok\",\"\"))","v":""},"","","","","",4,"","","","","","","","","","","","",""]
[635,{"$f":"IF(C60=\"\",\"\",INDEX(downloadmatch!$A:$B,$A60,B$2))","v":""},{"$f":"IF(C59=\"\",\"\",IF(INDEX(downloadmatch!$A:$B,$A60,C$2)=0,\"\",INDEX(downloadmatch!$A:$B,$A60,C$2)))","v":""},null,null,null,null,null,"","","","","",{"$f":"IF(M60=\"\",\"\",IF(M60>=settodownload!$F$5,\"OK\",\"\"))","v":""},"","","","","","","","","","","","","","","","","","","","",4,"","","","","","","","","","","","",""]
[636,{"$f":"IF(C61=\"\",\"\",INDEX(downloadmatch!$A:$B,$A61,B$2))","v":""},{"$f":"IF(C60=\"\",\"\",IF(INDEX(downloadmatch!$A:$B,$A61,C$2)=0,\"\",INDEX(downloadmatch!$A:$B,$A61,C$2)))","v":""},null,null,null,null,null,"","","","","",{"$f":"IF(M61=\"\",\"\",IF(M61>=settodownload!$F$5,\"OK\",\"\"))","v":""},"","","","","","","","","","","","","","","","","","","","",4,"","","","","","","","","","","","",""]
[637,{"$f":"IF(C62=\"\",\"\",INDEX(downloadmatch!$A:$B,$A62,B$2))","v":""},{"$f":"IF(C61=\"\",\"\",IF(INDEX(downloadmatch!$A:$B,$A62,C$2)=0,\"\",INDEX(downloadmatch!$A:$B,$A62,C$2)))","v":""},null,null,null,null,null,"","","","","",{"$f":"IF(M62=\"\",\"\",IF(M62>=settodownload!$F$5,\"OK\",\"\"))","v":""},"","","","","","","","","","","","","","","","","","","","",4,"","","","","","","","","","","","",""]
[638,{"$f":"IF(C63=\"\",\"\",INDEX(downloadmatch!$A:$B,$A63,B$2))","v":""},{"$f":"IF(C62=\"\",\"\",IF(INDEX(downloadmatch!$A:$B,$A63,C$2)=0,\"\",INDEX(downloadmatch!$A:$B,$A63,C$2)))","v":""},null,null,null,null,null,"","","","","",{"$f":"IF(M63=\"\",\"\",IF(M63>=settodownload!$F$5,\"OK\",\"\"))","v":""},"","","","","","","","","","","","","","","","","","","","",4,"","","","","","","","","","","","",""]
[639,{"$f":"IF(C64=\"\",\"\",INDEX(downloadmatch!$A:$B,$A64,B$2))","v":""},{"$f":"IF(C63=\"\",\"\",IF(INDEX(downloadmatch!$A:$B,$A64,C$2)=0,\"\",INDEX(downloadmatch!$A:$B,$A64,C$2)))","v":""},null,null,null,null,null,"","","","","",{"$f":"IF(M64=\"\",\"\",IF(M64>=settodownload!$F$5,\"OK\",\"\"))","v":""},"","","","","","","","","","","","","","","","","","","","",4,"","","","","","","","","","","","",""]
[640,{"$f":"IF(C65=\"\",\"\",INDEX(downloadmatch!$A:$B,$A65,B$2))","v":""},{"$f":"IF(C64=\"\",\"\",IF(INDEX(downloadmatch!$A:$B,$A65,C$2)=0,\"\",INDEX(downloadmatch!$A:$B,$A65,C$2)))","v":""},null,null,null,null,null,"","","","","",{"$f":"IF(M65=\"\",\"\",IF(M65>=settodownload!$F$5,\"OK\",\"\"))","v":""},"","","","","","","","","","","","","","","","","","","","",4,"","","","","","","","","","","","",""]
[641,{"$f":"IF(C66=\"\",\"\",INDEX(downloadmatch!$A:$B,$A66,B$2))","v":""},{"$f":"IF(C65=\"\",\"\",IF(INDEX(downloadmatch!$A:$B,$A66,C$2)=0,\"\",INDEX(downloadmatch!$A:$B,$A66,C$2)))","v":""},null,null,null,null,null,"","","","","",{"$f":"IF(M66=\"\",\"\",IF(M66>=settodownload!$F$5,\"OK\",\"\"))","v":""},"","","","","","","","","","","","","","","","","","","","",4,"","","","","","","","","","","","",""]
[642,{"$f":"IF(C67=\"\",\"\",INDEX(downloadmatch!$A:$B,$A67,B$2))","v":""},{"$f":"IF(C66=\"\",\"\",IF(INDEX(downloadmatch!$A:$B,$A67,C$2)=0,\"\",INDEX(downloadmatch!$A:$B,$A67,C$2)))","v":""},null,null,null,null,null,"","","","",{"$f":"IF(F67=\"\",\"\",fmt(E67,\"YYYY\")*1)","v":""},{"$f":"IF(M67=\"\",\"\",IF(M67>=settodownload!$F$5,\"OK\",\"\"))","v":""},"","",{"$f":"IFERROR(IF(P67=\"\",\"\",LEFT(J67,SEARCH(\":\",J67)-1)*1),IF(L67=\"\",\"\",LEFT(L67,SEARCH(\":\",L67)-1)*1))","v":""},{"$f":"IFERROR(IF(Q67=\"\",\"\",MID(J67,SEARCH(\":\",J67)+1,100)*1),IF(L67=\"\",\"\",MID(L67,SEARCH(\":\",L67)+1,100)*1))","v":""},"","","","","","","","","","","","","","","","",4,"","","","","","","","","","","","",""]
[643,{"$f":"IF(C68=\"\",\"\",INDEX(downloadmatch!$A:$B,$A68,B$2))","v":""},{"$f":"IF(C67=\"\",\"\",IF(INDEX(downloadmatch!$A:$B,$A68,C$2)=0,\"\",INDEX(downloadmatch!$A:$B,$A68,C$2)))","v":""},null,null,null,null,null,{"$f":"IF(H68=\"\",\"\",IF(K68=\"\",LEFT(H68,SEARCH(\" \",H68)-1),K68))","v":""},{"$f":"IF(F68=\"\",\"\",SUBSTITUTE(SUBSTITUTE(MID(C68,SEARCH(\" \",H68)+3,100),\"(\",\"\"),\")\",\"\"))","v":""},"","","",{"$f":"IF(M68=\"\",\"\",IF(M68>=settodownload!$F$5,\"OK\",\"\"))","v":""},{"$f":"IF(N68=\"\",\"\",LEFT(F68,SEARCH(\" - \",F68)-1))","v":""},{"$f":"IF(O68=\"\",\"\",MID(F68,SEARCH(\" - \",F68)+3,100))","v":""},"","",{"$f":"IF(R68=\"\",\"\",U68-Q68)","v":""},"",{"$f":"IF(N68=\"\",\"\",LEFT(I68,SEARCH(\":\",I68)-1)*1)","v":""},{"$f":"IF(U68=\"\",\"\",MID(I68,SEARCH(\":\",I68)+1,100)*1)","v":""},{"$f":"IF($O$2=O68,Q68,R68)","v":""},{"$f":"IF($O$2=P68,Q68,R68)","v":""},{"$f":"IF($O$2=O68,S68,T68)","v":""},{"$f":"IF($O$2=P68,S68,T68)","v":""},{"$f":"IF($O$2=O68,U68,V68)","v":""},{"$f":"IF($O$2=P68,U68,V68)","v":""},"","","","","","",{"$f":"IF(W68=\"\",AI67,AI67+1)","v":4},{"$f":"IF(W68=\"\",\"\",IF(W68>X68,\"W\",IF(W68=X68,\"D\",IF(W68<X68,\"l\",\"\"))))","v":""},{"$f":"IF(Y68=\"\",\"\",IF(Y68>Z68,\"W\",IF(Y68=Z68,\"D\",IF(Y68<Z68,\"l\",\"\"))))","v":""},{"$f":"IF(AA68=\"\",\"\",IF(AA68>AB68,\"W\",IF(AA68=AB68,\"D\",IF(AA68<AB68,\"l\",\"\"))))","v":""},{"$f":"IF(AL68=\"\",\"\",IF((W68+X68)>0.5,\"OK\",\"\"))","v":""},{"$f":"IF(AM68=\"\",\"\",IF((W68+X68)>1,\"OK\",\"\"))","v":""},{"$f":"IF(AL68=\"\",\"\",IF((Y68+Z68)>0.5,\"OK\",\"\"))","v":""},{"$f":"IF(AL68=\"\",\"\",IF((Y68+Z68)>1,\"OK\",\"\"))","v":""},{"$f":"IF(AL68=\"\",\"\",IF((AA68+AB68)>1,\"OK\",\"\"))","v":""},{"$f":"IF(AL68=\"\",\"\",IF((AA68+AB68)>2,\"OK\",\"\"))","v":""},{"$f":"IF(AL68=\"\",\"\",IF((AA68+AB68)>3,\"OK\",\"\"))","v":""},{"$f":"IF(AL68=\"\",\"\",IF(AND(AJ68=\"W\",AK68=\"W\"),\"OK\",\"\"))","v":""},{"$f":"IF(AL68=\"\",\"\",IF(AND(AJ68=\"D\",AK68=\"D\"),\"OK\",\"\"))","v":""},{"$f":"IF(AL68=\"\",\"\",IF(AND(AJ68=\"L\",AK68=\"L\"),\"OK\",\"\"))","v":""}]
[{"$f":"A68+1","v":644},{"$f":"IF(C69=\"\",\"\",INDEX(downloadmatch!$A:$B,$A69,B$2))","v":""},{"$f":"IF(C68=\"\",\"\",IF(INDEX(downloadmatch!$A:$B,$A69,C$2)=0,\"\",INDEX(downloadmatch!$A:$B,$A69,C$2)))","v":""},null,null,null,null,null,"","","","","",{"$f":"IF(M69=\"\",\"\",IF(M69>=settodownload!$F$5,\"OK\",\"\"))","v":""},"","","","","","","","","","","","","","","","","","","","",4,"","","","","","","","","","","","",""]
[645,{"$f":"IF(C70=\"\",\"\",INDEX(downloadmatch!$A:$B,$A70,B$2))","v":""},{"$f":"IF(C69=\"\",\"\",IF(INDEX(downloadmatch!$A:$B,$A70,C$2)=0,\"\",INDEX(downloadmatch!$A:$B,$A70,C$2)))","v":""},null,null,null,null,null,"","","","","",{"$f":"IF(M70=\"\",\"\",IF(M70>=settodownload!$F$5,\"OK\",\"\"))","v":""},"","","","","","","","","","","","","","","","","","","","",4,"","","","","","","","","","","","",""]
[646,{"$f":"IF(C71=\"\",\"\",INDEX(downloadmatch!$A:$B,$A71,B$2))","v":""},{"$f":"IF(C70=\"\",\"\",IF(INDEX(downloadmatch!$A:$B,$A71,C$2)=0,\"\",INDEX(downloadmatch!$A:$B,$A71,C$2)))","v":""},null,null,null,null,null,"","","","","",{"$f":"IF(M71=\"\",\"\",IF(M71>=settodownload!$F$5,\"OK\",\"\"))","v":""},"","","","","","","","","","","","","","","","","","","","",4,"","","","","","","","","","","","",""]
[647,{"$f":"IF(C72=\"\",\"\",INDEX(downloadmatch!$A:$B,$A72,B$2))","v":""},{"$f":"IF(C71=\"\",\"\",IF(INDEX(downloadmatch!$A:$B,$A72,C$2)=0,\"\",INDEX(downloadmatch!$A:$B,$A72,C$2)))","v":""},null,null,null,null,null,"","","","","",{"$f":"IF(M72=\"\",\"\",IF(M72>=settodownload!$F$5,\"OK\",\"\"))","v":""},"","","","","","","","","","","","","","","","","","","","",4,"","","","","","","","","","","","",""]
[648,{"$f":"IF(C73=\"\",\"\",INDEX(downloadmatch!$A:$B,$A73,B$2))","v":""},{"$f":"IF(C72=\"\",\"\",IF(INDEX(downloadmatch!$A:$B,$A73,C$2)=0,\"\",INDEX(downloadmatch!$A:$B,$A73,C$2)))","v":""},null,null,null,null,null,"","","","","",{"$f":"IF(M73=\"\",\"\",IF(M73>=settodownload!$F$5,\"OK\",\"\"))","v":""},"","","","","","","","","","","","","","","","","","","","",4,"","","","","","","","","","","","",""]
[649,{"$f":"IF(C74=\"\",\"\",INDEX(downloadmatch!$A:$B,$A74,B$2))","v":""},{"$f":"IF(C73=\"\",\"\",IF(INDEX(downloadmatch!$A:$B,$A74,C$2)=0,\"\",INDEX(downloadmatch!$A:$B,$A74,C$2)))","v":""},null,null,null,null,null,"","","","","",{"$f":"IF(M74=\"\",\"\",IF(M74>=settodownload!$F$5,\"OK\",\"\"))","v":""},"","","","","","","","","","","","","","","","","","","","",4,"","","","","","","","","","","","",""]
[650,{"$f":"IF(C75=\"\",\"\",INDEX(downloadmatch!$A:$B,$A75,B$2))","v":""},{"$f":"IF(C74=\"\",\"\",IF(INDEX(downloadmatch!$A:$B,$A75,C$2)=0,\"\",INDEX(downloadmatch!$A:$B,$A75,C$2)))","v":""},null,null,null,null,null,"","","","","",{"$f":"IF(M75=\"\",\"\",IF(M75>=settodownload!$F$5,\"OK\",\"\"))","v":""},"","","","","","","","","","","","","","","","","","","","",4,"","","","","","","","","","","","",""]
[651,{"$f":"IF(C76=\"\",\"\",INDEX(downloadmatch!$A:$B,$A76,B$2))","v":""},{"$f":"IF(C75=\"\",\"\",IF(INDEX(downloadmatch!$A:$B,$A76,C$2)=0,\"\",INDEX(downloadmatch!$A:$B,$A76,C$2)))","v":""},null,null,null,null,null,"","","","","",{"$f":"IF(M76=\"\",\"\",IF(M76>=settodownload!$F$5,\"OK\",\"\"))","v":""},"","","","","","","","","","","","","","","","","","","","",4,"","","","","","","","","","","","",""]
[652,{"$f":"IF(C77=\"\",\"\",INDEX(downloadmatch!$A:$B,$A77,B$2))","v":""},{"$f":"IF(C76=\"\",\"\",IF(INDEX(downloadmatch!$A:$B,$A77,C$2)=0,\"\",INDEX(downloadmatch!$A:$B,$A77,C$2)))","v":""},null,null,null,null,null,"","","","","",{"$f":"IF(M77=\"\",\"\",IF(M77>=settodownload!$F$5,\"OK\",\"\"))","v":""},"","","","","","","","","","","","","","","","","","","","",4,"","","","","","","","","","","","",""]
[653,{"$f":"IF(C78=\"\",\"\",INDEX(downloadmatch!$A:$B,$A78,B$2))","v":""},{"$f":"IF(C77=\"\",\"\",IF(INDEX(downloadmatch!$A:$B,$A78,C$2)=0,\"\",INDEX(downloadmatch!$A:$B,$A78,C$2)))","v":""},null,null,null,null,null,"","","","","",{"$f":"IF(M78=\"\",\"\",IF(M78>=settodownload!$F$5,\"OK\",\"\"))","v":""},"","","","","","","","","","","","","","","","","","","","",4,"","","","","","","","","","","","",""]
[654,{"$f":"IF(C79=\"\",\"\",INDEX(downloadmatch!$A:$B,$A79,B$2))","v":""},{"$f":"IF(C78=\"\",\"\",IF(INDEX(downloadmatch!$A:$B,$A79,C$2)=0,\"\",INDEX(downloadmatch!$A:$B,$A79,C$2)))","v":""},null,null,null,null,null,"","","","","",{"$f":"IF(M79=\"\",\"\",IF(M79>=settodownload!$F$5,\"OK\",\"\"))","v":""},"","","","","","","","","","","","","","","","","","","","",4,"","","","","","","","","","","","",""]
[655,{"$f":"IF(C80=\"\",\"\",INDEX(downloadmatch!$A:$B,$A80,B$2))","v":""},{"$f":"IF(C79=\"\",\"\",IF(INDEX(downloadmatch!$A:$B,$A80,C$2)=0,\"\",INDEX(downloadmatch!$A:$B,$A80,C$2)))","v":""},null,null,null,null,null,"","","","","",{"$f":"IF(M80=\"\",\"\",IF(M80>=settodownload!$F$5,\"OK\",\"\"))","v":""},"","","","","","","","","","","","","","","","","","","","",4,"","","","","","","","","","","","",""]
[656,{"$f":"IF(C81=\"\",\"\",INDEX(downloadmatch!$A:$B,$A81,B$2))","v":""},{"$f":"IF(C80=\"\",\"\",IF(INDEX(downloadmatch!$A:$B,$A81,C$2)=0,\"\",INDEX(downloadmatch!$A:$B,$A81,C$2)))","v":""},null,null,null,null,null,"","","","","",{"$f":"IF(M81=\"\",\"\",IF(M81>=settodownload!$F$5,\"OK\",\"\"))","v":""},"","","","","","","","","","","","","","","","","","","","",4,"","","","","","","","","","","","",""]
[657,{"$f":"IF(C82=\"\",\"\",INDEX(downloadmatch!$A:$B,$A82,B$2))","v":""},{"$f":"IF(C81=\"\",\"\",IF(INDEX(downloadmatch!$A:$B,$A82,C$2)=0,\"\",INDEX(downloadmatch!$A:$B,$A82,C$2)))","v":""},null,null,null,null,null,"","","","","",{"$f":"IF(M82=\"\",\"\",IF(M82>=settodownload!$F$5,\"OK\",\"\"))","v":""},"","","","","","","","","","","","","","","","","","","","",4,"","","","","","","","","","","","",""]
[658,{"$f":"IF(C83=\"\",\"\",INDEX(downloadmatch!$A:$B,$A83,B$2))","v":""},{"$f":"IF(C82=\"\",\"\",IF(INDEX(downloadmatch!$A:$B,$A83,C$2)=0,\"\",INDEX(downloadmatch!$A:$B,$A83,C$2)))","v":""},null,null,null,null,null,"","","","","",{"$f":"IF(M83=\"\",\"\",IF(M83>=settodownload!$F$5,\"OK\",\"\"))","v":""},"","","","","","","","","","","","","","","","","","","","",4,"","","","","","","","","","","","",""]
[659,{"$f":"IF(C84=\"\",\"\",INDEX(downloadmatch!$A:$B,$A84,B$2))","v":""},{"$f":"IF(C83=\"\",\"\",IF(INDEX(downloadmatch!$A:$B,$A84,C$2)=0,\"\",INDEX(downloadmatch!$A:$B,$A84,C$2)))","v":""},null,null,null,null,null,"","","","","",{"$f":"IF(M84=\"\",\"\",IF(M84>=settodownload!$F$5,\"OK\",\"\"))","v":""},"","","","",{"$f":"IF(R84=\"\",\"\",U84-Q84)","v":""},"","","","","","","","","","","","","","","",4,"","","","","","","","","","","","",""]
[660,{"$f":"IF(C85=\"\",\"\",INDEX(downloadmatch!$A:$B,$A85,B$2))","v":""},{"$f":"IF(C84=\"\",\"\",IF(INDEX(downloadmatch!$A:$B,$A85,C$2)=0,\"\",INDEX(downloadmatch!$A:$B,$A85,C$2)))","v":""},null,null,null,null,null,"","","","","",{"$f":"IF(M85=\"\",\"\",IF(M85>=settodownload!$F$5,\"OK\",\"\"))","v":""},"","","","","","","","","","","","","","","","","","","","",4,"","","","","","","","","","","","",""]
[661,{"$f":"IF(C86=\"\",\"\",INDEX(downloadmatch!$A:$B,$A86,B$2))","v":""},{"$f":"IF(C85=\"\",\"\",IF(INDEX(downloadmatch!$A:$B,$A86,C$2)=0,\"\",INDEX(downloadmatch!$A:$B,$A86,C$2)))","v":""},null,null,null,null,null,"","","","","",{"$f":"IF(M86=\"\",\"\",IF(M86>=settodownload!$F$5,\"OK\",\"\"))","v":""},"","","","","","","","","","","","","","","","","","","","",4,"","","","","","","","","","","","",""]
[662,{"$f":"IF(C87=\"\",\"\",INDEX(downloadmatch!$A:$B,$A87,B$2))","v":""},{"$f":"IF(C86=\"\",\"\",IF(INDEX(downloadmatch!$A:$B,$A87,C$2)=0,\"\",INDEX(downloadmatch!$A:$B,$A87,C$2)))","v":""},null,null,null,null,null,"","","","","",{"$f":"IF(M87=\"\",\"\",IF(M87>=settodownload!$F$5,\"OK\",\"\"))","v":""},"","","","","","","","","","","","","","","","","","","","",4,"","","","","","","","","","","","",""]
[663,{"$f":"IF(C88=\"\",\"\",INDEX(downloadmatch!$A:$B,$A88,B$2))","v":""},{"$f":"IF(C87=\"\",\"\",IF(INDEX(downloadmatch!$A:$B,$A88,C$2)=0,\"\",INDEX(downloadmatch!$A:$B,$A88,C$2)))","v":""},null,null,null,null,null,"","","","","",{"$f":"IF(M88=\"\",\"\",IF(M88>=settodownload!$F$5,\"OK\",\"\"))","v":""},"","","","","","","","","","","","","","","","","","","","",4,"","","","","","","","","","","","",""]
[664,{"$f":"IF(C89=\"\",\"\",INDEX(downloadmatch!$A:$B,$A89,B$2))","v":""},{"$f":"IF(C88=\"\",\"\",IF(INDEX(downloadmatch!$A:$B,$A89,C$2)=0,\"\",INDEX(downloadmatch!$A:$B,$A89,C$2)))","v":""},null,null,null,null,null,"","","","","",{"$f":"IF(M89=\"\",\"\",IF(M89>=settodownload!$F$5,\"OK\",\"\"))","v":""},"","","","","","","","","","","","","","","","","","","","",4,"","","","","","","","","","","","",""]
[665,{"$f":"IF(C90=\"\",\"\",INDEX(downloadmatch!$A:$B,$A90,B$2))","v":""},{"$f":"IF(C89=\"\",\"\",IF(INDEX(downloadmatch!$A:$B,$A90,C$2)=0,\"\",INDEX(downloadmatch!$A:$B,$A90,C$2)))","v":""},null,null,null,null,null,"","",{"$f":"IFERROR(MID(J90,SEARCH(\"AET\",J90)+4,100),\"\")","v":""},{"$f":"IFERROR(LEFT(J90,SEARCH(\"AET\",J90)-2),\"\")","v":""},"",{"$f":"IF(M90=\"\",\"\",IF(M90>=settodownload!$F$5,\"OK\",\"\"))","v":""},"","","","","","","","","","","","","","","","","","","","",4,"","","","","","","","","","","","",""]
[666,{"$f":"IF(C91=\"\",\"\",INDEX(downloadmatch!$A:$B,$A91,B$2))","v":""},{"$f":"IF(C90=\"\",\"\",IF(INDEX(downloadmatch!$A:$B,$A91,C$2)=0,\"\",INDEX(downloadmatch!$A:$B,$A91,C$2)))","v":""},null,null,null,null,null,"","","","","",{"$f":"IF(M91=\"\",\"\",IF(M91>=settodownload!$F$5,\"OK\",\"\"))","v":""},"","","","","","","","","","","","","","","","","","","","",4,"","","","","","","","","","","","",""]
[667,{"$f":"IF(C92=\"\",\"\",INDEX(downloadmatch!$A:$B,$A92,B$2))","v":""},{"$f":"IF(C91=\"\",\"\",IF(INDEX(downloadmatch!$A:$B,$A92,C$2)=0,\"\",INDEX(downloadmatch!$A:$B,$A92,C$2)))","v":""},null,null,null,null,null,"","","","","",{"$f":"IF(M92=\"\",\"\",IF(M92>=settodownload!$F$5,\"OK\",\"\"))","v":""},"","","","","","","","","","","","","","","","","","","","",4,"","","","","","","","","","","","",""]
[668,{"$f":"IF(C93=\"\",\"\",INDEX(downloadmatch!$A:$B,$A93,B$2))","v":""},{"$f":"IF(C92=\"\",\"\",IF(INDEX(downloadmatch!$A:$B,$A93,C$2)=0,\"\",INDEX(downloadmatch!$A:$B,$A93,C$2)))","v":""},null,null,null,null,null,"","","","","",{"$f":"IF(M93=\"\",\"\",IF(M93>=settodownload!$F$5,\"OK\",\"\"))","v":""},"","","","","","","","","","","","","","","","","","","","",4,"","","","","","","","","","","","",""]
[669,{"$f":"IF(C94=\"\",\"\",INDEX(downloadmatch!$A:$B,$A94,B$2))","v":""},{"$f":"IF(C93=\"\",\"\",IF(INDEX(downloadmatch!$A:$B,$A94,C$2)=0,\"\",INDEX(downloadmatch!$A:$B,$A94,C$2)))","v":""},null,null,null,null,null,"","","","","",{"$f":"IF(M94=\"\",\"\",IF(M94>=settodownload!$F$5,\"OK\",\"\"))","v":""},"","","","","","","","","","","","","","","","","","","","",4,"","","","","","","","","","","","",""]
[670,{"$f":"IF(C95=\"\",\"\",INDEX(downloadmatch!$A:$B,$A95,B$2))","v":""},{"$f":"IF(C94=\"\",\"\",IF(INDEX(downloadmatch!$A:$B,$A95,C$2)=0,\"\",INDEX(downloadmatch!$A:$B,$A95,C$2)))","v":""},null,null,null,null,null,"","","","","",{"$f":"IF(M95=\"\",\"\",IF(M95>=settodownload!$F$5,\"OK\",\"\"))","v":""},"","","","","","","","","","","","","","","","","","","","",4,"","","","","","","","","","","","",""]
[671,{"$f":"IF(C96=\"\",\"\",INDEX(downloadmatch!$A:$B,$A96,B$2))","v":""},{"$f":"IF(C95=\"\",\"\",IF(INDEX(downloadmatch!$A:$B,$A96,C$2)=0,\"\",INDEX(downloadmatch!$A:$B,$A96,C$2)))","v":""},null,null,null,null,null,"","","","","",{"$f":"IF(M96=\"\",\"\",IF(M96>=settodownload!$F$5,\"OK\",\"\"))","v":""},"","","","","","","","","","","","","","","","","","","","",4,"","","","","","","","","","","","",""]
[672,{"$f":"IF(C97=\"\",\"\",INDEX(downloadmatch!$A:$B,$A97,B$2))","v":""},{"$f":"IF(C96=\"\",\"\",IF(INDEX(downloadmatch!$A:$B,$A97,C$2)=0,\"\",INDEX(downloadmatch!$A:$B,$A97,C$2)))","v":""},null,null,null,null,null,"","","","","",{"$f":"IF(M97=\"\",\"\",IF(M97>=settodownload!$F$5,\"OK\",\"\"))","v":""},"","","","","","","","","","","","","","","","","","","","",4,"","","","","","","","","","","","",""]
[673,{"$f":"IF(C98=\"\",\"\",INDEX(downloadmatch!$A:$B,$A98,B$2))","v":""},{"$f":"IF(C97=\"\",\"\",IF(INDEX(downloadmatch!$A:$B,$A98,C$2)=0,\"\",INDEX(downloadmatch!$A:$B,$A98,C$2)))","v":""},null,null,null,null,null,"","","","","",{"$f":"IF(M98=\"\",\"\",IF(M98>=settodownload!$F$5,\"OK\",\"\"))","v":""},"","","","","","","","","","","","","","","","","","","","",4,"","","","","","","","","","","","",""]
[674,{"$f":"IF(C99=\"\",\"\",INDEX(downloadmatch!$A:$B,$A99,B$2))","v":""},{"$f":"IF(C98=\"\",\"\",IF(INDEX(downloadmatch!$A:$B,$A99,C$2)=0,\"\",INDEX(downloadmatch!$A:$B,$A99,C$2)))","v":""},null,null,null,null,null,"","","","","",{"$f":"IF(M99=\"\",\"\",IF(M99>=settodownload!$F$5,\"OK\",\"\"))","v":""},"","","","","","","","","","","","","","","","","","","","",{"$f":"IF(W99=\"\",AI98,AI98+1)","v":4},"","","","","","","","","","","","",""]
[675,{"$f":"IF(C100=\"\",\"\",INDEX(downloadmatch!#REF!,$A100,B$2))","v":""},{"$f":"IF(C99=\"\",\"\",IF(INDEX(downloadmatch!#REF!,$A100,C$2)=0,\"\",INDEX(downloadmatch!#REF!,$A100,C$2)))","v":""},null,null,null,null,null,null,"",null,null,"",{"$f":"IF(M100=\"\",\"\",IF(M100>=settodownload!$C$5,\"OK\",\"\"))","v":""}]

{"sheet":"HEAD2","index":8,"n_rows":100,"n_cols":51,"rows_kept":100,"cut":false,"hidden":true,"merged":[[1,14,1,15],[1,16,1,21],[0,38,0,39],[0,40,0,41],[0,42,0,44],[0,45,0,47],[0,16,0,17],[0,18,0,19],[0,20,0,21],[0,22,0,23],[0,24,0,25],[0,26,0,27]]}
[{"$f":"CONCATENATE(settodownload!F3,\"- \",settodownload!E3,\"- Head to heads\")","v":"Bala Town - Aberystwyth - Head to heads"},null,null,null,null,null,null,null,null,null,null,null,null,null,null,null,"HT",null,"ST",null,"FT",null,{"$f":"Q1","v":"HT"},null,{"$f":"S1","v":"ST"},null,{"$f":"U1","v":"FT"},null,"+","-","+","-","+","-",null,null,null,null,"HT",null,"ST",null,"FT",null,null,"WINNER"]
[{"$f":"MATCH(A1,downloadmatch!$A:$A,0)","v":586},1,{"$f":"B2+1","v":2},null,"DATE","TEAMS","REST","FT - HT","FT","HT",null,null,null,null,{"$f":"AWAY!O2","v":"Bala Town"},null,"NOSORT",null,null,null,null,null,null,null,null,null,null,null,{"$f":"COUNTIF(AC3:AC99,\"ok\")/$AI$99","v":{"$error":"#VALUE!"}},{"$f":"COUNTIF(AD3:AD99,\"ok\")/$AI$99","v":{"$error":"#VALUE!"}},{"$error":"#VALUE!"},{"$error":"#VALUE!"},{"$error":"#VALUE!"},{"$error":"#VALUE!"},null,null,null,null,{"$f":"COUNTIF(AM3:AM99,\"OK\")/$AI$99","v":{"$error":"#VALUE!"}},{"$f":"COUNTIF(AN3:AN99,\"OK\")/$AI$99","v":{"$error":"#VALUE!"}},{"$f":"COUNTIF(AO3:AO99,\"OK\")/$AI$99","v":{"$error":"#VALUE!"}},{"$error":"#VALUE!"},{"$f":"COUNTIF(AQ3:AQ99,\"OK\")/$AI$99","v":{"$error":"#VALUE!"}},{"$f":"COUNTIF(AR3:AR99,\"OK\")/$AI$99","v":{"$error":"#VALUE!"}},{"$f":"COUNTIF(AS3:AS99,\"OK\")/$AI$99","v":{"$error":"#VALUE!"}},{"$f":"COUNTIF(AT3:AT99,\"OK\")/$AI$99","v":{"$error":"#VALUE!"}},{"$f":"COUNTIF(AU3:AU99,\"OK\")/$AI$99","v":{"$error":"#VALUE!"}},{"$error":"#VALUE!"},"W","D","L"]
[{"$f":"A2+1","v":587},{"$f":"IF(C3=\"\",\"\",INDEX(downloadmatch!$A:$B,$A3,B$2))","v":"10.10.20 Bala Town - Aberystwyth"},{"$f":"IF(INDEX(downloadmatch!$A:$B,$A3,C$2)=0,\"\",INDEX(downloadmatch!$A:$B,$A3,C$2))","v":"W 5:2 (2:1)"},null,{"$f":"IFERROR(IF(B3=\"\",\"\",LEFT(B3,SEARCH(\" \",B3)-1)),\"\")","v":"10.10.20"},{"$f":"IF(E3=\"\",\"\",MID(B3,SEARCH(\" \",B3)+1,100))","v":"Bala Town - Aberystwyth"},{"$f":"IF(F3=\"\",\"\",LEFT(C3,SEARCH(\" \",C3)-1))","v":"W"},{"$f":"IF(G3=\"\",\"\",MID(C3,SEARCH(\" \",C3)+1,100))","v":"5:2 (2:1)"},{"$f":"IF(H3=\"\",\"\",IF(K3=\"\",LEFT(H3,SEARCH(\" \",H3)-1),K3))","v":"5:2"},{"$f":"IF(F3=\"\",\"\",SUBSTITUTE(SUBSTITUTE(MID(C3,SEARCH(\" \",H3)+3,100),\"(\",\"\"),\")\",\"\"))","v":"2:1"},{"$f":"IFERROR(MID(J3,SEARCH(\"AET\",J3)+4,100),\"\")","v":""},{"$f":"IFERROR(LEFT(J3,SEARCH(\"AET\",J3)-2),\"\")","v":""},{"$f":"IF(F3=\"\",\"\",fmt(E3,\"YYYY\")*1)","v":2020},{"$f":"IF(M3=\"\",\"\",IF(M3>=settodownload!$F$5,\"OK\",\"\"))","v":"OK"},{"$f":"IF(N3=\"\",\"\",LEFT(F3,SEARCH(\" - \",F3)-1))","v":"Bala Town"},{"$f":"IF(O3=\"\",\"\",MID(F3,SEARCH(\" - \",F3)+3,100))","v":"Aberystwyth"},{"$f":"IFERROR(IF(P3=\"\",\"\",LEFT(J3,SEARCH(\":\",J3)-1)*1),IF(L3=\"\",\"\",LEFT(L3,SEARCH(\":\",L3)-1)*1))","v":2},{"$f":"IFERROR(IF(Q3=\"\",\"\",MID(J3,SEARCH(\":\",J3)+1,100)*1),IF(L3=\"\",\"\",MID(L3,SEARCH(\":\",L3)+1,100)*1))","v":1},{"$f":"IF(R3=\"\",\"\",U3-Q3)","v":3},{"$f":"IF(S3=\"\",\"\",V3-R3)","v":1},{"$f":"IF(N3=\"\",\"\",LEFT(I3,SEARCH(\":\",I3)-1)*1)","v":5},{"$f":"IF(U3=\"\",\"\",MID(I3,SEARCH(\":\",I3)+1,100)*1)","v":2},{"$f":"IF($O$2=O3,Q3,R3)","v":2},{"$f":"IF($O$2=P3,Q3,R3)","v":1},{"$f":"IF($O$2=O3,S3,T3)","v":3},{"$f":"IF($O$2=P3,S3,T3)","v":1},{"$f":"IF($O$2=O3,U3,V3)","v":5},{"$f":"IF($O$2=P3,U3,V3)","v":2},{"$f":"IF(W3=\"\",\"\",IF(W3>0,\"ok\",\"\"))","v":"ok"},{"$f":"IF(X3=\"\",\"\",IF(X3>0,\"ok\",\"\"))","v":"ok"},"ok","ok","ok","ok",{"$f":"IF(W3=\"\",AI2,AI2+1)","v":1},{"$f":"IF(W3=\"\",\"\",IF(W3>X3,\"W\",IF(W3=X3,\"D\",IF(W3<X3,\"l\",\"\"))))","v":"W"},{"$f":"IF(Y3=\"\",\"\",IF(Y3>Z3,\"W\",IF(Y3=Z3,\"D\",IF(Y3<Z3,\"l\",\"\"))))","v":"W"},{"$f":"IF(AA3=\"\",\"\",IF(AA3>AB3,\"W\",IF(AA3=AB3,\"D\",IF(AA3<AB3,\"l\",\"\"))))","v":"W"},{"$f":"IF(AL3=\"\",\"\",IF((W3+X3)>0.5,\"OK\",\"\"))","v":"OK"},{"$f":"IF(AM3=\"\",\"\",IF((W3+X3)>1,\"OK\",\"\"))","v":"OK"},{"$f":"IF(AL3=\"\",\"\",IF((Y3+Z3)>0.5,\"OK\",\"\"))","v":"OK"},{"$f":"IF(AL3=\"\",\"\",IF((Y3+Z3)>1,\"OK\",\"\"))","v":"OK"},{"$f":"IF(AL3=\"\",\"\",IF((AA3+AB3)>1,\"OK\",\"\"))","v":"OK"},{"$f":"IF(AL3=\"\",\"\",IF((AA3+AB3)>2,\"OK\",\"\"))","v":"OK"},{"$f":"IF(AL3=\"\",\"\",IF((AA3+AB3)>3,\"OK\",\"\"))","v":"OK"},{"$f":"IF(AL3=\"\",\"\",IF(AND(AJ3=\"W\",AK3=\"W\"),\"OK\",\"\"))","v":"OK"},{"$f":"IF(AL3=\"\",\"\",IF(AND(AJ3=\"D\",AK3=\"D\"),\"OK\",\"\"))","v":""},{"$f":"IF(AL3=\"\",\"\",IF(AND(AJ3=\"L\",AK3=\"L\"),\"OK\",\"\"))","v":""},{"$f":"COUNTIF($AJ:$AJ,AW2)","v":4},{"$f":"COUNTIF($AJ:$AJ,AX2)","v":1},0]
[{"$f":"A3+1","v":588},{"$f":"IF(C4=\"\",\"\",INDEX(downloadmatch!$A:$B,$A4,B$2))","v":"27.09.19 Bala Town - Aberystwyth"},{"$f":"IF(C3=\"\",\"\",IF(INDEX(downloadmatch!$A:$B,$A4,C$2)=0,\"\",INDEX(downloadmatch!$A:$B,$A4,C$2)))","v":"W 2:0 (1:0)"},null,"27.09.19",{"$f":"IF(E4=\"\",\"\",MID(B4,SEARCH(\" \",B4)+1,100))","v":"Bala Town - Aberystwyth"},{"$f":"IF(F4=\"\",\"\",LEFT(C4,SEARCH(\" \",C4)-1))","v":"W"},{"$f":"IF(G4=\"\",\"\",MID(C4,SEARCH(\" \",C4)+1,100))","v":"2:0 (1:0)"},{"$f":"IF(H4=\"\",\"\",IF(K4=\"\",LEFT(H4,SEARCH(\" \",H4)-1),K4))","v":"2:0"},{"$f":"IF(F4=\"\",\"\",SUBSTITUTE(SUBSTITUTE(MID(C4,SEARCH(\" \",H4)+3,100),\"(\",\"\"),\")\",\"\"))","v":"1:0"},"","",2019,{"$f":"IF(M4=\"\",\"\",IF(M4>=settodownload!$F$5,\"OK\",\"\"))","v":"OK"},{"$f":"IF(N4=\"\",\"\",LEFT(F4,SEARCH(\" - \",F4)-1))","v":"Bala Town"},{"$f":"IF(O4=\"\",\"\",MID(F4,SEARCH(\" - \",F4)+3,100))","v":"Aberystwyth"},1,0,{"$f":"IF(R4=\"\",\"\",U4-Q4)","v":1},0,{"$f":"IF(N4=\"\",\"\",LEFT(I4,SEARCH(\":\",I4)-1)*1)","v":2},{"$f":"IF(U4=\"\",\"\",MID(I4,SEARCH(\":\",I4)+1,100)*1)","v":0},{"$f":"IF($O$2=O4,Q4,R4)","v":1},{"$f":"IF($O$2=P4,Q4,R4)","v":0},{"$f":"IF($O$2=O4,S4,T4)","v":1},{"$f":"IF($O$2=P4,S4,T4)","v":0},{"$f":"IF($O$2=O4,U4,V4)","v":2},{"$f":"IF($O$2=P4,U4,V4)","v":0},{"$f":"IF(W4=\"\",\"\",IF(W4>0,\"ok\",\"\"))","v":"ok"},"","ok","","ok","",{"$f":"IF(W4=\"\",AI3,AI3+1)","v":2},{"$f":"IF(W4=\"\",\"\",IF(W4>X4,\"W\",IF(W4=X4,\"D\",IF(W4<X4,\"l\",\"\"))))","v":"W"},{"$f":"IF(Y4=\"\",\"\",IF(Y4>Z4,\"W\",IF(Y4=Z4,\"D\",IF(Y4<Z4,\"l\",\"\"))))","v":"W"},{"$f":"IF(AA4=\"\",\"\",IF(AA4>AB4,\"W\",IF(AA4=AB4,\"D\",IF(AA4<AB4,\"l\",\"\"))))","v":"W"},{"$f":"IF(AL4=\"\",\"\",IF((W4+X4)>0.5,\"OK\",\"\"))","v":"OK"},{"$f":"IF(AM4=\"\",\"\",IF((W4+X4)>1,\"OK\",\"\"))","v":""},{"$f":"IF(AL4=\"\",\"\",IF((Y4+Z4)>0.5,\"OK\",\"\"))","v":"OK"},{"$f":"IF(AL4=\"\",\"\",IF((Y4+Z4)>1,\"OK\",\"\"))","v":""},{"$f":"IF(AL4=\"\",\"\",IF((AA4+AB4)>1,\"OK\",\"\"))","v":"OK"},{"$f":"IF(AL4=\"\",\"\",IF((AA4+AB4)>2,\"OK\",\"\"))","v":""},{"$f":"IF(AL4=\"\",\"\",IF((AA4+AB4)>3,\"OK\",\"\"))","v":""},{"$f":"IF(AL4=\"\",\"\",IF(AND(AJ4=\"W\",AK4=\"W\"),\"OK\",\"\"))","v":"OK"},{"$f":"IF(AL4=\"\",\"\",IF(AND(AJ4=\"D\",AK4=\"D\"),\"OK\",\"\"))","v":""},{"$f":"IF(AL4=\"\",\"\",IF(AND(AJ4=\"L\",AK4=\"L\"),\"OK\",\"\"))","v":""},{"$f":"AW3/$AI$99","v":{"$error":"#VALUE!"}},{"$f":"AX3/$AI$99","v":{"$error":"#VALUE!"}},{"$error":"#VALUE!"}]
[{"$f":"A4+1","v":589},{"$f":"IF(C5=\"\",\"\",INDEX(downloadmatch!$A:$B,$A5,B$2))","v":"17.11.18 Bala Town - Aberystwyth"},{"$f":"IF(C4=\"\",\"\",IF(INDEX(downloadmatch!$A:$B,$A5,C$2)=0,\"\",INDEX(downloadmatch!$A:$B,$A5,C$2)))","v":"L 2:3 (1:0)"},null,"17.11.18","Bala Town - Aberystwyth","L","2:3 (1:0)","2:3","1:0","","",2018,{"$f":"IF(M5=\"\",\"\",IF(M5>=settodownload!$F$5,\"OK\",\"\"))","v":"OK"},"Bala Town","Aberystwyth",1,0,1,3,2,3,1,0,1,3,2,3,"ok","","ok","ok","ok","ok",3,"W","l","l","OK","","OK","OK","OK","OK","OK","","",""]
[590,{"$f":"IF(C6=\"\",\"\",INDEX(downloadmatch!$A:$B,$A6,B$2))","v":"29.09.17 Bala Town - Aberystwyth"},{"$f":"IF(C5=\"\",\"\",IF(INDEX(downloadmatch!$A:$B,$A6,C$2)=0,\"\",INDEX(downloadmatch!$A:$B,$A6,C$2)))","v":"D 1:1 (1:1)"},null,"29.09.17","Bala Town - Aberystwyth","D","1:1 (1:1)","1:1","1:1","","",2017,{"$f":"IF(M6=\"\",\"\",IF(M6>=settodownload!$F$5,\"OK\",\"\"))","v":"OK"},"Bala Town","Aberystwyth",1,1,0,0,1,1,1,1,0,0,1,1,"ok","ok","","","ok","ok",4,"D","D","D","OK","OK","","","OK","","","","OK",""]
[591,{"$f":"IF(C7=\"\",\"\",INDEX(downloadmatch!$A:$B,$A7,B$2))","v":"11.11.16 Bala Town - Aberystwyth"},{"$f":"IF(C6=\"\",\"\",IF(INDEX(downloadmatch!$A:$B,$A7,C$2)=0,\"\",INDEX(downloadmatch!$A:$B,$A7,C$2)))","v":"W 4:0 (3:0)"},null,"11.11.16","Bala Town - Aberystwyth","W","4:0 (3:0)","4:0","3:0","","",2016,{"$f":"IF(M7=\"\",\"\",IF(M7>=settodownload!$F$5,\"OK\",\"\"))","v":"OK"},"Bala Town","Aberystwyth",3,0,1,0,4,0,3,0,1,0,4,0,"ok","","ok","","ok","",5,"W","W","W","OK","OK","OK","","OK","OK","OK","OK","","",{"$f":"COUNTIF($AK:$AK,AW2)","v":3},{"$f":"COUNTIF($AK:$AK,AX2)","v":1},1]
[592,{"$f":"IF(C8=\"\",\"\",INDEX(downloadmatch!$A:$B,$A8,B$2))","v":"06.10.15 Bala Town - Aberystwyth"},{"$f":"IF(C7=\"\",\"\",IF(INDEX(downloadmatch!$A:$B,$A8,C$2)=0,\"\",INDEX(downloadmatch!$A:$B,$A8,C$2)))","v":"L 0:1 (0:0)"},null,"06.10.15","Bala Town - Aberystwyth","L","0:1 (0:0)","0:1","0:0","","",2015,{"$f":"IF(M8=\"\",\"\",IF(M8>=settodownload!$F$5,\"OK\",\"\"))","v":""},"","","","","","","","","","","","","","","","","","","","",5,"","","","","","","","","","","","","",{"$f":"AW7/$AI$99","v":{"$error":"#VALUE!"}},{"$f":"AX7/$AI$99","v":{"$error":"#VALUE!"}},{"$error":"#VALUE!"}]
[593,{"$f":"IF(C9=\"\",\"\",INDEX(downloadmatch!$A:$B,$A9,B$2))","v":"27.02.15 Bala Town - Aberystwyth"},{"$f":"IF(C8=\"\",\"\",IF(INDEX(downloadmatch!$A:$B,$A9,C$2)=0,\"\",INDEX(downloadmatch!$A:$B,$A9,C$2)))","v":"D 3:3 (2:1)"},null,"27.02.15","Bala Town - Aberystwyth","D","3:3 (2:1)","3:3","2:1","","",2015,{"$f":"IF(M9=\"\",\"\",IF(M9>=settodownload!$F$5,\"OK\",\"\"))","v":""},"","","","","","","","","","","","","","","","","","","","",5,"","","","","","","","","","","","",""]
[594,{"$f":"IF(C10=\"\",\"\",INDEX(downloadmatch!$A:$B,$A10,B$2))","v":"24.10.14 Bala Town - Aberystwyth"},{"$f":"IF(C9=\"\",\"\",IF(INDEX(downloadmatch!$A:$B,$A10,C$2)=0,\"\",INDEX(downloadmatch!$A:$B,$A10,C$2)))","v":"W 4:0 (2:0)"},null,"24.10.14","Bala Town - Aberystwyth","W","4:0 (2:0)","4:0","2:0","","",2014,{"$f":"IF(M10=\"\",\"\",IF(M10>=settodownload!$F$5,\"OK\",\"\"))","v":""},"","","","","","","","","","","","","","","","","","","","",5,"","","","","","","","","","","","",""]
[595,{"$f":"IF(C11=\"\",\"\",INDEX(downloadmatch!$A:$B,$A11,B$2))","v":"Team"},{"$f":"IF(C10=\"\",\"\",IF(INDEX(downloadmatch!$A:$B,$A11,C$2)=0,\"\",INDEX(downloadmatch!$A:$B,$A11,C$2)))","v":"W"},null,{"$f":"IFERROR(IF(B11=\"\",\"\",LEFT(B11,SEARCH(\" \",B11)-1)),\"\")","v":""},"","","","","","","","",{"$f":"IF(M11=\"\",\"\",IF(M11>=settodownload!$F$5,\"OK\",\"\"))","v":""},"","","","","","","","","","","","","","","","","","","","",5,"","","","","","","","","","","","","",{"$f":"COUNTIF($AL:$AL,AW2)","v":3},{"$f":"COUNTIF($AL:$AL,AX2)","v":1},1]
[596,{"$f":"IF(C12=\"\",\"\",INDEX(downloadmatch!$A:$B,$A12,B$2))","v":"New Saints"},{"$f":"IF(C11=\"\",\"\",IF(INDEX(downloadmatch!$A:$B,$A12,C$2)=0,\"\",INDEX(downloadmatch!$A:$B,$A12,C$2)))","v":9},null,{"$f":"IFERROR(IF(B12=\"\",\"\",LEFT(B12,SEARCH(\" \",B12)-1)),\"\")","v":"New"},"Saints",{"$error":"#VALUE!"},{"$error":"#VALUE!"},{"$error":"#VALUE!"},{"$error":"#VALUE!"},"","",{"$error":"#VALUE!"},{"$f":"IF(M12=\"\",\"\",IF(M12>=settodownload!$F$5,\"OK\",\"\"))","v":{"$error":"#VALUE!"}},{"$error":"#VALUE!"},{"$error":"#VALUE!"},"","","","",{"$error":"#VALUE!"},{"$error":"#VALUE!"},{"$error":"#VALUE!"},{"$error":"#VALUE!"},{"$error":"#VALUE!"},{"$error":"#VALUE!"},{"$error":"#VALUE!"},{"$error":"#VALUE!"},{"$error":"#VALUE!"},{"$error":"#VALUE!"},{"$error":"#VALUE!"},{"$error":"#VALUE!"},{"$error":"#VALUE!"},{"$error":"#VALUE!"},{"$error":"#VALUE!"},{"$error":"#VALUE!"},{"$error":"#VALUE!"},{"$error":"#VALUE!"},{"$error":"#VALUE!"},{"$error":"#VALUE!"},{"$error":"#VALUE!"},{"$error":"#VALUE!"},{"$error":"#VALUE!"},{"$error":"#VALUE!"},{"$error":"#VALUE!"},{"$error":"#VALUE!"},{"$error":"#VALUE!"},{"$error":"#VALUE!"},{"$f":"AW11/$AI$99","v":{"$error":"#VALUE!"}},{"$f":"AX11/$AI$99","v":{"$error":"#VALUE!"}},{"$error":"#VALUE!"}]
[597,{"$f":"IF(C13=\"\",\"\",INDEX(downloadmatch!$A:$B,$A13,B$2))","v":"Bala Town"},{"$f":"IF(C12=\"\",\"\",IF(INDEX(downloadmatch!$A:$B,$A13,C$2)=0,\"\",INDEX(downloadmatch!$A:$B,$A13,C$2)))","v":7},null,{"$f":"IFERROR(IF(B13=\"\",\"\",LEFT(B13,SEARCH(\" \",B13)-1)),\"\")","v":"Bala"},"Town",{"$error":"#VALUE!"},{"$error":"#VALUE!"},{"$error":"#VALUE!"},{"$error":"#VALUE!"},"","",{"$error":"#VALUE!"},{"$f":"IF(M13=\"\",\"\",IF(M13>=settodownload!$F$5,\"OK\",\"\"))","v":{"$error":"#VALUE!"}},{"$error":"#VALUE!"},{"$error":"#VALUE!"},"","","","",{"$error":"#VALUE!"},{"$error":"#VALUE!"},{"$error":"#VALUE!"},{"$error":"#VALUE!"},{"$error":"#VALUE!"},{"$error":"#VALUE!"},{"$error":"#VALUE!"},{"$error":"#VALUE!"},{"$error":"#VALUE!"},{"$error":"#VALUE!"},{"$error":"#VALUE!"},{"$error":"#VALUE!"},{"$error":"#VALUE!"},{"$error":"#VALUE!"},{"$error":"#VALUE!"},{"$error":"#VALUE!"},{"$error":"#VALUE!"},{"$error":"#VALUE!"},{"$error":"#VALUE!"},{"$error":"#VALUE!"},{"$error":"#VALUE!"},{"$error":"#VALUE!"},{"$error":"#VALUE!"},{"$error":"#VALUE!"},{"$error":"#VALUE!"},{"$error":"#VALUE!"},{"$error":"#VALUE!"},{"$error":"#VALUE!"}]
[598,{"$f":"IF(C14=\"\",\"\",INDEX(downloadmatch!$A:$B,$A14,B$2))","v":"Connahs Quay"},{"$f":"IF(C13=\"\",\"\",IF(INDEX(downloadmatch!$A:$B,$A14,C$2)=0,\"\",INDEX(downloadmatch!$A:$B,$A14,C$2)))","v":7},null,"Connahs","Quay",{"$error":"#VALUE!"},{"$error":"#VALUE!"},{"$error":"#VALUE!"},{"$error":"#VALUE!"},"","",{"$error":"#VALUE!"},{"$f":"IF(M14=\"\",\"\",IF(M14>=settodownload!$F$5,\"OK\",\"\"))","v":{"$error":"#VALUE!"}},{"$error":"#VALUE!"},{"$error":"#VALUE!"},"","","","",{"$error":"#VALUE!"},{"$error":"#VALUE!"},{"$error":"#VALUE!"},{"$error":"#VALUE!"},{"$error":"#VALUE!"},{"$error":"#VALUE!"},{"$error":"#VALUE!"},{"$error":"#VALUE!"},{"$error":"#VALUE!"},{"$error":"#VALUE!"},{"$error":"#VALUE!"},{"$error":"#VALUE!"},{"$error":"#VALUE!"},{"$error":"#VALUE!"},{"$error":"#VALUE!"},{"$error":"#VALUE!"},{"$error":"#VALUE!"},{"$error":"#VALUE!"},{"$error":"#VALUE!"},{"$error":"#VALUE!"},{"$error":"#VALUE!"},{"$error":"#VALUE!"},{"$error":"#VALUE!"},{"$error":"#VALUE!"},{"$error":"#VALUE!"},{"$error":"#VALUE!"},{"$error":"#VALUE!"},{"$error":"#VALUE!"}]
[599,{"$f":"IF(C15=\"\",\"\",INDEX(downloadmatch!$A:$B,$A15,B$2))","v":"Barry Town"},{"$f":"IF(C14=\"\",\"\",IF(INDEX(downloadmatch!$A:$B,$A15,C$2)=0,\"\",INDEX(downloadmatch!$A:$B,$A15,C$2)))","v":5},null,"Barry","Town",{"$error":"#VALUE!"},{"$error":"#VALUE!"},{"$error":"#VALUE!"},{"$error":"#VALUE!"},"","",{"$error":"#VALUE!"},{"$f":"IF(M15=\"\",\"\",IF(M15>=settodownload!$F$5,\"OK\",\"\"))","v":{"$error":"#VALUE!"}},{"$error":"#VALUE!"},{"$error":"#VALUE!"},"","","","",{"$error":"#VALUE!"},{"$error":"#VALUE!"},{"$error":"#VALUE!"},{"$error":"#VALUE!"},{"$error":"#VALUE!"},{"$error":"#VALUE!"},{"$error":"#VALUE!"},{"$error":"#VALUE!"},{"$error":"#VALUE!"},{"$error":"#VALUE!"},{"$error":"#VALUE!"},{"$error":"#VALUE!"},{"$error":"#VALUE!"},{"$error":"#VALUE!"},{"$error":"#VALUE!"},{"$error":"#VALUE!"},{"$error":"#VALUE!"},{"$error":"#VALUE!"},{"$error":"#VALUE!"},{"$error":"#VALUE!"},{"$error":"#VALUE!"},{"$error":"#VALUE!"},{"$error":"#VALUE!"},{"$error":"#VALUE!"},{"$error":"#VALUE!"},{"$error":"#VALUE!"},{"$error":"#VALUE!"},{"$error":"#VALUE!"}]
[600,{"$f":"IF(C16=\"\",\"\",INDEX(downloadmatch!$A:$B,$A16,B$2))","v":"Penybont"},{"$f":"IF(C15=\"\",\"\",IF(INDEX(downloadmatch!$A:$B,$A16,C$2)=0,\"\",INDEX(downloadmatch!$A:$B,$A16,C$2)))","v":4},null,"","","","","","","","","",{"$f":"IF(M16=\"\",\"\",IF(M16>=settodownload!$F$5,\"OK\",\"\"))","v":""},"","","","","","","","","","","","","","","","","","","","",{"$error":"#VALUE!"},"","","","","","","","","","","","",""]
[601,{"$f":"IF(C17=\"\",\"\",INDEX(downloadmatch!$A:$B,$A17,B$2))","v":"Caernarfon"},{"$f":"IF(C16=\"\",\"\",IF(INDEX(downloadmatch!$A:$B,$A17,C$2)=0,\"\",INDEX(downloadmatch!$A:$B,$A17,C$2)))","v":3},null,"","","","","","","","","",{"$f":"IF(M17=\"\",\"\",IF(M17>=settodownload!$F$5,\"OK\",\"\"))","v":""},"","","","","","","","","","","","","","","","","","","","",{"$error":"#VALUE!"},"","","","","","","","","","","","",""]
[602,{"$f":"IF(C18=\"\",\"\",INDEX(downloadmatch!$A:$B,$A18,B$2))","v":"Aberystwyth"},{"$f":"IF(C17=\"\",\"\",IF(INDEX(downloadmatch!$A:$B,$A18,C$2)=0,\"\",INDEX(downloadmatch!$A:$B,$A18,C$2)))","v":2},null,"","","","","","","","","",{"$f":"IF(M18=\"\",\"\",IF(M18>=settodownload!$F$5,\"OK\",\"\"))","v":""},"","","","","","","","","","","","","","","","","","","","",{"$error":"#VALUE!"},"","","","","","","","","","","","",""]
[603,{"$f":"IF(C19=\"\",\"\",INDEX(downloadmatch!$A:$B,$A19,B$2))","v":"Haverfordwest"},{"$f":"IF(C18=\"\",\"\",IF(INDEX(downloadmatch!$A:$B,$A19,C$2)=0,\"\",INDEX(downloadmatch!$A:$B,$A19,C$2)))","v":2},null,"","","","","","","","","",{"$f":"IF(M19=\"\",\"\",IF(M19>=settodownload!$F$5,\"OK\",\"\"))","v":""},"","","","","","","","","","","","","","","","","","","","",{"$error":"#VALUE!"},"","","","","","","","","","","","",""]
[604,{"$f":"IF(C20=\"\",\"\",INDEX(downloadmatch!$A:$B,$A20,B$2))","v":"Newtown"},{"$f":"IF(C19=\"\",\"\",IF(INDEX(downloadmatch!$A:$B,$A20,C$2)=0,\"\",INDEX(downloadmatch!$A:$B,$A20,C$2)))","v":2},null,"","","","","","","","","",{"$f":"IF(M20=\"\",\"\",IF(M20>=settodownload!$F$5,\"OK\",\"\"))","v":""},"","","","",{"$f":"IF(R20=\"\",\"\",U20-Q20)","v":""},"","","","","","","","","","","","","","","",{"$error":"#VALUE!"},"","","","","","","","","","","","",""]
[605,{"$f":"IF(C21=\"\",\"\",INDEX(downloadmatch!$A:$B,$A21,B$2))","v":"Cardiff Met"},{"$f":"IF(C20=\"\",\"\",IF(INDEX(downloadmatch!$A:$B,$A21,C$2)=0,\"\",INDEX(downloadmatch!$A:$B,$A21,C$2)))","v":2},null,"Cardiff","Met",{"$error":"#VALUE!"},{"$error":"#VALUE!"},{"$error":"#VALUE!"},{"$error":"#VALUE!"},"","",{"$error":"#VALUE!"},{"$f":"IF(M21=\"\",\"\",IF(M21>=settodownload!$F$5,\"OK\",\"\"))","v":{"$error":"#VALUE!"}},{"$error":"#VALUE!"},{"$error":"#VALUE!"},"","","","",{"$error":"#VALUE!"},{"$error":"#VALUE!"},{"$error":"#VALUE!"},{"$error":"#VALUE!"},{"$error":"#VALUE!"},{"$error":"#VALUE!"},{"$error":"#VALUE!"},{"$error":"#VALUE!"},{"$error":"#VALUE!"},{"$error":"#VALUE!"},{"$error":"#VALUE!"},{"$error":"#VALUE!"},{"$error":"#VALUE!"},{"$error":"#VALUE!"},{"$error":"#VALUE!"},{"$error":"#VALUE!"},{"$error":"#VALUE!"},{"$error":"#VALUE!"},{"$error":"#VALUE!"},{"$error":"#VALUE!"},{"$error":"#VALUE!"},{"$error":"#VALUE!"},{"$error":"#VALUE!"},{"$error":"#VALUE!"},{"$error":"#VALUE!"},{"$error":"#VALUE!"},{"$error":"#VALUE!"},{"$error":"#VALUE!"}]
[606,{"$f":"IF(C22=\"\",\"\",INDEX(downloadmatch!$A:$B,$A22,B$2))","v":"Flint Town Utd"},{"$f":"IF(C21=\"\",\"\",IF(INDEX(downloadmatch!$A:$B,$A22,C$2)=0,\"\",INDEX(downloadmatch!$A:$B,$A22,C$2)))","v":2},null,"Flint","Town Utd",{"$error":"#VALUE!"},{"$error":"#VALUE!"},{"$error":"#VALUE!"},{"$error":"#VALUE!"},"","",{"$error":"#VALUE!"},{"$f":"IF(M22=\"\",\"\",IF(M22>=settodownload!$F$5,\"OK\",\"\"))","v":{"$error":"#VALUE!"}},{"$error":"#VALUE!"},{"$error":"#VALUE!"},"","","","",{"$error":"#VALUE!"},{"$error":"#VALUE!"},{"$error":"#VALUE!"},{"$error":"#VALUE!"},{"$error":"#VALUE!"},{"$error":"#VALUE!"},{"$error":"#VALUE!"},{"$error":"#VALUE!"},{"$error":"#VALUE!"},{"$error":"#VALUE!"},{"$error":"#VALUE!"},{"$error":"#VALUE!"},{"$error":"#VALUE!"},{"$error":"#VALUE!"},{"$error":"#VALUE!"},{"$error":"#VALUE!"},{"$error":"#VALUE!"},{"$error":"#VALUE!"},{"$error":"#VALUE!"},{"$error":"#VALUE!"},{"$error":"#VALUE!"},{"$error":"#VALUE!"},{"$error":"#VALUE!"},{"$error":"#VALUE!"},{"$error":"#VALUE!"},{"$error":"#VALUE!"},{"$error":"#VALUE!"},{"$error":"#VALUE!"}]
[607,{"$f":"IF(C23=\"\",\"\",INDEX(downloadmatch!$A:$B,$A23,B$2))","v":"Cefn Druids"},{"$f":"IF(C22=\"\",\"\",IF(INDEX(downloadmatch!$A:$B,$A23,C$2)=0,\"\",INDEX(downloadmatch!$A:$B,$A23,C$2)))","v":1},null,"Cefn","Druids",{"$error":"#VALUE!"},{"$error":"#VALUE!"},{"$error":"#VALUE!"},{"$error":"#VALUE!"},"","",{"$error":"#VALUE!"},{"$f":"IF(M23=\"\",\"\",IF(M23>=settodownload!$F$5,\"OK\",\"\"))","v":{"$error":"#VALUE!"}},{"$error":"#VALUE!"},{"$error":"#VALUE!"},"","","","",{"$error":"#VALUE!"},{"$error":"#VALUE!"},{"$error":"#VALUE!"},{"$error":"#VALUE!"},{"$error":"#VALUE!"},{"$error":"#VALUE!"},{"$error":"#VALUE!"},{"$error":"#VALUE!"},{"$error":"#VALUE!"},{"$error":"#VALUE!"},{"$error":"#VALUE!"},{"$error":"#VALUE!"},{"$error":"#VALUE!"},{"$error":"#VALUE!"},{"$error":"#VALUE!"},{"$error":"#VALUE!"},{"$error":"#VALUE!"},{"$error":"#VALUE!"},{"$error":"#VALUE!"},{"$error":"#VALUE!"},{"$error":"#VALUE!"},{"$error":"#VALUE!"},{"$error":"#VALUE!"},{"$error":"#VALUE!"},{"$error":"#VALUE!"},{"$error":"#VALUE!"},{"$error":"#VALUE!"},{"$error":"#VALUE!"}]
[608,{"$f":"IF(C24=\"\",\"\",INDEX(downloadmatch!$A:$B,$A24,B$2))","v":""},{"$f":"IF(C23=\"\",\"\",IF(INDEX(downloadmatch!$A:$B,$A24,C$2)=0,\"\",INDEX(downloadmatch!$A:$B,$A24,C$2)))","v":""},null,"","","","","","","","","",{"$f":"IF(M24=\"\",\"\",IF(M24>=settodownload!$F$5,\"OK\",\"\"))","v":""},"","","","","","","","","","","","","","","","","","","","",{"$error":"#VALUE!"},"","","","","","","","","","","","",""]
[609,{"$f":"IF(C25=\"\",\"\",INDEX(downloadmatch!$A:$B,$A25,B$2))","v":""},{"$f":"IF(C24=\"\",\"\",IF(INDEX(downloadmatch!$A:$B,$A25,C$2)=0,\"\",INDEX(downloadmatch!$A:$B,$A25,C$2)))","v":""},null,"","","","","",{"$f":"IF(F25=\"\",\"\",SUBSTITUTE(SUBSTITUTE(MID(C25,SEARCH(\" \",H25)+3,100),\"(\",\"\"),\")\",\"\"))","v":""},{"$f":"IFERROR(MID(J25,SEARCH(\"AET\",J25)+4,100),\"\")","v":""},{"$f":"IFERROR(LEFT(J25,SEARCH(\"AET\",J25)-2),\"\")","v":""},"",{"$f":"IF(M25=\"\",\"\",IF(M25>=settodownload!$F$5,\"OK\",\"\"))","v":""},"","","","","","","","","","","","","","","","","","","","",{"$error":"#VALUE!"},"","","","","","","","","","","","",""]
[610,{"$f":"IF(C26=\"\",\"\",INDEX(downloadmatch!$A:$B,$A26,B$2))","v":""},{"$f":"IF(C25=\"\",\"\",IF(INDEX(downloadmatch!$A:$B,$A26,C$2)=0,\"\",INDEX(downloadmatch!$A:$B,$A26,C$2)))","v":""},null,"","","","","","",{"$f":"IFERROR(MID(J26,SEARCH(\"AET\",J26)+4,100),\"\")","v":""},{"$f":"IFERROR(LEFT(J26,SEARCH(\"AET\",J26)-2),\"\")","v":""},"",{"$f":"IF(M26=\"\",\"\",IF(M26>=settodownload!$F$5,\"OK\",\"\"))","v":""},"","","","","","","","","","","","","","","","","","","","",{"$error":"#VALUE!"},"","","","","","","","","","","","",""]
[611,{"$f":"IF(C27=\"\",\"\",INDEX(downloadmatch!$A:$B,$A27,B$2))","v":""},{"$f":"IF(C26=\"\",\"\",IF(INDEX(downloadmatch!$A:$B,$A27,C$2)=0,\"\",INDEX(downloadmatch!$A:$B,$A27,C$2)))","v":""},null,"","","","","","","","","",{"$f":"IF(M27=\"\",\"\",IF(M27>=settodownload!$F$5,\"OK\",\"\"))","v":""},"","","","","","","","","","","","","","","","","","","","",{"$error":"#VALUE!"},"","","","","","","","","","","","",""]
[612,{"$f":"IF(C28=\"\",\"\",INDEX(downloadmatch!$A:$B,$A28,B$2))","v":""},{"$f":"IF(C27=\"\",\"\",IF(INDEX(downloadmatch!$A:$B,$A28,C$2)=0,\"\",INDEX(downloadmatch!$A:$B,$A28,C$2)))","v":""},null,"","","","","","","","","",{"$f":"IF(M28=\"\",\"\",IF(M28>=settodownload!$F$5,\"OK\",\"\"))","v":""},"","","","","","","","","","","","","","","","","","","","",{"$error":"#VALUE!"},"","","","","","","","","","","","",""]
[613,{"$f":"IF(C29=\"\",\"\",INDEX(downloadmatch!$A:$B,$A29,B$2))","v":""},{"$f":"IF(C28=\"\",\"\",IF(INDEX(downloadmatch!$A:$B,$A29,C$2)=0,\"\",INDEX(downloadmatch!$A:$B,$A29,C$2)))","v":""},null,"","","","","","","","","",{"$f":"IF(M29=\"\",\"\",IF(M29>=settodownload!$F$5,\"OK\",\"\"))","v":""},"","","","","","","","","","","","","","","","","","","","",{"$error":"#VALUE!"},"","","","","","","","","","","","",""]
[614,{"$f":"IF(C30=\"\",\"\",INDEX(downloadmatch!$A:$B,$A30,B$2))","v":""},{"$f":"IF(C29=\"\",\"\",IF(INDEX(downloadmatch!$A:$B,$A30,C$2)=0,\"\",INDEX(downloadmatch!$A:$B,$A30,C$2)))","v":""},null,"","","","","","","","","",{"$f":"IF(M30=\"\",\"\",IF(M30>=settodownload!$F$5,\"OK\",\"\"))","v":""},"","","","","","","","","","","","","","","","","","","","",{"$error":"#VALUE!"},"","","","","","","","","","","","",""]
[615,{"$f":"IF(C31=\"\",\"\",INDEX(downloadmatch!$A:$B,$A31,B$2))","v":""},{"$f":"IF(C30=\"\",\"\",IF(INDEX(downloadmatch!$A:$B,$A31,C$2)=0,\"\",INDEX(downloadmatch!$A:$B,$A31,C$2)))","v":""},null,"","","","","","","","","",{"$f":"IF(M31=\"\",\"\",IF(M31>=settodownload!$F$5,\"OK\",\"\"))","v":""},"","","","","","","","","","","","","","","","","","","","",{"$error":"#VALUE!"},"","","","","","","","","","","","",""]
[616,{"$f":"IF(C32=\"\",\"\",INDEX(downloadmatch!$A:$B,$A32,B$2))","v":""},{"$f":"IF(C31=\"\",\"\",IF(INDEX(downloadmatch!$A:$B,$A32,C$2)=0,\"\",INDEX(downloadmatch!$A:$B,$A32,C$2)))","v":""},null,"","","","","","","","","",{"$f":"IF(M32=\"\",\"\",IF(M32>=settodownload!$F$5,\"OK\",\"\"))","v":""},"","","","","","","","","","","","","","","","","","","","",{"$error":"#VALUE!"},"","","","","","","","","","","","",""]
[617,{"$f":"IF(C33=\"\",\"\",INDEX(downloadmatch!$A:$B,$A33,B$2))","v":""},{"$f":"IF(C32=\"\",\"\",IF(INDEX(downloadmatch!$A:$B,$A33,C$2)=0,\"\",INDEX(downloadmatch!$A:$B,$A33,C$2)))","v":""},null,"","","","","","","","","",{"$f":"IF(M33=\"\",\"\",IF(M33>=settodownload!$F$5,\"OK\",\"\"))","v":""},"","","","","","","","","","","","","","","","","","","","",{"$error":"#VALUE!"},"","","","","","","","","","","","",""]
[618,{"$f":"IF(C34=\"\",\"\",INDEX(downloadmatch!$A:$B,$A34,B$2))","v":""},{"$f":"IF(C33=\"\",\"\",IF(INDEX(downloadmatch!$A:$B,$A34,C$2)=0,\"\",INDEX(downloadmatch!$A:$B,$A34,C$2)))","v":""},null,"","","","","","","","","",{"$f":"IF(M34=\"\",\"\",IF(M34>=settodownload!$F$5,\"OK\",\"\"))","v":""},"","","","","","","","","","","","","","","","","","","","",{"$error":"#VALUE!"},"","","","","","","","","","","","",""]
[619,{"$f":"IF(C35=\"\",\"\",INDEX(downloadmatch!$A:$B,$A35,B$2))","v":""},{"$f":"IF(C34=\"\",\"\",IF(INDEX(downloadmatch!$A:$B,$A35,C$2)=0,\"\",INDEX(downloadmatch!$A:$B,$A35,C$2)))","v":""},null,"","","","","","","","","",{"$f":"IF(M35=\"\",\"\",IF(M35>=settodownload!$F$5,\"OK\",\"\"))","v":""},"","","","","","","","","","","","","","","","","","","","",{"$error":"#VALUE!"},"","","","","","","","","","","","",""]
[620,{"$f":"IF(C36=\"\",\"\",INDEX(downloadmatch!$A:$B,$A36,B$2))","v":""},{"$f":"IF(C35=\"\",\"\",IF(INDEX(downloadmatch!$A:$B,$A36,C$2)=0,\"\",INDEX(downloadmatch!$A:$B,$A36,C$2)))","v":""},null,"","","","","","","","","",{"$f":"IF(M36=\"\",\"\",IF(M36>=settodownload!$F$5,\"OK\",\"\"))","v":""},"","","","",{"$f":"IF(R36=\"\",\"\",U36-Q36)","v":""},"","","","","","","","","","","","","","","",{"$error":"#VALUE!"},"","","","","","","","","","","","",""]
[621,{"$f":"IF(C37=\"\",\"\",INDEX(downloadmatch!$A:$B,$A37,B$2))","v":""},{"$f":"IF(C36=\"\",\"\",IF(INDEX(downloadmatch!$A:$B,$A37,C$2)=0,\"\",INDEX(downloadmatch!$A:$B,$A37,C$2)))","v":""},null,"","","","","","","","","",{"$f":"IF(M37=\"\",\"\",IF(M37>=settodownload!$F$5,\"OK\",\"\"))","v":""},"","","","","","","","","","","","","","","","","","","","",{"$error":"#VALUE!"},"","","","","","","","","","","","",""]
[622,{"$f":"IF(C38=\"\",\"\",INDEX(downloadmatch!$A:$B,$A38,B$2))","v":""},{"$f":"IF(C37=\"\",\"\",IF(INDEX(downloadmatch!$A:$B,$A38,C$2)=0,\"\",INDEX(downloadmatch!$A:$B,$A38,C$2)))","v":""},null,"","","","","","","","","",{"$f":"IF(M38=\"\",\"\",IF(M38>=settodownload!$F$5,\"OK\",\"\"))","v":""},"","","","","","","","","","","","","","","","","","","","",{"$error":"#VALUE!"},"","","","","","","","","","","","",""]
[623,{"$f":"IF(C39=\"\",\"\",INDEX(downloadmatch!$A:$B,$A39,B$2))","v":""},{"$f":"IF(C38=\"\",\"\",IF(INDEX(downloadmatch!$A:$B,$A39,C$2)=0,\"\",INDEX(downloadmatch!$A:$B,$A39,C$2)))","v":""},null,"","","","","","","","","",{"$f":"IF(M39=\"\",\"\",IF(M39>=settodownload!$F$5,\"OK\",\"\"))","v":""},"","","","","","","","","","","","","","","","","","","","",{"$error":"#VALUE!"},"","","","","","","","","","","","",""]
[624,{"$f":"IF(C40=\"\",\"\",INDEX(downloadmatch!$A:$B,$A40,B$2))","v":""},{"$f":"IF(C39=\"\",\"\",IF(INDEX(downloadmatch!$A:$B,$A40,C$2)=0,\"\",INDEX(downloadmatch!$A:$B,$A40,C$2)))","v":""},null,"","","","","","","","","",{"$f":"IF(M40=\"\",\"\",IF(M40>=settodownload!$F$5,\"OK\",\"\"))","v":""},"","","","","","","","","","","","","","","","","","","","",{"$error":"#VALUE!"},"","","","","","","","","","","","",""]
[625,{"$f":"IF(C41=\"\",\"\",INDEX(downloadmatch!$A:$B,$A41,B$2))","v":""},{"$f":"IF(C40=\"\",\"\",IF(INDEX(downloadmatch!$A:$B,$A41,C$2)=0,\"\",INDEX(downloadmatch!$A:$B,$A41,C$2)))","v":""},null,"","","","","","","","","",{"$f":"IF(M41=\"\",\"\",IF(M41>=settodownload!$F$5,\"OK\",\"\"))","v":""},"","","","","","","","","","","","","","","","","","","","",{"$error":"#VALUE!"},"","","","","","","","","","","","",""]
[626,{"$f":"IF(C42=\"\",\"\",INDEX(downloadmatch!$A:$B,$A42,B$2))","v":""},{"$f":"IF(C41=\"\",\"\",IF(INDEX(downloadmatch!$A:$B,$A42,C$2)=0,\"\",INDEX(downloadmatch!$A:$B,$A42,C$2)))","v":""},null,"","","","","","","","","",{"$f":"IF(M42=\"\",\"\",IF(M42>=settodownload!$F$5,\"OK\",\"\"))","v":""},"","","","","","","","","","","","","","","","","","","","",{"$error":"#VALUE!"},"","","","","","","","","","","","",""]
[627,{"$f":"IF(C43=\"\",\"\",INDEX(downloadmatch!$A:$B,$A43,B$2))","v":""},{"$f":"IF(C42=\"\",\"\",IF(INDEX(downloadmatch!$A:$B,$A43,C$2)=0,\"\",INDEX(downloadmatch!$A:$B,$A43,C$2)))","v":""},null,"","","","","","","","","",{"$f":"IF(M43=\"\",\"\",IF(M43>=settodownload!$F$5,\"OK\",\"\"))","v":""},"","","","","","","","","","","","","","","","","","","","",{"$error":"#VALUE!"},"","","","","","","","","","","","",""]
[628,{"$f":"IF(C44=\"\",\"\",INDEX(downloadmatch!$A:$B,$A44,B$2))","v":""},{"$f":"IF(C43=\"\",\"\",IF(INDEX(downloadmatch!$A:$B,$A44,C$2)=0,\"\",INDEX(downloadmatch!$A:$B,$A44,C$2)))","v":""},null,"","","","","","","","","",{"$f":"IF(M44=\"\",\"\",IF(M44>=settodownload!$F$5,\"OK\",\"\"))","v":""},"","","","","","","","","","","","","","","","","","","","",{"$error":"#VALUE!"},"","","","","","","","","","","","",""]
[629,{"$f":"IF(C45=\"\",\"\",INDEX(downloadmatch!$A:$B,$A45,B$2))","v":""},{"$f":"IF(C44=\"\",\"\",IF(INDEX(downloadmatch!$A:$B,$A45,C$2)=0,\"\",INDEX(downloadmatch!$A:$B,$A45,C$2)))","v":""},null,"",null,null,null,"","","","","",{"$f":"IF(M45=\"\",\"\",IF(M45>=settodownload!$F$5,\"OK\",\"\"))","v":""},"","","","","","","","","","","","","","","","","","","","",{"$error":"#VALUE!"},"","","","","","","","","","","","",""]
[630,{"$f":"IF(C46=\"\",\"\",INDEX(downloadmatch!$A:$B,$A46,B$2))","v":""},{"$f":"IF(C45=\"\",\"\",IF(INDEX(downloadmatch!$A:$B,$A46,C$2)=0,\"\",INDEX(downloadmatch!$A:$B,$A46,C$2)))","v":""},null,"",null,null,null,"","","","","",{"$f":"IF(M46=\"\",\"\",IF(M46>=settodownload!$F$5,\"OK\",\"\"))","v":""},"","","","","","","","","","","","","","","","","","","","",{"$error":"#VALUE!"},"","","","","","","","","","","","",""]
[631,{"$f":"IF(C47=\"\",\"\",INDEX(downloadmatch!$A:$B,$A47,B$2))","v":""},{"$f":"IF(C46=\"\",\"\",IF(INDEX(downloadmatch!$A:$B,$A47,C$2)=0,\"\",INDEX(downloadmatch!$A:$B,$A47,C$2)))","v":""},null,"",null,null,null,"","","","","",{"$f":"IF(M47=\"\",\"\",IF(M47>=settodownload!$F$5,\"OK\",\"\"))","v":""},"","","","","","","","","","","","","","","","","","","","",{"$error":"#VALUE!"},"","","","","","","","","","","","",""]
[632,{"$f":"IF(C48=\"\",\"\",INDEX(downloadmatch!$A:$B,$A48,B$2))","v":""},{"$f":"IF(C47=\"\",\"\",IF(INDEX(downloadmatch!$A:$B,$A48,C$2)=0,\"\",INDEX(downloadmatch!$A:$B,$A48,C$2)))","v":""},null,"",null,null,null,"","","","","",{"$f":"IF(M48=\"\",\"\",IF(M48>=settodownload!$F$5,\"OK\",\"\"))","v":""},"","","","","","","","","","","","","","","","","","","","",{"$error":"#VALUE!"},"","","","","","","","","","","","",""]
[633,{"$f":"IF(C49=\"\",\"\",INDEX(downloadmatch!$A:$B,$A49,B$2))","v":""},{"$f":"IF(C48=\"\",\"\",IF(INDEX(downloadmatch!$A:$B,$A49,C$2)=0,\"\",INDEX(downloadmatch!$A:$B,$A49,C$2)))","v":""},null,"",null,null,null,"","","","","",{"$f":"IF(M49=\"\",\"\",IF(M49>=settodownload!$F$5,\"OK\",\"\"))","v":""},"","","","","","","","","","","","","","","","","","","","",{"$error":"#VALUE!"},"","","","","","","","","","","","",""]
[634,{"$f":"IF(C50=\"\",\"\",INDEX(downloadmatch!$A:$B,$A50,B$2))","v":""},{"$f":"IF(C49=\"\",\"\",IF(INDEX(downloadmatch!$A:$B,$A50,C$2)=0,\"\",INDEX(downloadmatch!$A:$B,$A50,C$2)))","v":""},null,"",null,null,null,"","","","","",{"$f":"IF(M50=\"\",\"\",IF(M50>=settodownload!$F$5,\"OK\",\"\"))","v":""},"","","","","","","","","","","","","","","","","","","","",{"$error":"#VALUE!"},"","","","","","","","","","","","",""]
[635,{"$f":"IF(C51=\"\",\"\",INDEX(downloadmatch!$A:$B,$A51,B$2))","v":""},{"$f":"IF(C50=\"\",\"\",IF(INDEX(downloadmatch!$A:$B,$A51,C$2)=0,\"\",INDEX(downloadmatch!$A:$B,$A51,C$2)))","v":""},null,"",null,null,null,"","","","","",{"$f":"IF(M51=\"\",\"\",IF(M51>=settodownload!$F$5,\"OK\",\"\"))","v":""},"","","","","","","","","","","","","","","","","","","","",{"$error":"#VALUE!"},"","","","","","","","","","","","",""]
[636,{"$f":"IF(C52=\"\",\"\",INDEX(downloadmatch!$A:$B,$A52,B$2))","v":""},{"$f":"IF(C51=\"\",\"\",IF(INDEX(downloadmatch!$A:$B,$A52,C$2)=0,\"\",INDEX(downloadmatch!$A:$B,$A52,C$2)))","v":""},null,"",null,null,null,"","","","","",{"$f":"IF(M52=\"\",\"\",IF(M52>=settodownload!$F$5,\"OK\",\"\"))","v":""},"","","","",{"$f":"IF(R52=\"\",\"\",U52-Q52)","v":""},"","","","","","","","","","","","","","","",{"$error":"#VALUE!"},"","","","","","","","","","","","",""]
[637,{"$f":"IF(C53=\"\",\"\",INDEX(downloadmatch!$A:$B,$A53,B$2))","v":""},{"$f":"IF(C52=\"\",\"\",IF(INDEX(downloadmatch!$A:$B,$A53,C$2)=0,\"\",INDEX(downloadmatch!$A:$B,$A53,C$2)))","v":""},null,"",null,null,null,"","","","","",{"$f":"IF(M53=\"\",\"\",IF(M53>=settodownload!$F$5,\"OK\",\"\"))","v":""},"","","","","","","","","","","","","","","","","","","","",{"$error":"#VALUE!"},"","","","","","","","","","","","",""]
[638,{"$f":"IF(C54=\"\",\"\",INDEX(downloadmatch!$A:$B,$A54,B$2))","v":""},{"$f":"IF(C53=\"\",\"\",IF(INDEX(downloadmatch!$A:$B,$A54,C$2)=0,\"\",INDEX(downloadmatch!$A:$B,$A54,C$2)))","v":""},null,"",null,null,null,"","","","","",{"$f":"IF(M54=\"\",\"\",IF(M54>=settodownload!$F$5,\"OK\",\"\"))","v":""},"","","","","","","","","","","","","","","","","","","","",{"$error":"#VALUE!"},"","","","","","","","","","","","",""]
[639,{"$f":"IF(C55=\"\",\"\",INDEX(downloadmatch!$A:$B,$A55,B$2))","v":""},{"$f":"IF(C54=\"\",\"\",IF(INDEX(downloadmatch!$A:$B,$A55,C$2)=0,\"\",INDEX(downloadmatch!$A:$B,$A55,C$2)))","v":""},null,"",null,null,null,"","","","","",{"$f":"IF(M55=\"\",\"\",IF(M55>=settodownload!$F$5,\"OK\",\"\"))","v":""},"","","","","","","","","","","","","","","","","","","","",{"$error":"#VALUE!"},"","","","","","","","","","","","",""]
[640,{"$f":"IF(C56=\"\",\"\",INDEX(downloadmatch!$A:$B,$A56,B$2))","v":""},{"$f":"IF(C55=\"\",\"\",IF(INDEX(downloadmatch!$A:$B,$A56,C$2)=0,\"\",INDEX(downloadmatch!$A:$B,$A56,C$2)))","v":""},null,"",null,null,null,"","","","","",{"$f":"IF(M56=\"\",\"\",IF(M56>=settodownload!$F$5,\"OK\",\"\"))","v":""},"","","","","","","","","","","","","","","","","","","","",{"$error":"#VALUE!"},"","","","","","","","","","","","",""]
[641,{"$f":"IF(C57=\"\",\"\",INDEX(downloadmatch!$A:$B,$A57,B$2))","v":""},{"$f":"IF(C56=\"\",\"\",IF(INDEX(downloadmatch!$A:$B,$A57,C$2)=0,\"\",INDEX(downloadmatch!$A:$B,$A57,C$2)))","v":""},null,"",null,null,null,"","","","","",{"$f":"IF(M57=\"\",\"\",IF(M57>=settodownload!$F$5,\"OK\",\"\"))","v":""},"","","","","","","","","","","","","","","","","","","","",{"$error":"#VALUE!"},"","","","","","","","","","","","",""]
[642,{"$f":"IF(C58=\"\",\"\",INDEX(downloadmatch!$A:$B,$A58,B$2))","v":""},{"$f":"IF(C57=\"\",\"\",IF(INDEX(downloadmatch!$A:$B,$A58,C$2)=0,\"\",INDEX(downloadmatch!$A:$B,$A58,C$2)))","v":""},null,"",null,null,null,"","","","","",{"$f":"IF(M58=\"\",\"\",IF(M58>=settodownload!$F$5,\"OK\",\"\"))","v":""},"","","","","","","","","","","","","","","","","","","","",{"$error":"#VALUE!"},"","","","","","","","","","","","",""]
[643,{"$f":"IF(C59=\"\",\"\",INDEX(downloadmatch!$A:$B,$A59,B$2))","v":""},{"$f":"IF(C58=\"\",\"\",IF(INDEX(downloadmatch!$A:$B,$A59,C$2)=0,\"\",INDEX(downloadmatch!$A:$B,$A59,C$2)))","v":""},null,"",null,null,null,"","","","","",{"$f":"IF(M59=\"\",\"\",IF(M59>=settodownload!$F$5,\"OK\",\"\"))","v":""},"","","","","","","","","","","","","","",{"$f":"IF(W59=\"\",\"\",IF(W59>0,\"ok\",\"\"))","v":""},"","","","","",{"$error":"#VALUE!"},"","","","","","","","","","","","",""]
[644,{"$f":"IF(C60=\"\",\"\",INDEX(downloadmatch!$A:$B,$A60,B$2))","v":""},{"$f":"IF(C59=\"\",\"\",IF(INDEX(downloadmatch!$A:$B,$A60,C$2)=0,\"\",INDEX(downloadmatch!$A:$B,$A60,C$2)))","v":""},null,"",null,null,null,"","","","","",{"$f":"IF(M60=\"\",\"\",IF(M60>=settodownload!$F$5,\"OK\",\"\"))","v":""},"","","","","","","","","","","","","","","","","","","","",{"$error":"#VALUE!"},"","","","","","","","","","","","",""]
[645,{"$f":"IF(C61=\"\",\"\",INDEX(downloadmatch!$A:$B,$A61,B$2))","v":""},{"$f":"IF(C60=\"\",\"\",IF(INDEX(downloadmatch!$A:$B,$A61,C$2)=0,\"\",INDEX(downloadmatch!$A:$B,$A61,C$2)))","v":""},null,"",null,null,null,"","","","","",{"$f":"IF(M61=\"\",\"\",IF(M61>=settodownload!$F$5,\"OK\",\"\"))","v":""},"","","","","","","","","","","","","","","","","","","","",{"$error":"#VALUE!"},"","","","","","","","","","","","",""]
[646,{"$f":"IF(C62=\"\",\"\",INDEX(downloadmatch!$A:$B,$A62,B$2))","v":""},{"$f":"IF(C61=\"\",\"\",IF(INDEX(downloadmatch!$A:$B,$A62,C$2)=0,\"\",INDEX(downloadmatch!$A:$B,$A62,C$2)))","v":""},null,"",null,null,null,"","","","","",{"$f":"IF(M62=\"\",\"\",IF(M62>=settodownload!$F$5,\"OK\",\"\"))","v":""},"","","","","","","","","","","","","","","","","","","","",{"$error":"#VALUE!"},"","","","","","","","","","","","",""]
[647,{"$f":"IF(C63=\"\",\"\",INDEX(downloadmatch!$A:$B,$A63,B$2))","v":""},{"$f":"IF(C62=\"\",\"\",IF(INDEX(downloadmatch!$A:$B,$A63,C$2)=0,\"\",INDEX(downloadmatch!$A:$B,$A63,C$2)))","v":""},null,"",null,null,null,"","","","","",{"$f":"IF(M63=\"\",\"\",IF(M63>=settodownload!$F$5,\"OK\",\"\"))","v":""},"","","","","","","","","","","","","","","","","","","","",{"$error":"#VALUE!"},"","","","","","","","","","","","",""]
[648,{"$f":"IF(C64=\"\",\"\",INDEX(downloadmatch!$A:$B,$A64,B$2))","v":""},{"$f":"IF(C63=\"\",\"\",IF(INDEX(downloadmatch!$A:$B,$A64,C$2)=0,\"\",INDEX(downloadmatch!$A:$B,$A64,C$2)))","v":""},null,"",null,null,null,"","","","","",{"$f":"IF(M64=\"\",\"\",IF(M64>=settodownload!$F$5,\"OK\",\"\"))","v":""},"","","","","","","","","","","","","","","","","","","","",{"$error":"#VALUE!"},"","","","","","","","","","","","",""]
[649,{"$f":"IF(C65=\"\",\"\",INDEX(downloadmatch!$A:$B,$A65,B$2))","v":""},{"$f":"IF(C64=\"\",\"\",IF(INDEX(downloadmatch!$A:$B,$A65,C$2)=0,\"\",INDEX(downloadmatch!$A:$B,$A65,C$2)))","v":""},null,"",null,null,null,"","","","","",{"$f":"IF(M65=\"\",\"\",IF(M65>=settodownload!$F$5,\"OK\",\"\"))","v":""},"","","","","","","","","","","","","","","","","","","","",{"$error":"#VALUE!"},"","","","","","","","","","","","",""]
[650,{"$f":"IF(C66=\"\",\"\",INDEX(downloadmatch!$A:$B,$A66,B$2))","v":""},{"$f":"IF(C65=\"\",\"\",IF(INDEX(downloadmatch!$A:$B,$A66,C$2)=0,\"\",INDEX(downloadmatch!$A:$B,$A66,C$2)))","v":""},null,"",null,null,null,"","","","","",{"$f":"IF(M66=\"\",\"\",IF(M66>=settodownload!$F$5,\"OK\",\"\"))","v":""},"","","","","","","","","","","","","","","","","","","","",{"$error":"#VALUE!"},"","","","","","","","","","","","",""]
[651,{"$f":"IF(C67=\"\",\"\",INDEX(downloadmatch!$A:$B,$A67,B$2))","v":""},{"$f":"IF(C66=\"\",\"\",IF(INDEX(downloadmatch!$A:$B,$A67,C$2)=0,\"\",INDEX(downloadmatch!$A:$B,$A67,C$2)))","v":""},null,"",null,null,null,"","","","",{"$f":"IF(F67=\"\",\"\",fmt(E67,\"YYYY\")*1)","v":""},{"$f":"IF(M67=\"\",\"\",IF(M67>=settodownload!$F$5,\"OK\",\"\"))","v":""},"","",{"$f":"IFERROR(IF(P67=\"\",\"\",LEFT(J67,SEARCH(\":\",J67)-1)*1),IF(L67=\"\",\"\",LEFT(L67,SEARCH(\":\",L67)-1)*1))","v":""},{"$f":"IFERROR(IF(Q67=\"\",\"\",MID(J67,SEARCH(\":\",J67)+1,100)*1),IF(L67=\"\",\"\",MID(L67,SEARCH(\":\",L67)+1,100)*1))","v":""},"","","","","","","","","","","","","","","","",{"$error":"#VALUE!"},"","","","","","","","","","","","",""]
[652,{"$f":"IF(C68=\"\",\"\",INDEX(downloadmatch!$A:$B,$A68,B$2))","v":""},{"$f":"IF(C67=\"\",\"\",IF(INDEX(downloadmatch!$A:$B,$A68,C$2)=0,\"\",INDEX(downloadmatch!$A:$B,$A68,C$2)))","v":""},null,"",null,null,null,{"$f":"IF(H68=\"\",\"\",IF(K68=\"\",LEFT(H68,SEARCH(\" \",H68)-1),K68))","v":""},{"$f":"IF(F68=\"\",\"\",SUBSTITUTE(SUBSTITUTE(MID(C68,SEARCH(\" \",H68)+3,100),\"(\",\"\"),\")\",\"\"))","v":""},"","","",{"$f":"IF(M68=\"\",\"\",IF(M68>=settodownload!$F$5,\"OK\",\"\"))","v":""},{"$f":"IF(N68=\"\",\"\",LEFT(F68,SEARCH(\" - \",F68)-1))","v":""},{"$f":"IF(O68=\"\",\"\",MID(F68,SEARCH(\" - \",F68)+3,100))","v":""},"","",{"$f":"IF(R68=\"\",\"\",U68-Q68)","v":""},"",{"$f":"IF(N68=\"\",\"\",LEFT(I68,SEARCH(\":\",I68)-1)*1)","v":""},{"$f":"IF(U68=\"\",\"\",MID(I68,SEARCH(\":\",I68)+1,100)*1)","v":""},{"$f":"IF($O$2=O68,Q68,R68)","v":""},{"$f":"IF($O$2=P68,Q68,R68)","v":""},{"$f":"IF($O$2=O68,S68,T68)","v":""},{"$f":"IF($O$2=P68,S68,T68)","v":""},{"$f":"IF($O$2=O68,U68,V68)","v":""},{"$f":"IF($O$2=P68,U68,V68)","v":""},"","","","","","",{"$f":"IF(W68=\"\",AI67,AI67+1)","v":{"$error":"#VALUE!"}},{"$f":"IF(W68=\"\",\"\",IF(W68>X68,\"W\",IF(W68=X68,\"D\",IF(W68<X68,\"l\",\"\"))))","v":""},{"$f":"IF(Y68=\"\",\"\",IF(Y68>Z68,\"W\",IF(Y68=Z68,\"D\",IF(Y68<Z68,\"l\",\"\"))))","v":""},{"$f":"IF(AA68=\"\",\"\",IF(AA68>AB68,\"W\",IF(AA68=AB68,\"D\",IF(AA68<AB68,\"l\",\"\"))))","v":""},{"$f":"IF(AL68=\"\",\"\",IF((W68+X68)>0.5,\"OK\",\"\"))","v":""},{"$f":"IF(AM68=\"\",\"\",IF((W68+X68)>1,\"OK\",\"\"))","v":""},{"$f":"IF(AL68=\"\",\"\",IF((Y68+Z68)>0.5,\"OK\",\"\"))","v":""},{"$f":"IF(AL68=\"\",\"\",IF((Y68+Z68)>1,\"OK\",\"\"))","v":""},{"$f":"IF(AL68=\"\",\"\",IF((AA68+AB68)>1,\"OK\",\"\"))","v":""},{"$f":"IF(AL68=\"\",\"\",IF((AA68+AB68)>2,\"OK\",\"\"))","v":""},{"$f":"IF(AL68=\"\",\"\",IF((AA68+AB68)>3,\"OK\",\"\"))","v":""},{"$f":"IF(AL68=\"\",\"\",IF(AND(AJ68=\"W\",AK68=\"W\"),\"OK\",\"\"))","v":""},{"$f":"IF(AL68=\"\",\"\",IF(AND(AJ68=\"D\",AK68=\"D\"),\"OK\",\"\"))","v":""},{"$f":"IF(AL68=\"\",\"\",IF(AND(AJ68=\"L\",AK68=\"L\"),\"OK\",\"\"))","v":""}]
[{"$f":"A68+1","v":653},{"$f":"IF(C69=\"\",\"\",INDEX(downloadmatch!$A:$B,$A69,B$2))","v":""},{"$f":"IF(C68=\"\",\"\",IF(INDEX(downloadmatch!$A:$B,$A69,C$2)=0,\"\",INDEX(downloadmatch!$A:$B,$A69,C$2)))","v":""},null,"",null,null,null,"","","","","",{"$f":"IF(M69=\"\",\"\",IF(M69>=settodownload!$F$5,\"OK\",\"\"))","v":""},"","","","","","","","","","","","","","","","","","","","",{"$error":"#VALUE!"},"","","","","","","","","","","","",""]
[654,{"$f":"IF(C70=\"\",\"\",INDEX(downloadmatch!$A:$B,$A70,B$2))","v":""},{"$f":"IF(C69=\"\",\"\",IF(INDEX(downloadmatch!$A:$B,$A70,C$2)=0,\"\",INDEX(downloadmatch!$A:$B,$A70,C$2)))","v":""},null,"",null,null,null,"","","","","",{"$f":"IF(M70=\"\",\"\",IF(M70>=settodownload!$F$5,\"OK\",\"\"))","v":""},"","","","","","","","","","","","","","","","","","","","",{"$error":"#VALUE!"},"","","","","","","","","","","","",""]
[655,{"$f":"IF(C71=\"\",\"\",INDEX(downloadmatch!$A:$B,$A71,B$2))","v":""},{"$f":"IF(C70=\"\",\"\",IF(INDEX(downloadmatch!$A:$B,$A71,C$2)=0,\"\",INDEX(downloadmatch!$A:$B,$A71,C$2)))","v":""},null,"",null,null,null,"","","","","",{"$f":"IF(M71=\"\",\"\",IF(M71>=settodownload!$F$5,\"OK\",\"\"))","v":""},"","","","","","","","","","","","","","","","","","","","",{"$error":"#VALUE!"},"","","","","","","","","","","","",""]
[656,{"$f":"IF(C72=\"\",\"\",INDEX(downloadmatch!$A:$B,$A72,B$2))","v":""},{"$f":"IF(C71=\"\",\"\",IF(INDEX(downloadmatch!$A:$B,$A72,C$2)=0,\"\",INDEX(downloadmatch!$A:$B,$A72,C$2)))","v":""},null,"",null,null,null,"","","","","",{"$f":"IF(M72=\"\",\"\",IF(M72>=settodownload!$F$5,\"OK\",\"\"))","v":""},"","","","","","","","","","","","","","","","","","","","",{"$error":"#VALUE!"},"","","","","","","","","","","","",""]
[657,{"$f":"IF(C73=\"\",\"\",INDEX(downloadmatch!$A:$B,$A73,B$2))","v":""},{"$f":"IF(C72=\"\",\"\",IF(INDEX(downloadmatch!$A:$B,$A73,C$2)=0,\"\",INDEX(downloadmatch!$A:$B,$A73,C$2)))","v":""},null,"",null,null,null,"","","","","",{"$f":"IF(M73=\"\",\"\",IF(M73>=settodownload!$F$5,\"OK\",\"\"))","v":""},"","","","","","","","","","","","","","","","","","","","",{"$error":"#VALUE!"},"","","","","","","","","","","","",""]
[658,{"$f":"IF(C74=\"\",\"\",INDEX(downloadmatch!$A:$B,$A74,B$2))","v":""},{"$f":"IF(C73=\"\",\"\",IF(INDEX(downloadmatch!$A:$B,$A74,C$2)=0,\"\",INDEX(downloadmatch!$A:$B,$A74,C$2)))","v":""},null,"",null,null,null,"","","","","",{"$f":"IF(M74=\"\",\"\",IF(M74>=settodownload!$F$5,\"OK\",\"\"))","v":""},"","","","","","","","","","","","","","","","","","","","",{"$error":"#VALUE!"},"","","","","","","","","","","","",""]
[659,{"$f":"IF(C75=\"\",\"\",INDEX(downloadmatch!$A:$B,$A75,B$2))","v":""},{"$f":"IF(C74=\"\",\"\",IF(INDEX(downloadmatch!$A:$B,$A75,C$2)=0,\"\",INDEX(downloadmatch!$A:$B,$A75,C$2)))","v":""},null,"",null,null,null,"","","","","",{"$f":"IF(M75=\"\",\"\",IF(M75>=settodownload!$F$5,\"OK\",\"\"))","v":""},"","","","","","","","","","","","","","","","","","","","",{"$error":"#VALUE!"},"","","","","","","","","","","","",""]
[660,{"$f":"IF(C76=\"\",\"\",INDEX(downloadmatch!$A:$B,$A76,B$2))","v":""},{"$f":"IF(C75=\"\",\"\",IF(INDEX(downloadmatch!$A:$B,$A76,C$2)=0,\"\",INDEX(downloadmatch!$A:$B,$A76,C$2)))","v":""},null,{"$f":"IFERROR(IF(B76=\"\",\"\",LEFT(B76,SEARCH(\" \",B76)-1)),\"\")","v":""},null,null,null,"","","","","",{"$f":"IF(M76=\"\",\"\",IF(M76>=settodownload!$F$5,\"OK\",\"\"))","v":""},"","","","","","","","","","","","","","","","","","","","",{"$error":"#VALUE!"},"","","","","","","","","","","","",""]
[661,{"$f":"IF(C77=\"\",\"\",INDEX(downloadmatch!$A:$B,$A77,B$2))","v":""},{"$f":"IF(C76=\"\",\"\",IF(INDEX(downloadmatch!$A:$B,$A77,C$2)=0,\"\",INDEX(downloadmatch!$A:$B,$A77,C$2)))","v":""},null,"",null,null,null,"","","","","",{"$f":"IF(M77=\"\",\"\",IF(M77>=settodownload!$F$5,\"OK\",\"\"))","v":""},"","","","","","","","","","","","","","","","","","","","",{"$error":"#VALUE!"},"","","","","","","","","","","","",""]
[662,{"$f":"IF(C78=\"\",\"\",INDEX(downloadmatch!$A:$B,$A78,B$2))","v":""},{"$f":"IF(C77=\"\",\"\",IF(INDEX(downloadmatch!$A:$B,$A78,C$2)=0,\"\",INDEX(downloadmatch!$A:$B,$A78,C$2)))","v":""},null,"",null,null,null,"","","","","",{"$f":"IF(M78=\"\",\"\",IF(M78>=settodownload!$F$5,\"OK\",\"\"))","v":""},"","","","","","","","","","","","","","","","","","","","",{"$error":"#VALUE!"},"","","","","","","","","","","","",""]
[663,{"$f":"IF(C79=\"\",\"\",INDEX(downloadmatch!$A:$B,$A79,B$2))","v":""},{"$f":"IF(C78=\"\",\"\",IF(INDEX(downloadmatch!$A:$B,$A79,C$2)=0,\"\",INDEX(downloadmatch!$A:$B,$A79,C$2)))","v":""},null,"",null,null,null,"","","","","",{"$f":"IF(M79=\"\",\"\",IF(M79>=settodownload!$F$5,\"OK\",\"\"))","v":""},"","","","","","","","","","","","","","","","","","","","",{"$error":"#VALUE!"},"","","","","","","","","","","","",""]
[664,{"$f":"IF(C80=\"\",\"\",INDEX(downloadmatch!$A:$B,$A80,B$2))","v":""},{"$f":"IF(C79=\"\",\"\",IF(INDEX(downloadmatch!$A:$B,$A80,C$2)=0,\"\",INDEX(downloadmatch!$A:$B,$A80,C$2)))","v":""},null,"",null,null,null,"","","","","",{"$f":"IF(M80=\"\",\"\",IF(M80>=settodownload!$F$5,\"OK\",\"\"))","v":""},"","","","","","","","","","","","","","","","","","","","",{"$error":"#VALUE!"},"","","","","","","","","","","","",""]
[665,{"$f":"IF(C81=\"\",\"\",INDEX(downloadmatch!$A:$B,$A81,B$2))","v":""},{"$f":"IF(C80=\"\",\"\",IF(INDEX(downloadmatch!$A:$B,$A81,C$2)=0,\"\",INDEX(downloadmatch!$A:$B,$A81,C$2)))","v":""},null,"",null,null,null,"","","","","",{"$f":"IF(M81=\"\",\"\",IF(M81>=settodownload!$F$5,\"OK\",\"\"))","v":""},"","","","","","","","","","","","","","","","","","","","",{"$error":"#VALUE!"},"","","","","","","","","","","","",""]
[666,{"$f":"IF(C82=\"\",\"\",INDEX(downloadmatch!$A:$B,$A82,B$2))","v":""},{"$f":"IF(C81=\"\",\"\",IF(INDEX(downloadmatch!$A:$B,$A82,C$2)=0,\"\",INDEX(downloadmatch!$A:$B,$A82,C$2)))","v":""},null,"",null,null,null,"","","","","",{"$f":"IF(M82=\"\",\"\",IF(M82>=settodownload!$F$5,\"OK\",\"\"))","v":""},"","","","","","","","","","","","","","","","","","","","",{"$error":"#VALUE!"},"","","","","","","","","","","","",""]
[667,{"$f":"IF(C83=\"\",\"\",INDEX(downloadmatch!$A:$B,$A83,B$2))","v":""},{"$f":"IF(C82=\"\",\"\",IF(INDEX(downloadmatch!$A:$B,$A83,C$2)=0,\"\",INDEX(downloadmatch!$A:$B,$A83,C$2)))","v":""},null,"",null,null,null,"","","","","",{"$f":"IF(M83=\"\",\"\",IF(M83>=settodownload!$F$5,\"OK\",\"\"))","v":""},"","","","","","","","","","","","","","","","","","","","",{"$error":"#VALUE!"},"","","","","","","","","","","","",""]
[668,{"$f":"IF(C84=\"\",\"\",INDEX(downloadmatch!$A:$B,$A84,B$2))","v":""},{"$f":"IF(C83=\"\",\"\",IF(INDEX(downloadmatch!$A:$B,$A84,C$2)=0,\"\",INDEX(downloadmatch!$A:$B,$A84,C$2)))","v":""},null,"",null,null,null,"","","","","",{"$f":"IF(M84=\"\",\"\",IF(M84>=settodownload!$F$5,\"OK\",\"\"))","v":""},"","","","",{"$f":"IF(R84=\"\",\"\",U84-Q84)","v":""},"","","","","","","","","","","","","","","",{"$error":"#VALUE!"},"","","","","","","","","","","","",""]
[669,{"$f":"IF(C85=\"\",\"\",INDEX(downloadmatch!$A:$B,$A85,B$2))","v":""},{"$f":"IF(C84=\"\",\"\",IF(INDEX(downloadmatch!$A:$B,$A85,C$2)=0,\"\",INDEX(downloadmatch!$A:$B,$A85,C$2)))","v":""},null,"",null,null,null,"","","","","",{"$f":"IF(M85=\"\",\"\",IF(M85>=settodownload!$F$5,\"OK\",\"\"))","v":""},"","","","","","","","","","","","","","","","","","","","",{"$error":"#VALUE!"},"","","","","","","","","","","","",""]
[670,{"$f":"IF(C86=\"\",\"\",INDEX(downloadmatch!$A:$B,$A86,B$2))","v":""},{"$f":"IF(C85=\"\",\"\",IF(INDEX(downloadmatch!$A:$B,$A86,C$2)=0,\"\",INDEX(downloadmatch!$A:$B,$A86,C$2)))","v":""},null,"",null,null,null,"","","","","",{"$f":"IF(M86=\"\",\"\",IF(M86>=settodownload!$F$5,\"OK\",\"\"))","v":""},"","","","","","","","","","","","","","","","","","","","",{"$error":"#VALUE!"},"","","","","","","","","","","","",""]
[671,{"$f":"IF(C87=\"\",\"\",INDEX(downloadmatch!$A:$B,$A87,B$2))","v":""},{"$f":"IF(C86=\"\",\"\",IF(INDEX(downloadmatch!$A:$B,$A87,C$2)=0,\"\",INDEX(downloadmatch!$A:$B,$A87,C$2)))","v":""},null,"",null,null,null,"","","","","",{"$f":"IF(M87=\"\",\"\",IF(M87>=settodownload!$F$5,\"OK\",\"\"))","v":""},"","","","","","","","","","","","","","","","","","","","",{"$error":"#VALUE!"},"","","","","","","","","","","","",""]
[672,{"$f":"IF(C88=\"\",\"\",INDEX(downloadmatch!$A:$B,$A88,B$2))","v":""},{"$f":"IF(C87=\"\",\"\",IF(INDEX(downloadmatch!$A:$B,$A88,C$2)=0,\"\",INDEX(downloadmatch!$A:$B,$A88,C$2)))","v":""},null,"",null,null,null,"","","","","",{"$f":"IF(M88=\"\",\"\",IF(M88>=settodownload!$F$5,\"OK\",\"\"))","v":""},"","","","","","","","","","","","","","","","","","","","",{"$error":"#VALUE!"},"","","","","","","","","","","","",""]
[673,{"$f":"IF(C89=\"\",\"\",INDEX(downloadmatch!$A:$B,$A89,B$2))","v":""},{"$f":"IF(C88=\"\",\"\",IF(INDEX(downloadmatch!$A:$B,$A89,C$2)=0,\"\",INDEX(downloadmatch!$A:$B,$A89,C$2)))","v":""},null,"",null,null,null,"","","","","",{"$f":"IF(M89=\"\",\"\",IF(M89>=settodownload!$F$5,\"OK\",\"\"))","v":""},"","","","","","","","","","","","","","","","","","","","",{"$error":"#VALUE!"},"","","","","","","","","","","","",""]
[674,{"$f":"IF(C90=\"\",\"\",INDEX(downloadmatch!$A:$B,$A90,B$2))","v":""},{"$f":"IF(C89=\"\",\"\",IF(INDEX(downloadmatch!$A:$B,$A90,C$2)=0,\"\",INDEX(downloadmatch!$A:$B,$A90,C$2)))","v":""},null,"",null,null,null,"","",{"$f":"IFERROR(MID(J90,SEARCH(\"AET\",J90)+4,100),\"\")","v":""},{"$f":"IFERROR(LEFT(J90,SEARCH(\"AET\",J90)-2),\"\")","v":""},"",{"$f":"IF(M90=\"\",\"\",IF(M90>=settodownload!$F$5,\"OK\",\"\"))","v":""},"","","","","","","","","","","","","","","","","","","","",{"$error":"#VALUE!"},"","","","","","","","","","","","",""]
[675,{"$f":"IF(C91=\"\",\"\",INDEX(downloadmatch!$A:$B,$A91,B$2))","v":""},{"$f":"IF(C90=\"\",\"\",IF(INDEX(downloadmatch!$A:$B,$A91,C$2)=0,\"\",INDEX(downloadmatch!$A:$B,$A91,C$2)))","v":""},null,"",null,null,null,"","","","","",{"$f":"IF(M91=\"\",\"\",IF(M91>=settodownload!$F$5,\"OK\",\"\"))","v":""},"","","","","","","","","","","","","","","","","","","","",{"$error":"#VALUE!"},"","","","","","","","","","","","",""]
[676,{"$f":"IF(C92=\"\",\"\",INDEX(downloadmatch!$A:$B,$A92,B$2))","v":""},{"$f":"IF(C91=\"\",\"\",IF(INDEX(downloadmatch!$A:$B,$A92,C$2)=0,\"\",INDEX(downloadmatch!$A:$B,$A92,C$2)))","v":""},null,"",null,null,null,"","","","","",{"$f":"IF(M92=\"\",\"\",IF(M92>=settodownload!$F$5,\"OK\",\"\"))","v":""},"","","","","","","","","","","","","","","","","","","","",{"$error":"#VALUE!"},"","","","","","","","","","","","",""]
[677,{"$f":"IF(C93=\"\",\"\",INDEX(downloadmatch!$A:$B,$A93,B$2))","v":""},{"$f":"IF(C92=\"\",\"\",IF(INDEX(downloadmatch!$A:$B,$A93,C$2)=0,\"\",INDEX(downloadmatch!$A:$B,$A93,C$2)))","v":""},null,"",null,null,null,"","","","","",{"$f":"IF(M93=\"\",\"\",IF(M93>=settodownload!$F$5,\"OK\",\"\"))","v":""},"","","","","","","","","","","","","","","","","","","","",{"$error":"#VALUE!"},"","","","","","","","","","","","",""]
[678,{"$f":"IF(C94=\"\",\"\",INDEX(downloadmatch!$A:$B,$A94,B$2))","v":""},{"$f":"IF(C93=\"\",\"\",IF(INDEX(downloadmatch!$A:$B,$A94,C$2)=0,\"\",INDEX(downloadmatch!$A:$B,$A94,C$2)))","v":""},null,"",null,null,null,"","","","","",{"$f":"IF(M94=\"\",\"\",IF(M94>=settodownload!$F$5,\"OK\",\"\"))","v":""},"","","","","","","","","","","","","","","","","","","","",{"$error":"#VALUE!"},"","","","","","","","","","","","",""]
[679,{"$f":"IF(C95=\"\",\"\",INDEX(downloadmatch!$A:$B,$A95,B$2))","v":""},{"$f":"IF(C94=\"\",\"\",IF(INDEX(downloadmatch!$A:$B,$A95,C$2)=0,\"\",INDEX(downloadmatch!$A:$B,$A95,C$2)))","v":""},null,"",null,null,null,"","","","","",{"$f":"IF(M95=\"\",\"\",IF(M95>=settodownload!$F$5,\"OK\",\"\"))","v":""},"","","","","","","","","","","","","","","","","","","","",{"$error":"#VALUE!"},"","","","","","","","","","","","",""]
[680,{"$f":"IF(C96=\"\",\"\",INDEX(downloadmatch!$A:$B,$A96,B$2))","v":""},{"$f":"IF(C95=\"\",\"\",IF(INDEX(downloadmatch!$A:$B,$A96,C$2)=0,\"\",INDEX(downloadmatch!$A:$B,$A96,C$2)))","v":""},null,"",null,null,null,"","","","","",{"$f":"IF(M96=\"\",\"\",IF(M96>=settodownload!$F$5,\"OK\",\"\"))","v":""},"","","","","","","","","","","","","","","","","","","","",{"$error":"#VALUE!"},"","","","","","","","","","","","",""]
[681,{"$f":"IF(C97=\"\",\"\",INDEX(downloadmatch!$A:$B,$A97,B$2))","v":""},{"$f":"IF(C96=\"\",\"\",IF(INDEX(downloadmatch!$A:$B,$A97,C$2)=0,\"\",INDEX(downloadmatch!$A:$B,$A97,C$2)))","v":""},null,"",null,null,null,"","","","","",{"$f":"IF(M97=\"\",\"\",IF(M97>=settodownload!$F$5,\"OK\",\"\"))","v":""},"","","","","","","","","","","","","","","","","","","","",{"$error":"#VALUE!"},"","","","","","","","","","","","",""]
[682,{"$f":"IF(C98=\"\",\"\",INDEX(downloadmatch!$A:$B,$A98,B$2))","v":""},{"$f":"IF(C97=\"\",\"\",IF(INDEX(downloadmatch!$A:$B,$A98,C$2)=0,\"\",INDEX(downloadmatch!$A:$B,$A98,C$2)))","v":""},null,"",null,null,null,"","","","","",{"$f":"IF(M98=\"\",\"\",IF(M98>=settodownload!$F$5,\"OK\",\"\"))","v":""},"","","","","","","","","","","","","","","","","","","","",{"$error":"#VALUE!"},"","","","","","","","","","","","",""]
[683,{"$f":"IF(C99=\"\",\"\",INDEX(downloadmatch!$A:$B,$A99,B$2))","v":""},{"$f":"IF(C98=\"\",\"\",IF(INDEX(downloadmatch!$A:$B,$A99,C$2)=0,\"\",INDEX(downloadmatch!$A:$B,$A99,C$2)))","v":""},null,"",null,null,null,"","","","","",{"$f":"IF(M99=\"\",\"\",IF(M99>=settodownload!$F$5,\"OK\",\"\"))","v":""},"","","","","","","","","","","","","","","","","","","","",{"$f":"IF(W99=\"\",AI98,AI98+1)","v":{"$error":"#VALUE!"}},"","","","","","","","","","","","",""]
[684,{"$f":"IF(C100=\"\",\"\",INDEX(downloadmatch!$A:$B,$A100,B$2))","v":""},{"$f":"IF(C99=\"\",\"\",IF(INDEX(downloadmatch!$A:$B,$A100,C$2)=0,\"\",INDEX(downloadmatch!$A:$B,$A100,C$2)))","v":""},null,{"$f":"IFERROR(IF(B100=\"\",\"\",LEFT(B100,SEARCH(\" \",B100)-1)),\"\")","v":""},null,null,null,null,"",null,null,"",{"$f":"IF(M100=\"\",\"\",IF(M100>=settodownload!$C$5,\"OK\",\"\"))","v":""}]

{"sheet":"predict","index":9,"n_rows":19,"n_cols":27,"rows_kept":19,"cut":false,"hidden":true,"merged":[[1,1,1,6]]}
[]
[null,"qol vurma gucu",null,null,null,null,null,null,0.5,1.5,0.5,1.5,1.5,2.5,3.5]
["t1",{"$f":"HOME!AC2","v":0.5},{"$f":"HOME!AD2","v":0.5},{"$f":"HOME!AE2","v":0.75},{"$f":"HOME!AF2","v":0.625},{"$f":"HOME!AG2","v":0.875},{"$f":"HOME!AH2","v":0.875},null,{"$f":"HOME!AM2","v":0.75},{"$f":"HOME!AN2","v":0.5},{"$f":"HOME!AO2","v":0.875},{"$f":"HOME!AP2","v":0.75},{"$f":"HOME!AQ2","v":1},{"$f":"HOME!AR2","v":0.625},{"$f":"HOME!AS2","v":0.5},null,{"$f":"HOME!AW4","v":0.25},{"$f":"HOME!AX4","v":0.375},{"$f":"HOME!AY4","v":0.375},null,{"$f":"HOME!AW8","v":0.375},{"$f":"HOME!AX8","v":0.25},{"$f":"HOME!AY8","v":0.375},null,{"$f":"HOME!AW12","v":0.25},{"$f":"HOME!AX12","v":0.375},{"$f":"HOME!AY12","v":0.375}]
["t2",{"$f":"AWAY!AC2","v":0.7},{"$f":"AWAY!AD2","v":0.5},{"$f":"AWAY!AE2","v":0.7},{"$f":"AWAY!AF2","v":0.4},{"$f":"AWAY!AG2","v":0.9},{"$f":"AWAY!AH2","v":0.7},null,{"$f":"AWAY!AM2","v":0.8},{"$f":"AWAY!AN2","v":0.6},{"$f":"AWAY!AO2","v":0.8},{"$f":"AWAY!AP2","v":0.3},{"$f":"AWAY!AQ2","v":0.9},{"$f":"AWAY!AR2","v":0.5},{"$f":"AWAY!AS2","v":0.3},null,{"$f":"AWAY!AW4","v":0.5},{"$f":"AWAY!AX4","v":0.4},{"$f":"AWAY!AY4","v":0.1},null,{"$f":"AWAY!AW8","v":0.5},{"$f":"AWAY!AX8","v":0.4},{"$f":"AWAY!AY8","v":0.1},null,{"$f":"AWAY!AW12","v":0.6},{"$f":"AWAY!AX12","v":0.2},{"$f":"AWAY!AY12","v":0.2}]
["t1",{"$f":"HEAD1!AC2","v":0.25},{"$f":"HEAD1!AD2","v":0.5},{"$f":"HEAD1!AE2","v":0.75},{"$f":"HEAD1!AF2","v":1},{"$f":"HEAD1!AG2","v":0.75},{"$f":"HEAD1!AH2","v":1},null,{"$f":"HEAD1!AM2","v":0.75},{"$f":"HEAD1!AN2","v":0.5},{"$f":"HEAD1!AO2","v":1},{"$f":"HEAD1!AP2","v":1},{"$f":"HEAD1!AQ2","v":1},{"$f":"HEAD1!AR2","v":1},{"$f":"HEAD1!AS2","v":0.75},null,{"$f":"HEAD1!AW4","v":0.25},{"$f":"HEAD1!AX4","v":0.25},{"$f":"HEAD1!AY4","v":0.5},null,{"$f":"HEAD1!AW8","v":0},{"$f":"HEAD1!AX8","v":0.5},{"$f":"HEAD1!AY8","v":0.5},null,{"$f":"HEAD1!AW12","v":0.25},{"$f":"HEAD1!AX12","v":0},{"$f":"HEAD1!AY12","v":0.75}]
["t2",{"$f":"HEAD2!AC2","v":{"$error":"#VALUE!"}},{"$f":"HEAD2!AD2","v":{"$error":"#VALUE!"}},{"$f":"HEAD2!AE2","v":{"$error":"#VALUE!"}},{"$f":"HEAD2!AF2","v":{"$error":"#VALUE!"}},{"$f":"HEAD2!AG2","v":{"$error":"#VALUE!"}},{"$f":"HEAD2!AH2","v":{"$error":"#VALUE!"}},null,{"$f":"HEAD2!AM2","v":{"$error":"#VALUE!"}},{"$f":"HEAD2!AN2","v":{"$error":"#VALUE!"}},{"$f":"HEAD2!AO2","v":{"$error":"#VALUE!"}},{"$f":"HEAD2!AP2","v":{"$error":"#VALUE!"}},{"$f":"HEAD2!AQ2","v":{"$error":"#VALUE!"}},{"$f":"HEAD2!AR2","v":{"$error":"#VALUE!"}},{"$f":"HEAD2!AS2","v":{"$error":"#VALUE!"}}]
[null,{"$f":"D19","v":"Aberystwyth "},{"$f":"E19","v":"Bala Town "},{"$f":"B7","v":"Aberystwyth "},{"$f":"C7","v":"Bala Town "},{"$f":"D7","v":"Aberystwyth "},{"$f":"E7","v":"Bala Town "},null,null,null,null,null,null,null,null,null,{"$f":"(Q3+S4+Q5)/3","v":0.19999999999999998},{"$f":"(R3+R4+R5)/3","v":0.34166666666666662},{"$f":"(S3+Q4+S5)/3","v":0.45833333333333331},null,{"$f":"(U3+W4+U5)/3","v":0.15833333333333333},{"$f":"(V3+V4+V5)/3","v":0.3833333333333333},{"$f":"(W3+U4+W5)/3","v":0.45833333333333331},null,{"$f":"(Y3+AA4+Y5)/3","v":0.23333333333333331},{"$f":"(Z3+Z4+Z5)/3","v":0.19166666666666665},{"$f":"(AA3+Y4+AA5)/3","v":0.57500000000000007}]
[null,{"$f":"(B3+C4+B5)/3","v":0.41666666666666669},{"$f":"(C3+B4+C5)/3","v":0.56666666666666665},{"$f":"(D3+E4+D5)/3","v":0.6333333333333333},{"$f":"(E3+D4+E5)/3","v":0.77500000000000002},{"$f":"(F3+G4+F5)/3","v":0.77500000000000002},{"$f":"(G3+F4+G5)/3","v":0.92499999999999993},null,{"$f":"(I3+I4+I5)/3","v":0.76666666666666661},{"$f":"(J3+J4+J5)/3","v":0.53333333333333333},{"$f":"(K3+K4+K5)/3","v":0.89166666666666661},0.68333333333333324,0.96666666666666667,0.70833333333333337,0.51666666666666672,null,"W1","X","W2",null,"W1","X","W2",null,"W1","X","W2"]
[null,{"$f":"B7","v":"Aberystwyth "},{"$f":"C7","v":"Bala Town "},"Aberystwyth ","Bala Town ","Aberystwyth ","Bala Town ",null,null,null,null,null,null,null,null,null,null,{"$f":"HLOOKUP(LARGE(Q7:S7,1),Q7:S8,2,0)","v":"W2"},null,null,null,{"$f":"HLOOKUP(LARGE(U7:W7,1),U7:W8,2,0)","v":"W2"},null,null,null,{"$f":"HLOOKUP(LARGE(Y7:AA7,1),Y7:AA8,2,0)","v":"W2"}]
[null,{"$f":"1-B3","v":0.5},{"$f":"1-C3","v":0.5},0.25,0.375,0.125,0.125,null,{"$f":"IF(AND(I3>70%,I4>70%),\"0.5 O (HT)\",\"-\")","v":"0.5 O (HT)"},{"$f":"IF(AND(J3>60%,J4>60%),\"1.5 O (HT)\",\"-\")","v":"-"},{"$f":"IF(AND(K3>70%,K4>70%),\"0.5 O (ST)\",\"-\")","v":"0.5 O (ST)"},{"$f":"IF(AND(L3>60%,L4>60%),\"1.5 O (ST)\",\"-\")","v":"-"},{"$f":"IF(AND(M3>60%,M4>60%),\"1.5 O (FT)\",\"-\")","v":"1.5 O (FT)"},{"$f":"IF(AND(N3>65%,N4>65%),\"2.5 O (FT)\",\"-\")","v":"-"},{"$f":"IF(AND(O3>60%,O4>60%),\"3.5 O (FT)\",\"-\")","v":"-"}]
[null,{"$f":"1-B4","v":0.30000000000000004},0.5,0.30000000000000004,0.6,9.9999999999999978E-2,0.30000000000000004]
[null,{"$f":"1-B5","v":0.75},0.5,0.25,0,0.25,0]
[null,{"$f":"B7","v":"Aberystwyth "},{"$f":"C7","v":"Bala Town "},"Aberystwyth ","Bala Town ","Aberystwyth ","Bala Town "]
[null,{"$f":"(B10+C11+B12)/3","v":0.58333333333333337},{"$f":"(C10+B11+C12)/3","v":0.43333333333333335},{"$f":"(D10+E11+D12)/3","v":0.3666666666666667},{"$f":"(E10+D11+E12)/3","v":0.22500000000000001},{"$f":"(F10+G11+F12)/3","v":0.22500000000000001},{"$f":"(G10+F11+G12)/3","v":7.4999999999999997E-2}]
[null,{"$f":"B7","v":"Aberystwyth "},{"$f":"C7","v":"Bala Town "},"Aberystwyth ","Bala Town ","Aberystwyth ","Bala Town ",null,{"$f":"HLOOKUP(LARGE(B8:C8,1),B8:C9,2,0)","v":"Bala Town "},null,{"$f":"HLOOKUP(LARGE(D8:E8,1),D8:E9,2,0)","v":"Bala Town "},null,{"$f":"HLOOKUP(LARGE(F8:G8,1),F8:G9,2,0)","v":"Bala Town "}]
[null,null,null,null,null,null,null,null,{"$f":"HLOOKUP(LARGE(B14:C14,1),B14:C15,2,0)","v":"Aberystwyth "},null,{"$f":"HLOOKUP(LARGE(D14:E14,1),D14:E15,2,0)","v":"Aberystwyth "},null,{"$f":"HLOOKUP(LARGE(F14:G14,1),F14:G15,2,0)","v":"Aberystwyth "}]
[null,null,null,null,null,null,null,null,{"$f":"IF(I15=I16,\"-\",I15)","v":"Bala Town "},null,{"$f":"IF(K15=K16,\"-\",K15)","v":"Bala Town "},null,{"$f":"IF(M15=M16,\"-\",M15)","v":"Bala Town "}]
[]
[{"$f":"settodownload!B3","v":"20-11-2020"},{"$f":"settodownload!C3","v":"23:45"},{"$f":"settodownload!D3","v":"Wales Premier League"},{"$f":"settodownload!E3","v":"Aberystwyth "},{"$f":"settodownload!F3","v":"Bala Town "},{"$f":"IFERROR(R9,\"NB\")","v":"W2"},{"$f":"IFERROR(V9,\"NB\")","v":"W2"},{"$f":"IFERROR(Z9,\"NB\")","v":"W2"},{"$f":"IFERROR(I10,\"NB\")","v":"0.5 O (HT)"},{"$f":"IFERROR(J10,\"NB\")","v":"-"},"0.5 O (ST)","-","1.5 O (FT)","-","-",{"$f":"IFERROR(I17,\"NB\")","v":"Bala Town "},{"$f":"IFERROR(K17,\"NB\")","v":"Bala Town "},{"$f":"IFERROR(M17,\"NB\")","v":"Bala Town "}]

{"sheet":"MAXODDS","index":10,"n_rows":1000,"n_cols":22,"rows_kept":1000,"cut":false,"hidden":false,"merged":[[0,5,0,7]]}
["DATE","TIME","LEAGUE","HOME","AWAY","ПРОГНОЗ",null,null,"HT","HT","ТБ. 0.5","ТБ. 1.5","ТБ. 1.5","ТБ. 2.5","ТБ. 3.5","GOAL 1","GOAL 2","GOAL 3","RESULT","ODDS 1","ODDS X","ODDS 2"]
[null,null,null,null,null,"HT","ST","FT",null,null,"ST","ST","FT","FT","FT"]
["20-11-2020","00:00:00","Spain Primera Division","Osasuna ","Huesca ","X","X","W2","-","-","-","-","-","-","-","Osasuna ","Huesca ","Osasuna ",{"$f":"IFERROR(IF(C3=\"\",\"\",IF(VLOOKUP(D3,site!$B:$D,3,0)=\"\",\"-\",VLOOKUP(D3,site!$B:$D,3,0))),IF(C3=\"\",\"\",IF(VLOOKUP(E3,site!$C:$D,2,0)=\"\",\"-\",VLOOKUP(E3,site!$C:$D,2,0))))","v":"— — "},{"$f":"IFERROR(IF($C3=\"\",\"\",IF(VLOOKUP($D3,site!$B:$F,4,0)=\"\",\"-\",VLOOKUP($D3,site!$B:$F,4,0))),IF($C3=\"\",\"\",IF(VLOOKUP($E3,site!$B:$F,3,0)=\"\",\"-\",VLOOKUP($E3,site!$B:$F,3,0))))","v":"2.39 "},{"$f":"IFERROR(IF($C3=\"\",\"\",IF(VLOOKUP($D3,site!$B:$F,5,0)=\"\",\"-\",VLOOKUP($D3,site!$B:$F,5,0))),IF($C3=\"\",\"\",IF(VLOOKUP($E3,site!$B:$F,4,0)=\"\",\"-\",VLOOKUP($E3,site!$B:$F,4,0))))","v":"3.28 "},{"$f":"IFERROR(IF($C3=\"\",\"\",IF(VLOOKUP($D3,site!$B:$G,6,0)=\"\",\"-\",VLOOKUP($D3,site!$B:$G,6,0))),IF($C3=\"\",\"\",IF(VLOOKUP($E3,site!$B:$G,5,0)=\"\",\"-\",VLOOKUP($E3,site!$B:$G,5,0))))","v":"3.28 "}]
["20-11-2020","00:00:00","France Ligue 1","Monaco ","PSG ","W2","W2","W2","0.5 O (HT)","-","0.5 O (ST)","-","1.5 O (FT)","-","-","PSG ","PSG ","PSG ",{"$f":"IFERROR(IF(C4=\"\",\"\",IF(VLOOKUP(D4,site!$B:$D,3,0)=\"\",\"-\",VLOOKUP(D4,site!$B:$D,3,0))),IF(C4=\"\",\"\",IF(VLOOKUP(E4,site!$C:$D,2,0)=\"\",\"-\",VLOOKUP(E4,site!$C:$D,2,0))))","v":"— — "},{"$f":"IFERROR(IF($C4=\"\",\"\",IF(VLOOKUP($D4,site!$B:$F,4,0)=\"\",\"-\",VLOOKUP($D4,site!$B:$F,4,0))),IF($C4=\"\",\"\",IF(VLOOKUP($E4,site!$B:$F,3,0)=\"\",\"-\",VLOOKUP($E4,site!$B:$F,3,0))))","v":"5.3 "},{"$f":"IFERROR(IF($C4=\"\",\"\",IF(VLOOKUP($D4,site!$B:$F,5,0)=\"\",\"-\",VLOOKUP($D4,site!$B:$F,5,0))),IF($C4=\"\",\"\",IF(VLOOKUP($E4,site!$B:$F,4,0)=\"\",\"-\",VLOOKUP($E4,site!$B:$F,4,0))))","v":"5.2 "},{"$f":"IFERROR(IF($C4=\"\",\"\",IF(VLOOKUP($D4,site!$B:$G,6,0)=\"\",\"-\",VLOOKUP($D4,site!$B:$G,6,0))),IF($C4=\"\",\"\",IF(VLOOKUP($E4,site!$B:$G,5,0)=\"\",\"-\",VLOOKUP($E4,site!$B:$G,5,0))))","v":"1.55 "}]
["20-11-2020","00:00:00","Spain Segunda Division","Espanyol ","Girona ","W2","X","W2","-","-","0.5 O (ST)","-","1.5 O (FT)","-","-","Girona ","Girona ","Girona ",{"$f":"IFERROR(IF(C5=\"\",\"\",IF(VLOOKUP(D5,site!$B:$D,3,0)=\"\",\"-\",VLOOKUP(D5,site!$B:$D,3,0))),IF(C5=\"\",\"\",IF(VLOOKUP(E5,site!$C:$D,2,0)=\"\",\"-\",VLOOKUP(E5,site!$C:$D,2,0))))","v":"— — "},{"$f":"IFERROR(IF($C5=\"\",\"\",IF(VLOOKUP($D5,site!$B:$F,4,0)=\"\",\"-\",VLOOKUP($D5,site!$B:$F,4,0))),IF($C5=\"\",\"\",IF(VLOOKUP($E5,site!$B:$F,3,0)=\"\",\"-\",VLOOKUP($E5,site!$B:$F,3,0))))","v":"1.52 "},{"$f":"IFERROR(IF($C5=\"\",\"\",IF(VLOOKUP($D5,site!$B:$F,5,0)=\"\",\"-\",VLOOKUP($D5,site!$B:$F,5,0))),IF($C5=\"\",\"\",IF(VLOOKUP($E5,site!$B:$F,4,0)=\"\",\"-\",VLOOKUP($E5,site!$B:$F,4,0))))","v":"3.88 "},{"$f":"IFERROR(IF($C5=\"\",\"\",IF(VLOOKUP($D5,site!$B:$G,6,0)=\"\",\"-\",VLOOKUP($D5,site!$B:$G,6,0))),IF($C5=\"\",\"\",IF(VLOOKUP($E5,site!$B:$G,5,0)=\"\",\"-\",VLOOKUP($E5,site!$B:$G,5,0))))","v":"7.4 "}]
["20-11-2020","00:00:00","Italy Serie B","Frosinone ","Cosenza ","W1","W2","X","-","-","-","-","1.5 O (FT)","-","-","Frosinone ","Cosenza ","Frosinone ",{"$f":"IFERROR(IF(C6=\"\",\"\",IF(VLOOKUP(D6,site!$B:$D,3,0)=\"\",\"-\",VLOOKUP(D6,site!$B:$D,3,0))),IF(C6=\"\",\"\",IF(VLOOKUP(E6,site!$C:$D,2,0)=\"\",\"-\",VLOOKUP(E6,site!$C:$D,2,0))))","v":"— — "},{"$f":"IFERROR(IF($C6=\"\",\"\",IF(VLOOKUP($D6,site!$B:$F,4,0)=\"\",\"-\",VLOOKUP($D6,site!$B:$F,4,0))),IF($C6=\"\",\"\",IF(VLOOKUP($E6,site!$B:$F,3,0)=\"\",\"-\",VLOOKUP($E6,site!$B:$F,3,0))))","v":"1.81 "},{"$f":"IFERROR(IF($C6=\"\",\"\",IF(VLOOKUP($D6,site!$B:$F,5,0)=\"\",\"-\",VLOOKUP($D6,site!$B:$F,5,0))),IF($C6=\"\",\"\",IF(VLOOKUP($E6,site!$B:$F,4,0)=\"\",\"-\",VLOOKUP($E6,site!$B:$F,4,0))))","v":"3.18 "},{"$f":"IFERROR(IF($C6=\"\",\"\",IF(VLOOKUP($D6,site!$B:$G,6,0)=\"\",\"-\",VLOOKUP($D6,site!$B:$G,6,0))),IF($C6=\"\",\"\",IF(VLOOKUP($E6,site!$B:$G,5,0)=\"\",\"-\",VLOOKUP($E6,site!$B:$G,5,0))))","v":"5.55 "}]
["20-11-2020","00:00:00","France Division 1 Women","PSG W ","Lyon W ","X","X","X","-","-","0.5 O (ST)","1.5 O (ST)","1.5 O (FT)","2.5 O (FT)","-","Lyon W ","-","-",{"$f":"IFERROR(IF(C7=\"\",\"\",IF(VLOOKUP(D7,site!$B:$D,3,0)=\"\",\"-\",VLOOKUP(D7,site!$B:$D,3,0))),IF(C7=\"\",\"\",IF(VLOOKUP(E7,site!$C:$D,2,0)=\"\",\"-\",VLOOKUP(E7,site!$C:$D,2,0))))","v":"— — "},{"$f":"IFERROR(IF($C7=\"\",\"\",IF(VLOOKUP($D7,site!$B:$F,4,0)=\"\",\"-\",VLOOKUP($D7,site!$B:$F,4,0))),IF($C7=\"\",\"\",IF(VLOOKUP($E7,site!$B:$F,3,0)=\"\",\"-\",VLOOKUP($E7,site!$B:$F,3,0))))","v":"-"},{"$f":"IFERROR(IF($C7=\"\",\"\",IF(VLOOKUP($D7,site!$B:$F,5,0)=\"\",\"-\",VLOOKUP($D7,site!$B:$F,5,0))),IF($C7=\"\",\"\",IF(VLOOKUP($E7,site!$B:$F,4,0)=\"\",\"-\",VLOOKUP($E7,site!$B:$F,4,0))))","v":"-"},{"$f":"IFERROR(IF($C7=\"\",\"\",IF(VLOOKUP($D7,site!$B:$G,6,0)=\"\",\"-\",VLOOKUP($D7,site!$B:$G,6,0))),IF($C7=\"\",\"\",IF(VLOOKUP($E7,site!$B:$G,5,0)=\"\",\"-\",VLOOKUP($E7,site!$B:$G,5,0))))","v":"-"}]
["20-11-2020","00:00:00","Netherlands Eerste Divisie","Den Bosch ","Jong Ajax ","X","W2","W2","-","-","0.5 O (ST)","-","1.5 O (FT)","-","-","Den Bosch ","Jong Ajax ","Jong Ajax ",{"$f":"IFERROR(IF(C8=\"\",\"\",IF(VLOOKUP(D8,site!$B:$D,3,0)=\"\",\"-\",VLOOKUP(D8,site!$B:$D,3,0))),IF(C8=\"\",\"\",IF(VLOOKUP(E8,site!$C:$D,2,0)=\"\",\"-\",VLOOKUP(E8,site!$C:$D,2,0))))","v":"— — "},{"$f":"IFERROR(IF($C8=\"\",\"\",IF(VLOOKUP($D8,site!$B:$F,4,0)=\"\",\"-\",VLOOKUP($D8,site!$B:$F,4,0))),IF($C8=\"\",\"\",IF(VLOOKUP($E8,site!$B:$F,3,0)=\"\",\"-\",VLOOKUP($E8,site!$B:$F,3,0))))","v":"3.065 "},{"$f":"IFERROR(IF($C8=\"\",\"\",IF(VLOOKUP($D8,site!$B:$F,5,0)=\"\",\"-\",VLOOKUP($D8,site!$B:$F,5,0))),IF($C8=\"\",\"\",IF(VLOOKUP($E8,site!$B:$F,4,0)=\"\",\"-\",VLOOKUP($E8,site!$B:$F,4,0))))","v":"4.04 "},{"$f":"IFERROR(IF($C8=\"\",\"\",IF(VLOOKUP($D8,site!$B:$G,6,0)=\"\",\"-\",VLOOKUP($D8,site!$B:$G,6,0))),IF($C8=\"\",\"\",IF(VLOOKUP($E8,site!$B:$G,5,0)=\"\",\"-\",VLOOKUP($E8,site!$B:$G,5,0))))","v":"2.11 "}]
["20-11-2020","00:00:00","Netherlands Eerste Divisie","Jong Utrecht ","Helmond ","X","W1","W1","-","-","0.5 O (ST)","1.5 O (ST)","1.5 O (FT)","-","-","Helmond ","Jong Utrecht ","Jong Utrecht ",{"$f":"IFERROR(IF(C9=\"\",\"\",IF(VLOOKUP(D9,site!$B:$D,3,0)=\"\",\"-\",VLOOKUP(D9,site!$B:$D,3,0))),IF(C9=\"\",\"\",IF(VLOOKUP(E9,site!$C:$D,2,0)=\"\",\"-\",VLOOKUP(E9,site!$C:$D,2,0))))","v":"— — "},{"$f":"IFERROR(IF($C9=\"\",\"\",IF(VLOOKUP($D9,site!$B:$F,4,0)=\"\",\"-\",VLOOKUP($D9,site!$B:$F,4,0))),IF($C9=\"\",\"\",IF(VLOOKUP($E9,site!$B:$F,3,0)=\"\",\"-\",VLOOKUP($E9,site!$B:$F,3,0))))","v":"1.97 "},{"$f":"IFERROR(IF($C9=\"\",\"\",IF(VLOOKUP($D9,site!$B:$F,5,0)=\"\",\"-\",VLOOKUP($D9,site!$B:$F,5,0))),IF($C9=\"\",\"\",IF(VLOOKUP($E9,site!$B:$F,4,0)=\"\",\"-\",VLOOKUP($E9,site!$B:$F,4,0))))","v":"3.8 "},{"$f":"IFERROR(IF($C9=\"\",\"\",IF(VLOOKUP($D9,site!$B:$G,6,0)=\"\",\"-\",VLOOKUP($D9,site!$B:$G,6,0))),IF($C9=\"\",\"\",IF(VLOOKUP($E9,site!$B:$G,5,0)=\"\",\"-\",VLOOKUP($E9,site!$B:$G,5,0))))","v":"3.62 "}]
["20-11-2020","00:00:00","Netherlands Eerste Divisie","Maastricht ","Jong PSV ","X","X","X","-","-","0.5 O (ST)","-","1.5 O (FT)","-","-","Jong PSV ","Jong PSV ","Jong PSV ",{"$f":"IFERROR(IF(C10=\"\",\"\",IF(VLOOKUP(D10,site!$B:$D,3,0)=\"\",\"-\",VLOOKUP(D10,site!$B:$D,3,0))),IF(C10=\"\",\"\",IF(VLOOKUP(E10,site!$C:$D,2,0)=\"\",\"-\",VLOOKUP(E10,site!$C:$D,2,0))))","v":"— — "},{"$f":"IFERROR(IF($C10=\"\",\"\",IF(VLOOKUP($D10,site!$B:$F,4,0)=\"\",\"-\",VLOOKUP($D10,site!$B:$F,4,0))),IF($C10=\"\",\"\",IF(VLOOKUP($E10,site!$B:$F,3,0)=\"\",\"-\",VLOOKUP($E10,site!$B:$F,3,0))))","v":"2.23 "},{"$f":"IFERROR(IF($C10=\"\",\"\",IF(VLOOKUP($D10,site!$B:$F,5,0)=\"\",\"-\",VLOOKUP($D10,site!$B:$F,5,0))),IF($C10=\"\",\"\",IF(VLOOKUP($E10,site!$B:$F,4,0)=\"\",\"-\",VLOOKUP($E10,site!$B:$F,4,0))))","v":"3.94 "},{"$f":"IFERROR(IF($C10=\"\",\"\",IF(VLOOKUP($D10,site!$B:$G,6,0)=\"\",\"-\",VLOOKUP($D10,site!$B:$G,6,0))),IF($C10=\"\",\"\",IF(VLOOKUP($E10,site!$B:$G,5,0)=\"\",\"-\",VLOOKUP($E10,site!$B:$G,5,0))))","v":"2.896 "}]
["20-11-2020","00:10:00","Argentina Copa Liga","Arsenal S ","Santa Fe ","W1","W1","W1","-","-","-","-","1.5 O (FT)","-","-","Arsenal S ","Santa Fe ","Arsenal S ",{"$f":"IFERROR(IF(C11=\"\",\"\",IF(VLOOKUP(D11,site!$B:$D,3,0)=\"\",\"-\",VLOOKUP(D11,site!$B:$D,3,0))),IF(C11=\"\",\"\",IF(VLOOKUP(E11,site!$C:$D,2,0)=\"\",\"-\",VLOOKUP(E11,site!$C:$D,2,0))))","v":"— — "},{"$f":"IFERROR(IF($C11=\"\",\"\",IF(VLOOKUP($D11,site!$B:$F,4,0)=\"\",\"-\",VLOOKUP($D11,site!$B:$F,4,0))),IF($C11=\"\",\"\",IF(VLOOKUP($E11,site!$B:$F,3,0)=\"\",\"-\",VLOOKUP($E11,site!$B:$F,3,0))))","v":"2.44 "},{"$f":"IFERROR(IF($C11=\"\",\"\",IF(VLOOKUP($D11,site!$B:$F,5,0)=\"\",\"-\",VLOOKUP($D11,site!$B:$F,5,0))),IF($C11=\"\",\"\",IF(VLOOKUP($E11,site!$B:$F,4,0)=\"\",\"-\",VLOOKUP($E11,site!$B:$F,4,0))))","v":"3.24 "},{"$f":"IFERROR(IF($C11=\"\",\"\",IF(VLOOKUP($D11,site!$B:$G,6,0)=\"\",\"-\",VLOOKUP($D11,site!$B:$G,6,0))),IF($C11=\"\",\"\",IF(VLOOKUP($E11,site!$B:$G,5,0)=\"\",\"-\",VLOOKUP($E11,site!$B:$G,5,0))))","v":"3.04 "}]
["20-11-2020","01:00:00","Costa Rica Primera Division","Limon ","Herediano ","W1","X","W1","0.5 O (HT)","-","-","-","-","-","-","Limon ","Herediano ","Limon ",{"$f":"IFERROR(IF(C12=\"\",\"\",IF(VLOOKUP(D12,site!$B:$D,3,0)=\"\",\"-\",VLOOKUP(D12,site!$B:$D,3,0))),IF(C12=\"\",\"\",IF(VLOOKUP(E12,site!$C:$D,2,0)=\"\",\"-\",VLOOKUP(E12,site!$C:$D,2,0))))","v":"— — "},{"$f":"IFERROR(IF($C12=\"\",\"\",IF(VLOOKUP($D12,site!$B:$F,4,0)=\"\",\"-\",VLOOKUP($D12,site!$B:$F,4,0))),IF($C12=\"\",\"\",IF(VLOOKUP($E12,site!$B:$F,3,0)=\"\",\"-\",VLOOKUP($E12,site!$B:$F,3,0))))","v":"3.01 "},{"$f":"IFERROR(IF($C12=\"\",\"\",IF(VLOOKUP($D12,site!$B:$F,5,0)=\"\",\"-\",VLOOKUP($D12,site!$B:$F,5,0))),IF($C12=\"\",\"\",IF(VLOOKUP($E12,site!$B:$F,4,0)=\"\",\"-\",VLOOKUP($E12,site!$B:$F,4,0))))","v":"3.32 "},{"$f":"IFERROR(IF($C12=\"\",\"\",IF(VLOOKUP($D12,site!$B:$G,6,0)=\"\",\"-\",VLOOKUP($D12,site!$B:$G,6,0))),IF($C12=\"\",\"\",IF(VLOOKUP($E12,site!$B:$G,5,0)=\"\",\"-\",VLOOKUP($E12,site!$B:$G,5,0))))","v":"2.3 "}]
["20-11-2020","01:00:00","Venezuela Primera Division","Aragua ","Metropolitanos ","X","W1","W1","-","-","-","-","-","-","-","Aragua ","Metropolitanos ","Aragua ",{"$f":"IFERROR(IF(C13=\"\",\"\",IF(VLOOKUP(D13,site!$B:$D,3,0)=\"\",\"-\",VLOOKUP(D13,site!$B:$D,3,0))),IF(C13=\"\",\"\",IF(VLOOKUP(E13,site!$C:$D,2,0)=\"\",\"-\",VLOOKUP(E13,site!$C:$D,2,0))))","v":"— — "},{"$f":"IFERROR(IF($C13=\"\",\"\",IF(VLOOKUP($D13,site!$B:$F,4,0)=\"\",\"-\",VLOOKUP($D13,site!$B:$F,4,0))),IF($C13=\"\",\"\",IF(VLOOKUP($E13,site!$B:$F,3,0)=\"\",\"-\",VLOOKUP($E13,site!$B:$F,3,0))))","v":"2.656 "},{"$f":"IFERROR(IF($C13=\"\",\"\",IF(VLOOKUP($D13,site!$B:$F,5,0)=\"\",\"-\",VLOOKUP($D13,site!$B:$F,5,0))),IF($C13=\"\",\"\",IF(VLOOKUP($E13,site!$B:$F,4,0)=\"\",\"-\",VLOOKUP($E13,site!$B:$F,4,0))))","v":"3.16 "},{"$f":"IFERROR(IF($C13=\"\",\"\",IF(VLOOKUP($D13,site!$B:$G,6,0)=\"\",\"-\",VLOOKUP($D13,site!$B:$G,6,0))),IF($C13=\"\",\"\",IF(VLOOKUP($E13,site!$B:$G,5,0)=\"\",\"-\",VLOOKUP($E13,site!$B:$G,5,0))))","v":"2.656 "}]
["20-11-2020","01:30:00","Chile Primera Division","Colo-Colo ","Audax ","W1","W1","W1","-","-","-","-","-","-","-","Colo-Colo ","Colo-Colo ","Colo-Colo ",{"$f":"IFERROR(IF(C14=\"\",\"\",IF(VLOOKUP(D14,site!$B:$D,3,0)=\"\",\"-\",VLOOKUP(D14,site!$B:$D,3,0))),IF(C14=\"\",\"\",IF(VLOOKUP(E14,site!$C:$D,2,0)=\"\",\"-\",VLOOKUP(E14,site!$C:$D,2,0))))","v":"— — "},{"$f":"IFERROR(IF($C14=\"\",\"\",IF(VLOOKUP($D14,site!$B:$F,4,0)=\"\",\"-\",VLOOKUP($D14,site!$B:$F,4,0))),IF($C14=\"\",\"\",IF(VLOOKUP($E14,site!$B:$F,3,0)=\"\",\"-\",VLOOKUP($E14,site!$B:$F,3,0))))","v":"1.93 "},{"$f":"IFERROR(IF($C14=\"\",\"\",IF(VLOOKUP($D14,site!$B:$F,5,0)=\"\",\"-\",VLOOKUP($D14,site!$B:$F,5,0))),IF($C14=\"\",\"\",IF(VLOOKUP($E14,site!$B:$F,4,0)=\"\",\"-\",VLOOKUP($E14,site!$B:$F,4,0))))","v":"3.78 "},{"$f":"IFERROR(IF($C14=\"\",\"\",IF(VLOOKUP($D14,site!$B:$G,6,0)=\"\",\"-\",VLOOKUP($D14,site!$B:$G,6,0))),IF($C14=\"\",\"\",IF(VLOOKUP($E14,site!$B:$G,5,0)=\"\",\"-\",VLOOKUP($E14,site!$B:$G,5,0))))","v":"3.78 "}]
["20-11-2020","01:45:00","Ecuador Primera Division","Portoviejo ","Orense ","NB","NB","NB","-","-","0.5 O (ST)","-","1.5 O (FT)","-","-","NB","NB","NB",{"$f":"IFERROR(IF(C15=\"\",\"\",IF(VLOOKUP(D15,site!$B:$D,3,0)=\"\",\"-\",VLOOKUP(D15,site!$B:$D,3,0))),IF(C15=\"\",\"\",IF(VLOOKUP(E15,site!$C:$D,2,0)=\"\",\"-\",VLOOKUP(E15,site!$C:$D,2,0))))","v":"— — "},{"$f":"IFERROR(IF($C15=\"\",\"\",IF(VLOOKUP($D15,site!$B:$F,4,0)=\"\",\"-\",VLOOKUP($D15,site!$B:$F,4,0))),IF($C15=\"\",\"\",IF(VLOOKUP($E15,site!$B:$F,3,0)=\"\",\"-\",VLOOKUP($E15,site!$B:$F,3,0))))","v":"2.288 "},{"$f":"IFERROR(IF($C15=\"\",\"\",IF(VLOOKUP($D15,site!$B:$F,5,0)=\"\",\"-\",VLOOKUP($D15,site!$B:$F,5,0))),IF($C15=\"\",\"\",IF(VLOOKUP($E15,site!$B:$F,4,0)=\"\",\"-\",VLOOKUP($E15,site!$B:$F,4,0))))","v":"3.54 "},{"$f":"IFERROR(IF($C15=\"\",\"\",IF(VLOOKUP($D15,site!$B:$G,6,0)=\"\",\"-\",VLOOKUP($D15,site!$B:$G,6,0))),IF($C15=\"\",\"\",IF(VLOOKUP($E15,site!$B:$G,5,0)=\"\",\"-\",VLOOKUP($E15,site!$B:$G,5,0))))","v":"2.85 "}]
["20-11-2020","02:00:00","Brazil - Serie A","Vasco da Gama ","Fortaleza ","X","W1","W1","-","-","-","-","-","-","-","Fortaleza ","Vasco da Gama ","Vasco da Gama ",{"$f":"IFERROR(IF(C16=\"\",\"\",IF(VLOOKUP(D16,site!$B:$D,3,0)=\"\",\"-\",VLOOKUP(D16,site!$B:$D,3,0))),IF(C16=\"\",\"\",IF(VLOOKUP(E16,site!$C:$D,2,0)=\"\",\"-\",VLOOKUP(E16,site!$C:$D,2,0))))","v":"— — "},{"$f":"IFERROR(IF($C16=\"\",\"\",IF(VLOOKUP($D16,site!$B:$F,4,0)=\"\",\"-\",VLOOKUP($D16,site!$B:$F,4,0))),IF($C16=\"\",\"\",IF(VLOOKUP($E16,site!$B:$F,3,0)=\"\",\"-\",VLOOKUP($E16,site!$B:$F,3,0))))","v":"2.45 "},{"$f":"IFERROR(IF($C16=\"\",\"\",IF(VLOOKUP($D16,site!$B:$F,5,0)=\"\",\"-\",VLOOKUP($D16,site!$B:$F,5,0))),IF($C16=\"\",\"\",IF(VLOOKUP($E16,site!$B:$F,4,0)=\"\",\"-\",VLOOKUP($E16,site!$B:$F,4,0))))","v":"3.1 "},{"$f":"IFERROR(IF($C16=\"\",\"\",IF(VLOOKUP($D16,site!$B:$G,6,0)=\"\",\"-\",VLOOKUP($D16,site!$B:$G,6,0))),IF($C16=\"\",\"\",IF(VLOOKUP($E16,site!$B:$G,5,0)=\"\",\"-\",VLOOKUP($E16,site!$B:$G,5,0))))","v":"3.168 "}]
["20-11-2020","02:00:00","Uruguay Primera Division","Cerro ","Rentistas ","W1","X","W1","-","-","-","-","-","-","-","Cerro ","Rentistas ","Cerro ",{"$f":"IFERROR(IF(C17=\"\",\"\",IF(VLOOKUP(D17,site!$B:$D,3,0)=\"\",\"-\",VLOOKUP(D17,site!$B:$D,3,0))),IF(C17=\"\",\"\",IF(VLOOKUP(E17,site!$C:$D,2,0)=\"\",\"-\",VLOOKUP(E17,site!$C:$D,2,0))))","v":"— — "},{"$f":"IFERROR(IF($C17=\"\",\"\",IF(VLOOKUP($D17,site!$B:$F,4,0)=\"\",\"-\",VLOOKUP($D17,site!$B:$F,4,0))),IF($C17=\"\",\"\",IF(VLOOKUP($E17,site!$B:$F,3,0)=\"\",\"-\",VLOOKUP($E17,site!$B:$F,3,0))))","v":"-"},{"$f":"IFERROR(IF($C17=\"\",\"\",IF(VLOOKUP($D17,site!$B:$F,5,0)=\"\",\"-\",VLOOKUP($D17,site!$B:$F,5,0))),IF($C17=\"\",\"\",IF(VLOOKUP($E17,site!$B:$F,4,0)=\"\",\"-\",VLOOKUP($E17,site!$B:$F,4,0))))","v":"-"},{"$f":"IFERROR(IF($C17=\"\",\"\",IF(VLOOKUP($D17,site!$B:$G,6,0)=\"\",\"-\",VLOOKUP($D17,site!$B:$G,6,0))),IF($C17=\"\",\"\",IF(VLOOKUP($E17,site!$B:$G,5,0)=\"\",\"-\",VLOOKUP($E17,site!$B:$G,5,0))))","v":"-"}]
["20-11-2020","03:00:00","Panama LPF","Costa Del Este FC ","Alianza ","X","X","X","-","-","-","-","-","-","-","Alianza ","Costa Del Este FC ","Costa Del Este FC ",{"$f":"IFERROR(IF(C18=\"\",\"\",IF(VLOOKUP(D18,site!$B:$D,3,0)=\"\",\"-\",VLOOKUP(D18,site!$B:$D,3,0))),IF(C18=\"\",\"\",IF(VLOOKUP(E18,site!$C:$D,2,0)=\"\",\"-\",VLOOKUP(E18,site!$C:$D,2,0))))","v":"— — "},{"$f":"IFERROR(IF($C18=\"\",\"\",IF(VLOOKUP($D18,site!$B:$F,4,0)=\"\",\"-\",VLOOKUP($D18,site!$B:$F,4,0))),IF($C18=\"\",\"\",IF(VLOOKUP($E18,site!$B:$F,3,0)=\"\",\"-\",VLOOKUP($E18,site!$B:$F,3,0))))","v":"-"},{"$f":"IFERROR(IF($C18=\"\",\"\",IF(VLOOKUP($D18,site!$B:$F,5,0)=\"\",\"-\",VLOOKUP($D18,site!$B:$F,5,0))),IF($C18=\"\",\"\",IF(VLOOKUP($E18,site!$B:$F,4,0)=\"\",\"-\",VLOOKUP($E18,site!$B:$F,4,0))))","v":"-"},{"$f":"IFERROR(IF($C18=\"\",\"\",IF(VLOOKUP($D18,site!$B:$G,6,0)=\"\",\"-\",VLOOKUP($D18,site!$B:$G,6,0))),IF($C18=\"\",\"\",IF(VLOOKUP($E18,site!$B:$G,5,0)=\"\",\"-\",VLOOKUP($E18,site!$B:$G,5,0))))","v":"-"}]
["20-11-2020","04:00:00","Ecuador Primera Division","Barcelona Guayaquil ","Cuenca ","W1","W1","W1","-","-","-","-","1.5 O (FT)","-","-","Barcelona Guayaquil ","Barcelona Guayaquil ","Barcelona Guayaquil ",{"$f":"IFERROR(IF(C19=\"\",\"\",IF(VLOOKUP(D19,site!$B:$D,3,0)=\"\",\"-\",VLOOKUP(D19,site!$B:$D,3,0))),IF(C19=\"\",\"\",IF(VLOOKUP(E19,site!$C:$D,2,0)=\"\",\"-\",VLOOKUP(E19,site!$C:$D,2,0))))","v":"— — "},{"$f":"IFERROR(IF($C19=\"\",\"\",IF(VLOOKUP($D19,site!$B:$F,4,0)=\"\",\"-\",VLOOKUP($D19,site!$B:$F,4,0))),IF($C19=\"\",\"\",IF(VLOOKUP($E19,site!$B:$F,3,0)=\"\",\"-\",VLOOKUP($E19,site!$B:$F,3,0))))","v":"-"},{"$f":"IFERROR(IF($C19=\"\",\"\",IF(VLOOKUP($D19,site!$B:$F,5,0)=\"\",\"-\",VLOOKUP($D19,site!$B:$F,5,0))),IF($C19=\"\",\"\",IF(VLOOKUP($E19,site!$B:$F,4,0)=\"\",\"-\",VLOOKUP($E19,site!$B:$F,4,0))))","v":"-"},{"$f":"IFERROR(IF($C19=\"\",\"\",IF(VLOOKUP($D19,site!$B:$G,6,0)=\"\",\"-\",VLOOKUP($D19,site!$B:$G,6,0))),IF($C19=\"\",\"\",IF(VLOOKUP($E19,site!$B:$G,5,0)=\"\",\"-\",VLOOKUP($E19,site!$B:$G,5,0))))","v":"-"}]
["20-11-2020","04:00:00","Venezuela Primera Division","Tachira ","Monagas ","W2","X","W1","-","-","-","-","-","-","-","Monagas ","Tachira ","Tachira ",{"$f":"IFERROR(IF(C20=\"\",\"\",IF(VLOOKUP(D20,site!$B:$D,3,0)=\"\",\"-\",VLOOKUP(D20,site!$B:$D,3,0))),IF(C20=\"\",\"\",IF(VLOOKUP(E20,site!$C:$D,2,0)=\"\",\"-\",VLOOKUP(E20,site!$C:$D,2,0))))","v":"— — "},{"$f":"IFERROR(IF($C20=\"\",\"\",IF(VLOOKUP($D20,site!$B:$F,4,0)=\"\",\"-\",VLOOKUP($D20,site!$B:$F,4,0))),IF($C20=\"\",\"\",IF(VLOOKUP($E20,site!$B:$F,3,0)=\"\",\"-\",VLOOKUP($E20,site!$B:$F,3,0))))","v":"-"},{"$f":"IFERROR(IF($C20=\"\",\"\",IF(VLOOKUP($D20,site!$B:$F,5,0)=\"\",\"-\",VLOOKUP($D20,site!$B:$F,5,0))),IF($C20=\"\",\"\",IF(VLOOKUP($E20,site!$B:$F,4,0)=\"\",\"-\",VLOOKUP($E20,site!$B:$F,4,0))))","v":"-"},{"$f":"IFERROR(IF($C20=\"\",\"\",IF(VLOOKUP($D20,site!$B:$G,6,0)=\"\",\"-\",VLOOKUP($D20,site!$B:$G,6,0))),IF($C20=\"\",\"\",IF(VLOOKUP($E20,site!$B:$G,5,0)=\"\",\"-\",VLOOKUP($E20,site!$B:$G,5,0))))","v":"-"}]
["20-11-2020","04:15:00","Argentina Copa Liga","Atletico Tucuman ","Racing ","W1","X","W1","-","-","0.5 O (ST)","-","1.5 O (FT)","-","-","Racing ","Atletico Tucuman ","Racing ",{"$f":"IFERROR(IF(C21=\"\",\"\",IF(VLOOKUP(D21,site!$B:$D,3,0)=\"\",\"-\",VLOOKUP(D21,site!$B:$D,3,0))),IF(C21=\"\",\"\",IF(VLOOKUP(E21,site!$C:$D,2,0)=\"\",\"-\",VLOOKUP(E21,site!$C:$D,2,0))))","v":"— — "},{"$f":"IFERROR(IF($C21=\"\",\"\",IF(VLOOKUP($D21,site!$B:$F,4,0)=\"\",\"-\",VLOOKUP($D21,site!$B:$F,4,0))),IF($C21=\"\",\"\",IF(VLOOKUP($E21,site!$B:$F,3,0)=\"\",\"-\",VLOOKUP($E21,site!$B:$F,3,0))))","v":"1.58 "},{"$f":"IFERROR(IF($C21=\"\",\"\",IF(VLOOKUP($D21,site!$B:$F,5,0)=\"\",\"-\",VLOOKUP($D21,site!$B:$F,5,0))),IF($C21=\"\",\"\",IF(VLOOKUP($E21,site!$B:$F,4,0)=\"\",\"-\",VLOOKUP($E21,site!$B:$F,4,0))))","v":"4.2 "},{"$f":"IFERROR(IF($C21=\"\",\"\",IF(VLOOKUP($D21,site!$B:$G,6,0)=\"\",\"-\",VLOOKUP($D21,site!$B:$G,6,0))),IF($C21=\"\",\"\",IF(VLOOKUP($E21,site!$B:$G,5,0)=\"\",\"-\",VLOOKUP($E21,site!$B:$G,5,0))))","v":"5.65 "}]
["20-11-2020","04:30:00","Chile Primera Division","S. Wanderers ","Union Espanola ","X","X","W2","-","-","0.5 O (ST)","-","1.5 O (FT)","-","-","Union Espanola ","Union Espanola ","Union Espanola ",{"$f":"IFERROR(IF(C22=\"\",\"\",IF(VLOOKUP(D22,site!$B:$D,3,0)=\"\",\"-\",VLOOKUP(D22,site!$B:$D,3,0))),IF(C22=\"\",\"\",IF(VLOOKUP(E22,site!$C:$D,2,0)=\"\",\"-\",VLOOKUP(E22,site!$C:$D,2,0))))","v":"— — "},{"$f":"IFERROR(IF($C22=\"\",\"\",IF(VLOOKUP($D22,site!$B:$F,4,0)=\"\",\"-\",VLOOKUP($D22,site!$B:$F,4,0))),IF($C22=\"\",\"\",IF(VLOOKUP($E22,site!$B:$F,3,0)=\"\",\"-\",VLOOKUP($E22,site!$B:$F,3,0))))","v":"3.144 "},{"$f":"IFERROR(IF($C22=\"\",\"\",IF(VLOOKUP($D22,site!$B:$F,5,0)=\"\",\"-\",VLOOKUP($D22,site!$B:$F,5,0))),IF($C22=\"\",\"\",IF(VLOOKUP($E22,site!$B:$F,4,0)=\"\",\"-\",VLOOKUP($E22,site!$B:$F,4,0))))","v":"3.84 "},{"$f":"IFERROR(IF($C22=\"\",\"\",IF(VLOOKUP($D22,site!$B:$G,6,0)=\"\",\"-\",VLOOKUP($D22,site!$B:$G,6,0))),IF($C22=\"\",\"\",IF(VLOOKUP($E22,site!$B:$G,5,0)=\"\",\"-\",VLOOKUP($E22,site!$B:$G,5,0))))","v":"2.12 "}]
["20-11-2020","05:00:00","Nicaragua Primera","Esteli ","Managua FC ","X","X","W1","0.5 O (HT)","-","0.5 O (ST)","-","1.5 O (FT)","-","-","Esteli ","Esteli ","Esteli ",{"$f":"IFERROR(IF(C23=\"\",\"\",IF(VLOOKUP(D23,site!$B:$D,3,0)=\"\",\"-\",VLOOKUP(D23,site!$B:$D,3,0))),IF(C23=\"\",\"\",IF(VLOOKUP(E23,site!$C:$D,2,0)=\"\",\"-\",VLOOKUP(E23,site!$C:$D,2,0))))","v":"— — "},{"$f":"IFERROR(IF($C23=\"\",\"\",IF(VLOOKUP($D23,site!$B:$F,4,0)=\"\",\"-\",VLOOKUP($D23,site!$B:$F,4,0))),IF($C23=\"\",\"\",IF(VLOOKUP($E23,site!$B:$F,3,0)=\"\",\"-\",VLOOKUP($E23,site!$B:$F,3,0))))","v":"-"},{"$f":"IFERROR(IF($C23=\"\",\"\",IF(VLOOKUP($D23,site!$B:$F,5,0)=\"\",\"-\",VLOOKUP($D23,site!$B:$F,5,0))),IF($C23=\"\",\"\",IF(VLOOKUP($E23,site!$B:$F,4,0)=\"\",\"-\",VLOOKUP($E23,site!$B:$F,4,0))))","v":"-"},{"$f":"IFERROR(IF($C23=\"\",\"\",IF(VLOOKUP($D23,site!$B:$G,6,0)=\"\",\"-\",VLOOKUP($D23,site!$B:$G,6,0))),IF($C23=\"\",\"\",IF(VLOOKUP($E23,site!$B:$G,5,0)=\"\",\"-\",VLOOKUP($E23,site!$B:$G,5,0))))","v":"-"}]
["20-11-2020","05:00:00","Nicaragua Primera","Walter Ferretti ","Chinandega FC ","W1","W1","W2","-","-","0.5 O (ST)","-","1.5 O (FT)","-","-","Walter Ferretti ","Walter Ferretti ","Walter Ferretti ",{"$f":"IFERROR(IF(C24=\"\",\"\",IF(VLOOKUP(D24,site!$B:$D,3,0)=\"\",\"-\",VLOOKUP(D24,site!$B:$D,3,0))),IF(C24=\"\",\"\",IF(VLOOKUP(E24,site!$C:$D,2,0)=\"\",\"-\",VLOOKUP(E24,site!$C:$D,2,0))))","v":"— — "},{"$f":"IFERROR(IF($C24=\"\",\"\",IF(VLOOKUP($D24,site!$B:$F,4,0)=\"\",\"-\",VLOOKUP($D24,site!$B:$F,4,0))),IF($C24=\"\",\"\",IF(VLOOKUP($E24,site!$B:$F,3,0)=\"\",\"-\",VLOOKUP($E24,site!$B:$F,3,0))))","v":"-"},{"$f":"IFERROR(IF($C24=\"\",\"\",IF(VLOOKUP($D24,site!$B:$F,5,0)=\"\",\"-\",VLOOKUP($D24,site!$B:$F,5,0))),IF($C24=\"\",\"\",IF(VLOOKUP($E24,site!$B:$F,4,0)=\"\",\"-\",VLOOKUP($E24,site!$B:$F,4,0))))","v":"-"},{"$f":"IFERROR(IF($C24=\"\",\"\",IF(VLOOKUP($D24,site!$B:$G,6,0)=\"\",\"-\",VLOOKUP($D24,site!$B:$G,6,0))),IF($C24=\"\",\"\",IF(VLOOKUP($E24,site!$B:$G,5,0)=\"\",\"-\",VLOOKUP($E24,site!$B:$G,5,0))))","v":"-"}]
["20-11-2020","05:00:00","Nicaragua Primera","Art Municipal Jalapa ","Real Madriz ","X","X","X","-","-","0.5 O (ST)","-","1.5 O (FT)","-","-","Art Municipal Jalapa ","Art Municipal Jalapa ","Art Municipal Jalapa ",{"$f":"IFERROR(IF(C25=\"\",\"\",IF(VLOOKUP(D25,site!$B:$D,3,0)=\"\",\"-\",VLOOKUP(D25,site!$B:$D,3,0))),IF(C25=\"\",\"\",IF(VLOOKUP(E25,site!$C:$D,2,0)=\"\",\"-\",VLOOKUP(E25,site!$C:$D,2,0))))","v":"— — "},{"$f":"IFERROR(IF($C25=\"\",\"\",IF(VLOOKUP($D25,site!$B:$F,4,0)=\"\",\"-\",VLOOKUP($D25,site!$B:$F,4,0))),IF($C25=\"\",\"\",IF(VLOOKUP($E25,site!$B:$F,3,0)=\"\",\"-\",VLOOKUP($E25,site!$B:$F,3,0))))","v":"-"},{"$f":"IFERROR(IF($C25=\"\",\"\",IF(VLOOKUP($D25,site!$B:$F,5,0)=\"\",\"-\",VLOOKUP($D25,site!$B:$F,5,0))),IF($C25=\"\",\"\",IF(VLOOKUP($E25,site!$B:$F,4,0)=\"\",\"-\",VLOOKUP($E25,site!$B:$F,4,0))))","v":"-"},{"$f":"IFERROR(IF($C25=\"\",\"\",IF(VLOOKUP($D25,site!$B:$G,6,0)=\"\",\"-\",VLOOKUP($D25,site!$B:$G,6,0))),IF($C25=\"\",\"\",IF(VLOOKUP($E25,site!$B:$G,5,0)=\"\",\"-\",VLOOKUP($E25,site!$B:$G,5,0))))","v":"-"}]
["20-11-2020","05:00:00","Nicaragua Primera","Diriangen FC ","Ocotal ","X","W1","W1","-","-","0.5 O (ST)","-","-","-","-","Diriangen FC ","Diriangen FC ","Diriangen FC ",{"$f":"IFERROR(IF(C26=\"\",\"\",IF(VLOOKUP(D26,site!$B:$D,3,0)=\"\",\"-\",VLOOKUP(D26,site!$B:$D,3,0))),IF(C26=\"\",\"\",IF(VLOOKUP(E26,site!$C:$D,2,0)=\"\",\"-\",VLOOKUP(E26,site!$C:$D,2,0))))","v":"— — "},{"$f":"IFERROR(IF($C26=\"\",\"\",IF(VLOOKUP($D26,site!$B:$F,4,0)=\"\",\"-\",VLOOKUP($D26,site!$B:$F,4,0))),IF($C26=\"\",\"\",IF(VLOOKUP($E26,site!$B:$F,3,0)=\"\",\"-\",VLOOKUP($E26,site!$B:$F,3,0))))","v":"-"},{"$f":"IFERROR(IF($C26=\"\",\"\",IF(VLOOKUP($D26,site!$B:$F,5,0)=\"\",\"-\",VLOOKUP($D26,site!$B:$F,5,0))),IF($C26=\"\",\"\",IF(VLOOKUP($E26,site!$B:$F,4,0)=\"\",\"-\",VLOOKUP($E26,site!$B:$F,4,0))))","v":"-"},{"$f":"IFERROR(IF($C26=\"\",\"\",IF(VLOOKUP($D26,site!$B:$G,6,0)=\"\",\"-\",VLOOKUP($D26,site!$B:$G,6,0))),IF($C26=\"\",\"\",IF(VLOOKUP($E26,site!$B:$G,5,0)=\"\",\"-\",VLOOKUP($E26,site!$B:$G,5,0))))","v":"-"}]
["20-11-2020","05:00:00","Nicaragua Primera","CD Junior ","Juventus Managua ","NB","NB","NB","-","-","0.5 O (ST)","-","-","-","-","NB","NB","NB",{"$f":"IFERROR(IF(C27=\"\",\"\",IF(VLOOKUP(D27,site!$B:$D,3,0)=\"\",\"-\",VLOOKUP(D27,site!$B:$D,3,0))),IF(C27=\"\",\"\",IF(VLOOKUP(E27,site!$C:$D,2,0)=\"\",\"-\",VLOOKUP(E27,site!$C:$D,2,0))))","v":"— — "},{"$f":"IFERROR(IF($C27=\"\",\"\",IF(VLOOKUP($D27,site!$B:$F,4,0)=\"\",\"-\",VLOOKUP($D27,site!$B:$F,4,0))),IF($C27=\"\",\"\",IF(VLOOKUP($E27,site!$B:$F,3,0)=\"\",\"-\",VLOOKUP($E27,site!$B:$F,3,0))))","v":"-"},{"$f":"IFERROR(IF($C27=\"\",\"\",IF(VLOOKUP($D27,site!$B:$F,5,0)=\"\",\"-\",VLOOKUP($D27,site!$B:$F,5,0))),IF($C27=\"\",\"\",IF(VLOOKUP($E27,site!$B:$F,4,0)=\"\",\"-\",VLOOKUP($E27,site!$B:$F,4,0))))","v":"-"},{"$f":"IFERROR(IF($C27=\"\",\"\",IF(VLOOKUP($D27,site!$B:$G,6,0)=\"\",\"-\",VLOOKUP($D27,site!$B:$G,6,0))),IF($C27=\"\",\"\",IF(VLOOKUP($E27,site!$B:$G,5,0)=\"\",\"-\",VLOOKUP($E27,site!$B:$G,5,0))))","v":"-"}]
["20-11-2020","14:00:00","Ukraine U-21 League","Shakhtar-D ","Oleksandriya-D ","W1","W2","W1","-","-","0.5 O (ST)","-","1.5 O (FT)","-","-","Shakhtar-D ","Oleksandriya-D ","Oleksandriya-D ",{"$f":"IFERROR(IF(C28=\"\",\"\",IF(VLOOKUP(D28,site!$B:$D,3,0)=\"\",\"-\",VLOOKUP(D28,site!$B:$D,3,0))),IF(C28=\"\",\"\",IF(VLOOKUP(E28,site!$C:$D,2,0)=\"\",\"-\",VLOOKUP(E28,site!$C:$D,2,0))))","v":"— — "},{"$f":"IFERROR(IF($C28=\"\",\"\",IF(VLOOKUP($D28,site!$B:$F,4,0)=\"\",\"-\",VLOOKUP($D28,site!$B:$F,4,0))),IF($C28=\"\",\"\",IF(VLOOKUP($E28,site!$B:$F,3,0)=\"\",\"-\",VLOOKUP($E28,site!$B:$F,3,0))))","v":"-"},{"$f":"IFERROR(IF($C28=\"\",\"\",IF(VLOOKUP($D28,site!$B:$F,5,0)=\"\",\"-\",VLOOKUP($D28,site!$B:$F,5,0))),IF($C28=\"\",\"\",IF(VLOOKUP($E28,site!$B:$F,4,0)=\"\",\"-\",VLOOKUP($E28,site!$B:$F,4,0))))","v":"-"},{"$f":"IFERROR(IF($C28=\"\",\"\",IF(VLOOKUP($D28,site!$B:$G,6,0)=\"\",\"-\",VLOOKUP($D28,site!$B:$G,6,0))),IF($C28=\"\",\"\",IF(VLOOKUP($E28,site!$B:$G,5,0)=\"\",\"-\",VLOOKUP($E28,site!$B:$G,5,0))))","v":"-"}]
["20-11-2020","14:00:00","Ukraine U-21 League","Olimpik Donetsk-D ","Zorya-D ","W2","W2","W2","0.5 O (HT)","-","0.5 O (ST)","-","1.5 O (FT)","-","-","Zorya-D ","Zorya-D ","Zorya-D ",{"$f":"IFERROR(IF(C29=\"\",\"\",IF(VLOOKUP(D29,site!$B:$D,3,0)=\"\",\"-\",VLOOKUP(D29,site!$B:$D,3,0))),IF(C29=\"\",\"\",IF(VLOOKUP(E29,site!$C:$D,2,0)=\"\",\"-\",VLOOKUP(E29,site!$C:$D,2,0))))","v":"— — "},{"$f":"IFERROR(IF($C29=\"\",\"\",IF(VLOOKUP($D29,site!$B:$F,4,0)=\"\",\"-\",VLOOKUP($D29,site!$B:$F,4,0))),IF($C29=\"\",\"\",IF(VLOOKUP($E29,site!$B:$F,3,0)=\"\",\"-\",VLOOKUP($E29,site!$B:$F,3,0))))","v":"-"},{"$f":"IFERROR(IF($C29=\"\",\"\",IF(VLOOKUP($D29,site!$B:$F,5,0)=\"\",\"-\",VLOOKUP($D29,site!$B:$F,5,0))),IF($C29=\"\",\"\",IF(VLOOKUP($E29,site!$B:$F,4,0)=\"\",\"-\",VLOOKUP($E29,site!$B:$F,4,0))))","v":"-"},{"$f":"IFERROR(IF($C29=\"\",\"\",IF(VLOOKUP($D29,site!$B:$G,6,0)=\"\",\"-\",VLOOKUP($D29,site!$B:$G,6,0))),IF($C29=\"\",\"\",IF(VLOOKUP($E29,site!$B:$G,5,0)=\"\",\"-\",VLOOKUP($E29,site!$B:$G,5,0))))","v":"-"}]
["20-11-2020","14:00:00","Uzbekistan Superleague","Metallurg B ","Bunyodkor ","W2","W2","W2","-","-","-","-","1.5 O (FT)","-","-","Bunyodkor ","Bunyodkor ","Bunyodkor ",{"$f":"IFERROR(IF(C30=\"\",\"\",IF(VLOOKUP(D30,site!$B:$D,3,0)=\"\",\"-\",VLOOKUP(D30,site!$B:$D,3,0))),IF(C30=\"\",\"\",IF(VLOOKUP(E30,site!$C:$D,2,0)=\"\",\"-\",VLOOKUP(E30,site!$C:$D,2,0))))","v":"— — "},{"$f":"IFERROR(IF($C30=\"\",\"\",IF(VLOOKUP($D30,site!$B:$F,4,0)=\"\",\"-\",VLOOKUP($D30,site!$B:$F,4,0))),IF($C30=\"\",\"\",IF(VLOOKUP($E30,site!$B:$F,3,0)=\"\",\"-\",VLOOKUP($E30,site!$B:$F,3,0))))","v":"2.29 "},{"$f":"IFERROR(IF($C30=\"\",\"\",IF(VLOOKUP($D30,site!$B:$F,5,0)=\"\",\"-\",VLOOKUP($D30,site!$B:$F,5,0))),IF($C30=\"\",\"\",IF(VLOOKUP($E30,site!$B:$F,4,0)=\"\",\"-\",VLOOKUP($E30,site!$B:$F,4,0))))","v":"3.22 "},{"$f":"IFERROR(IF($C30=\"\",\"\",IF(VLOOKUP($D30,site!$B:$G,6,0)=\"\",\"-\",VLOOKUP($D30,site!$B:$G,6,0))),IF($C30=\"\",\"\",IF(VLOOKUP($E30,site!$B:$G,5,0)=\"\",\"-\",VLOOKUP($E30,site!$B:$G,5,0))))","v":"3.096 "}]
["20-11-2020","14:00:00","Uzbekistan Superleague","Sogdiana ","FC Nasaf ","W2","W1","X","-","-","-","-","-","-","-","FC Nasaf ","Sogdiana ","FC Nasaf ",{"$f":"IFERROR(IF(C31=\"\",\"\",IF(VLOOKUP(D31,site!$B:$D,3,0)=\"\",\"-\",VLOOKUP(D31,site!$B:$D,3,0))),IF(C31=\"\",\"\",IF(VLOOKUP(E31,site!$C:$D,2,0)=\"\",\"-\",VLOOKUP(E31,site!$C:$D,2,0))))","v":"— — "},{"$f":"IFERROR(IF($C31=\"\",\"\",IF(VLOOKUP($D31,site!$B:$F,4,0)=\"\",\"-\",VLOOKUP($D31,site!$B:$F,4,0))),IF($C31=\"\",\"\",IF(VLOOKUP($E31,site!$B:$F,3,0)=\"\",\"-\",VLOOKUP($E31,site!$B:$F,3,0))))","v":"3.32 "},{"$f":"IFERROR(IF($C31=\"\",\"\",IF(VLOOKUP($D31,site!$B:$F,5,0)=\"\",\"-\",VLOOKUP($D31,site!$B:$F,5,0))),IF($C31=\"\",\"\",IF(VLOOKUP($E31,site!$B:$F,4,0)=\"\",\"-\",VLOOKUP($E31,site!$B:$F,4,0))))","v":"3.22 "},{"$f":"IFERROR(IF($C31=\"\",\"\",IF(VLOOKUP($D31,site!$B:$G,6,0)=\"\",\"-\",VLOOKUP($D31,site!$B:$G,6,0))),IF($C31=\"\",\"\",IF(VLOOKUP($E31,site!$B:$G,5,0)=\"\",\"-\",VLOOKUP($E31,site!$B:$G,5,0))))","v":"2.175 "}]
["20-11-2020","15:00:00","Russia - 1. Division","Krasnodar- ","Shinnik Yaroslavl ","NB","NB","NB","NB","NB","NB","NB","NB","NB","NB","NB","NB","NB",{"$f":"IFERROR(IF(C32=\"\",\"\",IF(VLOOKUP(D32,site!$B:$D,3,0)=\"\",\"-\",VLOOKUP(D32,site!$B:$D,3,0))),IF(C32=\"\",\"\",IF(VLOOKUP(E32,site!$C:$D,2,0)=\"\",\"-\",VLOOKUP(E32,site!$C:$D,2,0))))","v":"— — "},{"$f":"IFERROR(IF($C32=\"\",\"\",IF(VLOOKUP($D32,site!$B:$F,4,0)=\"\",\"-\",VLOOKUP($D32,site!$B:$F,4,0))),IF($C32=\"\",\"\",IF(VLOOKUP($E32,site!$B:$F,3,0)=\"\",\"-\",VLOOKUP($E32,site!$B:$F,3,0))))","v":{"$error":"#N/A"}},{"$f":"IFERROR(IF($C32=\"\",\"\",IF(VLOOKUP($D32,site!$B:$F,5,0)=\"\",\"-\",VLOOKUP($D32,site!$B:$F,5,0))),IF($C32=\"\",\"\",IF(VLOOKUP($E32,site!$B:$F,4,0)=\"\",\"-\",VLOOKUP($E32,site!$B:$F,4,0))))","v":{"$error":"#N/A"}},{"$f":"IFERROR(IF($C32=\"\",\"\",IF(VLOOKUP($D32,site!$B:$G,6,0)=\"\",\"-\",VLOOKUP($D32,site!$B:$G,6,0))),IF($C32=\"\",\"\",IF(VLOOKUP($E32,site!$B:$G,5,0)=\"\",\"-\",VLOOKUP($E32,site!$B:$G,5,0))))","v":{"$error":"#N/A"}}]
["20-11-2020","15:00:00","Russia PFL South","Inter Cherkessk ","Makhachkala ","W1","W1","W1","-","-","0.5 O (ST)","-","1.5 O (FT)","-","-","Inter Cherkessk ","Inter Cherkessk ","Inter Cherkessk ",{"$f":"IFERROR(IF(C33=\"\",\"\",IF(VLOOKUP(D33,site!$B:$D,3,0)=\"\",\"-\",VLOOKUP(D33,site!$B:$D,3,0))),IF(C33=\"\",\"\",IF(VLOOKUP(E33,site!$C:$D,2,0)=\"\",\"-\",VLOOKUP(E33,site!$C:$D,2,0))))","v":"— — "},{"$f":"IFERROR(IF($C33=\"\",\"\",IF(VLOOKUP($D33,site!$B:$F,4,0)=\"\",\"-\",VLOOKUP($D33,site!$B:$F,4,0))),IF($C33=\"\",\"\",IF(VLOOKUP($E33,site!$B:$F,3,0)=\"\",\"-\",VLOOKUP($E33,site!$B:$F,3,0))))","v":"-"},{"$f":"IFERROR(IF($C33=\"\",\"\",IF(VLOOKUP($D33,site!$B:$F,5,0)=\"\",\"-\",VLOOKUP($D33,site!$B:$F,5,0))),IF($C33=\"\",\"\",IF(VLOOKUP($E33,site!$B:$F,4,0)=\"\",\"-\",VLOOKUP($E33,site!$B:$F,4,0))))","v":"-"},{"$f":"IFERROR(IF($C33=\"\",\"\",IF(VLOOKUP($D33,site!$B:$G,6,0)=\"\",\"-\",VLOOKUP($D33,site!$B:$G,6,0))),IF($C33=\"\",\"\",IF(VLOOKUP($E33,site!$B:$G,5,0)=\"\",\"-\",VLOOKUP($E33,site!$B:$G,5,0))))","v":"-"}]
["20-11-2020","15:00:00","Russia Youth teams","Arsenal Youth ","Dinamo Moscow Youth ","X","W1","W1","-","-","0.5 O (ST)","-","1.5 O (FT)","-","-","Dinamo Moscow Youth ","Arsenal Youth ","Arsenal Youth ",{"$f":"IFERROR(IF(C34=\"\",\"\",IF(VLOOKUP(D34,site!$B:$D,3,0)=\"\",\"-\",VLOOKUP(D34,site!$B:$D,3,0))),IF(C34=\"\",\"\",IF(VLOOKUP(E34,site!$C:$D,2,0)=\"\",\"-\",VLOOKUP(E34,site!$C:$D,2,0))))","v":"— — "},{"$f":"IFERROR(IF($C34=\"\",\"\",IF(VLOOKUP($D34,site!$B:$F,4,0)=\"\",\"-\",VLOOKUP($D34,site!$B:$F,4,0))),IF($C34=\"\",\"\",IF(VLOOKUP($E34,site!$B:$F,3,0)=\"\",\"-\",VLOOKUP($E34,site!$B:$F,3,0))))","v":"-"},{"$f":"IFERROR(IF($C34=\"\",\"\",IF(VLOOKUP($D34,site!$B:$F,5,0)=\"\",\"-\",VLOOKUP($D34,site!$B:$F,5,0))),IF($C34=\"\",\"\",IF(VLOOKUP($E34,site!$B:$F,4,0)=\"\",\"-\",VLOOKUP($E34,site!$B:$F,4,0))))","v":"-"},{"$f":"IFERROR(IF($C34=\"\",\"\",IF(VLOOKUP($D34,site!$B:$G,6,0)=\"\",\"-\",VLOOKUP($D34,site!$B:$G,6,0))),IF($C34=\"\",\"\",IF(VLOOKUP($E34,site!$B:$G,5,0)=\"\",\"-\",VLOOKUP($E34,site!$B:$G,5,0))))","v":"-"}]
["20-11-2020","15:00:00","Latvia - Virsliga","Jelgava ","Valmiera ","X","W2","W2","-","-","0.5 O (ST)","-","1.5 O (FT)","-","-","Valmiera ","Valmiera ","Valmiera ",{"$f":"IFERROR(IF(C35=\"\",\"\",IF(VLOOKUP(D35,site!$B:$D,3,0)=\"\",\"-\",VLOOKUP(D35,site!$B:$D,3,0))),IF(C35=\"\",\"\",IF(VLOOKUP(E35,site!$C:$D,2,0)=\"\",\"-\",VLOOKUP(E35,site!$C:$D,2,0))))","v":"— — "},{"$f":"IFERROR(IF($C35=\"\",\"\",IF(VLOOKUP($D35,site!$B:$F,4,0)=\"\",\"-\",VLOOKUP($D35,site!$B:$F,4,0))),IF($C35=\"\",\"\",IF(VLOOKUP($E35,site!$B:$F,3,0)=\"\",\"-\",VLOOKUP($E35,site!$B:$F,3,0))))","v":"3.36 "},{"$f":"IFERROR(IF($C35=\"\",\"\",IF(VLOOKUP($D35,site!$B:$F,5,0)=\"\",\"-\",VLOOKUP($D35,site!$B:$F,5,0))),IF($C35=\"\",\"\",IF(VLOOKUP($E35,site!$B:$F,4,0)=\"\",\"-\",VLOOKUP($E35,site!$B:$F,4,0))))","v":"3.56 "},{"$f":"IFERROR(IF($C35=\"\",\"\",IF(VLOOKUP($D35,site!$B:$G,6,0)=\"\",\"-\",VLOOKUP($D35,site!$B:$G,6,0))),IF($C35=\"\",\"\",IF(VLOOKUP($E35,site!$B:$G,5,0)=\"\",\"-\",VLOOKUP($E35,site!$B:$G,5,0))))","v":2}]
["20-11-2020","15:00:00","Moldova - Divizia Nationala","Dinamo Auto ","Floresti ","W1","X","W1","0.5 O (HT)","-","-","-","1.5 O (FT)","-","-","Dinamo Auto ","Dinamo Auto ","Dinamo Auto ",{"$f":"IFERROR(IF(C36=\"\",\"\",IF(VLOOKUP(D36,site!$B:$D,3,0)=\"\",\"-\",VLOOKUP(D36,site!$B:$D,3,0))),IF(C36=\"\",\"\",IF(VLOOKUP(E36,site!$C:$D,2,0)=\"\",\"-\",VLOOKUP(E36,site!$C:$D,2,0))))","v":"— — "},{"$f":"IFERROR(IF($C36=\"\",\"\",IF(VLOOKUP($D36,site!$B:$F,4,0)=\"\",\"-\",VLOOKUP($D36,site!$B:$F,4,0))),IF($C36=\"\",\"\",IF(VLOOKUP($E36,site!$B:$F,3,0)=\"\",\"-\",VLOOKUP($E36,site!$B:$F,3,0))))","v":"-"},{"$f":"IFERROR(IF($C36=\"\",\"\",IF(VLOOKUP($D36,site!$B:$F,5,0)=\"\",\"-\",VLOOKUP($D36,site!$B:$F,5,0))),IF($C36=\"\",\"\",IF(VLOOKUP($E36,site!$B:$F,4,0)=\"\",\"-\",VLOOKUP($E36,site!$B:$F,4,0))))","v":"-"},{"$f":"IFERROR(IF($C36=\"\",\"\",IF(VLOOKUP($D36,site!$B:$G,6,0)=\"\",\"-\",VLOOKUP($D36,site!$B:$G,6,0))),IF($C36=\"\",\"\",IF(VLOOKUP($E36,site!$B:$G,5,0)=\"\",\"-\",VLOOKUP($E36,site!$B:$G,5,0))))","v":"-"}]
["20-11-2020","15:00:00","Ukraine - Persha Liga","Girnik ","Obolon-Brovar ","X","W1","W2","-","-","0.5 O (ST)","-","1.5 O (FT)","-","-","Obolon-Brovar ","Girnik ","Obolon-Brovar ",{"$f":"IFERROR(IF(C37=\"\",\"\",IF(VLOOKUP(D37,site!$B:$D,3,0)=\"\",\"-\",VLOOKUP(D37,site!$B:$D,3,0))),IF(C37=\"\",\"\",IF(VLOOKUP(E37,site!$C:$D,2,0)=\"\",\"-\",VLOOKUP(E37,site!$C:$D,2,0))))","v":"— — "},{"$f":"IFERROR(IF($C37=\"\",\"\",IF(VLOOKUP($D37,site!$B:$F,4,0)=\"\",\"-\",VLOOKUP($D37,site!$B:$F,4,0))),IF($C37=\"\",\"\",IF(VLOOKUP($E37,site!$B:$F,3,0)=\"\",\"-\",VLOOKUP($E37,site!$B:$F,3,0))))","v":"2.03 "},{"$f":"IFERROR(IF($C37=\"\",\"\",IF(VLOOKUP($D37,site!$B:$F,5,0)=\"\",\"-\",VLOOKUP($D37,site!$B:$F,5,0))),IF($C37=\"\",\"\",IF(VLOOKUP($E37,site!$B:$F,4,0)=\"\",\"-\",VLOOKUP($E37,site!$B:$F,4,0))))","v":"3.15 "},{"$f":"IFERROR(IF($C37=\"\",\"\",IF(VLOOKUP($D37,site!$B:$G,6,0)=\"\",\"-\",VLOOKUP($D37,site!$B:$G,6,0))),IF($C37=\"\",\"\",IF(VLOOKUP($E37,site!$B:$G,5,0)=\"\",\"-\",VLOOKUP($E37,site!$B:$G,5,0))))","v":"3.66 "}]
["20-11-2020","15:00:00","Ukraine - Persha Liga","Agrobiznes ","Nyva Ternopil ","NB","NB","NB","-","-","-","-","-","-","-","NB","NB","NB",{"$f":"IFERROR(IF(C38=\"\",\"\",IF(VLOOKUP(D38,site!$B:$D,3,0)=\"\",\"-\",VLOOKUP(D38,site!$B:$D,3,0))),IF(C38=\"\",\"\",IF(VLOOKUP(E38,site!$C:$D,2,0)=\"\",\"-\",VLOOKUP(E38,site!$C:$D,2,0))))","v":"— — "},{"$f":"IFERROR(IF($C38=\"\",\"\",IF(VLOOKUP($D38,site!$B:$F,4,0)=\"\",\"-\",VLOOKUP($D38,site!$B:$F,4,0))),IF($C38=\"\",\"\",IF(VLOOKUP($E38,site!$B:$F,3,0)=\"\",\"-\",VLOOKUP($E38,site!$B:$F,3,0))))","v":"1.57 "},{"$f":"IFERROR(IF($C38=\"\",\"\",IF(VLOOKUP($D38,site!$B:$F,5,0)=\"\",\"-\",VLOOKUP($D38,site!$B:$F,5,0))),IF($C38=\"\",\"\",IF(VLOOKUP($E38,site!$B:$F,4,0)=\"\",\"-\",VLOOKUP($E38,site!$B:$F,4,0))))","v":"3.82 "},{"$f":"IFERROR(IF($C38=\"\",\"\",IF(VLOOKUP($D38,site!$B:$G,6,0)=\"\",\"-\",VLOOKUP($D38,site!$B:$G,6,0))),IF($C38=\"\",\"\",IF(VLOOKUP($E38,site!$B:$G,5,0)=\"\",\"-\",VLOOKUP($E38,site!$B:$G,5,0))))","v":"5.4 "}]
["20-11-2020","15:00:00","Ukraine - Persha Liga","A. Kramatorsk ","Veres Rivne ","W1","X","W1","-","-","-","-","1.5 O (FT)","-","-","A. Kramatorsk ","Veres Rivne ","A. Kramatorsk ",{"$f":"IFERROR(IF(C39=\"\",\"\",IF(VLOOKUP(D39,site!$B:$D,3,0)=\"\",\"-\",VLOOKUP(D39,site!$B:$D,3,0))),IF(C39=\"\",\"\",IF(VLOOKUP(E39,site!$C:$D,2,0)=\"\",\"-\",VLOOKUP(E39,site!$C:$D,2,0))))","v":"— — "},{"$f":"IFERROR(IF($C39=\"\",\"\",IF(VLOOKUP($D39,site!$B:$F,4,0)=\"\",\"-\",VLOOKUP($D39,site!$B:$F,4,0))),IF($C39=\"\",\"\",IF(VLOOKUP($E39,site!$B:$F,3,0)=\"\",\"-\",VLOOKUP($E39,site!$B:$F,3,0))))","v":"5.5 "},{"$f":"IFERROR(IF($C39=\"\",\"\",IF(VLOOKUP($D39,site!$B:$F,5,0)=\"\",\"-\",VLOOKUP($D39,site!$B:$F,5,0))),IF($C39=\"\",\"\",IF(VLOOKUP($E39,site!$B:$F,4,0)=\"\",\"-\",VLOOKUP($E39,site!$B:$F,4,0))))","v":"3.78 "},{"$f":"IFERROR(IF($C39=\"\",\"\",IF(VLOOKUP($D39,site!$B:$G,6,0)=\"\",\"-\",VLOOKUP($D39,site!$B:$G,6,0))),IF($C39=\"\",\"\",IF(VLOOKUP($E39,site!$B:$G,5,0)=\"\",\"-\",VLOOKUP($E39,site!$B:$G,5,0))))","v":"1.568 "}]
["20-11-2020","15:00:00","Ukraine - Persha Liga","Polissya ","Mykolaiv ","NB","NB","NB","-","-","-","-","1.5 O (FT)","-","-","NB","NB","NB",{"$f":"IFERROR(IF(C40=\"\",\"\",IF(VLOOKUP(D40,site!$B:$D,3,0)=\"\",\"-\",VLOOKUP(D40,site!$B:$D,3,0))),IF(C40=\"\",\"\",IF(VLOOKUP(E40,site!$C:$D,2,0)=\"\",\"-\",VLOOKUP(E40,site!$C:$D,2,0))))","v":"— — "},{"$f":"IFERROR(IF($C40=\"\",\"\",IF(VLOOKUP($D40,site!$B:$F,4,0)=\"\",\"-\",VLOOKUP($D40,site!$B:$F,4,0))),IF($C40=\"\",\"\",IF(VLOOKUP($E40,site!$B:$F,3,0)=\"\",\"-\",VLOOKUP($E40,site!$B:$F,3,0))))","v":"2.115 "},{"$f":"IFERROR(IF($C40=\"\",\"\",IF(VLOOKUP($D40,site!$B:$F,5,0)=\"\",\"-\",VLOOKUP($D40,site!$B:$F,5,0))),IF($C40=\"\",\"\",IF(VLOOKUP($E40,site!$B:$F,4,0)=\"\",\"-\",VLOOKUP($E40,site!$B:$F,4,0))))","v":"3.184 "},{"$f":"IFERROR(IF($C40=\"\",\"\",IF(VLOOKUP($D40,site!$B:$G,6,0)=\"\",\"-\",VLOOKUP($D40,site!$B:$G,6,0))),IF($C40=\"\",\"\",IF(VLOOKUP($E40,site!$B:$G,5,0)=\"\",\"-\",VLOOKUP($E40,site!$B:$G,5,0))))","v":"3.36 "}]
["20-11-2020","15:00:00","Ukraine - Persha Liga","Krystal ","VPK-Agro ","NB","NB","NB","-","-","0.5 O (ST)","-","1.5 O (FT)","-","-","NB","NB","NB",{"$f":"IFERROR(IF(C41=\"\",\"\",IF(VLOOKUP(D41,site!$B:$D,3,0)=\"\",\"-\",VLOOKUP(D41,site!$B:$D,3,0))),IF(C41=\"\",\"\",IF(VLOOKUP(E41,site!$C:$D,2,0)=\"\",\"-\",VLOOKUP(E41,site!$C:$D,2,0))))","v":"— — "},{"$f":"IFERROR(IF($C41=\"\",\"\",IF(VLOOKUP($D41,site!$B:$F,4,0)=\"\",\"-\",VLOOKUP($D41,site!$B:$F,4,0))),IF($C41=\"\",\"\",IF(VLOOKUP($E41,site!$B:$F,3,0)=\"\",\"-\",VLOOKUP($E41,site!$B:$F,3,0))))","v":"2.696 "},{"$f":"IFERROR(IF($C41=\"\",\"\",IF(VLOOKUP($D41,site!$B:$F,5,0)=\"\",\"-\",VLOOKUP($D41,site!$B:$F,5,0))),IF($C41=\"\",\"\",IF(VLOOKUP($E41,site!$B:$F,4,0)=\"\",\"-\",VLOOKUP($E41,site!$B:$F,4,0))))","v":"3.06 "},{"$f":"IFERROR(IF($C41=\"\",\"\",IF(VLOOKUP($D41,site!$B:$G,6,0)=\"\",\"-\",VLOOKUP($D41,site!$B:$G,6,0))),IF($C41=\"\",\"\",IF(VLOOKUP($E41,site!$B:$G,5,0)=\"\",\"-\",VLOOKUP($E41,site!$B:$G,5,0))))","v":"2.568 "}]
["20-11-2020","15:00:00","Ukraine U-21 League","Ingulets-D ","Dinamo-D ","NB","NB","NB","0.5 O (HT)","-","0.5 O (ST)","1.5 O (ST)","1.5 O (FT)","-","-","NB","NB","NB",{"$f":"IFERROR(IF(C42=\"\",\"\",IF(VLOOKUP(D42,site!$B:$D,3,0)=\"\",\"-\",VLOOKUP(D42,site!$B:$D,3,0))),IF(C42=\"\",\"\",IF(VLOOKUP(E42,site!$C:$D,2,0)=\"\",\"-\",VLOOKUP(E42,site!$C:$D,2,0))))","v":"— — "},{"$f":"IFERROR(IF($C42=\"\",\"\",IF(VLOOKUP($D42,site!$B:$F,4,0)=\"\",\"-\",VLOOKUP($D42,site!$B:$F,4,0))),IF($C42=\"\",\"\",IF(VLOOKUP($E42,site!$B:$F,3,0)=\"\",\"-\",VLOOKUP($E42,site!$B:$F,3,0))))","v":"-"},{"$f":"IFERROR(IF($C42=\"\",\"\",IF(VLOOKUP($D42,site!$B:$F,5,0)=\"\",\"-\",VLOOKUP($D42,site!$B:$F,5,0))),IF($C42=\"\",\"\",IF(VLOOKUP($E42,site!$B:$F,4,0)=\"\",\"-\",VLOOKUP($E42,site!$B:$F,4,0))))","v":"-"},{"$f":"IFERROR(IF($C42=\"\",\"\",IF(VLOOKUP($D42,site!$B:$G,6,0)=\"\",\"-\",VLOOKUP($D42,site!$B:$G,6,0))),IF($C42=\"\",\"\",IF(VLOOKUP($E42,site!$B:$G,5,0)=\"\",\"-\",VLOOKUP($E42,site!$B:$G,5,0))))","v":"-"}]
["20-11-2020","16:00:00","Germany Regionalliga West","Schalke II ","Dortmund II ","X","W2","W2","-","-","-","-","1.5 O (FT)","-","-","Dortmund II ","Dortmund II ","Dortmund II ",{"$f":"IFERROR(IF(C43=\"\",\"\",IF(VLOOKUP(D43,site!$B:$D,3,0)=\"\",\"-\",VLOOKUP(D43,site!$B:$D,3,0))),IF(C43=\"\",\"\",IF(VLOOKUP(E43,site!$C:$D,2,0)=\"\",\"-\",VLOOKUP(E43,site!$C:$D,2,0))))","v":"— — "},{"$f":"IFERROR(IF($C43=\"\",\"\",IF(VLOOKUP($D43,site!$B:$F,4,0)=\"\",\"-\",VLOOKUP($D43,site!$B:$F,4,0))),IF($C43=\"\",\"\",IF(VLOOKUP($E43,site!$B:$F,3,0)=\"\",\"-\",VLOOKUP($E43,site!$B:$F,3,0))))","v":"-"},{"$f":"IFERROR(IF($C43=\"\",\"\",IF(VLOOKUP($D43,site!$B:$F,5,0)=\"\",\"-\",VLOOKUP($D43,site!$B:$F,5,0))),IF($C43=\"\",\"\",IF(VLOOKUP($E43,site!$B:$F,4,0)=\"\",\"-\",VLOOKUP($E43,site!$B:$F,4,0))))","v":"-"},{"$f":"IFERROR(IF($C43=\"\",\"\",IF(VLOOKUP($D43,site!$B:$G,6,0)=\"\",\"-\",VLOOKUP($D43,site!$B:$G,6,0))),IF($C43=\"\",\"\",IF(VLOOKUP($E43,site!$B:$G,5,0)=\"\",\"-\",VLOOKUP($E43,site!$B:$G,5,0))))","v":"-"}]
["20-11-2020","16:00:00","Ukraine - Persha Liga","Volyn ","Prykarpattya ","X","W1","W1","-","-","-","-","-","-","-","Prykarpattya ","Volyn ","Volyn ",{"$f":"IFERROR(IF(C44=\"\",\"\",IF(VLOOKUP(D44,site!$B:$D,3,0)=\"\",\"-\",VLOOKUP(D44,site!$B:$D,3,0))),IF(C44=\"\",\"\",IF(VLOOKUP(E44,site!$C:$D,2,0)=\"\",\"-\",VLOOKUP(E44,site!$C:$D,2,0))))","v":"— — "},{"$f":"IFERROR(IF($C44=\"\",\"\",IF(VLOOKUP($D44,site!$B:$F,4,0)=\"\",\"-\",VLOOKUP($D44,site!$B:$F,4,0))),IF($C44=\"\",\"\",IF(VLOOKUP($E44,site!$B:$F,3,0)=\"\",\"-\",VLOOKUP($E44,site!$B:$F,3,0))))","v":"1.496 "},{"$f":"IFERROR(IF($C44=\"\",\"\",IF(VLOOKUP($D44,site!$B:$F,5,0)=\"\",\"-\",VLOOKUP($D44,site!$B:$F,5,0))),IF($C44=\"\",\"\",IF(VLOOKUP($E44,site!$B:$F,4,0)=\"\",\"-\",VLOOKUP($E44,site!$B:$F,4,0))))","v":"4.1 "},{"$f":"IFERROR(IF($C44=\"\",\"\",IF(VLOOKUP($D44,site!$B:$G,6,0)=\"\",\"-\",VLOOKUP($D44,site!$B:$G,6,0))),IF($C44=\"\",\"\",IF(VLOOKUP($E44,site!$B:$G,5,0)=\"\",\"-\",VLOOKUP($E44,site!$B:$G,5,0))))","v":"5.75 "}]
["20-11-2020","16:00:00","Ukraine - Persha Liga","Lypova Dolyna ","Chernomorets Odessa ","NB","NB","NB","-","-","0.5 O (ST)","-","1.5 O (FT)","-","-","NB","NB","NB",{"$f":"IFERROR(IF(C45=\"\",\"\",IF(VLOOKUP(D45,site!$B:$D,3,0)=\"\",\"-\",VLOOKUP(D45,site!$B:$D,3,0))),IF(C45=\"\",\"\",IF(VLOOKUP(E45,site!$C:$D,2,0)=\"\",\"-\",VLOOKUP(E45,site!$C:$D,2,0))))","v":"— — "},{"$f":"IFERROR(IF($C45=\"\",\"\",IF(VLOOKUP($D45,site!$B:$F,4,0)=\"\",\"-\",VLOOKUP($D45,site!$B:$F,4,0))),IF($C45=\"\",\"\",IF(VLOOKUP($E45,site!$B:$F,3,0)=\"\",\"-\",VLOOKUP($E45,site!$B:$F,3,0))))","v":"3.62 "},{"$f":"IFERROR(IF($C45=\"\",\"\",IF(VLOOKUP($D45,site!$B:$F,5,0)=\"\",\"-\",VLOOKUP($D45,site!$B:$F,5,0))),IF($C45=\"\",\"\",IF(VLOOKUP($E45,site!$B:$F,4,0)=\"\",\"-\",VLOOKUP($E45,site!$B:$F,4,0))))","v":"3.16 "},{"$f":"IFERROR(IF($C45=\"\",\"\",IF(VLOOKUP($D45,site!$B:$G,6,0)=\"\",\"-\",VLOOKUP($D45,site!$B:$G,6,0))),IF($C45=\"\",\"\",IF(VLOOKUP($E45,site!$B:$G,5,0)=\"\",\"-\",VLOOKUP($E45,site!$B:$G,5,0))))","v":"2.03 "}]
["20-11-2020","16:00:00","Uzbekistan Superleague","Navbahor ","Surkhon Termez ","X","W1","W1","-","-","-","-","-","-","-","Navbahor ","Navbahor ","Navbahor ",{"$f":"IFERROR(IF(C46=\"\",\"\",IF(VLOOKUP(D46,site!$B:$D,3,0)=\"\",\"-\",VLOOKUP(D46,site!$B:$D,3,0))),IF(C46=\"\",\"\",IF(VLOOKUP(E46,site!$C:$D,2,0)=\"\",\"-\",VLOOKUP(E46,site!$C:$D,2,0))))","v":"— — "},{"$f":"IFERROR(IF($C46=\"\",\"\",IF(VLOOKUP($D46,site!$B:$F,4,0)=\"\",\"-\",VLOOKUP($D46,site!$B:$F,4,0))),IF($C46=\"\",\"\",IF(VLOOKUP($E46,site!$B:$F,3,0)=\"\",\"-\",VLOOKUP($E46,site!$B:$F,3,0))))","v":"-"},{"$f":"IFERROR(IF($C46=\"\",\"\",IF(VLOOKUP($D46,site!$B:$F,5,0)=\"\",\"-\",VLOOKUP($D46,site!$B:$F,5,0))),IF($C46=\"\",\"\",IF(VLOOKUP($E46,site!$B:$F,4,0)=\"\",\"-\",VLOOKUP($E46,site!$B:$F,4,0))))","v":"-"},{"$f":"IFERROR(IF($C46=\"\",\"\",IF(VLOOKUP($D46,site!$B:$G,6,0)=\"\",\"-\",VLOOKUP($D46,site!$B:$G,6,0))),IF($C46=\"\",\"\",IF(VLOOKUP($E46,site!$B:$G,5,0)=\"\",\"-\",VLOOKUP($E46,site!$B:$G,5,0))))","v":"-"}]
["20-11-2020","16:00:00","Uzbekistan Superleague","Pakhtakor ","FK Kokand ","W1","W1","W1","-","-","0.5 O (ST)","-","1.5 O (FT)","-","-","Pakhtakor ","Pakhtakor ","Pakhtakor ",{"$f":"IFERROR(IF(C47=\"\",\"\",IF(VLOOKUP(D47,site!$B:$D,3,0)=\"\",\"-\",VLOOKUP(D47,site!$B:$D,3,0))),IF(C47=\"\",\"\",IF(VLOOKUP(E47,site!$C:$D,2,0)=\"\",\"-\",VLOOKUP(E47,site!$C:$D,2,0))))","v":"— — "},{"$f":"IFERROR(IF($C47=\"\",\"\",IF(VLOOKUP($D47,site!$B:$F,4,0)=\"\",\"-\",VLOOKUP($D47,site!$B:$F,4,0))),IF($C47=\"\",\"\",IF(VLOOKUP($E47,site!$B:$F,3,0)=\"\",\"-\",VLOOKUP($E47,site!$B:$F,3,0))))","v":"1.136 "},{"$f":"IFERROR(IF($C47=\"\",\"\",IF(VLOOKUP($D47,site!$B:$F,5,0)=\"\",\"-\",VLOOKUP($D47,site!$B:$F,5,0))),IF($C47=\"\",\"\",IF(VLOOKUP($E47,site!$B:$F,4,0)=\"\",\"-\",VLOOKUP($E47,site!$B:$F,4,0))))","v":8},{"$f":"IFERROR(IF($C47=\"\",\"\",IF(VLOOKUP($D47,site!$B:$G,6,0)=\"\",\"-\",VLOOKUP($D47,site!$B:$G,6,0))),IF($C47=\"\",\"\",IF(VLOOKUP($E47,site!$B:$G,5,0)=\"\",\"-\",VLOOKUP($E47,site!$B:$G,5,0))))","v":15}]
["20-11-2020","16:30:00","Czech Republic 1. Division","Jihlava ","Blansko ","NB","NB","NB","0.5 O (HT)","-","0.5 O (ST)","-","1.5 O (FT)","-","-","NB","NB","NB",{"$f":"IFERROR(IF(C48=\"\",\"\",IF(VLOOKUP(D48,site!$B:$D,3,0)=\"\",\"-\",VLOOKUP(D48,site!$B:$D,3,0))),IF(C48=\"\",\"\",IF(VLOOKUP(E48,site!$C:$D,2,0)=\"\",\"-\",VLOOKUP(E48,site!$C:$D,2,0))))","v":"— — "},{"$f":"IFERROR(IF($C48=\"\",\"\",IF(VLOOKUP($D48,site!$B:$F,4,0)=\"\",\"-\",VLOOKUP($D48,site!$B:$F,4,0))),IF($C48=\"\",\"\",IF(VLOOKUP($E48,site!$B:$F,3,0)=\"\",\"-\",VLOOKUP($E48,site!$B:$F,3,0))))","v":"1.85 "},{"$f":"IFERROR(IF($C48=\"\",\"\",IF(VLOOKUP($D48,site!$B:$F,5,0)=\"\",\"-\",VLOOKUP($D48,site!$B:$F,5,0))),IF($C48=\"\",\"\",IF(VLOOKUP($E48,site!$B:$F,4,0)=\"\",\"-\",VLOOKUP($E48,site!$B:$F,4,0))))","v":"3.58 "},{"$f":"IFERROR(IF($C48=\"\",\"\",IF(VLOOKUP($D48,site!$B:$G,6,0)=\"\",\"-\",VLOOKUP($D48,site!$B:$G,6,0))),IF($C48=\"\",\"\",IF(VLOOKUP($E48,site!$B:$G,5,0)=\"\",\"-\",VLOOKUP($E48,site!$B:$G,5,0))))","v":"3.86 "}]
["20-11-2020","16:40:00","Iran Pro League","Mes Rafsanjan ","Gohar Sirjan ","NB","NB","NB","-","-","0.5 O (ST)","1.5 O (ST)","1.5 O (FT)","-","-","NB","NB","NB",{"$f":"IFERROR(IF(C49=\"\",\"\",IF(VLOOKUP(D49,site!$B:$D,3,0)=\"\",\"-\",VLOOKUP(D49,site!$B:$D,3,0))),IF(C49=\"\",\"\",IF(VLOOKUP(E49,site!$C:$D,2,0)=\"\",\"-\",VLOOKUP(E49,site!$C:$D,2,0))))","v":"— — "},{"$f":"IFERROR(IF($C49=\"\",\"\",IF(VLOOKUP($D49,site!$B:$F,4,0)=\"\",\"-\",VLOOKUP($D49,site!$B:$F,4,0))),IF($C49=\"\",\"\",IF(VLOOKUP($E49,site!$B:$F,3,0)=\"\",\"-\",VLOOKUP($E49,site!$B:$F,3,0))))","v":"2.91 "},{"$f":"IFERROR(IF($C49=\"\",\"\",IF(VLOOKUP($D49,site!$B:$F,5,0)=\"\",\"-\",VLOOKUP($D49,site!$B:$F,5,0))),IF($C49=\"\",\"\",IF(VLOOKUP($E49,site!$B:$F,4,0)=\"\",\"-\",VLOOKUP($E49,site!$B:$F,4,0))))","v":"2.875 "},{"$f":"IFERROR(IF($C49=\"\",\"\",IF(VLOOKUP($D49,site!$B:$G,6,0)=\"\",\"-\",VLOOKUP($D49,site!$B:$G,6,0))),IF($C49=\"\",\"\",IF(VLOOKUP($E49,site!$B:$G,5,0)=\"\",\"-\",VLOOKUP($E49,site!$B:$G,5,0))))","v":"2.56 "}]
["20-11-2020","17:00:00","Russia Youth teams","PFC Sochi Youth ","Akhmat Youth ","W1","X","W1","0.5 O (HT)","-","-","-","1.5 O (FT)","-","-","PFC Sochi Youth ","Akhmat Youth ","PFC Sochi Youth ",{"$f":"IFERROR(IF(C50=\"\",\"\",IF(VLOOKUP(D50,site!$B:$D,3,0)=\"\",\"-\",VLOOKUP(D50,site!$B:$D,3,0))),IF(C50=\"\",\"\",IF(VLOOKUP(E50,site!$C:$D,2,0)=\"\",\"-\",VLOOKUP(E50,site!$C:$D,2,0))))","v":"— — "},{"$f":"IFERROR(IF($C50=\"\",\"\",IF(VLOOKUP($D50,site!$B:$F,4,0)=\"\",\"-\",VLOOKUP($D50,site!$B:$F,4,0))),IF($C50=\"\",\"\",IF(VLOOKUP($E50,site!$B:$F,3,0)=\"\",\"-\",VLOOKUP($E50,site!$B:$F,3,0))))","v":"-"},{"$f":"IFERROR(IF($C50=\"\",\"\",IF(VLOOKUP($D50,site!$B:$F,5,0)=\"\",\"-\",VLOOKUP($D50,site!$B:$F,5,0))),IF($C50=\"\",\"\",IF(VLOOKUP($E50,site!$B:$F,4,0)=\"\",\"-\",VLOOKUP($E50,site!$B:$F,4,0))))","v":"-"},{"$f":"IFERROR(IF($C50=\"\",\"\",IF(VLOOKUP($D50,site!$B:$G,6,0)=\"\",\"-\",VLOOKUP($D50,site!$B:$G,6,0))),IF($C50=\"\",\"\",IF(VLOOKUP($E50,site!$B:$G,5,0)=\"\",\"-\",VLOOKUP($E50,site!$B:$G,5,0))))","v":"-"}]
["20-11-2020","17:00:00","Israel Liga Leumit","Hapoel Kfar Shelem ","H. Petah Tikva ","NB","NB","NB","-","-","-","-","1.5 O (FT)","-","-","NB","NB","NB",{"$f":"IFERROR(IF(C51=\"\",\"\",IF(VLOOKUP(D51,site!$B:$D,3,0)=\"\",\"-\",VLOOKUP(D51,site!$B:$D,3,0))),IF(C51=\"\",\"\",IF(VLOOKUP(E51,site!$C:$D,2,0)=\"\",\"-\",VLOOKUP(E51,site!$C:$D,2,0))))","v":"— — "},{"$f":"IFERROR(IF($C51=\"\",\"\",IF(VLOOKUP($D51,site!$B:$F,4,0)=\"\",\"-\",VLOOKUP($D51,site!$B:$F,4,0))),IF($C51=\"\",\"\",IF(VLOOKUP($E51,site!$B:$F,3,0)=\"\",\"-\",VLOOKUP($E51,site!$B:$F,3,0))))","v":"2.79 "},{"$f":"IFERROR(IF($C51=\"\",\"\",IF(VLOOKUP($D51,site!$B:$F,5,0)=\"\",\"-\",VLOOKUP($D51,site!$B:$F,5,0))),IF($C51=\"\",\"\",IF(VLOOKUP($E51,site!$B:$F,4,0)=\"\",\"-\",VLOOKUP($E51,site!$B:$F,4,0))))","v":"3.18 "},{"$f":"IFERROR(IF($C51=\"\",\"\",IF(VLOOKUP($D51,site!$B:$G,6,0)=\"\",\"-\",VLOOKUP($D51,site!$B:$G,6,0))),IF($C51=\"\",\"\",IF(VLOOKUP($E51,site!$B:$G,5,0)=\"\",\"-\",VLOOKUP($E51,site!$B:$G,5,0))))","v":"2.45 "}]
["20-11-2020","17:00:00","Israel Liga Leumit","Sektzia Nes Tziona ","Hapoel Um El Fahem ","NB","NB","NB","-","-","-","-","-","-","-","NB","NB","NB",{"$f":"IFERROR(IF(C52=\"\",\"\",IF(VLOOKUP(D52,site!$B:$D,3,0)=\"\",\"-\",VLOOKUP(D52,site!$B:$D,3,0))),IF(C52=\"\",\"\",IF(VLOOKUP(E52,site!$C:$D,2,0)=\"\",\"-\",VLOOKUP(E52,site!$C:$D,2,0))))","v":"— — "},{"$f":"IFERROR(IF($C52=\"\",\"\",IF(VLOOKUP($D52,site!$B:$F,4,0)=\"\",\"-\",VLOOKUP($D52,site!$B:$F,4,0))),IF($C52=\"\",\"\",IF(VLOOKUP($E52,site!$B:$F,3,0)=\"\",\"-\",VLOOKUP($E52,site!$B:$F,3,0))))","v":"2.03 "},{"$f":"IFERROR(IF($C52=\"\",\"\",IF(VLOOKUP($D52,site!$B:$F,5,0)=\"\",\"-\",VLOOKUP($D52,site!$B:$F,5,0))),IF($C52=\"\",\"\",IF(VLOOKUP($E52,site!$B:$F,4,0)=\"\",\"-\",VLOOKUP($E52,site!$B:$F,4,0))))","v":"3.34 "},{"$f":"IFERROR(IF($C52=\"\",\"\",IF(VLOOKUP($D52,site!$B:$G,6,0)=\"\",\"-\",VLOOKUP($D52,site!$B:$G,6,0))),IF($C52=\"\",\"\",IF(VLOOKUP($E52,site!$B:$G,5,0)=\"\",\"-\",VLOOKUP($E52,site!$B:$G,5,0))))","v":"3.5 "}]
["20-11-2020","17:00:00","Israel Liga Leumit","Hapoel Acre ","Nir Ramat Hasharon ","X","X","X","-","-","-","-","-","-","-","Hapoel Acre ","Hapoel Acre ","-",{"$f":"IFERROR(IF(C53=\"\",\"\",IF(VLOOKUP(D53,site!$B:$D,3,0)=\"\",\"-\",VLOOKUP(D53,site!$B:$D,3,0))),IF(C53=\"\",\"\",IF(VLOOKUP(E53,site!$C:$D,2,0)=\"\",\"-\",VLOOKUP(E53,site!$C:$D,2,0))))","v":"— — "},{"$f":"IFERROR(IF($C53=\"\",\"\",IF(VLOOKUP($D53,site!$B:$F,4,0)=\"\",\"-\",VLOOKUP($D53,site!$B:$F,4,0))),IF($C53=\"\",\"\",IF(VLOOKUP($E53,site!$B:$F,3,0)=\"\",\"-\",VLOOKUP($E53,site!$B:$F,3,0))))","v":"2.44 "},{"$f":"IFERROR(IF($C53=\"\",\"\",IF(VLOOKUP($D53,site!$B:$F,5,0)=\"\",\"-\",VLOOKUP($D53,site!$B:$F,5,0))),IF($C53=\"\",\"\",IF(VLOOKUP($E53,site!$B:$F,4,0)=\"\",\"-\",VLOOKUP($E53,site!$B:$F,4,0))))","v":"3.14 "},{"$f":"IFERROR(IF($C53=\"\",\"\",IF(VLOOKUP($D53,site!$B:$G,6,0)=\"\",\"-\",VLOOKUP($D53,site!$B:$G,6,0))),IF($C53=\"\",\"\",IF(VLOOKUP($E53,site!$B:$G,5,0)=\"\",\"-\",VLOOKUP($E53,site!$B:$G,5,0))))","v":"2.83 "}]
["20-11-2020","17:00:00","Israel Liga Leumit","Hapoel Iksal ","Hapoel Raanana ","NB","NB","NB","-","-","0.5 O (ST)","-","1.5 O (FT)","-","-","NB","NB","NB",{"$f":"IFERROR(IF(C54=\"\",\"\",IF(VLOOKUP(D54,site!$B:$D,3,0)=\"\",\"-\",VLOOKUP(D54,site!$B:$D,3,0))),IF(C54=\"\",\"\",IF(VLOOKUP(E54,site!$C:$D,2,0)=\"\",\"-\",VLOOKUP(E54,site!$C:$D,2,0))))","v":"— — "},{"$f":"IFERROR(IF($C54=\"\",\"\",IF(VLOOKUP($D54,site!$B:$F,4,0)=\"\",\"-\",VLOOKUP($D54,site!$B:$F,4,0))),IF($C54=\"\",\"\",IF(VLOOKUP($E54,site!$B:$F,3,0)=\"\",\"-\",VLOOKUP($E54,site!$B:$F,3,0))))","v":"2.46 "},{"$f":"IFERROR(IF($C54=\"\",\"\",IF(VLOOKUP($D54,site!$B:$F,5,0)=\"\",\"-\",VLOOKUP($D54,site!$B:$F,5,0))),IF($C54=\"\",\"\",IF(VLOOKUP($E54,site!$B:$F,4,0)=\"\",\"-\",VLOOKUP($E54,site!$B:$F,4,0))))","v":"3.2 "},{"$f":"IFERROR(IF($C54=\"\",\"\",IF(VLOOKUP($D54,site!$B:$G,6,0)=\"\",\"-\",VLOOKUP($D54,site!$B:$G,6,0))),IF($C54=\"\",\"\",IF(VLOOKUP($E54,site!$B:$G,5,0)=\"\",\"-\",VLOOKUP($E54,site!$B:$G,5,0))))","v":"2.76 "}]
["20-11-2020","17:00:00","Israel Liga Leumit","Ramat Gan Givatayim ","Beitar Tel Aviv ","X","X","W1","-","-","-","-","1.5 O (FT)","-","-","Beitar Tel Aviv ","Ramat Gan Givatayim ","Ramat Gan Givatayim ",{"$f":"IFERROR(IF(C55=\"\",\"\",IF(VLOOKUP(D55,site!$B:$D,3,0)=\"\",\"-\",VLOOKUP(D55,site!$B:$D,3,0))),IF(C55=\"\",\"\",IF(VLOOKUP(E55,site!$C:$D,2,0)=\"\",\"-\",VLOOKUP(E55,site!$C:$D,2,0))))","v":"— — "},{"$f":"IFERROR(IF($C55=\"\",\"\",IF(VLOOKUP($D55,site!$B:$F,4,0)=\"\",\"-\",VLOOKUP($D55,site!$B:$F,4,0))),IF($C55=\"\",\"\",IF(VLOOKUP($E55,site!$B:$F,3,0)=\"\",\"-\",VLOOKUP($E55,site!$B:$F,3,0))))","v":"1.76 "},{"$f":"IFERROR(IF($C55=\"\",\"\",IF(VLOOKUP($D55,site!$B:$F,5,0)=\"\",\"-\",VLOOKUP($D55,site!$B:$F,5,0))),IF($C55=\"\",\"\",IF(VLOOKUP($E55,site!$B:$F,4,0)=\"\",\"-\",VLOOKUP($E55,site!$B:$F,4,0))))","v":"3.52 "},{"$f":"IFERROR(IF($C55=\"\",\"\",IF(VLOOKUP($D55,site!$B:$G,6,0)=\"\",\"-\",VLOOKUP($D55,site!$B:$G,6,0))),IF($C55=\"\",\"\",IF(VLOOKUP($E55,site!$B:$G,5,0)=\"\",\"-\",VLOOKUP($E55,site!$B:$G,5,0))))","v":"4.42 "}]
["20-11-2020","17:00:00","Ukraine - Persha Liga","Metalist ","Kremin ","X","X","W1","-","-","-","-","-","-","-","Kremin ","Kremin ","Kremin ",{"$f":"IFERROR(IF(C56=\"\",\"\",IF(VLOOKUP(D56,site!$B:$D,3,0)=\"\",\"-\",VLOOKUP(D56,site!$B:$D,3,0))),IF(C56=\"\",\"\",IF(VLOOKUP(E56,site!$C:$D,2,0)=\"\",\"-\",VLOOKUP(E56,site!$C:$D,2,0))))","v":"— — "},{"$f":"IFERROR(IF($C56=\"\",\"\",IF(VLOOKUP($D56,site!$B:$F,4,0)=\"\",\"-\",VLOOKUP($D56,site!$B:$F,4,0))),IF($C56=\"\",\"\",IF(VLOOKUP($E56,site!$B:$F,3,0)=\"\",\"-\",VLOOKUP($E56,site!$B:$F,3,0))))","v":"1.808 "},{"$f":"IFERROR(IF($C56=\"\",\"\",IF(VLOOKUP($D56,site!$B:$F,5,0)=\"\",\"-\",VLOOKUP($D56,site!$B:$F,5,0))),IF($C56=\"\",\"\",IF(VLOOKUP($E56,site!$B:$F,4,0)=\"\",\"-\",VLOOKUP($E56,site!$B:$F,4,0))))","v":"3.4 "},{"$f":"IFERROR(IF($C56=\"\",\"\",IF(VLOOKUP($D56,site!$B:$G,6,0)=\"\",\"-\",VLOOKUP($D56,site!$B:$G,6,0))),IF($C56=\"\",\"\",IF(VLOOKUP($E56,site!$B:$G,5,0)=\"\",\"-\",VLOOKUP($E56,site!$B:$G,5,0))))","v":"4.18 "}]
["20-11-2020","17:05:00","Iran Pro League","Machine Tabriz ","Zob Ahan ","W2","X","W2","-","-","-","-","1.5 O (FT)","-","-","Zob Ahan ","Machine Tabriz ","Zob Ahan ",{"$f":"IFERROR(IF(C57=\"\",\"\",IF(VLOOKUP(D57,site!$B:$D,3,0)=\"\",\"-\",VLOOKUP(D57,site!$B:$D,3,0))),IF(C57=\"\",\"\",IF(VLOOKUP(E57,site!$C:$D,2,0)=\"\",\"-\",VLOOKUP(E57,site!$C:$D,2,0))))","v":"— — "},{"$f":"IFERROR(IF($C57=\"\",\"\",IF(VLOOKUP($D57,site!$B:$F,4,0)=\"\",\"-\",VLOOKUP($D57,site!$B:$F,4,0))),IF($C57=\"\",\"\",IF(VLOOKUP($E57,site!$B:$F,3,0)=\"\",\"-\",VLOOKUP($E57,site!$B:$F,3,0))))","v":"2.456 "},{"$f":"IFERROR(IF($C57=\"\",\"\",IF(VLOOKUP($D57,site!$B:$F,5,0)=\"\",\"-\",VLOOKUP($D57,site!$B:$F,5,0))),IF($C57=\"\",\"\",IF(VLOOKUP($E57,site!$B:$F,4,0)=\"\",\"-\",VLOOKUP($E57,site!$B:$F,4,0))))","v":"2.91 "},{"$f":"IFERROR(IF($C57=\"\",\"\",IF(VLOOKUP($D57,site!$B:$G,6,0)=\"\",\"-\",VLOOKUP($D57,site!$B:$G,6,0))),IF($C57=\"\",\"\",IF(VLOOKUP($E57,site!$B:$G,5,0)=\"\",\"-\",VLOOKUP($E57,site!$B:$G,5,0))))","v":"3.04 "}]
["20-11-2020","17:10:00","Iran Pro League","Foolad ","Esteghlal ","X","W2","X","-","-","-","-","-","-","-","-","Esteghlal ","Esteghlal ",{"$f":"IFERROR(IF(C58=\"\",\"\",IF(VLOOKUP(D58,site!$B:$D,3,0)=\"\",\"-\",VLOOKUP(D58,site!$B:$D,3,0))),IF(C58=\"\",\"\",IF(VLOOKUP(E58,site!$C:$D,2,0)=\"\",\"-\",VLOOKUP(E58,site!$C:$D,2,0))))","v":"— — "},{"$f":"IFERROR(IF($C58=\"\",\"\",IF(VLOOKUP($D58,site!$B:$F,4,0)=\"\",\"-\",VLOOKUP($D58,site!$B:$F,4,0))),IF($C58=\"\",\"\",IF(VLOOKUP($E58,site!$B:$F,3,0)=\"\",\"-\",VLOOKUP($E58,site!$B:$F,3,0))))","v":"2.536 "},{"$f":"IFERROR(IF($C58=\"\",\"\",IF(VLOOKUP($D58,site!$B:$F,5,0)=\"\",\"-\",VLOOKUP($D58,site!$B:$F,5,0))),IF($C58=\"\",\"\",IF(VLOOKUP($E58,site!$B:$F,4,0)=\"\",\"-\",VLOOKUP($E58,site!$B:$F,4,0))))","v":"2.936 "},{"$f":"IFERROR(IF($C58=\"\",\"\",IF(VLOOKUP($D58,site!$B:$G,6,0)=\"\",\"-\",VLOOKUP($D58,site!$B:$G,6,0))),IF($C58=\"\",\"\",IF(VLOOKUP($E58,site!$B:$G,5,0)=\"\",\"-\",VLOOKUP($E58,site!$B:$G,5,0))))","v":"2.88 "}]
["20-11-2020","18:00:00","Moldova - Divizia Nationala","Zimbru ","Dacia Buiucani ","X","W2","W2","-","-","-","-","-","-","-","Dacia Buiucani ","Dacia Buiucani ","Dacia Buiucani ",{"$f":"IFERROR(IF(C59=\"\",\"\",IF(VLOOKUP(D59,site!$B:$D,3,0)=\"\",\"-\",VLOOKUP(D59,site!$B:$D,3,0))),IF(C59=\"\",\"\",IF(VLOOKUP(E59,site!$C:$D,2,0)=\"\",\"-\",VLOOKUP(E59,site!$C:$D,2,0))))","v":"— — "},{"$f":"IFERROR(IF($C59=\"\",\"\",IF(VLOOKUP($D59,site!$B:$F,4,0)=\"\",\"-\",VLOOKUP($D59,site!$B:$F,4,0))),IF($C59=\"\",\"\",IF(VLOOKUP($E59,site!$B:$F,3,0)=\"\",\"-\",VLOOKUP($E59,site!$B:$F,3,0))))","v":"-"},{"$f":"IFERROR(IF($C59=\"\",\"\",IF(VLOOKUP($D59,site!$B:$F,5,0)=\"\",\"-\",VLOOKUP($D59,site!$B:$F,5,0))),IF($C59=\"\",\"\",IF(VLOOKUP($E59,site!$B:$F,4,0)=\"\",\"-\",VLOOKUP($E59,site!$B:$F,4,0))))","v":"-"},{"$f":"IFERROR(IF($C59=\"\",\"\",IF(VLOOKUP($D59,site!$B:$G,6,0)=\"\",\"-\",VLOOKUP($D59,site!$B:$G,6,0))),IF($C59=\"\",\"\",IF(VLOOKUP($E59,site!$B:$G,5,0)=\"\",\"-\",VLOOKUP($E59,site!$B:$G,5,0))))","v":"-"}]
["20-11-2020","18:00:00","U.A.E. Etisalat National League","Al-Wasl ","AL Ain ","W2","W2","W2","0.5 O (HT)","-","0.5 O (ST)","-","1.5 O (FT)","-","-","AL Ain ","AL Ain ","AL Ain ",{"$f":"IFERROR(IF(C60=\"\",\"\",IF(VLOOKUP(D60,site!$B:$D,3,0)=\"\",\"-\",VLOOKUP(D60,site!$B:$D,3,0))),IF(C60=\"\",\"\",IF(VLOOKUP(E60,site!$C:$D,2,0)=\"\",\"-\",VLOOKUP(E60,site!$C:$D,2,0))))","v":"— — "},{"$f":"IFERROR(IF($C60=\"\",\"\",IF(VLOOKUP($D60,site!$B:$F,4,0)=\"\",\"-\",VLOOKUP($D60,site!$B:$F,4,0))),IF($C60=\"\",\"\",IF(VLOOKUP($E60,site!$B:$F,3,0)=\"\",\"-\",VLOOKUP($E60,site!$B:$F,3,0))))","v":"3.66 "},{"$f":"IFERROR(IF($C60=\"\",\"\",IF(VLOOKUP($D60,site!$B:$F,5,0)=\"\",\"-\",VLOOKUP($D60,site!$B:$F,5,0))),IF($C60=\"\",\"\",IF(VLOOKUP($E60,site!$B:$F,4,0)=\"\",\"-\",VLOOKUP($E60,site!$B:$F,4,0))))","v":"3.74 "},{"$f":"IFERROR(IF($C60=\"\",\"\",IF(VLOOKUP($D60,site!$B:$G,6,0)=\"\",\"-\",VLOOKUP($D60,site!$B:$G,6,0))),IF($C60=\"\",\"\",IF(VLOOKUP($E60,site!$B:$G,5,0)=\"\",\"-\",VLOOKUP($E60,site!$B:$G,5,0))))","v":"1.9 "}]
["20-11-2020","18:00:00","U.A.E. Etisalat National League","Baniyas ","Kalba ","W2","W1","W1","-","-","0.5 O (ST)","-","1.5 O (FT)","-","-","Kalba ","Baniyas ","-",{"$f":"IFERROR(IF(C61=\"\",\"\",IF(VLOOKUP(D61,site!$B:$D,3,0)=\"\",\"-\",VLOOKUP(D61,site!$B:$D,3,0))),IF(C61=\"\",\"\",IF(VLOOKUP(E61,site!$C:$D,2,0)=\"\",\"-\",VLOOKUP(E61,site!$C:$D,2,0))))","v":"— — "},{"$f":"IFERROR(IF($C61=\"\",\"\",IF(VLOOKUP($D61,site!$B:$F,4,0)=\"\",\"-\",VLOOKUP($D61,site!$B:$F,4,0))),IF($C61=\"\",\"\",IF(VLOOKUP($E61,site!$B:$F,3,0)=\"\",\"-\",VLOOKUP($E61,site!$B:$F,3,0))))","v":"1.45 "},{"$f":"IFERROR(IF($C61=\"\",\"\",IF(VLOOKUP($D61,site!$B:$F,5,0)=\"\",\"-\",VLOOKUP($D61,site!$B:$F,5,0))),IF($C61=\"\",\"\",IF(VLOOKUP($E61,site!$B:$F,4,0)=\"\",\"-\",VLOOKUP($E61,site!$B:$F,4,0))))","v":"4.6 "},{"$f":"IFERROR(IF($C61=\"\",\"\",IF(VLOOKUP($D61,site!$B:$G,6,0)=\"\",\"-\",VLOOKUP($D61,site!$B:$G,6,0))),IF($C61=\"\",\"\",IF(VLOOKUP($E61,site!$B:$G,5,0)=\"\",\"-\",VLOOKUP($E61,site!$B:$G,5,0))))","v":"6.2 "}]
["20-11-2020","19:30:00","Romania Liga I","CSMS Iasi ","Arges ","NB","NB","NB","0.5 O (HT)","-","0.5 O (ST)","-","1.5 O (FT)","-","-","NB","NB","NB",{"$f":"IFERROR(IF(C62=\"\",\"\",IF(VLOOKUP(D62,site!$B:$D,3,0)=\"\",\"-\",VLOOKUP(D62,site!$B:$D,3,0))),IF(C62=\"\",\"\",IF(VLOOKUP(E62,site!$C:$D,2,0)=\"\",\"-\",VLOOKUP(E62,site!$C:$D,2,0))))","v":"— — "},{"$f":"IFERROR(IF($C62=\"\",\"\",IF(VLOOKUP($D62,site!$B:$F,4,0)=\"\",\"-\",VLOOKUP($D62,site!$B:$F,4,0))),IF($C62=\"\",\"\",IF(VLOOKUP($E62,site!$B:$F,3,0)=\"\",\"-\",VLOOKUP($E62,site!$B:$F,3,0))))","v":"2.44 "},{"$f":"IFERROR(IF($C62=\"\",\"\",IF(VLOOKUP($D62,site!$B:$F,5,0)=\"\",\"-\",VLOOKUP($D62,site!$B:$F,5,0))),IF($C62=\"\",\"\",IF(VLOOKUP($E62,site!$B:$F,4,0)=\"\",\"-\",VLOOKUP($E62,site!$B:$F,4,0))))","v":"3.24 "},{"$f":"IFERROR(IF($C62=\"\",\"\",IF(VLOOKUP($D62,site!$B:$G,6,0)=\"\",\"-\",VLOOKUP($D62,site!$B:$G,6,0))),IF($C62=\"\",\"\",IF(VLOOKUP($E62,site!$B:$G,5,0)=\"\",\"-\",VLOOKUP($E62,site!$B:$G,5,0))))","v":"2.96 "}]
["20-11-2020","20:00:00","Croatia 1. Division","Lok Zagreb ","Varazdin ","W1","W1","W1","0.5 O (HT)","-","-","-","-","-","-","Lok Zagreb ","Lok Zagreb ","Lok Zagreb ",{"$f":"IFERROR(IF(C63=\"\",\"\",IF(VLOOKUP(D63,site!$B:$D,3,0)=\"\",\"-\",VLOOKUP(D63,site!$B:$D,3,0))),IF(C63=\"\",\"\",IF(VLOOKUP(E63,site!$C:$D,2,0)=\"\",\"-\",VLOOKUP(E63,site!$C:$D,2,0))))","v":"— — "},{"$f":"IFERROR(IF($C63=\"\",\"\",IF(VLOOKUP($D63,site!$B:$F,4,0)=\"\",\"-\",VLOOKUP($D63,site!$B:$F,4,0))),IF($C63=\"\",\"\",IF(VLOOKUP($E63,site!$B:$F,3,0)=\"\",\"-\",VLOOKUP($E63,site!$B:$F,3,0))))","v":"1.784 "},{"$f":"IFERROR(IF($C63=\"\",\"\",IF(VLOOKUP($D63,site!$B:$F,5,0)=\"\",\"-\",VLOOKUP($D63,site!$B:$F,5,0))),IF($C63=\"\",\"\",IF(VLOOKUP($E63,site!$B:$F,4,0)=\"\",\"-\",VLOOKUP($E63,site!$B:$F,4,0))))","v":"3.68 "},{"$f":"IFERROR(IF($C63=\"\",\"\",IF(VLOOKUP($D63,site!$B:$G,6,0)=\"\",\"-\",VLOOKUP($D63,site!$B:$G,6,0))),IF($C63=\"\",\"\",IF(VLOOKUP($E63,site!$B:$G,5,0)=\"\",\"-\",VLOOKUP($E63,site!$B:$G,5,0))))","v":"4.26 "}]
["20-11-2020","20:00:00","Moldova - Divizia Nationala","Dinamo Auto ","Dacia Buiucani ","X","W1","W1","-","-","-","-","-","-","-","Dacia Buiucani ","Dinamo Auto ","Dinamo Auto ",{"$f":"IFERROR(IF(C64=\"\",\"\",IF(VLOOKUP(D64,site!$B:$D,3,0)=\"\",\"-\",VLOOKUP(D64,site!$B:$D,3,0))),IF(C64=\"\",\"\",IF(VLOOKUP(E64,site!$C:$D,2,0)=\"\",\"-\",VLOOKUP(E64,site!$C:$D,2,0))))","v":"— — "},{"$f":"IFERROR(IF($C64=\"\",\"\",IF(VLOOKUP($D64,site!$B:$F,4,0)=\"\",\"-\",VLOOKUP($D64,site!$B:$F,4,0))),IF($C64=\"\",\"\",IF(VLOOKUP($E64,site!$B:$F,3,0)=\"\",\"-\",VLOOKUP($E64,site!$B:$F,3,0))))","v":"-"},{"$f":"IFERROR(IF($C64=\"\",\"\",IF(VLOOKUP($D64,site!$B:$F,5,0)=\"\",\"-\",VLOOKUP($D64,site!$B:$F,5,0))),IF($C64=\"\",\"\",IF(VLOOKUP($E64,site!$B:$F,4,0)=\"\",\"-\",VLOOKUP($E64,site!$B:$F,4,0))))","v":"-"},{"$f":"IFERROR(IF($C64=\"\",\"\",IF(VLOOKUP($D64,site!$B:$G,6,0)=\"\",\"-\",VLOOKUP($D64,site!$B:$G,6,0))),IF($C64=\"\",\"\",IF(VLOOKUP($E64,site!$B:$G,5,0)=\"\",\"-\",VLOOKUP($E64,site!$B:$G,5,0))))","v":"-"}]
["20-11-2020","20:00:00","Moldova - Divizia Nationala","Zimbru ","Sfintul G ","W2","W2","W2","-","-","-","-","1.5 O (FT)","-","-","Sfintul G ","Sfintul G ","Sfintul G ",{"$f":"IFERROR(IF(C65=\"\",\"\",IF(VLOOKUP(D65,site!$B:$D,3,0)=\"\",\"-\",VLOOKUP(D65,site!$B:$D,3,0))),IF(C65=\"\",\"\",IF(VLOOKUP(E65,site!$C:$D,2,0)=\"\",\"-\",VLOOKUP(E65,site!$C:$D,2,0))))","v":"— — "},{"$f":"IFERROR(IF($C65=\"\",\"\",IF(VLOOKUP($D65,site!$B:$F,4,0)=\"\",\"-\",VLOOKUP($D65,site!$B:$F,4,0))),IF($C65=\"\",\"\",IF(VLOOKUP($E65,site!$B:$F,3,0)=\"\",\"-\",VLOOKUP($E65,site!$B:$F,3,0))))","v":"-"},{"$f":"IFERROR(IF($C65=\"\",\"\",IF(VLOOKUP($D65,site!$B:$F,5,0)=\"\",\"-\",VLOOKUP($D65,site!$B:$F,5,0))),IF($C65=\"\",\"\",IF(VLOOKUP($E65,site!$B:$F,4,0)=\"\",\"-\",VLOOKUP($E65,site!$B:$F,4,0))))","v":"-"},{"$f":"IFERROR(IF($C65=\"\",\"\",IF(VLOOKUP($D65,site!$B:$G,6,0)=\"\",\"-\",VLOOKUP($D65,site!$B:$G,6,0))),IF($C65=\"\",\"\",IF(VLOOKUP($E65,site!$B:$G,5,0)=\"\",\"-\",VLOOKUP($E65,site!$B:$G,5,0))))","v":"-"}]
["20-11-2020","20:00:00","Moldova - Divizia Nationala","Floresti ","Petrocub ","W2","W2","W2","0.5 O (HT)","-","-","-","-","-","-","Petrocub ","Petrocub ","Petrocub ",{"$f":"IFERROR(IF(C66=\"\",\"\",IF(VLOOKUP(D66,site!$B:$D,3,0)=\"\",\"-\",VLOOKUP(D66,site!$B:$D,3,0))),IF(C66=\"\",\"\",IF(VLOOKUP(E66,site!$C:$D,2,0)=\"\",\"-\",VLOOKUP(E66,site!$C:$D,2,0))))","v":"— — "},{"$f":"IFERROR(IF($C66=\"\",\"\",IF(VLOOKUP($D66,site!$B:$F,4,0)=\"\",\"-\",VLOOKUP($D66,site!$B:$F,4,0))),IF($C66=\"\",\"\",IF(VLOOKUP($E66,site!$B:$F,3,0)=\"\",\"-\",VLOOKUP($E66,site!$B:$F,3,0))))","v":"-"},{"$f":"IFERROR(IF($C66=\"\",\"\",IF(VLOOKUP($D66,site!$B:$F,5,0)=\"\",\"-\",VLOOKUP($D66,site!$B:$F,5,0))),IF($C66=\"\",\"\",IF(VLOOKUP($E66,site!$B:$F,4,0)=\"\",\"-\",VLOOKUP($E66,site!$B:$F,4,0))))","v":"-"},{"$f":"IFERROR(IF($C66=\"\",\"\",IF(VLOOKUP($D66,site!$B:$G,6,0)=\"\",\"-\",VLOOKUP($D66,site!$B:$G,6,0))),IF($C66=\"\",\"\",IF(VLOOKUP($E66,site!$B:$G,5,0)=\"\",\"-\",VLOOKUP($E66,site!$B:$G,5,0))))","v":"-"}]
["20-11-2020","20:00:00","Moldova - Divizia Nationala","Milsami ","Speranta ","X","W1","W1","-","-","-","-","-","-","-","Milsami ","Milsami ","Milsami ",{"$f":"IFERROR(IF(C67=\"\",\"\",IF(VLOOKUP(D67,site!$B:$D,3,0)=\"\",\"-\",VLOOKUP(D67,site!$B:$D,3,0))),IF(C67=\"\",\"\",IF(VLOOKUP(E67,site!$C:$D,2,0)=\"\",\"-\",VLOOKUP(E67,site!$C:$D,2,0))))","v":"— — "},{"$f":"IFERROR(IF($C67=\"\",\"\",IF(VLOOKUP($D67,site!$B:$F,4,0)=\"\",\"-\",VLOOKUP($D67,site!$B:$F,4,0))),IF($C67=\"\",\"\",IF(VLOOKUP($E67,site!$B:$F,3,0)=\"\",\"-\",VLOOKUP($E67,site!$B:$F,3,0))))","v":"-"},{"$f":"IFERROR(IF($C67=\"\",\"\",IF(VLOOKUP($D67,site!$B:$F,5,0)=\"\",\"-\",VLOOKUP($D67,site!$B:$F,5,0))),IF($C67=\"\",\"\",IF(VLOOKUP($E67,site!$B:$F,4,0)=\"\",\"-\",VLOOKUP($E67,site!$B:$F,4,0))))","v":"-"},{"$f":"IFERROR(IF($C67=\"\",\"\",IF(VLOOKUP($D67,site!$B:$G,6,0)=\"\",\"-\",VLOOKUP($D67,site!$B:$G,6,0))),IF($C67=\"\",\"\",IF(VLOOKUP($E67,site!$B:$G,5,0)=\"\",\"-\",VLOOKUP($E67,site!$B:$G,5,0))))","v":"-"}]
["20-11-2020","20:00:00","Serbia - Superliga","Javor ","Spartak Subotica ","X","W2","X","-","-","0.5 O (ST)","-","-","-","-","Javor ","Spartak Subotica ","Spartak Subotica ",{"$f":"IFERROR(IF(C68=\"\",\"\",IF(VLOOKUP(D68,site!$B:$D,3,0)=\"\",\"-\",VLOOKUP(D68,site!$B:$D,3,0))),IF(C68=\"\",\"\",IF(VLOOKUP(E68,site!$C:$D,2,0)=\"\",\"-\",VLOOKUP(E68,site!$C:$D,2,0))))","v":"— — "},{"$f":"IFERROR(IF($C68=\"\",\"\",IF(VLOOKUP($D68,site!$B:$F,4,0)=\"\",\"-\",VLOOKUP($D68,site!$B:$F,4,0))),IF($C68=\"\",\"\",IF(VLOOKUP($E68,site!$B:$F,3,0)=\"\",\"-\",VLOOKUP($E68,site!$B:$F,3,0))))","v":"2.81 "},{"$f":"IFERROR(IF($C68=\"\",\"\",IF(VLOOKUP($D68,site!$B:$F,5,0)=\"\",\"-\",VLOOKUP($D68,site!$B:$F,5,0))),IF($C68=\"\",\"\",IF(VLOOKUP($E68,site!$B:$F,4,0)=\"\",\"-\",VLOOKUP($E68,site!$B:$F,4,0))))","v":"3.3 "},{"$f":"IFERROR(IF($C68=\"\",\"\",IF(VLOOKUP($D68,site!$B:$G,6,0)=\"\",\"-\",VLOOKUP($D68,site!$B:$G,6,0))),IF($C68=\"\",\"\",IF(VLOOKUP($E68,site!$B:$G,5,0)=\"\",\"-\",VLOOKUP($E68,site!$B:$G,5,0))))","v":"2.35 "}]
["20-11-2020","20:00:00","Serbia - Superliga","Mladost L ","Cukaricki ","W2","W1","W2","-","-","0.5 O (ST)","-","1.5 O (FT)","-","-","Cukaricki ","Mladost L ","Cukaricki ",{"$f":"IFERROR(IF(C69=\"\",\"\",IF(VLOOKUP(D69,site!$B:$D,3,0)=\"\",\"-\",VLOOKUP(D69,site!$B:$D,3,0))),IF(C69=\"\",\"\",IF(VLOOKUP(E69,site!$C:$D,2,0)=\"\",\"-\",VLOOKUP(E69,site!$C:$D,2,0))))","v":"— — "},{"$f":"IFERROR(IF($C69=\"\",\"\",IF(VLOOKUP($D69,site!$B:$F,4,0)=\"\",\"-\",VLOOKUP($D69,site!$B:$F,4,0))),IF($C69=\"\",\"\",IF(VLOOKUP($E69,site!$B:$F,3,0)=\"\",\"-\",VLOOKUP($E69,site!$B:$F,3,0))))","v":"2.625 "},{"$f":"IFERROR(IF($C69=\"\",\"\",IF(VLOOKUP($D69,site!$B:$F,5,0)=\"\",\"-\",VLOOKUP($D69,site!$B:$F,5,0))),IF($C69=\"\",\"\",IF(VLOOKUP($E69,site!$B:$F,4,0)=\"\",\"-\",VLOOKUP($E69,site!$B:$F,4,0))))","v":"3.28 "},{"$f":"IFERROR(IF($C69=\"\",\"\",IF(VLOOKUP($D69,site!$B:$G,6,0)=\"\",\"-\",VLOOKUP($D69,site!$B:$G,6,0))),IF($C69=\"\",\"\",IF(VLOOKUP($E69,site!$B:$G,5,0)=\"\",\"-\",VLOOKUP($E69,site!$B:$G,5,0))))","v":"2.49 "}]
["20-11-2020","20:00:00","Serbia - Superliga","Radnik ","Macva ","X","W1","W1","-","-","-","-","1.5 O (FT)","-","-","Radnik ","Radnik ","Radnik ",{"$f":"IFERROR(IF(C70=\"\",\"\",IF(VLOOKUP(D70,site!$B:$D,3,0)=\"\",\"-\",VLOOKUP(D70,site!$B:$D,3,0))),IF(C70=\"\",\"\",IF(VLOOKUP(E70,site!$C:$D,2,0)=\"\",\"-\",VLOOKUP(E70,site!$C:$D,2,0))))","v":"— — "},{"$f":"IFERROR(IF($C70=\"\",\"\",IF(VLOOKUP($D70,site!$B:$F,4,0)=\"\",\"-\",VLOOKUP($D70,site!$B:$F,4,0))),IF($C70=\"\",\"\",IF(VLOOKUP($E70,site!$B:$F,3,0)=\"\",\"-\",VLOOKUP($E70,site!$B:$F,3,0))))","v":"1.55 "},{"$f":"IFERROR(IF($C70=\"\",\"\",IF(VLOOKUP($D70,site!$B:$F,5,0)=\"\",\"-\",VLOOKUP($D70,site!$B:$F,5,0))),IF($C70=\"\",\"\",IF(VLOOKUP($E70,site!$B:$F,4,0)=\"\",\"-\",VLOOKUP($E70,site!$B:$F,4,0))))","v":4},{"$f":"IFERROR(IF($C70=\"\",\"\",IF(VLOOKUP($D70,site!$B:$G,6,0)=\"\",\"-\",VLOOKUP($D70,site!$B:$G,6,0))),IF($C70=\"\",\"\",IF(VLOOKUP($E70,site!$B:$G,5,0)=\"\",\"-\",VLOOKUP($E70,site!$B:$G,5,0))))","v":"5.25 "}]
["20-11-2020","20:40:00","Poland I Liga","Nieciecza ","Widzew Lodz ","NB","NB","NB","-","-","-","-","1.5 O (FT)","-","-","NB","NB","NB",{"$f":"IFERROR(IF(C71=\"\",\"\",IF(VLOOKUP(D71,site!$B:$D,3,0)=\"\",\"-\",VLOOKUP(D71,site!$B:$D,3,0))),IF(C71=\"\",\"\",IF(VLOOKUP(E71,site!$C:$D,2,0)=\"\",\"-\",VLOOKUP(E71,site!$C:$D,2,0))))","v":"— — "},{"$f":"IFERROR(IF($C71=\"\",\"\",IF(VLOOKUP($D71,site!$B:$F,4,0)=\"\",\"-\",VLOOKUP($D71,site!$B:$F,4,0))),IF($C71=\"\",\"\",IF(VLOOKUP($E71,site!$B:$F,3,0)=\"\",\"-\",VLOOKUP($E71,site!$B:$F,3,0))))","v":"2.025 "},{"$f":"IFERROR(IF($C71=\"\",\"\",IF(VLOOKUP($D71,site!$B:$F,5,0)=\"\",\"-\",VLOOKUP($D71,site!$B:$F,5,0))),IF($C71=\"\",\"\",IF(VLOOKUP($E71,site!$B:$F,4,0)=\"\",\"-\",VLOOKUP($E71,site!$B:$F,4,0))))","v":"3.38 "},{"$f":"IFERROR(IF($C71=\"\",\"\",IF(VLOOKUP($D71,site!$B:$G,6,0)=\"\",\"-\",VLOOKUP($D71,site!$B:$G,6,0))),IF($C71=\"\",\"\",IF(VLOOKUP($E71,site!$B:$G,5,0)=\"\",\"-\",VLOOKUP($E71,site!$B:$G,5,0))))","v":"3.72 "}]
["20-11-2020","21:00:00","Ukraine - Premier League","Rukh Lviv ","FC Mariupol ","NB","NB","NB","-","-","-","-","-","-","-","NB","NB","NB",{"$f":"IFERROR(IF(C72=\"\",\"\",IF(VLOOKUP(D72,site!$B:$D,3,0)=\"\",\"-\",VLOOKUP(D72,site!$B:$D,3,0))),IF(C72=\"\",\"\",IF(VLOOKUP(E72,site!$C:$D,2,0)=\"\",\"-\",VLOOKUP(E72,site!$C:$D,2,0))))","v":"— — "},{"$f":"IFERROR(IF($C72=\"\",\"\",IF(VLOOKUP($D72,site!$B:$F,4,0)=\"\",\"-\",VLOOKUP($D72,site!$B:$F,4,0))),IF($C72=\"\",\"\",IF(VLOOKUP($E72,site!$B:$F,3,0)=\"\",\"-\",VLOOKUP($E72,site!$B:$F,3,0))))","v":"2.82 "},{"$f":"IFERROR(IF($C72=\"\",\"\",IF(VLOOKUP($D72,site!$B:$F,5,0)=\"\",\"-\",VLOOKUP($D72,site!$B:$F,5,0))),IF($C72=\"\",\"\",IF(VLOOKUP($E72,site!$B:$F,4,0)=\"\",\"-\",VLOOKUP($E72,site!$B:$F,4,0))))","v":"3.32 "},{"$f":"IFERROR(IF($C72=\"\",\"\",IF(VLOOKUP($D72,site!$B:$G,6,0)=\"\",\"-\",VLOOKUP($D72,site!$B:$G,6,0))),IF($C72=\"\",\"\",IF(VLOOKUP($E72,site!$B:$G,5,0)=\"\",\"-\",VLOOKUP($E72,site!$B:$G,5,0))))","v":"2.48 "}]
["20-11-2020","21:00:00","Poland Ekstraklasa","KS Lechia ","Slask Wroclaw ","W1","W1","W1","-","-","0.5 O (ST)","-","-","-","-","KS Lechia ","KS Lechia ","KS Lechia ",{"$f":"IFERROR(IF(C73=\"\",\"\",IF(VLOOKUP(D73,site!$B:$D,3,0)=\"\",\"-\",VLOOKUP(D73,site!$B:$D,3,0))),IF(C73=\"\",\"\",IF(VLOOKUP(E73,site!$C:$D,2,0)=\"\",\"-\",VLOOKUP(E73,site!$C:$D,2,0))))","v":"— — "},{"$f":"IFERROR(IF($C73=\"\",\"\",IF(VLOOKUP($D73,site!$B:$F,4,0)=\"\",\"-\",VLOOKUP($D73,site!$B:$F,4,0))),IF($C73=\"\",\"\",IF(VLOOKUP($E73,site!$B:$F,3,0)=\"\",\"-\",VLOOKUP($E73,site!$B:$F,3,0))))","v":"2.392 "},{"$f":"IFERROR(IF($C73=\"\",\"\",IF(VLOOKUP($D73,site!$B:$F,5,0)=\"\",\"-\",VLOOKUP($D73,site!$B:$F,5,0))),IF($C73=\"\",\"\",IF(VLOOKUP($E73,site!$B:$F,4,0)=\"\",\"-\",VLOOKUP($E73,site!$B:$F,4,0))))","v":"3.58 "},{"$f":"IFERROR(IF($C73=\"\",\"\",IF(VLOOKUP($D73,site!$B:$G,6,0)=\"\",\"-\",VLOOKUP($D73,site!$B:$G,6,0))),IF($C73=\"\",\"\",IF(VLOOKUP($E73,site!$B:$G,5,0)=\"\",\"-\",VLOOKUP($E73,site!$B:$G,5,0))))","v":"2.86 "}]
["20-11-2020","21:00:00","France National","Lyon-Duchere ","Cholet ","X","X","W2","-","-","-","-","1.5 O (FT)","-","-","Cholet ","Lyon-Duchere ","Lyon-Duchere ",{"$f":"IFERROR(IF(C74=\"\",\"\",IF(VLOOKUP(D74,site!$B:$D,3,0)=\"\",\"-\",VLOOKUP(D74,site!$B:$D,3,0))),IF(C74=\"\",\"\",IF(VLOOKUP(E74,site!$C:$D,2,0)=\"\",\"-\",VLOOKUP(E74,site!$C:$D,2,0))))","v":"— — "},{"$f":"IFERROR(IF($C74=\"\",\"\",IF(VLOOKUP($D74,site!$B:$F,4,0)=\"\",\"-\",VLOOKUP($D74,site!$B:$F,4,0))),IF($C74=\"\",\"\",IF(VLOOKUP($E74,site!$B:$F,3,0)=\"\",\"-\",VLOOKUP($E74,site!$B:$F,3,0))))","v":"2.72 "},{"$f":"IFERROR(IF($C74=\"\",\"\",IF(VLOOKUP($D74,site!$B:$F,5,0)=\"\",\"-\",VLOOKUP($D74,site!$B:$F,5,0))),IF($C74=\"\",\"\",IF(VLOOKUP($E74,site!$B:$F,4,0)=\"\",\"-\",VLOOKUP($E74,site!$B:$F,4,0))))","v":"3.18 "},{"$f":"IFERROR(IF($C74=\"\",\"\",IF(VLOOKUP($D74,site!$B:$G,6,0)=\"\",\"-\",VLOOKUP($D74,site!$B:$G,6,0))),IF($C74=\"\",\"\",IF(VLOOKUP($E74,site!$B:$G,5,0)=\"\",\"-\",VLOOKUP($E74,site!$B:$G,5,0))))","v":"2.54 "}]
["20-11-2020","21:00:00","France National","Laval ","Boulogne ","X","X","X","-","-","-","-","-","-","-","Boulogne ","Laval ","Boulogne ",{"$f":"IFERROR(IF(C75=\"\",\"\",IF(VLOOKUP(D75,site!$B:$D,3,0)=\"\",\"-\",VLOOKUP(D75,site!$B:$D,3,0))),IF(C75=\"\",\"\",IF(VLOOKUP(E75,site!$C:$D,2,0)=\"\",\"-\",VLOOKUP(E75,site!$C:$D,2,0))))","v":"— — "},{"$f":"IFERROR(IF($C75=\"\",\"\",IF(VLOOKUP($D75,site!$B:$F,4,0)=\"\",\"-\",VLOOKUP($D75,site!$B:$F,4,0))),IF($C75=\"\",\"\",IF(VLOOKUP($E75,site!$B:$F,3,0)=\"\",\"-\",VLOOKUP($E75,site!$B:$F,3,0))))","v":"2.22 "},{"$f":"IFERROR(IF($C75=\"\",\"\",IF(VLOOKUP($D75,site!$B:$F,5,0)=\"\",\"-\",VLOOKUP($D75,site!$B:$F,5,0))),IF($C75=\"\",\"\",IF(VLOOKUP($E75,site!$B:$F,4,0)=\"\",\"-\",VLOOKUP($E75,site!$B:$F,4,0))))","v":3},{"$f":"IFERROR(IF($C75=\"\",\"\",IF(VLOOKUP($D75,site!$B:$G,6,0)=\"\",\"-\",VLOOKUP($D75,site!$B:$G,6,0))),IF($C75=\"\",\"\",IF(VLOOKUP($E75,site!$B:$G,5,0)=\"\",\"-\",VLOOKUP($E75,site!$B:$G,5,0))))","v":"3.08 "}]
["20-11-2020","21:00:00","France National","Sete ","Red Star ","NB","NB","NB","-","-","0.5 O (ST)","-","-","-","-","NB","NB","NB",{"$f":"IFERROR(IF(C76=\"\",\"\",IF(VLOOKUP(D76,site!$B:$D,3,0)=\"\",\"-\",VLOOKUP(D76,site!$B:$D,3,0))),IF(C76=\"\",\"\",IF(VLOOKUP(E76,site!$C:$D,2,0)=\"\",\"-\",VLOOKUP(E76,site!$C:$D,2,0))))","v":"— — "},{"$f":"IFERROR(IF($C76=\"\",\"\",IF(VLOOKUP($D76,site!$B:$F,4,0)=\"\",\"-\",VLOOKUP($D76,site!$B:$F,4,0))),IF($C76=\"\",\"\",IF(VLOOKUP($E76,site!$B:$F,3,0)=\"\",\"-\",VLOOKUP($E76,site!$B:$F,3,0))))","v":"2.68 "},{"$f":"IFERROR(IF($C76=\"\",\"\",IF(VLOOKUP($D76,site!$B:$F,5,0)=\"\",\"-\",VLOOKUP($D76,site!$B:$F,5,0))),IF($C76=\"\",\"\",IF(VLOOKUP($E76,site!$B:$F,4,0)=\"\",\"-\",VLOOKUP($E76,site!$B:$F,4,0))))","v":"3.2 "},{"$f":"IFERROR(IF($C76=\"\",\"\",IF(VLOOKUP($D76,site!$B:$G,6,0)=\"\",\"-\",VLOOKUP($D76,site!$B:$G,6,0))),IF($C76=\"\",\"\",IF(VLOOKUP($E76,site!$B:$G,5,0)=\"\",\"-\",VLOOKUP($E76,site!$B:$G,5,0))))","v":"2.56 "}]
["20-11-2020","21:00:00","France National","Annecy ","Villefranche ","NB","NB","NB","-","-","-","-","-","-","-","NB","NB","NB",{"$f":"IFERROR(IF(C77=\"\",\"\",IF(VLOOKUP(D77,site!$B:$D,3,0)=\"\",\"-\",VLOOKUP(D77,site!$B:$D,3,0))),IF(C77=\"\",\"\",IF(VLOOKUP(E77,site!$C:$D,2,0)=\"\",\"-\",VLOOKUP(E77,site!$C:$D,2,0))))","v":"— — "},{"$f":"IFERROR(IF($C77=\"\",\"\",IF(VLOOKUP($D77,site!$B:$F,4,0)=\"\",\"-\",VLOOKUP($D77,site!$B:$F,4,0))),IF($C77=\"\",\"\",IF(VLOOKUP($E77,site!$B:$F,3,0)=\"\",\"-\",VLOOKUP($E77,site!$B:$F,3,0))))","v":"2.42 "},{"$f":"IFERROR(IF($C77=\"\",\"\",IF(VLOOKUP($D77,site!$B:$F,5,0)=\"\",\"-\",VLOOKUP($D77,site!$B:$F,5,0))),IF($C77=\"\",\"\",IF(VLOOKUP($E77,site!$B:$F,4,0)=\"\",\"-\",VLOOKUP($E77,site!$B:$F,4,0))))","v":"3.15 "},{"$f":"IFERROR(IF($C77=\"\",\"\",IF(VLOOKUP($D77,site!$B:$G,6,0)=\"\",\"-\",VLOOKUP($D77,site!$B:$G,6,0))),IF($C77=\"\",\"\",IF(VLOOKUP($E77,site!$B:$G,5,0)=\"\",\"-\",VLOOKUP($E77,site!$B:$G,5,0))))","v":"2.92 "}]
["20-11-2020","21:00:00","France National","Quevilly Rouen ","Bourg Peronnas ","W1","W1","W1","-","-","-","-","-","-","-","Bourg Peronnas ","Quevilly Rouen ","Quevilly Rouen ",{"$f":"IFERROR(IF(C78=\"\",\"\",IF(VLOOKUP(D78,site!$B:$D,3,0)=\"\",\"-\",VLOOKUP(D78,site!$B:$D,3,0))),IF(C78=\"\",\"\",IF(VLOOKUP(E78,site!$C:$D,2,0)=\"\",\"-\",VLOOKUP(E78,site!$C:$D,2,0))))","v":"— — "},{"$f":"IFERROR(IF($C78=\"\",\"\",IF(VLOOKUP($D78,site!$B:$F,4,0)=\"\",\"-\",VLOOKUP($D78,site!$B:$F,4,0))),IF($C78=\"\",\"\",IF(VLOOKUP($E78,site!$B:$F,3,0)=\"\",\"-\",VLOOKUP($E78,site!$B:$F,3,0))))","v":"2.41 "},{"$f":"IFERROR(IF($C78=\"\",\"\",IF(VLOOKUP($D78,site!$B:$F,5,0)=\"\",\"-\",VLOOKUP($D78,site!$B:$F,5,0))),IF($C78=\"\",\"\",IF(VLOOKUP($E78,site!$B:$F,4,0)=\"\",\"-\",VLOOKUP($E78,site!$B:$F,4,0))))","v":"3.15 "},{"$f":"IFERROR(IF($C78=\"\",\"\",IF(VLOOKUP($D78,site!$B:$G,6,0)=\"\",\"-\",VLOOKUP($D78,site!$B:$G,6,0))),IF($C78=\"\",\"\",IF(VLOOKUP($E78,site!$B:$G,5,0)=\"\",\"-\",VLOOKUP($E78,site!$B:$G,5,0))))","v":"2.93 "}]
["20-11-2020","21:00:00","Austria - ADEG Erste Liga","BW Linz ","Horn ","W1","W2","W1","-","-","-","-","1.5 O (FT)","-","-","BW Linz ","Horn ","BW Linz ",{"$f":"IFERROR(IF(C79=\"\",\"\",IF(VLOOKUP(D79,site!$B:$D,3,0)=\"\",\"-\",VLOOKUP(D79,site!$B:$D,3,0))),IF(C79=\"\",\"\",IF(VLOOKUP(E79,site!$C:$D,2,0)=\"\",\"-\",VLOOKUP(E79,site!$C:$D,2,0))))","v":"— — "},{"$f":"IFERROR(IF($C79=\"\",\"\",IF(VLOOKUP($D79,site!$B:$F,4,0)=\"\",\"-\",VLOOKUP($D79,site!$B:$F,4,0))),IF($C79=\"\",\"\",IF(VLOOKUP($E79,site!$B:$F,3,0)=\"\",\"-\",VLOOKUP($E79,site!$B:$F,3,0))))","v":"1.72 "},{"$f":"IFERROR(IF($C79=\"\",\"\",IF(VLOOKUP($D79,site!$B:$F,5,0)=\"\",\"-\",VLOOKUP($D79,site!$B:$F,5,0))),IF($C79=\"\",\"\",IF(VLOOKUP($E79,site!$B:$F,4,0)=\"\",\"-\",VLOOKUP($E79,site!$B:$F,4,0))))","v":"4.14 "},{"$f":"IFERROR(IF($C79=\"\",\"\",IF(VLOOKUP($D79,site!$B:$G,6,0)=\"\",\"-\",VLOOKUP($D79,site!$B:$G,6,0))),IF($C79=\"\",\"\",IF(VLOOKUP($E79,site!$B:$G,5,0)=\"\",\"-\",VLOOKUP($E79,site!$B:$G,5,0))))","v":"4.28 "}]
["20-11-2020","21:00:00","Denmark 1. Division","Viborg ","Hobro ","W2","X","W1","0.5 O (HT)","-","0.5 O (ST)","-","1.5 O (FT)","-","-","Hobro ","Viborg ","Viborg ",{"$f":"IFERROR(IF(C80=\"\",\"\",IF(VLOOKUP(D80,site!$B:$D,3,0)=\"\",\"-\",VLOOKUP(D80,site!$B:$D,3,0))),IF(C80=\"\",\"\",IF(VLOOKUP(E80,site!$C:$D,2,0)=\"\",\"-\",VLOOKUP(E80,site!$C:$D,2,0))))","v":"— — "},{"$f":"IFERROR(IF($C80=\"\",\"\",IF(VLOOKUP($D80,site!$B:$F,4,0)=\"\",\"-\",VLOOKUP($D80,site!$B:$F,4,0))),IF($C80=\"\",\"\",IF(VLOOKUP($E80,site!$B:$F,3,0)=\"\",\"-\",VLOOKUP($E80,site!$B:$F,3,0))))","v":"1.66 "},{"$f":"IFERROR(IF($C80=\"\",\"\",IF(VLOOKUP($D80,site!$B:$F,5,0)=\"\",\"-\",VLOOKUP($D80,site!$B:$F,5,0))),IF($C80=\"\",\"\",IF(VLOOKUP($E80,site!$B:$F,4,0)=\"\",\"-\",VLOOKUP($E80,site!$B:$F,4,0))))","v":"4.24 "},{"$f":"IFERROR(IF($C80=\"\",\"\",IF(VLOOKUP($D80,site!$B:$G,6,0)=\"\",\"-\",VLOOKUP($D80,site!$B:$G,6,0))),IF($C80=\"\",\"\",IF(VLOOKUP($E80,site!$B:$G,5,0)=\"\",\"-\",VLOOKUP($E80,site!$B:$G,5,0))))","v":"4.6 "}]
["20-11-2020","21:00:00","Germany Regionalliga North","Weiche ","St. Pauli II ","X","W1","W1","-","-","0.5 O (ST)","-","1.5 O (FT)","-","-","Weiche ","Weiche ","Weiche ",{"$f":"IFERROR(IF(C81=\"\",\"\",IF(VLOOKUP(D81,site!$B:$D,3,0)=\"\",\"-\",VLOOKUP(D81,site!$B:$D,3,0))),IF(C81=\"\",\"\",IF(VLOOKUP(E81,site!$C:$D,2,0)=\"\",\"-\",VLOOKUP(E81,site!$C:$D,2,0))))","v":"— — "},{"$f":"IFERROR(IF($C81=\"\",\"\",IF(VLOOKUP($D81,site!$B:$F,4,0)=\"\",\"-\",VLOOKUP($D81,site!$B:$F,4,0))),IF($C81=\"\",\"\",IF(VLOOKUP($E81,site!$B:$F,3,0)=\"\",\"-\",VLOOKUP($E81,site!$B:$F,3,0))))","v":"-"},{"$f":"IFERROR(IF($C81=\"\",\"\",IF(VLOOKUP($D81,site!$B:$F,5,0)=\"\",\"-\",VLOOKUP($D81,site!$B:$F,5,0))),IF($C81=\"\",\"\",IF(VLOOKUP($E81,site!$B:$F,4,0)=\"\",\"-\",VLOOKUP($E81,site!$B:$F,4,0))))","v":"-"},{"$f":"IFERROR(IF($C81=\"\",\"\",IF(VLOOKUP($D81,site!$B:$G,6,0)=\"\",\"-\",VLOOKUP($D81,site!$B:$G,6,0))),IF($C81=\"\",\"\",IF(VLOOKUP($E81,site!$B:$G,5,0)=\"\",\"-\",VLOOKUP($E81,site!$B:$G,5,0))))","v":"-"}]
["20-11-2020","21:00:00","U.A.E. Etisalat National League","Sharjah ","Al-Nasr Dubai ","X","X","W1","-","-","0.5 O (ST)","-","1.5 O (FT)","2.5 O (FT)","-","Al-Nasr Dubai ","Al-Nasr Dubai ","Al-Nasr Dubai ",{"$f":"IFERROR(IF(C82=\"\",\"\",IF(VLOOKUP(D82,site!$B:$D,3,0)=\"\",\"-\",VLOOKUP(D82,site!$B:$D,3,0))),IF(C82=\"\",\"\",IF(VLOOKUP(E82,site!$C:$D,2,0)=\"\",\"-\",VLOOKUP(E82,site!$C:$D,2,0))))","v":"— — "},{"$f":"IFERROR(IF($C82=\"\",\"\",IF(VLOOKUP($D82,site!$B:$F,4,0)=\"\",\"-\",VLOOKUP($D82,site!$B:$F,4,0))),IF($C82=\"\",\"\",IF(VLOOKUP($E82,site!$B:$F,3,0)=\"\",\"-\",VLOOKUP($E82,site!$B:$F,3,0))))","v":"2.02 "},{"$f":"IFERROR(IF($C82=\"\",\"\",IF(VLOOKUP($D82,site!$B:$F,5,0)=\"\",\"-\",VLOOKUP($D82,site!$B:$F,5,0))),IF($C82=\"\",\"\",IF(VLOOKUP($E82,site!$B:$F,4,0)=\"\",\"-\",VLOOKUP($E82,site!$B:$F,4,0))))","v":"3.6 "},{"$f":"IFERROR(IF($C82=\"\",\"\",IF(VLOOKUP($D82,site!$B:$G,6,0)=\"\",\"-\",VLOOKUP($D82,site!$B:$G,6,0))),IF($C82=\"\",\"\",IF(VLOOKUP($E82,site!$B:$G,5,0)=\"\",\"-\",VLOOKUP($E82,site!$B:$G,5,0))))","v":"2.975 "}]
["20-11-2020","21:00:00","U.A.E. Etisalat National League","Fujairah ","Hatta ","W2","X","W2","0.5 O (HT)","-","0.5 O (ST)","-","1.5 O (FT)","-","-","Hatta ","-","Hatta ",{"$f":"IFERROR(IF(C83=\"\",\"\",IF(VLOOKUP(D83,site!$B:$D,3,0)=\"\",\"-\",VLOOKUP(D83,site!$B:$D,3,0))),IF(C83=\"\",\"\",IF(VLOOKUP(E83,site!$C:$D,2,0)=\"\",\"-\",VLOOKUP(E83,site!$C:$D,2,0))))","v":"— — "},{"$f":"IFERROR(IF($C83=\"\",\"\",IF(VLOOKUP($D83,site!$B:$F,4,0)=\"\",\"-\",VLOOKUP($D83,site!$B:$F,4,0))),IF($C83=\"\",\"\",IF(VLOOKUP($E83,site!$B:$F,3,0)=\"\",\"-\",VLOOKUP($E83,site!$B:$F,3,0))))","v":"2.22 "},{"$f":"IFERROR(IF($C83=\"\",\"\",IF(VLOOKUP($D83,site!$B:$F,5,0)=\"\",\"-\",VLOOKUP($D83,site!$B:$F,5,0))),IF($C83=\"\",\"\",IF(VLOOKUP($E83,site!$B:$F,4,0)=\"\",\"-\",VLOOKUP($E83,site!$B:$F,4,0))))","v":"3.54 "},{"$f":"IFERROR(IF($C83=\"\",\"\",IF(VLOOKUP($D83,site!$B:$G,6,0)=\"\",\"-\",VLOOKUP($D83,site!$B:$G,6,0))),IF($C83=\"\",\"\",IF(VLOOKUP($E83,site!$B:$G,5,0)=\"\",\"-\",VLOOKUP($E83,site!$B:$G,5,0))))","v":"2.984 "}]
["20-11-2020","21:30:00","Austria - ADEG Erste Liga","Amstetten ","Austria Wien II ","X","X","W1","-","-","-","-","1.5 O (FT)","-","-","Austria Wien II ","Austria Wien II ","Amstetten ",{"$f":"IFERROR(IF(C84=\"\",\"\",IF(VLOOKUP(D84,site!$B:$D,3,0)=\"\",\"-\",VLOOKUP(D84,site!$B:$D,3,0))),IF(C84=\"\",\"\",IF(VLOOKUP(E84,site!$C:$D,2,0)=\"\",\"-\",VLOOKUP(E84,site!$C:$D,2,0))))","v":"— — "},{"$f":"IFERROR(IF($C84=\"\",\"\",IF(VLOOKUP($D84,site!$B:$F,4,0)=\"\",\"-\",VLOOKUP($D84,site!$B:$F,4,0))),IF($C84=\"\",\"\",IF(VLOOKUP($E84,site!$B:$F,3,0)=\"\",\"-\",VLOOKUP($E84,site!$B:$F,3,0))))","v":"1.93 "},{"$f":"IFERROR(IF($C84=\"\",\"\",IF(VLOOKUP($D84,site!$B:$F,5,0)=\"\",\"-\",VLOOKUP($D84,site!$B:$F,5,0))),IF($C84=\"\",\"\",IF(VLOOKUP($E84,site!$B:$F,4,0)=\"\",\"-\",VLOOKUP($E84,site!$B:$F,4,0))))","v":"3.96 "},{"$f":"IFERROR(IF($C84=\"\",\"\",IF(VLOOKUP($D84,site!$B:$G,6,0)=\"\",\"-\",VLOOKUP($D84,site!$B:$G,6,0))),IF($C84=\"\",\"\",IF(VLOOKUP($E84,site!$B:$G,5,0)=\"\",\"-\",VLOOKUP($E84,site!$B:$G,5,0))))","v":"3.5 "}]
["20-11-2020","21:30:00","Austria - ADEG Erste Liga","Austria Lustenau ","Floridsdorf ","X","X","W2","-","-","0.5 O (ST)","-","1.5 O (FT)","-","-","Floridsdorf ","Austria Lustenau ","Floridsdorf ",{"$f":"IFERROR(IF(C85=\"\",\"\",IF(VLOOKUP(D85,site!$B:$D,3,0)=\"\",\"-\",VLOOKUP(D85,site!$B:$D,3,0))),IF(C85=\"\",\"\",IF(VLOOKUP(E85,site!$C:$D,2,0)=\"\",\"-\",VLOOKUP(E85,site!$C:$D,2,0))))","v":"— — "},{"$f":"IFERROR(IF($C85=\"\",\"\",IF(VLOOKUP($D85,site!$B:$F,4,0)=\"\",\"-\",VLOOKUP($D85,site!$B:$F,4,0))),IF($C85=\"\",\"\",IF(VLOOKUP($E85,site!$B:$F,3,0)=\"\",\"-\",VLOOKUP($E85,site!$B:$F,3,0))))","v":"2.15 "},{"$f":"IFERROR(IF($C85=\"\",\"\",IF(VLOOKUP($D85,site!$B:$F,5,0)=\"\",\"-\",VLOOKUP($D85,site!$B:$F,5,0))),IF($C85=\"\",\"\",IF(VLOOKUP($E85,site!$B:$F,4,0)=\"\",\"-\",VLOOKUP($E85,site!$B:$F,4,0))))","v":"3.72 "},{"$f":"IFERROR(IF($C85=\"\",\"\",IF(VLOOKUP($D85,site!$B:$G,6,0)=\"\",\"-\",VLOOKUP($D85,site!$B:$G,6,0))),IF($C85=\"\",\"\",IF(VLOOKUP($E85,site!$B:$G,5,0)=\"\",\"-\",VLOOKUP($E85,site!$B:$G,5,0))))","v":"3.11 "}]
["20-11-2020","21:30:00","Austria - ADEG Erste Liga","Liefering ","Kapfenberg ","X","X","W1","-","-","-","-","1.5 O (FT)","-","-","Liefering ","Liefering ","Liefering ",{"$f":"IFERROR(IF(C86=\"\",\"\",IF(VLOOKUP(D86,site!$B:$D,3,0)=\"\",\"-\",VLOOKUP(D86,site!$B:$D,3,0))),IF(C86=\"\",\"\",IF(VLOOKUP(E86,site!$C:$D,2,0)=\"\",\"-\",VLOOKUP(E86,site!$C:$D,2,0))))","v":"— — "},{"$f":"IFERROR(IF($C86=\"\",\"\",IF(VLOOKUP($D86,site!$B:$F,4,0)=\"\",\"-\",VLOOKUP($D86,site!$B:$F,4,0))),IF($C86=\"\",\"\",IF(VLOOKUP($E86,site!$B:$F,3,0)=\"\",\"-\",VLOOKUP($E86,site!$B:$F,3,0))))","v":"1.31 "},{"$f":"IFERROR(IF($C86=\"\",\"\",IF(VLOOKUP($D86,site!$B:$F,5,0)=\"\",\"-\",VLOOKUP($D86,site!$B:$F,5,0))),IF($C86=\"\",\"\",IF(VLOOKUP($E86,site!$B:$F,4,0)=\"\",\"-\",VLOOKUP($E86,site!$B:$F,4,0))))","v":"5.8 "},{"$f":"IFERROR(IF($C86=\"\",\"\",IF(VLOOKUP($D86,site!$B:$G,6,0)=\"\",\"-\",VLOOKUP($D86,site!$B:$G,6,0))),IF($C86=\"\",\"\",IF(VLOOKUP($E86,site!$B:$G,5,0)=\"\",\"-\",VLOOKUP($E86,site!$B:$G,5,0))))","v":"8.3 "}]
["20-11-2020","21:30:00","Austria - ADEG Erste Liga","Lafnitz ","Vorwarts Steyr ","X","X","X","-","-","0.5 O (ST)","-","1.5 O (FT)","-","-","Lafnitz ","Vorwarts Steyr ","Lafnitz ",{"$f":"IFERROR(IF(C87=\"\",\"\",IF(VLOOKUP(D87,site!$B:$D,3,0)=\"\",\"-\",VLOOKUP(D87,site!$B:$D,3,0))),IF(C87=\"\",\"\",IF(VLOOKUP(E87,site!$C:$D,2,0)=\"\",\"-\",VLOOKUP(E87,site!$C:$D,2,0))))","v":"— — "},{"$f":"IFERROR(IF($C87=\"\",\"\",IF(VLOOKUP($D87,site!$B:$F,4,0)=\"\",\"-\",VLOOKUP($D87,site!$B:$F,4,0))),IF($C87=\"\",\"\",IF(VLOOKUP($E87,site!$B:$F,3,0)=\"\",\"-\",VLOOKUP($E87,site!$B:$F,3,0))))","v":"1.685 "},{"$f":"IFERROR(IF($C87=\"\",\"\",IF(VLOOKUP($D87,site!$B:$F,5,0)=\"\",\"-\",VLOOKUP($D87,site!$B:$F,5,0))),IF($C87=\"\",\"\",IF(VLOOKUP($E87,site!$B:$F,4,0)=\"\",\"-\",VLOOKUP($E87,site!$B:$F,4,0))))","v":"4.1 "},{"$f":"IFERROR(IF($C87=\"\",\"\",IF(VLOOKUP($D87,site!$B:$G,6,0)=\"\",\"-\",VLOOKUP($D87,site!$B:$G,6,0))),IF($C87=\"\",\"\",IF(VLOOKUP($E87,site!$B:$G,5,0)=\"\",\"-\",VLOOKUP($E87,site!$B:$G,5,0))))","v":"4.56 "}]
["20-11-2020","21:45:00","Czech Republic Gambrinus League","Slovan Liberec ","Jablonec ","X","W1","W1","-","-","0.5 O (ST)","-","1.5 O (FT)","-","-","Slovan Liberec ","Slovan Liberec ","Slovan Liberec ",{"$f":"IFERROR(IF(C88=\"\",\"\",IF(VLOOKUP(D88,site!$B:$D,3,0)=\"\",\"-\",VLOOKUP(D88,site!$B:$D,3,0))),IF(C88=\"\",\"\",IF(VLOOKUP(E88,site!$C:$D,2,0)=\"\",\"-\",VLOOKUP(E88,site!$C:$D,2,0))))","v":"— — "},{"$f":"IFERROR(IF($C88=\"\",\"\",IF(VLOOKUP($D88,site!$B:$F,4,0)=\"\",\"-\",VLOOKUP($D88,site!$B:$F,4,0))),IF($C88=\"\",\"\",IF(VLOOKUP($E88,site!$B:$F,3,0)=\"\",\"-\",VLOOKUP($E88,site!$B:$F,3,0))))","v":"2.16 "},{"$f":"IFERROR(IF($C88=\"\",\"\",IF(VLOOKUP($D88,site!$B:$F,5,0)=\"\",\"-\",VLOOKUP($D88,site!$B:$F,5,0))),IF($C88=\"\",\"\",IF(VLOOKUP($E88,site!$B:$F,4,0)=\"\",\"-\",VLOOKUP($E88,site!$B:$F,4,0))))","v":"3.44 "},{"$f":"IFERROR(IF($C88=\"\",\"\",IF(VLOOKUP($D88,site!$B:$G,6,0)=\"\",\"-\",VLOOKUP($D88,site!$B:$G,6,0))),IF($C88=\"\",\"\",IF(VLOOKUP($E88,site!$B:$G,5,0)=\"\",\"-\",VLOOKUP($E88,site!$B:$G,5,0))))","v":"3.3 "}]
["20-11-2020","21:45:00","Netherlands Eerste Divisie","Volendam ","Oss ","X","W1","W1","-","-","0.5 O (ST)","-","1.5 O (FT)","-","-","Volendam ","Volendam ","Volendam ",{"$f":"IFERROR(IF(C89=\"\",\"\",IF(VLOOKUP(D89,site!$B:$D,3,0)=\"\",\"-\",VLOOKUP(D89,site!$B:$D,3,0))),IF(C89=\"\",\"\",IF(VLOOKUP(E89,site!$C:$D,2,0)=\"\",\"-\",VLOOKUP(E89,site!$C:$D,2,0))))","v":"— — "},{"$f":"IFERROR(IF($C89=\"\",\"\",IF(VLOOKUP($D89,site!$B:$F,4,0)=\"\",\"-\",VLOOKUP($D89,site!$B:$F,4,0))),IF($C89=\"\",\"\",IF(VLOOKUP($E89,site!$B:$F,3,0)=\"\",\"-\",VLOOKUP($E89,site!$B:$F,3,0))))","v":"1.26 "},{"$f":"IFERROR(IF($C89=\"\",\"\",IF(VLOOKUP($D89,site!$B:$F,5,0)=\"\",\"-\",VLOOKUP($D89,site!$B:$F,5,0))),IF($C89=\"\",\"\",IF(VLOOKUP($E89,site!$B:$F,4,0)=\"\",\"-\",VLOOKUP($E89,site!$B:$F,4,0))))","v":"6.1 "},{"$f":"IFERROR(IF($C89=\"\",\"\",IF(VLOOKUP($D89,site!$B:$G,6,0)=\"\",\"-\",VLOOKUP($D89,site!$B:$G,6,0))),IF($C89=\"\",\"\",IF(VLOOKUP($E89,site!$B:$G,5,0)=\"\",\"-\",VLOOKUP($E89,site!$B:$G,5,0))))","v":"11.5 "}]
["20-11-2020","21:45:00","Netherlands Eerste Divisie","NEC Nijmegen ","Roda ","W1","W1","W1","0.5 O (HT)","-","0.5 O (ST)","-","1.5 O (FT)","-","-","NEC Nijmegen ","NEC Nijmegen ","NEC Nijmegen ",{"$f":"IFERROR(IF(C90=\"\",\"\",IF(VLOOKUP(D90,site!$B:$D,3,0)=\"\",\"-\",VLOOKUP(D90,site!$B:$D,3,0))),IF(C90=\"\",\"\",IF(VLOOKUP(E90,site!$C:$D,2,0)=\"\",\"-\",VLOOKUP(E90,site!$C:$D,2,0))))","v":"— — "},{"$f":"IFERROR(IF($C90=\"\",\"\",IF(VLOOKUP($D90,site!$B:$F,4,0)=\"\",\"-\",VLOOKUP($D90,site!$B:$F,4,0))),IF($C90=\"\",\"\",IF(VLOOKUP($E90,site!$B:$F,3,0)=\"\",\"-\",VLOOKUP($E90,site!$B:$F,3,0))))","v":"1.92 "},{"$f":"IFERROR(IF($C90=\"\",\"\",IF(VLOOKUP($D90,site!$B:$F,5,0)=\"\",\"-\",VLOOKUP($D90,site!$B:$F,5,0))),IF($C90=\"\",\"\",IF(VLOOKUP($E90,site!$B:$F,4,0)=\"\",\"-\",VLOOKUP($E90,site!$B:$F,4,0))))","v":"3.74 "},{"$f":"IFERROR(IF($C90=\"\",\"\",IF(VLOOKUP($D90,site!$B:$G,6,0)=\"\",\"-\",VLOOKUP($D90,site!$B:$G,6,0))),IF($C90=\"\",\"\",IF(VLOOKUP($E90,site!$B:$G,5,0)=\"\",\"-\",VLOOKUP($E90,site!$B:$G,5,0))))","v":"3.86 "}]
["20-11-2020","21:45:00","Netherlands Eerste Divisie","Excelsior ","Jong AZ ","W2","W1","X","-","-","0.5 O (ST)","1.5 O (ST)","1.5 O (FT)","-","-","Jong AZ ","Excelsior ","Excelsior ",{"$f":"IFERROR(IF(C91=\"\",\"\",IF(VLOOKUP(D91,site!$B:$D,3,0)=\"\",\"-\",VLOOKUP(D91,site!$B:$D,3,0))),IF(C91=\"\",\"\",IF(VLOOKUP(E91,site!$C:$D,2,0)=\"\",\"-\",VLOOKUP(E91,site!$C:$D,2,0))))","v":"— — "},{"$f":"IFERROR(IF($C91=\"\",\"\",IF(VLOOKUP($D91,site!$B:$F,4,0)=\"\",\"-\",VLOOKUP($D91,site!$B:$F,4,0))),IF($C91=\"\",\"\",IF(VLOOKUP($E91,site!$B:$F,3,0)=\"\",\"-\",VLOOKUP($E91,site!$B:$F,3,0))))","v":"1.64 "},{"$f":"IFERROR(IF($C91=\"\",\"\",IF(VLOOKUP($D91,site!$B:$F,5,0)=\"\",\"-\",VLOOKUP($D91,site!$B:$F,5,0))),IF($C91=\"\",\"\",IF(VLOOKUP($E91,site!$B:$F,4,0)=\"\",\"-\",VLOOKUP($E91,site!$B:$F,4,0))))","v":"4.6 "},{"$f":"IFERROR(IF($C91=\"\",\"\",IF(VLOOKUP($D91,site!$B:$G,6,0)=\"\",\"-\",VLOOKUP($D91,site!$B:$G,6,0))),IF($C91=\"\",\"\",IF(VLOOKUP($E91,site!$B:$G,5,0)=\"\",\"-\",VLOOKUP($E91,site!$B:$G,5,0))))","v":"4.54 "}]
["20-11-2020","22:00:00","France Ligue 1","Rennes ","Bordeaux ","W1","W1","W1","-","-","0.5 O (ST)","-","1.5 O (FT)","-","-","Rennes ","Bordeaux ","Rennes ",{"$f":"IFERROR(IF(C92=\"\",\"\",IF(VLOOKUP(D92,site!$B:$D,3,0)=\"\",\"-\",VLOOKUP(D92,site!$B:$D,3,0))),IF(C92=\"\",\"\",IF(VLOOKUP(E92,site!$C:$D,2,0)=\"\",\"-\",VLOOKUP(E92,site!$C:$D,2,0))))","v":"— — "},{"$f":"IFERROR(IF($C92=\"\",\"\",IF(VLOOKUP($D92,site!$B:$F,4,0)=\"\",\"-\",VLOOKUP($D92,site!$B:$F,4,0))),IF($C92=\"\",\"\",IF(VLOOKUP($E92,site!$B:$F,3,0)=\"\",\"-\",VLOOKUP($E92,site!$B:$F,3,0))))","v":"1.95 "},{"$f":"IFERROR(IF($C92=\"\",\"\",IF(VLOOKUP($D92,site!$B:$F,5,0)=\"\",\"-\",VLOOKUP($D92,site!$B:$F,5,0))),IF($C92=\"\",\"\",IF(VLOOKUP($E92,site!$B:$F,4,0)=\"\",\"-\",VLOOKUP($E92,site!$B:$F,4,0))))","v":"3.56 "},{"$f":"IFERROR(IF($C92=\"\",\"\",IF(VLOOKUP($D92,site!$B:$G,6,0)=\"\",\"-\",VLOOKUP($D92,site!$B:$G,6,0))),IF($C92=\"\",\"\",IF(VLOOKUP($E92,site!$B:$G,5,0)=\"\",\"-\",VLOOKUP($E92,site!$B:$G,5,0))))","v":"4.28 "}]
["20-11-2020","22:00:00","Denmark - Superligaen","Lyngby ","Horsens ","X","W1","W1","-","-","-","-","1.5 O (FT)","-","-","Horsens ","Lyngby ","Lyngby ",{"$f":"IFERROR(IF(C93=\"\",\"\",IF(VLOOKUP(D93,site!$B:$D,3,0)=\"\",\"-\",VLOOKUP(D93,site!$B:$D,3,0))),IF(C93=\"\",\"\",IF(VLOOKUP(E93,site!$C:$D,2,0)=\"\",\"-\",VLOOKUP(E93,site!$C:$D,2,0))))","v":"— — "},{"$f":"IFERROR(IF($C93=\"\",\"\",IF(VLOOKUP($D93,site!$B:$F,4,0)=\"\",\"-\",VLOOKUP($D93,site!$B:$F,4,0))),IF($C93=\"\",\"\",IF(VLOOKUP($E93,site!$B:$F,3,0)=\"\",\"-\",VLOOKUP($E93,site!$B:$F,3,0))))","v":"2.43 "},{"$f":"IFERROR(IF($C93=\"\",\"\",IF(VLOOKUP($D93,site!$B:$F,5,0)=\"\",\"-\",VLOOKUP($D93,site!$B:$F,5,0))),IF($C93=\"\",\"\",IF(VLOOKUP($E93,site!$B:$F,4,0)=\"\",\"-\",VLOOKUP($E93,site!$B:$F,4,0))))","v":"3.5 "},{"$f":"IFERROR(IF($C93=\"\",\"\",IF(VLOOKUP($D93,site!$B:$G,6,0)=\"\",\"-\",VLOOKUP($D93,site!$B:$G,6,0))),IF($C93=\"\",\"\",IF(VLOOKUP($E93,site!$B:$G,5,0)=\"\",\"-\",VLOOKUP($E93,site!$B:$G,5,0))))","v":"2.85 "}]
["20-11-2020","22:00:00","Spain Segunda Division","Alcorcon ","Lugo ","X","W2","W2","-","-","0.5 O (ST)","-","-","-","-","Alcorcon ","Lugo ","Lugo ",{"$f":"IFERROR(IF(C94=\"\",\"\",IF(VLOOKUP(D94,site!$B:$D,3,0)=\"\",\"-\",VLOOKUP(D94,site!$B:$D,3,0))),IF(C94=\"\",\"\",IF(VLOOKUP(E94,site!$C:$D,2,0)=\"\",\"-\",VLOOKUP(E94,site!$C:$D,2,0))))","v":"— — "},{"$f":"IFERROR(IF($C94=\"\",\"\",IF(VLOOKUP($D94,site!$B:$F,4,0)=\"\",\"-\",VLOOKUP($D94,site!$B:$F,4,0))),IF($C94=\"\",\"\",IF(VLOOKUP($E94,site!$B:$F,3,0)=\"\",\"-\",VLOOKUP($E94,site!$B:$F,3,0))))","v":"2.85 "},{"$f":"IFERROR(IF($C94=\"\",\"\",IF(VLOOKUP($D94,site!$B:$F,5,0)=\"\",\"-\",VLOOKUP($D94,site!$B:$F,5,0))),IF($C94=\"\",\"\",IF(VLOOKUP($E94,site!$B:$F,4,0)=\"\",\"-\",VLOOKUP($E94,site!$B:$F,4,0))))","v":"2.94 "},{"$f":"IFERROR(IF($C94=\"\",\"\",IF(VLOOKUP($D94,site!$B:$G,6,0)=\"\",\"-\",VLOOKUP($D94,site!$B:$G,6,0))),IF($C94=\"\",\"\",IF(VLOOKUP($E94,site!$B:$G,5,0)=\"\",\"-\",VLOOKUP($E94,site!$B:$G,5,0))))","v":"2.79 "}]
["20-11-2020","22:00:00","Germany - 3. Liga","Duisburg ","Verl ","NB","NB","NB","-","-","0.5 O (ST)","-","1.5 O (FT)","-","-","NB","NB","NB",{"$f":"IFERROR(IF(C95=\"\",\"\",IF(VLOOKUP(D95,site!$B:$D,3,0)=\"\",\"-\",VLOOKUP(D95,site!$B:$D,3,0))),IF(C95=\"\",\"\",IF(VLOOKUP(E95,site!$C:$D,2,0)=\"\",\"-\",VLOOKUP(E95,site!$C:$D,2,0))))","v":"— — "},{"$f":"IFERROR(IF($C95=\"\",\"\",IF(VLOOKUP($D95,site!$B:$F,4,0)=\"\",\"-\",VLOOKUP($D95,site!$B:$F,4,0))),IF($C95=\"\",\"\",IF(VLOOKUP($E95,site!$B:$F,3,0)=\"\",\"-\",VLOOKUP($E95,site!$B:$F,3,0))))","v":"2.5 "},{"$f":"IFERROR(IF($C95=\"\",\"\",IF(VLOOKUP($D95,site!$B:$F,5,0)=\"\",\"-\",VLOOKUP($D95,site!$B:$F,5,0))),IF($C95=\"\",\"\",IF(VLOOKUP($E95,site!$B:$F,4,0)=\"\",\"-\",VLOOKUP($E95,site!$B:$F,4,0))))","v":"3.32 "},{"$f":"IFERROR(IF($C95=\"\",\"\",IF(VLOOKUP($D95,site!$B:$G,6,0)=\"\",\"-\",VLOOKUP($D95,site!$B:$G,6,0))),IF($C95=\"\",\"\",IF(VLOOKUP($E95,site!$B:$G,5,0)=\"\",\"-\",VLOOKUP($E95,site!$B:$G,5,0))))","v":"2.795 "}]
["20-11-2020","22:00:00","Denmark 1. Division","Kolding IF ","Fredericia ","W2","X","W2","-","-","-","-","1.5 O (FT)","-","-","Fredericia ","Fredericia ","Fredericia ",{"$f":"IFERROR(IF(C96=\"\",\"\",IF(VLOOKUP(D96,site!$B:$D,3,0)=\"\",\"-\",VLOOKUP(D96,site!$B:$D,3,0))),IF(C96=\"\",\"\",IF(VLOOKUP(E96,site!$C:$D,2,0)=\"\",\"-\",VLOOKUP(E96,site!$C:$D,2,0))))","v":"— — "},{"$f":"IFERROR(IF($C96=\"\",\"\",IF(VLOOKUP($D96,site!$B:$F,4,0)=\"\",\"-\",VLOOKUP($D96,site!$B:$F,4,0))),IF($C96=\"\",\"\",IF(VLOOKUP($E96,site!$B:$F,3,0)=\"\",\"-\",VLOOKUP($E96,site!$B:$F,3,0))))","v":"3.42 "},{"$f":"IFERROR(IF($C96=\"\",\"\",IF(VLOOKUP($D96,site!$B:$F,5,0)=\"\",\"-\",VLOOKUP($D96,site!$B:$F,5,0))),IF($C96=\"\",\"\",IF(VLOOKUP($E96,site!$B:$F,4,0)=\"\",\"-\",VLOOKUP($E96,site!$B:$F,4,0))))","v":"3.88 "},{"$f":"IFERROR(IF($C96=\"\",\"\",IF(VLOOKUP($D96,site!$B:$G,6,0)=\"\",\"-\",VLOOKUP($D96,site!$B:$G,6,0))),IF($C96=\"\",\"\",IF(VLOOKUP($E96,site!$B:$G,5,0)=\"\",\"-\",VLOOKUP($E96,site!$B:$G,5,0))))","v":"1.98 "}]
["20-11-2020","22:00:00","Denmark 2nd Division","Hellerup ","Nykoebing ","W2","W2","W2","-","-","-","-","-","-","-","Nykoebing ","Nykoebing ","Nykoebing ",{"$f":"IFERROR(IF(C97=\"\",\"\",IF(VLOOKUP(D97,site!$B:$D,3,0)=\"\",\"-\",VLOOKUP(D97,site!$B:$D,3,0))),IF(C97=\"\",\"\",IF(VLOOKUP(E97,site!$C:$D,2,0)=\"\",\"-\",VLOOKUP(E97,site!$C:$D,2,0))))","v":"— — "},{"$f":"IFERROR(IF($C97=\"\",\"\",IF(VLOOKUP($D97,site!$B:$F,4,0)=\"\",\"-\",VLOOKUP($D97,site!$B:$F,4,0))),IF($C97=\"\",\"\",IF(VLOOKUP($E97,site!$B:$F,3,0)=\"\",\"-\",VLOOKUP($E97,site!$B:$F,3,0))))","v":"4.26 "},{"$f":"IFERROR(IF($C97=\"\",\"\",IF(VLOOKUP($D97,site!$B:$F,5,0)=\"\",\"-\",VLOOKUP($D97,site!$B:$F,5,0))),IF($C97=\"\",\"\",IF(VLOOKUP($E97,site!$B:$F,4,0)=\"\",\"-\",VLOOKUP($E97,site!$B:$F,4,0))))","v":"3.92 "},{"$f":"IFERROR(IF($C97=\"\",\"\",IF(VLOOKUP($D97,site!$B:$G,6,0)=\"\",\"-\",VLOOKUP($D97,site!$B:$G,6,0))),IF($C97=\"\",\"\",IF(VLOOKUP($E97,site!$B:$G,5,0)=\"\",\"-\",VLOOKUP($E97,site!$B:$G,5,0))))","v":"1.68 "}]
["20-11-2020","22:00:00","Denmark 2nd Division","Roskilde ","Gladsaxe ","X","W2","W2","-","-","0.5 O (ST)","-","1.5 O (FT)","-","-","Gladsaxe ","Gladsaxe ","Gladsaxe ",{"$f":"IFERROR(IF(C98=\"\",\"\",IF(VLOOKUP(D98,site!$B:$D,3,0)=\"\",\"-\",VLOOKUP(D98,site!$B:$D,3,0))),IF(C98=\"\",\"\",IF(VLOOKUP(E98,site!$C:$D,2,0)=\"\",\"-\",VLOOKUP(E98,site!$C:$D,2,0))))","v":"— — "},{"$f":"IFERROR(IF($C98=\"\",\"\",IF(VLOOKUP($D98,site!$B:$F,4,0)=\"\",\"-\",VLOOKUP($D98,site!$B:$F,4,0))),IF($C98=\"\",\"\",IF(VLOOKUP($E98,site!$B:$F,3,0)=\"\",\"-\",VLOOKUP($E98,site!$B:$F,3,0))))","v":"3.42 "},{"$f":"IFERROR(IF($C98=\"\",\"\",IF(VLOOKUP($D98,site!$B:$F,5,0)=\"\",\"-\",VLOOKUP($D98,site!$B:$F,5,0))),IF($C98=\"\",\"\",IF(VLOOKUP($E98,site!$B:$F,4,0)=\"\",\"-\",VLOOKUP($E98,site!$B:$F,4,0))))","v":"3.54 "},{"$f":"IFERROR(IF($C98=\"\",\"\",IF(VLOOKUP($D98,site!$B:$G,6,0)=\"\",\"-\",VLOOKUP($D98,site!$B:$G,6,0))),IF($C98=\"\",\"\",IF(VLOOKUP($E98,site!$B:$G,5,0)=\"\",\"-\",VLOOKUP($E98,site!$B:$G,5,0))))","v":"1.96 "}]
["20-11-2020","22:00:00","Sweden Div 1","Motala ","Linkoping ","NB","NB","NB","0.5 O (HT)","-","0.5 O (ST)","-","1.5 O (FT)","2.5 O (FT)","-","NB","NB","NB",{"$f":"IFERROR(IF(C99=\"\",\"\",IF(VLOOKUP(D99,site!$B:$D,3,0)=\"\",\"-\",VLOOKUP(D99,site!$B:$D,3,0))),IF(C99=\"\",\"\",IF(VLOOKUP(E99,site!$C:$D,2,0)=\"\",\"-\",VLOOKUP(E99,site!$C:$D,2,0))))","v":"— — "},{"$f":"IFERROR(IF($C99=\"\",\"\",IF(VLOOKUP($D99,site!$B:$F,4,0)=\"\",\"-\",VLOOKUP($D99,site!$B:$F,4,0))),IF($C99=\"\",\"\",IF(VLOOKUP($E99,site!$B:$F,3,0)=\"\",\"-\",VLOOKUP($E99,site!$B:$F,3,0))))","v":"-"},{"$f":"IFERROR(IF($C99=\"\",\"\",IF(VLOOKUP($D99,site!$B:$F,5,0)=\"\",\"-\",VLOOKUP($D99,site!$B:$F,5,0))),IF($C99=\"\",\"\",IF(VLOOKUP($E99,site!$B:$F,4,0)=\"\",\"-\",VLOOKUP($E99,site!$B:$F,4,0))))","v":"-"},{"$f":"IFERROR(IF($C99=\"\",\"\",IF(VLOOKUP($D99,site!$B:$G,6,0)=\"\",\"-\",VLOOKUP($D99,site!$B:$G,6,0))),IF($C99=\"\",\"\",IF(VLOOKUP($E99,site!$B:$G,5,0)=\"\",\"-\",VLOOKUP($E99,site!$B:$G,5,0))))","v":"-"}]
["20-11-2020","22:00:00","Switzerland - Challenge League","Stade Ouchy ","Schaffhausen ","W1","W1","W1","-","-","0.5 O (ST)","1.5 O (ST)","1.5 O (FT)","2.5 O (FT)","-","Stade Ouchy ","Stade Ouchy ","Stade Ouchy ",{"$f":"IFERROR(IF(C100=\"\",\"\",IF(VLOOKUP(D100,site!$B:$D,3,0)=\"\",\"-\",VLOOKUP(D100,site!$B:$D,3,0))),IF(C100=\"\",\"\",IF(VLOOKUP(E100,site!$C:$D,2,0)=\"\",\"-\",VLOOKUP(E100,site!$C:$D,2,0))))","v":"— — "},{"$f":"IFERROR(IF($C100=\"\",\"\",IF(VLOOKUP($D100,site!$B:$F,4,0)=\"\",\"-\",VLOOKUP($D100,site!$B:$F,4,0))),IF($C100=\"\",\"\",IF(VLOOKUP($E100,site!$B:$F,3,0)=\"\",\"-\",VLOOKUP($E100,site!$B:$F,3,0))))","v":"-"},{"$f":"IFERROR(IF($C100=\"\",\"\",IF(VLOOKUP($D100,site!$B:$F,5,0)=\"\",\"-\",VLOOKUP($D100,site!$B:$F,5,0))),IF($C100=\"\",\"\",IF(VLOOKUP($E100,site!$B:$F,4,0)=\"\",\"-\",VLOOKUP($E100,site!$B:$F,4,0))))","v":"-"},{"$f":"IFERROR(IF($C100=\"\",\"\",IF(VLOOKUP($D100,site!$B:$G,6,0)=\"\",\"-\",VLOOKUP($D100,site!$B:$G,6,0))),IF($C100=\"\",\"\",IF(VLOOKUP($E100,site!$B:$G,5,0)=\"\",\"-\",VLOOKUP($E100,site!$B:$G,5,0))))","v":"-"}]
["20-11-2020","22:00:00","Switzerland - Challenge League","Chiasso ","Aarau ","X","W1","W2","-","-","0.5 O (ST)","-","1.5 O (FT)","-","-","Aarau ","Chiasso ","Aarau ",{"$f":"IFERROR(IF(C101=\"\",\"\",IF(VLOOKUP(D101,site!$B:$D,3,0)=\"\",\"-\",VLOOKUP(D101,site!$B:$D,3,0))),IF(C101=\"\",\"\",IF(VLOOKUP(E101,site!$C:$D,2,0)=\"\",\"-\",VLOOKUP(E101,site!$C:$D,2,0))))","v":"— — "},{"$f":"IFERROR(IF($C101=\"\",\"\",IF(VLOOKUP($D101,site!$B:$F,4,0)=\"\",\"-\",VLOOKUP($D101,site!$B:$F,4,0))),IF($C101=\"\",\"\",IF(VLOOKUP($E101,site!$B:$F,3,0)=\"\",\"-\",VLOOKUP($E101,site!$B:$F,3,0))))","v":"-"},{"$f":"IFERROR(IF($C101=\"\",\"\",IF(VLOOKUP($D101,site!$B:$F,5,0)=\"\",\"-\",VLOOKUP($D101,site!$B:$F,5,0))),IF($C101=\"\",\"\",IF(VLOOKUP($E101,site!$B:$F,4,0)=\"\",\"-\",VLOOKUP($E101,site!$B:$F,4,0))))","v":"-"},{"$f":"IFERROR(IF($C101=\"\",\"\",IF(VLOOKUP($D101,site!$B:$G,6,0)=\"\",\"-\",VLOOKUP($D101,site!$B:$G,6,0))),IF($C101=\"\",\"\",IF(VLOOKUP($E101,site!$B:$G,5,0)=\"\",\"-\",VLOOKUP($E101,site!$B:$G,5,0))))","v":"-"}]
["20-11-2020","22:05:00","Croatia 1. Division","Sibenik ","Gorica ","NB","NB","NB","-","-","-","-","1.5 O (FT)","-","-","NB","NB","NB",{"$f":"IFERROR(IF(C102=\"\",\"\",IF(VLOOKUP(D102,site!$B:$D,3,0)=\"\",\"-\",VLOOKUP(D102,site!$B:$D,3,0))),IF(C102=\"\",\"\",IF(VLOOKUP(E102,site!$C:$D,2,0)=\"\",\"-\",VLOOKUP(E102,site!$C:$D,2,0))))","v":"— — "},{"$f":"IFERROR(IF($C102=\"\",\"\",IF(VLOOKUP($D102,site!$B:$F,4,0)=\"\",\"-\",VLOOKUP($D102,site!$B:$F,4,0))),IF($C102=\"\",\"\",IF(VLOOKUP($E102,site!$B:$F,3,0)=\"\",\"-\",VLOOKUP($E102,site!$B:$F,3,0))))","v":"3.14 "},{"$f":"IFERROR(IF($C102=\"\",\"\",IF(VLOOKUP($D102,site!$B:$F,5,0)=\"\",\"-\",VLOOKUP($D102,site!$B:$F,5,0))),IF($C102=\"\",\"\",IF(VLOOKUP($E102,site!$B:$F,4,0)=\"\",\"-\",VLOOKUP($E102,site!$B:$F,4,0))))","v":"3.34 "},{"$f":"IFERROR(IF($C102=\"\",\"\",IF(VLOOKUP($D102,site!$B:$G,6,0)=\"\",\"-\",VLOOKUP($D102,site!$B:$G,6,0))),IF($C102=\"\",\"\",IF(VLOOKUP($E102,site!$B:$G,5,0)=\"\",\"-\",VLOOKUP($E102,site!$B:$G,5,0))))","v":"2.22 "}]
["20-11-2020","22:15:00","Germany Women Bundesliga","Wolfsburg W ","Frankfurt W ","W1","W1","W1","0.5 O (HT)","-","0.5 O (ST)","-","1.5 O (FT)","-","-","Wolfsburg W ","Wolfsburg W ","Wolfsburg W ",{"$f":"IFERROR(IF(C103=\"\",\"\",IF(VLOOKUP(D103,site!$B:$D,3,0)=\"\",\"-\",VLOOKUP(D103,site!$B:$D,3,0))),IF(C103=\"\",\"\",IF(VLOOKUP(E103,site!$C:$D,2,0)=\"\",\"-\",VLOOKUP(E103,site!$C:$D,2,0))))","v":"— — "},{"$f":"IFERROR(IF($C103=\"\",\"\",IF(VLOOKUP($D103,site!$B:$F,4,0)=\"\",\"-\",VLOOKUP($D103,site!$B:$F,4,0))),IF($C103=\"\",\"\",IF(VLOOKUP($E103,site!$B:$F,3,0)=\"\",\"-\",VLOOKUP($E103,site!$B:$F,3,0))))","v":"-"},{"$f":"IFERROR(IF($C103=\"\",\"\",IF(VLOOKUP($D103,site!$B:$F,5,0)=\"\",\"-\",VLOOKUP($D103,site!$B:$F,5,0))),IF($C103=\"\",\"\",IF(VLOOKUP($E103,site!$B:$F,4,0)=\"\",\"-\",VLOOKUP($E103,site!$B:$F,4,0))))","v":"-"},{"$f":"IFERROR(IF($C103=\"\",\"\",IF(VLOOKUP($D103,site!$B:$G,6,0)=\"\",\"-\",VLOOKUP($D103,site!$B:$G,6,0))),IF($C103=\"\",\"\",IF(VLOOKUP($E103,site!$B:$G,5,0)=\"\",\"-\",VLOOKUP($E103,site!$B:$G,5,0))))","v":"-"}]
["20-11-2020","22:30:00","Romania Liga I","Dinamo B. ","Voluntari ","X","W1","W1","-","-","0.5 O (ST)","-","1.5 O (FT)","-","-","Voluntari ","Dinamo B. ","Dinamo B. ",{"$f":"IFERROR(IF(C104=\"\",\"\",IF(VLOOKUP(D104,site!$B:$D,3,0)=\"\",\"-\",VLOOKUP(D104,site!$B:$D,3,0))),IF(C104=\"\",\"\",IF(VLOOKUP(E104,site!$C:$D,2,0)=\"\",\"-\",VLOOKUP(E104,site!$C:$D,2,0))))","v":"— — "},{"$f":"IFERROR(IF($C104=\"\",\"\",IF(VLOOKUP($D104,site!$B:$F,4,0)=\"\",\"-\",VLOOKUP($D104,site!$B:$F,4,0))),IF($C104=\"\",\"\",IF(VLOOKUP($E104,site!$B:$F,3,0)=\"\",\"-\",VLOOKUP($E104,site!$B:$F,3,0))))","v":"2.07 "},{"$f":"IFERROR(IF($C104=\"\",\"\",IF(VLOOKUP($D104,site!$B:$F,5,0)=\"\",\"-\",VLOOKUP($D104,site!$B:$F,5,0))),IF($C104=\"\",\"\",IF(VLOOKUP($E104,site!$B:$F,4,0)=\"\",\"-\",VLOOKUP($E104,site!$B:$F,4,0))))","v":"3.34 "},{"$f":"IFERROR(IF($C104=\"\",\"\",IF(VLOOKUP($D104,site!$B:$G,6,0)=\"\",\"-\",VLOOKUP($D104,site!$B:$G,6,0))),IF($C104=\"\",\"\",IF(VLOOKUP($E104,site!$B:$G,5,0)=\"\",\"-\",VLOOKUP($E104,site!$B:$G,5,0))))","v":"3.66 "}]
["20-11-2020","23:00:00","England League Two","Mansfield ","Colchester ","X","X","X","-","-","-","-","1.5 O (FT)","-","-","Colchester ","Colchester ","Colchester ",{"$f":"IFERROR(IF(C105=\"\",\"\",IF(VLOOKUP(D105,site!$B:$D,3,0)=\"\",\"-\",VLOOKUP(D105,site!$B:$D,3,0))),IF(C105=\"\",\"\",IF(VLOOKUP(E105,site!$C:$D,2,0)=\"\",\"-\",VLOOKUP(E105,site!$C:$D,2,0))))","v":"— — "},{"$f":"IFERROR(IF($C105=\"\",\"\",IF(VLOOKUP($D105,site!$B:$F,4,0)=\"\",\"-\",VLOOKUP($D105,site!$B:$F,4,0))),IF($C105=\"\",\"\",IF(VLOOKUP($E105,site!$B:$F,3,0)=\"\",\"-\",VLOOKUP($E105,site!$B:$F,3,0))))","v":"2.415 "},{"$f":"IFERROR(IF($C105=\"\",\"\",IF(VLOOKUP($D105,site!$B:$F,5,0)=\"\",\"-\",VLOOKUP($D105,site!$B:$F,5,0))),IF($C105=\"\",\"\",IF(VLOOKUP($E105,site!$B:$F,4,0)=\"\",\"-\",VLOOKUP($E105,site!$B:$F,4,0))))","v":"3.52 "},{"$f":"IFERROR(IF($C105=\"\",\"\",IF(VLOOKUP($D105,site!$B:$G,6,0)=\"\",\"-\",VLOOKUP($D105,site!$B:$G,6,0))),IF($C105=\"\",\"\",IF(VLOOKUP($E105,site!$B:$G,5,0)=\"\",\"-\",VLOOKUP($E105,site!$B:$G,5,0))))","v":"3.05 "}]
["20-11-2020","23:00:00","Belgium Tweede Klasse","Brugge U3 ","Lierse ","NB","NB","NB","NB","NB","NB","NB","NB","NB","NB","NB","NB","NB",{"$f":"IFERROR(IF(C106=\"\",\"\",IF(VLOOKUP(D106,site!$B:$D,3,0)=\"\",\"-\",VLOOKUP(D106,site!$B:$D,3,0))),IF(C106=\"\",\"\",IF(VLOOKUP(E106,site!$C:$D,2,0)=\"\",\"-\",VLOOKUP(E106,site!$C:$D,2,0))))","v":"— — "},{"$f":"IFERROR(IF($C106=\"\",\"\",IF(VLOOKUP($D106,site!$B:$F,4,0)=\"\",\"-\",VLOOKUP($D106,site!$B:$F,4,0))),IF($C106=\"\",\"\",IF(VLOOKUP($E106,site!$B:$F,3,0)=\"\",\"-\",VLOOKUP($E106,site!$B:$F,3,0))))","v":{"$error":"#N/A"}},{"$f":"IFERROR(IF($C106=\"\",\"\",IF(VLOOKUP($D106,site!$B:$F,5,0)=\"\",\"-\",VLOOKUP($D106,site!$B:$F,5,0))),IF($C106=\"\",\"\",IF(VLOOKUP($E106,site!$B:$F,4,0)=\"\",\"-\",VLOOKUP($E106,site!$B:$F,4,0))))","v":{"$error":"#N/A"}},{"$f":"IFERROR(IF($C106=\"\",\"\",IF(VLOOKUP($D106,site!$B:$G,6,0)=\"\",\"-\",VLOOKUP($D106,site!$B:$G,6,0))),IF($C106=\"\",\"\",IF(VLOOKUP($E106,site!$B:$G,5,0)=\"\",\"-\",VLOOKUP($E106,site!$B:$G,5,0))))","v":{"$error":"#N/A"}}]
["20-11-2020","23:00:00","Hungary - NBI Liga","Kisvarda ","Paksi ","X","W1","W1","0.5 O (HT)","-","0.5 O (ST)","-","1.5 O (FT)","-","-","Kisvarda ","Kisvarda ","Kisvarda ",{"$f":"IFERROR(IF(C107=\"\",\"\",IF(VLOOKUP(D107,site!$B:$D,3,0)=\"\",\"-\",VLOOKUP(D107,site!$B:$D,3,0))),IF(C107=\"\",\"\",IF(VLOOKUP(E107,site!$C:$D,2,0)=\"\",\"-\",VLOOKUP(E107,site!$C:$D,2,0))))","v":"— — "},{"$f":"IFERROR(IF($C107=\"\",\"\",IF(VLOOKUP($D107,site!$B:$F,4,0)=\"\",\"-\",VLOOKUP($D107,site!$B:$F,4,0))),IF($C107=\"\",\"\",IF(VLOOKUP($E107,site!$B:$F,3,0)=\"\",\"-\",VLOOKUP($E107,site!$B:$F,3,0))))","v":"-"},{"$f":"IFERROR(IF($C107=\"\",\"\",IF(VLOOKUP($D107,site!$B:$F,5,0)=\"\",\"-\",VLOOKUP($D107,site!$B:$F,5,0))),IF($C107=\"\",\"\",IF(VLOOKUP($E107,site!$B:$F,4,0)=\"\",\"-\",VLOOKUP($E107,site!$B:$F,4,0))))","v":"-"},{"$f":"IFERROR(IF($C107=\"\",\"\",IF(VLOOKUP($D107,site!$B:$G,6,0)=\"\",\"-\",VLOOKUP($D107,site!$B:$G,6,0))),IF($C107=\"\",\"\",IF(VLOOKUP($E107,site!$B:$G,5,0)=\"\",\"-\",VLOOKUP($E107,site!$B:$G,5,0))))","v":"-"}]
["20-11-2020","23:00:00","Switzerland - Challenge League","Winterthur ","Kriens ","W1","X","W1","0.5 O (HT)","-","0.5 O (ST)","-","1.5 O (FT)","2.5 O (FT)","-","Winterthur ","Kriens ","Winterthur ",{"$f":"IFERROR(IF(C108=\"\",\"\",IF(VLOOKUP(D108,site!$B:$D,3,0)=\"\",\"-\",VLOOKUP(D108,site!$B:$D,3,0))),IF(C108=\"\",\"\",IF(VLOOKUP(E108,site!$C:$D,2,0)=\"\",\"-\",VLOOKUP(E108,site!$C:$D,2,0))))","v":"— — "},{"$f":"IFERROR(IF($C108=\"\",\"\",IF(VLOOKUP($D108,site!$B:$F,4,0)=\"\",\"-\",VLOOKUP($D108,site!$B:$F,4,0))),IF($C108=\"\",\"\",IF(VLOOKUP($E108,site!$B:$F,3,0)=\"\",\"-\",VLOOKUP($E108,site!$B:$F,3,0))))","v":"-"},{"$f":"IFERROR(IF($C108=\"\",\"\",IF(VLOOKUP($D108,site!$B:$F,5,0)=\"\",\"-\",VLOOKUP($D108,site!$B:$F,5,0))),IF($C108=\"\",\"\",IF(VLOOKUP($E108,site!$B:$F,4,0)=\"\",\"-\",VLOOKUP($E108,site!$B:$F,4,0))))","v":"-"},{"$f":"IFERROR(IF($C108=\"\",\"\",IF(VLOOKUP($D108,site!$B:$G,6,0)=\"\",\"-\",VLOOKUP($D108,site!$B:$G,6,0))),IF($C108=\"\",\"\",IF(VLOOKUP($E108,site!$B:$G,5,0)=\"\",\"-\",VLOOKUP($E108,site!$B:$G,5,0))))","v":"-"}]
["20-11-2020","23:00:00","Switzerland - Challenge League","Grasshopper ","Neuchatel Xamax ","W1","X","W1","-","-","0.5 O (ST)","-","1.5 O (FT)","-","-","Grasshopper ","Grasshopper ","Neuchatel Xamax ",{"$f":"IFERROR(IF(C109=\"\",\"\",IF(VLOOKUP(D109,site!$B:$D,3,0)=\"\",\"-\",VLOOKUP(D109,site!$B:$D,3,0))),IF(C109=\"\",\"\",IF(VLOOKUP(E109,site!$C:$D,2,0)=\"\",\"-\",VLOOKUP(E109,site!$C:$D,2,0))))","v":"— — "},{"$f":"IFERROR(IF($C109=\"\",\"\",IF(VLOOKUP($D109,site!$B:$F,4,0)=\"\",\"-\",VLOOKUP($D109,site!$B:$F,4,0))),IF($C109=\"\",\"\",IF(VLOOKUP($E109,site!$B:$F,3,0)=\"\",\"-\",VLOOKUP($E109,site!$B:$F,3,0))))","v":"-"},{"$f":"IFERROR(IF($C109=\"\",\"\",IF(VLOOKUP($D109,site!$B:$F,5,0)=\"\",\"-\",VLOOKUP($D109,site!$B:$F,5,0))),IF($C109=\"\",\"\",IF(VLOOKUP($E109,site!$B:$F,4,0)=\"\",\"-\",VLOOKUP($E109,site!$B:$F,4,0))))","v":"-"},{"$f":"IFERROR(IF($C109=\"\",\"\",IF(VLOOKUP($D109,site!$B:$G,6,0)=\"\",\"-\",VLOOKUP($D109,site!$B:$G,6,0))),IF($C109=\"\",\"\",IF(VLOOKUP($E109,site!$B:$G,5,0)=\"\",\"-\",VLOOKUP($E109,site!$B:$G,5,0))))","v":"-"}]
["20-11-2020","23:25:00","Austria - ADEG Erste Liga","Austria Kl ","Wacker Innsbruck ","W1","W1","W1","-","-","0.5 O (ST)","-","1.5 O (FT)","-","-","Austria Kl ","Wacker Innsbruck ","Austria Kl ",{"$f":"IFERROR(IF(C110=\"\",\"\",IF(VLOOKUP(D110,site!$B:$D,3,0)=\"\",\"-\",VLOOKUP(D110,site!$B:$D,3,0))),IF(C110=\"\",\"\",IF(VLOOKUP(E110,site!$C:$D,2,0)=\"\",\"-\",VLOOKUP(E110,site!$C:$D,2,0))))","v":"— — "},{"$f":"IFERROR(IF($C110=\"\",\"\",IF(VLOOKUP($D110,site!$B:$F,4,0)=\"\",\"-\",VLOOKUP($D110,site!$B:$F,4,0))),IF($C110=\"\",\"\",IF(VLOOKUP($E110,site!$B:$F,3,0)=\"\",\"-\",VLOOKUP($E110,site!$B:$F,3,0))))","v":"-"},{"$f":"IFERROR(IF($C110=\"\",\"\",IF(VLOOKUP($D110,site!$B:$F,5,0)=\"\",\"-\",VLOOKUP($D110,site!$B:$F,5,0))),IF($C110=\"\",\"\",IF(VLOOKUP($E110,site!$B:$F,4,0)=\"\",\"-\",VLOOKUP($E110,site!$B:$F,4,0))))","v":"-"},{"$f":"IFERROR(IF($C110=\"\",\"\",IF(VLOOKUP($D110,site!$B:$G,6,0)=\"\",\"-\",VLOOKUP($D110,site!$B:$G,6,0))),IF($C110=\"\",\"\",IF(VLOOKUP($E110,site!$B:$G,5,0)=\"\",\"-\",VLOOKUP($E110,site!$B:$G,5,0))))","v":"-"}]
["20-11-2020","23:30:00","Poland Ekstraklasa","Gornik Zabrze ","Piast Gliwice ","X","W1","W1","-","-","-","-","1.5 O (FT)","-","-","Piast Gliwice ","Gornik Zabrze ","Gornik Zabrze ",{"$f":"IFERROR(IF(C111=\"\",\"\",IF(VLOOKUP(D111,site!$B:$D,3,0)=\"\",\"-\",VLOOKUP(D111,site!$B:$D,3,0))),IF(C111=\"\",\"\",IF(VLOOKUP(E111,site!$C:$D,2,0)=\"\",\"-\",VLOOKUP(E111,site!$C:$D,2,0))))","v":"— — "},{"$f":"IFERROR(IF($C111=\"\",\"\",IF(VLOOKUP($D111,site!$B:$F,4,0)=\"\",\"-\",VLOOKUP($D111,site!$B:$F,4,0))),IF($C111=\"\",\"\",IF(VLOOKUP($E111,site!$B:$F,3,0)=\"\",\"-\",VLOOKUP($E111,site!$B:$F,3,0))))","v":"2.41 "},{"$f":"IFERROR(IF($C111=\"\",\"\",IF(VLOOKUP($D111,site!$B:$F,5,0)=\"\",\"-\",VLOOKUP($D111,site!$B:$F,5,0))),IF($C111=\"\",\"\",IF(VLOOKUP($E111,site!$B:$F,4,0)=\"\",\"-\",VLOOKUP($E111,site!$B:$F,4,0))))","v":"3.34 "},{"$f":"IFERROR(IF($C111=\"\",\"\",IF(VLOOKUP($D111,site!$B:$G,6,0)=\"\",\"-\",VLOOKUP($D111,site!$B:$G,6,0))),IF($C111=\"\",\"\",IF(VLOOKUP($E111,site!$B:$G,5,0)=\"\",\"-\",VLOOKUP($E111,site!$B:$G,5,0))))","v":3}]
["20-11-2020","23:30:00","Brazil - Serie B","Vitoria ","Ponte Preta ","W1","X","W1","0.5 O (HT)","-","0.5 O (ST)","-","1.5 O (FT)","-","-","Vitoria ","Ponte Preta ","Vitoria ",{"$f":"IFERROR(IF(C112=\"\",\"\",IF(VLOOKUP(D112,site!$B:$D,3,0)=\"\",\"-\",VLOOKUP(D112,site!$B:$D,3,0))),IF(C112=\"\",\"\",IF(VLOOKUP(E112,site!$C:$D,2,0)=\"\",\"-\",VLOOKUP(E112,site!$C:$D,2,0))))","v":"— — "},{"$f":"IFERROR(IF($C112=\"\",\"\",IF(VLOOKUP($D112,site!$B:$F,4,0)=\"\",\"-\",VLOOKUP($D112,site!$B:$F,4,0))),IF($C112=\"\",\"\",IF(VLOOKUP($E112,site!$B:$F,3,0)=\"\",\"-\",VLOOKUP($E112,site!$B:$F,3,0))))","v":"2.26 "},{"$f":"IFERROR(IF($C112=\"\",\"\",IF(VLOOKUP($D112,site!$B:$F,5,0)=\"\",\"-\",VLOOKUP($D112,site!$B:$F,5,0))),IF($C112=\"\",\"\",IF(VLOOKUP($E112,site!$B:$F,4,0)=\"\",\"-\",VLOOKUP($E112,site!$B:$F,4,0))))","v":"3.26 "},{"$f":"IFERROR(IF($C112=\"\",\"\",IF(VLOOKUP($D112,site!$B:$G,6,0)=\"\",\"-\",VLOOKUP($D112,site!$B:$G,6,0))),IF($C112=\"\",\"\",IF(VLOOKUP($E112,site!$B:$G,5,0)=\"\",\"-\",VLOOKUP($E112,site!$B:$G,5,0))))","v":"3.26 "}]
["20-11-2020","23:30:00","Brazil - Serie B","Avai ","Confianca ","NB","NB","NB","-","-","0.5 O (ST)","-","1.5 O (FT)","-","-","NB","NB","NB",{"$f":"IFERROR(IF(C113=\"\",\"\",IF(VLOOKUP(D113,site!$B:$D,3,0)=\"\",\"-\",VLOOKUP(D113,site!$B:$D,3,0))),IF(C113=\"\",\"\",IF(VLOOKUP(E113,site!$C:$D,2,0)=\"\",\"-\",VLOOKUP(E113,site!$C:$D,2,0))))","v":"— — "},{"$f":"IFERROR(IF($C113=\"\",\"\",IF(VLOOKUP($D113,site!$B:$F,4,0)=\"\",\"-\",VLOOKUP($D113,site!$B:$F,4,0))),IF($C113=\"\",\"\",IF(VLOOKUP($E113,site!$B:$F,3,0)=\"\",\"-\",VLOOKUP($E113,site!$B:$F,3,0))))","v":"2.32 "},{"$f":"IFERROR(IF($C113=\"\",\"\",IF(VLOOKUP($D113,site!$B:$F,5,0)=\"\",\"-\",VLOOKUP($D113,site!$B:$F,5,0))),IF($C113=\"\",\"\",IF(VLOOKUP($E113,site!$B:$F,4,0)=\"\",\"-\",VLOOKUP($E113,site!$B:$F,4,0))))","v":"3.24 "},{"$f":"IFERROR(IF($C113=\"\",\"\",IF(VLOOKUP($D113,site!$B:$G,6,0)=\"\",\"-\",VLOOKUP($D113,site!$B:$G,6,0))),IF($C113=\"\",\"\",IF(VLOOKUP($E113,site!$B:$G,5,0)=\"\",\"-\",VLOOKUP($E113,site!$B:$G,5,0))))","v":"3.165 "}]
["20-11-2020","23:30:00","N. Ireland Premiership","Portadown ","Glentoran ","X","W2","W2","-","-","-","-","-","-","-","Glentoran ","Glentoran ","Glentoran ",{"$f":"IFERROR(IF(C114=\"\",\"\",IF(VLOOKUP(D114,site!$B:$D,3,0)=\"\",\"-\",VLOOKUP(D114,site!$B:$D,3,0))),IF(C114=\"\",\"\",IF(VLOOKUP(E114,site!$C:$D,2,0)=\"\",\"-\",VLOOKUP(E114,site!$C:$D,2,0))))","v":"— — "},{"$f":"IFERROR(IF($C114=\"\",\"\",IF(VLOOKUP($D114,site!$B:$F,4,0)=\"\",\"-\",VLOOKUP($D114,site!$B:$F,4,0))),IF($C114=\"\",\"\",IF(VLOOKUP($E114,site!$B:$F,3,0)=\"\",\"-\",VLOOKUP($E114,site!$B:$F,3,0))))","v":"-"},{"$f":"IFERROR(IF($C114=\"\",\"\",IF(VLOOKUP($D114,site!$B:$F,5,0)=\"\",\"-\",VLOOKUP($D114,site!$B:$F,5,0))),IF($C114=\"\",\"\",IF(VLOOKUP($E114,site!$B:$F,4,0)=\"\",\"-\",VLOOKUP($E114,site!$B:$F,4,0))))","v":"-"},{"$f":"IFERROR(IF($C114=\"\",\"\",IF(VLOOKUP($D114,site!$B:$G,6,0)=\"\",\"-\",VLOOKUP($D114,site!$B:$G,6,0))),IF($C114=\"\",\"\",IF(VLOOKUP($E114,site!$B:$G,5,0)=\"\",\"-\",VLOOKUP($E114,site!$B:$G,5,0))))","v":"-"}]
["20-11-2020","23:45:00","England Championship","Coventry ","Birmingham ","X","X","X","-","-","0.5 O (ST)","-","1.5 O (FT)","-","-","Coventry ","Coventry ","Coventry ",{"$f":"IFERROR(IF(C115=\"\",\"\",IF(VLOOKUP(D115,site!$B:$D,3,0)=\"\",\"-\",VLOOKUP(D115,site!$B:$D,3,0))),IF(C115=\"\",\"\",IF(VLOOKUP(E115,site!$C:$D,2,0)=\"\",\"-\",VLOOKUP(E115,site!$C:$D,2,0))))","v":"— — "},{"$f":"IFERROR(IF($C115=\"\",\"\",IF(VLOOKUP($D115,site!$B:$F,4,0)=\"\",\"-\",VLOOKUP($D115,site!$B:$F,4,0))),IF($C115=\"\",\"\",IF(VLOOKUP($E115,site!$B:$F,3,0)=\"\",\"-\",VLOOKUP($E115,site!$B:$F,3,0))))","v":"2.89 "},{"$f":"IFERROR(IF($C115=\"\",\"\",IF(VLOOKUP($D115,site!$B:$F,5,0)=\"\",\"-\",VLOOKUP($D115,site!$B:$F,5,0))),IF($C115=\"\",\"\",IF(VLOOKUP($E115,site!$B:$F,4,0)=\"\",\"-\",VLOOKUP($E115,site!$B:$F,4,0))))","v":"3.18 "},{"$f":"IFERROR(IF($C115=\"\",\"\",IF(VLOOKUP($D115,site!$B:$G,6,0)=\"\",\"-\",VLOOKUP($D115,site!$B:$G,6,0))),IF($C115=\"\",\"\",IF(VLOOKUP($E115,site!$B:$G,5,0)=\"\",\"-\",VLOOKUP($E115,site!$B:$G,5,0))))","v":"2.65 "}]
["20-11-2020","23:45:00","Scotland Championship","Dunfermline ","Hearts ","X","W2","W2","-","-","0.5 O (ST)","-","1.5 O (FT)","-","-","Dunfermline ","Hearts ","Hearts ",{"$f":"IFERROR(IF(C116=\"\",\"\",IF(VLOOKUP(D116,site!$B:$D,3,0)=\"\",\"-\",VLOOKUP(D116,site!$B:$D,3,0))),IF(C116=\"\",\"\",IF(VLOOKUP(E116,site!$C:$D,2,0)=\"\",\"-\",VLOOKUP(E116,site!$C:$D,2,0))))","v":"— — "},{"$f":"IFERROR(IF($C116=\"\",\"\",IF(VLOOKUP($D116,site!$B:$F,4,0)=\"\",\"-\",VLOOKUP($D116,site!$B:$F,4,0))),IF($C116=\"\",\"\",IF(VLOOKUP($E116,site!$B:$F,3,0)=\"\",\"-\",VLOOKUP($E116,site!$B:$F,3,0))))","v":"-"},{"$f":"IFERROR(IF($C116=\"\",\"\",IF(VLOOKUP($D116,site!$B:$F,5,0)=\"\",\"-\",VLOOKUP($D116,site!$B:$F,5,0))),IF($C116=\"\",\"\",IF(VLOOKUP($E116,site!$B:$F,4,0)=\"\",\"-\",VLOOKUP($E116,site!$B:$F,4,0))))","v":"-"},{"$f":"IFERROR(IF($C116=\"\",\"\",IF(VLOOKUP($D116,site!$B:$G,6,0)=\"\",\"-\",VLOOKUP($D116,site!$B:$G,6,0))),IF($C116=\"\",\"\",IF(VLOOKUP($E116,site!$B:$G,5,0)=\"\",\"-\",VLOOKUP($E116,site!$B:$G,5,0))))","v":"-"}]
["20-11-2020","23:45:00","Wales Premier League","Connahs Quay ","Cefn Druids ","W2","W1","W1","-","-","0.5 O (ST)","-","1.5 O (FT)","-","-","Cefn Druids ","Connahs Quay ","Connahs Quay ",{"$f":"IFERROR(IF(C117=\"\",\"\",IF(VLOOKUP(D117,site!$B:$D,3,0)=\"\",\"-\",VLOOKUP(D117,site!$B:$D,3,0))),IF(C117=\"\",\"\",IF(VLOOKUP(E117,site!$C:$D,2,0)=\"\",\"-\",VLOOKUP(E117,site!$C:$D,2,0))))","v":"— — "},{"$f":"IFERROR(IF($C117=\"\",\"\",IF(VLOOKUP($D117,site!$B:$F,4,0)=\"\",\"-\",VLOOKUP($D117,site!$B:$F,4,0))),IF($C117=\"\",\"\",IF(VLOOKUP($E117,site!$B:$F,3,0)=\"\",\"-\",VLOOKUP($E117,site!$B:$F,3,0))))","v":"1.23 "},{"$f":"IFERROR(IF($C117=\"\",\"\",IF(VLOOKUP($D117,site!$B:$F,5,0)=\"\",\"-\",VLOOKUP($D117,site!$B:$F,5,0))),IF($C117=\"\",\"\",IF(VLOOKUP($E117,site!$B:$F,4,0)=\"\",\"-\",VLOOKUP($E117,site!$B:$F,4,0))))","v":"6.1 "},{"$f":"IFERROR(IF($C117=\"\",\"\",IF(VLOOKUP($D117,site!$B:$G,6,0)=\"\",\"-\",VLOOKUP($D117,site!$B:$G,6,0))),IF($C117=\"\",\"\",IF(VLOOKUP($E117,site!$B:$G,5,0)=\"\",\"-\",VLOOKUP($E117,site!$B:$G,5,0))))","v":"9.8 "}]
["20-11-2020","23:45:00","Wales Premier League","Aberystwyth ","Bala Town ","W2","W2","W2","0.5 O (HT)","-","0.5 O (ST)","-","1.5 O (FT)","-","-","Bala Town ","Bala Town ","Bala Town ",{"$f":"IFERROR(IF(C118=\"\",\"\",IF(VLOOKUP(D118,site!$B:$D,3,0)=\"\",\"-\",VLOOKUP(D118,site!$B:$D,3,0))),IF(C118=\"\",\"\",IF(VLOOKUP(E118,site!$C:$D,2,0)=\"\",\"-\",VLOOKUP(E118,site!$C:$D,2,0))))","v":"— — "},{"$f":"IFERROR(IF($C118=\"\",\"\",IF(VLOOKUP($D118,site!$B:$F,4,0)=\"\",\"-\",VLOOKUP($D118,site!$B:$F,4,0))),IF($C118=\"\",\"\",IF(VLOOKUP($E118,site!$B:$F,3,0)=\"\",\"-\",VLOOKUP($E118,site!$B:$F,3,0))))","v":"4.12 "},{"$f":"IFERROR(IF($C118=\"\",\"\",IF(VLOOKUP($D118,site!$B:$F,5,0)=\"\",\"-\",VLOOKUP($D118,site!$B:$F,5,0))),IF($C118=\"\",\"\",IF(VLOOKUP($E118,site!$B:$F,4,0)=\"\",\"-\",VLOOKUP($E118,site!$B:$F,4,0))))","v":4},{"$f":"IFERROR(IF($C118=\"\",\"\",IF(VLOOKUP($D118,site!$B:$G,6,0)=\"\",\"-\",VLOOKUP($D118,site!$B:$G,6,0))),IF($C118=\"\",\"\",IF(VLOOKUP($E118,site!$B:$G,5,0)=\"\",\"-\",VLOOKUP($E118,site!$B:$G,5,0))))","v":"1.71 "}]
[null,null,null,null,null,null,null,null,null,null,null,null,null,null,null,null,null,null,{"$f":"IFERROR(IF(C119=\"\",\"\",IF(VLOOKUP(D119,site!$B:$D,3,0)=\"\",\"-\",VLOOKUP(D119,site!$B:$D,3,0))),IF(C119=\"\",\"\",IF(VLOOKUP(E119,site!$C:$D,2,0)=\"\",\"-\",VLOOKUP(E119,site!$C:$D,2,0))))","v":""},{"$f":"IFERROR(IF($C119=\"\",\"\",IF(VLOOKUP($D119,site!$B:$F,4,0)=\"\",\"-\",VLOOKUP($D119,site!$B:$F,4,0))),IF($C119=\"\",\"\",IF(VLOOKUP($E119,site!$B:$F,3,0)=\"\",\"-\",VLOOKUP($E119,site!$B:$F,3,0))))","v":""},{"$f":"IFERROR(IF($C119=\"\",\"\",IF(VLOOKUP($D119,site!$B:$F,5,0)=\"\",\"-\",VLOOKUP($D119,site!$B:$F,5,0))),IF($C119=\"\",\"\",IF(VLOOKUP($E119,site!$B:$F,4,0)=\"\",\"-\",VLOOKUP($E119,site!$B:$F,4,0))))","v":""},{"$f":"IFERROR(IF($C119=\"\",\"\",IF(VLOOKUP($D119,site!$B:$G,6,0)=\"\",\"-\",VLOOKUP($D119,site!$B:$G,6,0))),IF($C119=\"\",\"\",IF(VLOOKUP($E119,site!$B:$G,5,0)=\"\",\"-\",VLOOKUP($E119,site!$B:$G,5,0))))","v":""}]
[null,null,null,null,null,null,null,null,null,null,null,null,null,null,null,null,null,null,{"$f":"IFERROR(IF(C120=\"\",\"\",IF(VLOOKUP(D120,site!$B:$D,3,0)=\"\",\"-\",VLOOKUP(D120,site!$B:$D,3,0))),IF(C120=\"\",\"\",IF(VLOOKUP(E120,site!$C:$D,2,0)=\"\",\"-\",VLOOKUP(E120,site!$C:$D,2,0))))","v":""},{"$f":"IFERROR(IF($C120=\"\",\"\",IF(VLOOKUP($D120,site!$B:$F,4,0)=\"\",\"-\",VLOOKUP($D120,site!$B:$F,4,0))),IF($C120=\"\",\"\",IF(VLOOKUP($E120,site!$B:$F,3,0)=\"\",\"-\",VLOOKUP($E120,site!$B:$F,3,0))))","v":""},{"$f":"IFERROR(IF($C120=\"\",\"\",IF(VLOOKUP($D120,site!$B:$F,5,0)=\"\",\"-\",VLOOKUP($D120,site!$B:$F,5,0))),IF($C120=\"\",\"\",IF(VLOOKUP($E120,site!$B:$F,4,0)=\"\",\"-\",VLOOKUP($E120,site!$B:$F,4,0))))","v":""},{"$f":"IFERROR(IF($C120=\"\",\"\",IF(VLOOKUP($D120,site!$B:$G,6,0)=\"\",\"-\",VLOOKUP($D120,site!$B:$G,6,0))),IF($C120=\"\",\"\",IF(VLOOKUP($E120,site!$B:$G,5,0)=\"\",\"-\",VLOOKUP($E120,site!$B:$G,5,0))))","v":""}]
[null,null,null,null,null,null,null,null,null,null,null,null,null,null,null,null,null,null,{"$f":"IFERROR(IF(C121=\"\",\"\",IF(VLOOKUP(D121,site!$B:$D,3,0)=\"\",\"-\",VLOOKUP(D121,site!$B:$D,3,0))),IF(C121=\"\",\"\",IF(VLOOKUP(E121,site!$C:$D,2,0)=\"\",\"-\",VLOOKUP(E121,site!$C:$D,2,0))))","v":""},{"$f":"IFERROR(IF($C121=\"\",\"\",IF(VLOOKUP($D121,site!$B:$F,4,0)=\"\",\"-\",VLOOKUP($D121,site!$B:$F,4,0))),IF($C121=\"\",\"\",IF(VLOOKUP($E121,site!$B:$F,3,0)=\"\",\"-\",VLOOKUP($E121,site!$B:$F,3,0))))","v":""},{"$f":"IFERROR(IF($C121=\"\",\"\",IF(VLOOKUP($D121,site!$B:$F,5,0)=\"\",\"-\",VLOOKUP($D121,site!$B:$F,5,0))),IF($C121=\"\",\"\",IF(VLOOKUP($E121,site!$B:$F,4,0)=\"\",\"-\",VLOOKUP($E121,site!$B:$F,4,0))))","v":""},{"$f":"IFERROR(IF($C121=\"\",\"\",IF(VLOOKUP($D121,site!$B:$G,6,0)=\"\",\"-\",VLOOKUP($D121,site!$B:$G,6,0))),IF($C121=\"\",\"\",IF(VLOOKUP($E121,site!$B:$G,5,0)=\"\",\"-\",VLOOKUP($E121,site!$B:$G,5,0))))","v":""}]
[null,null,null,null,null,null,null,null,null,null,null,null,null,null,null,null,null,null,{"$f":"IFERROR(IF(C122=\"\",\"\",IF(VLOOKUP(D122,site!$B:$D,3,0)=\"\",\"-\",VLOOKUP(D122,site!$B:$D,3,0))),IF(C122=\"\",\"\",IF(VLOOKUP(E122,site!$C:$D,2,0)=\"\",\"-\",VLOOKUP(E122,site!$C:$D,2,0))))","v":""},{"$f":"IFERROR(IF($C122=\"\",\"\",IF(VLOOKUP($D122,site!$B:$F,4,0)=\"\",\"-\",VLOOKUP($D122,site!$B:$F,4,0))),IF($C122=\"\",\"\",IF(VLOOKUP($E122,site!$B:$F,3,0)=\"\",\"-\",VLOOKUP($E122,site!$B:$F,3,0))))","v":""},{"$f":"IFERROR(IF($C122=\"\",\"\",IF(VLOOKUP($D122,site!$B:$F,5,0)=\"\",\"-\",VLOOKUP($D122,site!$B:$F,5,0))),IF($C122=\"\",\"\",IF(VLOOKUP($E122,site!$B:$F,4,0)=\"\",\"-\",VLOOKUP($E122,site!$B:$F,4,0))))","v":""},{"$f":"IFERROR(IF($C122=\"\",\"\",IF(VLOOKUP($D122,site!$B:$G,6,0)=\"\",\"-\",VLOOKUP($D122,site!$B:$G,6,0))),IF($C122=\"\",\"\",IF(VLOOKUP($E122,site!$B:$G,5,0)=\"\",\"-\",VLOOKUP($E122,site!$B:$G,5,0))))","v":""}]
[null,null,null,null,null,null,null,null,null,null,null,null,null,null,null,null,null,null,{"$f":"IFERROR(IF(C123=\"\",\"\",IF(VLOOKUP(D123,site!$B:$D,3,0)=\"\",\"-\",VLOOKUP(D123,site!$B:$D,3,0))),IF(C123=\"\",\"\",IF(VLOOKUP(E123,site!$C:$D,2,0)=\"\",\"-\",VLOOKUP(E123,site!$C:$D,2,0))))","v":""},{"$f":"IFERROR(IF($C123=\"\",\"\",IF(VLOOKUP($D123,site!$B:$F,4,0)=\"\",\"-\",VLOOKUP($D123,site!$B:$F,4,0))),IF($C123=\"\",\"\",IF(VLOOKUP($E123,site!$B:$F,3,0)=\"\",\"-\",VLOOKUP($E123,site!$B:$F,3,0))))","v":""},{"$f":"IFERROR(IF($C123=\"\",\"\",IF(VLOOKUP($D123,site!$B:$F,5,0)=\"\",\"-\",VLOOKUP($D123,site!$B:$F,5,0))),IF($C123=\"\",\"\",IF(VLOOKUP($E123,site!$B:$F,4,0)=\"\",\"-\",VLOOKUP($E123,site!$B:$F,4,0))))","v":""},{"$f":"IFERROR(IF($C123=\"\",\"\",IF(VLOOKUP($D123,site!$B:$G,6,0)=\"\",\"-\",VLOOKUP($D123,site!$B:$G,6,0))),IF($C123=\"\",\"\",IF(VLOOKUP($E123,site!$B:$G,5,0)=\"\",\"-\",VLOOKUP($E123,site!$B:$G,5,0))))","v":""}]
[null,null,null,null,null,null,null,null,null,null,null,null,null,null,null,null,null,null,{"$f":"IFERROR(IF(C124=\"\",\"\",IF(VLOOKUP(D124,site!$B:$D,3,0)=\"\",\"-\",VLOOKUP(D124,site!$B:$D,3,0))),IF(C124=\"\",\"\",IF(VLOOKUP(E124,site!$C:$D,2,0)=\"\",\"-\",VLOOKUP(E124,site!$C:$D,2,0))))","v":""},{"$f":"IFERROR(IF($C124=\"\",\"\",IF(VLOOKUP($D124,site!$B:$F,4,0)=\"\",\"-\",VLOOKUP($D124,site!$B:$F,4,0))),IF($C124=\"\",\"\",IF(VLOOKUP($E124,site!$B:$F,3,0)=\"\",\"-\",VLOOKUP($E124,site!$B:$F,3,0))))","v":""},{"$f":"IFERROR(IF($C124=\"\",\"\",IF(VLOOKUP($D124,site!$B:$F,5,0)=\"\",\"-\",VLOOKUP($D124,site!$B:$F,5,0))),IF($C124=\"\",\"\",IF(VLOOKUP($E124,site!$B:$F,4,0)=\"\",\"-\",VLOOKUP($E124,site!$B:$F,4,0))))","v":""},{"$f":"IFERROR(IF($C124=\"\",\"\",IF(VLOOKUP($D124,site!$B:$G,6,0)=\"\",\"-\",VLOOKUP($D124,site!$B:$G,6,0))),IF($C124=\"\",\"\",IF(VLOOKUP($E124,site!$B:$G,5,0)=\"\",\"-\",VLOOKUP($E124,site!$B:$G,5,0))))","v":""}]
[null,null,null,null,null,null,null,null,null,null,null,null,null,null,null,null,null,null,{"$f":"IFERROR(IF(C125=\"\",\"\",IF(VLOOKUP(D125,site!$B:$D,3,0)=\"\",\"-\",VLOOKUP(D125,site!$B:$D,3,0))),IF(C125=\"\",\"\",IF(VLOOKUP(E125,site!$C:$D,2,0)=\"\",\"-\",VLOOKUP(E125,site!$C:$D,2,0))))","v":""},{"$f":"IFERROR(IF($C125=\"\",\"\",IF(VLOOKUP($D125,site!$B:$F,4,0)=\"\",\"-\",VLOOKUP($D125,site!$B:$F,4,0))),IF($C125=\"\",\"\",IF(VLOOKUP($E125,site!$B:$F,3,0)=\"\",\"-\",VLOOKUP($E125,site!$B:$F,3,0))))","v":""},{"$f":"IFERROR(IF($C125=\"\",\"\",IF(VLOOKUP($D125,site!$B:$F,5,0)=\"\",\"-\",VLOOKUP($D125,site!$B:$F,5,0))),IF($C125=\"\",\"\",IF(VLOOKUP($E125,site!$B:$F,4,0)=\"\",\"-\",VLOOKUP($E125,site!$B:$F,4,0))))","v":""},{"$f":"IFERROR(IF($C125=\"\",\"\",IF(VLOOKUP($D125,site!$B:$G,6,0)=\"\",\"-\",VLOOKUP($D125,site!$B:$G,6,0))),IF($C125=\"\",\"\",IF(VLOOKUP($E125,site!$B:$G,5,0)=\"\",\"-\",VLOOKUP($E125,site!$B:$G,5,0))))","v":""}]
[null,null,null,null,null,null,null,null,null,null,null,null,null,null,null,null,null,null,{"$f":"IFERROR(IF(C126=\"\",\"\",IF(VLOOKUP(D126,site!$B:$D,3,0)=\"\",\"-\",VLOOKUP(D126,site!$B:$D,3,0))),IF(C126=\"\",\"\",IF(VLOOKUP(E126,site!$C:$D,2,0)=\"\",\"-\",VLOOKUP(E126,site!$C:$D,2,0))))","v":""},{"$f":"IFERROR(IF($C126=\"\",\"\",IF(VLOOKUP($D126,site!$B:$F,4,0)=\"\",\"-\",VLOOKUP($D126,site!$B:$F,4,0))),IF($C126=\"\",\"\",IF(VLOOKUP($E126,site!$B:$F,3,0)=\"\",\"-\",VLOOKUP($E126,site!$B:$F,3,0))))","v":""},{"$f":"IFERROR(IF($C126=\"\",\"\",IF(VLOOKUP($D126,site!$B:$F,5,0)=\"\",\"-\",VLOOKUP($D126,site!$B:$F,5,0))),IF($C126=\"\",\"\",IF(VLOOKUP($E126,site!$B:$F,4,0)=\"\",\"-\",VLOOKUP($E126,site!$B:$F,4,0))))","v":""},{"$f":"IFERROR(IF($C126=\"\",\"\",IF(VLOOKUP($D126,site!$B:$G,6,0)=\"\",\"-\",VLOOKUP($D126,site!$B:$G,6,0))),IF($C126=\"\",\"\",IF(VLOOKUP($E126,site!$B:$G,5,0)=\"\",\"-\",VLOOKUP($E126,site!$B:$G,5,0))))","v":""}]
[null,null,null,null,null,null,null,null,null,null,null,null,null,null,null,null,null,null,{"$f":"IFERROR(IF(C127=\"\",\"\",IF(VLOOKUP(D127,site!$B:$D,3,0)=\"\",\"-\",VLOOKUP(D127,site!$B:$D,3,0))),IF(C127=\"\",\"\",IF(VLOOKUP(E127,site!$C:$D,2,0)=\"\",\"-\",VLOOKUP(E127,site!$C:$D,2,0))))","v":""},{"$f":"IFERROR(IF($C127=\"\",\"\",IF(VLOOKUP($D127,site!$B:$F,4,0)=\"\",\"-\",VLOOKUP($D127,site!$B:$F,4,0))),IF($C127=\"\",\"\",IF(VLOOKUP($E127,site!$B:$F,3,0)=\"\",\"-\",VLOOKUP($E127,site!$B:$F,3,0))))","v":""},{"$f":"IFERROR(IF($C127=\"\",\"\",IF(VLOOKUP($D127,site!$B:$F,5,0)=\"\",\"-\",VLOOKUP($D127,site!$B:$F,5,0))),IF($C127=\"\",\"\",IF(VLOOKUP($E127,site!$B:$F,4,0)=\"\",\"-\",VLOOKUP($E127,site!$B:$F,4,0))))","v":""},{"$f":"IFERROR(IF($C127=\"\",\"\",IF(VLOOKUP($D127,site!$B:$G,6,0)=\"\",\"-\",VLOOKUP($D127,site!$B:$G,6,0))),IF($C127=\"\",\"\",IF(VLOOKUP($E127,site!$B:$G,5,0)=\"\",\"-\",VLOOKUP($E127,site!$B:$G,5,0))))","v":""}]
[null,null,null,null,null,null,null,null,null,null,null,null,null,null,null,null,null,null,{"$f":"IFERROR(IF(C128=\"\",\"\",IF(VLOOKUP(D128,site!$B:$D,3,0)=\"\",\"-\",VLOOKUP(D128,site!$B:$D,3,0))),IF(C128=\"\",\"\",IF(VLOOKUP(E128,site!$C:$D,2,0)=\"\",\"-\",VLOOKUP(E128,site!$C:$D,2,0))))","v":""},{"$f":"IFERROR(IF($C128=\"\",\"\",IF(VLOOKUP($D128,site!$B:$F,4,0)=\"\",\"-\",VLOOKUP($D128,site!$B:$F,4,0))),IF($C128=\"\",\"\",IF(VLOOKUP($E128,site!$B:$F,3,0)=\"\",\"-\",VLOOKUP($E128,site!$B:$F,3,0))))","v":""},{"$f":"IFERROR(IF($C128=\"\",\"\",IF(VLOOKUP($D128,site!$B:$F,5,0)=\"\",\"-\",VLOOKUP($D128,site!$B:$F,5,0))),IF($C128=\"\",\"\",IF(VLOOKUP($E128,site!$B:$F,4,0)=\"\",\"-\",VLOOKUP($E128,site!$B:$F,4,0))))","v":""},{"$f":"IFERROR(IF($C128=\"\",\"\",IF(VLOOKUP($D128,site!$B:$G,6,0)=\"\",\"-\",VLOOKUP($D128,site!$B:$G,6,0))),IF($C128=\"\",\"\",IF(VLOOKUP($E128,site!$B:$G,5,0)=\"\",\"-\",VLOOKUP($E128,site!$B:$G,5,0))))","v":""}]
[null,null,null,null,null,null,null,null,null,null,null,null,null,null,null,null,null,null,{"$f":"IFERROR(IF(C129=\"\",\"\",IF(VLOOKUP(D129,site!$B:$D,3,0)=\"\",\"-\",VLOOKUP(D129,site!$B:$D,3,0))),IF(C129=\"\",\"\",IF(VLOOKUP(E129,site!$C:$D,2,0)=\"\",\"-\",VLOOKUP(E129,site!$C:$D,2,0))))","v":""},{"$f":"IFERROR(IF($C129=\"\",\"\",IF(VLOOKUP($D129,site!$B:$F,4,0)=\"\",\"-\",VLOOKUP($D129,site!$B:$F,4,0))),IF($C129=\"\",\"\",IF(VLOOKUP($E129,site!$B:$F,3,0)=\"\",\"-\",VLOOKUP($E129,site!$B:$F,3,0))))","v":""},{"$f":"IFERROR(IF($C129=\"\",\"\",IF(VLOOKUP($D129,site!$B:$F,5,0)=\"\",\"-\",VLOOKUP($D129,site!$B:$F,5,0))),IF($C129=\"\",\"\",IF(VLOOKUP($E129,site!$B:$F,4,0)=\"\",\"-\",VLOOKUP($E129,site!$B:$F,4,0))))","v":""},{"$f":"IFERROR(IF($C129=\"\",\"\",IF(VLOOKUP($D129,site!$B:$G,6,0)=\"\",\"-\",VLOOKUP($D129,site!$B:$G,6,0))),IF($C129=\"\",\"\",IF(VLOOKUP($E129,site!$B:$G,5,0)=\"\",\"-\",VLOOKUP($E129,site!$B:$G,5,0))))","v":""}]
[null,null,null,null,null,null,null,null,null,null,null,null,null,null,null,null,null,null,{"$f":"IFERROR(IF(C130=\"\",\"\",IF(VLOOKUP(D130,site!$B:$D,3,0)=\"\",\"-\",VLOOKUP(D130,site!$B:$D,3,0))),IF(C130=\"\",\"\",IF(VLOOKUP(E130,site!$C:$D,2,0)=\"\",\"-\",VLOOKUP(E130,site!$C:$D,2,0))))","v":""},{"$f":"IFERROR(IF($C130=\"\",\"\",IF(VLOOKUP($D130,site!$B:$F,4,0)=\"\",\"-\",VLOOKUP($D130,site!$B:$F,4,0))),IF($C130=\"\",\"\",IF(VLOOKUP($E130,site!$B:$F,3,0)=\"\",\"-\",VLOOKUP($E130,site!$B:$F,3,0))))","v":""},{"$f":"IFERROR(IF($C130=\"\",\"\",IF(VLOOKUP($D130,site!$B:$F,5,0)=\"\",\"-\",VLOOKUP($D130,site!$B:$F,5,0))),IF($C130=\"\",\"\",IF(VLOOKUP($E130,site!$B:$F,4,0)=\"\",\"-\",VLOOKUP($E130,site!$B:$F,4,0))))","v":""},{"$f":"IFERROR(IF($C130=\"\",\"\",IF(VLOOKUP($D130,site!$B:$G,6,0)=\"\",\"-\",VLOOKUP($D130,site!$B:$G,6,0))),IF($C130=\"\",\"\",IF(VLOOKUP($E130,site!$B:$G,5,0)=\"\",\"-\",VLOOKUP($E130,site!$B:$G,5,0))))","v":""}]
[null,null,null,null,null,null,null,null,null,null,null,null,null,null,null,null,null,null,{"$f":"IFERROR(IF(C131=\"\",\"\",IF(VLOOKUP(D131,site!$B:$D,3,0)=\"\",\"-\",VLOOKUP(D131,site!$B:$D,3,0))),IF(C131=\"\",\"\",IF(VLOOKUP(E131,site!$C:$D,2,0)=\"\",\"-\",VLOOKUP(E131,site!$C:$D,2,0))))","v":""},{"$f":"IFERROR(IF($C131=\"\",\"\",IF(VLOOKUP($D131,site!$B:$F,4,0)=\"\",\"-\",VLOOKUP($D131,site!$B:$F,4,0))),IF($C131=\"\",\"\",IF(VLOOKUP($E131,site!$B:$F,3,0)=\"\",\"-\",VLOOKUP($E131,site!$B:$F,3,0))))","v":""},{"$f":"IFERROR(IF($C131=\"\",\"\",IF(VLOOKUP($D131,site!$B:$F,5,0)=\"\",\"-\",VLOOKUP($D131,site!$B:$F,5,0))),IF($C131=\"\",\"\",IF(VLOOKUP($E131,site!$B:$F,4,0)=\"\",\"-\",VLOOKUP($E131,site!$B:$F,4,0))))","v":""},{"$f":"IFERROR(IF($C131=\"\",\"\",IF(VLOOKUP($D131,site!$B:$G,6,0)=\"\",\"-\",VLOOKUP($D131,site!$B:$G,6,0))),IF($C131=\"\",\"\",IF(VLOOKUP($E131,site!$B:$G,5,0)=\"\",\"-\",VLOOKUP($E131,site!$B:$G,5,0))))","v":""}]
[null,null,null,null,null,null,null,null,null,null,null,null,null,null,null,null,null,null,{"$f":"IFERROR(IF(C132=\"\",\"\",IF(VLOOKUP(D132,site!$B:$D,3,0)=\"\",\"-\",VLOOKUP(D132,site!$B:$D,3,0))),IF(C132=\"\",\"\",IF(VLOOKUP(E132,site!$C:$D,2,0)=\"\",\"-\",VLOOKUP(E132,site!$C:$D,2,0))))","v":""},{"$f":"IFERROR(IF($C132=\"\",\"\",IF(VLOOKUP($D132,site!$B:$F,4,0)=\"\",\"-\",VLOOKUP($D132,site!$B:$F,4,0))),IF($C132=\"\",\"\",IF(VLOOKUP($E132,site!$B:$F,3,0)=\"\",\"-\",VLOOKUP($E132,site!$B:$F,3,0))))","v":""},{"$f":"IFERROR(IF($C132=\"\",\"\",IF(VLOOKUP($D132,site!$B:$F,5,0)=\"\",\"-\",VLOOKUP($D132,site!$B:$F,5,0))),IF($C132=\"\",\"\",IF(VLOOKUP($E132,site!$B:$F,4,0)=\"\",\"-\",VLOOKUP($E132,site!$B:$F,4,0))))","v":""},{"$f":"IFERROR(IF($C132=\"\",\"\",IF(VLOOKUP($D132,site!$B:$G,6,0)=\"\",\"-\",VLOOKUP($D132,site!$B:$G,6,0))),IF($C132=\"\",\"\",IF(VLOOKUP($E132,site!$B:$G,5,0)=\"\",\"-\",VLOOKUP($E132,site!$B:$G,5,0))))","v":""}]
[null,null,null,null,null,null,null,null,null,null,null,null,null,null,null,null,null,null,{"$f":"IFERROR(IF(C133=\"\",\"\",IF(VLOOKUP(D133,site!$B:$D,3,0)=\"\",\"-\",VLOOKUP(D133,site!$B:$D,3,0))),IF(C133=\"\",\"\",IF(VLOOKUP(E133,site!$C:$D,2,0)=\"\",\"-\",VLOOKUP(E133,site!$C:$D,2,0))))","v":""},{"$f":"IFERROR(IF($C133=\"\",\"\",IF(VLOOKUP($D133,site!$B:$F,4,0)=\"\",\"-\",VLOOKUP($D133,site!$B:$F,4,0))),IF($C133=\"\",\"\",IF(VLOOKUP($E133,site!$B:$F,3,0)=\"\",\"-\",VLOOKUP($E133,site!$B:$F,3,0))))","v":""},{"$f":"IFERROR(IF($C133=\"\",\"\",IF(VLOOKUP($D133,site!$B:$F,5,0)=\"\",\"-\",VLOOKUP($D133,site!$B:$F,5,0))),IF($C133=\"\",\"\",IF(VLOOKUP($E133,site!$B:$F,4,0)=\"\",\"-\",VLOOKUP($E133,site!$B:$F,4,0))))","v":""},{"$f":"IFERROR(IF($C133=\"\",\"\",IF(VLOOKUP($D133,site!$B:$G,6,0)=\"\",\"-\",VLOOKUP($D133,site!$B:$G,6,0))),IF($C133=\"\",\"\",IF(VLOOKUP($E133,site!$B:$G,5,0)=\"\",\"-\",VLOOKUP($E133,site!$B:$G,5,0))))","v":""}]
[null,null,null,null,null,null,null,null,null,null,null,null,null,null,null,null,null,null,{"$f":"IFERROR(IF(C134=\"\",\"\",IF(VLOOKUP(D134,site!$B:$D,3,0)=\"\",\"-\",VLOOKUP(D134,site!$B:$D,3,0))),IF(C134=\"\",\"\",IF(VLOOKUP(E134,site!$C:$D,2,0)=\"\",\"-\",VLOOKUP(E134,site!$C:$D,2,0))))","v":""},{"$f":"IFERROR(IF($C134=\"\",\"\",IF(VLOOKUP($D134,site!$B:$F,4,0)=\"\",\"-\",VLOOKUP($D134,site!$B:$F,4,0))),IF($C134=\"\",\"\",IF(VLOOKUP($E134,site!$B:$F,3,0)=\"\",\"-\",VLOOKUP($E134,site!$B:$F,3,0))))","v":""},{"$f":"IFERROR(IF($C134=\"\",\"\",IF(VLOOKUP($D134,site!$B:$F,5,0)=\"\",\"-\",VLOOKUP($D134,site!$B:$F,5,0))),IF($C134=\"\",\"\",IF(VLOOKUP($E134,site!$B:$F,4,0)=\"\",\"-\",VLOOKUP($E134,site!$B:$F,4,0))))","v":""},{"$f":"IFERROR(IF($C134=\"\",\"\",IF(VLOOKUP($D134,site!$B:$G,6,0)=\"\",\"-\",VLOOKUP($D134,site!$B:$G,6,0))),IF($C134=\"\",\"\",IF(VLOOKUP($E134,site!$B:$G,5,0)=\"\",\"-\",VLOOKUP($E134,site!$B:$G,5,0))))","v":""}]
[null,null,null,null,null,null,null,null,null,null,null,null,null,null,null,null,null,null,{"$f":"IFERROR(IF(C135=\"\",\"\",IF(VLOOKUP(D135,site!$B:$D,3,0)=\"\",\"-\",VLOOKUP(D135,site!$B:$D,3,0))),IF(C135=\"\",\"\",IF(VLOOKUP(E135,site!$C:$D,2,0)=\"\",\"-\",VLOOKUP(E135,site!$C:$D,2,0))))","v":""},{"$f":"IFERROR(IF($C135=\"\",\"\",IF(VLOOKUP($D135,site!$B:$F,4,0)=\"\",\"-\",VLOOKUP($D135,site!$B:$F,4,0))),IF($C135=\"\",\"\",IF(VLOOKUP($E135,site!$B:$F,3,0)=\"\",\"-\",VLOOKUP($E135,site!$B:$F,3,0))))","v":""},{"$f":"IFERROR(IF($C135=\"\",\"\",IF(VLOOKUP($D135,site!$B:$F,5,0)=\"\",\"-\",VLOOKUP($D135,site!$B:$F,5,0))),IF($C135=\"\",\"\",IF(VLOOKUP($E135,site!$B:$F,4,0)=\"\",\"-\",VLOOKUP($E135,site!$B:$F,4,0))))","v":""},{"$f":"IFERROR(IF($C135=\"\",\"\",IF(VLOOKUP($D135,site!$B:$G,6,0)=\"\",\"-\",VLOOKUP($D135,site!$B:$G,6,0))),IF($C135=\"\",\"\",IF(VLOOKUP($E135,site!$B:$G,5,0)=\"\",\"-\",VLOOKUP($E135,site!$B:$G,5,0))))","v":""}]
[null,null,null,null,null,null,null,null,null,null,null,null,null,null,null,null,null,null,{"$f":"IFERROR(IF(C136=\"\",\"\",IF(VLOOKUP(D136,site!$B:$D,3,0)=\"\",\"-\",VLOOKUP(D136,site!$B:$D,3,0))),IF(C136=\"\",\"\",IF(VLOOKUP(E136,site!$C:$D,2,0)=\"\",\"-\",VLOOKUP(E136,site!$C:$D,2,0))))","v":""},{"$f":"IFERROR(IF($C136=\"\",\"\",IF(VLOOKUP($D136,site!$B:$F,4,0)=\"\",\"-\",VLOOKUP($D136,site!$B:$F,4,0))),IF($C136=\"\",\"\",IF(VLOOKUP($E136,site!$B:$F,3,0)=\"\",\"-\",VLOOKUP($E136,site!$B:$F,3,0))))","v":""},{"$f":"IFERROR(IF($C136=\"\",\"\",IF(VLOOKUP($D136,site!$B:$F,5,0)=\"\",\"-\",VLOOKUP($D136,site!$B:$F,5,0))),IF($C136=\"\",\"\",IF(VLOOKUP($E136,site!$B:$F,4,0)=\"\",\"-\",VLOOKUP($E136,site!$B:$F,4,0))))","v":""},{"$f":"IFERROR(IF($C136=\"\",\"\",IF(VLOOKUP($D136,site!$B:$G,6,0)=\"\",\"-\",VLOOKUP($D136,site!$B:$G,6,0))),IF($C136=\"\",\"\",IF(VLOOKUP($E136,site!$B:$G,5,0)=\"\",\"-\",VLOOKUP($E136,site!$B:$G,5,0))))","v":""}]
[null,null,null,null,null,null,null,null,null,null,null,null,null,null,null,null,null,null,{"$f":"IFERROR(IF(C137=\"\",\"\",IF(VLOOKUP(D137,site!$B:$D,3,0)=\"\",\"-\",VLOOKUP(D137,site!$B:$D,3,0))),IF(C137=\"\",\"\",IF(VLOOKUP(E137,site!$C:$D,2,0)=\"\",\"-\",VLOOKUP(E137,site!$C:$D,2,0))))","v":""},{"$f":"IFERROR(IF($C137=\"\",\"\",IF(VLOOKUP($D137,site!$B:$F,4,0)=\"\",\"-\",VLOOKUP($D137,site!$B:$F,4,0))),IF($C137=\"\",\"\",IF(VLOOKUP($E137,site!$B:$F,3,0)=\"\",\"-\",VLOOKUP($E137,site!$B:$F,3,0))))","v":""},{"$f":"IFERROR(IF($C137=\"\",\"\",IF(VLOOKUP($D137,site!$B:$F,5,0)=\"\",\"-\",VLOOKUP($D137,site!$B:$F,5,0))),IF($C137=\"\",\"\",IF(VLOOKUP($E137,site!$B:$F,4,0)=\"\",\"-\",VLOOKUP($E137,site!$B:$F,4,0))))","v":""},{"$f":"IFERROR(IF($C137=\"\",\"\",IF(VLOOKUP($D137,site!$B:$G,6,0)=\"\",\"-\",VLOOKUP($D137,site!$B:$G,6,0))),IF($C137=\"\",\"\",IF(VLOOKUP($E137,site!$B:$G,5,0)=\"\",\"-\",VLOOKUP($E137,site!$B:$G,5,0))))","v":""}]
[null,null,null,null,null,null,null,null,null,null,null,null,null,null,null,null,null,null,{"$f":"IFERROR(IF(C138=\"\",\"\",IF(VLOOKUP(D138,site!$B:$D,3,0)=\"\",\"-\",VLOOKUP(D138,site!$B:$D,3,0))),IF(C138=\"\",\"\",IF(VLOOKUP(E138,site!$C:$D,2,0)=\"\",\"-\",VLOOKUP(E138,site!$C:$D,2,0))))","v":""},{"$f":"IFERROR(IF($C138=\"\",\"\",IF(VLOOKUP($D138,site!$B:$F,4,0)=\"\",\"-\",VLOOKUP($D138,site!$B:$F,4,0))),IF($C138=\"\",\"\",IF(VLOOKUP($E138,site!$B:$F,3,0)=\"\",\"-\",VLOOKUP($E138,site!$B:$F,3,0))))","v":""},{"$f":"IFERROR(IF($C138=\"\",\"\",IF(VLOOKUP($D138,site!$B:$F,5,0)=\"\",\"-\",VLOOKUP($D138,site!$B:$F,5,0))),IF($C138=\"\",\"\",IF(VLOOKUP($E138,site!$B:$F,4,0)=\"\",\"-\",VLOOKUP($E138,site!$B:$F,4,0))))","v":""},{"$f":"IFERROR(IF($C138=\"\",\"\",IF(VLOOKUP($D138,site!$B:$G,6,0)=\"\",\"-\",VLOOKUP($D138,site!$B:$G,6,0))),IF($C138=\"\",\"\",IF(VLOOKUP($E138,site!$B:$G,5,0)=\"\",\"-\",VLOOKUP($E138,site!$B:$G,5,0))))","v":""}]
[null,null,null,null,null,null,null,null,null,null,null,null,null,null,null,null,null,null,{"$f":"IFERROR(IF(C139=\"\",\"\",IF(VLOOKUP(D139,site!$B:$D,3,0)=\"\",\"-\",VLOOKUP(D139,site!$B:$D,3,0))),IF(C139=\"\",\"\",IF(VLOOKUP(E139,site!$C:$D,2,0)=\"\",\"-\",VLOOKUP(E139,site!$C:$D,2,0))))","v":""},{"$f":"IFERROR(IF($C139=\"\",\"\",IF(VLOOKUP($D139,site!$B:$F,4,0)=\"\",\"-\",VLOOKUP($D139,site!$B:$F,4,0))),IF($C139=\"\",\"\",IF(VLOOKUP($E139,site!$B:$F,3,0)=\"\",\"-\",VLOOKUP($E139,site!$B:$F,3,0))))","v":""},{"$f":"IFERROR(IF($C139=\"\",\"\",IF(VLOOKUP($D139,site!$B:$F,5,0)=\"\",\"-\",VLOOKUP($D139,site!$B:$F,5,0))),IF($C139=\"\",\"\",IF(VLOOKUP($E139,site!$B:$F,4,0)=\"\",\"-\",VLOOKUP($E139,site!$B:$F,4,0))))","v":""},{"$f":"IFERROR(IF($C139=\"\",\"\",IF(VLOOKUP($D139,site!$B:$G,6,0)=\"\",\"-\",VLOOKUP($D139,site!$B:$G,6,0))),IF($C139=\"\",\"\",IF(VLOOKUP($E139,site!$B:$G,5,0)=\"\",\"-\",VLOOKUP($E139,site!$B:$G,5,0))))","v":""}]
[null,null,null,null,null,null,null,null,null,null,null,null,null,null,null,null,null,null,{"$f":"IFERROR(IF(C140=\"\",\"\",IF(VLOOKUP(D140,site!$B:$D,3,0)=\"\",\"-\",VLOOKUP(D140,site!$B:$D,3,0))),IF(C140=\"\",\"\",IF(VLOOKUP(E140,site!$C:$D,2,0)=\"\",\"-\",VLOOKUP(E140,site!$C:$D,2,0))))","v":""},{"$f":"IFERROR(IF($C140=\"\",\"\",IF(VLOOKUP($D140,site!$B:$F,4,0)=\"\",\"-\",VLOOKUP($D140,site!$B:$F,4,0))),IF($C140=\"\",\"\",IF(VLOOKUP($E140,site!$B:$F,3,0)=\"\",\"-\",VLOOKUP($E140,site!$B:$F,3,0))))","v":""},{"$f":"IFERROR(IF($C140=\"\",\"\",IF(VLOOKUP($D140,site!$B:$F,5,0)=\"\",\"-\",VLOOKUP($D140,site!$B:$F,5,0))),IF($C140=\"\",\"\",IF(VLOOKUP($E140,site!$B:$F,4,0)=\"\",\"-\",VLOOKUP($E140,site!$B:$F,4,0))))","v":""},{"$f":"IFERROR(IF($C140=\"\",\"\",IF(VLOOKUP($D140,site!$B:$G,6,0)=\"\",\"-\",VLOOKUP($D140,site!$B:$G,6,0))),IF($C140=\"\",\"\",IF(VLOOKUP($E140,site!$B:$G,5,0)=\"\",\"-\",VLOOKUP($E140,site!$B:$G,5,0))))","v":""}]
[null,null,null,null,null,null,null,null,null,null,null,null,null,null,null,null,null,null,{"$f":"IFERROR(IF(C141=\"\",\"\",IF(VLOOKUP(D141,site!$B:$D,3,0)=\"\",\"-\",VLOOKUP(D141,site!$B:$D,3,0))),IF(C141=\"\",\"\",IF(VLOOKUP(E141,site!$C:$D,2,0)=\"\",\"-\",VLOOKUP(E141,site!$C:$D,2,0))))","v":""},{"$f":"IFERROR(IF($C141=\"\",\"\",IF(VLOOKUP($D141,site!$B:$F,4,0)=\"\",\"-\",VLOOKUP($D141,site!$B:$F,4,0))),IF($C141=\"\",\"\",IF(VLOOKUP($E141,site!$B:$F,3,0)=\"\",\"-\",VLOOKUP($E141,site!$B:$F,3,0))))","v":""},{"$f":"IFERROR(IF($C141=\"\",\"\",IF(VLOOKUP($D141,site!$B:$F,5,0)=\"\",\"-\",VLOOKUP($D141,site!$B:$F,5,0))),IF($C141=\"\",\"\",IF(VLOOKUP($E141,site!$B:$F,4,0)=\"\",\"-\",VLOOKUP($E141,site!$B:$F,4,0))))","v":""},{"$f":"IFERROR(IF($C141=\"\",\"\",IF(VLOOKUP($D141,site!$B:$G,6,0)=\"\",\"-\",VLOOKUP($D141,site!$B:$G,6,0))),IF($C141=\"\",\"\",IF(VLOOKUP($E141,site!$B:$G,5,0)=\"\",\"-\",VLOOKUP($E141,site!$B:$G,5,0))))","v":""}]
[null,null,null,null,null,null,null,null,null,null,null,null,null,null,null,null,null,null,{"$f":"IFERROR(IF(C142=\"\",\"\",IF(VLOOKUP(D142,site!$B:$D,3,0)=\"\",\"-\",VLOOKUP(D142,site!$B:$D,3,0))),IF(C142=\"\",\"\",IF(VLOOKUP(E142,site!$C:$D,2,0)=\"\",\"-\",VLOOKUP(E142,site!$C:$D,2,0))))","v":""},{"$f":"IFERROR(IF($C142=\"\",\"\",IF(VLOOKUP($D142,site!$B:$F,4,0)=\"\",\"-\",VLOOKUP($D142,site!$B:$F,4,0))),IF($C142=\"\",\"\",IF(VLOOKUP($E142,site!$B:$F,3,0)=\"\",\"-\",VLOOKUP($E142,site!$B:$F,3,0))))","v":""},{"$f":"IFERROR(IF($C142=\"\",\"\",IF(VLOOKUP($D142,site!$B:$F,5,0)=\"\",\"-\",VLOOKUP($D142,site!$B:$F,5,0))),IF($C142=\"\",\"\",IF(VLOOKUP($E142,site!$B:$F,4,0)=\"\",\"-\",VLOOKUP($E142,site!$B:$F,4,0))))","v":""},{"$f":"IFERROR(IF($C142=\"\",\"\",IF(VLOOKUP($D142,site!$B:$G,6,0)=\"\",\"-\",VLOOKUP($D142,site!$B:$G,6,0))),IF($C142=\"\",\"\",IF(VLOOKUP($E142,site!$B:$G,5,0)=\"\",\"-\",VLOOKUP($E142,site!$B:$G,5,0))))","v":""}]
[null,null,null,null,null,null,null,null,null,null,null,null,null,null,null,null,null,null,{"$f":"IFERROR(IF(C143=\"\",\"\",IF(VLOOKUP(D143,site!$B:$D,3,0)=\"\",\"-\",VLOOKUP(D143,site!$B:$D,3,0))),IF(C143=\"\",\"\",IF(VLOOKUP(E143,site!$C:$D,2,0)=\"\",\"-\",VLOOKUP(E143,site!$C:$D,2,0))))","v":""},{"$f":"IFERROR(IF($C143=\"\",\"\",IF(VLOOKUP($D143,site!$B:$F,4,0)=\"\",\"-\",VLOOKUP($D143,site!$B:$F,4,0))),IF($C143=\"\",\"\",IF(VLOOKUP($E143,site!$B:$F,3,0)=\"\",\"-\",VLOOKUP($E143,site!$B:$F,3,0))))","v":""},{"$f":"IFERROR(IF($C143=\"\",\"\",IF(VLOOKUP($D143,site!$B:$F,5,0)=\"\",\"-\",VLOOKUP($D143,site!$B:$F,5,0))),IF($C143=\"\",\"\",IF(VLOOKUP($E143,site!$B:$F,4,0)=\"\",\"-\",VLOOKUP($E143,site!$B:$F,4,0))))","v":""},{"$f":"IFERROR(IF($C143=\"\",\"\",IF(VLOOKUP($D143,site!$B:$G,6,0)=\"\",\"-\",VLOOKUP($D143,site!$B:$G,6,0))),IF($C143=\"\",\"\",IF(VLOOKUP($E143,site!$B:$G,5,0)=\"\",\"-\",VLOOKUP($E143,site!$B:$G,5,0))))","v":""}]
[null,null,null,null,null,null,null,null,null,null,null,null,null,null,null,null,null,null,{"$f":"IFERROR(IF(C144=\"\",\"\",IF(VLOOKUP(D144,site!$B:$D,3,0)=\"\",\"-\",VLOOKUP(D144,site!$B:$D,3,0))),IF(C144=\"\",\"\",IF(VLOOKUP(E144,site!$C:$D,2,0)=\"\",\"-\",VLOOKUP(E144,site!$C:$D,2,0))))","v":""},{"$f":"IFERROR(IF($C144=\"\",\"\",IF(VLOOKUP($D144,site!$B:$F,4,0)=\"\",\"-\",VLOOKUP($D144,site!$B:$F,4,0))),IF($C144=\"\",\"\",IF(VLOOKUP($E144,site!$B:$F,3,0)=\"\",\"-\",VLOOKUP($E144,site!$B:$F,3,0))))","v":""},{"$f":"IFERROR(IF($C144=\"\",\"\",IF(VLOOKUP($D144,site!$B:$F,5,0)=\"\",\"-\",VLOOKUP($D144,site!$B:$F,5,0))),IF($C144=\"\",\"\",IF(VLOOKUP($E144,site!$B:$F,4,0)=\"\",\"-\",VLOOKUP($E144,site!$B:$F,4,0))))","v":""},{"$f":"IFERROR(IF($C144=\"\",\"\",IF(VLOOKUP($D144,site!$B:$G,6,0)=\"\",\"-\",VLOOKUP($D144,site!$B:$G,6,0))),IF($C144=\"\",\"\",IF(VLOOKUP($E144,site!$B:$G,5,0)=\"\",\"-\",VLOOKUP($E144,site!$B:$G,5,0))))","v":""}]
[null,null,null,null,null,null,null,null,null,null,null,null,null,null,null,null,null,null,{"$f":"IFERROR(IF(C145=\"\",\"\",IF(VLOOKUP(D145,site!$B:$D,3,0)=\"\",\"-\",VLOOKUP(D145,site!$B:$D,3,0))),IF(C145=\"\",\"\",IF(VLOOKUP(E145,site!$C:$D,2,0)=\"\",\"-\",VLOOKUP(E145,site!$C:$D,2,0))))","v":""},{"$f":"IFERROR(IF($C145=\"\",\"\",IF(VLOOKUP($D145,site!$B:$F,4,0)=\"\",\"-\",VLOOKUP($D145,site!$B:$F,4,0))),IF($C145=\"\",\"\",IF(VLOOKUP($E145,site!$B:$F,3,0)=\"\",\"-\",VLOOKUP($E145,site!$B:$F,3,0))))","v":""},{"$f":"IFERROR(IF($C145=\"\",\"\",IF(VLOOKUP($D145,site!$B:$F,5,0)=\"\",\"-\",VLOOKUP($D145,site!$B:$F,5,0))),IF($C145=\"\",\"\",IF(VLOOKUP($E145,site!$B:$F,4,0)=\"\",\"-\",VLOOKUP($E145,site!$B:$F,4,0))))","v":""},{"$f":"IFERROR(IF($C145=\"\",\"\",IF(VLOOKUP($D145,site!$B:$G,6,0)=\"\",\"-\",VLOOKUP($D145,site!$B:$G,6,0))),IF($C145=\"\",\"\",IF(VLOOKUP($E145,site!$B:$G,5,0)=\"\",\"-\",VLOOKUP($E145,site!$B:$G,5,0))))","v":""}]
[null,null,null,null,null,null,null,null,null,null,null,null,null,null,null,null,null,null,{"$f":"IFERROR(IF(C146=\"\",\"\",IF(VLOOKUP(D146,site!$B:$D,3,0)=\"\",\"-\",VLOOKUP(D146,site!$B:$D,3,0))),IF(C146=\"\",\"\",IF(VLOOKUP(E146,site!$C:$D,2,0)=\"\",\"-\",VLOOKUP(E146,site!$C:$D,2,0))))","v":""},{"$f":"IFERROR(IF($C146=\"\",\"\",IF(VLOOKUP($D146,site!$B:$F,4,0)=\"\",\"-\",VLOOKUP($D146,site!$B:$F,4,0))),IF($C146=\"\",\"\",IF(VLOOKUP($E146,site!$B:$F,3,0)=\"\",\"-\",VLOOKUP($E146,site!$B:$F,3,0))))","v":""},{"$f":"IFERROR(IF($C146=\"\",\"\",IF(VLOOKUP($D146,site!$B:$F,5,0)=\"\",\"-\",VLOOKUP($D146,site!$B:$F,5,0))),IF($C146=\"\",\"\",IF(VLOOKUP($E146,site!$B:$F,4,0)=\"\",\"-\",VLOOKUP($E146,site!$B:$F,4,0))))","v":""},{"$f":"IFERROR(IF($C146=\"\",\"\",IF(VLOOKUP($D146,site!$B:$G,6,0)=\"\",\"-\",VLOOKUP($D146,site!$B:$G,6,0))),IF($C146=\"\",\"\",IF(VLOOKUP($E146,site!$B:$G,5,0)=\"\",\"-\",VLOOKUP($E146,site!$B:$G,5,0))))","v":""}]
[null,null,null,null,null,null,null,null,null,null,null,null,null,null,null,null,null,null,{"$f":"IFERROR(IF(C147=\"\",\"\",IF(VLOOKUP(D147,site!$B:$D,3,0)=\"\",\"-\",VLOOKUP(D147,site!$B:$D,3,0))),IF(C147=\"\",\"\",IF(VLOOKUP(E147,site!$C:$D,2,0)=\"\",\"-\",VLOOKUP(E147,site!$C:$D,2,0))))","v":""},{"$f":"IFERROR(IF($C147=\"\",\"\",IF(VLOOKUP($D147,site!$B:$F,4,0)=\"\",\"-\",VLOOKUP($D147,site!$B:$F,4,0))),IF($C147=\"\",\"\",IF(VLOOKUP($E147,site!$B:$F,3,0)=\"\",\"-\",VLOOKUP($E147,site!$B:$F,3,0))))","v":""},{"$f":"IFERROR(IF($C147=\"\",\"\",IF(VLOOKUP($D147,site!$B:$F,5,0)=\"\",\"-\",VLOOKUP($D147,site!$B:$F,5,0))),IF($C147=\"\",\"\",IF(VLOOKUP($E147,site!$B:$F,4,0)=\"\",\"-\",VLOOKUP($E147,site!$B:$F,4,0))))","v":""},{"$f":"IFERROR(IF($C147=\"\",\"\",IF(VLOOKUP($D147,site!$B:$G,6,0)=\"\",\"-\",VLOOKUP($D147,site!$B:$G,6,0))),IF($C147=\"\",\"\",IF(VLOOKUP($E147,site!$B:$G,5,0)=\"\",\"-\",VLOOKUP($E147,site!$B:$G,5,0))))","v":""}]
[null,null,null,null,null,null,null,null,null,null,null,null,null,null,null,null,null,null,{"$f":"IFERROR(IF(C148=\"\",\"\",IF(VLOOKUP(D148,site!$B:$D,3,0)=\"\",\"-\",VLOOKUP(D148,site!$B:$D,3,0))),IF(C148=\"\",\"\",IF(VLOOKUP(E148,site!$C:$D,2,0)=\"\",\"-\",VLOOKUP(E148,site!$C:$D,2,0))))","v":""},{"$f":"IFERROR(IF($C148=\"\",\"\",IF(VLOOKUP($D148,site!$B:$F,4,0)=\"\",\"-\",VLOOKUP($D148,site!$B:$F,4,0))),IF($C148=\"\",\"\",IF(VLOOKUP($E148,site!$B:$F,3,0)=\"\",\"-\",VLOOKUP($E148,site!$B:$F,3,0))))","v":""},{"$f":"IFERROR(IF($C148=\"\",\"\",IF(VLOOKUP($D148,site!$B:$F,5,0)=\"\",\"-\",VLOOKUP($D148,site!$B:$F,5,0))),IF($C148=\"\",\"\",IF(VLOOKUP($E148,site!$B:$F,4,0)=\"\",\"-\",VLOOKUP($E148,site!$B:$F,4,0))))","v":""},{"$f":"IFERROR(IF($C148=\"\",\"\",IF(VLOOKUP($D148,site!$B:$G,6,0)=\"\",\"-\",VLOOKUP($D148,site!$B:$G,6,0))),IF($C148=\"\",\"\",IF(VLOOKUP($E148,site!$B:$G,5,0)=\"\",\"-\",VLOOKUP($E148,site!$B:$G,5,0))))","v":""}]
[null,null,null,null,null,null,null,null,null,null,null,null,null,null,null,null,null,null,{"$f":"IFERROR(IF(C149=\"\",\"\",IF(VLOOKUP(D149,site!$B:$D,3,0)=\"\",\"-\",VLOOKUP(D149,site!$B:$D,3,0))),IF(C149=\"\",\"\",IF(VLOOKUP(E149,site!$C:$D,2,0)=\"\",\"-\",VLOOKUP(E149,site!$C:$D,2,0))))","v":""},{"$f":"IFERROR(IF($C149=\"\",\"\",IF(VLOOKUP($D149,site!$B:$F,4,0)=\"\",\"-\",VLOOKUP($D149,site!$B:$F,4,0))),IF($C149=\"\",\"\",IF(VLOOKUP($E149,site!$B:$F,3,0)=\"\",\"-\",VLOOKUP($E149,site!$B:$F,3,0))))","v":""},{"$f":"IFERROR(IF($C149=\"\",\"\",IF(VLOOKUP($D149,site!$B:$F,5,0)=\"\",\"-\",VLOOKUP($D149,site!$B:$F,5,0))),IF($C149=\"\",\"\",IF(VLOOKUP($E149,site!$B:$F,4,0)=\"\",\"-\",VLOOKUP($E149,site!$B:$F,4,0))))","v":""},{"$f":"IFERROR(IF($C149=\"\",\"\",IF(VLOOKUP($D149,site!$B:$G,6,0)=\"\",\"-\",VLOOKUP($D149,site!$B:$G,6,0))),IF($C149=\"\",\"\",IF(VLOOKUP($E149,site!$B:$G,5,0)=\"\",\"-\",VLOOKUP($E149,site!$B:$G,5,0))))","v":""}]
[null,null,null,null,null,null,null,null,null,null,null,null,null,null,null,null,null,null,{"$f":"IFERROR(IF(C150=\"\",\"\",IF(VLOOKUP(D150,site!$B:$D,3,0)=\"\",\"-\",VLOOKUP(D150,site!$B:$D,3,0))),IF(C150=\"\",\"\",IF(VLOOKUP(E150,site!$C:$D,2,0)=\"\",\"-\",VLOOKUP(E150,site!$C:$D,2,0))))","v":""},{"$f":"IFERROR(IF($C150=\"\",\"\",IF(VLOOKUP($D150,site!$B:$F,4,0)=\"\",\"-\",VLOOKUP($D150,site!$B:$F,4,0))),IF($C150=\"\",\"\",IF(VLOOKUP($E150,site!$B:$F,3,0)=\"\",\"-\",VLOOKUP($E150,site!$B:$F,3,0))))","v":""},{"$f":"IFERROR(IF($C150=\"\",\"\",IF(VLOOKUP($D150,site!$B:$F,5,0)=\"\",\"-\",VLOOKUP($D150,site!$B:$F,5,0))),IF($C150=\"\",\"\",IF(VLOOKUP($E150,site!$B:$F,4,0)=\"\",\"-\",VLOOKUP($E150,site!$B:$F,4,0))))","v":""},{"$f":"IFERROR(IF($C150=\"\",\"\",IF(VLOOKUP($D150,site!$B:$G,6,0)=\"\",\"-\",VLOOKUP($D150,site!$B:$G,6,0))),IF($C150=\"\",\"\",IF(VLOOKUP($E150,site!$B:$G,5,0)=\"\",\"-\",VLOOKUP($E150,site!$B:$G,5,0))))","v":""}]
[null,null,null,null,null,null,null,null,null,null,null,null,null,null,null,null,null,null,{"$f":"IFERROR(IF(C151=\"\",\"\",IF(VLOOKUP(D151,site!$B:$D,3,0)=\"\",\"-\",VLOOKUP(D151,site!$B:$D,3,0))),IF(C151=\"\",\"\",IF(VLOOKUP(E151,site!$C:$D,2,0)=\"\",\"-\",VLOOKUP(E151,site!$C:$D,2,0))))","v":""},{"$f":"IFERROR(IF($C151=\"\",\"\",IF(VLOOKUP($D151,site!$B:$F,4,0)=\"\",\"-\",VLOOKUP($D151,site!$B:$F,4,0))),IF($C151=\"\",\"\",IF(VLOOKUP($E151,site!$B:$F,3,0)=\"\",\"-\",VLOOKUP($E151,site!$B:$F,3,0))))","v":""},{"$f":"IFERROR(IF($C151=\"\",\"\",IF(VLOOKUP($D151,site!$B:$F,5,0)=\"\",\"-\",VLOOKUP($D151,site!$B:$F,5,0))),IF($C151=\"\",\"\",IF(VLOOKUP($E151,site!$B:$F,4,0)=\"\",\"-\",VLOOKUP($E151,site!$B:$F,4,0))))","v":""},{"$f":"IFERROR(IF($C151=\"\",\"\",IF(VLOOKUP($D151,site!$B:$G,6,0)=\"\",\"-\",VLOOKUP($D151,site!$B:$G,6,0))),IF($C151=\"\",\"\",IF(VLOOKUP($E151,site!$B:$G,5,0)=\"\",\"-\",VLOOKUP($E151,site!$B:$G,5,0))))","v":""}]
[null,null,null,null,null,null,null,null,null,null,null,null,null,null,null,null,null,null,{"$f":"IFERROR(IF(C152=\"\",\"\",IF(VLOOKUP(D152,site!$B:$D,3,0)=\"\",\"-\",VLOOKUP(D152,site!$B:$D,3,0))),IF(C152=\"\",\"\",IF(VLOOKUP(E152,site!$C:$D,2,0)=\"\",\"-\",VLOOKUP(E152,site!$C:$D,2,0))))","v":""},{"$f":"IFERROR(IF($C152=\"\",\"\",IF(VLOOKUP($D152,site!$B:$F,4,0)=\"\",\"-\",VLOOKUP($D152,site!$B:$F,4,0))),IF($C152=\"\",\"\",IF(VLOOKUP($E152,site!$B:$F,3,0)=\"\",\"-\",VLOOKUP($E152,site!$B:$F,3,0))))","v":""},{"$f":"IFERROR(IF($C152=\"\",\"\",IF(VLOOKUP($D152,site!$B:$F,5,0)=\"\",\"-\",VLOOKUP($D152,site!$B:$F,5,0))),IF($C152=\"\",\"\",IF(VLOOKUP($E152,site!$B:$F,4,0)=\"\",\"-\",VLOOKUP($E152,site!$B:$F,4,0))))","v":""},{"$f":"IFERROR(IF($C152=\"\",\"\",IF(VLOOKUP($D152,site!$B:$G,6,0)=\"\",\"-\",VLOOKUP($D152,site!$B:$G,6,0))),IF($C152=\"\",\"\",IF(VLOOKUP($E152,site!$B:$G,5,0)=\"\",\"-\",VLOOKUP($E152,site!$B:$G,5,0))))","v":""}]
[null,null,null,null,null,null,null,null,null,null,null,null,null,null,null,null,null,null,{"$f":"IFERROR(IF(C153=\"\",\"\",IF(VLOOKUP(D153,site!$B:$D,3,0)=\"\",\"-\",VLOOKUP(D153,site!$B:$D,3,0))),IF(C153=\"\",\"\",IF(VLOOKUP(E153,site!$C:$D,2,0)=\"\",\"-\",VLOOKUP(E153,site!$C:$D,2,0))))","v":""},{"$f":"IFERROR(IF($C153=\"\",\"\",IF(VLOOKUP($D153,site!$B:$F,4,0)=\"\",\"-\",VLOOKUP($D153,site!$B:$F,4,0))),IF($C153=\"\",\"\",IF(VLOOKUP($E153,site!$B:$F,3,0)=\"\",\"-\",VLOOKUP($E153,site!$B:$F,3,0))))","v":""},{"$f":"IFERROR(IF($C153=\"\",\"\",IF(VLOOKUP($D153,site!$B:$F,5,0)=\"\",\"-\",VLOOKUP($D153,site!$B:$F,5,0))),IF($C153=\"\",\"\",IF(VLOOKUP($E153,site!$B:$F,4,0)=\"\",\"-\",VLOOKUP($E153,site!$B:$F,4,0))))","v":""},{"$f":"IFERROR(IF($C153=\"\",\"\",IF(VLOOKUP($D153,site!$B:$G,6,0)=\"\",\"-\",VLOOKUP($D153,site!$B:$G,6,0))),IF($C153=\"\",\"\",IF(VLOOKUP($E153,site!$B:$G,5,0)=\"\",\"-\",VLOOKUP($E153,site!$B:$G,5,0))))","v":""}]
[null,null,null,null,null,null,null,null,null,null,null,null,null,null,null,null,null,null,{"$f":"IFERROR(IF(C154=\"\",\"\",IF(VLOOKUP(D154,site!$B:$D,3,0)=\"\",\"-\",VLOOKUP(D154,site!$B:$D,3,0))),IF(C154=\"\",\"\",IF(VLOOKUP(E154,site!$C:$D,2,0)=\"\",\"-\",VLOOKUP(E154,site!$C:$D,2,0))))","v":""},{"$f":"IFERROR(IF($C154=\"\",\"\",IF(VLOOKUP($D154,site!$B:$F,4,0)=\"\",\"-\",VLOOKUP($D154,site!$B:$F,4,0))),IF($C154=\"\",\"\",IF(VLOOKUP($E154,site!$B:$F,3,0)=\"\",\"-\",VLOOKUP($E154,site!$B:$F,3,0))))","v":""},{"$f":"IFERROR(IF($C154=\"\",\"\",IF(VLOOKUP($D154,site!$B:$F,5,0)=\"\",\"-\",VLOOKUP($D154,site!$B:$F,5,0))),IF($C154=\"\",\"\",IF(VLOOKUP($E154,site!$B:$F,4,0)=\"\",\"-\",VLOOKUP($E154,site!$B:$F,4,0))))","v":""},{"$f":"IFERROR(IF($C154=\"\",\"\",IF(VLOOKUP($D154,site!$B:$G,6,0)=\"\",\"-\",VLOOKUP($D154,site!$B:$G,6,0))),IF($C154=\"\",\"\",IF(VLOOKUP($E154,site!$B:$G,5,0)=\"\",\"-\",VLOOKUP($E154,site!$B:$G,5,0))))","v":""}]
[null,null,null,null,null,null,null,null,null,null,null,null,null,null,null,null,null,null,{"$f":"IFERROR(IF(C155=\"\",\"\",IF(VLOOKUP(D155,site!$B:$D,3,0)=\"\",\"-\",VLOOKUP(D155,site!$B:$D,3,0))),IF(C155=\"\",\"\",IF(VLOOKUP(E155,site!$C:$D,2,0)=\"\",\"-\",VLOOKUP(E155,site!$C:$D,2,0))))","v":""},{"$f":"IFERROR(IF($C155=\"\",\"\",IF(VLOOKUP($D155,site!$B:$F,4,0)=\"\",\"-\",VLOOKUP($D155,site!$B:$F,4,0))),IF($C155=\"\",\"\",IF(VLOOKUP($E155,site!$B:$F,3,0)=\"\",\"-\",VLOOKUP($E155,site!$B:$F,3,0))))","v":""},{"$f":"IFERROR(IF($C155=\"\",\"\",IF(VLOOKUP($D155,site!$B:$F,5,0)=\"\",\"-\",VLOOKUP($D155,site!$B:$F,5,0))),IF($C155=\"\",\"\",IF(VLOOKUP($E155,site!$B:$F,4,0)=\"\",\"-\",VLOOKUP($E155,site!$B:$F,4,0))))","v":""},{"$f":"IFERROR(IF($C155=\"\",\"\",IF(VLOOKUP($D155,site!$B:$G,6,0)=\"\",\"-\",VLOOKUP($D155,site!$B:$G,6,0))),IF($C155=\"\",\"\",IF(VLOOKUP($E155,site!$B:$G,5,0)=\"\",\"-\",VLOOKUP($E155,site!$B:$G,5,0))))","v":""}]
[null,null,null,null,null,null,null,null,null,null,null,null,null,null,null,null,null,null,{"$f":"IFERROR(IF(C156=\"\",\"\",IF(VLOOKUP(D156,site!$B:$D,3,0)=\"\",\"-\",VLOOKUP(D156,site!$B:$D,3,0))),IF(C156=\"\",\"\",IF(VLOOKUP(E156,site!$C:$D,2,0)=\"\",\"-\",VLOOKUP(E156,site!$C:$D,2,0))))","v":""},{"$f":"IFERROR(IF($C156=\"\",\"\",IF(VLOOKUP($D156,site!$B:$F,4,0)=\"\",\"-\",VLOOKUP($D156,site!$B:$F,4,0))),IF($C156=\"\",\"\",IF(VLOOKUP($E156,site!$B:$F,3,0)=\"\",\"-\",VLOOKUP($E156,site!$B:$F,3,0))))","v":""},{"$f":"IFERROR(IF($C156=\"\",\"\",IF(VLOOKUP($D156,site!$B:$F,5,0)=\"\",\"-\",VLOOKUP($D156,site!$B:$F,5,0))),IF($C156=\"\",\"\",IF(VLOOKUP($E156,site!$B:$F,4,0)=\"\",\"-\",VLOOKUP($E156,site!$B:$F,4,0))))","v":""},{"$f":"IFERROR(IF($C156=\"\",\"\",IF(VLOOKUP($D156,site!$B:$G,6,0)=\"\",\"-\",VLOOKUP($D156,site!$B:$G,6,0))),IF($C156=\"\",\"\",IF(VLOOKUP($E156,site!$B:$G,5,0)=\"\",\"-\",VLOOKUP($E156,site!$B:$G,5,0))))","v":""}]
[null,null,null,null,null,null,null,null,null,null,null,null,null,null,null,null,null,null,{"$f":"IFERROR(IF(C157=\"\",\"\",IF(VLOOKUP(D157,site!$B:$D,3,0)=\"\",\"-\",VLOOKUP(D157,site!$B:$D,3,0))),IF(C157=\"\",\"\",IF(VLOOKUP(E157,site!$C:$D,2,0)=\"\",\"-\",VLOOKUP(E157,site!$C:$D,2,0))))","v":""},{"$f":"IFERROR(IF($C157=\"\",\"\",IF(VLOOKUP($D157,site!$B:$F,4,0)=\"\",\"-\",VLOOKUP($D157,site!$B:$F,4,0))),IF($C157=\"\",\"\",IF(VLOOKUP($E157,site!$B:$F,3,0)=\"\",\"-\",VLOOKUP($E157,site!$B:$F,3,0))))","v":""},{"$f":"IFERROR(IF($C157=\"\",\"\",IF(VLOOKUP($D157,site!$B:$F,5,0)=\"\",\"-\",VLOOKUP($D157,site!$B:$F,5,0))),IF($C157=\"\",\"\",IF(VLOOKUP($E157,site!$B:$F,4,0)=\"\",\"-\",VLOOKUP($E157,site!$B:$F,4,0))))","v":""},{"$f":"IFERROR(IF($C157=\"\",\"\",IF(VLOOKUP($D157,site!$B:$G,6,0)=\"\",\"-\",VLOOKUP($D157,site!$B:$G,6,0))),IF($C157=\"\",\"\",IF(VLOOKUP($E157,site!$B:$G,5,0)=\"\",\"-\",VLOOKUP($E157,site!$B:$G,5,0))))","v":""}]
[null,null,null,null,null,null,null,null,null,null,null,null,null,null,null,null,null,null,{"$f":"IFERROR(IF(C158=\"\",\"\",IF(VLOOKUP(D158,site!$B:$D,3,0)=\"\",\"-\",VLOOKUP(D158,site!$B:$D,3,0))),IF(C158=\"\",\"\",IF(VLOOKUP(E158,site!$C:$D,2,0)=\"\",\"-\",VLOOKUP(E158,site!$C:$D,2,0))))","v":""},{"$f":"IFERROR(IF($C158=\"\",\"\",IF(VLOOKUP($D158,site!$B:$F,4,0)=\"\",\"-\",VLOOKUP($D158,site!$B:$F,4,0))),IF($C158=\"\",\"\",IF(VLOOKUP($E158,site!$B:$F,3,0)=\"\",\"-\",VLOOKUP($E158,site!$B:$F,3,0))))","v":""},{"$f":"IFERROR(IF($C158=\"\",\"\",IF(VLOOKUP($D158,site!$B:$F,5,0)=\"\",\"-\",VLOOKUP($D158,site!$B:$F,5,0))),IF($C158=\"\",\"\",IF(VLOOKUP($E158,site!$B:$F,4,0)=\"\",\"-\",VLOOKUP($E158,site!$B:$F,4,0))))","v":""},{"$f":"IFERROR(IF($C158=\"\",\"\",IF(VLOOKUP($D158,site!$B:$G,6,0)=\"\",\"-\",VLOOKUP($D158,site!$B:$G,6,0))),IF($C158=\"\",\"\",IF(VLOOKUP($E158,site!$B:$G,5,0)=\"\",\"-\",VLOOKUP($E158,site!$B:$G,5,0))))","v":""}]
[null,null,null,null,null,null,null,null,null,null,null,null,null,null,null,null,null,null,{"$f":"IFERROR(IF(C159=\"\",\"\",IF(VLOOKUP(D159,site!$B:$D,3,0)=\"\",\"-\",VLOOKUP(D159,site!$B:$D,3,0))),IF(C159=\"\",\"\",IF(VLOOKUP(E159,site!$C:$D,2,0)=\"\",\"-\",VLOOKUP(E159,site!$C:$D,2,0))))","v":""},{"$f":"IFERROR(IF($C159=\"\",\"\",IF(VLOOKUP($D159,site!$B:$F,4,0)=\"\",\"-\",VLOOKUP($D159,site!$B:$F,4,0))),IF($C159=\"\",\"\",IF(VLOOKUP($E159,site!$B:$F,3,0)=\"\",\"-\",VLOOKUP($E159,site!$B:$F,3,0))))","v":""},{"$f":"IFERROR(IF($C159=\"\",\"\",IF(VLOOKUP($D159,site!$B:$F,5,0)=\"\",\"-\",VLOOKUP($D159,site!$B:$F,5,0))),IF($C159=\"\",\"\",IF(VLOOKUP($E159,site!$B:$F,4,0)=\"\",\"-\",VLOOKUP($E159,site!$B:$F,4,0))))","v":""},{"$f":"IFERROR(IF($C159=\"\",\"\",IF(VLOOKUP($D159,site!$B:$G,6,0)=\"\",\"-\",VLOOKUP($D159,site!$B:$G,6,0))),IF($C159=\"\",\"\",IF(VLOOKUP($E159,site!$B:$G,5,0)=\"\",\"-\",VLOOKUP($E159,site!$B:$G,5,0))))","v":""}]
[null,null,null,null,null,null,null,null,null,null,null,null,null,null,null,null,null,null,{"$f":"IFERROR(IF(C160=\"\",\"\",IF(VLOOKUP(D160,site!$B:$D,3,0)=\"\",\"-\",VLOOKUP(D160,site!$B:$D,3,0))),IF(C160=\"\",\"\",IF(VLOOKUP(E160,site!$C:$D,2,0)=\"\",\"-\",VLOOKUP(E160,site!$C:$D,2,0))))","v":""},{"$f":"IFERROR(IF($C160=\"\",\"\",IF(VLOOKUP($D160,site!$B:$F,4,0)=\"\",\"-\",VLOOKUP($D160,site!$B:$F,4,0))),IF($C160=\"\",\"\",IF(VLOOKUP($E160,site!$B:$F,3,0)=\"\",\"-\",VLOOKUP($E160,site!$B:$F,3,0))))","v":""},{"$f":"IFERROR(IF($C160=\"\",\"\",IF(VLOOKUP($D160,site!$B:$F,5,0)=\"\",\"-\",VLOOKUP($D160,site!$B:$F,5,0))),IF($C160=\"\",\"\",IF(VLOOKUP($E160,site!$B:$F,4,0)=\"\",\"-\",VLOOKUP($E160,site!$B:$F,4,0))))","v":""},{"$f":"IFERROR(IF($C160=\"\",\"\",IF(VLOOKUP($D160,site!$B:$G,6,0)=\"\",\"-\",VLOOKUP($D160,site!$B:$G,6,0))),IF($C160=\"\",\"\",IF(VLOOKUP($E160,site!$B:$G,5,0)=\"\",\"-\",VLOOKUP($E160,site!$B:$G,5,0))))","v":""}]
[null,null,null,null,null,null,null,null,null,null,null,null,null,null,null,null,null,null,{"$f":"IFERROR(IF(C161=\"\",\"\",IF(VLOOKUP(D161,site!$B:$D,3,0)=\"\",\"-\",VLOOKUP(D161,site!$B:$D,3,0))),IF(C161=\"\",\"\",IF(VLOOKUP(E161,site!$C:$D,2,0)=\"\",\"-\",VLOOKUP(E161,site!$C:$D,2,0))))","v":""},{"$f":"IFERROR(IF($C161=\"\",\"\",IF(VLOOKUP($D161,site!$B:$F,4,0)=\"\",\"-\",VLOOKUP($D161,site!$B:$F,4,0))),IF($C161=\"\",\"\",IF(VLOOKUP($E161,site!$B:$F,3,0)=\"\",\"-\",VLOOKUP($E161,site!$B:$F,3,0))))","v":""},{"$f":"IFERROR(IF($C161=\"\",\"\",IF(VLOOKUP($D161,site!$B:$F,5,0)=\"\",\"-\",VLOOKUP($D161,site!$B:$F,5,0))),IF($C161=\"\",\"\",IF(VLOOKUP($E161,site!$B:$F,4,0)=\"\",\"-\",VLOOKUP($E161,site!$B:$F,4,0))))","v":""},{"$f":"IFERROR(IF($C161=\"\",\"\",IF(VLOOKUP($D161,site!$B:$G,6,0)=\"\",\"-\",VLOOKUP($D161,site!$B:$G,6,0))),IF($C161=\"\",\"\",IF(VLOOKUP($E161,site!$B:$G,5,0)=\"\",\"-\",VLOOKUP($E161,site!$B:$G,5,0))))","v":""}]
[null,null,null,null,null,null,null,null,null,null,null,null,null,null,null,null,null,null,{"$f":"IFERROR(IF(C162=\"\",\"\",IF(VLOOKUP(D162,site!$B:$D,3,0)=\"\",\"-\",VLOOKUP(D162,site!$B:$D,3,0))),IF(C162=\"\",\"\",IF(VLOOKUP(E162,site!$C:$D,2,0)=\"\",\"-\",VLOOKUP(E162,site!$C:$D,2,0))))","v":""},{"$f":"IFERROR(IF($C162=\"\",\"\",IF(VLOOKUP($D162,site!$B:$F,4,0)=\"\",\"-\",VLOOKUP($D162,site!$B:$F,4,0))),IF($C162=\"\",\"\",IF(VLOOKUP($E162,site!$B:$F,3,0)=\"\",\"-\",VLOOKUP($E162,site!$B:$F,3,0))))","v":""},{"$f":"IFERROR(IF($C162=\"\",\"\",IF(VLOOKUP($D162,site!$B:$F,5,0)=\"\",\"-\",VLOOKUP($D162,site!$B:$F,5,0))),IF($C162=\"\",\"\",IF(VLOOKUP($E162,site!$B:$F,4,0)=\"\",\"-\",VLOOKUP($E162,site!$B:$F,4,0))))","v":""},{"$f":"IFERROR(IF($C162=\"\",\"\",IF(VLOOKUP($D162,site!$B:$G,6,0)=\"\",\"-\",VLOOKUP($D162,site!$B:$G,6,0))),IF($C162=\"\",\"\",IF(VLOOKUP($E162,site!$B:$G,5,0)=\"\",\"-\",VLOOKUP($E162,site!$B:$G,5,0))))","v":""}]
[null,null,null,null,null,null,null,null,null,null,null,null,null,null,null,null,null,null,{"$f":"IFERROR(IF(C163=\"\",\"\",IF(VLOOKUP(D163,site!$B:$D,3,0)=\"\",\"-\",VLOOKUP(D163,site!$B:$D,3,0))),IF(C163=\"\",\"\",IF(VLOOKUP(E163,site!$C:$D,2,0)=\"\",\"-\",VLOOKUP(E163,site!$C:$D,2,0))))","v":""},{"$f":"IFERROR(IF($C163=\"\",\"\",IF(VLOOKUP($D163,site!$B:$F,4,0)=\"\",\"-\",VLOOKUP($D163,site!$B:$F,4,0))),IF($C163=\"\",\"\",IF(VLOOKUP($E163,site!$B:$F,3,0)=\"\",\"-\",VLOOKUP($E163,site!$B:$F,3,0))))","v":""},{"$f":"IFERROR(IF($C163=\"\",\"\",IF(VLOOKUP($D163,site!$B:$F,5,0)=\"\",\"-\",VLOOKUP($D163,site!$B:$F,5,0))),IF($C163=\"\",\"\",IF(VLOOKUP($E163,site!$B:$F,4,0)=\"\",\"-\",VLOOKUP($E163,site!$B:$F,4,0))))","v":""},{"$f":"IFERROR(IF($C163=\"\",\"\",IF(VLOOKUP($D163,site!$B:$G,6,0)=\"\",\"-\",VLOOKUP($D163,site!$B:$G,6,0))),IF($C163=\"\",\"\",IF(VLOOKUP($E163,site!$B:$G,5,0)=\"\",\"-\",VLOOKUP($E163,site!$B:$G,5,0))))","v":""}]
[null,null,null,null,null,null,null,null,null,null,null,null,null,null,null,null,null,null,{"$f":"IFERROR(IF(C164=\"\",\"\",IF(VLOOKUP(D164,site!$B:$D,3,0)=\"\",\"-\",VLOOKUP(D164,site!$B:$D,3,0))),IF(C164=\"\",\"\",IF(VLOOKUP(E164,site!$C:$D,2,0)=\"\",\"-\",VLOOKUP(E164,site!$C:$D,2,0))))","v":""},{"$f":"IFERROR(IF($C164=\"\",\"\",IF(VLOOKUP($D164,site!$B:$F,4,0)=\"\",\"-\",VLOOKUP($D164,site!$B:$F,4,0))),IF($C164=\"\",\"\",IF(VLOOKUP($E164,site!$B:$F,3,0)=\"\",\"-\",VLOOKUP($E164,site!$B:$F,3,0))))","v":""},{"$f":"IFERROR(IF($C164=\"\",\"\",IF(VLOOKUP($D164,site!$B:$F,5,0)=\"\",\"-\",VLOOKUP($D164,site!$B:$F,5,0))),IF($C164=\"\",\"\",IF(VLOOKUP($E164,site!$B:$F,4,0)=\"\",\"-\",VLOOKUP($E164,site!$B:$F,4,0))))","v":""},{"$f":"IFERROR(IF($C164=\"\",\"\",IF(VLOOKUP($D164,site!$B:$G,6,0)=\"\",\"-\",VLOOKUP($D164,site!$B:$G,6,0))),IF($C164=\"\",\"\",IF(VLOOKUP($E164,site!$B:$G,5,0)=\"\",\"-\",VLOOKUP($E164,site!$B:$G,5,0))))","v":""}]
[null,null,null,null,null,null,null,null,null,null,null,null,null,null,null,null,null,null,{"$f":"IFERROR(IF(C165=\"\",\"\",IF(VLOOKUP(D165,site!$B:$D,3,0)=\"\",\"-\",VLOOKUP(D165,site!$B:$D,3,0))),IF(C165=\"\",\"\",IF(VLOOKUP(E165,site!$C:$D,2,0)=\"\",\"-\",VLOOKUP(E165,site!$C:$D,2,0))))","v":""},{"$f":"IFERROR(IF($C165=\"\",\"\",IF(VLOOKUP($D165,site!$B:$F,4,0)=\"\",\"-\",VLOOKUP($D165,site!$B:$F,4,0))),IF($C165=\"\",\"\",IF(VLOOKUP($E165,site!$B:$F,3,0)=\"\",\"-\",VLOOKUP($E165,site!$B:$F,3,0))))","v":""},{"$f":"IFERROR(IF($C165=\"\",\"\",IF(VLOOKUP($D165,site!$B:$F,5,0)=\"\",\"-\",VLOOKUP($D165,site!$B:$F,5,0))),IF($C165=\"\",\"\",IF(VLOOKUP($E165,site!$B:$F,4,0)=\"\",\"-\",VLOOKUP($E165,site!$B:$F,4,0))))","v":""},{"$f":"IFERROR(IF($C165=\"\",\"\",IF(VLOOKUP($D165,site!$B:$G,6,0)=\"\",\"-\",VLOOKUP($D165,site!$B:$G,6,0))),IF($C165=\"\",\"\",IF(VLOOKUP($E165,site!$B:$G,5,0)=\"\",\"-\",VLOOKUP($E165,site!$B:$G,5,0))))","v":""}]
[null,null,null,null,null,null,null,null,null,null,null,null,null,null,null,null,null,null,{"$f":"IFERROR(IF(C166=\"\",\"\",IF(VLOOKUP(D166,site!$B:$D,3,0)=\"\",\"-\",VLOOKUP(D166,site!$B:$D,3,0))),IF(C166=\"\",\"\",IF(VLOOKUP(E166,site!$C:$D,2,0)=\"\",\"-\",VLOOKUP(E166,site!$C:$D,2,0))))","v":""},{"$f":"IFERROR(IF($C166=\"\",\"\",IF(VLOOKUP($D166,site!$B:$F,4,0)=\"\",\"-\",VLOOKUP($D166,site!$B:$F,4,0))),IF($C166=\"\",\"\",IF(VLOOKUP($E166,site!$B:$F,3,0)=\"\",\"-\",VLOOKUP($E166,site!$B:$F,3,0))))","v":""},{"$f":"IFERROR(IF($C166=\"\",\"\",IF(VLOOKUP($D166,site!$B:$F,5,0)=\"\",\"-\",VLOOKUP($D166,site!$B:$F,5,0))),IF($C166=\"\",\"\",IF(VLOOKUP($E166,site!$B:$F,4,0)=\"\",\"-\",VLOOKUP($E166,site!$B:$F,4,0))))","v":""},{"$f":"IFERROR(IF($C166=\"\",\"\",IF(VLOOKUP($D166,site!$B:$G,6,0)=\"\",\"-\",VLOOKUP($D166,site!$B:$G,6,0))),IF($C166=\"\",\"\",IF(VLOOKUP($E166,site!$B:$G,5,0)=\"\",\"-\",VLOOKUP($E166,site!$B:$G,5,0))))","v":""}]
[null,null,null,null,null,null,null,null,null,null,null,null,null,null,null,null,null,null,{"$f":"IFERROR(IF(C167=\"\",\"\",IF(VLOOKUP(D167,site!$B:$D,3,0)=\"\",\"-\",VLOOKUP(D167,site!$B:$D,3,0))),IF(C167=\"\",\"\",IF(VLOOKUP(E167,site!$C:$D,2,0)=\"\",\"-\",VLOOKUP(E167,site!$C:$D,2,0))))","v":""},{"$f":"IFERROR(IF($C167=\"\",\"\",IF(VLOOKUP($D167,site!$B:$F,4,0)=\"\",\"-\",VLOOKUP($D167,site!$B:$F,4,0))),IF($C167=\"\",\"\",IF(VLOOKUP($E167,site!$B:$F,3,0)=\"\",\"-\",VLOOKUP($E167,site!$B:$F,3,0))))","v":""},{"$f":"IFERROR(IF($C167=\"\",\"\",IF(VLOOKUP($D167,site!$B:$F,5,0)=\"\",\"-\",VLOOKUP($D167,site!$B:$F,5,0))),IF($C167=\"\",\"\",IF(VLOOKUP($E167,site!$B:$F,4,0)=\"\",\"-\",VLOOKUP($E167,site!$B:$F,4,0))))","v":""},{"$f":"IFERROR(IF($C167=\"\",\"\",IF(VLOOKUP($D167,site!$B:$G,6,0)=\"\",\"-\",VLOOKUP($D167,site!$B:$G,6,0))),IF($C167=\"\",\"\",IF(VLOOKUP($E167,site!$B:$G,5,0)=\"\",\"-\",VLOOKUP($E167,site!$B:$G,5,0))))","v":""}]
[null,null,null,null,null,null,null,null,null,null,null,null,null,null,null,null,null,null,{"$f":"IFERROR(IF(C168=\"\",\"\",IF(VLOOKUP(D168,site!$B:$D,3,0)=\"\",\"-\",VLOOKUP(D168,site!$B:$D,3,0))),IF(C168=\"\",\"\",IF(VLOOKUP(E168,site!$C:$D,2,0)=\"\",\"-\",VLOOKUP(E168,site!$C:$D,2,0))))","v":""},{"$f":"IFERROR(IF($C168=\"\",\"\",IF(VLOOKUP($D168,site!$B:$F,4,0)=\"\",\"-\",VLOOKUP($D168,site!$B:$F,4,0))),IF($C168=\"\",\"\",IF(VLOOKUP($E168,site!$B:$F,3,0)=\"\",\"-\",VLOOKUP($E168,site!$B:$F,3,0))))","v":""},{"$f":"IFERROR(IF($C168=\"\",\"\",IF(VLOOKUP($D168,site!$B:$F,5,0)=\"\",\"-\",VLOOKUP($D168,site!$B:$F,5,0))),IF($C168=\"\",\"\",IF(VLOOKUP($E168,site!$B:$F,4,0)=\"\",\"-\",VLOOKUP($E168,site!$B:$F,4,0))))","v":""},{"$f":"IFERROR(IF($C168=\"\",\"\",IF(VLOOKUP($D168,site!$B:$G,6,0)=\"\",\"-\",VLOOKUP($D168,site!$B:$G,6,0))),IF($C168=\"\",\"\",IF(VLOOKUP($E168,site!$B:$G,5,0)=\"\",\"-\",VLOOKUP($E168,site!$B:$G,5,0))))","v":""}]
[null,null,null,null,null,null,null,null,null,null,null,null,null,null,null,null,null,null,{"$f":"IFERROR(IF(C169=\"\",\"\",IF(VLOOKUP(D169,site!$B:$D,3,0)=\"\",\"-\",VLOOKUP(D169,site!$B:$D,3,0))),IF(C169=\"\",\"\",IF(VLOOKUP(E169,site!$C:$D,2,0)=\"\",\"-\",VLOOKUP(E169,site!$C:$D,2,0))))","v":""},{"$f":"IFERROR(IF($C169=\"\",\"\",IF(VLOOKUP($D169,site!$B:$F,4,0)=\"\",\"-\",VLOOKUP($D169,site!$B:$F,4,0))),IF($C169=\"\",\"\",IF(VLOOKUP($E169,site!$B:$F,3,0)=\"\",\"-\",VLOOKUP($E169,site!$B:$F,3,0))))","v":""},{"$f":"IFERROR(IF($C169=\"\",\"\",IF(VLOOKUP($D169,site!$B:$F,5,0)=\"\",\"-\",VLOOKUP($D169,site!$B:$F,5,0))),IF($C169=\"\",\"\",IF(VLOOKUP($E169,site!$B:$F,4,0)=\"\",\"-\",VLOOKUP($E169,site!$B:$F,4,0))))","v":""},{"$f":"IFERROR(IF($C169=\"\",\"\",IF(VLOOKUP($D169,site!$B:$G,6,0)=\"\",\"-\",VLOOKUP($D169,site!$B:$G,6,0))),IF($C169=\"\",\"\",IF(VLOOKUP($E169,site!$B:$G,5,0)=\"\",\"-\",VLOOKUP($E169,site!$B:$G,5,0))))","v":""}]
[null,null,null,null,null,null,null,null,null,null,null,null,null,null,null,null,null,null,{"$f":"IFERROR(IF(C170=\"\",\"\",IF(VLOOKUP(D170,site!$B:$D,3,0)=\"\",\"-\",VLOOKUP(D170,site!$B:$D,3,0))),IF(C170=\"\",\"\",IF(VLOOKUP(E170,site!$C:$D,2,0)=\"\",\"-\",VLOOKUP(E170,site!$C:$D,2,0))))","v":""},{"$f":"IFERROR(IF($C170=\"\",\"\",IF(VLOOKUP($D170,site!$B:$F,4,0)=\"\",\"-\",VLOOKUP($D170,site!$B:$F,4,0))),IF($C170=\"\",\"\",IF(VLOOKUP($E170,site!$B:$F,3,0)=\"\",\"-\",VLOOKUP($E170,site!$B:$F,3,0))))","v":""},{"$f":"IFERROR(IF($C170=\"\",\"\",IF(VLOOKUP($D170,site!$B:$F,5,0)=\"\",\"-\",VLOOKUP($D170,site!$B:$F,5,0))),IF($C170=\"\",\"\",IF(VLOOKUP($E170,site!$B:$F,4,0)=\"\",\"-\",VLOOKUP($E170,site!$B:$F,4,0))))","v":""},{"$f":"IFERROR(IF($C170=\"\",\"\",IF(VLOOKUP($D170,site!$B:$G,6,0)=\"\",\"-\",VLOOKUP($D170,site!$B:$G,6,0))),IF($C170=\"\",\"\",IF(VLOOKUP($E170,site!$B:$G,5,0)=\"\",\"-\",VLOOKUP($E170,site!$B:$G,5,0))))","v":""}]
[null,null,null,null,null,null,null,null,null,null,null,null,null,null,null,null,null,null,{"$f":"IFERROR(IF(C171=\"\",\"\",IF(VLOOKUP(D171,site!$B:$D,3,0)=\"\",\"-\",VLOOKUP(D171,site!$B:$D,3,0))),IF(C171=\"\",\"\",IF(VLOOKUP(E171,site!$C:$D,2,0)=\"\",\"-\",VLOOKUP(E171,site!$C:$D,2,0))))","v":""},{"$f":"IFERROR(IF($C171=\"\",\"\",IF(VLOOKUP($D171,site!$B:$F,4,0)=\"\",\"-\",VLOOKUP($D171,site!$B:$F,4,0))),IF($C171=\"\",\"\",IF(VLOOKUP($E171,site!$B:$F,3,0)=\"\",\"-\",VLOOKUP($E171,site!$B:$F,3,0))))","v":""},{"$f":"IFERROR(IF($C171=\"\",\"\",IF(VLOOKUP($D171,site!$B:$F,5,0)=\"\",\"-\",VLOOKUP($D171,site!$B:$F,5,0))),IF($C171=\"\",\"\",IF(VLOOKUP($E171,site!$B:$F,4,0)=\"\",\"-\",VLOOKUP($E171,site!$B:$F,4,0))))","v":""},{"$f":"IFERROR(IF($C171=\"\",\"\",IF(VLOOKUP($D171,site!$B:$G,6,0)=\"\",\"-\",VLOOKUP($D171,site!$B:$G,6,0))),IF($C171=\"\",\"\",IF(VLOOKUP($E171,site!$B:$G,5,0)=\"\",\"-\",VLOOKUP($E171,site!$B:$G,5,0))))","v":""}]
[null,null,null,null,null,null,null,null,null,null,null,null,null,null,null,null,null,null,{"$f":"IFERROR(IF(C172=\"\",\"\",IF(VLOOKUP(D172,site!$B:$D,3,0)=\"\",\"-\",VLOOKUP(D172,site!$B:$D,3,0))),IF(C172=\"\",\"\",IF(VLOOKUP(E172,site!$C:$D,2,0)=\"\",\"-\",VLOOKUP(E172,site!$C:$D,2,0))))","v":""},{"$f":"IFERROR(IF($C172=\"\",\"\",IF(VLOOKUP($D172,site!$B:$F,4,0)=\"\",\"-\",VLOOKUP($D172,site!$B:$F,4,0))),IF($C172=\"\",\"\",IF(VLOOKUP($E172,site!$B:$F,3,0)=\"\",\"-\",VLOOKUP($E172,site!$B:$F,3,0))))","v":""},{"$f":"IFERROR(IF($C172=\"\",\"\",IF(VLOOKUP($D172,site!$B:$F,5,0)=\"\",\"-\",VLOOKUP($D172,site!$B:$F,5,0))),IF($C172=\"\",\"\",IF(VLOOKUP($E172,site!$B:$F,4,0)=\"\",\"-\",VLOOKUP($E172,site!$B:$F,4,0))))","v":""},{"$f":"IFERROR(IF($C172=\"\",\"\",IF(VLOOKUP($D172,site!$B:$G,6,0)=\"\",\"-\",VLOOKUP($D172,site!$B:$G,6,0))),IF($C172=\"\",\"\",IF(VLOOKUP($E172,site!$B:$G,5,0)=\"\",\"-\",VLOOKUP($E172,site!$B:$G,5,0))))","v":""}]
[null,null,null,null,null,null,null,null,null,null,null,null,null,null,null,null,null,null,{"$f":"IFERROR(IF(C173=\"\",\"\",IF(VLOOKUP(D173,site!$B:$D,3,0)=\"\",\"-\",VLOOKUP(D173,site!$B:$D,3,0))),IF(C173=\"\",\"\",IF(VLOOKUP(E173,site!$C:$D,2,0)=\"\",\"-\",VLOOKUP(E173,site!$C:$D,2,0))))","v":""},{"$f":"IFERROR(IF($C173=\"\",\"\",IF(VLOOKUP($D173,site!$B:$F,4,0)=\"\",\"-\",VLOOKUP($D173,site!$B:$F,4,0))),IF($C173=\"\",\"\",IF(VLOOKUP($E173,site!$B:$F,3,0)=\"\",\"-\",VLOOKUP($E173,site!$B:$F,3,0))))","v":""},{"$f":"IFERROR(IF($C173=\"\",\"\",IF(VLOOKUP($D173,site!$B:$F,5,0)=\"\",\"-\",VLOOKUP($D173,site!$B:$F,5,0))),IF($C173=\"\",\"\",IF(VLOOKUP($E173,site!$B:$F,4,0)=\"\",\"-\",VLOOKUP($E173,site!$B:$F,4,0))))","v":""},{"$f":"IFERROR(IF($C173=\"\",\"\",IF(VLOOKUP($D173,site!$B:$G,6,0)=\"\",\"-\",VLOOKUP($D173,site!$B:$G,6,0))),IF($C173=\"\",\"\",IF(VLOOKUP($E173,site!$B:$G,5,0)=\"\",\"-\",VLOOKUP($E173,site!$B:$G,5,0))))","v":""}]
[null,null,null,null,null,null,null,null,null,null,null,null,null,null,null,null,null,null,{"$f":"IFERROR(IF(C174=\"\",\"\",IF(VLOOKUP(D174,site!$B:$D,3,0)=\"\",\"-\",VLOOKUP(D174,site!$B:$D,3,0))),IF(C174=\"\",\"\",IF(VLOOKUP(E174,site!$C:$D,2,0)=\"\",\"-\",VLOOKUP(E174,site!$C:$D,2,0))))","v":""},{"$f":"IFERROR(IF($C174=\"\",\"\",IF(VLOOKUP($D174,site!$B:$F,4,0)=\"\",\"-\",VLOOKUP($D174,site!$B:$F,4,0))),IF($C174=\"\",\"\",IF(VLOOKUP($E174,site!$B:$F,3,0)=\"\",\"-\",VLOOKUP($E174,site!$B:$F,3,0))))","v":""},{"$f":"IFERROR(IF($C174=\"\",\"\",IF(VLOOKUP($D174,site!$B:$F,5,0)=\"\",\"-\",VLOOKUP($D174,site!$B:$F,5,0))),IF($C174=\"\",\"\",IF(VLOOKUP($E174,site!$B:$F,4,0)=\"\",\"-\",VLOOKUP($E174,site!$B:$F,4,0))))","v":""},{"$f":"IFERROR(IF($C174=\"\",\"\",IF(VLOOKUP($D174,site!$B:$G,6,0)=\"\",\"-\",VLOOKUP($D174,site!$B:$G,6,0))),IF($C174=\"\",\"\",IF(VLOOKUP($E174,site!$B:$G,5,0)=\"\",\"-\",VLOOKUP($E174,site!$B:$G,5,0))))","v":""}]
[null,null,null,null,null,null,null,null,null,null,null,null,null,null,null,null,null,null,{"$f":"IFERROR(IF(C175=\"\",\"\",IF(VLOOKUP(D175,site!$B:$D,3,0)=\"\",\"-\",VLOOKUP(D175,site!$B:$D,3,0))),IF(C175=\"\",\"\",IF(VLOOKUP(E175,site!$C:$D,2,0)=\"\",\"-\",VLOOKUP(E175,site!$C:$D,2,0))))","v":""},{"$f":"IFERROR(IF($C175=\"\",\"\",IF(VLOOKUP($D175,site!$B:$F,4,0)=\"\",\"-\",VLOOKUP($D175,site!$B:$F,4,0))),IF($C175=\"\",\"\",IF(VLOOKUP($E175,site!$B:$F,3,0)=\"\",\"-\",VLOOKUP($E175,site!$B:$F,3,0))))","v":""},{"$f":"IFERROR(IF($C175=\"\",\"\",IF(VLOOKUP($D175,site!$B:$F,5,0)=\"\",\"-\",VLOOKUP($D175,site!$B:$F,5,0))),IF($C175=\"\",\"\",IF(VLOOKUP($E175,site!$B:$F,4,0)=\"\",\"-\",VLOOKUP($E175,site!$B:$F,4,0))))","v":""},{"$f":"IFERROR(IF($C175=\"\",\"\",IF(VLOOKUP($D175,site!$B:$G,6,0)=\"\",\"-\",VLOOKUP($D175,site!$B:$G,6,0))),IF($C175=\"\",\"\",IF(VLOOKUP($E175,site!$B:$G,5,0)=\"\",\"-\",VLOOKUP($E175,site!$B:$G,5,0))))","v":""}]
[null,null,null,null,null,null,null,null,null,null,null,null,null,null,null,null,null,null,{"$f":"IFERROR(IF(C176=\"\",\"\",IF(VLOOKUP(D176,site!$B:$D,3,0)=\"\",\"-\",VLOOKUP(D176,site!$B:$D,3,0))),IF(C176=\"\",\"\",IF(VLOOKUP(E176,site!$C:$D,2,0)=\"\",\"-\",VLOOKUP(E176,site!$C:$D,2,0))))","v":""},{"$f":"IFERROR(IF($C176=\"\",\"\",IF(VLOOKUP($D176,site!$B:$F,4,0)=\"\",\"-\",VLOOKUP($D176,site!$B:$F,4,0))),IF($C176=\"\",\"\",IF(VLOOKUP($E176,site!$B:$F,3,0)=\"\",\"-\",VLOOKUP($E176,site!$B:$F,3,0))))","v":""},{"$f":"IFERROR(IF($C176=\"\",\"\",IF(VLOOKUP($D176,site!$B:$F,5,0)=\"\",\"-\",VLOOKUP($D176,site!$B:$F,5,0))),IF($C176=\"\",\"\",IF(VLOOKUP($E176,site!$B:$F,4,0)=\"\",\"-\",VLOOKUP($E176,site!$B:$F,4,0))))","v":""},{"$f":"IFERROR(IF($C176=\"\",\"\",IF(VLOOKUP($D176,site!$B:$G,6,0)=\"\",\"-\",VLOOKUP($D176,site!$B:$G,6,0))),IF($C176=\"\",\"\",IF(VLOOKUP($E176,site!$B:$G,5,0)=\"\",\"-\",VLOOKUP($E176,site!$B:$G,5,0))))","v":""}]
[null,null,null,null,null,null,null,null,null,null,null,null,null,null,null,null,null,null,{"$f":"IFERROR(IF(C177=\"\",\"\",IF(VLOOKUP(D177,site!$B:$D,3,0)=\"\",\"-\",VLOOKUP(D177,site!$B:$D,3,0))),IF(C177=\"\",\"\",IF(VLOOKUP(E177,site!$C:$D,2,0)=\"\",\"-\",VLOOKUP(E177,site!$C:$D,2,0))))","v":""},{"$f":"IFERROR(IF($C177=\"\",\"\",IF(VLOOKUP($D177,site!$B:$F,4,0)=\"\",\"-\",VLOOKUP($D177,site!$B:$F,4,0))),IF($C177=\"\",\"\",IF(VLOOKUP($E177,site!$B:$F,3,0)=\"\",\"-\",VLOOKUP($E177,site!$B:$F,3,0))))","v":""},{"$f":"IFERROR(IF($C177=\"\",\"\",IF(VLOOKUP($D177,site!$B:$F,5,0)=\"\",\"-\",VLOOKUP($D177,site!$B:$F,5,0))),IF($C177=\"\",\"\",IF(VLOOKUP($E177,site!$B:$F,4,0)=\"\",\"-\",VLOOKUP($E177,site!$B:$F,4,0))))","v":""},{"$f":"IFERROR(IF($C177=\"\",\"\",IF(VLOOKUP($D177,site!$B:$G,6,0)=\"\",\"-\",VLOOKUP($D177,site!$B:$G,6,0))),IF($C177=\"\",\"\",IF(VLOOKUP($E177,site!$B:$G,5,0)=\"\",\"-\",VLOOKUP($E177,site!$B:$G,5,0))))","v":""}]
[null,null,null,null,null,null,null,null,null,null,null,null,null,null,null,null,null,null,{"$f":"IFERROR(IF(C178=\"\",\"\",IF(VLOOKUP(D178,site!$B:$D,3,0)=\"\",\"-\",VLOOKUP(D178,site!$B:$D,3,0))),IF(C178=\"\",\"\",IF(VLOOKUP(E178,site!$C:$D,2,0)=\"\",\"-\",VLOOKUP(E178,site!$C:$D,2,0))))","v":""},{"$f":"IFERROR(IF($C178=\"\",\"\",IF(VLOOKUP($D178,site!$B:$F,4,0)=\"\",\"-\",VLOOKUP($D178,site!$B:$F,4,0))),IF($C178=\"\",\"\",IF(VLOOKUP($E178,site!$B:$F,3,0)=\"\",\"-\",VLOOKUP($E178,site!$B:$F,3,0))))","v":""},{"$f":"IFERROR(IF($C178=\"\",\"\",IF(VLOOKUP($D178,site!$B:$F,5,0)=\"\",\"-\",VLOOKUP($D178,site!$B:$F,5,0))),IF($C178=\"\",\"\",IF(VLOOKUP($E178,site!$B:$F,4,0)=\"\",\"-\",VLOOKUP($E178,site!$B:$F,4,0))))","v":""},{"$f":"IFERROR(IF($C178=\"\",\"\",IF(VLOOKUP($D178,site!$B:$G,6,0)=\"\",\"-\",VLOOKUP($D178,site!$B:$G,6,0))),IF($C178=\"\",\"\",IF(VLOOKUP($E178,site!$B:$G,5,0)=\"\",\"-\",VLOOKUP($E178,site!$B:$G,5,0))))","v":""}]
[null,null,null,null,null,null,null,null,null,null,null,null,null,null,null,null,null,null,{"$f":"IFERROR(IF(C179=\"\",\"\",IF(VLOOKUP(D179,site!$B:$D,3,0)=\"\",\"-\",VLOOKUP(D179,site!$B:$D,3,0))),IF(C179=\"\",\"\",IF(VLOOKUP(E179,site!$C:$D,2,0)=\"\",\"-\",VLOOKUP(E179,site!$C:$D,2,0))))","v":""},{"$f":"IFERROR(IF($C179=\"\",\"\",IF(VLOOKUP($D179,site!$B:$F,4,0)=\"\",\"-\",VLOOKUP($D179,site!$B:$F,4,0))),IF($C179=\"\",\"\",IF(VLOOKUP($E179,site!$B:$F,3,0)=\"\",\"-\",VLOOKUP($E179,site!$B:$F,3,0))))","v":""},{"$f":"IFERROR(IF($C179=\"\",\"\",IF(VLOOKUP($D179,site!$B:$F,5,0)=\"\",\"-\",VLOOKUP($D179,site!$B:$F,5,0))),IF($C179=\"\",\"\",IF(VLOOKUP($E179,site!$B:$F,4,0)=\"\",\"-\",VLOOKUP($E179,site!$B:$F,4,0))))","v":""},{"$f":"IFERROR(IF($C179=\"\",\"\",IF(VLOOKUP($D179,site!$B:$G,6,0)=\"\",\"-\",VLOOKUP($D179,site!$B:$G,6,0))),IF($C179=\"\",\"\",IF(VLOOKUP($E179,site!$B:$G,5,0)=\"\",\"-\",VLOOKUP($E179,site!$B:$G,5,0))))","v":""}]
[null,null,null,null,null,null,null,null,null,null,null,null,null,null,null,null,null,null,{"$f":"IFERROR(IF(C180=\"\",\"\",IF(VLOOKUP(D180,site!$B:$D,3,0)=\"\",\"-\",VLOOKUP(D180,site!$B:$D,3,0))),IF(C180=\"\",\"\",IF(VLOOKUP(E180,site!$C:$D,2,0)=\"\",\"-\",VLOOKUP(E180,site!$C:$D,2,0))))","v":""},{"$f":"IFERROR(IF($C180=\"\",\"\",IF(VLOOKUP($D180,site!$B:$F,4,0)=\"\",\"-\",VLOOKUP($D180,site!$B:$F,4,0))),IF($C180=\"\",\"\",IF(VLOOKUP($E180,site!$B:$F,3,0)=\"\",\"-\",VLOOKUP($E180,site!$B:$F,3,0))))","v":""},{"$f":"IFERROR(IF($C180=\"\",\"\",IF(VLOOKUP($D180,site!$B:$F,5,0)=\"\",\"-\",VLOOKUP($D180,site!$B:$F,5,0))),IF($C180=\"\",\"\",IF(VLOOKUP($E180,site!$B:$F,4,0)=\"\",\"-\",VLOOKUP($E180,site!$B:$F,4,0))))","v":""},{"$f":"IFERROR(IF($C180=\"\",\"\",IF(VLOOKUP($D180,site!$B:$G,6,0)=\"\",\"-\",VLOOKUP($D180,site!$B:$G,6,0))),IF($C180=\"\",\"\",IF(VLOOKUP($E180,site!$B:$G,5,0)=\"\",\"-\",VLOOKUP($E180,site!$B:$G,5,0))))","v":""}]
[null,null,null,null,null,null,null,null,null,null,null,null,null,null,null,null,null,null,{"$f":"IFERROR(IF(C181=\"\",\"\",IF(VLOOKUP(D181,site!$B:$D,3,0)=\"\",\"-\",VLOOKUP(D181,site!$B:$D,3,0))),IF(C181=\"\",\"\",IF(VLOOKUP(E181,site!$C:$D,2,0)=\"\",\"-\",VLOOKUP(E181,site!$C:$D,2,0))))","v":""},{"$f":"IFERROR(IF($C181=\"\",\"\",IF(VLOOKUP($D181,site!$B:$F,4,0)=\"\",\"-\",VLOOKUP($D181,site!$B:$F,4,0))),IF($C181=\"\",\"\",IF(VLOOKUP($E181,site!$B:$F,3,0)=\"\",\"-\",VLOOKUP($E181,site!$B:$F,3,0))))","v":""},{"$f":"IFERROR(IF($C181=\"\",\"\",IF(VLOOKUP($D181,site!$B:$F,5,0)=\"\",\"-\",VLOOKUP($D181,site!$B:$F,5,0))),IF($C181=\"\",\"\",IF(VLOOKUP($E181,site!$B:$F,4,0)=\"\",\"-\",VLOOKUP($E181,site!$B:$F,4,0))))","v":""},{"$f":"IFERROR(IF($C181=\"\",\"\",IF(VLOOKUP($D181,site!$B:$G,6,0)=\"\",\"-\",VLOOKUP($D181,site!$B:$G,6,0))),IF($C181=\"\",\"\",IF(VLOOKUP($E181,site!$B:$G,5,0)=\"\",\"-\",VLOOKUP($E181,site!$B:$G,5,0))))","v":""}]
[null,null,null,null,null,null,null,null,null,null,null,null,null,null,null,null,null,null,{"$f":"IFERROR(IF(C182=\"\",\"\",IF(VLOOKUP(D182,site!$B:$D,3,0)=\"\",\"-\",VLOOKUP(D182,site!$B:$D,3,0))),IF(C182=\"\",\"\",IF(VLOOKUP(E182,site!$C:$D,2,0)=\"\",\"-\",VLOOKUP(E182,site!$C:$D,2,0))))","v":""},{"$f":"IFERROR(IF($C182=\"\",\"\",IF(VLOOKUP($D182,site!$B:$F,4,0)=\"\",\"-\",VLOOKUP($D182,site!$B:$F,4,0))),IF($C182=\"\",\"\",IF(VLOOKUP($E182,site!$B:$F,3,0)=\"\",\"-\",VLOOKUP($E182,site!$B:$F,3,0))))","v":""},{"$f":"IFERROR(IF($C182=\"\",\"\",IF(VLOOKUP($D182,site!$B:$F,5,0)=\"\",\"-\",VLOOKUP($D182,site!$B:$F,5,0))),IF($C182=\"\",\"\",IF(VLOOKUP($E182,site!$B:$F,4,0)=\"\",\"-\",VLOOKUP($E182,site!$B:$F,4,0))))","v":""},{"$f":"IFERROR(IF($C182=\"\",\"\",IF(VLOOKUP($D182,site!$B:$G,6,0)=\"\",\"-\",VLOOKUP($D182,site!$B:$G,6,0))),IF($C182=\"\",\"\",IF(VLOOKUP($E182,site!$B:$G,5,0)=\"\",\"-\",VLOOKUP($E182,site!$B:$G,5,0))))","v":""}]
[null,null,null,null,null,null,null,null,null,null,null,null,null,null,null,null,null,null,{"$f":"IFERROR(IF(C183=\"\",\"\",IF(VLOOKUP(D183,site!$B:$D,3,0)=\"\",\"-\",VLOOKUP(D183,site!$B:$D,3,0))),IF(C183=\"\",\"\",IF(VLOOKUP(E183,site!$C:$D,2,0)=\"\",\"-\",VLOOKUP(E183,site!$C:$D,2,0))))","v":""},{"$f":"IFERROR(IF($C183=\"\",\"\",IF(VLOOKUP($D183,site!$B:$F,4,0)=\"\",\"-\",VLOOKUP($D183,site!$B:$F,4,0))),IF($C183=\"\",\"\",IF(VLOOKUP($E183,site!$B:$F,3,0)=\"\",\"-\",VLOOKUP($E183,site!$B:$F,3,0))))","v":""},{"$f":"IFERROR(IF($C183=\"\",\"\",IF(VLOOKUP($D183,site!$B:$F,5,0)=\"\",\"-\",VLOOKUP($D183,site!$B:$F,5,0))),IF($C183=\"\",\"\",IF(VLOOKUP($E183,site!$B:$F,4,0)=\"\",\"-\",VLOOKUP($E183,site!$B:$F,4,0))))","v":""},{"$f":"IFERROR(IF($C183=\"\",\"\",IF(VLOOKUP($D183,site!$B:$G,6,0)=\"\",\"-\",VLOOKUP($D183,site!$B:$G,6,0))),IF($C183=\"\",\"\",IF(VLOOKUP($E183,site!$B:$G,5,0)=\"\",\"-\",VLOOKUP($E183,site!$B:$G,5,0))))","v":""}]
[null,null,null,null,null,null,null,null,null,null,null,null,null,null,null,null,null,null,{"$f":"IFERROR(IF(C184=\"\",\"\",IF(VLOOKUP(D184,site!$B:$D,3,0)=\"\",\"-\",VLOOKUP(D184,site!$B:$D,3,0))),IF(C184=\"\",\"\",IF(VLOOKUP(E184,site!$C:$D,2,0)=\"\",\"-\",VLOOKUP(E184,site!$C:$D,2,0))))","v":""},{"$f":"IFERROR(IF($C184=\"\",\"\",IF(VLOOKUP($D184,site!$B:$F,4,0)=\"\",\"-\",VLOOKUP($D184,site!$B:$F,4,0))),IF($C184=\"\",\"\",IF(VLOOKUP($E184,site!$B:$F,3,0)=\"\",\"-\",VLOOKUP($E184,site!$B:$F,3,0))))","v":""},{"$f":"IFERROR(IF($C184=\"\",\"\",IF(VLOOKUP($D184,site!$B:$F,5,0)=\"\",\"-\",VLOOKUP($D184,site!$B:$F,5,0))),IF($C184=\"\",\"\",IF(VLOOKUP($E184,site!$B:$F,4,0)=\"\",\"-\",VLOOKUP($E184,site!$B:$F,4,0))))","v":""},{"$f":"IFERROR(IF($C184=\"\",\"\",IF(VLOOKUP($D184,site!$B:$G,6,0)=\"\",\"-\",VLOOKUP($D184,site!$B:$G,6,0))),IF($C184=\"\",\"\",IF(VLOOKUP($E184,site!$B:$G,5,0)=\"\",\"-\",VLOOKUP($E184,site!$B:$G,5,0))))","v":""}]
[null,null,null,null,null,null,null,null,null,null,null,null,null,null,null,null,null,null,{"$f":"IFERROR(IF(C185=\"\",\"\",IF(VLOOKUP(D185,site!$B:$D,3,0)=\"\",\"-\",VLOOKUP(D185,site!$B:$D,3,0))),IF(C185=\"\",\"\",IF(VLOOKUP(E185,site!$C:$D,2,0)=\"\",\"-\",VLOOKUP(E185,site!$C:$D,2,0))))","v":""},{"$f":"IFERROR(IF($C185=\"\",\"\",IF(VLOOKUP($D185,site!$B:$F,4,0)=\"\",\"-\",VLOOKUP($D185,site!$B:$F,4,0))),IF($C185=\"\",\"\",IF(VLOOKUP($E185,site!$B:$F,3,0)=\"\",\"-\",VLOOKUP($E185,site!$B:$F,3,0))))","v":""},{"$f":"IFERROR(IF($C185=\"\",\"\",IF(VLOOKUP($D185,site!$B:$F,5,0)=\"\",\"-\",VLOOKUP($D185,site!$B:$F,5,0))),IF($C185=\"\",\"\",IF(VLOOKUP($E185,site!$B:$F,4,0)=\"\",\"-\",VLOOKUP($E185,site!$B:$F,4,0))))","v":""},{"$f":"IFERROR(IF($C185=\"\",\"\",IF(VLOOKUP($D185,site!$B:$G,6,0)=\"\",\"-\",VLOOKUP($D185,site!$B:$G,6,0))),IF($C185=\"\",\"\",IF(VLOOKUP($E185,site!$B:$G,5,0)=\"\",\"-\",VLOOKUP($E185,site!$B:$G,5,0))))","v":""}]
[null,null,null,null,null,null,null,null,null,null,null,null,null,null,null,null,null,null,{"$f":"IFERROR(IF(C186=\"\",\"\",IF(VLOOKUP(D186,site!$B:$D,3,0)=\"\",\"-\",VLOOKUP(D186,site!$B:$D,3,0))),IF(C186=\"\",\"\",IF(VLOOKUP(E186,site!$C:$D,2,0)=\"\",\"-\",VLOOKUP(E186,site!$C:$D,2,0))))","v":""},{"$f":"IFERROR(IF($C186=\"\",\"\",IF(VLOOKUP($D186,site!$B:$F,4,0)=\"\",\"-\",VLOOKUP($D186,site!$B:$F,4,0))),IF($C186=\"\",\"\",IF(VLOOKUP($E186,site!$B:$F,3,0)=\"\",\"-\",VLOOKUP($E186,site!$B:$F,3,0))))","v":""},{"$f":"IFERROR(IF($C186=\"\",\"\",IF(VLOOKUP($D186,site!$B:$F,5,0)=\"\",\"-\",VLOOKUP($D186,site!$B:$F,5,0))),IF($C186=\"\",\"\",IF(VLOOKUP($E186,site!$B:$F,4,0)=\"\",\"-\",VLOOKUP($E186,site!$B:$F,4,0))))","v":""},{"$f":"IFERROR(IF($C186=\"\",\"\",IF(VLOOKUP($D186,site!$B:$G,6,0)=\"\",\"-\",VLOOKUP($D186,site!$B:$G,6,0))),IF($C186=\"\",\"\",IF(VLOOKUP($E186,site!$B:$G,5,0)=\"\",\"-\",VLOOKUP($E186,site!$B:$G,5,0))))","v":""}]
[null,null,null,null,null,null,null,null,null,null,null,null,null,null,null,null,null,null,{"$f":"IFERROR(IF(C187=\"\",\"\",IF(VLOOKUP(D187,site!$B:$D,3,0)=\"\",\"-\",VLOOKUP(D187,site!$B:$D,3,0))),IF(C187=\"\",\"\",IF(VLOOKUP(E187,site!$C:$D,2,0)=\"\",\"-\",VLOOKUP(E187,site!$C:$D,2,0))))","v":""},{"$f":"IFERROR(IF($C187=\"\",\"\",IF(VLOOKUP($D187,site!$B:$F,4,0)=\"\",\"-\",VLOOKUP($D187,site!$B:$F,4,0))),IF($C187=\"\",\"\",IF(VLOOKUP($E187,site!$B:$F,3,0)=\"\",\"-\",VLOOKUP($E187,site!$B:$F,3,0))))","v":""},{"$f":"IFERROR(IF($C187=\"\",\"\",IF(VLOOKUP($D187,site!$B:$F,5,0)=\"\",\"-\",VLOOKUP($D187,site!$B:$F,5,0))),IF($C187=\"\",\"\",IF(VLOOKUP($E187,site!$B:$F,4,0)=\"\",\"-\",VLOOKUP($E187,site!$B:$F,4,0))))","v":""},{"$f":"IFERROR(IF($C187=\"\",\"\",IF(VLOOKUP($D187,site!$B:$G,6,0)=\"\",\"-\",VLOOKUP($D187,site!$B:$G,6,0))),IF($C187=\"\",\"\",IF(VLOOKUP($E187,site!$B:$G,5,0)=\"\",\"-\",VLOOKUP($E187,site!$B:$G,5,0))))","v":""}]
[null,null,null,null,null,null,null,null,null,null,null,null,null,null,null,null,null,null,{"$f":"IFERROR(IF(C188=\"\",\"\",IF(VLOOKUP(D188,site!$B:$D,3,0)=\"\",\"-\",VLOOKUP(D188,site!$B:$D,3,0))),IF(C188=\"\",\"\",IF(VLOOKUP(E188,site!$C:$D,2,0)=\"\",\"-\",VLOOKUP(E188,site!$C:$D,2,0))))","v":""},{"$f":"IFERROR(IF($C188=\"\",\"\",IF(VLOOKUP($D188,site!$B:$F,4,0)=\"\",\"-\",VLOOKUP($D188,site!$B:$F,4,0))),IF($C188=\"\",\"\",IF(VLOOKUP($E188,site!$B:$F,3,0)=\"\",\"-\",VLOOKUP($E188,site!$B:$F,3,0))))","v":""},{"$f":"IFERROR(IF($C188=\"\",\"\",IF(VLOOKUP($D188,site!$B:$F,5,0)=\"\",\"-\",VLOOKUP($D188,site!$B:$F,5,0))),IF($C188=\"\",\"\",IF(VLOOKUP($E188,site!$B:$F,4,0)=\"\",\"-\",VLOOKUP($E188,site!$B:$F,4,0))))","v":""},{"$f":"IFERROR(IF($C188=\"\",\"\",IF(VLOOKUP($D188,site!$B:$G,6,0)=\"\",\"-\",VLOOKUP($D188,site!$B:$G,6,0))),IF($C188=\"\",\"\",IF(VLOOKUP($E188,site!$B:$G,5,0)=\"\",\"-\",VLOOKUP($E188,site!$B:$G,5,0))))","v":""}]
[null,null,null,null,null,null,null,null,null,null,null,null,null,null,null,null,null,null,{"$f":"IFERROR(IF(C189=\"\",\"\",IF(VLOOKUP(D189,site!$B:$D,3,0)=\"\",\"-\",VLOOKUP(D189,site!$B:$D,3,0))),IF(C189=\"\",\"\",IF(VLOOKUP(E189,site!$C:$D,2,0)=\"\",\"-\",VLOOKUP(E189,site!$C:$D,2,0))))","v":""},{"$f":"IFERROR(IF($C189=\"\",\"\",IF(VLOOKUP($D189,site!$B:$F,4,0)=\"\",\"-\",VLOOKUP($D189,site!$B:$F,4,0))),IF($C189=\"\",\"\",IF(VLOOKUP($E189,site!$B:$F,3,0)=\"\",\"-\",VLOOKUP($E189,site!$B:$F,3,0))))","v":""},{"$f":"IFERROR(IF($C189=\"\",\"\",IF(VLOOKUP($D189,site!$B:$F,5,0)=\"\",\"-\",VLOOKUP($D189,site!$B:$F,5,0))),IF($C189=\"\",\"\",IF(VLOOKUP($E189,site!$B:$F,4,0)=\"\",\"-\",VLOOKUP($E189,site!$B:$F,4,0))))","v":""},{"$f":"IFERROR(IF($C189=\"\",\"\",IF(VLOOKUP($D189,site!$B:$G,6,0)=\"\",\"-\",VLOOKUP($D189,site!$B:$G,6,0))),IF($C189=\"\",\"\",IF(VLOOKUP($E189,site!$B:$G,5,0)=\"\",\"-\",VLOOKUP($E189,site!$B:$G,5,0))))","v":""}]
[null,null,null,null,null,null,null,null,null,null,null,null,null,null,null,null,null,null,{"$f":"IFERROR(IF(C190=\"\",\"\",IF(VLOOKUP(D190,site!$B:$D,3,0)=\"\",\"-\",VLOOKUP(D190,site!$B:$D,3,0))),IF(C190=\"\",\"\",IF(VLOOKUP(E190,site!$C:$D,2,0)=\"\",\"-\",VLOOKUP(E190,site!$C:$D,2,0))))","v":""},{"$f":"IFERROR(IF($C190=\"\",\"\",IF(VLOOKUP($D190,site!$B:$F,4,0)=\"\",\"-\",VLOOKUP($D190,site!$B:$F,4,0))),IF($C190=\"\",\"\",IF(VLOOKUP($E190,site!$B:$F,3,0)=\"\",\"-\",VLOOKUP($E190,site!$B:$F,3,0))))","v":""},{"$f":"IFERROR(IF($C190=\"\",\"\",IF(VLOOKUP($D190,site!$B:$F,5,0)=\"\",\"-\",VLOOKUP($D190,site!$B:$F,5,0))),IF($C190=\"\",\"\",IF(VLOOKUP($E190,site!$B:$F,4,0)=\"\",\"-\",VLOOKUP($E190,site!$B:$F,4,0))))","v":""},{"$f":"IFERROR(IF($C190=\"\",\"\",IF(VLOOKUP($D190,site!$B:$G,6,0)=\"\",\"-\",VLOOKUP($D190,site!$B:$G,6,0))),IF($C190=\"\",\"\",IF(VLOOKUP($E190,site!$B:$G,5,0)=\"\",\"-\",VLOOKUP($E190,site!$B:$G,5,0))))","v":""}]
[null,null,null,null,null,null,null,null,null,null,null,null,null,null,null,null,null,null,{"$f":"IFERROR(IF(C191=\"\",\"\",IF(VLOOKUP(D191,site!$B:$D,3,0)=\"\",\"-\",VLOOKUP(D191,site!$B:$D,3,0))),IF(C191=\"\",\"\",IF(VLOOKUP(E191,site!$C:$D,2,0)=\"\",\"-\",VLOOKUP(E191,site!$C:$D,2,0))))","v":""},{"$f":"IFERROR(IF($C191=\"\",\"\",IF(VLOOKUP($D191,site!$B:$F,4,0)=\"\",\"-\",VLOOKUP($D191,site!$B:$F,4,0))),IF($C191=\"\",\"\",IF(VLOOKUP($E191,site!$B:$F,3,0)=\"\",\"-\",VLOOKUP($E191,site!$B:$F,3,0))))","v":""},{"$f":"IFERROR(IF($C191=\"\",\"\",IF(VLOOKUP($D191,site!$B:$F,5,0)=\"\",\"-\",VLOOKUP($D191,site!$B:$F,5,0))),IF($C191=\"\",\"\",IF(VLOOKUP($E191,site!$B:$F,4,0)=\"\",\"-\",VLOOKUP($E191,site!$B:$F,4,0))))","v":""},{"$f":"IFERROR(IF($C191=\"\",\"\",IF(VLOOKUP($D191,site!$B:$G,6,0)=\"\",\"-\",VLOOKUP($D191,site!$B:$G,6,0))),IF($C191=\"\",\"\",IF(VLOOKUP($E191,site!$B:$G,5,0)=\"\",\"-\",VLOOKUP($E191,site!$B:$G,5,0))))","v":""}]
[null,null,null,null,null,null,null,null,null,null,null,null,null,null,null,null,null,null,{"$f":"IFERROR(IF(C192=\"\",\"\",IF(VLOOKUP(D192,site!$B:$D,3,0)=\"\",\"-\",VLOOKUP(D192,site!$B:$D,3,0))),IF(C192=\"\",\"\",IF(VLOOKUP(E192,site!$C:$D,2,0)=\"\",\"-\",VLOOKUP(E192,site!$C:$D,2,0))))","v":""},{"$f":"IFERROR(IF($C192=\"\",\"\",IF(VLOOKUP($D192,site!$B:$F,4,0)=\"\",\"-\",VLOOKUP($D192,site!$B:$F,4,0))),IF($C192=\"\",\"\",IF(VLOOKUP($E192,site!$B:$F,3,0)=\"\",\"-\",VLOOKUP($E192,site!$B:$F,3,0))))","v":""},{"$f":"IFERROR(IF($C192=\"\",\"\",IF(VLOOKUP($D192,site!$B:$F,5,0)=\"\",\"-\",VLOOKUP($D192,site!$B:$F,5,0))),IF($C192=\"\",\"\",IF(VLOOKUP($E192,site!$B:$F,4,0)=\"\",\"-\",VLOOKUP($E192,site!$B:$F,4,0))))","v":""},{"$f":"IFERROR(IF($C192=\"\",\"\",IF(VLOOKUP($D192,site!$B:$G,6,0)=\"\",\"-\",VLOOKUP($D192,site!$B:$G,6,0))),IF($C192=\"\",\"\",IF(VLOOKUP($E192,site!$B:$G,5,0)=\"\",\"-\",VLOOKUP($E192,site!$B:$G,5,0))))","v":""}]
[null,null,null,null,null,null,null,null,null,null,null,null,null,null,null,null,null,null,{"$f":"IFERROR(IF(C193=\"\",\"\",IF(VLOOKUP(D193,site!$B:$D,3,0)=\"\",\"-\",VLOOKUP(D193,site!$B:$D,3,0))),IF(C193=\"\",\"\",IF(VLOOKUP(E193,site!$C:$D,2,0)=\"\",\"-\",VLOOKUP(E193,site!$C:$D,2,0))))","v":""},{"$f":"IFERROR(IF($C193=\"\",\"\",IF(VLOOKUP($D193,site!$B:$F,4,0)=\"\",\"-\",VLOOKUP($D193,site!$B:$F,4,0))),IF($C193=\"\",\"\",IF(VLOOKUP($E193,site!$B:$F,3,0)=\"\",\"-\",VLOOKUP($E193,site!$B:$F,3,0))))","v":""},{"$f":"IFERROR(IF($C193=\"\",\"\",IF(VLOOKUP($D193,site!$B:$F,5,0)=\"\",\"-\",VLOOKUP($D193,site!$B:$F,5,0))),IF($C193=\"\",\"\",IF(VLOOKUP($E193,site!$B:$F,4,0)=\"\",\"-\",VLOOKUP($E193,site!$B:$F,4,0))))","v":""},{"$f":"IFERROR(IF($C193=\"\",\"\",IF(VLOOKUP($D193,site!$B:$G,6,0)=\"\",\"-\",VLOOKUP($D193,site!$B:$G,6,0))),IF($C193=\"\",\"\",IF(VLOOKUP($E193,site!$B:$G,5,0)=\"\",\"-\",VLOOKUP($E193,site!$B:$G,5,0))))","v":""}]
[null,null,null,null,null,null,null,null,null,null,null,null,null,null,null,null,null,null,{"$f":"IFERROR(IF(C194=\"\",\"\",IF(VLOOKUP(D194,site!$B:$D,3,0)=\"\",\"-\",VLOOKUP(D194,site!$B:$D,3,0))),IF(C194=\"\",\"\",IF(VLOOKUP(E194,site!$C:$D,2,0)=\"\",\"-\",VLOOKUP(E194,site!$C:$D,2,0))))","v":""},{"$f":"IFERROR(IF($C194=\"\",\"\",IF(VLOOKUP($D194,site!$B:$F,4,0)=\"\",\"-\",VLOOKUP($D194,site!$B:$F,4,0))),IF($C194=\"\",\"\",IF(VLOOKUP($E194,site!$B:$F,3,0)=\"\",\"-\",VLOOKUP($E194,site!$B:$F,3,0))))","v":""},{"$f":"IFERROR(IF($C194=\"\",\"\",IF(VLOOKUP($D194,site!$B:$F,5,0)=\"\",\"-\",VLOOKUP($D194,site!$B:$F,5,0))),IF($C194=\"\",\"\",IF(VLOOKUP($E194,site!$B:$F,4,0)=\"\",\"-\",VLOOKUP($E194,site!$B:$F,4,0))))","v":""},{"$f":"IFERROR(IF($C194=\"\",\"\",IF(VLOOKUP($D194,site!$B:$G,6,0)=\"\",\"-\",VLOOKUP($D194,site!$B:$G,6,0))),IF($C194=\"\",\"\",IF(VLOOKUP($E194,site!$B:$G,5,0)=\"\",\"-\",VLOOKUP($E194,site!$B:$G,5,0))))","v":""}]
[null,null,null,null,null,null,null,null,null,null,null,null,null,null,null,null,null,null,{"$f":"IFERROR(IF(C195=\"\",\"\",IF(VLOOKUP(D195,site!$B:$D,3,0)=\"\",\"-\",VLOOKUP(D195,site!$B:$D,3,0))),IF(C195=\"\",\"\",IF(VLOOKUP(E195,site!$C:$D,2,0)=\"\",\"-\",VLOOKUP(E195,site!$C:$D,2,0))))","v":""},{"$f":"IFERROR(IF($C195=\"\",\"\",IF(VLOOKUP($D195,site!$B:$F,4,0)=\"\",\"-\",VLOOKUP($D195,site!$B:$F,4,0))),IF($C195=\"\",\"\",IF(VLOOKUP($E195,site!$B:$F,3,0)=\"\",\"-\",VLOOKUP($E195,site!$B:$F,3,0))))","v":""},{"$f":"IFERROR(IF($C195=\"\",\"\",IF(VLOOKUP($D195,site!$B:$F,5,0)=\"\",\"-\",VLOOKUP($D195,site!$B:$F,5,0))),IF($C195=\"\",\"\",IF(VLOOKUP($E195,site!$B:$F,4,0)=\"\",\"-\",VLOOKUP($E195,site!$B:$F,4,0))))","v":""},{"$f":"IFERROR(IF($C195=\"\",\"\",IF(VLOOKUP($D195,site!$B:$G,6,0)=\"\",\"-\",VLOOKUP($D195,site!$B:$G,6,0))),IF($C195=\"\",\"\",IF(VLOOKUP($E195,site!$B:$G,5,0)=\"\",\"-\",VLOOKUP($E195,site!$B:$G,5,0))))","v":""}]
[null,null,null,null,null,null,null,null,null,null,null,null,null,null,null,null,null,null,{"$f":"IFERROR(IF(C196=\"\",\"\",IF(VLOOKUP(D196,site!$B:$D,3,0)=\"\",\"-\",VLOOKUP(D196,site!$B:$D,3,0))),IF(C196=\"\",\"\",IF(VLOOKUP(E196,site!$C:$D,2,0)=\"\",\"-\",VLOOKUP(E196,site!$C:$D,2,0))))","v":""},{"$f":"IFERROR(IF($C196=\"\",\"\",IF(VLOOKUP($D196,site!$B:$F,4,0)=\"\",\"-\",VLOOKUP($D196,site!$B:$F,4,0))),IF($C196=\"\",\"\",IF(VLOOKUP($E196,site!$B:$F,3,0)=\"\",\"-\",VLOOKUP($E196,site!$B:$F,3,0))))","v":""},{"$f":"IFERROR(IF($C196=\"\",\"\",IF(VLOOKUP($D196,site!$B:$F,5,0)=\"\",\"-\",VLOOKUP($D196,site!$B:$F,5,0))),IF($C196=\"\",\"\",IF(VLOOKUP($E196,site!$B:$F,4,0)=\"\",\"-\",VLOOKUP($E196,site!$B:$F,4,0))))","v":""},{"$f":"IFERROR(IF($C196=\"\",\"\",IF(VLOOKUP($D196,site!$B:$G,6,0)=\"\",\"-\",VLOOKUP($D196,site!$B:$G,6,0))),IF($C196=\"\",\"\",IF(VLOOKUP($E196,site!$B:$G,5,0)=\"\",\"-\",VLOOKUP($E196,site!$B:$G,5,0))))","v":""}]
[null,null,null,null,null,null,null,null,null,null,null,null,null,null,null,null,null,null,{"$f":"IFERROR(IF(C197=\"\",\"\",IF(VLOOKUP(D197,site!$B:$D,3,0)=\"\",\"-\",VLOOKUP(D197,site!$B:$D,3,0))),IF(C197=\"\",\"\",IF(VLOOKUP(E197,site!$C:$D,2,0)=\"\",\"-\",VLOOKUP(E197,site!$C:$D,2,0))))","v":""},{"$f":"IFERROR(IF($C197=\"\",\"\",IF(VLOOKUP($D197,site!$B:$F,4,0)=\"\",\"-\",VLOOKUP($D197,site!$B:$F,4,0))),IF($C197=\"\",\"\",IF(VLOOKUP($E197,site!$B:$F,3,0)=\"\",\"-\",VLOOKUP($E197,site!$B:$F,3,0))))","v":""},{"$f":"IFERROR(IF($C197=\"\",\"\",IF(VLOOKUP($D197,site!$B:$F,5,0)=\"\",\"-\",VLOOKUP($D197,site!$B:$F,5,0))),IF($C197=\"\",\"\",IF(VLOOKUP($E197,site!$B:$F,4,0)=\"\",\"-\",VLOOKUP($E197,site!$B:$F,4,0))))","v":""},{"$f":"IFERROR(IF($C197=\"\",\"\",IF(VLOOKUP($D197,site!$B:$G,6,0)=\"\",\"-\",VLOOKUP($D197,site!$B:$G,6,0))),IF($C197=\"\",\"\",IF(VLOOKUP($E197,site!$B:$G,5,0)=\"\",\"-\",VLOOKUP($E197,site!$B:$G,5,0))))","v":""}]
[null,null,null,null,null,null,null,null,null,null,null,null,null,null,null,null,null,null,{"$f":"IFERROR(IF(C198=\"\",\"\",IF(VLOOKUP(D198,site!$B:$D,3,0)=\"\",\"-\",VLOOKUP(D198,site!$B:$D,3,0))),IF(C198=\"\",\"\",IF(VLOOKUP(E198,site!$C:$D,2,0)=\"\",\"-\",VLOOKUP(E198,site!$C:$D,2,0))))","v":""},{"$f":"IFERROR(IF($C198=\"\",\"\",IF(VLOOKUP($D198,site!$B:$F,4,0)=\"\",\"-\",VLOOKUP($D198,site!$B:$F,4,0))),IF($C198=\"\",\"\",IF(VLOOKUP($E198,site!$B:$F,3,0)=\"\",\"-\",VLOOKUP($E198,site!$B:$F,3,0))))","v":""},{"$f":"IFERROR(IF($C198=\"\",\"\",IF(VLOOKUP($D198,site!$B:$F,5,0)=\"\",\"-\",VLOOKUP($D198,site!$B:$F,5,0))),IF($C198=\"\",\"\",IF(VLOOKUP($E198,site!$B:$F,4,0)=\"\",\"-\",VLOOKUP($E198,site!$B:$F,4,0))))","v":""},{"$f":"IFERROR(IF($C198=\"\",\"\",IF(VLOOKUP($D198,site!$B:$G,6,0)=\"\",\"-\",VLOOKUP($D198,site!$B:$G,6,0))),IF($C198=\"\",\"\",IF(VLOOKUP($E198,site!$B:$G,5,0)=\"\",\"-\",VLOOKUP($E198,site!$B:$G,5,0))))","v":""}]
[null,null,null,null,null,null,null,null,null,null,null,null,null,null,null,null,null,null,{"$f":"IFERROR(IF(C199=\"\",\"\",IF(VLOOKUP(D199,site!$B:$D,3,0)=\"\",\"-\",VLOOKUP(D199,site!$B:$D,3,0))),IF(C199=\"\",\"\",IF(VLOOKUP(E199,site!$C:$D,2,0)=\"\",\"-\",VLOOKUP(E199,site!$C:$D,2,0))))","v":""},{"$f":"IFERROR(IF($C199=\"\",\"\",IF(VLOOKUP($D199,site!$B:$F,4,0)=\"\",\"-\",VLOOKUP($D199,site!$B:$F,4,0))),IF($C199=\"\",\"\",IF(VLOOKUP($E199,site!$B:$F,3,0)=\"\",\"-\",VLOOKUP($E199,site!$B:$F,3,0))))","v":""},{"$f":"IFERROR(IF($C199=\"\",\"\",IF(VLOOKUP($D199,site!$B:$F,5,0)=\"\",\"-\",VLOOKUP($D199,site!$B:$F,5,0))),IF($C199=\"\",\"\",IF(VLOOKUP($E199,site!$B:$F,4,0)=\"\",\"-\",VLOOKUP($E199,site!$B:$F,4,0))))","v":""},{"$f":"IFERROR(IF($C199=\"\",\"\",IF(VLOOKUP($D199,site!$B:$G,6,0)=\"\",\"-\",VLOOKUP($D199,site!$B:$G,6,0))),IF($C199=\"\",\"\",IF(VLOOKUP($E199,site!$B:$G,5,0)=\"\",\"-\",VLOOKUP($E199,site!$B:$G,5,0))))","v":""}]
[null,null,null,null,null,null,null,null,null,null,null,null,null,null,null,null,null,null,{"$f":"IFERROR(IF(C200=\"\",\"\",IF(VLOOKUP(D200,site!$B:$D,3,0)=\"\",\"-\",VLOOKUP(D200,site!$B:$D,3,0))),IF(C200=\"\",\"\",IF(VLOOKUP(E200,site!$C:$D,2,0)=\"\",\"-\",VLOOKUP(E200,site!$C:$D,2,0))))","v":""},{"$f":"IFERROR(IF($C200=\"\",\"\",IF(VLOOKUP($D200,site!$B:$F,4,0)=\"\",\"-\",VLOOKUP($D200,site!$B:$F,4,0))),IF($C200=\"\",\"\",IF(VLOOKUP($E200,site!$B:$F,3,0)=\"\",\"-\",VLOOKUP($E200,site!$B:$F,3,0))))","v":""},{"$f":"IFERROR(IF($C200=\"\",\"\",IF(VLOOKUP($D200,site!$B:$F,5,0)=\"\",\"-\",VLOOKUP($D200,site!$B:$F,5,0))),IF($C200=\"\",\"\",IF(VLOOKUP($E200,site!$B:$F,4,0)=\"\",\"-\",VLOOKUP($E200,site!$B:$F,4,0))))","v":""},{"$f":"IFERROR(IF($C200=\"\",\"\",IF(VLOOKUP($D200,site!$B:$G,6,0)=\"\",\"-\",VLOOKUP($D200,site!$B:$G,6,0))),IF($C200=\"\",\"\",IF(VLOOKUP($E200,site!$B:$G,5,0)=\"\",\"-\",VLOOKUP($E200,site!$B:$G,5,0))))","v":""}]
[null,null,null,null,null,null,null,null,null,null,null,null,null,null,null,null,null,null,{"$f":"IFERROR(IF(C201=\"\",\"\",IF(VLOOKUP(D201,site!$B:$D,3,0)=\"\",\"-\",VLOOKUP(D201,site!$B:$D,3,0))),IF(C201=\"\",\"\",IF(VLOOKUP(E201,site!$C:$D,2,0)=\"\",\"-\",VLOOKUP(E201,site!$C:$D,2,0))))","v":""},{"$f":"IFERROR(IF($C201=\"\",\"\",IF(VLOOKUP($D201,site!$B:$F,4,0)=\"\",\"-\",VLOOKUP($D201,site!$B:$F,4,0))),IF($C201=\"\",\"\",IF(VLOOKUP($E201,site!$B:$F,3,0)=\"\",\"-\",VLOOKUP($E201,site!$B:$F,3,0))))","v":""},{"$f":"IFERROR(IF($C201=\"\",\"\",IF(VLOOKUP($D201,site!$B:$F,5,0)=\"\",\"-\",VLOOKUP($D201,site!$B:$F,5,0))),IF($C201=\"\",\"\",IF(VLOOKUP($E201,site!$B:$F,4,0)=\"\",\"-\",VLOOKUP($E201,site!$B:$F,4,0))))","v":""},{"$f":"IFERROR(IF($C201=\"\",\"\",IF(VLOOKUP($D201,site!$B:$G,6,0)=\"\",\"-\",VLOOKUP($D201,site!$B:$G,6,0))),IF($C201=\"\",\"\",IF(VLOOKUP($E201,site!$B:$G,5,0)=\"\",\"-\",VLOOKUP($E201,site!$B:$G,5,0))))","v":""}]
[null,null,null,null,null,null,null,null,null,null,null,null,null,null,null,null,null,null,{"$f":"IFERROR(IF(C202=\"\",\"\",IF(VLOOKUP(D202,site!$B:$D,3,0)=\"\",\"-\",VLOOKUP(D202,site!$B:$D,3,0))),IF(C202=\"\",\"\",IF(VLOOKUP(E202,site!$C:$D,2,0)=\"\",\"-\",VLOOKUP(E202,site!$C:$D,2,0))))","v":""},{"$f":"IFERROR(IF($C202=\"\",\"\",IF(VLOOKUP($D202,site!$B:$F,4,0)=\"\",\"-\",VLOOKUP($D202,site!$B:$F,4,0))),IF($C202=\"\",\"\",IF(VLOOKUP($E202,site!$B:$F,3,0)=\"\",\"-\",VLOOKUP($E202,site!$B:$F,3,0))))","v":""},{"$f":"IFERROR(IF($C202=\"\",\"\",IF(VLOOKUP($D202,site!$B:$F,5,0)=\"\",\"-\",VLOOKUP($D202,site!$B:$F,5,0))),IF($C202=\"\",\"\",IF(VLOOKUP($E202,site!$B:$F,4,0)=\"\",\"-\",VLOOKUP($E202,site!$B:$F,4,0))))","v":""},{"$f":"IFERROR(IF($C202=\"\",\"\",IF(VLOOKUP($D202,site!$B:$G,6,0)=\"\",\"-\",VLOOKUP($D202,site!$B:$G,6,0))),IF($C202=\"\",\"\",IF(VLOOKUP($E202,site!$B:$G,5,0)=\"\",\"-\",VLOOKUP($E202,site!$B:$G,5,0))))","v":""}]
[null,null,null,null,null,null,null,null,null,null,null,null,null,null,null,null,null,null,{"$f":"IFERROR(IF(C203=\"\",\"\",IF(VLOOKUP(D203,site!$B:$D,3,0)=\"\",\"-\",VLOOKUP(D203,site!$B:$D,3,0))),IF(C203=\"\",\"\",IF(VLOOKUP(E203,site!$C:$D,2,0)=\"\",\"-\",VLOOKUP(E203,site!$C:$D,2,0))))","v":""},{"$f":"IFERROR(IF($C203=\"\",\"\",IF(VLOOKUP($D203,site!$B:$F,4,0)=\"\",\"-\",VLOOKUP($D203,site!$B:$F,4,0))),IF($C203=\"\",\"\",IF(VLOOKUP($E203,site!$B:$F,3,0)=\"\",\"-\",VLOOKUP($E203,site!$B:$F,3,0))))","v":""},{"$f":"IFERROR(IF($C203=\"\",\"\",IF(VLOOKUP($D203,site!$B:$F,5,0)=\"\",\"-\",VLOOKUP($D203,site!$B:$F,5,0))),IF($C203=\"\",\"\",IF(VLOOKUP($E203,site!$B:$F,4,0)=\"\",\"-\",VLOOKUP($E203,site!$B:$F,4,0))))","v":""},{"$f":"IFERROR(IF($C203=\"\",\"\",IF(VLOOKUP($D203,site!$B:$G,6,0)=\"\",\"-\",VLOOKUP($D203,site!$B:$G,6,0))),IF($C203=\"\",\"\",IF(VLOOKUP($E203,site!$B:$G,5,0)=\"\",\"-\",VLOOKUP($E203,site!$B:$G,5,0))))","v":""}]
[null,null,null,null,null,null,null,null,null,null,null,null,null,null,null,null,null,null,{"$f":"IFERROR(IF(C204=\"\",\"\",IF(VLOOKUP(D204,site!$B:$D,3,0)=\"\",\"-\",VLOOKUP(D204,site!$B:$D,3,0))),IF(C204=\"\",\"\",IF(VLOOKUP(E204,site!$C:$D,2,0)=\"\",\"-\",VLOOKUP(E204,site!$C:$D,2,0))))","v":""},{"$f":"IFERROR(IF($C204=\"\",\"\",IF(VLOOKUP($D204,site!$B:$F,4,0)=\"\",\"-\",VLOOKUP($D204,site!$B:$F,4,0))),IF($C204=\"\",\"\",IF(VLOOKUP($E204,site!$B:$F,3,0)=\"\",\"-\",VLOOKUP($E204,site!$B:$F,3,0))))","v":""},{"$f":"IFERROR(IF($C204=\"\",\"\",IF(VLOOKUP($D204,site!$B:$F,5,0)=\"\",\"-\",VLOOKUP($D204,site!$B:$F,5,0))),IF($C204=\"\",\"\",IF(VLOOKUP($E204,site!$B:$F,4,0)=\"\",\"-\",VLOOKUP($E204,site!$B:$F,4,0))))","v":""},{"$f":"IFERROR(IF($C204=\"\",\"\",IF(VLOOKUP($D204,site!$B:$G,6,0)=\"\",\"-\",VLOOKUP($D204,site!$B:$G,6,0))),IF($C204=\"\",\"\",IF(VLOOKUP($E204,site!$B:$G,5,0)=\"\",\"-\",VLOOKUP($E204,site!$B:$G,5,0))))","v":""}]
[null,null,null,null,null,null,null,null,null,null,null,null,null,null,null,null,null,null,{"$f":"IFERROR(IF(C205=\"\",\"\",IF(VLOOKUP(D205,site!$B:$D,3,0)=\"\",\"-\",VLOOKUP(D205,site!$B:$D,3,0))),IF(C205=\"\",\"\",IF(VLOOKUP(E205,site!$C:$D,2,0)=\"\",\"-\",VLOOKUP(E205,site!$C:$D,2,0))))","v":""},{"$f":"IFERROR(IF($C205=\"\",\"\",IF(VLOOKUP($D205,site!$B:$F,4,0)=\"\",\"-\",VLOOKUP($D205,site!$B:$F,4,0))),IF($C205=\"\",\"\",IF(VLOOKUP($E205,site!$B:$F,3,0)=\"\",\"-\",VLOOKUP($E205,site!$B:$F,3,0))))","v":""},{"$f":"IFERROR(IF($C205=\"\",\"\",IF(VLOOKUP($D205,site!$B:$F,5,0)=\"\",\"-\",VLOOKUP($D205,site!$B:$F,5,0))),IF($C205=\"\",\"\",IF(VLOOKUP($E205,site!$B:$F,4,0)=\"\",\"-\",VLOOKUP($E205,site!$B:$F,4,0))))","v":""},{"$f":"IFERROR(IF($C205=\"\",\"\",IF(VLOOKUP($D205,site!$B:$G,6,0)=\"\",\"-\",VLOOKUP($D205,site!$B:$G,6,0))),IF($C205=\"\",\"\",IF(VLOOKUP($E205,site!$B:$G,5,0)=\"\",\"-\",VLOOKUP($E205,site!$B:$G,5,0))))","v":""}]
[null,null,null,null,null,null,null,null,null,null,null,null,null,null,null,null,null,null,{"$f":"IFERROR(IF(C206=\"\",\"\",IF(VLOOKUP(D206,site!$B:$D,3,0)=\"\",\"-\",VLOOKUP(D206,site!$B:$D,3,0))),IF(C206=\"\",\"\",IF(VLOOKUP(E206,site!$C:$D,2,0)=\"\",\"-\",VLOOKUP(E206,site!$C:$D,2,0))))","v":""},{"$f":"IFERROR(IF($C206=\"\",\"\",IF(VLOOKUP($D206,site!$B:$F,4,0)=\"\",\"-\",VLOOKUP($D206,site!$B:$F,4,0))),IF($C206=\"\",\"\",IF(VLOOKUP($E206,site!$B:$F,3,0)=\"\",\"-\",VLOOKUP($E206,site!$B:$F,3,0))))","v":""},{"$f":"IFERROR(IF($C206=\"\",\"\",IF(VLOOKUP($D206,site!$B:$F,5,0)=\"\",\"-\",VLOOKUP($D206,site!$B:$F,5,0))),IF($C206=\"\",\"\",IF(VLOOKUP($E206,site!$B:$F,4,0)=\"\",\"-\",VLOOKUP($E206,site!$B:$F,4,0))))","v":""},{"$f":"IFERROR(IF($C206=\"\",\"\",IF(VLOOKUP($D206,site!$B:$G,6,0)=\"\",\"-\",VLOOKUP($D206,site!$B:$G,6,0))),IF($C206=\"\",\"\",IF(VLOOKUP($E206,site!$B:$G,5,0)=\"\",\"-\",VLOOKUP($E206,site!$B:$G,5,0))))","v":""}]
[null,null,null,null,null,null,null,null,null,null,null,null,null,null,null,null,null,null,{"$f":"IFERROR(IF(C207=\"\",\"\",IF(VLOOKUP(D207,site!$B:$D,3,0)=\"\",\"-\",VLOOKUP(D207,site!$B:$D,3,0))),IF(C207=\"\",\"\",IF(VLOOKUP(E207,site!$C:$D,2,0)=\"\",\"-\",VLOOKUP(E207,site!$C:$D,2,0))))","v":""},{"$f":"IFERROR(IF($C207=\"\",\"\",IF(VLOOKUP($D207,site!$B:$F,4,0)=\"\",\"-\",VLOOKUP($D207,site!$B:$F,4,0))),IF($C207=\"\",\"\",IF(VLOOKUP($E207,site!$B:$F,3,0)=\"\",\"-\",VLOOKUP($E207,site!$B:$F,3,0))))","v":""},{"$f":"IFERROR(IF($C207=\"\",\"\",IF(VLOOKUP($D207,site!$B:$F,5,0)=\"\",\"-\",VLOOKUP($D207,site!$B:$F,5,0))),IF($C207=\"\",\"\",IF(VLOOKUP($E207,site!$B:$F,4,0)=\"\",\"-\",VLOOKUP($E207,site!$B:$F,4,0))))","v":""},{"$f":"IFERROR(IF($C207=\"\",\"\",IF(VLOOKUP($D207,site!$B:$G,6,0)=\"\",\"-\",VLOOKUP($D207,site!$B:$G,6,0))),IF($C207=\"\",\"\",IF(VLOOKUP($E207,site!$B:$G,5,0)=\"\",\"-\",VLOOKUP($E207,site!$B:$G,5,0))))","v":""}]
[null,null,null,null,null,null,null,null,null,null,null,null,null,null,null,null,null,null,{"$f":"IFERROR(IF(C208=\"\",\"\",IF(VLOOKUP(D208,site!$B:$D,3,0)=\"\",\"-\",VLOOKUP(D208,site!$B:$D,3,0))),IF(C208=\"\",\"\",IF(VLOOKUP(E208,site!$C:$D,2,0)=\"\",\"-\",VLOOKUP(E208,site!$C:$D,2,0))))","v":""},{"$f":"IFERROR(IF($C208=\"\",\"\",IF(VLOOKUP($D208,site!$B:$F,4,0)=\"\",\"-\",VLOOKUP($D208,site!$B:$F,4,0))),IF($C208=\"\",\"\",IF(VLOOKUP($E208,site!$B:$F,3,0)=\"\",\"-\",VLOOKUP($E208,site!$B:$F,3,0))))","v":""},{"$f":"IFERROR(IF($C208=\"\",\"\",IF(VLOOKUP($D208,site!$B:$F,5,0)=\"\",\"-\",VLOOKUP($D208,site!$B:$F,5,0))),IF($C208=\"\",\"\",IF(VLOOKUP($E208,site!$B:$F,4,0)=\"\",\"-\",VLOOKUP($E208,site!$B:$F,4,0))))","v":""},{"$f":"IFERROR(IF($C208=\"\",\"\",IF(VLOOKUP($D208,site!$B:$G,6,0)=\"\",\"-\",VLOOKUP($D208,site!$B:$G,6,0))),IF($C208=\"\",\"\",IF(VLOOKUP($E208,site!$B:$G,5,0)=\"\",\"-\",VLOOKUP($E208,site!$B:$G,5,0))))","v":""}]
[null,null,null,null,null,null,null,null,null,null,null,null,null,null,null,null,null,null,{"$f":"IFERROR(IF(C209=\"\",\"\",IF(VLOOKUP(D209,site!$B:$D,3,0)=\"\",\"-\",VLOOKUP(D209,site!$B:$D,3,0))),IF(C209=\"\",\"\",IF(VLOOKUP(E209,site!$C:$D,2,0)=\"\",\"-\",VLOOKUP(E209,site!$C:$D,2,0))))","v":""},{"$f":"IFERROR(IF($C209=\"\",\"\",IF(VLOOKUP($D209,site!$B:$F,4,0)=\"\",\"-\",VLOOKUP($D209,site!$B:$F,4,0))),IF($C209=\"\",\"\",IF(VLOOKUP($E209,site!$B:$F,3,0)=\"\",\"-\",VLOOKUP($E209,site!$B:$F,3,0))))","v":""},{"$f":"IFERROR(IF($C209=\"\",\"\",IF(VLOOKUP($D209,site!$B:$F,5,0)=\"\",\"-\",VLOOKUP($D209,site!$B:$F,5,0))),IF($C209=\"\",\"\",IF(VLOOKUP($E209,site!$B:$F,4,0)=\"\",\"-\",VLOOKUP($E209,site!$B:$F,4,0))))","v":""},{"$f":"IFERROR(IF($C209=\"\",\"\",IF(VLOOKUP($D209,site!$B:$G,6,0)=\"\",\"-\",VLOOKUP($D209,site!$B:$G,6,0))),IF($C209=\"\",\"\",IF(VLOOKUP($E209,site!$B:$G,5,0)=\"\",\"-\",VLOOKUP($E209,site!$B:$G,5,0))))","v":""}]
[null,null,null,null,null,null,null,null,null,null,null,null,null,null,null,null,null,null,{"$f":"IFERROR(IF(C210=\"\",\"\",IF(VLOOKUP(D210,site!$B:$D,3,0)=\"\",\"-\",VLOOKUP(D210,site!$B:$D,3,0))),IF(C210=\"\",\"\",IF(VLOOKUP(E210,site!$C:$D,2,0)=\"\",\"-\",VLOOKUP(E210,site!$C:$D,2,0))))","v":""},{"$f":"IFERROR(IF($C210=\"\",\"\",IF(VLOOKUP($D210,site!$B:$F,4,0)=\"\",\"-\",VLOOKUP($D210,site!$B:$F,4,0))),IF($C210=\"\",\"\",IF(VLOOKUP($E210,site!$B:$F,3,0)=\"\",\"-\",VLOOKUP($E210,site!$B:$F,3,0))))","v":""},{"$f":"IFERROR(IF($C210=\"\",\"\",IF(VLOOKUP($D210,site!$B:$F,5,0)=\"\",\"-\",VLOOKUP($D210,site!$B:$F,5,0))),IF($C210=\"\",\"\",IF(VLOOKUP($E210,site!$B:$F,4,0)=\"\",\"-\",VLOOKUP($E210,site!$B:$F,4,0))))","v":""},{"$f":"IFERROR(IF($C210=\"\",\"\",IF(VLOOKUP($D210,site!$B:$G,6,0)=\"\",\"-\",VLOOKUP($D210,site!$B:$G,6,0))),IF($C210=\"\",\"\",IF(VLOOKUP($E210,site!$B:$G,5,0)=\"\",\"-\",VLOOKUP($E210,site!$B:$G,5,0))))","v":""}]
[null,null,null,null,null,null,null,null,null,null,null,null,null,null,null,null,null,null,{"$f":"IFERROR(IF(C211=\"\",\"\",IF(VLOOKUP(D211,site!$B:$D,3,0)=\"\",\"-\",VLOOKUP(D211,site!$B:$D,3,0))),IF(C211=\"\",\"\",IF(VLOOKUP(E211,site!$C:$D,2,0)=\"\",\"-\",VLOOKUP(E211,site!$C:$D,2,0))))","v":""},{"$f":"IFERROR(IF($C211=\"\",\"\",IF(VLOOKUP($D211,site!$B:$F,4,0)=\"\",\"-\",VLOOKUP($D211,site!$B:$F,4,0))),IF($C211=\"\",\"\",IF(VLOOKUP($E211,site!$B:$F,3,0)=\"\",\"-\",VLOOKUP($E211,site!$B:$F,3,0))))","v":""},{"$f":"IFERROR(IF($C211=\"\",\"\",IF(VLOOKUP($D211,site!$B:$F,5,0)=\"\",\"-\",VLOOKUP($D211,site!$B:$F,5,0))),IF($C211=\"\",\"\",IF(VLOOKUP($E211,site!$B:$F,4,0)=\"\",\"-\",VLOOKUP($E211,site!$B:$F,4,0))))","v":""},{"$f":"IFERROR(IF($C211=\"\",\"\",IF(VLOOKUP($D211,site!$B:$G,6,0)=\"\",\"-\",VLOOKUP($D211,site!$B:$G,6,0))),IF($C211=\"\",\"\",IF(VLOOKUP($E211,site!$B:$G,5,0)=\"\",\"-\",VLOOKUP($E211,site!$B:$G,5,0))))","v":""}]
[null,null,null,null,null,null,null,null,null,null,null,null,null,null,null,null,null,null,{"$f":"IFERROR(IF(C212=\"\",\"\",IF(VLOOKUP(D212,site!$B:$D,3,0)=\"\",\"-\",VLOOKUP(D212,site!$B:$D,3,0))),IF(C212=\"\",\"\",IF(VLOOKUP(E212,site!$C:$D,2,0)=\"\",\"-\",VLOOKUP(E212,site!$C:$D,2,0))))","v":""},{"$f":"IFERROR(IF($C212=\"\",\"\",IF(VLOOKUP($D212,site!$B:$F,4,0)=\"\",\"-\",VLOOKUP($D212,site!$B:$F,4,0))),IF($C212=\"\",\"\",IF(VLOOKUP($E212,site!$B:$F,3,0)=\"\",\"-\",VLOOKUP($E212,site!$B:$F,3,0))))","v":""},{"$f":"IFERROR(IF($C212=\"\",\"\",IF(VLOOKUP($D212,site!$B:$F,5,0)=\"\",\"-\",VLOOKUP($D212,site!$B:$F,5,0))),IF($C212=\"\",\"\",IF(VLOOKUP($E212,site!$B:$F,4,0)=\"\",\"-\",VLOOKUP($E212,site!$B:$F,4,0))))","v":""},{"$f":"IFERROR(IF($C212=\"\",\"\",IF(VLOOKUP($D212,site!$B:$G,6,0)=\"\",\"-\",VLOOKUP($D212,site!$B:$G,6,0))),IF($C212=\"\",\"\",IF(VLOOKUP($E212,site!$B:$G,5,0)=\"\",\"-\",VLOOKUP($E212,site!$B:$G,5,0))))","v":""}]
[null,null,null,null,null,null,null,null,null,null,null,null,null,null,null,null,null,null,{"$f":"IFERROR(IF(C213=\"\",\"\",IF(VLOOKUP(D213,site!$B:$D,3,0)=\"\",\"-\",VLOOKUP(D213,site!$B:$D,3,0))),IF(C213=\"\",\"\",IF(VLOOKUP(E213,site!$C:$D,2,0)=\"\",\"-\",VLOOKUP(E213,site!$C:$D,2,0))))","v":""},{"$f":"IFERROR(IF($C213=\"\",\"\",IF(VLOOKUP($D213,site!$B:$F,4,0)=\"\",\"-\",VLOOKUP($D213,site!$B:$F,4,0))),IF($C213=\"\",\"\",IF(VLOOKUP($E213,site!$B:$F,3,0)=\"\",\"-\",VLOOKUP($E213,site!$B:$F,3,0))))","v":""},{"$f":"IFERROR(IF($C213=\"\",\"\",IF(VLOOKUP($D213,site!$B:$F,5,0)=\"\",\"-\",VLOOKUP($D213,site!$B:$F,5,0))),IF($C213=\"\",\"\",IF(VLOOKUP($E213,site!$B:$F,4,0)=\"\",\"-\",VLOOKUP($E213,site!$B:$F,4,0))))","v":""},{"$f":"IFERROR(IF($C213=\"\",\"\",IF(VLOOKUP($D213,site!$B:$G,6,0)=\"\",\"-\",VLOOKUP($D213,site!$B:$G,6,0))),IF($C213=\"\",\"\",IF(VLOOKUP($E213,site!$B:$G,5,0)=\"\",\"-\",VLOOKUP($E213,site!$B:$G,5,0))))","v":""}]
[null,null,null,null,null,null,null,null,null,null,null,null,null,null,null,null,null,null,{"$f":"IFERROR(IF(C214=\"\",\"\",IF(VLOOKUP(D214,site!$B:$D,3,0)=\"\",\"-\",VLOOKUP(D214,site!$B:$D,3,0))),IF(C214=\"\",\"\",IF(VLOOKUP(E214,site!$C:$D,2,0)=\"\",\"-\",VLOOKUP(E214,site!$C:$D,2,0))))","v":""},{"$f":"IFERROR(IF($C214=\"\",\"\",IF(VLOOKUP($D214,site!$B:$F,4,0)=\"\",\"-\",VLOOKUP($D214,site!$B:$F,4,0))),IF($C214=\"\",\"\",IF(VLOOKUP($E214,site!$B:$F,3,0)=\"\",\"-\",VLOOKUP($E214,site!$B:$F,3,0))))","v":""},{"$f":"IFERROR(IF($C214=\"\",\"\",IF(VLOOKUP($D214,site!$B:$F,5,0)=\"\",\"-\",VLOOKUP($D214,site!$B:$F,5,0))),IF($C214=\"\",\"\",IF(VLOOKUP($E214,site!$B:$F,4,0)=\"\",\"-\",VLOOKUP($E214,site!$B:$F,4,0))))","v":""},{"$f":"IFERROR(IF($C214=\"\",\"\",IF(VLOOKUP($D214,site!$B:$G,6,0)=\"\",\"-\",VLOOKUP($D214,site!$B:$G,6,0))),IF($C214=\"\",\"\",IF(VLOOKUP($E214,site!$B:$G,5,0)=\"\",\"-\",VLOOKUP($E214,site!$B:$G,5,0))))","v":""}]
[null,null,null,null,null,null,null,null,null,null,null,null,null,null,null,null,null,null,{"$f":"IFERROR(IF(C215=\"\",\"\",IF(VLOOKUP(D215,site!$B:$D,3,0)=\"\",\"-\",VLOOKUP(D215,site!$B:$D,3,0))),IF(C215=\"\",\"\",IF(VLOOKUP(E215,site!$C:$D,2,0)=\"\",\"-\",VLOOKUP(E215,site!$C:$D,2,0))))","v":""},{"$f":"IFERROR(IF($C215=\"\",\"\",IF(VLOOKUP($D215,site!$B:$F,4,0)=\"\",\"-\",VLOOKUP($D215,site!$B:$F,4,0))),IF($C215=\"\",\"\",IF(VLOOKUP($E215,site!$B:$F,3,0)=\"\",\"-\",VLOOKUP($E215,site!$B:$F,3,0))))","v":""},{"$f":"IFERROR(IF($C215=\"\",\"\",IF(VLOOKUP($D215,site!$B:$F,5,0)=\"\",\"-\",VLOOKUP($D215,site!$B:$F,5,0))),IF($C215=\"\",\"\",IF(VLOOKUP($E215,site!$B:$F,4,0)=\"\",\"-\",VLOOKUP($E215,site!$B:$F,4,0))))","v":""},{"$f":"IFERROR(IF($C215=\"\",\"\",IF(VLOOKUP($D215,site!$B:$G,6,0)=\"\",\"-\",VLOOKUP($D215,site!$B:$G,6,0))),IF($C215=\"\",\"\",IF(VLOOKUP($E215,site!$B:$G,5,0)=\"\",\"-\",VLOOKUP($E215,site!$B:$G,5,0))))","v":""}]
[null,null,null,null,null,null,null,null,null,null,null,null,null,null,null,null,null,null,{"$f":"IFERROR(IF(C216=\"\",\"\",IF(VLOOKUP(D216,site!$B:$D,3,0)=\"\",\"-\",VLOOKUP(D216,site!$B:$D,3,0))),IF(C216=\"\",\"\",IF(VLOOKUP(E216,site!$C:$D,2,0)=\"\",\"-\",VLOOKUP(E216,site!$C:$D,2,0))))","v":""},{"$f":"IFERROR(IF($C216=\"\",\"\",IF(VLOOKUP($D216,site!$B:$F,4,0)=\"\",\"-\",VLOOKUP($D216,site!$B:$F,4,0))),IF($C216=\"\",\"\",IF(VLOOKUP($E216,site!$B:$F,3,0)=\"\",\"-\",VLOOKUP($E216,site!$B:$F,3,0))))","v":""},{"$f":"IFERROR(IF($C216=\"\",\"\",IF(VLOOKUP($D216,site!$B:$F,5,0)=\"\",\"-\",VLOOKUP($D216,site!$B:$F,5,0))),IF($C216=\"\",\"\",IF(VLOOKUP($E216,site!$B:$F,4,0)=\"\",\"-\",VLOOKUP($E216,site!$B:$F,4,0))))","v":""},{"$f":"IFERROR(IF($C216=\"\",\"\",IF(VLOOKUP($D216,site!$B:$G,6,0)=\"\",\"-\",VLOOKUP($D216,site!$B:$G,6,0))),IF($C216=\"\",\"\",IF(VLOOKUP($E216,site!$B:$G,5,0)=\"\",\"-\",VLOOKUP($E216,site!$B:$G,5,0))))","v":""}]
[null,null,null,null,null,null,null,null,null,null,null,null,null,null,null,null,null,null,{"$f":"IFERROR(IF(C217=\"\",\"\",IF(VLOOKUP(D217,site!$B:$D,3,0)=\"\",\"-\",VLOOKUP(D217,site!$B:$D,3,0))),IF(C217=\"\",\"\",IF(VLOOKUP(E217,site!$C:$D,2,0)=\"\",\"-\",VLOOKUP(E217,site!$C:$D,2,0))))","v":""},{"$f":"IFERROR(IF($C217=\"\",\"\",IF(VLOOKUP($D217,site!$B:$F,4,0)=\"\",\"-\",VLOOKUP($D217,site!$B:$F,4,0))),IF($C217=\"\",\"\",IF(VLOOKUP($E217,site!$B:$F,3,0)=\"\",\"-\",VLOOKUP($E217,site!$B:$F,3,0))))","v":""},{"$f":"IFERROR(IF($C217=\"\",\"\",IF(VLOOKUP($D217,site!$B:$F,5,0)=\"\",\"-\",VLOOKUP($D217,site!$B:$F,5,0))),IF($C217=\"\",\"\",IF(VLOOKUP($E217,site!$B:$F,4,0)=\"\",\"-\",VLOOKUP($E217,site!$B:$F,4,0))))","v":""},{"$f":"IFERROR(IF($C217=\"\",\"\",IF(VLOOKUP($D217,site!$B:$G,6,0)=\"\",\"-\",VLOOKUP($D217,site!$B:$G,6,0))),IF($C217=\"\",\"\",IF(VLOOKUP($E217,site!$B:$G,5,0)=\"\",\"-\",VLOOKUP($E217,site!$B:$G,5,0))))","v":""}]
[null,null,null,null,null,null,null,null,null,null,null,null,null,null,null,null,null,null,{"$f":"IFERROR(IF(C218=\"\",\"\",IF(VLOOKUP(D218,site!$B:$D,3,0)=\"\",\"-\",VLOOKUP(D218,site!$B:$D,3,0))),IF(C218=\"\",\"\",IF(VLOOKUP(E218,site!$C:$D,2,0)=\"\",\"-\",VLOOKUP(E218,site!$C:$D,2,0))))","v":""},{"$f":"IFERROR(IF($C218=\"\",\"\",IF(VLOOKUP($D218,site!$B:$F,4,0)=\"\",\"-\",VLOOKUP($D218,site!$B:$F,4,0))),IF($C218=\"\",\"\",IF(VLOOKUP($E218,site!$B:$F,3,0)=\"\",\"-\",VLOOKUP($E218,site!$B:$F,3,0))))","v":""},{"$f":"IFERROR(IF($C218=\"\",\"\",IF(VLOOKUP($D218,site!$B:$F,5,0)=\"\",\"-\",VLOOKUP($D218,site!$B:$F,5,0))),IF($C218=\"\",\"\",IF(VLOOKUP($E218,site!$B:$F,4,0)=\"\",\"-\",VLOOKUP($E218,site!$B:$F,4,0))))","v":""},{"$f":"IFERROR(IF($C218=\"\",\"\",IF(VLOOKUP($D218,site!$B:$G,6,0)=\"\",\"-\",VLOOKUP($D218,site!$B:$G,6,0))),IF($C218=\"\",\"\",IF(VLOOKUP($E218,site!$B:$G,5,0)=\"\",\"-\",VLOOKUP($E218,site!$B:$G,5,0))))","v":""}]
[null,null,null,null,null,null,null,null,null,null,null,null,null,null,null,null,null,null,{"$f":"IFERROR(IF(C219=\"\",\"\",IF(VLOOKUP(D219,site!$B:$D,3,0)=\"\",\"-\",VLOOKUP(D219,site!$B:$D,3,0))),IF(C219=\"\",\"\",IF(VLOOKUP(E219,site!$C:$D,2,0)=\"\",\"-\",VLOOKUP(E219,site!$C:$D,2,0))))","v":""},{"$f":"IFERROR(IF($C219=\"\",\"\",IF(VLOOKUP($D219,site!$B:$F,4,0)=\"\",\"-\",VLOOKUP($D219,site!$B:$F,4,0))),IF($C219=\"\",\"\",IF(VLOOKUP($E219,site!$B:$F,3,0)=\"\",\"-\",VLOOKUP($E219,site!$B:$F,3,0))))","v":""},{"$f":"IFERROR(IF($C219=\"\",\"\",IF(VLOOKUP($D219,site!$B:$F,5,0)=\"\",\"-\",VLOOKUP($D219,site!$B:$F,5,0))),IF($C219=\"\",\"\",IF(VLOOKUP($E219,site!$B:$F,4,0)=\"\",\"-\",VLOOKUP($E219,site!$B:$F,4,0))))","v":""},{"$f":"IFERROR(IF($C219=\"\",\"\",IF(VLOOKUP($D219,site!$B:$G,6,0)=\"\",\"-\",VLOOKUP($D219,site!$B:$G,6,0))),IF($C219=\"\",\"\",IF(VLOOKUP($E219,site!$B:$G,5,0)=\"\",\"-\",VLOOKUP($E219,site!$B:$G,5,0))))","v":""}]
[null,null,null,null,null,null,null,null,null,null,null,null,null,null,null,null,null,null,{"$f":"IFERROR(IF(C220=\"\",\"\",IF(VLOOKUP(D220,site!$B:$D,3,0)=\"\",\"-\",VLOOKUP(D220,site!$B:$D,3,0))),IF(C220=\"\",\"\",IF(VLOOKUP(E220,site!$C:$D,2,0)=\"\",\"-\",VLOOKUP(E220,site!$C:$D,2,0))))","v":""},{"$f":"IFERROR(IF($C220=\"\",\"\",IF(VLOOKUP($D220,site!$B:$F,4,0)=\"\",\"-\",VLOOKUP($D220,site!$B:$F,4,0))),IF($C220=\"\",\"\",IF(VLOOKUP($E220,site!$B:$F,3,0)=\"\",\"-\",VLOOKUP($E220,site!$B:$F,3,0))))","v":""},{"$f":"IFERROR(IF($C220=\"\",\"\",IF(VLOOKUP($D220,site!$B:$F,5,0)=\"\",\"-\",VLOOKUP($D220,site!$B:$F,5,0))),IF($C220=\"\",\"\",IF(VLOOKUP($E220,site!$B:$F,4,0)=\"\",\"-\",VLOOKUP($E220,site!$B:$F,4,0))))","v":""},{"$f":"IFERROR(IF($C220=\"\",\"\",IF(VLOOKUP($D220,site!$B:$G,6,0)=\"\",\"-\",VLOOKUP($D220,site!$B:$G,6,0))),IF($C220=\"\",\"\",IF(VLOOKUP($E220,site!$B:$G,5,0)=\"\",\"-\",VLOOKUP($E220,site!$B:$G,5,0))))","v":""}]
[null,null,null,null,null,null,null,null,null,null,null,null,null,null,null,null,null,null,{"$f":"IFERROR(IF(C221=\"\",\"\",IF(VLOOKUP(D221,site!$B:$D,3,0)=\"\",\"-\",VLOOKUP(D221,site!$B:$D,3,0))),IF(C221=\"\",\"\",IF(VLOOKUP(E221,site!$C:$D,2,0)=\"\",\"-\",VLOOKUP(E221,site!$C:$D,2,0))))","v":""},{"$f":"IFERROR(IF($C221=\"\",\"\",IF(VLOOKUP($D221,site!$B:$F,4,0)=\"\",\"-\",VLOOKUP($D221,site!$B:$F,4,0))),IF($C221=\"\",\"\",IF(VLOOKUP($E221,site!$B:$F,3,0)=\"\",\"-\",VLOOKUP($E221,site!$B:$F,3,0))))","v":""},{"$f":"IFERROR(IF($C221=\"\",\"\",IF(VLOOKUP($D221,site!$B:$F,5,0)=\"\",\"-\",VLOOKUP($D221,site!$B:$F,5,0))),IF($C221=\"\",\"\",IF(VLOOKUP($E221,site!$B:$F,4,0)=\"\",\"-\",VLOOKUP($E221,site!$B:$F,4,0))))","v":""},{"$f":"IFERROR(IF($C221=\"\",\"\",IF(VLOOKUP($D221,site!$B:$G,6,0)=\"\",\"-\",VLOOKUP($D221,site!$B:$G,6,0))),IF($C221=\"\",\"\",IF(VLOOKUP($E221,site!$B:$G,5,0)=\"\",\"-\",VLOOKUP($E221,site!$B:$G,5,0))))","v":""}]
[null,null,null,null,null,null,null,null,null,null,null,null,null,null,null,null,null,null,{"$f":"IFERROR(IF(C222=\"\",\"\",IF(VLOOKUP(D222,site!$B:$D,3,0)=\"\",\"-\",VLOOKUP(D222,site!$B:$D,3,0))),IF(C222=\"\",\"\",IF(VLOOKUP(E222,site!$C:$D,2,0)=\"\",\"-\",VLOOKUP(E222,site!$C:$D,2,0))))","v":""},{"$f":"IFERROR(IF($C222=\"\",\"\",IF(VLOOKUP($D222,site!$B:$F,4,0)=\"\",\"-\",VLOOKUP($D222,site!$B:$F,4,0))),IF($C222=\"\",\"\",IF(VLOOKUP($E222,site!$B:$F,3,0)=\"\",\"-\",VLOOKUP($E222,site!$B:$F,3,0))))","v":""},{"$f":"IFERROR(IF($C222=\"\",\"\",IF(VLOOKUP($D222,site!$B:$F,5,0)=\"\",\"-\",VLOOKUP($D222,site!$B:$F,5,0))),IF($C222=\"\",\"\",IF(VLOOKUP($E222,site!$B:$F,4,0)=\"\",\"-\",VLOOKUP($E222,site!$B:$F,4,0))))","v":""},{"$f":"IFERROR(IF($C222=\"\",\"\",IF(VLOOKUP($D222,site!$B:$G,6,0)=\"\",\"-\",VLOOKUP($D222,site!$B:$G,6,0))),IF($C222=\"\",\"\",IF(VLOOKUP($E222,site!$B:$G,5,0)=\"\",\"-\",VLOOKUP($E222,site!$B:$G,5,0))))","v":""}]
[null,null,null,null,null,null,null,null,null,null,null,null,null,null,null,null,null,null,{"$f":"IFERROR(IF(C223=\"\",\"\",IF(VLOOKUP(D223,site!$B:$D,3,0)=\"\",\"-\",VLOOKUP(D223,site!$B:$D,3,0))),IF(C223=\"\",\"\",IF(VLOOKUP(E223,site!$C:$D,2,0)=\"\",\"-\",VLOOKUP(E223,site!$C:$D,2,0))))","v":""},{"$f":"IFERROR(IF($C223=\"\",\"\",IF(VLOOKUP($D223,site!$B:$F,4,0)=\"\",\"-\",VLOOKUP($D223,site!$B:$F,4,0))),IF($C223=\"\",\"\",IF(VLOOKUP($E223,site!$B:$F,3,0)=\"\",\"-\",VLOOKUP($E223,site!$B:$F,3,0))))","v":""},{"$f":"IFERROR(IF($C223=\"\",\"\",IF(VLOOKUP($D223,site!$B:$F,5,0)=\"\",\"-\",VLOOKUP($D223,site!$B:$F,5,0))),IF($C223=\"\",\"\",IF(VLOOKUP($E223,site!$B:$F,4,0)=\"\",\"-\",VLOOKUP($E223,site!$B:$F,4,0))))","v":""},{"$f":"IFERROR(IF($C223=\"\",\"\",IF(VLOOKUP($D223,site!$B:$G,6,0)=\"\",\"-\",VLOOKUP($D223,site!$B:$G,6,0))),IF($C223=\"\",\"\",IF(VLOOKUP($E223,site!$B:$G,5,0)=\"\",\"-\",VLOOKUP($E223,site!$B:$G,5,0))))","v":""}]
[null,null,null,null,null,null,null,null,null,null,null,null,null,null,null,null,null,null,{"$f":"IFERROR(IF(C224=\"\",\"\",IF(VLOOKUP(D224,site!$B:$D,3,0)=\"\",\"-\",VLOOKUP(D224,site!$B:$D,3,0))),IF(C224=\"\",\"\",IF(VLOOKUP(E224,site!$C:$D,2,0)=\"\",\"-\",VLOOKUP(E224,site!$C:$D,2,0))))","v":""},{"$f":"IFERROR(IF($C224=\"\",\"\",IF(VLOOKUP($D224,site!$B:$F,4,0)=\"\",\"-\",VLOOKUP($D224,site!$B:$F,4,0))),IF($C224=\"\",\"\",IF(VLOOKUP($E224,site!$B:$F,3,0)=\"\",\"-\",VLOOKUP($E224,site!$B:$F,3,0))))","v":""},{"$f":"IFERROR(IF($C224=\"\",\"\",IF(VLOOKUP($D224,site!$B:$F,5,0)=\"\",\"-\",VLOOKUP($D224,site!$B:$F,5,0))),IF($C224=\"\",\"\",IF(VLOOKUP($E224,site!$B:$F,4,0)=\"\",\"-\",VLOOKUP($E224,site!$B:$F,4,0))))","v":""},{"$f":"IFERROR(IF($C224=\"\",\"\",IF(VLOOKUP($D224,site!$B:$G,6,0)=\"\",\"-\",VLOOKUP($D224,site!$B:$G,6,0))),IF($C224=\"\",\"\",IF(VLOOKUP($E224,site!$B:$G,5,0)=\"\",\"-\",VLOOKUP($E224,site!$B:$G,5,0))))","v":""}]
[null,null,null,null,null,null,null,null,null,null,null,null,null,null,null,null,null,null,{"$f":"IFERROR(IF(C225=\"\",\"\",IF(VLOOKUP(D225,site!$B:$D,3,0)=\"\",\"-\",VLOOKUP(D225,site!$B:$D,3,0))),IF(C225=\"\",\"\",IF(VLOOKUP(E225,site!$C:$D,2,0)=\"\",\"-\",VLOOKUP(E225,site!$C:$D,2,0))))","v":""},{"$f":"IFERROR(IF($C225=\"\",\"\",IF(VLOOKUP($D225,site!$B:$F,4,0)=\"\",\"-\",VLOOKUP($D225,site!$B:$F,4,0))),IF($C225=\"\",\"\",IF(VLOOKUP($E225,site!$B:$F,3,0)=\"\",\"-\",VLOOKUP($E225,site!$B:$F,3,0))))","v":""},{"$f":"IFERROR(IF($C225=\"\",\"\",IF(VLOOKUP($D225,site!$B:$F,5,0)=\"\",\"-\",VLOOKUP($D225,site!$B:$F,5,0))),IF($C225=\"\",\"\",IF(VLOOKUP($E225,site!$B:$F,4,0)=\"\",\"-\",VLOOKUP($E225,site!$B:$F,4,0))))","v":""},{"$f":"IFERROR(IF($C225=\"\",\"\",IF(VLOOKUP($D225,site!$B:$G,6,0)=\"\",\"-\",VLOOKUP($D225,site!$B:$G,6,0))),IF($C225=\"\",\"\",IF(VLOOKUP($E225,site!$B:$G,5,0)=\"\",\"-\",VLOOKUP($E225,site!$B:$G,5,0))))","v":""}]
[null,null,null,null,null,null,null,null,null,null,null,null,null,null,null,null,null,null,{"$f":"IFERROR(IF(C226=\"\",\"\",IF(VLOOKUP(D226,site!$B:$D,3,0)=\"\",\"-\",VLOOKUP(D226,site!$B:$D,3,0))),IF(C226=\"\",\"\",IF(VLOOKUP(E226,site!$C:$D,2,0)=\"\",\"-\",VLOOKUP(E226,site!$C:$D,2,0))))","v":""},{"$f":"IFERROR(IF($C226=\"\",\"\",IF(VLOOKUP($D226,site!$B:$F,4,0)=\"\",\"-\",VLOOKUP($D226,site!$B:$F,4,0))),IF($C226=\"\",\"\",IF(VLOOKUP($E226,site!$B:$F,3,0)=\"\",\"-\",VLOOKUP($E226,site!$B:$F,3,0))))","v":""},{"$f":"IFERROR(IF($C226=\"\",\"\",IF(VLOOKUP($D226,site!$B:$F,5,0)=\"\",\"-\",VLOOKUP($D226,site!$B:$F,5,0))),IF($C226=\"\",\"\",IF(VLOOKUP($E226,site!$B:$F,4,0)=\"\",\"-\",VLOOKUP($E226,site!$B:$F,4,0))))","v":""},{"$f":"IFERROR(IF($C226=\"\",\"\",IF(VLOOKUP($D226,site!$B:$G,6,0)=\"\",\"-\",VLOOKUP($D226,site!$B:$G,6,0))),IF($C226=\"\",\"\",IF(VLOOKUP($E226,site!$B:$G,5,0)=\"\",\"-\",VLOOKUP($E226,site!$B:$G,5,0))))","v":""}]
[null,null,null,null,null,null,null,null,null,null,null,null,null,null,null,null,null,null,{"$f":"IFERROR(IF(C227=\"\",\"\",IF(VLOOKUP(D227,site!$B:$D,3,0)=\"\",\"-\",VLOOKUP(D227,site!$B:$D,3,0))),IF(C227=\"\",\"\",IF(VLOOKUP(E227,site!$C:$D,2,0)=\"\",\"-\",VLOOKUP(E227,site!$C:$D,2,0))))","v":""},{"$f":"IFERROR(IF($C227=\"\",\"\",IF(VLOOKUP($D227,site!$B:$F,4,0)=\"\",\"-\",VLOOKUP($D227,site!$B:$F,4,0))),IF($C227=\"\",\"\",IF(VLOOKUP($E227,site!$B:$F,3,0)=\"\",\"-\",VLOOKUP($E227,site!$B:$F,3,0))))","v":""},{"$f":"IFERROR(IF($C227=\"\",\"\",IF(VLOOKUP($D227,site!$B:$F,5,0)=\"\",\"-\",VLOOKUP($D227,site!$B:$F,5,0))),IF($C227=\"\",\"\",IF(VLOOKUP($E227,site!$B:$F,4,0)=\"\",\"-\",VLOOKUP($E227,site!$B:$F,4,0))))","v":""},{"$f":"IFERROR(IF($C227=\"\",\"\",IF(VLOOKUP($D227,site!$B:$G,6,0)=\"\",\"-\",VLOOKUP($D227,site!$B:$G,6,0))),IF($C227=\"\",\"\",IF(VLOOKUP($E227,site!$B:$G,5,0)=\"\",\"-\",VLOOKUP($E227,site!$B:$G,5,0))))","v":""}]
[null,null,null,null,null,null,null,null,null,null,null,null,null,null,null,null,null,null,{"$f":"IFERROR(IF(C228=\"\",\"\",IF(VLOOKUP(D228,site!$B:$D,3,0)=\"\",\"-\",VLOOKUP(D228,site!$B:$D,3,0))),IF(C228=\"\",\"\",IF(VLOOKUP(E228,site!$C:$D,2,0)=\"\",\"-\",VLOOKUP(E228,site!$C:$D,2,0))))","v":""},{"$f":"IFERROR(IF($C228=\"\",\"\",IF(VLOOKUP($D228,site!$B:$F,4,0)=\"\",\"-\",VLOOKUP($D228,site!$B:$F,4,0))),IF($C228=\"\",\"\",IF(VLOOKUP($E228,site!$B:$F,3,0)=\"\",\"-\",VLOOKUP($E228,site!$B:$F,3,0))))","v":""},{"$f":"IFERROR(IF($C228=\"\",\"\",IF(VLOOKUP($D228,site!$B:$F,5,0)=\"\",\"-\",VLOOKUP($D228,site!$B:$F,5,0))),IF($C228=\"\",\"\",IF(VLOOKUP($E228,site!$B:$F,4,0)=\"\",\"-\",VLOOKUP($E228,site!$B:$F,4,0))))","v":""},{"$f":"IFERROR(IF($C228=\"\",\"\",IF(VLOOKUP($D228,site!$B:$G,6,0)=\"\",\"-\",VLOOKUP($D228,site!$B:$G,6,0))),IF($C228=\"\",\"\",IF(VLOOKUP($E228,site!$B:$G,5,0)=\"\",\"-\",VLOOKUP($E228,site!$B:$G,5,0))))","v":""}]
[null,null,null,null,null,null,null,null,null,null,null,null,null,null,null,null,null,null,{"$f":"IFERROR(IF(C229=\"\",\"\",IF(VLOOKUP(D229,site!$B:$D,3,0)=\"\",\"-\",VLOOKUP(D229,site!$B:$D,3,0))),IF(C229=\"\",\"\",IF(VLOOKUP(E229,site!$C:$D,2,0)=\"\",\"-\",VLOOKUP(E229,site!$C:$D,2,0))))","v":""},{"$f":"IFERROR(IF($C229=\"\",\"\",IF(VLOOKUP($D229,site!$B:$F,4,0)=\"\",\"-\",VLOOKUP($D229,site!$B:$F,4,0))),IF($C229=\"\",\"\",IF(VLOOKUP($E229,site!$B:$F,3,0)=\"\",\"-\",VLOOKUP($E229,site!$B:$F,3,0))))","v":""},{"$f":"IFERROR(IF($C229=\"\",\"\",IF(VLOOKUP($D229,site!$B:$F,5,0)=\"\",\"-\",VLOOKUP($D229,site!$B:$F,5,0))),IF($C229=\"\",\"\",IF(VLOOKUP($E229,site!$B:$F,4,0)=\"\",\"-\",VLOOKUP($E229,site!$B:$F,4,0))))","v":""},{"$f":"IFERROR(IF($C229=\"\",\"\",IF(VLOOKUP($D229,site!$B:$G,6,0)=\"\",\"-\",VLOOKUP($D229,site!$B:$G,6,0))),IF($C229=\"\",\"\",IF(VLOOKUP($E229,site!$B:$G,5,0)=\"\",\"-\",VLOOKUP($E229,site!$B:$G,5,0))))","v":""}]
[null,null,null,null,null,null,null,null,null,null,null,null,null,null,null,null,null,null,{"$f":"IFERROR(IF(C230=\"\",\"\",IF(VLOOKUP(D230,site!$B:$D,3,0)=\"\",\"-\",VLOOKUP(D230,site!$B:$D,3,0))),IF(C230=\"\",\"\",IF(VLOOKUP(E230,site!$C:$D,2,0)=\"\",\"-\",VLOOKUP(E230,site!$C:$D,2,0))))","v":""},{"$f":"IFERROR(IF($C230=\"\",\"\",IF(VLOOKUP($D230,site!$B:$F,4,0)=\"\",\"-\",VLOOKUP($D230,site!$B:$F,4,0))),IF($C230=\"\",\"\",IF(VLOOKUP($E230,site!$B:$F,3,0)=\"\",\"-\",VLOOKUP($E230,site!$B:$F,3,0))))","v":""},{"$f":"IFERROR(IF($C230=\"\",\"\",IF(VLOOKUP($D230,site!$B:$F,5,0)=\"\",\"-\",VLOOKUP($D230,site!$B:$F,5,0))),IF($C230=\"\",\"\",IF(VLOOKUP($E230,site!$B:$F,4,0)=\"\",\"-\",VLOOKUP($E230,site!$B:$F,4,0))))","v":""},{"$f":"IFERROR(IF($C230=\"\",\"\",IF(VLOOKUP($D230,site!$B:$G,6,0)=\"\",\"-\",VLOOKUP($D230,site!$B:$G,6,0))),IF($C230=\"\",\"\",IF(VLOOKUP($E230,site!$B:$G,5,0)=\"\",\"-\",VLOOKUP($E230,site!$B:$G,5,0))))","v":""}]
[null,null,null,null,null,null,null,null,null,null,null,null,null,null,null,null,null,null,{"$f":"IFERROR(IF(C231=\"\",\"\",IF(VLOOKUP(D231,site!$B:$D,3,0)=\"\",\"-\",VLOOKUP(D231,site!$B:$D,3,0))),IF(C231=\"\",\"\",IF(VLOOKUP(E231,site!$C:$D,2,0)=\"\",\"-\",VLOOKUP(E231,site!$C:$D,2,0))))","v":""},{"$f":"IFERROR(IF($C231=\"\",\"\",IF(VLOOKUP($D231,site!$B:$F,4,0)=\"\",\"-\",VLOOKUP($D231,site!$B:$F,4,0))),IF($C231=\"\",\"\",IF(VLOOKUP($E231,site!$B:$F,3,0)=\"\",\"-\",VLOOKUP($E231,site!$B:$F,3,0))))","v":""},{"$f":"IFERROR(IF($C231=\"\",\"\",IF(VLOOKUP($D231,site!$B:$F,5,0)=\"\",\"-\",VLOOKUP($D231,site!$B:$F,5,0))),IF($C231=\"\",\"\",IF(VLOOKUP($E231,site!$B:$F,4,0)=\"\",\"-\",VLOOKUP($E231,site!$B:$F,4,0))))","v":""},{"$f":"IFERROR(IF($C231=\"\",\"\",IF(VLOOKUP($D231,site!$B:$G,6,0)=\"\",\"-\",VLOOKUP($D231,site!$B:$G,6,0))),IF($C231=\"\",\"\",IF(VLOOKUP($E231,site!$B:$G,5,0)=\"\",\"-\",VLOOKUP($E231,site!$B:$G,5,0))))","v":""}]
[null,null,null,null,null,null,null,null,null,null,null,null,null,null,null,null,null,null,{"$f":"IFERROR(IF(C232=\"\",\"\",IF(VLOOKUP(D232,site!$B:$D,3,0)=\"\",\"-\",VLOOKUP(D232,site!$B:$D,3,0))),IF(C232=\"\",\"\",IF(VLOOKUP(E232,site!$C:$D,2,0)=\"\",\"-\",VLOOKUP(E232,site!$C:$D,2,0))))","v":""},{"$f":"IFERROR(IF($C232=\"\",\"\",IF(VLOOKUP($D232,site!$B:$F,4,0)=\"\",\"-\",VLOOKUP($D232,site!$B:$F,4,0))),IF($C232=\"\",\"\",IF(VLOOKUP($E232,site!$B:$F,3,0)=\"\",\"-\",VLOOKUP($E232,site!$B:$F,3,0))))","v":""},{"$f":"IFERROR(IF($C232=\"\",\"\",IF(VLOOKUP($D232,site!$B:$F,5,0)=\"\",\"-\",VLOOKUP($D232,site!$B:$F,5,0))),IF($C232=\"\",\"\",IF(VLOOKUP($E232,site!$B:$F,4,0)=\"\",\"-\",VLOOKUP($E232,site!$B:$F,4,0))))","v":""},{"$f":"IFERROR(IF($C232=\"\",\"\",IF(VLOOKUP($D232,site!$B:$G,6,0)=\"\",\"-\",VLOOKUP($D232,site!$B:$G,6,0))),IF($C232=\"\",\"\",IF(VLOOKUP($E232,site!$B:$G,5,0)=\"\",\"-\",VLOOKUP($E232,site!$B:$G,5,0))))","v":""}]
[null,null,null,null,null,null,null,null,null,null,null,null,null,null,null,null,null,null,{"$f":"IFERROR(IF(C233=\"\",\"\",IF(VLOOKUP(D233,site!$B:$D,3,0)=\"\",\"-\",VLOOKUP(D233,site!$B:$D,3,0))),IF(C233=\"\",\"\",IF(VLOOKUP(E233,site!$C:$D,2,0)=\"\",\"-\",VLOOKUP(E233,site!$C:$D,2,0))))","v":""},{"$f":"IFERROR(IF($C233=\"\",\"\",IF(VLOOKUP($D233,site!$B:$F,4,0)=\"\",\"-\",VLOOKUP($D233,site!$B:$F,4,0))),IF($C233=\"\",\"\",IF(VLOOKUP($E233,site!$B:$F,3,0)=\"\",\"-\",VLOOKUP($E233,site!$B:$F,3,0))))","v":""},{"$f":"IFERROR(IF($C233=\"\",\"\",IF(VLOOKUP($D233,site!$B:$F,5,0)=\"\",\"-\",VLOOKUP($D233,site!$B:$F,5,0))),IF($C233=\"\",\"\",IF(VLOOKUP($E233,site!$B:$F,4,0)=\"\",\"-\",VLOOKUP($E233,site!$B:$F,4,0))))","v":""},{"$f":"IFERROR(IF($C233=\"\",\"\",IF(VLOOKUP($D233,site!$B:$G,6,0)=\"\",\"-\",VLOOKUP($D233,site!$B:$G,6,0))),IF($C233=\"\",\"\",IF(VLOOKUP($E233,site!$B:$G,5,0)=\"\",\"-\",VLOOKUP($E233,site!$B:$G,5,0))))","v":""}]
[null,null,null,null,null,null,null,null,null,null,null,null,null,null,null,null,null,null,{"$f":"IFERROR(IF(C234=\"\",\"\",IF(VLOOKUP(D234,site!$B:$D,3,0)=\"\",\"-\",VLOOKUP(D234,site!$B:$D,3,0))),IF(C234=\"\",\"\",IF(VLOOKUP(E234,site!$C:$D,2,0)=\"\",\"-\",VLOOKUP(E234,site!$C:$D,2,0))))","v":""},{"$f":"IFERROR(IF($C234=\"\",\"\",IF(VLOOKUP($D234,site!$B:$F,4,0)=\"\",\"-\",VLOOKUP($D234,site!$B:$F,4,0))),IF($C234=\"\",\"\",IF(VLOOKUP($E234,site!$B:$F,3,0)=\"\",\"-\",VLOOKUP($E234,site!$B:$F,3,0))))","v":""},{"$f":"IFERROR(IF($C234=\"\",\"\",IF(VLOOKUP($D234,site!$B:$F,5,0)=\"\",\"-\",VLOOKUP($D234,site!$B:$F,5,0))),IF($C234=\"\",\"\",IF(VLOOKUP($E234,site!$B:$F,4,0)=\"\",\"-\",VLOOKUP($E234,site!$B:$F,4,0))))","v":""},{"$f":"IFERROR(IF($C234=\"\",\"\",IF(VLOOKUP($D234,site!$B:$G,6,0)=\"\",\"-\",VLOOKUP($D234,site!$B:$G,6,0))),IF($C234=\"\",\"\",IF(VLOOKUP($E234,site!$B:$G,5,0)=\"\",\"-\",VLOOKUP($E234,site!$B:$G,5,0))))","v":""}]
[null,null,null,null,null,null,null,null,null,null,null,null,null,null,null,null,null,null,{"$f":"IFERROR(IF(C235=\"\",\"\",IF(VLOOKUP(D235,site!$B:$D,3,0)=\"\",\"-\",VLOOKUP(D235,site!$B:$D,3,0))),IF(C235=\"\",\"\",IF(VLOOKUP(E235,site!$C:$D,2,0)=\"\",\"-\",VLOOKUP(E235,site!$C:$D,2,0))))","v":""},{"$f":"IFERROR(IF($C235=\"\",\"\",IF(VLOOKUP($D235,site!$B:$F,4,0)=\"\",\"-\",VLOOKUP($D235,site!$B:$F,4,0))),IF($C235=\"\",\"\",IF(VLOOKUP($E235,site!$B:$F,3,0)=\"\",\"-\",VLOOKUP($E235,site!$B:$F,3,0))))","v":""},{"$f":"IFERROR(IF($C235=\"\",\"\",IF(VLOOKUP($D235,site!$B:$F,5,0)=\"\",\"-\",VLOOKUP($D235,site!$B:$F,5,0))),IF($C235=\"\",\"\",IF(VLOOKUP($E235,site!$B:$F,4,0)=\"\",\"-\",VLOOKUP($E235,site!$B:$F,4,0))))","v":""},{"$f":"IFERROR(IF($C235=\"\",\"\",IF(VLOOKUP($D235,site!$B:$G,6,0)=\"\",\"-\",VLOOKUP($D235,site!$B:$G,6,0))),IF($C235=\"\",\"\",IF(VLOOKUP($E235,site!$B:$G,5,0)=\"\",\"-\",VLOOKUP($E235,site!$B:$G,5,0))))","v":""}]
[null,null,null,null,null,null,null,null,null,null,null,null,null,null,null,null,null,null,{"$f":"IFERROR(IF(C236=\"\",\"\",IF(VLOOKUP(D236,site!$B:$D,3,0)=\"\",\"-\",VLOOKUP(D236,site!$B:$D,3,0))),IF(C236=\"\",\"\",IF(VLOOKUP(E236,site!$C:$D,2,0)=\"\",\"-\",VLOOKUP(E236,site!$C:$D,2,0))))","v":""},{"$f":"IFERROR(IF($C236=\"\",\"\",IF(VLOOKUP($D236,site!$B:$F,4,0)=\"\",\"-\",VLOOKUP($D236,site!$B:$F,4,0))),IF($C236=\"\",\"\",IF(VLOOKUP($E236,site!$B:$F,3,0)=\"\",\"-\",VLOOKUP($E236,site!$B:$F,3,0))))","v":""},{"$f":"IFERROR(IF($C236=\"\",\"\",IF(VLOOKUP($D236,site!$B:$F,5,0)=\"\",\"-\",VLOOKUP($D236,site!$B:$F,5,0))),IF($C236=\"\",\"\",IF(VLOOKUP($E236,site!$B:$F,4,0)=\"\",\"-\",VLOOKUP($E236,site!$B:$F,4,0))))","v":""},{"$f":"IFERROR(IF($C236=\"\",\"\",IF(VLOOKUP($D236,site!$B:$G,6,0)=\"\",\"-\",VLOOKUP($D236,site!$B:$G,6,0))),IF($C236=\"\",\"\",IF(VLOOKUP($E236,site!$B:$G,5,0)=\"\",\"-\",VLOOKUP($E236,site!$B:$G,5,0))))","v":""}]
[null,null,null,null,null,null,null,null,null,null,null,null,null,null,null,null,null,null,{"$f":"IFERROR(IF(C237=\"\",\"\",IF(VLOOKUP(D237,site!$B:$D,3,0)=\"\",\"-\",VLOOKUP(D237,site!$B:$D,3,0))),IF(C237=\"\",\"\",IF(VLOOKUP(E237,site!$C:$D,2,0)=\"\",\"-\",VLOOKUP(E237,site!$C:$D,2,0))))","v":""},{"$f":"IFERROR(IF($C237=\"\",\"\",IF(VLOOKUP($D237,site!$B:$F,4,0)=\"\",\"-\",VLOOKUP($D237,site!$B:$F,4,0))),IF($C237=\"\",\"\",IF(VLOOKUP($E237,site!$B:$F,3,0)=\"\",\"-\",VLOOKUP($E237,site!$B:$F,3,0))))","v":""},{"$f":"IFERROR(IF($C237=\"\",\"\",IF(VLOOKUP($D237,site!$B:$F,5,0)=\"\",\"-\",VLOOKUP($D237,site!$B:$F,5,0))),IF($C237=\"\",\"\",IF(VLOOKUP($E237,site!$B:$F,4,0)=\"\",\"-\",VLOOKUP($E237,site!$B:$F,4,0))))","v":""},{"$f":"IFERROR(IF($C237=\"\",\"\",IF(VLOOKUP($D237,site!$B:$G,6,0)=\"\",\"-\",VLOOKUP($D237,site!$B:$G,6,0))),IF($C237=\"\",\"\",IF(VLOOKUP($E237,site!$B:$G,5,0)=\"\",\"-\",VLOOKUP($E237,site!$B:$G,5,0))))","v":""}]
[null,null,null,null,null,null,null,null,null,null,null,null,null,null,null,null,null,null,{"$f":"IFERROR(IF(C238=\"\",\"\",IF(VLOOKUP(D238,site!$B:$D,3,0)=\"\",\"-\",VLOOKUP(D238,site!$B:$D,3,0))),IF(C238=\"\",\"\",IF(VLOOKUP(E238,site!$C:$D,2,0)=\"\",\"-\",VLOOKUP(E238,site!$C:$D,2,0))))","v":""},{"$f":"IFERROR(IF($C238=\"\",\"\",IF(VLOOKUP($D238,site!$B:$F,4,0)=\"\",\"-\",VLOOKUP($D238,site!$B:$F,4,0))),IF($C238=\"\",\"\",IF(VLOOKUP($E238,site!$B:$F,3,0)=\"\",\"-\",VLOOKUP($E238,site!$B:$F,3,0))))","v":""},{"$f":"IFERROR(IF($C238=\"\",\"\",IF(VLOOKUP($D238,site!$B:$F,5,0)=\"\",\"-\",VLOOKUP($D238,site!$B:$F,5,0))),IF($C238=\"\",\"\",IF(VLOOKUP($E238,site!$B:$F,4,0)=\"\",\"-\",VLOOKUP($E238,site!$B:$F,4,0))))","v":""},{"$f":"IFERROR(IF($C238=\"\",\"\",IF(VLOOKUP($D238,site!$B:$G,6,0)=\"\",\"-\",VLOOKUP($D238,site!$B:$G,6,0))),IF($C238=\"\",\"\",IF(VLOOKUP($E238,site!$B:$G,5,0)=\"\",\"-\",VLOOKUP($E238,site!$B:$G,5,0))))","v":""}]
[null,null,null,null,null,null,null,null,null,null,null,null,null,null,null,null,null,null,{"$f":"IFERROR(IF(C239=\"\",\"\",IF(VLOOKUP(D239,site!$B:$D,3,0)=\"\",\"-\",VLOOKUP(D239,site!$B:$D,3,0))),IF(C239=\"\",\"\",IF(VLOOKUP(E239,site!$C:$D,2,0)=\"\",\"-\",VLOOKUP(E239,site!$C:$D,2,0))))","v":""},{"$f":"IFERROR(IF($C239=\"\",\"\",IF(VLOOKUP($D239,site!$B:$F,4,0)=\"\",\"-\",VLOOKUP($D239,site!$B:$F,4,0))),IF($C239=\"\",\"\",IF(VLOOKUP($E239,site!$B:$F,3,0)=\"\",\"-\",VLOOKUP($E239,site!$B:$F,3,0))))","v":""},{"$f":"IFERROR(IF($C239=\"\",\"\",IF(VLOOKUP($D239,site!$B:$F,5,0)=\"\",\"-\",VLOOKUP($D239,site!$B:$F,5,0))),IF($C239=\"\",\"\",IF(VLOOKUP($E239,site!$B:$F,4,0)=\"\",\"-\",VLOOKUP($E239,site!$B:$F,4,0))))","v":""},{"$f":"IFERROR(IF($C239=\"\",\"\",IF(VLOOKUP($D239,site!$B:$G,6,0)=\"\",\"-\",VLOOKUP($D239,site!$B:$G,6,0))),IF($C239=\"\",\"\",IF(VLOOKUP($E239,site!$B:$G,5,0)=\"\",\"-\",VLOOKUP($E239,site!$B:$G,5,0))))","v":""}]
[null,null,null,null,null,null,null,null,null,null,null,null,null,null,null,null,null,null,{"$f":"IFERROR(IF(C240=\"\",\"\",IF(VLOOKUP(D240,site!$B:$D,3,0)=\"\",\"-\",VLOOKUP(D240,site!$B:$D,3,0))),IF(C240=\"\",\"\",IF(VLOOKUP(E240,site!$C:$D,2,0)=\"\",\"-\",VLOOKUP(E240,site!$C:$D,2,0))))","v":""},{"$f":"IFERROR(IF($C240=\"\",\"\",IF(VLOOKUP($D240,site!$B:$F,4,0)=\"\",\"-\",VLOOKUP($D240,site!$B:$F,4,0))),IF($C240=\"\",\"\",IF(VLOOKUP($E240,site!$B:$F,3,0)=\"\",\"-\",VLOOKUP($E240,site!$B:$F,3,0))))","v":""},{"$f":"IFERROR(IF($C240=\"\",\"\",IF(VLOOKUP($D240,site!$B:$F,5,0)=\"\",\"-\",VLOOKUP($D240,site!$B:$F,5,0))),IF($C240=\"\",\"\",IF(VLOOKUP($E240,site!$B:$F,4,0)=\"\",\"-\",VLOOKUP($E240,site!$B:$F,4,0))))","v":""},{"$f":"IFERROR(IF($C240=\"\",\"\",IF(VLOOKUP($D240,site!$B:$G,6,0)=\"\",\"-\",VLOOKUP($D240,site!$B:$G,6,0))),IF($C240=\"\",\"\",IF(VLOOKUP($E240,site!$B:$G,5,0)=\"\",\"-\",VLOOKUP($E240,site!$B:$G,5,0))))","v":""}]
[null,null,null,null,null,null,null,null,null,null,null,null,null,null,null,null,null,null,{"$f":"IFERROR(IF(C241=\"\",\"\",IF(VLOOKUP(D241,site!$B:$D,3,0)=\"\",\"-\",VLOOKUP(D241,site!$B:$D,3,0))),IF(C241=\"\",\"\",IF(VLOOKUP(E241,site!$C:$D,2,0)=\"\",\"-\",VLOOKUP(E241,site!$C:$D,2,0))))","v":""},{"$f":"IFERROR(IF($C241=\"\",\"\",IF(VLOOKUP($D241,site!$B:$F,4,0)=\"\",\"-\",VLOOKUP($D241,site!$B:$F,4,0))),IF($C241=\"\",\"\",IF(VLOOKUP($E241,site!$B:$F,3,0)=\"\",\"-\",VLOOKUP($E241,site!$B:$F,3,0))))","v":""},{"$f":"IFERROR(IF($C241=\"\",\"\",IF(VLOOKUP($D241,site!$B:$F,5,0)=\"\",\"-\",VLOOKUP($D241,site!$B:$F,5,0))),IF($C241=\"\",\"\",IF(VLOOKUP($E241,site!$B:$F,4,0)=\"\",\"-\",VLOOKUP($E241,site!$B:$F,4,0))))","v":""},{"$f":"IFERROR(IF($C241=\"\",\"\",IF(VLOOKUP($D241,site!$B:$G,6,0)=\"\",\"-\",VLOOKUP($D241,site!$B:$G,6,0))),IF($C241=\"\",\"\",IF(VLOOKUP($E241,site!$B:$G,5,0)=\"\",\"-\",VLOOKUP($E241,site!$B:$G,5,0))))","v":""}]
[null,null,null,null,null,null,null,null,null,null,null,null,null,null,null,null,null,null,{"$f":"IFERROR(IF(C242=\"\",\"\",IF(VLOOKUP(D242,site!$B:$D,3,0)=\"\",\"-\",VLOOKUP(D242,site!$B:$D,3,0))),IF(C242=\"\",\"\",IF(VLOOKUP(E242,site!$C:$D,2,0)=\"\",\"-\",VLOOKUP(E242,site!$C:$D,2,0))))","v":""},{"$f":"IFERROR(IF($C242=\"\",\"\",IF(VLOOKUP($D242,site!$B:$F,4,0)=\"\",\"-\",VLOOKUP($D242,site!$B:$F,4,0))),IF($C242=\"\",\"\",IF(VLOOKUP($E242,site!$B:$F,3,0)=\"\",\"-\",VLOOKUP($E242,site!$B:$F,3,0))))","v":""},{"$f":"IFERROR(IF($C242=\"\",\"\",IF(VLOOKUP($D242,site!$B:$F,5,0)=\"\",\"-\",VLOOKUP($D242,site!$B:$F,5,0))),IF($C242=\"\",\"\",IF(VLOOKUP($E242,site!$B:$F,4,0)=\"\",\"-\",VLOOKUP($E242,site!$B:$F,4,0))))","v":""},{"$f":"IFERROR(IF($C242=\"\",\"\",IF(VLOOKUP($D242,site!$B:$G,6,0)=\"\",\"-\",VLOOKUP($D242,site!$B:$G,6,0))),IF($C242=\"\",\"\",IF(VLOOKUP($E242,site!$B:$G,5,0)=\"\",\"-\",VLOOKUP($E242,site!$B:$G,5,0))))","v":""}]
[null,null,null,null,null,null,null,null,null,null,null,null,null,null,null,null,null,null,{"$f":"IFERROR(IF(C243=\"\",\"\",IF(VLOOKUP(D243,site!$B:$D,3,0)=\"\",\"-\",VLOOKUP(D243,site!$B:$D,3,0))),IF(C243=\"\",\"\",IF(VLOOKUP(E243,site!$C:$D,2,0)=\"\",\"-\",VLOOKUP(E243,site!$C:$D,2,0))))","v":""},{"$f":"IFERROR(IF($C243=\"\",\"\",IF(VLOOKUP($D243,site!$B:$F,4,0)=\"\",\"-\",VLOOKUP($D243,site!$B:$F,4,0))),IF($C243=\"\",\"\",IF(VLOOKUP($E243,site!$B:$F,3,0)=\"\",\"-\",VLOOKUP($E243,site!$B:$F,3,0))))","v":""},{"$f":"IFERROR(IF($C243=\"\",\"\",IF(VLOOKUP($D243,site!$B:$F,5,0)=\"\",\"-\",VLOOKUP($D243,site!$B:$F,5,0))),IF($C243=\"\",\"\",IF(VLOOKUP($E243,site!$B:$F,4,0)=\"\",\"-\",VLOOKUP($E243,site!$B:$F,4,0))))","v":""},{"$f":"IFERROR(IF($C243=\"\",\"\",IF(VLOOKUP($D243,site!$B:$G,6,0)=\"\",\"-\",VLOOKUP($D243,site!$B:$G,6,0))),IF($C243=\"\",\"\",IF(VLOOKUP($E243,site!$B:$G,5,0)=\"\",\"-\",VLOOKUP($E243,site!$B:$G,5,0))))","v":""}]
[null,null,null,null,null,null,null,null,null,null,null,null,null,null,null,null,null,null,{"$f":"IFERROR(IF(C244=\"\",\"\",IF(VLOOKUP(D244,site!$B:$D,3,0)=\"\",\"-\",VLOOKUP(D244,site!$B:$D,3,0))),IF(C244=\"\",\"\",IF(VLOOKUP(E244,site!$C:$D,2,0)=\"\",\"-\",VLOOKUP(E244,site!$C:$D,2,0))))","v":""},{"$f":"IFERROR(IF($C244=\"\",\"\",IF(VLOOKUP($D244,site!$B:$F,4,0)=\"\",\"-\",VLOOKUP($D244,site!$B:$F,4,0))),IF($C244=\"\",\"\",IF(VLOOKUP($E244,site!$B:$F,3,0)=\"\",\"-\",VLOOKUP($E244,site!$B:$F,3,0))))","v":""},{"$f":"IFERROR(IF($C244=\"\",\"\",IF(VLOOKUP($D244,site!$B:$F,5,0)=\"\",\"-\",VLOOKUP($D244,site!$B:$F,5,0))),IF($C244=\"\",\"\",IF(VLOOKUP($E244,site!$B:$F,4,0)=\"\",\"-\",VLOOKUP($E244,site!$B:$F,4,0))))","v":""},{"$f":"IFERROR(IF($C244=\"\",\"\",IF(VLOOKUP($D244,site!$B:$G,6,0)=\"\",\"-\",VLOOKUP($D244,site!$B:$G,6,0))),IF($C244=\"\",\"\",IF(VLOOKUP($E244,site!$B:$G,5,0)=\"\",\"-\",VLOOKUP($E244,site!$B:$G,5,0))))","v":""}]
[null,null,null,null,null,null,null,null,null,null,null,null,null,null,null,null,null,null,{"$f":"IFERROR(IF(C245=\"\",\"\",IF(VLOOKUP(D245,site!$B:$D,3,0)=\"\",\"-\",VLOOKUP(D245,site!$B:$D,3,0))),IF(C245=\"\",\"\",IF(VLOOKUP(E245,site!$C:$D,2,0)=\"\",\"-\",VLOOKUP(E245,site!$C:$D,2,0))))","v":""},{"$f":"IFERROR(IF($C245=\"\",\"\",IF(VLOOKUP($D245,site!$B:$F,4,0)=\"\",\"-\",VLOOKUP($D245,site!$B:$F,4,0))),IF($C245=\"\",\"\",IF(VLOOKUP($E245,site!$B:$F,3,0)=\"\",\"-\",VLOOKUP($E245,site!$B:$F,3,0))))","v":""},{"$f":"IFERROR(IF($C245=\"\",\"\",IF(VLOOKUP($D245,site!$B:$F,5,0)=\"\",\"-\",VLOOKUP($D245,site!$B:$F,5,0))),IF($C245=\"\",\"\",IF(VLOOKUP($E245,site!$B:$F,4,0)=\"\",\"-\",VLOOKUP($E245,site!$B:$F,4,0))))","v":""},{"$f":"IFERROR(IF($C245=\"\",\"\",IF(VLOOKUP($D245,site!$B:$G,6,0)=\"\",\"-\",VLOOKUP($D245,site!$B:$G,6,0))),IF($C245=\"\",\"\",IF(VLOOKUP($E245,site!$B:$G,5,0)=\"\",\"-\",VLOOKUP($E245,site!$B:$G,5,0))))","v":""}]
[null,null,null,null,null,null,null,null,null,null,null,null,null,null,null,null,null,null,{"$f":"IFERROR(IF(C246=\"\",\"\",IF(VLOOKUP(D246,site!$B:$D,3,0)=\"\",\"-\",VLOOKUP(D246,site!$B:$D,3,0))),IF(C246=\"\",\"\",IF(VLOOKUP(E246,site!$C:$D,2,0)=\"\",\"-\",VLOOKUP(E246,site!$C:$D,2,0))))","v":""},{"$f":"IFERROR(IF($C246=\"\",\"\",IF(VLOOKUP($D246,site!$B:$F,4,0)=\"\",\"-\",VLOOKUP($D246,site!$B:$F,4,0))),IF($C246=\"\",\"\",IF(VLOOKUP($E246,site!$B:$F,3,0)=\"\",\"-\",VLOOKUP($E246,site!$B:$F,3,0))))","v":""},{"$f":"IFERROR(IF($C246=\"\",\"\",IF(VLOOKUP($D246,site!$B:$F,5,0)=\"\",\"-\",VLOOKUP($D246,site!$B:$F,5,0))),IF($C246=\"\",\"\",IF(VLOOKUP($E246,site!$B:$F,4,0)=\"\",\"-\",VLOOKUP($E246,site!$B:$F,4,0))))","v":""},{"$f":"IFERROR(IF($C246=\"\",\"\",IF(VLOOKUP($D246,site!$B:$G,6,0)=\"\",\"-\",VLOOKUP($D246,site!$B:$G,6,0))),IF($C246=\"\",\"\",IF(VLOOKUP($E246,site!$B:$G,5,0)=\"\",\"-\",VLOOKUP($E246,site!$B:$G,5,0))))","v":""}]
[null,null,null,null,null,null,null,null,null,null,null,null,null,null,null,null,null,null,{"$f":"IFERROR(IF(C247=\"\",\"\",IF(VLOOKUP(D247,site!$B:$D,3,0)=\"\",\"-\",VLOOKUP(D247,site!$B:$D,3,0))),IF(C247=\"\",\"\",IF(VLOOKUP(E247,site!$C:$D,2,0)=\"\",\"-\",VLOOKUP(E247,site!$C:$D,2,0))))","v":""},{"$f":"IFERROR(IF($C247=\"\",\"\",IF(VLOOKUP($D247,site!$B:$F,4,0)=\"\",\"-\",VLOOKUP($D247,site!$B:$F,4,0))),IF($C247=\"\",\"\",IF(VLOOKUP($E247,site!$B:$F,3,0)=\"\",\"-\",VLOOKUP($E247,site!$B:$F,3,0))))","v":""},{"$f":"IFERROR(IF($C247=\"\",\"\",IF(VLOOKUP($D247,site!$B:$F,5,0)=\"\",\"-\",VLOOKUP($D247,site!$B:$F,5,0))),IF($C247=\"\",\"\",IF(VLOOKUP($E247,site!$B:$F,4,0)=\"\",\"-\",VLOOKUP($E247,site!$B:$F,4,0))))","v":""},{"$f":"IFERROR(IF($C247=\"\",\"\",IF(VLOOKUP($D247,site!$B:$G,6,0)=\"\",\"-\",VLOOKUP($D247,site!$B:$G,6,0))),IF($C247=\"\",\"\",IF(VLOOKUP($E247,site!$B:$G,5,0)=\"\",\"-\",VLOOKUP($E247,site!$B:$G,5,0))))","v":""}]
[null,null,null,null,null,null,null,null,null,null,null,null,null,null,null,null,null,null,{"$f":"IFERROR(IF(C248=\"\",\"\",IF(VLOOKUP(D248,site!$B:$D,3,0)=\"\",\"-\",VLOOKUP(D248,site!$B:$D,3,0))),IF(C248=\"\",\"\",IF(VLOOKUP(E248,site!$C:$D,2,0)=\"\",\"-\",VLOOKUP(E248,site!$C:$D,2,0))))","v":""},{"$f":"IFERROR(IF($C248=\"\",\"\",IF(VLOOKUP($D248,site!$B:$F,4,0)=\"\",\"-\",VLOOKUP($D248,site!$B:$F,4,0))),IF($C248=\"\",\"\",IF(VLOOKUP($E248,site!$B:$F,3,0)=\"\",\"-\",VLOOKUP($E248,site!$B:$F,3,0))))","v":""},{"$f":"IFERROR(IF($C248=\"\",\"\",IF(VLOOKUP($D248,site!$B:$F,5,0)=\"\",\"-\",VLOOKUP($D248,site!$B:$F,5,0))),IF($C248=\"\",\"\",IF(VLOOKUP($E248,site!$B:$F,4,0)=\"\",\"-\",VLOOKUP($E248,site!$B:$F,4,0))))","v":""},{"$f":"IFERROR(IF($C248=\"\",\"\",IF(VLOOKUP($D248,site!$B:$G,6,0)=\"\",\"-\",VLOOKUP($D248,site!$B:$G,6,0))),IF($C248=\"\",\"\",IF(VLOOKUP($E248,site!$B:$G,5,0)=\"\",\"-\",VLOOKUP($E248,site!$B:$G,5,0))))","v":""}]
[null,null,null,null,null,null,null,null,null,null,null,null,null,null,null,null,null,null,{"$f":"IFERROR(IF(C249=\"\",\"\",IF(VLOOKUP(D249,site!$B:$D,3,0)=\"\",\"-\",VLOOKUP(D249,site!$B:$D,3,0))),IF(C249=\"\",\"\",IF(VLOOKUP(E249,site!$C:$D,2,0)=\"\",\"-\",VLOOKUP(E249,site!$C:$D,2,0))))","v":""},{"$f":"IFERROR(IF($C249=\"\",\"\",IF(VLOOKUP($D249,site!$B:$F,4,0)=\"\",\"-\",VLOOKUP($D249,site!$B:$F,4,0))),IF($C249=\"\",\"\",IF(VLOOKUP($E249,site!$B:$F,3,0)=\"\",\"-\",VLOOKUP($E249,site!$B:$F,3,0))))","v":""},{"$f":"IFERROR(IF($C249=\"\",\"\",IF(VLOOKUP($D249,site!$B:$F,5,0)=\"\",\"-\",VLOOKUP($D249,site!$B:$F,5,0))),IF($C249=\"\",\"\",IF(VLOOKUP($E249,site!$B:$F,4,0)=\"\",\"-\",VLOOKUP($E249,site!$B:$F,4,0))))","v":""},{"$f":"IFERROR(IF($C249=\"\",\"\",IF(VLOOKUP($D249,site!$B:$G,6,0)=\"\",\"-\",VLOOKUP($D249,site!$B:$G,6,0))),IF($C249=\"\",\"\",IF(VLOOKUP($E249,site!$B:$G,5,0)=\"\",\"-\",VLOOKUP($E249,site!$B:$G,5,0))))","v":""}]
[null,null,null,null,null,null,null,null,null,null,null,null,null,null,null,null,null,null,{"$f":"IFERROR(IF(C250=\"\",\"\",IF(VLOOKUP(D250,site!$B:$D,3,0)=\"\",\"-\",VLOOKUP(D250,site!$B:$D,3,0))),IF(C250=\"\",\"\",IF(VLOOKUP(E250,site!$C:$D,2,0)=\"\",\"-\",VLOOKUP(E250,site!$C:$D,2,0))))","v":""},{"$f":"IFERROR(IF($C250=\"\",\"\",IF(VLOOKUP($D250,site!$B:$F,4,0)=\"\",\"-\",VLOOKUP($D250,site!$B:$F,4,0))),IF($C250=\"\",\"\",IF(VLOOKUP($E250,site!$B:$F,3,0)=\"\",\"-\",VLOOKUP($E250,site!$B:$F,3,0))))","v":""},{"$f":"IFERROR(IF($C250=\"\",\"\",IF(VLOOKUP($D250,site!$B:$F,5,0)=\"\",\"-\",VLOOKUP($D250,site!$B:$F,5,0))),IF($C250=\"\",\"\",IF(VLOOKUP($E250,site!$B:$F,4,0)=\"\",\"-\",VLOOKUP($E250,site!$B:$F,4,0))))","v":""},{"$f":"IFERROR(IF($C250=\"\",\"\",IF(VLOOKUP($D250,site!$B:$G,6,0)=\"\",\"-\",VLOOKUP($D250,site!$B:$G,6,0))),IF($C250=\"\",\"\",IF(VLOOKUP($E250,site!$B:$G,5,0)=\"\",\"-\",VLOOKUP($E250,site!$B:$G,5,0))))","v":""}]
[null,null,null,null,null,null,null,null,null,null,null,null,null,null,null,null,null,null,{"$f":"IFERROR(IF(C251=\"\",\"\",IF(VLOOKUP(D251,site!$B:$D,3,0)=\"\",\"-\",VLOOKUP(D251,site!$B:$D,3,0))),IF(C251=\"\",\"\",IF(VLOOKUP(E251,site!$C:$D,2,0)=\"\",\"-\",VLOOKUP(E251,site!$C:$D,2,0))))","v":""},{"$f":"IFERROR(IF($C251=\"\",\"\",IF(VLOOKUP($D251,site!$B:$F,4,0)=\"\",\"-\",VLOOKUP($D251,site!$B:$F,4,0))),IF($C251=\"\",\"\",IF(VLOOKUP($E251,site!$B:$F,3,0)=\"\",\"-\",VLOOKUP($E251,site!$B:$F,3,0))))","v":""},{"$f":"IFERROR(IF($C251=\"\",\"\",IF(VLOOKUP($D251,site!$B:$F,5,0)=\"\",\"-\",VLOOKUP($D251,site!$B:$F,5,0))),IF($C251=\"\",\"\",IF(VLOOKUP($E251,site!$B:$F,4,0)=\"\",\"-\",VLOOKUP($E251,site!$B:$F,4,0))))","v":""},{"$f":"IFERROR(IF($C251=\"\",\"\",IF(VLOOKUP($D251,site!$B:$G,6,0)=\"\",\"-\",VLOOKUP($D251,site!$B:$G,6,0))),IF($C251=\"\",\"\",IF(VLOOKUP($E251,site!$B:$G,5,0)=\"\",\"-\",VLOOKUP($E251,site!$B:$G,5,0))))","v":""}]
[null,null,null,null,null,null,null,null,null,null,null,null,null,null,null,null,null,null,{"$f":"IFERROR(IF(C252=\"\",\"\",IF(VLOOKUP(D252,site!$B:$D,3,0)=\"\",\"-\",VLOOKUP(D252,site!$B:$D,3,0))),IF(C252=\"\",\"\",IF(VLOOKUP(E252,site!$C:$D,2,0)=\"\",\"-\",VLOOKUP(E252,site!$C:$D,2,0))))","v":""},{"$f":"IFERROR(IF($C252=\"\",\"\",IF(VLOOKUP($D252,site!$B:$F,4,0)=\"\",\"-\",VLOOKUP($D252,site!$B:$F,4,0))),IF($C252=\"\",\"\",IF(VLOOKUP($E252,site!$B:$F,3,0)=\"\",\"-\",VLOOKUP($E252,site!$B:$F,3,0))))","v":""},{"$f":"IFERROR(IF($C252=\"\",\"\",IF(VLOOKUP($D252,site!$B:$F,5,0)=\"\",\"-\",VLOOKUP($D252,site!$B:$F,5,0))),IF($C252=\"\",\"\",IF(VLOOKUP($E252,site!$B:$F,4,0)=\"\",\"-\",VLOOKUP($E252,site!$B:$F,4,0))))","v":""},{"$f":"IFERROR(IF($C252=\"\",\"\",IF(VLOOKUP($D252,site!$B:$G,6,0)=\"\",\"-\",VLOOKUP($D252,site!$B:$G,6,0))),IF($C252=\"\",\"\",IF(VLOOKUP($E252,site!$B:$G,5,0)=\"\",\"-\",VLOOKUP($E252,site!$B:$G,5,0))))","v":""}]
[null,null,null,null,null,null,null,null,null,null,null,null,null,null,null,null,null,null,{"$f":"IFERROR(IF(C253=\"\",\"\",IF(VLOOKUP(D253,site!$B:$D,3,0)=\"\",\"-\",VLOOKUP(D253,site!$B:$D,3,0))),IF(C253=\"\",\"\",IF(VLOOKUP(E253,site!$C:$D,2,0)=\"\",\"-\",VLOOKUP(E253,site!$C:$D,2,0))))","v":""},{"$f":"IFERROR(IF($C253=\"\",\"\",IF(VLOOKUP($D253,site!$B:$F,4,0)=\"\",\"-\",VLOOKUP($D253,site!$B:$F,4,0))),IF($C253=\"\",\"\",IF(VLOOKUP($E253,site!$B:$F,3,0)=\"\",\"-\",VLOOKUP($E253,site!$B:$F,3,0))))","v":""},{"$f":"IFERROR(IF($C253=\"\",\"\",IF(VLOOKUP($D253,site!$B:$F,5,0)=\"\",\"-\",VLOOKUP($D253,site!$B:$F,5,0))),IF($C253=\"\",\"\",IF(VLOOKUP($E253,site!$B:$F,4,0)=\"\",\"-\",VLOOKUP($E253,site!$B:$F,4,0))))","v":""},{"$f":"IFERROR(IF($C253=\"\",\"\",IF(VLOOKUP($D253,site!$B:$G,6,0)=\"\",\"-\",VLOOKUP($D253,site!$B:$G,6,0))),IF($C253=\"\",\"\",IF(VLOOKUP($E253,site!$B:$G,5,0)=\"\",\"-\",VLOOKUP($E253,site!$B:$G,5,0))))","v":""}]
[null,null,null,null,null,null,null,null,null,null,null,null,null,null,null,null,null,null,{"$f":"IFERROR(IF(C254=\"\",\"\",IF(VLOOKUP(D254,site!$B:$D,3,0)=\"\",\"-\",VLOOKUP(D254,site!$B:$D,3,0))),IF(C254=\"\",\"\",IF(VLOOKUP(E254,site!$C:$D,2,0)=\"\",\"-\",VLOOKUP(E254,site!$C:$D,2,0))))","v":""},{"$f":"IFERROR(IF($C254=\"\",\"\",IF(VLOOKUP($D254,site!$B:$F,4,0)=\"\",\"-\",VLOOKUP($D254,site!$B:$F,4,0))),IF($C254=\"\",\"\",IF(VLOOKUP($E254,site!$B:$F,3,0)=\"\",\"-\",VLOOKUP($E254,site!$B:$F,3,0))))","v":""},{"$f":"IFERROR(IF($C254=\"\",\"\",IF(VLOOKUP($D254,site!$B:$F,5,0)=\"\",\"-\",VLOOKUP($D254,site!$B:$F,5,0))),IF($C254=\"\",\"\",IF(VLOOKUP($E254,site!$B:$F,4,0)=\"\",\"-\",VLOOKUP($E254,site!$B:$F,4,0))))","v":""},{"$f":"IFERROR(IF($C254=\"\",\"\",IF(VLOOKUP($D254,site!$B:$G,6,0)=\"\",\"-\",VLOOKUP($D254,site!$B:$G,6,0))),IF($C254=\"\",\"\",IF(VLOOKUP($E254,site!$B:$G,5,0)=\"\",\"-\",VLOOKUP($E254,site!$B:$G,5,0))))","v":""}]
[null,null,null,null,null,null,null,null,null,null,null,null,null,null,null,null,null,null,{"$f":"IFERROR(IF(C255=\"\",\"\",IF(VLOOKUP(D255,site!$B:$D,3,0)=\"\",\"-\",VLOOKUP(D255,site!$B:$D,3,0))),IF(C255=\"\",\"\",IF(VLOOKUP(E255,site!$C:$D,2,0)=\"\",\"-\",VLOOKUP(E255,site!$C:$D,2,0))))","v":""},{"$f":"IFERROR(IF($C255=\"\",\"\",IF(VLOOKUP($D255,site!$B:$F,4,0)=\"\",\"-\",VLOOKUP($D255,site!$B:$F,4,0))),IF($C255=\"\",\"\",IF(VLOOKUP($E255,site!$B:$F,3,0)=\"\",\"-\",VLOOKUP($E255,site!$B:$F,3,0))))","v":""},{"$f":"IFERROR(IF($C255=\"\",\"\",IF(VLOOKUP($D255,site!$B:$F,5,0)=\"\",\"-\",VLOOKUP($D255,site!$B:$F,5,0))),IF($C255=\"\",\"\",IF(VLOOKUP($E255,site!$B:$F,4,0)=\"\",\"-\",VLOOKUP($E255,site!$B:$F,4,0))))","v":""},{"$f":"IFERROR(IF($C255=\"\",\"\",IF(VLOOKUP($D255,site!$B:$G,6,0)=\"\",\"-\",VLOOKUP($D255,site!$B:$G,6,0))),IF($C255=\"\",\"\",IF(VLOOKUP($E255,site!$B:$G,5,0)=\"\",\"-\",VLOOKUP($E255,site!$B:$G,5,0))))","v":""}]
[null,null,null,null,null,null,null,null,null,null,null,null,null,null,null,null,null,null,{"$f":"IFERROR(IF(C256=\"\",\"\",IF(VLOOKUP(D256,site!$B:$D,3,0)=\"\",\"-\",VLOOKUP(D256,site!$B:$D,3,0))),IF(C256=\"\",\"\",IF(VLOOKUP(E256,site!$C:$D,2,0)=\"\",\"-\",VLOOKUP(E256,site!$C:$D,2,0))))","v":""},{"$f":"IFERROR(IF($C256=\"\",\"\",IF(VLOOKUP($D256,site!$B:$F,4,0)=\"\",\"-\",VLOOKUP($D256,site!$B:$F,4,0))),IF($C256=\"\",\"\",IF(VLOOKUP($E256,site!$B:$F,3,0)=\"\",\"-\",VLOOKUP($E256,site!$B:$F,3,0))))","v":""},{"$f":"IFERROR(IF($C256=\"\",\"\",IF(VLOOKUP($D256,site!$B:$F,5,0)=\"\",\"-\",VLOOKUP($D256,site!$B:$F,5,0))),IF($C256=\"\",\"\",IF(VLOOKUP($E256,site!$B:$F,4,0)=\"\",\"-\",VLOOKUP($E256,site!$B:$F,4,0))))","v":""},{"$f":"IFERROR(IF($C256=\"\",\"\",IF(VLOOKUP($D256,site!$B:$G,6,0)=\"\",\"-\",VLOOKUP($D256,site!$B:$G,6,0))),IF($C256=\"\",\"\",IF(VLOOKUP($E256,site!$B:$G,5,0)=\"\",\"-\",VLOOKUP($E256,site!$B:$G,5,0))))","v":""}]
[null,null,null,null,null,null,null,null,null,null,null,null,null,null,null,null,null,null,{"$f":"IFERROR(IF(C257=\"\",\"\",IF(VLOOKUP(D257,site!$B:$D,3,0)=\"\",\"-\",VLOOKUP(D257,site!$B:$D,3,0))),IF(C257=\"\",\"\",IF(VLOOKUP(E257,site!$C:$D,2,0)=\"\",\"-\",VLOOKUP(E257,site!$C:$D,2,0))))","v":""},{"$f":"IFERROR(IF($C257=\"\",\"\",IF(VLOOKUP($D257,site!$B:$F,4,0)=\"\",\"-\",VLOOKUP($D257,site!$B:$F,4,0))),IF($C257=\"\",\"\",IF(VLOOKUP($E257,site!$B:$F,3,0)=\"\",\"-\",VLOOKUP($E257,site!$B:$F,3,0))))","v":""},{"$f":"IFERROR(IF($C257=\"\",\"\",IF(VLOOKUP($D257,site!$B:$F,5,0)=\"\",\"-\",VLOOKUP($D257,site!$B:$F,5,0))),IF($C257=\"\",\"\",IF(VLOOKUP($E257,site!$B:$F,4,0)=\"\",\"-\",VLOOKUP($E257,site!$B:$F,4,0))))","v":""},{"$f":"IFERROR(IF($C257=\"\",\"\",IF(VLOOKUP($D257,site!$B:$G,6,0)=\"\",\"-\",VLOOKUP($D257,site!$B:$G,6,0))),IF($C257=\"\",\"\",IF(VLOOKUP($E257,site!$B:$G,5,0)=\"\",\"-\",VLOOKUP($E257,site!$B:$G,5,0))))","v":""}]
[null,null,null,null,null,null,null,null,null,null,null,null,null,null,null,null,null,null,{"$f":"IFERROR(IF(C258=\"\",\"\",IF(VLOOKUP(D258,site!$B:$D,3,0)=\"\",\"-\",VLOOKUP(D258,site!$B:$D,3,0))),IF(C258=\"\",\"\",IF(VLOOKUP(E258,site!$C:$D,2,0)=\"\",\"-\",VLOOKUP(E258,site!$C:$D,2,0))))","v":""},{"$f":"IFERROR(IF($C258=\"\",\"\",IF(VLOOKUP($D258,site!$B:$F,4,0)=\"\",\"-\",VLOOKUP($D258,site!$B:$F,4,0))),IF($C258=\"\",\"\",IF(VLOOKUP($E258,site!$B:$F,3,0)=\"\",\"-\",VLOOKUP($E258,site!$B:$F,3,0))))","v":""},{"$f":"IFERROR(IF($C258=\"\",\"\",IF(VLOOKUP($D258,site!$B:$F,5,0)=\"\",\"-\",VLOOKUP($D258,site!$B:$F,5,0))),IF($C258=\"\",\"\",IF(VLOOKUP($E258,site!$B:$F,4,0)=\"\",\"-\",VLOOKUP($E258,site!$B:$F,4,0))))","v":""},{"$f":"IFERROR(IF($C258=\"\",\"\",IF(VLOOKUP($D258,site!$B:$G,6,0)=\"\",\"-\",VLOOKUP($D258,site!$B:$G,6,0))),IF($C258=\"\",\"\",IF(VLOOKUP($E258,site!$B:$G,5,0)=\"\",\"-\",VLOOKUP($E258,site!$B:$G,5,0))))","v":""}]
[null,null,null,null,null,null,null,null,null,null,null,null,null,null,null,null,null,null,{"$f":"IFERROR(IF(C259=\"\",\"\",IF(VLOOKUP(D259,site!$B:$D,3,0)=\"\",\"-\",VLOOKUP(D259,site!$B:$D,3,0))),IF(C259=\"\",\"\",IF(VLOOKUP(E259,site!$C:$D,2,0)=\"\",\"-\",VLOOKUP(E259,site!$C:$D,2,0))))","v":""},{"$f":"IFERROR(IF($C259=\"\",\"\",IF(VLOOKUP($D259,site!$B:$F,4,0)=\"\",\"-\",VLOOKUP($D259,site!$B:$F,4,0))),IF($C259=\"\",\"\",IF(VLOOKUP($E259,site!$B:$F,3,0)=\"\",\"-\",VLOOKUP($E259,site!$B:$F,3,0))))","v":""},{"$f":"IFERROR(IF($C259=\"\",\"\",IF(VLOOKUP($D259,site!$B:$F,5,0)=\"\",\"-\",VLOOKUP($D259,site!$B:$F,5,0))),IF($C259=\"\",\"\",IF(VLOOKUP($E259,site!$B:$F,4,0)=\"\",\"-\",VLOOKUP($E259,site!$B:$F,4,0))))","v":""},{"$f":"IFERROR(IF($C259=\"\",\"\",IF(VLOOKUP($D259,site!$B:$G,6,0)=\"\",\"-\",VLOOKUP($D259,site!$B:$G,6,0))),IF($C259=\"\",\"\",IF(VLOOKUP($E259,site!$B:$G,5,0)=\"\",\"-\",VLOOKUP($E259,site!$B:$G,5,0))))","v":""}]
[null,null,null,null,null,null,null,null,null,null,null,null,null,null,null,null,null,null,{"$f":"IFERROR(IF(C260=\"\",\"\",IF(VLOOKUP(D260,site!$B:$D,3,0)=\"\",\"-\",VLOOKUP(D260,site!$B:$D,3,0))),IF(C260=\"\",\"\",IF(VLOOKUP(E260,site!$C:$D,2,0)=\"\",\"-\",VLOOKUP(E260,site!$C:$D,2,0))))","v":""},{"$f":"IFERROR(IF($C260=\"\",\"\",IF(VLOOKUP($D260,site!$B:$F,4,0)=\"\",\"-\",VLOOKUP($D260,site!$B:$F,4,0))),IF($C260=\"\",\"\",IF(VLOOKUP($E260,site!$B:$F,3,0)=\"\",\"-\",VLOOKUP($E260,site!$B:$F,3,0))))","v":""},{"$f":"IFERROR(IF($C260=\"\",\"\",IF(VLOOKUP($D260,site!$B:$F,5,0)=\"\",\"-\",VLOOKUP($D260,site!$B:$F,5,0))),IF($C260=\"\",\"\",IF(VLOOKUP($E260,site!$B:$F,4,0)=\"\",\"-\",VLOOKUP($E260,site!$B:$F,4,0))))","v":""},{"$f":"IFERROR(IF($C260=\"\",\"\",IF(VLOOKUP($D260,site!$B:$G,6,0)=\"\",\"-\",VLOOKUP($D260,site!$B:$G,6,0))),IF($C260=\"\",\"\",IF(VLOOKUP($E260,site!$B:$G,5,0)=\"\",\"-\",VLOOKUP($E260,site!$B:$G,5,0))))","v":""}]
[null,null,null,null,null,null,null,null,null,null,null,null,null,null,null,null,null,null,{"$f":"IFERROR(IF(C261=\"\",\"\",IF(VLOOKUP(D261,site!$B:$D,3,0)=\"\",\"-\",VLOOKUP(D261,site!$B:$D,3,0))),IF(C261=\"\",\"\",IF(VLOOKUP(E261,site!$C:$D,2,0)=\"\",\"-\",VLOOKUP(E261,site!$C:$D,2,0))))","v":""},{"$f":"IFERROR(IF($C261=\"\",\"\",IF(VLOOKUP($D261,site!$B:$F,4,0)=\"\",\"-\",VLOOKUP($D261,site!$B:$F,4,0))),IF($C261=\"\",\"\",IF(VLOOKUP($E261,site!$B:$F,3,0)=\"\",\"-\",VLOOKUP($E261,site!$B:$F,3,0))))","v":""},{"$f":"IFERROR(IF($C261=\"\",\"\",IF(VLOOKUP($D261,site!$B:$F,5,0)=\"\",\"-\",VLOOKUP($D261,site!$B:$F,5,0))),IF($C261=\"\",\"\",IF(VLOOKUP($E261,site!$B:$F,4,0)=\"\",\"-\",VLOOKUP($E261,site!$B:$F,4,0))))","v":""},{"$f":"IFERROR(IF($C261=\"\",\"\",IF(VLOOKUP($D261,site!$B:$G,6,0)=\"\",\"-\",VLOOKUP($D261,site!$B:$G,6,0))),IF($C261=\"\",\"\",IF(VLOOKUP($E261,site!$B:$G,5,0)=\"\",\"-\",VLOOKUP($E261,site!$B:$G,5,0))))","v":""}]
[null,null,null,null,null,null,null,null,null,null,null,null,null,null,null,null,null,null,{"$f":"IFERROR(IF(C262=\"\",\"\",IF(VLOOKUP(D262,site!$B:$D,3,0)=\"\",\"-\",VLOOKUP(D262,site!$B:$D,3,0))),IF(C262=\"\",\"\",IF(VLOOKUP(E262,site!$C:$D,2,0)=\"\",\"-\",VLOOKUP(E262,site!$C:$D,2,0))))","v":""},{"$f":"IFERROR(IF($C262=\"\",\"\",IF(VLOOKUP($D262,site!$B:$F,4,0)=\"\",\"-\",VLOOKUP($D262,site!$B:$F,4,0))),IF($C262=\"\",\"\",IF(VLOOKUP($E262,site!$B:$F,3,0)=\"\",\"-\",VLOOKUP($E262,site!$B:$F,3,0))))","v":""},{"$f":"IFERROR(IF($C262=\"\",\"\",IF(VLOOKUP($D262,site!$B:$F,5,0)=\"\",\"-\",VLOOKUP($D262,site!$B:$F,5,0))),IF($C262=\"\",\"\",IF(VLOOKUP($E262,site!$B:$F,4,0)=\"\",\"-\",VLOOKUP($E262,site!$B:$F,4,0))))","v":""},{"$f":"IFERROR(IF($C262=\"\",\"\",IF(VLOOKUP($D262,site!$B:$G,6,0)=\"\",\"-\",VLOOKUP($D262,site!$B:$G,6,0))),IF($C262=\"\",\"\",IF(VLOOKUP($E262,site!$B:$G,5,0)=\"\",\"-\",VLOOKUP($E262,site!$B:$G,5,0))))","v":""}]
[null,null,null,null,null,null,null,null,null,null,null,null,null,null,null,null,null,null,{"$f":"IFERROR(IF(C263=\"\",\"\",IF(VLOOKUP(D263,site!$B:$D,3,0)=\"\",\"-\",VLOOKUP(D263,site!$B:$D,3,0))),IF(C263=\"\",\"\",IF(VLOOKUP(E263,site!$C:$D,2,0)=\"\",\"-\",VLOOKUP(E263,site!$C:$D,2,0))))","v":""},{"$f":"IFERROR(IF($C263=\"\",\"\",IF(VLOOKUP($D263,site!$B:$F,4,0)=\"\",\"-\",VLOOKUP($D263,site!$B:$F,4,0))),IF($C263=\"\",\"\",IF(VLOOKUP($E263,site!$B:$F,3,0)=\"\",\"-\",VLOOKUP($E263,site!$B:$F,3,0))))","v":""},{"$f":"IFERROR(IF($C263=\"\",\"\",IF(VLOOKUP($D263,site!$B:$F,5,0)=\"\",\"-\",VLOOKUP($D263,site!$B:$F,5,0))),IF($C263=\"\",\"\",IF(VLOOKUP($E263,site!$B:$F,4,0)=\"\",\"-\",VLOOKUP($E263,site!$B:$F,4,0))))","v":""},{"$f":"IFERROR(IF($C263=\"\",\"\",IF(VLOOKUP($D263,site!$B:$G,6,0)=\"\",\"-\",VLOOKUP($D263,site!$B:$G,6,0))),IF($C263=\"\",\"\",IF(VLOOKUP($E263,site!$B:$G,5,0)=\"\",\"-\",VLOOKUP($E263,site!$B:$G,5,0))))","v":""}]
[null,null,null,null,null,null,null,null,null,null,null,null,null,null,null,null,null,null,{"$f":"IFERROR(IF(C264=\"\",\"\",IF(VLOOKUP(D264,site!$B:$D,3,0)=\"\",\"-\",VLOOKUP(D264,site!$B:$D,3,0))),IF(C264=\"\",\"\",IF(VLOOKUP(E264,site!$C:$D,2,0)=\"\",\"-\",VLOOKUP(E264,site!$C:$D,2,0))))","v":""},{"$f":"IFERROR(IF($C264=\"\",\"\",IF(VLOOKUP($D264,site!$B:$F,4,0)=\"\",\"-\",VLOOKUP($D264,site!$B:$F,4,0))),IF($C264=\"\",\"\",IF(VLOOKUP($E264,site!$B:$F,3,0)=\"\",\"-\",VLOOKUP($E264,site!$B:$F,3,0))))","v":""},{"$f":"IFERROR(IF($C264=\"\",\"\",IF(VLOOKUP($D264,site!$B:$F,5,0)=\"\",\"-\",VLOOKUP($D264,site!$B:$F,5,0))),IF($C264=\"\",\"\",IF(VLOOKUP($E264,site!$B:$F,4,0)=\"\",\"-\",VLOOKUP($E264,site!$B:$F,4,0))))","v":""},{"$f":"IFERROR(IF($C264=\"\",\"\",IF(VLOOKUP($D264,site!$B:$G,6,0)=\"\",\"-\",VLOOKUP($D264,site!$B:$G,6,0))),IF($C264=\"\",\"\",IF(VLOOKUP($E264,site!$B:$G,5,0)=\"\",\"-\",VLOOKUP($E264,site!$B:$G,5,0))))","v":""}]
[null,null,null,null,null,null,null,null,null,null,null,null,null,null,null,null,null,null,{"$f":"IFERROR(IF(C265=\"\",\"\",IF(VLOOKUP(D265,site!$B:$D,3,0)=\"\",\"-\",VLOOKUP(D265,site!$B:$D,3,0))),IF(C265=\"\",\"\",IF(VLOOKUP(E265,site!$C:$D,2,0)=\"\",\"-\",VLOOKUP(E265,site!$C:$D,2,0))))","v":""},{"$f":"IFERROR(IF($C265=\"\",\"\",IF(VLOOKUP($D265,site!$B:$F,4,0)=\"\",\"-\",VLOOKUP($D265,site!$B:$F,4,0))),IF($C265=\"\",\"\",IF(VLOOKUP($E265,site!$B:$F,3,0)=\"\",\"-\",VLOOKUP($E265,site!$B:$F,3,0))))","v":""},{"$f":"IFERROR(IF($C265=\"\",\"\",IF(VLOOKUP($D265,site!$B:$F,5,0)=\"\",\"-\",VLOOKUP($D265,site!$B:$F,5,0))),IF($C265=\"\",\"\",IF(VLOOKUP($E265,site!$B:$F,4,0)=\"\",\"-\",VLOOKUP($E265,site!$B:$F,4,0))))","v":""},{"$f":"IFERROR(IF($C265=\"\",\"\",IF(VLOOKUP($D265,site!$B:$G,6,0)=\"\",\"-\",VLOOKUP($D265,site!$B:$G,6,0))),IF($C265=\"\",\"\",IF(VLOOKUP($E265,site!$B:$G,5,0)=\"\",\"-\",VLOOKUP($E265,site!$B:$G,5,0))))","v":""}]
[null,null,null,null,null,null,null,null,null,null,null,null,null,null,null,null,null,null,{"$f":"IFERROR(IF(C266=\"\",\"\",IF(VLOOKUP(D266,site!$B:$D,3,0)=\"\",\"-\",VLOOKUP(D266,site!$B:$D,3,0))),IF(C266=\"\",\"\",IF(VLOOKUP(E266,site!$C:$D,2,0)=\"\",\"-\",VLOOKUP(E266,site!$C:$D,2,0))))","v":""},{"$f":"IFERROR(IF($C266=\"\",\"\",IF(VLOOKUP($D266,site!$B:$F,4,0)=\"\",\"-\",VLOOKUP($D266,site!$B:$F,4,0))),IF($C266=\"\",\"\",IF(VLOOKUP($E266,site!$B:$F,3,0)=\"\",\"-\",VLOOKUP($E266,site!$B:$F,3,0))))","v":""},{"$f":"IFERROR(IF($C266=\"\",\"\",IF(VLOOKUP($D266,site!$B:$F,5,0)=\"\",\"-\",VLOOKUP($D266,site!$B:$F,5,0))),IF($C266=\"\",\"\",IF(VLOOKUP($E266,site!$B:$F,4,0)=\"\",\"-\",VLOOKUP($E266,site!$B:$F,4,0))))","v":""},{"$f":"IFERROR(IF($C266=\"\",\"\",IF(VLOOKUP($D266,site!$B:$G,6,0)=\"\",\"-\",VLOOKUP($D266,site!$B:$G,6,0))),IF($C266=\"\",\"\",IF(VLOOKUP($E266,site!$B:$G,5,0)=\"\",\"-\",VLOOKUP($E266,site!$B:$G,5,0))))","v":""}]
[null,null,null,null,null,null,null,null,null,null,null,null,null,null,null,null,null,null,{"$f":"IFERROR(IF(C267=\"\",\"\",IF(VLOOKUP(D267,site!$B:$D,3,0)=\"\",\"-\",VLOOKUP(D267,site!$B:$D,3,0))),IF(C267=\"\",\"\",IF(VLOOKUP(E267,site!$C:$D,2,0)=\"\",\"-\",VLOOKUP(E267,site!$C:$D,2,0))))","v":""},{"$f":"IFERROR(IF($C267=\"\",\"\",IF(VLOOKUP($D267,site!$B:$F,4,0)=\"\",\"-\",VLOOKUP($D267,site!$B:$F,4,0))),IF($C267=\"\",\"\",IF(VLOOKUP($E267,site!$B:$F,3,0)=\"\",\"-\",VLOOKUP($E267,site!$B:$F,3,0))))","v":""},{"$f":"IFERROR(IF($C267=\"\",\"\",IF(VLOOKUP($D267,site!$B:$F,5,0)=\"\",\"-\",VLOOKUP($D267,site!$B:$F,5,0))),IF($C267=\"\",\"\",IF(VLOOKUP($E267,site!$B:$F,4,0)=\"\",\"-\",VLOOKUP($E267,site!$B:$F,4,0))))","v":""},{"$f":"IFERROR(IF($C267=\"\",\"\",IF(VLOOKUP($D267,site!$B:$G,6,0)=\"\",\"-\",VLOOKUP($D267,site!$B:$G,6,0))),IF($C267=\"\",\"\",IF(VLOOKUP($E267,site!$B:$G,5,0)=\"\",\"-\",VLOOKUP($E267,site!$B:$G,5,0))))","v":""}]
[null,null,null,null,null,null,null,null,null,null,null,null,null,null,null,null,null,null,{"$f":"IFERROR(IF(C268=\"\",\"\",IF(VLOOKUP(D268,site!$B:$D,3,0)=\"\",\"-\",VLOOKUP(D268,site!$B:$D,3,0))),IF(C268=\"\",\"\",IF(VLOOKUP(E268,site!$C:$D,2,0)=\"\",\"-\",VLOOKUP(E268,site!$C:$D,2,0))))","v":""},{"$f":"IFERROR(IF($C268=\"\",\"\",IF(VLOOKUP($D268,site!$B:$F,4,0)=\"\",\"-\",VLOOKUP($D268,site!$B:$F,4,0))),IF($C268=\"\",\"\",IF(VLOOKUP($E268,site!$B:$F,3,0)=\"\",\"-\",VLOOKUP($E268,site!$B:$F,3,0))))","v":""},{"$f":"IFERROR(IF($C268=\"\",\"\",IF(VLOOKUP($D268,site!$B:$F,5,0)=\"\",\"-\",VLOOKUP($D268,site!$B:$F,5,0))),IF($C268=\"\",\"\",IF(VLOOKUP($E268,site!$B:$F,4,0)=\"\",\"-\",VLOOKUP($E268,site!$B:$F,4,0))))","v":""},{"$f":"IFERROR(IF($C268=\"\",\"\",IF(VLOOKUP($D268,site!$B:$G,6,0)=\"\",\"-\",VLOOKUP($D268,site!$B:$G,6,0))),IF($C268=\"\",\"\",IF(VLOOKUP($E268,site!$B:$G,5,0)=\"\",\"-\",VLOOKUP($E268,site!$B:$G,5,0))))","v":""}]
[null,null,null,null,null,null,null,null,null,null,null,null,null,null,null,null,null,null,{"$f":"IFERROR(IF(C269=\"\",\"\",IF(VLOOKUP(D269,site!$B:$D,3,0)=\"\",\"-\",VLOOKUP(D269,site!$B:$D,3,0))),IF(C269=\"\",\"\",IF(VLOOKUP(E269,site!$C:$D,2,0)=\"\",\"-\",VLOOKUP(E269,site!$C:$D,2,0))))","v":""},{"$f":"IFERROR(IF($C269=\"\",\"\",IF(VLOOKUP($D269,site!$B:$F,4,0)=\"\",\"-\",VLOOKUP($D269,site!$B:$F,4,0))),IF($C269=\"\",\"\",IF(VLOOKUP($E269,site!$B:$F,3,0)=\"\",\"-\",VLOOKUP($E269,site!$B:$F,3,0))))","v":""},{"$f":"IFERROR(IF($C269=\"\",\"\",IF(VLOOKUP($D269,site!$B:$F,5,0)=\"\",\"-\",VLOOKUP($D269,site!$B:$F,5,0))),IF($C269=\"\",\"\",IF(VLOOKUP($E269,site!$B:$F,4,0)=\"\",\"-\",VLOOKUP($E269,site!$B:$F,4,0))))","v":""},{"$f":"IFERROR(IF($C269=\"\",\"\",IF(VLOOKUP($D269,site!$B:$G,6,0)=\"\",\"-\",VLOOKUP($D269,site!$B:$G,6,0))),IF($C269=\"\",\"\",IF(VLOOKUP($E269,site!$B:$G,5,0)=\"\",\"-\",VLOOKUP($E269,site!$B:$G,5,0))))","v":""}]
[null,null,null,null,null,null,null,null,null,null,null,null,null,null,null,null,null,null,{"$f":"IFERROR(IF(C270=\"\",\"\",IF(VLOOKUP(D270,site!$B:$D,3,0)=\"\",\"-\",VLOOKUP(D270,site!$B:$D,3,0))),IF(C270=\"\",\"\",IF(VLOOKUP(E270,site!$C:$D,2,0)=\"\",\"-\",VLOOKUP(E270,site!$C:$D,2,0))))","v":""},{"$f":"IFERROR(IF($C270=\"\",\"\",IF(VLOOKUP($D270,site!$B:$F,4,0)=\"\",\"-\",VLOOKUP($D270,site!$B:$F,4,0))),IF($C270=\"\",\"\",IF(VLOOKUP($E270,site!$B:$F,3,0)=\"\",\"-\",VLOOKUP($E270,site!$B:$F,3,0))))","v":""},{"$f":"IFERROR(IF($C270=\"\",\"\",IF(VLOOKUP($D270,site!$B:$F,5,0)=\"\",\"-\",VLOOKUP($D270,site!$B:$F,5,0))),IF($C270=\"\",\"\",IF(VLOOKUP($E270,site!$B:$F,4,0)=\"\",\"-\",VLOOKUP($E270,site!$B:$F,4,0))))","v":""},{"$f":"IFERROR(IF($C270=\"\",\"\",IF(VLOOKUP($D270,site!$B:$G,6,0)=\"\",\"-\",VLOOKUP($D270,site!$B:$G,6,0))),IF($C270=\"\",\"\",IF(VLOOKUP($E270,site!$B:$G,5,0)=\"\",\"-\",VLOOKUP($E270,site!$B:$G,5,0))))","v":""}]
[null,null,null,null,null,null,null,null,null,null,null,null,null,null,null,null,null,null,{"$f":"IFERROR(IF(C271=\"\",\"\",IF(VLOOKUP(D271,site!$B:$D,3,0)=\"\",\"-\",VLOOKUP(D271,site!$B:$D,3,0))),IF(C271=\"\",\"\",IF(VLOOKUP(E271,site!$C:$D,2,0)=\"\",\"-\",VLOOKUP(E271,site!$C:$D,2,0))))","v":""},{"$f":"IFERROR(IF($C271=\"\",\"\",IF(VLOOKUP($D271,site!$B:$F,4,0)=\"\",\"-\",VLOOKUP($D271,site!$B:$F,4,0))),IF($C271=\"\",\"\",IF(VLOOKUP($E271,site!$B:$F,3,0)=\"\",\"-\",VLOOKUP($E271,site!$B:$F,3,0))))","v":""},{"$f":"IFERROR(IF($C271=\"\",\"\",IF(VLOOKUP($D271,site!$B:$F,5,0)=\"\",\"-\",VLOOKUP($D271,site!$B:$F,5,0))),IF($C271=\"\",\"\",IF(VLOOKUP($E271,site!$B:$F,4,0)=\"\",\"-\",VLOOKUP($E271,site!$B:$F,4,0))))","v":""},{"$f":"IFERROR(IF($C271=\"\",\"\",IF(VLOOKUP($D271,site!$B:$G,6,0)=\"\",\"-\",VLOOKUP($D271,site!$B:$G,6,0))),IF($C271=\"\",\"\",IF(VLOOKUP($E271,site!$B:$G,5,0)=\"\",\"-\",VLOOKUP($E271,site!$B:$G,5,0))))","v":""}]
[null,null,null,null,null,null,null,null,null,null,null,null,null,null,null,null,null,null,{"$f":"IFERROR(IF(C272=\"\",\"\",IF(VLOOKUP(D272,site!$B:$D,3,0)=\"\",\"-\",VLOOKUP(D272,site!$B:$D,3,0))),IF(C272=\"\",\"\",IF(VLOOKUP(E272,site!$C:$D,2,0)=\"\",\"-\",VLOOKUP(E272,site!$C:$D,2,0))))","v":""},{"$f":"IFERROR(IF($C272=\"\",\"\",IF(VLOOKUP($D272,site!$B:$F,4,0)=\"\",\"-\",VLOOKUP($D272,site!$B:$F,4,0))),IF($C272=\"\",\"\",IF(VLOOKUP($E272,site!$B:$F,3,0)=\"\",\"-\",VLOOKUP($E272,site!$B:$F,3,0))))","v":""},{"$f":"IFERROR(IF($C272=\"\",\"\",IF(VLOOKUP($D272,site!$B:$F,5,0)=\"\",\"-\",VLOOKUP($D272,site!$B:$F,5,0))),IF($C272=\"\",\"\",IF(VLOOKUP($E272,site!$B:$F,4,0)=\"\",\"-\",VLOOKUP($E272,site!$B:$F,4,0))))","v":""},{"$f":"IFERROR(IF($C272=\"\",\"\",IF(VLOOKUP($D272,site!$B:$G,6,0)=\"\",\"-\",VLOOKUP($D272,site!$B:$G,6,0))),IF($C272=\"\",\"\",IF(VLOOKUP($E272,site!$B:$G,5,0)=\"\",\"-\",VLOOKUP($E272,site!$B:$G,5,0))))","v":""}]
[null,null,null,null,null,null,null,null,null,null,null,null,null,null,null,null,null,null,{"$f":"IFERROR(IF(C273=\"\",\"\",IF(VLOOKUP(D273,site!$B:$D,3,0)=\"\",\"-\",VLOOKUP(D273,site!$B:$D,3,0))),IF(C273=\"\",\"\",IF(VLOOKUP(E273,site!$C:$D,2,0)=\"\",\"-\",VLOOKUP(E273,site!$C:$D,2,0))))","v":""},{"$f":"IFERROR(IF($C273=\"\",\"\",IF(VLOOKUP($D273,site!$B:$F,4,0)=\"\",\"-\",VLOOKUP($D273,site!$B:$F,4,0))),IF($C273=\"\",\"\",IF(VLOOKUP($E273,site!$B:$F,3,0)=\"\",\"-\",VLOOKUP($E273,site!$B:$F,3,0))))","v":""},{"$f":"IFERROR(IF($C273=\"\",\"\",IF(VLOOKUP($D273,site!$B:$F,5,0)=\"\",\"-\",VLOOKUP($D273,site!$B:$F,5,0))),IF($C273=\"\",\"\",IF(VLOOKUP($E273,site!$B:$F,4,0)=\"\",\"-\",VLOOKUP($E273,site!$B:$F,4,0))))","v":""},{"$f":"IFERROR(IF($C273=\"\",\"\",IF(VLOOKUP($D273,site!$B:$G,6,0)=\"\",\"-\",VLOOKUP($D273,site!$B:$G,6,0))),IF($C273=\"\",\"\",IF(VLOOKUP($E273,site!$B:$G,5,0)=\"\",\"-\",VLOOKUP($E273,site!$B:$G,5,0))))","v":""}]
[null,null,null,null,null,null,null,null,null,null,null,null,null,null,null,null,null,null,{"$f":"IFERROR(IF(C274=\"\",\"\",IF(VLOOKUP(D274,site!$B:$D,3,0)=\"\",\"-\",VLOOKUP(D274,site!$B:$D,3,0))),IF(C274=\"\",\"\",IF(VLOOKUP(E274,site!$C:$D,2,0)=\"\",\"-\",VLOOKUP(E274,site!$C:$D,2,0))))","v":""},{"$f":"IFERROR(IF($C274=\"\",\"\",IF(VLOOKUP($D274,site!$B:$F,4,0)=\"\",\"-\",VLOOKUP($D274,site!$B:$F,4,0))),IF($C274=\"\",\"\",IF(VLOOKUP($E274,site!$B:$F,3,0)=\"\",\"-\",VLOOKUP($E274,site!$B:$F,3,0))))","v":""},{"$f":"IFERROR(IF($C274=\"\",\"\",IF(VLOOKUP($D274,site!$B:$F,5,0)=\"\",\"-\",VLOOKUP($D274,site!$B:$F,5,0))),IF($C274=\"\",\"\",IF(VLOOKUP($E274,site!$B:$F,4,0)=\"\",\"-\",VLOOKUP($E274,site!$B:$F,4,0))))","v":""},{"$f":"IFERROR(IF($C274=\"\",\"\",IF(VLOOKUP($D274,site!$B:$G,6,0)=\"\",\"-\",VLOOKUP($D274,site!$B:$G,6,0))),IF($C274=\"\",\"\",IF(VLOOKUP($E274,site!$B:$G,5,0)=\"\",\"-\",VLOOKUP($E274,site!$B:$G,5,0))))","v":""}]
[null,null,null,null,null,null,null,null,null,null,null,null,null,null,null,null,null,null,{"$f":"IFERROR(IF(C275=\"\",\"\",IF(VLOOKUP(D275,site!$B:$D,3,0)=\"\",\"-\",VLOOKUP(D275,site!$B:$D,3,0))),IF(C275=\"\",\"\",IF(VLOOKUP(E275,site!$C:$D,2,0)=\"\",\"-\",VLOOKUP(E275,site!$C:$D,2,0))))","v":""},{"$f":"IFERROR(IF($C275=\"\",\"\",IF(VLOOKUP($D275,site!$B:$F,4,0)=\"\",\"-\",VLOOKUP($D275,site!$B:$F,4,0))),IF($C275=\"\",\"\",IF(VLOOKUP($E275,site!$B:$F,3,0)=\"\",\"-\",VLOOKUP($E275,site!$B:$F,3,0))))","v":""},{"$f":"IFERROR(IF($C275=\"\",\"\",IF(VLOOKUP($D275,site!$B:$F,5,0)=\"\",\"-\",VLOOKUP($D275,site!$B:$F,5,0))),IF($C275=\"\",\"\",IF(VLOOKUP($E275,site!$B:$F,4,0)=\"\",\"-\",VLOOKUP($E275,site!$B:$F,4,0))))","v":""},{"$f":"IFERROR(IF($C275=\"\",\"\",IF(VLOOKUP($D275,site!$B:$G,6,0)=\"\",\"-\",VLOOKUP($D275,site!$B:$G,6,0))),IF($C275=\"\",\"\",IF(VLOOKUP($E275,site!$B:$G,5,0)=\"\",\"-\",VLOOKUP($E275,site!$B:$G,5,0))))","v":""}]
[null,null,null,null,null,null,null,null,null,null,null,null,null,null,null,null,null,null,{"$f":"IFERROR(IF(C276=\"\",\"\",IF(VLOOKUP(D276,site!$B:$D,3,0)=\"\",\"-\",VLOOKUP(D276,site!$B:$D,3,0))),IF(C276=\"\",\"\",IF(VLOOKUP(E276,site!$C:$D,2,0)=\"\",\"-\",VLOOKUP(E276,site!$C:$D,2,0))))","v":""},{"$f":"IFERROR(IF($C276=\"\",\"\",IF(VLOOKUP($D276,site!$B:$F,4,0)=\"\",\"-\",VLOOKUP($D276,site!$B:$F,4,0))),IF($C276=\"\",\"\",IF(VLOOKUP($E276,site!$B:$F,3,0)=\"\",\"-\",VLOOKUP($E276,site!$B:$F,3,0))))","v":""},{"$f":"IFERROR(IF($C276=\"\",\"\",IF(VLOOKUP($D276,site!$B:$F,5,0)=\"\",\"-\",VLOOKUP($D276,site!$B:$F,5,0))),IF($C276=\"\",\"\",IF(VLOOKUP($E276,site!$B:$F,4,0)=\"\",\"-\",VLOOKUP($E276,site!$B:$F,4,0))))","v":""},{"$f":"IFERROR(IF($C276=\"\",\"\",IF(VLOOKUP($D276,site!$B:$G,6,0)=\"\",\"-\",VLOOKUP($D276,site!$B:$G,6,0))),IF($C276=\"\",\"\",IF(VLOOKUP($E276,site!$B:$G,5,0)=\"\",\"-\",VLOOKUP($E276,site!$B:$G,5,0))))","v":""}]
[null,null,null,null,null,null,null,null,null,null,null,null,null,null,null,null,null,null,{"$f":"IFERROR(IF(C277=\"\",\"\",IF(VLOOKUP(D277,site!$B:$D,3,0)=\"\",\"-\",VLOOKUP(D277,site!$B:$D,3,0))),IF(C277=\"\",\"\",IF(VLOOKUP(E277,site!$C:$D,2,0)=\"\",\"-\",VLOOKUP(E277,site!$C:$D,2,0))))","v":""},{"$f":"IFERROR(IF($C277=\"\",\"\",IF(VLOOKUP($D277,site!$B:$F,4,0)=\"\",\"-\",VLOOKUP($D277,site!$B:$F,4,0))),IF($C277=\"\",\"\",IF(VLOOKUP($E277,site!$B:$F,3,0)=\"\",\"-\",VLOOKUP($E277,site!$B:$F,3,0))))","v":""},{"$f":"IFERROR(IF($C277=\"\",\"\",IF(VLOOKUP($D277,site!$B:$F,5,0)=\"\",\"-\",VLOOKUP($D277,site!$B:$F,5,0))),IF($C277=\"\",\"\",IF(VLOOKUP($E277,site!$B:$F,4,0)=\"\",\"-\",VLOOKUP($E277,site!$B:$F,4,0))))","v":""},{"$f":"IFERROR(IF($C277=\"\",\"\",IF(VLOOKUP($D277,site!$B:$G,6,0)=\"\",\"-\",VLOOKUP($D277,site!$B:$G,6,0))),IF($C277=\"\",\"\",IF(VLOOKUP($E277,site!$B:$G,5,0)=\"\",\"-\",VLOOKUP($E277,site!$B:$G,5,0))))","v":""}]
[null,null,null,null,null,null,null,null,null,null,null,null,null,null,null,null,null,null,{"$f":"IFERROR(IF(C278=\"\",\"\",IF(VLOOKUP(D278,site!$B:$D,3,0)=\"\",\"-\",VLOOKUP(D278,site!$B:$D,3,0))),IF(C278=\"\",\"\",IF(VLOOKUP(E278,site!$C:$D,2,0)=\"\",\"-\",VLOOKUP(E278,site!$C:$D,2,0))))","v":""},{"$f":"IFERROR(IF($C278=\"\",\"\",IF(VLOOKUP($D278,site!$B:$F,4,0)=\"\",\"-\",VLOOKUP($D278,site!$B:$F,4,0))),IF($C278=\"\",\"\",IF(VLOOKUP($E278,site!$B:$F,3,0)=\"\",\"-\",VLOOKUP($E278,site!$B:$F,3,0))))","v":""},{"$f":"IFERROR(IF($C278=\"\",\"\",IF(VLOOKUP($D278,site!$B:$F,5,0)=\"\",\"-\",VLOOKUP($D278,site!$B:$F,5,0))),IF($C278=\"\",\"\",IF(VLOOKUP($E278,site!$B:$F,4,0)=\"\",\"-\",VLOOKUP($E278,site!$B:$F,4,0))))","v":""},{"$f":"IFERROR(IF($C278=\"\",\"\",IF(VLOOKUP($D278,site!$B:$G,6,0)=\"\",\"-\",VLOOKUP($D278,site!$B:$G,6,0))),IF($C278=\"\",\"\",IF(VLOOKUP($E278,site!$B:$G,5,0)=\"\",\"-\",VLOOKUP($E278,site!$B:$G,5,0))))","v":""}]
[null,null,null,null,null,null,null,null,null,null,null,null,null,null,null,null,null,null,{"$f":"IFERROR(IF(C279=\"\",\"\",IF(VLOOKUP(D279,site!$B:$D,3,0)=\"\",\"-\",VLOOKUP(D279,site!$B:$D,3,0))),IF(C279=\"\",\"\",IF(VLOOKUP(E279,site!$C:$D,2,0)=\"\",\"-\",VLOOKUP(E279,site!$C:$D,2,0))))","v":""},{"$f":"IFERROR(IF($C279=\"\",\"\",IF(VLOOKUP($D279,site!$B:$F,4,0)=\"\",\"-\",VLOOKUP($D279,site!$B:$F,4,0))),IF($C279=\"\",\"\",IF(VLOOKUP($E279,site!$B:$F,3,0)=\"\",\"-\",VLOOKUP($E279,site!$B:$F,3,0))))","v":""},{"$f":"IFERROR(IF($C279=\"\",\"\",IF(VLOOKUP($D279,site!$B:$F,5,0)=\"\",\"-\",VLOOKUP($D279,site!$B:$F,5,0))),IF($C279=\"\",\"\",IF(VLOOKUP($E279,site!$B:$F,4,0)=\"\",\"-\",VLOOKUP($E279,site!$B:$F,4,0))))","v":""},{"$f":"IFERROR(IF($C279=\"\",\"\",IF(VLOOKUP($D279,site!$B:$G,6,0)=\"\",\"-\",VLOOKUP($D279,site!$B:$G,6,0))),IF($C279=\"\",\"\",IF(VLOOKUP($E279,site!$B:$G,5,0)=\"\",\"-\",VLOOKUP($E279,site!$B:$G,5,0))))","v":""}]
[null,null,null,null,null,null,null,null,null,null,null,null,null,null,null,null,null,null,{"$f":"IFERROR(IF(C280=\"\",\"\",IF(VLOOKUP(D280,site!$B:$D,3,0)=\"\",\"-\",VLOOKUP(D280,site!$B:$D,3,0))),IF(C280=\"\",\"\",IF(VLOOKUP(E280,site!$C:$D,2,0)=\"\",\"-\",VLOOKUP(E280,site!$C:$D,2,0))))","v":""},{"$f":"IFERROR(IF($C280=\"\",\"\",IF(VLOOKUP($D280,site!$B:$F,4,0)=\"\",\"-\",VLOOKUP($D280,site!$B:$F,4,0))),IF($C280=\"\",\"\",IF(VLOOKUP($E280,site!$B:$F,3,0)=\"\",\"-\",VLOOKUP($E280,site!$B:$F,3,0))))","v":""},{"$f":"IFERROR(IF($C280=\"\",\"\",IF(VLOOKUP($D280,site!$B:$F,5,0)=\"\",\"-\",VLOOKUP($D280,site!$B:$F,5,0))),IF($C280=\"\",\"\",IF(VLOOKUP($E280,site!$B:$F,4,0)=\"\",\"-\",VLOOKUP($E280,site!$B:$F,4,0))))","v":""},{"$f":"IFERROR(IF($C280=\"\",\"\",IF(VLOOKUP($D280,site!$B:$G,6,0)=\"\",\"-\",VLOOKUP($D280,site!$B:$G,6,0))),IF($C280=\"\",\"\",IF(VLOOKUP($E280,site!$B:$G,5,0)=\"\",\"-\",VLOOKUP($E280,site!$B:$G,5,0))))","v":""}]
[null,null,null,null,null,null,null,null,null,null,null,null,null,null,null,null,null,null,{"$f":"IFERROR(IF(C281=\"\",\"\",IF(VLOOKUP(D281,site!$B:$D,3,0)=\"\",\"-\",VLOOKUP(D281,site!$B:$D,3,0))),IF(C281=\"\",\"\",IF(VLOOKUP(E281,site!$C:$D,2,0)=\"\",\"-\",VLOOKUP(E281,site!$C:$D,2,0))))","v":""},{"$f":"IFERROR(IF($C281=\"\",\"\",IF(VLOOKUP($D281,site!$B:$F,4,0)=\"\",\"-\",VLOOKUP($D281,site!$B:$F,4,0))),IF($C281=\"\",\"\",IF(VLOOKUP($E281,site!$B:$F,3,0)=\"\",\"-\",VLOOKUP($E281,site!$B:$F,3,0))))","v":""},{"$f":"IFERROR(IF($C281=\"\",\"\",IF(VLOOKUP($D281,site!$B:$F,5,0)=\"\",\"-\",VLOOKUP($D281,site!$B:$F,5,0))),IF($C281=\"\",\"\",IF(VLOOKUP($E281,site!$B:$F,4,0)=\"\",\"-\",VLOOKUP($E281,site!$B:$F,4,0))))","v":""},{"$f":"IFERROR(IF($C281=\"\",\"\",IF(VLOOKUP($D281,site!$B:$G,6,0)=\"\",\"-\",VLOOKUP($D281,site!$B:$G,6,0))),IF($C281=\"\",\"\",IF(VLOOKUP($E281,site!$B:$G,5,0)=\"\",\"-\",VLOOKUP($E281,site!$B:$G,5,0))))","v":""}]
[null,null,null,null,null,null,null,null,null,null,null,null,null,null,null,null,null,null,{"$f":"IFERROR(IF(C282=\"\",\"\",IF(VLOOKUP(D282,site!$B:$D,3,0)=\"\",\"-\",VLOOKUP(D282,site!$B:$D,3,0))),IF(C282=\"\",\"\",IF(VLOOKUP(E282,site!$C:$D,2,0)=\"\",\"-\",VLOOKUP(E282,site!$C:$D,2,0))))","v":""},{"$f":"IFERROR(IF($C282=\"\",\"\",IF(VLOOKUP($D282,site!$B:$F,4,0)=\"\",\"-\",VLOOKUP($D282,site!$B:$F,4,0))),IF($C282=\"\",\"\",IF(VLOOKUP($E282,site!$B:$F,3,0)=\"\",\"-\",VLOOKUP($E282,site!$B:$F,3,0))))","v":""},{"$f":"IFERROR(IF($C282=\"\",\"\",IF(VLOOKUP($D282,site!$B:$F,5,0)=\"\",\"-\",VLOOKUP($D282,site!$B:$F,5,0))),IF($C282=\"\",\"\",IF(VLOOKUP($E282,site!$B:$F,4,0)=\"\",\"-\",VLOOKUP($E282,site!$B:$F,4,0))))","v":""},{"$f":"IFERROR(IF($C282=\"\",\"\",IF(VLOOKUP($D282,site!$B:$G,6,0)=\"\",\"-\",VLOOKUP($D282,site!$B:$G,6,0))),IF($C282=\"\",\"\",IF(VLOOKUP($E282,site!$B:$G,5,0)=\"\",\"-\",VLOOKUP($E282,site!$B:$G,5,0))))","v":""}]
[null,null,null,null,null,null,null,null,null,null,null,null,null,null,null,null,null,null,{"$f":"IFERROR(IF(C283=\"\",\"\",IF(VLOOKUP(D283,site!$B:$D,3,0)=\"\",\"-\",VLOOKUP(D283,site!$B:$D,3,0))),IF(C283=\"\",\"\",IF(VLOOKUP(E283,site!$C:$D,2,0)=\"\",\"-\",VLOOKUP(E283,site!$C:$D,2,0))))","v":""},{"$f":"IFERROR(IF($C283=\"\",\"\",IF(VLOOKUP($D283,site!$B:$F,4,0)=\"\",\"-\",VLOOKUP($D283,site!$B:$F,4,0))),IF($C283=\"\",\"\",IF(VLOOKUP($E283,site!$B:$F,3,0)=\"\",\"-\",VLOOKUP($E283,site!$B:$F,3,0))))","v":""},{"$f":"IFERROR(IF($C283=\"\",\"\",IF(VLOOKUP($D283,site!$B:$F,5,0)=\"\",\"-\",VLOOKUP($D283,site!$B:$F,5,0))),IF($C283=\"\",\"\",IF(VLOOKUP($E283,site!$B:$F,4,0)=\"\",\"-\",VLOOKUP($E283,site!$B:$F,4,0))))","v":""},{"$f":"IFERROR(IF($C283=\"\",\"\",IF(VLOOKUP($D283,site!$B:$G,6,0)=\"\",\"-\",VLOOKUP($D283,site!$B:$G,6,0))),IF($C283=\"\",\"\",IF(VLOOKUP($E283,site!$B:$G,5,0)=\"\",\"-\",VLOOKUP($E283,site!$B:$G,5,0))))","v":""}]
[null,null,null,null,null,null,null,null,null,null,null,null,null,null,null,null,null,null,{"$f":"IFERROR(IF(C284=\"\",\"\",IF(VLOOKUP(D284,site!$B:$D,3,0)=\"\",\"-\",VLOOKUP(D284,site!$B:$D,3,0))),IF(C284=\"\",\"\",IF(VLOOKUP(E284,site!$C:$D,2,0)=\"\",\"-\",VLOOKUP(E284,site!$C:$D,2,0))))","v":""},{"$f":"IFERROR(IF($C284=\"\",\"\",IF(VLOOKUP($D284,site!$B:$F,4,0)=\"\",\"-\",VLOOKUP($D284,site!$B:$F,4,0))),IF($C284=\"\",\"\",IF(VLOOKUP($E284,site!$B:$F,3,0)=\"\",\"-\",VLOOKUP($E284,site!$B:$F,3,0))))","v":""},{"$f":"IFERROR(IF($C284=\"\",\"\",IF(VLOOKUP($D284,site!$B:$F,5,0)=\"\",\"-\",VLOOKUP($D284,site!$B:$F,5,0))),IF($C284=\"\",\"\",IF(VLOOKUP($E284,site!$B:$F,4,0)=\"\",\"-\",VLOOKUP($E284,site!$B:$F,4,0))))","v":""},{"$f":"IFERROR(IF($C284=\"\",\"\",IF(VLOOKUP($D284,site!$B:$G,6,0)=\"\",\"-\",VLOOKUP($D284,site!$B:$G,6,0))),IF($C284=\"\",\"\",IF(VLOOKUP($E284,site!$B:$G,5,0)=\"\",\"-\",VLOOKUP($E284,site!$B:$G,5,0))))","v":""}]
[null,null,null,null,null,null,null,null,null,null,null,null,null,null,null,null,null,null,{"$f":"IFERROR(IF(C285=\"\",\"\",IF(VLOOKUP(D285,site!$B:$D,3,0)=\"\",\"-\",VLOOKUP(D285,site!$B:$D,3,0))),IF(C285=\"\",\"\",IF(VLOOKUP(E285,site!$C:$D,2,0)=\"\",\"-\",VLOOKUP(E285,site!$C:$D,2,0))))","v":""},{"$f":"IFERROR(IF($C285=\"\",\"\",IF(VLOOKUP($D285,site!$B:$F,4,0)=\"\",\"-\",VLOOKUP($D285,site!$B:$F,4,0))),IF($C285=\"\",\"\",IF(VLOOKUP($E285,site!$B:$F,3,0)=\"\",\"-\",VLOOKUP($E285,site!$B:$F,3,0))))","v":""},{"$f":"IFERROR(IF($C285=\"\",\"\",IF(VLOOKUP($D285,site!$B:$F,5,0)=\"\",\"-\",VLOOKUP($D285,site!$B:$F,5,0))),IF($C285=\"\",\"\",IF(VLOOKUP($E285,site!$B:$F,4,0)=\"\",\"-\",VLOOKUP($E285,site!$B:$F,4,0))))","v":""},{"$f":"IFERROR(IF($C285=\"\",\"\",IF(VLOOKUP($D285,site!$B:$G,6,0)=\"\",\"-\",VLOOKUP($D285,site!$B:$G,6,0))),IF($C285=\"\",\"\",IF(VLOOKUP($E285,site!$B:$G,5,0)=\"\",\"-\",VLOOKUP($E285,site!$B:$G,5,0))))","v":""}]
[null,null,null,null,null,null,null,null,null,null,null,null,null,null,null,null,null,null,{"$f":"IFERROR(IF(C286=\"\",\"\",IF(VLOOKUP(D286,site!$B:$D,3,0)=\"\",\"-\",VLOOKUP(D286,site!$B:$D,3,0))),IF(C286=\"\",\"\",IF(VLOOKUP(E286,site!$C:$D,2,0)=\"\",\"-\",VLOOKUP(E286,site!$C:$D,2,0))))","v":""},{"$f":"IFERROR(IF($C286=\"\",\"\",IF(VLOOKUP($D286,site!$B:$F,4,0)=\"\",\"-\",VLOOKUP($D286,site!$B:$F,4,0))),IF($C286=\"\",\"\",IF(VLOOKUP($E286,site!$B:$F,3,0)=\"\",\"-\",VLOOKUP($E286,site!$B:$F,3,0))))","v":""},{"$f":"IFERROR(IF($C286=\"\",\"\",IF(VLOOKUP($D286,site!$B:$F,5,0)=\"\",\"-\",VLOOKUP($D286,site!$B:$F,5,0))),IF($C286=\"\",\"\",IF(VLOOKUP($E286,site!$B:$F,4,0)=\"\",\"-\",VLOOKUP($E286,site!$B:$F,4,0))))","v":""},{"$f":"IFERROR(IF($C286=\"\",\"\",IF(VLOOKUP($D286,site!$B:$G,6,0)=\"\",\"-\",VLOOKUP($D286,site!$B:$G,6,0))),IF($C286=\"\",\"\",IF(VLOOKUP($E286,site!$B:$G,5,0)=\"\",\"-\",VLOOKUP($E286,site!$B:$G,5,0))))","v":""}]
[null,null,null,null,null,null,null,null,null,null,null,null,null,null,null,null,null,null,{"$f":"IFERROR(IF(C287=\"\",\"\",IF(VLOOKUP(D287,site!$B:$D,3,0)=\"\",\"-\",VLOOKUP(D287,site!$B:$D,3,0))),IF(C287=\"\",\"\",IF(VLOOKUP(E287,site!$C:$D,2,0)=\"\",\"-\",VLOOKUP(E287,site!$C:$D,2,0))))","v":""},{"$f":"IFERROR(IF($C287=\"\",\"\",IF(VLOOKUP($D287,site!$B:$F,4,0)=\"\",\"-\",VLOOKUP($D287,site!$B:$F,4,0))),IF($C287=\"\",\"\",IF(VLOOKUP($E287,site!$B:$F,3,0)=\"\",\"-\",VLOOKUP($E287,site!$B:$F,3,0))))","v":""},{"$f":"IFERROR(IF($C287=\"\",\"\",IF(VLOOKUP($D287,site!$B:$F,5,0)=\"\",\"-\",VLOOKUP($D287,site!$B:$F,5,0))),IF($C287=\"\",\"\",IF(VLOOKUP($E287,site!$B:$F,4,0)=\"\",\"-\",VLOOKUP($E287,site!$B:$F,4,0))))","v":""},{"$f":"IFERROR(IF($C287=\"\",\"\",IF(VLOOKUP($D287,site!$B:$G,6,0)=\"\",\"-\",VLOOKUP($D287,site!$B:$G,6,0))),IF($C287=\"\",\"\",IF(VLOOKUP($E287,site!$B:$G,5,0)=\"\",\"-\",VLOOKUP($E287,site!$B:$G,5,0))))","v":""}]
[null,null,null,null,null,null,null,null,null,null,null,null,null,null,null,null,null,null,{"$f":"IFERROR(IF(C288=\"\",\"\",IF(VLOOKUP(D288,site!$B:$D,3,0)=\"\",\"-\",VLOOKUP(D288,site!$B:$D,3,0))),IF(C288=\"\",\"\",IF(VLOOKUP(E288,site!$C:$D,2,0)=\"\",\"-\",VLOOKUP(E288,site!$C:$D,2,0))))","v":""},{"$f":"IFERROR(IF($C288=\"\",\"\",IF(VLOOKUP($D288,site!$B:$F,4,0)=\"\",\"-\",VLOOKUP($D288,site!$B:$F,4,0))),IF($C288=\"\",\"\",IF(VLOOKUP($E288,site!$B:$F,3,0)=\"\",\"-\",VLOOKUP($E288,site!$B:$F,3,0))))","v":""},{"$f":"IFERROR(IF($C288=\"\",\"\",IF(VLOOKUP($D288,site!$B:$F,5,0)=\"\",\"-\",VLOOKUP($D288,site!$B:$F,5,0))),IF($C288=\"\",\"\",IF(VLOOKUP($E288,site!$B:$F,4,0)=\"\",\"-\",VLOOKUP($E288,site!$B:$F,4,0))))","v":""},{"$f":"IFERROR(IF($C288=\"\",\"\",IF(VLOOKUP($D288,site!$B:$G,6,0)=\"\",\"-\",VLOOKUP($D288,site!$B:$G,6,0))),IF($C288=\"\",\"\",IF(VLOOKUP($E288,site!$B:$G,5,0)=\"\",\"-\",VLOOKUP($E288,site!$B:$G,5,0))))","v":""}]
[null,null,null,null,null,null,null,null,null,null,null,null,null,null,null,null,null,null,{"$f":"IFERROR(IF(C289=\"\",\"\",IF(VLOOKUP(D289,site!$B:$D,3,0)=\"\",\"-\",VLOOKUP(D289,site!$B:$D,3,0))),IF(C289=\"\",\"\",IF(VLOOKUP(E289,site!$C:$D,2,0)=\"\",\"-\",VLOOKUP(E289,site!$C:$D,2,0))))","v":""},{"$f":"IFERROR(IF($C289=\"\",\"\",IF(VLOOKUP($D289,site!$B:$F,4,0)=\"\",\"-\",VLOOKUP($D289,site!$B:$F,4,0))),IF($C289=\"\",\"\",IF(VLOOKUP($E289,site!$B:$F,3,0)=\"\",\"-\",VLOOKUP($E289,site!$B:$F,3,0))))","v":""},{"$f":"IFERROR(IF($C289=\"\",\"\",IF(VLOOKUP($D289,site!$B:$F,5,0)=\"\",\"-\",VLOOKUP($D289,site!$B:$F,5,0))),IF($C289=\"\",\"\",IF(VLOOKUP($E289,site!$B:$F,4,0)=\"\",\"-\",VLOOKUP($E289,site!$B:$F,4,0))))","v":""},{"$f":"IFERROR(IF($C289=\"\",\"\",IF(VLOOKUP($D289,site!$B:$G,6,0)=\"\",\"-\",VLOOKUP($D289,site!$B:$G,6,0))),IF($C289=\"\",\"\",IF(VLOOKUP($E289,site!$B:$G,5,0)=\"\",\"-\",VLOOKUP($E289,site!$B:$G,5,0))))","v":""}]
[null,null,null,null,null,null,null,null,null,null,null,null,null,null,null,null,null,null,{"$f":"IFERROR(IF(C290=\"\",\"\",IF(VLOOKUP(D290,site!$B:$D,3,0)=\"\",\"-\",VLOOKUP(D290,site!$B:$D,3,0))),IF(C290=\"\",\"\",IF(VLOOKUP(E290,site!$C:$D,2,0)=\"\",\"-\",VLOOKUP(E290,site!$C:$D,2,0))))","v":""},{"$f":"IFERROR(IF($C290=\"\",\"\",IF(VLOOKUP($D290,site!$B:$F,4,0)=\"\",\"-\",VLOOKUP($D290,site!$B:$F,4,0))),IF($C290=\"\",\"\",IF(VLOOKUP($E290,site!$B:$F,3,0)=\"\",\"-\",VLOOKUP($E290,site!$B:$F,3,0))))","v":""},{"$f":"IFERROR(IF($C290=\"\",\"\",IF(VLOOKUP($D290,site!$B:$F,5,0)=\"\",\"-\",VLOOKUP($D290,site!$B:$F,5,0))),IF($C290=\"\",\"\",IF(VLOOKUP($E290,site!$B:$F,4,0)=\"\",\"-\",VLOOKUP($E290,site!$B:$F,4,0))))","v":""},{"$f":"IFERROR(IF($C290=\"\",\"\",IF(VLOOKUP($D290,site!$B:$G,6,0)=\"\",\"-\",VLOOKUP($D290,site!$B:$G,6,0))),IF($C290=\"\",\"\",IF(VLOOKUP($E290,site!$B:$G,5,0)=\"\",\"-\",VLOOKUP($E290,site!$B:$G,5,0))))","v":""}]
[null,null,null,null,null,null,null,null,null,null,null,null,null,null,null,null,null,null,{"$f":"IFERROR(IF(C291=\"\",\"\",IF(VLOOKUP(D291,site!$B:$D,3,0)=\"\",\"-\",VLOOKUP(D291,site!$B:$D,3,0))),IF(C291=\"\",\"\",IF(VLOOKUP(E291,site!$C:$D,2,0)=\"\",\"-\",VLOOKUP(E291,site!$C:$D,2,0))))","v":""},{"$f":"IFERROR(IF($C291=\"\",\"\",IF(VLOOKUP($D291,site!$B:$F,4,0)=\"\",\"-\",VLOOKUP($D291,site!$B:$F,4,0))),IF($C291=\"\",\"\",IF(VLOOKUP($E291,site!$B:$F,3,0)=\"\",\"-\",VLOOKUP($E291,site!$B:$F,3,0))))","v":""},{"$f":"IFERROR(IF($C291=\"\",\"\",IF(VLOOKUP($D291,site!$B:$F,5,0)=\"\",\"-\",VLOOKUP($D291,site!$B:$F,5,0))),IF($C291=\"\",\"\",IF(VLOOKUP($E291,site!$B:$F,4,0)=\"\",\"-\",VLOOKUP($E291,site!$B:$F,4,0))))","v":""},{"$f":"IFERROR(IF($C291=\"\",\"\",IF(VLOOKUP($D291,site!$B:$G,6,0)=\"\",\"-\",VLOOKUP($D291,site!$B:$G,6,0))),IF($C291=\"\",\"\",IF(VLOOKUP($E291,site!$B:$G,5,0)=\"\",\"-\",VLOOKUP($E291,site!$B:$G,5,0))))","v":""}]
[null,null,null,null,null,null,null,null,null,null,null,null,null,null,null,null,null,null,{"$f":"IFERROR(IF(C292=\"\",\"\",IF(VLOOKUP(D292,site!$B:$D,3,0)=\"\",\"-\",VLOOKUP(D292,site!$B:$D,3,0))),IF(C292=\"\",\"\",IF(VLOOKUP(E292,site!$C:$D,2,0)=\"\",\"-\",VLOOKUP(E292,site!$C:$D,2,0))))","v":""},{"$f":"IFERROR(IF($C292=\"\",\"\",IF(VLOOKUP($D292,site!$B:$F,4,0)=\"\",\"-\",VLOOKUP($D292,site!$B:$F,4,0))),IF($C292=\"\",\"\",IF(VLOOKUP($E292,site!$B:$F,3,0)=\"\",\"-\",VLOOKUP($E292,site!$B:$F,3,0))))","v":""},{"$f":"IFERROR(IF($C292=\"\",\"\",IF(VLOOKUP($D292,site!$B:$F,5,0)=\"\",\"-\",VLOOKUP($D292,site!$B:$F,5,0))),IF($C292=\"\",\"\",IF(VLOOKUP($E292,site!$B:$F,4,0)=\"\",\"-\",VLOOKUP($E292,site!$B:$F,4,0))))","v":""},{"$f":"IFERROR(IF($C292=\"\",\"\",IF(VLOOKUP($D292,site!$B:$G,6,0)=\"\",\"-\",VLOOKUP($D292,site!$B:$G,6,0))),IF($C292=\"\",\"\",IF(VLOOKUP($E292,site!$B:$G,5,0)=\"\",\"-\",VLOOKUP($E292,site!$B:$G,5,0))))","v":""}]
[null,null,null,null,null,null,null,null,null,null,null,null,null,null,null,null,null,null,{"$f":"IFERROR(IF(C293=\"\",\"\",IF(VLOOKUP(D293,site!$B:$D,3,0)=\"\",\"-\",VLOOKUP(D293,site!$B:$D,3,0))),IF(C293=\"\",\"\",IF(VLOOKUP(E293,site!$C:$D,2,0)=\"\",\"-\",VLOOKUP(E293,site!$C:$D,2,0))))","v":""},{"$f":"IFERROR(IF($C293=\"\",\"\",IF(VLOOKUP($D293,site!$B:$F,4,0)=\"\",\"-\",VLOOKUP($D293,site!$B:$F,4,0))),IF($C293=\"\",\"\",IF(VLOOKUP($E293,site!$B:$F,3,0)=\"\",\"-\",VLOOKUP($E293,site!$B:$F,3,0))))","v":""},{"$f":"IFERROR(IF($C293=\"\",\"\",IF(VLOOKUP($D293,site!$B:$F,5,0)=\"\",\"-\",VLOOKUP($D293,site!$B:$F,5,0))),IF($C293=\"\",\"\",IF(VLOOKUP($E293,site!$B:$F,4,0)=\"\",\"-\",VLOOKUP($E293,site!$B:$F,4,0))))","v":""},{"$f":"IFERROR(IF($C293=\"\",\"\",IF(VLOOKUP($D293,site!$B:$G,6,0)=\"\",\"-\",VLOOKUP($D293,site!$B:$G,6,0))),IF($C293=\"\",\"\",IF(VLOOKUP($E293,site!$B:$G,5,0)=\"\",\"-\",VLOOKUP($E293,site!$B:$G,5,0))))","v":""}]
[null,null,null,null,null,null,null,null,null,null,null,null,null,null,null,null,null,null,{"$f":"IFERROR(IF(C294=\"\",\"\",IF(VLOOKUP(D294,site!$B:$D,3,0)=\"\",\"-\",VLOOKUP(D294,site!$B:$D,3,0))),IF(C294=\"\",\"\",IF(VLOOKUP(E294,site!$C:$D,2,0)=\"\",\"-\",VLOOKUP(E294,site!$C:$D,2,0))))","v":""},{"$f":"IFERROR(IF($C294=\"\",\"\",IF(VLOOKUP($D294,site!$B:$F,4,0)=\"\",\"-\",VLOOKUP($D294,site!$B:$F,4,0))),IF($C294=\"\",\"\",IF(VLOOKUP($E294,site!$B:$F,3,0)=\"\",\"-\",VLOOKUP($E294,site!$B:$F,3,0))))","v":""},{"$f":"IFERROR(IF($C294=\"\",\"\",IF(VLOOKUP($D294,site!$B:$F,5,0)=\"\",\"-\",VLOOKUP($D294,site!$B:$F,5,0))),IF($C294=\"\",\"\",IF(VLOOKUP($E294,site!$B:$F,4,0)=\"\",\"-\",VLOOKUP($E294,site!$B:$F,4,0))))","v":""},{"$f":"IFERROR(IF($C294=\"\",\"\",IF(VLOOKUP($D294,site!$B:$G,6,0)=\"\",\"-\",VLOOKUP($D294,site!$B:$G,6,0))),IF($C294=\"\",\"\",IF(VLOOKUP($E294,site!$B:$G,5,0)=\"\",\"-\",VLOOKUP($E294,site!$B:$G,5,0))))","v":""}]
[null,null,null,null,null,null,null,null,null,null,null,null,null,null,null,null,null,null,{"$f":"IFERROR(IF(C295=\"\",\"\",IF(VLOOKUP(D295,site!$B:$D,3,0)=\"\",\"-\",VLOOKUP(D295,site!$B:$D,3,0))),IF(C295=\"\",\"\",IF(VLOOKUP(E295,site!$C:$D,2,0)=\"\",\"-\",VLOOKUP(E295,site!$C:$D,2,0))))","v":""},{"$f":"IFERROR(IF($C295=\"\",\"\",IF(VLOOKUP($D295,site!$B:$F,4,0)=\"\",\"-\",VLOOKUP($D295,site!$B:$F,4,0))),IF($C295=\"\",\"\",IF(VLOOKUP($E295,site!$B:$F,3,0)=\"\",\"-\",VLOOKUP($E295,site!$B:$F,3,0))))","v":""},{"$f":"IFERROR(IF($C295=\"\",\"\",IF(VLOOKUP($D295,site!$B:$F,5,0)=\"\",\"-\",VLOOKUP($D295,site!$B:$F,5,0))),IF($C295=\"\",\"\",IF(VLOOKUP($E295,site!$B:$F,4,0)=\"\",\"-\",VLOOKUP($E295,site!$B:$F,4,0))))","v":""},{"$f":"IFERROR(IF($C295=\"\",\"\",IF(VLOOKUP($D295,site!$B:$G,6,0)=\"\",\"-\",VLOOKUP($D295,site!$B:$G,6,0))),IF($C295=\"\",\"\",IF(VLOOKUP($E295,site!$B:$G,5,0)=\"\",\"-\",VLOOKUP($E295,site!$B:$G,5,0))))","v":""}]
[null,null,null,null,null,null,null,null,null,null,null,null,null,null,null,null,null,null,{"$f":"IFERROR(IF(C296=\"\",\"\",IF(VLOOKUP(D296,site!$B:$D,3,0)=\"\",\"-\",VLOOKUP(D296,site!$B:$D,3,0))),IF(C296=\"\",\"\",IF(VLOOKUP(E296,site!$C:$D,2,0)=\"\",\"-\",VLOOKUP(E296,site!$C:$D,2,0))))","v":""},{"$f":"IFERROR(IF($C296=\"\",\"\",IF(VLOOKUP($D296,site!$B:$F,4,0)=\"\",\"-\",VLOOKUP($D296,site!$B:$F,4,0))),IF($C296=\"\",\"\",IF(VLOOKUP($E296,site!$B:$F,3,0)=\"\",\"-\",VLOOKUP($E296,site!$B:$F,3,0))))","v":""},{"$f":"IFERROR(IF($C296=\"\",\"\",IF(VLOOKUP($D296,site!$B:$F,5,0)=\"\",\"-\",VLOOKUP($D296,site!$B:$F,5,0))),IF($C296=\"\",\"\",IF(VLOOKUP($E296,site!$B:$F,4,0)=\"\",\"-\",VLOOKUP($E296,site!$B:$F,4,0))))","v":""},{"$f":"IFERROR(IF($C296=\"\",\"\",IF(VLOOKUP($D296,site!$B:$G,6,0)=\"\",\"-\",VLOOKUP($D296,site!$B:$G,6,0))),IF($C296=\"\",\"\",IF(VLOOKUP($E296,site!$B:$G,5,0)=\"\",\"-\",VLOOKUP($E296,site!$B:$G,5,0))))","v":""}]
[null,null,null,null,null,null,null,null,null,null,null,null,null,null,null,null,null,null,{"$f":"IFERROR(IF(C297=\"\",\"\",IF(VLOOKUP(D297,site!$B:$D,3,0)=\"\",\"-\",VLOOKUP(D297,site!$B:$D,3,0))),IF(C297=\"\",\"\",IF(VLOOKUP(E297,site!$C:$D,2,0)=\"\",\"-\",VLOOKUP(E297,site!$C:$D,2,0))))","v":""},{"$f":"IFERROR(IF($C297=\"\",\"\",IF(VLOOKUP($D297,site!$B:$F,4,0)=\"\",\"-\",VLOOKUP($D297,site!$B:$F,4,0))),IF($C297=\"\",\"\",IF(VLOOKUP($E297,site!$B:$F,3,0)=\"\",\"-\",VLOOKUP($E297,site!$B:$F,3,0))))","v":""},{"$f":"IFERROR(IF($C297=\"\",\"\",IF(VLOOKUP($D297,site!$B:$F,5,0)=\"\",\"-\",VLOOKUP($D297,site!$B:$F,5,0))),IF($C297=\"\",\"\",IF(VLOOKUP($E297,site!$B:$F,4,0)=\"\",\"-\",VLOOKUP($E297,site!$B:$F,4,0))))","v":""},{"$f":"IFERROR(IF($C297=\"\",\"\",IF(VLOOKUP($D297,site!$B:$G,6,0)=\"\",\"-\",VLOOKUP($D297,site!$B:$G,6,0))),IF($C297=\"\",\"\",IF(VLOOKUP($E297,site!$B:$G,5,0)=\"\",\"-\",VLOOKUP($E297,site!$B:$G,5,0))))","v":""}]
[null,null,null,null,null,null,null,null,null,null,null,null,null,null,null,null,null,null,{"$f":"IFERROR(IF(C298=\"\",\"\",IF(VLOOKUP(D298,site!$B:$D,3,0)=\"\",\"-\",VLOOKUP(D298,site!$B:$D,3,0))),IF(C298=\"\",\"\",IF(VLOOKUP(E298,site!$C:$D,2,0)=\"\",\"-\",VLOOKUP(E298,site!$C:$D,2,0))))","v":""},{"$f":"IFERROR(IF($C298=\"\",\"\",IF(VLOOKUP($D298,site!$B:$F,4,0)=\"\",\"-\",VLOOKUP($D298,site!$B:$F,4,0))),IF($C298=\"\",\"\",IF(VLOOKUP($E298,site!$B:$F,3,0)=\"\",\"-\",VLOOKUP($E298,site!$B:$F,3,0))))","v":""},{"$f":"IFERROR(IF($C298=\"\",\"\",IF(VLOOKUP($D298,site!$B:$F,5,0)=\"\",\"-\",VLOOKUP($D298,site!$B:$F,5,0))),IF($C298=\"\",\"\",IF(VLOOKUP($E298,site!$B:$F,4,0)=\"\",\"-\",VLOOKUP($E298,site!$B:$F,4,0))))","v":""},{"$f":"IFERROR(IF($C298=\"\",\"\",IF(VLOOKUP($D298,site!$B:$G,6,0)=\"\",\"-\",VLOOKUP($D298,site!$B:$G,6,0))),IF($C298=\"\",\"\",IF(VLOOKUP($E298,site!$B:$G,5,0)=\"\",\"-\",VLOOKUP($E298,site!$B:$G,5,0))))","v":""}]
[null,null,null,null,null,null,null,null,null,null,null,null,null,null,null,null,null,null,{"$f":"IFERROR(IF(C299=\"\",\"\",IF(VLOOKUP(D299,site!$B:$D,3,0)=\"\",\"-\",VLOOKUP(D299,site!$B:$D,3,0))),IF(C299=\"\",\"\",IF(VLOOKUP(E299,site!$C:$D,2,0)=\"\",\"-\",VLOOKUP(E299,site!$C:$D,2,0))))","v":""},{"$f":"IFERROR(IF($C299=\"\",\"\",IF(VLOOKUP($D299,site!$B:$F,4,0)=\"\",\"-\",VLOOKUP($D299,site!$B:$F,4,0))),IF($C299=\"\",\"\",IF(VLOOKUP($E299,site!$B:$F,3,0)=\"\",\"-\",VLOOKUP($E299,site!$B:$F,3,0))))","v":""},{"$f":"IFERROR(IF($C299=\"\",\"\",IF(VLOOKUP($D299,site!$B:$F,5,0)=\"\",\"-\",VLOOKUP($D299,site!$B:$F,5,0))),IF($C299=\"\",\"\",IF(VLOOKUP($E299,site!$B:$F,4,0)=\"\",\"-\",VLOOKUP($E299,site!$B:$F,4,0))))","v":""},{"$f":"IFERROR(IF($C299=\"\",\"\",IF(VLOOKUP($D299,site!$B:$G,6,0)=\"\",\"-\",VLOOKUP($D299,site!$B:$G,6,0))),IF($C299=\"\",\"\",IF(VLOOKUP($E299,site!$B:$G,5,0)=\"\",\"-\",VLOOKUP($E299,site!$B:$G,5,0))))","v":""}]
[null,null,null,null,null,null,null,null,null,null,null,null,null,null,null,null,null,null,{"$f":"IFERROR(IF(C300=\"\",\"\",IF(VLOOKUP(D300,site!$B:$D,3,0)=\"\",\"-\",VLOOKUP(D300,site!$B:$D,3,0))),IF(C300=\"\",\"\",IF(VLOOKUP(E300,site!$C:$D,2,0)=\"\",\"-\",VLOOKUP(E300,site!$C:$D,2,0))))","v":""},{"$f":"IFERROR(IF($C300=\"\",\"\",IF(VLOOKUP($D300,site!$B:$F,4,0)=\"\",\"-\",VLOOKUP($D300,site!$B:$F,4,0))),IF($C300=\"\",\"\",IF(VLOOKUP($E300,site!$B:$F,3,0)=\"\",\"-\",VLOOKUP($E300,site!$B:$F,3,0))))","v":""},{"$f":"IFERROR(IF($C300=\"\",\"\",IF(VLOOKUP($D300,site!$B:$F,5,0)=\"\",\"-\",VLOOKUP($D300,site!$B:$F,5,0))),IF($C300=\"\",\"\",IF(VLOOKUP($E300,site!$B:$F,4,0)=\"\",\"-\",VLOOKUP($E300,site!$B:$F,4,0))))","v":""},{"$f":"IFERROR(IF($C300=\"\",\"\",IF(VLOOKUP($D300,site!$B:$G,6,0)=\"\",\"-\",VLOOKUP($D300,site!$B:$G,6,0))),IF($C300=\"\",\"\",IF(VLOOKUP($E300,site!$B:$G,5,0)=\"\",\"-\",VLOOKUP($E300,site!$B:$G,5,0))))","v":""}]
[null,null,null,null,null,null,null,null,null,null,null,null,null,null,null,null,null,null,{"$f":"IFERROR(IF(C301=\"\",\"\",IF(VLOOKUP(D301,site!$B:$D,3,0)=\"\",\"-\",VLOOKUP(D301,site!$B:$D,3,0))),IF(C301=\"\",\"\",IF(VLOOKUP(E301,site!$C:$D,2,0)=\"\",\"-\",VLOOKUP(E301,site!$C:$D,2,0))))","v":""},{"$f":"IFERROR(IF($C301=\"\",\"\",IF(VLOOKUP($D301,site!$B:$F,4,0)=\"\",\"-\",VLOOKUP($D301,site!$B:$F,4,0))),IF($C301=\"\",\"\",IF(VLOOKUP($E301,site!$B:$F,3,0)=\"\",\"-\",VLOOKUP($E301,site!$B:$F,3,0))))","v":""},{"$f":"IFERROR(IF($C301=\"\",\"\",IF(VLOOKUP($D301,site!$B:$F,5,0)=\"\",\"-\",VLOOKUP($D301,site!$B:$F,5,0))),IF($C301=\"\",\"\",IF(VLOOKUP($E301,site!$B:$F,4,0)=\"\",\"-\",VLOOKUP($E301,site!$B:$F,4,0))))","v":""},{"$f":"IFERROR(IF($C301=\"\",\"\",IF(VLOOKUP($D301,site!$B:$G,6,0)=\"\",\"-\",VLOOKUP($D301,site!$B:$G,6,0))),IF($C301=\"\",\"\",IF(VLOOKUP($E301,site!$B:$G,5,0)=\"\",\"-\",VLOOKUP($E301,site!$B:$G,5,0))))","v":""}]
[null,null,null,null,null,null,null,null,null,null,null,null,null,null,null,null,null,null,{"$f":"IFERROR(IF(C302=\"\",\"\",IF(VLOOKUP(D302,site!$B:$D,3,0)=\"\",\"-\",VLOOKUP(D302,site!$B:$D,3,0))),IF(C302=\"\",\"\",IF(VLOOKUP(E302,site!$C:$D,2,0)=\"\",\"-\",VLOOKUP(E302,site!$C:$D,2,0))))","v":""},{"$f":"IFERROR(IF($C302=\"\",\"\",IF(VLOOKUP($D302,site!$B:$F,4,0)=\"\",\"-\",VLOOKUP($D302,site!$B:$F,4,0))),IF($C302=\"\",\"\",IF(VLOOKUP($E302,site!$B:$F,3,0)=\"\",\"-\",VLOOKUP($E302,site!$B:$F,3,0))))","v":""},{"$f":"IFERROR(IF($C302=\"\",\"\",IF(VLOOKUP($D302,site!$B:$F,5,0)=\"\",\"-\",VLOOKUP($D302,site!$B:$F,5,0))),IF($C302=\"\",\"\",IF(VLOOKUP($E302,site!$B:$F,4,0)=\"\",\"-\",VLOOKUP($E302,site!$B:$F,4,0))))","v":""},{"$f":"IFERROR(IF($C302=\"\",\"\",IF(VLOOKUP($D302,site!$B:$G,6,0)=\"\",\"-\",VLOOKUP($D302,site!$B:$G,6,0))),IF($C302=\"\",\"\",IF(VLOOKUP($E302,site!$B:$G,5,0)=\"\",\"-\",VLOOKUP($E302,site!$B:$G,5,0))))","v":""}]
[null,null,null,null,null,null,null,null,null,null,null,null,null,null,null,null,null,null,{"$f":"IFERROR(IF(C303=\"\",\"\",IF(VLOOKUP(D303,site!$B:$D,3,0)=\"\",\"-\",VLOOKUP(D303,site!$B:$D,3,0))),IF(C303=\"\",\"\",IF(VLOOKUP(E303,site!$C:$D,2,0)=\"\",\"-\",VLOOKUP(E303,site!$C:$D,2,0))))","v":""},{"$f":"IFERROR(IF($C303=\"\",\"\",IF(VLOOKUP($D303,site!$B:$F,4,0)=\"\",\"-\",VLOOKUP($D303,site!$B:$F,4,0))),IF($C303=\"\",\"\",IF(VLOOKUP($E303,site!$B:$F,3,0)=\"\",\"-\",VLOOKUP($E303,site!$B:$F,3,0))))","v":""},{"$f":"IFERROR(IF($C303=\"\",\"\",IF(VLOOKUP($D303,site!$B:$F,5,0)=\"\",\"-\",VLOOKUP($D303,site!$B:$F,5,0))),IF($C303=\"\",\"\",IF(VLOOKUP($E303,site!$B:$F,4,0)=\"\",\"-\",VLOOKUP($E303,site!$B:$F,4,0))))","v":""},{"$f":"IFERROR(IF($C303=\"\",\"\",IF(VLOOKUP($D303,site!$B:$G,6,0)=\"\",\"-\",VLOOKUP($D303,site!$B:$G,6,0))),IF($C303=\"\",\"\",IF(VLOOKUP($E303,site!$B:$G,5,0)=\"\",\"-\",VLOOKUP($E303,site!$B:$G,5,0))))","v":""}]
[null,null,null,null,null,null,null,null,null,null,null,null,null,null,null,null,null,null,{"$f":"IFERROR(IF(C304=\"\",\"\",IF(VLOOKUP(D304,site!$B:$D,3,0)=\"\",\"-\",VLOOKUP(D304,site!$B:$D,3,0))),IF(C304=\"\",\"\",IF(VLOOKUP(E304,site!$C:$D,2,0)=\"\",\"-\",VLOOKUP(E304,site!$C:$D,2,0))))","v":""},{"$f":"IFERROR(IF($C304=\"\",\"\",IF(VLOOKUP($D304,site!$B:$F,4,0)=\"\",\"-\",VLOOKUP($D304,site!$B:$F,4,0))),IF($C304=\"\",\"\",IF(VLOOKUP($E304,site!$B:$F,3,0)=\"\",\"-\",VLOOKUP($E304,site!$B:$F,3,0))))","v":""},{"$f":"IFERROR(IF($C304=\"\",\"\",IF(VLOOKUP($D304,site!$B:$F,5,0)=\"\",\"-\",VLOOKUP($D304,site!$B:$F,5,0))),IF($C304=\"\",\"\",IF(VLOOKUP($E304,site!$B:$F,4,0)=\"\",\"-\",VLOOKUP($E304,site!$B:$F,4,0))))","v":""},{"$f":"IFERROR(IF($C304=\"\",\"\",IF(VLOOKUP($D304,site!$B:$G,6,0)=\"\",\"-\",VLOOKUP($D304,site!$B:$G,6,0))),IF($C304=\"\",\"\",IF(VLOOKUP($E304,site!$B:$G,5,0)=\"\",\"-\",VLOOKUP($E304,site!$B:$G,5,0))))","v":""}]
[null,null,null,null,null,null,null,null,null,null,null,null,null,null,null,null,null,null,{"$f":"IFERROR(IF(C305=\"\",\"\",IF(VLOOKUP(D305,site!$B:$D,3,0)=\"\",\"-\",VLOOKUP(D305,site!$B:$D,3,0))),IF(C305=\"\",\"\",IF(VLOOKUP(E305,site!$C:$D,2,0)=\"\",\"-\",VLOOKUP(E305,site!$C:$D,2,0))))","v":""},{"$f":"IFERROR(IF($C305=\"\",\"\",IF(VLOOKUP($D305,site!$B:$F,4,0)=\"\",\"-\",VLOOKUP($D305,site!$B:$F,4,0))),IF($C305=\"\",\"\",IF(VLOOKUP($E305,site!$B:$F,3,0)=\"\",\"-\",VLOOKUP($E305,site!$B:$F,3,0))))","v":""},{"$f":"IFERROR(IF($C305=\"\",\"\",IF(VLOOKUP($D305,site!$B:$F,5,0)=\"\",\"-\",VLOOKUP($D305,site!$B:$F,5,0))),IF($C305=\"\",\"\",IF(VLOOKUP($E305,site!$B:$F,4,0)=\"\",\"-\",VLOOKUP($E305,site!$B:$F,4,0))))","v":""},{"$f":"IFERROR(IF($C305=\"\",\"\",IF(VLOOKUP($D305,site!$B:$G,6,0)=\"\",\"-\",VLOOKUP($D305,site!$B:$G,6,0))),IF($C305=\"\",\"\",IF(VLOOKUP($E305,site!$B:$G,5,0)=\"\",\"-\",VLOOKUP($E305,site!$B:$G,5,0))))","v":""}]
[null,null,null,null,null,null,null,null,null,null,null,null,null,null,null,null,null,null,{"$f":"IFERROR(IF(C306=\"\",\"\",IF(VLOOKUP(D306,site!$B:$D,3,0)=\"\",\"-\",VLOOKUP(D306,site!$B:$D,3,0))),IF(C306=\"\",\"\",IF(VLOOKUP(E306,site!$C:$D,2,0)=\"\",\"-\",VLOOKUP(E306,site!$C:$D,2,0))))","v":""},{"$f":"IFERROR(IF($C306=\"\",\"\",IF(VLOOKUP($D306,site!$B:$F,4,0)=\"\",\"-\",VLOOKUP($D306,site!$B:$F,4,0))),IF($C306=\"\",\"\",IF(VLOOKUP($E306,site!$B:$F,3,0)=\"\",\"-\",VLOOKUP($E306,site!$B:$F,3,0))))","v":""},{"$f":"IFERROR(IF($C306=\"\",\"\",IF(VLOOKUP($D306,site!$B:$F,5,0)=\"\",\"-\",VLOOKUP($D306,site!$B:$F,5,0))),IF($C306=\"\",\"\",IF(VLOOKUP($E306,site!$B:$F,4,0)=\"\",\"-\",VLOOKUP($E306,site!$B:$F,4,0))))","v":""},{"$f":"IFERROR(IF($C306=\"\",\"\",IF(VLOOKUP($D306,site!$B:$G,6,0)=\"\",\"-\",VLOOKUP($D306,site!$B:$G,6,0))),IF($C306=\"\",\"\",IF(VLOOKUP($E306,site!$B:$G,5,0)=\"\",\"-\",VLOOKUP($E306,site!$B:$G,5,0))))","v":""}]
[null,null,null,null,null,null,null,null,null,null,null,null,null,null,null,null,null,null,{"$f":"IFERROR(IF(C307=\"\",\"\",IF(VLOOKUP(D307,site!$B:$D,3,0)=\"\",\"-\",VLOOKUP(D307,site!$B:$D,3,0))),IF(C307=\"\",\"\",IF(VLOOKUP(E307,site!$C:$D,2,0)=\"\",\"-\",VLOOKUP(E307,site!$C:$D,2,0))))","v":""},{"$f":"IFERROR(IF($C307=\"\",\"\",IF(VLOOKUP($D307,site!$B:$F,4,0)=\"\",\"-\",VLOOKUP($D307,site!$B:$F,4,0))),IF($C307=\"\",\"\",IF(VLOOKUP($E307,site!$B:$F,3,0)=\"\",\"-\",VLOOKUP($E307,site!$B:$F,3,0))))","v":""},{"$f":"IFERROR(IF($C307=\"\",\"\",IF(VLOOKUP($D307,site!$B:$F,5,0)=\"\",\"-\",VLOOKUP($D307,site!$B:$F,5,0))),IF($C307=\"\",\"\",IF(VLOOKUP($E307,site!$B:$F,4,0)=\"\",\"-\",VLOOKUP($E307,site!$B:$F,4,0))))","v":""},{"$f":"IFERROR(IF($C307=\"\",\"\",IF(VLOOKUP($D307,site!$B:$G,6,0)=\"\",\"-\",VLOOKUP($D307,site!$B:$G,6,0))),IF($C307=\"\",\"\",IF(VLOOKUP($E307,site!$B:$G,5,0)=\"\",\"-\",VLOOKUP($E307,site!$B:$G,5,0))))","v":""}]
[null,null,null,null,null,null,null,null,null,null,null,null,null,null,null,null,null,null,{"$f":"IFERROR(IF(C308=\"\",\"\",IF(VLOOKUP(D308,site!$B:$D,3,0)=\"\",\"-\",VLOOKUP(D308,site!$B:$D,3,0))),IF(C308=\"\",\"\",IF(VLOOKUP(E308,site!$C:$D,2,0)=\"\",\"-\",VLOOKUP(E308,site!$C:$D,2,0))))","v":""},{"$f":"IFERROR(IF($C308=\"\",\"\",IF(VLOOKUP($D308,site!$B:$F,4,0)=\"\",\"-\",VLOOKUP($D308,site!$B:$F,4,0))),IF($C308=\"\",\"\",IF(VLOOKUP($E308,site!$B:$F,3,0)=\"\",\"-\",VLOOKUP($E308,site!$B:$F,3,0))))","v":""},{"$f":"IFERROR(IF($C308=\"\",\"\",IF(VLOOKUP($D308,site!$B:$F,5,0)=\"\",\"-\",VLOOKUP($D308,site!$B:$F,5,0))),IF($C308=\"\",\"\",IF(VLOOKUP($E308,site!$B:$F,4,0)=\"\",\"-\",VLOOKUP($E308,site!$B:$F,4,0))))","v":""},{"$f":"IFERROR(IF($C308=\"\",\"\",IF(VLOOKUP($D308,site!$B:$G,6,0)=\"\",\"-\",VLOOKUP($D308,site!$B:$G,6,0))),IF($C308=\"\",\"\",IF(VLOOKUP($E308,site!$B:$G,5,0)=\"\",\"-\",VLOOKUP($E308,site!$B:$G,5,0))))","v":""}]
[null,null,null,null,null,null,null,null,null,null,null,null,null,null,null,null,null,null,{"$f":"IFERROR(IF(C309=\"\",\"\",IF(VLOOKUP(D309,site!$B:$D,3,0)=\"\",\"-\",VLOOKUP(D309,site!$B:$D,3,0))),IF(C309=\"\",\"\",IF(VLOOKUP(E309,site!$C:$D,2,0)=\"\",\"-\",VLOOKUP(E309,site!$C:$D,2,0))))","v":""},{"$f":"IFERROR(IF($C309=\"\",\"\",IF(VLOOKUP($D309,site!$B:$F,4,0)=\"\",\"-\",VLOOKUP($D309,site!$B:$F,4,0))),IF($C309=\"\",\"\",IF(VLOOKUP($E309,site!$B:$F,3,0)=\"\",\"-\",VLOOKUP($E309,site!$B:$F,3,0))))","v":""},{"$f":"IFERROR(IF($C309=\"\",\"\",IF(VLOOKUP($D309,site!$B:$F,5,0)=\"\",\"-\",VLOOKUP($D309,site!$B:$F,5,0))),IF($C309=\"\",\"\",IF(VLOOKUP($E309,site!$B:$F,4,0)=\"\",\"-\",VLOOKUP($E309,site!$B:$F,4,0))))","v":""},{"$f":"IFERROR(IF($C309=\"\",\"\",IF(VLOOKUP($D309,site!$B:$G,6,0)=\"\",\"-\",VLOOKUP($D309,site!$B:$G,6,0))),IF($C309=\"\",\"\",IF(VLOOKUP($E309,site!$B:$G,5,0)=\"\",\"-\",VLOOKUP($E309,site!$B:$G,5,0))))","v":""}]
[null,null,null,null,null,null,null,null,null,null,null,null,null,null,null,null,null,null,{"$f":"IFERROR(IF(C310=\"\",\"\",IF(VLOOKUP(D310,site!$B:$D,3,0)=\"\",\"-\",VLOOKUP(D310,site!$B:$D,3,0))),IF(C310=\"\",\"\",IF(VLOOKUP(E310,site!$C:$D,2,0)=\"\",\"-\",VLOOKUP(E310,site!$C:$D,2,0))))","v":""},{"$f":"IFERROR(IF($C310=\"\",\"\",IF(VLOOKUP($D310,site!$B:$F,4,0)=\"\",\"-\",VLOOKUP($D310,site!$B:$F,4,0))),IF($C310=\"\",\"\",IF(VLOOKUP($E310,site!$B:$F,3,0)=\"\",\"-\",VLOOKUP($E310,site!$B:$F,3,0))))","v":""},{"$f":"IFERROR(IF($C310=\"\",\"\",IF(VLOOKUP($D310,site!$B:$F,5,0)=\"\",\"-\",VLOOKUP($D310,site!$B:$F,5,0))),IF($C310=\"\",\"\",IF(VLOOKUP($E310,site!$B:$F,4,0)=\"\",\"-\",VLOOKUP($E310,site!$B:$F,4,0))))","v":""},{"$f":"IFERROR(IF($C310=\"\",\"\",IF(VLOOKUP($D310,site!$B:$G,6,0)=\"\",\"-\",VLOOKUP($D310,site!$B:$G,6,0))),IF($C310=\"\",\"\",IF(VLOOKUP($E310,site!$B:$G,5,0)=\"\",\"-\",VLOOKUP($E310,site!$B:$G,5,0))))","v":""}]
[null,null,null,null,null,null,null,null,null,null,null,null,null,null,null,null,null,null,{"$f":"IFERROR(IF(C311=\"\",\"\",IF(VLOOKUP(D311,site!$B:$D,3,0)=\"\",\"-\",VLOOKUP(D311,site!$B:$D,3,0))),IF(C311=\"\",\"\",IF(VLOOKUP(E311,site!$C:$D,2,0)=\"\",\"-\",VLOOKUP(E311,site!$C:$D,2,0))))","v":""},{"$f":"IFERROR(IF($C311=\"\",\"\",IF(VLOOKUP($D311,site!$B:$F,4,0)=\"\",\"-\",VLOOKUP($D311,site!$B:$F,4,0))),IF($C311=\"\",\"\",IF(VLOOKUP($E311,site!$B:$F,3,0)=\"\",\"-\",VLOOKUP($E311,site!$B:$F,3,0))))","v":""},{"$f":"IFERROR(IF($C311=\"\",\"\",IF(VLOOKUP($D311,site!$B:$F,5,0)=\"\",\"-\",VLOOKUP($D311,site!$B:$F,5,0))),IF($C311=\"\",\"\",IF(VLOOKUP($E311,site!$B:$F,4,0)=\"\",\"-\",VLOOKUP($E311,site!$B:$F,4,0))))","v":""},{"$f":"IFERROR(IF($C311=\"\",\"\",IF(VLOOKUP($D311,site!$B:$G,6,0)=\"\",\"-\",VLOOKUP($D311,site!$B:$G,6,0))),IF($C311=\"\",\"\",IF(VLOOKUP($E311,site!$B:$G,5,0)=\"\",\"-\",VLOOKUP($E311,site!$B:$G,5,0))))","v":""}]
[null,null,null,null,null,null,null,null,null,null,null,null,null,null,null,null,null,null,{"$f":"IFERROR(IF(C312=\"\",\"\",IF(VLOOKUP(D312,site!$B:$D,3,0)=\"\",\"-\",VLOOKUP(D312,site!$B:$D,3,0))),IF(C312=\"\",\"\",IF(VLOOKUP(E312,site!$C:$D,2,0)=\"\",\"-\",VLOOKUP(E312,site!$C:$D,2,0))))","v":""},{"$f":"IFERROR(IF($C312=\"\",\"\",IF(VLOOKUP($D312,site!$B:$F,4,0)=\"\",\"-\",VLOOKUP($D312,site!$B:$F,4,0))),IF($C312=\"\",\"\",IF(VLOOKUP($E312,site!$B:$F,3,0)=\"\",\"-\",VLOOKUP($E312,site!$B:$F,3,0))))","v":""},{"$f":"IFERROR(IF($C312=\"\",\"\",IF(VLOOKUP($D312,site!$B:$F,5,0)=\"\",\"-\",VLOOKUP($D312,site!$B:$F,5,0))),IF($C312=\"\",\"\",IF(VLOOKUP($E312,site!$B:$F,4,0)=\"\",\"-\",VLOOKUP($E312,site!$B:$F,4,0))))","v":""},{"$f":"IFERROR(IF($C312=\"\",\"\",IF(VLOOKUP($D312,site!$B:$G,6,0)=\"\",\"-\",VLOOKUP($D312,site!$B:$G,6,0))),IF($C312=\"\",\"\",IF(VLOOKUP($E312,site!$B:$G,5,0)=\"\",\"-\",VLOOKUP($E312,site!$B:$G,5,0))))","v":""}]
[null,null,null,null,null,null,null,null,null,null,null,null,null,null,null,null,null,null,{"$f":"IFERROR(IF(C313=\"\",\"\",IF(VLOOKUP(D313,site!$B:$D,3,0)=\"\",\"-\",VLOOKUP(D313,site!$B:$D,3,0))),IF(C313=\"\",\"\",IF(VLOOKUP(E313,site!$C:$D,2,0)=\"\",\"-\",VLOOKUP(E313,site!$C:$D,2,0))))","v":""},{"$f":"IFERROR(IF($C313=\"\",\"\",IF(VLOOKUP($D313,site!$B:$F,4,0)=\"\",\"-\",VLOOKUP($D313,site!$B:$F,4,0))),IF($C313=\"\",\"\",IF(VLOOKUP($E313,site!$B:$F,3,0)=\"\",\"-\",VLOOKUP($E313,site!$B:$F,3,0))))","v":""},{"$f":"IFERROR(IF($C313=\"\",\"\",IF(VLOOKUP($D313,site!$B:$F,5,0)=\"\",\"-\",VLOOKUP($D313,site!$B:$F,5,0))),IF($C313=\"\",\"\",IF(VLOOKUP($E313,site!$B:$F,4,0)=\"\",\"-\",VLOOKUP($E313,site!$B:$F,4,0))))","v":""},{"$f":"IFERROR(IF($C313=\"\",\"\",IF(VLOOKUP($D313,site!$B:$G,6,0)=\"\",\"-\",VLOOKUP($D313,site!$B:$G,6,0))),IF($C313=\"\",\"\",IF(VLOOKUP($E313,site!$B:$G,5,0)=\"\",\"-\",VLOOKUP($E313,site!$B:$G,5,0))))","v":""}]
[null,null,null,null,null,null,null,null,null,null,null,null,null,null,null,null,null,null,{"$f":"IFERROR(IF(C314=\"\",\"\",IF(VLOOKUP(D314,site!$B:$D,3,0)=\"\",\"-\",VLOOKUP(D314,site!$B:$D,3,0))),IF(C314=\"\",\"\",IF(VLOOKUP(E314,site!$C:$D,2,0)=\"\",\"-\",VLOOKUP(E314,site!$C:$D,2,0))))","v":""},{"$f":"IFERROR(IF($C314=\"\",\"\",IF(VLOOKUP($D314,site!$B:$F,4,0)=\"\",\"-\",VLOOKUP($D314,site!$B:$F,4,0))),IF($C314=\"\",\"\",IF(VLOOKUP($E314,site!$B:$F,3,0)=\"\",\"-\",VLOOKUP($E314,site!$B:$F,3,0))))","v":""},{"$f":"IFERROR(IF($C314=\"\",\"\",IF(VLOOKUP($D314,site!$B:$F,5,0)=\"\",\"-\",VLOOKUP($D314,site!$B:$F,5,0))),IF($C314=\"\",\"\",IF(VLOOKUP($E314,site!$B:$F,4,0)=\"\",\"-\",VLOOKUP($E314,site!$B:$F,4,0))))","v":""},{"$f":"IFERROR(IF($C314=\"\",\"\",IF(VLOOKUP($D314,site!$B:$G,6,0)=\"\",\"-\",VLOOKUP($D314,site!$B:$G,6,0))),IF($C314=\"\",\"\",IF(VLOOKUP($E314,site!$B:$G,5,0)=\"\",\"-\",VLOOKUP($E314,site!$B:$G,5,0))))","v":""}]
[null,null,null,null,null,null,null,null,null,null,null,null,null,null,null,null,null,null,{"$f":"IFERROR(IF(C315=\"\",\"\",IF(VLOOKUP(D315,site!$B:$D,3,0)=\"\",\"-\",VLOOKUP(D315,site!$B:$D,3,0))),IF(C315=\"\",\"\",IF(VLOOKUP(E315,site!$C:$D,2,0)=\"\",\"-\",VLOOKUP(E315,site!$C:$D,2,0))))","v":""},{"$f":"IFERROR(IF($C315=\"\",\"\",IF(VLOOKUP($D315,site!$B:$F,4,0)=\"\",\"-\",VLOOKUP($D315,site!$B:$F,4,0))),IF($C315=\"\",\"\",IF(VLOOKUP($E315,site!$B:$F,3,0)=\"\",\"-\",VLOOKUP($E315,site!$B:$F,3,0))))","v":""},{"$f":"IFERROR(IF($C315=\"\",\"\",IF(VLOOKUP($D315,site!$B:$F,5,0)=\"\",\"-\",VLOOKUP($D315,site!$B:$F,5,0))),IF($C315=\"\",\"\",IF(VLOOKUP($E315,site!$B:$F,4,0)=\"\",\"-\",VLOOKUP($E315,site!$B:$F,4,0))))","v":""},{"$f":"IFERROR(IF($C315=\"\",\"\",IF(VLOOKUP($D315,site!$B:$G,6,0)=\"\",\"-\",VLOOKUP($D315,site!$B:$G,6,0))),IF($C315=\"\",\"\",IF(VLOOKUP($E315,site!$B:$G,5,0)=\"\",\"-\",VLOOKUP($E315,site!$B:$G,5,0))))","v":""}]
[null,null,null,null,null,null,null,null,null,null,null,null,null,null,null,null,null,null,{"$f":"IFERROR(IF(C316=\"\",\"\",IF(VLOOKUP(D316,site!$B:$D,3,0)=\"\",\"-\",VLOOKUP(D316,site!$B:$D,3,0))),IF(C316=\"\",\"\",IF(VLOOKUP(E316,site!$C:$D,2,0)=\"\",\"-\",VLOOKUP(E316,site!$C:$D,2,0))))","v":""},{"$f":"IFERROR(IF($C316=\"\",\"\",IF(VLOOKUP($D316,site!$B:$F,4,0)=\"\",\"-\",VLOOKUP($D316,site!$B:$F,4,0))),IF($C316=\"\",\"\",IF(VLOOKUP($E316,site!$B:$F,3,0)=\"\",\"-\",VLOOKUP($E316,site!$B:$F,3,0))))","v":""},{"$f":"IFERROR(IF($C316=\"\",\"\",IF(VLOOKUP($D316,site!$B:$F,5,0)=\"\",\"-\",VLOOKUP($D316,site!$B:$F,5,0))),IF($C316=\"\",\"\",IF(VLOOKUP($E316,site!$B:$F,4,0)=\"\",\"-\",VLOOKUP($E316,site!$B:$F,4,0))))","v":""},{"$f":"IFERROR(IF($C316=\"\",\"\",IF(VLOOKUP($D316,site!$B:$G,6,0)=\"\",\"-\",VLOOKUP($D316,site!$B:$G,6,0))),IF($C316=\"\",\"\",IF(VLOOKUP($E316,site!$B:$G,5,0)=\"\",\"-\",VLOOKUP($E316,site!$B:$G,5,0))))","v":""}]
[null,null,null,null,null,null,null,null,null,null,null,null,null,null,null,null,null,null,{"$f":"IFERROR(IF(C317=\"\",\"\",IF(VLOOKUP(D317,site!$B:$D,3,0)=\"\",\"-\",VLOOKUP(D317,site!$B:$D,3,0))),IF(C317=\"\",\"\",IF(VLOOKUP(E317,site!$C:$D,2,0)=\"\",\"-\",VLOOKUP(E317,site!$C:$D,2,0))))","v":""},{"$f":"IFERROR(IF($C317=\"\",\"\",IF(VLOOKUP($D317,site!$B:$F,4,0)=\"\",\"-\",VLOOKUP($D317,site!$B:$F,4,0))),IF($C317=\"\",\"\",IF(VLOOKUP($E317,site!$B:$F,3,0)=\"\",\"-\",VLOOKUP($E317,site!$B:$F,3,0))))","v":""},{"$f":"IFERROR(IF($C317=\"\",\"\",IF(VLOOKUP($D317,site!$B:$F,5,0)=\"\",\"-\",VLOOKUP($D317,site!$B:$F,5,0))),IF($C317=\"\",\"\",IF(VLOOKUP($E317,site!$B:$F,4,0)=\"\",\"-\",VLOOKUP($E317,site!$B:$F,4,0))))","v":""},{"$f":"IFERROR(IF($C317=\"\",\"\",IF(VLOOKUP($D317,site!$B:$G,6,0)=\"\",\"-\",VLOOKUP($D317,site!$B:$G,6,0))),IF($C317=\"\",\"\",IF(VLOOKUP($E317,site!$B:$G,5,0)=\"\",\"-\",VLOOKUP($E317,site!$B:$G,5,0))))","v":""}]
[null,null,null,null,null,null,null,null,null,null,null,null,null,null,null,null,null,null,{"$f":"IFERROR(IF(C318=\"\",\"\",IF(VLOOKUP(D318,site!$B:$D,3,0)=\"\",\"-\",VLOOKUP(D318,site!$B:$D,3,0))),IF(C318=\"\",\"\",IF(VLOOKUP(E318,site!$C:$D,2,0)=\"\",\"-\",VLOOKUP(E318,site!$C:$D,2,0))))","v":""},{"$f":"IFERROR(IF($C318=\"\",\"\",IF(VLOOKUP($D318,site!$B:$F,4,0)=\"\",\"-\",VLOOKUP($D318,site!$B:$F,4,0))),IF($C318=\"\",\"\",IF(VLOOKUP($E318,site!$B:$F,3,0)=\"\",\"-\",VLOOKUP($E318,site!$B:$F,3,0))))","v":""},{"$f":"IFERROR(IF($C318=\"\",\"\",IF(VLOOKUP($D318,site!$B:$F,5,0)=\"\",\"-\",VLOOKUP($D318,site!$B:$F,5,0))),IF($C318=\"\",\"\",IF(VLOOKUP($E318,site!$B:$F,4,0)=\"\",\"-\",VLOOKUP($E318,site!$B:$F,4,0))))","v":""},{"$f":"IFERROR(IF($C318=\"\",\"\",IF(VLOOKUP($D318,site!$B:$G,6,0)=\"\",\"-\",VLOOKUP($D318,site!$B:$G,6,0))),IF($C318=\"\",\"\",IF(VLOOKUP($E318,site!$B:$G,5,0)=\"\",\"-\",VLOOKUP($E318,site!$B:$G,5,0))))","v":""}]
[null,null,null,null,null,null,null,null,null,null,null,null,null,null,null,null,null,null,{"$f":"IFERROR(IF(C319=\"\",\"\",IF(VLOOKUP(D319,site!$B:$D,3,0)=\"\",\"-\",VLOOKUP(D319,site!$B:$D,3,0))),IF(C319=\"\",\"\",IF(VLOOKUP(E319,site!$C:$D,2,0)=\"\",\"-\",VLOOKUP(E319,site!$C:$D,2,0))))","v":""},{"$f":"IFERROR(IF($C319=\"\",\"\",IF(VLOOKUP($D319,site!$B:$F,4,0)=\"\",\"-\",VLOOKUP($D319,site!$B:$F,4,0))),IF($C319=\"\",\"\",IF(VLOOKUP($E319,site!$B:$F,3,0)=\"\",\"-\",VLOOKUP($E319,site!$B:$F,3,0))))","v":""},{"$f":"IFERROR(IF($C319=\"\",\"\",IF(VLOOKUP($D319,site!$B:$F,5,0)=\"\",\"-\",VLOOKUP($D319,site!$B:$F,5,0))),IF($C319=\"\",\"\",IF(VLOOKUP($E319,site!$B:$F,4,0)=\"\",\"-\",VLOOKUP($E319,site!$B:$F,4,0))))","v":""},{"$f":"IFERROR(IF($C319=\"\",\"\",IF(VLOOKUP($D319,site!$B:$G,6,0)=\"\",\"-\",VLOOKUP($D319,site!$B:$G,6,0))),IF($C319=\"\",\"\",IF(VLOOKUP($E319,site!$B:$G,5,0)=\"\",\"-\",VLOOKUP($E319,site!$B:$G,5,0))))","v":""}]
[null,null,null,null,null,null,null,null,null,null,null,null,null,null,null,null,null,null,{"$f":"IFERROR(IF(C320=\"\",\"\",IF(VLOOKUP(D320,site!$B:$D,3,0)=\"\",\"-\",VLOOKUP(D320,site!$B:$D,3,0))),IF(C320=\"\",\"\",IF(VLOOKUP(E320,site!$C:$D,2,0)=\"\",\"-\",VLOOKUP(E320,site!$C:$D,2,0))))","v":""},{"$f":"IFERROR(IF($C320=\"\",\"\",IF(VLOOKUP($D320,site!$B:$F,4,0)=\"\",\"-\",VLOOKUP($D320,site!$B:$F,4,0))),IF($C320=\"\",\"\",IF(VLOOKUP($E320,site!$B:$F,3,0)=\"\",\"-\",VLOOKUP($E320,site!$B:$F,3,0))))","v":""},{"$f":"IFERROR(IF($C320=\"\",\"\",IF(VLOOKUP($D320,site!$B:$F,5,0)=\"\",\"-\",VLOOKUP($D320,site!$B:$F,5,0))),IF($C320=\"\",\"\",IF(VLOOKUP($E320,site!$B:$F,4,0)=\"\",\"-\",VLOOKUP($E320,site!$B:$F,4,0))))","v":""},{"$f":"IFERROR(IF($C320=\"\",\"\",IF(VLOOKUP($D320,site!$B:$G,6,0)=\"\",\"-\",VLOOKUP($D320,site!$B:$G,6,0))),IF($C320=\"\",\"\",IF(VLOOKUP($E320,site!$B:$G,5,0)=\"\",\"-\",VLOOKUP($E320,site!$B:$G,5,0))))","v":""}]
[null,null,null,null,null,null,null,null,null,null,null,null,null,null,null,null,null,null,{"$f":"IFERROR(IF(C321=\"\",\"\",IF(VLOOKUP(D321,site!$B:$D,3,0)=\"\",\"-\",VLOOKUP(D321,site!$B:$D,3,0))),IF(C321=\"\",\"\",IF(VLOOKUP(E321,site!$C:$D,2,0)=\"\",\"-\",VLOOKUP(E321,site!$C:$D,2,0))))","v":""},{"$f":"IFERROR(IF($C321=\"\",\"\",IF(VLOOKUP($D321,site!$B:$F,4,0)=\"\",\"-\",VLOOKUP($D321,site!$B:$F,4,0))),IF($C321=\"\",\"\",IF(VLOOKUP($E321,site!$B:$F,3,0)=\"\",\"-\",VLOOKUP($E321,site!$B:$F,3,0))))","v":""},{"$f":"IFERROR(IF($C321=\"\",\"\",IF(VLOOKUP($D321,site!$B:$F,5,0)=\"\",\"-\",VLOOKUP($D321,site!$B:$F,5,0))),IF($C321=\"\",\"\",IF(VLOOKUP($E321,site!$B:$F,4,0)=\"\",\"-\",VLOOKUP($E321,site!$B:$F,4,0))))","v":""},{"$f":"IFERROR(IF($C321=\"\",\"\",IF(VLOOKUP($D321,site!$B:$G,6,0)=\"\",\"-\",VLOOKUP($D321,site!$B:$G,6,0))),IF($C321=\"\",\"\",IF(VLOOKUP($E321,site!$B:$G,5,0)=\"\",\"-\",VLOOKUP($E321,site!$B:$G,5,0))))","v":""}]
[null,null,null,null,null,null,null,null,null,null,null,null,null,null,null,null,null,null,{"$f":"IFERROR(IF(C322=\"\",\"\",IF(VLOOKUP(D322,site!$B:$D,3,0)=\"\",\"-\",VLOOKUP(D322,site!$B:$D,3,0))),IF(C322=\"\",\"\",IF(VLOOKUP(E322,site!$C:$D,2,0)=\"\",\"-\",VLOOKUP(E322,site!$C:$D,2,0))))","v":""},{"$f":"IFERROR(IF($C322=\"\",\"\",IF(VLOOKUP($D322,site!$B:$F,4,0)=\"\",\"-\",VLOOKUP($D322,site!$B:$F,4,0))),IF($C322=\"\",\"\",IF(VLOOKUP($E322,site!$B:$F,3,0)=\"\",\"-\",VLOOKUP($E322,site!$B:$F,3,0))))","v":""},{"$f":"IFERROR(IF($C322=\"\",\"\",IF(VLOOKUP($D322,site!$B:$F,5,0)=\"\",\"-\",VLOOKUP($D322,site!$B:$F,5,0))),IF($C322=\"\",\"\",IF(VLOOKUP($E322,site!$B:$F,4,0)=\"\",\"-\",VLOOKUP($E322,site!$B:$F,4,0))))","v":""},{"$f":"IFERROR(IF($C322=\"\",\"\",IF(VLOOKUP($D322,site!$B:$G,6,0)=\"\",\"-\",VLOOKUP($D322,site!$B:$G,6,0))),IF($C322=\"\",\"\",IF(VLOOKUP($E322,site!$B:$G,5,0)=\"\",\"-\",VLOOKUP($E322,site!$B:$G,5,0))))","v":""}]
[null,null,null,null,null,null,null,null,null,null,null,null,null,null,null,null,null,null,{"$f":"IFERROR(IF(C323=\"\",\"\",IF(VLOOKUP(D323,site!$B:$D,3,0)=\"\",\"-\",VLOOKUP(D323,site!$B:$D,3,0))),IF(C323=\"\",\"\",IF(VLOOKUP(E323,site!$C:$D,2,0)=\"\",\"-\",VLOOKUP(E323,site!$C:$D,2,0))))","v":""},{"$f":"IFERROR(IF($C323=\"\",\"\",IF(VLOOKUP($D323,site!$B:$F,4,0)=\"\",\"-\",VLOOKUP($D323,site!$B:$F,4,0))),IF($C323=\"\",\"\",IF(VLOOKUP($E323,site!$B:$F,3,0)=\"\",\"-\",VLOOKUP($E323,site!$B:$F,3,0))))","v":""},{"$f":"IFERROR(IF($C323=\"\",\"\",IF(VLOOKUP($D323,site!$B:$F,5,0)=\"\",\"-\",VLOOKUP($D323,site!$B:$F,5,0))),IF($C323=\"\",\"\",IF(VLOOKUP($E323,site!$B:$F,4,0)=\"\",\"-\",VLOOKUP($E323,site!$B:$F,4,0))))","v":""},{"$f":"IFERROR(IF($C323=\"\",\"\",IF(VLOOKUP($D323,site!$B:$G,6,0)=\"\",\"-\",VLOOKUP($D323,site!$B:$G,6,0))),IF($C323=\"\",\"\",IF(VLOOKUP($E323,site!$B:$G,5,0)=\"\",\"-\",VLOOKUP($E323,site!$B:$G,5,0))))","v":""}]
[null,null,null,null,null,null,null,null,null,null,null,null,null,null,null,null,null,null,{"$f":"IFERROR(IF(C324=\"\",\"\",IF(VLOOKUP(D324,site!$B:$D,3,0)=\"\",\"-\",VLOOKUP(D324,site!$B:$D,3,0))),IF(C324=\"\",\"\",IF(VLOOKUP(E324,site!$C:$D,2,0)=\"\",\"-\",VLOOKUP(E324,site!$C:$D,2,0))))","v":""},{"$f":"IFERROR(IF($C324=\"\",\"\",IF(VLOOKUP($D324,site!$B:$F,4,0)=\"\",\"-\",VLOOKUP($D324,site!$B:$F,4,0))),IF($C324=\"\",\"\",IF(VLOOKUP($E324,site!$B:$F,3,0)=\"\",\"-\",VLOOKUP($E324,site!$B:$F,3,0))))","v":""},{"$f":"IFERROR(IF($C324=\"\",\"\",IF(VLOOKUP($D324,site!$B:$F,5,0)=\"\",\"-\",VLOOKUP($D324,site!$B:$F,5,0))),IF($C324=\"\",\"\",IF(VLOOKUP($E324,site!$B:$F,4,0)=\"\",\"-\",VLOOKUP($E324,site!$B:$F,4,0))))","v":""},{"$f":"IFERROR(IF($C324=\"\",\"\",IF(VLOOKUP($D324,site!$B:$G,6,0)=\"\",\"-\",VLOOKUP($D324,site!$B:$G,6,0))),IF($C324=\"\",\"\",IF(VLOOKUP($E324,site!$B:$G,5,0)=\"\",\"-\",VLOOKUP($E324,site!$B:$G,5,0))))","v":""}]
[null,null,null,null,null,null,null,null,null,null,null,null,null,null,null,null,null,null,{"$f":"IFERROR(IF(C325=\"\",\"\",IF(VLOOKUP(D325,site!$B:$D,3,0)=\"\",\"-\",VLOOKUP(D325,site!$B:$D,3,0))),IF(C325=\"\",\"\",IF(VLOOKUP(E325,site!$C:$D,2,0)=\"\",\"-\",VLOOKUP(E325,site!$C:$D,2,0))))","v":""},{"$f":"IFERROR(IF($C325=\"\",\"\",IF(VLOOKUP($D325,site!$B:$F,4,0)=\"\",\"-\",VLOOKUP($D325,site!$B:$F,4,0))),IF($C325=\"\",\"\",IF(VLOOKUP($E325,site!$B:$F,3,0)=\"\",\"-\",VLOOKUP($E325,site!$B:$F,3,0))))","v":""},{"$f":"IFERROR(IF($C325=\"\",\"\",IF(VLOOKUP($D325,site!$B:$F,5,0)=\"\",\"-\",VLOOKUP($D325,site!$B:$F,5,0))),IF($C325=\"\",\"\",IF(VLOOKUP($E325,site!$B:$F,4,0)=\"\",\"-\",VLOOKUP($E325,site!$B:$F,4,0))))","v":""},{"$f":"IFERROR(IF($C325=\"\",\"\",IF(VLOOKUP($D325,site!$B:$G,6,0)=\"\",\"-\",VLOOKUP($D325,site!$B:$G,6,0))),IF($C325=\"\",\"\",IF(VLOOKUP($E325,site!$B:$G,5,0)=\"\",\"-\",VLOOKUP($E325,site!$B:$G,5,0))))","v":""}]
[null,null,null,null,null,null,null,null,null,null,null,null,null,null,null,null,null,null,{"$f":"IFERROR(IF(C326=\"\",\"\",IF(VLOOKUP(D326,site!$B:$D,3,0)=\"\",\"-\",VLOOKUP(D326,site!$B:$D,3,0))),IF(C326=\"\",\"\",IF(VLOOKUP(E326,site!$C:$D,2,0)=\"\",\"-\",VLOOKUP(E326,site!$C:$D,2,0))))","v":""},{"$f":"IFERROR(IF($C326=\"\",\"\",IF(VLOOKUP($D326,site!$B:$F,4,0)=\"\",\"-\",VLOOKUP($D326,site!$B:$F,4,0))),IF($C326=\"\",\"\",IF(VLOOKUP($E326,site!$B:$F,3,0)=\"\",\"-\",VLOOKUP($E326,site!$B:$F,3,0))))","v":""},{"$f":"IFERROR(IF($C326=\"\",\"\",IF(VLOOKUP($D326,site!$B:$F,5,0)=\"\",\"-\",VLOOKUP($D326,site!$B:$F,5,0))),IF($C326=\"\",\"\",IF(VLOOKUP($E326,site!$B:$F,4,0)=\"\",\"-\",VLOOKUP($E326,site!$B:$F,4,0))))","v":""},{"$f":"IFERROR(IF($C326=\"\",\"\",IF(VLOOKUP($D326,site!$B:$G,6,0)=\"\",\"-\",VLOOKUP($D326,site!$B:$G,6,0))),IF($C326=\"\",\"\",IF(VLOOKUP($E326,site!$B:$G,5,0)=\"\",\"-\",VLOOKUP($E326,site!$B:$G,5,0))))","v":""}]
[null,null,null,null,null,null,null,null,null,null,null,null,null,null,null,null,null,null,{"$f":"IFERROR(IF(C327=\"\",\"\",IF(VLOOKUP(D327,site!$B:$D,3,0)=\"\",\"-\",VLOOKUP(D327,site!$B:$D,3,0))),IF(C327=\"\",\"\",IF(VLOOKUP(E327,site!$C:$D,2,0)=\"\",\"-\",VLOOKUP(E327,site!$C:$D,2,0))))","v":""},{"$f":"IFERROR(IF($C327=\"\",\"\",IF(VLOOKUP($D327,site!$B:$F,4,0)=\"\",\"-\",VLOOKUP($D327,site!$B:$F,4,0))),IF($C327=\"\",\"\",IF(VLOOKUP($E327,site!$B:$F,3,0)=\"\",\"-\",VLOOKUP($E327,site!$B:$F,3,0))))","v":""},{"$f":"IFERROR(IF($C327=\"\",\"\",IF(VLOOKUP($D327,site!$B:$F,5,0)=\"\",\"-\",VLOOKUP($D327,site!$B:$F,5,0))),IF($C327=\"\",\"\",IF(VLOOKUP($E327,site!$B:$F,4,0)=\"\",\"-\",VLOOKUP($E327,site!$B:$F,4,0))))","v":""},{"$f":"IFERROR(IF($C327=\"\",\"\",IF(VLOOKUP($D327,site!$B:$G,6,0)=\"\",\"-\",VLOOKUP($D327,site!$B:$G,6,0))),IF($C327=\"\",\"\",IF(VLOOKUP($E327,site!$B:$G,5,0)=\"\",\"-\",VLOOKUP($E327,site!$B:$G,5,0))))","v":""}]
[null,null,null,null,null,null,null,null,null,null,null,null,null,null,null,null,null,null,{"$f":"IFERROR(IF(C328=\"\",\"\",IF(VLOOKUP(D328,site!$B:$D,3,0)=\"\",\"-\",VLOOKUP(D328,site!$B:$D,3,0))),IF(C328=\"\",\"\",IF(VLOOKUP(E328,site!$C:$D,2,0)=\"\",\"-\",VLOOKUP(E328,site!$C:$D,2,0))))","v":""},{"$f":"IFERROR(IF($C328=\"\",\"\",IF(VLOOKUP($D328,site!$B:$F,4,0)=\"\",\"-\",VLOOKUP($D328,site!$B:$F,4,0))),IF($C328=\"\",\"\",IF(VLOOKUP($E328,site!$B:$F,3,0)=\"\",\"-\",VLOOKUP($E328,site!$B:$F,3,0))))","v":""},{"$f":"IFERROR(IF($C328=\"\",\"\",IF(VLOOKUP($D328,site!$B:$F,5,0)=\"\",\"-\",VLOOKUP($D328,site!$B:$F,5,0))),IF($C328=\"\",\"\",IF(VLOOKUP($E328,site!$B:$F,4,0)=\"\",\"-\",VLOOKUP($E328,site!$B:$F,4,0))))","v":""},{"$f":"IFERROR(IF($C328=\"\",\"\",IF(VLOOKUP($D328,site!$B:$G,6,0)=\"\",\"-\",VLOOKUP($D328,site!$B:$G,6,0))),IF($C328=\"\",\"\",IF(VLOOKUP($E328,site!$B:$G,5,0)=\"\",\"-\",VLOOKUP($E328,site!$B:$G,5,0))))","v":""}]
[null,null,null,null,null,null,null,null,null,null,null,null,null,null,null,null,null,null,{"$f":"IFERROR(IF(C329=\"\",\"\",IF(VLOOKUP(D329,site!$B:$D,3,0)=\"\",\"-\",VLOOKUP(D329,site!$B:$D,3,0))),IF(C329=\"\",\"\",IF(VLOOKUP(E329,site!$C:$D,2,0)=\"\",\"-\",VLOOKUP(E329,site!$C:$D,2,0))))","v":""},{"$f":"IFERROR(IF($C329=\"\",\"\",IF(VLOOKUP($D329,site!$B:$F,4,0)=\"\",\"-\",VLOOKUP($D329,site!$B:$F,4,0))),IF($C329=\"\",\"\",IF(VLOOKUP($E329,site!$B:$F,3,0)=\"\",\"-\",VLOOKUP($E329,site!$B:$F,3,0))))","v":""},{"$f":"IFERROR(IF($C329=\"\",\"\",IF(VLOOKUP($D329,site!$B:$F,5,0)=\"\",\"-\",VLOOKUP($D329,site!$B:$F,5,0))),IF($C329=\"\",\"\",IF(VLOOKUP($E329,site!$B:$F,4,0)=\"\",\"-\",VLOOKUP($E329,site!$B:$F,4,0))))","v":""},{"$f":"IFERROR(IF($C329=\"\",\"\",IF(VLOOKUP($D329,site!$B:$G,6,0)=\"\",\"-\",VLOOKUP($D329,site!$B:$G,6,0))),IF($C329=\"\",\"\",IF(VLOOKUP($E329,site!$B:$G,5,0)=\"\",\"-\",VLOOKUP($E329,site!$B:$G,5,0))))","v":""}]
[null,null,null,null,null,null,null,null,null,null,null,null,null,null,null,null,null,null,{"$f":"IFERROR(IF(C330=\"\",\"\",IF(VLOOKUP(D330,site!$B:$D,3,0)=\"\",\"-\",VLOOKUP(D330,site!$B:$D,3,0))),IF(C330=\"\",\"\",IF(VLOOKUP(E330,site!$C:$D,2,0)=\"\",\"-\",VLOOKUP(E330,site!$C:$D,2,0))))","v":""},{"$f":"IFERROR(IF($C330=\"\",\"\",IF(VLOOKUP($D330,site!$B:$F,4,0)=\"\",\"-\",VLOOKUP($D330,site!$B:$F,4,0))),IF($C330=\"\",\"\",IF(VLOOKUP($E330,site!$B:$F,3,0)=\"\",\"-\",VLOOKUP($E330,site!$B:$F,3,0))))","v":""},{"$f":"IFERROR(IF($C330=\"\",\"\",IF(VLOOKUP($D330,site!$B:$F,5,0)=\"\",\"-\",VLOOKUP($D330,site!$B:$F,5,0))),IF($C330=\"\",\"\",IF(VLOOKUP($E330,site!$B:$F,4,0)=\"\",\"-\",VLOOKUP($E330,site!$B:$F,4,0))))","v":""},{"$f":"IFERROR(IF($C330=\"\",\"\",IF(VLOOKUP($D330,site!$B:$G,6,0)=\"\",\"-\",VLOOKUP($D330,site!$B:$G,6,0))),IF($C330=\"\",\"\",IF(VLOOKUP($E330,site!$B:$G,5,0)=\"\",\"-\",VLOOKUP($E330,site!$B:$G,5,0))))","v":""}]
[null,null,null,null,null,null,null,null,null,null,null,null,null,null,null,null,null,null,{"$f":"IFERROR(IF(C331=\"\",\"\",IF(VLOOKUP(D331,site!$B:$D,3,0)=\"\",\"-\",VLOOKUP(D331,site!$B:$D,3,0))),IF(C331=\"\",\"\",IF(VLOOKUP(E331,site!$C:$D,2,0)=\"\",\"-\",VLOOKUP(E331,site!$C:$D,2,0))))","v":""},{"$f":"IFERROR(IF($C331=\"\",\"\",IF(VLOOKUP($D331,site!$B:$F,4,0)=\"\",\"-\",VLOOKUP($D331,site!$B:$F,4,0))),IF($C331=\"\",\"\",IF(VLOOKUP($E331,site!$B:$F,3,0)=\"\",\"-\",VLOOKUP($E331,site!$B:$F,3,0))))","v":""},{"$f":"IFERROR(IF($C331=\"\",\"\",IF(VLOOKUP($D331,site!$B:$F,5,0)=\"\",\"-\",VLOOKUP($D331,site!$B:$F,5,0))),IF($C331=\"\",\"\",IF(VLOOKUP($E331,site!$B:$F,4,0)=\"\",\"-\",VLOOKUP($E331,site!$B:$F,4,0))))","v":""},{"$f":"IFERROR(IF($C331=\"\",\"\",IF(VLOOKUP($D331,site!$B:$G,6,0)=\"\",\"-\",VLOOKUP($D331,site!$B:$G,6,0))),IF($C331=\"\",\"\",IF(VLOOKUP($E331,site!$B:$G,5,0)=\"\",\"-\",VLOOKUP($E331,site!$B:$G,5,0))))","v":""}]
[null,null,null,null,null,null,null,null,null,null,null,null,null,null,null,null,null,null,{"$f":"IFERROR(IF(C332=\"\",\"\",IF(VLOOKUP(D332,site!$B:$D,3,0)=\"\",\"-\",VLOOKUP(D332,site!$B:$D,3,0))),IF(C332=\"\",\"\",IF(VLOOKUP(E332,site!$C:$D,2,0)=\"\",\"-\",VLOOKUP(E332,site!$C:$D,2,0))))","v":""},{"$f":"IFERROR(IF($C332=\"\",\"\",IF(VLOOKUP($D332,site!$B:$F,4,0)=\"\",\"-\",VLOOKUP($D332,site!$B:$F,4,0))),IF($C332=\"\",\"\",IF(VLOOKUP($E332,site!$B:$F,3,0)=\"\",\"-\",VLOOKUP($E332,site!$B:$F,3,0))))","v":""},{"$f":"IFERROR(IF($C332=\"\",\"\",IF(VLOOKUP($D332,site!$B:$F,5,0)=\"\",\"-\",VLOOKUP($D332,site!$B:$F,5,0))),IF($C332=\"\",\"\",IF(VLOOKUP($E332,site!$B:$F,4,0)=\"\",\"-\",VLOOKUP($E332,site!$B:$F,4,0))))","v":""},{"$f":"IFERROR(IF($C332=\"\",\"\",IF(VLOOKUP($D332,site!$B:$G,6,0)=\"\",\"-\",VLOOKUP($D332,site!$B:$G,6,0))),IF($C332=\"\",\"\",IF(VLOOKUP($E332,site!$B:$G,5,0)=\"\",\"-\",VLOOKUP($E332,site!$B:$G,5,0))))","v":""}]
[null,null,null,null,null,null,null,null,null,null,null,null,null,null,null,null,null,null,{"$f":"IFERROR(IF(C333=\"\",\"\",IF(VLOOKUP(D333,site!$B:$D,3,0)=\"\",\"-\",VLOOKUP(D333,site!$B:$D,3,0))),IF(C333=\"\",\"\",IF(VLOOKUP(E333,site!$C:$D,2,0)=\"\",\"-\",VLOOKUP(E333,site!$C:$D,2,0))))","v":""},{"$f":"IFERROR(IF($C333=\"\",\"\",IF(VLOOKUP($D333,site!$B:$F,4,0)=\"\",\"-\",VLOOKUP($D333,site!$B:$F,4,0))),IF($C333=\"\",\"\",IF(VLOOKUP($E333,site!$B:$F,3,0)=\"\",\"-\",VLOOKUP($E333,site!$B:$F,3,0))))","v":""},{"$f":"IFERROR(IF($C333=\"\",\"\",IF(VLOOKUP($D333,site!$B:$F,5,0)=\"\",\"-\",VLOOKUP($D333,site!$B:$F,5,0))),IF($C333=\"\",\"\",IF(VLOOKUP($E333,site!$B:$F,4,0)=\"\",\"-\",VLOOKUP($E333,site!$B:$F,4,0))))","v":""},{"$f":"IFERROR(IF($C333=\"\",\"\",IF(VLOOKUP($D333,site!$B:$G,6,0)=\"\",\"-\",VLOOKUP($D333,site!$B:$G,6,0))),IF($C333=\"\",\"\",IF(VLOOKUP($E333,site!$B:$G,5,0)=\"\",\"-\",VLOOKUP($E333,site!$B:$G,5,0))))","v":""}]
[null,null,null,null,null,null,null,null,null,null,null,null,null,null,null,null,null,null,{"$f":"IFERROR(IF(C334=\"\",\"\",IF(VLOOKUP(D334,site!$B:$D,3,0)=\"\",\"-\",VLOOKUP(D334,site!$B:$D,3,0))),IF(C334=\"\",\"\",IF(VLOOKUP(E334,site!$C:$D,2,0)=\"\",\"-\",VLOOKUP(E334,site!$C:$D,2,0))))","v":""},{"$f":"IFERROR(IF($C334=\"\",\"\",IF(VLOOKUP($D334,site!$B:$F,4,0)=\"\",\"-\",VLOOKUP($D334,site!$B:$F,4,0))),IF($C334=\"\",\"\",IF(VLOOKUP($E334,site!$B:$F,3,0)=\"\",\"-\",VLOOKUP($E334,site!$B:$F,3,0))))","v":""},{"$f":"IFERROR(IF($C334=\"\",\"\",IF(VLOOKUP($D334,site!$B:$F,5,0)=\"\",\"-\",VLOOKUP($D334,site!$B:$F,5,0))),IF($C334=\"\",\"\",IF(VLOOKUP($E334,site!$B:$F,4,0)=\"\",\"-\",VLOOKUP($E334,site!$B:$F,4,0))))","v":""},{"$f":"IFERROR(IF($C334=\"\",\"\",IF(VLOOKUP($D334,site!$B:$G,6,0)=\"\",\"-\",VLOOKUP($D334,site!$B:$G,6,0))),IF($C334=\"\",\"\",IF(VLOOKUP($E334,site!$B:$G,5,0)=\"\",\"-\",VLOOKUP($E334,site!$B:$G,5,0))))","v":""}]
[null,null,null,null,null,null,null,null,null,null,null,null,null,null,null,null,null,null,{"$f":"IFERROR(IF(C335=\"\",\"\",IF(VLOOKUP(D335,site!$B:$D,3,0)=\"\",\"-\",VLOOKUP(D335,site!$B:$D,3,0))),IF(C335=\"\",\"\",IF(VLOOKUP(E335,site!$C:$D,2,0)=\"\",\"-\",VLOOKUP(E335,site!$C:$D,2,0))))","v":""},{"$f":"IFERROR(IF($C335=\"\",\"\",IF(VLOOKUP($D335,site!$B:$F,4,0)=\"\",\"-\",VLOOKUP($D335,site!$B:$F,4,0))),IF($C335=\"\",\"\",IF(VLOOKUP($E335,site!$B:$F,3,0)=\"\",\"-\",VLOOKUP($E335,site!$B:$F,3,0))))","v":""},{"$f":"IFERROR(IF($C335=\"\",\"\",IF(VLOOKUP($D335,site!$B:$F,5,0)=\"\",\"-\",VLOOKUP($D335,site!$B:$F,5,0))),IF($C335=\"\",\"\",IF(VLOOKUP($E335,site!$B:$F,4,0)=\"\",\"-\",VLOOKUP($E335,site!$B:$F,4,0))))","v":""},{"$f":"IFERROR(IF($C335=\"\",\"\",IF(VLOOKUP($D335,site!$B:$G,6,0)=\"\",\"-\",VLOOKUP($D335,site!$B:$G,6,0))),IF($C335=\"\",\"\",IF(VLOOKUP($E335,site!$B:$G,5,0)=\"\",\"-\",VLOOKUP($E335,site!$B:$G,5,0))))","v":""}]
[null,null,null,null,null,null,null,null,null,null,null,null,null,null,null,null,null,null,{"$f":"IFERROR(IF(C336=\"\",\"\",IF(VLOOKUP(D336,site!$B:$D,3,0)=\"\",\"-\",VLOOKUP(D336,site!$B:$D,3,0))),IF(C336=\"\",\"\",IF(VLOOKUP(E336,site!$C:$D,2,0)=\"\",\"-\",VLOOKUP(E336,site!$C:$D,2,0))))","v":""},{"$f":"IFERROR(IF($C336=\"\",\"\",IF(VLOOKUP($D336,site!$B:$F,4,0)=\"\",\"-\",VLOOKUP($D336,site!$B:$F,4,0))),IF($C336=\"\",\"\",IF(VLOOKUP($E336,site!$B:$F,3,0)=\"\",\"-\",VLOOKUP($E336,site!$B:$F,3,0))))","v":""},{"$f":"IFERROR(IF($C336=\"\",\"\",IF(VLOOKUP($D336,site!$B:$F,5,0)=\"\",\"-\",VLOOKUP($D336,site!$B:$F,5,0))),IF($C336=\"\",\"\",IF(VLOOKUP($E336,site!$B:$F,4,0)=\"\",\"-\",VLOOKUP($E336,site!$B:$F,4,0))))","v":""},{"$f":"IFERROR(IF($C336=\"\",\"\",IF(VLOOKUP($D336,site!$B:$G,6,0)=\"\",\"-\",VLOOKUP($D336,site!$B:$G,6,0))),IF($C336=\"\",\"\",IF(VLOOKUP($E336,site!$B:$G,5,0)=\"\",\"-\",VLOOKUP($E336,site!$B:$G,5,0))))","v":""}]
[null,null,null,null,null,null,null,null,null,null,null,null,null,null,null,null,null,null,{"$f":"IFERROR(IF(C337=\"\",\"\",IF(VLOOKUP(D337,site!$B:$D,3,0)=\"\",\"-\",VLOOKUP(D337,site!$B:$D,3,0))),IF(C337=\"\",\"\",IF(VLOOKUP(E337,site!$C:$D,2,0)=\"\",\"-\",VLOOKUP(E337,site!$C:$D,2,0))))","v":""},{"$f":"IFERROR(IF($C337=\"\",\"\",IF(VLOOKUP($D337,site!$B:$F,4,0)=\"\",\"-\",VLOOKUP($D337,site!$B:$F,4,0))),IF($C337=\"\",\"\",IF(VLOOKUP($E337,site!$B:$F,3,0)=\"\",\"-\",VLOOKUP($E337,site!$B:$F,3,0))))","v":""},{"$f":"IFERROR(IF($C337=\"\",\"\",IF(VLOOKUP($D337,site!$B:$F,5,0)=\"\",\"-\",VLOOKUP($D337,site!$B:$F,5,0))),IF($C337=\"\",\"\",IF(VLOOKUP($E337,site!$B:$F,4,0)=\"\",\"-\",VLOOKUP($E337,site!$B:$F,4,0))))","v":""},{"$f":"IFERROR(IF($C337=\"\",\"\",IF(VLOOKUP($D337,site!$B:$G,6,0)=\"\",\"-\",VLOOKUP($D337,site!$B:$G,6,0))),IF($C337=\"\",\"\",IF(VLOOKUP($E337,site!$B:$G,5,0)=\"\",\"-\",VLOOKUP($E337,site!$B:$G,5,0))))","v":""}]
[null,null,null,null,null,null,null,null,null,null,null,null,null,null,null,null,null,null,{"$f":"IFERROR(IF(C338=\"\",\"\",IF(VLOOKUP(D338,site!$B:$D,3,0)=\"\",\"-\",VLOOKUP(D338,site!$B:$D,3,0))),IF(C338=\"\",\"\",IF(VLOOKUP(E338,site!$C:$D,2,0)=\"\",\"-\",VLOOKUP(E338,site!$C:$D,2,0))))","v":""},{"$f":"IFERROR(IF($C338=\"\",\"\",IF(VLOOKUP($D338,site!$B:$F,4,0)=\"\",\"-\",VLOOKUP($D338,site!$B:$F,4,0))),IF($C338=\"\",\"\",IF(VLOOKUP($E338,site!$B:$F,3,0)=\"\",\"-\",VLOOKUP($E338,site!$B:$F,3,0))))","v":""},{"$f":"IFERROR(IF($C338=\"\",\"\",IF(VLOOKUP($D338,site!$B:$F,5,0)=\"\",\"-\",VLOOKUP($D338,site!$B:$F,5,0))),IF($C338=\"\",\"\",IF(VLOOKUP($E338,site!$B:$F,4,0)=\"\",\"-\",VLOOKUP($E338,site!$B:$F,4,0))))","v":""},{"$f":"IFERROR(IF($C338=\"\",\"\",IF(VLOOKUP($D338,site!$B:$G,6,0)=\"\",\"-\",VLOOKUP($D338,site!$B:$G,6,0))),IF($C338=\"\",\"\",IF(VLOOKUP($E338,site!$B:$G,5,0)=\"\",\"-\",VLOOKUP($E338,site!$B:$G,5,0))))","v":""}]
[null,null,null,null,null,null,null,null,null,null,null,null,null,null,null,null,null,null,{"$f":"IFERROR(IF(C339=\"\",\"\",IF(VLOOKUP(D339,site!$B:$D,3,0)=\"\",\"-\",VLOOKUP(D339,site!$B:$D,3,0))),IF(C339=\"\",\"\",IF(VLOOKUP(E339,site!$C:$D,2,0)=\"\",\"-\",VLOOKUP(E339,site!$C:$D,2,0))))","v":""},{"$f":"IFERROR(IF($C339=\"\",\"\",IF(VLOOKUP($D339,site!$B:$F,4,0)=\"\",\"-\",VLOOKUP($D339,site!$B:$F,4,0))),IF($C339=\"\",\"\",IF(VLOOKUP($E339,site!$B:$F,3,0)=\"\",\"-\",VLOOKUP($E339,site!$B:$F,3,0))))","v":""},{"$f":"IFERROR(IF($C339=\"\",\"\",IF(VLOOKUP($D339,site!$B:$F,5,0)=\"\",\"-\",VLOOKUP($D339,site!$B:$F,5,0))),IF($C339=\"\",\"\",IF(VLOOKUP($E339,site!$B:$F,4,0)=\"\",\"-\",VLOOKUP($E339,site!$B:$F,4,0))))","v":""},{"$f":"IFERROR(IF($C339=\"\",\"\",IF(VLOOKUP($D339,site!$B:$G,6,0)=\"\",\"-\",VLOOKUP($D339,site!$B:$G,6,0))),IF($C339=\"\",\"\",IF(VLOOKUP($E339,site!$B:$G,5,0)=\"\",\"-\",VLOOKUP($E339,site!$B:$G,5,0))))","v":""}]
[null,null,null,null,null,null,null,null,null,null,null,null,null,null,null,null,null,null,{"$f":"IFERROR(IF(C340=\"\",\"\",IF(VLOOKUP(D340,site!$B:$D,3,0)=\"\",\"-\",VLOOKUP(D340,site!$B:$D,3,0))),IF(C340=\"\",\"\",IF(VLOOKUP(E340,site!$C:$D,2,0)=\"\",\"-\",VLOOKUP(E340,site!$C:$D,2,0))))","v":""},{"$f":"IFERROR(IF($C340=\"\",\"\",IF(VLOOKUP($D340,site!$B:$F,4,0)=\"\",\"-\",VLOOKUP($D340,site!$B:$F,4,0))),IF($C340=\"\",\"\",IF(VLOOKUP($E340,site!$B:$F,3,0)=\"\",\"-\",VLOOKUP($E340,site!$B:$F,3,0))))","v":""},{"$f":"IFERROR(IF($C340=\"\",\"\",IF(VLOOKUP($D340,site!$B:$F,5,0)=\"\",\"-\",VLOOKUP($D340,site!$B:$F,5,0))),IF($C340=\"\",\"\",IF(VLOOKUP($E340,site!$B:$F,4,0)=\"\",\"-\",VLOOKUP($E340,site!$B:$F,4,0))))","v":""},{"$f":"IFERROR(IF($C340=\"\",\"\",IF(VLOOKUP($D340,site!$B:$G,6,0)=\"\",\"-\",VLOOKUP($D340,site!$B:$G,6,0))),IF($C340=\"\",\"\",IF(VLOOKUP($E340,site!$B:$G,5,0)=\"\",\"-\",VLOOKUP($E340,site!$B:$G,5,0))))","v":""}]
[null,null,null,null,null,null,null,null,null,null,null,null,null,null,null,null,null,null,{"$f":"IFERROR(IF(C341=\"\",\"\",IF(VLOOKUP(D341,site!$B:$D,3,0)=\"\",\"-\",VLOOKUP(D341,site!$B:$D,3,0))),IF(C341=\"\",\"\",IF(VLOOKUP(E341,site!$C:$D,2,0)=\"\",\"-\",VLOOKUP(E341,site!$C:$D,2,0))))","v":""},{"$f":"IFERROR(IF($C341=\"\",\"\",IF(VLOOKUP($D341,site!$B:$F,4,0)=\"\",\"-\",VLOOKUP($D341,site!$B:$F,4,0))),IF($C341=\"\",\"\",IF(VLOOKUP($E341,site!$B:$F,3,0)=\"\",\"-\",VLOOKUP($E341,site!$B:$F,3,0))))","v":""},{"$f":"IFERROR(IF($C341=\"\",\"\",IF(VLOOKUP($D341,site!$B:$F,5,0)=\"\",\"-\",VLOOKUP($D341,site!$B:$F,5,0))),IF($C341=\"\",\"\",IF(VLOOKUP($E341,site!$B:$F,4,0)=\"\",\"-\",VLOOKUP($E341,site!$B:$F,4,0))))","v":""},{"$f":"IFERROR(IF($C341=\"\",\"\",IF(VLOOKUP($D341,site!$B:$G,6,0)=\"\",\"-\",VLOOKUP($D341,site!$B:$G,6,0))),IF($C341=\"\",\"\",IF(VLOOKUP($E341,site!$B:$G,5,0)=\"\",\"-\",VLOOKUP($E341,site!$B:$G,5,0))))","v":""}]
[null,null,null,null,null,null,null,null,null,null,null,null,null,null,null,null,null,null,{"$f":"IFERROR(IF(C342=\"\",\"\",IF(VLOOKUP(D342,site!$B:$D,3,0)=\"\",\"-\",VLOOKUP(D342,site!$B:$D,3,0))),IF(C342=\"\",\"\",IF(VLOOKUP(E342,site!$C:$D,2,0)=\"\",\"-\",VLOOKUP(E342,site!$C:$D,2,0))))","v":""},{"$f":"IFERROR(IF($C342=\"\",\"\",IF(VLOOKUP($D342,site!$B:$F,4,0)=\"\",\"-\",VLOOKUP($D342,site!$B:$F,4,0))),IF($C342=\"\",\"\",IF(VLOOKUP($E342,site!$B:$F,3,0)=\"\",\"-\",VLOOKUP($E342,site!$B:$F,3,0))))","v":""},{"$f":"IFERROR(IF($C342=\"\",\"\",IF(VLOOKUP($D342,site!$B:$F,5,0)=\"\",\"-\",VLOOKUP($D342,site!$B:$F,5,0))),IF($C342=\"\",\"\",IF(VLOOKUP($E342,site!$B:$F,4,0)=\"\",\"-\",VLOOKUP($E342,site!$B:$F,4,0))))","v":""},{"$f":"IFERROR(IF($C342=\"\",\"\",IF(VLOOKUP($D342,site!$B:$G,6,0)=\"\",\"-\",VLOOKUP($D342,site!$B:$G,6,0))),IF($C342=\"\",\"\",IF(VLOOKUP($E342,site!$B:$G,5,0)=\"\",\"-\",VLOOKUP($E342,site!$B:$G,5,0))))","v":""}]
[null,null,null,null,null,null,null,null,null,null,null,null,null,null,null,null,null,null,{"$f":"IFERROR(IF(C343=\"\",\"\",IF(VLOOKUP(D343,site!$B:$D,3,0)=\"\",\"-\",VLOOKUP(D343,site!$B:$D,3,0))),IF(C343=\"\",\"\",IF(VLOOKUP(E343,site!$C:$D,2,0)=\"\",\"-\",VLOOKUP(E343,site!$C:$D,2,0))))","v":""},{"$f":"IFERROR(IF($C343=\"\",\"\",IF(VLOOKUP($D343,site!$B:$F,4,0)=\"\",\"-\",VLOOKUP($D343,site!$B:$F,4,0))),IF($C343=\"\",\"\",IF(VLOOKUP($E343,site!$B:$F,3,0)=\"\",\"-\",VLOOKUP($E343,site!$B:$F,3,0))))","v":""},{"$f":"IFERROR(IF($C343=\"\",\"\",IF(VLOOKUP($D343,site!$B:$F,5,0)=\"\",\"-\",VLOOKUP($D343,site!$B:$F,5,0))),IF($C343=\"\",\"\",IF(VLOOKUP($E343,site!$B:$F,4,0)=\"\",\"-\",VLOOKUP($E343,site!$B:$F,4,0))))","v":""},{"$f":"IFERROR(IF($C343=\"\",\"\",IF(VLOOKUP($D343,site!$B:$G,6,0)=\"\",\"-\",VLOOKUP($D343,site!$B:$G,6,0))),IF($C343=\"\",\"\",IF(VLOOKUP($E343,site!$B:$G,5,0)=\"\",\"-\",VLOOKUP($E343,site!$B:$G,5,0))))","v":""}]
[null,null,null,null,null,null,null,null,null,null,null,null,null,null,null,null,null,null,{"$f":"IFERROR(IF(C344=\"\",\"\",IF(VLOOKUP(D344,site!$B:$D,3,0)=\"\",\"-\",VLOOKUP(D344,site!$B:$D,3,0))),IF(C344=\"\",\"\",IF(VLOOKUP(E344,site!$C:$D,2,0)=\"\",\"-\",VLOOKUP(E344,site!$C:$D,2,0))))","v":""},{"$f":"IFERROR(IF($C344=\"\",\"\",IF(VLOOKUP($D344,site!$B:$F,4,0)=\"\",\"-\",VLOOKUP($D344,site!$B:$F,4,0))),IF($C344=\"\",\"\",IF(VLOOKUP($E344,site!$B:$F,3,0)=\"\",\"-\",VLOOKUP($E344,site!$B:$F,3,0))))","v":""},{"$f":"IFERROR(IF($C344=\"\",\"\",IF(VLOOKUP($D344,site!$B:$F,5,0)=\"\",\"-\",VLOOKUP($D344,site!$B:$F,5,0))),IF($C344=\"\",\"\",IF(VLOOKUP($E344,site!$B:$F,4,0)=\"\",\"-\",VLOOKUP($E344,site!$B:$F,4,0))))","v":""},{"$f":"IFERROR(IF($C344=\"\",\"\",IF(VLOOKUP($D344,site!$B:$G,6,0)=\"\",\"-\",VLOOKUP($D344,site!$B:$G,6,0))),IF($C344=\"\",\"\",IF(VLOOKUP($E344,site!$B:$G,5,0)=\"\",\"-\",VLOOKUP($E344,site!$B:$G,5,0))))","v":""}]
[null,null,null,null,null,null,null,null,null,null,null,null,null,null,null,null,null,null,{"$f":"IFERROR(IF(C345=\"\",\"\",IF(VLOOKUP(D345,site!$B:$D,3,0)=\"\",\"-\",VLOOKUP(D345,site!$B:$D,3,0))),IF(C345=\"\",\"\",IF(VLOOKUP(E345,site!$C:$D,2,0)=\"\",\"-\",VLOOKUP(E345,site!$C:$D,2,0))))","v":""},{"$f":"IFERROR(IF($C345=\"\",\"\",IF(VLOOKUP($D345,site!$B:$F,4,0)=\"\",\"-\",VLOOKUP($D345,site!$B:$F,4,0))),IF($C345=\"\",\"\",IF(VLOOKUP($E345,site!$B:$F,3,0)=\"\",\"-\",VLOOKUP($E345,site!$B:$F,3,0))))","v":""},{"$f":"IFERROR(IF($C345=\"\",\"\",IF(VLOOKUP($D345,site!$B:$F,5,0)=\"\",\"-\",VLOOKUP($D345,site!$B:$F,5,0))),IF($C345=\"\",\"\",IF(VLOOKUP($E345,site!$B:$F,4,0)=\"\",\"-\",VLOOKUP($E345,site!$B:$F,4,0))))","v":""},{"$f":"IFERROR(IF($C345=\"\",\"\",IF(VLOOKUP($D345,site!$B:$G,6,0)=\"\",\"-\",VLOOKUP($D345,site!$B:$G,6,0))),IF($C345=\"\",\"\",IF(VLOOKUP($E345,site!$B:$G,5,0)=\"\",\"-\",VLOOKUP($E345,site!$B:$G,5,0))))","v":""}]
[null,null,null,null,null,null,null,null,null,null,null,null,null,null,null,null,null,null,{"$f":"IFERROR(IF(C346=\"\",\"\",IF(VLOOKUP(D346,site!$B:$D,3,0)=\"\",\"-\",VLOOKUP(D346,site!$B:$D,3,0))),IF(C346=\"\",\"\",IF(VLOOKUP(E346,site!$C:$D,2,0)=\"\",\"-\",VLOOKUP(E346,site!$C:$D,2,0))))","v":""},{"$f":"IFERROR(IF($C346=\"\",\"\",IF(VLOOKUP($D346,site!$B:$F,4,0)=\"\",\"-\",VLOOKUP($D346,site!$B:$F,4,0))),IF($C346=\"\",\"\",IF(VLOOKUP($E346,site!$B:$F,3,0)=\"\",\"-\",VLOOKUP($E346,site!$B:$F,3,0))))","v":""},{"$f":"IFERROR(IF($C346=\"\",\"\",IF(VLOOKUP($D346,site!$B:$F,5,0)=\"\",\"-\",VLOOKUP($D346,site!$B:$F,5,0))),IF($C346=\"\",\"\",IF(VLOOKUP($E346,site!$B:$F,4,0)=\"\",\"-\",VLOOKUP($E346,site!$B:$F,4,0))))","v":""},{"$f":"IFERROR(IF($C346=\"\",\"\",IF(VLOOKUP($D346,site!$B:$G,6,0)=\"\",\"-\",VLOOKUP($D346,site!$B:$G,6,0))),IF($C346=\"\",\"\",IF(VLOOKUP($E346,site!$B:$G,5,0)=\"\",\"-\",VLOOKUP($E346,site!$B:$G,5,0))))","v":""}]
[null,null,null,null,null,null,null,null,null,null,null,null,null,null,null,null,null,null,{"$f":"IFERROR(IF(C347=\"\",\"\",IF(VLOOKUP(D347,site!$B:$D,3,0)=\"\",\"-\",VLOOKUP(D347,site!$B:$D,3,0))),IF(C347=\"\",\"\",IF(VLOOKUP(E347,site!$C:$D,2,0)=\"\",\"-\",VLOOKUP(E347,site!$C:$D,2,0))))","v":""},{"$f":"IFERROR(IF($C347=\"\",\"\",IF(VLOOKUP($D347,site!$B:$F,4,0)=\"\",\"-\",VLOOKUP($D347,site!$B:$F,4,0))),IF($C347=\"\",\"\",IF(VLOOKUP($E347,site!$B:$F,3,0)=\"\",\"-\",VLOOKUP($E347,site!$B:$F,3,0))))","v":""},{"$f":"IFERROR(IF($C347=\"\",\"\",IF(VLOOKUP($D347,site!$B:$F,5,0)=\"\",\"-\",VLOOKUP($D347,site!$B:$F,5,0))),IF($C347=\"\",\"\",IF(VLOOKUP($E347,site!$B:$F,4,0)=\"\",\"-\",VLOOKUP($E347,site!$B:$F,4,0))))","v":""},{"$f":"IFERROR(IF($C347=\"\",\"\",IF(VLOOKUP($D347,site!$B:$G,6,0)=\"\",\"-\",VLOOKUP($D347,site!$B:$G,6,0))),IF($C347=\"\",\"\",IF(VLOOKUP($E347,site!$B:$G,5,0)=\"\",\"-\",VLOOKUP($E347,site!$B:$G,5,0))))","v":""}]
[null,null,null,null,null,null,null,null,null,null,null,null,null,null,null,null,null,null,{"$f":"IFERROR(IF(C348=\"\",\"\",IF(VLOOKUP(D348,site!$B:$D,3,0)=\"\",\"-\",VLOOKUP(D348,site!$B:$D,3,0))),IF(C348=\"\",\"\",IF(VLOOKUP(E348,site!$C:$D,2,0)=\"\",\"-\",VLOOKUP(E348,site!$C:$D,2,0))))","v":""},{"$f":"IFERROR(IF($C348=\"\",\"\",IF(VLOOKUP($D348,site!$B:$F,4,0)=\"\",\"-\",VLOOKUP($D348,site!$B:$F,4,0))),IF($C348=\"\",\"\",IF(VLOOKUP($E348,site!$B:$F,3,0)=\"\",\"-\",VLOOKUP($E348,site!$B:$F,3,0))))","v":""},{"$f":"IFERROR(IF($C348=\"\",\"\",IF(VLOOKUP($D348,site!$B:$F,5,0)=\"\",\"-\",VLOOKUP($D348,site!$B:$F,5,0))),IF($C348=\"\",\"\",IF(VLOOKUP($E348,site!$B:$F,4,0)=\"\",\"-\",VLOOKUP($E348,site!$B:$F,4,0))))","v":""},{"$f":"IFERROR(IF($C348=\"\",\"\",IF(VLOOKUP($D348,site!$B:$G,6,0)=\"\",\"-\",VLOOKUP($D348,site!$B:$G,6,0))),IF($C348=\"\",\"\",IF(VLOOKUP($E348,site!$B:$G,5,0)=\"\",\"-\",VLOOKUP($E348,site!$B:$G,5,0))))","v":""}]
[null,null,null,null,null,null,null,null,null,null,null,null,null,null,null,null,null,null,{"$f":"IFERROR(IF(C349=\"\",\"\",IF(VLOOKUP(D349,site!$B:$D,3,0)=\"\",\"-\",VLOOKUP(D349,site!$B:$D,3,0))),IF(C349=\"\",\"\",IF(VLOOKUP(E349,site!$C:$D,2,0)=\"\",\"-\",VLOOKUP(E349,site!$C:$D,2,0))))","v":""},{"$f":"IFERROR(IF($C349=\"\",\"\",IF(VLOOKUP($D349,site!$B:$F,4,0)=\"\",\"-\",VLOOKUP($D349,site!$B:$F,4,0))),IF($C349=\"\",\"\",IF(VLOOKUP($E349,site!$B:$F,3,0)=\"\",\"-\",VLOOKUP($E349,site!$B:$F,3,0))))","v":""},{"$f":"IFERROR(IF($C349=\"\",\"\",IF(VLOOKUP($D349,site!$B:$F,5,0)=\"\",\"-\",VLOOKUP($D349,site!$B:$F,5,0))),IF($C349=\"\",\"\",IF(VLOOKUP($E349,site!$B:$F,4,0)=\"\",\"-\",VLOOKUP($E349,site!$B:$F,4,0))))","v":""},{"$f":"IFERROR(IF($C349=\"\",\"\",IF(VLOOKUP($D349,site!$B:$G,6,0)=\"\",\"-\",VLOOKUP($D349,site!$B:$G,6,0))),IF($C349=\"\",\"\",IF(VLOOKUP($E349,site!$B:$G,5,0)=\"\",\"-\",VLOOKUP($E349,site!$B:$G,5,0))))","v":""}]
[null,null,null,null,null,null,null,null,null,null,null,null,null,null,null,null,null,null,{"$f":"IFERROR(IF(C350=\"\",\"\",IF(VLOOKUP(D350,site!$B:$D,3,0)=\"\",\"-\",VLOOKUP(D350,site!$B:$D,3,0))),IF(C350=\"\",\"\",IF(VLOOKUP(E350,site!$C:$D,2,0)=\"\",\"-\",VLOOKUP(E350,site!$C:$D,2,0))))","v":""},{"$f":"IFERROR(IF($C350=\"\",\"\",IF(VLOOKUP($D350,site!$B:$F,4,0)=\"\",\"-\",VLOOKUP($D350,site!$B:$F,4,0))),IF($C350=\"\",\"\",IF(VLOOKUP($E350,site!$B:$F,3,0)=\"\",\"-\",VLOOKUP($E350,site!$B:$F,3,0))))","v":""},{"$f":"IFERROR(IF($C350=\"\",\"\",IF(VLOOKUP($D350,site!$B:$F,5,0)=\"\",\"-\",VLOOKUP($D350,site!$B:$F,5,0))),IF($C350=\"\",\"\",IF(VLOOKUP($E350,site!$B:$F,4,0)=\"\",\"-\",VLOOKUP($E350,site!$B:$F,4,0))))","v":""},{"$f":"IFERROR(IF($C350=\"\",\"\",IF(VLOOKUP($D350,site!$B:$G,6,0)=\"\",\"-\",VLOOKUP($D350,site!$B:$G,6,0))),IF($C350=\"\",\"\",IF(VLOOKUP($E350,site!$B:$G,5,0)=\"\",\"-\",VLOOKUP($E350,site!$B:$G,5,0))))","v":""}]
[null,null,null,null,null,null,null,null,null,null,null,null,null,null,null,null,null,null,{"$f":"IFERROR(IF(C351=\"\",\"\",IF(VLOOKUP(D351,site!$B:$D,3,0)=\"\",\"-\",VLOOKUP(D351,site!$B:$D,3,0))),IF(C351=\"\",\"\",IF(VLOOKUP(E351,site!$C:$D,2,0)=\"\",\"-\",VLOOKUP(E351,site!$C:$D,2,0))))","v":""},{"$f":"IFERROR(IF($C351=\"\",\"\",IF(VLOOKUP($D351,site!$B:$F,4,0)=\"\",\"-\",VLOOKUP($D351,site!$B:$F,4,0))),IF($C351=\"\",\"\",IF(VLOOKUP($E351,site!$B:$F,3,0)=\"\",\"-\",VLOOKUP($E351,site!$B:$F,3,0))))","v":""},{"$f":"IFERROR(IF($C351=\"\",\"\",IF(VLOOKUP($D351,site!$B:$F,5,0)=\"\",\"-\",VLOOKUP($D351,site!$B:$F,5,0))),IF($C351=\"\",\"\",IF(VLOOKUP($E351,site!$B:$F,4,0)=\"\",\"-\",VLOOKUP($E351,site!$B:$F,4,0))))","v":""},{"$f":"IFERROR(IF($C351=\"\",\"\",IF(VLOOKUP($D351,site!$B:$G,6,0)=\"\",\"-\",VLOOKUP($D351,site!$B:$G,6,0))),IF($C351=\"\",\"\",IF(VLOOKUP($E351,site!$B:$G,5,0)=\"\",\"-\",VLOOKUP($E351,site!$B:$G,5,0))))","v":""}]
[null,null,null,null,null,null,null,null,null,null,null,null,null,null,null,null,null,null,{"$f":"IFERROR(IF(C352=\"\",\"\",IF(VLOOKUP(D352,site!$B:$D,3,0)=\"\",\"-\",VLOOKUP(D352,site!$B:$D,3,0))),IF(C352=\"\",\"\",IF(VLOOKUP(E352,site!$C:$D,2,0)=\"\",\"-\",VLOOKUP(E352,site!$C:$D,2,0))))","v":""},{"$f":"IFERROR(IF($C352=\"\",\"\",IF(VLOOKUP($D352,site!$B:$F,4,0)=\"\",\"-\",VLOOKUP($D352,site!$B:$F,4,0))),IF($C352=\"\",\"\",IF(VLOOKUP($E352,site!$B:$F,3,0)=\"\",\"-\",VLOOKUP($E352,site!$B:$F,3,0))))","v":""},{"$f":"IFERROR(IF($C352=\"\",\"\",IF(VLOOKUP($D352,site!$B:$F,5,0)=\"\",\"-\",VLOOKUP($D352,site!$B:$F,5,0))),IF($C352=\"\",\"\",IF(VLOOKUP($E352,site!$B:$F,4,0)=\"\",\"-\",VLOOKUP($E352,site!$B:$F,4,0))))","v":""},{"$f":"IFERROR(IF($C352=\"\",\"\",IF(VLOOKUP($D352,site!$B:$G,6,0)=\"\",\"-\",VLOOKUP($D352,site!$B:$G,6,0))),IF($C352=\"\",\"\",IF(VLOOKUP($E352,site!$B:$G,5,0)=\"\",\"-\",VLOOKUP($E352,site!$B:$G,5,0))))","v":""}]
[null,null,null,null,null,null,null,null,null,null,null,null,null,null,null,null,null,null,{"$f":"IFERROR(IF(C353=\"\",\"\",IF(VLOOKUP(D353,site!$B:$D,3,0)=\"\",\"-\",VLOOKUP(D353,site!$B:$D,3,0))),IF(C353=\"\",\"\",IF(VLOOKUP(E353,site!$C:$D,2,0)=\"\",\"-\",VLOOKUP(E353,site!$C:$D,2,0))))","v":""},{"$f":"IFERROR(IF($C353=\"\",\"\",IF(VLOOKUP($D353,site!$B:$F,4,0)=\"\",\"-\",VLOOKUP($D353,site!$B:$F,4,0))),IF($C353=\"\",\"\",IF(VLOOKUP($E353,site!$B:$F,3,0)=\"\",\"-\",VLOOKUP($E353,site!$B:$F,3,0))))","v":""},{"$f":"IFERROR(IF($C353=\"\",\"\",IF(VLOOKUP($D353,site!$B:$F,5,0)=\"\",\"-\",VLOOKUP($D353,site!$B:$F,5,0))),IF($C353=\"\",\"\",IF(VLOOKUP($E353,site!$B:$F,4,0)=\"\",\"-\",VLOOKUP($E353,site!$B:$F,4,0))))","v":""},{"$f":"IFERROR(IF($C353=\"\",\"\",IF(VLOOKUP($D353,site!$B:$G,6,0)=\"\",\"-\",VLOOKUP($D353,site!$B:$G,6,0))),IF($C353=\"\",\"\",IF(VLOOKUP($E353,site!$B:$G,5,0)=\"\",\"-\",VLOOKUP($E353,site!$B:$G,5,0))))","v":""}]
[null,null,null,null,null,null,null,null,null,null,null,null,null,null,null,null,null,null,{"$f":"IFERROR(IF(C354=\"\",\"\",IF(VLOOKUP(D354,site!$B:$D,3,0)=\"\",\"-\",VLOOKUP(D354,site!$B:$D,3,0))),IF(C354=\"\",\"\",IF(VLOOKUP(E354,site!$C:$D,2,0)=\"\",\"-\",VLOOKUP(E354,site!$C:$D,2,0))))","v":""},{"$f":"IFERROR(IF($C354=\"\",\"\",IF(VLOOKUP($D354,site!$B:$F,4,0)=\"\",\"-\",VLOOKUP($D354,site!$B:$F,4,0))),IF($C354=\"\",\"\",IF(VLOOKUP($E354,site!$B:$F,3,0)=\"\",\"-\",VLOOKUP($E354,site!$B:$F,3,0))))","v":""},{"$f":"IFERROR(IF($C354=\"\",\"\",IF(VLOOKUP($D354,site!$B:$F,5,0)=\"\",\"-\",VLOOKUP($D354,site!$B:$F,5,0))),IF($C354=\"\",\"\",IF(VLOOKUP($E354,site!$B:$F,4,0)=\"\",\"-\",VLOOKUP($E354,site!$B:$F,4,0))))","v":""},{"$f":"IFERROR(IF($C354=\"\",\"\",IF(VLOOKUP($D354,site!$B:$G,6,0)=\"\",\"-\",VLOOKUP($D354,site!$B:$G,6,0))),IF($C354=\"\",\"\",IF(VLOOKUP($E354,site!$B:$G,5,0)=\"\",\"-\",VLOOKUP($E354,site!$B:$G,5,0))))","v":""}]
[null,null,null,null,null,null,null,null,null,null,null,null,null,null,null,null,null,null,{"$f":"IFERROR(IF(C355=\"\",\"\",IF(VLOOKUP(D355,site!$B:$D,3,0)=\"\",\"-\",VLOOKUP(D355,site!$B:$D,3,0))),IF(C355=\"\",\"\",IF(VLOOKUP(E355,site!$C:$D,2,0)=\"\",\"-\",VLOOKUP(E355,site!$C:$D,2,0))))","v":""},{"$f":"IFERROR(IF($C355=\"\",\"\",IF(VLOOKUP($D355,site!$B:$F,4,0)=\"\",\"-\",VLOOKUP($D355,site!$B:$F,4,0))),IF($C355=\"\",\"\",IF(VLOOKUP($E355,site!$B:$F,3,0)=\"\",\"-\",VLOOKUP($E355,site!$B:$F,3,0))))","v":""},{"$f":"IFERROR(IF($C355=\"\",\"\",IF(VLOOKUP($D355,site!$B:$F,5,0)=\"\",\"-\",VLOOKUP($D355,site!$B:$F,5,0))),IF($C355=\"\",\"\",IF(VLOOKUP($E355,site!$B:$F,4,0)=\"\",\"-\",VLOOKUP($E355,site!$B:$F,4,0))))","v":""},{"$f":"IFERROR(IF($C355=\"\",\"\",IF(VLOOKUP($D355,site!$B:$G,6,0)=\"\",\"-\",VLOOKUP($D355,site!$B:$G,6,0))),IF($C355=\"\",\"\",IF(VLOOKUP($E355,site!$B:$G,5,0)=\"\",\"-\",VLOOKUP($E355,site!$B:$G,5,0))))","v":""}]
[null,null,null,null,null,null,null,null,null,null,null,null,null,null,null,null,null,null,{"$f":"IFERROR(IF(C356=\"\",\"\",IF(VLOOKUP(D356,site!$B:$D,3,0)=\"\",\"-\",VLOOKUP(D356,site!$B:$D,3,0))),IF(C356=\"\",\"\",IF(VLOOKUP(E356,site!$C:$D,2,0)=\"\",\"-\",VLOOKUP(E356,site!$C:$D,2,0))))","v":""},{"$f":"IFERROR(IF($C356=\"\",\"\",IF(VLOOKUP($D356,site!$B:$F,4,0)=\"\",\"-\",VLOOKUP($D356,site!$B:$F,4,0))),IF($C356=\"\",\"\",IF(VLOOKUP($E356,site!$B:$F,3,0)=\"\",\"-\",VLOOKUP($E356,site!$B:$F,3,0))))","v":""},{"$f":"IFERROR(IF($C356=\"\",\"\",IF(VLOOKUP($D356,site!$B:$F,5,0)=\"\",\"-\",VLOOKUP($D356,site!$B:$F,5,0))),IF($C356=\"\",\"\",IF(VLOOKUP($E356,site!$B:$F,4,0)=\"\",\"-\",VLOOKUP($E356,site!$B:$F,4,0))))","v":""},{"$f":"IFERROR(IF($C356=\"\",\"\",IF(VLOOKUP($D356,site!$B:$G,6,0)=\"\",\"-\",VLOOKUP($D356,site!$B:$G,6,0))),IF($C356=\"\",\"\",IF(VLOOKUP($E356,site!$B:$G,5,0)=\"\",\"-\",VLOOKUP($E356,site!$B:$G,5,0))))","v":""}]
[null,null,null,null,null,null,null,null,null,null,null,null,null,null,null,null,null,null,{"$f":"IFERROR(IF(C357=\"\",\"\",IF(VLOOKUP(D357,site!$B:$D,3,0)=\"\",\"-\",VLOOKUP(D357,site!$B:$D,3,0))),IF(C357=\"\",\"\",IF(VLOOKUP(E357,site!$C:$D,2,0)=\"\",\"-\",VLOOKUP(E357,site!$C:$D,2,0))))","v":""},{"$f":"IFERROR(IF($C357=\"\",\"\",IF(VLOOKUP($D357,site!$B:$F,4,0)=\"\",\"-\",VLOOKUP($D357,site!$B:$F,4,0))),IF($C357=\"\",\"\",IF(VLOOKUP($E357,site!$B:$F,3,0)=\"\",\"-\",VLOOKUP($E357,site!$B:$F,3,0))))","v":""},{"$f":"IFERROR(IF($C357=\"\",\"\",IF(VLOOKUP($D357,site!$B:$F,5,0)=\"\",\"-\",VLOOKUP($D357,site!$B:$F,5,0))),IF($C357=\"\",\"\",IF(VLOOKUP($E357,site!$B:$F,4,0)=\"\",\"-\",VLOOKUP($E357,site!$B:$F,4,0))))","v":""},{"$f":"IFERROR(IF($C357=\"\",\"\",IF(VLOOKUP($D357,site!$B:$G,6,0)=\"\",\"-\",VLOOKUP($D357,site!$B:$G,6,0))),IF($C357=\"\",\"\",IF(VLOOKUP($E357,site!$B:$G,5,0)=\"\",\"-\",VLOOKUP($E357,site!$B:$G,5,0))))","v":""}]
[null,null,null,null,null,null,null,null,null,null,null,null,null,null,null,null,null,null,{"$f":"IFERROR(IF(C358=\"\",\"\",IF(VLOOKUP(D358,site!$B:$D,3,0)=\"\",\"-\",VLOOKUP(D358,site!$B:$D,3,0))),IF(C358=\"\",\"\",IF(VLOOKUP(E358,site!$C:$D,2,0)=\"\",\"-\",VLOOKUP(E358,site!$C:$D,2,0))))","v":""},{"$f":"IFERROR(IF($C358=\"\",\"\",IF(VLOOKUP($D358,site!$B:$F,4,0)=\"\",\"-\",VLOOKUP($D358,site!$B:$F,4,0))),IF($C358=\"\",\"\",IF(VLOOKUP($E358,site!$B:$F,3,0)=\"\",\"-\",VLOOKUP($E358,site!$B:$F,3,0))))","v":""},{"$f":"IFERROR(IF($C358=\"\",\"\",IF(VLOOKUP($D358,site!$B:$F,5,0)=\"\",\"-\",VLOOKUP($D358,site!$B:$F,5,0))),IF($C358=\"\",\"\",IF(VLOOKUP($E358,site!$B:$F,4,0)=\"\",\"-\",VLOOKUP($E358,site!$B:$F,4,0))))","v":""},{"$f":"IFERROR(IF($C358=\"\",\"\",IF(VLOOKUP($D358,site!$B:$G,6,0)=\"\",\"-\",VLOOKUP($D358,site!$B:$G,6,0))),IF($C358=\"\",\"\",IF(VLOOKUP($E358,site!$B:$G,5,0)=\"\",\"-\",VLOOKUP($E358,site!$B:$G,5,0))))","v":""}]
[null,null,null,null,null,null,null,null,null,null,null,null,null,null,null,null,null,null,{"$f":"IFERROR(IF(C359=\"\",\"\",IF(VLOOKUP(D359,site!$B:$D,3,0)=\"\",\"-\",VLOOKUP(D359,site!$B:$D,3,0))),IF(C359=\"\",\"\",IF(VLOOKUP(E359,site!$C:$D,2,0)=\"\",\"-\",VLOOKUP(E359,site!$C:$D,2,0))))","v":""},{"$f":"IFERROR(IF($C359=\"\",\"\",IF(VLOOKUP($D359,site!$B:$F,4,0)=\"\",\"-\",VLOOKUP($D359,site!$B:$F,4,0))),IF($C359=\"\",\"\",IF(VLOOKUP($E359,site!$B:$F,3,0)=\"\",\"-\",VLOOKUP($E359,site!$B:$F,3,0))))","v":""},{"$f":"IFERROR(IF($C359=\"\",\"\",IF(VLOOKUP($D359,site!$B:$F,5,0)=\"\",\"-\",VLOOKUP($D359,site!$B:$F,5,0))),IF($C359=\"\",\"\",IF(VLOOKUP($E359,site!$B:$F,4,0)=\"\",\"-\",VLOOKUP($E359,site!$B:$F,4,0))))","v":""},{"$f":"IFERROR(IF($C359=\"\",\"\",IF(VLOOKUP($D359,site!$B:$G,6,0)=\"\",\"-\",VLOOKUP($D359,site!$B:$G,6,0))),IF($C359=\"\",\"\",IF(VLOOKUP($E359,site!$B:$G,5,0)=\"\",\"-\",VLOOKUP($E359,site!$B:$G,5,0))))","v":""}]
[null,null,null,null,null,null,null,null,null,null,null,null,null,null,null,null,null,null,{"$f":"IFERROR(IF(C360=\"\",\"\",IF(VLOOKUP(D360,site!$B:$D,3,0)=\"\",\"-\",VLOOKUP(D360,site!$B:$D,3,0))),IF(C360=\"\",\"\",IF(VLOOKUP(E360,site!$C:$D,2,0)=\"\",\"-\",VLOOKUP(E360,site!$C:$D,2,0))))","v":""},{"$f":"IFERROR(IF($C360=\"\",\"\",IF(VLOOKUP($D360,site!$B:$F,4,0)=\"\",\"-\",VLOOKUP($D360,site!$B:$F,4,0))),IF($C360=\"\",\"\",IF(VLOOKUP($E360,site!$B:$F,3,0)=\"\",\"-\",VLOOKUP($E360,site!$B:$F,3,0))))","v":""},{"$f":"IFERROR(IF($C360=\"\",\"\",IF(VLOOKUP($D360,site!$B:$F,5,0)=\"\",\"-\",VLOOKUP($D360,site!$B:$F,5,0))),IF($C360=\"\",\"\",IF(VLOOKUP($E360,site!$B:$F,4,0)=\"\",\"-\",VLOOKUP($E360,site!$B:$F,4,0))))","v":""},{"$f":"IFERROR(IF($C360=\"\",\"\",IF(VLOOKUP($D360,site!$B:$G,6,0)=\"\",\"-\",VLOOKUP($D360,site!$B:$G,6,0))),IF($C360=\"\",\"\",IF(VLOOKUP($E360,site!$B:$G,5,0)=\"\",\"-\",VLOOKUP($E360,site!$B:$G,5,0))))","v":""}]
[null,null,null,null,null,null,null,null,null,null,null,null,null,null,null,null,null,null,{"$f":"IFERROR(IF(C361=\"\",\"\",IF(VLOOKUP(D361,site!$B:$D,3,0)=\"\",\"-\",VLOOKUP(D361,site!$B:$D,3,0))),IF(C361=\"\",\"\",IF(VLOOKUP(E361,site!$C:$D,2,0)=\"\",\"-\",VLOOKUP(E361,site!$C:$D,2,0))))","v":""},{"$f":"IFERROR(IF($C361=\"\",\"\",IF(VLOOKUP($D361,site!$B:$F,4,0)=\"\",\"-\",VLOOKUP($D361,site!$B:$F,4,0))),IF($C361=\"\",\"\",IF(VLOOKUP($E361,site!$B:$F,3,0)=\"\",\"-\",VLOOKUP($E361,site!$B:$F,3,0))))","v":""},{"$f":"IFERROR(IF($C361=\"\",\"\",IF(VLOOKUP($D361,site!$B:$F,5,0)=\"\",\"-\",VLOOKUP($D361,site!$B:$F,5,0))),IF($C361=\"\",\"\",IF(VLOOKUP($E361,site!$B:$F,4,0)=\"\",\"-\",VLOOKUP($E361,site!$B:$F,4,0))))","v":""},{"$f":"IFERROR(IF($C361=\"\",\"\",IF(VLOOKUP($D361,site!$B:$G,6,0)=\"\",\"-\",VLOOKUP($D361,site!$B:$G,6,0))),IF($C361=\"\",\"\",IF(VLOOKUP($E361,site!$B:$G,5,0)=\"\",\"-\",VLOOKUP($E361,site!$B:$G,5,0))))","v":""}]
[null,null,null,null,null,null,null,null,null,null,null,null,null,null,null,null,null,null,{"$f":"IFERROR(IF(C362=\"\",\"\",IF(VLOOKUP(D362,site!$B:$D,3,0)=\"\",\"-\",VLOOKUP(D362,site!$B:$D,3,0))),IF(C362=\"\",\"\",IF(VLOOKUP(E362,site!$C:$D,2,0)=\"\",\"-\",VLOOKUP(E362,site!$C:$D,2,0))))","v":""},{"$f":"IFERROR(IF($C362=\"\",\"\",IF(VLOOKUP($D362,site!$B:$F,4,0)=\"\",\"-\",VLOOKUP($D362,site!$B:$F,4,0))),IF($C362=\"\",\"\",IF(VLOOKUP($E362,site!$B:$F,3,0)=\"\",\"-\",VLOOKUP($E362,site!$B:$F,3,0))))","v":""},{"$f":"IFERROR(IF($C362=\"\",\"\",IF(VLOOKUP($D362,site!$B:$F,5,0)=\"\",\"-\",VLOOKUP($D362,site!$B:$F,5,0))),IF($C362=\"\",\"\",IF(VLOOKUP($E362,site!$B:$F,4,0)=\"\",\"-\",VLOOKUP($E362,site!$B:$F,4,0))))","v":""},{"$f":"IFERROR(IF($C362=\"\",\"\",IF(VLOOKUP($D362,site!$B:$G,6,0)=\"\",\"-\",VLOOKUP($D362,site!$B:$G,6,0))),IF($C362=\"\",\"\",IF(VLOOKUP($E362,site!$B:$G,5,0)=\"\",\"-\",VLOOKUP($E362,site!$B:$G,5,0))))","v":""}]
[null,null,null,null,null,null,null,null,null,null,null,null,null,null,null,null,null,null,{"$f":"IFERROR(IF(C363=\"\",\"\",IF(VLOOKUP(D363,site!$B:$D,3,0)=\"\",\"-\",VLOOKUP(D363,site!$B:$D,3,0))),IF(C363=\"\",\"\",IF(VLOOKUP(E363,site!$C:$D,2,0)=\"\",\"-\",VLOOKUP(E363,site!$C:$D,2,0))))","v":""},{"$f":"IFERROR(IF($C363=\"\",\"\",IF(VLOOKUP($D363,site!$B:$F,4,0)=\"\",\"-\",VLOOKUP($D363,site!$B:$F,4,0))),IF($C363=\"\",\"\",IF(VLOOKUP($E363,site!$B:$F,3,0)=\"\",\"-\",VLOOKUP($E363,site!$B:$F,3,0))))","v":""},{"$f":"IFERROR(IF($C363=\"\",\"\",IF(VLOOKUP($D363,site!$B:$F,5,0)=\"\",\"-\",VLOOKUP($D363,site!$B:$F,5,0))),IF($C363=\"\",\"\",IF(VLOOKUP($E363,site!$B:$F,4,0)=\"\",\"-\",VLOOKUP($E363,site!$B:$F,4,0))))","v":""},{"$f":"IFERROR(IF($C363=\"\",\"\",IF(VLOOKUP($D363,site!$B:$G,6,0)=\"\",\"-\",VLOOKUP($D363,site!$B:$G,6,0))),IF($C363=\"\",\"\",IF(VLOOKUP($E363,site!$B:$G,5,0)=\"\",\"-\",VLOOKUP($E363,site!$B:$G,5,0))))","v":""}]
[null,null,null,null,null,null,null,null,null,null,null,null,null,null,null,null,null,null,{"$f":"IFERROR(IF(C364=\"\",\"\",IF(VLOOKUP(D364,site!$B:$D,3,0)=\"\",\"-\",VLOOKUP(D364,site!$B:$D,3,0))),IF(C364=\"\",\"\",IF(VLOOKUP(E364,site!$C:$D,2,0)=\"\",\"-\",VLOOKUP(E364,site!$C:$D,2,0))))","v":""},{"$f":"IFERROR(IF($C364=\"\",\"\",IF(VLOOKUP($D364,site!$B:$F,4,0)=\"\",\"-\",VLOOKUP($D364,site!$B:$F,4,0))),IF($C364=\"\",\"\",IF(VLOOKUP($E364,site!$B:$F,3,0)=\"\",\"-\",VLOOKUP($E364,site!$B:$F,3,0))))","v":""},{"$f":"IFERROR(IF($C364=\"\",\"\",IF(VLOOKUP($D364,site!$B:$F,5,0)=\"\",\"-\",VLOOKUP($D364,site!$B:$F,5,0))),IF($C364=\"\",\"\",IF(VLOOKUP($E364,site!$B:$F,4,0)=\"\",\"-\",VLOOKUP($E364,site!$B:$F,4,0))))","v":""},{"$f":"IFERROR(IF($C364=\"\",\"\",IF(VLOOKUP($D364,site!$B:$G,6,0)=\"\",\"-\",VLOOKUP($D364,site!$B:$G,6,0))),IF($C364=\"\",\"\",IF(VLOOKUP($E364,site!$B:$G,5,0)=\"\",\"-\",VLOOKUP($E364,site!$B:$G,5,0))))","v":""}]
[null,null,null,null,null,null,null,null,null,null,null,null,null,null,null,null,null,null,{"$f":"IFERROR(IF(C365=\"\",\"\",IF(VLOOKUP(D365,site!$B:$D,3,0)=\"\",\"-\",VLOOKUP(D365,site!$B:$D,3,0))),IF(C365=\"\",\"\",IF(VLOOKUP(E365,site!$C:$D,2,0)=\"\",\"-\",VLOOKUP(E365,site!$C:$D,2,0))))","v":""},{"$f":"IFERROR(IF($C365=\"\",\"\",IF(VLOOKUP($D365,site!$B:$F,4,0)=\"\",\"-\",VLOOKUP($D365,site!$B:$F,4,0))),IF($C365=\"\",\"\",IF(VLOOKUP($E365,site!$B:$F,3,0)=\"\",\"-\",VLOOKUP($E365,site!$B:$F,3,0))))","v":""},{"$f":"IFERROR(IF($C365=\"\",\"\",IF(VLOOKUP($D365,site!$B:$F,5,0)=\"\",\"-\",VLOOKUP($D365,site!$B:$F,5,0))),IF($C365=\"\",\"\",IF(VLOOKUP($E365,site!$B:$F,4,0)=\"\",\"-\",VLOOKUP($E365,site!$B:$F,4,0))))","v":""},{"$f":"IFERROR(IF($C365=\"\",\"\",IF(VLOOKUP($D365,site!$B:$G,6,0)=\"\",\"-\",VLOOKUP($D365,site!$B:$G,6,0))),IF($C365=\"\",\"\",IF(VLOOKUP($E365,site!$B:$G,5,0)=\"\",\"-\",VLOOKUP($E365,site!$B:$G,5,0))))","v":""}]
[null,null,null,null,null,null,null,null,null,null,null,null,null,null,null,null,null,null,{"$f":"IFERROR(IF(C366=\"\",\"\",IF(VLOOKUP(D366,site!$B:$D,3,0)=\"\",\"-\",VLOOKUP(D366,site!$B:$D,3,0))),IF(C366=\"\",\"\",IF(VLOOKUP(E366,site!$C:$D,2,0)=\"\",\"-\",VLOOKUP(E366,site!$C:$D,2,0))))","v":""},{"$f":"IFERROR(IF($C366=\"\",\"\",IF(VLOOKUP($D366,site!$B:$F,4,0)=\"\",\"-\",VLOOKUP($D366,site!$B:$F,4,0))),IF($C366=\"\",\"\",IF(VLOOKUP($E366,site!$B:$F,3,0)=\"\",\"-\",VLOOKUP($E366,site!$B:$F,3,0))))","v":""},{"$f":"IFERROR(IF($C366=\"\",\"\",IF(VLOOKUP($D366,site!$B:$F,5,0)=\"\",\"-\",VLOOKUP($D366,site!$B:$F,5,0))),IF($C366=\"\",\"\",IF(VLOOKUP($E366,site!$B:$F,4,0)=\"\",\"-\",VLOOKUP($E366,site!$B:$F,4,0))))","v":""},{"$f":"IFERROR(IF($C366=\"\",\"\",IF(VLOOKUP($D366,site!$B:$G,6,0)=\"\",\"-\",VLOOKUP($D366,site!$B:$G,6,0))),IF($C366=\"\",\"\",IF(VLOOKUP($E366,site!$B:$G,5,0)=\"\",\"-\",VLOOKUP($E366,site!$B:$G,5,0))))","v":""}]
[null,null,null,null,null,null,null,null,null,null,null,null,null,null,null,null,null,null,{"$f":"IFERROR(IF(C367=\"\",\"\",IF(VLOOKUP(D367,site!$B:$D,3,0)=\"\",\"-\",VLOOKUP(D367,site!$B:$D,3,0))),IF(C367=\"\",\"\",IF(VLOOKUP(E367,site!$C:$D,2,0)=\"\",\"-\",VLOOKUP(E367,site!$C:$D,2,0))))","v":""},{"$f":"IFERROR(IF($C367=\"\",\"\",IF(VLOOKUP($D367,site!$B:$F,4,0)=\"\",\"-\",VLOOKUP($D367,site!$B:$F,4,0))),IF($C367=\"\",\"\",IF(VLOOKUP($E367,site!$B:$F,3,0)=\"\",\"-\",VLOOKUP($E367,site!$B:$F,3,0))))","v":""},{"$f":"IFERROR(IF($C367=\"\",\"\",IF(VLOOKUP($D367,site!$B:$F,5,0)=\"\",\"-\",VLOOKUP($D367,site!$B:$F,5,0))),IF($C367=\"\",\"\",IF(VLOOKUP($E367,site!$B:$F,4,0)=\"\",\"-\",VLOOKUP($E367,site!$B:$F,4,0))))","v":""},{"$f":"IFERROR(IF($C367=\"\",\"\",IF(VLOOKUP($D367,site!$B:$G,6,0)=\"\",\"-\",VLOOKUP($D367,site!$B:$G,6,0))),IF($C367=\"\",\"\",IF(VLOOKUP($E367,site!$B:$G,5,0)=\"\",\"-\",VLOOKUP($E367,site!$B:$G,5,0))))","v":""}]
[null,null,null,null,null,null,null,null,null,null,null,null,null,null,null,null,null,null,{"$f":"IFERROR(IF(C368=\"\",\"\",IF(VLOOKUP(D368,site!$B:$D,3,0)=\"\",\"-\",VLOOKUP(D368,site!$B:$D,3,0))),IF(C368=\"\",\"\",IF(VLOOKUP(E368,site!$C:$D,2,0)=\"\",\"-\",VLOOKUP(E368,site!$C:$D,2,0))))","v":""},{"$f":"IFERROR(IF($C368=\"\",\"\",IF(VLOOKUP($D368,site!$B:$F,4,0)=\"\",\"-\",VLOOKUP($D368,site!$B:$F,4,0))),IF($C368=\"\",\"\",IF(VLOOKUP($E368,site!$B:$F,3,0)=\"\",\"-\",VLOOKUP($E368,site!$B:$F,3,0))))","v":""},{"$f":"IFERROR(IF($C368=\"\",\"\",IF(VLOOKUP($D368,site!$B:$F,5,0)=\"\",\"-\",VLOOKUP($D368,site!$B:$F,5,0))),IF($C368=\"\",\"\",IF(VLOOKUP($E368,site!$B:$F,4,0)=\"\",\"-\",VLOOKUP($E368,site!$B:$F,4,0))))","v":""},{"$f":"IFERROR(IF($C368=\"\",\"\",IF(VLOOKUP($D368,site!$B:$G,6,0)=\"\",\"-\",VLOOKUP($D368,site!$B:$G,6,0))),IF($C368=\"\",\"\",IF(VLOOKUP($E368,site!$B:$G,5,0)=\"\",\"-\",VLOOKUP($E368,site!$B:$G,5,0))))","v":""}]
[null,null,null,null,null,null,null,null,null,null,null,null,null,null,null,null,null,null,{"$f":"IFERROR(IF(C369=\"\",\"\",IF(VLOOKUP(D369,site!$B:$D,3,0)=\"\",\"-\",VLOOKUP(D369,site!$B:$D,3,0))),IF(C369=\"\",\"\",IF(VLOOKUP(E369,site!$C:$D,2,0)=\"\",\"-\",VLOOKUP(E369,site!$C:$D,2,0))))","v":""},{"$f":"IFERROR(IF($C369=\"\",\"\",IF(VLOOKUP($D369,site!$B:$F,4,0)=\"\",\"-\",VLOOKUP($D369,site!$B:$F,4,0))),IF($C369=\"\",\"\",IF(VLOOKUP($E369,site!$B:$F,3,0)=\"\",\"-\",VLOOKUP($E369,site!$B:$F,3,0))))","v":""},{"$f":"IFERROR(IF($C369=\"\",\"\",IF(VLOOKUP($D369,site!$B:$F,5,0)=\"\",\"-\",VLOOKUP($D369,site!$B:$F,5,0))),IF($C369=\"\",\"\",IF(VLOOKUP($E369,site!$B:$F,4,0)=\"\",\"-\",VLOOKUP($E369,site!$B:$F,4,0))))","v":""},{"$f":"IFERROR(IF($C369=\"\",\"\",IF(VLOOKUP($D369,site!$B:$G,6,0)=\"\",\"-\",VLOOKUP($D369,site!$B:$G,6,0))),IF($C369=\"\",\"\",IF(VLOOKUP($E369,site!$B:$G,5,0)=\"\",\"-\",VLOOKUP($E369,site!$B:$G,5,0))))","v":""}]
[null,null,null,null,null,null,null,null,null,null,null,null,null,null,null,null,null,null,{"$f":"IFERROR(IF(C370=\"\",\"\",IF(VLOOKUP(D370,site!$B:$D,3,0)=\"\",\"-\",VLOOKUP(D370,site!$B:$D,3,0))),IF(C370=\"\",\"\",IF(VLOOKUP(E370,site!$C:$D,2,0)=\"\",\"-\",VLOOKUP(E370,site!$C:$D,2,0))))","v":""},{"$f":"IFERROR(IF($C370=\"\",\"\",IF(VLOOKUP($D370,site!$B:$F,4,0)=\"\",\"-\",VLOOKUP($D370,site!$B:$F,4,0))),IF($C370=\"\",\"\",IF(VLOOKUP($E370,site!$B:$F,3,0)=\"\",\"-\",VLOOKUP($E370,site!$B:$F,3,0))))","v":""},{"$f":"IFERROR(IF($C370=\"\",\"\",IF(VLOOKUP($D370,site!$B:$F,5,0)=\"\",\"-\",VLOOKUP($D370,site!$B:$F,5,0))),IF($C370=\"\",\"\",IF(VLOOKUP($E370,site!$B:$F,4,0)=\"\",\"-\",VLOOKUP($E370,site!$B:$F,4,0))))","v":""},{"$f":"IFERROR(IF($C370=\"\",\"\",IF(VLOOKUP($D370,site!$B:$G,6,0)=\"\",\"-\",VLOOKUP($D370,site!$B:$G,6,0))),IF($C370=\"\",\"\",IF(VLOOKUP($E370,site!$B:$G,5,0)=\"\",\"-\",VLOOKUP($E370,site!$B:$G,5,0))))","v":""}]
[null,null,null,null,null,null,null,null,null,null,null,null,null,null,null,null,null,null,{"$f":"IFERROR(IF(C371=\"\",\"\",IF(VLOOKUP(D371,site!$B:$D,3,0)=\"\",\"-\",VLOOKUP(D371,site!$B:$D,3,0))),IF(C371=\"\",\"\",IF(VLOOKUP(E371,site!$C:$D,2,0)=\"\",\"-\",VLOOKUP(E371,site!$C:$D,2,0))))","v":""},{"$f":"IFERROR(IF($C371=\"\",\"\",IF(VLOOKUP($D371,site!$B:$F,4,0)=\"\",\"-\",VLOOKUP($D371,site!$B:$F,4,0))),IF($C371=\"\",\"\",IF(VLOOKUP($E371,site!$B:$F,3,0)=\"\",\"-\",VLOOKUP($E371,site!$B:$F,3,0))))","v":""},{"$f":"IFERROR(IF($C371=\"\",\"\",IF(VLOOKUP($D371,site!$B:$F,5,0)=\"\",\"-\",VLOOKUP($D371,site!$B:$F,5,0))),IF($C371=\"\",\"\",IF(VLOOKUP($E371,site!$B:$F,4,0)=\"\",\"-\",VLOOKUP($E371,site!$B:$F,4,0))))","v":""},{"$f":"IFERROR(IF($C371=\"\",\"\",IF(VLOOKUP($D371,site!$B:$G,6,0)=\"\",\"-\",VLOOKUP($D371,site!$B:$G,6,0))),IF($C371=\"\",\"\",IF(VLOOKUP($E371,site!$B:$G,5,0)=\"\",\"-\",VLOOKUP($E371,site!$B:$G,5,0))))","v":""}]
[null,null,null,null,null,null,null,null,null,null,null,null,null,null,null,null,null,null,{"$f":"IFERROR(IF(C372=\"\",\"\",IF(VLOOKUP(D372,site!$B:$D,3,0)=\"\",\"-\",VLOOKUP(D372,site!$B:$D,3,0))),IF(C372=\"\",\"\",IF(VLOOKUP(E372,site!$C:$D,2,0)=\"\",\"-\",VLOOKUP(E372,site!$C:$D,2,0))))","v":""},{"$f":"IFERROR(IF($C372=\"\",\"\",IF(VLOOKUP($D372,site!$B:$F,4,0)=\"\",\"-\",VLOOKUP($D372,site!$B:$F,4,0))),IF($C372=\"\",\"\",IF(VLOOKUP($E372,site!$B:$F,3,0)=\"\",\"-\",VLOOKUP($E372,site!$B:$F,3,0))))","v":""},{"$f":"IFERROR(IF($C372=\"\",\"\",IF(VLOOKUP($D372,site!$B:$F,5,0)=\"\",\"-\",VLOOKUP($D372,site!$B:$F,5,0))),IF($C372=\"\",\"\",IF(VLOOKUP($E372,site!$B:$F,4,0)=\"\",\"-\",VLOOKUP($E372,site!$B:$F,4,0))))","v":""},{"$f":"IFERROR(IF($C372=\"\",\"\",IF(VLOOKUP($D372,site!$B:$G,6,0)=\"\",\"-\",VLOOKUP($D372,site!$B:$G,6,0))),IF($C372=\"\",\"\",IF(VLOOKUP($E372,site!$B:$G,5,0)=\"\",\"-\",VLOOKUP($E372,site!$B:$G,5,0))))","v":""}]
[null,null,null,null,null,null,null,null,null,null,null,null,null,null,null,null,null,null,{"$f":"IFERROR(IF(C373=\"\",\"\",IF(VLOOKUP(D373,site!$B:$D,3,0)=\"\",\"-\",VLOOKUP(D373,site!$B:$D,3,0))),IF(C373=\"\",\"\",IF(VLOOKUP(E373,site!$C:$D,2,0)=\"\",\"-\",VLOOKUP(E373,site!$C:$D,2,0))))","v":""},{"$f":"IFERROR(IF($C373=\"\",\"\",IF(VLOOKUP($D373,site!$B:$F,4,0)=\"\",\"-\",VLOOKUP($D373,site!$B:$F,4,0))),IF($C373=\"\",\"\",IF(VLOOKUP($E373,site!$B:$F,3,0)=\"\",\"-\",VLOOKUP($E373,site!$B:$F,3,0))))","v":""},{"$f":"IFERROR(IF($C373=\"\",\"\",IF(VLOOKUP($D373,site!$B:$F,5,0)=\"\",\"-\",VLOOKUP($D373,site!$B:$F,5,0))),IF($C373=\"\",\"\",IF(VLOOKUP($E373,site!$B:$F,4,0)=\"\",\"-\",VLOOKUP($E373,site!$B:$F,4,0))))","v":""},{"$f":"IFERROR(IF($C373=\"\",\"\",IF(VLOOKUP($D373,site!$B:$G,6,0)=\"\",\"-\",VLOOKUP($D373,site!$B:$G,6,0))),IF($C373=\"\",\"\",IF(VLOOKUP($E373,site!$B:$G,5,0)=\"\",\"-\",VLOOKUP($E373,site!$B:$G,5,0))))","v":""}]
[null,null,null,null,null,null,null,null,null,null,null,null,null,null,null,null,null,null,{"$f":"IFERROR(IF(C374=\"\",\"\",IF(VLOOKUP(D374,site!$B:$D,3,0)=\"\",\"-\",VLOOKUP(D374,site!$B:$D,3,0))),IF(C374=\"\",\"\",IF(VLOOKUP(E374,site!$C:$D,2,0)=\"\",\"-\",VLOOKUP(E374,site!$C:$D,2,0))))","v":""},{"$f":"IFERROR(IF($C374=\"\",\"\",IF(VLOOKUP($D374,site!$B:$F,4,0)=\"\",\"-\",VLOOKUP($D374,site!$B:$F,4,0))),IF($C374=\"\",\"\",IF(VLOOKUP($E374,site!$B:$F,3,0)=\"\",\"-\",VLOOKUP($E374,site!$B:$F,3,0))))","v":""},{"$f":"IFERROR(IF($C374=\"\",\"\",IF(VLOOKUP($D374,site!$B:$F,5,0)=\"\",\"-\",VLOOKUP($D374,site!$B:$F,5,0))),IF($C374=\"\",\"\",IF(VLOOKUP($E374,site!$B:$F,4,0)=\"\",\"-\",VLOOKUP($E374,site!$B:$F,4,0))))","v":""},{"$f":"IFERROR(IF($C374=\"\",\"\",IF(VLOOKUP($D374,site!$B:$G,6,0)=\"\",\"-\",VLOOKUP($D374,site!$B:$G,6,0))),IF($C374=\"\",\"\",IF(VLOOKUP($E374,site!$B:$G,5,0)=\"\",\"-\",VLOOKUP($E374,site!$B:$G,5,0))))","v":""}]
[null,null,null,null,null,null,null,null,null,null,null,null,null,null,null,null,null,null,{"$f":"IFERROR(IF(C375=\"\",\"\",IF(VLOOKUP(D375,site!$B:$D,3,0)=\"\",\"-\",VLOOKUP(D375,site!$B:$D,3,0))),IF(C375=\"\",\"\",IF(VLOOKUP(E375,site!$C:$D,2,0)=\"\",\"-\",VLOOKUP(E375,site!$C:$D,2,0))))","v":""},{"$f":"IFERROR(IF($C375=\"\",\"\",IF(VLOOKUP($D375,site!$B:$F,4,0)=\"\",\"-\",VLOOKUP($D375,site!$B:$F,4,0))),IF($C375=\"\",\"\",IF(VLOOKUP($E375,site!$B:$F,3,0)=\"\",\"-\",VLOOKUP($E375,site!$B:$F,3,0))))","v":""},{"$f":"IFERROR(IF($C375=\"\",\"\",IF(VLOOKUP($D375,site!$B:$F,5,0)=\"\",\"-\",VLOOKUP($D375,site!$B:$F,5,0))),IF($C375=\"\",\"\",IF(VLOOKUP($E375,site!$B:$F,4,0)=\"\",\"-\",VLOOKUP($E375,site!$B:$F,4,0))))","v":""},{"$f":"IFERROR(IF($C375=\"\",\"\",IF(VLOOKUP($D375,site!$B:$G,6,0)=\"\",\"-\",VLOOKUP($D375,site!$B:$G,6,0))),IF($C375=\"\",\"\",IF(VLOOKUP($E375,site!$B:$G,5,0)=\"\",\"-\",VLOOKUP($E375,site!$B:$G,5,0))))","v":""}]
[null,null,null,null,null,null,null,null,null,null,null,null,null,null,null,null,null,null,{"$f":"IFERROR(IF(C376=\"\",\"\",IF(VLOOKUP(D376,site!$B:$D,3,0)=\"\",\"-\",VLOOKUP(D376,site!$B:$D,3,0))),IF(C376=\"\",\"\",IF(VLOOKUP(E376,site!$C:$D,2,0)=\"\",\"-\",VLOOKUP(E376,site!$C:$D,2,0))))","v":""},{"$f":"IFERROR(IF($C376=\"\",\"\",IF(VLOOKUP($D376,site!$B:$F,4,0)=\"\",\"-\",VLOOKUP($D376,site!$B:$F,4,0))),IF($C376=\"\",\"\",IF(VLOOKUP($E376,site!$B:$F,3,0)=\"\",\"-\",VLOOKUP($E376,site!$B:$F,3,0))))","v":""},{"$f":"IFERROR(IF($C376=\"\",\"\",IF(VLOOKUP($D376,site!$B:$F,5,0)=\"\",\"-\",VLOOKUP($D376,site!$B:$F,5,0))),IF($C376=\"\",\"\",IF(VLOOKUP($E376,site!$B:$F,4,0)=\"\",\"-\",VLOOKUP($E376,site!$B:$F,4,0))))","v":""},{"$f":"IFERROR(IF($C376=\"\",\"\",IF(VLOOKUP($D376,site!$B:$G,6,0)=\"\",\"-\",VLOOKUP($D376,site!$B:$G,6,0))),IF($C376=\"\",\"\",IF(VLOOKUP($E376,site!$B:$G,5,0)=\"\",\"-\",VLOOKUP($E376,site!$B:$G,5,0))))","v":""}]
[null,null,null,null,null,null,null,null,null,null,null,null,null,null,null,null,null,null,{"$f":"IFERROR(IF(C377=\"\",\"\",IF(VLOOKUP(D377,site!$B:$D,3,0)=\"\",\"-\",VLOOKUP(D377,site!$B:$D,3,0))),IF(C377=\"\",\"\",IF(VLOOKUP(E377,site!$C:$D,2,0)=\"\",\"-\",VLOOKUP(E377,site!$C:$D,2,0))))","v":""},{"$f":"IFERROR(IF($C377=\"\",\"\",IF(VLOOKUP($D377,site!$B:$F,4,0)=\"\",\"-\",VLOOKUP($D377,site!$B:$F,4,0))),IF($C377=\"\",\"\",IF(VLOOKUP($E377,site!$B:$F,3,0)=\"\",\"-\",VLOOKUP($E377,site!$B:$F,3,0))))","v":""},{"$f":"IFERROR(IF($C377=\"\",\"\",IF(VLOOKUP($D377,site!$B:$F,5,0)=\"\",\"-\",VLOOKUP($D377,site!$B:$F,5,0))),IF($C377=\"\",\"\",IF(VLOOKUP($E377,site!$B:$F,4,0)=\"\",\"-\",VLOOKUP($E377,site!$B:$F,4,0))))","v":""},{"$f":"IFERROR(IF($C377=\"\",\"\",IF(VLOOKUP($D377,site!$B:$G,6,0)=\"\",\"-\",VLOOKUP($D377,site!$B:$G,6,0))),IF($C377=\"\",\"\",IF(VLOOKUP($E377,site!$B:$G,5,0)=\"\",\"-\",VLOOKUP($E377,site!$B:$G,5,0))))","v":""}]
[null,null,null,null,null,null,null,null,null,null,null,null,null,null,null,null,null,null,{"$f":"IFERROR(IF(C378=\"\",\"\",IF(VLOOKUP(D378,site!$B:$D,3,0)=\"\",\"-\",VLOOKUP(D378,site!$B:$D,3,0))),IF(C378=\"\",\"\",IF(VLOOKUP(E378,site!$C:$D,2,0)=\"\",\"-\",VLOOKUP(E378,site!$C:$D,2,0))))","v":""},{"$f":"IFERROR(IF($C378=\"\",\"\",IF(VLOOKUP($D378,site!$B:$F,4,0)=\"\",\"-\",VLOOKUP($D378,site!$B:$F,4,0))),IF($C378=\"\",\"\",IF(VLOOKUP($E378,site!$B:$F,3,0)=\"\",\"-\",VLOOKUP($E378,site!$B:$F,3,0))))","v":""},{"$f":"IFERROR(IF($C378=\"\",\"\",IF(VLOOKUP($D378,site!$B:$F,5,0)=\"\",\"-\",VLOOKUP($D378,site!$B:$F,5,0))),IF($C378=\"\",\"\",IF(VLOOKUP($E378,site!$B:$F,4,0)=\"\",\"-\",VLOOKUP($E378,site!$B:$F,4,0))))","v":""},{"$f":"IFERROR(IF($C378=\"\",\"\",IF(VLOOKUP($D378,site!$B:$G,6,0)=\"\",\"-\",VLOOKUP($D378,site!$B:$G,6,0))),IF($C378=\"\",\"\",IF(VLOOKUP($E378,site!$B:$G,5,0)=\"\",\"-\",VLOOKUP($E378,site!$B:$G,5,0))))","v":""}]
[null,null,null,null,null,null,null,null,null,null,null,null,null,null,null,null,null,null,{"$f":"IFERROR(IF(C379=\"\",\"\",IF(VLOOKUP(D379,site!$B:$D,3,0)=\"\",\"-\",VLOOKUP(D379,site!$B:$D,3,0))),IF(C379=\"\",\"\",IF(VLOOKUP(E379,site!$C:$D,2,0)=\"\",\"-\",VLOOKUP(E379,site!$C:$D,2,0))))","v":""},{"$f":"IFERROR(IF($C379=\"\",\"\",IF(VLOOKUP($D379,site!$B:$F,4,0)=\"\",\"-\",VLOOKUP($D379,site!$B:$F,4,0))),IF($C379=\"\",\"\",IF(VLOOKUP($E379,site!$B:$F,3,0)=\"\",\"-\",VLOOKUP($E379,site!$B:$F,3,0))))","v":""},{"$f":"IFERROR(IF($C379=\"\",\"\",IF(VLOOKUP($D379,site!$B:$F,5,0)=\"\",\"-\",VLOOKUP($D379,site!$B:$F,5,0))),IF($C379=\"\",\"\",IF(VLOOKUP($E379,site!$B:$F,4,0)=\"\",\"-\",VLOOKUP($E379,site!$B:$F,4,0))))","v":""},{"$f":"IFERROR(IF($C379=\"\",\"\",IF(VLOOKUP($D379,site!$B:$G,6,0)=\"\",\"-\",VLOOKUP($D379,site!$B:$G,6,0))),IF($C379=\"\",\"\",IF(VLOOKUP($E379,site!$B:$G,5,0)=\"\",\"-\",VLOOKUP($E379,site!$B:$G,5,0))))","v":""}]
[null,null,null,null,null,null,null,null,null,null,null,null,null,null,null,null,null,null,{"$f":"IFERROR(IF(C380=\"\",\"\",IF(VLOOKUP(D380,site!$B:$D,3,0)=\"\",\"-\",VLOOKUP(D380,site!$B:$D,3,0))),IF(C380=\"\",\"\",IF(VLOOKUP(E380,site!$C:$D,2,0)=\"\",\"-\",VLOOKUP(E380,site!$C:$D,2,0))))","v":""},{"$f":"IFERROR(IF($C380=\"\",\"\",IF(VLOOKUP($D380,site!$B:$F,4,0)=\"\",\"-\",VLOOKUP($D380,site!$B:$F,4,0))),IF($C380=\"\",\"\",IF(VLOOKUP($E380,site!$B:$F,3,0)=\"\",\"-\",VLOOKUP($E380,site!$B:$F,3,0))))","v":""},{"$f":"IFERROR(IF($C380=\"\",\"\",IF(VLOOKUP($D380,site!$B:$F,5,0)=\"\",\"-\",VLOOKUP($D380,site!$B:$F,5,0))),IF($C380=\"\",\"\",IF(VLOOKUP($E380,site!$B:$F,4,0)=\"\",\"-\",VLOOKUP($E380,site!$B:$F,4,0))))","v":""},{"$f":"IFERROR(IF($C380=\"\",\"\",IF(VLOOKUP($D380,site!$B:$G,6,0)=\"\",\"-\",VLOOKUP($D380,site!$B:$G,6,0))),IF($C380=\"\",\"\",IF(VLOOKUP($E380,site!$B:$G,5,0)=\"\",\"-\",VLOOKUP($E380,site!$B:$G,5,0))))","v":""}]
[null,null,null,null,null,null,null,null,null,null,null,null,null,null,null,null,null,null,{"$f":"IFERROR(IF(C381=\"\",\"\",IF(VLOOKUP(D381,site!$B:$D,3,0)=\"\",\"-\",VLOOKUP(D381,site!$B:$D,3,0))),IF(C381=\"\",\"\",IF(VLOOKUP(E381,site!$C:$D,2,0)=\"\",\"-\",VLOOKUP(E381,site!$C:$D,2,0))))","v":""},{"$f":"IFERROR(IF($C381=\"\",\"\",IF(VLOOKUP($D381,site!$B:$F,4,0)=\"\",\"-\",VLOOKUP($D381,site!$B:$F,4,0))),IF($C381=\"\",\"\",IF(VLOOKUP($E381,site!$B:$F,3,0)=\"\",\"-\",VLOOKUP($E381,site!$B:$F,3,0))))","v":""},{"$f":"IFERROR(IF($C381=\"\",\"\",IF(VLOOKUP($D381,site!$B:$F,5,0)=\"\",\"-\",VLOOKUP($D381,site!$B:$F,5,0))),IF($C381=\"\",\"\",IF(VLOOKUP($E381,site!$B:$F,4,0)=\"\",\"-\",VLOOKUP($E381,site!$B:$F,4,0))))","v":""},{"$f":"IFERROR(IF($C381=\"\",\"\",IF(VLOOKUP($D381,site!$B:$G,6,0)=\"\",\"-\",VLOOKUP($D381,site!$B:$G,6,0))),IF($C381=\"\",\"\",IF(VLOOKUP($E381,site!$B:$G,5,0)=\"\",\"-\",VLOOKUP($E381,site!$B:$G,5,0))))","v":""}]
[null,null,null,null,null,null,null,null,null,null,null,null,null,null,null,null,null,null,{"$f":"IFERROR(IF(C382=\"\",\"\",IF(VLOOKUP(D382,site!$B:$D,3,0)=\"\",\"-\",VLOOKUP(D382,site!$B:$D,3,0))),IF(C382=\"\",\"\",IF(VLOOKUP(E382,site!$C:$D,2,0)=\"\",\"-\",VLOOKUP(E382,site!$C:$D,2,0))))","v":""},{"$f":"IFERROR(IF($C382=\"\",\"\",IF(VLOOKUP($D382,site!$B:$F,4,0)=\"\",\"-\",VLOOKUP($D382,site!$B:$F,4,0))),IF($C382=\"\",\"\",IF(VLOOKUP($E382,site!$B:$F,3,0)=\"\",\"-\",VLOOKUP($E382,site!$B:$F,3,0))))","v":""},{"$f":"IFERROR(IF($C382=\"\",\"\",IF(VLOOKUP($D382,site!$B:$F,5,0)=\"\",\"-\",VLOOKUP($D382,site!$B:$F,5,0))),IF($C382=\"\",\"\",IF(VLOOKUP($E382,site!$B:$F,4,0)=\"\",\"-\",VLOOKUP($E382,site!$B:$F,4,0))))","v":""},{"$f":"IFERROR(IF($C382=\"\",\"\",IF(VLOOKUP($D382,site!$B:$G,6,0)=\"\",\"-\",VLOOKUP($D382,site!$B:$G,6,0))),IF($C382=\"\",\"\",IF(VLOOKUP($E382,site!$B:$G,5,0)=\"\",\"-\",VLOOKUP($E382,site!$B:$G,5,0))))","v":""}]
[null,null,null,null,null,null,null,null,null,null,null,null,null,null,null,null,null,null,{"$f":"IFERROR(IF(C383=\"\",\"\",IF(VLOOKUP(D383,site!$B:$D,3,0)=\"\",\"-\",VLOOKUP(D383,site!$B:$D,3,0))),IF(C383=\"\",\"\",IF(VLOOKUP(E383,site!$C:$D,2,0)=\"\",\"-\",VLOOKUP(E383,site!$C:$D,2,0))))","v":""},{"$f":"IFERROR(IF($C383=\"\",\"\",IF(VLOOKUP($D383,site!$B:$F,4,0)=\"\",\"-\",VLOOKUP($D383,site!$B:$F,4,0))),IF($C383=\"\",\"\",IF(VLOOKUP($E383,site!$B:$F,3,0)=\"\",\"-\",VLOOKUP($E383,site!$B:$F,3,0))))","v":""},{"$f":"IFERROR(IF($C383=\"\",\"\",IF(VLOOKUP($D383,site!$B:$F,5,0)=\"\",\"-\",VLOOKUP($D383,site!$B:$F,5,0))),IF($C383=\"\",\"\",IF(VLOOKUP($E383,site!$B:$F,4,0)=\"\",\"-\",VLOOKUP($E383,site!$B:$F,4,0))))","v":""},{"$f":"IFERROR(IF($C383=\"\",\"\",IF(VLOOKUP($D383,site!$B:$G,6,0)=\"\",\"-\",VLOOKUP($D383,site!$B:$G,6,0))),IF($C383=\"\",\"\",IF(VLOOKUP($E383,site!$B:$G,5,0)=\"\",\"-\",VLOOKUP($E383,site!$B:$G,5,0))))","v":""}]
[null,null,null,null,null,null,null,null,null,null,null,null,null,null,null,null,null,null,{"$f":"IFERROR(IF(C384=\"\",\"\",IF(VLOOKUP(D384,site!$B:$D,3,0)=\"\",\"-\",VLOOKUP(D384,site!$B:$D,3,0))),IF(C384=\"\",\"\",IF(VLOOKUP(E384,site!$C:$D,2,0)=\"\",\"-\",VLOOKUP(E384,site!$C:$D,2,0))))","v":""},{"$f":"IFERROR(IF($C384=\"\",\"\",IF(VLOOKUP($D384,site!$B:$F,4,0)=\"\",\"-\",VLOOKUP($D384,site!$B:$F,4,0))),IF($C384=\"\",\"\",IF(VLOOKUP($E384,site!$B:$F,3,0)=\"\",\"-\",VLOOKUP($E384,site!$B:$F,3,0))))","v":""},{"$f":"IFERROR(IF($C384=\"\",\"\",IF(VLOOKUP($D384,site!$B:$F,5,0)=\"\",\"-\",VLOOKUP($D384,site!$B:$F,5,0))),IF($C384=\"\",\"\",IF(VLOOKUP($E384,site!$B:$F,4,0)=\"\",\"-\",VLOOKUP($E384,site!$B:$F,4,0))))","v":""},{"$f":"IFERROR(IF($C384=\"\",\"\",IF(VLOOKUP($D384,site!$B:$G,6,0)=\"\",\"-\",VLOOKUP($D384,site!$B:$G,6,0))),IF($C384=\"\",\"\",IF(VLOOKUP($E384,site!$B:$G,5,0)=\"\",\"-\",VLOOKUP($E384,site!$B:$G,5,0))))","v":""}]
[null,null,null,null,null,null,null,null,null,null,null,null,null,null,null,null,null,null,{"$f":"IFERROR(IF(C385=\"\",\"\",IF(VLOOKUP(D385,site!$B:$D,3,0)=\"\",\"-\",VLOOKUP(D385,site!$B:$D,3,0))),IF(C385=\"\",\"\",IF(VLOOKUP(E385,site!$C:$D,2,0)=\"\",\"-\",VLOOKUP(E385,site!$C:$D,2,0))))","v":""},{"$f":"IFERROR(IF($C385=\"\",\"\",IF(VLOOKUP($D385,site!$B:$F,4,0)=\"\",\"-\",VLOOKUP($D385,site!$B:$F,4,0))),IF($C385=\"\",\"\",IF(VLOOKUP($E385,site!$B:$F,3,0)=\"\",\"-\",VLOOKUP($E385,site!$B:$F,3,0))))","v":""},{"$f":"IFERROR(IF($C385=\"\",\"\",IF(VLOOKUP($D385,site!$B:$F,5,0)=\"\",\"-\",VLOOKUP($D385,site!$B:$F,5,0))),IF($C385=\"\",\"\",IF(VLOOKUP($E385,site!$B:$F,4,0)=\"\",\"-\",VLOOKUP($E385,site!$B:$F,4,0))))","v":""},{"$f":"IFERROR(IF($C385=\"\",\"\",IF(VLOOKUP($D385,site!$B:$G,6,0)=\"\",\"-\",VLOOKUP($D385,site!$B:$G,6,0))),IF($C385=\"\",\"\",IF(VLOOKUP($E385,site!$B:$G,5,0)=\"\",\"-\",VLOOKUP($E385,site!$B:$G,5,0))))","v":""}]
[null,null,null,null,null,null,null,null,null,null,null,null,null,null,null,null,null,null,{"$f":"IFERROR(IF(C386=\"\",\"\",IF(VLOOKUP(D386,site!$B:$D,3,0)=\"\",\"-\",VLOOKUP(D386,site!$B:$D,3,0))),IF(C386=\"\",\"\",IF(VLOOKUP(E386,site!$C:$D,2,0)=\"\",\"-\",VLOOKUP(E386,site!$C:$D,2,0))))","v":""},{"$f":"IFERROR(IF($C386=\"\",\"\",IF(VLOOKUP($D386,site!$B:$F,4,0)=\"\",\"-\",VLOOKUP($D386,site!$B:$F,4,0))),IF($C386=\"\",\"\",IF(VLOOKUP($E386,site!$B:$F,3,0)=\"\",\"-\",VLOOKUP($E386,site!$B:$F,3,0))))","v":""},{"$f":"IFERROR(IF($C386=\"\",\"\",IF(VLOOKUP($D386,site!$B:$F,5,0)=\"\",\"-\",VLOOKUP($D386,site!$B:$F,5,0))),IF($C386=\"\",\"\",IF(VLOOKUP($E386,site!$B:$F,4,0)=\"\",\"-\",VLOOKUP($E386,site!$B:$F,4,0))))","v":""},{"$f":"IFERROR(IF($C386=\"\",\"\",IF(VLOOKUP($D386,site!$B:$G,6,0)=\"\",\"-\",VLOOKUP($D386,site!$B:$G,6,0))),IF($C386=\"\",\"\",IF(VLOOKUP($E386,site!$B:$G,5,0)=\"\",\"-\",VLOOKUP($E386,site!$B:$G,5,0))))","v":""}]
[null,null,null,null,null,null,null,null,null,null,null,null,null,null,null,null,null,null,{"$f":"IFERROR(IF(C387=\"\",\"\",IF(VLOOKUP(D387,site!$B:$D,3,0)=\"\",\"-\",VLOOKUP(D387,site!$B:$D,3,0))),IF(C387=\"\",\"\",IF(VLOOKUP(E387,site!$C:$D,2,0)=\"\",\"-\",VLOOKUP(E387,site!$C:$D,2,0))))","v":""},{"$f":"IFERROR(IF($C387=\"\",\"\",IF(VLOOKUP($D387,site!$B:$F,4,0)=\"\",\"-\",VLOOKUP($D387,site!$B:$F,4,0))),IF($C387=\"\",\"\",IF(VLOOKUP($E387,site!$B:$F,3,0)=\"\",\"-\",VLOOKUP($E387,site!$B:$F,3,0))))","v":""},{"$f":"IFERROR(IF($C387=\"\",\"\",IF(VLOOKUP($D387,site!$B:$F,5,0)=\"\",\"-\",VLOOKUP($D387,site!$B:$F,5,0))),IF($C387=\"\",\"\",IF(VLOOKUP($E387,site!$B:$F,4,0)=\"\",\"-\",VLOOKUP($E387,site!$B:$F,4,0))))","v":""},{"$f":"IFERROR(IF($C387=\"\",\"\",IF(VLOOKUP($D387,site!$B:$G,6,0)=\"\",\"-\",VLOOKUP($D387,site!$B:$G,6,0))),IF($C387=\"\",\"\",IF(VLOOKUP($E387,site!$B:$G,5,0)=\"\",\"-\",VLOOKUP($E387,site!$B:$G,5,0))))","v":""}]
[null,null,null,null,null,null,null,null,null,null,null,null,null,null,null,null,null,null,{"$f":"IFERROR(IF(C388=\"\",\"\",IF(VLOOKUP(D388,site!$B:$D,3,0)=\"\",\"-\",VLOOKUP(D388,site!$B:$D,3,0))),IF(C388=\"\",\"\",IF(VLOOKUP(E388,site!$C:$D,2,0)=\"\",\"-\",VLOOKUP(E388,site!$C:$D,2,0))))","v":""},{"$f":"IFERROR(IF($C388=\"\",\"\",IF(VLOOKUP($D388,site!$B:$F,4,0)=\"\",\"-\",VLOOKUP($D388,site!$B:$F,4,0))),IF($C388=\"\",\"\",IF(VLOOKUP($E388,site!$B:$F,3,0)=\"\",\"-\",VLOOKUP($E388,site!$B:$F,3,0))))","v":""},{"$f":"IFERROR(IF($C388=\"\",\"\",IF(VLOOKUP($D388,site!$B:$F,5,0)=\"\",\"-\",VLOOKUP($D388,site!$B:$F,5,0))),IF($C388=\"\",\"\",IF(VLOOKUP($E388,site!$B:$F,4,0)=\"\",\"-\",VLOOKUP($E388,site!$B:$F,4,0))))","v":""},{"$f":"IFERROR(IF($C388=\"\",\"\",IF(VLOOKUP($D388,site!$B:$G,6,0)=\"\",\"-\",VLOOKUP($D388,site!$B:$G,6,0))),IF($C388=\"\",\"\",IF(VLOOKUP($E388,site!$B:$G,5,0)=\"\",\"-\",VLOOKUP($E388,site!$B:$G,5,0))))","v":""}]
[null,null,null,null,null,null,null,null,null,null,null,null,null,null,null,null,null,null,{"$f":"IFERROR(IF(C389=\"\",\"\",IF(VLOOKUP(D389,site!$B:$D,3,0)=\"\",\"-\",VLOOKUP(D389,site!$B:$D,3,0))),IF(C389=\"\",\"\",IF(VLOOKUP(E389,site!$C:$D,2,0)=\"\",\"-\",VLOOKUP(E389,site!$C:$D,2,0))))","v":""},{"$f":"IFERROR(IF($C389=\"\",\"\",IF(VLOOKUP($D389,site!$B:$F,4,0)=\"\",\"-\",VLOOKUP($D389,site!$B:$F,4,0))),IF($C389=\"\",\"\",IF(VLOOKUP($E389,site!$B:$F,3,0)=\"\",\"-\",VLOOKUP($E389,site!$B:$F,3,0))))","v":""},{"$f":"IFERROR(IF($C389=\"\",\"\",IF(VLOOKUP($D389,site!$B:$F,5,0)=\"\",\"-\",VLOOKUP($D389,site!$B:$F,5,0))),IF($C389=\"\",\"\",IF(VLOOKUP($E389,site!$B:$F,4,0)=\"\",\"-\",VLOOKUP($E389,site!$B:$F,4,0))))","v":""},{"$f":"IFERROR(IF($C389=\"\",\"\",IF(VLOOKUP($D389,site!$B:$G,6,0)=\"\",\"-\",VLOOKUP($D389,site!$B:$G,6,0))),IF($C389=\"\",\"\",IF(VLOOKUP($E389,site!$B:$G,5,0)=\"\",\"-\",VLOOKUP($E389,site!$B:$G,5,0))))","v":""}]
[null,null,null,null,null,null,null,null,null,null,null,null,null,null,null,null,null,null,{"$f":"IFERROR(IF(C390=\"\",\"\",IF(VLOOKUP(D390,site!$B:$D,3,0)=\"\",\"-\",VLOOKUP(D390,site!$B:$D,3,0))),IF(C390=\"\",\"\",IF(VLOOKUP(E390,site!$C:$D,2,0)=\"\",\"-\",VLOOKUP(E390,site!$C:$D,2,0))))","v":""},{"$f":"IFERROR(IF($C390=\"\",\"\",IF(VLOOKUP($D390,site!$B:$F,4,0)=\"\",\"-\",VLOOKUP($D390,site!$B:$F,4,0))),IF($C390=\"\",\"\",IF(VLOOKUP($E390,site!$B:$F,3,0)=\"\",\"-\",VLOOKUP($E390,site!$B:$F,3,0))))","v":""},{"$f":"IFERROR(IF($C390=\"\",\"\",IF(VLOOKUP($D390,site!$B:$F,5,0)=\"\",\"-\",VLOOKUP($D390,site!$B:$F,5,0))),IF($C390=\"\",\"\",IF(VLOOKUP($E390,site!$B:$F,4,0)=\"\",\"-\",VLOOKUP($E390,site!$B:$F,4,0))))","v":""},{"$f":"IFERROR(IF($C390=\"\",\"\",IF(VLOOKUP($D390,site!$B:$G,6,0)=\"\",\"-\",VLOOKUP($D390,site!$B:$G,6,0))),IF($C390=\"\",\"\",IF(VLOOKUP($E390,site!$B:$G,5,0)=\"\",\"-\",VLOOKUP($E390,site!$B:$G,5,0))))","v":""}]
[null,null,null,null,null,null,null,null,null,null,null,null,null,null,null,null,null,null,{"$f":"IFERROR(IF(C391=\"\",\"\",IF(VLOOKUP(D391,site!$B:$D,3,0)=\"\",\"-\",VLOOKUP(D391,site!$B:$D,3,0))),IF(C391=\"\",\"\",IF(VLOOKUP(E391,site!$C:$D,2,0)=\"\",\"-\",VLOOKUP(E391,site!$C:$D,2,0))))","v":""},{"$f":"IFERROR(IF($C391=\"\",\"\",IF(VLOOKUP($D391,site!$B:$F,4,0)=\"\",\"-\",VLOOKUP($D391,site!$B:$F,4,0))),IF($C391=\"\",\"\",IF(VLOOKUP($E391,site!$B:$F,3,0)=\"\",\"-\",VLOOKUP($E391,site!$B:$F,3,0))))","v":""},{"$f":"IFERROR(IF($C391=\"\",\"\",IF(VLOOKUP($D391,site!$B:$F,5,0)=\"\",\"-\",VLOOKUP($D391,site!$B:$F,5,0))),IF($C391=\"\",\"\",IF(VLOOKUP($E391,site!$B:$F,4,0)=\"\",\"-\",VLOOKUP($E391,site!$B:$F,4,0))))","v":""},{"$f":"IFERROR(IF($C391=\"\",\"\",IF(VLOOKUP($D391,site!$B:$G,6,0)=\"\",\"-\",VLOOKUP($D391,site!$B:$G,6,0))),IF($C391=\"\",\"\",IF(VLOOKUP($E391,site!$B:$G,5,0)=\"\",\"-\",VLOOKUP($E391,site!$B:$G,5,0))))","v":""}]
[null,null,null,null,null,null,null,null,null,null,null,null,null,null,null,null,null,null,{"$f":"IFERROR(IF(C392=\"\",\"\",IF(VLOOKUP(D392,site!$B:$D,3,0)=\"\",\"-\",VLOOKUP(D392,site!$B:$D,3,0))),IF(C392=\"\",\"\",IF(VLOOKUP(E392,site!$C:$D,2,0)=\"\",\"-\",VLOOKUP(E392,site!$C:$D,2,0))))","v":""},{"$f":"IFERROR(IF($C392=\"\",\"\",IF(VLOOKUP($D392,site!$B:$F,4,0)=\"\",\"-\",VLOOKUP($D392,site!$B:$F,4,0))),IF($C392=\"\",\"\",IF(VLOOKUP($E392,site!$B:$F,3,0)=\"\",\"-\",VLOOKUP($E392,site!$B:$F,3,0))))","v":""},{"$f":"IFERROR(IF($C392=\"\",\"\",IF(VLOOKUP($D392,site!$B:$F,5,0)=\"\",\"-\",VLOOKUP($D392,site!$B:$F,5,0))),IF($C392=\"\",\"\",IF(VLOOKUP($E392,site!$B:$F,4,0)=\"\",\"-\",VLOOKUP($E392,site!$B:$F,4,0))))","v":""},{"$f":"IFERROR(IF($C392=\"\",\"\",IF(VLOOKUP($D392,site!$B:$G,6,0)=\"\",\"-\",VLOOKUP($D392,site!$B:$G,6,0))),IF($C392=\"\",\"\",IF(VLOOKUP($E392,site!$B:$G,5,0)=\"\",\"-\",VLOOKUP($E392,site!$B:$G,5,0))))","v":""}]
[null,null,null,null,null,null,null,null,null,null,null,null,null,null,null,null,null,null,{"$f":"IFERROR(IF(C393=\"\",\"\",IF(VLOOKUP(D393,site!$B:$D,3,0)=\"\",\"-\",VLOOKUP(D393,site!$B:$D,3,0))),IF(C393=\"\",\"\",IF(VLOOKUP(E393,site!$C:$D,2,0)=\"\",\"-\",VLOOKUP(E393,site!$C:$D,2,0))))","v":""},{"$f":"IFERROR(IF($C393=\"\",\"\",IF(VLOOKUP($D393,site!$B:$F,4,0)=\"\",\"-\",VLOOKUP($D393,site!$B:$F,4,0))),IF($C393=\"\",\"\",IF(VLOOKUP($E393,site!$B:$F,3,0)=\"\",\"-\",VLOOKUP($E393,site!$B:$F,3,0))))","v":""},{"$f":"IFERROR(IF($C393=\"\",\"\",IF(VLOOKUP($D393,site!$B:$F,5,0)=\"\",\"-\",VLOOKUP($D393,site!$B:$F,5,0))),IF($C393=\"\",\"\",IF(VLOOKUP($E393,site!$B:$F,4,0)=\"\",\"-\",VLOOKUP($E393,site!$B:$F,4,0))))","v":""},{"$f":"IFERROR(IF($C393=\"\",\"\",IF(VLOOKUP($D393,site!$B:$G,6,0)=\"\",\"-\",VLOOKUP($D393,site!$B:$G,6,0))),IF($C393=\"\",\"\",IF(VLOOKUP($E393,site!$B:$G,5,0)=\"\",\"-\",VLOOKUP($E393,site!$B:$G,5,0))))","v":""}]
[null,null,null,null,null,null,null,null,null,null,null,null,null,null,null,null,null,null,{"$f":"IFERROR(IF(C394=\"\",\"\",IF(VLOOKUP(D394,site!$B:$D,3,0)=\"\",\"-\",VLOOKUP(D394,site!$B:$D,3,0))),IF(C394=\"\",\"\",IF(VLOOKUP(E394,site!$C:$D,2,0)=\"\",\"-\",VLOOKUP(E394,site!$C:$D,2,0))))","v":""},{"$f":"IFERROR(IF($C394=\"\",\"\",IF(VLOOKUP($D394,site!$B:$F,4,0)=\"\",\"-\",VLOOKUP($D394,site!$B:$F,4,0))),IF($C394=\"\",\"\",IF(VLOOKUP($E394,site!$B:$F,3,0)=\"\",\"-\",VLOOKUP($E394,site!$B:$F,3,0))))","v":""},{"$f":"IFERROR(IF($C394=\"\",\"\",IF(VLOOKUP($D394,site!$B:$F,5,0)=\"\",\"-\",VLOOKUP($D394,site!$B:$F,5,0))),IF($C394=\"\",\"\",IF(VLOOKUP($E394,site!$B:$F,4,0)=\"\",\"-\",VLOOKUP($E394,site!$B:$F,4,0))))","v":""},{"$f":"IFERROR(IF($C394=\"\",\"\",IF(VLOOKUP($D394,site!$B:$G,6,0)=\"\",\"-\",VLOOKUP($D394,site!$B:$G,6,0))),IF($C394=\"\",\"\",IF(VLOOKUP($E394,site!$B:$G,5,0)=\"\",\"-\",VLOOKUP($E394,site!$B:$G,5,0))))","v":""}]
[null,null,null,null,null,null,null,null,null,null,null,null,null,null,null,null,null,null,{"$f":"IFERROR(IF(C395=\"\",\"\",IF(VLOOKUP(D395,site!$B:$D,3,0)=\"\",\"-\",VLOOKUP(D395,site!$B:$D,3,0))),IF(C395=\"\",\"\",IF(VLOOKUP(E395,site!$C:$D,2,0)=\"\",\"-\",VLOOKUP(E395,site!$C:$D,2,0))))","v":""},{"$f":"IFERROR(IF($C395=\"\",\"\",IF(VLOOKUP($D395,site!$B:$F,4,0)=\"\",\"-\",VLOOKUP($D395,site!$B:$F,4,0))),IF($C395=\"\",\"\",IF(VLOOKUP($E395,site!$B:$F,3,0)=\"\",\"-\",VLOOKUP($E395,site!$B:$F,3,0))))","v":""},{"$f":"IFERROR(IF($C395=\"\",\"\",IF(VLOOKUP($D395,site!$B:$F,5,0)=\"\",\"-\",VLOOKUP($D395,site!$B:$F,5,0))),IF($C395=\"\",\"\",IF(VLOOKUP($E395,site!$B:$F,4,0)=\"\",\"-\",VLOOKUP($E395,site!$B:$F,4,0))))","v":""},{"$f":"IFERROR(IF($C395=\"\",\"\",IF(VLOOKUP($D395,site!$B:$G,6,0)=\"\",\"-\",VLOOKUP($D395,site!$B:$G,6,0))),IF($C395=\"\",\"\",IF(VLOOKUP($E395,site!$B:$G,5,0)=\"\",\"-\",VLOOKUP($E395,site!$B:$G,5,0))))","v":""}]
[null,null,null,null,null,null,null,null,null,null,null,null,null,null,null,null,null,null,{"$f":"IFERROR(IF(C396=\"\",\"\",IF(VLOOKUP(D396,site!$B:$D,3,0)=\"\",\"-\",VLOOKUP(D396,site!$B:$D,3,0))),IF(C396=\"\",\"\",IF(VLOOKUP(E396,site!$C:$D,2,0)=\"\",\"-\",VLOOKUP(E396,site!$C:$D,2,0))))","v":""},{"$f":"IFERROR(IF($C396=\"\",\"\",IF(VLOOKUP($D396,site!$B:$F,4,0)=\"\",\"-\",VLOOKUP($D396,site!$B:$F,4,0))),IF($C396=\"\",\"\",IF(VLOOKUP($E396,site!$B:$F,3,0)=\"\",\"-\",VLOOKUP($E396,site!$B:$F,3,0))))","v":""},{"$f":"IFERROR(IF($C396=\"\",\"\",IF(VLOOKUP($D396,site!$B:$F,5,0)=\"\",\"-\",VLOOKUP($D396,site!$B:$F,5,0))),IF($C396=\"\",\"\",IF(VLOOKUP($E396,site!$B:$F,4,0)=\"\",\"-\",VLOOKUP($E396,site!$B:$F,4,0))))","v":""},{"$f":"IFERROR(IF($C396=\"\",\"\",IF(VLOOKUP($D396,site!$B:$G,6,0)=\"\",\"-\",VLOOKUP($D396,site!$B:$G,6,0))),IF($C396=\"\",\"\",IF(VLOOKUP($E396,site!$B:$G,5,0)=\"\",\"-\",VLOOKUP($E396,site!$B:$G,5,0))))","v":""}]
[null,null,null,null,null,null,null,null,null,null,null,null,null,null,null,null,null,null,{"$f":"IFERROR(IF(C397=\"\",\"\",IF(VLOOKUP(D397,site!$B:$D,3,0)=\"\",\"-\",VLOOKUP(D397,site!$B:$D,3,0))),IF(C397=\"\",\"\",IF(VLOOKUP(E397,site!$C:$D,2,0)=\"\",\"-\",VLOOKUP(E397,site!$C:$D,2,0))))","v":""},{"$f":"IFERROR(IF($C397=\"\",\"\",IF(VLOOKUP($D397,site!$B:$F,4,0)=\"\",\"-\",VLOOKUP($D397,site!$B:$F,4,0))),IF($C397=\"\",\"\",IF(VLOOKUP($E397,site!$B:$F,3,0)=\"\",\"-\",VLOOKUP($E397,site!$B:$F,3,0))))","v":""},{"$f":"IFERROR(IF($C397=\"\",\"\",IF(VLOOKUP($D397,site!$B:$F,5,0)=\"\",\"-\",VLOOKUP($D397,site!$B:$F,5,0))),IF($C397=\"\",\"\",IF(VLOOKUP($E397,site!$B:$F,4,0)=\"\",\"-\",VLOOKUP($E397,site!$B:$F,4,0))))","v":""},{"$f":"IFERROR(IF($C397=\"\",\"\",IF(VLOOKUP($D397,site!$B:$G,6,0)=\"\",\"-\",VLOOKUP($D397,site!$B:$G,6,0))),IF($C397=\"\",\"\",IF(VLOOKUP($E397,site!$B:$G,5,0)=\"\",\"-\",VLOOKUP($E397,site!$B:$G,5,0))))","v":""}]
[null,null,null,null,null,null,null,null,null,null,null,null,null,null,null,null,null,null,{"$f":"IFERROR(IF(C398=\"\",\"\",IF(VLOOKUP(D398,site!$B:$D,3,0)=\"\",\"-\",VLOOKUP(D398,site!$B:$D,3,0))),IF(C398=\"\",\"\",IF(VLOOKUP(E398,site!$C:$D,2,0)=\"\",\"-\",VLOOKUP(E398,site!$C:$D,2,0))))","v":""},{"$f":"IFERROR(IF($C398=\"\",\"\",IF(VLOOKUP($D398,site!$B:$F,4,0)=\"\",\"-\",VLOOKUP($D398,site!$B:$F,4,0))),IF($C398=\"\",\"\",IF(VLOOKUP($E398,site!$B:$F,3,0)=\"\",\"-\",VLOOKUP($E398,site!$B:$F,3,0))))","v":""},{"$f":"IFERROR(IF($C398=\"\",\"\",IF(VLOOKUP($D398,site!$B:$F,5,0)=\"\",\"-\",VLOOKUP($D398,site!$B:$F,5,0))),IF($C398=\"\",\"\",IF(VLOOKUP($E398,site!$B:$F,4,0)=\"\",\"-\",VLOOKUP($E398,site!$B:$F,4,0))))","v":""},{"$f":"IFERROR(IF($C398=\"\",\"\",IF(VLOOKUP($D398,site!$B:$G,6,0)=\"\",\"-\",VLOOKUP($D398,site!$B:$G,6,0))),IF($C398=\"\",\"\",IF(VLOOKUP($E398,site!$B:$G,5,0)=\"\",\"-\",VLOOKUP($E398,site!$B:$G,5,0))))","v":""}]
[null,null,null,null,null,null,null,null,null,null,null,null,null,null,null,null,null,null,{"$f":"IFERROR(IF(C399=\"\",\"\",IF(VLOOKUP(D399,site!$B:$D,3,0)=\"\",\"-\",VLOOKUP(D399,site!$B:$D,3,0))),IF(C399=\"\",\"\",IF(VLOOKUP(E399,site!$C:$D,2,0)=\"\",\"-\",VLOOKUP(E399,site!$C:$D,2,0))))","v":""},{"$f":"IFERROR(IF($C399=\"\",\"\",IF(VLOOKUP($D399,site!$B:$F,4,0)=\"\",\"-\",VLOOKUP($D399,site!$B:$F,4,0))),IF($C399=\"\",\"\",IF(VLOOKUP($E399,site!$B:$F,3,0)=\"\",\"-\",VLOOKUP($E399,site!$B:$F,3,0))))","v":""},{"$f":"IFERROR(IF($C399=\"\",\"\",IF(VLOOKUP($D399,site!$B:$F,5,0)=\"\",\"-\",VLOOKUP($D399,site!$B:$F,5,0))),IF($C399=\"\",\"\",IF(VLOOKUP($E399,site!$B:$F,4,0)=\"\",\"-\",VLOOKUP($E399,site!$B:$F,4,0))))","v":""},{"$f":"IFERROR(IF($C399=\"\",\"\",IF(VLOOKUP($D399,site!$B:$G,6,0)=\"\",\"-\",VLOOKUP($D399,site!$B:$G,6,0))),IF($C399=\"\",\"\",IF(VLOOKUP($E399,site!$B:$G,5,0)=\"\",\"-\",VLOOKUP($E399,site!$B:$G,5,0))))","v":""}]
[null,null,null,null,null,null,null,null,null,null,null,null,null,null,null,null,null,null,{"$f":"IFERROR(IF(C400=\"\",\"\",IF(VLOOKUP(D400,site!$B:$D,3,0)=\"\",\"-\",VLOOKUP(D400,site!$B:$D,3,0))),IF(C400=\"\",\"\",IF(VLOOKUP(E400,site!$C:$D,2,0)=\"\",\"-\",VLOOKUP(E400,site!$C:$D,2,0))))","v":""},{"$f":"IFERROR(IF($C400=\"\",\"\",IF(VLOOKUP($D400,site!$B:$F,4,0)=\"\",\"-\",VLOOKUP($D400,site!$B:$F,4,0))),IF($C400=\"\",\"\",IF(VLOOKUP($E400,site!$B:$F,3,0)=\"\",\"-\",VLOOKUP($E400,site!$B:$F,3,0))))","v":""},{"$f":"IFERROR(IF($C400=\"\",\"\",IF(VLOOKUP($D400,site!$B:$F,5,0)=\"\",\"-\",VLOOKUP($D400,site!$B:$F,5,0))),IF($C400=\"\",\"\",IF(VLOOKUP($E400,site!$B:$F,4,0)=\"\",\"-\",VLOOKUP($E400,site!$B:$F,4,0))))","v":""},{"$f":"IFERROR(IF($C400=\"\",\"\",IF(VLOOKUP($D400,site!$B:$G,6,0)=\"\",\"-\",VLOOKUP($D400,site!$B:$G,6,0))),IF($C400=\"\",\"\",IF(VLOOKUP($E400,site!$B:$G,5,0)=\"\",\"-\",VLOOKUP($E400,site!$B:$G,5,0))))","v":""}]
[null,null,null,null,null,null,null,null,null,null,null,null,null,null,null,null,null,null,{"$f":"IFERROR(IF(C401=\"\",\"\",IF(VLOOKUP(D401,site!$B:$D,3,0)=\"\",\"-\",VLOOKUP(D401,site!$B:$D,3,0))),IF(C401=\"\",\"\",IF(VLOOKUP(E401,site!$C:$D,2,0)=\"\",\"-\",VLOOKUP(E401,site!$C:$D,2,0))))","v":""},{"$f":"IFERROR(IF($C401=\"\",\"\",IF(VLOOKUP($D401,site!$B:$F,4,0)=\"\",\"-\",VLOOKUP($D401,site!$B:$F,4,0))),IF($C401=\"\",\"\",IF(VLOOKUP($E401,site!$B:$F,3,0)=\"\",\"-\",VLOOKUP($E401,site!$B:$F,3,0))))","v":""},{"$f":"IFERROR(IF($C401=\"\",\"\",IF(VLOOKUP($D401,site!$B:$F,5,0)=\"\",\"-\",VLOOKUP($D401,site!$B:$F,5,0))),IF($C401=\"\",\"\",IF(VLOOKUP($E401,site!$B:$F,4,0)=\"\",\"-\",VLOOKUP($E401,site!$B:$F,4,0))))","v":""},{"$f":"IFERROR(IF($C401=\"\",\"\",IF(VLOOKUP($D401,site!$B:$G,6,0)=\"\",\"-\",VLOOKUP($D401,site!$B:$G,6,0))),IF($C401=\"\",\"\",IF(VLOOKUP($E401,site!$B:$G,5,0)=\"\",\"-\",VLOOKUP($E401,site!$B:$G,5,0))))","v":""}]
[null,null,null,null,null,null,null,null,null,null,null,null,null,null,null,null,null,null,{"$f":"IFERROR(IF(C402=\"\",\"\",IF(VLOOKUP(D402,site!$B:$D,3,0)=\"\",\"-\",VLOOKUP(D402,site!$B:$D,3,0))),IF(C402=\"\",\"\",IF(VLOOKUP(E402,site!$C:$D,2,0)=\"\",\"-\",VLOOKUP(E402,site!$C:$D,2,0))))","v":""},{"$f":"IFERROR(IF($C402=\"\",\"\",IF(VLOOKUP($D402,site!$B:$F,4,0)=\"\",\"-\",VLOOKUP($D402,site!$B:$F,4,0))),IF($C402=\"\",\"\",IF(VLOOKUP($E402,site!$B:$F,3,0)=\"\",\"-\",VLOOKUP($E402,site!$B:$F,3,0))))","v":""},{"$f":"IFERROR(IF($C402=\"\",\"\",IF(VLOOKUP($D402,site!$B:$F,5,0)=\"\",\"-\",VLOOKUP($D402,site!$B:$F,5,0))),IF($C402=\"\",\"\",IF(VLOOKUP($E402,site!$B:$F,4,0)=\"\",\"-\",VLOOKUP($E402,site!$B:$F,4,0))))","v":""},{"$f":"IFERROR(IF($C402=\"\",\"\",IF(VLOOKUP($D402,site!$B:$G,6,0)=\"\",\"-\",VLOOKUP($D402,site!$B:$G,6,0))),IF($C402=\"\",\"\",IF(VLOOKUP($E402,site!$B:$G,5,0)=\"\",\"-\",VLOOKUP($E402,site!$B:$G,5,0))))","v":""}]
[null,null,null,null,null,null,null,null,null,null,null,null,null,null,null,null,null,null,{"$f":"IFERROR(IF(C403=\"\",\"\",IF(VLOOKUP(D403,site!$B:$D,3,0)=\"\",\"-\",VLOOKUP(D403,site!$B:$D,3,0))),IF(C403=\"\",\"\",IF(VLOOKUP(E403,site!$C:$D,2,0)=\"\",\"-\",VLOOKUP(E403,site!$C:$D,2,0))))","v":""},{"$f":"IFERROR(IF($C403=\"\",\"\",IF(VLOOKUP($D403,site!$B:$F,4,0)=\"\",\"-\",VLOOKUP($D403,site!$B:$F,4,0))),IF($C403=\"\",\"\",IF(VLOOKUP($E403,site!$B:$F,3,0)=\"\",\"-\",VLOOKUP($E403,site!$B:$F,3,0))))","v":""},{"$f":"IFERROR(IF($C403=\"\",\"\",IF(VLOOKUP($D403,site!$B:$F,5,0)=\"\",\"-\",VLOOKUP($D403,site!$B:$F,5,0))),IF($C403=\"\",\"\",IF(VLOOKUP($E403,site!$B:$F,4,0)=\"\",\"-\",VLOOKUP($E403,site!$B:$F,4,0))))","v":""},{"$f":"IFERROR(IF($C403=\"\",\"\",IF(VLOOKUP($D403,site!$B:$G,6,0)=\"\",\"-\",VLOOKUP($D403,site!$B:$G,6,0))),IF($C403=\"\",\"\",IF(VLOOKUP($E403,site!$B:$G,5,0)=\"\",\"-\",VLOOKUP($E403,site!$B:$G,5,0))))","v":""}]
[null,null,null,null,null,null,null,null,null,null,null,null,null,null,null,null,null,null,{"$f":"IFERROR(IF(C404=\"\",\"\",IF(VLOOKUP(D404,site!$B:$D,3,0)=\"\",\"-\",VLOOKUP(D404,site!$B:$D,3,0))),IF(C404=\"\",\"\",IF(VLOOKUP(E404,site!$C:$D,2,0)=\"\",\"-\",VLOOKUP(E404,site!$C:$D,2,0))))","v":""},{"$f":"IFERROR(IF($C404=\"\",\"\",IF(VLOOKUP($D404,site!$B:$F,4,0)=\"\",\"-\",VLOOKUP($D404,site!$B:$F,4,0))),IF($C404=\"\",\"\",IF(VLOOKUP($E404,site!$B:$F,3,0)=\"\",\"-\",VLOOKUP($E404,site!$B:$F,3,0))))","v":""},{"$f":"IFERROR(IF($C404=\"\",\"\",IF(VLOOKUP($D404,site!$B:$F,5,0)=\"\",\"-\",VLOOKUP($D404,site!$B:$F,5,0))),IF($C404=\"\",\"\",IF(VLOOKUP($E404,site!$B:$F,4,0)=\"\",\"-\",VLOOKUP($E404,site!$B:$F,4,0))))","v":""},{"$f":"IFERROR(IF($C404=\"\",\"\",IF(VLOOKUP($D404,site!$B:$G,6,0)=\"\",\"-\",VLOOKUP($D404,site!$B:$G,6,0))),IF($C404=\"\",\"\",IF(VLOOKUP($E404,site!$B:$G,5,0)=\"\",\"-\",VLOOKUP($E404,site!$B:$G,5,0))))","v":""}]
[null,null,null,null,null,null,null,null,null,null,null,null,null,null,null,null,null,null,{"$f":"IFERROR(IF(C405=\"\",\"\",IF(VLOOKUP(D405,site!$B:$D,3,0)=\"\",\"-\",VLOOKUP(D405,site!$B:$D,3,0))),IF(C405=\"\",\"\",IF(VLOOKUP(E405,site!$C:$D,2,0)=\"\",\"-\",VLOOKUP(E405,site!$C:$D,2,0))))","v":""},{"$f":"IFERROR(IF($C405=\"\",\"\",IF(VLOOKUP($D405,site!$B:$F,4,0)=\"\",\"-\",VLOOKUP($D405,site!$B:$F,4,0))),IF($C405=\"\",\"\",IF(VLOOKUP($E405,site!$B:$F,3,0)=\"\",\"-\",VLOOKUP($E405,site!$B:$F,3,0))))","v":""},{"$f":"IFERROR(IF($C405=\"\",\"\",IF(VLOOKUP($D405,site!$B:$F,5,0)=\"\",\"-\",VLOOKUP($D405,site!$B:$F,5,0))),IF($C405=\"\",\"\",IF(VLOOKUP($E405,site!$B:$F,4,0)=\"\",\"-\",VLOOKUP($E405,site!$B:$F,4,0))))","v":""},{"$f":"IFERROR(IF($C405=\"\",\"\",IF(VLOOKUP($D405,site!$B:$G,6,0)=\"\",\"-\",VLOOKUP($D405,site!$B:$G,6,0))),IF($C405=\"\",\"\",IF(VLOOKUP($E405,site!$B:$G,5,0)=\"\",\"-\",VLOOKUP($E405,site!$B:$G,5,0))))","v":""}]
[null,null,null,null,null,null,null,null,null,null,null,null,null,null,null,null,null,null,{"$f":"IFERROR(IF(C406=\"\",\"\",IF(VLOOKUP(D406,site!$B:$D,3,0)=\"\",\"-\",VLOOKUP(D406,site!$B:$D,3,0))),IF(C406=\"\",\"\",IF(VLOOKUP(E406,site!$C:$D,2,0)=\"\",\"-\",VLOOKUP(E406,site!$C:$D,2,0))))","v":""},{"$f":"IFERROR(IF($C406=\"\",\"\",IF(VLOOKUP($D406,site!$B:$F,4,0)=\"\",\"-\",VLOOKUP($D406,site!$B:$F,4,0))),IF($C406=\"\",\"\",IF(VLOOKUP($E406,site!$B:$F,3,0)=\"\",\"-\",VLOOKUP($E406,site!$B:$F,3,0))))","v":""},{"$f":"IFERROR(IF($C406=\"\",\"\",IF(VLOOKUP($D406,site!$B:$F,5,0)=\"\",\"-\",VLOOKUP($D406,site!$B:$F,5,0))),IF($C406=\"\",\"\",IF(VLOOKUP($E406,site!$B:$F,4,0)=\"\",\"-\",VLOOKUP($E406,site!$B:$F,4,0))))","v":""},{"$f":"IFERROR(IF($C406=\"\",\"\",IF(VLOOKUP($D406,site!$B:$G,6,0)=\"\",\"-\",VLOOKUP($D406,site!$B:$G,6,0))),IF($C406=\"\",\"\",IF(VLOOKUP($E406,site!$B:$G,5,0)=\"\",\"-\",VLOOKUP($E406,site!$B:$G,5,0))))","v":""}]
[null,null,null,null,null,null,null,null,null,null,null,null,null,null,null,null,null,null,{"$f":"IFERROR(IF(C407=\"\",\"\",IF(VLOOKUP(D407,site!$B:$D,3,0)=\"\",\"-\",VLOOKUP(D407,site!$B:$D,3,0))),IF(C407=\"\",\"\",IF(VLOOKUP(E407,site!$C:$D,2,0)=\"\",\"-\",VLOOKUP(E407,site!$C:$D,2,0))))","v":""},{"$f":"IFERROR(IF($C407=\"\",\"\",IF(VLOOKUP($D407,site!$B:$F,4,0)=\"\",\"-\",VLOOKUP($D407,site!$B:$F,4,0))),IF($C407=\"\",\"\",IF(VLOOKUP($E407,site!$B:$F,3,0)=\"\",\"-\",VLOOKUP($E407,site!$B:$F,3,0))))","v":""},{"$f":"IFERROR(IF($C407=\"\",\"\",IF(VLOOKUP($D407,site!$B:$F,5,0)=\"\",\"-\",VLOOKUP($D407,site!$B:$F,5,0))),IF($C407=\"\",\"\",IF(VLOOKUP($E407,site!$B:$F,4,0)=\"\",\"-\",VLOOKUP($E407,site!$B:$F,4,0))))","v":""},{"$f":"IFERROR(IF($C407=\"\",\"\",IF(VLOOKUP($D407,site!$B:$G,6,0)=\"\",\"-\",VLOOKUP($D407,site!$B:$G,6,0))),IF($C407=\"\",\"\",IF(VLOOKUP($E407,site!$B:$G,5,0)=\"\",\"-\",VLOOKUP($E407,site!$B:$G,5,0))))","v":""}]
[null,null,null,null,null,null,null,null,null,null,null,null,null,null,null,null,null,null,{"$f":"IFERROR(IF(C408=\"\",\"\",IF(VLOOKUP(D408,site!$B:$D,3,0)=\"\",\"-\",VLOOKUP(D408,site!$B:$D,3,0))),IF(C408=\"\",\"\",IF(VLOOKUP(E408,site!$C:$D,2,0)=\"\",\"-\",VLOOKUP(E408,site!$C:$D,2,0))))","v":""},{"$f":"IFERROR(IF($C408=\"\",\"\",IF(VLOOKUP($D408,site!$B:$F,4,0)=\"\",\"-\",VLOOKUP($D408,site!$B:$F,4,0))),IF($C408=\"\",\"\",IF(VLOOKUP($E408,site!$B:$F,3,0)=\"\",\"-\",VLOOKUP($E408,site!$B:$F,3,0))))","v":""},{"$f":"IFERROR(IF($C408=\"\",\"\",IF(VLOOKUP($D408,site!$B:$F,5,0)=\"\",\"-\",VLOOKUP($D408,site!$B:$F,5,0))),IF($C408=\"\",\"\",IF(VLOOKUP($E408,site!$B:$F,4,0)=\"\",\"-\",VLOOKUP($E408,site!$B:$F,4,0))))","v":""},{"$f":"IFERROR(IF($C408=\"\",\"\",IF(VLOOKUP($D408,site!$B:$G,6,0)=\"\",\"-\",VLOOKUP($D408,site!$B:$G,6,0))),IF($C408=\"\",\"\",IF(VLOOKUP($E408,site!$B:$G,5,0)=\"\",\"-\",VLOOKUP($E408,site!$B:$G,5,0))))","v":""}]
[null,null,null,null,null,null,null,null,null,null,null,null,null,null,null,null,null,null,{"$f":"IFERROR(IF(C409=\"\",\"\",IF(VLOOKUP(D409,site!$B:$D,3,0)=\"\",\"-\",VLOOKUP(D409,site!$B:$D,3,0))),IF(C409=\"\",\"\",IF(VLOOKUP(E409,site!$C:$D,2,0)=\"\",\"-\",VLOOKUP(E409,site!$C:$D,2,0))))","v":""},{"$f":"IFERROR(IF($C409=\"\",\"\",IF(VLOOKUP($D409,site!$B:$F,4,0)=\"\",\"-\",VLOOKUP($D409,site!$B:$F,4,0))),IF($C409=\"\",\"\",IF(VLOOKUP($E409,site!$B:$F,3,0)=\"\",\"-\",VLOOKUP($E409,site!$B:$F,3,0))))","v":""},{"$f":"IFERROR(IF($C409=\"\",\"\",IF(VLOOKUP($D409,site!$B:$F,5,0)=\"\",\"-\",VLOOKUP($D409,site!$B:$F,5,0))),IF($C409=\"\",\"\",IF(VLOOKUP($E409,site!$B:$F,4,0)=\"\",\"-\",VLOOKUP($E409,site!$B:$F,4,0))))","v":""},{"$f":"IFERROR(IF($C409=\"\",\"\",IF(VLOOKUP($D409,site!$B:$G,6,0)=\"\",\"-\",VLOOKUP($D409,site!$B:$G,6,0))),IF($C409=\"\",\"\",IF(VLOOKUP($E409,site!$B:$G,5,0)=\"\",\"-\",VLOOKUP($E409,site!$B:$G,5,0))))","v":""}]
[null,null,null,null,null,null,null,null,null,null,null,null,null,null,null,null,null,null,{"$f":"IFERROR(IF(C410=\"\",\"\",IF(VLOOKUP(D410,site!$B:$D,3,0)=\"\",\"-\",VLOOKUP(D410,site!$B:$D,3,0))),IF(C410=\"\",\"\",IF(VLOOKUP(E410,site!$C:$D,2,0)=\"\",\"-\",VLOOKUP(E410,site!$C:$D,2,0))))","v":""},{"$f":"IFERROR(IF($C410=\"\",\"\",IF(VLOOKUP($D410,site!$B:$F,4,0)=\"\",\"-\",VLOOKUP($D410,site!$B:$F,4,0))),IF($C410=\"\",\"\",IF(VLOOKUP($E410,site!$B:$F,3,0)=\"\",\"-\",VLOOKUP($E410,site!$B:$F,3,0))))","v":""},{"$f":"IFERROR(IF($C410=\"\",\"\",IF(VLOOKUP($D410,site!$B:$F,5,0)=\"\",\"-\",VLOOKUP($D410,site!$B:$F,5,0))),IF($C410=\"\",\"\",IF(VLOOKUP($E410,site!$B:$F,4,0)=\"\",\"-\",VLOOKUP($E410,site!$B:$F,4,0))))","v":""},{"$f":"IFERROR(IF($C410=\"\",\"\",IF(VLOOKUP($D410,site!$B:$G,6,0)=\"\",\"-\",VLOOKUP($D410,site!$B:$G,6,0))),IF($C410=\"\",\"\",IF(VLOOKUP($E410,site!$B:$G,5,0)=\"\",\"-\",VLOOKUP($E410,site!$B:$G,5,0))))","v":""}]
[null,null,null,null,null,null,null,null,null,null,null,null,null,null,null,null,null,null,{"$f":"IFERROR(IF(C411=\"\",\"\",IF(VLOOKUP(D411,site!$B:$D,3,0)=\"\",\"-\",VLOOKUP(D411,site!$B:$D,3,0))),IF(C411=\"\",\"\",IF(VLOOKUP(E411,site!$C:$D,2,0)=\"\",\"-\",VLOOKUP(E411,site!$C:$D,2,0))))","v":""},{"$f":"IFERROR(IF($C411=\"\",\"\",IF(VLOOKUP($D411,site!$B:$F,4,0)=\"\",\"-\",VLOOKUP($D411,site!$B:$F,4,0))),IF($C411=\"\",\"\",IF(VLOOKUP($E411,site!$B:$F,3,0)=\"\",\"-\",VLOOKUP($E411,site!$B:$F,3,0))))","v":""},{"$f":"IFERROR(IF($C411=\"\",\"\",IF(VLOOKUP($D411,site!$B:$F,5,0)=\"\",\"-\",VLOOKUP($D411,site!$B:$F,5,0))),IF($C411=\"\",\"\",IF(VLOOKUP($E411,site!$B:$F,4,0)=\"\",\"-\",VLOOKUP($E411,site!$B:$F,4,0))))","v":""},{"$f":"IFERROR(IF($C411=\"\",\"\",IF(VLOOKUP($D411,site!$B:$G,6,0)=\"\",\"-\",VLOOKUP($D411,site!$B:$G,6,0))),IF($C411=\"\",\"\",IF(VLOOKUP($E411,site!$B:$G,5,0)=\"\",\"-\",VLOOKUP($E411,site!$B:$G,5,0))))","v":""}]
[null,null,null,null,null,null,null,null,null,null,null,null,null,null,null,null,null,null,{"$f":"IFERROR(IF(C412=\"\",\"\",IF(VLOOKUP(D412,site!$B:$D,3,0)=\"\",\"-\",VLOOKUP(D412,site!$B:$D,3,0))),IF(C412=\"\",\"\",IF(VLOOKUP(E412,site!$C:$D,2,0)=\"\",\"-\",VLOOKUP(E412,site!$C:$D,2,0))))","v":""},{"$f":"IFERROR(IF($C412=\"\",\"\",IF(VLOOKUP($D412,site!$B:$F,4,0)=\"\",\"-\",VLOOKUP($D412,site!$B:$F,4,0))),IF($C412=\"\",\"\",IF(VLOOKUP($E412,site!$B:$F,3,0)=\"\",\"-\",VLOOKUP($E412,site!$B:$F,3,0))))","v":""},{"$f":"IFERROR(IF($C412=\"\",\"\",IF(VLOOKUP($D412,site!$B:$F,5,0)=\"\",\"-\",VLOOKUP($D412,site!$B:$F,5,0))),IF($C412=\"\",\"\",IF(VLOOKUP($E412,site!$B:$F,4,0)=\"\",\"-\",VLOOKUP($E412,site!$B:$F,4,0))))","v":""},{"$f":"IFERROR(IF($C412=\"\",\"\",IF(VLOOKUP($D412,site!$B:$G,6,0)=\"\",\"-\",VLOOKUP($D412,site!$B:$G,6,0))),IF($C412=\"\",\"\",IF(VLOOKUP($E412,site!$B:$G,5,0)=\"\",\"-\",VLOOKUP($E412,site!$B:$G,5,0))))","v":""}]
[null,null,null,null,null,null,null,null,null,null,null,null,null,null,null,null,null,null,{"$f":"IFERROR(IF(C413=\"\",\"\",IF(VLOOKUP(D413,site!$B:$D,3,0)=\"\",\"-\",VLOOKUP(D413,site!$B:$D,3,0))),IF(C413=\"\",\"\",IF(VLOOKUP(E413,site!$C:$D,2,0)=\"\",\"-\",VLOOKUP(E413,site!$C:$D,2,0))))","v":""},{"$f":"IFERROR(IF($C413=\"\",\"\",IF(VLOOKUP($D413,site!$B:$F,4,0)=\"\",\"-\",VLOOKUP($D413,site!$B:$F,4,0))),IF($C413=\"\",\"\",IF(VLOOKUP($E413,site!$B:$F,3,0)=\"\",\"-\",VLOOKUP($E413,site!$B:$F,3,0))))","v":""},{"$f":"IFERROR(IF($C413=\"\",\"\",IF(VLOOKUP($D413,site!$B:$F,5,0)=\"\",\"-\",VLOOKUP($D413,site!$B:$F,5,0))),IF($C413=\"\",\"\",IF(VLOOKUP($E413,site!$B:$F,4,0)=\"\",\"-\",VLOOKUP($E413,site!$B:$F,4,0))))","v":""},{"$f":"IFERROR(IF($C413=\"\",\"\",IF(VLOOKUP($D413,site!$B:$G,6,0)=\"\",\"-\",VLOOKUP($D413,site!$B:$G,6,0))),IF($C413=\"\",\"\",IF(VLOOKUP($E413,site!$B:$G,5,0)=\"\",\"-\",VLOOKUP($E413,site!$B:$G,5,0))))","v":""}]
[null,null,null,null,null,null,null,null,null,null,null,null,null,null,null,null,null,null,{"$f":"IFERROR(IF(C414=\"\",\"\",IF(VLOOKUP(D414,site!$B:$D,3,0)=\"\",\"-\",VLOOKUP(D414,site!$B:$D,3,0))),IF(C414=\"\",\"\",IF(VLOOKUP(E414,site!$C:$D,2,0)=\"\",\"-\",VLOOKUP(E414,site!$C:$D,2,0))))","v":""},{"$f":"IFERROR(IF($C414=\"\",\"\",IF(VLOOKUP($D414,site!$B:$F,4,0)=\"\",\"-\",VLOOKUP($D414,site!$B:$F,4,0))),IF($C414=\"\",\"\",IF(VLOOKUP($E414,site!$B:$F,3,0)=\"\",\"-\",VLOOKUP($E414,site!$B:$F,3,0))))","v":""},{"$f":"IFERROR(IF($C414=\"\",\"\",IF(VLOOKUP($D414,site!$B:$F,5,0)=\"\",\"-\",VLOOKUP($D414,site!$B:$F,5,0))),IF($C414=\"\",\"\",IF(VLOOKUP($E414,site!$B:$F,4,0)=\"\",\"-\",VLOOKUP($E414,site!$B:$F,4,0))))","v":""},{"$f":"IFERROR(IF($C414=\"\",\"\",IF(VLOOKUP($D414,site!$B:$G,6,0)=\"\",\"-\",VLOOKUP($D414,site!$B:$G,6,0))),IF($C414=\"\",\"\",IF(VLOOKUP($E414,site!$B:$G,5,0)=\"\",\"-\",VLOOKUP($E414,site!$B:$G,5,0))))","v":""}]
[null,null,null,null,null,null,null,null,null,null,null,null,null,null,null,null,null,null,{"$f":"IFERROR(IF(C415=\"\",\"\",IF(VLOOKUP(D415,site!$B:$D,3,0)=\"\",\"-\",VLOOKUP(D415,site!$B:$D,3,0))),IF(C415=\"\",\"\",IF(VLOOKUP(E415,site!$C:$D,2,0)=\"\",\"-\",VLOOKUP(E415,site!$C:$D,2,0))))","v":""},{"$f":"IFERROR(IF($C415=\"\",\"\",IF(VLOOKUP($D415,site!$B:$F,4,0)=\"\",\"-\",VLOOKUP($D415,site!$B:$F,4,0))),IF($C415=\"\",\"\",IF(VLOOKUP($E415,site!$B:$F,3,0)=\"\",\"-\",VLOOKUP($E415,site!$B:$F,3,0))))","v":""},{"$f":"IFERROR(IF($C415=\"\",\"\",IF(VLOOKUP($D415,site!$B:$F,5,0)=\"\",\"-\",VLOOKUP($D415,site!$B:$F,5,0))),IF($C415=\"\",\"\",IF(VLOOKUP($E415,site!$B:$F,4,0)=\"\",\"-\",VLOOKUP($E415,site!$B:$F,4,0))))","v":""},{"$f":"IFERROR(IF($C415=\"\",\"\",IF(VLOOKUP($D415,site!$B:$G,6,0)=\"\",\"-\",VLOOKUP($D415,site!$B:$G,6,0))),IF($C415=\"\",\"\",IF(VLOOKUP($E415,site!$B:$G,5,0)=\"\",\"-\",VLOOKUP($E415,site!$B:$G,5,0))))","v":""}]
[null,null,null,null,null,null,null,null,null,null,null,null,null,null,null,null,null,null,{"$f":"IFERROR(IF(C416=\"\",\"\",IF(VLOOKUP(D416,site!$B:$D,3,0)=\"\",\"-\",VLOOKUP(D416,site!$B:$D,3,0))),IF(C416=\"\",\"\",IF(VLOOKUP(E416,site!$C:$D,2,0)=\"\",\"-\",VLOOKUP(E416,site!$C:$D,2,0))))","v":""},{"$f":"IFERROR(IF($C416=\"\",\"\",IF(VLOOKUP($D416,site!$B:$F,4,0)=\"\",\"-\",VLOOKUP($D416,site!$B:$F,4,0))),IF($C416=\"\",\"\",IF(VLOOKUP($E416,site!$B:$F,3,0)=\"\",\"-\",VLOOKUP($E416,site!$B:$F,3,0))))","v":""},{"$f":"IFERROR(IF($C416=\"\",\"\",IF(VLOOKUP($D416,site!$B:$F,5,0)=\"\",\"-\",VLOOKUP($D416,site!$B:$F,5,0))),IF($C416=\"\",\"\",IF(VLOOKUP($E416,site!$B:$F,4,0)=\"\",\"-\",VLOOKUP($E416,site!$B:$F,4,0))))","v":""},{"$f":"IFERROR(IF($C416=\"\",\"\",IF(VLOOKUP($D416,site!$B:$G,6,0)=\"\",\"-\",VLOOKUP($D416,site!$B:$G,6,0))),IF($C416=\"\",\"\",IF(VLOOKUP($E416,site!$B:$G,5,0)=\"\",\"-\",VLOOKUP($E416,site!$B:$G,5,0))))","v":""}]
[null,null,null,null,null,null,null,null,null,null,null,null,null,null,null,null,null,null,{"$f":"IFERROR(IF(C417=\"\",\"\",IF(VLOOKUP(D417,site!$B:$D,3,0)=\"\",\"-\",VLOOKUP(D417,site!$B:$D,3,0))),IF(C417=\"\",\"\",IF(VLOOKUP(E417,site!$C:$D,2,0)=\"\",\"-\",VLOOKUP(E417,site!$C:$D,2,0))))","v":""},{"$f":"IFERROR(IF($C417=\"\",\"\",IF(VLOOKUP($D417,site!$B:$F,4,0)=\"\",\"-\",VLOOKUP($D417,site!$B:$F,4,0))),IF($C417=\"\",\"\",IF(VLOOKUP($E417,site!$B:$F,3,0)=\"\",\"-\",VLOOKUP($E417,site!$B:$F,3,0))))","v":""},{"$f":"IFERROR(IF($C417=\"\",\"\",IF(VLOOKUP($D417,site!$B:$F,5,0)=\"\",\"-\",VLOOKUP($D417,site!$B:$F,5,0))),IF($C417=\"\",\"\",IF(VLOOKUP($E417,site!$B:$F,4,0)=\"\",\"-\",VLOOKUP($E417,site!$B:$F,4,0))))","v":""},{"$f":"IFERROR(IF($C417=\"\",\"\",IF(VLOOKUP($D417,site!$B:$G,6,0)=\"\",\"-\",VLOOKUP($D417,site!$B:$G,6,0))),IF($C417=\"\",\"\",IF(VLOOKUP($E417,site!$B:$G,5,0)=\"\",\"-\",VLOOKUP($E417,site!$B:$G,5,0))))","v":""}]
[null,null,null,null,null,null,null,null,null,null,null,null,null,null,null,null,null,null,{"$f":"IFERROR(IF(C418=\"\",\"\",IF(VLOOKUP(D418,site!$B:$D,3,0)=\"\",\"-\",VLOOKUP(D418,site!$B:$D,3,0))),IF(C418=\"\",\"\",IF(VLOOKUP(E418,site!$C:$D,2,0)=\"\",\"-\",VLOOKUP(E418,site!$C:$D,2,0))))","v":""},{"$f":"IFERROR(IF($C418=\"\",\"\",IF(VLOOKUP($D418,site!$B:$F,4,0)=\"\",\"-\",VLOOKUP($D418,site!$B:$F,4,0))),IF($C418=\"\",\"\",IF(VLOOKUP($E418,site!$B:$F,3,0)=\"\",\"-\",VLOOKUP($E418,site!$B:$F,3,0))))","v":""},{"$f":"IFERROR(IF($C418=\"\",\"\",IF(VLOOKUP($D418,site!$B:$F,5,0)=\"\",\"-\",VLOOKUP($D418,site!$B:$F,5,0))),IF($C418=\"\",\"\",IF(VLOOKUP($E418,site!$B:$F,4,0)=\"\",\"-\",VLOOKUP($E418,site!$B:$F,4,0))))","v":""},{"$f":"IFERROR(IF($C418=\"\",\"\",IF(VLOOKUP($D418,site!$B:$G,6,0)=\"\",\"-\",VLOOKUP($D418,site!$B:$G,6,0))),IF($C418=\"\",\"\",IF(VLOOKUP($E418,site!$B:$G,5,0)=\"\",\"-\",VLOOKUP($E418,site!$B:$G,5,0))))","v":""}]
[null,null,null,null,null,null,null,null,null,null,null,null,null,null,null,null,null,null,{"$f":"IFERROR(IF(C419=\"\",\"\",IF(VLOOKUP(D419,site!$B:$D,3,0)=\"\",\"-\",VLOOKUP(D419,site!$B:$D,3,0))),IF(C419=\"\",\"\",IF(VLOOKUP(E419,site!$C:$D,2,0)=\"\",\"-\",VLOOKUP(E419,site!$C:$D,2,0))))","v":""},{"$f":"IFERROR(IF($C419=\"\",\"\",IF(VLOOKUP($D419,site!$B:$F,4,0)=\"\",\"-\",VLOOKUP($D419,site!$B:$F,4,0))),IF($C419=\"\",\"\",IF(VLOOKUP($E419,site!$B:$F,3,0)=\"\",\"-\",VLOOKUP($E419,site!$B:$F,3,0))))","v":""},{"$f":"IFERROR(IF($C419=\"\",\"\",IF(VLOOKUP($D419,site!$B:$F,5,0)=\"\",\"-\",VLOOKUP($D419,site!$B:$F,5,0))),IF($C419=\"\",\"\",IF(VLOOKUP($E419,site!$B:$F,4,0)=\"\",\"-\",VLOOKUP($E419,site!$B:$F,4,0))))","v":""},{"$f":"IFERROR(IF($C419=\"\",\"\",IF(VLOOKUP($D419,site!$B:$G,6,0)=\"\",\"-\",VLOOKUP($D419,site!$B:$G,6,0))),IF($C419=\"\",\"\",IF(VLOOKUP($E419,site!$B:$G,5,0)=\"\",\"-\",VLOOKUP($E419,site!$B:$G,5,0))))","v":""}]
[null,null,null,null,null,null,null,null,null,null,null,null,null,null,null,null,null,null,{"$f":"IFERROR(IF(C420=\"\",\"\",IF(VLOOKUP(D420,site!$B:$D,3,0)=\"\",\"-\",VLOOKUP(D420,site!$B:$D,3,0))),IF(C420=\"\",\"\",IF(VLOOKUP(E420,site!$C:$D,2,0)=\"\",\"-\",VLOOKUP(E420,site!$C:$D,2,0))))","v":""},{"$f":"IFERROR(IF($C420=\"\",\"\",IF(VLOOKUP($D420,site!$B:$F,4,0)=\"\",\"-\",VLOOKUP($D420,site!$B:$F,4,0))),IF($C420=\"\",\"\",IF(VLOOKUP($E420,site!$B:$F,3,0)=\"\",\"-\",VLOOKUP($E420,site!$B:$F,3,0))))","v":""},{"$f":"IFERROR(IF($C420=\"\",\"\",IF(VLOOKUP($D420,site!$B:$F,5,0)=\"\",\"-\",VLOOKUP($D420,site!$B:$F,5,0))),IF($C420=\"\",\"\",IF(VLOOKUP($E420,site!$B:$F,4,0)=\"\",\"-\",VLOOKUP($E420,site!$B:$F,4,0))))","v":""},{"$f":"IFERROR(IF($C420=\"\",\"\",IF(VLOOKUP($D420,site!$B:$G,6,0)=\"\",\"-\",VLOOKUP($D420,site!$B:$G,6,0))),IF($C420=\"\",\"\",IF(VLOOKUP($E420,site!$B:$G,5,0)=\"\",\"-\",VLOOKUP($E420,site!$B:$G,5,0))))","v":""}]
[null,null,null,null,null,null,null,null,null,null,null,null,null,null,null,null,null,null,{"$f":"IFERROR(IF(C421=\"\",\"\",IF(VLOOKUP(D421,site!$B:$D,3,0)=\"\",\"-\",VLOOKUP(D421,site!$B:$D,3,0))),IF(C421=\"\",\"\",IF(VLOOKUP(E421,site!$C:$D,2,0)=\"\",\"-\",VLOOKUP(E421,site!$C:$D,2,0))))","v":""},{"$f":"IFERROR(IF($C421=\"\",\"\",IF(VLOOKUP($D421,site!$B:$F,4,0)=\"\",\"-\",VLOOKUP($D421,site!$B:$F,4,0))),IF($C421=\"\",\"\",IF(VLOOKUP($E421,site!$B:$F,3,0)=\"\",\"-\",VLOOKUP($E421,site!$B:$F,3,0))))","v":""},{"$f":"IFERROR(IF($C421=\"\",\"\",IF(VLOOKUP($D421,site!$B:$F,5,0)=\"\",\"-\",VLOOKUP($D421,site!$B:$F,5,0))),IF($C421=\"\",\"\",IF(VLOOKUP($E421,site!$B:$F,4,0)=\"\",\"-\",VLOOKUP($E421,site!$B:$F,4,0))))","v":""},{"$f":"IFERROR(IF($C421=\"\",\"\",IF(VLOOKUP($D421,site!$B:$G,6,0)=\"\",\"-\",VLOOKUP($D421,site!$B:$G,6,0))),IF($C421=\"\",\"\",IF(VLOOKUP($E421,site!$B:$G,5,0)=\"\",\"-\",VLOOKUP($E421,site!$B:$G,5,0))))","v":""}]
[null,null,null,null,null,null,null,null,null,null,null,null,null,null,null,null,null,null,{"$f":"IFERROR(IF(C422=\"\",\"\",IF(VLOOKUP(D422,site!$B:$D,3,0)=\"\",\"-\",VLOOKUP(D422,site!$B:$D,3,0))),IF(C422=\"\",\"\",IF(VLOOKUP(E422,site!$C:$D,2,0)=\"\",\"-\",VLOOKUP(E422,site!$C:$D,2,0))))","v":""},{"$f":"IFERROR(IF($C422=\"\",\"\",IF(VLOOKUP($D422,site!$B:$F,4,0)=\"\",\"-\",VLOOKUP($D422,site!$B:$F,4,0))),IF($C422=\"\",\"\",IF(VLOOKUP($E422,site!$B:$F,3,0)=\"\",\"-\",VLOOKUP($E422,site!$B:$F,3,0))))","v":""},{"$f":"IFERROR(IF($C422=\"\",\"\",IF(VLOOKUP($D422,site!$B:$F,5,0)=\"\",\"-\",VLOOKUP($D422,site!$B:$F,5,0))),IF($C422=\"\",\"\",IF(VLOOKUP($E422,site!$B:$F,4,0)=\"\",\"-\",VLOOKUP($E422,site!$B:$F,4,0))))","v":""},{"$f":"IFERROR(IF($C422=\"\",\"\",IF(VLOOKUP($D422,site!$B:$G,6,0)=\"\",\"-\",VLOOKUP($D422,site!$B:$G,6,0))),IF($C422=\"\",\"\",IF(VLOOKUP($E422,site!$B:$G,5,0)=\"\",\"-\",VLOOKUP($E422,site!$B:$G,5,0))))","v":""}]
[null,null,null,null,null,null,null,null,null,null,null,null,null,null,null,null,null,null,{"$f":"IFERROR(IF(C423=\"\",\"\",IF(VLOOKUP(D423,site!$B:$D,3,0)=\"\",\"-\",VLOOKUP(D423,site!$B:$D,3,0))),IF(C423=\"\",\"\",IF(VLOOKUP(E423,site!$C:$D,2,0)=\"\",\"-\",VLOOKUP(E423,site!$C:$D,2,0))))","v":""},{"$f":"IFERROR(IF($C423=\"\",\"\",IF(VLOOKUP($D423,site!$B:$F,4,0)=\"\",\"-\",VLOOKUP($D423,site!$B:$F,4,0))),IF($C423=\"\",\"\",IF(VLOOKUP($E423,site!$B:$F,3,0)=\"\",\"-\",VLOOKUP($E423,site!$B:$F,3,0))))","v":""},{"$f":"IFERROR(IF($C423=\"\",\"\",IF(VLOOKUP($D423,site!$B:$F,5,0)=\"\",\"-\",VLOOKUP($D423,site!$B:$F,5,0))),IF($C423=\"\",\"\",IF(VLOOKUP($E423,site!$B:$F,4,0)=\"\",\"-\",VLOOKUP($E423,site!$B:$F,4,0))))","v":""},{"$f":"IFERROR(IF($C423=\"\",\"\",IF(VLOOKUP($D423,site!$B:$G,6,0)=\"\",\"-\",VLOOKUP($D423,site!$B:$G,6,0))),IF($C423=\"\",\"\",IF(VLOOKUP($E423,site!$B:$G,5,0)=\"\",\"-\",VLOOKUP($E423,site!$B:$G,5,0))))","v":""}]
[null,null,null,null,null,null,null,null,null,null,null,null,null,null,null,null,null,null,{"$f":"IFERROR(IF(C424=\"\",\"\",IF(VLOOKUP(D424,site!$B:$D,3,0)=\"\",\"-\",VLOOKUP(D424,site!$B:$D,3,0))),IF(C424=\"\",\"\",IF(VLOOKUP(E424,site!$C:$D,2,0)=\"\",\"-\",VLOOKUP(E424,site!$C:$D,2,0))))","v":""},{"$f":"IFERROR(IF($C424=\"\",\"\",IF(VLOOKUP($D424,site!$B:$F,4,0)=\"\",\"-\",VLOOKUP($D424,site!$B:$F,4,0))),IF($C424=\"\",\"\",IF(VLOOKUP($E424,site!$B:$F,3,0)=\"\",\"-\",VLOOKUP($E424,site!$B:$F,3,0))))","v":""},{"$f":"IFERROR(IF($C424=\"\",\"\",IF(VLOOKUP($D424,site!$B:$F,5,0)=\"\",\"-\",VLOOKUP($D424,site!$B:$F,5,0))),IF($C424=\"\",\"\",IF(VLOOKUP($E424,site!$B:$F,4,0)=\"\",\"-\",VLOOKUP($E424,site!$B:$F,4,0))))","v":""},{"$f":"IFERROR(IF($C424=\"\",\"\",IF(VLOOKUP($D424,site!$B:$G,6,0)=\"\",\"-\",VLOOKUP($D424,site!$B:$G,6,0))),IF($C424=\"\",\"\",IF(VLOOKUP($E424,site!$B:$G,5,0)=\"\",\"-\",VLOOKUP($E424,site!$B:$G,5,0))))","v":""}]
[null,null,null,null,null,null,null,null,null,null,null,null,null,null,null,null,null,null,{"$f":"IFERROR(IF(C425=\"\",\"\",IF(VLOOKUP(D425,site!$B:$D,3,0)=\"\",\"-\",VLOOKUP(D425,site!$B:$D,3,0))),IF(C425=\"\",\"\",IF(VLOOKUP(E425,site!$C:$D,2,0)=\"\",\"-\",VLOOKUP(E425,site!$C:$D,2,0))))","v":""},{"$f":"IFERROR(IF($C425=\"\",\"\",IF(VLOOKUP($D425,site!$B:$F,4,0)=\"\",\"-\",VLOOKUP($D425,site!$B:$F,4,0))),IF($C425=\"\",\"\",IF(VLOOKUP($E425,site!$B:$F,3,0)=\"\",\"-\",VLOOKUP($E425,site!$B:$F,3,0))))","v":""},{"$f":"IFERROR(IF($C425=\"\",\"\",IF(VLOOKUP($D425,site!$B:$F,5,0)=\"\",\"-\",VLOOKUP($D425,site!$B:$F,5,0))),IF($C425=\"\",\"\",IF(VLOOKUP($E425,site!$B:$F,4,0)=\"\",\"-\",VLOOKUP($E425,site!$B:$F,4,0))))","v":""},{"$f":"IFERROR(IF($C425=\"\",\"\",IF(VLOOKUP($D425,site!$B:$G,6,0)=\"\",\"-\",VLOOKUP($D425,site!$B:$G,6,0))),IF($C425=\"\",\"\",IF(VLOOKUP($E425,site!$B:$G,5,0)=\"\",\"-\",VLOOKUP($E425,site!$B:$G,5,0))))","v":""}]
[null,null,null,null,null,null,null,null,null,null,null,null,null,null,null,null,null,null,{"$f":"IFERROR(IF(C426=\"\",\"\",IF(VLOOKUP(D426,site!$B:$D,3,0)=\"\",\"-\",VLOOKUP(D426,site!$B:$D,3,0))),IF(C426=\"\",\"\",IF(VLOOKUP(E426,site!$C:$D,2,0)=\"\",\"-\",VLOOKUP(E426,site!$C:$D,2,0))))","v":""},{"$f":"IFERROR(IF($C426=\"\",\"\",IF(VLOOKUP($D426,site!$B:$F,4,0)=\"\",\"-\",VLOOKUP($D426,site!$B:$F,4,0))),IF($C426=\"\",\"\",IF(VLOOKUP($E426,site!$B:$F,3,0)=\"\",\"-\",VLOOKUP($E426,site!$B:$F,3,0))))","v":""},{"$f":"IFERROR(IF($C426=\"\",\"\",IF(VLOOKUP($D426,site!$B:$F,5,0)=\"\",\"-\",VLOOKUP($D426,site!$B:$F,5,0))),IF($C426=\"\",\"\",IF(VLOOKUP($E426,site!$B:$F,4,0)=\"\",\"-\",VLOOKUP($E426,site!$B:$F,4,0))))","v":""},{"$f":"IFERROR(IF($C426=\"\",\"\",IF(VLOOKUP($D426,site!$B:$G,6,0)=\"\",\"-\",VLOOKUP($D426,site!$B:$G,6,0))),IF($C426=\"\",\"\",IF(VLOOKUP($E426,site!$B:$G,5,0)=\"\",\"-\",VLOOKUP($E426,site!$B:$G,5,0))))","v":""}]
[null,null,null,null,null,null,null,null,null,null,null,null,null,null,null,null,null,null,{"$f":"IFERROR(IF(C427=\"\",\"\",IF(VLOOKUP(D427,site!$B:$D,3,0)=\"\",\"-\",VLOOKUP(D427,site!$B:$D,3,0))),IF(C427=\"\",\"\",IF(VLOOKUP(E427,site!$C:$D,2,0)=\"\",\"-\",VLOOKUP(E427,site!$C:$D,2,0))))","v":""},{"$f":"IFERROR(IF($C427=\"\",\"\",IF(VLOOKUP($D427,site!$B:$F,4,0)=\"\",\"-\",VLOOKUP($D427,site!$B:$F,4,0))),IF($C427=\"\",\"\",IF(VLOOKUP($E427,site!$B:$F,3,0)=\"\",\"-\",VLOOKUP($E427,site!$B:$F,3,0))))","v":""},{"$f":"IFERROR(IF($C427=\"\",\"\",IF(VLOOKUP($D427,site!$B:$F,5,0)=\"\",\"-\",VLOOKUP($D427,site!$B:$F,5,0))),IF($C427=\"\",\"\",IF(VLOOKUP($E427,site!$B:$F,4,0)=\"\",\"-\",VLOOKUP($E427,site!$B:$F,4,0))))","v":""},{"$f":"IFERROR(IF($C427=\"\",\"\",IF(VLOOKUP($D427,site!$B:$G,6,0)=\"\",\"-\",VLOOKUP($D427,site!$B:$G,6,0))),IF($C427=\"\",\"\",IF(VLOOKUP($E427,site!$B:$G,5,0)=\"\",\"-\",VLOOKUP($E427,site!$B:$G,5,0))))","v":""}]
[null,null,null,null,null,null,null,null,null,null,null,null,null,null,null,null,null,null,{"$f":"IFERROR(IF(C428=\"\",\"\",IF(VLOOKUP(D428,site!$B:$D,3,0)=\"\",\"-\",VLOOKUP(D428,site!$B:$D,3,0))),IF(C428=\"\",\"\",IF(VLOOKUP(E428,site!$C:$D,2,0)=\"\",\"-\",VLOOKUP(E428,site!$C:$D,2,0))))","v":""},{"$f":"IFERROR(IF($C428=\"\",\"\",IF(VLOOKUP($D428,site!$B:$F,4,0)=\"\",\"-\",VLOOKUP($D428,site!$B:$F,4,0))),IF($C428=\"\",\"\",IF(VLOOKUP($E428,site!$B:$F,3,0)=\"\",\"-\",VLOOKUP($E428,site!$B:$F,3,0))))","v":""},{"$f":"IFERROR(IF($C428=\"\",\"\",IF(VLOOKUP($D428,site!$B:$F,5,0)=\"\",\"-\",VLOOKUP($D428,site!$B:$F,5,0))),IF($C428=\"\",\"\",IF(VLOOKUP($E428,site!$B:$F,4,0)=\"\",\"-\",VLOOKUP($E428,site!$B:$F,4,0))))","v":""},{"$f":"IFERROR(IF($C428=\"\",\"\",IF(VLOOKUP($D428,site!$B:$G,6,0)=\"\",\"-\",VLOOKUP($D428,site!$B:$G,6,0))),IF($C428=\"\",\"\",IF(VLOOKUP($E428,site!$B:$G,5,0)=\"\",\"-\",VLOOKUP($E428,site!$B:$G,5,0))))","v":""}]
[null,null,null,null,null,null,null,null,null,null,null,null,null,null,null,null,null,null,{"$f":"IFERROR(IF(C429=\"\",\"\",IF(VLOOKUP(D429,site!$B:$D,3,0)=\"\",\"-\",VLOOKUP(D429,site!$B:$D,3,0))),IF(C429=\"\",\"\",IF(VLOOKUP(E429,site!$C:$D,2,0)=\"\",\"-\",VLOOKUP(E429,site!$C:$D,2,0))))","v":""},{"$f":"IFERROR(IF($C429=\"\",\"\",IF(VLOOKUP($D429,site!$B:$F,4,0)=\"\",\"-\",VLOOKUP($D429,site!$B:$F,4,0))),IF($C429=\"\",\"\",IF(VLOOKUP($E429,site!$B:$F,3,0)=\"\",\"-\",VLOOKUP($E429,site!$B:$F,3,0))))","v":""},{"$f":"IFERROR(IF($C429=\"\",\"\",IF(VLOOKUP($D429,site!$B:$F,5,0)=\"\",\"-\",VLOOKUP($D429,site!$B:$F,5,0))),IF($C429=\"\",\"\",IF(VLOOKUP($E429,site!$B:$F,4,0)=\"\",\"-\",VLOOKUP($E429,site!$B:$F,4,0))))","v":""},{"$f":"IFERROR(IF($C429=\"\",\"\",IF(VLOOKUP($D429,site!$B:$G,6,0)=\"\",\"-\",VLOOKUP($D429,site!$B:$G,6,0))),IF($C429=\"\",\"\",IF(VLOOKUP($E429,site!$B:$G,5,0)=\"\",\"-\",VLOOKUP($E429,site!$B:$G,5,0))))","v":""}]
[null,null,null,null,null,null,null,null,null,null,null,null,null,null,null,null,null,null,{"$f":"IFERROR(IF(C430=\"\",\"\",IF(VLOOKUP(D430,site!$B:$D,3,0)=\"\",\"-\",VLOOKUP(D430,site!$B:$D,3,0))),IF(C430=\"\",\"\",IF(VLOOKUP(E430,site!$C:$D,2,0)=\"\",\"-\",VLOOKUP(E430,site!$C:$D,2,0))))","v":""},{"$f":"IFERROR(IF($C430=\"\",\"\",IF(VLOOKUP($D430,site!$B:$F,4,0)=\"\",\"-\",VLOOKUP($D430,site!$B:$F,4,0))),IF($C430=\"\",\"\",IF(VLOOKUP($E430,site!$B:$F,3,0)=\"\",\"-\",VLOOKUP($E430,site!$B:$F,3,0))))","v":""},{"$f":"IFERROR(IF($C430=\"\",\"\",IF(VLOOKUP($D430,site!$B:$F,5,0)=\"\",\"-\",VLOOKUP($D430,site!$B:$F,5,0))),IF($C430=\"\",\"\",IF(VLOOKUP($E430,site!$B:$F,4,0)=\"\",\"-\",VLOOKUP($E430,site!$B:$F,4,0))))","v":""},{"$f":"IFERROR(IF($C430=\"\",\"\",IF(VLOOKUP($D430,site!$B:$G,6,0)=\"\",\"-\",VLOOKUP($D430,site!$B:$G,6,0))),IF($C430=\"\",\"\",IF(VLOOKUP($E430,site!$B:$G,5,0)=\"\",\"-\",VLOOKUP($E430,site!$B:$G,5,0))))","v":""}]
[null,null,null,null,null,null,null,null,null,null,null,null,null,null,null,null,null,null,{"$f":"IFERROR(IF(C431=\"\",\"\",IF(VLOOKUP(D431,site!$B:$D,3,0)=\"\",\"-\",VLOOKUP(D431,site!$B:$D,3,0))),IF(C431=\"\",\"\",IF(VLOOKUP(E431,site!$C:$D,2,0)=\"\",\"-\",VLOOKUP(E431,site!$C:$D,2,0))))","v":""},{"$f":"IFERROR(IF($C431=\"\",\"\",IF(VLOOKUP($D431,site!$B:$F,4,0)=\"\",\"-\",VLOOKUP($D431,site!$B:$F,4,0))),IF($C431=\"\",\"\",IF(VLOOKUP($E431,site!$B:$F,3,0)=\"\",\"-\",VLOOKUP($E431,site!$B:$F,3,0))))","v":""},{"$f":"IFERROR(IF($C431=\"\",\"\",IF(VLOOKUP($D431,site!$B:$F,5,0)=\"\",\"-\",VLOOKUP($D431,site!$B:$F,5,0))),IF($C431=\"\",\"\",IF(VLOOKUP($E431,site!$B:$F,4,0)=\"\",\"-\",VLOOKUP($E431,site!$B:$F,4,0))))","v":""},{"$f":"IFERROR(IF($C431=\"\",\"\",IF(VLOOKUP($D431,site!$B:$G,6,0)=\"\",\"-\",VLOOKUP($D431,site!$B:$G,6,0))),IF($C431=\"\",\"\",IF(VLOOKUP($E431,site!$B:$G,5,0)=\"\",\"-\",VLOOKUP($E431,site!$B:$G,5,0))))","v":""}]
[null,null,null,null,null,null,null,null,null,null,null,null,null,null,null,null,null,null,{"$f":"IFERROR(IF(C432=\"\",\"\",IF(VLOOKUP(D432,site!$B:$D,3,0)=\"\",\"-\",VLOOKUP(D432,site!$B:$D,3,0))),IF(C432=\"\",\"\",IF(VLOOKUP(E432,site!$C:$D,2,0)=\"\",\"-\",VLOOKUP(E432,site!$C:$D,2,0))))","v":""},{"$f":"IFERROR(IF($C432=\"\",\"\",IF(VLOOKUP($D432,site!$B:$F,4,0)=\"\",\"-\",VLOOKUP($D432,site!$B:$F,4,0))),IF($C432=\"\",\"\",IF(VLOOKUP($E432,site!$B:$F,3,0)=\"\",\"-\",VLOOKUP($E432,site!$B:$F,3,0))))","v":""},{"$f":"IFERROR(IF($C432=\"\",\"\",IF(VLOOKUP($D432,site!$B:$F,5,0)=\"\",\"-\",VLOOKUP($D432,site!$B:$F,5,0))),IF($C432=\"\",\"\",IF(VLOOKUP($E432,site!$B:$F,4,0)=\"\",\"-\",VLOOKUP($E432,site!$B:$F,4,0))))","v":""},{"$f":"IFERROR(IF($C432=\"\",\"\",IF(VLOOKUP($D432,site!$B:$G,6,0)=\"\",\"-\",VLOOKUP($D432,site!$B:$G,6,0))),IF($C432=\"\",\"\",IF(VLOOKUP($E432,site!$B:$G,5,0)=\"\",\"-\",VLOOKUP($E432,site!$B:$G,5,0))))","v":""}]
[null,null,null,null,null,null,null,null,null,null,null,null,null,null,null,null,null,null,{"$f":"IFERROR(IF(C433=\"\",\"\",IF(VLOOKUP(D433,site!$B:$D,3,0)=\"\",\"-\",VLOOKUP(D433,site!$B:$D,3,0))),IF(C433=\"\",\"\",IF(VLOOKUP(E433,site!$C:$D,2,0)=\"\",\"-\",VLOOKUP(E433,site!$C:$D,2,0))))","v":""},{"$f":"IFERROR(IF($C433=\"\",\"\",IF(VLOOKUP($D433,site!$B:$F,4,0)=\"\",\"-\",VLOOKUP($D433,site!$B:$F,4,0))),IF($C433=\"\",\"\",IF(VLOOKUP($E433,site!$B:$F,3,0)=\"\",\"-\",VLOOKUP($E433,site!$B:$F,3,0))))","v":""},{"$f":"IFERROR(IF($C433=\"\",\"\",IF(VLOOKUP($D433,site!$B:$F,5,0)=\"\",\"-\",VLOOKUP($D433,site!$B:$F,5,0))),IF($C433=\"\",\"\",IF(VLOOKUP($E433,site!$B:$F,4,0)=\"\",\"-\",VLOOKUP($E433,site!$B:$F,4,0))))","v":""},{"$f":"IFERROR(IF($C433=\"\",\"\",IF(VLOOKUP($D433,site!$B:$G,6,0)=\"\",\"-\",VLOOKUP($D433,site!$B:$G,6,0))),IF($C433=\"\",\"\",IF(VLOOKUP($E433,site!$B:$G,5,0)=\"\",\"-\",VLOOKUP($E433,site!$B:$G,5,0))))","v":""}]
[null,null,null,null,null,null,null,null,null,null,null,null,null,null,null,null,null,null,{"$f":"IFERROR(IF(C434=\"\",\"\",IF(VLOOKUP(D434,site!$B:$D,3,0)=\"\",\"-\",VLOOKUP(D434,site!$B:$D,3,0))),IF(C434=\"\",\"\",IF(VLOOKUP(E434,site!$C:$D,2,0)=\"\",\"-\",VLOOKUP(E434,site!$C:$D,2,0))))","v":""},{"$f":"IFERROR(IF($C434=\"\",\"\",IF(VLOOKUP($D434,site!$B:$F,4,0)=\"\",\"-\",VLOOKUP($D434,site!$B:$F,4,0))),IF($C434=\"\",\"\",IF(VLOOKUP($E434,site!$B:$F,3,0)=\"\",\"-\",VLOOKUP($E434,site!$B:$F,3,0))))","v":""},{"$f":"IFERROR(IF($C434=\"\",\"\",IF(VLOOKUP($D434,site!$B:$F,5,0)=\"\",\"-\",VLOOKUP($D434,site!$B:$F,5,0))),IF($C434=\"\",\"\",IF(VLOOKUP($E434,site!$B:$F,4,0)=\"\",\"-\",VLOOKUP($E434,site!$B:$F,4,0))))","v":""},{"$f":"IFERROR(IF($C434=\"\",\"\",IF(VLOOKUP($D434,site!$B:$G,6,0)=\"\",\"-\",VLOOKUP($D434,site!$B:$G,6,0))),IF($C434=\"\",\"\",IF(VLOOKUP($E434,site!$B:$G,5,0)=\"\",\"-\",VLOOKUP($E434,site!$B:$G,5,0))))","v":""}]
[null,null,null,null,null,null,null,null,null,null,null,null,null,null,null,null,null,null,{"$f":"IFERROR(IF(C435=\"\",\"\",IF(VLOOKUP(D435,site!$B:$D,3,0)=\"\",\"-\",VLOOKUP(D435,site!$B:$D,3,0))),IF(C435=\"\",\"\",IF(VLOOKUP(E435,site!$C:$D,2,0)=\"\",\"-\",VLOOKUP(E435,site!$C:$D,2,0))))","v":""},{"$f":"IFERROR(IF($C435=\"\",\"\",IF(VLOOKUP($D435,site!$B:$F,4,0)=\"\",\"-\",VLOOKUP($D435,site!$B:$F,4,0))),IF($C435=\"\",\"\",IF(VLOOKUP($E435,site!$B:$F,3,0)=\"\",\"-\",VLOOKUP($E435,site!$B:$F,3,0))))","v":""},{"$f":"IFERROR(IF($C435=\"\",\"\",IF(VLOOKUP($D435,site!$B:$F,5,0)=\"\",\"-\",VLOOKUP($D435,site!$B:$F,5,0))),IF($C435=\"\",\"\",IF(VLOOKUP($E435,site!$B:$F,4,0)=\"\",\"-\",VLOOKUP($E435,site!$B:$F,4,0))))","v":""},{"$f":"IFERROR(IF($C435=\"\",\"\",IF(VLOOKUP($D435,site!$B:$G,6,0)=\"\",\"-\",VLOOKUP($D435,site!$B:$G,6,0))),IF($C435=\"\",\"\",IF(VLOOKUP($E435,site!$B:$G,5,0)=\"\",\"-\",VLOOKUP($E435,site!$B:$G,5,0))))","v":""}]
[null,null,null,null,null,null,null,null,null,null,null,null,null,null,null,null,null,null,{"$f":"IFERROR(IF(C436=\"\",\"\",IF(VLOOKUP(D436,site!$B:$D,3,0)=\"\",\"-\",VLOOKUP(D436,site!$B:$D,3,0))),IF(C436=\"\",\"\",IF(VLOOKUP(E436,site!$C:$D,2,0)=\"\",\"-\",VLOOKUP(E436,site!$C:$D,2,0))))","v":""},{"$f":"IFERROR(IF($C436=\"\",\"\",IF(VLOOKUP($D436,site!$B:$F,4,0)=\"\",\"-\",VLOOKUP($D436,site!$B:$F,4,0))),IF($C436=\"\",\"\",IF(VLOOKUP($E436,site!$B:$F,3,0)=\"\",\"-\",VLOOKUP($E436,site!$B:$F,3,0))))","v":""},{"$f":"IFERROR(IF($C436=\"\",\"\",IF(VLOOKUP($D436,site!$B:$F,5,0)=\"\",\"-\",VLOOKUP($D436,site!$B:$F,5,0))),IF($C436=\"\",\"\",IF(VLOOKUP($E436,site!$B:$F,4,0)=\"\",\"-\",VLOOKUP($E436,site!$B:$F,4,0))))","v":""},{"$f":"IFERROR(IF($C436=\"\",\"\",IF(VLOOKUP($D436,site!$B:$G,6,0)=\"\",\"-\",VLOOKUP($D436,site!$B:$G,6,0))),IF($C436=\"\",\"\",IF(VLOOKUP($E436,site!$B:$G,5,0)=\"\",\"-\",VLOOKUP($E436,site!$B:$G,5,0))))","v":""}]
[null,null,null,null,null,null,null,null,null,null,null,null,null,null,null,null,null,null,{"$f":"IFERROR(IF(C437=\"\",\"\",IF(VLOOKUP(D437,site!$B:$D,3,0)=\"\",\"-\",VLOOKUP(D437,site!$B:$D,3,0))),IF(C437=\"\",\"\",IF(VLOOKUP(E437,site!$C:$D,2,0)=\"\",\"-\",VLOOKUP(E437,site!$C:$D,2,0))))","v":""},{"$f":"IFERROR(IF($C437=\"\",\"\",IF(VLOOKUP($D437,site!$B:$F,4,0)=\"\",\"-\",VLOOKUP($D437,site!$B:$F,4,0))),IF($C437=\"\",\"\",IF(VLOOKUP($E437,site!$B:$F,3,0)=\"\",\"-\",VLOOKUP($E437,site!$B:$F,3,0))))","v":""},{"$f":"IFERROR(IF($C437=\"\",\"\",IF(VLOOKUP($D437,site!$B:$F,5,0)=\"\",\"-\",VLOOKUP($D437,site!$B:$F,5,0))),IF($C437=\"\",\"\",IF(VLOOKUP($E437,site!$B:$F,4,0)=\"\",\"-\",VLOOKUP($E437,site!$B:$F,4,0))))","v":""},{"$f":"IFERROR(IF($C437=\"\",\"\",IF(VLOOKUP($D437,site!$B:$G,6,0)=\"\",\"-\",VLOOKUP($D437,site!$B:$G,6,0))),IF($C437=\"\",\"\",IF(VLOOKUP($E437,site!$B:$G,5,0)=\"\",\"-\",VLOOKUP($E437,site!$B:$G,5,0))))","v":""}]
[null,null,null,null,null,null,null,null,null,null,null,null,null,null,null,null,null,null,{"$f":"IFERROR(IF(C438=\"\",\"\",IF(VLOOKUP(D438,site!$B:$D,3,0)=\"\",\"-\",VLOOKUP(D438,site!$B:$D,3,0))),IF(C438=\"\",\"\",IF(VLOOKUP(E438,site!$C:$D,2,0)=\"\",\"-\",VLOOKUP(E438,site!$C:$D,2,0))))","v":""},{"$f":"IFERROR(IF($C438=\"\",\"\",IF(VLOOKUP($D438,site!$B:$F,4,0)=\"\",\"-\",VLOOKUP($D438,site!$B:$F,4,0))),IF($C438=\"\",\"\",IF(VLOOKUP($E438,site!$B:$F,3,0)=\"\",\"-\",VLOOKUP($E438,site!$B:$F,3,0))))","v":""},{"$f":"IFERROR(IF($C438=\"\",\"\",IF(VLOOKUP($D438,site!$B:$F,5,0)=\"\",\"-\",VLOOKUP($D438,site!$B:$F,5,0))),IF($C438=\"\",\"\",IF(VLOOKUP($E438,site!$B:$F,4,0)=\"\",\"-\",VLOOKUP($E438,site!$B:$F,4,0))))","v":""},{"$f":"IFERROR(IF($C438=\"\",\"\",IF(VLOOKUP($D438,site!$B:$G,6,0)=\"\",\"-\",VLOOKUP($D438,site!$B:$G,6,0))),IF($C438=\"\",\"\",IF(VLOOKUP($E438,site!$B:$G,5,0)=\"\",\"-\",VLOOKUP($E438,site!$B:$G,5,0))))","v":""}]
[null,null,null,null,null,null,null,null,null,null,null,null,null,null,null,null,null,null,{"$f":"IFERROR(IF(C439=\"\",\"\",IF(VLOOKUP(D439,site!$B:$D,3,0)=\"\",\"-\",VLOOKUP(D439,site!$B:$D,3,0))),IF(C439=\"\",\"\",IF(VLOOKUP(E439,site!$C:$D,2,0)=\"\",\"-\",VLOOKUP(E439,site!$C:$D,2,0))))","v":""},{"$f":"IFERROR(IF($C439=\"\",\"\",IF(VLOOKUP($D439,site!$B:$F,4,0)=\"\",\"-\",VLOOKUP($D439,site!$B:$F,4,0))),IF($C439=\"\",\"\",IF(VLOOKUP($E439,site!$B:$F,3,0)=\"\",\"-\",VLOOKUP($E439,site!$B:$F,3,0))))","v":""},{"$f":"IFERROR(IF($C439=\"\",\"\",IF(VLOOKUP($D439,site!$B:$F,5,0)=\"\",\"-\",VLOOKUP($D439,site!$B:$F,5,0))),IF($C439=\"\",\"\",IF(VLOOKUP($E439,site!$B:$F,4,0)=\"\",\"-\",VLOOKUP($E439,site!$B:$F,4,0))))","v":""},{"$f":"IFERROR(IF($C439=\"\",\"\",IF(VLOOKUP($D439,site!$B:$G,6,0)=\"\",\"-\",VLOOKUP($D439,site!$B:$G,6,0))),IF($C439=\"\",\"\",IF(VLOOKUP($E439,site!$B:$G,5,0)=\"\",\"-\",VLOOKUP($E439,site!$B:$G,5,0))))","v":""}]
[null,null,null,null,null,null,null,null,null,null,null,null,null,null,null,null,null,null,{"$f":"IFERROR(IF(C440=\"\",\"\",IF(VLOOKUP(D440,site!$B:$D,3,0)=\"\",\"-\",VLOOKUP(D440,site!$B:$D,3,0))),IF(C440=\"\",\"\",IF(VLOOKUP(E440,site!$C:$D,2,0)=\"\",\"-\",VLOOKUP(E440,site!$C:$D,2,0))))","v":""},{"$f":"IFERROR(IF($C440=\"\",\"\",IF(VLOOKUP($D440,site!$B:$F,4,0)=\"\",\"-\",VLOOKUP($D440,site!$B:$F,4,0))),IF($C440=\"\",\"\",IF(VLOOKUP($E440,site!$B:$F,3,0)=\"\",\"-\",VLOOKUP($E440,site!$B:$F,3,0))))","v":""},{"$f":"IFERROR(IF($C440=\"\",\"\",IF(VLOOKUP($D440,site!$B:$F,5,0)=\"\",\"-\",VLOOKUP($D440,site!$B:$F,5,0))),IF($C440=\"\",\"\",IF(VLOOKUP($E440,site!$B:$F,4,0)=\"\",\"-\",VLOOKUP($E440,site!$B:$F,4,0))))","v":""},{"$f":"IFERROR(IF($C440=\"\",\"\",IF(VLOOKUP($D440,site!$B:$G,6,0)=\"\",\"-\",VLOOKUP($D440,site!$B:$G,6,0))),IF($C440=\"\",\"\",IF(VLOOKUP($E440,site!$B:$G,5,0)=\"\",\"-\",VLOOKUP($E440,site!$B:$G,5,0))))","v":""}]
[null,null,null,null,null,null,null,null,null,null,null,null,null,null,null,null,null,null,{"$f":"IFERROR(IF(C441=\"\",\"\",IF(VLOOKUP(D441,site!$B:$D,3,0)=\"\",\"-\",VLOOKUP(D441,site!$B:$D,3,0))),IF(C441=\"\",\"\",IF(VLOOKUP(E441,site!$C:$D,2,0)=\"\",\"-\",VLOOKUP(E441,site!$C:$D,2,0))))","v":""},{"$f":"IFERROR(IF($C441=\"\",\"\",IF(VLOOKUP($D441,site!$B:$F,4,0)=\"\",\"-\",VLOOKUP($D441,site!$B:$F,4,0))),IF($C441=\"\",\"\",IF(VLOOKUP($E441,site!$B:$F,3,0)=\"\",\"-\",VLOOKUP($E441,site!$B:$F,3,0))))","v":""},{"$f":"IFERROR(IF($C441=\"\",\"\",IF(VLOOKUP($D441,site!$B:$F,5,0)=\"\",\"-\",VLOOKUP($D441,site!$B:$F,5,0))),IF($C441=\"\",\"\",IF(VLOOKUP($E441,site!$B:$F,4,0)=\"\",\"-\",VLOOKUP($E441,site!$B:$F,4,0))))","v":""},{"$f":"IFERROR(IF($C441=\"\",\"\",IF(VLOOKUP($D441,site!$B:$G,6,0)=\"\",\"-\",VLOOKUP($D441,site!$B:$G,6,0))),IF($C441=\"\",\"\",IF(VLOOKUP($E441,site!$B:$G,5,0)=\"\",\"-\",VLOOKUP($E441,site!$B:$G,5,0))))","v":""}]
[null,null,null,null,null,null,null,null,null,null,null,null,null,null,null,null,null,null,{"$f":"IFERROR(IF(C442=\"\",\"\",IF(VLOOKUP(D442,site!$B:$D,3,0)=\"\",\"-\",VLOOKUP(D442,site!$B:$D,3,0))),IF(C442=\"\",\"\",IF(VLOOKUP(E442,site!$C:$D,2,0)=\"\",\"-\",VLOOKUP(E442,site!$C:$D,2,0))))","v":""},{"$f":"IFERROR(IF($C442=\"\",\"\",IF(VLOOKUP($D442,site!$B:$F,4,0)=\"\",\"-\",VLOOKUP($D442,site!$B:$F,4,0))),IF($C442=\"\",\"\",IF(VLOOKUP($E442,site!$B:$F,3,0)=\"\",\"-\",VLOOKUP($E442,site!$B:$F,3,0))))","v":""},{"$f":"IFERROR(IF($C442=\"\",\"\",IF(VLOOKUP($D442,site!$B:$F,5,0)=\"\",\"-\",VLOOKUP($D442,site!$B:$F,5,0))),IF($C442=\"\",\"\",IF(VLOOKUP($E442,site!$B:$F,4,0)=\"\",\"-\",VLOOKUP($E442,site!$B:$F,4,0))))","v":""},{"$f":"IFERROR(IF($C442=\"\",\"\",IF(VLOOKUP($D442,site!$B:$G,6,0)=\"\",\"-\",VLOOKUP($D442,site!$B:$G,6,0))),IF($C442=\"\",\"\",IF(VLOOKUP($E442,site!$B:$G,5,0)=\"\",\"-\",VLOOKUP($E442,site!$B:$G,5,0))))","v":""}]
[null,null,null,null,null,null,null,null,null,null,null,null,null,null,null,null,null,null,{"$f":"IFERROR(IF(C443=\"\",\"\",IF(VLOOKUP(D443,site!$B:$D,3,0)=\"\",\"-\",VLOOKUP(D443,site!$B:$D,3,0))),IF(C443=\"\",\"\",IF(VLOOKUP(E443,site!$C:$D,2,0)=\"\",\"-\",VLOOKUP(E443,site!$C:$D,2,0))))","v":""},{"$f":"IFERROR(IF($C443=\"\",\"\",IF(VLOOKUP($D443,site!$B:$F,4,0)=\"\",\"-\",VLOOKUP($D443,site!$B:$F,4,0))),IF($C443=\"\",\"\",IF(VLOOKUP($E443,site!$B:$F,3,0)=\"\",\"-\",VLOOKUP($E443,site!$B:$F,3,0))))","v":""},{"$f":"IFERROR(IF($C443=\"\",\"\",IF(VLOOKUP($D443,site!$B:$F,5,0)=\"\",\"-\",VLOOKUP($D443,site!$B:$F,5,0))),IF($C443=\"\",\"\",IF(VLOOKUP($E443,site!$B:$F,4,0)=\"\",\"-\",VLOOKUP($E443,site!$B:$F,4,0))))","v":""},{"$f":"IFERROR(IF($C443=\"\",\"\",IF(VLOOKUP($D443,site!$B:$G,6,0)=\"\",\"-\",VLOOKUP($D443,site!$B:$G,6,0))),IF($C443=\"\",\"\",IF(VLOOKUP($E443,site!$B:$G,5,0)=\"\",\"-\",VLOOKUP($E443,site!$B:$G,5,0))))","v":""}]
[null,null,null,null,null,null,null,null,null,null,null,null,null,null,null,null,null,null,{"$f":"IFERROR(IF(C444=\"\",\"\",IF(VLOOKUP(D444,site!$B:$D,3,0)=\"\",\"-\",VLOOKUP(D444,site!$B:$D,3,0))),IF(C444=\"\",\"\",IF(VLOOKUP(E444,site!$C:$D,2,0)=\"\",\"-\",VLOOKUP(E444,site!$C:$D,2,0))))","v":""},{"$f":"IFERROR(IF($C444=\"\",\"\",IF(VLOOKUP($D444,site!$B:$F,4,0)=\"\",\"-\",VLOOKUP($D444,site!$B:$F,4,0))),IF($C444=\"\",\"\",IF(VLOOKUP($E444,site!$B:$F,3,0)=\"\",\"-\",VLOOKUP($E444,site!$B:$F,3,0))))","v":""},{"$f":"IFERROR(IF($C444=\"\",\"\",IF(VLOOKUP($D444,site!$B:$F,5,0)=\"\",\"-\",VLOOKUP($D444,site!$B:$F,5,0))),IF($C444=\"\",\"\",IF(VLOOKUP($E444,site!$B:$F,4,0)=\"\",\"-\",VLOOKUP($E444,site!$B:$F,4,0))))","v":""},{"$f":"IFERROR(IF($C444=\"\",\"\",IF(VLOOKUP($D444,site!$B:$G,6,0)=\"\",\"-\",VLOOKUP($D444,site!$B:$G,6,0))),IF($C444=\"\",\"\",IF(VLOOKUP($E444,site!$B:$G,5,0)=\"\",\"-\",VLOOKUP($E444,site!$B:$G,5,0))))","v":""}]
[null,null,null,null,null,null,null,null,null,null,null,null,null,null,null,null,null,null,{"$f":"IFERROR(IF(C445=\"\",\"\",IF(VLOOKUP(D445,site!$B:$D,3,0)=\"\",\"-\",VLOOKUP(D445,site!$B:$D,3,0))),IF(C445=\"\",\"\",IF(VLOOKUP(E445,site!$C:$D,2,0)=\"\",\"-\",VLOOKUP(E445,site!$C:$D,2,0))))","v":""},{"$f":"IFERROR(IF($C445=\"\",\"\",IF(VLOOKUP($D445,site!$B:$F,4,0)=\"\",\"-\",VLOOKUP($D445,site!$B:$F,4,0))),IF($C445=\"\",\"\",IF(VLOOKUP($E445,site!$B:$F,3,0)=\"\",\"-\",VLOOKUP($E445,site!$B:$F,3,0))))","v":""},{"$f":"IFERROR(IF($C445=\"\",\"\",IF(VLOOKUP($D445,site!$B:$F,5,0)=\"\",\"-\",VLOOKUP($D445,site!$B:$F,5,0))),IF($C445=\"\",\"\",IF(VLOOKUP($E445,site!$B:$F,4,0)=\"\",\"-\",VLOOKUP($E445,site!$B:$F,4,0))))","v":""},{"$f":"IFERROR(IF($C445=\"\",\"\",IF(VLOOKUP($D445,site!$B:$G,6,0)=\"\",\"-\",VLOOKUP($D445,site!$B:$G,6,0))),IF($C445=\"\",\"\",IF(VLOOKUP($E445,site!$B:$G,5,0)=\"\",\"-\",VLOOKUP($E445,site!$B:$G,5,0))))","v":""}]
[null,null,null,null,null,null,null,null,null,null,null,null,null,null,null,null,null,null,{"$f":"IFERROR(IF(C446=\"\",\"\",IF(VLOOKUP(D446,site!$B:$D,3,0)=\"\",\"-\",VLOOKUP(D446,site!$B:$D,3,0))),IF(C446=\"\",\"\",IF(VLOOKUP(E446,site!$C:$D,2,0)=\"\",\"-\",VLOOKUP(E446,site!$C:$D,2,0))))","v":""},{"$f":"IFERROR(IF($C446=\"\",\"\",IF(VLOOKUP($D446,site!$B:$F,4,0)=\"\",\"-\",VLOOKUP($D446,site!$B:$F,4,0))),IF($C446=\"\",\"\",IF(VLOOKUP($E446,site!$B:$F,3,0)=\"\",\"-\",VLOOKUP($E446,site!$B:$F,3,0))))","v":""},{"$f":"IFERROR(IF($C446=\"\",\"\",IF(VLOOKUP($D446,site!$B:$F,5,0)=\"\",\"-\",VLOOKUP($D446,site!$B:$F,5,0))),IF($C446=\"\",\"\",IF(VLOOKUP($E446,site!$B:$F,4,0)=\"\",\"-\",VLOOKUP($E446,site!$B:$F,4,0))))","v":""},{"$f":"IFERROR(IF($C446=\"\",\"\",IF(VLOOKUP($D446,site!$B:$G,6,0)=\"\",\"-\",VLOOKUP($D446,site!$B:$G,6,0))),IF($C446=\"\",\"\",IF(VLOOKUP($E446,site!$B:$G,5,0)=\"\",\"-\",VLOOKUP($E446,site!$B:$G,5,0))))","v":""}]
[null,null,null,null,null,null,null,null,null,null,null,null,null,null,null,null,null,null,{"$f":"IFERROR(IF(C447=\"\",\"\",IF(VLOOKUP(D447,site!$B:$D,3,0)=\"\",\"-\",VLOOKUP(D447,site!$B:$D,3,0))),IF(C447=\"\",\"\",IF(VLOOKUP(E447,site!$C:$D,2,0)=\"\",\"-\",VLOOKUP(E447,site!$C:$D,2,0))))","v":""},{"$f":"IFERROR(IF($C447=\"\",\"\",IF(VLOOKUP($D447,site!$B:$F,4,0)=\"\",\"-\",VLOOKUP($D447,site!$B:$F,4,0))),IF($C447=\"\",\"\",IF(VLOOKUP($E447,site!$B:$F,3,0)=\"\",\"-\",VLOOKUP($E447,site!$B:$F,3,0))))","v":""},{"$f":"IFERROR(IF($C447=\"\",\"\",IF(VLOOKUP($D447,site!$B:$F,5,0)=\"\",\"-\",VLOOKUP($D447,site!$B:$F,5,0))),IF($C447=\"\",\"\",IF(VLOOKUP($E447,site!$B:$F,4,0)=\"\",\"-\",VLOOKUP($E447,site!$B:$F,4,0))))","v":""},{"$f":"IFERROR(IF($C447=\"\",\"\",IF(VLOOKUP($D447,site!$B:$G,6,0)=\"\",\"-\",VLOOKUP($D447,site!$B:$G,6,0))),IF($C447=\"\",\"\",IF(VLOOKUP($E447,site!$B:$G,5,0)=\"\",\"-\",VLOOKUP($E447,site!$B:$G,5,0))))","v":""}]
[null,null,null,null,null,null,null,null,null,null,null,null,null,null,null,null,null,null,{"$f":"IFERROR(IF(C448=\"\",\"\",IF(VLOOKUP(D448,site!$B:$D,3,0)=\"\",\"-\",VLOOKUP(D448,site!$B:$D,3,0))),IF(C448=\"\",\"\",IF(VLOOKUP(E448,site!$C:$D,2,0)=\"\",\"-\",VLOOKUP(E448,site!$C:$D,2,0))))","v":""},{"$f":"IFERROR(IF($C448=\"\",\"\",IF(VLOOKUP($D448,site!$B:$F,4,0)=\"\",\"-\",VLOOKUP($D448,site!$B:$F,4,0))),IF($C448=\"\",\"\",IF(VLOOKUP($E448,site!$B:$F,3,0)=\"\",\"-\",VLOOKUP($E448,site!$B:$F,3,0))))","v":""},{"$f":"IFERROR(IF($C448=\"\",\"\",IF(VLOOKUP($D448,site!$B:$F,5,0)=\"\",\"-\",VLOOKUP($D448,site!$B:$F,5,0))),IF($C448=\"\",\"\",IF(VLOOKUP($E448,site!$B:$F,4,0)=\"\",\"-\",VLOOKUP($E448,site!$B:$F,4,0))))","v":""},{"$f":"IFERROR(IF($C448=\"\",\"\",IF(VLOOKUP($D448,site!$B:$G,6,0)=\"\",\"-\",VLOOKUP($D448,site!$B:$G,6,0))),IF($C448=\"\",\"\",IF(VLOOKUP($E448,site!$B:$G,5,0)=\"\",\"-\",VLOOKUP($E448,site!$B:$G,5,0))))","v":""}]
[null,null,null,null,null,null,null,null,null,null,null,null,null,null,null,null,null,null,{"$f":"IFERROR(IF(C449=\"\",\"\",IF(VLOOKUP(D449,site!$B:$D,3,0)=\"\",\"-\",VLOOKUP(D449,site!$B:$D,3,0))),IF(C449=\"\",\"\",IF(VLOOKUP(E449,site!$C:$D,2,0)=\"\",\"-\",VLOOKUP(E449,site!$C:$D,2,0))))","v":""},{"$f":"IFERROR(IF($C449=\"\",\"\",IF(VLOOKUP($D449,site!$B:$F,4,0)=\"\",\"-\",VLOOKUP($D449,site!$B:$F,4,0))),IF($C449=\"\",\"\",IF(VLOOKUP($E449,site!$B:$F,3,0)=\"\",\"-\",VLOOKUP($E449,site!$B:$F,3,0))))","v":""},{"$f":"IFERROR(IF($C449=\"\",\"\",IF(VLOOKUP($D449,site!$B:$F,5,0)=\"\",\"-\",VLOOKUP($D449,site!$B:$F,5,0))),IF($C449=\"\",\"\",IF(VLOOKUP($E449,site!$B:$F,4,0)=\"\",\"-\",VLOOKUP($E449,site!$B:$F,4,0))))","v":""},{"$f":"IFERROR(IF($C449=\"\",\"\",IF(VLOOKUP($D449,site!$B:$G,6,0)=\"\",\"-\",VLOOKUP($D449,site!$B:$G,6,0))),IF($C449=\"\",\"\",IF(VLOOKUP($E449,site!$B:$G,5,0)=\"\",\"-\",VLOOKUP($E449,site!$B:$G,5,0))))","v":""}]
[null,null,null,null,null,null,null,null,null,null,null,null,null,null,null,null,null,null,{"$f":"IFERROR(IF(C450=\"\",\"\",IF(VLOOKUP(D450,site!$B:$D,3,0)=\"\",\"-\",VLOOKUP(D450,site!$B:$D,3,0))),IF(C450=\"\",\"\",IF(VLOOKUP(E450,site!$C:$D,2,0)=\"\",\"-\",VLOOKUP(E450,site!$C:$D,2,0))))","v":""},{"$f":"IFERROR(IF($C450=\"\",\"\",IF(VLOOKUP($D450,site!$B:$F,4,0)=\"\",\"-\",VLOOKUP($D450,site!$B:$F,4,0))),IF($C450=\"\",\"\",IF(VLOOKUP($E450,site!$B:$F,3,0)=\"\",\"-\",VLOOKUP($E450,site!$B:$F,3,0))))","v":""},{"$f":"IFERROR(IF($C450=\"\",\"\",IF(VLOOKUP($D450,site!$B:$F,5,0)=\"\",\"-\",VLOOKUP($D450,site!$B:$F,5,0))),IF($C450=\"\",\"\",IF(VLOOKUP($E450,site!$B:$F,4,0)=\"\",\"-\",VLOOKUP($E450,site!$B:$F,4,0))))","v":""},{"$f":"IFERROR(IF($C450=\"\",\"\",IF(VLOOKUP($D450,site!$B:$G,6,0)=\"\",\"-\",VLOOKUP($D450,site!$B:$G,6,0))),IF($C450=\"\",\"\",IF(VLOOKUP($E450,site!$B:$G,5,0)=\"\",\"-\",VLOOKUP($E450,site!$B:$G,5,0))))","v":""}]
[null,null,null,null,null,null,null,null,null,null,null,null,null,null,null,null,null,null,{"$f":"IFERROR(IF(C451=\"\",\"\",IF(VLOOKUP(D451,site!$B:$D,3,0)=\"\",\"-\",VLOOKUP(D451,site!$B:$D,3,0))),IF(C451=\"\",\"\",IF(VLOOKUP(E451,site!$C:$D,2,0)=\"\",\"-\",VLOOKUP(E451,site!$C:$D,2,0))))","v":""},{"$f":"IFERROR(IF($C451=\"\",\"\",IF(VLOOKUP($D451,site!$B:$F,4,0)=\"\",\"-\",VLOOKUP($D451,site!$B:$F,4,0))),IF($C451=\"\",\"\",IF(VLOOKUP($E451,site!$B:$F,3,0)=\"\",\"-\",VLOOKUP($E451,site!$B:$F,3,0))))","v":""},{"$f":"IFERROR(IF($C451=\"\",\"\",IF(VLOOKUP($D451,site!$B:$F,5,0)=\"\",\"-\",VLOOKUP($D451,site!$B:$F,5,0))),IF($C451=\"\",\"\",IF(VLOOKUP($E451,site!$B:$F,4,0)=\"\",\"-\",VLOOKUP($E451,site!$B:$F,4,0))))","v":""},{"$f":"IFERROR(IF($C451=\"\",\"\",IF(VLOOKUP($D451,site!$B:$G,6,0)=\"\",\"-\",VLOOKUP($D451,site!$B:$G,6,0))),IF($C451=\"\",\"\",IF(VLOOKUP($E451,site!$B:$G,5,0)=\"\",\"-\",VLOOKUP($E451,site!$B:$G,5,0))))","v":""}]
[null,null,null,null,null,null,null,null,null,null,null,null,null,null,null,null,null,null,{"$f":"IFERROR(IF(C452=\"\",\"\",IF(VLOOKUP(D452,site!$B:$D,3,0)=\"\",\"-\",VLOOKUP(D452,site!$B:$D,3,0))),IF(C452=\"\",\"\",IF(VLOOKUP(E452,site!$C:$D,2,0)=\"\",\"-\",VLOOKUP(E452,site!$C:$D,2,0))))","v":""},{"$f":"IFERROR(IF($C452=\"\",\"\",IF(VLOOKUP($D452,site!$B:$F,4,0)=\"\",\"-\",VLOOKUP($D452,site!$B:$F,4,0))),IF($C452=\"\",\"\",IF(VLOOKUP($E452,site!$B:$F,3,0)=\"\",\"-\",VLOOKUP($E452,site!$B:$F,3,0))))","v":""},{"$f":"IFERROR(IF($C452=\"\",\"\",IF(VLOOKUP($D452,site!$B:$F,5,0)=\"\",\"-\",VLOOKUP($D452,site!$B:$F,5,0))),IF($C452=\"\",\"\",IF(VLOOKUP($E452,site!$B:$F,4,0)=\"\",\"-\",VLOOKUP($E452,site!$B:$F,4,0))))","v":""},{"$f":"IFERROR(IF($C452=\"\",\"\",IF(VLOOKUP($D452,site!$B:$G,6,0)=\"\",\"-\",VLOOKUP($D452,site!$B:$G,6,0))),IF($C452=\"\",\"\",IF(VLOOKUP($E452,site!$B:$G,5,0)=\"\",\"-\",VLOOKUP($E452,site!$B:$G,5,0))))","v":""}]
[null,null,null,null,null,null,null,null,null,null,null,null,null,null,null,null,null,null,{"$f":"IFERROR(IF(C453=\"\",\"\",IF(VLOOKUP(D453,site!$B:$D,3,0)=\"\",\"-\",VLOOKUP(D453,site!$B:$D,3,0))),IF(C453=\"\",\"\",IF(VLOOKUP(E453,site!$C:$D,2,0)=\"\",\"-\",VLOOKUP(E453,site!$C:$D,2,0))))","v":""},{"$f":"IFERROR(IF($C453=\"\",\"\",IF(VLOOKUP($D453,site!$B:$F,4,0)=\"\",\"-\",VLOOKUP($D453,site!$B:$F,4,0))),IF($C453=\"\",\"\",IF(VLOOKUP($E453,site!$B:$F,3,0)=\"\",\"-\",VLOOKUP($E453,site!$B:$F,3,0))))","v":""},{"$f":"IFERROR(IF($C453=\"\",\"\",IF(VLOOKUP($D453,site!$B:$F,5,0)=\"\",\"-\",VLOOKUP($D453,site!$B:$F,5,0))),IF($C453=\"\",\"\",IF(VLOOKUP($E453,site!$B:$F,4,0)=\"\",\"-\",VLOOKUP($E453,site!$B:$F,4,0))))","v":""},{"$f":"IFERROR(IF($C453=\"\",\"\",IF(VLOOKUP($D453,site!$B:$G,6,0)=\"\",\"-\",VLOOKUP($D453,site!$B:$G,6,0))),IF($C453=\"\",\"\",IF(VLOOKUP($E453,site!$B:$G,5,0)=\"\",\"-\",VLOOKUP($E453,site!$B:$G,5,0))))","v":""}]
[null,null,null,null,null,null,null,null,null,null,null,null,null,null,null,null,null,null,{"$f":"IFERROR(IF(C454=\"\",\"\",IF(VLOOKUP(D454,site!$B:$D,3,0)=\"\",\"-\",VLOOKUP(D454,site!$B:$D,3,0))),IF(C454=\"\",\"\",IF(VLOOKUP(E454,site!$C:$D,2,0)=\"\",\"-\",VLOOKUP(E454,site!$C:$D,2,0))))","v":""},{"$f":"IFERROR(IF($C454=\"\",\"\",IF(VLOOKUP($D454,site!$B:$F,4,0)=\"\",\"-\",VLOOKUP($D454,site!$B:$F,4,0))),IF($C454=\"\",\"\",IF(VLOOKUP($E454,site!$B:$F,3,0)=\"\",\"-\",VLOOKUP($E454,site!$B:$F,3,0))))","v":""},{"$f":"IFERROR(IF($C454=\"\",\"\",IF(VLOOKUP($D454,site!$B:$F,5,0)=\"\",\"-\",VLOOKUP($D454,site!$B:$F,5,0))),IF($C454=\"\",\"\",IF(VLOOKUP($E454,site!$B:$F,4,0)=\"\",\"-\",VLOOKUP($E454,site!$B:$F,4,0))))","v":""},{"$f":"IFERROR(IF($C454=\"\",\"\",IF(VLOOKUP($D454,site!$B:$G,6,0)=\"\",\"-\",VLOOKUP($D454,site!$B:$G,6,0))),IF($C454=\"\",\"\",IF(VLOOKUP($E454,site!$B:$G,5,0)=\"\",\"-\",VLOOKUP($E454,site!$B:$G,5,0))))","v":""}]
[null,null,null,null,null,null,null,null,null,null,null,null,null,null,null,null,null,null,{"$f":"IFERROR(IF(C455=\"\",\"\",IF(VLOOKUP(D455,site!$B:$D,3,0)=\"\",\"-\",VLOOKUP(D455,site!$B:$D,3,0))),IF(C455=\"\",\"\",IF(VLOOKUP(E455,site!$C:$D,2,0)=\"\",\"-\",VLOOKUP(E455,site!$C:$D,2,0))))","v":""},{"$f":"IFERROR(IF($C455=\"\",\"\",IF(VLOOKUP($D455,site!$B:$F,4,0)=\"\",\"-\",VLOOKUP($D455,site!$B:$F,4,0))),IF($C455=\"\",\"\",IF(VLOOKUP($E455,site!$B:$F,3,0)=\"\",\"-\",VLOOKUP($E455,site!$B:$F,3,0))))","v":""},{"$f":"IFERROR(IF($C455=\"\",\"\",IF(VLOOKUP($D455,site!$B:$F,5,0)=\"\",\"-\",VLOOKUP($D455,site!$B:$F,5,0))),IF($C455=\"\",\"\",IF(VLOOKUP($E455,site!$B:$F,4,0)=\"\",\"-\",VLOOKUP($E455,site!$B:$F,4,0))))","v":""},{"$f":"IFERROR(IF($C455=\"\",\"\",IF(VLOOKUP($D455,site!$B:$G,6,0)=\"\",\"-\",VLOOKUP($D455,site!$B:$G,6,0))),IF($C455=\"\",\"\",IF(VLOOKUP($E455,site!$B:$G,5,0)=\"\",\"-\",VLOOKUP($E455,site!$B:$G,5,0))))","v":""}]
[null,null,null,null,null,null,null,null,null,null,null,null,null,null,null,null,null,null,{"$f":"IFERROR(IF(C456=\"\",\"\",IF(VLOOKUP(D456,site!$B:$D,3,0)=\"\",\"-\",VLOOKUP(D456,site!$B:$D,3,0))),IF(C456=\"\",\"\",IF(VLOOKUP(E456,site!$C:$D,2,0)=\"\",\"-\",VLOOKUP(E456,site!$C:$D,2,0))))","v":""},{"$f":"IFERROR(IF($C456=\"\",\"\",IF(VLOOKUP($D456,site!$B:$F,4,0)=\"\",\"-\",VLOOKUP($D456,site!$B:$F,4,0))),IF($C456=\"\",\"\",IF(VLOOKUP($E456,site!$B:$F,3,0)=\"\",\"-\",VLOOKUP($E456,site!$B:$F,3,0))))","v":""},{"$f":"IFERROR(IF($C456=\"\",\"\",IF(VLOOKUP($D456,site!$B:$F,5,0)=\"\",\"-\",VLOOKUP($D456,site!$B:$F,5,0))),IF($C456=\"\",\"\",IF(VLOOKUP($E456,site!$B:$F,4,0)=\"\",\"-\",VLOOKUP($E456,site!$B:$F,4,0))))","v":""},{"$f":"IFERROR(IF($C456=\"\",\"\",IF(VLOOKUP($D456,site!$B:$G,6,0)=\"\",\"-\",VLOOKUP($D456,site!$B:$G,6,0))),IF($C456=\"\",\"\",IF(VLOOKUP($E456,site!$B:$G,5,0)=\"\",\"-\",VLOOKUP($E456,site!$B:$G,5,0))))","v":""}]
[null,null,null,null,null,null,null,null,null,null,null,null,null,null,null,null,null,null,{"$f":"IFERROR(IF(C457=\"\",\"\",IF(VLOOKUP(D457,site!$B:$D,3,0)=\"\",\"-\",VLOOKUP(D457,site!$B:$D,3,0))),IF(C457=\"\",\"\",IF(VLOOKUP(E457,site!$C:$D,2,0)=\"\",\"-\",VLOOKUP(E457,site!$C:$D,2,0))))","v":""},{"$f":"IFERROR(IF($C457=\"\",\"\",IF(VLOOKUP($D457,site!$B:$F,4,0)=\"\",\"-\",VLOOKUP($D457,site!$B:$F,4,0))),IF($C457=\"\",\"\",IF(VLOOKUP($E457,site!$B:$F,3,0)=\"\",\"-\",VLOOKUP($E457,site!$B:$F,3,0))))","v":""},{"$f":"IFERROR(IF($C457=\"\",\"\",IF(VLOOKUP($D457,site!$B:$F,5,0)=\"\",\"-\",VLOOKUP($D457,site!$B:$F,5,0))),IF($C457=\"\",\"\",IF(VLOOKUP($E457,site!$B:$F,4,0)=\"\",\"-\",VLOOKUP($E457,site!$B:$F,4,0))))","v":""},{"$f":"IFERROR(IF($C457=\"\",\"\",IF(VLOOKUP($D457,site!$B:$G,6,0)=\"\",\"-\",VLOOKUP($D457,site!$B:$G,6,0))),IF($C457=\"\",\"\",IF(VLOOKUP($E457,site!$B:$G,5,0)=\"\",\"-\",VLOOKUP($E457,site!$B:$G,5,0))))","v":""}]
[null,null,null,null,null,null,null,null,null,null,null,null,null,null,null,null,null,null,{"$f":"IFERROR(IF(C458=\"\",\"\",IF(VLOOKUP(D458,site!$B:$D,3,0)=\"\",\"-\",VLOOKUP(D458,site!$B:$D,3,0))),IF(C458=\"\",\"\",IF(VLOOKUP(E458,site!$C:$D,2,0)=\"\",\"-\",VLOOKUP(E458,site!$C:$D,2,0))))","v":""},{"$f":"IFERROR(IF($C458=\"\",\"\",IF(VLOOKUP($D458,site!$B:$F,4,0)=\"\",\"-\",VLOOKUP($D458,site!$B:$F,4,0))),IF($C458=\"\",\"\",IF(VLOOKUP($E458,site!$B:$F,3,0)=\"\",\"-\",VLOOKUP($E458,site!$B:$F,3,0))))","v":""},{"$f":"IFERROR(IF($C458=\"\",\"\",IF(VLOOKUP($D458,site!$B:$F,5,0)=\"\",\"-\",VLOOKUP($D458,site!$B:$F,5,0))),IF($C458=\"\",\"\",IF(VLOOKUP($E458,site!$B:$F,4,0)=\"\",\"-\",VLOOKUP($E458,site!$B:$F,4,0))))","v":""},{"$f":"IFERROR(IF($C458=\"\",\"\",IF(VLOOKUP($D458,site!$B:$G,6,0)=\"\",\"-\",VLOOKUP($D458,site!$B:$G,6,0))),IF($C458=\"\",\"\",IF(VLOOKUP($E458,site!$B:$G,5,0)=\"\",\"-\",VLOOKUP($E458,site!$B:$G,5,0))))","v":""}]
[null,null,null,null,null,null,null,null,null,null,null,null,null,null,null,null,null,null,{"$f":"IFERROR(IF(C459=\"\",\"\",IF(VLOOKUP(D459,site!$B:$D,3,0)=\"\",\"-\",VLOOKUP(D459,site!$B:$D,3,0))),IF(C459=\"\",\"\",IF(VLOOKUP(E459,site!$C:$D,2,0)=\"\",\"-\",VLOOKUP(E459,site!$C:$D,2,0))))","v":""},{"$f":"IFERROR(IF($C459=\"\",\"\",IF(VLOOKUP($D459,site!$B:$F,4,0)=\"\",\"-\",VLOOKUP($D459,site!$B:$F,4,0))),IF($C459=\"\",\"\",IF(VLOOKUP($E459,site!$B:$F,3,0)=\"\",\"-\",VLOOKUP($E459,site!$B:$F,3,0))))","v":""},{"$f":"IFERROR(IF($C459=\"\",\"\",IF(VLOOKUP($D459,site!$B:$F,5,0)=\"\",\"-\",VLOOKUP($D459,site!$B:$F,5,0))),IF($C459=\"\",\"\",IF(VLOOKUP($E459,site!$B:$F,4,0)=\"\",\"-\",VLOOKUP($E459,site!$B:$F,4,0))))","v":""},{"$f":"IFERROR(IF($C459=\"\",\"\",IF(VLOOKUP($D459,site!$B:$G,6,0)=\"\",\"-\",VLOOKUP($D459,site!$B:$G,6,0))),IF($C459=\"\",\"\",IF(VLOOKUP($E459,site!$B:$G,5,0)=\"\",\"-\",VLOOKUP($E459,site!$B:$G,5,0))))","v":""}]
[null,null,null,null,null,null,null,null,null,null,null,null,null,null,null,null,null,null,{"$f":"IFERROR(IF(C460=\"\",\"\",IF(VLOOKUP(D460,site!$B:$D,3,0)=\"\",\"-\",VLOOKUP(D460,site!$B:$D,3,0))),IF(C460=\"\",\"\",IF(VLOOKUP(E460,site!$C:$D,2,0)=\"\",\"-\",VLOOKUP(E460,site!$C:$D,2,0))))","v":""},{"$f":"IFERROR(IF($C460=\"\",\"\",IF(VLOOKUP($D460,site!$B:$F,4,0)=\"\",\"-\",VLOOKUP($D460,site!$B:$F,4,0))),IF($C460=\"\",\"\",IF(VLOOKUP($E460,site!$B:$F,3,0)=\"\",\"-\",VLOOKUP($E460,site!$B:$F,3,0))))","v":""},{"$f":"IFERROR(IF($C460=\"\",\"\",IF(VLOOKUP($D460,site!$B:$F,5,0)=\"\",\"-\",VLOOKUP($D460,site!$B:$F,5,0))),IF($C460=\"\",\"\",IF(VLOOKUP($E460,site!$B:$F,4,0)=\"\",\"-\",VLOOKUP($E460,site!$B:$F,4,0))))","v":""},{"$f":"IFERROR(IF($C460=\"\",\"\",IF(VLOOKUP($D460,site!$B:$G,6,0)=\"\",\"-\",VLOOKUP($D460,site!$B:$G,6,0))),IF($C460=\"\",\"\",IF(VLOOKUP($E460,site!$B:$G,5,0)=\"\",\"-\",VLOOKUP($E460,site!$B:$G,5,0))))","v":""}]
[null,null,null,null,null,null,null,null,null,null,null,null,null,null,null,null,null,null,{"$f":"IFERROR(IF(C461=\"\",\"\",IF(VLOOKUP(D461,site!$B:$D,3,0)=\"\",\"-\",VLOOKUP(D461,site!$B:$D,3,0))),IF(C461=\"\",\"\",IF(VLOOKUP(E461,site!$C:$D,2,0)=\"\",\"-\",VLOOKUP(E461,site!$C:$D,2,0))))","v":""},{"$f":"IFERROR(IF($C461=\"\",\"\",IF(VLOOKUP($D461,site!$B:$F,4,0)=\"\",\"-\",VLOOKUP($D461,site!$B:$F,4,0))),IF($C461=\"\",\"\",IF(VLOOKUP($E461,site!$B:$F,3,0)=\"\",\"-\",VLOOKUP($E461,site!$B:$F,3,0))))","v":""},{"$f":"IFERROR(IF($C461=\"\",\"\",IF(VLOOKUP($D461,site!$B:$F,5,0)=\"\",\"-\",VLOOKUP($D461,site!$B:$F,5,0))),IF($C461=\"\",\"\",IF(VLOOKUP($E461,site!$B:$F,4,0)=\"\",\"-\",VLOOKUP($E461,site!$B:$F,4,0))))","v":""},{"$f":"IFERROR(IF($C461=\"\",\"\",IF(VLOOKUP($D461,site!$B:$G,6,0)=\"\",\"-\",VLOOKUP($D461,site!$B:$G,6,0))),IF($C461=\"\",\"\",IF(VLOOKUP($E461,site!$B:$G,5,0)=\"\",\"-\",VLOOKUP($E461,site!$B:$G,5,0))))","v":""}]
[null,null,null,null,null,null,null,null,null,null,null,null,null,null,null,null,null,null,{"$f":"IFERROR(IF(C462=\"\",\"\",IF(VLOOKUP(D462,site!$B:$D,3,0)=\"\",\"-\",VLOOKUP(D462,site!$B:$D,3,0))),IF(C462=\"\",\"\",IF(VLOOKUP(E462,site!$C:$D,2,0)=\"\",\"-\",VLOOKUP(E462,site!$C:$D,2,0))))","v":""},{"$f":"IFERROR(IF($C462=\"\",\"\",IF(VLOOKUP($D462,site!$B:$F,4,0)=\"\",\"-\",VLOOKUP($D462,site!$B:$F,4,0))),IF($C462=\"\",\"\",IF(VLOOKUP($E462,site!$B:$F,3,0)=\"\",\"-\",VLOOKUP($E462,site!$B:$F,3,0))))","v":""},{"$f":"IFERROR(IF($C462=\"\",\"\",IF(VLOOKUP($D462,site!$B:$F,5,0)=\"\",\"-\",VLOOKUP($D462,site!$B:$F,5,0))),IF($C462=\"\",\"\",IF(VLOOKUP($E462,site!$B:$F,4,0)=\"\",\"-\",VLOOKUP($E462,site!$B:$F,4,0))))","v":""},{"$f":"IFERROR(IF($C462=\"\",\"\",IF(VLOOKUP($D462,site!$B:$G,6,0)=\"\",\"-\",VLOOKUP($D462,site!$B:$G,6,0))),IF($C462=\"\",\"\",IF(VLOOKUP($E462,site!$B:$G,5,0)=\"\",\"-\",VLOOKUP($E462,site!$B:$G,5,0))))","v":""}]
[null,null,null,null,null,null,null,null,null,null,null,null,null,null,null,null,null,null,{"$f":"IFERROR(IF(C463=\"\",\"\",IF(VLOOKUP(D463,site!$B:$D,3,0)=\"\",\"-\",VLOOKUP(D463,site!$B:$D,3,0))),IF(C463=\"\",\"\",IF(VLOOKUP(E463,site!$C:$D,2,0)=\"\",\"-\",VLOOKUP(E463,site!$C:$D,2,0))))","v":""},{"$f":"IFERROR(IF($C463=\"\",\"\",IF(VLOOKUP($D463,site!$B:$F,4,0)=\"\",\"-\",VLOOKUP($D463,site!$B:$F,4,0))),IF($C463=\"\",\"\",IF(VLOOKUP($E463,site!$B:$F,3,0)=\"\",\"-\",VLOOKUP($E463,site!$B:$F,3,0))))","v":""},{"$f":"IFERROR(IF($C463=\"\",\"\",IF(VLOOKUP($D463,site!$B:$F,5,0)=\"\",\"-\",VLOOKUP($D463,site!$B:$F,5,0))),IF($C463=\"\",\"\",IF(VLOOKUP($E463,site!$B:$F,4,0)=\"\",\"-\",VLOOKUP($E463,site!$B:$F,4,0))))","v":""},{"$f":"IFERROR(IF($C463=\"\",\"\",IF(VLOOKUP($D463,site!$B:$G,6,0)=\"\",\"-\",VLOOKUP($D463,site!$B:$G,6,0))),IF($C463=\"\",\"\",IF(VLOOKUP($E463,site!$B:$G,5,0)=\"\",\"-\",VLOOKUP($E463,site!$B:$G,5,0))))","v":""}]
[null,null,null,null,null,null,null,null,null,null,null,null,null,null,null,null,null,null,{"$f":"IFERROR(IF(C464=\"\",\"\",IF(VLOOKUP(D464,site!$B:$D,3,0)=\"\",\"-\",VLOOKUP(D464,site!$B:$D,3,0))),IF(C464=\"\",\"\",IF(VLOOKUP(E464,site!$C:$D,2,0)=\"\",\"-\",VLOOKUP(E464,site!$C:$D,2,0))))","v":""},{"$f":"IFERROR(IF($C464=\"\",\"\",IF(VLOOKUP($D464,site!$B:$F,4,0)=\"\",\"-\",VLOOKUP($D464,site!$B:$F,4,0))),IF($C464=\"\",\"\",IF(VLOOKUP($E464,site!$B:$F,3,0)=\"\",\"-\",VLOOKUP($E464,site!$B:$F,3,0))))","v":""},{"$f":"IFERROR(IF($C464=\"\",\"\",IF(VLOOKUP($D464,site!$B:$F,5,0)=\"\",\"-\",VLOOKUP($D464,site!$B:$F,5,0))),IF($C464=\"\",\"\",IF(VLOOKUP($E464,site!$B:$F,4,0)=\"\",\"-\",VLOOKUP($E464,site!$B:$F,4,0))))","v":""},{"$f":"IFERROR(IF($C464=\"\",\"\",IF(VLOOKUP($D464,site!$B:$G,6,0)=\"\",\"-\",VLOOKUP($D464,site!$B:$G,6,0))),IF($C464=\"\",\"\",IF(VLOOKUP($E464,site!$B:$G,5,0)=\"\",\"-\",VLOOKUP($E464,site!$B:$G,5,0))))","v":""}]
[null,null,null,null,null,null,null,null,null,null,null,null,null,null,null,null,null,null,{"$f":"IFERROR(IF(C465=\"\",\"\",IF(VLOOKUP(D465,site!$B:$D,3,0)=\"\",\"-\",VLOOKUP(D465,site!$B:$D,3,0))),IF(C465=\"\",\"\",IF(VLOOKUP(E465,site!$C:$D,2,0)=\"\",\"-\",VLOOKUP(E465,site!$C:$D,2,0))))","v":""},{"$f":"IFERROR(IF($C465=\"\",\"\",IF(VLOOKUP($D465,site!$B:$F,4,0)=\"\",\"-\",VLOOKUP($D465,site!$B:$F,4,0))),IF($C465=\"\",\"\",IF(VLOOKUP($E465,site!$B:$F,3,0)=\"\",\"-\",VLOOKUP($E465,site!$B:$F,3,0))))","v":""},{"$f":"IFERROR(IF($C465=\"\",\"\",IF(VLOOKUP($D465,site!$B:$F,5,0)=\"\",\"-\",VLOOKUP($D465,site!$B:$F,5,0))),IF($C465=\"\",\"\",IF(VLOOKUP($E465,site!$B:$F,4,0)=\"\",\"-\",VLOOKUP($E465,site!$B:$F,4,0))))","v":""},{"$f":"IFERROR(IF($C465=\"\",\"\",IF(VLOOKUP($D465,site!$B:$G,6,0)=\"\",\"-\",VLOOKUP($D465,site!$B:$G,6,0))),IF($C465=\"\",\"\",IF(VLOOKUP($E465,site!$B:$G,5,0)=\"\",\"-\",VLOOKUP($E465,site!$B:$G,5,0))))","v":""}]
[null,null,null,null,null,null,null,null,null,null,null,null,null,null,null,null,null,null,{"$f":"IFERROR(IF(C466=\"\",\"\",IF(VLOOKUP(D466,site!$B:$D,3,0)=\"\",\"-\",VLOOKUP(D466,site!$B:$D,3,0))),IF(C466=\"\",\"\",IF(VLOOKUP(E466,site!$C:$D,2,0)=\"\",\"-\",VLOOKUP(E466,site!$C:$D,2,0))))","v":""},{"$f":"IFERROR(IF($C466=\"\",\"\",IF(VLOOKUP($D466,site!$B:$F,4,0)=\"\",\"-\",VLOOKUP($D466,site!$B:$F,4,0))),IF($C466=\"\",\"\",IF(VLOOKUP($E466,site!$B:$F,3,0)=\"\",\"-\",VLOOKUP($E466,site!$B:$F,3,0))))","v":""},{"$f":"IFERROR(IF($C466=\"\",\"\",IF(VLOOKUP($D466,site!$B:$F,5,0)=\"\",\"-\",VLOOKUP($D466,site!$B:$F,5,0))),IF($C466=\"\",\"\",IF(VLOOKUP($E466,site!$B:$F,4,0)=\"\",\"-\",VLOOKUP($E466,site!$B:$F,4,0))))","v":""},{"$f":"IFERROR(IF($C466=\"\",\"\",IF(VLOOKUP($D466,site!$B:$G,6,0)=\"\",\"-\",VLOOKUP($D466,site!$B:$G,6,0))),IF($C466=\"\",\"\",IF(VLOOKUP($E466,site!$B:$G,5,0)=\"\",\"-\",VLOOKUP($E466,site!$B:$G,5,0))))","v":""}]
[null,null,null,null,null,null,null,null,null,null,null,null,null,null,null,null,null,null,{"$f":"IFERROR(IF(C467=\"\",\"\",IF(VLOOKUP(D467,site!$B:$D,3,0)=\"\",\"-\",VLOOKUP(D467,site!$B:$D,3,0))),IF(C467=\"\",\"\",IF(VLOOKUP(E467,site!$C:$D,2,0)=\"\",\"-\",VLOOKUP(E467,site!$C:$D,2,0))))","v":""},{"$f":"IFERROR(IF($C467=\"\",\"\",IF(VLOOKUP($D467,site!$B:$F,4,0)=\"\",\"-\",VLOOKUP($D467,site!$B:$F,4,0))),IF($C467=\"\",\"\",IF(VLOOKUP($E467,site!$B:$F,3,0)=\"\",\"-\",VLOOKUP($E467,site!$B:$F,3,0))))","v":""},{"$f":"IFERROR(IF($C467=\"\",\"\",IF(VLOOKUP($D467,site!$B:$F,5,0)=\"\",\"-\",VLOOKUP($D467,site!$B:$F,5,0))),IF($C467=\"\",\"\",IF(VLOOKUP($E467,site!$B:$F,4,0)=\"\",\"-\",VLOOKUP($E467,site!$B:$F,4,0))))","v":""},{"$f":"IFERROR(IF($C467=\"\",\"\",IF(VLOOKUP($D467,site!$B:$G,6,0)=\"\",\"-\",VLOOKUP($D467,site!$B:$G,6,0))),IF($C467=\"\",\"\",IF(VLOOKUP($E467,site!$B:$G,5,0)=\"\",\"-\",VLOOKUP($E467,site!$B:$G,5,0))))","v":""}]
[null,null,null,null,null,null,null,null,null,null,null,null,null,null,null,null,null,null,{"$f":"IFERROR(IF(C468=\"\",\"\",IF(VLOOKUP(D468,site!$B:$D,3,0)=\"\",\"-\",VLOOKUP(D468,site!$B:$D,3,0))),IF(C468=\"\",\"\",IF(VLOOKUP(E468,site!$C:$D,2,0)=\"\",\"-\",VLOOKUP(E468,site!$C:$D,2,0))))","v":""},{"$f":"IFERROR(IF($C468=\"\",\"\",IF(VLOOKUP($D468,site!$B:$F,4,0)=\"\",\"-\",VLOOKUP($D468,site!$B:$F,4,0))),IF($C468=\"\",\"\",IF(VLOOKUP($E468,site!$B:$F,3,0)=\"\",\"-\",VLOOKUP($E468,site!$B:$F,3,0))))","v":""},{"$f":"IFERROR(IF($C468=\"\",\"\",IF(VLOOKUP($D468,site!$B:$F,5,0)=\"\",\"-\",VLOOKUP($D468,site!$B:$F,5,0))),IF($C468=\"\",\"\",IF(VLOOKUP($E468,site!$B:$F,4,0)=\"\",\"-\",VLOOKUP($E468,site!$B:$F,4,0))))","v":""},{"$f":"IFERROR(IF($C468=\"\",\"\",IF(VLOOKUP($D468,site!$B:$G,6,0)=\"\",\"-\",VLOOKUP($D468,site!$B:$G,6,0))),IF($C468=\"\",\"\",IF(VLOOKUP($E468,site!$B:$G,5,0)=\"\",\"-\",VLOOKUP($E468,site!$B:$G,5,0))))","v":""}]
[null,null,null,null,null,null,null,null,null,null,null,null,null,null,null,null,null,null,{"$f":"IFERROR(IF(C469=\"\",\"\",IF(VLOOKUP(D469,site!$B:$D,3,0)=\"\",\"-\",VLOOKUP(D469,site!$B:$D,3,0))),IF(C469=\"\",\"\",IF(VLOOKUP(E469,site!$C:$D,2,0)=\"\",\"-\",VLOOKUP(E469,site!$C:$D,2,0))))","v":""},{"$f":"IFERROR(IF($C469=\"\",\"\",IF(VLOOKUP($D469,site!$B:$F,4,0)=\"\",\"-\",VLOOKUP($D469,site!$B:$F,4,0))),IF($C469=\"\",\"\",IF(VLOOKUP($E469,site!$B:$F,3,0)=\"\",\"-\",VLOOKUP($E469,site!$B:$F,3,0))))","v":""},{"$f":"IFERROR(IF($C469=\"\",\"\",IF(VLOOKUP($D469,site!$B:$F,5,0)=\"\",\"-\",VLOOKUP($D469,site!$B:$F,5,0))),IF($C469=\"\",\"\",IF(VLOOKUP($E469,site!$B:$F,4,0)=\"\",\"-\",VLOOKUP($E469,site!$B:$F,4,0))))","v":""},{"$f":"IFERROR(IF($C469=\"\",\"\",IF(VLOOKUP($D469,site!$B:$G,6,0)=\"\",\"-\",VLOOKUP($D469,site!$B:$G,6,0))),IF($C469=\"\",\"\",IF(VLOOKUP($E469,site!$B:$G,5,0)=\"\",\"-\",VLOOKUP($E469,site!$B:$G,5,0))))","v":""}]
[null,null,null,null,null,null,null,null,null,null,null,null,null,null,null,null,null,null,{"$f":"IFERROR(IF(C470=\"\",\"\",IF(VLOOKUP(D470,site!$B:$D,3,0)=\"\",\"-\",VLOOKUP(D470,site!$B:$D,3,0))),IF(C470=\"\",\"\",IF(VLOOKUP(E470,site!$C:$D,2,0)=\"\",\"-\",VLOOKUP(E470,site!$C:$D,2,0))))","v":""},{"$f":"IFERROR(IF($C470=\"\",\"\",IF(VLOOKUP($D470,site!$B:$F,4,0)=\"\",\"-\",VLOOKUP($D470,site!$B:$F,4,0))),IF($C470=\"\",\"\",IF(VLOOKUP($E470,site!$B:$F,3,0)=\"\",\"-\",VLOOKUP($E470,site!$B:$F,3,0))))","v":""},{"$f":"IFERROR(IF($C470=\"\",\"\",IF(VLOOKUP($D470,site!$B:$F,5,0)=\"\",\"-\",VLOOKUP($D470,site!$B:$F,5,0))),IF($C470=\"\",\"\",IF(VLOOKUP($E470,site!$B:$F,4,0)=\"\",\"-\",VLOOKUP($E470,site!$B:$F,4,0))))","v":""},{"$f":"IFERROR(IF($C470=\"\",\"\",IF(VLOOKUP($D470,site!$B:$G,6,0)=\"\",\"-\",VLOOKUP($D470,site!$B:$G,6,0))),IF($C470=\"\",\"\",IF(VLOOKUP($E470,site!$B:$G,5,0)=\"\",\"-\",VLOOKUP($E470,site!$B:$G,5,0))))","v":""}]
[null,null,null,null,null,null,null,null,null,null,null,null,null,null,null,null,null,null,{"$f":"IFERROR(IF(C471=\"\",\"\",IF(VLOOKUP(D471,site!$B:$D,3,0)=\"\",\"-\",VLOOKUP(D471,site!$B:$D,3,0))),IF(C471=\"\",\"\",IF(VLOOKUP(E471,site!$C:$D,2,0)=\"\",\"-\",VLOOKUP(E471,site!$C:$D,2,0))))","v":""},{"$f":"IFERROR(IF($C471=\"\",\"\",IF(VLOOKUP($D471,site!$B:$F,4,0)=\"\",\"-\",VLOOKUP($D471,site!$B:$F,4,0))),IF($C471=\"\",\"\",IF(VLOOKUP($E471,site!$B:$F,3,0)=\"\",\"-\",VLOOKUP($E471,site!$B:$F,3,0))))","v":""},{"$f":"IFERROR(IF($C471=\"\",\"\",IF(VLOOKUP($D471,site!$B:$F,5,0)=\"\",\"-\",VLOOKUP($D471,site!$B:$F,5,0))),IF($C471=\"\",\"\",IF(VLOOKUP($E471,site!$B:$F,4,0)=\"\",\"-\",VLOOKUP($E471,site!$B:$F,4,0))))","v":""},{"$f":"IFERROR(IF($C471=\"\",\"\",IF(VLOOKUP($D471,site!$B:$G,6,0)=\"\",\"-\",VLOOKUP($D471,site!$B:$G,6,0))),IF($C471=\"\",\"\",IF(VLOOKUP($E471,site!$B:$G,5,0)=\"\",\"-\",VLOOKUP($E471,site!$B:$G,5,0))))","v":""}]
[null,null,null,null,null,null,null,null,null,null,null,null,null,null,null,null,null,null,{"$f":"IFERROR(IF(C472=\"\",\"\",IF(VLOOKUP(D472,site!$B:$D,3,0)=\"\",\"-\",VLOOKUP(D472,site!$B:$D,3,0))),IF(C472=\"\",\"\",IF(VLOOKUP(E472,site!$C:$D,2,0)=\"\",\"-\",VLOOKUP(E472,site!$C:$D,2,0))))","v":""},{"$f":"IFERROR(IF($C472=\"\",\"\",IF(VLOOKUP($D472,site!$B:$F,4,0)=\"\",\"-\",VLOOKUP($D472,site!$B:$F,4,0))),IF($C472=\"\",\"\",IF(VLOOKUP($E472,site!$B:$F,3,0)=\"\",\"-\",VLOOKUP($E472,site!$B:$F,3,0))))","v":""},{"$f":"IFERROR(IF($C472=\"\",\"\",IF(VLOOKUP($D472,site!$B:$F,5,0)=\"\",\"-\",VLOOKUP($D472,site!$B:$F,5,0))),IF($C472=\"\",\"\",IF(VLOOKUP($E472,site!$B:$F,4,0)=\"\",\"-\",VLOOKUP($E472,site!$B:$F,4,0))))","v":""},{"$f":"IFERROR(IF($C472=\"\",\"\",IF(VLOOKUP($D472,site!$B:$G,6,0)=\"\",\"-\",VLOOKUP($D472,site!$B:$G,6,0))),IF($C472=\"\",\"\",IF(VLOOKUP($E472,site!$B:$G,5,0)=\"\",\"-\",VLOOKUP($E472,site!$B:$G,5,0))))","v":""}]
[null,null,null,null,null,null,null,null,null,null,null,null,null,null,null,null,null,null,{"$f":"IFERROR(IF(C473=\"\",\"\",IF(VLOOKUP(D473,site!$B:$D,3,0)=\"\",\"-\",VLOOKUP(D473,site!$B:$D,3,0))),IF(C473=\"\",\"\",IF(VLOOKUP(E473,site!$C:$D,2,0)=\"\",\"-\",VLOOKUP(E473,site!$C:$D,2,0))))","v":""},{"$f":"IFERROR(IF($C473=\"\",\"\",IF(VLOOKUP($D473,site!$B:$F,4,0)=\"\",\"-\",VLOOKUP($D473,site!$B:$F,4,0))),IF($C473=\"\",\"\",IF(VLOOKUP($E473,site!$B:$F,3,0)=\"\",\"-\",VLOOKUP($E473,site!$B:$F,3,0))))","v":""},{"$f":"IFERROR(IF($C473=\"\",\"\",IF(VLOOKUP($D473,site!$B:$F,5,0)=\"\",\"-\",VLOOKUP($D473,site!$B:$F,5,0))),IF($C473=\"\",\"\",IF(VLOOKUP($E473,site!$B:$F,4,0)=\"\",\"-\",VLOOKUP($E473,site!$B:$F,4,0))))","v":""},{"$f":"IFERROR(IF($C473=\"\",\"\",IF(VLOOKUP($D473,site!$B:$G,6,0)=\"\",\"-\",VLOOKUP($D473,site!$B:$G,6,0))),IF($C473=\"\",\"\",IF(VLOOKUP($E473,site!$B:$G,5,0)=\"\",\"-\",VLOOKUP($E473,site!$B:$G,5,0))))","v":""}]
[null,null,null,null,null,null,null,null,null,null,null,null,null,null,null,null,null,null,{"$f":"IFERROR(IF(C474=\"\",\"\",IF(VLOOKUP(D474,site!$B:$D,3,0)=\"\",\"-\",VLOOKUP(D474,site!$B:$D,3,0))),IF(C474=\"\",\"\",IF(VLOOKUP(E474,site!$C:$D,2,0)=\"\",\"-\",VLOOKUP(E474,site!$C:$D,2,0))))","v":""},{"$f":"IFERROR(IF($C474=\"\",\"\",IF(VLOOKUP($D474,site!$B:$F,4,0)=\"\",\"-\",VLOOKUP($D474,site!$B:$F,4,0))),IF($C474=\"\",\"\",IF(VLOOKUP($E474,site!$B:$F,3,0)=\"\",\"-\",VLOOKUP($E474,site!$B:$F,3,0))))","v":""},{"$f":"IFERROR(IF($C474=\"\",\"\",IF(VLOOKUP($D474,site!$B:$F,5,0)=\"\",\"-\",VLOOKUP($D474,site!$B:$F,5,0))),IF($C474=\"\",\"\",IF(VLOOKUP($E474,site!$B:$F,4,0)=\"\",\"-\",VLOOKUP($E474,site!$B:$F,4,0))))","v":""},{"$f":"IFERROR(IF($C474=\"\",\"\",IF(VLOOKUP($D474,site!$B:$G,6,0)=\"\",\"-\",VLOOKUP($D474,site!$B:$G,6,0))),IF($C474=\"\",\"\",IF(VLOOKUP($E474,site!$B:$G,5,0)=\"\",\"-\",VLOOKUP($E474,site!$B:$G,5,0))))","v":""}]
[null,null,null,null,null,null,null,null,null,null,null,null,null,null,null,null,null,null,{"$f":"IFERROR(IF(C475=\"\",\"\",IF(VLOOKUP(D475,site!$B:$D,3,0)=\"\",\"-\",VLOOKUP(D475,site!$B:$D,3,0))),IF(C475=\"\",\"\",IF(VLOOKUP(E475,site!$C:$D,2,0)=\"\",\"-\",VLOOKUP(E475,site!$C:$D,2,0))))","v":""},{"$f":"IFERROR(IF($C475=\"\",\"\",IF(VLOOKUP($D475,site!$B:$F,4,0)=\"\",\"-\",VLOOKUP($D475,site!$B:$F,4,0))),IF($C475=\"\",\"\",IF(VLOOKUP($E475,site!$B:$F,3,0)=\"\",\"-\",VLOOKUP($E475,site!$B:$F,3,0))))","v":""},{"$f":"IFERROR(IF($C475=\"\",\"\",IF(VLOOKUP($D475,site!$B:$F,5,0)=\"\",\"-\",VLOOKUP($D475,site!$B:$F,5,0))),IF($C475=\"\",\"\",IF(VLOOKUP($E475,site!$B:$F,4,0)=\"\",\"-\",VLOOKUP($E475,site!$B:$F,4,0))))","v":""},{"$f":"IFERROR(IF($C475=\"\",\"\",IF(VLOOKUP($D475,site!$B:$G,6,0)=\"\",\"-\",VLOOKUP($D475,site!$B:$G,6,0))),IF($C475=\"\",\"\",IF(VLOOKUP($E475,site!$B:$G,5,0)=\"\",\"-\",VLOOKUP($E475,site!$B:$G,5,0))))","v":""}]
[null,null,null,null,null,null,null,null,null,null,null,null,null,null,null,null,null,null,{"$f":"IFERROR(IF(C476=\"\",\"\",IF(VLOOKUP(D476,site!$B:$D,3,0)=\"\",\"-\",VLOOKUP(D476,site!$B:$D,3,0))),IF(C476=\"\",\"\",IF(VLOOKUP(E476,site!$C:$D,2,0)=\"\",\"-\",VLOOKUP(E476,site!$C:$D,2,0))))","v":""},{"$f":"IFERROR(IF($C476=\"\",\"\",IF(VLOOKUP($D476,site!$B:$F,4,0)=\"\",\"-\",VLOOKUP($D476,site!$B:$F,4,0))),IF($C476=\"\",\"\",IF(VLOOKUP($E476,site!$B:$F,3,0)=\"\",\"-\",VLOOKUP($E476,site!$B:$F,3,0))))","v":""},{"$f":"IFERROR(IF($C476=\"\",\"\",IF(VLOOKUP($D476,site!$B:$F,5,0)=\"\",\"-\",VLOOKUP($D476,site!$B:$F,5,0))),IF($C476=\"\",\"\",IF(VLOOKUP($E476,site!$B:$F,4,0)=\"\",\"-\",VLOOKUP($E476,site!$B:$F,4,0))))","v":""},{"$f":"IFERROR(IF($C476=\"\",\"\",IF(VLOOKUP($D476,site!$B:$G,6,0)=\"\",\"-\",VLOOKUP($D476,site!$B:$G,6,0))),IF($C476=\"\",\"\",IF(VLOOKUP($E476,site!$B:$G,5,0)=\"\",\"-\",VLOOKUP($E476,site!$B:$G,5,0))))","v":""}]
[null,null,null,null,null,null,null,null,null,null,null,null,null,null,null,null,null,null,{"$f":"IFERROR(IF(C477=\"\",\"\",IF(VLOOKUP(D477,site!$B:$D,3,0)=\"\",\"-\",VLOOKUP(D477,site!$B:$D,3,0))),IF(C477=\"\",\"\",IF(VLOOKUP(E477,site!$C:$D,2,0)=\"\",\"-\",VLOOKUP(E477,site!$C:$D,2,0))))","v":""},{"$f":"IFERROR(IF($C477=\"\",\"\",IF(VLOOKUP($D477,site!$B:$F,4,0)=\"\",\"-\",VLOOKUP($D477,site!$B:$F,4,0))),IF($C477=\"\",\"\",IF(VLOOKUP($E477,site!$B:$F,3,0)=\"\",\"-\",VLOOKUP($E477,site!$B:$F,3,0))))","v":""},{"$f":"IFERROR(IF($C477=\"\",\"\",IF(VLOOKUP($D477,site!$B:$F,5,0)=\"\",\"-\",VLOOKUP($D477,site!$B:$F,5,0))),IF($C477=\"\",\"\",IF(VLOOKUP($E477,site!$B:$F,4,0)=\"\",\"-\",VLOOKUP($E477,site!$B:$F,4,0))))","v":""},{"$f":"IFERROR(IF($C477=\"\",\"\",IF(VLOOKUP($D477,site!$B:$G,6,0)=\"\",\"-\",VLOOKUP($D477,site!$B:$G,6,0))),IF($C477=\"\",\"\",IF(VLOOKUP($E477,site!$B:$G,5,0)=\"\",\"-\",VLOOKUP($E477,site!$B:$G,5,0))))","v":""}]
[null,null,null,null,null,null,null,null,null,null,null,null,null,null,null,null,null,null,{"$f":"IFERROR(IF(C478=\"\",\"\",IF(VLOOKUP(D478,site!$B:$D,3,0)=\"\",\"-\",VLOOKUP(D478,site!$B:$D,3,0))),IF(C478=\"\",\"\",IF(VLOOKUP(E478,site!$C:$D,2,0)=\"\",\"-\",VLOOKUP(E478,site!$C:$D,2,0))))","v":""},{"$f":"IFERROR(IF($C478=\"\",\"\",IF(VLOOKUP($D478,site!$B:$F,4,0)=\"\",\"-\",VLOOKUP($D478,site!$B:$F,4,0))),IF($C478=\"\",\"\",IF(VLOOKUP($E478,site!$B:$F,3,0)=\"\",\"-\",VLOOKUP($E478,site!$B:$F,3,0))))","v":""},{"$f":"IFERROR(IF($C478=\"\",\"\",IF(VLOOKUP($D478,site!$B:$F,5,0)=\"\",\"-\",VLOOKUP($D478,site!$B:$F,5,0))),IF($C478=\"\",\"\",IF(VLOOKUP($E478,site!$B:$F,4,0)=\"\",\"-\",VLOOKUP($E478,site!$B:$F,4,0))))","v":""},{"$f":"IFERROR(IF($C478=\"\",\"\",IF(VLOOKUP($D478,site!$B:$G,6,0)=\"\",\"-\",VLOOKUP($D478,site!$B:$G,6,0))),IF($C478=\"\",\"\",IF(VLOOKUP($E478,site!$B:$G,5,0)=\"\",\"-\",VLOOKUP($E478,site!$B:$G,5,0))))","v":""}]
[null,null,null,null,null,null,null,null,null,null,null,null,null,null,null,null,null,null,{"$f":"IFERROR(IF(C479=\"\",\"\",IF(VLOOKUP(D479,site!$B:$D,3,0)=\"\",\"-\",VLOOKUP(D479,site!$B:$D,3,0))),IF(C479=\"\",\"\",IF(VLOOKUP(E479,site!$C:$D,2,0)=\"\",\"-\",VLOOKUP(E479,site!$C:$D,2,0))))","v":""},{"$f":"IFERROR(IF($C479=\"\",\"\",IF(VLOOKUP($D479,site!$B:$F,4,0)=\"\",\"-\",VLOOKUP($D479,site!$B:$F,4,0))),IF($C479=\"\",\"\",IF(VLOOKUP($E479,site!$B:$F,3,0)=\"\",\"-\",VLOOKUP($E479,site!$B:$F,3,0))))","v":""},{"$f":"IFERROR(IF($C479=\"\",\"\",IF(VLOOKUP($D479,site!$B:$F,5,0)=\"\",\"-\",VLOOKUP($D479,site!$B:$F,5,0))),IF($C479=\"\",\"\",IF(VLOOKUP($E479,site!$B:$F,4,0)=\"\",\"-\",VLOOKUP($E479,site!$B:$F,4,0))))","v":""},{"$f":"IFERROR(IF($C479=\"\",\"\",IF(VLOOKUP($D479,site!$B:$G,6,0)=\"\",\"-\",VLOOKUP($D479,site!$B:$G,6,0))),IF($C479=\"\",\"\",IF(VLOOKUP($E479,site!$B:$G,5,0)=\"\",\"-\",VLOOKUP($E479,site!$B:$G,5,0))))","v":""}]
[null,null,null,null,null,null,null,null,null,null,null,null,null,null,null,null,null,null,{"$f":"IFERROR(IF(C480=\"\",\"\",IF(VLOOKUP(D480,site!$B:$D,3,0)=\"\",\"-\",VLOOKUP(D480,site!$B:$D,3,0))),IF(C480=\"\",\"\",IF(VLOOKUP(E480,site!$C:$D,2,0)=\"\",\"-\",VLOOKUP(E480,site!$C:$D,2,0))))","v":""},{"$f":"IFERROR(IF($C480=\"\",\"\",IF(VLOOKUP($D480,site!$B:$F,4,0)=\"\",\"-\",VLOOKUP($D480,site!$B:$F,4,0))),IF($C480=\"\",\"\",IF(VLOOKUP($E480,site!$B:$F,3,0)=\"\",\"-\",VLOOKUP($E480,site!$B:$F,3,0))))","v":""},{"$f":"IFERROR(IF($C480=\"\",\"\",IF(VLOOKUP($D480,site!$B:$F,5,0)=\"\",\"-\",VLOOKUP($D480,site!$B:$F,5,0))),IF($C480=\"\",\"\",IF(VLOOKUP($E480,site!$B:$F,4,0)=\"\",\"-\",VLOOKUP($E480,site!$B:$F,4,0))))","v":""},{"$f":"IFERROR(IF($C480=\"\",\"\",IF(VLOOKUP($D480,site!$B:$G,6,0)=\"\",\"-\",VLOOKUP($D480,site!$B:$G,6,0))),IF($C480=\"\",\"\",IF(VLOOKUP($E480,site!$B:$G,5,0)=\"\",\"-\",VLOOKUP($E480,site!$B:$G,5,0))))","v":""}]
[null,null,null,null,null,null,null,null,null,null,null,null,null,null,null,null,null,null,{"$f":"IFERROR(IF(C481=\"\",\"\",IF(VLOOKUP(D481,site!$B:$D,3,0)=\"\",\"-\",VLOOKUP(D481,site!$B:$D,3,0))),IF(C481=\"\",\"\",IF(VLOOKUP(E481,site!$C:$D,2,0)=\"\",\"-\",VLOOKUP(E481,site!$C:$D,2,0))))","v":""},{"$f":"IFERROR(IF($C481=\"\",\"\",IF(VLOOKUP($D481,site!$B:$F,4,0)=\"\",\"-\",VLOOKUP($D481,site!$B:$F,4,0))),IF($C481=\"\",\"\",IF(VLOOKUP($E481,site!$B:$F,3,0)=\"\",\"-\",VLOOKUP($E481,site!$B:$F,3,0))))","v":""},{"$f":"IFERROR(IF($C481=\"\",\"\",IF(VLOOKUP($D481,site!$B:$F,5,0)=\"\",\"-\",VLOOKUP($D481,site!$B:$F,5,0))),IF($C481=\"\",\"\",IF(VLOOKUP($E481,site!$B:$F,4,0)=\"\",\"-\",VLOOKUP($E481,site!$B:$F,4,0))))","v":""},{"$f":"IFERROR(IF($C481=\"\",\"\",IF(VLOOKUP($D481,site!$B:$G,6,0)=\"\",\"-\",VLOOKUP($D481,site!$B:$G,6,0))),IF($C481=\"\",\"\",IF(VLOOKUP($E481,site!$B:$G,5,0)=\"\",\"-\",VLOOKUP($E481,site!$B:$G,5,0))))","v":""}]
[null,null,null,null,null,null,null,null,null,null,null,null,null,null,null,null,null,null,{"$f":"IFERROR(IF(C482=\"\",\"\",IF(VLOOKUP(D482,site!$B:$D,3,0)=\"\",\"-\",VLOOKUP(D482,site!$B:$D,3,0))),IF(C482=\"\",\"\",IF(VLOOKUP(E482,site!$C:$D,2,0)=\"\",\"-\",VLOOKUP(E482,site!$C:$D,2,0))))","v":""},{"$f":"IFERROR(IF($C482=\"\",\"\",IF(VLOOKUP($D482,site!$B:$F,4,0)=\"\",\"-\",VLOOKUP($D482,site!$B:$F,4,0))),IF($C482=\"\",\"\",IF(VLOOKUP($E482,site!$B:$F,3,0)=\"\",\"-\",VLOOKUP($E482,site!$B:$F,3,0))))","v":""},{"$f":"IFERROR(IF($C482=\"\",\"\",IF(VLOOKUP($D482,site!$B:$F,5,0)=\"\",\"-\",VLOOKUP($D482,site!$B:$F,5,0))),IF($C482=\"\",\"\",IF(VLOOKUP($E482,site!$B:$F,4,0)=\"\",\"-\",VLOOKUP($E482,site!$B:$F,4,0))))","v":""},{"$f":"IFERROR(IF($C482=\"\",\"\",IF(VLOOKUP($D482,site!$B:$G,6,0)=\"\",\"-\",VLOOKUP($D482,site!$B:$G,6,0))),IF($C482=\"\",\"\",IF(VLOOKUP($E482,site!$B:$G,5,0)=\"\",\"-\",VLOOKUP($E482,site!$B:$G,5,0))))","v":""}]
[null,null,null,null,null,null,null,null,null,null,null,null,null,null,null,null,null,null,{"$f":"IFERROR(IF(C483=\"\",\"\",IF(VLOOKUP(D483,site!$B:$D,3,0)=\"\",\"-\",VLOOKUP(D483,site!$B:$D,3,0))),IF(C483=\"\",\"\",IF(VLOOKUP(E483,site!$C:$D,2,0)=\"\",\"-\",VLOOKUP(E483,site!$C:$D,2,0))))","v":""},{"$f":"IFERROR(IF($C483=\"\",\"\",IF(VLOOKUP($D483,site!$B:$F,4,0)=\"\",\"-\",VLOOKUP($D483,site!$B:$F,4,0))),IF($C483=\"\",\"\",IF(VLOOKUP($E483,site!$B:$F,3,0)=\"\",\"-\",VLOOKUP($E483,site!$B:$F,3,0))))","v":""},{"$f":"IFERROR(IF($C483=\"\",\"\",IF(VLOOKUP($D483,site!$B:$F,5,0)=\"\",\"-\",VLOOKUP($D483,site!$B:$F,5,0))),IF($C483=\"\",\"\",IF(VLOOKUP($E483,site!$B:$F,4,0)=\"\",\"-\",VLOOKUP($E483,site!$B:$F,4,0))))","v":""},{"$f":"IFERROR(IF($C483=\"\",\"\",IF(VLOOKUP($D483,site!$B:$G,6,0)=\"\",\"-\",VLOOKUP($D483,site!$B:$G,6,0))),IF($C483=\"\",\"\",IF(VLOOKUP($E483,site!$B:$G,5,0)=\"\",\"-\",VLOOKUP($E483,site!$B:$G,5,0))))","v":""}]
[null,null,null,null,null,null,null,null,null,null,null,null,null,null,null,null,null,null,{"$f":"IFERROR(IF(C484=\"\",\"\",IF(VLOOKUP(D484,site!$B:$D,3,0)=\"\",\"-\",VLOOKUP(D484,site!$B:$D,3,0))),IF(C484=\"\",\"\",IF(VLOOKUP(E484,site!$C:$D,2,0)=\"\",\"-\",VLOOKUP(E484,site!$C:$D,2,0))))","v":""},{"$f":"IFERROR(IF($C484=\"\",\"\",IF(VLOOKUP($D484,site!$B:$F,4,0)=\"\",\"-\",VLOOKUP($D484,site!$B:$F,4,0))),IF($C484=\"\",\"\",IF(VLOOKUP($E484,site!$B:$F,3,0)=\"\",\"-\",VLOOKUP($E484,site!$B:$F,3,0))))","v":""},{"$f":"IFERROR(IF($C484=\"\",\"\",IF(VLOOKUP($D484,site!$B:$F,5,0)=\"\",\"-\",VLOOKUP($D484,site!$B:$F,5,0))),IF($C484=\"\",\"\",IF(VLOOKUP($E484,site!$B:$F,4,0)=\"\",\"-\",VLOOKUP($E484,site!$B:$F,4,0))))","v":""},{"$f":"IFERROR(IF($C484=\"\",\"\",IF(VLOOKUP($D484,site!$B:$G,6,0)=\"\",\"-\",VLOOKUP($D484,site!$B:$G,6,0))),IF($C484=\"\",\"\",IF(VLOOKUP($E484,site!$B:$G,5,0)=\"\",\"-\",VLOOKUP($E484,site!$B:$G,5,0))))","v":""}]
[null,null,null,null,null,null,null,null,null,null,null,null,null,null,null,null,null,null,{"$f":"IFERROR(IF(C485=\"\",\"\",IF(VLOOKUP(D485,site!$B:$D,3,0)=\"\",\"-\",VLOOKUP(D485,site!$B:$D,3,0))),IF(C485=\"\",\"\",IF(VLOOKUP(E485,site!$C:$D,2,0)=\"\",\"-\",VLOOKUP(E485,site!$C:$D,2,0))))","v":""},{"$f":"IFERROR(IF($C485=\"\",\"\",IF(VLOOKUP($D485,site!$B:$F,4,0)=\"\",\"-\",VLOOKUP($D485,site!$B:$F,4,0))),IF($C485=\"\",\"\",IF(VLOOKUP($E485,site!$B:$F,3,0)=\"\",\"-\",VLOOKUP($E485,site!$B:$F,3,0))))","v":""},{"$f":"IFERROR(IF($C485=\"\",\"\",IF(VLOOKUP($D485,site!$B:$F,5,0)=\"\",\"-\",VLOOKUP($D485,site!$B:$F,5,0))),IF($C485=\"\",\"\",IF(VLOOKUP($E485,site!$B:$F,4,0)=\"\",\"-\",VLOOKUP($E485,site!$B:$F,4,0))))","v":""},{"$f":"IFERROR(IF($C485=\"\",\"\",IF(VLOOKUP($D485,site!$B:$G,6,0)=\"\",\"-\",VLOOKUP($D485,site!$B:$G,6,0))),IF($C485=\"\",\"\",IF(VLOOKUP($E485,site!$B:$G,5,0)=\"\",\"-\",VLOOKUP($E485,site!$B:$G,5,0))))","v":""}]
[null,null,null,null,null,null,null,null,null,null,null,null,null,null,null,null,null,null,{"$f":"IFERROR(IF(C486=\"\",\"\",IF(VLOOKUP(D486,site!$B:$D,3,0)=\"\",\"-\",VLOOKUP(D486,site!$B:$D,3,0))),IF(C486=\"\",\"\",IF(VLOOKUP(E486,site!$C:$D,2,0)=\"\",\"-\",VLOOKUP(E486,site!$C:$D,2,0))))","v":""},{"$f":"IFERROR(IF($C486=\"\",\"\",IF(VLOOKUP($D486,site!$B:$F,4,0)=\"\",\"-\",VLOOKUP($D486,site!$B:$F,4,0))),IF($C486=\"\",\"\",IF(VLOOKUP($E486,site!$B:$F,3,0)=\"\",\"-\",VLOOKUP($E486,site!$B:$F,3,0))))","v":""},{"$f":"IFERROR(IF($C486=\"\",\"\",IF(VLOOKUP($D486,site!$B:$F,5,0)=\"\",\"-\",VLOOKUP($D486,site!$B:$F,5,0))),IF($C486=\"\",\"\",IF(VLOOKUP($E486,site!$B:$F,4,0)=\"\",\"-\",VLOOKUP($E486,site!$B:$F,4,0))))","v":""},{"$f":"IFERROR(IF($C486=\"\",\"\",IF(VLOOKUP($D486,site!$B:$G,6,0)=\"\",\"-\",VLOOKUP($D486,site!$B:$G,6,0))),IF($C486=\"\",\"\",IF(VLOOKUP($E486,site!$B:$G,5,0)=\"\",\"-\",VLOOKUP($E486,site!$B:$G,5,0))))","v":""}]
[null,null,null,null,null,null,null,null,null,null,null,null,null,null,null,null,null,null,{"$f":"IFERROR(IF(C487=\"\",\"\",IF(VLOOKUP(D487,site!$B:$D,3,0)=\"\",\"-\",VLOOKUP(D487,site!$B:$D,3,0))),IF(C487=\"\",\"\",IF(VLOOKUP(E487,site!$C:$D,2,0)=\"\",\"-\",VLOOKUP(E487,site!$C:$D,2,0))))","v":""},{"$f":"IFERROR(IF($C487=\"\",\"\",IF(VLOOKUP($D487,site!$B:$F,4,0)=\"\",\"-\",VLOOKUP($D487,site!$B:$F,4,0))),IF($C487=\"\",\"\",IF(VLOOKUP($E487,site!$B:$F,3,0)=\"\",\"-\",VLOOKUP($E487,site!$B:$F,3,0))))","v":""},{"$f":"IFERROR(IF($C487=\"\",\"\",IF(VLOOKUP($D487,site!$B:$F,5,0)=\"\",\"-\",VLOOKUP($D487,site!$B:$F,5,0))),IF($C487=\"\",\"\",IF(VLOOKUP($E487,site!$B:$F,4,0)=\"\",\"-\",VLOOKUP($E487,site!$B:$F,4,0))))","v":""},{"$f":"IFERROR(IF($C487=\"\",\"\",IF(VLOOKUP($D487,site!$B:$G,6,0)=\"\",\"-\",VLOOKUP($D487,site!$B:$G,6,0))),IF($C487=\"\",\"\",IF(VLOOKUP($E487,site!$B:$G,5,0)=\"\",\"-\",VLOOKUP($E487,site!$B:$G,5,0))))","v":""}]
[null,null,null,null,null,null,null,null,null,null,null,null,null,null,null,null,null,null,{"$f":"IFERROR(IF(C488=\"\",\"\",IF(VLOOKUP(D488,site!$B:$D,3,0)=\"\",\"-\",VLOOKUP(D488,site!$B:$D,3,0))),IF(C488=\"\",\"\",IF(VLOOKUP(E488,site!$C:$D,2,0)=\"\",\"-\",VLOOKUP(E488,site!$C:$D,2,0))))","v":""},{"$f":"IFERROR(IF($C488=\"\",\"\",IF(VLOOKUP($D488,site!$B:$F,4,0)=\"\",\"-\",VLOOKUP($D488,site!$B:$F,4,0))),IF($C488=\"\",\"\",IF(VLOOKUP($E488,site!$B:$F,3,0)=\"\",\"-\",VLOOKUP($E488,site!$B:$F,3,0))))","v":""},{"$f":"IFERROR(IF($C488=\"\",\"\",IF(VLOOKUP($D488,site!$B:$F,5,0)=\"\",\"-\",VLOOKUP($D488,site!$B:$F,5,0))),IF($C488=\"\",\"\",IF(VLOOKUP($E488,site!$B:$F,4,0)=\"\",\"-\",VLOOKUP($E488,site!$B:$F,4,0))))","v":""},{"$f":"IFERROR(IF($C488=\"\",\"\",IF(VLOOKUP($D488,site!$B:$G,6,0)=\"\",\"-\",VLOOKUP($D488,site!$B:$G,6,0))),IF($C488=\"\",\"\",IF(VLOOKUP($E488,site!$B:$G,5,0)=\"\",\"-\",VLOOKUP($E488,site!$B:$G,5,0))))","v":""}]
[null,null,null,null,null,null,null,null,null,null,null,null,null,null,null,null,null,null,{"$f":"IFERROR(IF(C489=\"\",\"\",IF(VLOOKUP(D489,site!$B:$D,3,0)=\"\",\"-\",VLOOKUP(D489,site!$B:$D,3,0))),IF(C489=\"\",\"\",IF(VLOOKUP(E489,site!$C:$D,2,0)=\"\",\"-\",VLOOKUP(E489,site!$C:$D,2,0))))","v":""},{"$f":"IFERROR(IF($C489=\"\",\"\",IF(VLOOKUP($D489,site!$B:$F,4,0)=\"\",\"-\",VLOOKUP($D489,site!$B:$F,4,0))),IF($C489=\"\",\"\",IF(VLOOKUP($E489,site!$B:$F,3,0)=\"\",\"-\",VLOOKUP($E489,site!$B:$F,3,0))))","v":""},{"$f":"IFERROR(IF($C489=\"\",\"\",IF(VLOOKUP($D489,site!$B:$F,5,0)=\"\",\"-\",VLOOKUP($D489,site!$B:$F,5,0))),IF($C489=\"\",\"\",IF(VLOOKUP($E489,site!$B:$F,4,0)=\"\",\"-\",VLOOKUP($E489,site!$B:$F,4,0))))","v":""},{"$f":"IFERROR(IF($C489=\"\",\"\",IF(VLOOKUP($D489,site!$B:$G,6,0)=\"\",\"-\",VLOOKUP($D489,site!$B:$G,6,0))),IF($C489=\"\",\"\",IF(VLOOKUP($E489,site!$B:$G,5,0)=\"\",\"-\",VLOOKUP($E489,site!$B:$G,5,0))))","v":""}]
[null,null,null,null,null,null,null,null,null,null,null,null,null,null,null,null,null,null,{"$f":"IFERROR(IF(C490=\"\",\"\",IF(VLOOKUP(D490,site!$B:$D,3,0)=\"\",\"-\",VLOOKUP(D490,site!$B:$D,3,0))),IF(C490=\"\",\"\",IF(VLOOKUP(E490,site!$C:$D,2,0)=\"\",\"-\",VLOOKUP(E490,site!$C:$D,2,0))))","v":""},{"$f":"IFERROR(IF($C490=\"\",\"\",IF(VLOOKUP($D490,site!$B:$F,4,0)=\"\",\"-\",VLOOKUP($D490,site!$B:$F,4,0))),IF($C490=\"\",\"\",IF(VLOOKUP($E490,site!$B:$F,3,0)=\"\",\"-\",VLOOKUP($E490,site!$B:$F,3,0))))","v":""},{"$f":"IFERROR(IF($C490=\"\",\"\",IF(VLOOKUP($D490,site!$B:$F,5,0)=\"\",\"-\",VLOOKUP($D490,site!$B:$F,5,0))),IF($C490=\"\",\"\",IF(VLOOKUP($E490,site!$B:$F,4,0)=\"\",\"-\",VLOOKUP($E490,site!$B:$F,4,0))))","v":""},{"$f":"IFERROR(IF($C490=\"\",\"\",IF(VLOOKUP($D490,site!$B:$G,6,0)=\"\",\"-\",VLOOKUP($D490,site!$B:$G,6,0))),IF($C490=\"\",\"\",IF(VLOOKUP($E490,site!$B:$G,5,0)=\"\",\"-\",VLOOKUP($E490,site!$B:$G,5,0))))","v":""}]
[null,null,null,null,null,null,null,null,null,null,null,null,null,null,null,null,null,null,{"$f":"IFERROR(IF(C491=\"\",\"\",IF(VLOOKUP(D491,site!$B:$D,3,0)=\"\",\"-\",VLOOKUP(D491,site!$B:$D,3,0))),IF(C491=\"\",\"\",IF(VLOOKUP(E491,site!$C:$D,2,0)=\"\",\"-\",VLOOKUP(E491,site!$C:$D,2,0))))","v":""},{"$f":"IFERROR(IF($C491=\"\",\"\",IF(VLOOKUP($D491,site!$B:$F,4,0)=\"\",\"-\",VLOOKUP($D491,site!$B:$F,4,0))),IF($C491=\"\",\"\",IF(VLOOKUP($E491,site!$B:$F,3,0)=\"\",\"-\",VLOOKUP($E491,site!$B:$F,3,0))))","v":""},{"$f":"IFERROR(IF($C491=\"\",\"\",IF(VLOOKUP($D491,site!$B:$F,5,0)=\"\",\"-\",VLOOKUP($D491,site!$B:$F,5,0))),IF($C491=\"\",\"\",IF(VLOOKUP($E491,site!$B:$F,4,0)=\"\",\"-\",VLOOKUP($E491,site!$B:$F,4,0))))","v":""},{"$f":"IFERROR(IF($C491=\"\",\"\",IF(VLOOKUP($D491,site!$B:$G,6,0)=\"\",\"-\",VLOOKUP($D491,site!$B:$G,6,0))),IF($C491=\"\",\"\",IF(VLOOKUP($E491,site!$B:$G,5,0)=\"\",\"-\",VLOOKUP($E491,site!$B:$G,5,0))))","v":""}]
[null,null,null,null,null,null,null,null,null,null,null,null,null,null,null,null,null,null,{"$f":"IFERROR(IF(C492=\"\",\"\",IF(VLOOKUP(D492,site!$B:$D,3,0)=\"\",\"-\",VLOOKUP(D492,site!$B:$D,3,0))),IF(C492=\"\",\"\",IF(VLOOKUP(E492,site!$C:$D,2,0)=\"\",\"-\",VLOOKUP(E492,site!$C:$D,2,0))))","v":""},{"$f":"IFERROR(IF($C492=\"\",\"\",IF(VLOOKUP($D492,site!$B:$F,4,0)=\"\",\"-\",VLOOKUP($D492,site!$B:$F,4,0))),IF($C492=\"\",\"\",IF(VLOOKUP($E492,site!$B:$F,3,0)=\"\",\"-\",VLOOKUP($E492,site!$B:$F,3,0))))","v":""},{"$f":"IFERROR(IF($C492=\"\",\"\",IF(VLOOKUP($D492,site!$B:$F,5,0)=\"\",\"-\",VLOOKUP($D492,site!$B:$F,5,0))),IF($C492=\"\",\"\",IF(VLOOKUP($E492,site!$B:$F,4,0)=\"\",\"-\",VLOOKUP($E492,site!$B:$F,4,0))))","v":""},{"$f":"IFERROR(IF($C492=\"\",\"\",IF(VLOOKUP($D492,site!$B:$G,6,0)=\"\",\"-\",VLOOKUP($D492,site!$B:$G,6,0))),IF($C492=\"\",\"\",IF(VLOOKUP($E492,site!$B:$G,5,0)=\"\",\"-\",VLOOKUP($E492,site!$B:$G,5,0))))","v":""}]
[null,null,null,null,null,null,null,null,null,null,null,null,null,null,null,null,null,null,{"$f":"IFERROR(IF(C493=\"\",\"\",IF(VLOOKUP(D493,site!$B:$D,3,0)=\"\",\"-\",VLOOKUP(D493,site!$B:$D,3,0))),IF(C493=\"\",\"\",IF(VLOOKUP(E493,site!$C:$D,2,0)=\"\",\"-\",VLOOKUP(E493,site!$C:$D,2,0))))","v":""},{"$f":"IFERROR(IF($C493=\"\",\"\",IF(VLOOKUP($D493,site!$B:$F,4,0)=\"\",\"-\",VLOOKUP($D493,site!$B:$F,4,0))),IF($C493=\"\",\"\",IF(VLOOKUP($E493,site!$B:$F,3,0)=\"\",\"-\",VLOOKUP($E493,site!$B:$F,3,0))))","v":""},{"$f":"IFERROR(IF($C493=\"\",\"\",IF(VLOOKUP($D493,site!$B:$F,5,0)=\"\",\"-\",VLOOKUP($D493,site!$B:$F,5,0))),IF($C493=\"\",\"\",IF(VLOOKUP($E493,site!$B:$F,4,0)=\"\",\"-\",VLOOKUP($E493,site!$B:$F,4,0))))","v":""},{"$f":"IFERROR(IF($C493=\"\",\"\",IF(VLOOKUP($D493,site!$B:$G,6,0)=\"\",\"-\",VLOOKUP($D493,site!$B:$G,6,0))),IF($C493=\"\",\"\",IF(VLOOKUP($E493,site!$B:$G,5,0)=\"\",\"-\",VLOOKUP($E493,site!$B:$G,5,0))))","v":""}]
[null,null,null,null,null,null,null,null,null,null,null,null,null,null,null,null,null,null,{"$f":"IFERROR(IF(C494=\"\",\"\",IF(VLOOKUP(D494,site!$B:$D,3,0)=\"\",\"-\",VLOOKUP(D494,site!$B:$D,3,0))),IF(C494=\"\",\"\",IF(VLOOKUP(E494,site!$C:$D,2,0)=\"\",\"-\",VLOOKUP(E494,site!$C:$D,2,0))))","v":""},{"$f":"IFERROR(IF($C494=\"\",\"\",IF(VLOOKUP($D494,site!$B:$F,4,0)=\"\",\"-\",VLOOKUP($D494,site!$B:$F,4,0))),IF($C494=\"\",\"\",IF(VLOOKUP($E494,site!$B:$F,3,0)=\"\",\"-\",VLOOKUP($E494,site!$B:$F,3,0))))","v":""},{"$f":"IFERROR(IF($C494=\"\",\"\",IF(VLOOKUP($D494,site!$B:$F,5,0)=\"\",\"-\",VLOOKUP($D494,site!$B:$F,5,0))),IF($C494=\"\",\"\",IF(VLOOKUP($E494,site!$B:$F,4,0)=\"\",\"-\",VLOOKUP($E494,site!$B:$F,4,0))))","v":""},{"$f":"IFERROR(IF($C494=\"\",\"\",IF(VLOOKUP($D494,site!$B:$G,6,0)=\"\",\"-\",VLOOKUP($D494,site!$B:$G,6,0))),IF($C494=\"\",\"\",IF(VLOOKUP($E494,site!$B:$G,5,0)=\"\",\"-\",VLOOKUP($E494,site!$B:$G,5,0))))","v":""}]
[null,null,null,null,null,null,null,null,null,null,null,null,null,null,null,null,null,null,{"$f":"IFERROR(IF(C495=\"\",\"\",IF(VLOOKUP(D495,site!$B:$D,3,0)=\"\",\"-\",VLOOKUP(D495,site!$B:$D,3,0))),IF(C495=\"\",\"\",IF(VLOOKUP(E495,site!$C:$D,2,0)=\"\",\"-\",VLOOKUP(E495,site!$C:$D,2,0))))","v":""},{"$f":"IFERROR(IF($C495=\"\",\"\",IF(VLOOKUP($D495,site!$B:$F,4,0)=\"\",\"-\",VLOOKUP($D495,site!$B:$F,4,0))),IF($C495=\"\",\"\",IF(VLOOKUP($E495,site!$B:$F,3,0)=\"\",\"-\",VLOOKUP($E495,site!$B:$F,3,0))))","v":""},{"$f":"IFERROR(IF($C495=\"\",\"\",IF(VLOOKUP($D495,site!$B:$F,5,0)=\"\",\"-\",VLOOKUP($D495,site!$B:$F,5,0))),IF($C495=\"\",\"\",IF(VLOOKUP($E495,site!$B:$F,4,0)=\"\",\"-\",VLOOKUP($E495,site!$B:$F,4,0))))","v":""},{"$f":"IFERROR(IF($C495=\"\",\"\",IF(VLOOKUP($D495,site!$B:$G,6,0)=\"\",\"-\",VLOOKUP($D495,site!$B:$G,6,0))),IF($C495=\"\",\"\",IF(VLOOKUP($E495,site!$B:$G,5,0)=\"\",\"-\",VLOOKUP($E495,site!$B:$G,5,0))))","v":""}]
[null,null,null,null,null,null,null,null,null,null,null,null,null,null,null,null,null,null,{"$f":"IFERROR(IF(C496=\"\",\"\",IF(VLOOKUP(D496,site!$B:$D,3,0)=\"\",\"-\",VLOOKUP(D496,site!$B:$D,3,0))),IF(C496=\"\",\"\",IF(VLOOKUP(E496,site!$C:$D,2,0)=\"\",\"-\",VLOOKUP(E496,site!$C:$D,2,0))))","v":""},{"$f":"IFERROR(IF($C496=\"\",\"\",IF(VLOOKUP($D496,site!$B:$F,4,0)=\"\",\"-\",VLOOKUP($D496,site!$B:$F,4,0))),IF($C496=\"\",\"\",IF(VLOOKUP($E496,site!$B:$F,3,0)=\"\",\"-\",VLOOKUP($E496,site!$B:$F,3,0))))","v":""},{"$f":"IFERROR(IF($C496=\"\",\"\",IF(VLOOKUP($D496,site!$B:$F,5,0)=\"\",\"-\",VLOOKUP($D496,site!$B:$F,5,0))),IF($C496=\"\",\"\",IF(VLOOKUP($E496,site!$B:$F,4,0)=\"\",\"-\",VLOOKUP($E496,site!$B:$F,4,0))))","v":""},{"$f":"IFERROR(IF($C496=\"\",\"\",IF(VLOOKUP($D496,site!$B:$G,6,0)=\"\",\"-\",VLOOKUP($D496,site!$B:$G,6,0))),IF($C496=\"\",\"\",IF(VLOOKUP($E496,site!$B:$G,5,0)=\"\",\"-\",VLOOKUP($E496,site!$B:$G,5,0))))","v":""}]
[null,null,null,null,null,null,null,null,null,null,null,null,null,null,null,null,null,null,{"$f":"IFERROR(IF(C497=\"\",\"\",IF(VLOOKUP(D497,site!$B:$D,3,0)=\"\",\"-\",VLOOKUP(D497,site!$B:$D,3,0))),IF(C497=\"\",\"\",IF(VLOOKUP(E497,site!$C:$D,2,0)=\"\",\"-\",VLOOKUP(E497,site!$C:$D,2,0))))","v":""},{"$f":"IFERROR(IF($C497=\"\",\"\",IF(VLOOKUP($D497,site!$B:$F,4,0)=\"\",\"-\",VLOOKUP($D497,site!$B:$F,4,0))),IF($C497=\"\",\"\",IF(VLOOKUP($E497,site!$B:$F,3,0)=\"\",\"-\",VLOOKUP($E497,site!$B:$F,3,0))))","v":""},{"$f":"IFERROR(IF($C497=\"\",\"\",IF(VLOOKUP($D497,site!$B:$F,5,0)=\"\",\"-\",VLOOKUP($D497,site!$B:$F,5,0))),IF($C497=\"\",\"\",IF(VLOOKUP($E497,site!$B:$F,4,0)=\"\",\"-\",VLOOKUP($E497,site!$B:$F,4,0))))","v":""},{"$f":"IFERROR(IF($C497=\"\",\"\",IF(VLOOKUP($D497,site!$B:$G,6,0)=\"\",\"-\",VLOOKUP($D497,site!$B:$G,6,0))),IF($C497=\"\",\"\",IF(VLOOKUP($E497,site!$B:$G,5,0)=\"\",\"-\",VLOOKUP($E497,site!$B:$G,5,0))))","v":""}]
[null,null,null,null,null,null,null,null,null,null,null,null,null,null,null,null,null,null,{"$f":"IFERROR(IF(C498=\"\",\"\",IF(VLOOKUP(D498,site!$B:$D,3,0)=\"\",\"-\",VLOOKUP(D498,site!$B:$D,3,0))),IF(C498=\"\",\"\",IF(VLOOKUP(E498,site!$C:$D,2,0)=\"\",\"-\",VLOOKUP(E498,site!$C:$D,2,0))))","v":""},{"$f":"IFERROR(IF($C498=\"\",\"\",IF(VLOOKUP($D498,site!$B:$F,4,0)=\"\",\"-\",VLOOKUP($D498,site!$B:$F,4,0))),IF($C498=\"\",\"\",IF(VLOOKUP($E498,site!$B:$F,3,0)=\"\",\"-\",VLOOKUP($E498,site!$B:$F,3,0))))","v":""},{"$f":"IFERROR(IF($C498=\"\",\"\",IF(VLOOKUP($D498,site!$B:$F,5,0)=\"\",\"-\",VLOOKUP($D498,site!$B:$F,5,0))),IF($C498=\"\",\"\",IF(VLOOKUP($E498,site!$B:$F,4,0)=\"\",\"-\",VLOOKUP($E498,site!$B:$F,4,0))))","v":""},{"$f":"IFERROR(IF($C498=\"\",\"\",IF(VLOOKUP($D498,site!$B:$G,6,0)=\"\",\"-\",VLOOKUP($D498,site!$B:$G,6,0))),IF($C498=\"\",\"\",IF(VLOOKUP($E498,site!$B:$G,5,0)=\"\",\"-\",VLOOKUP($E498,site!$B:$G,5,0))))","v":""}]
[null,null,null,null,null,null,null,null,null,null,null,null,null,null,null,null,null,null,{"$f":"IFERROR(IF(C499=\"\",\"\",IF(VLOOKUP(D499,site!$B:$D,3,0)=\"\",\"-\",VLOOKUP(D499,site!$B:$D,3,0))),IF(C499=\"\",\"\",IF(VLOOKUP(E499,site!$C:$D,2,0)=\"\",\"-\",VLOOKUP(E499,site!$C:$D,2,0))))","v":""},{"$f":"IFERROR(IF($C499=\"\",\"\",IF(VLOOKUP($D499,site!$B:$F,4,0)=\"\",\"-\",VLOOKUP($D499,site!$B:$F,4,0))),IF($C499=\"\",\"\",IF(VLOOKUP($E499,site!$B:$F,3,0)=\"\",\"-\",VLOOKUP($E499,site!$B:$F,3,0))))","v":""},{"$f":"IFERROR(IF($C499=\"\",\"\",IF(VLOOKUP($D499,site!$B:$F,5,0)=\"\",\"-\",VLOOKUP($D499,site!$B:$F,5,0))),IF($C499=\"\",\"\",IF(VLOOKUP($E499,site!$B:$F,4,0)=\"\",\"-\",VLOOKUP($E499,site!$B:$F,4,0))))","v":""},{"$f":"IFERROR(IF($C499=\"\",\"\",IF(VLOOKUP($D499,site!$B:$G,6,0)=\"\",\"-\",VLOOKUP($D499,site!$B:$G,6,0))),IF($C499=\"\",\"\",IF(VLOOKUP($E499,site!$B:$G,5,0)=\"\",\"-\",VLOOKUP($E499,site!$B:$G,5,0))))","v":""}]
[null,null,null,null,null,null,null,null,null,null,null,null,null,null,null,null,null,null,{"$f":"IFERROR(IF(C500=\"\",\"\",IF(VLOOKUP(D500,site!$B:$D,3,0)=\"\",\"-\",VLOOKUP(D500,site!$B:$D,3,0))),IF(C500=\"\",\"\",IF(VLOOKUP(E500,site!$C:$D,2,0)=\"\",\"-\",VLOOKUP(E500,site!$C:$D,2,0))))","v":""},{"$f":"IFERROR(IF($C500=\"\",\"\",IF(VLOOKUP($D500,site!$B:$F,4,0)=\"\",\"-\",VLOOKUP($D500,site!$B:$F,4,0))),IF($C500=\"\",\"\",IF(VLOOKUP($E500,site!$B:$F,3,0)=\"\",\"-\",VLOOKUP($E500,site!$B:$F,3,0))))","v":""},{"$f":"IFERROR(IF($C500=\"\",\"\",IF(VLOOKUP($D500,site!$B:$F,5,0)=\"\",\"-\",VLOOKUP($D500,site!$B:$F,5,0))),IF($C500=\"\",\"\",IF(VLOOKUP($E500,site!$B:$F,4,0)=\"\",\"-\",VLOOKUP($E500,site!$B:$F,4,0))))","v":""},{"$f":"IFERROR(IF($C500=\"\",\"\",IF(VLOOKUP($D500,site!$B:$G,6,0)=\"\",\"-\",VLOOKUP($D500,site!$B:$G,6,0))),IF($C500=\"\",\"\",IF(VLOOKUP($E500,site!$B:$G,5,0)=\"\",\"-\",VLOOKUP($E500,site!$B:$G,5,0))))","v":""}]
[null,null,null,null,null,null,null,null,null,null,null,null,null,null,null,null,null,null,{"$f":"IFERROR(IF(C501=\"\",\"\",IF(VLOOKUP(D501,site!$B:$D,3,0)=\"\",\"-\",VLOOKUP(D501,site!$B:$D,3,0))),IF(C501=\"\",\"\",IF(VLOOKUP(E501,site!$C:$D,2,0)=\"\",\"-\",VLOOKUP(E501,site!$C:$D,2,0))))","v":""},{"$f":"IFERROR(IF($C501=\"\",\"\",IF(VLOOKUP($D501,site!$B:$F,4,0)=\"\",\"-\",VLOOKUP($D501,site!$B:$F,4,0))),IF($C501=\"\",\"\",IF(VLOOKUP($E501,site!$B:$F,3,0)=\"\",\"-\",VLOOKUP($E501,site!$B:$F,3,0))))","v":""},{"$f":"IFERROR(IF($C501=\"\",\"\",IF(VLOOKUP($D501,site!$B:$F,5,0)=\"\",\"-\",VLOOKUP($D501,site!$B:$F,5,0))),IF($C501=\"\",\"\",IF(VLOOKUP($E501,site!$B:$F,4,0)=\"\",\"-\",VLOOKUP($E501,site!$B:$F,4,0))))","v":""},{"$f":"IFERROR(IF($C501=\"\",\"\",IF(VLOOKUP($D501,site!$B:$G,6,0)=\"\",\"-\",VLOOKUP($D501,site!$B:$G,6,0))),IF($C501=\"\",\"\",IF(VLOOKUP($E501,site!$B:$G,5,0)=\"\",\"-\",VLOOKUP($E501,site!$B:$G,5,0))))","v":""}]
[null,null,null,null,null,null,null,null,null,null,null,null,null,null,null,null,null,null,{"$f":"IFERROR(IF(C502=\"\",\"\",IF(VLOOKUP(D502,site!$B:$D,3,0)=\"\",\"-\",VLOOKUP(D502,site!$B:$D,3,0))),IF(C502=\"\",\"\",IF(VLOOKUP(E502,site!$C:$D,2,0)=\"\",\"-\",VLOOKUP(E502,site!$C:$D,2,0))))","v":""},{"$f":"IFERROR(IF($C502=\"\",\"\",IF(VLOOKUP($D502,site!$B:$F,4,0)=\"\",\"-\",VLOOKUP($D502,site!$B:$F,4,0))),IF($C502=\"\",\"\",IF(VLOOKUP($E502,site!$B:$F,3,0)=\"\",\"-\",VLOOKUP($E502,site!$B:$F,3,0))))","v":""},{"$f":"IFERROR(IF($C502=\"\",\"\",IF(VLOOKUP($D502,site!$B:$F,5,0)=\"\",\"-\",VLOOKUP($D502,site!$B:$F,5,0))),IF($C502=\"\",\"\",IF(VLOOKUP($E502,site!$B:$F,4,0)=\"\",\"-\",VLOOKUP($E502,site!$B:$F,4,0))))","v":""},{"$f":"IFERROR(IF($C502=\"\",\"\",IF(VLOOKUP($D502,site!$B:$G,6,0)=\"\",\"-\",VLOOKUP($D502,site!$B:$G,6,0))),IF($C502=\"\",\"\",IF(VLOOKUP($E502,site!$B:$G,5,0)=\"\",\"-\",VLOOKUP($E502,site!$B:$G,5,0))))","v":""}]
[null,null,null,null,null,null,null,null,null,null,null,null,null,null,null,null,null,null,{"$f":"IFERROR(IF(C503=\"\",\"\",IF(VLOOKUP(D503,site!$B:$D,3,0)=\"\",\"-\",VLOOKUP(D503,site!$B:$D,3,0))),IF(C503=\"\",\"\",IF(VLOOKUP(E503,site!$C:$D,2,0)=\"\",\"-\",VLOOKUP(E503,site!$C:$D,2,0))))","v":""},{"$f":"IFERROR(IF($C503=\"\",\"\",IF(VLOOKUP($D503,site!$B:$F,4,0)=\"\",\"-\",VLOOKUP($D503,site!$B:$F,4,0))),IF($C503=\"\",\"\",IF(VLOOKUP($E503,site!$B:$F,3,0)=\"\",\"-\",VLOOKUP($E503,site!$B:$F,3,0))))","v":""},{"$f":"IFERROR(IF($C503=\"\",\"\",IF(VLOOKUP($D503,site!$B:$F,5,0)=\"\",\"-\",VLOOKUP($D503,site!$B:$F,5,0))),IF($C503=\"\",\"\",IF(VLOOKUP($E503,site!$B:$F,4,0)=\"\",\"-\",VLOOKUP($E503,site!$B:$F,4,0))))","v":""},{"$f":"IFERROR(IF($C503=\"\",\"\",IF(VLOOKUP($D503,site!$B:$G,6,0)=\"\",\"-\",VLOOKUP($D503,site!$B:$G,6,0))),IF($C503=\"\",\"\",IF(VLOOKUP($E503,site!$B:$G,5,0)=\"\",\"-\",VLOOKUP($E503,site!$B:$G,5,0))))","v":""}]
[null,null,null,null,null,null,null,null,null,null,null,null,null,null,null,null,null,null,{"$f":"IFERROR(IF(C504=\"\",\"\",IF(VLOOKUP(D504,site!$B:$D,3,0)=\"\",\"-\",VLOOKUP(D504,site!$B:$D,3,0))),IF(C504=\"\",\"\",IF(VLOOKUP(E504,site!$C:$D,2,0)=\"\",\"-\",VLOOKUP(E504,site!$C:$D,2,0))))","v":""},{"$f":"IFERROR(IF($C504=\"\",\"\",IF(VLOOKUP($D504,site!$B:$F,4,0)=\"\",\"-\",VLOOKUP($D504,site!$B:$F,4,0))),IF($C504=\"\",\"\",IF(VLOOKUP($E504,site!$B:$F,3,0)=\"\",\"-\",VLOOKUP($E504,site!$B:$F,3,0))))","v":""},{"$f":"IFERROR(IF($C504=\"\",\"\",IF(VLOOKUP($D504,site!$B:$F,5,0)=\"\",\"-\",VLOOKUP($D504,site!$B:$F,5,0))),IF($C504=\"\",\"\",IF(VLOOKUP($E504,site!$B:$F,4,0)=\"\",\"-\",VLOOKUP($E504,site!$B:$F,4,0))))","v":""},{"$f":"IFERROR(IF($C504=\"\",\"\",IF(VLOOKUP($D504,site!$B:$G,6,0)=\"\",\"-\",VLOOKUP($D504,site!$B:$G,6,0))),IF($C504=\"\",\"\",IF(VLOOKUP($E504,site!$B:$G,5,0)=\"\",\"-\",VLOOKUP($E504,site!$B:$G,5,0))))","v":""}]
[null,null,null,null,null,null,null,null,null,null,null,null,null,null,null,null,null,null,{"$f":"IFERROR(IF(C505=\"\",\"\",IF(VLOOKUP(D505,site!$B:$D,3,0)=\"\",\"-\",VLOOKUP(D505,site!$B:$D,3,0))),IF(C505=\"\",\"\",IF(VLOOKUP(E505,site!$C:$D,2,0)=\"\",\"-\",VLOOKUP(E505,site!$C:$D,2,0))))","v":""},{"$f":"IFERROR(IF($C505=\"\",\"\",IF(VLOOKUP($D505,site!$B:$F,4,0)=\"\",\"-\",VLOOKUP($D505,site!$B:$F,4,0))),IF($C505=\"\",\"\",IF(VLOOKUP($E505,site!$B:$F,3,0)=\"\",\"-\",VLOOKUP($E505,site!$B:$F,3,0))))","v":""},{"$f":"IFERROR(IF($C505=\"\",\"\",IF(VLOOKUP($D505,site!$B:$F,5,0)=\"\",\"-\",VLOOKUP($D505,site!$B:$F,5,0))),IF($C505=\"\",\"\",IF(VLOOKUP($E505,site!$B:$F,4,0)=\"\",\"-\",VLOOKUP($E505,site!$B:$F,4,0))))","v":""},{"$f":"IFERROR(IF($C505=\"\",\"\",IF(VLOOKUP($D505,site!$B:$G,6,0)=\"\",\"-\",VLOOKUP($D505,site!$B:$G,6,0))),IF($C505=\"\",\"\",IF(VLOOKUP($E505,site!$B:$G,5,0)=\"\",\"-\",VLOOKUP($E505,site!$B:$G,5,0))))","v":""}]
[null,null,null,null,null,null,null,null,null,null,null,null,null,null,null,null,null,null,{"$f":"IFERROR(IF(C506=\"\",\"\",IF(VLOOKUP(D506,site!$B:$D,3,0)=\"\",\"-\",VLOOKUP(D506,site!$B:$D,3,0))),IF(C506=\"\",\"\",IF(VLOOKUP(E506,site!$C:$D,2,0)=\"\",\"-\",VLOOKUP(E506,site!$C:$D,2,0))))","v":""},{"$f":"IFERROR(IF($C506=\"\",\"\",IF(VLOOKUP($D506,site!$B:$F,4,0)=\"\",\"-\",VLOOKUP($D506,site!$B:$F,4,0))),IF($C506=\"\",\"\",IF(VLOOKUP($E506,site!$B:$F,3,0)=\"\",\"-\",VLOOKUP($E506,site!$B:$F,3,0))))","v":""},{"$f":"IFERROR(IF($C506=\"\",\"\",IF(VLOOKUP($D506,site!$B:$F,5,0)=\"\",\"-\",VLOOKUP($D506,site!$B:$F,5,0))),IF($C506=\"\",\"\",IF(VLOOKUP($E506,site!$B:$F,4,0)=\"\",\"-\",VLOOKUP($E506,site!$B:$F,4,0))))","v":""},{"$f":"IFERROR(IF($C506=\"\",\"\",IF(VLOOKUP($D506,site!$B:$G,6,0)=\"\",\"-\",VLOOKUP($D506,site!$B:$G,6,0))),IF($C506=\"\",\"\",IF(VLOOKUP($E506,site!$B:$G,5,0)=\"\",\"-\",VLOOKUP($E506,site!$B:$G,5,0))))","v":""}]
[null,null,null,null,null,null,null,null,null,null,null,null,null,null,null,null,null,null,{"$f":"IFERROR(IF(C507=\"\",\"\",IF(VLOOKUP(D507,site!$B:$D,3,0)=\"\",\"-\",VLOOKUP(D507,site!$B:$D,3,0))),IF(C507=\"\",\"\",IF(VLOOKUP(E507,site!$C:$D,2,0)=\"\",\"-\",VLOOKUP(E507,site!$C:$D,2,0))))","v":""},{"$f":"IFERROR(IF($C507=\"\",\"\",IF(VLOOKUP($D507,site!$B:$F,4,0)=\"\",\"-\",VLOOKUP($D507,site!$B:$F,4,0))),IF($C507=\"\",\"\",IF(VLOOKUP($E507,site!$B:$F,3,0)=\"\",\"-\",VLOOKUP($E507,site!$B:$F,3,0))))","v":""},{"$f":"IFERROR(IF($C507=\"\",\"\",IF(VLOOKUP($D507,site!$B:$F,5,0)=\"\",\"-\",VLOOKUP($D507,site!$B:$F,5,0))),IF($C507=\"\",\"\",IF(VLOOKUP($E507,site!$B:$F,4,0)=\"\",\"-\",VLOOKUP($E507,site!$B:$F,4,0))))","v":""},{"$f":"IFERROR(IF($C507=\"\",\"\",IF(VLOOKUP($D507,site!$B:$G,6,0)=\"\",\"-\",VLOOKUP($D507,site!$B:$G,6,0))),IF($C507=\"\",\"\",IF(VLOOKUP($E507,site!$B:$G,5,0)=\"\",\"-\",VLOOKUP($E507,site!$B:$G,5,0))))","v":""}]
[null,null,null,null,null,null,null,null,null,null,null,null,null,null,null,null,null,null,{"$f":"IFERROR(IF(C508=\"\",\"\",IF(VLOOKUP(D508,site!$B:$D,3,0)=\"\",\"-\",VLOOKUP(D508,site!$B:$D,3,0))),IF(C508=\"\",\"\",IF(VLOOKUP(E508,site!$C:$D,2,0)=\"\",\"-\",VLOOKUP(E508,site!$C:$D,2,0))))","v":""},{"$f":"IFERROR(IF($C508=\"\",\"\",IF(VLOOKUP($D508,site!$B:$F,4,0)=\"\",\"-\",VLOOKUP($D508,site!$B:$F,4,0))),IF($C508=\"\",\"\",IF(VLOOKUP($E508,site!$B:$F,3,0)=\"\",\"-\",VLOOKUP($E508,site!$B:$F,3,0))))","v":""},{"$f":"IFERROR(IF($C508=\"\",\"\",IF(VLOOKUP($D508,site!$B:$F,5,0)=\"\",\"-\",VLOOKUP($D508,site!$B:$F,5,0))),IF($C508=\"\",\"\",IF(VLOOKUP($E508,site!$B:$F,4,0)=\"\",\"-\",VLOOKUP($E508,site!$B:$F,4,0))))","v":""},{"$f":"IFERROR(IF($C508=\"\",\"\",IF(VLOOKUP($D508,site!$B:$G,6,0)=\"\",\"-\",VLOOKUP($D508,site!$B:$G,6,0))),IF($C508=\"\",\"\",IF(VLOOKUP($E508,site!$B:$G,5,0)=\"\",\"-\",VLOOKUP($E508,site!$B:$G,5,0))))","v":""}]
[null,null,null,null,null,null,null,null,null,null,null,null,null,null,null,null,null,null,{"$f":"IFERROR(IF(C509=\"\",\"\",IF(VLOOKUP(D509,site!$B:$D,3,0)=\"\",\"-\",VLOOKUP(D509,site!$B:$D,3,0))),IF(C509=\"\",\"\",IF(VLOOKUP(E509,site!$C:$D,2,0)=\"\",\"-\",VLOOKUP(E509,site!$C:$D,2,0))))","v":""},{"$f":"IFERROR(IF($C509=\"\",\"\",IF(VLOOKUP($D509,site!$B:$F,4,0)=\"\",\"-\",VLOOKUP($D509,site!$B:$F,4,0))),IF($C509=\"\",\"\",IF(VLOOKUP($E509,site!$B:$F,3,0)=\"\",\"-\",VLOOKUP($E509,site!$B:$F,3,0))))","v":""},{"$f":"IFERROR(IF($C509=\"\",\"\",IF(VLOOKUP($D509,site!$B:$F,5,0)=\"\",\"-\",VLOOKUP($D509,site!$B:$F,5,0))),IF($C509=\"\",\"\",IF(VLOOKUP($E509,site!$B:$F,4,0)=\"\",\"-\",VLOOKUP($E509,site!$B:$F,4,0))))","v":""},{"$f":"IFERROR(IF($C509=\"\",\"\",IF(VLOOKUP($D509,site!$B:$G,6,0)=\"\",\"-\",VLOOKUP($D509,site!$B:$G,6,0))),IF($C509=\"\",\"\",IF(VLOOKUP($E509,site!$B:$G,5,0)=\"\",\"-\",VLOOKUP($E509,site!$B:$G,5,0))))","v":""}]
[null,null,null,null,null,null,null,null,null,null,null,null,null,null,null,null,null,null,{"$f":"IFERROR(IF(C510=\"\",\"\",IF(VLOOKUP(D510,site!$B:$D,3,0)=\"\",\"-\",VLOOKUP(D510,site!$B:$D,3,0))),IF(C510=\"\",\"\",IF(VLOOKUP(E510,site!$C:$D,2,0)=\"\",\"-\",VLOOKUP(E510,site!$C:$D,2,0))))","v":""},{"$f":"IFERROR(IF($C510=\"\",\"\",IF(VLOOKUP($D510,site!$B:$F,4,0)=\"\",\"-\",VLOOKUP($D510,site!$B:$F,4,0))),IF($C510=\"\",\"\",IF(VLOOKUP($E510,site!$B:$F,3,0)=\"\",\"-\",VLOOKUP($E510,site!$B:$F,3,0))))","v":""},{"$f":"IFERROR(IF($C510=\"\",\"\",IF(VLOOKUP($D510,site!$B:$F,5,0)=\"\",\"-\",VLOOKUP($D510,site!$B:$F,5,0))),IF($C510=\"\",\"\",IF(VLOOKUP($E510,site!$B:$F,4,0)=\"\",\"-\",VLOOKUP($E510,site!$B:$F,4,0))))","v":""},{"$f":"IFERROR(IF($C510=\"\",\"\",IF(VLOOKUP($D510,site!$B:$G,6,0)=\"\",\"-\",VLOOKUP($D510,site!$B:$G,6,0))),IF($C510=\"\",\"\",IF(VLOOKUP($E510,site!$B:$G,5,0)=\"\",\"-\",VLOOKUP($E510,site!$B:$G,5,0))))","v":""}]
[null,null,null,null,null,null,null,null,null,null,null,null,null,null,null,null,null,null,{"$f":"IFERROR(IF(C511=\"\",\"\",IF(VLOOKUP(D511,site!$B:$D,3,0)=\"\",\"-\",VLOOKUP(D511,site!$B:$D,3,0))),IF(C511=\"\",\"\",IF(VLOOKUP(E511,site!$C:$D,2,0)=\"\",\"-\",VLOOKUP(E511,site!$C:$D,2,0))))","v":""},{"$f":"IFERROR(IF($C511=\"\",\"\",IF(VLOOKUP($D511,site!$B:$F,4,0)=\"\",\"-\",VLOOKUP($D511,site!$B:$F,4,0))),IF($C511=\"\",\"\",IF(VLOOKUP($E511,site!$B:$F,3,0)=\"\",\"-\",VLOOKUP($E511,site!$B:$F,3,0))))","v":""},{"$f":"IFERROR(IF($C511=\"\",\"\",IF(VLOOKUP($D511,site!$B:$F,5,0)=\"\",\"-\",VLOOKUP($D511,site!$B:$F,5,0))),IF($C511=\"\",\"\",IF(VLOOKUP($E511,site!$B:$F,4,0)=\"\",\"-\",VLOOKUP($E511,site!$B:$F,4,0))))","v":""},{"$f":"IFERROR(IF($C511=\"\",\"\",IF(VLOOKUP($D511,site!$B:$G,6,0)=\"\",\"-\",VLOOKUP($D511,site!$B:$G,6,0))),IF($C511=\"\",\"\",IF(VLOOKUP($E511,site!$B:$G,5,0)=\"\",\"-\",VLOOKUP($E511,site!$B:$G,5,0))))","v":""}]
[null,null,null,null,null,null,null,null,null,null,null,null,null,null,null,null,null,null,{"$f":"IFERROR(IF(C512=\"\",\"\",IF(VLOOKUP(D512,site!$B:$D,3,0)=\"\",\"-\",VLOOKUP(D512,site!$B:$D,3,0))),IF(C512=\"\",\"\",IF(VLOOKUP(E512,site!$C:$D,2,0)=\"\",\"-\",VLOOKUP(E512,site!$C:$D,2,0))))","v":""},{"$f":"IFERROR(IF($C512=\"\",\"\",IF(VLOOKUP($D512,site!$B:$F,4,0)=\"\",\"-\",VLOOKUP($D512,site!$B:$F,4,0))),IF($C512=\"\",\"\",IF(VLOOKUP($E512,site!$B:$F,3,0)=\"\",\"-\",VLOOKUP($E512,site!$B:$F,3,0))))","v":""},{"$f":"IFERROR(IF($C512=\"\",\"\",IF(VLOOKUP($D512,site!$B:$F,5,0)=\"\",\"-\",VLOOKUP($D512,site!$B:$F,5,0))),IF($C512=\"\",\"\",IF(VLOOKUP($E512,site!$B:$F,4,0)=\"\",\"-\",VLOOKUP($E512,site!$B:$F,4,0))))","v":""},{"$f":"IFERROR(IF($C512=\"\",\"\",IF(VLOOKUP($D512,site!$B:$G,6,0)=\"\",\"-\",VLOOKUP($D512,site!$B:$G,6,0))),IF($C512=\"\",\"\",IF(VLOOKUP($E512,site!$B:$G,5,0)=\"\",\"-\",VLOOKUP($E512,site!$B:$G,5,0))))","v":""}]
[null,null,null,null,null,null,null,null,null,null,null,null,null,null,null,null,null,null,{"$f":"IFERROR(IF(C513=\"\",\"\",IF(VLOOKUP(D513,site!$B:$D,3,0)=\"\",\"-\",VLOOKUP(D513,site!$B:$D,3,0))),IF(C513=\"\",\"\",IF(VLOOKUP(E513,site!$C:$D,2,0)=\"\",\"-\",VLOOKUP(E513,site!$C:$D,2,0))))","v":""},{"$f":"IFERROR(IF($C513=\"\",\"\",IF(VLOOKUP($D513,site!$B:$F,4,0)=\"\",\"-\",VLOOKUP($D513,site!$B:$F,4,0))),IF($C513=\"\",\"\",IF(VLOOKUP($E513,site!$B:$F,3,0)=\"\",\"-\",VLOOKUP($E513,site!$B:$F,3,0))))","v":""},{"$f":"IFERROR(IF($C513=\"\",\"\",IF(VLOOKUP($D513,site!$B:$F,5,0)=\"\",\"-\",VLOOKUP($D513,site!$B:$F,5,0))),IF($C513=\"\",\"\",IF(VLOOKUP($E513,site!$B:$F,4,0)=\"\",\"-\",VLOOKUP($E513,site!$B:$F,4,0))))","v":""},{"$f":"IFERROR(IF($C513=\"\",\"\",IF(VLOOKUP($D513,site!$B:$G,6,0)=\"\",\"-\",VLOOKUP($D513,site!$B:$G,6,0))),IF($C513=\"\",\"\",IF(VLOOKUP($E513,site!$B:$G,5,0)=\"\",\"-\",VLOOKUP($E513,site!$B:$G,5,0))))","v":""}]
[null,null,null,null,null,null,null,null,null,null,null,null,null,null,null,null,null,null,{"$f":"IFERROR(IF(C514=\"\",\"\",IF(VLOOKUP(D514,site!$B:$D,3,0)=\"\",\"-\",VLOOKUP(D514,site!$B:$D,3,0))),IF(C514=\"\",\"\",IF(VLOOKUP(E514,site!$C:$D,2,0)=\"\",\"-\",VLOOKUP(E514,site!$C:$D,2,0))))","v":""},{"$f":"IFERROR(IF($C514=\"\",\"\",IF(VLOOKUP($D514,site!$B:$F,4,0)=\"\",\"-\",VLOOKUP($D514,site!$B:$F,4,0))),IF($C514=\"\",\"\",IF(VLOOKUP($E514,site!$B:$F,3,0)=\"\",\"-\",VLOOKUP($E514,site!$B:$F,3,0))))","v":""},{"$f":"IFERROR(IF($C514=\"\",\"\",IF(VLOOKUP($D514,site!$B:$F,5,0)=\"\",\"-\",VLOOKUP($D514,site!$B:$F,5,0))),IF($C514=\"\",\"\",IF(VLOOKUP($E514,site!$B:$F,4,0)=\"\",\"-\",VLOOKUP($E514,site!$B:$F,4,0))))","v":""},{"$f":"IFERROR(IF($C514=\"\",\"\",IF(VLOOKUP($D514,site!$B:$G,6,0)=\"\",\"-\",VLOOKUP($D514,site!$B:$G,6,0))),IF($C514=\"\",\"\",IF(VLOOKUP($E514,site!$B:$G,5,0)=\"\",\"-\",VLOOKUP($E514,site!$B:$G,5,0))))","v":""}]
[null,null,null,null,null,null,null,null,null,null,null,null,null,null,null,null,null,null,{"$f":"IFERROR(IF(C515=\"\",\"\",IF(VLOOKUP(D515,site!$B:$D,3,0)=\"\",\"-\",VLOOKUP(D515,site!$B:$D,3,0))),IF(C515=\"\",\"\",IF(VLOOKUP(E515,site!$C:$D,2,0)=\"\",\"-\",VLOOKUP(E515,site!$C:$D,2,0))))","v":""},{"$f":"IFERROR(IF($C515=\"\",\"\",IF(VLOOKUP($D515,site!$B:$F,4,0)=\"\",\"-\",VLOOKUP($D515,site!$B:$F,4,0))),IF($C515=\"\",\"\",IF(VLOOKUP($E515,site!$B:$F,3,0)=\"\",\"-\",VLOOKUP($E515,site!$B:$F,3,0))))","v":""},{"$f":"IFERROR(IF($C515=\"\",\"\",IF(VLOOKUP($D515,site!$B:$F,5,0)=\"\",\"-\",VLOOKUP($D515,site!$B:$F,5,0))),IF($C515=\"\",\"\",IF(VLOOKUP($E515,site!$B:$F,4,0)=\"\",\"-\",VLOOKUP($E515,site!$B:$F,4,0))))","v":""},{"$f":"IFERROR(IF($C515=\"\",\"\",IF(VLOOKUP($D515,site!$B:$G,6,0)=\"\",\"-\",VLOOKUP($D515,site!$B:$G,6,0))),IF($C515=\"\",\"\",IF(VLOOKUP($E515,site!$B:$G,5,0)=\"\",\"-\",VLOOKUP($E515,site!$B:$G,5,0))))","v":""}]
[null,null,null,null,null,null,null,null,null,null,null,null,null,null,null,null,null,null,{"$f":"IFERROR(IF(C516=\"\",\"\",IF(VLOOKUP(D516,site!$B:$D,3,0)=\"\",\"-\",VLOOKUP(D516,site!$B:$D,3,0))),IF(C516=\"\",\"\",IF(VLOOKUP(E516,site!$C:$D,2,0)=\"\",\"-\",VLOOKUP(E516,site!$C:$D,2,0))))","v":""},{"$f":"IFERROR(IF($C516=\"\",\"\",IF(VLOOKUP($D516,site!$B:$F,4,0)=\"\",\"-\",VLOOKUP($D516,site!$B:$F,4,0))),IF($C516=\"\",\"\",IF(VLOOKUP($E516,site!$B:$F,3,0)=\"\",\"-\",VLOOKUP($E516,site!$B:$F,3,0))))","v":""},{"$f":"IFERROR(IF($C516=\"\",\"\",IF(VLOOKUP($D516,site!$B:$F,5,0)=\"\",\"-\",VLOOKUP($D516,site!$B:$F,5,0))),IF($C516=\"\",\"\",IF(VLOOKUP($E516,site!$B:$F,4,0)=\"\",\"-\",VLOOKUP($E516,site!$B:$F,4,0))))","v":""},{"$f":"IFERROR(IF($C516=\"\",\"\",IF(VLOOKUP($D516,site!$B:$G,6,0)=\"\",\"-\",VLOOKUP($D516,site!$B:$G,6,0))),IF($C516=\"\",\"\",IF(VLOOKUP($E516,site!$B:$G,5,0)=\"\",\"-\",VLOOKUP($E516,site!$B:$G,5,0))))","v":""}]
[null,null,null,null,null,null,null,null,null,null,null,null,null,null,null,null,null,null,{"$f":"IFERROR(IF(C517=\"\",\"\",IF(VLOOKUP(D517,site!$B:$D,3,0)=\"\",\"-\",VLOOKUP(D517,site!$B:$D,3,0))),IF(C517=\"\",\"\",IF(VLOOKUP(E517,site!$C:$D,2,0)=\"\",\"-\",VLOOKUP(E517,site!$C:$D,2,0))))","v":""},{"$f":"IFERROR(IF($C517=\"\",\"\",IF(VLOOKUP($D517,site!$B:$F,4,0)=\"\",\"-\",VLOOKUP($D517,site!$B:$F,4,0))),IF($C517=\"\",\"\",IF(VLOOKUP($E517,site!$B:$F,3,0)=\"\",\"-\",VLOOKUP($E517,site!$B:$F,3,0))))","v":""},{"$f":"IFERROR(IF($C517=\"\",\"\",IF(VLOOKUP($D517,site!$B:$F,5,0)=\"\",\"-\",VLOOKUP($D517,site!$B:$F,5,0))),IF($C517=\"\",\"\",IF(VLOOKUP($E517,site!$B:$F,4,0)=\"\",\"-\",VLOOKUP($E517,site!$B:$F,4,0))))","v":""},{"$f":"IFERROR(IF($C517=\"\",\"\",IF(VLOOKUP($D517,site!$B:$G,6,0)=\"\",\"-\",VLOOKUP($D517,site!$B:$G,6,0))),IF($C517=\"\",\"\",IF(VLOOKUP($E517,site!$B:$G,5,0)=\"\",\"-\",VLOOKUP($E517,site!$B:$G,5,0))))","v":""}]
[null,null,null,null,null,null,null,null,null,null,null,null,null,null,null,null,null,null,{"$f":"IFERROR(IF(C518=\"\",\"\",IF(VLOOKUP(D518,site!$B:$D,3,0)=\"\",\"-\",VLOOKUP(D518,site!$B:$D,3,0))),IF(C518=\"\",\"\",IF(VLOOKUP(E518,site!$C:$D,2,0)=\"\",\"-\",VLOOKUP(E518,site!$C:$D,2,0))))","v":""},{"$f":"IFERROR(IF($C518=\"\",\"\",IF(VLOOKUP($D518,site!$B:$F,4,0)=\"\",\"-\",VLOOKUP($D518,site!$B:$F,4,0))),IF($C518=\"\",\"\",IF(VLOOKUP($E518,site!$B:$F,3,0)=\"\",\"-\",VLOOKUP($E518,site!$B:$F,3,0))))","v":""},{"$f":"IFERROR(IF($C518=\"\",\"\",IF(VLOOKUP($D518,site!$B:$F,5,0)=\"\",\"-\",VLOOKUP($D518,site!$B:$F,5,0))),IF($C518=\"\",\"\",IF(VLOOKUP($E518,site!$B:$F,4,0)=\"\",\"-\",VLOOKUP($E518,site!$B:$F,4,0))))","v":""},{"$f":"IFERROR(IF($C518=\"\",\"\",IF(VLOOKUP($D518,site!$B:$G,6,0)=\"\",\"-\",VLOOKUP($D518,site!$B:$G,6,0))),IF($C518=\"\",\"\",IF(VLOOKUP($E518,site!$B:$G,5,0)=\"\",\"-\",VLOOKUP($E518,site!$B:$G,5,0))))","v":""}]
[null,null,null,null,null,null,null,null,null,null,null,null,null,null,null,null,null,null,{"$f":"IFERROR(IF(C519=\"\",\"\",IF(VLOOKUP(D519,site!$B:$D,3,0)=\"\",\"-\",VLOOKUP(D519,site!$B:$D,3,0))),IF(C519=\"\",\"\",IF(VLOOKUP(E519,site!$C:$D,2,0)=\"\",\"-\",VLOOKUP(E519,site!$C:$D,2,0))))","v":""},{"$f":"IFERROR(IF($C519=\"\",\"\",IF(VLOOKUP($D519,site!$B:$F,4,0)=\"\",\"-\",VLOOKUP($D519,site!$B:$F,4,0))),IF($C519=\"\",\"\",IF(VLOOKUP($E519,site!$B:$F,3,0)=\"\",\"-\",VLOOKUP($E519,site!$B:$F,3,0))))","v":""},{"$f":"IFERROR(IF($C519=\"\",\"\",IF(VLOOKUP($D519,site!$B:$F,5,0)=\"\",\"-\",VLOOKUP($D519,site!$B:$F,5,0))),IF($C519=\"\",\"\",IF(VLOOKUP($E519,site!$B:$F,4,0)=\"\",\"-\",VLOOKUP($E519,site!$B:$F,4,0))))","v":""},{"$f":"IFERROR(IF($C519=\"\",\"\",IF(VLOOKUP($D519,site!$B:$G,6,0)=\"\",\"-\",VLOOKUP($D519,site!$B:$G,6,0))),IF($C519=\"\",\"\",IF(VLOOKUP($E519,site!$B:$G,5,0)=\"\",\"-\",VLOOKUP($E519,site!$B:$G,5,0))))","v":""}]
[null,null,null,null,null,null,null,null,null,null,null,null,null,null,null,null,null,null,{"$f":"IFERROR(IF(C520=\"\",\"\",IF(VLOOKUP(D520,site!$B:$D,3,0)=\"\",\"-\",VLOOKUP(D520,site!$B:$D,3,0))),IF(C520=\"\",\"\",IF(VLOOKUP(E520,site!$C:$D,2,0)=\"\",\"-\",VLOOKUP(E520,site!$C:$D,2,0))))","v":""},{"$f":"IFERROR(IF($C520=\"\",\"\",IF(VLOOKUP($D520,site!$B:$F,4,0)=\"\",\"-\",VLOOKUP($D520,site!$B:$F,4,0))),IF($C520=\"\",\"\",IF(VLOOKUP($E520,site!$B:$F,3,0)=\"\",\"-\",VLOOKUP($E520,site!$B:$F,3,0))))","v":""},{"$f":"IFERROR(IF($C520=\"\",\"\",IF(VLOOKUP($D520,site!$B:$F,5,0)=\"\",\"-\",VLOOKUP($D520,site!$B:$F,5,0))),IF($C520=\"\",\"\",IF(VLOOKUP($E520,site!$B:$F,4,0)=\"\",\"-\",VLOOKUP($E520,site!$B:$F,4,0))))","v":""},{"$f":"IFERROR(IF($C520=\"\",\"\",IF(VLOOKUP($D520,site!$B:$G,6,0)=\"\",\"-\",VLOOKUP($D520,site!$B:$G,6,0))),IF($C520=\"\",\"\",IF(VLOOKUP($E520,site!$B:$G,5,0)=\"\",\"-\",VLOOKUP($E520,site!$B:$G,5,0))))","v":""}]
[null,null,null,null,null,null,null,null,null,null,null,null,null,null,null,null,null,null,{"$f":"IFERROR(IF(C521=\"\",\"\",IF(VLOOKUP(D521,site!$B:$D,3,0)=\"\",\"-\",VLOOKUP(D521,site!$B:$D,3,0))),IF(C521=\"\",\"\",IF(VLOOKUP(E521,site!$C:$D,2,0)=\"\",\"-\",VLOOKUP(E521,site!$C:$D,2,0))))","v":""},{"$f":"IFERROR(IF($C521=\"\",\"\",IF(VLOOKUP($D521,site!$B:$F,4,0)=\"\",\"-\",VLOOKUP($D521,site!$B:$F,4,0))),IF($C521=\"\",\"\",IF(VLOOKUP($E521,site!$B:$F,3,0)=\"\",\"-\",VLOOKUP($E521,site!$B:$F,3,0))))","v":""},{"$f":"IFERROR(IF($C521=\"\",\"\",IF(VLOOKUP($D521,site!$B:$F,5,0)=\"\",\"-\",VLOOKUP($D521,site!$B:$F,5,0))),IF($C521=\"\",\"\",IF(VLOOKUP($E521,site!$B:$F,4,0)=\"\",\"-\",VLOOKUP($E521,site!$B:$F,4,0))))","v":""},{"$f":"IFERROR(IF($C521=\"\",\"\",IF(VLOOKUP($D521,site!$B:$G,6,0)=\"\",\"-\",VLOOKUP($D521,site!$B:$G,6,0))),IF($C521=\"\",\"\",IF(VLOOKUP($E521,site!$B:$G,5,0)=\"\",\"-\",VLOOKUP($E521,site!$B:$G,5,0))))","v":""}]
[null,null,null,null,null,null,null,null,null,null,null,null,null,null,null,null,null,null,{"$f":"IFERROR(IF(C522=\"\",\"\",IF(VLOOKUP(D522,site!$B:$D,3,0)=\"\",\"-\",VLOOKUP(D522,site!$B:$D,3,0))),IF(C522=\"\",\"\",IF(VLOOKUP(E522,site!$C:$D,2,0)=\"\",\"-\",VLOOKUP(E522,site!$C:$D,2,0))))","v":""},{"$f":"IFERROR(IF($C522=\"\",\"\",IF(VLOOKUP($D522,site!$B:$F,4,0)=\"\",\"-\",VLOOKUP($D522,site!$B:$F,4,0))),IF($C522=\"\",\"\",IF(VLOOKUP($E522,site!$B:$F,3,0)=\"\",\"-\",VLOOKUP($E522,site!$B:$F,3,0))))","v":""},{"$f":"IFERROR(IF($C522=\"\",\"\",IF(VLOOKUP($D522,site!$B:$F,5,0)=\"\",\"-\",VLOOKUP($D522,site!$B:$F,5,0))),IF($C522=\"\",\"\",IF(VLOOKUP($E522,site!$B:$F,4,0)=\"\",\"-\",VLOOKUP($E522,site!$B:$F,4,0))))","v":""},{"$f":"IFERROR(IF($C522=\"\",\"\",IF(VLOOKUP($D522,site!$B:$G,6,0)=\"\",\"-\",VLOOKUP($D522,site!$B:$G,6,0))),IF($C522=\"\",\"\",IF(VLOOKUP($E522,site!$B:$G,5,0)=\"\",\"-\",VLOOKUP($E522,site!$B:$G,5,0))))","v":""}]
[null,null,null,null,null,null,null,null,null,null,null,null,null,null,null,null,null,null,{"$f":"IFERROR(IF(C523=\"\",\"\",IF(VLOOKUP(D523,site!$B:$D,3,0)=\"\",\"-\",VLOOKUP(D523,site!$B:$D,3,0))),IF(C523=\"\",\"\",IF(VLOOKUP(E523,site!$C:$D,2,0)=\"\",\"-\",VLOOKUP(E523,site!$C:$D,2,0))))","v":""},{"$f":"IFERROR(IF($C523=\"\",\"\",IF(VLOOKUP($D523,site!$B:$F,4,0)=\"\",\"-\",VLOOKUP($D523,site!$B:$F,4,0))),IF($C523=\"\",\"\",IF(VLOOKUP($E523,site!$B:$F,3,0)=\"\",\"-\",VLOOKUP($E523,site!$B:$F,3,0))))","v":""},{"$f":"IFERROR(IF($C523=\"\",\"\",IF(VLOOKUP($D523,site!$B:$F,5,0)=\"\",\"-\",VLOOKUP($D523,site!$B:$F,5,0))),IF($C523=\"\",\"\",IF(VLOOKUP($E523,site!$B:$F,4,0)=\"\",\"-\",VLOOKUP($E523,site!$B:$F,4,0))))","v":""},{"$f":"IFERROR(IF($C523=\"\",\"\",IF(VLOOKUP($D523,site!$B:$G,6,0)=\"\",\"-\",VLOOKUP($D523,site!$B:$G,6,0))),IF($C523=\"\",\"\",IF(VLOOKUP($E523,site!$B:$G,5,0)=\"\",\"-\",VLOOKUP($E523,site!$B:$G,5,0))))","v":""}]
[null,null,null,null,null,null,null,null,null,null,null,null,null,null,null,null,null,null,{"$f":"IFERROR(IF(C524=\"\",\"\",IF(VLOOKUP(D524,site!$B:$D,3,0)=\"\",\"-\",VLOOKUP(D524,site!$B:$D,3,0))),IF(C524=\"\",\"\",IF(VLOOKUP(E524,site!$C:$D,2,0)=\"\",\"-\",VLOOKUP(E524,site!$C:$D,2,0))))","v":""},{"$f":"IFERROR(IF($C524=\"\",\"\",IF(VLOOKUP($D524,site!$B:$F,4,0)=\"\",\"-\",VLOOKUP($D524,site!$B:$F,4,0))),IF($C524=\"\",\"\",IF(VLOOKUP($E524,site!$B:$F,3,0)=\"\",\"-\",VLOOKUP($E524,site!$B:$F,3,0))))","v":""},{"$f":"IFERROR(IF($C524=\"\",\"\",IF(VLOOKUP($D524,site!$B:$F,5,0)=\"\",\"-\",VLOOKUP($D524,site!$B:$F,5,0))),IF($C524=\"\",\"\",IF(VLOOKUP($E524,site!$B:$F,4,0)=\"\",\"-\",VLOOKUP($E524,site!$B:$F,4,0))))","v":""},{"$f":"IFERROR(IF($C524=\"\",\"\",IF(VLOOKUP($D524,site!$B:$G,6,0)=\"\",\"-\",VLOOKUP($D524,site!$B:$G,6,0))),IF($C524=\"\",\"\",IF(VLOOKUP($E524,site!$B:$G,5,0)=\"\",\"-\",VLOOKUP($E524,site!$B:$G,5,0))))","v":""}]
[null,null,null,null,null,null,null,null,null,null,null,null,null,null,null,null,null,null,{"$f":"IFERROR(IF(C525=\"\",\"\",IF(VLOOKUP(D525,site!$B:$D,3,0)=\"\",\"-\",VLOOKUP(D525,site!$B:$D,3,0))),IF(C525=\"\",\"\",IF(VLOOKUP(E525,site!$C:$D,2,0)=\"\",\"-\",VLOOKUP(E525,site!$C:$D,2,0))))","v":""},{"$f":"IFERROR(IF($C525=\"\",\"\",IF(VLOOKUP($D525,site!$B:$F,4,0)=\"\",\"-\",VLOOKUP($D525,site!$B:$F,4,0))),IF($C525=\"\",\"\",IF(VLOOKUP($E525,site!$B:$F,3,0)=\"\",\"-\",VLOOKUP($E525,site!$B:$F,3,0))))","v":""},{"$f":"IFERROR(IF($C525=\"\",\"\",IF(VLOOKUP($D525,site!$B:$F,5,0)=\"\",\"-\",VLOOKUP($D525,site!$B:$F,5,0))),IF($C525=\"\",\"\",IF(VLOOKUP($E525,site!$B:$F,4,0)=\"\",\"-\",VLOOKUP($E525,site!$B:$F,4,0))))","v":""},{"$f":"IFERROR(IF($C525=\"\",\"\",IF(VLOOKUP($D525,site!$B:$G,6,0)=\"\",\"-\",VLOOKUP($D525,site!$B:$G,6,0))),IF($C525=\"\",\"\",IF(VLOOKUP($E525,site!$B:$G,5,0)=\"\",\"-\",VLOOKUP($E525,site!$B:$G,5,0))))","v":""}]
[null,null,null,null,null,null,null,null,null,null,null,null,null,null,null,null,null,null,{"$f":"IFERROR(IF(C526=\"\",\"\",IF(VLOOKUP(D526,site!$B:$D,3,0)=\"\",\"-\",VLOOKUP(D526,site!$B:$D,3,0))),IF(C526=\"\",\"\",IF(VLOOKUP(E526,site!$C:$D,2,0)=\"\",\"-\",VLOOKUP(E526,site!$C:$D,2,0))))","v":""},{"$f":"IFERROR(IF($C526=\"\",\"\",IF(VLOOKUP($D526,site!$B:$F,4,0)=\"\",\"-\",VLOOKUP($D526,site!$B:$F,4,0))),IF($C526=\"\",\"\",IF(VLOOKUP($E526,site!$B:$F,3,0)=\"\",\"-\",VLOOKUP($E526,site!$B:$F,3,0))))","v":""},{"$f":"IFERROR(IF($C526=\"\",\"\",IF(VLOOKUP($D526,site!$B:$F,5,0)=\"\",\"-\",VLOOKUP($D526,site!$B:$F,5,0))),IF($C526=\"\",\"\",IF(VLOOKUP($E526,site!$B:$F,4,0)=\"\",\"-\",VLOOKUP($E526,site!$B:$F,4,0))))","v":""},{"$f":"IFERROR(IF($C526=\"\",\"\",IF(VLOOKUP($D526,site!$B:$G,6,0)=\"\",\"-\",VLOOKUP($D526,site!$B:$G,6,0))),IF($C526=\"\",\"\",IF(VLOOKUP($E526,site!$B:$G,5,0)=\"\",\"-\",VLOOKUP($E526,site!$B:$G,5,0))))","v":""}]
[null,null,null,null,null,null,null,null,null,null,null,null,null,null,null,null,null,null,{"$f":"IFERROR(IF(C527=\"\",\"\",IF(VLOOKUP(D527,site!$B:$D,3,0)=\"\",\"-\",VLOOKUP(D527,site!$B:$D,3,0))),IF(C527=\"\",\"\",IF(VLOOKUP(E527,site!$C:$D,2,0)=\"\",\"-\",VLOOKUP(E527,site!$C:$D,2,0))))","v":""},{"$f":"IFERROR(IF($C527=\"\",\"\",IF(VLOOKUP($D527,site!$B:$F,4,0)=\"\",\"-\",VLOOKUP($D527,site!$B:$F,4,0))),IF($C527=\"\",\"\",IF(VLOOKUP($E527,site!$B:$F,3,0)=\"\",\"-\",VLOOKUP($E527,site!$B:$F,3,0))))","v":""},{"$f":"IFERROR(IF($C527=\"\",\"\",IF(VLOOKUP($D527,site!$B:$F,5,0)=\"\",\"-\",VLOOKUP($D527,site!$B:$F,5,0))),IF($C527=\"\",\"\",IF(VLOOKUP($E527,site!$B:$F,4,0)=\"\",\"-\",VLOOKUP($E527,site!$B:$F,4,0))))","v":""},{"$f":"IFERROR(IF($C527=\"\",\"\",IF(VLOOKUP($D527,site!$B:$G,6,0)=\"\",\"-\",VLOOKUP($D527,site!$B:$G,6,0))),IF($C527=\"\",\"\",IF(VLOOKUP($E527,site!$B:$G,5,0)=\"\",\"-\",VLOOKUP($E527,site!$B:$G,5,0))))","v":""}]
[null,null,null,null,null,null,null,null,null,null,null,null,null,null,null,null,null,null,{"$f":"IFERROR(IF(C528=\"\",\"\",IF(VLOOKUP(D528,site!$B:$D,3,0)=\"\",\"-\",VLOOKUP(D528,site!$B:$D,3,0))),IF(C528=\"\",\"\",IF(VLOOKUP(E528,site!$C:$D,2,0)=\"\",\"-\",VLOOKUP(E528,site!$C:$D,2,0))))","v":""},{"$f":"IFERROR(IF($C528=\"\",\"\",IF(VLOOKUP($D528,site!$B:$F,4,0)=\"\",\"-\",VLOOKUP($D528,site!$B:$F,4,0))),IF($C528=\"\",\"\",IF(VLOOKUP($E528,site!$B:$F,3,0)=\"\",\"-\",VLOOKUP($E528,site!$B:$F,3,0))))","v":""},{"$f":"IFERROR(IF($C528=\"\",\"\",IF(VLOOKUP($D528,site!$B:$F,5,0)=\"\",\"-\",VLOOKUP($D528,site!$B:$F,5,0))),IF($C528=\"\",\"\",IF(VLOOKUP($E528,site!$B:$F,4,0)=\"\",\"-\",VLOOKUP($E528,site!$B:$F,4,0))))","v":""},{"$f":"IFERROR(IF($C528=\"\",\"\",IF(VLOOKUP($D528,site!$B:$G,6,0)=\"\",\"-\",VLOOKUP($D528,site!$B:$G,6,0))),IF($C528=\"\",\"\",IF(VLOOKUP($E528,site!$B:$G,5,0)=\"\",\"-\",VLOOKUP($E528,site!$B:$G,5,0))))","v":""}]
[null,null,null,null,null,null,null,null,null,null,null,null,null,null,null,null,null,null,{"$f":"IFERROR(IF(C529=\"\",\"\",IF(VLOOKUP(D529,site!$B:$D,3,0)=\"\",\"-\",VLOOKUP(D529,site!$B:$D,3,0))),IF(C529=\"\",\"\",IF(VLOOKUP(E529,site!$C:$D,2,0)=\"\",\"-\",VLOOKUP(E529,site!$C:$D,2,0))))","v":""},{"$f":"IFERROR(IF($C529=\"\",\"\",IF(VLOOKUP($D529,site!$B:$F,4,0)=\"\",\"-\",VLOOKUP($D529,site!$B:$F,4,0))),IF($C529=\"\",\"\",IF(VLOOKUP($E529,site!$B:$F,3,0)=\"\",\"-\",VLOOKUP($E529,site!$B:$F,3,0))))","v":""},{"$f":"IFERROR(IF($C529=\"\",\"\",IF(VLOOKUP($D529,site!$B:$F,5,0)=\"\",\"-\",VLOOKUP($D529,site!$B:$F,5,0))),IF($C529=\"\",\"\",IF(VLOOKUP($E529,site!$B:$F,4,0)=\"\",\"-\",VLOOKUP($E529,site!$B:$F,4,0))))","v":""},{"$f":"IFERROR(IF($C529=\"\",\"\",IF(VLOOKUP($D529,site!$B:$G,6,0)=\"\",\"-\",VLOOKUP($D529,site!$B:$G,6,0))),IF($C529=\"\",\"\",IF(VLOOKUP($E529,site!$B:$G,5,0)=\"\",\"-\",VLOOKUP($E529,site!$B:$G,5,0))))","v":""}]
[null,null,null,null,null,null,null,null,null,null,null,null,null,null,null,null,null,null,{"$f":"IFERROR(IF(C530=\"\",\"\",IF(VLOOKUP(D530,site!$B:$D,3,0)=\"\",\"-\",VLOOKUP(D530,site!$B:$D,3,0))),IF(C530=\"\",\"\",IF(VLOOKUP(E530,site!$C:$D,2,0)=\"\",\"-\",VLOOKUP(E530,site!$C:$D,2,0))))","v":""},{"$f":"IFERROR(IF($C530=\"\",\"\",IF(VLOOKUP($D530,site!$B:$F,4,0)=\"\",\"-\",VLOOKUP($D530,site!$B:$F,4,0))),IF($C530=\"\",\"\",IF(VLOOKUP($E530,site!$B:$F,3,0)=\"\",\"-\",VLOOKUP($E530,site!$B:$F,3,0))))","v":""},{"$f":"IFERROR(IF($C530=\"\",\"\",IF(VLOOKUP($D530,site!$B:$F,5,0)=\"\",\"-\",VLOOKUP($D530,site!$B:$F,5,0))),IF($C530=\"\",\"\",IF(VLOOKUP($E530,site!$B:$F,4,0)=\"\",\"-\",VLOOKUP($E530,site!$B:$F,4,0))))","v":""},{"$f":"IFERROR(IF($C530=\"\",\"\",IF(VLOOKUP($D530,site!$B:$G,6,0)=\"\",\"-\",VLOOKUP($D530,site!$B:$G,6,0))),IF($C530=\"\",\"\",IF(VLOOKUP($E530,site!$B:$G,5,0)=\"\",\"-\",VLOOKUP($E530,site!$B:$G,5,0))))","v":""}]
[null,null,null,null,null,null,null,null,null,null,null,null,null,null,null,null,null,null,{"$f":"IFERROR(IF(C531=\"\",\"\",IF(VLOOKUP(D531,site!$B:$D,3,0)=\"\",\"-\",VLOOKUP(D531,site!$B:$D,3,0))),IF(C531=\"\",\"\",IF(VLOOKUP(E531,site!$C:$D,2,0)=\"\",\"-\",VLOOKUP(E531,site!$C:$D,2,0))))","v":""},{"$f":"IFERROR(IF($C531=\"\",\"\",IF(VLOOKUP($D531,site!$B:$F,4,0)=\"\",\"-\",VLOOKUP($D531,site!$B:$F,4,0))),IF($C531=\"\",\"\",IF(VLOOKUP($E531,site!$B:$F,3,0)=\"\",\"-\",VLOOKUP($E531,site!$B:$F,3,0))))","v":""},{"$f":"IFERROR(IF($C531=\"\",\"\",IF(VLOOKUP($D531,site!$B:$F,5,0)=\"\",\"-\",VLOOKUP($D531,site!$B:$F,5,0))),IF($C531=\"\",\"\",IF(VLOOKUP($E531,site!$B:$F,4,0)=\"\",\"-\",VLOOKUP($E531,site!$B:$F,4,0))))","v":""},{"$f":"IFERROR(IF($C531=\"\",\"\",IF(VLOOKUP($D531,site!$B:$G,6,0)=\"\",\"-\",VLOOKUP($D531,site!$B:$G,6,0))),IF($C531=\"\",\"\",IF(VLOOKUP($E531,site!$B:$G,5,0)=\"\",\"-\",VLOOKUP($E531,site!$B:$G,5,0))))","v":""}]
[null,null,null,null,null,null,null,null,null,null,null,null,null,null,null,null,null,null,{"$f":"IFERROR(IF(C532=\"\",\"\",IF(VLOOKUP(D532,site!$B:$D,3,0)=\"\",\"-\",VLOOKUP(D532,site!$B:$D,3,0))),IF(C532=\"\",\"\",IF(VLOOKUP(E532,site!$C:$D,2,0)=\"\",\"-\",VLOOKUP(E532,site!$C:$D,2,0))))","v":""},{"$f":"IFERROR(IF($C532=\"\",\"\",IF(VLOOKUP($D532,site!$B:$F,4,0)=\"\",\"-\",VLOOKUP($D532,site!$B:$F,4,0))),IF($C532=\"\",\"\",IF(VLOOKUP($E532,site!$B:$F,3,0)=\"\",\"-\",VLOOKUP($E532,site!$B:$F,3,0))))","v":""},{"$f":"IFERROR(IF($C532=\"\",\"\",IF(VLOOKUP($D532,site!$B:$F,5,0)=\"\",\"-\",VLOOKUP($D532,site!$B:$F,5,0))),IF($C532=\"\",\"\",IF(VLOOKUP($E532,site!$B:$F,4,0)=\"\",\"-\",VLOOKUP($E532,site!$B:$F,4,0))))","v":""},{"$f":"IFERROR(IF($C532=\"\",\"\",IF(VLOOKUP($D532,site!$B:$G,6,0)=\"\",\"-\",VLOOKUP($D532,site!$B:$G,6,0))),IF($C532=\"\",\"\",IF(VLOOKUP($E532,site!$B:$G,5,0)=\"\",\"-\",VLOOKUP($E532,site!$B:$G,5,0))))","v":""}]
[null,null,null,null,null,null,null,null,null,null,null,null,null,null,null,null,null,null,{"$f":"IFERROR(IF(C533=\"\",\"\",IF(VLOOKUP(D533,site!$B:$D,3,0)=\"\",\"-\",VLOOKUP(D533,site!$B:$D,3,0))),IF(C533=\"\",\"\",IF(VLOOKUP(E533,site!$C:$D,2,0)=\"\",\"-\",VLOOKUP(E533,site!$C:$D,2,0))))","v":""},{"$f":"IFERROR(IF($C533=\"\",\"\",IF(VLOOKUP($D533,site!$B:$F,4,0)=\"\",\"-\",VLOOKUP($D533,site!$B:$F,4,0))),IF($C533=\"\",\"\",IF(VLOOKUP($E533,site!$B:$F,3,0)=\"\",\"-\",VLOOKUP($E533,site!$B:$F,3,0))))","v":""},{"$f":"IFERROR(IF($C533=\"\",\"\",IF(VLOOKUP($D533,site!$B:$F,5,0)=\"\",\"-\",VLOOKUP($D533,site!$B:$F,5,0))),IF($C533=\"\",\"\",IF(VLOOKUP($E533,site!$B:$F,4,0)=\"\",\"-\",VLOOKUP($E533,site!$B:$F,4,0))))","v":""},{"$f":"IFERROR(IF($C533=\"\",\"\",IF(VLOOKUP($D533,site!$B:$G,6,0)=\"\",\"-\",VLOOKUP($D533,site!$B:$G,6,0))),IF($C533=\"\",\"\",IF(VLOOKUP($E533,site!$B:$G,5,0)=\"\",\"-\",VLOOKUP($E533,site!$B:$G,5,0))))","v":""}]
[null,null,null,null,null,null,null,null,null,null,null,null,null,null,null,null,null,null,{"$f":"IFERROR(IF(C534=\"\",\"\",IF(VLOOKUP(D534,site!$B:$D,3,0)=\"\",\"-\",VLOOKUP(D534,site!$B:$D,3,0))),IF(C534=\"\",\"\",IF(VLOOKUP(E534,site!$C:$D,2,0)=\"\",\"-\",VLOOKUP(E534,site!$C:$D,2,0))))","v":""},{"$f":"IFERROR(IF($C534=\"\",\"\",IF(VLOOKUP($D534,site!$B:$F,4,0)=\"\",\"-\",VLOOKUP($D534,site!$B:$F,4,0))),IF($C534=\"\",\"\",IF(VLOOKUP($E534,site!$B:$F,3,0)=\"\",\"-\",VLOOKUP($E534,site!$B:$F,3,0))))","v":""},{"$f":"IFERROR(IF($C534=\"\",\"\",IF(VLOOKUP($D534,site!$B:$F,5,0)=\"\",\"-\",VLOOKUP($D534,site!$B:$F,5,0))),IF($C534=\"\",\"\",IF(VLOOKUP($E534,site!$B:$F,4,0)=\"\",\"-\",VLOOKUP($E534,site!$B:$F,4,0))))","v":""},{"$f":"IFERROR(IF($C534=\"\",\"\",IF(VLOOKUP($D534,site!$B:$G,6,0)=\"\",\"-\",VLOOKUP($D534,site!$B:$G,6,0))),IF($C534=\"\",\"\",IF(VLOOKUP($E534,site!$B:$G,5,0)=\"\",\"-\",VLOOKUP($E534,site!$B:$G,5,0))))","v":""}]
[null,null,null,null,null,null,null,null,null,null,null,null,null,null,null,null,null,null,{"$f":"IFERROR(IF(C535=\"\",\"\",IF(VLOOKUP(D535,site!$B:$D,3,0)=\"\",\"-\",VLOOKUP(D535,site!$B:$D,3,0))),IF(C535=\"\",\"\",IF(VLOOKUP(E535,site!$C:$D,2,0)=\"\",\"-\",VLOOKUP(E535,site!$C:$D,2,0))))","v":""},{"$f":"IFERROR(IF($C535=\"\",\"\",IF(VLOOKUP($D535,site!$B:$F,4,0)=\"\",\"-\",VLOOKUP($D535,site!$B:$F,4,0))),IF($C535=\"\",\"\",IF(VLOOKUP($E535,site!$B:$F,3,0)=\"\",\"-\",VLOOKUP($E535,site!$B:$F,3,0))))","v":""},{"$f":"IFERROR(IF($C535=\"\",\"\",IF(VLOOKUP($D535,site!$B:$F,5,0)=\"\",\"-\",VLOOKUP($D535,site!$B:$F,5,0))),IF($C535=\"\",\"\",IF(VLOOKUP($E535,site!$B:$F,4,0)=\"\",\"-\",VLOOKUP($E535,site!$B:$F,4,0))))","v":""},{"$f":"IFERROR(IF($C535=\"\",\"\",IF(VLOOKUP($D535,site!$B:$G,6,0)=\"\",\"-\",VLOOKUP($D535,site!$B:$G,6,0))),IF($C535=\"\",\"\",IF(VLOOKUP($E535,site!$B:$G,5,0)=\"\",\"-\",VLOOKUP($E535,site!$B:$G,5,0))))","v":""}]
[null,null,null,null,null,null,null,null,null,null,null,null,null,null,null,null,null,null,{"$f":"IFERROR(IF(C536=\"\",\"\",IF(VLOOKUP(D536,site!$B:$D,3,0)=\"\",\"-\",VLOOKUP(D536,site!$B:$D,3,0))),IF(C536=\"\",\"\",IF(VLOOKUP(E536,site!$C:$D,2,0)=\"\",\"-\",VLOOKUP(E536,site!$C:$D,2,0))))","v":""},{"$f":"IFERROR(IF($C536=\"\",\"\",IF(VLOOKUP($D536,site!$B:$F,4,0)=\"\",\"-\",VLOOKUP($D536,site!$B:$F,4,0))),IF($C536=\"\",\"\",IF(VLOOKUP($E536,site!$B:$F,3,0)=\"\",\"-\",VLOOKUP($E536,site!$B:$F,3,0))))","v":""},{"$f":"IFERROR(IF($C536=\"\",\"\",IF(VLOOKUP($D536,site!$B:$F,5,0)=\"\",\"-\",VLOOKUP($D536,site!$B:$F,5,0))),IF($C536=\"\",\"\",IF(VLOOKUP($E536,site!$B:$F,4,0)=\"\",\"-\",VLOOKUP($E536,site!$B:$F,4,0))))","v":""},{"$f":"IFERROR(IF($C536=\"\",\"\",IF(VLOOKUP($D536,site!$B:$G,6,0)=\"\",\"-\",VLOOKUP($D536,site!$B:$G,6,0))),IF($C536=\"\",\"\",IF(VLOOKUP($E536,site!$B:$G,5,0)=\"\",\"-\",VLOOKUP($E536,site!$B:$G,5,0))))","v":""}]
[null,null,null,null,null,null,null,null,null,null,null,null,null,null,null,null,null,null,{"$f":"IFERROR(IF(C537=\"\",\"\",IF(VLOOKUP(D537,site!$B:$D,3,0)=\"\",\"-\",VLOOKUP(D537,site!$B:$D,3,0))),IF(C537=\"\",\"\",IF(VLOOKUP(E537,site!$C:$D,2,0)=\"\",\"-\",VLOOKUP(E537,site!$C:$D,2,0))))","v":""},{"$f":"IFERROR(IF($C537=\"\",\"\",IF(VLOOKUP($D537,site!$B:$F,4,0)=\"\",\"-\",VLOOKUP($D537,site!$B:$F,4,0))),IF($C537=\"\",\"\",IF(VLOOKUP($E537,site!$B:$F,3,0)=\"\",\"-\",VLOOKUP($E537,site!$B:$F,3,0))))","v":""},{"$f":"IFERROR(IF($C537=\"\",\"\",IF(VLOOKUP($D537,site!$B:$F,5,0)=\"\",\"-\",VLOOKUP($D537,site!$B:$F,5,0))),IF($C537=\"\",\"\",IF(VLOOKUP($E537,site!$B:$F,4,0)=\"\",\"-\",VLOOKUP($E537,site!$B:$F,4,0))))","v":""},{"$f":"IFERROR(IF($C537=\"\",\"\",IF(VLOOKUP($D537,site!$B:$G,6,0)=\"\",\"-\",VLOOKUP($D537,site!$B:$G,6,0))),IF($C537=\"\",\"\",IF(VLOOKUP($E537,site!$B:$G,5,0)=\"\",\"-\",VLOOKUP($E537,site!$B:$G,5,0))))","v":""}]
[null,null,null,null,null,null,null,null,null,null,null,null,null,null,null,null,null,null,{"$f":"IFERROR(IF(C538=\"\",\"\",IF(VLOOKUP(D538,site!$B:$D,3,0)=\"\",\"-\",VLOOKUP(D538,site!$B:$D,3,0))),IF(C538=\"\",\"\",IF(VLOOKUP(E538,site!$C:$D,2,0)=\"\",\"-\",VLOOKUP(E538,site!$C:$D,2,0))))","v":""},{"$f":"IFERROR(IF($C538=\"\",\"\",IF(VLOOKUP($D538,site!$B:$F,4,0)=\"\",\"-\",VLOOKUP($D538,site!$B:$F,4,0))),IF($C538=\"\",\"\",IF(VLOOKUP($E538,site!$B:$F,3,0)=\"\",\"-\",VLOOKUP($E538,site!$B:$F,3,0))))","v":""},{"$f":"IFERROR(IF($C538=\"\",\"\",IF(VLOOKUP($D538,site!$B:$F,5,0)=\"\",\"-\",VLOOKUP($D538,site!$B:$F,5,0))),IF($C538=\"\",\"\",IF(VLOOKUP($E538,site!$B:$F,4,0)=\"\",\"-\",VLOOKUP($E538,site!$B:$F,4,0))))","v":""},{"$f":"IFERROR(IF($C538=\"\",\"\",IF(VLOOKUP($D538,site!$B:$G,6,0)=\"\",\"-\",VLOOKUP($D538,site!$B:$G,6,0))),IF($C538=\"\",\"\",IF(VLOOKUP($E538,site!$B:$G,5,0)=\"\",\"-\",VLOOKUP($E538,site!$B:$G,5,0))))","v":""}]
[null,null,null,null,null,null,null,null,null,null,null,null,null,null,null,null,null,null,{"$f":"IFERROR(IF(C539=\"\",\"\",IF(VLOOKUP(D539,site!$B:$D,3,0)=\"\",\"-\",VLOOKUP(D539,site!$B:$D,3,0))),IF(C539=\"\",\"\",IF(VLOOKUP(E539,site!$C:$D,2,0)=\"\",\"-\",VLOOKUP(E539,site!$C:$D,2,0))))","v":""},{"$f":"IFERROR(IF($C539=\"\",\"\",IF(VLOOKUP($D539,site!$B:$F,4,0)=\"\",\"-\",VLOOKUP($D539,site!$B:$F,4,0))),IF($C539=\"\",\"\",IF(VLOOKUP($E539,site!$B:$F,3,0)=\"\",\"-\",VLOOKUP($E539,site!$B:$F,3,0))))","v":""},{"$f":"IFERROR(IF($C539=\"\",\"\",IF(VLOOKUP($D539,site!$B:$F,5,0)=\"\",\"-\",VLOOKUP($D539,site!$B:$F,5,0))),IF($C539=\"\",\"\",IF(VLOOKUP($E539,site!$B:$F,4,0)=\"\",\"-\",VLOOKUP($E539,site!$B:$F,4,0))))","v":""},{"$f":"IFERROR(IF($C539=\"\",\"\",IF(VLOOKUP($D539,site!$B:$G,6,0)=\"\",\"-\",VLOOKUP($D539,site!$B:$G,6,0))),IF($C539=\"\",\"\",IF(VLOOKUP($E539,site!$B:$G,5,0)=\"\",\"-\",VLOOKUP($E539,site!$B:$G,5,0))))","v":""}]
[null,null,null,null,null,null,null,null,null,null,null,null,null,null,null,null,null,null,{"$f":"IFERROR(IF(C540=\"\",\"\",IF(VLOOKUP(D540,site!$B:$D,3,0)=\"\",\"-\",VLOOKUP(D540,site!$B:$D,3,0))),IF(C540=\"\",\"\",IF(VLOOKUP(E540,site!$C:$D,2,0)=\"\",\"-\",VLOOKUP(E540,site!$C:$D,2,0))))","v":""},{"$f":"IFERROR(IF($C540=\"\",\"\",IF(VLOOKUP($D540,site!$B:$F,4,0)=\"\",\"-\",VLOOKUP($D540,site!$B:$F,4,0))),IF($C540=\"\",\"\",IF(VLOOKUP($E540,site!$B:$F,3,0)=\"\",\"-\",VLOOKUP($E540,site!$B:$F,3,0))))","v":""},{"$f":"IFERROR(IF($C540=\"\",\"\",IF(VLOOKUP($D540,site!$B:$F,5,0)=\"\",\"-\",VLOOKUP($D540,site!$B:$F,5,0))),IF($C540=\"\",\"\",IF(VLOOKUP($E540,site!$B:$F,4,0)=\"\",\"-\",VLOOKUP($E540,site!$B:$F,4,0))))","v":""},{"$f":"IFERROR(IF($C540=\"\",\"\",IF(VLOOKUP($D540,site!$B:$G,6,0)=\"\",\"-\",VLOOKUP($D540,site!$B:$G,6,0))),IF($C540=\"\",\"\",IF(VLOOKUP($E540,site!$B:$G,5,0)=\"\",\"-\",VLOOKUP($E540,site!$B:$G,5,0))))","v":""}]
[null,null,null,null,null,null,null,null,null,null,null,null,null,null,null,null,null,null,{"$f":"IFERROR(IF(C541=\"\",\"\",IF(VLOOKUP(D541,site!$B:$D,3,0)=\"\",\"-\",VLOOKUP(D541,site!$B:$D,3,0))),IF(C541=\"\",\"\",IF(VLOOKUP(E541,site!$C:$D,2,0)=\"\",\"-\",VLOOKUP(E541,site!$C:$D,2,0))))","v":""},{"$f":"IFERROR(IF($C541=\"\",\"\",IF(VLOOKUP($D541,site!$B:$F,4,0)=\"\",\"-\",VLOOKUP($D541,site!$B:$F,4,0))),IF($C541=\"\",\"\",IF(VLOOKUP($E541,site!$B:$F,3,0)=\"\",\"-\",VLOOKUP($E541,site!$B:$F,3,0))))","v":""},{"$f":"IFERROR(IF($C541=\"\",\"\",IF(VLOOKUP($D541,site!$B:$F,5,0)=\"\",\"-\",VLOOKUP($D541,site!$B:$F,5,0))),IF($C541=\"\",\"\",IF(VLOOKUP($E541,site!$B:$F,4,0)=\"\",\"-\",VLOOKUP($E541,site!$B:$F,4,0))))","v":""},{"$f":"IFERROR(IF($C541=\"\",\"\",IF(VLOOKUP($D541,site!$B:$G,6,0)=\"\",\"-\",VLOOKUP($D541,site!$B:$G,6,0))),IF($C541=\"\",\"\",IF(VLOOKUP($E541,site!$B:$G,5,0)=\"\",\"-\",VLOOKUP($E541,site!$B:$G,5,0))))","v":""}]
[null,null,null,null,null,null,null,null,null,null,null,null,null,null,null,null,null,null,{"$f":"IFERROR(IF(C542=\"\",\"\",IF(VLOOKUP(D542,site!$B:$D,3,0)=\"\",\"-\",VLOOKUP(D542,site!$B:$D,3,0))),IF(C542=\"\",\"\",IF(VLOOKUP(E542,site!$C:$D,2,0)=\"\",\"-\",VLOOKUP(E542,site!$C:$D,2,0))))","v":""},{"$f":"IFERROR(IF($C542=\"\",\"\",IF(VLOOKUP($D542,site!$B:$F,4,0)=\"\",\"-\",VLOOKUP($D542,site!$B:$F,4,0))),IF($C542=\"\",\"\",IF(VLOOKUP($E542,site!$B:$F,3,0)=\"\",\"-\",VLOOKUP($E542,site!$B:$F,3,0))))","v":""},{"$f":"IFERROR(IF($C542=\"\",\"\",IF(VLOOKUP($D542,site!$B:$F,5,0)=\"\",\"-\",VLOOKUP($D542,site!$B:$F,5,0))),IF($C542=\"\",\"\",IF(VLOOKUP($E542,site!$B:$F,4,0)=\"\",\"-\",VLOOKUP($E542,site!$B:$F,4,0))))","v":""},{"$f":"IFERROR(IF($C542=\"\",\"\",IF(VLOOKUP($D542,site!$B:$G,6,0)=\"\",\"-\",VLOOKUP($D542,site!$B:$G,6,0))),IF($C542=\"\",\"\",IF(VLOOKUP($E542,site!$B:$G,5,0)=\"\",\"-\",VLOOKUP($E542,site!$B:$G,5,0))))","v":""}]
[null,null,null,null,null,null,null,null,null,null,null,null,null,null,null,null,null,null,{"$f":"IFERROR(IF(C543=\"\",\"\",IF(VLOOKUP(D543,site!$B:$D,3,0)=\"\",\"-\",VLOOKUP(D543,site!$B:$D,3,0))),IF(C543=\"\",\"\",IF(VLOOKUP(E543,site!$C:$D,2,0)=\"\",\"-\",VLOOKUP(E543,site!$C:$D,2,0))))","v":""},{"$f":"IFERROR(IF($C543=\"\",\"\",IF(VLOOKUP($D543,site!$B:$F,4,0)=\"\",\"-\",VLOOKUP($D543,site!$B:$F,4,0))),IF($C543=\"\",\"\",IF(VLOOKUP($E543,site!$B:$F,3,0)=\"\",\"-\",VLOOKUP($E543,site!$B:$F,3,0))))","v":""},{"$f":"IFERROR(IF($C543=\"\",\"\",IF(VLOOKUP($D543,site!$B:$F,5,0)=\"\",\"-\",VLOOKUP($D543,site!$B:$F,5,0))),IF($C543=\"\",\"\",IF(VLOOKUP($E543,site!$B:$F,4,0)=\"\",\"-\",VLOOKUP($E543,site!$B:$F,4,0))))","v":""},{"$f":"IFERROR(IF($C543=\"\",\"\",IF(VLOOKUP($D543,site!$B:$G,6,0)=\"\",\"-\",VLOOKUP($D543,site!$B:$G,6,0))),IF($C543=\"\",\"\",IF(VLOOKUP($E543,site!$B:$G,5,0)=\"\",\"-\",VLOOKUP($E543,site!$B:$G,5,0))))","v":""}]
[null,null,null,null,null,null,null,null,null,null,null,null,null,null,null,null,null,null,{"$f":"IFERROR(IF(C544=\"\",\"\",IF(VLOOKUP(D544,site!$B:$D,3,0)=\"\",\"-\",VLOOKUP(D544,site!$B:$D,3,0))),IF(C544=\"\",\"\",IF(VLOOKUP(E544,site!$C:$D,2,0)=\"\",\"-\",VLOOKUP(E544,site!$C:$D,2,0))))","v":""},{"$f":"IFERROR(IF($C544=\"\",\"\",IF(VLOOKUP($D544,site!$B:$F,4,0)=\"\",\"-\",VLOOKUP($D544,site!$B:$F,4,0))),IF($C544=\"\",\"\",IF(VLOOKUP($E544,site!$B:$F,3,0)=\"\",\"-\",VLOOKUP($E544,site!$B:$F,3,0))))","v":""},{"$f":"IFERROR(IF($C544=\"\",\"\",IF(VLOOKUP($D544,site!$B:$F,5,0)=\"\",\"-\",VLOOKUP($D544,site!$B:$F,5,0))),IF($C544=\"\",\"\",IF(VLOOKUP($E544,site!$B:$F,4,0)=\"\",\"-\",VLOOKUP($E544,site!$B:$F,4,0))))","v":""},{"$f":"IFERROR(IF($C544=\"\",\"\",IF(VLOOKUP($D544,site!$B:$G,6,0)=\"\",\"-\",VLOOKUP($D544,site!$B:$G,6,0))),IF($C544=\"\",\"\",IF(VLOOKUP($E544,site!$B:$G,5,0)=\"\",\"-\",VLOOKUP($E544,site!$B:$G,5,0))))","v":""}]
[null,null,null,null,null,null,null,null,null,null,null,null,null,null,null,null,null,null,{"$f":"IFERROR(IF(C545=\"\",\"\",IF(VLOOKUP(D545,site!$B:$D,3,0)=\"\",\"-\",VLOOKUP(D545,site!$B:$D,3,0))),IF(C545=\"\",\"\",IF(VLOOKUP(E545,site!$C:$D,2,0)=\"\",\"-\",VLOOKUP(E545,site!$C:$D,2,0))))","v":""},{"$f":"IFERROR(IF($C545=\"\",\"\",IF(VLOOKUP($D545,site!$B:$F,4,0)=\"\",\"-\",VLOOKUP($D545,site!$B:$F,4,0))),IF($C545=\"\",\"\",IF(VLOOKUP($E545,site!$B:$F,3,0)=\"\",\"-\",VLOOKUP($E545,site!$B:$F,3,0))))","v":""},{"$f":"IFERROR(IF($C545=\"\",\"\",IF(VLOOKUP($D545,site!$B:$F,5,0)=\"\",\"-\",VLOOKUP($D545,site!$B:$F,5,0))),IF($C545=\"\",\"\",IF(VLOOKUP($E545,site!$B:$F,4,0)=\"\",\"-\",VLOOKUP($E545,site!$B:$F,4,0))))","v":""},{"$f":"IFERROR(IF($C545=\"\",\"\",IF(VLOOKUP($D545,site!$B:$G,6,0)=\"\",\"-\",VLOOKUP($D545,site!$B:$G,6,0))),IF($C545=\"\",\"\",IF(VLOOKUP($E545,site!$B:$G,5,0)=\"\",\"-\",VLOOKUP($E545,site!$B:$G,5,0))))","v":""}]
[null,null,null,null,null,null,null,null,null,null,null,null,null,null,null,null,null,null,{"$f":"IFERROR(IF(C546=\"\",\"\",IF(VLOOKUP(D546,site!$B:$D,3,0)=\"\",\"-\",VLOOKUP(D546,site!$B:$D,3,0))),IF(C546=\"\",\"\",IF(VLOOKUP(E546,site!$C:$D,2,0)=\"\",\"-\",VLOOKUP(E546,site!$C:$D,2,0))))","v":""},{"$f":"IFERROR(IF($C546=\"\",\"\",IF(VLOOKUP($D546,site!$B:$F,4,0)=\"\",\"-\",VLOOKUP($D546,site!$B:$F,4,0))),IF($C546=\"\",\"\",IF(VLOOKUP($E546,site!$B:$F,3,0)=\"\",\"-\",VLOOKUP($E546,site!$B:$F,3,0))))","v":""},{"$f":"IFERROR(IF($C546=\"\",\"\",IF(VLOOKUP($D546,site!$B:$F,5,0)=\"\",\"-\",VLOOKUP($D546,site!$B:$F,5,0))),IF($C546=\"\",\"\",IF(VLOOKUP($E546,site!$B:$F,4,0)=\"\",\"-\",VLOOKUP($E546,site!$B:$F,4,0))))","v":""},{"$f":"IFERROR(IF($C546=\"\",\"\",IF(VLOOKUP($D546,site!$B:$G,6,0)=\"\",\"-\",VLOOKUP($D546,site!$B:$G,6,0))),IF($C546=\"\",\"\",IF(VLOOKUP($E546,site!$B:$G,5,0)=\"\",\"-\",VLOOKUP($E546,site!$B:$G,5,0))))","v":""}]
[null,null,null,null,null,null,null,null,null,null,null,null,null,null,null,null,null,null,{"$f":"IFERROR(IF(C547=\"\",\"\",IF(VLOOKUP(D547,site!$B:$D,3,0)=\"\",\"-\",VLOOKUP(D547,site!$B:$D,3,0))),IF(C547=\"\",\"\",IF(VLOOKUP(E547,site!$C:$D,2,0)=\"\",\"-\",VLOOKUP(E547,site!$C:$D,2,0))))","v":""},{"$f":"IFERROR(IF($C547=\"\",\"\",IF(VLOOKUP($D547,site!$B:$F,4,0)=\"\",\"-\",VLOOKUP($D547,site!$B:$F,4,0))),IF($C547=\"\",\"\",IF(VLOOKUP($E547,site!$B:$F,3,0)=\"\",\"-\",VLOOKUP($E547,site!$B:$F,3,0))))","v":""},{"$f":"IFERROR(IF($C547=\"\",\"\",IF(VLOOKUP($D547,site!$B:$F,5,0)=\"\",\"-\",VLOOKUP($D547,site!$B:$F,5,0))),IF($C547=\"\",\"\",IF(VLOOKUP($E547,site!$B:$F,4,0)=\"\",\"-\",VLOOKUP($E547,site!$B:$F,4,0))))","v":""},{"$f":"IFERROR(IF($C547=\"\",\"\",IF(VLOOKUP($D547,site!$B:$G,6,0)=\"\",\"-\",VLOOKUP($D547,site!$B:$G,6,0))),IF($C547=\"\",\"\",IF(VLOOKUP($E547,site!$B:$G,5,0)=\"\",\"-\",VLOOKUP($E547,site!$B:$G,5,0))))","v":""}]
[null,null,null,null,null,null,null,null,null,null,null,null,null,null,null,null,null,null,{"$f":"IFERROR(IF(C548=\"\",\"\",IF(VLOOKUP(D548,site!$B:$D,3,0)=\"\",\"-\",VLOOKUP(D548,site!$B:$D,3,0))),IF(C548=\"\",\"\",IF(VLOOKUP(E548,site!$C:$D,2,0)=\"\",\"-\",VLOOKUP(E548,site!$C:$D,2,0))))","v":""},{"$f":"IFERROR(IF($C548=\"\",\"\",IF(VLOOKUP($D548,site!$B:$F,4,0)=\"\",\"-\",VLOOKUP($D548,site!$B:$F,4,0))),IF($C548=\"\",\"\",IF(VLOOKUP($E548,site!$B:$F,3,0)=\"\",\"-\",VLOOKUP($E548,site!$B:$F,3,0))))","v":""},{"$f":"IFERROR(IF($C548=\"\",\"\",IF(VLOOKUP($D548,site!$B:$F,5,0)=\"\",\"-\",VLOOKUP($D548,site!$B:$F,5,0))),IF($C548=\"\",\"\",IF(VLOOKUP($E548,site!$B:$F,4,0)=\"\",\"-\",VLOOKUP($E548,site!$B:$F,4,0))))","v":""},{"$f":"IFERROR(IF($C548=\"\",\"\",IF(VLOOKUP($D548,site!$B:$G,6,0)=\"\",\"-\",VLOOKUP($D548,site!$B:$G,6,0))),IF($C548=\"\",\"\",IF(VLOOKUP($E548,site!$B:$G,5,0)=\"\",\"-\",VLOOKUP($E548,site!$B:$G,5,0))))","v":""}]
[null,null,null,null,null,null,null,null,null,null,null,null,null,null,null,null,null,null,{"$f":"IFERROR(IF(C549=\"\",\"\",IF(VLOOKUP(D549,site!$B:$D,3,0)=\"\",\"-\",VLOOKUP(D549,site!$B:$D,3,0))),IF(C549=\"\",\"\",IF(VLOOKUP(E549,site!$C:$D,2,0)=\"\",\"-\",VLOOKUP(E549,site!$C:$D,2,0))))","v":""},{"$f":"IFERROR(IF($C549=\"\",\"\",IF(VLOOKUP($D549,site!$B:$F,4,0)=\"\",\"-\",VLOOKUP($D549,site!$B:$F,4,0))),IF($C549=\"\",\"\",IF(VLOOKUP($E549,site!$B:$F,3,0)=\"\",\"-\",VLOOKUP($E549,site!$B:$F,3,0))))","v":""},{"$f":"IFERROR(IF($C549=\"\",\"\",IF(VLOOKUP($D549,site!$B:$F,5,0)=\"\",\"-\",VLOOKUP($D549,site!$B:$F,5,0))),IF($C549=\"\",\"\",IF(VLOOKUP($E549,site!$B:$F,4,0)=\"\",\"-\",VLOOKUP($E549,site!$B:$F,4,0))))","v":""},{"$f":"IFERROR(IF($C549=\"\",\"\",IF(VLOOKUP($D549,site!$B:$G,6,0)=\"\",\"-\",VLOOKUP($D549,site!$B:$G,6,0))),IF($C549=\"\",\"\",IF(VLOOKUP($E549,site!$B:$G,5,0)=\"\",\"-\",VLOOKUP($E549,site!$B:$G,5,0))))","v":""}]
[null,null,null,null,null,null,null,null,null,null,null,null,null,null,null,null,null,null,{"$f":"IFERROR(IF(C550=\"\",\"\",IF(VLOOKUP(D550,site!$B:$D,3,0)=\"\",\"-\",VLOOKUP(D550,site!$B:$D,3,0))),IF(C550=\"\",\"\",IF(VLOOKUP(E550,site!$C:$D,2,0)=\"\",\"-\",VLOOKUP(E550,site!$C:$D,2,0))))","v":""},{"$f":"IFERROR(IF($C550=\"\",\"\",IF(VLOOKUP($D550,site!$B:$F,4,0)=\"\",\"-\",VLOOKUP($D550,site!$B:$F,4,0))),IF($C550=\"\",\"\",IF(VLOOKUP($E550,site!$B:$F,3,0)=\"\",\"-\",VLOOKUP($E550,site!$B:$F,3,0))))","v":""},{"$f":"IFERROR(IF($C550=\"\",\"\",IF(VLOOKUP($D550,site!$B:$F,5,0)=\"\",\"-\",VLOOKUP($D550,site!$B:$F,5,0))),IF($C550=\"\",\"\",IF(VLOOKUP($E550,site!$B:$F,4,0)=\"\",\"-\",VLOOKUP($E550,site!$B:$F,4,0))))","v":""},{"$f":"IFERROR(IF($C550=\"\",\"\",IF(VLOOKUP($D550,site!$B:$G,6,0)=\"\",\"-\",VLOOKUP($D550,site!$B:$G,6,0))),IF($C550=\"\",\"\",IF(VLOOKUP($E550,site!$B:$G,5,0)=\"\",\"-\",VLOOKUP($E550,site!$B:$G,5,0))))","v":""}]
[null,null,null,null,null,null,null,null,null,null,null,null,null,null,null,null,null,null,{"$f":"IFERROR(IF(C551=\"\",\"\",IF(VLOOKUP(D551,site!$B:$D,3,0)=\"\",\"-\",VLOOKUP(D551,site!$B:$D,3,0))),IF(C551=\"\",\"\",IF(VLOOKUP(E551,site!$C:$D,2,0)=\"\",\"-\",VLOOKUP(E551,site!$C:$D,2,0))))","v":""},{"$f":"IFERROR(IF($C551=\"\",\"\",IF(VLOOKUP($D551,site!$B:$F,4,0)=\"\",\"-\",VLOOKUP($D551,site!$B:$F,4,0))),IF($C551=\"\",\"\",IF(VLOOKUP($E551,site!$B:$F,3,0)=\"\",\"-\",VLOOKUP($E551,site!$B:$F,3,0))))","v":""},{"$f":"IFERROR(IF($C551=\"\",\"\",IF(VLOOKUP($D551,site!$B:$F,5,0)=\"\",\"-\",VLOOKUP($D551,site!$B:$F,5,0))),IF($C551=\"\",\"\",IF(VLOOKUP($E551,site!$B:$F,4,0)=\"\",\"-\",VLOOKUP($E551,site!$B:$F,4,0))))","v":""},{"$f":"IFERROR(IF($C551=\"\",\"\",IF(VLOOKUP($D551,site!$B:$G,6,0)=\"\",\"-\",VLOOKUP($D551,site!$B:$G,6,0))),IF($C551=\"\",\"\",IF(VLOOKUP($E551,site!$B:$G,5,0)=\"\",\"-\",VLOOKUP($E551,site!$B:$G,5,0))))","v":""}]
[null,null,null,null,null,null,null,null,null,null,null,null,null,null,null,null,null,null,{"$f":"IFERROR(IF(C552=\"\",\"\",IF(VLOOKUP(D552,site!$B:$D,3,0)=\"\",\"-\",VLOOKUP(D552,site!$B:$D,3,0))),IF(C552=\"\",\"\",IF(VLOOKUP(E552,site!$C:$D,2,0)=\"\",\"-\",VLOOKUP(E552,site!$C:$D,2,0))))","v":""},{"$f":"IFERROR(IF($C552=\"\",\"\",IF(VLOOKUP($D552,site!$B:$F,4,0)=\"\",\"-\",VLOOKUP($D552,site!$B:$F,4,0))),IF($C552=\"\",\"\",IF(VLOOKUP($E552,site!$B:$F,3,0)=\"\",\"-\",VLOOKUP($E552,site!$B:$F,3,0))))","v":""},{"$f":"IFERROR(IF($C552=\"\",\"\",IF(VLOOKUP($D552,site!$B:$F,5,0)=\"\",\"-\",VLOOKUP($D552,site!$B:$F,5,0))),IF($C552=\"\",\"\",IF(VLOOKUP($E552,site!$B:$F,4,0)=\"\",\"-\",VLOOKUP($E552,site!$B:$F,4,0))))","v":""},{"$f":"IFERROR(IF($C552=\"\",\"\",IF(VLOOKUP($D552,site!$B:$G,6,0)=\"\",\"-\",VLOOKUP($D552,site!$B:$G,6,0))),IF($C552=\"\",\"\",IF(VLOOKUP($E552,site!$B:$G,5,0)=\"\",\"-\",VLOOKUP($E552,site!$B:$G,5,0))))","v":""}]
[null,null,null,null,null,null,null,null,null,null,null,null,null,null,null,null,null,null,{"$f":"IFERROR(IF(C553=\"\",\"\",IF(VLOOKUP(D553,site!$B:$D,3,0)=\"\",\"-\",VLOOKUP(D553,site!$B:$D,3,0))),IF(C553=\"\",\"\",IF(VLOOKUP(E553,site!$C:$D,2,0)=\"\",\"-\",VLOOKUP(E553,site!$C:$D,2,0))))","v":""},{"$f":"IFERROR(IF($C553=\"\",\"\",IF(VLOOKUP($D553,site!$B:$F,4,0)=\"\",\"-\",VLOOKUP($D553,site!$B:$F,4,0))),IF($C553=\"\",\"\",IF(VLOOKUP($E553,site!$B:$F,3,0)=\"\",\"-\",VLOOKUP($E553,site!$B:$F,3,0))))","v":""},{"$f":"IFERROR(IF($C553=\"\",\"\",IF(VLOOKUP($D553,site!$B:$F,5,0)=\"\",\"-\",VLOOKUP($D553,site!$B:$F,5,0))),IF($C553=\"\",\"\",IF(VLOOKUP($E553,site!$B:$F,4,0)=\"\",\"-\",VLOOKUP($E553,site!$B:$F,4,0))))","v":""},{"$f":"IFERROR(IF($C553=\"\",\"\",IF(VLOOKUP($D553,site!$B:$G,6,0)=\"\",\"-\",VLOOKUP($D553,site!$B:$G,6,0))),IF($C553=\"\",\"\",IF(VLOOKUP($E553,site!$B:$G,5,0)=\"\",\"-\",VLOOKUP($E553,site!$B:$G,5,0))))","v":""}]
[null,null,null,null,null,null,null,null,null,null,null,null,null,null,null,null,null,null,{"$f":"IFERROR(IF(C554=\"\",\"\",IF(VLOOKUP(D554,site!$B:$D,3,0)=\"\",\"-\",VLOOKUP(D554,site!$B:$D,3,0))),IF(C554=\"\",\"\",IF(VLOOKUP(E554,site!$C:$D,2,0)=\"\",\"-\",VLOOKUP(E554,site!$C:$D,2,0))))","v":""},{"$f":"IFERROR(IF($C554=\"\",\"\",IF(VLOOKUP($D554,site!$B:$F,4,0)=\"\",\"-\",VLOOKUP($D554,site!$B:$F,4,0))),IF($C554=\"\",\"\",IF(VLOOKUP($E554,site!$B:$F,3,0)=\"\",\"-\",VLOOKUP($E554,site!$B:$F,3,0))))","v":""},{"$f":"IFERROR(IF($C554=\"\",\"\",IF(VLOOKUP($D554,site!$B:$F,5,0)=\"\",\"-\",VLOOKUP($D554,site!$B:$F,5,0))),IF($C554=\"\",\"\",IF(VLOOKUP($E554,site!$B:$F,4,0)=\"\",\"-\",VLOOKUP($E554,site!$B:$F,4,0))))","v":""},{"$f":"IFERROR(IF($C554=\"\",\"\",IF(VLOOKUP($D554,site!$B:$G,6,0)=\"\",\"-\",VLOOKUP($D554,site!$B:$G,6,0))),IF($C554=\"\",\"\",IF(VLOOKUP($E554,site!$B:$G,5,0)=\"\",\"-\",VLOOKUP($E554,site!$B:$G,5,0))))","v":""}]
[null,null,null,null,null,null,null,null,null,null,null,null,null,null,null,null,null,null,{"$f":"IFERROR(IF(C555=\"\",\"\",IF(VLOOKUP(D555,site!$B:$D,3,0)=\"\",\"-\",VLOOKUP(D555,site!$B:$D,3,0))),IF(C555=\"\",\"\",IF(VLOOKUP(E555,site!$C:$D,2,0)=\"\",\"-\",VLOOKUP(E555,site!$C:$D,2,0))))","v":""},{"$f":"IFERROR(IF($C555=\"\",\"\",IF(VLOOKUP($D555,site!$B:$F,4,0)=\"\",\"-\",VLOOKUP($D555,site!$B:$F,4,0))),IF($C555=\"\",\"\",IF(VLOOKUP($E555,site!$B:$F,3,0)=\"\",\"-\",VLOOKUP($E555,site!$B:$F,3,0))))","v":""},{"$f":"IFERROR(IF($C555=\"\",\"\",IF(VLOOKUP($D555,site!$B:$F,5,0)=\"\",\"-\",VLOOKUP($D555,site!$B:$F,5,0))),IF($C555=\"\",\"\",IF(VLOOKUP($E555,site!$B:$F,4,0)=\"\",\"-\",VLOOKUP($E555,site!$B:$F,4,0))))","v":""},{"$f":"IFERROR(IF($C555=\"\",\"\",IF(VLOOKUP($D555,site!$B:$G,6,0)=\"\",\"-\",VLOOKUP($D555,site!$B:$G,6,0))),IF($C555=\"\",\"\",IF(VLOOKUP($E555,site!$B:$G,5,0)=\"\",\"-\",VLOOKUP($E555,site!$B:$G,5,0))))","v":""}]
[null,null,null,null,null,null,null,null,null,null,null,null,null,null,null,null,null,null,{"$f":"IFERROR(IF(C556=\"\",\"\",IF(VLOOKUP(D556,site!$B:$D,3,0)=\"\",\"-\",VLOOKUP(D556,site!$B:$D,3,0))),IF(C556=\"\",\"\",IF(VLOOKUP(E556,site!$C:$D,2,0)=\"\",\"-\",VLOOKUP(E556,site!$C:$D,2,0))))","v":""},{"$f":"IFERROR(IF($C556=\"\",\"\",IF(VLOOKUP($D556,site!$B:$F,4,0)=\"\",\"-\",VLOOKUP($D556,site!$B:$F,4,0))),IF($C556=\"\",\"\",IF(VLOOKUP($E556,site!$B:$F,3,0)=\"\",\"-\",VLOOKUP($E556,site!$B:$F,3,0))))","v":""},{"$f":"IFERROR(IF($C556=\"\",\"\",IF(VLOOKUP($D556,site!$B:$F,5,0)=\"\",\"-\",VLOOKUP($D556,site!$B:$F,5,0))),IF($C556=\"\",\"\",IF(VLOOKUP($E556,site!$B:$F,4,0)=\"\",\"-\",VLOOKUP($E556,site!$B:$F,4,0))))","v":""},{"$f":"IFERROR(IF($C556=\"\",\"\",IF(VLOOKUP($D556,site!$B:$G,6,0)=\"\",\"-\",VLOOKUP($D556,site!$B:$G,6,0))),IF($C556=\"\",\"\",IF(VLOOKUP($E556,site!$B:$G,5,0)=\"\",\"-\",VLOOKUP($E556,site!$B:$G,5,0))))","v":""}]
[null,null,null,null,null,null,null,null,null,null,null,null,null,null,null,null,null,null,{"$f":"IFERROR(IF(C557=\"\",\"\",IF(VLOOKUP(D557,site!$B:$D,3,0)=\"\",\"-\",VLOOKUP(D557,site!$B:$D,3,0))),IF(C557=\"\",\"\",IF(VLOOKUP(E557,site!$C:$D,2,0)=\"\",\"-\",VLOOKUP(E557,site!$C:$D,2,0))))","v":""},{"$f":"IFERROR(IF($C557=\"\",\"\",IF(VLOOKUP($D557,site!$B:$F,4,0)=\"\",\"-\",VLOOKUP($D557,site!$B:$F,4,0))),IF($C557=\"\",\"\",IF(VLOOKUP($E557,site!$B:$F,3,0)=\"\",\"-\",VLOOKUP($E557,site!$B:$F,3,0))))","v":""},{"$f":"IFERROR(IF($C557=\"\",\"\",IF(VLOOKUP($D557,site!$B:$F,5,0)=\"\",\"-\",VLOOKUP($D557,site!$B:$F,5,0))),IF($C557=\"\",\"\",IF(VLOOKUP($E557,site!$B:$F,4,0)=\"\",\"-\",VLOOKUP($E557,site!$B:$F,4,0))))","v":""},{"$f":"IFERROR(IF($C557=\"\",\"\",IF(VLOOKUP($D557,site!$B:$G,6,0)=\"\",\"-\",VLOOKUP($D557,site!$B:$G,6,0))),IF($C557=\"\",\"\",IF(VLOOKUP($E557,site!$B:$G,5,0)=\"\",\"-\",VLOOKUP($E557,site!$B:$G,5,0))))","v":""}]
[null,null,null,null,null,null,null,null,null,null,null,null,null,null,null,null,null,null,{"$f":"IFERROR(IF(C558=\"\",\"\",IF(VLOOKUP(D558,site!$B:$D,3,0)=\"\",\"-\",VLOOKUP(D558,site!$B:$D,3,0))),IF(C558=\"\",\"\",IF(VLOOKUP(E558,site!$C:$D,2,0)=\"\",\"-\",VLOOKUP(E558,site!$C:$D,2,0))))","v":""},{"$f":"IFERROR(IF($C558=\"\",\"\",IF(VLOOKUP($D558,site!$B:$F,4,0)=\"\",\"-\",VLOOKUP($D558,site!$B:$F,4,0))),IF($C558=\"\",\"\",IF(VLOOKUP($E558,site!$B:$F,3,0)=\"\",\"-\",VLOOKUP($E558,site!$B:$F,3,0))))","v":""},{"$f":"IFERROR(IF($C558=\"\",\"\",IF(VLOOKUP($D558,site!$B:$F,5,0)=\"\",\"-\",VLOOKUP($D558,site!$B:$F,5,0))),IF($C558=\"\",\"\",IF(VLOOKUP($E558,site!$B:$F,4,0)=\"\",\"-\",VLOOKUP($E558,site!$B:$F,4,0))))","v":""},{"$f":"IFERROR(IF($C558=\"\",\"\",IF(VLOOKUP($D558,site!$B:$G,6,0)=\"\",\"-\",VLOOKUP($D558,site!$B:$G,6,0))),IF($C558=\"\",\"\",IF(VLOOKUP($E558,site!$B:$G,5,0)=\"\",\"-\",VLOOKUP($E558,site!$B:$G,5,0))))","v":""}]
[null,null,null,null,null,null,null,null,null,null,null,null,null,null,null,null,null,null,{"$f":"IFERROR(IF(C559=\"\",\"\",IF(VLOOKUP(D559,site!$B:$D,3,0)=\"\",\"-\",VLOOKUP(D559,site!$B:$D,3,0))),IF(C559=\"\",\"\",IF(VLOOKUP(E559,site!$C:$D,2,0)=\"\",\"-\",VLOOKUP(E559,site!$C:$D,2,0))))","v":""},{"$f":"IFERROR(IF($C559=\"\",\"\",IF(VLOOKUP($D559,site!$B:$F,4,0)=\"\",\"-\",VLOOKUP($D559,site!$B:$F,4,0))),IF($C559=\"\",\"\",IF(VLOOKUP($E559,site!$B:$F,3,0)=\"\",\"-\",VLOOKUP($E559,site!$B:$F,3,0))))","v":""},{"$f":"IFERROR(IF($C559=\"\",\"\",IF(VLOOKUP($D559,site!$B:$F,5,0)=\"\",\"-\",VLOOKUP($D559,site!$B:$F,5,0))),IF($C559=\"\",\"\",IF(VLOOKUP($E559,site!$B:$F,4,0)=\"\",\"-\",VLOOKUP($E559,site!$B:$F,4,0))))","v":""},{"$f":"IFERROR(IF($C559=\"\",\"\",IF(VLOOKUP($D559,site!$B:$G,6,0)=\"\",\"-\",VLOOKUP($D559,site!$B:$G,6,0))),IF($C559=\"\",\"\",IF(VLOOKUP($E559,site!$B:$G,5,0)=\"\",\"-\",VLOOKUP($E559,site!$B:$G,5,0))))","v":""}]
[null,null,null,null,null,null,null,null,null,null,null,null,null,null,null,null,null,null,{"$f":"IFERROR(IF(C560=\"\",\"\",IF(VLOOKUP(D560,site!$B:$D,3,0)=\"\",\"-\",VLOOKUP(D560,site!$B:$D,3,0))),IF(C560=\"\",\"\",IF(VLOOKUP(E560,site!$C:$D,2,0)=\"\",\"-\",VLOOKUP(E560,site!$C:$D,2,0))))","v":""},{"$f":"IFERROR(IF($C560=\"\",\"\",IF(VLOOKUP($D560,site!$B:$F,4,0)=\"\",\"-\",VLOOKUP($D560,site!$B:$F,4,0))),IF($C560=\"\",\"\",IF(VLOOKUP($E560,site!$B:$F,3,0)=\"\",\"-\",VLOOKUP($E560,site!$B:$F,3,0))))","v":""},{"$f":"IFERROR(IF($C560=\"\",\"\",IF(VLOOKUP($D560,site!$B:$F,5,0)=\"\",\"-\",VLOOKUP($D560,site!$B:$F,5,0))),IF($C560=\"\",\"\",IF(VLOOKUP($E560,site!$B:$F,4,0)=\"\",\"-\",VLOOKUP($E560,site!$B:$F,4,0))))","v":""},{"$f":"IFERROR(IF($C560=\"\",\"\",IF(VLOOKUP($D560,site!$B:$G,6,0)=\"\",\"-\",VLOOKUP($D560,site!$B:$G,6,0))),IF($C560=\"\",\"\",IF(VLOOKUP($E560,site!$B:$G,5,0)=\"\",\"-\",VLOOKUP($E560,site!$B:$G,5,0))))","v":""}]
[null,null,null,null,null,null,null,null,null,null,null,null,null,null,null,null,null,null,{"$f":"IFERROR(IF(C561=\"\",\"\",IF(VLOOKUP(D561,site!$B:$D,3,0)=\"\",\"-\",VLOOKUP(D561,site!$B:$D,3,0))),IF(C561=\"\",\"\",IF(VLOOKUP(E561,site!$C:$D,2,0)=\"\",\"-\",VLOOKUP(E561,site!$C:$D,2,0))))","v":""},{"$f":"IFERROR(IF($C561=\"\",\"\",IF(VLOOKUP($D561,site!$B:$F,4,0)=\"\",\"-\",VLOOKUP($D561,site!$B:$F,4,0))),IF($C561=\"\",\"\",IF(VLOOKUP($E561,site!$B:$F,3,0)=\"\",\"-\",VLOOKUP($E561,site!$B:$F,3,0))))","v":""},{"$f":"IFERROR(IF($C561=\"\",\"\",IF(VLOOKUP($D561,site!$B:$F,5,0)=\"\",\"-\",VLOOKUP($D561,site!$B:$F,5,0))),IF($C561=\"\",\"\",IF(VLOOKUP($E561,site!$B:$F,4,0)=\"\",\"-\",VLOOKUP($E561,site!$B:$F,4,0))))","v":""},{"$f":"IFERROR(IF($C561=\"\",\"\",IF(VLOOKUP($D561,site!$B:$G,6,0)=\"\",\"-\",VLOOKUP($D561,site!$B:$G,6,0))),IF($C561=\"\",\"\",IF(VLOOKUP($E561,site!$B:$G,5,0)=\"\",\"-\",VLOOKUP($E561,site!$B:$G,5,0))))","v":""}]
[null,null,null,null,null,null,null,null,null,null,null,null,null,null,null,null,null,null,{"$f":"IFERROR(IF(C562=\"\",\"\",IF(VLOOKUP(D562,site!$B:$D,3,0)=\"\",\"-\",VLOOKUP(D562,site!$B:$D,3,0))),IF(C562=\"\",\"\",IF(VLOOKUP(E562,site!$C:$D,2,0)=\"\",\"-\",VLOOKUP(E562,site!$C:$D,2,0))))","v":""},{"$f":"IFERROR(IF($C562=\"\",\"\",IF(VLOOKUP($D562,site!$B:$F,4,0)=\"\",\"-\",VLOOKUP($D562,site!$B:$F,4,0))),IF($C562=\"\",\"\",IF(VLOOKUP($E562,site!$B:$F,3,0)=\"\",\"-\",VLOOKUP($E562,site!$B:$F,3,0))))","v":""},{"$f":"IFERROR(IF($C562=\"\",\"\",IF(VLOOKUP($D562,site!$B:$F,5,0)=\"\",\"-\",VLOOKUP($D562,site!$B:$F,5,0))),IF($C562=\"\",\"\",IF(VLOOKUP($E562,site!$B:$F,4,0)=\"\",\"-\",VLOOKUP($E562,site!$B:$F,4,0))))","v":""},{"$f":"IFERROR(IF($C562=\"\",\"\",IF(VLOOKUP($D562,site!$B:$G,6,0)=\"\",\"-\",VLOOKUP($D562,site!$B:$G,6,0))),IF($C562=\"\",\"\",IF(VLOOKUP($E562,site!$B:$G,5,0)=\"\",\"-\",VLOOKUP($E562,site!$B:$G,5,0))))","v":""}]
[null,null,null,null,null,null,null,null,null,null,null,null,null,null,null,null,null,null,{"$f":"IFERROR(IF(C563=\"\",\"\",IF(VLOOKUP(D563,site!$B:$D,3,0)=\"\",\"-\",VLOOKUP(D563,site!$B:$D,3,0))),IF(C563=\"\",\"\",IF(VLOOKUP(E563,site!$C:$D,2,0)=\"\",\"-\",VLOOKUP(E563,site!$C:$D,2,0))))","v":""},{"$f":"IFERROR(IF($C563=\"\",\"\",IF(VLOOKUP($D563,site!$B:$F,4,0)=\"\",\"-\",VLOOKUP($D563,site!$B:$F,4,0))),IF($C563=\"\",\"\",IF(VLOOKUP($E563,site!$B:$F,3,0)=\"\",\"-\",VLOOKUP($E563,site!$B:$F,3,0))))","v":""},{"$f":"IFERROR(IF($C563=\"\",\"\",IF(VLOOKUP($D563,site!$B:$F,5,0)=\"\",\"-\",VLOOKUP($D563,site!$B:$F,5,0))),IF($C563=\"\",\"\",IF(VLOOKUP($E563,site!$B:$F,4,0)=\"\",\"-\",VLOOKUP($E563,site!$B:$F,4,0))))","v":""},{"$f":"IFERROR(IF($C563=\"\",\"\",IF(VLOOKUP($D563,site!$B:$G,6,0)=\"\",\"-\",VLOOKUP($D563,site!$B:$G,6,0))),IF($C563=\"\",\"\",IF(VLOOKUP($E563,site!$B:$G,5,0)=\"\",\"-\",VLOOKUP($E563,site!$B:$G,5,0))))","v":""}]
[null,null,null,null,null,null,null,null,null,null,null,null,null,null,null,null,null,null,{"$f":"IFERROR(IF(C564=\"\",\"\",IF(VLOOKUP(D564,site!$B:$D,3,0)=\"\",\"-\",VLOOKUP(D564,site!$B:$D,3,0))),IF(C564=\"\",\"\",IF(VLOOKUP(E564,site!$C:$D,2,0)=\"\",\"-\",VLOOKUP(E564,site!$C:$D,2,0))))","v":""},{"$f":"IFERROR(IF($C564=\"\",\"\",IF(VLOOKUP($D564,site!$B:$F,4,0)=\"\",\"-\",VLOOKUP($D564,site!$B:$F,4,0))),IF($C564=\"\",\"\",IF(VLOOKUP($E564,site!$B:$F,3,0)=\"\",\"-\",VLOOKUP($E564,site!$B:$F,3,0))))","v":""},{"$f":"IFERROR(IF($C564=\"\",\"\",IF(VLOOKUP($D564,site!$B:$F,5,0)=\"\",\"-\",VLOOKUP($D564,site!$B:$F,5,0))),IF($C564=\"\",\"\",IF(VLOOKUP($E564,site!$B:$F,4,0)=\"\",\"-\",VLOOKUP($E564,site!$B:$F,4,0))))","v":""},{"$f":"IFERROR(IF($C564=\"\",\"\",IF(VLOOKUP($D564,site!$B:$G,6,0)=\"\",\"-\",VLOOKUP($D564,site!$B:$G,6,0))),IF($C564=\"\",\"\",IF(VLOOKUP($E564,site!$B:$G,5,0)=\"\",\"-\",VLOOKUP($E564,site!$B:$G,5,0))))","v":""}]
[null,null,null,null,null,null,null,null,null,null,null,null,null,null,null,null,null,null,{"$f":"IFERROR(IF(C565=\"\",\"\",IF(VLOOKUP(D565,site!$B:$D,3,0)=\"\",\"-\",VLOOKUP(D565,site!$B:$D,3,0))),IF(C565=\"\",\"\",IF(VLOOKUP(E565,site!$C:$D,2,0)=\"\",\"-\",VLOOKUP(E565,site!$C:$D,2,0))))","v":""},{"$f":"IFERROR(IF($C565=\"\",\"\",IF(VLOOKUP($D565,site!$B:$F,4,0)=\"\",\"-\",VLOOKUP($D565,site!$B:$F,4,0))),IF($C565=\"\",\"\",IF(VLOOKUP($E565,site!$B:$F,3,0)=\"\",\"-\",VLOOKUP($E565,site!$B:$F,3,0))))","v":""},{"$f":"IFERROR(IF($C565=\"\",\"\",IF(VLOOKUP($D565,site!$B:$F,5,0)=\"\",\"-\",VLOOKUP($D565,site!$B:$F,5,0))),IF($C565=\"\",\"\",IF(VLOOKUP($E565,site!$B:$F,4,0)=\"\",\"-\",VLOOKUP($E565,site!$B:$F,4,0))))","v":""},{"$f":"IFERROR(IF($C565=\"\",\"\",IF(VLOOKUP($D565,site!$B:$G,6,0)=\"\",\"-\",VLOOKUP($D565,site!$B:$G,6,0))),IF($C565=\"\",\"\",IF(VLOOKUP($E565,site!$B:$G,5,0)=\"\",\"-\",VLOOKUP($E565,site!$B:$G,5,0))))","v":""}]
[null,null,null,null,null,null,null,null,null,null,null,null,null,null,null,null,null,null,{"$f":"IFERROR(IF(C566=\"\",\"\",IF(VLOOKUP(D566,site!$B:$D,3,0)=\"\",\"-\",VLOOKUP(D566,site!$B:$D,3,0))),IF(C566=\"\",\"\",IF(VLOOKUP(E566,site!$C:$D,2,0)=\"\",\"-\",VLOOKUP(E566,site!$C:$D,2,0))))","v":""},{"$f":"IFERROR(IF($C566=\"\",\"\",IF(VLOOKUP($D566,site!$B:$F,4,0)=\"\",\"-\",VLOOKUP($D566,site!$B:$F,4,0))),IF($C566=\"\",\"\",IF(VLOOKUP($E566,site!$B:$F,3,0)=\"\",\"-\",VLOOKUP($E566,site!$B:$F,3,0))))","v":""},{"$f":"IFERROR(IF($C566=\"\",\"\",IF(VLOOKUP($D566,site!$B:$F,5,0)=\"\",\"-\",VLOOKUP($D566,site!$B:$F,5,0))),IF($C566=\"\",\"\",IF(VLOOKUP($E566,site!$B:$F,4,0)=\"\",\"-\",VLOOKUP($E566,site!$B:$F,4,0))))","v":""},{"$f":"IFERROR(IF($C566=\"\",\"\",IF(VLOOKUP($D566,site!$B:$G,6,0)=\"\",\"-\",VLOOKUP($D566,site!$B:$G,6,0))),IF($C566=\"\",\"\",IF(VLOOKUP($E566,site!$B:$G,5,0)=\"\",\"-\",VLOOKUP($E566,site!$B:$G,5,0))))","v":""}]
[null,null,null,null,null,null,null,null,null,null,null,null,null,null,null,null,null,null,{"$f":"IFERROR(IF(C567=\"\",\"\",IF(VLOOKUP(D567,site!$B:$D,3,0)=\"\",\"-\",VLOOKUP(D567,site!$B:$D,3,0))),IF(C567=\"\",\"\",IF(VLOOKUP(E567,site!$C:$D,2,0)=\"\",\"-\",VLOOKUP(E567,site!$C:$D,2,0))))","v":""},{"$f":"IFERROR(IF($C567=\"\",\"\",IF(VLOOKUP($D567,site!$B:$F,4,0)=\"\",\"-\",VLOOKUP($D567,site!$B:$F,4,0))),IF($C567=\"\",\"\",IF(VLOOKUP($E567,site!$B:$F,3,0)=\"\",\"-\",VLOOKUP($E567,site!$B:$F,3,0))))","v":""},{"$f":"IFERROR(IF($C567=\"\",\"\",IF(VLOOKUP($D567,site!$B:$F,5,0)=\"\",\"-\",VLOOKUP($D567,site!$B:$F,5,0))),IF($C567=\"\",\"\",IF(VLOOKUP($E567,site!$B:$F,4,0)=\"\",\"-\",VLOOKUP($E567,site!$B:$F,4,0))))","v":""},{"$f":"IFERROR(IF($C567=\"\",\"\",IF(VLOOKUP($D567,site!$B:$G,6,0)=\"\",\"-\",VLOOKUP($D567,site!$B:$G,6,0))),IF($C567=\"\",\"\",IF(VLOOKUP($E567,site!$B:$G,5,0)=\"\",\"-\",VLOOKUP($E567,site!$B:$G,5,0))))","v":""}]
[null,null,null,null,null,null,null,null,null,null,null,null,null,null,null,null,null,null,{"$f":"IFERROR(IF(C568=\"\",\"\",IF(VLOOKUP(D568,site!$B:$D,3,0)=\"\",\"-\",VLOOKUP(D568,site!$B:$D,3,0))),IF(C568=\"\",\"\",IF(VLOOKUP(E568,site!$C:$D,2,0)=\"\",\"-\",VLOOKUP(E568,site!$C:$D,2,0))))","v":""},{"$f":"IFERROR(IF($C568=\"\",\"\",IF(VLOOKUP($D568,site!$B:$F,4,0)=\"\",\"-\",VLOOKUP($D568,site!$B:$F,4,0))),IF($C568=\"\",\"\",IF(VLOOKUP($E568,site!$B:$F,3,0)=\"\",\"-\",VLOOKUP($E568,site!$B:$F,3,0))))","v":""},{"$f":"IFERROR(IF($C568=\"\",\"\",IF(VLOOKUP($D568,site!$B:$F,5,0)=\"\",\"-\",VLOOKUP($D568,site!$B:$F,5,0))),IF($C568=\"\",\"\",IF(VLOOKUP($E568,site!$B:$F,4,0)=\"\",\"-\",VLOOKUP($E568,site!$B:$F,4,0))))","v":""},{"$f":"IFERROR(IF($C568=\"\",\"\",IF(VLOOKUP($D568,site!$B:$G,6,0)=\"\",\"-\",VLOOKUP($D568,site!$B:$G,6,0))),IF($C568=\"\",\"\",IF(VLOOKUP($E568,site!$B:$G,5,0)=\"\",\"-\",VLOOKUP($E568,site!$B:$G,5,0))))","v":""}]
[null,null,null,null,null,null,null,null,null,null,null,null,null,null,null,null,null,null,{"$f":"IFERROR(IF(C569=\"\",\"\",IF(VLOOKUP(D569,site!$B:$D,3,0)=\"\",\"-\",VLOOKUP(D569,site!$B:$D,3,0))),IF(C569=\"\",\"\",IF(VLOOKUP(E569,site!$C:$D,2,0)=\"\",\"-\",VLOOKUP(E569,site!$C:$D,2,0))))","v":""},{"$f":"IFERROR(IF($C569=\"\",\"\",IF(VLOOKUP($D569,site!$B:$F,4,0)=\"\",\"-\",VLOOKUP($D569,site!$B:$F,4,0))),IF($C569=\"\",\"\",IF(VLOOKUP($E569,site!$B:$F,3,0)=\"\",\"-\",VLOOKUP($E569,site!$B:$F,3,0))))","v":""},{"$f":"IFERROR(IF($C569=\"\",\"\",IF(VLOOKUP($D569,site!$B:$F,5,0)=\"\",\"-\",VLOOKUP($D569,site!$B:$F,5,0))),IF($C569=\"\",\"\",IF(VLOOKUP($E569,site!$B:$F,4,0)=\"\",\"-\",VLOOKUP($E569,site!$B:$F,4,0))))","v":""},{"$f":"IFERROR(IF($C569=\"\",\"\",IF(VLOOKUP($D569,site!$B:$G,6,0)=\"\",\"-\",VLOOKUP($D569,site!$B:$G,6,0))),IF($C569=\"\",\"\",IF(VLOOKUP($E569,site!$B:$G,5,0)=\"\",\"-\",VLOOKUP($E569,site!$B:$G,5,0))))","v":""}]
[null,null,null,null,null,null,null,null,null,null,null,null,null,null,null,null,null,null,{"$f":"IFERROR(IF(C570=\"\",\"\",IF(VLOOKUP(D570,site!$B:$D,3,0)=\"\",\"-\",VLOOKUP(D570,site!$B:$D,3,0))),IF(C570=\"\",\"\",IF(VLOOKUP(E570,site!$C:$D,2,0)=\"\",\"-\",VLOOKUP(E570,site!$C:$D,2,0))))","v":""},{"$f":"IFERROR(IF($C570=\"\",\"\",IF(VLOOKUP($D570,site!$B:$F,4,0)=\"\",\"-\",VLOOKUP($D570,site!$B:$F,4,0))),IF($C570=\"\",\"\",IF(VLOOKUP($E570,site!$B:$F,3,0)=\"\",\"-\",VLOOKUP($E570,site!$B:$F,3,0))))","v":""},{"$f":"IFERROR(IF($C570=\"\",\"\",IF(VLOOKUP($D570,site!$B:$F,5,0)=\"\",\"-\",VLOOKUP($D570,site!$B:$F,5,0))),IF($C570=\"\",\"\",IF(VLOOKUP($E570,site!$B:$F,4,0)=\"\",\"-\",VLOOKUP($E570,site!$B:$F,4,0))))","v":""},{"$f":"IFERROR(IF($C570=\"\",\"\",IF(VLOOKUP($D570,site!$B:$G,6,0)=\"\",\"-\",VLOOKUP($D570,site!$B:$G,6,0))),IF($C570=\"\",\"\",IF(VLOOKUP($E570,site!$B:$G,5,0)=\"\",\"-\",VLOOKUP($E570,site!$B:$G,5,0))))","v":""}]
[null,null,null,null,null,null,null,null,null,null,null,null,null,null,null,null,null,null,{"$f":"IFERROR(IF(C571=\"\",\"\",IF(VLOOKUP(D571,site!$B:$D,3,0)=\"\",\"-\",VLOOKUP(D571,site!$B:$D,3,0))),IF(C571=\"\",\"\",IF(VLOOKUP(E571,site!$C:$D,2,0)=\"\",\"-\",VLOOKUP(E571,site!$C:$D,2,0))))","v":""},{"$f":"IFERROR(IF($C571=\"\",\"\",IF(VLOOKUP($D571,site!$B:$F,4,0)=\"\",\"-\",VLOOKUP($D571,site!$B:$F,4,0))),IF($C571=\"\",\"\",IF(VLOOKUP($E571,site!$B:$F,3,0)=\"\",\"-\",VLOOKUP($E571,site!$B:$F,3,0))))","v":""},{"$f":"IFERROR(IF($C571=\"\",\"\",IF(VLOOKUP($D571,site!$B:$F,5,0)=\"\",\"-\",VLOOKUP($D571,site!$B:$F,5,0))),IF($C571=\"\",\"\",IF(VLOOKUP($E571,site!$B:$F,4,0)=\"\",\"-\",VLOOKUP($E571,site!$B:$F,4,0))))","v":""},{"$f":"IFERROR(IF($C571=\"\",\"\",IF(VLOOKUP($D571,site!$B:$G,6,0)=\"\",\"-\",VLOOKUP($D571,site!$B:$G,6,0))),IF($C571=\"\",\"\",IF(VLOOKUP($E571,site!$B:$G,5,0)=\"\",\"-\",VLOOKUP($E571,site!$B:$G,5,0))))","v":""}]
[null,null,null,null,null,null,null,null,null,null,null,null,null,null,null,null,null,null,{"$f":"IFERROR(IF(C572=\"\",\"\",IF(VLOOKUP(D572,site!$B:$D,3,0)=\"\",\"-\",VLOOKUP(D572,site!$B:$D,3,0))),IF(C572=\"\",\"\",IF(VLOOKUP(E572,site!$C:$D,2,0)=\"\",\"-\",VLOOKUP(E572,site!$C:$D,2,0))))","v":""},{"$f":"IFERROR(IF($C572=\"\",\"\",IF(VLOOKUP($D572,site!$B:$F,4,0)=\"\",\"-\",VLOOKUP($D572,site!$B:$F,4,0))),IF($C572=\"\",\"\",IF(VLOOKUP($E572,site!$B:$F,3,0)=\"\",\"-\",VLOOKUP($E572,site!$B:$F,3,0))))","v":""},{"$f":"IFERROR(IF($C572=\"\",\"\",IF(VLOOKUP($D572,site!$B:$F,5,0)=\"\",\"-\",VLOOKUP($D572,site!$B:$F,5,0))),IF($C572=\"\",\"\",IF(VLOOKUP($E572,site!$B:$F,4,0)=\"\",\"-\",VLOOKUP($E572,site!$B:$F,4,0))))","v":""},{"$f":"IFERROR(IF($C572=\"\",\"\",IF(VLOOKUP($D572,site!$B:$G,6,0)=\"\",\"-\",VLOOKUP($D572,site!$B:$G,6,0))),IF($C572=\"\",\"\",IF(VLOOKUP($E572,site!$B:$G,5,0)=\"\",\"-\",VLOOKUP($E572,site!$B:$G,5,0))))","v":""}]
[null,null,null,null,null,null,null,null,null,null,null,null,null,null,null,null,null,null,{"$f":"IFERROR(IF(C573=\"\",\"\",IF(VLOOKUP(D573,site!$B:$D,3,0)=\"\",\"-\",VLOOKUP(D573,site!$B:$D,3,0))),IF(C573=\"\",\"\",IF(VLOOKUP(E573,site!$C:$D,2,0)=\"\",\"-\",VLOOKUP(E573,site!$C:$D,2,0))))","v":""},{"$f":"IFERROR(IF($C573=\"\",\"\",IF(VLOOKUP($D573,site!$B:$F,4,0)=\"\",\"-\",VLOOKUP($D573,site!$B:$F,4,0))),IF($C573=\"\",\"\",IF(VLOOKUP($E573,site!$B:$F,3,0)=\"\",\"-\",VLOOKUP($E573,site!$B:$F,3,0))))","v":""},{"$f":"IFERROR(IF($C573=\"\",\"\",IF(VLOOKUP($D573,site!$B:$F,5,0)=\"\",\"-\",VLOOKUP($D573,site!$B:$F,5,0))),IF($C573=\"\",\"\",IF(VLOOKUP($E573,site!$B:$F,4,0)=\"\",\"-\",VLOOKUP($E573,site!$B:$F,4,0))))","v":""},{"$f":"IFERROR(IF($C573=\"\",\"\",IF(VLOOKUP($D573,site!$B:$G,6,0)=\"\",\"-\",VLOOKUP($D573,site!$B:$G,6,0))),IF($C573=\"\",\"\",IF(VLOOKUP($E573,site!$B:$G,5,0)=\"\",\"-\",VLOOKUP($E573,site!$B:$G,5,0))))","v":""}]
[null,null,null,null,null,null,null,null,null,null,null,null,null,null,null,null,null,null,{"$f":"IFERROR(IF(C574=\"\",\"\",IF(VLOOKUP(D574,site!$B:$D,3,0)=\"\",\"-\",VLOOKUP(D574,site!$B:$D,3,0))),IF(C574=\"\",\"\",IF(VLOOKUP(E574,site!$C:$D,2,0)=\"\",\"-\",VLOOKUP(E574,site!$C:$D,2,0))))","v":""},{"$f":"IFERROR(IF($C574=\"\",\"\",IF(VLOOKUP($D574,site!$B:$F,4,0)=\"\",\"-\",VLOOKUP($D574,site!$B:$F,4,0))),IF($C574=\"\",\"\",IF(VLOOKUP($E574,site!$B:$F,3,0)=\"\",\"-\",VLOOKUP($E574,site!$B:$F,3,0))))","v":""},{"$f":"IFERROR(IF($C574=\"\",\"\",IF(VLOOKUP($D574,site!$B:$F,5,0)=\"\",\"-\",VLOOKUP($D574,site!$B:$F,5,0))),IF($C574=\"\",\"\",IF(VLOOKUP($E574,site!$B:$F,4,0)=\"\",\"-\",VLOOKUP($E574,site!$B:$F,4,0))))","v":""},{"$f":"IFERROR(IF($C574=\"\",\"\",IF(VLOOKUP($D574,site!$B:$G,6,0)=\"\",\"-\",VLOOKUP($D574,site!$B:$G,6,0))),IF($C574=\"\",\"\",IF(VLOOKUP($E574,site!$B:$G,5,0)=\"\",\"-\",VLOOKUP($E574,site!$B:$G,5,0))))","v":""}]
[null,null,null,null,null,null,null,null,null,null,null,null,null,null,null,null,null,null,{"$f":"IFERROR(IF(C575=\"\",\"\",IF(VLOOKUP(D575,site!$B:$D,3,0)=\"\",\"-\",VLOOKUP(D575,site!$B:$D,3,0))),IF(C575=\"\",\"\",IF(VLOOKUP(E575,site!$C:$D,2,0)=\"\",\"-\",VLOOKUP(E575,site!$C:$D,2,0))))","v":""},{"$f":"IFERROR(IF($C575=\"\",\"\",IF(VLOOKUP($D575,site!$B:$F,4,0)=\"\",\"-\",VLOOKUP($D575,site!$B:$F,4,0))),IF($C575=\"\",\"\",IF(VLOOKUP($E575,site!$B:$F,3,0)=\"\",\"-\",VLOOKUP($E575,site!$B:$F,3,0))))","v":""},{"$f":"IFERROR(IF($C575=\"\",\"\",IF(VLOOKUP($D575,site!$B:$F,5,0)=\"\",\"-\",VLOOKUP($D575,site!$B:$F,5,0))),IF($C575=\"\",\"\",IF(VLOOKUP($E575,site!$B:$F,4,0)=\"\",\"-\",VLOOKUP($E575,site!$B:$F,4,0))))","v":""},{"$f":"IFERROR(IF($C575=\"\",\"\",IF(VLOOKUP($D575,site!$B:$G,6,0)=\"\",\"-\",VLOOKUP($D575,site!$B:$G,6,0))),IF($C575=\"\",\"\",IF(VLOOKUP($E575,site!$B:$G,5,0)=\"\",\"-\",VLOOKUP($E575,site!$B:$G,5,0))))","v":""}]
[null,null,null,null,null,null,null,null,null,null,null,null,null,null,null,null,null,null,{"$f":"IFERROR(IF(C576=\"\",\"\",IF(VLOOKUP(D576,site!$B:$D,3,0)=\"\",\"-\",VLOOKUP(D576,site!$B:$D,3,0))),IF(C576=\"\",\"\",IF(VLOOKUP(E576,site!$C:$D,2,0)=\"\",\"-\",VLOOKUP(E576,site!$C:$D,2,0))))","v":""},{"$f":"IFERROR(IF($C576=\"\",\"\",IF(VLOOKUP($D576,site!$B:$F,4,0)=\"\",\"-\",VLOOKUP($D576,site!$B:$F,4,0))),IF($C576=\"\",\"\",IF(VLOOKUP($E576,site!$B:$F,3,0)=\"\",\"-\",VLOOKUP($E576,site!$B:$F,3,0))))","v":""},{"$f":"IFERROR(IF($C576=\"\",\"\",IF(VLOOKUP($D576,site!$B:$F,5,0)=\"\",\"-\",VLOOKUP($D576,site!$B:$F,5,0))),IF($C576=\"\",\"\",IF(VLOOKUP($E576,site!$B:$F,4,0)=\"\",\"-\",VLOOKUP($E576,site!$B:$F,4,0))))","v":""},{"$f":"IFERROR(IF($C576=\"\",\"\",IF(VLOOKUP($D576,site!$B:$G,6,0)=\"\",\"-\",VLOOKUP($D576,site!$B:$G,6,0))),IF($C576=\"\",\"\",IF(VLOOKUP($E576,site!$B:$G,5,0)=\"\",\"-\",VLOOKUP($E576,site!$B:$G,5,0))))","v":""}]
[null,null,null,null,null,null,null,null,null,null,null,null,null,null,null,null,null,null,{"$f":"IFERROR(IF(C577=\"\",\"\",IF(VLOOKUP(D577,site!$B:$D,3,0)=\"\",\"-\",VLOOKUP(D577,site!$B:$D,3,0))),IF(C577=\"\",\"\",IF(VLOOKUP(E577,site!$C:$D,2,0)=\"\",\"-\",VLOOKUP(E577,site!$C:$D,2,0))))","v":""},{"$f":"IFERROR(IF($C577=\"\",\"\",IF(VLOOKUP($D577,site!$B:$F,4,0)=\"\",\"-\",VLOOKUP($D577,site!$B:$F,4,0))),IF($C577=\"\",\"\",IF(VLOOKUP($E577,site!$B:$F,3,0)=\"\",\"-\",VLOOKUP($E577,site!$B:$F,3,0))))","v":""},{"$f":"IFERROR(IF($C577=\"\",\"\",IF(VLOOKUP($D577,site!$B:$F,5,0)=\"\",\"-\",VLOOKUP($D577,site!$B:$F,5,0))),IF($C577=\"\",\"\",IF(VLOOKUP($E577,site!$B:$F,4,0)=\"\",\"-\",VLOOKUP($E577,site!$B:$F,4,0))))","v":""},{"$f":"IFERROR(IF($C577=\"\",\"\",IF(VLOOKUP($D577,site!$B:$G,6,0)=\"\",\"-\",VLOOKUP($D577,site!$B:$G,6,0))),IF($C577=\"\",\"\",IF(VLOOKUP($E577,site!$B:$G,5,0)=\"\",\"-\",VLOOKUP($E577,site!$B:$G,5,0))))","v":""}]
[null,null,null,null,null,null,null,null,null,null,null,null,null,null,null,null,null,null,{"$f":"IFERROR(IF(C578=\"\",\"\",IF(VLOOKUP(D578,site!$B:$D,3,0)=\"\",\"-\",VLOOKUP(D578,site!$B:$D,3,0))),IF(C578=\"\",\"\",IF(VLOOKUP(E578,site!$C:$D,2,0)=\"\",\"-\",VLOOKUP(E578,site!$C:$D,2,0))))","v":""},{"$f":"IFERROR(IF($C578=\"\",\"\",IF(VLOOKUP($D578,site!$B:$F,4,0)=\"\",\"-\",VLOOKUP($D578,site!$B:$F,4,0))),IF($C578=\"\",\"\",IF(VLOOKUP($E578,site!$B:$F,3,0)=\"\",\"-\",VLOOKUP($E578,site!$B:$F,3,0))))","v":""},{"$f":"IFERROR(IF($C578=\"\",\"\",IF(VLOOKUP($D578,site!$B:$F,5,0)=\"\",\"-\",VLOOKUP($D578,site!$B:$F,5,0))),IF($C578=\"\",\"\",IF(VLOOKUP($E578,site!$B:$F,4,0)=\"\",\"-\",VLOOKUP($E578,site!$B:$F,4,0))))","v":""},{"$f":"IFERROR(IF($C578=\"\",\"\",IF(VLOOKUP($D578,site!$B:$G,6,0)=\"\",\"-\",VLOOKUP($D578,site!$B:$G,6,0))),IF($C578=\"\",\"\",IF(VLOOKUP($E578,site!$B:$G,5,0)=\"\",\"-\",VLOOKUP($E578,site!$B:$G,5,0))))","v":""}]
[null,null,null,null,null,null,null,null,null,null,null,null,null,null,null,null,null,null,{"$f":"IFERROR(IF(C579=\"\",\"\",IF(VLOOKUP(D579,site!$B:$D,3,0)=\"\",\"-\",VLOOKUP(D579,site!$B:$D,3,0))),IF(C579=\"\",\"\",IF(VLOOKUP(E579,site!$C:$D,2,0)=\"\",\"-\",VLOOKUP(E579,site!$C:$D,2,0))))","v":""},{"$f":"IFERROR(IF($C579=\"\",\"\",IF(VLOOKUP($D579,site!$B:$F,4,0)=\"\",\"-\",VLOOKUP($D579,site!$B:$F,4,0))),IF($C579=\"\",\"\",IF(VLOOKUP($E579,site!$B:$F,3,0)=\"\",\"-\",VLOOKUP($E579,site!$B:$F,3,0))))","v":""},{"$f":"IFERROR(IF($C579=\"\",\"\",IF(VLOOKUP($D579,site!$B:$F,5,0)=\"\",\"-\",VLOOKUP($D579,site!$B:$F,5,0))),IF($C579=\"\",\"\",IF(VLOOKUP($E579,site!$B:$F,4,0)=\"\",\"-\",VLOOKUP($E579,site!$B:$F,4,0))))","v":""},{"$f":"IFERROR(IF($C579=\"\",\"\",IF(VLOOKUP($D579,site!$B:$G,6,0)=\"\",\"-\",VLOOKUP($D579,site!$B:$G,6,0))),IF($C579=\"\",\"\",IF(VLOOKUP($E579,site!$B:$G,5,0)=\"\",\"-\",VLOOKUP($E579,site!$B:$G,5,0))))","v":""}]
[null,null,null,null,null,null,null,null,null,null,null,null,null,null,null,null,null,null,{"$f":"IFERROR(IF(C580=\"\",\"\",IF(VLOOKUP(D580,site!$B:$D,3,0)=\"\",\"-\",VLOOKUP(D580,site!$B:$D,3,0))),IF(C580=\"\",\"\",IF(VLOOKUP(E580,site!$C:$D,2,0)=\"\",\"-\",VLOOKUP(E580,site!$C:$D,2,0))))","v":""},{"$f":"IFERROR(IF($C580=\"\",\"\",IF(VLOOKUP($D580,site!$B:$F,4,0)=\"\",\"-\",VLOOKUP($D580,site!$B:$F,4,0))),IF($C580=\"\",\"\",IF(VLOOKUP($E580,site!$B:$F,3,0)=\"\",\"-\",VLOOKUP($E580,site!$B:$F,3,0))))","v":""},{"$f":"IFERROR(IF($C580=\"\",\"\",IF(VLOOKUP($D580,site!$B:$F,5,0)=\"\",\"-\",VLOOKUP($D580,site!$B:$F,5,0))),IF($C580=\"\",\"\",IF(VLOOKUP($E580,site!$B:$F,4,0)=\"\",\"-\",VLOOKUP($E580,site!$B:$F,4,0))))","v":""},{"$f":"IFERROR(IF($C580=\"\",\"\",IF(VLOOKUP($D580,site!$B:$G,6,0)=\"\",\"-\",VLOOKUP($D580,site!$B:$G,6,0))),IF($C580=\"\",\"\",IF(VLOOKUP($E580,site!$B:$G,5,0)=\"\",\"-\",VLOOKUP($E580,site!$B:$G,5,0))))","v":""}]
[null,null,null,null,null,null,null,null,null,null,null,null,null,null,null,null,null,null,{"$f":"IFERROR(IF(C581=\"\",\"\",IF(VLOOKUP(D581,site!$B:$D,3,0)=\"\",\"-\",VLOOKUP(D581,site!$B:$D,3,0))),IF(C581=\"\",\"\",IF(VLOOKUP(E581,site!$C:$D,2,0)=\"\",\"-\",VLOOKUP(E581,site!$C:$D,2,0))))","v":""},{"$f":"IFERROR(IF($C581=\"\",\"\",IF(VLOOKUP($D581,site!$B:$F,4,0)=\"\",\"-\",VLOOKUP($D581,site!$B:$F,4,0))),IF($C581=\"\",\"\",IF(VLOOKUP($E581,site!$B:$F,3,0)=\"\",\"-\",VLOOKUP($E581,site!$B:$F,3,0))))","v":""},{"$f":"IFERROR(IF($C581=\"\",\"\",IF(VLOOKUP($D581,site!$B:$F,5,0)=\"\",\"-\",VLOOKUP($D581,site!$B:$F,5,0))),IF($C581=\"\",\"\",IF(VLOOKUP($E581,site!$B:$F,4,0)=\"\",\"-\",VLOOKUP($E581,site!$B:$F,4,0))))","v":""},{"$f":"IFERROR(IF($C581=\"\",\"\",IF(VLOOKUP($D581,site!$B:$G,6,0)=\"\",\"-\",VLOOKUP($D581,site!$B:$G,6,0))),IF($C581=\"\",\"\",IF(VLOOKUP($E581,site!$B:$G,5,0)=\"\",\"-\",VLOOKUP($E581,site!$B:$G,5,0))))","v":""}]
[null,null,null,null,null,null,null,null,null,null,null,null,null,null,null,null,null,null,{"$f":"IFERROR(IF(C582=\"\",\"\",IF(VLOOKUP(D582,site!$B:$D,3,0)=\"\",\"-\",VLOOKUP(D582,site!$B:$D,3,0))),IF(C582=\"\",\"\",IF(VLOOKUP(E582,site!$C:$D,2,0)=\"\",\"-\",VLOOKUP(E582,site!$C:$D,2,0))))","v":""},{"$f":"IFERROR(IF($C582=\"\",\"\",IF(VLOOKUP($D582,site!$B:$F,4,0)=\"\",\"-\",VLOOKUP($D582,site!$B:$F,4,0))),IF($C582=\"\",\"\",IF(VLOOKUP($E582,site!$B:$F,3,0)=\"\",\"-\",VLOOKUP($E582,site!$B:$F,3,0))))","v":""},{"$f":"IFERROR(IF($C582=\"\",\"\",IF(VLOOKUP($D582,site!$B:$F,5,0)=\"\",\"-\",VLOOKUP($D582,site!$B:$F,5,0))),IF($C582=\"\",\"\",IF(VLOOKUP($E582,site!$B:$F,4,0)=\"\",\"-\",VLOOKUP($E582,site!$B:$F,4,0))))","v":""},{"$f":"IFERROR(IF($C582=\"\",\"\",IF(VLOOKUP($D582,site!$B:$G,6,0)=\"\",\"-\",VLOOKUP($D582,site!$B:$G,6,0))),IF($C582=\"\",\"\",IF(VLOOKUP($E582,site!$B:$G,5,0)=\"\",\"-\",VLOOKUP($E582,site!$B:$G,5,0))))","v":""}]
[null,null,null,null,null,null,null,null,null,null,null,null,null,null,null,null,null,null,{"$f":"IFERROR(IF(C583=\"\",\"\",IF(VLOOKUP(D583,site!$B:$D,3,0)=\"\",\"-\",VLOOKUP(D583,site!$B:$D,3,0))),IF(C583=\"\",\"\",IF(VLOOKUP(E583,site!$C:$D,2,0)=\"\",\"-\",VLOOKUP(E583,site!$C:$D,2,0))))","v":""},{"$f":"IFERROR(IF($C583=\"\",\"\",IF(VLOOKUP($D583,site!$B:$F,4,0)=\"\",\"-\",VLOOKUP($D583,site!$B:$F,4,0))),IF($C583=\"\",\"\",IF(VLOOKUP($E583,site!$B:$F,3,0)=\"\",\"-\",VLOOKUP($E583,site!$B:$F,3,0))))","v":""},{"$f":"IFERROR(IF($C583=\"\",\"\",IF(VLOOKUP($D583,site!$B:$F,5,0)=\"\",\"-\",VLOOKUP($D583,site!$B:$F,5,0))),IF($C583=\"\",\"\",IF(VLOOKUP($E583,site!$B:$F,4,0)=\"\",\"-\",VLOOKUP($E583,site!$B:$F,4,0))))","v":""},{"$f":"IFERROR(IF($C583=\"\",\"\",IF(VLOOKUP($D583,site!$B:$G,6,0)=\"\",\"-\",VLOOKUP($D583,site!$B:$G,6,0))),IF($C583=\"\",\"\",IF(VLOOKUP($E583,site!$B:$G,5,0)=\"\",\"-\",VLOOKUP($E583,site!$B:$G,5,0))))","v":""}]
[null,null,null,null,null,null,null,null,null,null,null,null,null,null,null,null,null,null,{"$f":"IFERROR(IF(C584=\"\",\"\",IF(VLOOKUP(D584,site!$B:$D,3,0)=\"\",\"-\",VLOOKUP(D584,site!$B:$D,3,0))),IF(C584=\"\",\"\",IF(VLOOKUP(E584,site!$C:$D,2,0)=\"\",\"-\",VLOOKUP(E584,site!$C:$D,2,0))))","v":""},{"$f":"IFERROR(IF($C584=\"\",\"\",IF(VLOOKUP($D584,site!$B:$F,4,0)=\"\",\"-\",VLOOKUP($D584,site!$B:$F,4,0))),IF($C584=\"\",\"\",IF(VLOOKUP($E584,site!$B:$F,3,0)=\"\",\"-\",VLOOKUP($E584,site!$B:$F,3,0))))","v":""},{"$f":"IFERROR(IF($C584=\"\",\"\",IF(VLOOKUP($D584,site!$B:$F,5,0)=\"\",\"-\",VLOOKUP($D584,site!$B:$F,5,0))),IF($C584=\"\",\"\",IF(VLOOKUP($E584,site!$B:$F,4,0)=\"\",\"-\",VLOOKUP($E584,site!$B:$F,4,0))))","v":""},{"$f":"IFERROR(IF($C584=\"\",\"\",IF(VLOOKUP($D584,site!$B:$G,6,0)=\"\",\"-\",VLOOKUP($D584,site!$B:$G,6,0))),IF($C584=\"\",\"\",IF(VLOOKUP($E584,site!$B:$G,5,0)=\"\",\"-\",VLOOKUP($E584,site!$B:$G,5,0))))","v":""}]
[null,null,null,null,null,null,null,null,null,null,null,null,null,null,null,null,null,null,{"$f":"IFERROR(IF(C585=\"\",\"\",IF(VLOOKUP(D585,site!$B:$D,3,0)=\"\",\"-\",VLOOKUP(D585,site!$B:$D,3,0))),IF(C585=\"\",\"\",IF(VLOOKUP(E585,site!$C:$D,2,0)=\"\",\"-\",VLOOKUP(E585,site!$C:$D,2,0))))","v":""},{"$f":"IFERROR(IF($C585=\"\",\"\",IF(VLOOKUP($D585,site!$B:$F,4,0)=\"\",\"-\",VLOOKUP($D585,site!$B:$F,4,0))),IF($C585=\"\",\"\",IF(VLOOKUP($E585,site!$B:$F,3,0)=\"\",\"-\",VLOOKUP($E585,site!$B:$F,3,0))))","v":""},{"$f":"IFERROR(IF($C585=\"\",\"\",IF(VLOOKUP($D585,site!$B:$F,5,0)=\"\",\"-\",VLOOKUP($D585,site!$B:$F,5,0))),IF($C585=\"\",\"\",IF(VLOOKUP($E585,site!$B:$F,4,0)=\"\",\"-\",VLOOKUP($E585,site!$B:$F,4,0))))","v":""},{"$f":"IFERROR(IF($C585=\"\",\"\",IF(VLOOKUP($D585,site!$B:$G,6,0)=\"\",\"-\",VLOOKUP($D585,site!$B:$G,6,0))),IF($C585=\"\",\"\",IF(VLOOKUP($E585,site!$B:$G,5,0)=\"\",\"-\",VLOOKUP($E585,site!$B:$G,5,0))))","v":""}]
[null,null,null,null,null,null,null,null,null,null,null,null,null,null,null,null,null,null,{"$f":"IFERROR(IF(C586=\"\",\"\",IF(VLOOKUP(D586,site!$B:$D,3,0)=\"\",\"-\",VLOOKUP(D586,site!$B:$D,3,0))),IF(C586=\"\",\"\",IF(VLOOKUP(E586,site!$C:$D,2,0)=\"\",\"-\",VLOOKUP(E586,site!$C:$D,2,0))))","v":""},{"$f":"IFERROR(IF($C586=\"\",\"\",IF(VLOOKUP($D586,site!$B:$F,4,0)=\"\",\"-\",VLOOKUP($D586,site!$B:$F,4,0))),IF($C586=\"\",\"\",IF(VLOOKUP($E586,site!$B:$F,3,0)=\"\",\"-\",VLOOKUP($E586,site!$B:$F,3,0))))","v":""},{"$f":"IFERROR(IF($C586=\"\",\"\",IF(VLOOKUP($D586,site!$B:$F,5,0)=\"\",\"-\",VLOOKUP($D586,site!$B:$F,5,0))),IF($C586=\"\",\"\",IF(VLOOKUP($E586,site!$B:$F,4,0)=\"\",\"-\",VLOOKUP($E586,site!$B:$F,4,0))))","v":""},{"$f":"IFERROR(IF($C586=\"\",\"\",IF(VLOOKUP($D586,site!$B:$G,6,0)=\"\",\"-\",VLOOKUP($D586,site!$B:$G,6,0))),IF($C586=\"\",\"\",IF(VLOOKUP($E586,site!$B:$G,5,0)=\"\",\"-\",VLOOKUP($E586,site!$B:$G,5,0))))","v":""}]
[null,null,null,null,null,null,null,null,null,null,null,null,null,null,null,null,null,null,{"$f":"IFERROR(IF(C587=\"\",\"\",IF(VLOOKUP(D587,site!$B:$D,3,0)=\"\",\"-\",VLOOKUP(D587,site!$B:$D,3,0))),IF(C587=\"\",\"\",IF(VLOOKUP(E587,site!$C:$D,2,0)=\"\",\"-\",VLOOKUP(E587,site!$C:$D,2,0))))","v":""},{"$f":"IFERROR(IF($C587=\"\",\"\",IF(VLOOKUP($D587,site!$B:$F,4,0)=\"\",\"-\",VLOOKUP($D587,site!$B:$F,4,0))),IF($C587=\"\",\"\",IF(VLOOKUP($E587,site!$B:$F,3,0)=\"\",\"-\",VLOOKUP($E587,site!$B:$F,3,0))))","v":""},{"$f":"IFERROR(IF($C587=\"\",\"\",IF(VLOOKUP($D587,site!$B:$F,5,0)=\"\",\"-\",VLOOKUP($D587,site!$B:$F,5,0))),IF($C587=\"\",\"\",IF(VLOOKUP($E587,site!$B:$F,4,0)=\"\",\"-\",VLOOKUP($E587,site!$B:$F,4,0))))","v":""},{"$f":"IFERROR(IF($C587=\"\",\"\",IF(VLOOKUP($D587,site!$B:$G,6,0)=\"\",\"-\",VLOOKUP($D587,site!$B:$G,6,0))),IF($C587=\"\",\"\",IF(VLOOKUP($E587,site!$B:$G,5,0)=\"\",\"-\",VLOOKUP($E587,site!$B:$G,5,0))))","v":""}]
[null,null,null,null,null,null,null,null,null,null,null,null,null,null,null,null,null,null,{"$f":"IFERROR(IF(C588=\"\",\"\",IF(VLOOKUP(D588,site!$B:$D,3,0)=\"\",\"-\",VLOOKUP(D588,site!$B:$D,3,0))),IF(C588=\"\",\"\",IF(VLOOKUP(E588,site!$C:$D,2,0)=\"\",\"-\",VLOOKUP(E588,site!$C:$D,2,0))))","v":""},{"$f":"IFERROR(IF($C588=\"\",\"\",IF(VLOOKUP($D588,site!$B:$F,4,0)=\"\",\"-\",VLOOKUP($D588,site!$B:$F,4,0))),IF($C588=\"\",\"\",IF(VLOOKUP($E588,site!$B:$F,3,0)=\"\",\"-\",VLOOKUP($E588,site!$B:$F,3,0))))","v":""},{"$f":"IFERROR(IF($C588=\"\",\"\",IF(VLOOKUP($D588,site!$B:$F,5,0)=\"\",\"-\",VLOOKUP($D588,site!$B:$F,5,0))),IF($C588=\"\",\"\",IF(VLOOKUP($E588,site!$B:$F,4,0)=\"\",\"-\",VLOOKUP($E588,site!$B:$F,4,0))))","v":""},{"$f":"IFERROR(IF($C588=\"\",\"\",IF(VLOOKUP($D588,site!$B:$G,6,0)=\"\",\"-\",VLOOKUP($D588,site!$B:$G,6,0))),IF($C588=\"\",\"\",IF(VLOOKUP($E588,site!$B:$G,5,0)=\"\",\"-\",VLOOKUP($E588,site!$B:$G,5,0))))","v":""}]
[null,null,null,null,null,null,null,null,null,null,null,null,null,null,null,null,null,null,{"$f":"IFERROR(IF(C589=\"\",\"\",IF(VLOOKUP(D589,site!$B:$D,3,0)=\"\",\"-\",VLOOKUP(D589,site!$B:$D,3,0))),IF(C589=\"\",\"\",IF(VLOOKUP(E589,site!$C:$D,2,0)=\"\",\"-\",VLOOKUP(E589,site!$C:$D,2,0))))","v":""},{"$f":"IFERROR(IF($C589=\"\",\"\",IF(VLOOKUP($D589,site!$B:$F,4,0)=\"\",\"-\",VLOOKUP($D589,site!$B:$F,4,0))),IF($C589=\"\",\"\",IF(VLOOKUP($E589,site!$B:$F,3,0)=\"\",\"-\",VLOOKUP($E589,site!$B:$F,3,0))))","v":""},{"$f":"IFERROR(IF($C589=\"\",\"\",IF(VLOOKUP($D589,site!$B:$F,5,0)=\"\",\"-\",VLOOKUP($D589,site!$B:$F,5,0))),IF($C589=\"\",\"\",IF(VLOOKUP($E589,site!$B:$F,4,0)=\"\",\"-\",VLOOKUP($E589,site!$B:$F,4,0))))","v":""},{"$f":"IFERROR(IF($C589=\"\",\"\",IF(VLOOKUP($D589,site!$B:$G,6,0)=\"\",\"-\",VLOOKUP($D589,site!$B:$G,6,0))),IF($C589=\"\",\"\",IF(VLOOKUP($E589,site!$B:$G,5,0)=\"\",\"-\",VLOOKUP($E589,site!$B:$G,5,0))))","v":""}]
[null,null,null,null,null,null,null,null,null,null,null,null,null,null,null,null,null,null,{"$f":"IFERROR(IF(C590=\"\",\"\",IF(VLOOKUP(D590,site!$B:$D,3,0)=\"\",\"-\",VLOOKUP(D590,site!$B:$D,3,0))),IF(C590=\"\",\"\",IF(VLOOKUP(E590,site!$C:$D,2,0)=\"\",\"-\",VLOOKUP(E590,site!$C:$D,2,0))))","v":""},{"$f":"IFERROR(IF($C590=\"\",\"\",IF(VLOOKUP($D590,site!$B:$F,4,0)=\"\",\"-\",VLOOKUP($D590,site!$B:$F,4,0))),IF($C590=\"\",\"\",IF(VLOOKUP($E590,site!$B:$F,3,0)=\"\",\"-\",VLOOKUP($E590,site!$B:$F,3,0))))","v":""},{"$f":"IFERROR(IF($C590=\"\",\"\",IF(VLOOKUP($D590,site!$B:$F,5,0)=\"\",\"-\",VLOOKUP($D590,site!$B:$F,5,0))),IF($C590=\"\",\"\",IF(VLOOKUP($E590,site!$B:$F,4,0)=\"\",\"-\",VLOOKUP($E590,site!$B:$F,4,0))))","v":""},{"$f":"IFERROR(IF($C590=\"\",\"\",IF(VLOOKUP($D590,site!$B:$G,6,0)=\"\",\"-\",VLOOKUP($D590,site!$B:$G,6,0))),IF($C590=\"\",\"\",IF(VLOOKUP($E590,site!$B:$G,5,0)=\"\",\"-\",VLOOKUP($E590,site!$B:$G,5,0))))","v":""}]
[null,null,null,null,null,null,null,null,null,null,null,null,null,null,null,null,null,null,{"$f":"IFERROR(IF(C591=\"\",\"\",IF(VLOOKUP(D591,site!$B:$D,3,0)=\"\",\"-\",VLOOKUP(D591,site!$B:$D,3,0))),IF(C591=\"\",\"\",IF(VLOOKUP(E591,site!$C:$D,2,0)=\"\",\"-\",VLOOKUP(E591,site!$C:$D,2,0))))","v":""},{"$f":"IFERROR(IF($C591=\"\",\"\",IF(VLOOKUP($D591,site!$B:$F,4,0)=\"\",\"-\",VLOOKUP($D591,site!$B:$F,4,0))),IF($C591=\"\",\"\",IF(VLOOKUP($E591,site!$B:$F,3,0)=\"\",\"-\",VLOOKUP($E591,site!$B:$F,3,0))))","v":""},{"$f":"IFERROR(IF($C591=\"\",\"\",IF(VLOOKUP($D591,site!$B:$F,5,0)=\"\",\"-\",VLOOKUP($D591,site!$B:$F,5,0))),IF($C591=\"\",\"\",IF(VLOOKUP($E591,site!$B:$F,4,0)=\"\",\"-\",VLOOKUP($E591,site!$B:$F,4,0))))","v":""},{"$f":"IFERROR(IF($C591=\"\",\"\",IF(VLOOKUP($D591,site!$B:$G,6,0)=\"\",\"-\",VLOOKUP($D591,site!$B:$G,6,0))),IF($C591=\"\",\"\",IF(VLOOKUP($E591,site!$B:$G,5,0)=\"\",\"-\",VLOOKUP($E591,site!$B:$G,5,0))))","v":""}]
[null,null,null,null,null,null,null,null,null,null,null,null,null,null,null,null,null,null,{"$f":"IFERROR(IF(C592=\"\",\"\",IF(VLOOKUP(D592,site!$B:$D,3,0)=\"\",\"-\",VLOOKUP(D592,site!$B:$D,3,0))),IF(C592=\"\",\"\",IF(VLOOKUP(E592,site!$C:$D,2,0)=\"\",\"-\",VLOOKUP(E592,site!$C:$D,2,0))))","v":""},{"$f":"IFERROR(IF($C592=\"\",\"\",IF(VLOOKUP($D592,site!$B:$F,4,0)=\"\",\"-\",VLOOKUP($D592,site!$B:$F,4,0))),IF($C592=\"\",\"\",IF(VLOOKUP($E592,site!$B:$F,3,0)=\"\",\"-\",VLOOKUP($E592,site!$B:$F,3,0))))","v":""},{"$f":"IFERROR(IF($C592=\"\",\"\",IF(VLOOKUP($D592,site!$B:$F,5,0)=\"\",\"-\",VLOOKUP($D592,site!$B:$F,5,0))),IF($C592=\"\",\"\",IF(VLOOKUP($E592,site!$B:$F,4,0)=\"\",\"-\",VLOOKUP($E592,site!$B:$F,4,0))))","v":""},{"$f":"IFERROR(IF($C592=\"\",\"\",IF(VLOOKUP($D592,site!$B:$G,6,0)=\"\",\"-\",VLOOKUP($D592,site!$B:$G,6,0))),IF($C592=\"\",\"\",IF(VLOOKUP($E592,site!$B:$G,5,0)=\"\",\"-\",VLOOKUP($E592,site!$B:$G,5,0))))","v":""}]
[null,null,null,null,null,null,null,null,null,null,null,null,null,null,null,null,null,null,{"$f":"IFERROR(IF(C593=\"\",\"\",IF(VLOOKUP(D593,site!$B:$D,3,0)=\"\",\"-\",VLOOKUP(D593,site!$B:$D,3,0))),IF(C593=\"\",\"\",IF(VLOOKUP(E593,site!$C:$D,2,0)=\"\",\"-\",VLOOKUP(E593,site!$C:$D,2,0))))","v":""},{"$f":"IFERROR(IF($C593=\"\",\"\",IF(VLOOKUP($D593,site!$B:$F,4,0)=\"\",\"-\",VLOOKUP($D593,site!$B:$F,4,0))),IF($C593=\"\",\"\",IF(VLOOKUP($E593,site!$B:$F,3,0)=\"\",\"-\",VLOOKUP($E593,site!$B:$F,3,0))))","v":""},{"$f":"IFERROR(IF($C593=\"\",\"\",IF(VLOOKUP($D593,site!$B:$F,5,0)=\"\",\"-\",VLOOKUP($D593,site!$B:$F,5,0))),IF($C593=\"\",\"\",IF(VLOOKUP($E593,site!$B:$F,4,0)=\"\",\"-\",VLOOKUP($E593,site!$B:$F,4,0))))","v":""},{"$f":"IFERROR(IF($C593=\"\",\"\",IF(VLOOKUP($D593,site!$B:$G,6,0)=\"\",\"-\",VLOOKUP($D593,site!$B:$G,6,0))),IF($C593=\"\",\"\",IF(VLOOKUP($E593,site!$B:$G,5,0)=\"\",\"-\",VLOOKUP($E593,site!$B:$G,5,0))))","v":""}]
[null,null,null,null,null,null,null,null,null,null,null,null,null,null,null,null,null,null,{"$f":"IFERROR(IF(C594=\"\",\"\",IF(VLOOKUP(D594,site!$B:$D,3,0)=\"\",\"-\",VLOOKUP(D594,site!$B:$D,3,0))),IF(C594=\"\",\"\",IF(VLOOKUP(E594,site!$C:$D,2,0)=\"\",\"-\",VLOOKUP(E594,site!$C:$D,2,0))))","v":""},{"$f":"IFERROR(IF($C594=\"\",\"\",IF(VLOOKUP($D594,site!$B:$F,4,0)=\"\",\"-\",VLOOKUP($D594,site!$B:$F,4,0))),IF($C594=\"\",\"\",IF(VLOOKUP($E594,site!$B:$F,3,0)=\"\",\"-\",VLOOKUP($E594,site!$B:$F,3,0))))","v":""},{"$f":"IFERROR(IF($C594=\"\",\"\",IF(VLOOKUP($D594,site!$B:$F,5,0)=\"\",\"-\",VLOOKUP($D594,site!$B:$F,5,0))),IF($C594=\"\",\"\",IF(VLOOKUP($E594,site!$B:$F,4,0)=\"\",\"-\",VLOOKUP($E594,site!$B:$F,4,0))))","v":""},{"$f":"IFERROR(IF($C594=\"\",\"\",IF(VLOOKUP($D594,site!$B:$G,6,0)=\"\",\"-\",VLOOKUP($D594,site!$B:$G,6,0))),IF($C594=\"\",\"\",IF(VLOOKUP($E594,site!$B:$G,5,0)=\"\",\"-\",VLOOKUP($E594,site!$B:$G,5,0))))","v":""}]
[null,null,null,null,null,null,null,null,null,null,null,null,null,null,null,null,null,null,{"$f":"IFERROR(IF(C595=\"\",\"\",IF(VLOOKUP(D595,site!$B:$D,3,0)=\"\",\"-\",VLOOKUP(D595,site!$B:$D,3,0))),IF(C595=\"\",\"\",IF(VLOOKUP(E595,site!$C:$D,2,0)=\"\",\"-\",VLOOKUP(E595,site!$C:$D,2,0))))","v":""},{"$f":"IFERROR(IF($C595=\"\",\"\",IF(VLOOKUP($D595,site!$B:$F,4,0)=\"\",\"-\",VLOOKUP($D595,site!$B:$F,4,0))),IF($C595=\"\",\"\",IF(VLOOKUP($E595,site!$B:$F,3,0)=\"\",\"-\",VLOOKUP($E595,site!$B:$F,3,0))))","v":""},{"$f":"IFERROR(IF($C595=\"\",\"\",IF(VLOOKUP($D595,site!$B:$F,5,0)=\"\",\"-\",VLOOKUP($D595,site!$B:$F,5,0))),IF($C595=\"\",\"\",IF(VLOOKUP($E595,site!$B:$F,4,0)=\"\",\"-\",VLOOKUP($E595,site!$B:$F,4,0))))","v":""},{"$f":"IFERROR(IF($C595=\"\",\"\",IF(VLOOKUP($D595,site!$B:$G,6,0)=\"\",\"-\",VLOOKUP($D595,site!$B:$G,6,0))),IF($C595=\"\",\"\",IF(VLOOKUP($E595,site!$B:$G,5,0)=\"\",\"-\",VLOOKUP($E595,site!$B:$G,5,0))))","v":""}]
[null,null,null,null,null,null,null,null,null,null,null,null,null,null,null,null,null,null,{"$f":"IFERROR(IF(C596=\"\",\"\",IF(VLOOKUP(D596,site!$B:$D,3,0)=\"\",\"-\",VLOOKUP(D596,site!$B:$D,3,0))),IF(C596=\"\",\"\",IF(VLOOKUP(E596,site!$C:$D,2,0)=\"\",\"-\",VLOOKUP(E596,site!$C:$D,2,0))))","v":""},{"$f":"IFERROR(IF($C596=\"\",\"\",IF(VLOOKUP($D596,site!$B:$F,4,0)=\"\",\"-\",VLOOKUP($D596,site!$B:$F,4,0))),IF($C596=\"\",\"\",IF(VLOOKUP($E596,site!$B:$F,3,0)=\"\",\"-\",VLOOKUP($E596,site!$B:$F,3,0))))","v":""},{"$f":"IFERROR(IF($C596=\"\",\"\",IF(VLOOKUP($D596,site!$B:$F,5,0)=\"\",\"-\",VLOOKUP($D596,site!$B:$F,5,0))),IF($C596=\"\",\"\",IF(VLOOKUP($E596,site!$B:$F,4,0)=\"\",\"-\",VLOOKUP($E596,site!$B:$F,4,0))))","v":""},{"$f":"IFERROR(IF($C596=\"\",\"\",IF(VLOOKUP($D596,site!$B:$G,6,0)=\"\",\"-\",VLOOKUP($D596,site!$B:$G,6,0))),IF($C596=\"\",\"\",IF(VLOOKUP($E596,site!$B:$G,5,0)=\"\",\"-\",VLOOKUP($E596,site!$B:$G,5,0))))","v":""}]
[null,null,null,null,null,null,null,null,null,null,null,null,null,null,null,null,null,null,{"$f":"IFERROR(IF(C597=\"\",\"\",IF(VLOOKUP(D597,site!$B:$D,3,0)=\"\",\"-\",VLOOKUP(D597,site!$B:$D,3,0))),IF(C597=\"\",\"\",IF(VLOOKUP(E597,site!$C:$D,2,0)=\"\",\"-\",VLOOKUP(E597,site!$C:$D,2,0))))","v":""},{"$f":"IFERROR(IF($C597=\"\",\"\",IF(VLOOKUP($D597,site!$B:$F,4,0)=\"\",\"-\",VLOOKUP($D597,site!$B:$F,4,0))),IF($C597=\"\",\"\",IF(VLOOKUP($E597,site!$B:$F,3,0)=\"\",\"-\",VLOOKUP($E597,site!$B:$F,3,0))))","v":""},{"$f":"IFERROR(IF($C597=\"\",\"\",IF(VLOOKUP($D597,site!$B:$F,5,0)=\"\",\"-\",VLOOKUP($D597,site!$B:$F,5,0))),IF($C597=\"\",\"\",IF(VLOOKUP($E597,site!$B:$F,4,0)=\"\",\"-\",VLOOKUP($E597,site!$B:$F,4,0))))","v":""},{"$f":"IFERROR(IF($C597=\"\",\"\",IF(VLOOKUP($D597,site!$B:$G,6,0)=\"\",\"-\",VLOOKUP($D597,site!$B:$G,6,0))),IF($C597=\"\",\"\",IF(VLOOKUP($E597,site!$B:$G,5,0)=\"\",\"-\",VLOOKUP($E597,site!$B:$G,5,0))))","v":""}]
[null,null,null,null,null,null,null,null,null,null,null,null,null,null,null,null,null,null,{"$f":"IFERROR(IF(C598=\"\",\"\",IF(VLOOKUP(D598,site!$B:$D,3,0)=\"\",\"-\",VLOOKUP(D598,site!$B:$D,3,0))),IF(C598=\"\",\"\",IF(VLOOKUP(E598,site!$C:$D,2,0)=\"\",\"-\",VLOOKUP(E598,site!$C:$D,2,0))))","v":""},{"$f":"IFERROR(IF($C598=\"\",\"\",IF(VLOOKUP($D598,site!$B:$F,4,0)=\"\",\"-\",VLOOKUP($D598,site!$B:$F,4,0))),IF($C598=\"\",\"\",IF(VLOOKUP($E598,site!$B:$F,3,0)=\"\",\"-\",VLOOKUP($E598,site!$B:$F,3,0))))","v":""},{"$f":"IFERROR(IF($C598=\"\",\"\",IF(VLOOKUP($D598,site!$B:$F,5,0)=\"\",\"-\",VLOOKUP($D598,site!$B:$F,5,0))),IF($C598=\"\",\"\",IF(VLOOKUP($E598,site!$B:$F,4,0)=\"\",\"-\",VLOOKUP($E598,site!$B:$F,4,0))))","v":""},{"$f":"IFERROR(IF($C598=\"\",\"\",IF(VLOOKUP($D598,site!$B:$G,6,0)=\"\",\"-\",VLOOKUP($D598,site!$B:$G,6,0))),IF($C598=\"\",\"\",IF(VLOOKUP($E598,site!$B:$G,5,0)=\"\",\"-\",VLOOKUP($E598,site!$B:$G,5,0))))","v":""}]
[null,null,null,null,null,null,null,null,null,null,null,null,null,null,null,null,null,null,{"$f":"IFERROR(IF(C599=\"\",\"\",IF(VLOOKUP(D599,site!$B:$D,3,0)=\"\",\"-\",VLOOKUP(D599,site!$B:$D,3,0))),IF(C599=\"\",\"\",IF(VLOOKUP(E599,site!$C:$D,2,0)=\"\",\"-\",VLOOKUP(E599,site!$C:$D,2,0))))","v":""},{"$f":"IFERROR(IF($C599=\"\",\"\",IF(VLOOKUP($D599,site!$B:$F,4,0)=\"\",\"-\",VLOOKUP($D599,site!$B:$F,4,0))),IF($C599=\"\",\"\",IF(VLOOKUP($E599,site!$B:$F,3,0)=\"\",\"-\",VLOOKUP($E599,site!$B:$F,3,0))))","v":""},{"$f":"IFERROR(IF($C599=\"\",\"\",IF(VLOOKUP($D599,site!$B:$F,5,0)=\"\",\"-\",VLOOKUP($D599,site!$B:$F,5,0))),IF($C599=\"\",\"\",IF(VLOOKUP($E599,site!$B:$F,4,0)=\"\",\"-\",VLOOKUP($E599,site!$B:$F,4,0))))","v":""},{"$f":"IFERROR(IF($C599=\"\",\"\",IF(VLOOKUP($D599,site!$B:$G,6,0)=\"\",\"-\",VLOOKUP($D599,site!$B:$G,6,0))),IF($C599=\"\",\"\",IF(VLOOKUP($E599,site!$B:$G,5,0)=\"\",\"-\",VLOOKUP($E599,site!$B:$G,5,0))))","v":""}]
[null,null,null,null,null,null,null,null,null,null,null,null,null,null,null,null,null,null,{"$f":"IFERROR(IF(C600=\"\",\"\",IF(VLOOKUP(D600,site!$B:$D,3,0)=\"\",\"-\",VLOOKUP(D600,site!$B:$D,3,0))),IF(C600=\"\",\"\",IF(VLOOKUP(E600,site!$C:$D,2,0)=\"\",\"-\",VLOOKUP(E600,site!$C:$D,2,0))))","v":""},{"$f":"IFERROR(IF($C600=\"\",\"\",IF(VLOOKUP($D600,site!$B:$F,4,0)=\"\",\"-\",VLOOKUP($D600,site!$B:$F,4,0))),IF($C600=\"\",\"\",IF(VLOOKUP($E600,site!$B:$F,3,0)=\"\",\"-\",VLOOKUP($E600,site!$B:$F,3,0))))","v":""},{"$f":"IFERROR(IF($C600=\"\",\"\",IF(VLOOKUP($D600,site!$B:$F,5,0)=\"\",\"-\",VLOOKUP($D600,site!$B:$F,5,0))),IF($C600=\"\",\"\",IF(VLOOKUP($E600,site!$B:$F,4,0)=\"\",\"-\",VLOOKUP($E600,site!$B:$F,4,0))))","v":""},{"$f":"IFERROR(IF($C600=\"\",\"\",IF(VLOOKUP($D600,site!$B:$G,6,0)=\"\",\"-\",VLOOKUP($D600,site!$B:$G,6,0))),IF($C600=\"\",\"\",IF(VLOOKUP($E600,site!$B:$G,5,0)=\"\",\"-\",VLOOKUP($E600,site!$B:$G,5,0))))","v":""}]
[null,null,null,null,null,null,null,null,null,null,null,null,null,null,null,null,null,null,{"$f":"IFERROR(IF(C601=\"\",\"\",IF(VLOOKUP(D601,site!$B:$D,3,0)=\"\",\"-\",VLOOKUP(D601,site!$B:$D,3,0))),IF(C601=\"\",\"\",IF(VLOOKUP(E601,site!$C:$D,2,0)=\"\",\"-\",VLOOKUP(E601,site!$C:$D,2,0))))","v":""},{"$f":"IFERROR(IF($C601=\"\",\"\",IF(VLOOKUP($D601,site!$B:$F,4,0)=\"\",\"-\",VLOOKUP($D601,site!$B:$F,4,0))),IF($C601=\"\",\"\",IF(VLOOKUP($E601,site!$B:$F,3,0)=\"\",\"-\",VLOOKUP($E601,site!$B:$F,3,0))))","v":""},{"$f":"IFERROR(IF($C601=\"\",\"\",IF(VLOOKUP($D601,site!$B:$F,5,0)=\"\",\"-\",VLOOKUP($D601,site!$B:$F,5,0))),IF($C601=\"\",\"\",IF(VLOOKUP($E601,site!$B:$F,4,0)=\"\",\"-\",VLOOKUP($E601,site!$B:$F,4,0))))","v":""},{"$f":"IFERROR(IF($C601=\"\",\"\",IF(VLOOKUP($D601,site!$B:$G,6,0)=\"\",\"-\",VLOOKUP($D601,site!$B:$G,6,0))),IF($C601=\"\",\"\",IF(VLOOKUP($E601,site!$B:$G,5,0)=\"\",\"-\",VLOOKUP($E601,site!$B:$G,5,0))))","v":""}]
[null,null,null,null,null,null,null,null,null,null,null,null,null,null,null,null,null,null,{"$f":"IFERROR(IF(C602=\"\",\"\",IF(VLOOKUP(D602,site!$B:$D,3,0)=\"\",\"-\",VLOOKUP(D602,site!$B:$D,3,0))),IF(C602=\"\",\"\",IF(VLOOKUP(E602,site!$C:$D,2,0)=\"\",\"-\",VLOOKUP(E602,site!$C:$D,2,0))))","v":""},{"$f":"IFERROR(IF($C602=\"\",\"\",IF(VLOOKUP($D602,site!$B:$F,4,0)=\"\",\"-\",VLOOKUP($D602,site!$B:$F,4,0))),IF($C602=\"\",\"\",IF(VLOOKUP($E602,site!$B:$F,3,0)=\"\",\"-\",VLOOKUP($E602,site!$B:$F,3,0))))","v":""},{"$f":"IFERROR(IF($C602=\"\",\"\",IF(VLOOKUP($D602,site!$B:$F,5,0)=\"\",\"-\",VLOOKUP($D602,site!$B:$F,5,0))),IF($C602=\"\",\"\",IF(VLOOKUP($E602,site!$B:$F,4,0)=\"\",\"-\",VLOOKUP($E602,site!$B:$F,4,0))))","v":""},{"$f":"IFERROR(IF($C602=\"\",\"\",IF(VLOOKUP($D602,site!$B:$G,6,0)=\"\",\"-\",VLOOKUP($D602,site!$B:$G,6,0))),IF($C602=\"\",\"\",IF(VLOOKUP($E602,site!$B:$G,5,0)=\"\",\"-\",VLOOKUP($E602,site!$B:$G,5,0))))","v":""}]
[null,null,null,null,null,null,null,null,null,null,null,null,null,null,null,null,null,null,{"$f":"IFERROR(IF(C603=\"\",\"\",IF(VLOOKUP(D603,site!$B:$D,3,0)=\"\",\"-\",VLOOKUP(D603,site!$B:$D,3,0))),IF(C603=\"\",\"\",IF(VLOOKUP(E603,site!$C:$D,2,0)=\"\",\"-\",VLOOKUP(E603,site!$C:$D,2,0))))","v":""},{"$f":"IFERROR(IF($C603=\"\",\"\",IF(VLOOKUP($D603,site!$B:$F,4,0)=\"\",\"-\",VLOOKUP($D603,site!$B:$F,4,0))),IF($C603=\"\",\"\",IF(VLOOKUP($E603,site!$B:$F,3,0)=\"\",\"-\",VLOOKUP($E603,site!$B:$F,3,0))))","v":""},{"$f":"IFERROR(IF($C603=\"\",\"\",IF(VLOOKUP($D603,site!$B:$F,5,0)=\"\",\"-\",VLOOKUP($D603,site!$B:$F,5,0))),IF($C603=\"\",\"\",IF(VLOOKUP($E603,site!$B:$F,4,0)=\"\",\"-\",VLOOKUP($E603,site!$B:$F,4,0))))","v":""},{"$f":"IFERROR(IF($C603=\"\",\"\",IF(VLOOKUP($D603,site!$B:$G,6,0)=\"\",\"-\",VLOOKUP($D603,site!$B:$G,6,0))),IF($C603=\"\",\"\",IF(VLOOKUP($E603,site!$B:$G,5,0)=\"\",\"-\",VLOOKUP($E603,site!$B:$G,5,0))))","v":""}]
[null,null,null,null,null,null,null,null,null,null,null,null,null,null,null,null,null,null,{"$f":"IFERROR(IF(C604=\"\",\"\",IF(VLOOKUP(D604,site!$B:$D,3,0)=\"\",\"-\",VLOOKUP(D604,site!$B:$D,3,0))),IF(C604=\"\",\"\",IF(VLOOKUP(E604,site!$C:$D,2,0)=\"\",\"-\",VLOOKUP(E604,site!$C:$D,2,0))))","v":""},{"$f":"IFERROR(IF($C604=\"\",\"\",IF(VLOOKUP($D604,site!$B:$F,4,0)=\"\",\"-\",VLOOKUP($D604,site!$B:$F,4,0))),IF($C604=\"\",\"\",IF(VLOOKUP($E604,site!$B:$F,3,0)=\"\",\"-\",VLOOKUP($E604,site!$B:$F,3,0))))","v":""},{"$f":"IFERROR(IF($C604=\"\",\"\",IF(VLOOKUP($D604,site!$B:$F,5,0)=\"\",\"-\",VLOOKUP($D604,site!$B:$F,5,0))),IF($C604=\"\",\"\",IF(VLOOKUP($E604,site!$B:$F,4,0)=\"\",\"-\",VLOOKUP($E604,site!$B:$F,4,0))))","v":""},{"$f":"IFERROR(IF($C604=\"\",\"\",IF(VLOOKUP($D604,site!$B:$G,6,0)=\"\",\"-\",VLOOKUP($D604,site!$B:$G,6,0))),IF($C604=\"\",\"\",IF(VLOOKUP($E604,site!$B:$G,5,0)=\"\",\"-\",VLOOKUP($E604,site!$B:$G,5,0))))","v":""}]
[null,null,null,null,null,null,null,null,null,null,null,null,null,null,null,null,null,null,{"$f":"IFERROR(IF(C605=\"\",\"\",IF(VLOOKUP(D605,site!$B:$D,3,0)=\"\",\"-\",VLOOKUP(D605,site!$B:$D,3,0))),IF(C605=\"\",\"\",IF(VLOOKUP(E605,site!$C:$D,2,0)=\"\",\"-\",VLOOKUP(E605,site!$C:$D,2,0))))","v":""},{"$f":"IFERROR(IF($C605=\"\",\"\",IF(VLOOKUP($D605,site!$B:$F,4,0)=\"\",\"-\",VLOOKUP($D605,site!$B:$F,4,0))),IF($C605=\"\",\"\",IF(VLOOKUP($E605,site!$B:$F,3,0)=\"\",\"-\",VLOOKUP($E605,site!$B:$F,3,0))))","v":""},{"$f":"IFERROR(IF($C605=\"\",\"\",IF(VLOOKUP($D605,site!$B:$F,5,0)=\"\",\"-\",VLOOKUP($D605,site!$B:$F,5,0))),IF($C605=\"\",\"\",IF(VLOOKUP($E605,site!$B:$F,4,0)=\"\",\"-\",VLOOKUP($E605,site!$B:$F,4,0))))","v":""},{"$f":"IFERROR(IF($C605=\"\",\"\",IF(VLOOKUP($D605,site!$B:$G,6,0)=\"\",\"-\",VLOOKUP($D605,site!$B:$G,6,0))),IF($C605=\"\",\"\",IF(VLOOKUP($E605,site!$B:$G,5,0)=\"\",\"-\",VLOOKUP($E605,site!$B:$G,5,0))))","v":""}]
[null,null,null,null,null,null,null,null,null,null,null,null,null,null,null,null,null,null,{"$f":"IFERROR(IF(C606=\"\",\"\",IF(VLOOKUP(D606,site!$B:$D,3,0)=\"\",\"-\",VLOOKUP(D606,site!$B:$D,3,0))),IF(C606=\"\",\"\",IF(VLOOKUP(E606,site!$C:$D,2,0)=\"\",\"-\",VLOOKUP(E606,site!$C:$D,2,0))))","v":""},{"$f":"IFERROR(IF($C606=\"\",\"\",IF(VLOOKUP($D606,site!$B:$F,4,0)=\"\",\"-\",VLOOKUP($D606,site!$B:$F,4,0))),IF($C606=\"\",\"\",IF(VLOOKUP($E606,site!$B:$F,3,0)=\"\",\"-\",VLOOKUP($E606,site!$B:$F,3,0))))","v":""},{"$f":"IFERROR(IF($C606=\"\",\"\",IF(VLOOKUP($D606,site!$B:$F,5,0)=\"\",\"-\",VLOOKUP($D606,site!$B:$F,5,0))),IF($C606=\"\",\"\",IF(VLOOKUP($E606,site!$B:$F,4,0)=\"\",\"-\",VLOOKUP($E606,site!$B:$F,4,0))))","v":""},{"$f":"IFERROR(IF($C606=\"\",\"\",IF(VLOOKUP($D606,site!$B:$G,6,0)=\"\",\"-\",VLOOKUP($D606,site!$B:$G,6,0))),IF($C606=\"\",\"\",IF(VLOOKUP($E606,site!$B:$G,5,0)=\"\",\"-\",VLOOKUP($E606,site!$B:$G,5,0))))","v":""}]
[null,null,null,null,null,null,null,null,null,null,null,null,null,null,null,null,null,null,{"$f":"IFERROR(IF(C607=\"\",\"\",IF(VLOOKUP(D607,site!$B:$D,3,0)=\"\",\"-\",VLOOKUP(D607,site!$B:$D,3,0))),IF(C607=\"\",\"\",IF(VLOOKUP(E607,site!$C:$D,2,0)=\"\",\"-\",VLOOKUP(E607,site!$C:$D,2,0))))","v":""},{"$f":"IFERROR(IF($C607=\"\",\"\",IF(VLOOKUP($D607,site!$B:$F,4,0)=\"\",\"-\",VLOOKUP($D607,site!$B:$F,4,0))),IF($C607=\"\",\"\",IF(VLOOKUP($E607,site!$B:$F,3,0)=\"\",\"-\",VLOOKUP($E607,site!$B:$F,3,0))))","v":""},{"$f":"IFERROR(IF($C607=\"\",\"\",IF(VLOOKUP($D607,site!$B:$F,5,0)=\"\",\"-\",VLOOKUP($D607,site!$B:$F,5,0))),IF($C607=\"\",\"\",IF(VLOOKUP($E607,site!$B:$F,4,0)=\"\",\"-\",VLOOKUP($E607,site!$B:$F,4,0))))","v":""},{"$f":"IFERROR(IF($C607=\"\",\"\",IF(VLOOKUP($D607,site!$B:$G,6,0)=\"\",\"-\",VLOOKUP($D607,site!$B:$G,6,0))),IF($C607=\"\",\"\",IF(VLOOKUP($E607,site!$B:$G,5,0)=\"\",\"-\",VLOOKUP($E607,site!$B:$G,5,0))))","v":""}]
[null,null,null,null,null,null,null,null,null,null,null,null,null,null,null,null,null,null,{"$f":"IFERROR(IF(C608=\"\",\"\",IF(VLOOKUP(D608,site!$B:$D,3,0)=\"\",\"-\",VLOOKUP(D608,site!$B:$D,3,0))),IF(C608=\"\",\"\",IF(VLOOKUP(E608,site!$C:$D,2,0)=\"\",\"-\",VLOOKUP(E608,site!$C:$D,2,0))))","v":""},{"$f":"IFERROR(IF($C608=\"\",\"\",IF(VLOOKUP($D608,site!$B:$F,4,0)=\"\",\"-\",VLOOKUP($D608,site!$B:$F,4,0))),IF($C608=\"\",\"\",IF(VLOOKUP($E608,site!$B:$F,3,0)=\"\",\"-\",VLOOKUP($E608,site!$B:$F,3,0))))","v":""},{"$f":"IFERROR(IF($C608=\"\",\"\",IF(VLOOKUP($D608,site!$B:$F,5,0)=\"\",\"-\",VLOOKUP($D608,site!$B:$F,5,0))),IF($C608=\"\",\"\",IF(VLOOKUP($E608,site!$B:$F,4,0)=\"\",\"-\",VLOOKUP($E608,site!$B:$F,4,0))))","v":""},{"$f":"IFERROR(IF($C608=\"\",\"\",IF(VLOOKUP($D608,site!$B:$G,6,0)=\"\",\"-\",VLOOKUP($D608,site!$B:$G,6,0))),IF($C608=\"\",\"\",IF(VLOOKUP($E608,site!$B:$G,5,0)=\"\",\"-\",VLOOKUP($E608,site!$B:$G,5,0))))","v":""}]
[null,null,null,null,null,null,null,null,null,null,null,null,null,null,null,null,null,null,{"$f":"IFERROR(IF(C609=\"\",\"\",IF(VLOOKUP(D609,site!$B:$D,3,0)=\"\",\"-\",VLOOKUP(D609,site!$B:$D,3,0))),IF(C609=\"\",\"\",IF(VLOOKUP(E609,site!$C:$D,2,0)=\"\",\"-\",VLOOKUP(E609,site!$C:$D,2,0))))","v":""},{"$f":"IFERROR(IF($C609=\"\",\"\",IF(VLOOKUP($D609,site!$B:$F,4,0)=\"\",\"-\",VLOOKUP($D609,site!$B:$F,4,0))),IF($C609=\"\",\"\",IF(VLOOKUP($E609,site!$B:$F,3,0)=\"\",\"-\",VLOOKUP($E609,site!$B:$F,3,0))))","v":""},{"$f":"IFERROR(IF($C609=\"\",\"\",IF(VLOOKUP($D609,site!$B:$F,5,0)=\"\",\"-\",VLOOKUP($D609,site!$B:$F,5,0))),IF($C609=\"\",\"\",IF(VLOOKUP($E609,site!$B:$F,4,0)=\"\",\"-\",VLOOKUP($E609,site!$B:$F,4,0))))","v":""},{"$f":"IFERROR(IF($C609=\"\",\"\",IF(VLOOKUP($D609,site!$B:$G,6,0)=\"\",\"-\",VLOOKUP($D609,site!$B:$G,6,0))),IF($C609=\"\",\"\",IF(VLOOKUP($E609,site!$B:$G,5,0)=\"\",\"-\",VLOOKUP($E609,site!$B:$G,5,0))))","v":""}]
[null,null,null,null,null,null,null,null,null,null,null,null,null,null,null,null,null,null,{"$f":"IFERROR(IF(C610=\"\",\"\",IF(VLOOKUP(D610,site!$B:$D,3,0)=\"\",\"-\",VLOOKUP(D610,site!$B:$D,3,0))),IF(C610=\"\",\"\",IF(VLOOKUP(E610,site!$C:$D,2,0)=\"\",\"-\",VLOOKUP(E610,site!$C:$D,2,0))))","v":""},{"$f":"IFERROR(IF($C610=\"\",\"\",IF(VLOOKUP($D610,site!$B:$F,4,0)=\"\",\"-\",VLOOKUP($D610,site!$B:$F,4,0))),IF($C610=\"\",\"\",IF(VLOOKUP($E610,site!$B:$F,3,0)=\"\",\"-\",VLOOKUP($E610,site!$B:$F,3,0))))","v":""},{"$f":"IFERROR(IF($C610=\"\",\"\",IF(VLOOKUP($D610,site!$B:$F,5,0)=\"\",\"-\",VLOOKUP($D610,site!$B:$F,5,0))),IF($C610=\"\",\"\",IF(VLOOKUP($E610,site!$B:$F,4,0)=\"\",\"-\",VLOOKUP($E610,site!$B:$F,4,0))))","v":""},{"$f":"IFERROR(IF($C610=\"\",\"\",IF(VLOOKUP($D610,site!$B:$G,6,0)=\"\",\"-\",VLOOKUP($D610,site!$B:$G,6,0))),IF($C610=\"\",\"\",IF(VLOOKUP($E610,site!$B:$G,5,0)=\"\",\"-\",VLOOKUP($E610,site!$B:$G,5,0))))","v":""}]
[null,null,null,null,null,null,null,null,null,null,null,null,null,null,null,null,null,null,{"$f":"IFERROR(IF(C611=\"\",\"\",IF(VLOOKUP(D611,site!$B:$D,3,0)=\"\",\"-\",VLOOKUP(D611,site!$B:$D,3,0))),IF(C611=\"\",\"\",IF(VLOOKUP(E611,site!$C:$D,2,0)=\"\",\"-\",VLOOKUP(E611,site!$C:$D,2,0))))","v":""},{"$f":"IFERROR(IF($C611=\"\",\"\",IF(VLOOKUP($D611,site!$B:$F,4,0)=\"\",\"-\",VLOOKUP($D611,site!$B:$F,4,0))),IF($C611=\"\",\"\",IF(VLOOKUP($E611,site!$B:$F,3,0)=\"\",\"-\",VLOOKUP($E611,site!$B:$F,3,0))))","v":""},{"$f":"IFERROR(IF($C611=\"\",\"\",IF(VLOOKUP($D611,site!$B:$F,5,0)=\"\",\"-\",VLOOKUP($D611,site!$B:$F,5,0))),IF($C611=\"\",\"\",IF(VLOOKUP($E611,site!$B:$F,4,0)=\"\",\"-\",VLOOKUP($E611,site!$B:$F,4,0))))","v":""},{"$f":"IFERROR(IF($C611=\"\",\"\",IF(VLOOKUP($D611,site!$B:$G,6,0)=\"\",\"-\",VLOOKUP($D611,site!$B:$G,6,0))),IF($C611=\"\",\"\",IF(VLOOKUP($E611,site!$B:$G,5,0)=\"\",\"-\",VLOOKUP($E611,site!$B:$G,5,0))))","v":""}]
[null,null,null,null,null,null,null,null,null,null,null,null,null,null,null,null,null,null,{"$f":"IFERROR(IF(C612=\"\",\"\",IF(VLOOKUP(D612,site!$B:$D,3,0)=\"\",\"-\",VLOOKUP(D612,site!$B:$D,3,0))),IF(C612=\"\",\"\",IF(VLOOKUP(E612,site!$C:$D,2,0)=\"\",\"-\",VLOOKUP(E612,site!$C:$D,2,0))))","v":""},{"$f":"IFERROR(IF($C612=\"\",\"\",IF(VLOOKUP($D612,site!$B:$F,4,0)=\"\",\"-\",VLOOKUP($D612,site!$B:$F,4,0))),IF($C612=\"\",\"\",IF(VLOOKUP($E612,site!$B:$F,3,0)=\"\",\"-\",VLOOKUP($E612,site!$B:$F,3,0))))","v":""},{"$f":"IFERROR(IF($C612=\"\",\"\",IF(VLOOKUP($D612,site!$B:$F,5,0)=\"\",\"-\",VLOOKUP($D612,site!$B:$F,5,0))),IF($C612=\"\",\"\",IF(VLOOKUP($E612,site!$B:$F,4,0)=\"\",\"-\",VLOOKUP($E612,site!$B:$F,4,0))))","v":""},{"$f":"IFERROR(IF($C612=\"\",\"\",IF(VLOOKUP($D612,site!$B:$G,6,0)=\"\",\"-\",VLOOKUP($D612,site!$B:$G,6,0))),IF($C612=\"\",\"\",IF(VLOOKUP($E612,site!$B:$G,5,0)=\"\",\"-\",VLOOKUP($E612,site!$B:$G,5,0))))","v":""}]
[null,null,null,null,null,null,null,null,null,null,null,null,null,null,null,null,null,null,{"$f":"IFERROR(IF(C613=\"\",\"\",IF(VLOOKUP(D613,site!$B:$D,3,0)=\"\",\"-\",VLOOKUP(D613,site!$B:$D,3,0))),IF(C613=\"\",\"\",IF(VLOOKUP(E613,site!$C:$D,2,0)=\"\",\"-\",VLOOKUP(E613,site!$C:$D,2,0))))","v":""},{"$f":"IFERROR(IF($C613=\"\",\"\",IF(VLOOKUP($D613,site!$B:$F,4,0)=\"\",\"-\",VLOOKUP($D613,site!$B:$F,4,0))),IF($C613=\"\",\"\",IF(VLOOKUP($E613,site!$B:$F,3,0)=\"\",\"-\",VLOOKUP($E613,site!$B:$F,3,0))))","v":""},{"$f":"IFERROR(IF($C613=\"\",\"\",IF(VLOOKUP($D613,site!$B:$F,5,0)=\"\",\"-\",VLOOKUP($D613,site!$B:$F,5,0))),IF($C613=\"\",\"\",IF(VLOOKUP($E613,site!$B:$F,4,0)=\"\",\"-\",VLOOKUP($E613,site!$B:$F,4,0))))","v":""},{"$f":"IFERROR(IF($C613=\"\",\"\",IF(VLOOKUP($D613,site!$B:$G,6,0)=\"\",\"-\",VLOOKUP($D613,site!$B:$G,6,0))),IF($C613=\"\",\"\",IF(VLOOKUP($E613,site!$B:$G,5,0)=\"\",\"-\",VLOOKUP($E613,site!$B:$G,5,0))))","v":""}]
[null,null,null,null,null,null,null,null,null,null,null,null,null,null,null,null,null,null,{"$f":"IFERROR(IF(C614=\"\",\"\",IF(VLOOKUP(D614,site!$B:$D,3,0)=\"\",\"-\",VLOOKUP(D614,site!$B:$D,3,0))),IF(C614=\"\",\"\",IF(VLOOKUP(E614,site!$C:$D,2,0)=\"\",\"-\",VLOOKUP(E614,site!$C:$D,2,0))))","v":""},{"$f":"IFERROR(IF($C614=\"\",\"\",IF(VLOOKUP($D614,site!$B:$F,4,0)=\"\",\"-\",VLOOKUP($D614,site!$B:$F,4,0))),IF($C614=\"\",\"\",IF(VLOOKUP($E614,site!$B:$F,3,0)=\"\",\"-\",VLOOKUP($E614,site!$B:$F,3,0))))","v":""},{"$f":"IFERROR(IF($C614=\"\",\"\",IF(VLOOKUP($D614,site!$B:$F,5,0)=\"\",\"-\",VLOOKUP($D614,site!$B:$F,5,0))),IF($C614=\"\",\"\",IF(VLOOKUP($E614,site!$B:$F,4,0)=\"\",\"-\",VLOOKUP($E614,site!$B:$F,4,0))))","v":""},{"$f":"IFERROR(IF($C614=\"\",\"\",IF(VLOOKUP($D614,site!$B:$G,6,0)=\"\",\"-\",VLOOKUP($D614,site!$B:$G,6,0))),IF($C614=\"\",\"\",IF(VLOOKUP($E614,site!$B:$G,5,0)=\"\",\"-\",VLOOKUP($E614,site!$B:$G,5,0))))","v":""}]
[null,null,null,null,null,null,null,null,null,null,null,null,null,null,null,null,null,null,{"$f":"IFERROR(IF(C615=\"\",\"\",IF(VLOOKUP(D615,site!$B:$D,3,0)=\"\",\"-\",VLOOKUP(D615,site!$B:$D,3,0))),IF(C615=\"\",\"\",IF(VLOOKUP(E615,site!$C:$D,2,0)=\"\",\"-\",VLOOKUP(E615,site!$C:$D,2,0))))","v":""},{"$f":"IFERROR(IF($C615=\"\",\"\",IF(VLOOKUP($D615,site!$B:$F,4,0)=\"\",\"-\",VLOOKUP($D615,site!$B:$F,4,0))),IF($C615=\"\",\"\",IF(VLOOKUP($E615,site!$B:$F,3,0)=\"\",\"-\",VLOOKUP($E615,site!$B:$F,3,0))))","v":""},{"$f":"IFERROR(IF($C615=\"\",\"\",IF(VLOOKUP($D615,site!$B:$F,5,0)=\"\",\"-\",VLOOKUP($D615,site!$B:$F,5,0))),IF($C615=\"\",\"\",IF(VLOOKUP($E615,site!$B:$F,4,0)=\"\",\"-\",VLOOKUP($E615,site!$B:$F,4,0))))","v":""},{"$f":"IFERROR(IF($C615=\"\",\"\",IF(VLOOKUP($D615,site!$B:$G,6,0)=\"\",\"-\",VLOOKUP($D615,site!$B:$G,6,0))),IF($C615=\"\",\"\",IF(VLOOKUP($E615,site!$B:$G,5,0)=\"\",\"-\",VLOOKUP($E615,site!$B:$G,5,0))))","v":""}]
[null,null,null,null,null,null,null,null,null,null,null,null,null,null,null,null,null,null,{"$f":"IFERROR(IF(C616=\"\",\"\",IF(VLOOKUP(D616,site!$B:$D,3,0)=\"\",\"-\",VLOOKUP(D616,site!$B:$D,3,0))),IF(C616=\"\",\"\",IF(VLOOKUP(E616,site!$C:$D,2,0)=\"\",\"-\",VLOOKUP(E616,site!$C:$D,2,0))))","v":""},{"$f":"IFERROR(IF($C616=\"\",\"\",IF(VLOOKUP($D616,site!$B:$F,4,0)=\"\",\"-\",VLOOKUP($D616,site!$B:$F,4,0))),IF($C616=\"\",\"\",IF(VLOOKUP($E616,site!$B:$F,3,0)=\"\",\"-\",VLOOKUP($E616,site!$B:$F,3,0))))","v":""},{"$f":"IFERROR(IF($C616=\"\",\"\",IF(VLOOKUP($D616,site!$B:$F,5,0)=\"\",\"-\",VLOOKUP($D616,site!$B:$F,5,0))),IF($C616=\"\",\"\",IF(VLOOKUP($E616,site!$B:$F,4,0)=\"\",\"-\",VLOOKUP($E616,site!$B:$F,4,0))))","v":""},{"$f":"IFERROR(IF($C616=\"\",\"\",IF(VLOOKUP($D616,site!$B:$G,6,0)=\"\",\"-\",VLOOKUP($D616,site!$B:$G,6,0))),IF($C616=\"\",\"\",IF(VLOOKUP($E616,site!$B:$G,5,0)=\"\",\"-\",VLOOKUP($E616,site!$B:$G,5,0))))","v":""}]
[null,null,null,null,null,null,null,null,null,null,null,null,null,null,null,null,null,null,{"$f":"IFERROR(IF(C617=\"\",\"\",IF(VLOOKUP(D617,site!$B:$D,3,0)=\"\",\"-\",VLOOKUP(D617,site!$B:$D,3,0))),IF(C617=\"\",\"\",IF(VLOOKUP(E617,site!$C:$D,2,0)=\"\",\"-\",VLOOKUP(E617,site!$C:$D,2,0))))","v":""},{"$f":"IFERROR(IF($C617=\"\",\"\",IF(VLOOKUP($D617,site!$B:$F,4,0)=\"\",\"-\",VLOOKUP($D617,site!$B:$F,4,0))),IF($C617=\"\",\"\",IF(VLOOKUP($E617,site!$B:$F,3,0)=\"\",\"-\",VLOOKUP($E617,site!$B:$F,3,0))))","v":""},{"$f":"IFERROR(IF($C617=\"\",\"\",IF(VLOOKUP($D617,site!$B:$F,5,0)=\"\",\"-\",VLOOKUP($D617,site!$B:$F,5,0))),IF($C617=\"\",\"\",IF(VLOOKUP($E617,site!$B:$F,4,0)=\"\",\"-\",VLOOKUP($E617,site!$B:$F,4,0))))","v":""},{"$f":"IFERROR(IF($C617=\"\",\"\",IF(VLOOKUP($D617,site!$B:$G,6,0)=\"\",\"-\",VLOOKUP($D617,site!$B:$G,6,0))),IF($C617=\"\",\"\",IF(VLOOKUP($E617,site!$B:$G,5,0)=\"\",\"-\",VLOOKUP($E617,site!$B:$G,5,0))))","v":""}]
[null,null,null,null,null,null,null,null,null,null,null,null,null,null,null,null,null,null,{"$f":"IFERROR(IF(C618=\"\",\"\",IF(VLOOKUP(D618,site!$B:$D,3,0)=\"\",\"-\",VLOOKUP(D618,site!$B:$D,3,0))),IF(C618=\"\",\"\",IF(VLOOKUP(E618,site!$C:$D,2,0)=\"\",\"-\",VLOOKUP(E618,site!$C:$D,2,0))))","v":""},{"$f":"IFERROR(IF($C618=\"\",\"\",IF(VLOOKUP($D618,site!$B:$F,4,0)=\"\",\"-\",VLOOKUP($D618,site!$B:$F,4,0))),IF($C618=\"\",\"\",IF(VLOOKUP($E618,site!$B:$F,3,0)=\"\",\"-\",VLOOKUP($E618,site!$B:$F,3,0))))","v":""},{"$f":"IFERROR(IF($C618=\"\",\"\",IF(VLOOKUP($D618,site!$B:$F,5,0)=\"\",\"-\",VLOOKUP($D618,site!$B:$F,5,0))),IF($C618=\"\",\"\",IF(VLOOKUP($E618,site!$B:$F,4,0)=\"\",\"-\",VLOOKUP($E618,site!$B:$F,4,0))))","v":""},{"$f":"IFERROR(IF($C618=\"\",\"\",IF(VLOOKUP($D618,site!$B:$G,6,0)=\"\",\"-\",VLOOKUP($D618,site!$B:$G,6,0))),IF($C618=\"\",\"\",IF(VLOOKUP($E618,site!$B:$G,5,0)=\"\",\"-\",VLOOKUP($E618,site!$B:$G,5,0))))","v":""}]
[null,null,null,null,null,null,null,null,null,null,null,null,null,null,null,null,null,null,{"$f":"IFERROR(IF(C619=\"\",\"\",IF(VLOOKUP(D619,site!$B:$D,3,0)=\"\",\"-\",VLOOKUP(D619,site!$B:$D,3,0))),IF(C619=\"\",\"\",IF(VLOOKUP(E619,site!$C:$D,2,0)=\"\",\"-\",VLOOKUP(E619,site!$C:$D,2,0))))","v":""},{"$f":"IFERROR(IF($C619=\"\",\"\",IF(VLOOKUP($D619,site!$B:$F,4,0)=\"\",\"-\",VLOOKUP($D619,site!$B:$F,4,0))),IF($C619=\"\",\"\",IF(VLOOKUP($E619,site!$B:$F,3,0)=\"\",\"-\",VLOOKUP($E619,site!$B:$F,3,0))))","v":""},{"$f":"IFERROR(IF($C619=\"\",\"\",IF(VLOOKUP($D619,site!$B:$F,5,0)=\"\",\"-\",VLOOKUP($D619,site!$B:$F,5,0))),IF($C619=\"\",\"\",IF(VLOOKUP($E619,site!$B:$F,4,0)=\"\",\"-\",VLOOKUP($E619,site!$B:$F,4,0))))","v":""},{"$f":"IFERROR(IF($C619=\"\",\"\",IF(VLOOKUP($D619,site!$B:$G,6,0)=\"\",\"-\",VLOOKUP($D619,site!$B:$G,6,0))),IF($C619=\"\",\"\",IF(VLOOKUP($E619,site!$B:$G,5,0)=\"\",\"-\",VLOOKUP($E619,site!$B:$G,5,0))))","v":""}]
[null,null,null,null,null,null,null,null,null,null,null,null,null,null,null,null,null,null,{"$f":"IFERROR(IF(C620=\"\",\"\",IF(VLOOKUP(D620,site!$B:$D,3,0)=\"\",\"-\",VLOOKUP(D620,site!$B:$D,3,0))),IF(C620=\"\",\"\",IF(VLOOKUP(E620,site!$C:$D,2,0)=\"\",\"-\",VLOOKUP(E620,site!$C:$D,2,0))))","v":""},{"$f":"IFERROR(IF($C620=\"\",\"\",IF(VLOOKUP($D620,site!$B:$F,4,0)=\"\",\"-\",VLOOKUP($D620,site!$B:$F,4,0))),IF($C620=\"\",\"\",IF(VLOOKUP($E620,site!$B:$F,3,0)=\"\",\"-\",VLOOKUP($E620,site!$B:$F,3,0))))","v":""},{"$f":"IFERROR(IF($C620=\"\",\"\",IF(VLOOKUP($D620,site!$B:$F,5,0)=\"\",\"-\",VLOOKUP($D620,site!$B:$F,5,0))),IF($C620=\"\",\"\",IF(VLOOKUP($E620,site!$B:$F,4,0)=\"\",\"-\",VLOOKUP($E620,site!$B:$F,4,0))))","v":""},{"$f":"IFERROR(IF($C620=\"\",\"\",IF(VLOOKUP($D620,site!$B:$G,6,0)=\"\",\"-\",VLOOKUP($D620,site!$B:$G,6,0))),IF($C620=\"\",\"\",IF(VLOOKUP($E620,site!$B:$G,5,0)=\"\",\"-\",VLOOKUP($E620,site!$B:$G,5,0))))","v":""}]
[null,null,null,null,null,null,null,null,null,null,null,null,null,null,null,null,null,null,{"$f":"IFERROR(IF(C621=\"\",\"\",IF(VLOOKUP(D621,site!$B:$D,3,0)=\"\",\"-\",VLOOKUP(D621,site!$B:$D,3,0))),IF(C621=\"\",\"\",IF(VLOOKUP(E621,site!$C:$D,2,0)=\"\",\"-\",VLOOKUP(E621,site!$C:$D,2,0))))","v":""},{"$f":"IFERROR(IF($C621=\"\",\"\",IF(VLOOKUP($D621,site!$B:$F,4,0)=\"\",\"-\",VLOOKUP($D621,site!$B:$F,4,0))),IF($C621=\"\",\"\",IF(VLOOKUP($E621,site!$B:$F,3,0)=\"\",\"-\",VLOOKUP($E621,site!$B:$F,3,0))))","v":""},{"$f":"IFERROR(IF($C621=\"\",\"\",IF(VLOOKUP($D621,site!$B:$F,5,0)=\"\",\"-\",VLOOKUP($D621,site!$B:$F,5,0))),IF($C621=\"\",\"\",IF(VLOOKUP($E621,site!$B:$F,4,0)=\"\",\"-\",VLOOKUP($E621,site!$B:$F,4,0))))","v":""},{"$f":"IFERROR(IF($C621=\"\",\"\",IF(VLOOKUP($D621,site!$B:$G,6,0)=\"\",\"-\",VLOOKUP($D621,site!$B:$G,6,0))),IF($C621=\"\",\"\",IF(VLOOKUP($E621,site!$B:$G,5,0)=\"\",\"-\",VLOOKUP($E621,site!$B:$G,5,0))))","v":""}]
[null,null,null,null,null,null,null,null,null,null,null,null,null,null,null,null,null,null,{"$f":"IFERROR(IF(C622=\"\",\"\",IF(VLOOKUP(D622,site!$B:$D,3,0)=\"\",\"-\",VLOOKUP(D622,site!$B:$D,3,0))),IF(C622=\"\",\"\",IF(VLOOKUP(E622,site!$C:$D,2,0)=\"\",\"-\",VLOOKUP(E622,site!$C:$D,2,0))))","v":""},{"$f":"IFERROR(IF($C622=\"\",\"\",IF(VLOOKUP($D622,site!$B:$F,4,0)=\"\",\"-\",VLOOKUP($D622,site!$B:$F,4,0))),IF($C622=\"\",\"\",IF(VLOOKUP($E622,site!$B:$F,3,0)=\"\",\"-\",VLOOKUP($E622,site!$B:$F,3,0))))","v":""},{"$f":"IFERROR(IF($C622=\"\",\"\",IF(VLOOKUP($D622,site!$B:$F,5,0)=\"\",\"-\",VLOOKUP($D622,site!$B:$F,5,0))),IF($C622=\"\",\"\",IF(VLOOKUP($E622,site!$B:$F,4,0)=\"\",\"-\",VLOOKUP($E622,site!$B:$F,4,0))))","v":""},{"$f":"IFERROR(IF($C622=\"\",\"\",IF(VLOOKUP($D622,site!$B:$G,6,0)=\"\",\"-\",VLOOKUP($D622,site!$B:$G,6,0))),IF($C622=\"\",\"\",IF(VLOOKUP($E622,site!$B:$G,5,0)=\"\",\"-\",VLOOKUP($E622,site!$B:$G,5,0))))","v":""}]
[null,null,null,null,null,null,null,null,null,null,null,null,null,null,null,null,null,null,{"$f":"IFERROR(IF(C623=\"\",\"\",IF(VLOOKUP(D623,site!$B:$D,3,0)=\"\",\"-\",VLOOKUP(D623,site!$B:$D,3,0))),IF(C623=\"\",\"\",IF(VLOOKUP(E623,site!$C:$D,2,0)=\"\",\"-\",VLOOKUP(E623,site!$C:$D,2,0))))","v":""},{"$f":"IFERROR(IF($C623=\"\",\"\",IF(VLOOKUP($D623,site!$B:$F,4,0)=\"\",\"-\",VLOOKUP($D623,site!$B:$F,4,0))),IF($C623=\"\",\"\",IF(VLOOKUP($E623,site!$B:$F,3,0)=\"\",\"-\",VLOOKUP($E623,site!$B:$F,3,0))))","v":""},{"$f":"IFERROR(IF($C623=\"\",\"\",IF(VLOOKUP($D623,site!$B:$F,5,0)=\"\",\"-\",VLOOKUP($D623,site!$B:$F,5,0))),IF($C623=\"\",\"\",IF(VLOOKUP($E623,site!$B:$F,4,0)=\"\",\"-\",VLOOKUP($E623,site!$B:$F,4,0))))","v":""},{"$f":"IFERROR(IF($C623=\"\",\"\",IF(VLOOKUP($D623,site!$B:$G,6,0)=\"\",\"-\",VLOOKUP($D623,site!$B:$G,6,0))),IF($C623=\"\",\"\",IF(VLOOKUP($E623,site!$B:$G,5,0)=\"\",\"-\",VLOOKUP($E623,site!$B:$G,5,0))))","v":""}]
[null,null,null,null,null,null,null,null,null,null,null,null,null,null,null,null,null,null,{"$f":"IFERROR(IF(C624=\"\",\"\",IF(VLOOKUP(D624,site!$B:$D,3,0)=\"\",\"-\",VLOOKUP(D624,site!$B:$D,3,0))),IF(C624=\"\",\"\",IF(VLOOKUP(E624,site!$C:$D,2,0)=\"\",\"-\",VLOOKUP(E624,site!$C:$D,2,0))))","v":""},{"$f":"IFERROR(IF($C624=\"\",\"\",IF(VLOOKUP($D624,site!$B:$F,4,0)=\"\",\"-\",VLOOKUP($D624,site!$B:$F,4,0))),IF($C624=\"\",\"\",IF(VLOOKUP($E624,site!$B:$F,3,0)=\"\",\"-\",VLOOKUP($E624,site!$B:$F,3,0))))","v":""},{"$f":"IFERROR(IF($C624=\"\",\"\",IF(VLOOKUP($D624,site!$B:$F,5,0)=\"\",\"-\",VLOOKUP($D624,site!$B:$F,5,0))),IF($C624=\"\",\"\",IF(VLOOKUP($E624,site!$B:$F,4,0)=\"\",\"-\",VLOOKUP($E624,site!$B:$F,4,0))))","v":""},{"$f":"IFERROR(IF($C624=\"\",\"\",IF(VLOOKUP($D624,site!$B:$G,6,0)=\"\",\"-\",VLOOKUP($D624,site!$B:$G,6,0))),IF($C624=\"\",\"\",IF(VLOOKUP($E624,site!$B:$G,5,0)=\"\",\"-\",VLOOKUP($E624,site!$B:$G,5,0))))","v":""}]
[null,null,null,null,null,null,null,null,null,null,null,null,null,null,null,null,null,null,{"$f":"IFERROR(IF(C625=\"\",\"\",IF(VLOOKUP(D625,site!$B:$D,3,0)=\"\",\"-\",VLOOKUP(D625,site!$B:$D,3,0))),IF(C625=\"\",\"\",IF(VLOOKUP(E625,site!$C:$D,2,0)=\"\",\"-\",VLOOKUP(E625,site!$C:$D,2,0))))","v":""},{"$f":"IFERROR(IF($C625=\"\",\"\",IF(VLOOKUP($D625,site!$B:$F,4,0)=\"\",\"-\",VLOOKUP($D625,site!$B:$F,4,0))),IF($C625=\"\",\"\",IF(VLOOKUP($E625,site!$B:$F,3,0)=\"\",\"-\",VLOOKUP($E625,site!$B:$F,3,0))))","v":""},{"$f":"IFERROR(IF($C625=\"\",\"\",IF(VLOOKUP($D625,site!$B:$F,5,0)=\"\",\"-\",VLOOKUP($D625,site!$B:$F,5,0))),IF($C625=\"\",\"\",IF(VLOOKUP($E625,site!$B:$F,4,0)=\"\",\"-\",VLOOKUP($E625,site!$B:$F,4,0))))","v":""},{"$f":"IFERROR(IF($C625=\"\",\"\",IF(VLOOKUP($D625,site!$B:$G,6,0)=\"\",\"-\",VLOOKUP($D625,site!$B:$G,6,0))),IF($C625=\"\",\"\",IF(VLOOKUP($E625,site!$B:$G,5,0)=\"\",\"-\",VLOOKUP($E625,site!$B:$G,5,0))))","v":""}]
[null,null,null,null,null,null,null,null,null,null,null,null,null,null,null,null,null,null,{"$f":"IFERROR(IF(C626=\"\",\"\",IF(VLOOKUP(D626,site!$B:$D,3,0)=\"\",\"-\",VLOOKUP(D626,site!$B:$D,3,0))),IF(C626=\"\",\"\",IF(VLOOKUP(E626,site!$C:$D,2,0)=\"\",\"-\",VLOOKUP(E626,site!$C:$D,2,0))))","v":""},{"$f":"IFERROR(IF($C626=\"\",\"\",IF(VLOOKUP($D626,site!$B:$F,4,0)=\"\",\"-\",VLOOKUP($D626,site!$B:$F,4,0))),IF($C626=\"\",\"\",IF(VLOOKUP($E626,site!$B:$F,3,0)=\"\",\"-\",VLOOKUP($E626,site!$B:$F,3,0))))","v":""},{"$f":"IFERROR(IF($C626=\"\",\"\",IF(VLOOKUP($D626,site!$B:$F,5,0)=\"\",\"-\",VLOOKUP($D626,site!$B:$F,5,0))),IF($C626=\"\",\"\",IF(VLOOKUP($E626,site!$B:$F,4,0)=\"\",\"-\",VLOOKUP($E626,site!$B:$F,4,0))))","v":""},{"$f":"IFERROR(IF($C626=\"\",\"\",IF(VLOOKUP($D626,site!$B:$G,6,0)=\"\",\"-\",VLOOKUP($D626,site!$B:$G,6,0))),IF($C626=\"\",\"\",IF(VLOOKUP($E626,site!$B:$G,5,0)=\"\",\"-\",VLOOKUP($E626,site!$B:$G,5,0))))","v":""}]
[null,null,null,null,null,null,null,null,null,null,null,null,null,null,null,null,null,null,{"$f":"IFERROR(IF(C627=\"\",\"\",IF(VLOOKUP(D627,site!$B:$D,3,0)=\"\",\"-\",VLOOKUP(D627,site!$B:$D,3,0))),IF(C627=\"\",\"\",IF(VLOOKUP(E627,site!$C:$D,2,0)=\"\",\"-\",VLOOKUP(E627,site!$C:$D,2,0))))","v":""},{"$f":"IFERROR(IF($C627=\"\",\"\",IF(VLOOKUP($D627,site!$B:$F,4,0)=\"\",\"-\",VLOOKUP($D627,site!$B:$F,4,0))),IF($C627=\"\",\"\",IF(VLOOKUP($E627,site!$B:$F,3,0)=\"\",\"-\",VLOOKUP($E627,site!$B:$F,3,0))))","v":""},{"$f":"IFERROR(IF($C627=\"\",\"\",IF(VLOOKUP($D627,site!$B:$F,5,0)=\"\",\"-\",VLOOKUP($D627,site!$B:$F,5,0))),IF($C627=\"\",\"\",IF(VLOOKUP($E627,site!$B:$F,4,0)=\"\",\"-\",VLOOKUP($E627,site!$B:$F,4,0))))","v":""},{"$f":"IFERROR(IF($C627=\"\",\"\",IF(VLOOKUP($D627,site!$B:$G,6,0)=\"\",\"-\",VLOOKUP($D627,site!$B:$G,6,0))),IF($C627=\"\",\"\",IF(VLOOKUP($E627,site!$B:$G,5,0)=\"\",\"-\",VLOOKUP($E627,site!$B:$G,5,0))))","v":""}]
[null,null,null,null,null,null,null,null,null,null,null,null,null,null,null,null,null,null,{"$f":"IFERROR(IF(C628=\"\",\"\",IF(VLOOKUP(D628,site!$B:$D,3,0)=\"\",\"-\",VLOOKUP(D628,site!$B:$D,3,0))),IF(C628=\"\",\"\",IF(VLOOKUP(E628,site!$C:$D,2,0)=\"\",\"-\",VLOOKUP(E628,site!$C:$D,2,0))))","v":""},{"$f":"IFERROR(IF($C628=\"\",\"\",IF(VLOOKUP($D628,site!$B:$F,4,0)=\"\",\"-\",VLOOKUP($D628,site!$B:$F,4,0))),IF($C628=\"\",\"\",IF(VLOOKUP($E628,site!$B:$F,3,0)=\"\",\"-\",VLOOKUP($E628,site!$B:$F,3,0))))","v":""},{"$f":"IFERROR(IF($C628=\"\",\"\",IF(VLOOKUP($D628,site!$B:$F,5,0)=\"\",\"-\",VLOOKUP($D628,site!$B:$F,5,0))),IF($C628=\"\",\"\",IF(VLOOKUP($E628,site!$B:$F,4,0)=\"\",\"-\",VLOOKUP($E628,site!$B:$F,4,0))))","v":""},{"$f":"IFERROR(IF($C628=\"\",\"\",IF(VLOOKUP($D628,site!$B:$G,6,0)=\"\",\"-\",VLOOKUP($D628,site!$B:$G,6,0))),IF($C628=\"\",\"\",IF(VLOOKUP($E628,site!$B:$G,5,0)=\"\",\"-\",VLOOKUP($E628,site!$B:$G,5,0))))","v":""}]
[null,null,null,null,null,null,null,null,null,null,null,null,null,null,null,null,null,null,{"$f":"IFERROR(IF(C629=\"\",\"\",IF(VLOOKUP(D629,site!$B:$D,3,0)=\"\",\"-\",VLOOKUP(D629,site!$B:$D,3,0))),IF(C629=\"\",\"\",IF(VLOOKUP(E629,site!$C:$D,2,0)=\"\",\"-\",VLOOKUP(E629,site!$C:$D,2,0))))","v":""},{"$f":"IFERROR(IF($C629=\"\",\"\",IF(VLOOKUP($D629,site!$B:$F,4,0)=\"\",\"-\",VLOOKUP($D629,site!$B:$F,4,0))),IF($C629=\"\",\"\",IF(VLOOKUP($E629,site!$B:$F,3,0)=\"\",\"-\",VLOOKUP($E629,site!$B:$F,3,0))))","v":""},{"$f":"IFERROR(IF($C629=\"\",\"\",IF(VLOOKUP($D629,site!$B:$F,5,0)=\"\",\"-\",VLOOKUP($D629,site!$B:$F,5,0))),IF($C629=\"\",\"\",IF(VLOOKUP($E629,site!$B:$F,4,0)=\"\",\"-\",VLOOKUP($E629,site!$B:$F,4,0))))","v":""},{"$f":"IFERROR(IF($C629=\"\",\"\",IF(VLOOKUP($D629,site!$B:$G,6,0)=\"\",\"-\",VLOOKUP($D629,site!$B:$G,6,0))),IF($C629=\"\",\"\",IF(VLOOKUP($E629,site!$B:$G,5,0)=\"\",\"-\",VLOOKUP($E629,site!$B:$G,5,0))))","v":""}]
[null,null,null,null,null,null,null,null,null,null,null,null,null,null,null,null,null,null,{"$f":"IFERROR(IF(C630=\"\",\"\",IF(VLOOKUP(D630,site!$B:$D,3,0)=\"\",\"-\",VLOOKUP(D630,site!$B:$D,3,0))),IF(C630=\"\",\"\",IF(VLOOKUP(E630,site!$C:$D,2,0)=\"\",\"-\",VLOOKUP(E630,site!$C:$D,2,0))))","v":""},{"$f":"IFERROR(IF($C630=\"\",\"\",IF(VLOOKUP($D630,site!$B:$F,4,0)=\"\",\"-\",VLOOKUP($D630,site!$B:$F,4,0))),IF($C630=\"\",\"\",IF(VLOOKUP($E630,site!$B:$F,3,0)=\"\",\"-\",VLOOKUP($E630,site!$B:$F,3,0))))","v":""},{"$f":"IFERROR(IF($C630=\"\",\"\",IF(VLOOKUP($D630,site!$B:$F,5,0)=\"\",\"-\",VLOOKUP($D630,site!$B:$F,5,0))),IF($C630=\"\",\"\",IF(VLOOKUP($E630,site!$B:$F,4,0)=\"\",\"-\",VLOOKUP($E630,site!$B:$F,4,0))))","v":""},{"$f":"IFERROR(IF($C630=\"\",\"\",IF(VLOOKUP($D630,site!$B:$G,6,0)=\"\",\"-\",VLOOKUP($D630,site!$B:$G,6,0))),IF($C630=\"\",\"\",IF(VLOOKUP($E630,site!$B:$G,5,0)=\"\",\"-\",VLOOKUP($E630,site!$B:$G,5,0))))","v":""}]
[null,null,null,null,null,null,null,null,null,null,null,null,null,null,null,null,null,null,{"$f":"IFERROR(IF(C631=\"\",\"\",IF(VLOOKUP(D631,site!$B:$D,3,0)=\"\",\"-\",VLOOKUP(D631,site!$B:$D,3,0))),IF(C631=\"\",\"\",IF(VLOOKUP(E631,site!$C:$D,2,0)=\"\",\"-\",VLOOKUP(E631,site!$C:$D,2,0))))","v":""},{"$f":"IFERROR(IF($C631=\"\",\"\",IF(VLOOKUP($D631,site!$B:$F,4,0)=\"\",\"-\",VLOOKUP($D631,site!$B:$F,4,0))),IF($C631=\"\",\"\",IF(VLOOKUP($E631,site!$B:$F,3,0)=\"\",\"-\",VLOOKUP($E631,site!$B:$F,3,0))))","v":""},{"$f":"IFERROR(IF($C631=\"\",\"\",IF(VLOOKUP($D631,site!$B:$F,5,0)=\"\",\"-\",VLOOKUP($D631,site!$B:$F,5,0))),IF($C631=\"\",\"\",IF(VLOOKUP($E631,site!$B:$F,4,0)=\"\",\"-\",VLOOKUP($E631,site!$B:$F,4,0))))","v":""},{"$f":"IFERROR(IF($C631=\"\",\"\",IF(VLOOKUP($D631,site!$B:$G,6,0)=\"\",\"-\",VLOOKUP($D631,site!$B:$G,6,0))),IF($C631=\"\",\"\",IF(VLOOKUP($E631,site!$B:$G,5,0)=\"\",\"-\",VLOOKUP($E631,site!$B:$G,5,0))))","v":""}]
[null,null,null,null,null,null,null,null,null,null,null,null,null,null,null,null,null,null,{"$f":"IFERROR(IF(C632=\"\",\"\",IF(VLOOKUP(D632,site!$B:$D,3,0)=\"\",\"-\",VLOOKUP(D632,site!$B:$D,3,0))),IF(C632=\"\",\"\",IF(VLOOKUP(E632,site!$C:$D,2,0)=\"\",\"-\",VLOOKUP(E632,site!$C:$D,2,0))))","v":""},{"$f":"IFERROR(IF($C632=\"\",\"\",IF(VLOOKUP($D632,site!$B:$F,4,0)=\"\",\"-\",VLOOKUP($D632,site!$B:$F,4,0))),IF($C632=\"\",\"\",IF(VLOOKUP($E632,site!$B:$F,3,0)=\"\",\"-\",VLOOKUP($E632,site!$B:$F,3,0))))","v":""},{"$f":"IFERROR(IF($C632=\"\",\"\",IF(VLOOKUP($D632,site!$B:$F,5,0)=\"\",\"-\",VLOOKUP($D632,site!$B:$F,5,0))),IF($C632=\"\",\"\",IF(VLOOKUP($E632,site!$B:$F,4,0)=\"\",\"-\",VLOOKUP($E632,site!$B:$F,4,0))))","v":""},{"$f":"IFERROR(IF($C632=\"\",\"\",IF(VLOOKUP($D632,site!$B:$G,6,0)=\"\",\"-\",VLOOKUP($D632,site!$B:$G,6,0))),IF($C632=\"\",\"\",IF(VLOOKUP($E632,site!$B:$G,5,0)=\"\",\"-\",VLOOKUP($E632,site!$B:$G,5,0))))","v":""}]
[null,null,null,null,null,null,null,null,null,null,null,null,null,null,null,null,null,null,{"$f":"IFERROR(IF(C633=\"\",\"\",IF(VLOOKUP(D633,site!$B:$D,3,0)=\"\",\"-\",VLOOKUP(D633,site!$B:$D,3,0))),IF(C633=\"\",\"\",IF(VLOOKUP(E633,site!$C:$D,2,0)=\"\",\"-\",VLOOKUP(E633,site!$C:$D,2,0))))","v":""},{"$f":"IFERROR(IF($C633=\"\",\"\",IF(VLOOKUP($D633,site!$B:$F,4,0)=\"\",\"-\",VLOOKUP($D633,site!$B:$F,4,0))),IF($C633=\"\",\"\",IF(VLOOKUP($E633,site!$B:$F,3,0)=\"\",\"-\",VLOOKUP($E633,site!$B:$F,3,0))))","v":""},{"$f":"IFERROR(IF($C633=\"\",\"\",IF(VLOOKUP($D633,site!$B:$F,5,0)=\"\",\"-\",VLOOKUP($D633,site!$B:$F,5,0))),IF($C633=\"\",\"\",IF(VLOOKUP($E633,site!$B:$F,4,0)=\"\",\"-\",VLOOKUP($E633,site!$B:$F,4,0))))","v":""},{"$f":"IFERROR(IF($C633=\"\",\"\",IF(VLOOKUP($D633,site!$B:$G,6,0)=\"\",\"-\",VLOOKUP($D633,site!$B:$G,6,0))),IF($C633=\"\",\"\",IF(VLOOKUP($E633,site!$B:$G,5,0)=\"\",\"-\",VLOOKUP($E633,site!$B:$G,5,0))))","v":""}]
[null,null,null,null,null,null,null,null,null,null,null,null,null,null,null,null,null,null,{"$f":"IFERROR(IF(C634=\"\",\"\",IF(VLOOKUP(D634,site!$B:$D,3,0)=\"\",\"-\",VLOOKUP(D634,site!$B:$D,3,0))),IF(C634=\"\",\"\",IF(VLOOKUP(E634,site!$C:$D,2,0)=\"\",\"-\",VLOOKUP(E634,site!$C:$D,2,0))))","v":""},{"$f":"IFERROR(IF($C634=\"\",\"\",IF(VLOOKUP($D634,site!$B:$F,4,0)=\"\",\"-\",VLOOKUP($D634,site!$B:$F,4,0))),IF($C634=\"\",\"\",IF(VLOOKUP($E634,site!$B:$F,3,0)=\"\",\"-\",VLOOKUP($E634,site!$B:$F,3,0))))","v":""},{"$f":"IFERROR(IF($C634=\"\",\"\",IF(VLOOKUP($D634,site!$B:$F,5,0)=\"\",\"-\",VLOOKUP($D634,site!$B:$F,5,0))),IF($C634=\"\",\"\",IF(VLOOKUP($E634,site!$B:$F,4,0)=\"\",\"-\",VLOOKUP($E634,site!$B:$F,4,0))))","v":""},{"$f":"IFERROR(IF($C634=\"\",\"\",IF(VLOOKUP($D634,site!$B:$G,6,0)=\"\",\"-\",VLOOKUP($D634,site!$B:$G,6,0))),IF($C634=\"\",\"\",IF(VLOOKUP($E634,site!$B:$G,5,0)=\"\",\"-\",VLOOKUP($E634,site!$B:$G,5,0))))","v":""}]
[null,null,null,null,null,null,null,null,null,null,null,null,null,null,null,null,null,null,{"$f":"IFERROR(IF(C635=\"\",\"\",IF(VLOOKUP(D635,site!$B:$D,3,0)=\"\",\"-\",VLOOKUP(D635,site!$B:$D,3,0))),IF(C635=\"\",\"\",IF(VLOOKUP(E635,site!$C:$D,2,0)=\"\",\"-\",VLOOKUP(E635,site!$C:$D,2,0))))","v":""},{"$f":"IFERROR(IF($C635=\"\",\"\",IF(VLOOKUP($D635,site!$B:$F,4,0)=\"\",\"-\",VLOOKUP($D635,site!$B:$F,4,0))),IF($C635=\"\",\"\",IF(VLOOKUP($E635,site!$B:$F,3,0)=\"\",\"-\",VLOOKUP($E635,site!$B:$F,3,0))))","v":""},{"$f":"IFERROR(IF($C635=\"\",\"\",IF(VLOOKUP($D635,site!$B:$F,5,0)=\"\",\"-\",VLOOKUP($D635,site!$B:$F,5,0))),IF($C635=\"\",\"\",IF(VLOOKUP($E635,site!$B:$F,4,0)=\"\",\"-\",VLOOKUP($E635,site!$B:$F,4,0))))","v":""},{"$f":"IFERROR(IF($C635=\"\",\"\",IF(VLOOKUP($D635,site!$B:$G,6,0)=\"\",\"-\",VLOOKUP($D635,site!$B:$G,6,0))),IF($C635=\"\",\"\",IF(VLOOKUP($E635,site!$B:$G,5,0)=\"\",\"-\",VLOOKUP($E635,site!$B:$G,5,0))))","v":""}]
[null,null,null,null,null,null,null,null,null,null,null,null,null,null,null,null,null,null,{"$f":"IFERROR(IF(C636=\"\",\"\",IF(VLOOKUP(D636,site!$B:$D,3,0)=\"\",\"-\",VLOOKUP(D636,site!$B:$D,3,0))),IF(C636=\"\",\"\",IF(VLOOKUP(E636,site!$C:$D,2,0)=\"\",\"-\",VLOOKUP(E636,site!$C:$D,2,0))))","v":""},{"$f":"IFERROR(IF($C636=\"\",\"\",IF(VLOOKUP($D636,site!$B:$F,4,0)=\"\",\"-\",VLOOKUP($D636,site!$B:$F,4,0))),IF($C636=\"\",\"\",IF(VLOOKUP($E636,site!$B:$F,3,0)=\"\",\"-\",VLOOKUP($E636,site!$B:$F,3,0))))","v":""},{"$f":"IFERROR(IF($C636=\"\",\"\",IF(VLOOKUP($D636,site!$B:$F,5,0)=\"\",\"-\",VLOOKUP($D636,site!$B:$F,5,0))),IF($C636=\"\",\"\",IF(VLOOKUP($E636,site!$B:$F,4,0)=\"\",\"-\",VLOOKUP($E636,site!$B:$F,4,0))))","v":""},{"$f":"IFERROR(IF($C636=\"\",\"\",IF(VLOOKUP($D636,site!$B:$G,6,0)=\"\",\"-\",VLOOKUP($D636,site!$B:$G,6,0))),IF($C636=\"\",\"\",IF(VLOOKUP($E636,site!$B:$G,5,0)=\"\",\"-\",VLOOKUP($E636,site!$B:$G,5,0))))","v":""}]
[null,null,null,null,null,null,null,null,null,null,null,null,null,null,null,null,null,null,{"$f":"IFERROR(IF(C637=\"\",\"\",IF(VLOOKUP(D637,site!$B:$D,3,0)=\"\",\"-\",VLOOKUP(D637,site!$B:$D,3,0))),IF(C637=\"\",\"\",IF(VLOOKUP(E637,site!$C:$D,2,0)=\"\",\"-\",VLOOKUP(E637,site!$C:$D,2,0))))","v":""},{"$f":"IFERROR(IF($C637=\"\",\"\",IF(VLOOKUP($D637,site!$B:$F,4,0)=\"\",\"-\",VLOOKUP($D637,site!$B:$F,4,0))),IF($C637=\"\",\"\",IF(VLOOKUP($E637,site!$B:$F,3,0)=\"\",\"-\",VLOOKUP($E637,site!$B:$F,3,0))))","v":""},{"$f":"IFERROR(IF($C637=\"\",\"\",IF(VLOOKUP($D637,site!$B:$F,5,0)=\"\",\"-\",VLOOKUP($D637,site!$B:$F,5,0))),IF($C637=\"\",\"\",IF(VLOOKUP($E637,site!$B:$F,4,0)=\"\",\"-\",VLOOKUP($E637,site!$B:$F,4,0))))","v":""},{"$f":"IFERROR(IF($C637=\"\",\"\",IF(VLOOKUP($D637,site!$B:$G,6,0)=\"\",\"-\",VLOOKUP($D637,site!$B:$G,6,0))),IF($C637=\"\",\"\",IF(VLOOKUP($E637,site!$B:$G,5,0)=\"\",\"-\",VLOOKUP($E637,site!$B:$G,5,0))))","v":""}]
[null,null,null,null,null,null,null,null,null,null,null,null,null,null,null,null,null,null,{"$f":"IFERROR(IF(C638=\"\",\"\",IF(VLOOKUP(D638,site!$B:$D,3,0)=\"\",\"-\",VLOOKUP(D638,site!$B:$D,3,0))),IF(C638=\"\",\"\",IF(VLOOKUP(E638,site!$C:$D,2,0)=\"\",\"-\",VLOOKUP(E638,site!$C:$D,2,0))))","v":""},{"$f":"IFERROR(IF($C638=\"\",\"\",IF(VLOOKUP($D638,site!$B:$F,4,0)=\"\",\"-\",VLOOKUP($D638,site!$B:$F,4,0))),IF($C638=\"\",\"\",IF(VLOOKUP($E638,site!$B:$F,3,0)=\"\",\"-\",VLOOKUP($E638,site!$B:$F,3,0))))","v":""},{"$f":"IFERROR(IF($C638=\"\",\"\",IF(VLOOKUP($D638,site!$B:$F,5,0)=\"\",\"-\",VLOOKUP($D638,site!$B:$F,5,0))),IF($C638=\"\",\"\",IF(VLOOKUP($E638,site!$B:$F,4,0)=\"\",\"-\",VLOOKUP($E638,site!$B:$F,4,0))))","v":""},{"$f":"IFERROR(IF($C638=\"\",\"\",IF(VLOOKUP($D638,site!$B:$G,6,0)=\"\",\"-\",VLOOKUP($D638,site!$B:$G,6,0))),IF($C638=\"\",\"\",IF(VLOOKUP($E638,site!$B:$G,5,0)=\"\",\"-\",VLOOKUP($E638,site!$B:$G,5,0))))","v":""}]
[null,null,null,null,null,null,null,null,null,null,null,null,null,null,null,null,null,null,{"$f":"IFERROR(IF(C639=\"\",\"\",IF(VLOOKUP(D639,site!$B:$D,3,0)=\"\",\"-\",VLOOKUP(D639,site!$B:$D,3,0))),IF(C639=\"\",\"\",IF(VLOOKUP(E639,site!$C:$D,2,0)=\"\",\"-\",VLOOKUP(E639,site!$C:$D,2,0))))","v":""},{"$f":"IFERROR(IF($C639=\"\",\"\",IF(VLOOKUP($D639,site!$B:$F,4,0)=\"\",\"-\",VLOOKUP($D639,site!$B:$F,4,0))),IF($C639=\"\",\"\",IF(VLOOKUP($E639,site!$B:$F,3,0)=\"\",\"-\",VLOOKUP($E639,site!$B:$F,3,0))))","v":""},{"$f":"IFERROR(IF($C639=\"\",\"\",IF(VLOOKUP($D639,site!$B:$F,5,0)=\"\",\"-\",VLOOKUP($D639,site!$B:$F,5,0))),IF($C639=\"\",\"\",IF(VLOOKUP($E639,site!$B:$F,4,0)=\"\",\"-\",VLOOKUP($E639,site!$B:$F,4,0))))","v":""},{"$f":"IFERROR(IF($C639=\"\",\"\",IF(VLOOKUP($D639,site!$B:$G,6,0)=\"\",\"-\",VLOOKUP($D639,site!$B:$G,6,0))),IF($C639=\"\",\"\",IF(VLOOKUP($E639,site!$B:$G,5,0)=\"\",\"-\",VLOOKUP($E639,site!$B:$G,5,0))))","v":""}]
[null,null,null,null,null,null,null,null,null,null,null,null,null,null,null,null,null,null,{"$f":"IFERROR(IF(C640=\"\",\"\",IF(VLOOKUP(D640,site!$B:$D,3,0)=\"\",\"-\",VLOOKUP(D640,site!$B:$D,3,0))),IF(C640=\"\",\"\",IF(VLOOKUP(E640,site!$C:$D,2,0)=\"\",\"-\",VLOOKUP(E640,site!$C:$D,2,0))))","v":""},{"$f":"IFERROR(IF($C640=\"\",\"\",IF(VLOOKUP($D640,site!$B:$F,4,0)=\"\",\"-\",VLOOKUP($D640,site!$B:$F,4,0))),IF($C640=\"\",\"\",IF(VLOOKUP($E640,site!$B:$F,3,0)=\"\",\"-\",VLOOKUP($E640,site!$B:$F,3,0))))","v":""},{"$f":"IFERROR(IF($C640=\"\",\"\",IF(VLOOKUP($D640,site!$B:$F,5,0)=\"\",\"-\",VLOOKUP($D640,site!$B:$F,5,0))),IF($C640=\"\",\"\",IF(VLOOKUP($E640,site!$B:$F,4,0)=\"\",\"-\",VLOOKUP($E640,site!$B:$F,4,0))))","v":""},{"$f":"IFERROR(IF($C640=\"\",\"\",IF(VLOOKUP($D640,site!$B:$G,6,0)=\"\",\"-\",VLOOKUP($D640,site!$B:$G,6,0))),IF($C640=\"\",\"\",IF(VLOOKUP($E640,site!$B:$G,5,0)=\"\",\"-\",VLOOKUP($E640,site!$B:$G,5,0))))","v":""}]
[null,null,null,null,null,null,null,null,null,null,null,null,null,null,null,null,null,null,{"$f":"IFERROR(IF(C641=\"\",\"\",IF(VLOOKUP(D641,site!$B:$D,3,0)=\"\",\"-\",VLOOKUP(D641,site!$B:$D,3,0))),IF(C641=\"\",\"\",IF(VLOOKUP(E641,site!$C:$D,2,0)=\"\",\"-\",VLOOKUP(E641,site!$C:$D,2,0))))","v":""},{"$f":"IFERROR(IF($C641=\"\",\"\",IF(VLOOKUP($D641,site!$B:$F,4,0)=\"\",\"-\",VLOOKUP($D641,site!$B:$F,4,0))),IF($C641=\"\",\"\",IF(VLOOKUP($E641,site!$B:$F,3,0)=\"\",\"-\",VLOOKUP($E641,site!$B:$F,3,0))))","v":""},{"$f":"IFERROR(IF($C641=\"\",\"\",IF(VLOOKUP($D641,site!$B:$F,5,0)=\"\",\"-\",VLOOKUP($D641,site!$B:$F,5,0))),IF($C641=\"\",\"\",IF(VLOOKUP($E641,site!$B:$F,4,0)=\"\",\"-\",VLOOKUP($E641,site!$B:$F,4,0))))","v":""},{"$f":"IFERROR(IF($C641=\"\",\"\",IF(VLOOKUP($D641,site!$B:$G,6,0)=\"\",\"-\",VLOOKUP($D641,site!$B:$G,6,0))),IF($C641=\"\",\"\",IF(VLOOKUP($E641,site!$B:$G,5,0)=\"\",\"-\",VLOOKUP($E641,site!$B:$G,5,0))))","v":""}]
[null,null,null,null,null,null,null,null,null,null,null,null,null,null,null,null,null,null,{"$f":"IFERROR(IF(C642=\"\",\"\",IF(VLOOKUP(D642,site!$B:$D,3,0)=\"\",\"-\",VLOOKUP(D642,site!$B:$D,3,0))),IF(C642=\"\",\"\",IF(VLOOKUP(E642,site!$C:$D,2,0)=\"\",\"-\",VLOOKUP(E642,site!$C:$D,2,0))))","v":""},{"$f":"IFERROR(IF($C642=\"\",\"\",IF(VLOOKUP($D642,site!$B:$F,4,0)=\"\",\"-\",VLOOKUP($D642,site!$B:$F,4,0))),IF($C642=\"\",\"\",IF(VLOOKUP($E642,site!$B:$F,3,0)=\"\",\"-\",VLOOKUP($E642,site!$B:$F,3,0))))","v":""},{"$f":"IFERROR(IF($C642=\"\",\"\",IF(VLOOKUP($D642,site!$B:$F,5,0)=\"\",\"-\",VLOOKUP($D642,site!$B:$F,5,0))),IF($C642=\"\",\"\",IF(VLOOKUP($E642,site!$B:$F,4,0)=\"\",\"-\",VLOOKUP($E642,site!$B:$F,4,0))))","v":""},{"$f":"IFERROR(IF($C642=\"\",\"\",IF(VLOOKUP($D642,site!$B:$G,6,0)=\"\",\"-\",VLOOKUP($D642,site!$B:$G,6,0))),IF($C642=\"\",\"\",IF(VLOOKUP($E642,site!$B:$G,5,0)=\"\",\"-\",VLOOKUP($E642,site!$B:$G,5,0))))","v":""}]
[null,null,null,null,null,null,null,null,null,null,null,null,null,null,null,null,null,null,{"$f":"IFERROR(IF(C643=\"\",\"\",IF(VLOOKUP(D643,site!$B:$D,3,0)=\"\",\"-\",VLOOKUP(D643,site!$B:$D,3,0))),IF(C643=\"\",\"\",IF(VLOOKUP(E643,site!$C:$D,2,0)=\"\",\"-\",VLOOKUP(E643,site!$C:$D,2,0))))","v":""},{"$f":"IFERROR(IF($C643=\"\",\"\",IF(VLOOKUP($D643,site!$B:$F,4,0)=\"\",\"-\",VLOOKUP($D643,site!$B:$F,4,0))),IF($C643=\"\",\"\",IF(VLOOKUP($E643,site!$B:$F,3,0)=\"\",\"-\",VLOOKUP($E643,site!$B:$F,3,0))))","v":""},{"$f":"IFERROR(IF($C643=\"\",\"\",IF(VLOOKUP($D643,site!$B:$F,5,0)=\"\",\"-\",VLOOKUP($D643,site!$B:$F,5,0))),IF($C643=\"\",\"\",IF(VLOOKUP($E643,site!$B:$F,4,0)=\"\",\"-\",VLOOKUP($E643,site!$B:$F,4,0))))","v":""},{"$f":"IFERROR(IF($C643=\"\",\"\",IF(VLOOKUP($D643,site!$B:$G,6,0)=\"\",\"-\",VLOOKUP($D643,site!$B:$G,6,0))),IF($C643=\"\",\"\",IF(VLOOKUP($E643,site!$B:$G,5,0)=\"\",\"-\",VLOOKUP($E643,site!$B:$G,5,0))))","v":""}]
[null,null,null,null,null,null,null,null,null,null,null,null,null,null,null,null,null,null,{"$f":"IFERROR(IF(C644=\"\",\"\",IF(VLOOKUP(D644,site!$B:$D,3,0)=\"\",\"-\",VLOOKUP(D644,site!$B:$D,3,0))),IF(C644=\"\",\"\",IF(VLOOKUP(E644,site!$C:$D,2,0)=\"\",\"-\",VLOOKUP(E644,site!$C:$D,2,0))))","v":""},{"$f":"IFERROR(IF($C644=\"\",\"\",IF(VLOOKUP($D644,site!$B:$F,4,0)=\"\",\"-\",VLOOKUP($D644,site!$B:$F,4,0))),IF($C644=\"\",\"\",IF(VLOOKUP($E644,site!$B:$F,3,0)=\"\",\"-\",VLOOKUP($E644,site!$B:$F,3,0))))","v":""},{"$f":"IFERROR(IF($C644=\"\",\"\",IF(VLOOKUP($D644,site!$B:$F,5,0)=\"\",\"-\",VLOOKUP($D644,site!$B:$F,5,0))),IF($C644=\"\",\"\",IF(VLOOKUP($E644,site!$B:$F,4,0)=\"\",\"-\",VLOOKUP($E644,site!$B:$F,4,0))))","v":""},{"$f":"IFERROR(IF($C644=\"\",\"\",IF(VLOOKUP($D644,site!$B:$G,6,0)=\"\",\"-\",VLOOKUP($D644,site!$B:$G,6,0))),IF($C644=\"\",\"\",IF(VLOOKUP($E644,site!$B:$G,5,0)=\"\",\"-\",VLOOKUP($E644,site!$B:$G,5,0))))","v":""}]
[null,null,null,null,null,null,null,null,null,null,null,null,null,null,null,null,null,null,{"$f":"IFERROR(IF(C645=\"\",\"\",IF(VLOOKUP(D645,site!$B:$D,3,0)=\"\",\"-\",VLOOKUP(D645,site!$B:$D,3,0))),IF(C645=\"\",\"\",IF(VLOOKUP(E645,site!$C:$D,2,0)=\"\",\"-\",VLOOKUP(E645,site!$C:$D,2,0))))","v":""},{"$f":"IFERROR(IF($C645=\"\",\"\",IF(VLOOKUP($D645,site!$B:$F,4,0)=\"\",\"-\",VLOOKUP($D645,site!$B:$F,4,0))),IF($C645=\"\",\"\",IF(VLOOKUP($E645,site!$B:$F,3,0)=\"\",\"-\",VLOOKUP($E645,site!$B:$F,3,0))))","v":""},{"$f":"IFERROR(IF($C645=\"\",\"\",IF(VLOOKUP($D645,site!$B:$F,5,0)=\"\",\"-\",VLOOKUP($D645,site!$B:$F,5,0))),IF($C645=\"\",\"\",IF(VLOOKUP($E645,site!$B:$F,4,0)=\"\",\"-\",VLOOKUP($E645,site!$B:$F,4,0))))","v":""},{"$f":"IFERROR(IF($C645=\"\",\"\",IF(VLOOKUP($D645,site!$B:$G,6,0)=\"\",\"-\",VLOOKUP($D645,site!$B:$G,6,0))),IF($C645=\"\",\"\",IF(VLOOKUP($E645,site!$B:$G,5,0)=\"\",\"-\",VLOOKUP($E645,site!$B:$G,5,0))))","v":""}]
[null,null,null,null,null,null,null,null,null,null,null,null,null,null,null,null,null,null,{"$f":"IFERROR(IF(C646=\"\",\"\",IF(VLOOKUP(D646,site!$B:$D,3,0)=\"\",\"-\",VLOOKUP(D646,site!$B:$D,3,0))),IF(C646=\"\",\"\",IF(VLOOKUP(E646,site!$C:$D,2,0)=\"\",\"-\",VLOOKUP(E646,site!$C:$D,2,0))))","v":""},{"$f":"IFERROR(IF($C646=\"\",\"\",IF(VLOOKUP($D646,site!$B:$F,4,0)=\"\",\"-\",VLOOKUP($D646,site!$B:$F,4,0))),IF($C646=\"\",\"\",IF(VLOOKUP($E646,site!$B:$F,3,0)=\"\",\"-\",VLOOKUP($E646,site!$B:$F,3,0))))","v":""},{"$f":"IFERROR(IF($C646=\"\",\"\",IF(VLOOKUP($D646,site!$B:$F,5,0)=\"\",\"-\",VLOOKUP($D646,site!$B:$F,5,0))),IF($C646=\"\",\"\",IF(VLOOKUP($E646,site!$B:$F,4,0)=\"\",\"-\",VLOOKUP($E646,site!$B:$F,4,0))))","v":""},{"$f":"IFERROR(IF($C646=\"\",\"\",IF(VLOOKUP($D646,site!$B:$G,6,0)=\"\",\"-\",VLOOKUP($D646,site!$B:$G,6,0))),IF($C646=\"\",\"\",IF(VLOOKUP($E646,site!$B:$G,5,0)=\"\",\"-\",VLOOKUP($E646,site!$B:$G,5,0))))","v":""}]
[null,null,null,null,null,null,null,null,null,null,null,null,null,null,null,null,null,null,{"$f":"IFERROR(IF(C647=\"\",\"\",IF(VLOOKUP(D647,site!$B:$D,3,0)=\"\",\"-\",VLOOKUP(D647,site!$B:$D,3,0))),IF(C647=\"\",\"\",IF(VLOOKUP(E647,site!$C:$D,2,0)=\"\",\"-\",VLOOKUP(E647,site!$C:$D,2,0))))","v":""},{"$f":"IFERROR(IF($C647=\"\",\"\",IF(VLOOKUP($D647,site!$B:$F,4,0)=\"\",\"-\",VLOOKUP($D647,site!$B:$F,4,0))),IF($C647=\"\",\"\",IF(VLOOKUP($E647,site!$B:$F,3,0)=\"\",\"-\",VLOOKUP($E647,site!$B:$F,3,0))))","v":""},{"$f":"IFERROR(IF($C647=\"\",\"\",IF(VLOOKUP($D647,site!$B:$F,5,0)=\"\",\"-\",VLOOKUP($D647,site!$B:$F,5,0))),IF($C647=\"\",\"\",IF(VLOOKUP($E647,site!$B:$F,4,0)=\"\",\"-\",VLOOKUP($E647,site!$B:$F,4,0))))","v":""},{"$f":"IFERROR(IF($C647=\"\",\"\",IF(VLOOKUP($D647,site!$B:$G,6,0)=\"\",\"-\",VLOOKUP($D647,site!$B:$G,6,0))),IF($C647=\"\",\"\",IF(VLOOKUP($E647,site!$B:$G,5,0)=\"\",\"-\",VLOOKUP($E647,site!$B:$G,5,0))))","v":""}]
[null,null,null,null,null,null,null,null,null,null,null,null,null,null,null,null,null,null,{"$f":"IFERROR(IF(C648=\"\",\"\",IF(VLOOKUP(D648,site!$B:$D,3,0)=\"\",\"-\",VLOOKUP(D648,site!$B:$D,3,0))),IF(C648=\"\",\"\",IF(VLOOKUP(E648,site!$C:$D,2,0)=\"\",\"-\",VLOOKUP(E648,site!$C:$D,2,0))))","v":""},{"$f":"IFERROR(IF($C648=\"\",\"\",IF(VLOOKUP($D648,site!$B:$F,4,0)=\"\",\"-\",VLOOKUP($D648,site!$B:$F,4,0))),IF($C648=\"\",\"\",IF(VLOOKUP($E648,site!$B:$F,3,0)=\"\",\"-\",VLOOKUP($E648,site!$B:$F,3,0))))","v":""},{"$f":"IFERROR(IF($C648=\"\",\"\",IF(VLOOKUP($D648,site!$B:$F,5,0)=\"\",\"-\",VLOOKUP($D648,site!$B:$F,5,0))),IF($C648=\"\",\"\",IF(VLOOKUP($E648,site!$B:$F,4,0)=\"\",\"-\",VLOOKUP($E648,site!$B:$F,4,0))))","v":""},{"$f":"IFERROR(IF($C648=\"\",\"\",IF(VLOOKUP($D648,site!$B:$G,6,0)=\"\",\"-\",VLOOKUP($D648,site!$B:$G,6,0))),IF($C648=\"\",\"\",IF(VLOOKUP($E648,site!$B:$G,5,0)=\"\",\"-\",VLOOKUP($E648,site!$B:$G,5,0))))","v":""}]
[null,null,null,null,null,null,null,null,null,null,null,null,null,null,null,null,null,null,{"$f":"IFERROR(IF(C649=\"\",\"\",IF(VLOOKUP(D649,site!$B:$D,3,0)=\"\",\"-\",VLOOKUP(D649,site!$B:$D,3,0))),IF(C649=\"\",\"\",IF(VLOOKUP(E649,site!$C:$D,2,0)=\"\",\"-\",VLOOKUP(E649,site!$C:$D,2,0))))","v":""},{"$f":"IFERROR(IF($C649=\"\",\"\",IF(VLOOKUP($D649,site!$B:$F,4,0)=\"\",\"-\",VLOOKUP($D649,site!$B:$F,4,0))),IF($C649=\"\",\"\",IF(VLOOKUP($E649,site!$B:$F,3,0)=\"\",\"-\",VLOOKUP($E649,site!$B:$F,3,0))))","v":""},{"$f":"IFERROR(IF($C649=\"\",\"\",IF(VLOOKUP($D649,site!$B:$F,5,0)=\"\",\"-\",VLOOKUP($D649,site!$B:$F,5,0))),IF($C649=\"\",\"\",IF(VLOOKUP($E649,site!$B:$F,4,0)=\"\",\"-\",VLOOKUP($E649,site!$B:$F,4,0))))","v":""},{"$f":"IFERROR(IF($C649=\"\",\"\",IF(VLOOKUP($D649,site!$B:$G,6,0)=\"\",\"-\",VLOOKUP($D649,site!$B:$G,6,0))),IF($C649=\"\",\"\",IF(VLOOKUP($E649,site!$B:$G,5,0)=\"\",\"-\",VLOOKUP($E649,site!$B:$G,5,0))))","v":""}]
[null,null,null,null,null,null,null,null,null,null,null,null,null,null,null,null,null,null,{"$f":"IFERROR(IF(C650=\"\",\"\",IF(VLOOKUP(D650,site!$B:$D,3,0)=\"\",\"-\",VLOOKUP(D650,site!$B:$D,3,0))),IF(C650=\"\",\"\",IF(VLOOKUP(E650,site!$C:$D,2,0)=\"\",\"-\",VLOOKUP(E650,site!$C:$D,2,0))))","v":""},{"$f":"IFERROR(IF($C650=\"\",\"\",IF(VLOOKUP($D650,site!$B:$F,4,0)=\"\",\"-\",VLOOKUP($D650,site!$B:$F,4,0))),IF($C650=\"\",\"\",IF(VLOOKUP($E650,site!$B:$F,3,0)=\"\",\"-\",VLOOKUP($E650,site!$B:$F,3,0))))","v":""},{"$f":"IFERROR(IF($C650=\"\",\"\",IF(VLOOKUP($D650,site!$B:$F,5,0)=\"\",\"-\",VLOOKUP($D650,site!$B:$F,5,0))),IF($C650=\"\",\"\",IF(VLOOKUP($E650,site!$B:$F,4,0)=\"\",\"-\",VLOOKUP($E650,site!$B:$F,4,0))))","v":""},{"$f":"IFERROR(IF($C650=\"\",\"\",IF(VLOOKUP($D650,site!$B:$G,6,0)=\"\",\"-\",VLOOKUP($D650,site!$B:$G,6,0))),IF($C650=\"\",\"\",IF(VLOOKUP($E650,site!$B:$G,5,0)=\"\",\"-\",VLOOKUP($E650,site!$B:$G,5,0))))","v":""}]
[null,null,null,null,null,null,null,null,null,null,null,null,null,null,null,null,null,null,{"$f":"IFERROR(IF(C651=\"\",\"\",IF(VLOOKUP(D651,site!$B:$D,3,0)=\"\",\"-\",VLOOKUP(D651,site!$B:$D,3,0))),IF(C651=\"\",\"\",IF(VLOOKUP(E651,site!$C:$D,2,0)=\"\",\"-\",VLOOKUP(E651,site!$C:$D,2,0))))","v":""},{"$f":"IFERROR(IF($C651=\"\",\"\",IF(VLOOKUP($D651,site!$B:$F,4,0)=\"\",\"-\",VLOOKUP($D651,site!$B:$F,4,0))),IF($C651=\"\",\"\",IF(VLOOKUP($E651,site!$B:$F,3,0)=\"\",\"-\",VLOOKUP($E651,site!$B:$F,3,0))))","v":""},{"$f":"IFERROR(IF($C651=\"\",\"\",IF(VLOOKUP($D651,site!$B:$F,5,0)=\"\",\"-\",VLOOKUP($D651,site!$B:$F,5,0))),IF($C651=\"\",\"\",IF(VLOOKUP($E651,site!$B:$F,4,0)=\"\",\"-\",VLOOKUP($E651,site!$B:$F,4,0))))","v":""},{"$f":"IFERROR(IF($C651=\"\",\"\",IF(VLOOKUP($D651,site!$B:$G,6,0)=\"\",\"-\",VLOOKUP($D651,site!$B:$G,6,0))),IF($C651=\"\",\"\",IF(VLOOKUP($E651,site!$B:$G,5,0)=\"\",\"-\",VLOOKUP($E651,site!$B:$G,5,0))))","v":""}]
[null,null,null,null,null,null,null,null,null,null,null,null,null,null,null,null,null,null,{"$f":"IFERROR(IF(C652=\"\",\"\",IF(VLOOKUP(D652,site!$B:$D,3,0)=\"\",\"-\",VLOOKUP(D652,site!$B:$D,3,0))),IF(C652=\"\",\"\",IF(VLOOKUP(E652,site!$C:$D,2,0)=\"\",\"-\",VLOOKUP(E652,site!$C:$D,2,0))))","v":""},{"$f":"IFERROR(IF($C652=\"\",\"\",IF(VLOOKUP($D652,site!$B:$F,4,0)=\"\",\"-\",VLOOKUP($D652,site!$B:$F,4,0))),IF($C652=\"\",\"\",IF(VLOOKUP($E652,site!$B:$F,3,0)=\"\",\"-\",VLOOKUP($E652,site!$B:$F,3,0))))","v":""},{"$f":"IFERROR(IF($C652=\"\",\"\",IF(VLOOKUP($D652,site!$B:$F,5,0)=\"\",\"-\",VLOOKUP($D652,site!$B:$F,5,0))),IF($C652=\"\",\"\",IF(VLOOKUP($E652,site!$B:$F,4,0)=\"\",\"-\",VLOOKUP($E652,site!$B:$F,4,0))))","v":""},{"$f":"IFERROR(IF($C652=\"\",\"\",IF(VLOOKUP($D652,site!$B:$G,6,0)=\"\",\"-\",VLOOKUP($D652,site!$B:$G,6,0))),IF($C652=\"\",\"\",IF(VLOOKUP($E652,site!$B:$G,5,0)=\"\",\"-\",VLOOKUP($E652,site!$B:$G,5,0))))","v":""}]
[null,null,null,null,null,null,null,null,null,null,null,null,null,null,null,null,null,null,{"$f":"IFERROR(IF(C653=\"\",\"\",IF(VLOOKUP(D653,site!$B:$D,3,0)=\"\",\"-\",VLOOKUP(D653,site!$B:$D,3,0))),IF(C653=\"\",\"\",IF(VLOOKUP(E653,site!$C:$D,2,0)=\"\",\"-\",VLOOKUP(E653,site!$C:$D,2,0))))","v":""},{"$f":"IFERROR(IF($C653=\"\",\"\",IF(VLOOKUP($D653,site!$B:$F,4,0)=\"\",\"-\",VLOOKUP($D653,site!$B:$F,4,0))),IF($C653=\"\",\"\",IF(VLOOKUP($E653,site!$B:$F,3,0)=\"\",\"-\",VLOOKUP($E653,site!$B:$F,3,0))))","v":""},{"$f":"IFERROR(IF($C653=\"\",\"\",IF(VLOOKUP($D653,site!$B:$F,5,0)=\"\",\"-\",VLOOKUP($D653,site!$B:$F,5,0))),IF($C653=\"\",\"\",IF(VLOOKUP($E653,site!$B:$F,4,0)=\"\",\"-\",VLOOKUP($E653,site!$B:$F,4,0))))","v":""},{"$f":"IFERROR(IF($C653=\"\",\"\",IF(VLOOKUP($D653,site!$B:$G,6,0)=\"\",\"-\",VLOOKUP($D653,site!$B:$G,6,0))),IF($C653=\"\",\"\",IF(VLOOKUP($E653,site!$B:$G,5,0)=\"\",\"-\",VLOOKUP($E653,site!$B:$G,5,0))))","v":""}]
[null,null,null,null,null,null,null,null,null,null,null,null,null,null,null,null,null,null,{"$f":"IFERROR(IF(C654=\"\",\"\",IF(VLOOKUP(D654,site!$B:$D,3,0)=\"\",\"-\",VLOOKUP(D654,site!$B:$D,3,0))),IF(C654=\"\",\"\",IF(VLOOKUP(E654,site!$C:$D,2,0)=\"\",\"-\",VLOOKUP(E654,site!$C:$D,2,0))))","v":""},{"$f":"IFERROR(IF($C654=\"\",\"\",IF(VLOOKUP($D654,site!$B:$F,4,0)=\"\",\"-\",VLOOKUP($D654,site!$B:$F,4,0))),IF($C654=\"\",\"\",IF(VLOOKUP($E654,site!$B:$F,3,0)=\"\",\"-\",VLOOKUP($E654,site!$B:$F,3,0))))","v":""},{"$f":"IFERROR(IF($C654=\"\",\"\",IF(VLOOKUP($D654,site!$B:$F,5,0)=\"\",\"-\",VLOOKUP($D654,site!$B:$F,5,0))),IF($C654=\"\",\"\",IF(VLOOKUP($E654,site!$B:$F,4,0)=\"\",\"-\",VLOOKUP($E654,site!$B:$F,4,0))))","v":""},{"$f":"IFERROR(IF($C654=\"\",\"\",IF(VLOOKUP($D654,site!$B:$G,6,0)=\"\",\"-\",VLOOKUP($D654,site!$B:$G,6,0))),IF($C654=\"\",\"\",IF(VLOOKUP($E654,site!$B:$G,5,0)=\"\",\"-\",VLOOKUP($E654,site!$B:$G,5,0))))","v":""}]
[null,null,null,null,null,null,null,null,null,null,null,null,null,null,null,null,null,null,{"$f":"IFERROR(IF(C655=\"\",\"\",IF(VLOOKUP(D655,site!$B:$D,3,0)=\"\",\"-\",VLOOKUP(D655,site!$B:$D,3,0))),IF(C655=\"\",\"\",IF(VLOOKUP(E655,site!$C:$D,2,0)=\"\",\"-\",VLOOKUP(E655,site!$C:$D,2,0))))","v":""},{"$f":"IFERROR(IF($C655=\"\",\"\",IF(VLOOKUP($D655,site!$B:$F,4,0)=\"\",\"-\",VLOOKUP($D655,site!$B:$F,4,0))),IF($C655=\"\",\"\",IF(VLOOKUP($E655,site!$B:$F,3,0)=\"\",\"-\",VLOOKUP($E655,site!$B:$F,3,0))))","v":""},{"$f":"IFERROR(IF($C655=\"\",\"\",IF(VLOOKUP($D655,site!$B:$F,5,0)=\"\",\"-\",VLOOKUP($D655,site!$B:$F,5,0))),IF($C655=\"\",\"\",IF(VLOOKUP($E655,site!$B:$F,4,0)=\"\",\"-\",VLOOKUP($E655,site!$B:$F,4,0))))","v":""},{"$f":"IFERROR(IF($C655=\"\",\"\",IF(VLOOKUP($D655,site!$B:$G,6,0)=\"\",\"-\",VLOOKUP($D655,site!$B:$G,6,0))),IF($C655=\"\",\"\",IF(VLOOKUP($E655,site!$B:$G,5,0)=\"\",\"-\",VLOOKUP($E655,site!$B:$G,5,0))))","v":""}]
[null,null,null,null,null,null,null,null,null,null,null,null,null,null,null,null,null,null,{"$f":"IFERROR(IF(C656=\"\",\"\",IF(VLOOKUP(D656,site!$B:$D,3,0)=\"\",\"-\",VLOOKUP(D656,site!$B:$D,3,0))),IF(C656=\"\",\"\",IF(VLOOKUP(E656,site!$C:$D,2,0)=\"\",\"-\",VLOOKUP(E656,site!$C:$D,2,0))))","v":""},{"$f":"IFERROR(IF($C656=\"\",\"\",IF(VLOOKUP($D656,site!$B:$F,4,0)=\"\",\"-\",VLOOKUP($D656,site!$B:$F,4,0))),IF($C656=\"\",\"\",IF(VLOOKUP($E656,site!$B:$F,3,0)=\"\",\"-\",VLOOKUP($E656,site!$B:$F,3,0))))","v":""},{"$f":"IFERROR(IF($C656=\"\",\"\",IF(VLOOKUP($D656,site!$B:$F,5,0)=\"\",\"-\",VLOOKUP($D656,site!$B:$F,5,0))),IF($C656=\"\",\"\",IF(VLOOKUP($E656,site!$B:$F,4,0)=\"\",\"-\",VLOOKUP($E656,site!$B:$F,4,0))))","v":""},{"$f":"IFERROR(IF($C656=\"\",\"\",IF(VLOOKUP($D656,site!$B:$G,6,0)=\"\",\"-\",VLOOKUP($D656,site!$B:$G,6,0))),IF($C656=\"\",\"\",IF(VLOOKUP($E656,site!$B:$G,5,0)=\"\",\"-\",VLOOKUP($E656,site!$B:$G,5,0))))","v":""}]
[null,null,null,null,null,null,null,null,null,null,null,null,null,null,null,null,null,null,{"$f":"IFERROR(IF(C657=\"\",\"\",IF(VLOOKUP(D657,site!$B:$D,3,0)=\"\",\"-\",VLOOKUP(D657,site!$B:$D,3,0))),IF(C657=\"\",\"\",IF(VLOOKUP(E657,site!$C:$D,2,0)=\"\",\"-\",VLOOKUP(E657,site!$C:$D,2,0))))","v":""},{"$f":"IFERROR(IF($C657=\"\",\"\",IF(VLOOKUP($D657,site!$B:$F,4,0)=\"\",\"-\",VLOOKUP($D657,site!$B:$F,4,0))),IF($C657=\"\",\"\",IF(VLOOKUP($E657,site!$B:$F,3,0)=\"\",\"-\",VLOOKUP($E657,site!$B:$F,3,0))))","v":""},{"$f":"IFERROR(IF($C657=\"\",\"\",IF(VLOOKUP($D657,site!$B:$F,5,0)=\"\",\"-\",VLOOKUP($D657,site!$B:$F,5,0))),IF($C657=\"\",\"\",IF(VLOOKUP($E657,site!$B:$F,4,0)=\"\",\"-\",VLOOKUP($E657,site!$B:$F,4,0))))","v":""},{"$f":"IFERROR(IF($C657=\"\",\"\",IF(VLOOKUP($D657,site!$B:$G,6,0)=\"\",\"-\",VLOOKUP($D657,site!$B:$G,6,0))),IF($C657=\"\",\"\",IF(VLOOKUP($E657,site!$B:$G,5,0)=\"\",\"-\",VLOOKUP($E657,site!$B:$G,5,0))))","v":""}]
[null,null,null,null,null,null,null,null,null,null,null,null,null,null,null,null,null,null,{"$f":"IFERROR(IF(C658=\"\",\"\",IF(VLOOKUP(D658,site!$B:$D,3,0)=\"\",\"-\",VLOOKUP(D658,site!$B:$D,3,0))),IF(C658=\"\",\"\",IF(VLOOKUP(E658,site!$C:$D,2,0)=\"\",\"-\",VLOOKUP(E658,site!$C:$D,2,0))))","v":""},{"$f":"IFERROR(IF($C658=\"\",\"\",IF(VLOOKUP($D658,site!$B:$F,4,0)=\"\",\"-\",VLOOKUP($D658,site!$B:$F,4,0))),IF($C658=\"\",\"\",IF(VLOOKUP($E658,site!$B:$F,3,0)=\"\",\"-\",VLOOKUP($E658,site!$B:$F,3,0))))","v":""},{"$f":"IFERROR(IF($C658=\"\",\"\",IF(VLOOKUP($D658,site!$B:$F,5,0)=\"\",\"-\",VLOOKUP($D658,site!$B:$F,5,0))),IF($C658=\"\",\"\",IF(VLOOKUP($E658,site!$B:$F,4,0)=\"\",\"-\",VLOOKUP($E658,site!$B:$F,4,0))))","v":""},{"$f":"IFERROR(IF($C658=\"\",\"\",IF(VLOOKUP($D658,site!$B:$G,6,0)=\"\",\"-\",VLOOKUP($D658,site!$B:$G,6,0))),IF($C658=\"\",\"\",IF(VLOOKUP($E658,site!$B:$G,5,0)=\"\",\"-\",VLOOKUP($E658,site!$B:$G,5,0))))","v":""}]
[null,null,null,null,null,null,null,null,null,null,null,null,null,null,null,null,null,null,{"$f":"IFERROR(IF(C659=\"\",\"\",IF(VLOOKUP(D659,site!$B:$D,3,0)=\"\",\"-\",VLOOKUP(D659,site!$B:$D,3,0))),IF(C659=\"\",\"\",IF(VLOOKUP(E659,site!$C:$D,2,0)=\"\",\"-\",VLOOKUP(E659,site!$C:$D,2,0))))","v":""},{"$f":"IFERROR(IF($C659=\"\",\"\",IF(VLOOKUP($D659,site!$B:$F,4,0)=\"\",\"-\",VLOOKUP($D659,site!$B:$F,4,0))),IF($C659=\"\",\"\",IF(VLOOKUP($E659,site!$B:$F,3,0)=\"\",\"-\",VLOOKUP($E659,site!$B:$F,3,0))))","v":""},{"$f":"IFERROR(IF($C659=\"\",\"\",IF(VLOOKUP($D659,site!$B:$F,5,0)=\"\",\"-\",VLOOKUP($D659,site!$B:$F,5,0))),IF($C659=\"\",\"\",IF(VLOOKUP($E659,site!$B:$F,4,0)=\"\",\"-\",VLOOKUP($E659,site!$B:$F,4,0))))","v":""},{"$f":"IFERROR(IF($C659=\"\",\"\",IF(VLOOKUP($D659,site!$B:$G,6,0)=\"\",\"-\",VLOOKUP($D659,site!$B:$G,6,0))),IF($C659=\"\",\"\",IF(VLOOKUP($E659,site!$B:$G,5,0)=\"\",\"-\",VLOOKUP($E659,site!$B:$G,5,0))))","v":""}]
[null,null,null,null,null,null,null,null,null,null,null,null,null,null,null,null,null,null,{"$f":"IFERROR(IF(C660=\"\",\"\",IF(VLOOKUP(D660,site!$B:$D,3,0)=\"\",\"-\",VLOOKUP(D660,site!$B:$D,3,0))),IF(C660=\"\",\"\",IF(VLOOKUP(E660,site!$C:$D,2,0)=\"\",\"-\",VLOOKUP(E660,site!$C:$D,2,0))))","v":""},{"$f":"IFERROR(IF($C660=\"\",\"\",IF(VLOOKUP($D660,site!$B:$F,4,0)=\"\",\"-\",VLOOKUP($D660,site!$B:$F,4,0))),IF($C660=\"\",\"\",IF(VLOOKUP($E660,site!$B:$F,3,0)=\"\",\"-\",VLOOKUP($E660,site!$B:$F,3,0))))","v":""},{"$f":"IFERROR(IF($C660=\"\",\"\",IF(VLOOKUP($D660,site!$B:$F,5,0)=\"\",\"-\",VLOOKUP($D660,site!$B:$F,5,0))),IF($C660=\"\",\"\",IF(VLOOKUP($E660,site!$B:$F,4,0)=\"\",\"-\",VLOOKUP($E660,site!$B:$F,4,0))))","v":""},{"$f":"IFERROR(IF($C660=\"\",\"\",IF(VLOOKUP($D660,site!$B:$G,6,0)=\"\",\"-\",VLOOKUP($D660,site!$B:$G,6,0))),IF($C660=\"\",\"\",IF(VLOOKUP($E660,site!$B:$G,5,0)=\"\",\"-\",VLOOKUP($E660,site!$B:$G,5,0))))","v":""}]
[null,null,null,null,null,null,null,null,null,null,null,null,null,null,null,null,null,null,{"$f":"IFERROR(IF(C661=\"\",\"\",IF(VLOOKUP(D661,site!$B:$D,3,0)=\"\",\"-\",VLOOKUP(D661,site!$B:$D,3,0))),IF(C661=\"\",\"\",IF(VLOOKUP(E661,site!$C:$D,2,0)=\"\",\"-\",VLOOKUP(E661,site!$C:$D,2,0))))","v":""},{"$f":"IFERROR(IF($C661=\"\",\"\",IF(VLOOKUP($D661,site!$B:$F,4,0)=\"\",\"-\",VLOOKUP($D661,site!$B:$F,4,0))),IF($C661=\"\",\"\",IF(VLOOKUP($E661,site!$B:$F,3,0)=\"\",\"-\",VLOOKUP($E661,site!$B:$F,3,0))))","v":""},{"$f":"IFERROR(IF($C661=\"\",\"\",IF(VLOOKUP($D661,site!$B:$F,5,0)=\"\",\"-\",VLOOKUP($D661,site!$B:$F,5,0))),IF($C661=\"\",\"\",IF(VLOOKUP($E661,site!$B:$F,4,0)=\"\",\"-\",VLOOKUP($E661,site!$B:$F,4,0))))","v":""},{"$f":"IFERROR(IF($C661=\"\",\"\",IF(VLOOKUP($D661,site!$B:$G,6,0)=\"\",\"-\",VLOOKUP($D661,site!$B:$G,6,0))),IF($C661=\"\",\"\",IF(VLOOKUP($E661,site!$B:$G,5,0)=\"\",\"-\",VLOOKUP($E661,site!$B:$G,5,0))))","v":""}]
[null,null,null,null,null,null,null,null,null,null,null,null,null,null,null,null,null,null,{"$f":"IFERROR(IF(C662=\"\",\"\",IF(VLOOKUP(D662,site!$B:$D,3,0)=\"\",\"-\",VLOOKUP(D662,site!$B:$D,3,0))),IF(C662=\"\",\"\",IF(VLOOKUP(E662,site!$C:$D,2,0)=\"\",\"-\",VLOOKUP(E662,site!$C:$D,2,0))))","v":""},{"$f":"IFERROR(IF($C662=\"\",\"\",IF(VLOOKUP($D662,site!$B:$F,4,0)=\"\",\"-\",VLOOKUP($D662,site!$B:$F,4,0))),IF($C662=\"\",\"\",IF(VLOOKUP($E662,site!$B:$F,3,0)=\"\",\"-\",VLOOKUP($E662,site!$B:$F,3,0))))","v":""},{"$f":"IFERROR(IF($C662=\"\",\"\",IF(VLOOKUP($D662,site!$B:$F,5,0)=\"\",\"-\",VLOOKUP($D662,site!$B:$F,5,0))),IF($C662=\"\",\"\",IF(VLOOKUP($E662,site!$B:$F,4,0)=\"\",\"-\",VLOOKUP($E662,site!$B:$F,4,0))))","v":""},{"$f":"IFERROR(IF($C662=\"\",\"\",IF(VLOOKUP($D662,site!$B:$G,6,0)=\"\",\"-\",VLOOKUP($D662,site!$B:$G,6,0))),IF($C662=\"\",\"\",IF(VLOOKUP($E662,site!$B:$G,5,0)=\"\",\"-\",VLOOKUP($E662,site!$B:$G,5,0))))","v":""}]
[null,null,null,null,null,null,null,null,null,null,null,null,null,null,null,null,null,null,{"$f":"IFERROR(IF(C663=\"\",\"\",IF(VLOOKUP(D663,site!$B:$D,3,0)=\"\",\"-\",VLOOKUP(D663,site!$B:$D,3,0))),IF(C663=\"\",\"\",IF(VLOOKUP(E663,site!$C:$D,2,0)=\"\",\"-\",VLOOKUP(E663,site!$C:$D,2,0))))","v":""},{"$f":"IFERROR(IF($C663=\"\",\"\",IF(VLOOKUP($D663,site!$B:$F,4,0)=\"\",\"-\",VLOOKUP($D663,site!$B:$F,4,0))),IF($C663=\"\",\"\",IF(VLOOKUP($E663,site!$B:$F,3,0)=\"\",\"-\",VLOOKUP($E663,site!$B:$F,3,0))))","v":""},{"$f":"IFERROR(IF($C663=\"\",\"\",IF(VLOOKUP($D663,site!$B:$F,5,0)=\"\",\"-\",VLOOKUP($D663,site!$B:$F,5,0))),IF($C663=\"\",\"\",IF(VLOOKUP($E663,site!$B:$F,4,0)=\"\",\"-\",VLOOKUP($E663,site!$B:$F,4,0))))","v":""},{"$f":"IFERROR(IF($C663=\"\",\"\",IF(VLOOKUP($D663,site!$B:$G,6,0)=\"\",\"-\",VLOOKUP($D663,site!$B:$G,6,0))),IF($C663=\"\",\"\",IF(VLOOKUP($E663,site!$B:$G,5,0)=\"\",\"-\",VLOOKUP($E663,site!$B:$G,5,0))))","v":""}]
[null,null,null,null,null,null,null,null,null,null,null,null,null,null,null,null,null,null,{"$f":"IFERROR(IF(C664=\"\",\"\",IF(VLOOKUP(D664,site!$B:$D,3,0)=\"\",\"-\",VLOOKUP(D664,site!$B:$D,3,0))),IF(C664=\"\",\"\",IF(VLOOKUP(E664,site!$C:$D,2,0)=\"\",\"-\",VLOOKUP(E664,site!$C:$D,2,0))))","v":""},{"$f":"IFERROR(IF($C664=\"\",\"\",IF(VLOOKUP($D664,site!$B:$F,4,0)=\"\",\"-\",VLOOKUP($D664,site!$B:$F,4,0))),IF($C664=\"\",\"\",IF(VLOOKUP($E664,site!$B:$F,3,0)=\"\",\"-\",VLOOKUP($E664,site!$B:$F,3,0))))","v":""},{"$f":"IFERROR(IF($C664=\"\",\"\",IF(VLOOKUP($D664,site!$B:$F,5,0)=\"\",\"-\",VLOOKUP($D664,site!$B:$F,5,0))),IF($C664=\"\",\"\",IF(VLOOKUP($E664,site!$B:$F,4,0)=\"\",\"-\",VLOOKUP($E664,site!$B:$F,4,0))))","v":""},{"$f":"IFERROR(IF($C664=\"\",\"\",IF(VLOOKUP($D664,site!$B:$G,6,0)=\"\",\"-\",VLOOKUP($D664,site!$B:$G,6,0))),IF($C664=\"\",\"\",IF(VLOOKUP($E664,site!$B:$G,5,0)=\"\",\"-\",VLOOKUP($E664,site!$B:$G,5,0))))","v":""}]
[null,null,null,null,null,null,null,null,null,null,null,null,null,null,null,null,null,null,{"$f":"IFERROR(IF(C665=\"\",\"\",IF(VLOOKUP(D665,site!$B:$D,3,0)=\"\",\"-\",VLOOKUP(D665,site!$B:$D,3,0))),IF(C665=\"\",\"\",IF(VLOOKUP(E665,site!$C:$D,2,0)=\"\",\"-\",VLOOKUP(E665,site!$C:$D,2,0))))","v":""},{"$f":"IFERROR(IF($C665=\"\",\"\",IF(VLOOKUP($D665,site!$B:$F,4,0)=\"\",\"-\",VLOOKUP($D665,site!$B:$F,4,0))),IF($C665=\"\",\"\",IF(VLOOKUP($E665,site!$B:$F,3,0)=\"\",\"-\",VLOOKUP($E665,site!$B:$F,3,0))))","v":""},{"$f":"IFERROR(IF($C665=\"\",\"\",IF(VLOOKUP($D665,site!$B:$F,5,0)=\"\",\"-\",VLOOKUP($D665,site!$B:$F,5,0))),IF($C665=\"\",\"\",IF(VLOOKUP($E665,site!$B:$F,4,0)=\"\",\"-\",VLOOKUP($E665,site!$B:$F,4,0))))","v":""},{"$f":"IFERROR(IF($C665=\"\",\"\",IF(VLOOKUP($D665,site!$B:$G,6,0)=\"\",\"-\",VLOOKUP($D665,site!$B:$G,6,0))),IF($C665=\"\",\"\",IF(VLOOKUP($E665,site!$B:$G,5,0)=\"\",\"-\",VLOOKUP($E665,site!$B:$G,5,0))))","v":""}]
[null,null,null,null,null,null,null,null,null,null,null,null,null,null,null,null,null,null,{"$f":"IFERROR(IF(C666=\"\",\"\",IF(VLOOKUP(D666,site!$B:$D,3,0)=\"\",\"-\",VLOOKUP(D666,site!$B:$D,3,0))),IF(C666=\"\",\"\",IF(VLOOKUP(E666,site!$C:$D,2,0)=\"\",\"-\",VLOOKUP(E666,site!$C:$D,2,0))))","v":""},{"$f":"IFERROR(IF($C666=\"\",\"\",IF(VLOOKUP($D666,site!$B:$F,4,0)=\"\",\"-\",VLOOKUP($D666,site!$B:$F,4,0))),IF($C666=\"\",\"\",IF(VLOOKUP($E666,site!$B:$F,3,0)=\"\",\"-\",VLOOKUP($E666,site!$B:$F,3,0))))","v":""},{"$f":"IFERROR(IF($C666=\"\",\"\",IF(VLOOKUP($D666,site!$B:$F,5,0)=\"\",\"-\",VLOOKUP($D666,site!$B:$F,5,0))),IF($C666=\"\",\"\",IF(VLOOKUP($E666,site!$B:$F,4,0)=\"\",\"-\",VLOOKUP($E666,site!$B:$F,4,0))))","v":""},{"$f":"IFERROR(IF($C666=\"\",\"\",IF(VLOOKUP($D666,site!$B:$G,6,0)=\"\",\"-\",VLOOKUP($D666,site!$B:$G,6,0))),IF($C666=\"\",\"\",IF(VLOOKUP($E666,site!$B:$G,5,0)=\"\",\"-\",VLOOKUP($E666,site!$B:$G,5,0))))","v":""}]
[null,null,null,null,null,null,null,null,null,null,null,null,null,null,null,null,null,null,{"$f":"IFERROR(IF(C667=\"\",\"\",IF(VLOOKUP(D667,site!$B:$D,3,0)=\"\",\"-\",VLOOKUP(D667,site!$B:$D,3,0))),IF(C667=\"\",\"\",IF(VLOOKUP(E667,site!$C:$D,2,0)=\"\",\"-\",VLOOKUP(E667,site!$C:$D,2,0))))","v":""},{"$f":"IFERROR(IF($C667=\"\",\"\",IF(VLOOKUP($D667,site!$B:$F,4,0)=\"\",\"-\",VLOOKUP($D667,site!$B:$F,4,0))),IF($C667=\"\",\"\",IF(VLOOKUP($E667,site!$B:$F,3,0)=\"\",\"-\",VLOOKUP($E667,site!$B:$F,3,0))))","v":""},{"$f":"IFERROR(IF($C667=\"\",\"\",IF(VLOOKUP($D667,site!$B:$F,5,0)=\"\",\"-\",VLOOKUP($D667,site!$B:$F,5,0))),IF($C667=\"\",\"\",IF(VLOOKUP($E667,site!$B:$F,4,0)=\"\",\"-\",VLOOKUP($E667,site!$B:$F,4,0))))","v":""},{"$f":"IFERROR(IF($C667=\"\",\"\",IF(VLOOKUP($D667,site!$B:$G,6,0)=\"\",\"-\",VLOOKUP($D667,site!$B:$G,6,0))),IF($C667=\"\",\"\",IF(VLOOKUP($E667,site!$B:$G,5,0)=\"\",\"-\",VLOOKUP($E667,site!$B:$G,5,0))))","v":""}]
[null,null,null,null,null,null,null,null,null,null,null,null,null,null,null,null,null,null,{"$f":"IFERROR(IF(C668=\"\",\"\",IF(VLOOKUP(D668,site!$B:$D,3,0)=\"\",\"-\",VLOOKUP(D668,site!$B:$D,3,0))),IF(C668=\"\",\"\",IF(VLOOKUP(E668,site!$C:$D,2,0)=\"\",\"-\",VLOOKUP(E668,site!$C:$D,2,0))))","v":""},{"$f":"IFERROR(IF($C668=\"\",\"\",IF(VLOOKUP($D668,site!$B:$F,4,0)=\"\",\"-\",VLOOKUP($D668,site!$B:$F,4,0))),IF($C668=\"\",\"\",IF(VLOOKUP($E668,site!$B:$F,3,0)=\"\",\"-\",VLOOKUP($E668,site!$B:$F,3,0))))","v":""},{"$f":"IFERROR(IF($C668=\"\",\"\",IF(VLOOKUP($D668,site!$B:$F,5,0)=\"\",\"-\",VLOOKUP($D668,site!$B:$F,5,0))),IF($C668=\"\",\"\",IF(VLOOKUP($E668,site!$B:$F,4,0)=\"\",\"-\",VLOOKUP($E668,site!$B:$F,4,0))))","v":""},{"$f":"IFERROR(IF($C668=\"\",\"\",IF(VLOOKUP($D668,site!$B:$G,6,0)=\"\",\"-\",VLOOKUP($D668,site!$B:$G,6,0))),IF($C668=\"\",\"\",IF(VLOOKUP($E668,site!$B:$G,5,0)=\"\",\"-\",VLOOKUP($E668,site!$B:$G,5,0))))","v":""}]
[null,null,null,null,null,null,null,null,null,null,null,null,null,null,null,null,null,null,{"$f":"IFERROR(IF(C669=\"\",\"\",IF(VLOOKUP(D669,site!$B:$D,3,0)=\"\",\"-\",VLOOKUP(D669,site!$B:$D,3,0))),IF(C669=\"\",\"\",IF(VLOOKUP(E669,site!$C:$D,2,0)=\"\",\"-\",VLOOKUP(E669,site!$C:$D,2,0))))","v":""},{"$f":"IFERROR(IF($C669=\"\",\"\",IF(VLOOKUP($D669,site!$B:$F,4,0)=\"\",\"-\",VLOOKUP($D669,site!$B:$F,4,0))),IF($C669=\"\",\"\",IF(VLOOKUP($E669,site!$B:$F,3,0)=\"\",\"-\",VLOOKUP($E669,site!$B:$F,3,0))))","v":""},{"$f":"IFERROR(IF($C669=\"\",\"\",IF(VLOOKUP($D669,site!$B:$F,5,0)=\"\",\"-\",VLOOKUP($D669,site!$B:$F,5,0))),IF($C669=\"\",\"\",IF(VLOOKUP($E669,site!$B:$F,4,0)=\"\",\"-\",VLOOKUP($E669,site!$B:$F,4,0))))","v":""},{"$f":"IFERROR(IF($C669=\"\",\"\",IF(VLOOKUP($D669,site!$B:$G,6,0)=\"\",\"-\",VLOOKUP($D669,site!$B:$G,6,0))),IF($C669=\"\",\"\",IF(VLOOKUP($E669,site!$B:$G,5,0)=\"\",\"-\",VLOOKUP($E669,site!$B:$G,5,0))))","v":""}]
[null,null,null,null,null,null,null,null,null,null,null,null,null,null,null,null,null,null,{"$f":"IFERROR(IF(C670=\"\",\"\",IF(VLOOKUP(D670,site!$B:$D,3,0)=\"\",\"-\",VLOOKUP(D670,site!$B:$D,3,0))),IF(C670=\"\",\"\",IF(VLOOKUP(E670,site!$C:$D,2,0)=\"\",\"-\",VLOOKUP(E670,site!$C:$D,2,0))))","v":""},{"$f":"IFERROR(IF($C670=\"\",\"\",IF(VLOOKUP($D670,site!$B:$F,4,0)=\"\",\"-\",VLOOKUP($D670,site!$B:$F,4,0))),IF($C670=\"\",\"\",IF(VLOOKUP($E670,site!$B:$F,3,0)=\"\",\"-\",VLOOKUP($E670,site!$B:$F,3,0))))","v":""},{"$f":"IFERROR(IF($C670=\"\",\"\",IF(VLOOKUP($D670,site!$B:$F,5,0)=\"\",\"-\",VLOOKUP($D670,site!$B:$F,5,0))),IF($C670=\"\",\"\",IF(VLOOKUP($E670,site!$B:$F,4,0)=\"\",\"-\",VLOOKUP($E670,site!$B:$F,4,0))))","v":""},{"$f":"IFERROR(IF($C670=\"\",\"\",IF(VLOOKUP($D670,site!$B:$G,6,0)=\"\",\"-\",VLOOKUP($D670,site!$B:$G,6,0))),IF($C670=\"\",\"\",IF(VLOOKUP($E670,site!$B:$G,5,0)=\"\",\"-\",VLOOKUP($E670,site!$B:$G,5,0))))","v":""}]
[null,null,null,null,null,null,null,null,null,null,null,null,null,null,null,null,null,null,{"$f":"IFERROR(IF(C671=\"\",\"\",IF(VLOOKUP(D671,site!$B:$D,3,0)=\"\",\"-\",VLOOKUP(D671,site!$B:$D,3,0))),IF(C671=\"\",\"\",IF(VLOOKUP(E671,site!$C:$D,2,0)=\"\",\"-\",VLOOKUP(E671,site!$C:$D,2,0))))","v":""},{"$f":"IFERROR(IF($C671=\"\",\"\",IF(VLOOKUP($D671,site!$B:$F,4,0)=\"\",\"-\",VLOOKUP($D671,site!$B:$F,4,0))),IF($C671=\"\",\"\",IF(VLOOKUP($E671,site!$B:$F,3,0)=\"\",\"-\",VLOOKUP($E671,site!$B:$F,3,0))))","v":""},{"$f":"IFERROR(IF($C671=\"\",\"\",IF(VLOOKUP($D671,site!$B:$F,5,0)=\"\",\"-\",VLOOKUP($D671,site!$B:$F,5,0))),IF($C671=\"\",\"\",IF(VLOOKUP($E671,site!$B:$F,4,0)=\"\",\"-\",VLOOKUP($E671,site!$B:$F,4,0))))","v":""},{"$f":"IFERROR(IF($C671=\"\",\"\",IF(VLOOKUP($D671,site!$B:$G,6,0)=\"\",\"-\",VLOOKUP($D671,site!$B:$G,6,0))),IF($C671=\"\",\"\",IF(VLOOKUP($E671,site!$B:$G,5,0)=\"\",\"-\",VLOOKUP($E671,site!$B:$G,5,0))))","v":""}]
[null,null,null,null,null,null,null,null,null,null,null,null,null,null,null,null,null,null,{"$f":"IFERROR(IF(C672=\"\",\"\",IF(VLOOKUP(D672,site!$B:$D,3,0)=\"\",\"-\",VLOOKUP(D672,site!$B:$D,3,0))),IF(C672=\"\",\"\",IF(VLOOKUP(E672,site!$C:$D,2,0)=\"\",\"-\",VLOOKUP(E672,site!$C:$D,2,0))))","v":""},{"$f":"IFERROR(IF($C672=\"\",\"\",IF(VLOOKUP($D672,site!$B:$F,4,0)=\"\",\"-\",VLOOKUP($D672,site!$B:$F,4,0))),IF($C672=\"\",\"\",IF(VLOOKUP($E672,site!$B:$F,3,0)=\"\",\"-\",VLOOKUP($E672,site!$B:$F,3,0))))","v":""},{"$f":"IFERROR(IF($C672=\"\",\"\",IF(VLOOKUP($D672,site!$B:$F,5,0)=\"\",\"-\",VLOOKUP($D672,site!$B:$F,5,0))),IF($C672=\"\",\"\",IF(VLOOKUP($E672,site!$B:$F,4,0)=\"\",\"-\",VLOOKUP($E672,site!$B:$F,4,0))))","v":""},{"$f":"IFERROR(IF($C672=\"\",\"\",IF(VLOOKUP($D672,site!$B:$G,6,0)=\"\",\"-\",VLOOKUP($D672,site!$B:$G,6,0))),IF($C672=\"\",\"\",IF(VLOOKUP($E672,site!$B:$G,5,0)=\"\",\"-\",VLOOKUP($E672,site!$B:$G,5,0))))","v":""}]
[null,null,null,null,null,null,null,null,null,null,null,null,null,null,null,null,null,null,{"$f":"IFERROR(IF(C673=\"\",\"\",IF(VLOOKUP(D673,site!$B:$D,3,0)=\"\",\"-\",VLOOKUP(D673,site!$B:$D,3,0))),IF(C673=\"\",\"\",IF(VLOOKUP(E673,site!$C:$D,2,0)=\"\",\"-\",VLOOKUP(E673,site!$C:$D,2,0))))","v":""},{"$f":"IFERROR(IF($C673=\"\",\"\",IF(VLOOKUP($D673,site!$B:$F,4,0)=\"\",\"-\",VLOOKUP($D673,site!$B:$F,4,0))),IF($C673=\"\",\"\",IF(VLOOKUP($E673,site!$B:$F,3,0)=\"\",\"-\",VLOOKUP($E673,site!$B:$F,3,0))))","v":""},{"$f":"IFERROR(IF($C673=\"\",\"\",IF(VLOOKUP($D673,site!$B:$F,5,0)=\"\",\"-\",VLOOKUP($D673,site!$B:$F,5,0))),IF($C673=\"\",\"\",IF(VLOOKUP($E673,site!$B:$F,4,0)=\"\",\"-\",VLOOKUP($E673,site!$B:$F,4,0))))","v":""},{"$f":"IFERROR(IF($C673=\"\",\"\",IF(VLOOKUP($D673,site!$B:$G,6,0)=\"\",\"-\",VLOOKUP($D673,site!$B:$G,6,0))),IF($C673=\"\",\"\",IF(VLOOKUP($E673,site!$B:$G,5,0)=\"\",\"-\",VLOOKUP($E673,site!$B:$G,5,0))))","v":""}]
[null,null,null,null,null,null,null,null,null,null,null,null,null,null,null,null,null,null,{"$f":"IFERROR(IF(C674=\"\",\"\",IF(VLOOKUP(D674,site!$B:$D,3,0)=\"\",\"-\",VLOOKUP(D674,site!$B:$D,3,0))),IF(C674=\"\",\"\",IF(VLOOKUP(E674,site!$C:$D,2,0)=\"\",\"-\",VLOOKUP(E674,site!$C:$D,2,0))))","v":""},{"$f":"IFERROR(IF($C674=\"\",\"\",IF(VLOOKUP($D674,site!$B:$F,4,0)=\"\",\"-\",VLOOKUP($D674,site!$B:$F,4,0))),IF($C674=\"\",\"\",IF(VLOOKUP($E674,site!$B:$F,3,0)=\"\",\"-\",VLOOKUP($E674,site!$B:$F,3,0))))","v":""},{"$f":"IFERROR(IF($C674=\"\",\"\",IF(VLOOKUP($D674,site!$B:$F,5,0)=\"\",\"-\",VLOOKUP($D674,site!$B:$F,5,0))),IF($C674=\"\",\"\",IF(VLOOKUP($E674,site!$B:$F,4,0)=\"\",\"-\",VLOOKUP($E674,site!$B:$F,4,0))))","v":""},{"$f":"IFERROR(IF($C674=\"\",\"\",IF(VLOOKUP($D674,site!$B:$G,6,0)=\"\",\"-\",VLOOKUP($D674,site!$B:$G,6,0))),IF($C674=\"\",\"\",IF(VLOOKUP($E674,site!$B:$G,5,0)=\"\",\"-\",VLOOKUP($E674,site!$B:$G,5,0))))","v":""}]
[null,null,null,null,null,null,null,null,null,null,null,null,null,null,null,null,null,null,{"$f":"IFERROR(IF(C675=\"\",\"\",IF(VLOOKUP(D675,site!$B:$D,3,0)=\"\",\"-\",VLOOKUP(D675,site!$B:$D,3,0))),IF(C675=\"\",\"\",IF(VLOOKUP(E675,site!$C:$D,2,0)=\"\",\"-\",VLOOKUP(E675,site!$C:$D,2,0))))","v":""},{"$f":"IFERROR(IF($C675=\"\",\"\",IF(VLOOKUP($D675,site!$B:$F,4,0)=\"\",\"-\",VLOOKUP($D675,site!$B:$F,4,0))),IF($C675=\"\",\"\",IF(VLOOKUP($E675,site!$B:$F,3,0)=\"\",\"-\",VLOOKUP($E675,site!$B:$F,3,0))))","v":""},{"$f":"IFERROR(IF($C675=\"\",\"\",IF(VLOOKUP($D675,site!$B:$F,5,0)=\"\",\"-\",VLOOKUP($D675,site!$B:$F,5,0))),IF($C675=\"\",\"\",IF(VLOOKUP($E675,site!$B:$F,4,0)=\"\",\"-\",VLOOKUP($E675,site!$B:$F,4,0))))","v":""},{"$f":"IFERROR(IF($C675=\"\",\"\",IF(VLOOKUP($D675,site!$B:$G,6,0)=\"\",\"-\",VLOOKUP($D675,site!$B:$G,6,0))),IF($C675=\"\",\"\",IF(VLOOKUP($E675,site!$B:$G,5,0)=\"\",\"-\",VLOOKUP($E675,site!$B:$G,5,0))))","v":""}]
[null,null,null,null,null,null,null,null,null,null,null,null,null,null,null,null,null,null,{"$f":"IFERROR(IF(C676=\"\",\"\",IF(VLOOKUP(D676,site!$B:$D,3,0)=\"\",\"-\",VLOOKUP(D676,site!$B:$D,3,0))),IF(C676=\"\",\"\",IF(VLOOKUP(E676,site!$C:$D,2,0)=\"\",\"-\",VLOOKUP(E676,site!$C:$D,2,0))))","v":""},{"$f":"IFERROR(IF($C676=\"\",\"\",IF(VLOOKUP($D676,site!$B:$F,4,0)=\"\",\"-\",VLOOKUP($D676,site!$B:$F,4,0))),IF($C676=\"\",\"\",IF(VLOOKUP($E676,site!$B:$F,3,0)=\"\",\"-\",VLOOKUP($E676,site!$B:$F,3,0))))","v":""},{"$f":"IFERROR(IF($C676=\"\",\"\",IF(VLOOKUP($D676,site!$B:$F,5,0)=\"\",\"-\",VLOOKUP($D676,site!$B:$F,5,0))),IF($C676=\"\",\"\",IF(VLOOKUP($E676,site!$B:$F,4,0)=\"\",\"-\",VLOOKUP($E676,site!$B:$F,4,0))))","v":""},{"$f":"IFERROR(IF($C676=\"\",\"\",IF(VLOOKUP($D676,site!$B:$G,6,0)=\"\",\"-\",VLOOKUP($D676,site!$B:$G,6,0))),IF($C676=\"\",\"\",IF(VLOOKUP($E676,site!$B:$G,5,0)=\"\",\"-\",VLOOKUP($E676,site!$B:$G,5,0))))","v":""}]
[null,null,null,null,null,null,null,null,null,null,null,null,null,null,null,null,null,null,{"$f":"IFERROR(IF(C677=\"\",\"\",IF(VLOOKUP(D677,site!$B:$D,3,0)=\"\",\"-\",VLOOKUP(D677,site!$B:$D,3,0))),IF(C677=\"\",\"\",IF(VLOOKUP(E677,site!$C:$D,2,0)=\"\",\"-\",VLOOKUP(E677,site!$C:$D,2,0))))","v":""},{"$f":"IFERROR(IF($C677=\"\",\"\",IF(VLOOKUP($D677,site!$B:$F,4,0)=\"\",\"-\",VLOOKUP($D677,site!$B:$F,4,0))),IF($C677=\"\",\"\",IF(VLOOKUP($E677,site!$B:$F,3,0)=\"\",\"-\",VLOOKUP($E677,site!$B:$F,3,0))))","v":""},{"$f":"IFERROR(IF($C677=\"\",\"\",IF(VLOOKUP($D677,site!$B:$F,5,0)=\"\",\"-\",VLOOKUP($D677,site!$B:$F,5,0))),IF($C677=\"\",\"\",IF(VLOOKUP($E677,site!$B:$F,4,0)=\"\",\"-\",VLOOKUP($E677,site!$B:$F,4,0))))","v":""},{"$f":"IFERROR(IF($C677=\"\",\"\",IF(VLOOKUP($D677,site!$B:$G,6,0)=\"\",\"-\",VLOOKUP($D677,site!$B:$G,6,0))),IF($C677=\"\",\"\",IF(VLOOKUP($E677,site!$B:$G,5,0)=\"\",\"-\",VLOOKUP($E677,site!$B:$G,5,0))))","v":""}]
[null,null,null,null,null,null,null,null,null,null,null,null,null,null,null,null,null,null,{"$f":"IFERROR(IF(C678=\"\",\"\",IF(VLOOKUP(D678,site!$B:$D,3,0)=\"\",\"-\",VLOOKUP(D678,site!$B:$D,3,0))),IF(C678=\"\",\"\",IF(VLOOKUP(E678,site!$C:$D,2,0)=\"\",\"-\",VLOOKUP(E678,site!$C:$D,2,0))))","v":""},{"$f":"IFERROR(IF($C678=\"\",\"\",IF(VLOOKUP($D678,site!$B:$F,4,0)=\"\",\"-\",VLOOKUP($D678,site!$B:$F,4,0))),IF($C678=\"\",\"\",IF(VLOOKUP($E678,site!$B:$F,3,0)=\"\",\"-\",VLOOKUP($E678,site!$B:$F,3,0))))","v":""},{"$f":"IFERROR(IF($C678=\"\",\"\",IF(VLOOKUP($D678,site!$B:$F,5,0)=\"\",\"-\",VLOOKUP($D678,site!$B:$F,5,0))),IF($C678=\"\",\"\",IF(VLOOKUP($E678,site!$B:$F,4,0)=\"\",\"-\",VLOOKUP($E678,site!$B:$F,4,0))))","v":""},{"$f":"IFERROR(IF($C678=\"\",\"\",IF(VLOOKUP($D678,site!$B:$G,6,0)=\"\",\"-\",VLOOKUP($D678,site!$B:$G,6,0))),IF($C678=\"\",\"\",IF(VLOOKUP($E678,site!$B:$G,5,0)=\"\",\"-\",VLOOKUP($E678,site!$B:$G,5,0))))","v":""}]
[null,null,null,null,null,null,null,null,null,null,null,null,null,null,null,null,null,null,{"$f":"IFERROR(IF(C679=\"\",\"\",IF(VLOOKUP(D679,site!$B:$D,3,0)=\"\",\"-\",VLOOKUP(D679,site!$B:$D,3,0))),IF(C679=\"\",\"\",IF(VLOOKUP(E679,site!$C:$D,2,0)=\"\",\"-\",VLOOKUP(E679,site!$C:$D,2,0))))","v":""},{"$f":"IFERROR(IF($C679=\"\",\"\",IF(VLOOKUP($D679,site!$B:$F,4,0)=\"\",\"-\",VLOOKUP($D679,site!$B:$F,4,0))),IF($C679=\"\",\"\",IF(VLOOKUP($E679,site!$B:$F,3,0)=\"\",\"-\",VLOOKUP($E679,site!$B:$F,3,0))))","v":""},{"$f":"IFERROR(IF($C679=\"\",\"\",IF(VLOOKUP($D679,site!$B:$F,5,0)=\"\",\"-\",VLOOKUP($D679,site!$B:$F,5,0))),IF($C679=\"\",\"\",IF(VLOOKUP($E679,site!$B:$F,4,0)=\"\",\"-\",VLOOKUP($E679,site!$B:$F,4,0))))","v":""},{"$f":"IFERROR(IF($C679=\"\",\"\",IF(VLOOKUP($D679,site!$B:$G,6,0)=\"\",\"-\",VLOOKUP($D679,site!$B:$G,6,0))),IF($C679=\"\",\"\",IF(VLOOKUP($E679,site!$B:$G,5,0)=\"\",\"-\",VLOOKUP($E679,site!$B:$G,5,0))))","v":""}]
[null,null,null,null,null,null,null,null,null,null,null,null,null,null,null,null,null,null,{"$f":"IFERROR(IF(C680=\"\",\"\",IF(VLOOKUP(D680,site!$B:$D,3,0)=\"\",\"-\",VLOOKUP(D680,site!$B:$D,3,0))),IF(C680=\"\",\"\",IF(VLOOKUP(E680,site!$C:$D,2,0)=\"\",\"-\",VLOOKUP(E680,site!$C:$D,2,0))))","v":""},{"$f":"IFERROR(IF($C680=\"\",\"\",IF(VLOOKUP($D680,site!$B:$F,4,0)=\"\",\"-\",VLOOKUP($D680,site!$B:$F,4,0))),IF($C680=\"\",\"\",IF(VLOOKUP($E680,site!$B:$F,3,0)=\"\",\"-\",VLOOKUP($E680,site!$B:$F,3,0))))","v":""},{"$f":"IFERROR(IF($C680=\"\",\"\",IF(VLOOKUP($D680,site!$B:$F,5,0)=\"\",\"-\",VLOOKUP($D680,site!$B:$F,5,0))),IF($C680=\"\",\"\",IF(VLOOKUP($E680,site!$B:$F,4,0)=\"\",\"-\",VLOOKUP($E680,site!$B:$F,4,0))))","v":""},{"$f":"IFERROR(IF($C680=\"\",\"\",IF(VLOOKUP($D680,site!$B:$G,6,0)=\"\",\"-\",VLOOKUP($D680,site!$B:$G,6,0))),IF($C680=\"\",\"\",IF(VLOOKUP($E680,site!$B:$G,5,0)=\"\",\"-\",VLOOKUP($E680,site!$B:$G,5,0))))","v":""}]
[null,null,null,null,null,null,null,null,null,null,null,null,null,null,null,null,null,null,{"$f":"IFERROR(IF(C681=\"\",\"\",IF(VLOOKUP(D681,site!$B:$D,3,0)=\"\",\"-\",VLOOKUP(D681,site!$B:$D,3,0))),IF(C681=\"\",\"\",IF(VLOOKUP(E681,site!$C:$D,2,0)=\"\",\"-\",VLOOKUP(E681,site!$C:$D,2,0))))","v":""},{"$f":"IFERROR(IF($C681=\"\",\"\",IF(VLOOKUP($D681,site!$B:$F,4,0)=\"\",\"-\",VLOOKUP($D681,site!$B:$F,4,0))),IF($C681=\"\",\"\",IF(VLOOKUP($E681,site!$B:$F,3,0)=\"\",\"-\",VLOOKUP($E681,site!$B:$F,3,0))))","v":""},{"$f":"IFERROR(IF($C681=\"\",\"\",IF(VLOOKUP($D681,site!$B:$F,5,0)=\"\",\"-\",VLOOKUP($D681,site!$B:$F,5,0))),IF($C681=\"\",\"\",IF(VLOOKUP($E681,site!$B:$F,4,0)=\"\",\"-\",VLOOKUP($E681,site!$B:$F,4,0))))","v":""},{"$f":"IFERROR(IF($C681=\"\",\"\",IF(VLOOKUP($D681,site!$B:$G,6,0)=\"\",\"-\",VLOOKUP($D681,site!$B:$G,6,0))),IF($C681=\"\",\"\",IF(VLOOKUP($E681,site!$B:$G,5,0)=\"\",\"-\",VLOOKUP($E681,site!$B:$G,5,0))))","v":""}]
[null,null,null,null,null,null,null,null,null,null,null,null,null,null,null,null,null,null,{"$f":"IFERROR(IF(C682=\"\",\"\",IF(VLOOKUP(D682,site!$B:$D,3,0)=\"\",\"-\",VLOOKUP(D682,site!$B:$D,3,0))),IF(C682=\"\",\"\",IF(VLOOKUP(E682,site!$C:$D,2,0)=\"\",\"-\",VLOOKUP(E682,site!$C:$D,2,0))))","v":""},{"$f":"IFERROR(IF($C682=\"\",\"\",IF(VLOOKUP($D682,site!$B:$F,4,0)=\"\",\"-\",VLOOKUP($D682,site!$B:$F,4,0))),IF($C682=\"\",\"\",IF(VLOOKUP($E682,site!$B:$F,3,0)=\"\",\"-\",VLOOKUP($E682,site!$B:$F,3,0))))","v":""},{"$f":"IFERROR(IF($C682=\"\",\"\",IF(VLOOKUP($D682,site!$B:$F,5,0)=\"\",\"-\",VLOOKUP($D682,site!$B:$F,5,0))),IF($C682=\"\",\"\",IF(VLOOKUP($E682,site!$B:$F,4,0)=\"\",\"-\",VLOOKUP($E682,site!$B:$F,4,0))))","v":""},{"$f":"IFERROR(IF($C682=\"\",\"\",IF(VLOOKUP($D682,site!$B:$G,6,0)=\"\",\"-\",VLOOKUP($D682,site!$B:$G,6,0))),IF($C682=\"\",\"\",IF(VLOOKUP($E682,site!$B:$G,5,0)=\"\",\"-\",VLOOKUP($E682,site!$B:$G,5,0))))","v":""}]
[null,null,null,null,null,null,null,null,null,null,null,null,null,null,null,null,null,null,{"$f":"IFERROR(IF(C683=\"\",\"\",IF(VLOOKUP(D683,site!$B:$D,3,0)=\"\",\"-\",VLOOKUP(D683,site!$B:$D,3,0))),IF(C683=\"\",\"\",IF(VLOOKUP(E683,site!$C:$D,2,0)=\"\",\"-\",VLOOKUP(E683,site!$C:$D,2,0))))","v":""},{"$f":"IFERROR(IF($C683=\"\",\"\",IF(VLOOKUP($D683,site!$B:$F,4,0)=\"\",\"-\",VLOOKUP($D683,site!$B:$F,4,0))),IF($C683=\"\",\"\",IF(VLOOKUP($E683,site!$B:$F,3,0)=\"\",\"-\",VLOOKUP($E683,site!$B:$F,3,0))))","v":""},{"$f":"IFERROR(IF($C683=\"\",\"\",IF(VLOOKUP($D683,site!$B:$F,5,0)=\"\",\"-\",VLOOKUP($D683,site!$B:$F,5,0))),IF($C683=\"\",\"\",IF(VLOOKUP($E683,site!$B:$F,4,0)=\"\",\"-\",VLOOKUP($E683,site!$B:$F,4,0))))","v":""},{"$f":"IFERROR(IF($C683=\"\",\"\",IF(VLOOKUP($D683,site!$B:$G,6,0)=\"\",\"-\",VLOOKUP($D683,site!$B:$G,6,0))),IF($C683=\"\",\"\",IF(VLOOKUP($E683,site!$B:$G,5,0)=\"\",\"-\",VLOOKUP($E683,site!$B:$G,5,0))))","v":""}]
[null,null,null,null,null,null,null,null,null,null,null,null,null,null,null,null,null,null,{"$f":"IFERROR(IF(C684=\"\",\"\",IF(VLOOKUP(D684,site!$B:$D,3,0)=\"\",\"-\",VLOOKUP(D684,site!$B:$D,3,0))),IF(C684=\"\",\"\",IF(VLOOKUP(E684,site!$C:$D,2,0)=\"\",\"-\",VLOOKUP(E684,site!$C:$D,2,0))))","v":""},{"$f":"IFERROR(IF($C684=\"\",\"\",IF(VLOOKUP($D684,site!$B:$F,4,0)=\"\",\"-\",VLOOKUP($D684,site!$B:$F,4,0))),IF($C684=\"\",\"\",IF(VLOOKUP($E684,site!$B:$F,3,0)=\"\",\"-\",VLOOKUP($E684,site!$B:$F,3,0))))","v":""},{"$f":"IFERROR(IF($C684=\"\",\"\",IF(VLOOKUP($D684,site!$B:$F,5,0)=\"\",\"-\",VLOOKUP($D684,site!$B:$F,5,0))),IF($C684=\"\",\"\",IF(VLOOKUP($E684,site!$B:$F,4,0)=\"\",\"-\",VLOOKUP($E684,site!$B:$F,4,0))))","v":""},{"$f":"IFERROR(IF($C684=\"\",\"\",IF(VLOOKUP($D684,site!$B:$G,6,0)=\"\",\"-\",VLOOKUP($D684,site!$B:$G,6,0))),IF($C684=\"\",\"\",IF(VLOOKUP($E684,site!$B:$G,5,0)=\"\",\"-\",VLOOKUP($E684,site!$B:$G,5,0))))","v":""}]
[null,null,null,null,null,null,null,null,null,null,null,null,null,null,null,null,null,null,{"$f":"IFERROR(IF(C685=\"\",\"\",IF(VLOOKUP(D685,site!$B:$D,3,0)=\"\",\"-\",VLOOKUP(D685,site!$B:$D,3,0))),IF(C685=\"\",\"\",IF(VLOOKUP(E685,site!$C:$D,2,0)=\"\",\"-\",VLOOKUP(E685,site!$C:$D,2,0))))","v":""},{"$f":"IFERROR(IF($C685=\"\",\"\",IF(VLOOKUP($D685,site!$B:$F,4,0)=\"\",\"-\",VLOOKUP($D685,site!$B:$F,4,0))),IF($C685=\"\",\"\",IF(VLOOKUP($E685,site!$B:$F,3,0)=\"\",\"-\",VLOOKUP($E685,site!$B:$F,3,0))))","v":""},{"$f":"IFERROR(IF($C685=\"\",\"\",IF(VLOOKUP($D685,site!$B:$F,5,0)=\"\",\"-\",VLOOKUP($D685,site!$B:$F,5,0))),IF($C685=\"\",\"\",IF(VLOOKUP($E685,site!$B:$F,4,0)=\"\",\"-\",VLOOKUP($E685,site!$B:$F,4,0))))","v":""},{"$f":"IFERROR(IF($C685=\"\",\"\",IF(VLOOKUP($D685,site!$B:$G,6,0)=\"\",\"-\",VLOOKUP($D685,site!$B:$G,6,0))),IF($C685=\"\",\"\",IF(VLOOKUP($E685,site!$B:$G,5,0)=\"\",\"-\",VLOOKUP($E685,site!$B:$G,5,0))))","v":""}]
[null,null,null,null,null,null,null,null,null,null,null,null,null,null,null,null,null,null,{"$f":"IFERROR(IF(C686=\"\",\"\",IF(VLOOKUP(D686,site!$B:$D,3,0)=\"\",\"-\",VLOOKUP(D686,site!$B:$D,3,0))),IF(C686=\"\",\"\",IF(VLOOKUP(E686,site!$C:$D,2,0)=\"\",\"-\",VLOOKUP(E686,site!$C:$D,2,0))))","v":""},{"$f":"IFERROR(IF($C686=\"\",\"\",IF(VLOOKUP($D686,site!$B:$F,4,0)=\"\",\"-\",VLOOKUP($D686,site!$B:$F,4,0))),IF($C686=\"\",\"\",IF(VLOOKUP($E686,site!$B:$F,3,0)=\"\",\"-\",VLOOKUP($E686,site!$B:$F,3,0))))","v":""},{"$f":"IFERROR(IF($C686=\"\",\"\",IF(VLOOKUP($D686,site!$B:$F,5,0)=\"\",\"-\",VLOOKUP($D686,site!$B:$F,5,0))),IF($C686=\"\",\"\",IF(VLOOKUP($E686,site!$B:$F,4,0)=\"\",\"-\",VLOOKUP($E686,site!$B:$F,4,0))))","v":""},{"$f":"IFERROR(IF($C686=\"\",\"\",IF(VLOOKUP($D686,site!$B:$G,6,0)=\"\",\"-\",VLOOKUP($D686,site!$B:$G,6,0))),IF($C686=\"\",\"\",IF(VLOOKUP($E686,site!$B:$G,5,0)=\"\",\"-\",VLOOKUP($E686,site!$B:$G,5,0))))","v":""}]
[null,null,null,null,null,null,null,null,null,null,null,null,null,null,null,null,null,null,{"$f":"IFERROR(IF(C687=\"\",\"\",IF(VLOOKUP(D687,site!$B:$D,3,0)=\"\",\"-\",VLOOKUP(D687,site!$B:$D,3,0))),IF(C687=\"\",\"\",IF(VLOOKUP(E687,site!$C:$D,2,0)=\"\",\"-\",VLOOKUP(E687,site!$C:$D,2,0))))","v":""},{"$f":"IFERROR(IF($C687=\"\",\"\",IF(VLOOKUP($D687,site!$B:$F,4,0)=\"\",\"-\",VLOOKUP($D687,site!$B:$F,4,0))),IF($C687=\"\",\"\",IF(VLOOKUP($E687,site!$B:$F,3,0)=\"\",\"-\",VLOOKUP($E687,site!$B:$F,3,0))))","v":""},{"$f":"IFERROR(IF($C687=\"\",\"\",IF(VLOOKUP($D687,site!$B:$F,5,0)=\"\",\"-\",VLOOKUP($D687,site!$B:$F,5,0))),IF($C687=\"\",\"\",IF(VLOOKUP($E687,site!$B:$F,4,0)=\"\",\"-\",VLOOKUP($E687,site!$B:$F,4,0))))","v":""},{"$f":"IFERROR(IF($C687=\"\",\"\",IF(VLOOKUP($D687,site!$B:$G,6,0)=\"\",\"-\",VLOOKUP($D687,site!$B:$G,6,0))),IF($C687=\"\",\"\",IF(VLOOKUP($E687,site!$B:$G,5,0)=\"\",\"-\",VLOOKUP($E687,site!$B:$G,5,0))))","v":""}]
[null,null,null,null,null,null,null,null,null,null,null,null,null,null,null,null,null,null,{"$f":"IFERROR(IF(C688=\"\",\"\",IF(VLOOKUP(D688,site!$B:$D,3,0)=\"\",\"-\",VLOOKUP(D688,site!$B:$D,3,0))),IF(C688=\"\",\"\",IF(VLOOKUP(E688,site!$C:$D,2,0)=\"\",\"-\",VLOOKUP(E688,site!$C:$D,2,0))))","v":""},{"$f":"IFERROR(IF($C688=\"\",\"\",IF(VLOOKUP($D688,site!$B:$F,4,0)=\"\",\"-\",VLOOKUP($D688,site!$B:$F,4,0))),IF($C688=\"\",\"\",IF(VLOOKUP($E688,site!$B:$F,3,0)=\"\",\"-\",VLOOKUP($E688,site!$B:$F,3,0))))","v":""},{"$f":"IFERROR(IF($C688=\"\",\"\",IF(VLOOKUP($D688,site!$B:$F,5,0)=\"\",\"-\",VLOOKUP($D688,site!$B:$F,5,0))),IF($C688=\"\",\"\",IF(VLOOKUP($E688,site!$B:$F,4,0)=\"\",\"-\",VLOOKUP($E688,site!$B:$F,4,0))))","v":""},{"$f":"IFERROR(IF($C688=\"\",\"\",IF(VLOOKUP($D688,site!$B:$G,6,0)=\"\",\"-\",VLOOKUP($D688,site!$B:$G,6,0))),IF($C688=\"\",\"\",IF(VLOOKUP($E688,site!$B:$G,5,0)=\"\",\"-\",VLOOKUP($E688,site!$B:$G,5,0))))","v":""}]
[null,null,null,null,null,null,null,null,null,null,null,null,null,null,null,null,null,null,{"$f":"IFERROR(IF(C689=\"\",\"\",IF(VLOOKUP(D689,site!$B:$D,3,0)=\"\",\"-\",VLOOKUP(D689,site!$B:$D,3,0))),IF(C689=\"\",\"\",IF(VLOOKUP(E689,site!$C:$D,2,0)=\"\",\"-\",VLOOKUP(E689,site!$C:$D,2,0))))","v":""},{"$f":"IFERROR(IF($C689=\"\",\"\",IF(VLOOKUP($D689,site!$B:$F,4,0)=\"\",\"-\",VLOOKUP($D689,site!$B:$F,4,0))),IF($C689=\"\",\"\",IF(VLOOKUP($E689,site!$B:$F,3,0)=\"\",\"-\",VLOOKUP($E689,site!$B:$F,3,0))))","v":""},{"$f":"IFERROR(IF($C689=\"\",\"\",IF(VLOOKUP($D689,site!$B:$F,5,0)=\"\",\"-\",VLOOKUP($D689,site!$B:$F,5,0))),IF($C689=\"\",\"\",IF(VLOOKUP($E689,site!$B:$F,4,0)=\"\",\"-\",VLOOKUP($E689,site!$B:$F,4,0))))","v":""},{"$f":"IFERROR(IF($C689=\"\",\"\",IF(VLOOKUP($D689,site!$B:$G,6,0)=\"\",\"-\",VLOOKUP($D689,site!$B:$G,6,0))),IF($C689=\"\",\"\",IF(VLOOKUP($E689,site!$B:$G,5,0)=\"\",\"-\",VLOOKUP($E689,site!$B:$G,5,0))))","v":""}]
[null,null,null,null,null,null,null,null,null,null,null,null,null,null,null,null,null,null,{"$f":"IFERROR(IF(C690=\"\",\"\",IF(VLOOKUP(D690,site!$B:$D,3,0)=\"\",\"-\",VLOOKUP(D690,site!$B:$D,3,0))),IF(C690=\"\",\"\",IF(VLOOKUP(E690,site!$C:$D,2,0)=\"\",\"-\",VLOOKUP(E690,site!$C:$D,2,0))))","v":""},{"$f":"IFERROR(IF($C690=\"\",\"\",IF(VLOOKUP($D690,site!$B:$F,4,0)=\"\",\"-\",VLOOKUP($D690,site!$B:$F,4,0))),IF($C690=\"\",\"\",IF(VLOOKUP($E690,site!$B:$F,3,0)=\"\",\"-\",VLOOKUP($E690,site!$B:$F,3,0))))","v":""},{"$f":"IFERROR(IF($C690=\"\",\"\",IF(VLOOKUP($D690,site!$B:$F,5,0)=\"\",\"-\",VLOOKUP($D690,site!$B:$F,5,0))),IF($C690=\"\",\"\",IF(VLOOKUP($E690,site!$B:$F,4,0)=\"\",\"-\",VLOOKUP($E690,site!$B:$F,4,0))))","v":""},{"$f":"IFERROR(IF($C690=\"\",\"\",IF(VLOOKUP($D690,site!$B:$G,6,0)=\"\",\"-\",VLOOKUP($D690,site!$B:$G,6,0))),IF($C690=\"\",\"\",IF(VLOOKUP($E690,site!$B:$G,5,0)=\"\",\"-\",VLOOKUP($E690,site!$B:$G,5,0))))","v":""}]
[null,null,null,null,null,null,null,null,null,null,null,null,null,null,null,null,null,null,{"$f":"IFERROR(IF(C691=\"\",\"\",IF(VLOOKUP(D691,site!$B:$D,3,0)=\"\",\"-\",VLOOKUP(D691,site!$B:$D,3,0))),IF(C691=\"\",\"\",IF(VLOOKUP(E691,site!$C:$D,2,0)=\"\",\"-\",VLOOKUP(E691,site!$C:$D,2,0))))","v":""},{"$f":"IFERROR(IF($C691=\"\",\"\",IF(VLOOKUP($D691,site!$B:$F,4,0)=\"\",\"-\",VLOOKUP($D691,site!$B:$F,4,0))),IF($C691=\"\",\"\",IF(VLOOKUP($E691,site!$B:$F,3,0)=\"\",\"-\",VLOOKUP($E691,site!$B:$F,3,0))))","v":""},{"$f":"IFERROR(IF($C691=\"\",\"\",IF(VLOOKUP($D691,site!$B:$F,5,0)=\"\",\"-\",VLOOKUP($D691,site!$B:$F,5,0))),IF($C691=\"\",\"\",IF(VLOOKUP($E691,site!$B:$F,4,0)=\"\",\"-\",VLOOKUP($E691,site!$B:$F,4,0))))","v":""},{"$f":"IFERROR(IF($C691=\"\",\"\",IF(VLOOKUP($D691,site!$B:$G,6,0)=\"\",\"-\",VLOOKUP($D691,site!$B:$G,6,0))),IF($C691=\"\",\"\",IF(VLOOKUP($E691,site!$B:$G,5,0)=\"\",\"-\",VLOOKUP($E691,site!$B:$G,5,0))))","v":""}]
[null,null,null,null,null,null,null,null,null,null,null,null,null,null,null,null,null,null,{"$f":"IFERROR(IF(C692=\"\",\"\",IF(VLOOKUP(D692,site!$B:$D,3,0)=\"\",\"-\",VLOOKUP(D692,site!$B:$D,3,0))),IF(C692=\"\",\"\",IF(VLOOKUP(E692,site!$C:$D,2,0)=\"\",\"-\",VLOOKUP(E692,site!$C:$D,2,0))))","v":""},{"$f":"IFERROR(IF($C692=\"\",\"\",IF(VLOOKUP($D692,site!$B:$F,4,0)=\"\",\"-\",VLOOKUP($D692,site!$B:$F,4,0))),IF($C692=\"\",\"\",IF(VLOOKUP($E692,site!$B:$F,3,0)=\"\",\"-\",VLOOKUP($E692,site!$B:$F,3,0))))","v":""},{"$f":"IFERROR(IF($C692=\"\",\"\",IF(VLOOKUP($D692,site!$B:$F,5,0)=\"\",\"-\",VLOOKUP($D692,site!$B:$F,5,0))),IF($C692=\"\",\"\",IF(VLOOKUP($E692,site!$B:$F,4,0)=\"\",\"-\",VLOOKUP($E692,site!$B:$F,4,0))))","v":""},{"$f":"IFERROR(IF($C692=\"\",\"\",IF(VLOOKUP($D692,site!$B:$G,6,0)=\"\",\"-\",VLOOKUP($D692,site!$B:$G,6,0))),IF($C692=\"\",\"\",IF(VLOOKUP($E692,site!$B:$G,5,0)=\"\",\"-\",VLOOKUP($E692,site!$B:$G,5,0))))","v":""}]
[null,null,null,null,null,null,null,null,null,null,null,null,null,null,null,null,null,null,{"$f":"IFERROR(IF(C693=\"\",\"\",IF(VLOOKUP(D693,site!$B:$D,3,0)=\"\",\"-\",VLOOKUP(D693,site!$B:$D,3,0))),IF(C693=\"\",\"\",IF(VLOOKUP(E693,site!$C:$D,2,0)=\"\",\"-\",VLOOKUP(E693,site!$C:$D,2,0))))","v":""},{"$f":"IFERROR(IF($C693=\"\",\"\",IF(VLOOKUP($D693,site!$B:$F,4,0)=\"\",\"-\",VLOOKUP($D693,site!$B:$F,4,0))),IF($C693=\"\",\"\",IF(VLOOKUP($E693,site!$B:$F,3,0)=\"\",\"-\",VLOOKUP($E693,site!$B:$F,3,0))))","v":""},{"$f":"IFERROR(IF($C693=\"\",\"\",IF(VLOOKUP($D693,site!$B:$F,5,0)=\"\",\"-\",VLOOKUP($D693,site!$B:$F,5,0))),IF($C693=\"\",\"\",IF(VLOOKUP($E693,site!$B:$F,4,0)=\"\",\"-\",VLOOKUP($E693,site!$B:$F,4,0))))","v":""},{"$f":"IFERROR(IF($C693=\"\",\"\",IF(VLOOKUP($D693,site!$B:$G,6,0)=\"\",\"-\",VLOOKUP($D693,site!$B:$G,6,0))),IF($C693=\"\",\"\",IF(VLOOKUP($E693,site!$B:$G,5,0)=\"\",\"-\",VLOOKUP($E693,site!$B:$G,5,0))))","v":""}]
[null,null,null,null,null,null,null,null,null,null,null,null,null,null,null,null,null,null,{"$f":"IFERROR(IF(C694=\"\",\"\",IF(VLOOKUP(D694,site!$B:$D,3,0)=\"\",\"-\",VLOOKUP(D694,site!$B:$D,3,0))),IF(C694=\"\",\"\",IF(VLOOKUP(E694,site!$C:$D,2,0)=\"\",\"-\",VLOOKUP(E694,site!$C:$D,2,0))))","v":""},{"$f":"IFERROR(IF($C694=\"\",\"\",IF(VLOOKUP($D694,site!$B:$F,4,0)=\"\",\"-\",VLOOKUP($D694,site!$B:$F,4,0))),IF($C694=\"\",\"\",IF(VLOOKUP($E694,site!$B:$F,3,0)=\"\",\"-\",VLOOKUP($E694,site!$B:$F,3,0))))","v":""},{"$f":"IFERROR(IF($C694=\"\",\"\",IF(VLOOKUP($D694,site!$B:$F,5,0)=\"\",\"-\",VLOOKUP($D694,site!$B:$F,5,0))),IF($C694=\"\",\"\",IF(VLOOKUP($E694,site!$B:$F,4,0)=\"\",\"-\",VLOOKUP($E694,site!$B:$F,4,0))))","v":""},{"$f":"IFERROR(IF($C694=\"\",\"\",IF(VLOOKUP($D694,site!$B:$G,6,0)=\"\",\"-\",VLOOKUP($D694,site!$B:$G,6,0))),IF($C694=\"\",\"\",IF(VLOOKUP($E694,site!$B:$G,5,0)=\"\",\"-\",VLOOKUP($E694,site!$B:$G,5,0))))","v":""}]
[null,null,null,null,null,null,null,null,null,null,null,null,null,null,null,null,null,null,{"$f":"IFERROR(IF(C695=\"\",\"\",IF(VLOOKUP(D695,site!$B:$D,3,0)=\"\",\"-\",VLOOKUP(D695,site!$B:$D,3,0))),IF(C695=\"\",\"\",IF(VLOOKUP(E695,site!$C:$D,2,0)=\"\",\"-\",VLOOKUP(E695,site!$C:$D,2,0))))","v":""},{"$f":"IFERROR(IF($C695=\"\",\"\",IF(VLOOKUP($D695,site!$B:$F,4,0)=\"\",\"-\",VLOOKUP($D695,site!$B:$F,4,0))),IF($C695=\"\",\"\",IF(VLOOKUP($E695,site!$B:$F,3,0)=\"\",\"-\",VLOOKUP($E695,site!$B:$F,3,0))))","v":""},{"$f":"IFERROR(IF($C695=\"\",\"\",IF(VLOOKUP($D695,site!$B:$F,5,0)=\"\",\"-\",VLOOKUP($D695,site!$B:$F,5,0))),IF($C695=\"\",\"\",IF(VLOOKUP($E695,site!$B:$F,4,0)=\"\",\"-\",VLOOKUP($E695,site!$B:$F,4,0))))","v":""},{"$f":"IFERROR(IF($C695=\"\",\"\",IF(VLOOKUP($D695,site!$B:$G,6,0)=\"\",\"-\",VLOOKUP($D695,site!$B:$G,6,0))),IF($C695=\"\",\"\",IF(VLOOKUP($E695,site!$B:$G,5,0)=\"\",\"-\",VLOOKUP($E695,site!$B:$G,5,0))))","v":""}]
[null,null,null,null,null,null,null,null,null,null,null,null,null,null,null,null,null,null,{"$f":"IFERROR(IF(C696=\"\",\"\",IF(VLOOKUP(D696,site!$B:$D,3,0)=\"\",\"-\",VLOOKUP(D696,site!$B:$D,3,0))),IF(C696=\"\",\"\",IF(VLOOKUP(E696,site!$C:$D,2,0)=\"\",\"-\",VLOOKUP(E696,site!$C:$D,2,0))))","v":""},{"$f":"IFERROR(IF($C696=\"\",\"\",IF(VLOOKUP($D696,site!$B:$F,4,0)=\"\",\"-\",VLOOKUP($D696,site!$B:$F,4,0))),IF($C696=\"\",\"\",IF(VLOOKUP($E696,site!$B:$F,3,0)=\"\",\"-\",VLOOKUP($E696,site!$B:$F,3,0))))","v":""},{"$f":"IFERROR(IF($C696=\"\",\"\",IF(VLOOKUP($D696,site!$B:$F,5,0)=\"\",\"-\",VLOOKUP($D696,site!$B:$F,5,0))),IF($C696=\"\",\"\",IF(VLOOKUP($E696,site!$B:$F,4,0)=\"\",\"-\",VLOOKUP($E696,site!$B:$F,4,0))))","v":""},{"$f":"IFERROR(IF($C696=\"\",\"\",IF(VLOOKUP($D696,site!$B:$G,6,0)=\"\",\"-\",VLOOKUP($D696,site!$B:$G,6,0))),IF($C696=\"\",\"\",IF(VLOOKUP($E696,site!$B:$G,5,0)=\"\",\"-\",VLOOKUP($E696,site!$B:$G,5,0))))","v":""}]
[null,null,null,null,null,null,null,null,null,null,null,null,null,null,null,null,null,null,{"$f":"IFERROR(IF(C697=\"\",\"\",IF(VLOOKUP(D697,site!$B:$D,3,0)=\"\",\"-\",VLOOKUP(D697,site!$B:$D,3,0))),IF(C697=\"\",\"\",IF(VLOOKUP(E697,site!$C:$D,2,0)=\"\",\"-\",VLOOKUP(E697,site!$C:$D,2,0))))","v":""},{"$f":"IFERROR(IF($C697=\"\",\"\",IF(VLOOKUP($D697,site!$B:$F,4,0)=\"\",\"-\",VLOOKUP($D697,site!$B:$F,4,0))),IF($C697=\"\",\"\",IF(VLOOKUP($E697,site!$B:$F,3,0)=\"\",\"-\",VLOOKUP($E697,site!$B:$F,3,0))))","v":""},{"$f":"IFERROR(IF($C697=\"\",\"\",IF(VLOOKUP($D697,site!$B:$F,5,0)=\"\",\"-\",VLOOKUP($D697,site!$B:$F,5,0))),IF($C697=\"\",\"\",IF(VLOOKUP($E697,site!$B:$F,4,0)=\"\",\"-\",VLOOKUP($E697,site!$B:$F,4,0))))","v":""},{"$f":"IFERROR(IF($C697=\"\",\"\",IF(VLOOKUP($D697,site!$B:$G,6,0)=\"\",\"-\",VLOOKUP($D697,site!$B:$G,6,0))),IF($C697=\"\",\"\",IF(VLOOKUP($E697,site!$B:$G,5,0)=\"\",\"-\",VLOOKUP($E697,site!$B:$G,5,0))))","v":""}]
[null,null,null,null,null,null,null,null,null,null,null,null,null,null,null,null,null,null,{"$f":"IFERROR(IF(C698=\"\",\"\",IF(VLOOKUP(D698,site!$B:$D,3,0)=\"\",\"-\",VLOOKUP(D698,site!$B:$D,3,0))),IF(C698=\"\",\"\",IF(VLOOKUP(E698,site!$C:$D,2,0)=\"\",\"-\",VLOOKUP(E698,site!$C:$D,2,0))))","v":""},{"$f":"IFERROR(IF($C698=\"\",\"\",IF(VLOOKUP($D698,site!$B:$F,4,0)=\"\",\"-\",VLOOKUP($D698,site!$B:$F,4,0))),IF($C698=\"\",\"\",IF(VLOOKUP($E698,site!$B:$F,3,0)=\"\",\"-\",VLOOKUP($E698,site!$B:$F,3,0))))","v":""},{"$f":"IFERROR(IF($C698=\"\",\"\",IF(VLOOKUP($D698,site!$B:$F,5,0)=\"\",\"-\",VLOOKUP($D698,site!$B:$F,5,0))),IF($C698=\"\",\"\",IF(VLOOKUP($E698,site!$B:$F,4,0)=\"\",\"-\",VLOOKUP($E698,site!$B:$F,4,0))))","v":""},{"$f":"IFERROR(IF($C698=\"\",\"\",IF(VLOOKUP($D698,site!$B:$G,6,0)=\"\",\"-\",VLOOKUP($D698,site!$B:$G,6,0))),IF($C698=\"\",\"\",IF(VLOOKUP($E698,site!$B:$G,5,0)=\"\",\"-\",VLOOKUP($E698,site!$B:$G,5,0))))","v":""}]
[null,null,null,null,null,null,null,null,null,null,null,null,null,null,null,null,null,null,{"$f":"IFERROR(IF(C699=\"\",\"\",IF(VLOOKUP(D699,site!$B:$D,3,0)=\"\",\"-\",VLOOKUP(D699,site!$B:$D,3,0))),IF(C699=\"\",\"\",IF(VLOOKUP(E699,site!$C:$D,2,0)=\"\",\"-\",VLOOKUP(E699,site!$C:$D,2,0))))","v":""},{"$f":"IFERROR(IF($C699=\"\",\"\",IF(VLOOKUP($D699,site!$B:$F,4,0)=\"\",\"-\",VLOOKUP($D699,site!$B:$F,4,0))),IF($C699=\"\",\"\",IF(VLOOKUP($E699,site!$B:$F,3,0)=\"\",\"-\",VLOOKUP($E699,site!$B:$F,3,0))))","v":""},{"$f":"IFERROR(IF($C699=\"\",\"\",IF(VLOOKUP($D699,site!$B:$F,5,0)=\"\",\"-\",VLOOKUP($D699,site!$B:$F,5,0))),IF($C699=\"\",\"\",IF(VLOOKUP($E699,site!$B:$F,4,0)=\"\",\"-\",VLOOKUP($E699,site!$B:$F,4,0))))","v":""},{"$f":"IFERROR(IF($C699=\"\",\"\",IF(VLOOKUP($D699,site!$B:$G,6,0)=\"\",\"-\",VLOOKUP($D699,site!$B:$G,6,0))),IF($C699=\"\",\"\",IF(VLOOKUP($E699,site!$B:$G,5,0)=\"\",\"-\",VLOOKUP($E699,site!$B:$G,5,0))))","v":""}]
[null,null,null,null,null,null,null,null,null,null,null,null,null,null,null,null,null,null,{"$f":"IFERROR(IF(C700=\"\",\"\",IF(VLOOKUP(D700,site!$B:$D,3,0)=\"\",\"-\",VLOOKUP(D700,site!$B:$D,3,0))),IF(C700=\"\",\"\",IF(VLOOKUP(E700,site!$C:$D,2,0)=\"\",\"-\",VLOOKUP(E700,site!$C:$D,2,0))))","v":""},{"$f":"IFERROR(IF($C700=\"\",\"\",IF(VLOOKUP($D700,site!$B:$F,4,0)=\"\",\"-\",VLOOKUP($D700,site!$B:$F,4,0))),IF($C700=\"\",\"\",IF(VLOOKUP($E700,site!$B:$F,3,0)=\"\",\"-\",VLOOKUP($E700,site!$B:$F,3,0))))","v":""},{"$f":"IFERROR(IF($C700=\"\",\"\",IF(VLOOKUP($D700,site!$B:$F,5,0)=\"\",\"-\",VLOOKUP($D700,site!$B:$F,5,0))),IF($C700=\"\",\"\",IF(VLOOKUP($E700,site!$B:$F,4,0)=\"\",\"-\",VLOOKUP($E700,site!$B:$F,4,0))))","v":""},{"$f":"IFERROR(IF($C700=\"\",\"\",IF(VLOOKUP($D700,site!$B:$G,6,0)=\"\",\"-\",VLOOKUP($D700,site!$B:$G,6,0))),IF($C700=\"\",\"\",IF(VLOOKUP($E700,site!$B:$G,5,0)=\"\",\"-\",VLOOKUP($E700,site!$B:$G,5,0))))","v":""}]
[null,null,null,null,null,null,null,null,null,null,null,null,null,null,null,null,null,null,{"$f":"IFERROR(IF(C701=\"\",\"\",IF(VLOOKUP(D701,site!$B:$D,3,0)=\"\",\"-\",VLOOKUP(D701,site!$B:$D,3,0))),IF(C701=\"\",\"\",IF(VLOOKUP(E701,site!$C:$D,2,0)=\"\",\"-\",VLOOKUP(E701,site!$C:$D,2,0))))","v":""},{"$f":"IFERROR(IF($C701=\"\",\"\",IF(VLOOKUP($D701,site!$B:$F,4,0)=\"\",\"-\",VLOOKUP($D701,site!$B:$F,4,0))),IF($C701=\"\",\"\",IF(VLOOKUP($E701,site!$B:$F,3,0)=\"\",\"-\",VLOOKUP($E701,site!$B:$F,3,0))))","v":""},{"$f":"IFERROR(IF($C701=\"\",\"\",IF(VLOOKUP($D701,site!$B:$F,5,0)=\"\",\"-\",VLOOKUP($D701,site!$B:$F,5,0))),IF($C701=\"\",\"\",IF(VLOOKUP($E701,site!$B:$F,4,0)=\"\",\"-\",VLOOKUP($E701,site!$B:$F,4,0))))","v":""},{"$f":"IFERROR(IF($C701=\"\",\"\",IF(VLOOKUP($D701,site!$B:$G,6,0)=\"\",\"-\",VLOOKUP($D701,site!$B:$G,6,0))),IF($C701=\"\",\"\",IF(VLOOKUP($E701,site!$B:$G,5,0)=\"\",\"-\",VLOOKUP($E701,site!$B:$G,5,0))))","v":""}]
[null,null,null,null,null,null,null,null,null,null,null,null,null,null,null,null,null,null,{"$f":"IFERROR(IF(C702=\"\",\"\",IF(VLOOKUP(D702,site!$B:$D,3,0)=\"\",\"-\",VLOOKUP(D702,site!$B:$D,3,0))),IF(C702=\"\",\"\",IF(VLOOKUP(E702,site!$C:$D,2,0)=\"\",\"-\",VLOOKUP(E702,site!$C:$D,2,0))))","v":""},{"$f":"IFERROR(IF($C702=\"\",\"\",IF(VLOOKUP($D702,site!$B:$F,4,0)=\"\",\"-\",VLOOKUP($D702,site!$B:$F,4,0))),IF($C702=\"\",\"\",IF(VLOOKUP($E702,site!$B:$F,3,0)=\"\",\"-\",VLOOKUP($E702,site!$B:$F,3,0))))","v":""},{"$f":"IFERROR(IF($C702=\"\",\"\",IF(VLOOKUP($D702,site!$B:$F,5,0)=\"\",\"-\",VLOOKUP($D702,site!$B:$F,5,0))),IF($C702=\"\",\"\",IF(VLOOKUP($E702,site!$B:$F,4,0)=\"\",\"-\",VLOOKUP($E702,site!$B:$F,4,0))))","v":""},{"$f":"IFERROR(IF($C702=\"\",\"\",IF(VLOOKUP($D702,site!$B:$G,6,0)=\"\",\"-\",VLOOKUP($D702,site!$B:$G,6,0))),IF($C702=\"\",\"\",IF(VLOOKUP($E702,site!$B:$G,5,0)=\"\",\"-\",VLOOKUP($E702,site!$B:$G,5,0))))","v":""}]
[null,null,null,null,null,null,null,null,null,null,null,null,null,null,null,null,null,null,{"$f":"IFERROR(IF(C703=\"\",\"\",IF(VLOOKUP(D703,site!$B:$D,3,0)=\"\",\"-\",VLOOKUP(D703,site!$B:$D,3,0))),IF(C703=\"\",\"\",IF(VLOOKUP(E703,site!$C:$D,2,0)=\"\",\"-\",VLOOKUP(E703,site!$C:$D,2,0))))","v":""},{"$f":"IFERROR(IF($C703=\"\",\"\",IF(VLOOKUP($D703,site!$B:$F,4,0)=\"\",\"-\",VLOOKUP($D703,site!$B:$F,4,0))),IF($C703=\"\",\"\",IF(VLOOKUP($E703,site!$B:$F,3,0)=\"\",\"-\",VLOOKUP($E703,site!$B:$F,3,0))))","v":""},{"$f":"IFERROR(IF($C703=\"\",\"\",IF(VLOOKUP($D703,site!$B:$F,5,0)=\"\",\"-\",VLOOKUP($D703,site!$B:$F,5,0))),IF($C703=\"\",\"\",IF(VLOOKUP($E703,site!$B:$F,4,0)=\"\",\"-\",VLOOKUP($E703,site!$B:$F,4,0))))","v":""},{"$f":"IFERROR(IF($C703=\"\",\"\",IF(VLOOKUP($D703,site!$B:$G,6,0)=\"\",\"-\",VLOOKUP($D703,site!$B:$G,6,0))),IF($C703=\"\",\"\",IF(VLOOKUP($E703,site!$B:$G,5,0)=\"\",\"-\",VLOOKUP($E703,site!$B:$G,5,0))))","v":""}]
[null,null,null,null,null,null,null,null,null,null,null,null,null,null,null,null,null,null,{"$f":"IFERROR(IF(C704=\"\",\"\",IF(VLOOKUP(D704,site!$B:$D,3,0)=\"\",\"-\",VLOOKUP(D704,site!$B:$D,3,0))),IF(C704=\"\",\"\",IF(VLOOKUP(E704,site!$C:$D,2,0)=\"\",\"-\",VLOOKUP(E704,site!$C:$D,2,0))))","v":""},{"$f":"IFERROR(IF($C704=\"\",\"\",IF(VLOOKUP($D704,site!$B:$F,4,0)=\"\",\"-\",VLOOKUP($D704,site!$B:$F,4,0))),IF($C704=\"\",\"\",IF(VLOOKUP($E704,site!$B:$F,3,0)=\"\",\"-\",VLOOKUP($E704,site!$B:$F,3,0))))","v":""},{"$f":"IFERROR(IF($C704=\"\",\"\",IF(VLOOKUP($D704,site!$B:$F,5,0)=\"\",\"-\",VLOOKUP($D704,site!$B:$F,5,0))),IF($C704=\"\",\"\",IF(VLOOKUP($E704,site!$B:$F,4,0)=\"\",\"-\",VLOOKUP($E704,site!$B:$F,4,0))))","v":""},{"$f":"IFERROR(IF($C704=\"\",\"\",IF(VLOOKUP($D704,site!$B:$G,6,0)=\"\",\"-\",VLOOKUP($D704,site!$B:$G,6,0))),IF($C704=\"\",\"\",IF(VLOOKUP($E704,site!$B:$G,5,0)=\"\",\"-\",VLOOKUP($E704,site!$B:$G,5,0))))","v":""}]
[null,null,null,null,null,null,null,null,null,null,null,null,null,null,null,null,null,null,{"$f":"IFERROR(IF(C705=\"\",\"\",IF(VLOOKUP(D705,site!$B:$D,3,0)=\"\",\"-\",VLOOKUP(D705,site!$B:$D,3,0))),IF(C705=\"\",\"\",IF(VLOOKUP(E705,site!$C:$D,2,0)=\"\",\"-\",VLOOKUP(E705,site!$C:$D,2,0))))","v":""},{"$f":"IFERROR(IF($C705=\"\",\"\",IF(VLOOKUP($D705,site!$B:$F,4,0)=\"\",\"-\",VLOOKUP($D705,site!$B:$F,4,0))),IF($C705=\"\",\"\",IF(VLOOKUP($E705,site!$B:$F,3,0)=\"\",\"-\",VLOOKUP($E705,site!$B:$F,3,0))))","v":""},{"$f":"IFERROR(IF($C705=\"\",\"\",IF(VLOOKUP($D705,site!$B:$F,5,0)=\"\",\"-\",VLOOKUP($D705,site!$B:$F,5,0))),IF($C705=\"\",\"\",IF(VLOOKUP($E705,site!$B:$F,4,0)=\"\",\"-\",VLOOKUP($E705,site!$B:$F,4,0))))","v":""},{"$f":"IFERROR(IF($C705=\"\",\"\",IF(VLOOKUP($D705,site!$B:$G,6,0)=\"\",\"-\",VLOOKUP($D705,site!$B:$G,6,0))),IF($C705=\"\",\"\",IF(VLOOKUP($E705,site!$B:$G,5,0)=\"\",\"-\",VLOOKUP($E705,site!$B:$G,5,0))))","v":""}]
[null,null,null,null,null,null,null,null,null,null,null,null,null,null,null,null,null,null,{"$f":"IFERROR(IF(C706=\"\",\"\",IF(VLOOKUP(D706,site!$B:$D,3,0)=\"\",\"-\",VLOOKUP(D706,site!$B:$D,3,0))),IF(C706=\"\",\"\",IF(VLOOKUP(E706,site!$C:$D,2,0)=\"\",\"-\",VLOOKUP(E706,site!$C:$D,2,0))))","v":""},{"$f":"IFERROR(IF($C706=\"\",\"\",IF(VLOOKUP($D706,site!$B:$F,4,0)=\"\",\"-\",VLOOKUP($D706,site!$B:$F,4,0))),IF($C706=\"\",\"\",IF(VLOOKUP($E706,site!$B:$F,3,0)=\"\",\"-\",VLOOKUP($E706,site!$B:$F,3,0))))","v":""},{"$f":"IFERROR(IF($C706=\"\",\"\",IF(VLOOKUP($D706,site!$B:$F,5,0)=\"\",\"-\",VLOOKUP($D706,site!$B:$F,5,0))),IF($C706=\"\",\"\",IF(VLOOKUP($E706,site!$B:$F,4,0)=\"\",\"-\",VLOOKUP($E706,site!$B:$F,4,0))))","v":""},{"$f":"IFERROR(IF($C706=\"\",\"\",IF(VLOOKUP($D706,site!$B:$G,6,0)=\"\",\"-\",VLOOKUP($D706,site!$B:$G,6,0))),IF($C706=\"\",\"\",IF(VLOOKUP($E706,site!$B:$G,5,0)=\"\",\"-\",VLOOKUP($E706,site!$B:$G,5,0))))","v":""}]
[null,null,null,null,null,null,null,null,null,null,null,null,null,null,null,null,null,null,{"$f":"IFERROR(IF(C707=\"\",\"\",IF(VLOOKUP(D707,site!$B:$D,3,0)=\"\",\"-\",VLOOKUP(D707,site!$B:$D,3,0))),IF(C707=\"\",\"\",IF(VLOOKUP(E707,site!$C:$D,2,0)=\"\",\"-\",VLOOKUP(E707,site!$C:$D,2,0))))","v":""},{"$f":"IFERROR(IF($C707=\"\",\"\",IF(VLOOKUP($D707,site!$B:$F,4,0)=\"\",\"-\",VLOOKUP($D707,site!$B:$F,4,0))),IF($C707=\"\",\"\",IF(VLOOKUP($E707,site!$B:$F,3,0)=\"\",\"-\",VLOOKUP($E707,site!$B:$F,3,0))))","v":""},{"$f":"IFERROR(IF($C707=\"\",\"\",IF(VLOOKUP($D707,site!$B:$F,5,0)=\"\",\"-\",VLOOKUP($D707,site!$B:$F,5,0))),IF($C707=\"\",\"\",IF(VLOOKUP($E707,site!$B:$F,4,0)=\"\",\"-\",VLOOKUP($E707,site!$B:$F,4,0))))","v":""},{"$f":"IFERROR(IF($C707=\"\",\"\",IF(VLOOKUP($D707,site!$B:$G,6,0)=\"\",\"-\",VLOOKUP($D707,site!$B:$G,6,0))),IF($C707=\"\",\"\",IF(VLOOKUP($E707,site!$B:$G,5,0)=\"\",\"-\",VLOOKUP($E707,site!$B:$G,5,0))))","v":""}]
[null,null,null,null,null,null,null,null,null,null,null,null,null,null,null,null,null,null,{"$f":"IFERROR(IF(C708=\"\",\"\",IF(VLOOKUP(D708,site!$B:$D,3,0)=\"\",\"-\",VLOOKUP(D708,site!$B:$D,3,0))),IF(C708=\"\",\"\",IF(VLOOKUP(E708,site!$C:$D,2,0)=\"\",\"-\",VLOOKUP(E708,site!$C:$D,2,0))))","v":""},{"$f":"IFERROR(IF($C708=\"\",\"\",IF(VLOOKUP($D708,site!$B:$F,4,0)=\"\",\"-\",VLOOKUP($D708,site!$B:$F,4,0))),IF($C708=\"\",\"\",IF(VLOOKUP($E708,site!$B:$F,3,0)=\"\",\"-\",VLOOKUP($E708,site!$B:$F,3,0))))","v":""},{"$f":"IFERROR(IF($C708=\"\",\"\",IF(VLOOKUP($D708,site!$B:$F,5,0)=\"\",\"-\",VLOOKUP($D708,site!$B:$F,5,0))),IF($C708=\"\",\"\",IF(VLOOKUP($E708,site!$B:$F,4,0)=\"\",\"-\",VLOOKUP($E708,site!$B:$F,4,0))))","v":""},{"$f":"IFERROR(IF($C708=\"\",\"\",IF(VLOOKUP($D708,site!$B:$G,6,0)=\"\",\"-\",VLOOKUP($D708,site!$B:$G,6,0))),IF($C708=\"\",\"\",IF(VLOOKUP($E708,site!$B:$G,5,0)=\"\",\"-\",VLOOKUP($E708,site!$B:$G,5,0))))","v":""}]
[null,null,null,null,null,null,null,null,null,null,null,null,null,null,null,null,null,null,{"$f":"IFERROR(IF(C709=\"\",\"\",IF(VLOOKUP(D709,site!$B:$D,3,0)=\"\",\"-\",VLOOKUP(D709,site!$B:$D,3,0))),IF(C709=\"\",\"\",IF(VLOOKUP(E709,site!$C:$D,2,0)=\"\",\"-\",VLOOKUP(E709,site!$C:$D,2,0))))","v":""},{"$f":"IFERROR(IF($C709=\"\",\"\",IF(VLOOKUP($D709,site!$B:$F,4,0)=\"\",\"-\",VLOOKUP($D709,site!$B:$F,4,0))),IF($C709=\"\",\"\",IF(VLOOKUP($E709,site!$B:$F,3,0)=\"\",\"-\",VLOOKUP($E709,site!$B:$F,3,0))))","v":""},{"$f":"IFERROR(IF($C709=\"\",\"\",IF(VLOOKUP($D709,site!$B:$F,5,0)=\"\",\"-\",VLOOKUP($D709,site!$B:$F,5,0))),IF($C709=\"\",\"\",IF(VLOOKUP($E709,site!$B:$F,4,0)=\"\",\"-\",VLOOKUP($E709,site!$B:$F,4,0))))","v":""},{"$f":"IFERROR(IF($C709=\"\",\"\",IF(VLOOKUP($D709,site!$B:$G,6,0)=\"\",\"-\",VLOOKUP($D709,site!$B:$G,6,0))),IF($C709=\"\",\"\",IF(VLOOKUP($E709,site!$B:$G,5,0)=\"\",\"-\",VLOOKUP($E709,site!$B:$G,5,0))))","v":""}]
[null,null,null,null,null,null,null,null,null,null,null,null,null,null,null,null,null,null,{"$f":"IFERROR(IF(C710=\"\",\"\",IF(VLOOKUP(D710,site!$B:$D,3,0)=\"\",\"-\",VLOOKUP(D710,site!$B:$D,3,0))),IF(C710=\"\",\"\",IF(VLOOKUP(E710,site!$C:$D,2,0)=\"\",\"-\",VLOOKUP(E710,site!$C:$D,2,0))))","v":""},{"$f":"IFERROR(IF($C710=\"\",\"\",IF(VLOOKUP($D710,site!$B:$F,4,0)=\"\",\"-\",VLOOKUP($D710,site!$B:$F,4,0))),IF($C710=\"\",\"\",IF(VLOOKUP($E710,site!$B:$F,3,0)=\"\",\"-\",VLOOKUP($E710,site!$B:$F,3,0))))","v":""},{"$f":"IFERROR(IF($C710=\"\",\"\",IF(VLOOKUP($D710,site!$B:$F,5,0)=\"\",\"-\",VLOOKUP($D710,site!$B:$F,5,0))),IF($C710=\"\",\"\",IF(VLOOKUP($E710,site!$B:$F,4,0)=\"\",\"-\",VLOOKUP($E710,site!$B:$F,4,0))))","v":""},{"$f":"IFERROR(IF($C710=\"\",\"\",IF(VLOOKUP($D710,site!$B:$G,6,0)=\"\",\"-\",VLOOKUP($D710,site!$B:$G,6,0))),IF($C710=\"\",\"\",IF(VLOOKUP($E710,site!$B:$G,5,0)=\"\",\"-\",VLOOKUP($E710,site!$B:$G,5,0))))","v":""}]
[null,null,null,null,null,null,null,null,null,null,null,null,null,null,null,null,null,null,{"$f":"IFERROR(IF(C711=\"\",\"\",IF(VLOOKUP(D711,site!$B:$D,3,0)=\"\",\"-\",VLOOKUP(D711,site!$B:$D,3,0))),IF(C711=\"\",\"\",IF(VLOOKUP(E711,site!$C:$D,2,0)=\"\",\"-\",VLOOKUP(E711,site!$C:$D,2,0))))","v":""},{"$f":"IFERROR(IF($C711=\"\",\"\",IF(VLOOKUP($D711,site!$B:$F,4,0)=\"\",\"-\",VLOOKUP($D711,site!$B:$F,4,0))),IF($C711=\"\",\"\",IF(VLOOKUP($E711,site!$B:$F,3,0)=\"\",\"-\",VLOOKUP($E711,site!$B:$F,3,0))))","v":""},{"$f":"IFERROR(IF($C711=\"\",\"\",IF(VLOOKUP($D711,site!$B:$F,5,0)=\"\",\"-\",VLOOKUP($D711,site!$B:$F,5,0))),IF($C711=\"\",\"\",IF(VLOOKUP($E711,site!$B:$F,4,0)=\"\",\"-\",VLOOKUP($E711,site!$B:$F,4,0))))","v":""},{"$f":"IFERROR(IF($C711=\"\",\"\",IF(VLOOKUP($D711,site!$B:$G,6,0)=\"\",\"-\",VLOOKUP($D711,site!$B:$G,6,0))),IF($C711=\"\",\"\",IF(VLOOKUP($E711,site!$B:$G,5,0)=\"\",\"-\",VLOOKUP($E711,site!$B:$G,5,0))))","v":""}]
[null,null,null,null,null,null,null,null,null,null,null,null,null,null,null,null,null,null,{"$f":"IFERROR(IF(C712=\"\",\"\",IF(VLOOKUP(D712,site!$B:$D,3,0)=\"\",\"-\",VLOOKUP(D712,site!$B:$D,3,0))),IF(C712=\"\",\"\",IF(VLOOKUP(E712,site!$C:$D,2,0)=\"\",\"-\",VLOOKUP(E712,site!$C:$D,2,0))))","v":""},{"$f":"IFERROR(IF($C712=\"\",\"\",IF(VLOOKUP($D712,site!$B:$F,4,0)=\"\",\"-\",VLOOKUP($D712,site!$B:$F,4,0))),IF($C712=\"\",\"\",IF(VLOOKUP($E712,site!$B:$F,3,0)=\"\",\"-\",VLOOKUP($E712,site!$B:$F,3,0))))","v":""},{"$f":"IFERROR(IF($C712=\"\",\"\",IF(VLOOKUP($D712,site!$B:$F,5,0)=\"\",\"-\",VLOOKUP($D712,site!$B:$F,5,0))),IF($C712=\"\",\"\",IF(VLOOKUP($E712,site!$B:$F,4,0)=\"\",\"-\",VLOOKUP($E712,site!$B:$F,4,0))))","v":""},{"$f":"IFERROR(IF($C712=\"\",\"\",IF(VLOOKUP($D712,site!$B:$G,6,0)=\"\",\"-\",VLOOKUP($D712,site!$B:$G,6,0))),IF($C712=\"\",\"\",IF(VLOOKUP($E712,site!$B:$G,5,0)=\"\",\"-\",VLOOKUP($E712,site!$B:$G,5,0))))","v":""}]
[null,null,null,null,null,null,null,null,null,null,null,null,null,null,null,null,null,null,{"$f":"IFERROR(IF(C713=\"\",\"\",IF(VLOOKUP(D713,site!$B:$D,3,0)=\"\",\"-\",VLOOKUP(D713,site!$B:$D,3,0))),IF(C713=\"\",\"\",IF(VLOOKUP(E713,site!$C:$D,2,0)=\"\",\"-\",VLOOKUP(E713,site!$C:$D,2,0))))","v":""},{"$f":"IFERROR(IF($C713=\"\",\"\",IF(VLOOKUP($D713,site!$B:$F,4,0)=\"\",\"-\",VLOOKUP($D713,site!$B:$F,4,0))),IF($C713=\"\",\"\",IF(VLOOKUP($E713,site!$B:$F,3,0)=\"\",\"-\",VLOOKUP($E713,site!$B:$F,3,0))))","v":""},{"$f":"IFERROR(IF($C713=\"\",\"\",IF(VLOOKUP($D713,site!$B:$F,5,0)=\"\",\"-\",VLOOKUP($D713,site!$B:$F,5,0))),IF($C713=\"\",\"\",IF(VLOOKUP($E713,site!$B:$F,4,0)=\"\",\"-\",VLOOKUP($E713,site!$B:$F,4,0))))","v":""},{"$f":"IFERROR(IF($C713=\"\",\"\",IF(VLOOKUP($D713,site!$B:$G,6,0)=\"\",\"-\",VLOOKUP($D713,site!$B:$G,6,0))),IF($C713=\"\",\"\",IF(VLOOKUP($E713,site!$B:$G,5,0)=\"\",\"-\",VLOOKUP($E713,site!$B:$G,5,0))))","v":""}]
[null,null,null,null,null,null,null,null,null,null,null,null,null,null,null,null,null,null,{"$f":"IFERROR(IF(C714=\"\",\"\",IF(VLOOKUP(D714,site!$B:$D,3,0)=\"\",\"-\",VLOOKUP(D714,site!$B:$D,3,0))),IF(C714=\"\",\"\",IF(VLOOKUP(E714,site!$C:$D,2,0)=\"\",\"-\",VLOOKUP(E714,site!$C:$D,2,0))))","v":""},{"$f":"IFERROR(IF($C714=\"\",\"\",IF(VLOOKUP($D714,site!$B:$F,4,0)=\"\",\"-\",VLOOKUP($D714,site!$B:$F,4,0))),IF($C714=\"\",\"\",IF(VLOOKUP($E714,site!$B:$F,3,0)=\"\",\"-\",VLOOKUP($E714,site!$B:$F,3,0))))","v":""},{"$f":"IFERROR(IF($C714=\"\",\"\",IF(VLOOKUP($D714,site!$B:$F,5,0)=\"\",\"-\",VLOOKUP($D714,site!$B:$F,5,0))),IF($C714=\"\",\"\",IF(VLOOKUP($E714,site!$B:$F,4,0)=\"\",\"-\",VLOOKUP($E714,site!$B:$F,4,0))))","v":""},{"$f":"IFERROR(IF($C714=\"\",\"\",IF(VLOOKUP($D714,site!$B:$G,6,0)=\"\",\"-\",VLOOKUP($D714,site!$B:$G,6,0))),IF($C714=\"\",\"\",IF(VLOOKUP($E714,site!$B:$G,5,0)=\"\",\"-\",VLOOKUP($E714,site!$B:$G,5,0))))","v":""}]
[null,null,null,null,null,null,null,null,null,null,null,null,null,null,null,null,null,null,{"$f":"IFERROR(IF(C715=\"\",\"\",IF(VLOOKUP(D715,site!$B:$D,3,0)=\"\",\"-\",VLOOKUP(D715,site!$B:$D,3,0))),IF(C715=\"\",\"\",IF(VLOOKUP(E715,site!$C:$D,2,0)=\"\",\"-\",VLOOKUP(E715,site!$C:$D,2,0))))","v":""},{"$f":"IFERROR(IF($C715=\"\",\"\",IF(VLOOKUP($D715,site!$B:$F,4,0)=\"\",\"-\",VLOOKUP($D715,site!$B:$F,4,0))),IF($C715=\"\",\"\",IF(VLOOKUP($E715,site!$B:$F,3,0)=\"\",\"-\",VLOOKUP($E715,site!$B:$F,3,0))))","v":""},{"$f":"IFERROR(IF($C715=\"\",\"\",IF(VLOOKUP($D715,site!$B:$F,5,0)=\"\",\"-\",VLOOKUP($D715,site!$B:$F,5,0))),IF($C715=\"\",\"\",IF(VLOOKUP($E715,site!$B:$F,4,0)=\"\",\"-\",VLOOKUP($E715,site!$B:$F,4,0))))","v":""},{"$f":"IFERROR(IF($C715=\"\",\"\",IF(VLOOKUP($D715,site!$B:$G,6,0)=\"\",\"-\",VLOOKUP($D715,site!$B:$G,6,0))),IF($C715=\"\",\"\",IF(VLOOKUP($E715,site!$B:$G,5,0)=\"\",\"-\",VLOOKUP($E715,site!$B:$G,5,0))))","v":""}]
[null,null,null,null,null,null,null,null,null,null,null,null,null,null,null,null,null,null,{"$f":"IFERROR(IF(C716=\"\",\"\",IF(VLOOKUP(D716,site!$B:$D,3,0)=\"\",\"-\",VLOOKUP(D716,site!$B:$D,3,0))),IF(C716=\"\",\"\",IF(VLOOKUP(E716,site!$C:$D,2,0)=\"\",\"-\",VLOOKUP(E716,site!$C:$D,2,0))))","v":""},{"$f":"IFERROR(IF($C716=\"\",\"\",IF(VLOOKUP($D716,site!$B:$F,4,0)=\"\",\"-\",VLOOKUP($D716,site!$B:$F,4,0))),IF($C716=\"\",\"\",IF(VLOOKUP($E716,site!$B:$F,3,0)=\"\",\"-\",VLOOKUP($E716,site!$B:$F,3,0))))","v":""},{"$f":"IFERROR(IF($C716=\"\",\"\",IF(VLOOKUP($D716,site!$B:$F,5,0)=\"\",\"-\",VLOOKUP($D716,site!$B:$F,5,0))),IF($C716=\"\",\"\",IF(VLOOKUP($E716,site!$B:$F,4,0)=\"\",\"-\",VLOOKUP($E716,site!$B:$F,4,0))))","v":""},{"$f":"IFERROR(IF($C716=\"\",\"\",IF(VLOOKUP($D716,site!$B:$G,6,0)=\"\",\"-\",VLOOKUP($D716,site!$B:$G,6,0))),IF($C716=\"\",\"\",IF(VLOOKUP($E716,site!$B:$G,5,0)=\"\",\"-\",VLOOKUP($E716,site!$B:$G,5,0))))","v":""}]
[null,null,null,null,null,null,null,null,null,null,null,null,null,null,null,null,null,null,{"$f":"IFERROR(IF(C717=\"\",\"\",IF(VLOOKUP(D717,site!$B:$D,3,0)=\"\",\"-\",VLOOKUP(D717,site!$B:$D,3,0))),IF(C717=\"\",\"\",IF(VLOOKUP(E717,site!$C:$D,2,0)=\"\",\"-\",VLOOKUP(E717,site!$C:$D,2,0))))","v":""},{"$f":"IFERROR(IF($C717=\"\",\"\",IF(VLOOKUP($D717,site!$B:$F,4,0)=\"\",\"-\",VLOOKUP($D717,site!$B:$F,4,0))),IF($C717=\"\",\"\",IF(VLOOKUP($E717,site!$B:$F,3,0)=\"\",\"-\",VLOOKUP($E717,site!$B:$F,3,0))))","v":""},{"$f":"IFERROR(IF($C717=\"\",\"\",IF(VLOOKUP($D717,site!$B:$F,5,0)=\"\",\"-\",VLOOKUP($D717,site!$B:$F,5,0))),IF($C717=\"\",\"\",IF(VLOOKUP($E717,site!$B:$F,4,0)=\"\",\"-\",VLOOKUP($E717,site!$B:$F,4,0))))","v":""},{"$f":"IFERROR(IF($C717=\"\",\"\",IF(VLOOKUP($D717,site!$B:$G,6,0)=\"\",\"-\",VLOOKUP($D717,site!$B:$G,6,0))),IF($C717=\"\",\"\",IF(VLOOKUP($E717,site!$B:$G,5,0)=\"\",\"-\",VLOOKUP($E717,site!$B:$G,5,0))))","v":""}]
[null,null,null,null,null,null,null,null,null,null,null,null,null,null,null,null,null,null,{"$f":"IFERROR(IF(C718=\"\",\"\",IF(VLOOKUP(D718,site!$B:$D,3,0)=\"\",\"-\",VLOOKUP(D718,site!$B:$D,3,0))),IF(C718=\"\",\"\",IF(VLOOKUP(E718,site!$C:$D,2,0)=\"\",\"-\",VLOOKUP(E718,site!$C:$D,2,0))))","v":""},{"$f":"IFERROR(IF($C718=\"\",\"\",IF(VLOOKUP($D718,site!$B:$F,4,0)=\"\",\"-\",VLOOKUP($D718,site!$B:$F,4,0))),IF($C718=\"\",\"\",IF(VLOOKUP($E718,site!$B:$F,3,0)=\"\",\"-\",VLOOKUP($E718,site!$B:$F,3,0))))","v":""},{"$f":"IFERROR(IF($C718=\"\",\"\",IF(VLOOKUP($D718,site!$B:$F,5,0)=\"\",\"-\",VLOOKUP($D718,site!$B:$F,5,0))),IF($C718=\"\",\"\",IF(VLOOKUP($E718,site!$B:$F,4,0)=\"\",\"-\",VLOOKUP($E718,site!$B:$F,4,0))))","v":""},{"$f":"IFERROR(IF($C718=\"\",\"\",IF(VLOOKUP($D718,site!$B:$G,6,0)=\"\",\"-\",VLOOKUP($D718,site!$B:$G,6,0))),IF($C718=\"\",\"\",IF(VLOOKUP($E718,site!$B:$G,5,0)=\"\",\"-\",VLOOKUP($E718,site!$B:$G,5,0))))","v":""}]
[null,null,null,null,null,null,null,null,null,null,null,null,null,null,null,null,null,null,{"$f":"IFERROR(IF(C719=\"\",\"\",IF(VLOOKUP(D719,site!$B:$D,3,0)=\"\",\"-\",VLOOKUP(D719,site!$B:$D,3,0))),IF(C719=\"\",\"\",IF(VLOOKUP(E719,site!$C:$D,2,0)=\"\",\"-\",VLOOKUP(E719,site!$C:$D,2,0))))","v":""},{"$f":"IFERROR(IF($C719=\"\",\"\",IF(VLOOKUP($D719,site!$B:$F,4,0)=\"\",\"-\",VLOOKUP($D719,site!$B:$F,4,0))),IF($C719=\"\",\"\",IF(VLOOKUP($E719,site!$B:$F,3,0)=\"\",\"-\",VLOOKUP($E719,site!$B:$F,3,0))))","v":""},{"$f":"IFERROR(IF($C719=\"\",\"\",IF(VLOOKUP($D719,site!$B:$F,5,0)=\"\",\"-\",VLOOKUP($D719,site!$B:$F,5,0))),IF($C719=\"\",\"\",IF(VLOOKUP($E719,site!$B:$F,4,0)=\"\",\"-\",VLOOKUP($E719,site!$B:$F,4,0))))","v":""},{"$f":"IFERROR(IF($C719=\"\",\"\",IF(VLOOKUP($D719,site!$B:$G,6,0)=\"\",\"-\",VLOOKUP($D719,site!$B:$G,6,0))),IF($C719=\"\",\"\",IF(VLOOKUP($E719,site!$B:$G,5,0)=\"\",\"-\",VLOOKUP($E719,site!$B:$G,5,0))))","v":""}]
[null,null,null,null,null,null,null,null,null,null,null,null,null,null,null,null,null,null,{"$f":"IFERROR(IF(C720=\"\",\"\",IF(VLOOKUP(D720,site!$B:$D,3,0)=\"\",\"-\",VLOOKUP(D720,site!$B:$D,3,0))),IF(C720=\"\",\"\",IF(VLOOKUP(E720,site!$C:$D,2,0)=\"\",\"-\",VLOOKUP(E720,site!$C:$D,2,0))))","v":""},{"$f":"IFERROR(IF($C720=\"\",\"\",IF(VLOOKUP($D720,site!$B:$F,4,0)=\"\",\"-\",VLOOKUP($D720,site!$B:$F,4,0))),IF($C720=\"\",\"\",IF(VLOOKUP($E720,site!$B:$F,3,0)=\"\",\"-\",VLOOKUP($E720,site!$B:$F,3,0))))","v":""},{"$f":"IFERROR(IF($C720=\"\",\"\",IF(VLOOKUP($D720,site!$B:$F,5,0)=\"\",\"-\",VLOOKUP($D720,site!$B:$F,5,0))),IF($C720=\"\",\"\",IF(VLOOKUP($E720,site!$B:$F,4,0)=\"\",\"-\",VLOOKUP($E720,site!$B:$F,4,0))))","v":""},{"$f":"IFERROR(IF($C720=\"\",\"\",IF(VLOOKUP($D720,site!$B:$G,6,0)=\"\",\"-\",VLOOKUP($D720,site!$B:$G,6,0))),IF($C720=\"\",\"\",IF(VLOOKUP($E720,site!$B:$G,5,0)=\"\",\"-\",VLOOKUP($E720,site!$B:$G,5,0))))","v":""}]
[null,null,null,null,null,null,null,null,null,null,null,null,null,null,null,null,null,null,{"$f":"IFERROR(IF(C721=\"\",\"\",IF(VLOOKUP(D721,site!$B:$D,3,0)=\"\",\"-\",VLOOKUP(D721,site!$B:$D,3,0))),IF(C721=\"\",\"\",IF(VLOOKUP(E721,site!$C:$D,2,0)=\"\",\"-\",VLOOKUP(E721,site!$C:$D,2,0))))","v":""},{"$f":"IFERROR(IF($C721=\"\",\"\",IF(VLOOKUP($D721,site!$B:$F,4,0)=\"\",\"-\",VLOOKUP($D721,site!$B:$F,4,0))),IF($C721=\"\",\"\",IF(VLOOKUP($E721,site!$B:$F,3,0)=\"\",\"-\",VLOOKUP($E721,site!$B:$F,3,0))))","v":""},{"$f":"IFERROR(IF($C721=\"\",\"\",IF(VLOOKUP($D721,site!$B:$F,5,0)=\"\",\"-\",VLOOKUP($D721,site!$B:$F,5,0))),IF($C721=\"\",\"\",IF(VLOOKUP($E721,site!$B:$F,4,0)=\"\",\"-\",VLOOKUP($E721,site!$B:$F,4,0))))","v":""},{"$f":"IFERROR(IF($C721=\"\",\"\",IF(VLOOKUP($D721,site!$B:$G,6,0)=\"\",\"-\",VLOOKUP($D721,site!$B:$G,6,0))),IF($C721=\"\",\"\",IF(VLOOKUP($E721,site!$B:$G,5,0)=\"\",\"-\",VLOOKUP($E721,site!$B:$G,5,0))))","v":""}]
[null,null,null,null,null,null,null,null,null,null,null,null,null,null,null,null,null,null,{"$f":"IFERROR(IF(C722=\"\",\"\",IF(VLOOKUP(D722,site!$B:$D,3,0)=\"\",\"-\",VLOOKUP(D722,site!$B:$D,3,0))),IF(C722=\"\",\"\",IF(VLOOKUP(E722,site!$C:$D,2,0)=\"\",\"-\",VLOOKUP(E722,site!$C:$D,2,0))))","v":""},{"$f":"IFERROR(IF($C722=\"\",\"\",IF(VLOOKUP($D722,site!$B:$F,4,0)=\"\",\"-\",VLOOKUP($D722,site!$B:$F,4,0))),IF($C722=\"\",\"\",IF(VLOOKUP($E722,site!$B:$F,3,0)=\"\",\"-\",VLOOKUP($E722,site!$B:$F,3,0))))","v":""},{"$f":"IFERROR(IF($C722=\"\",\"\",IF(VLOOKUP($D722,site!$B:$F,5,0)=\"\",\"-\",VLOOKUP($D722,site!$B:$F,5,0))),IF($C722=\"\",\"\",IF(VLOOKUP($E722,site!$B:$F,4,0)=\"\",\"-\",VLOOKUP($E722,site!$B:$F,4,0))))","v":""},{"$f":"IFERROR(IF($C722=\"\",\"\",IF(VLOOKUP($D722,site!$B:$G,6,0)=\"\",\"-\",VLOOKUP($D722,site!$B:$G,6,0))),IF($C722=\"\",\"\",IF(VLOOKUP($E722,site!$B:$G,5,0)=\"\",\"-\",VLOOKUP($E722,site!$B:$G,5,0))))","v":""}]
[null,null,null,null,null,null,null,null,null,null,null,null,null,null,null,null,null,null,{"$f":"IFERROR(IF(C723=\"\",\"\",IF(VLOOKUP(D723,site!$B:$D,3,0)=\"\",\"-\",VLOOKUP(D723,site!$B:$D,3,0))),IF(C723=\"\",\"\",IF(VLOOKUP(E723,site!$C:$D,2,0)=\"\",\"-\",VLOOKUP(E723,site!$C:$D,2,0))))","v":""},{"$f":"IFERROR(IF($C723=\"\",\"\",IF(VLOOKUP($D723,site!$B:$F,4,0)=\"\",\"-\",VLOOKUP($D723,site!$B:$F,4,0))),IF($C723=\"\",\"\",IF(VLOOKUP($E723,site!$B:$F,3,0)=\"\",\"-\",VLOOKUP($E723,site!$B:$F,3,0))))","v":""},{"$f":"IFERROR(IF($C723=\"\",\"\",IF(VLOOKUP($D723,site!$B:$F,5,0)=\"\",\"-\",VLOOKUP($D723,site!$B:$F,5,0))),IF($C723=\"\",\"\",IF(VLOOKUP($E723,site!$B:$F,4,0)=\"\",\"-\",VLOOKUP($E723,site!$B:$F,4,0))))","v":""},{"$f":"IFERROR(IF($C723=\"\",\"\",IF(VLOOKUP($D723,site!$B:$G,6,0)=\"\",\"-\",VLOOKUP($D723,site!$B:$G,6,0))),IF($C723=\"\",\"\",IF(VLOOKUP($E723,site!$B:$G,5,0)=\"\",\"-\",VLOOKUP($E723,site!$B:$G,5,0))))","v":""}]
[null,null,null,null,null,null,null,null,null,null,null,null,null,null,null,null,null,null,{"$f":"IFERROR(IF(C724=\"\",\"\",IF(VLOOKUP(D724,site!$B:$D,3,0)=\"\",\"-\",VLOOKUP(D724,site!$B:$D,3,0))),IF(C724=\"\",\"\",IF(VLOOKUP(E724,site!$C:$D,2,0)=\"\",\"-\",VLOOKUP(E724,site!$C:$D,2,0))))","v":""},{"$f":"IFERROR(IF($C724=\"\",\"\",IF(VLOOKUP($D724,site!$B:$F,4,0)=\"\",\"-\",VLOOKUP($D724,site!$B:$F,4,0))),IF($C724=\"\",\"\",IF(VLOOKUP($E724,site!$B:$F,3,0)=\"\",\"-\",VLOOKUP($E724,site!$B:$F,3,0))))","v":""},{"$f":"IFERROR(IF($C724=\"\",\"\",IF(VLOOKUP($D724,site!$B:$F,5,0)=\"\",\"-\",VLOOKUP($D724,site!$B:$F,5,0))),IF($C724=\"\",\"\",IF(VLOOKUP($E724,site!$B:$F,4,0)=\"\",\"-\",VLOOKUP($E724,site!$B:$F,4,0))))","v":""},{"$f":"IFERROR(IF($C724=\"\",\"\",IF(VLOOKUP($D724,site!$B:$G,6,0)=\"\",\"-\",VLOOKUP($D724,site!$B:$G,6,0))),IF($C724=\"\",\"\",IF(VLOOKUP($E724,site!$B:$G,5,0)=\"\",\"-\",VLOOKUP($E724,site!$B:$G,5,0))))","v":""}]
[null,null,null,null,null,null,null,null,null,null,null,null,null,null,null,null,null,null,{"$f":"IFERROR(IF(C725=\"\",\"\",IF(VLOOKUP(D725,site!$B:$D,3,0)=\"\",\"-\",VLOOKUP(D725,site!$B:$D,3,0))),IF(C725=\"\",\"\",IF(VLOOKUP(E725,site!$C:$D,2,0)=\"\",\"-\",VLOOKUP(E725,site!$C:$D,2,0))))","v":""},{"$f":"IFERROR(IF($C725=\"\",\"\",IF(VLOOKUP($D725,site!$B:$F,4,0)=\"\",\"-\",VLOOKUP($D725,site!$B:$F,4,0))),IF($C725=\"\",\"\",IF(VLOOKUP($E725,site!$B:$F,3,0)=\"\",\"-\",VLOOKUP($E725,site!$B:$F,3,0))))","v":""},{"$f":"IFERROR(IF($C725=\"\",\"\",IF(VLOOKUP($D725,site!$B:$F,5,0)=\"\",\"-\",VLOOKUP($D725,site!$B:$F,5,0))),IF($C725=\"\",\"\",IF(VLOOKUP($E725,site!$B:$F,4,0)=\"\",\"-\",VLOOKUP($E725,site!$B:$F,4,0))))","v":""},{"$f":"IFERROR(IF($C725=\"\",\"\",IF(VLOOKUP($D725,site!$B:$G,6,0)=\"\",\"-\",VLOOKUP($D725,site!$B:$G,6,0))),IF($C725=\"\",\"\",IF(VLOOKUP($E725,site!$B:$G,5,0)=\"\",\"-\",VLOOKUP($E725,site!$B:$G,5,0))))","v":""}]
[null,null,null,null,null,null,null,null,null,null,null,null,null,null,null,null,null,null,{"$f":"IFERROR(IF(C726=\"\",\"\",IF(VLOOKUP(D726,site!$B:$D,3,0)=\"\",\"-\",VLOOKUP(D726,site!$B:$D,3,0))),IF(C726=\"\",\"\",IF(VLOOKUP(E726,site!$C:$D,2,0)=\"\",\"-\",VLOOKUP(E726,site!$C:$D,2,0))))","v":""},{"$f":"IFERROR(IF($C726=\"\",\"\",IF(VLOOKUP($D726,site!$B:$F,4,0)=\"\",\"-\",VLOOKUP($D726,site!$B:$F,4,0))),IF($C726=\"\",\"\",IF(VLOOKUP($E726,site!$B:$F,3,0)=\"\",\"-\",VLOOKUP($E726,site!$B:$F,3,0))))","v":""},{"$f":"IFERROR(IF($C726=\"\",\"\",IF(VLOOKUP($D726,site!$B:$F,5,0)=\"\",\"-\",VLOOKUP($D726,site!$B:$F,5,0))),IF($C726=\"\",\"\",IF(VLOOKUP($E726,site!$B:$F,4,0)=\"\",\"-\",VLOOKUP($E726,site!$B:$F,4,0))))","v":""},{"$f":"IFERROR(IF($C726=\"\",\"\",IF(VLOOKUP($D726,site!$B:$G,6,0)=\"\",\"-\",VLOOKUP($D726,site!$B:$G,6,0))),IF($C726=\"\",\"\",IF(VLOOKUP($E726,site!$B:$G,5,0)=\"\",\"-\",VLOOKUP($E726,site!$B:$G,5,0))))","v":""}]
[null,null,null,null,null,null,null,null,null,null,null,null,null,null,null,null,null,null,{"$f":"IFERROR(IF(C727=\"\",\"\",IF(VLOOKUP(D727,site!$B:$D,3,0)=\"\",\"-\",VLOOKUP(D727,site!$B:$D,3,0))),IF(C727=\"\",\"\",IF(VLOOKUP(E727,site!$C:$D,2,0)=\"\",\"-\",VLOOKUP(E727,site!$C:$D,2,0))))","v":""},{"$f":"IFERROR(IF($C727=\"\",\"\",IF(VLOOKUP($D727,site!$B:$F,4,0)=\"\",\"-\",VLOOKUP($D727,site!$B:$F,4,0))),IF($C727=\"\",\"\",IF(VLOOKUP($E727,site!$B:$F,3,0)=\"\",\"-\",VLOOKUP($E727,site!$B:$F,3,0))))","v":""},{"$f":"IFERROR(IF($C727=\"\",\"\",IF(VLOOKUP($D727,site!$B:$F,5,0)=\"\",\"-\",VLOOKUP($D727,site!$B:$F,5,0))),IF($C727=\"\",\"\",IF(VLOOKUP($E727,site!$B:$F,4,0)=\"\",\"-\",VLOOKUP($E727,site!$B:$F,4,0))))","v":""},{"$f":"IFERROR(IF($C727=\"\",\"\",IF(VLOOKUP($D727,site!$B:$G,6,0)=\"\",\"-\",VLOOKUP($D727,site!$B:$G,6,0))),IF($C727=\"\",\"\",IF(VLOOKUP($E727,site!$B:$G,5,0)=\"\",\"-\",VLOOKUP($E727,site!$B:$G,5,0))))","v":""}]
[null,null,null,null,null,null,null,null,null,null,null,null,null,null,null,null,null,null,{"$f":"IFERROR(IF(C728=\"\",\"\",IF(VLOOKUP(D728,site!$B:$D,3,0)=\"\",\"-\",VLOOKUP(D728,site!$B:$D,3,0))),IF(C728=\"\",\"\",IF(VLOOKUP(E728,site!$C:$D,2,0)=\"\",\"-\",VLOOKUP(E728,site!$C:$D,2,0))))","v":""},{"$f":"IFERROR(IF($C728=\"\",\"\",IF(VLOOKUP($D728,site!$B:$F,4,0)=\"\",\"-\",VLOOKUP($D728,site!$B:$F,4,0))),IF($C728=\"\",\"\",IF(VLOOKUP($E728,site!$B:$F,3,0)=\"\",\"-\",VLOOKUP($E728,site!$B:$F,3,0))))","v":""},{"$f":"IFERROR(IF($C728=\"\",\"\",IF(VLOOKUP($D728,site!$B:$F,5,0)=\"\",\"-\",VLOOKUP($D728,site!$B:$F,5,0))),IF($C728=\"\",\"\",IF(VLOOKUP($E728,site!$B:$F,4,0)=\"\",\"-\",VLOOKUP($E728,site!$B:$F,4,0))))","v":""},{"$f":"IFERROR(IF($C728=\"\",\"\",IF(VLOOKUP($D728,site!$B:$G,6,0)=\"\",\"-\",VLOOKUP($D728,site!$B:$G,6,0))),IF($C728=\"\",\"\",IF(VLOOKUP($E728,site!$B:$G,5,0)=\"\",\"-\",VLOOKUP($E728,site!$B:$G,5,0))))","v":""}]
[null,null,null,null,null,null,null,null,null,null,null,null,null,null,null,null,null,null,{"$f":"IFERROR(IF(C729=\"\",\"\",IF(VLOOKUP(D729,site!$B:$D,3,0)=\"\",\"-\",VLOOKUP(D729,site!$B:$D,3,0))),IF(C729=\"\",\"\",IF(VLOOKUP(E729,site!$C:$D,2,0)=\"\",\"-\",VLOOKUP(E729,site!$C:$D,2,0))))","v":""},{"$f":"IFERROR(IF($C729=\"\",\"\",IF(VLOOKUP($D729,site!$B:$F,4,0)=\"\",\"-\",VLOOKUP($D729,site!$B:$F,4,0))),IF($C729=\"\",\"\",IF(VLOOKUP($E729,site!$B:$F,3,0)=\"\",\"-\",VLOOKUP($E729,site!$B:$F,3,0))))","v":""},{"$f":"IFERROR(IF($C729=\"\",\"\",IF(VLOOKUP($D729,site!$B:$F,5,0)=\"\",\"-\",VLOOKUP($D729,site!$B:$F,5,0))),IF($C729=\"\",\"\",IF(VLOOKUP($E729,site!$B:$F,4,0)=\"\",\"-\",VLOOKUP($E729,site!$B:$F,4,0))))","v":""},{"$f":"IFERROR(IF($C729=\"\",\"\",IF(VLOOKUP($D729,site!$B:$G,6,0)=\"\",\"-\",VLOOKUP($D729,site!$B:$G,6,0))),IF($C729=\"\",\"\",IF(VLOOKUP($E729,site!$B:$G,5,0)=\"\",\"-\",VLOOKUP($E729,site!$B:$G,5,0))))","v":""}]
[null,null,null,null,null,null,null,null,null,null,null,null,null,null,null,null,null,null,{"$f":"IFERROR(IF(C730=\"\",\"\",IF(VLOOKUP(D730,site!$B:$D,3,0)=\"\",\"-\",VLOOKUP(D730,site!$B:$D,3,0))),IF(C730=\"\",\"\",IF(VLOOKUP(E730,site!$C:$D,2,0)=\"\",\"-\",VLOOKUP(E730,site!$C:$D,2,0))))","v":""},{"$f":"IFERROR(IF($C730=\"\",\"\",IF(VLOOKUP($D730,site!$B:$F,4,0)=\"\",\"-\",VLOOKUP($D730,site!$B:$F,4,0))),IF($C730=\"\",\"\",IF(VLOOKUP($E730,site!$B:$F,3,0)=\"\",\"-\",VLOOKUP($E730,site!$B:$F,3,0))))","v":""},{"$f":"IFERROR(IF($C730=\"\",\"\",IF(VLOOKUP($D730,site!$B:$F,5,0)=\"\",\"-\",VLOOKUP($D730,site!$B:$F,5,0))),IF($C730=\"\",\"\",IF(VLOOKUP($E730,site!$B:$F,4,0)=\"\",\"-\",VLOOKUP($E730,site!$B:$F,4,0))))","v":""},{"$f":"IFERROR(IF($C730=\"\",\"\",IF(VLOOKUP($D730,site!$B:$G,6,0)=\"\",\"-\",VLOOKUP($D730,site!$B:$G,6,0))),IF($C730=\"\",\"\",IF(VLOOKUP($E730,site!$B:$G,5,0)=\"\",\"-\",VLOOKUP($E730,site!$B:$G,5,0))))","v":""}]
[null,null,null,null,null,null,null,null,null,null,null,null,null,null,null,null,null,null,{"$f":"IFERROR(IF(C731=\"\",\"\",IF(VLOOKUP(D731,site!$B:$D,3,0)=\"\",\"-\",VLOOKUP(D731,site!$B:$D,3,0))),IF(C731=\"\",\"\",IF(VLOOKUP(E731,site!$C:$D,2,0)=\"\",\"-\",VLOOKUP(E731,site!$C:$D,2,0))))","v":""},{"$f":"IFERROR(IF($C731=\"\",\"\",IF(VLOOKUP($D731,site!$B:$F,4,0)=\"\",\"-\",VLOOKUP($D731,site!$B:$F,4,0))),IF($C731=\"\",\"\",IF(VLOOKUP($E731,site!$B:$F,3,0)=\"\",\"-\",VLOOKUP($E731,site!$B:$F,3,0))))","v":""},{"$f":"IFERROR(IF($C731=\"\",\"\",IF(VLOOKUP($D731,site!$B:$F,5,0)=\"\",\"-\",VLOOKUP($D731,site!$B:$F,5,0))),IF($C731=\"\",\"\",IF(VLOOKUP($E731,site!$B:$F,4,0)=\"\",\"-\",VLOOKUP($E731,site!$B:$F,4,0))))","v":""},{"$f":"IFERROR(IF($C731=\"\",\"\",IF(VLOOKUP($D731,site!$B:$G,6,0)=\"\",\"-\",VLOOKUP($D731,site!$B:$G,6,0))),IF($C731=\"\",\"\",IF(VLOOKUP($E731,site!$B:$G,5,0)=\"\",\"-\",VLOOKUP($E731,site!$B:$G,5,0))))","v":""}]
[null,null,null,null,null,null,null,null,null,null,null,null,null,null,null,null,null,null,{"$f":"IFERROR(IF(C732=\"\",\"\",IF(VLOOKUP(D732,site!$B:$D,3,0)=\"\",\"-\",VLOOKUP(D732,site!$B:$D,3,0))),IF(C732=\"\",\"\",IF(VLOOKUP(E732,site!$C:$D,2,0)=\"\",\"-\",VLOOKUP(E732,site!$C:$D,2,0))))","v":""},{"$f":"IFERROR(IF($C732=\"\",\"\",IF(VLOOKUP($D732,site!$B:$F,4,0)=\"\",\"-\",VLOOKUP($D732,site!$B:$F,4,0))),IF($C732=\"\",\"\",IF(VLOOKUP($E732,site!$B:$F,3,0)=\"\",\"-\",VLOOKUP($E732,site!$B:$F,3,0))))","v":""},{"$f":"IFERROR(IF($C732=\"\",\"\",IF(VLOOKUP($D732,site!$B:$F,5,0)=\"\",\"-\",VLOOKUP($D732,site!$B:$F,5,0))),IF($C732=\"\",\"\",IF(VLOOKUP($E732,site!$B:$F,4,0)=\"\",\"-\",VLOOKUP($E732,site!$B:$F,4,0))))","v":""},{"$f":"IFERROR(IF($C732=\"\",\"\",IF(VLOOKUP($D732,site!$B:$G,6,0)=\"\",\"-\",VLOOKUP($D732,site!$B:$G,6,0))),IF($C732=\"\",\"\",IF(VLOOKUP($E732,site!$B:$G,5,0)=\"\",\"-\",VLOOKUP($E732,site!$B:$G,5,0))))","v":""}]
[null,null,null,null,null,null,null,null,null,null,null,null,null,null,null,null,null,null,{"$f":"IFERROR(IF(C733=\"\",\"\",IF(VLOOKUP(D733,site!$B:$D,3,0)=\"\",\"-\",VLOOKUP(D733,site!$B:$D,3,0))),IF(C733=\"\",\"\",IF(VLOOKUP(E733,site!$C:$D,2,0)=\"\",\"-\",VLOOKUP(E733,site!$C:$D,2,0))))","v":""},{"$f":"IFERROR(IF($C733=\"\",\"\",IF(VLOOKUP($D733,site!$B:$F,4,0)=\"\",\"-\",VLOOKUP($D733,site!$B:$F,4,0))),IF($C733=\"\",\"\",IF(VLOOKUP($E733,site!$B:$F,3,0)=\"\",\"-\",VLOOKUP($E733,site!$B:$F,3,0))))","v":""},{"$f":"IFERROR(IF($C733=\"\",\"\",IF(VLOOKUP($D733,site!$B:$F,5,0)=\"\",\"-\",VLOOKUP($D733,site!$B:$F,5,0))),IF($C733=\"\",\"\",IF(VLOOKUP($E733,site!$B:$F,4,0)=\"\",\"-\",VLOOKUP($E733,site!$B:$F,4,0))))","v":""},{"$f":"IFERROR(IF($C733=\"\",\"\",IF(VLOOKUP($D733,site!$B:$G,6,0)=\"\",\"-\",VLOOKUP($D733,site!$B:$G,6,0))),IF($C733=\"\",\"\",IF(VLOOKUP($E733,site!$B:$G,5,0)=\"\",\"-\",VLOOKUP($E733,site!$B:$G,5,0))))","v":""}]
[null,null,null,null,null,null,null,null,null,null,null,null,null,null,null,null,null,null,{"$f":"IFERROR(IF(C734=\"\",\"\",IF(VLOOKUP(D734,site!$B:$D,3,0)=\"\",\"-\",VLOOKUP(D734,site!$B:$D,3,0))),IF(C734=\"\",\"\",IF(VLOOKUP(E734,site!$C:$D,2,0)=\"\",\"-\",VLOOKUP(E734,site!$C:$D,2,0))))","v":""},{"$f":"IFERROR(IF($C734=\"\",\"\",IF(VLOOKUP($D734,site!$B:$F,4,0)=\"\",\"-\",VLOOKUP($D734,site!$B:$F,4,0))),IF($C734=\"\",\"\",IF(VLOOKUP($E734,site!$B:$F,3,0)=\"\",\"-\",VLOOKUP($E734,site!$B:$F,3,0))))","v":""},{"$f":"IFERROR(IF($C734=\"\",\"\",IF(VLOOKUP($D734,site!$B:$F,5,0)=\"\",\"-\",VLOOKUP($D734,site!$B:$F,5,0))),IF($C734=\"\",\"\",IF(VLOOKUP($E734,site!$B:$F,4,0)=\"\",\"-\",VLOOKUP($E734,site!$B:$F,4,0))))","v":""},{"$f":"IFERROR(IF($C734=\"\",\"\",IF(VLOOKUP($D734,site!$B:$G,6,0)=\"\",\"-\",VLOOKUP($D734,site!$B:$G,6,0))),IF($C734=\"\",\"\",IF(VLOOKUP($E734,site!$B:$G,5,0)=\"\",\"-\",VLOOKUP($E734,site!$B:$G,5,0))))","v":""}]
[null,null,null,null,null,null,null,null,null,null,null,null,null,null,null,null,null,null,{"$f":"IFERROR(IF(C735=\"\",\"\",IF(VLOOKUP(D735,site!$B:$D,3,0)=\"\",\"-\",VLOOKUP(D735,site!$B:$D,3,0))),IF(C735=\"\",\"\",IF(VLOOKUP(E735,site!$C:$D,2,0)=\"\",\"-\",VLOOKUP(E735,site!$C:$D,2,0))))","v":""},{"$f":"IFERROR(IF($C735=\"\",\"\",IF(VLOOKUP($D735,site!$B:$F,4,0)=\"\",\"-\",VLOOKUP($D735,site!$B:$F,4,0))),IF($C735=\"\",\"\",IF(VLOOKUP($E735,site!$B:$F,3,0)=\"\",\"-\",VLOOKUP($E735,site!$B:$F,3,0))))","v":""},{"$f":"IFERROR(IF($C735=\"\",\"\",IF(VLOOKUP($D735,site!$B:$F,5,0)=\"\",\"-\",VLOOKUP($D735,site!$B:$F,5,0))),IF($C735=\"\",\"\",IF(VLOOKUP($E735,site!$B:$F,4,0)=\"\",\"-\",VLOOKUP($E735,site!$B:$F,4,0))))","v":""},{"$f":"IFERROR(IF($C735=\"\",\"\",IF(VLOOKUP($D735,site!$B:$G,6,0)=\"\",\"-\",VLOOKUP($D735,site!$B:$G,6,0))),IF($C735=\"\",\"\",IF(VLOOKUP($E735,site!$B:$G,5,0)=\"\",\"-\",VLOOKUP($E735,site!$B:$G,5,0))))","v":""}]
[null,null,null,null,null,null,null,null,null,null,null,null,null,null,null,null,null,null,{"$f":"IFERROR(IF(C736=\"\",\"\",IF(VLOOKUP(D736,site!$B:$D,3,0)=\"\",\"-\",VLOOKUP(D736,site!$B:$D,3,0))),IF(C736=\"\",\"\",IF(VLOOKUP(E736,site!$C:$D,2,0)=\"\",\"-\",VLOOKUP(E736,site!$C:$D,2,0))))","v":""},{"$f":"IFERROR(IF($C736=\"\",\"\",IF(VLOOKUP($D736,site!$B:$F,4,0)=\"\",\"-\",VLOOKUP($D736,site!$B:$F,4,0))),IF($C736=\"\",\"\",IF(VLOOKUP($E736,site!$B:$F,3,0)=\"\",\"-\",VLOOKUP($E736,site!$B:$F,3,0))))","v":""},{"$f":"IFERROR(IF($C736=\"\",\"\",IF(VLOOKUP($D736,site!$B:$F,5,0)=\"\",\"-\",VLOOKUP($D736,site!$B:$F,5,0))),IF($C736=\"\",\"\",IF(VLOOKUP($E736,site!$B:$F,4,0)=\"\",\"-\",VLOOKUP($E736,site!$B:$F,4,0))))","v":""},{"$f":"IFERROR(IF($C736=\"\",\"\",IF(VLOOKUP($D736,site!$B:$G,6,0)=\"\",\"-\",VLOOKUP($D736,site!$B:$G,6,0))),IF($C736=\"\",\"\",IF(VLOOKUP($E736,site!$B:$G,5,0)=\"\",\"-\",VLOOKUP($E736,site!$B:$G,5,0))))","v":""}]
[null,null,null,null,null,null,null,null,null,null,null,null,null,null,null,null,null,null,{"$f":"IFERROR(IF(C737=\"\",\"\",IF(VLOOKUP(D737,site!$B:$D,3,0)=\"\",\"-\",VLOOKUP(D737,site!$B:$D,3,0))),IF(C737=\"\",\"\",IF(VLOOKUP(E737,site!$C:$D,2,0)=\"\",\"-\",VLOOKUP(E737,site!$C:$D,2,0))))","v":""},{"$f":"IFERROR(IF($C737=\"\",\"\",IF(VLOOKUP($D737,site!$B:$F,4,0)=\"\",\"-\",VLOOKUP($D737,site!$B:$F,4,0))),IF($C737=\"\",\"\",IF(VLOOKUP($E737,site!$B:$F,3,0)=\"\",\"-\",VLOOKUP($E737,site!$B:$F,3,0))))","v":""},{"$f":"IFERROR(IF($C737=\"\",\"\",IF(VLOOKUP($D737,site!$B:$F,5,0)=\"\",\"-\",VLOOKUP($D737,site!$B:$F,5,0))),IF($C737=\"\",\"\",IF(VLOOKUP($E737,site!$B:$F,4,0)=\"\",\"-\",VLOOKUP($E737,site!$B:$F,4,0))))","v":""},{"$f":"IFERROR(IF($C737=\"\",\"\",IF(VLOOKUP($D737,site!$B:$G,6,0)=\"\",\"-\",VLOOKUP($D737,site!$B:$G,6,0))),IF($C737=\"\",\"\",IF(VLOOKUP($E737,site!$B:$G,5,0)=\"\",\"-\",VLOOKUP($E737,site!$B:$G,5,0))))","v":""}]
[null,null,null,null,null,null,null,null,null,null,null,null,null,null,null,null,null,null,{"$f":"IFERROR(IF(C738=\"\",\"\",IF(VLOOKUP(D738,site!$B:$D,3,0)=\"\",\"-\",VLOOKUP(D738,site!$B:$D,3,0))),IF(C738=\"\",\"\",IF(VLOOKUP(E738,site!$C:$D,2,0)=\"\",\"-\",VLOOKUP(E738,site!$C:$D,2,0))))","v":""},{"$f":"IFERROR(IF($C738=\"\",\"\",IF(VLOOKUP($D738,site!$B:$F,4,0)=\"\",\"-\",VLOOKUP($D738,site!$B:$F,4,0))),IF($C738=\"\",\"\",IF(VLOOKUP($E738,site!$B:$F,3,0)=\"\",\"-\",VLOOKUP($E738,site!$B:$F,3,0))))","v":""},{"$f":"IFERROR(IF($C738=\"\",\"\",IF(VLOOKUP($D738,site!$B:$F,5,0)=\"\",\"-\",VLOOKUP($D738,site!$B:$F,5,0))),IF($C738=\"\",\"\",IF(VLOOKUP($E738,site!$B:$F,4,0)=\"\",\"-\",VLOOKUP($E738,site!$B:$F,4,0))))","v":""},{"$f":"IFERROR(IF($C738=\"\",\"\",IF(VLOOKUP($D738,site!$B:$G,6,0)=\"\",\"-\",VLOOKUP($D738,site!$B:$G,6,0))),IF($C738=\"\",\"\",IF(VLOOKUP($E738,site!$B:$G,5,0)=\"\",\"-\",VLOOKUP($E738,site!$B:$G,5,0))))","v":""}]
[null,null,null,null,null,null,null,null,null,null,null,null,null,null,null,null,null,null,{"$f":"IFERROR(IF(C739=\"\",\"\",IF(VLOOKUP(D739,site!$B:$D,3,0)=\"\",\"-\",VLOOKUP(D739,site!$B:$D,3,0))),IF(C739=\"\",\"\",IF(VLOOKUP(E739,site!$C:$D,2,0)=\"\",\"-\",VLOOKUP(E739,site!$C:$D,2,0))))","v":""},{"$f":"IFERROR(IF($C739=\"\",\"\",IF(VLOOKUP($D739,site!$B:$F,4,0)=\"\",\"-\",VLOOKUP($D739,site!$B:$F,4,0))),IF($C739=\"\",\"\",IF(VLOOKUP($E739,site!$B:$F,3,0)=\"\",\"-\",VLOOKUP($E739,site!$B:$F,3,0))))","v":""},{"$f":"IFERROR(IF($C739=\"\",\"\",IF(VLOOKUP($D739,site!$B:$F,5,0)=\"\",\"-\",VLOOKUP($D739,site!$B:$F,5,0))),IF($C739=\"\",\"\",IF(VLOOKUP($E739,site!$B:$F,4,0)=\"\",\"-\",VLOOKUP($E739,site!$B:$F,4,0))))","v":""},{"$f":"IFERROR(IF($C739=\"\",\"\",IF(VLOOKUP($D739,site!$B:$G,6,0)=\"\",\"-\",VLOOKUP($D739,site!$B:$G,6,0))),IF($C739=\"\",\"\",IF(VLOOKUP($E739,site!$B:$G,5,0)=\"\",\"-\",VLOOKUP($E739,site!$B:$G,5,0))))","v":""}]
[null,null,null,null,null,null,null,null,null,null,null,null,null,null,null,null,null,null,{"$f":"IFERROR(IF(C740=\"\",\"\",IF(VLOOKUP(D740,site!$B:$D,3,0)=\"\",\"-\",VLOOKUP(D740,site!$B:$D,3,0))),IF(C740=\"\",\"\",IF(VLOOKUP(E740,site!$C:$D,2,0)=\"\",\"-\",VLOOKUP(E740,site!$C:$D,2,0))))","v":""},{"$f":"IFERROR(IF($C740=\"\",\"\",IF(VLOOKUP($D740,site!$B:$F,4,0)=\"\",\"-\",VLOOKUP($D740,site!$B:$F,4,0))),IF($C740=\"\",\"\",IF(VLOOKUP($E740,site!$B:$F,3,0)=\"\",\"-\",VLOOKUP($E740,site!$B:$F,3,0))))","v":""},{"$f":"IFERROR(IF($C740=\"\",\"\",IF(VLOOKUP($D740,site!$B:$F,5,0)=\"\",\"-\",VLOOKUP($D740,site!$B:$F,5,0))),IF($C740=\"\",\"\",IF(VLOOKUP($E740,site!$B:$F,4,0)=\"\",\"-\",VLOOKUP($E740,site!$B:$F,4,0))))","v":""},{"$f":"IFERROR(IF($C740=\"\",\"\",IF(VLOOKUP($D740,site!$B:$G,6,0)=\"\",\"-\",VLOOKUP($D740,site!$B:$G,6,0))),IF($C740=\"\",\"\",IF(VLOOKUP($E740,site!$B:$G,5,0)=\"\",\"-\",VLOOKUP($E740,site!$B:$G,5,0))))","v":""}]
[null,null,null,null,null,null,null,null,null,null,null,null,null,null,null,null,null,null,{"$f":"IFERROR(IF(C741=\"\",\"\",IF(VLOOKUP(D741,site!$B:$D,3,0)=\"\",\"-\",VLOOKUP(D741,site!$B:$D,3,0))),IF(C741=\"\",\"\",IF(VLOOKUP(E741,site!$C:$D,2,0)=\"\",\"-\",VLOOKUP(E741,site!$C:$D,2,0))))","v":""},{"$f":"IFERROR(IF($C741=\"\",\"\",IF(VLOOKUP($D741,site!$B:$F,4,0)=\"\",\"-\",VLOOKUP($D741,site!$B:$F,4,0))),IF($C741=\"\",\"\",IF(VLOOKUP($E741,site!$B:$F,3,0)=\"\",\"-\",VLOOKUP($E741,site!$B:$F,3,0))))","v":""},{"$f":"IFERROR(IF($C741=\"\",\"\",IF(VLOOKUP($D741,site!$B:$F,5,0)=\"\",\"-\",VLOOKUP($D741,site!$B:$F,5,0))),IF($C741=\"\",\"\",IF(VLOOKUP($E741,site!$B:$F,4,0)=\"\",\"-\",VLOOKUP($E741,site!$B:$F,4,0))))","v":""},{"$f":"IFERROR(IF($C741=\"\",\"\",IF(VLOOKUP($D741,site!$B:$G,6,0)=\"\",\"-\",VLOOKUP($D741,site!$B:$G,6,0))),IF($C741=\"\",\"\",IF(VLOOKUP($E741,site!$B:$G,5,0)=\"\",\"-\",VLOOKUP($E741,site!$B:$G,5,0))))","v":""}]
[null,null,null,null,null,null,null,null,null,null,null,null,null,null,null,null,null,null,{"$f":"IFERROR(IF(C742=\"\",\"\",IF(VLOOKUP(D742,site!$B:$D,3,0)=\"\",\"-\",VLOOKUP(D742,site!$B:$D,3,0))),IF(C742=\"\",\"\",IF(VLOOKUP(E742,site!$C:$D,2,0)=\"\",\"-\",VLOOKUP(E742,site!$C:$D,2,0))))","v":""},{"$f":"IFERROR(IF($C742=\"\",\"\",IF(VLOOKUP($D742,site!$B:$F,4,0)=\"\",\"-\",VLOOKUP($D742,site!$B:$F,4,0))),IF($C742=\"\",\"\",IF(VLOOKUP($E742,site!$B:$F,3,0)=\"\",\"-\",VLOOKUP($E742,site!$B:$F,3,0))))","v":""},{"$f":"IFERROR(IF($C742=\"\",\"\",IF(VLOOKUP($D742,site!$B:$F,5,0)=\"\",\"-\",VLOOKUP($D742,site!$B:$F,5,0))),IF($C742=\"\",\"\",IF(VLOOKUP($E742,site!$B:$F,4,0)=\"\",\"-\",VLOOKUP($E742,site!$B:$F,4,0))))","v":""},{"$f":"IFERROR(IF($C742=\"\",\"\",IF(VLOOKUP($D742,site!$B:$G,6,0)=\"\",\"-\",VLOOKUP($D742,site!$B:$G,6,0))),IF($C742=\"\",\"\",IF(VLOOKUP($E742,site!$B:$G,5,0)=\"\",\"-\",VLOOKUP($E742,site!$B:$G,5,0))))","v":""}]
[null,null,null,null,null,null,null,null,null,null,null,null,null,null,null,null,null,null,{"$f":"IFERROR(IF(C743=\"\",\"\",IF(VLOOKUP(D743,site!$B:$D,3,0)=\"\",\"-\",VLOOKUP(D743,site!$B:$D,3,0))),IF(C743=\"\",\"\",IF(VLOOKUP(E743,site!$C:$D,2,0)=\"\",\"-\",VLOOKUP(E743,site!$C:$D,2,0))))","v":""},{"$f":"IFERROR(IF($C743=\"\",\"\",IF(VLOOKUP($D743,site!$B:$F,4,0)=\"\",\"-\",VLOOKUP($D743,site!$B:$F,4,0))),IF($C743=\"\",\"\",IF(VLOOKUP($E743,site!$B:$F,3,0)=\"\",\"-\",VLOOKUP($E743,site!$B:$F,3,0))))","v":""},{"$f":"IFERROR(IF($C743=\"\",\"\",IF(VLOOKUP($D743,site!$B:$F,5,0)=\"\",\"-\",VLOOKUP($D743,site!$B:$F,5,0))),IF($C743=\"\",\"\",IF(VLOOKUP($E743,site!$B:$F,4,0)=\"\",\"-\",VLOOKUP($E743,site!$B:$F,4,0))))","v":""},{"$f":"IFERROR(IF($C743=\"\",\"\",IF(VLOOKUP($D743,site!$B:$G,6,0)=\"\",\"-\",VLOOKUP($D743,site!$B:$G,6,0))),IF($C743=\"\",\"\",IF(VLOOKUP($E743,site!$B:$G,5,0)=\"\",\"-\",VLOOKUP($E743,site!$B:$G,5,0))))","v":""}]
[null,null,null,null,null,null,null,null,null,null,null,null,null,null,null,null,null,null,{"$f":"IFERROR(IF(C744=\"\",\"\",IF(VLOOKUP(D744,site!$B:$D,3,0)=\"\",\"-\",VLOOKUP(D744,site!$B:$D,3,0))),IF(C744=\"\",\"\",IF(VLOOKUP(E744,site!$C:$D,2,0)=\"\",\"-\",VLOOKUP(E744,site!$C:$D,2,0))))","v":""},{"$f":"IFERROR(IF($C744=\"\",\"\",IF(VLOOKUP($D744,site!$B:$F,4,0)=\"\",\"-\",VLOOKUP($D744,site!$B:$F,4,0))),IF($C744=\"\",\"\",IF(VLOOKUP($E744,site!$B:$F,3,0)=\"\",\"-\",VLOOKUP($E744,site!$B:$F,3,0))))","v":""},{"$f":"IFERROR(IF($C744=\"\",\"\",IF(VLOOKUP($D744,site!$B:$F,5,0)=\"\",\"-\",VLOOKUP($D744,site!$B:$F,5,0))),IF($C744=\"\",\"\",IF(VLOOKUP($E744,site!$B:$F,4,0)=\"\",\"-\",VLOOKUP($E744,site!$B:$F,4,0))))","v":""},{"$f":"IFERROR(IF($C744=\"\",\"\",IF(VLOOKUP($D744,site!$B:$G,6,0)=\"\",\"-\",VLOOKUP($D744,site!$B:$G,6,0))),IF($C744=\"\",\"\",IF(VLOOKUP($E744,site!$B:$G,5,0)=\"\",\"-\",VLOOKUP($E744,site!$B:$G,5,0))))","v":""}]
[null,null,null,null,null,null,null,null,null,null,null,null,null,null,null,null,null,null,{"$f":"IFERROR(IF(C745=\"\",\"\",IF(VLOOKUP(D745,site!$B:$D,3,0)=\"\",\"-\",VLOOKUP(D745,site!$B:$D,3,0))),IF(C745=\"\",\"\",IF(VLOOKUP(E745,site!$C:$D,2,0)=\"\",\"-\",VLOOKUP(E745,site!$C:$D,2,0))))","v":""},{"$f":"IFERROR(IF($C745=\"\",\"\",IF(VLOOKUP($D745,site!$B:$F,4,0)=\"\",\"-\",VLOOKUP($D745,site!$B:$F,4,0))),IF($C745=\"\",\"\",IF(VLOOKUP($E745,site!$B:$F,3,0)=\"\",\"-\",VLOOKUP($E745,site!$B:$F,3,0))))","v":""},{"$f":"IFERROR(IF($C745=\"\",\"\",IF(VLOOKUP($D745,site!$B:$F,5,0)=\"\",\"-\",VLOOKUP($D745,site!$B:$F,5,0))),IF($C745=\"\",\"\",IF(VLOOKUP($E745,site!$B:$F,4,0)=\"\",\"-\",VLOOKUP($E745,site!$B:$F,4,0))))","v":""},{"$f":"IFERROR(IF($C745=\"\",\"\",IF(VLOOKUP($D745,site!$B:$G,6,0)=\"\",\"-\",VLOOKUP($D745,site!$B:$G,6,0))),IF($C745=\"\",\"\",IF(VLOOKUP($E745,site!$B:$G,5,0)=\"\",\"-\",VLOOKUP($E745,site!$B:$G,5,0))))","v":""}]
[null,null,null,null,null,null,null,null,null,null,null,null,null,null,null,null,null,null,{"$f":"IFERROR(IF(C746=\"\",\"\",IF(VLOOKUP(D746,site!$B:$D,3,0)=\"\",\"-\",VLOOKUP(D746,site!$B:$D,3,0))),IF(C746=\"\",\"\",IF(VLOOKUP(E746,site!$C:$D,2,0)=\"\",\"-\",VLOOKUP(E746,site!$C:$D,2,0))))","v":""},{"$f":"IFERROR(IF($C746=\"\",\"\",IF(VLOOKUP($D746,site!$B:$F,4,0)=\"\",\"-\",VLOOKUP($D746,site!$B:$F,4,0))),IF($C746=\"\",\"\",IF(VLOOKUP($E746,site!$B:$F,3,0)=\"\",\"-\",VLOOKUP($E746,site!$B:$F,3,0))))","v":""},{"$f":"IFERROR(IF($C746=\"\",\"\",IF(VLOOKUP($D746,site!$B:$F,5,0)=\"\",\"-\",VLOOKUP($D746,site!$B:$F,5,0))),IF($C746=\"\",\"\",IF(VLOOKUP($E746,site!$B:$F,4,0)=\"\",\"-\",VLOOKUP($E746,site!$B:$F,4,0))))","v":""},{"$f":"IFERROR(IF($C746=\"\",\"\",IF(VLOOKUP($D746,site!$B:$G,6,0)=\"\",\"-\",VLOOKUP($D746,site!$B:$G,6,0))),IF($C746=\"\",\"\",IF(VLOOKUP($E746,site!$B:$G,5,0)=\"\",\"-\",VLOOKUP($E746,site!$B:$G,5,0))))","v":""}]
[null,null,null,null,null,null,null,null,null,null,null,null,null,null,null,null,null,null,{"$f":"IFERROR(IF(C747=\"\",\"\",IF(VLOOKUP(D747,site!$B:$D,3,0)=\"\",\"-\",VLOOKUP(D747,site!$B:$D,3,0))),IF(C747=\"\",\"\",IF(VLOOKUP(E747,site!$C:$D,2,0)=\"\",\"-\",VLOOKUP(E747,site!$C:$D,2,0))))","v":""},{"$f":"IFERROR(IF($C747=\"\",\"\",IF(VLOOKUP($D747,site!$B:$F,4,0)=\"\",\"-\",VLOOKUP($D747,site!$B:$F,4,0))),IF($C747=\"\",\"\",IF(VLOOKUP($E747,site!$B:$F,3,0)=\"\",\"-\",VLOOKUP($E747,site!$B:$F,3,0))))","v":""},{"$f":"IFERROR(IF($C747=\"\",\"\",IF(VLOOKUP($D747,site!$B:$F,5,0)=\"\",\"-\",VLOOKUP($D747,site!$B:$F,5,0))),IF($C747=\"\",\"\",IF(VLOOKUP($E747,site!$B:$F,4,0)=\"\",\"-\",VLOOKUP($E747,site!$B:$F,4,0))))","v":""},{"$f":"IFERROR(IF($C747=\"\",\"\",IF(VLOOKUP($D747,site!$B:$G,6,0)=\"\",\"-\",VLOOKUP($D747,site!$B:$G,6,0))),IF($C747=\"\",\"\",IF(VLOOKUP($E747,site!$B:$G,5,0)=\"\",\"-\",VLOOKUP($E747,site!$B:$G,5,0))))","v":""}]
[null,null,null,null,null,null,null,null,null,null,null,null,null,null,null,null,null,null,{"$f":"IFERROR(IF(C748=\"\",\"\",IF(VLOOKUP(D748,site!$B:$D,3,0)=\"\",\"-\",VLOOKUP(D748,site!$B:$D,3,0))),IF(C748=\"\",\"\",IF(VLOOKUP(E748,site!$C:$D,2,0)=\"\",\"-\",VLOOKUP(E748,site!$C:$D,2,0))))","v":""},{"$f":"IFERROR(IF($C748=\"\",\"\",IF(VLOOKUP($D748,site!$B:$F,4,0)=\"\",\"-\",VLOOKUP($D748,site!$B:$F,4,0))),IF($C748=\"\",\"\",IF(VLOOKUP($E748,site!$B:$F,3,0)=\"\",\"-\",VLOOKUP($E748,site!$B:$F,3,0))))","v":""},{"$f":"IFERROR(IF($C748=\"\",\"\",IF(VLOOKUP($D748,site!$B:$F,5,0)=\"\",\"-\",VLOOKUP($D748,site!$B:$F,5,0))),IF($C748=\"\",\"\",IF(VLOOKUP($E748,site!$B:$F,4,0)=\"\",\"-\",VLOOKUP($E748,site!$B:$F,4,0))))","v":""},{"$f":"IFERROR(IF($C748=\"\",\"\",IF(VLOOKUP($D748,site!$B:$G,6,0)=\"\",\"-\",VLOOKUP($D748,site!$B:$G,6,0))),IF($C748=\"\",\"\",IF(VLOOKUP($E748,site!$B:$G,5,0)=\"\",\"-\",VLOOKUP($E748,site!$B:$G,5,0))))","v":""}]
[null,null,null,null,null,null,null,null,null,null,null,null,null,null,null,null,null,null,{"$f":"IFERROR(IF(C749=\"\",\"\",IF(VLOOKUP(D749,site!$B:$D,3,0)=\"\",\"-\",VLOOKUP(D749,site!$B:$D,3,0))),IF(C749=\"\",\"\",IF(VLOOKUP(E749,site!$C:$D,2,0)=\"\",\"-\",VLOOKUP(E749,site!$C:$D,2,0))))","v":""},{"$f":"IFERROR(IF($C749=\"\",\"\",IF(VLOOKUP($D749,site!$B:$F,4,0)=\"\",\"-\",VLOOKUP($D749,site!$B:$F,4,0))),IF($C749=\"\",\"\",IF(VLOOKUP($E749,site!$B:$F,3,0)=\"\",\"-\",VLOOKUP($E749,site!$B:$F,3,0))))","v":""},{"$f":"IFERROR(IF($C749=\"\",\"\",IF(VLOOKUP($D749,site!$B:$F,5,0)=\"\",\"-\",VLOOKUP($D749,site!$B:$F,5,0))),IF($C749=\"\",\"\",IF(VLOOKUP($E749,site!$B:$F,4,0)=\"\",\"-\",VLOOKUP($E749,site!$B:$F,4,0))))","v":""},{"$f":"IFERROR(IF($C749=\"\",\"\",IF(VLOOKUP($D749,site!$B:$G,6,0)=\"\",\"-\",VLOOKUP($D749,site!$B:$G,6,0))),IF($C749=\"\",\"\",IF(VLOOKUP($E749,site!$B:$G,5,0)=\"\",\"-\",VLOOKUP($E749,site!$B:$G,5,0))))","v":""}]
[null,null,null,null,null,null,null,null,null,null,null,null,null,null,null,null,null,null,{"$f":"IFERROR(IF(C750=\"\",\"\",IF(VLOOKUP(D750,site!$B:$D,3,0)=\"\",\"-\",VLOOKUP(D750,site!$B:$D,3,0))),IF(C750=\"\",\"\",IF(VLOOKUP(E750,site!$C:$D,2,0)=\"\",\"-\",VLOOKUP(E750,site!$C:$D,2,0))))","v":""},{"$f":"IFERROR(IF($C750=\"\",\"\",IF(VLOOKUP($D750,site!$B:$F,4,0)=\"\",\"-\",VLOOKUP($D750,site!$B:$F,4,0))),IF($C750=\"\",\"\",IF(VLOOKUP($E750,site!$B:$F,3,0)=\"\",\"-\",VLOOKUP($E750,site!$B:$F,3,0))))","v":""},{"$f":"IFERROR(IF($C750=\"\",\"\",IF(VLOOKUP($D750,site!$B:$F,5,0)=\"\",\"-\",VLOOKUP($D750,site!$B:$F,5,0))),IF($C750=\"\",\"\",IF(VLOOKUP($E750,site!$B:$F,4,0)=\"\",\"-\",VLOOKUP($E750,site!$B:$F,4,0))))","v":""},{"$f":"IFERROR(IF($C750=\"\",\"\",IF(VLOOKUP($D750,site!$B:$G,6,0)=\"\",\"-\",VLOOKUP($D750,site!$B:$G,6,0))),IF($C750=\"\",\"\",IF(VLOOKUP($E750,site!$B:$G,5,0)=\"\",\"-\",VLOOKUP($E750,site!$B:$G,5,0))))","v":""}]
[null,null,null,null,null,null,null,null,null,null,null,null,null,null,null,null,null,null,{"$f":"IFERROR(IF(C751=\"\",\"\",IF(VLOOKUP(D751,site!$B:$D,3,0)=\"\",\"-\",VLOOKUP(D751,site!$B:$D,3,0))),IF(C751=\"\",\"\",IF(VLOOKUP(E751,site!$C:$D,2,0)=\"\",\"-\",VLOOKUP(E751,site!$C:$D,2,0))))","v":""},{"$f":"IFERROR(IF($C751=\"\",\"\",IF(VLOOKUP($D751,site!$B:$F,4,0)=\"\",\"-\",VLOOKUP($D751,site!$B:$F,4,0))),IF($C751=\"\",\"\",IF(VLOOKUP($E751,site!$B:$F,3,0)=\"\",\"-\",VLOOKUP($E751,site!$B:$F,3,0))))","v":""},{"$f":"IFERROR(IF($C751=\"\",\"\",IF(VLOOKUP($D751,site!$B:$F,5,0)=\"\",\"-\",VLOOKUP($D751,site!$B:$F,5,0))),IF($C751=\"\",\"\",IF(VLOOKUP($E751,site!$B:$F,4,0)=\"\",\"-\",VLOOKUP($E751,site!$B:$F,4,0))))","v":""},{"$f":"IFERROR(IF($C751=\"\",\"\",IF(VLOOKUP($D751,site!$B:$G,6,0)=\"\",\"-\",VLOOKUP($D751,site!$B:$G,6,0))),IF($C751=\"\",\"\",IF(VLOOKUP($E751,site!$B:$G,5,0)=\"\",\"-\",VLOOKUP($E751,site!$B:$G,5,0))))","v":""}]
[null,null,null,null,null,null,null,null,null,null,null,null,null,null,null,null,null,null,{"$f":"IFERROR(IF(C752=\"\",\"\",IF(VLOOKUP(D752,site!$B:$D,3,0)=\"\",\"-\",VLOOKUP(D752,site!$B:$D,3,0))),IF(C752=\"\",\"\",IF(VLOOKUP(E752,site!$C:$D,2,0)=\"\",\"-\",VLOOKUP(E752,site!$C:$D,2,0))))","v":""},{"$f":"IFERROR(IF($C752=\"\",\"\",IF(VLOOKUP($D752,site!$B:$F,4,0)=\"\",\"-\",VLOOKUP($D752,site!$B:$F,4,0))),IF($C752=\"\",\"\",IF(VLOOKUP($E752,site!$B:$F,3,0)=\"\",\"-\",VLOOKUP($E752,site!$B:$F,3,0))))","v":""},{"$f":"IFERROR(IF($C752=\"\",\"\",IF(VLOOKUP($D752,site!$B:$F,5,0)=\"\",\"-\",VLOOKUP($D752,site!$B:$F,5,0))),IF($C752=\"\",\"\",IF(VLOOKUP($E752,site!$B:$F,4,0)=\"\",\"-\",VLOOKUP($E752,site!$B:$F,4,0))))","v":""},{"$f":"IFERROR(IF($C752=\"\",\"\",IF(VLOOKUP($D752,site!$B:$G,6,0)=\"\",\"-\",VLOOKUP($D752,site!$B:$G,6,0))),IF($C752=\"\",\"\",IF(VLOOKUP($E752,site!$B:$G,5,0)=\"\",\"-\",VLOOKUP($E752,site!$B:$G,5,0))))","v":""}]
[null,null,null,null,null,null,null,null,null,null,null,null,null,null,null,null,null,null,{"$f":"IFERROR(IF(C753=\"\",\"\",IF(VLOOKUP(D753,site!$B:$D,3,0)=\"\",\"-\",VLOOKUP(D753,site!$B:$D,3,0))),IF(C753=\"\",\"\",IF(VLOOKUP(E753,site!$C:$D,2,0)=\"\",\"-\",VLOOKUP(E753,site!$C:$D,2,0))))","v":""},{"$f":"IFERROR(IF($C753=\"\",\"\",IF(VLOOKUP($D753,site!$B:$F,4,0)=\"\",\"-\",VLOOKUP($D753,site!$B:$F,4,0))),IF($C753=\"\",\"\",IF(VLOOKUP($E753,site!$B:$F,3,0)=\"\",\"-\",VLOOKUP($E753,site!$B:$F,3,0))))","v":""},{"$f":"IFERROR(IF($C753=\"\",\"\",IF(VLOOKUP($D753,site!$B:$F,5,0)=\"\",\"-\",VLOOKUP($D753,site!$B:$F,5,0))),IF($C753=\"\",\"\",IF(VLOOKUP($E753,site!$B:$F,4,0)=\"\",\"-\",VLOOKUP($E753,site!$B:$F,4,0))))","v":""},{"$f":"IFERROR(IF($C753=\"\",\"\",IF(VLOOKUP($D753,site!$B:$G,6,0)=\"\",\"-\",VLOOKUP($D753,site!$B:$G,6,0))),IF($C753=\"\",\"\",IF(VLOOKUP($E753,site!$B:$G,5,0)=\"\",\"-\",VLOOKUP($E753,site!$B:$G,5,0))))","v":""}]
[null,null,null,null,null,null,null,null,null,null,null,null,null,null,null,null,null,null,{"$f":"IFERROR(IF(C754=\"\",\"\",IF(VLOOKUP(D754,site!$B:$D,3,0)=\"\",\"-\",VLOOKUP(D754,site!$B:$D,3,0))),IF(C754=\"\",\"\",IF(VLOOKUP(E754,site!$C:$D,2,0)=\"\",\"-\",VLOOKUP(E754,site!$C:$D,2,0))))","v":""},{"$f":"IFERROR(IF($C754=\"\",\"\",IF(VLOOKUP($D754,site!$B:$F,4,0)=\"\",\"-\",VLOOKUP($D754,site!$B:$F,4,0))),IF($C754=\"\",\"\",IF(VLOOKUP($E754,site!$B:$F,3,0)=\"\",\"-\",VLOOKUP($E754,site!$B:$F,3,0))))","v":""},{"$f":"IFERROR(IF($C754=\"\",\"\",IF(VLOOKUP($D754,site!$B:$F,5,0)=\"\",\"-\",VLOOKUP($D754,site!$B:$F,5,0))),IF($C754=\"\",\"\",IF(VLOOKUP($E754,site!$B:$F,4,0)=\"\",\"-\",VLOOKUP($E754,site!$B:$F,4,0))))","v":""},{"$f":"IFERROR(IF($C754=\"\",\"\",IF(VLOOKUP($D754,site!$B:$G,6,0)=\"\",\"-\",VLOOKUP($D754,site!$B:$G,6,0))),IF($C754=\"\",\"\",IF(VLOOKUP($E754,site!$B:$G,5,0)=\"\",\"-\",VLOOKUP($E754,site!$B:$G,5,0))))","v":""}]
[null,null,null,null,null,null,null,null,null,null,null,null,null,null,null,null,null,null,{"$f":"IFERROR(IF(C755=\"\",\"\",IF(VLOOKUP(D755,site!$B:$D,3,0)=\"\",\"-\",VLOOKUP(D755,site!$B:$D,3,0))),IF(C755=\"\",\"\",IF(VLOOKUP(E755,site!$C:$D,2,0)=\"\",\"-\",VLOOKUP(E755,site!$C:$D,2,0))))","v":""},{"$f":"IFERROR(IF($C755=\"\",\"\",IF(VLOOKUP($D755,site!$B:$F,4,0)=\"\",\"-\",VLOOKUP($D755,site!$B:$F,4,0))),IF($C755=\"\",\"\",IF(VLOOKUP($E755,site!$B:$F,3,0)=\"\",\"-\",VLOOKUP($E755,site!$B:$F,3,0))))","v":""},{"$f":"IFERROR(IF($C755=\"\",\"\",IF(VLOOKUP($D755,site!$B:$F,5,0)=\"\",\"-\",VLOOKUP($D755,site!$B:$F,5,0))),IF($C755=\"\",\"\",IF(VLOOKUP($E755,site!$B:$F,4,0)=\"\",\"-\",VLOOKUP($E755,site!$B:$F,4,0))))","v":""},{"$f":"IFERROR(IF($C755=\"\",\"\",IF(VLOOKUP($D755,site!$B:$G,6,0)=\"\",\"-\",VLOOKUP($D755,site!$B:$G,6,0))),IF($C755=\"\",\"\",IF(VLOOKUP($E755,site!$B:$G,5,0)=\"\",\"-\",VLOOKUP($E755,site!$B:$G,5,0))))","v":""}]
[null,null,null,null,null,null,null,null,null,null,null,null,null,null,null,null,null,null,{"$f":"IFERROR(IF(C756=\"\",\"\",IF(VLOOKUP(D756,site!$B:$D,3,0)=\"\",\"-\",VLOOKUP(D756,site!$B:$D,3,0))),IF(C756=\"\",\"\",IF(VLOOKUP(E756,site!$C:$D,2,0)=\"\",\"-\",VLOOKUP(E756,site!$C:$D,2,0))))","v":""},{"$f":"IFERROR(IF($C756=\"\",\"\",IF(VLOOKUP($D756,site!$B:$F,4,0)=\"\",\"-\",VLOOKUP($D756,site!$B:$F,4,0))),IF($C756=\"\",\"\",IF(VLOOKUP($E756,site!$B:$F,3,0)=\"\",\"-\",VLOOKUP($E756,site!$B:$F,3,0))))","v":""},{"$f":"IFERROR(IF($C756=\"\",\"\",IF(VLOOKUP($D756,site!$B:$F,5,0)=\"\",\"-\",VLOOKUP($D756,site!$B:$F,5,0))),IF($C756=\"\",\"\",IF(VLOOKUP($E756,site!$B:$F,4,0)=\"\",\"-\",VLOOKUP($E756,site!$B:$F,4,0))))","v":""},{"$f":"IFERROR(IF($C756=\"\",\"\",IF(VLOOKUP($D756,site!$B:$G,6,0)=\"\",\"-\",VLOOKUP($D756,site!$B:$G,6,0))),IF($C756=\"\",\"\",IF(VLOOKUP($E756,site!$B:$G,5,0)=\"\",\"-\",VLOOKUP($E756,site!$B:$G,5,0))))","v":""}]
[null,null,null,null,null,null,null,null,null,null,null,null,null,null,null,null,null,null,{"$f":"IFERROR(IF(C757=\"\",\"\",IF(VLOOKUP(D757,site!$B:$D,3,0)=\"\",\"-\",VLOOKUP(D757,site!$B:$D,3,0))),IF(C757=\"\",\"\",IF(VLOOKUP(E757,site!$C:$D,2,0)=\"\",\"-\",VLOOKUP(E757,site!$C:$D,2,0))))","v":""},{"$f":"IFERROR(IF($C757=\"\",\"\",IF(VLOOKUP($D757,site!$B:$F,4,0)=\"\",\"-\",VLOOKUP($D757,site!$B:$F,4,0))),IF($C757=\"\",\"\",IF(VLOOKUP($E757,site!$B:$F,3,0)=\"\",\"-\",VLOOKUP($E757,site!$B:$F,3,0))))","v":""},{"$f":"IFERROR(IF($C757=\"\",\"\",IF(VLOOKUP($D757,site!$B:$F,5,0)=\"\",\"-\",VLOOKUP($D757,site!$B:$F,5,0))),IF($C757=\"\",\"\",IF(VLOOKUP($E757,site!$B:$F,4,0)=\"\",\"-\",VLOOKUP($E757,site!$B:$F,4,0))))","v":""},{"$f":"IFERROR(IF($C757=\"\",\"\",IF(VLOOKUP($D757,site!$B:$G,6,0)=\"\",\"-\",VLOOKUP($D757,site!$B:$G,6,0))),IF($C757=\"\",\"\",IF(VLOOKUP($E757,site!$B:$G,5,0)=\"\",\"-\",VLOOKUP($E757,site!$B:$G,5,0))))","v":""}]
[null,null,null,null,null,null,null,null,null,null,null,null,null,null,null,null,null,null,{"$f":"IFERROR(IF(C758=\"\",\"\",IF(VLOOKUP(D758,site!$B:$D,3,0)=\"\",\"-\",VLOOKUP(D758,site!$B:$D,3,0))),IF(C758=\"\",\"\",IF(VLOOKUP(E758,site!$C:$D,2,0)=\"\",\"-\",VLOOKUP(E758,site!$C:$D,2,0))))","v":""},{"$f":"IFERROR(IF($C758=\"\",\"\",IF(VLOOKUP($D758,site!$B:$F,4,0)=\"\",\"-\",VLOOKUP($D758,site!$B:$F,4,0))),IF($C758=\"\",\"\",IF(VLOOKUP($E758,site!$B:$F,3,0)=\"\",\"-\",VLOOKUP($E758,site!$B:$F,3,0))))","v":""},{"$f":"IFERROR(IF($C758=\"\",\"\",IF(VLOOKUP($D758,site!$B:$F,5,0)=\"\",\"-\",VLOOKUP($D758,site!$B:$F,5,0))),IF($C758=\"\",\"\",IF(VLOOKUP($E758,site!$B:$F,4,0)=\"\",\"-\",VLOOKUP($E758,site!$B:$F,4,0))))","v":""},{"$f":"IFERROR(IF($C758=\"\",\"\",IF(VLOOKUP($D758,site!$B:$G,6,0)=\"\",\"-\",VLOOKUP($D758,site!$B:$G,6,0))),IF($C758=\"\",\"\",IF(VLOOKUP($E758,site!$B:$G,5,0)=\"\",\"-\",VLOOKUP($E758,site!$B:$G,5,0))))","v":""}]
[null,null,null,null,null,null,null,null,null,null,null,null,null,null,null,null,null,null,{"$f":"IFERROR(IF(C759=\"\",\"\",IF(VLOOKUP(D759,site!$B:$D,3,0)=\"\",\"-\",VLOOKUP(D759,site!$B:$D,3,0))),IF(C759=\"\",\"\",IF(VLOOKUP(E759,site!$C:$D,2,0)=\"\",\"-\",VLOOKUP(E759,site!$C:$D,2,0))))","v":""},{"$f":"IFERROR(IF($C759=\"\",\"\",IF(VLOOKUP($D759,site!$B:$F,4,0)=\"\",\"-\",VLOOKUP($D759,site!$B:$F,4,0))),IF($C759=\"\",\"\",IF(VLOOKUP($E759,site!$B:$F,3,0)=\"\",\"-\",VLOOKUP($E759,site!$B:$F,3,0))))","v":""},{"$f":"IFERROR(IF($C759=\"\",\"\",IF(VLOOKUP($D759,site!$B:$F,5,0)=\"\",\"-\",VLOOKUP($D759,site!$B:$F,5,0))),IF($C759=\"\",\"\",IF(VLOOKUP($E759,site!$B:$F,4,0)=\"\",\"-\",VLOOKUP($E759,site!$B:$F,4,0))))","v":""},{"$f":"IFERROR(IF($C759=\"\",\"\",IF(VLOOKUP($D759,site!$B:$G,6,0)=\"\",\"-\",VLOOKUP($D759,site!$B:$G,6,0))),IF($C759=\"\",\"\",IF(VLOOKUP($E759,site!$B:$G,5,0)=\"\",\"-\",VLOOKUP($E759,site!$B:$G,5,0))))","v":""}]
[null,null,null,null,null,null,null,null,null,null,null,null,null,null,null,null,null,null,{"$f":"IFERROR(IF(C760=\"\",\"\",IF(VLOOKUP(D760,site!$B:$D,3,0)=\"\",\"-\",VLOOKUP(D760,site!$B:$D,3,0))),IF(C760=\"\",\"\",IF(VLOOKUP(E760,site!$C:$D,2,0)=\"\",\"-\",VLOOKUP(E760,site!$C:$D,2,0))))","v":""},{"$f":"IFERROR(IF($C760=\"\",\"\",IF(VLOOKUP($D760,site!$B:$F,4,0)=\"\",\"-\",VLOOKUP($D760,site!$B:$F,4,0))),IF($C760=\"\",\"\",IF(VLOOKUP($E760,site!$B:$F,3,0)=\"\",\"-\",VLOOKUP($E760,site!$B:$F,3,0))))","v":""},{"$f":"IFERROR(IF($C760=\"\",\"\",IF(VLOOKUP($D760,site!$B:$F,5,0)=\"\",\"-\",VLOOKUP($D760,site!$B:$F,5,0))),IF($C760=\"\",\"\",IF(VLOOKUP($E760,site!$B:$F,4,0)=\"\",\"-\",VLOOKUP($E760,site!$B:$F,4,0))))","v":""},{"$f":"IFERROR(IF($C760=\"\",\"\",IF(VLOOKUP($D760,site!$B:$G,6,0)=\"\",\"-\",VLOOKUP($D760,site!$B:$G,6,0))),IF($C760=\"\",\"\",IF(VLOOKUP($E760,site!$B:$G,5,0)=\"\",\"-\",VLOOKUP($E760,site!$B:$G,5,0))))","v":""}]
[null,null,null,null,null,null,null,null,null,null,null,null,null,null,null,null,null,null,{"$f":"IFERROR(IF(C761=\"\",\"\",IF(VLOOKUP(D761,site!$B:$D,3,0)=\"\",\"-\",VLOOKUP(D761,site!$B:$D,3,0))),IF(C761=\"\",\"\",IF(VLOOKUP(E761,site!$C:$D,2,0)=\"\",\"-\",VLOOKUP(E761,site!$C:$D,2,0))))","v":""},{"$f":"IFERROR(IF($C761=\"\",\"\",IF(VLOOKUP($D761,site!$B:$F,4,0)=\"\",\"-\",VLOOKUP($D761,site!$B:$F,4,0))),IF($C761=\"\",\"\",IF(VLOOKUP($E761,site!$B:$F,3,0)=\"\",\"-\",VLOOKUP($E761,site!$B:$F,3,0))))","v":""},{"$f":"IFERROR(IF($C761=\"\",\"\",IF(VLOOKUP($D761,site!$B:$F,5,0)=\"\",\"-\",VLOOKUP($D761,site!$B:$F,5,0))),IF($C761=\"\",\"\",IF(VLOOKUP($E761,site!$B:$F,4,0)=\"\",\"-\",VLOOKUP($E761,site!$B:$F,4,0))))","v":""},{"$f":"IFERROR(IF($C761=\"\",\"\",IF(VLOOKUP($D761,site!$B:$G,6,0)=\"\",\"-\",VLOOKUP($D761,site!$B:$G,6,0))),IF($C761=\"\",\"\",IF(VLOOKUP($E761,site!$B:$G,5,0)=\"\",\"-\",VLOOKUP($E761,site!$B:$G,5,0))))","v":""}]
[null,null,null,null,null,null,null,null,null,null,null,null,null,null,null,null,null,null,{"$f":"IFERROR(IF(C762=\"\",\"\",IF(VLOOKUP(D762,site!$B:$D,3,0)=\"\",\"-\",VLOOKUP(D762,site!$B:$D,3,0))),IF(C762=\"\",\"\",IF(VLOOKUP(E762,site!$C:$D,2,0)=\"\",\"-\",VLOOKUP(E762,site!$C:$D,2,0))))","v":""},{"$f":"IFERROR(IF($C762=\"\",\"\",IF(VLOOKUP($D762,site!$B:$F,4,0)=\"\",\"-\",VLOOKUP($D762,site!$B:$F,4,0))),IF($C762=\"\",\"\",IF(VLOOKUP($E762,site!$B:$F,3,0)=\"\",\"-\",VLOOKUP($E762,site!$B:$F,3,0))))","v":""},{"$f":"IFERROR(IF($C762=\"\",\"\",IF(VLOOKUP($D762,site!$B:$F,5,0)=\"\",\"-\",VLOOKUP($D762,site!$B:$F,5,0))),IF($C762=\"\",\"\",IF(VLOOKUP($E762,site!$B:$F,4,0)=\"\",\"-\",VLOOKUP($E762,site!$B:$F,4,0))))","v":""},{"$f":"IFERROR(IF($C762=\"\",\"\",IF(VLOOKUP($D762,site!$B:$G,6,0)=\"\",\"-\",VLOOKUP($D762,site!$B:$G,6,0))),IF($C762=\"\",\"\",IF(VLOOKUP($E762,site!$B:$G,5,0)=\"\",\"-\",VLOOKUP($E762,site!$B:$G,5,0))))","v":""}]
[null,null,null,null,null,null,null,null,null,null,null,null,null,null,null,null,null,null,{"$f":"IFERROR(IF(C763=\"\",\"\",IF(VLOOKUP(D763,site!$B:$D,3,0)=\"\",\"-\",VLOOKUP(D763,site!$B:$D,3,0))),IF(C763=\"\",\"\",IF(VLOOKUP(E763,site!$C:$D,2,0)=\"\",\"-\",VLOOKUP(E763,site!$C:$D,2,0))))","v":""},{"$f":"IFERROR(IF($C763=\"\",\"\",IF(VLOOKUP($D763,site!$B:$F,4,0)=\"\",\"-\",VLOOKUP($D763,site!$B:$F,4,0))),IF($C763=\"\",\"\",IF(VLOOKUP($E763,site!$B:$F,3,0)=\"\",\"-\",VLOOKUP($E763,site!$B:$F,3,0))))","v":""},{"$f":"IFERROR(IF($C763=\"\",\"\",IF(VLOOKUP($D763,site!$B:$F,5,0)=\"\",\"-\",VLOOKUP($D763,site!$B:$F,5,0))),IF($C763=\"\",\"\",IF(VLOOKUP($E763,site!$B:$F,4,0)=\"\",\"-\",VLOOKUP($E763,site!$B:$F,4,0))))","v":""},{"$f":"IFERROR(IF($C763=\"\",\"\",IF(VLOOKUP($D763,site!$B:$G,6,0)=\"\",\"-\",VLOOKUP($D763,site!$B:$G,6,0))),IF($C763=\"\",\"\",IF(VLOOKUP($E763,site!$B:$G,5,0)=\"\",\"-\",VLOOKUP($E763,site!$B:$G,5,0))))","v":""}]
[null,null,null,null,null,null,null,null,null,null,null,null,null,null,null,null,null,null,{"$f":"IFERROR(IF(C764=\"\",\"\",IF(VLOOKUP(D764,site!$B:$D,3,0)=\"\",\"-\",VLOOKUP(D764,site!$B:$D,3,0))),IF(C764=\"\",\"\",IF(VLOOKUP(E764,site!$C:$D,2,0)=\"\",\"-\",VLOOKUP(E764,site!$C:$D,2,0))))","v":""},{"$f":"IFERROR(IF($C764=\"\",\"\",IF(VLOOKUP($D764,site!$B:$F,4,0)=\"\",\"-\",VLOOKUP($D764,site!$B:$F,4,0))),IF($C764=\"\",\"\",IF(VLOOKUP($E764,site!$B:$F,3,0)=\"\",\"-\",VLOOKUP($E764,site!$B:$F,3,0))))","v":""},{"$f":"IFERROR(IF($C764=\"\",\"\",IF(VLOOKUP($D764,site!$B:$F,5,0)=\"\",\"-\",VLOOKUP($D764,site!$B:$F,5,0))),IF($C764=\"\",\"\",IF(VLOOKUP($E764,site!$B:$F,4,0)=\"\",\"-\",VLOOKUP($E764,site!$B:$F,4,0))))","v":""},{"$f":"IFERROR(IF($C764=\"\",\"\",IF(VLOOKUP($D764,site!$B:$G,6,0)=\"\",\"-\",VLOOKUP($D764,site!$B:$G,6,0))),IF($C764=\"\",\"\",IF(VLOOKUP($E764,site!$B:$G,5,0)=\"\",\"-\",VLOOKUP($E764,site!$B:$G,5,0))))","v":""}]
[null,null,null,null,null,null,null,null,null,null,null,null,null,null,null,null,null,null,{"$f":"IFERROR(IF(C765=\"\",\"\",IF(VLOOKUP(D765,site!$B:$D,3,0)=\"\",\"-\",VLOOKUP(D765,site!$B:$D,3,0))),IF(C765=\"\",\"\",IF(VLOOKUP(E765,site!$C:$D,2,0)=\"\",\"-\",VLOOKUP(E765,site!$C:$D,2,0))))","v":""},{"$f":"IFERROR(IF($C765=\"\",\"\",IF(VLOOKUP($D765,site!$B:$F,4,0)=\"\",\"-\",VLOOKUP($D765,site!$B:$F,4,0))),IF($C765=\"\",\"\",IF(VLOOKUP($E765,site!$B:$F,3,0)=\"\",\"-\",VLOOKUP($E765,site!$B:$F,3,0))))","v":""},{"$f":"IFERROR(IF($C765=\"\",\"\",IF(VLOOKUP($D765,site!$B:$F,5,0)=\"\",\"-\",VLOOKUP($D765,site!$B:$F,5,0))),IF($C765=\"\",\"\",IF(VLOOKUP($E765,site!$B:$F,4,0)=\"\",\"-\",VLOOKUP($E765,site!$B:$F,4,0))))","v":""},{"$f":"IFERROR(IF($C765=\"\",\"\",IF(VLOOKUP($D765,site!$B:$G,6,0)=\"\",\"-\",VLOOKUP($D765,site!$B:$G,6,0))),IF($C765=\"\",\"\",IF(VLOOKUP($E765,site!$B:$G,5,0)=\"\",\"-\",VLOOKUP($E765,site!$B:$G,5,0))))","v":""}]
[null,null,null,null,null,null,null,null,null,null,null,null,null,null,null,null,null,null,{"$f":"IFERROR(IF(C766=\"\",\"\",IF(VLOOKUP(D766,site!$B:$D,3,0)=\"\",\"-\",VLOOKUP(D766,site!$B:$D,3,0))),IF(C766=\"\",\"\",IF(VLOOKUP(E766,site!$C:$D,2,0)=\"\",\"-\",VLOOKUP(E766,site!$C:$D,2,0))))","v":""},{"$f":"IFERROR(IF($C766=\"\",\"\",IF(VLOOKUP($D766,site!$B:$F,4,0)=\"\",\"-\",VLOOKUP($D766,site!$B:$F,4,0))),IF($C766=\"\",\"\",IF(VLOOKUP($E766,site!$B:$F,3,0)=\"\",\"-\",VLOOKUP($E766,site!$B:$F,3,0))))","v":""},{"$f":"IFERROR(IF($C766=\"\",\"\",IF(VLOOKUP($D766,site!$B:$F,5,0)=\"\",\"-\",VLOOKUP($D766,site!$B:$F,5,0))),IF($C766=\"\",\"\",IF(VLOOKUP($E766,site!$B:$F,4,0)=\"\",\"-\",VLOOKUP($E766,site!$B:$F,4,0))))","v":""},{"$f":"IFERROR(IF($C766=\"\",\"\",IF(VLOOKUP($D766,site!$B:$G,6,0)=\"\",\"-\",VLOOKUP($D766,site!$B:$G,6,0))),IF($C766=\"\",\"\",IF(VLOOKUP($E766,site!$B:$G,5,0)=\"\",\"-\",VLOOKUP($E766,site!$B:$G,5,0))))","v":""}]
[null,null,null,null,null,null,null,null,null,null,null,null,null,null,null,null,null,null,{"$f":"IFERROR(IF(C767=\"\",\"\",IF(VLOOKUP(D767,site!$B:$D,3,0)=\"\",\"-\",VLOOKUP(D767,site!$B:$D,3,0))),IF(C767=\"\",\"\",IF(VLOOKUP(E767,site!$C:$D,2,0)=\"\",\"-\",VLOOKUP(E767,site!$C:$D,2,0))))","v":""},{"$f":"IFERROR(IF($C767=\"\",\"\",IF(VLOOKUP($D767,site!$B:$F,4,0)=\"\",\"-\",VLOOKUP($D767,site!$B:$F,4,0))),IF($C767=\"\",\"\",IF(VLOOKUP($E767,site!$B:$F,3,0)=\"\",\"-\",VLOOKUP($E767,site!$B:$F,3,0))))","v":""},{"$f":"IFERROR(IF($C767=\"\",\"\",IF(VLOOKUP($D767,site!$B:$F,5,0)=\"\",\"-\",VLOOKUP($D767,site!$B:$F,5,0))),IF($C767=\"\",\"\",IF(VLOOKUP($E767,site!$B:$F,4,0)=\"\",\"-\",VLOOKUP($E767,site!$B:$F,4,0))))","v":""},{"$f":"IFERROR(IF($C767=\"\",\"\",IF(VLOOKUP($D767,site!$B:$G,6,0)=\"\",\"-\",VLOOKUP($D767,site!$B:$G,6,0))),IF($C767=\"\",\"\",IF(VLOOKUP($E767,site!$B:$G,5,0)=\"\",\"-\",VLOOKUP($E767,site!$B:$G,5,0))))","v":""}]
[null,null,null,null,null,null,null,null,null,null,null,null,null,null,null,null,null,null,{"$f":"IFERROR(IF(C768=\"\",\"\",IF(VLOOKUP(D768,site!$B:$D,3,0)=\"\",\"-\",VLOOKUP(D768,site!$B:$D,3,0))),IF(C768=\"\",\"\",IF(VLOOKUP(E768,site!$C:$D,2,0)=\"\",\"-\",VLOOKUP(E768,site!$C:$D,2,0))))","v":""},{"$f":"IFERROR(IF($C768=\"\",\"\",IF(VLOOKUP($D768,site!$B:$F,4,0)=\"\",\"-\",VLOOKUP($D768,site!$B:$F,4,0))),IF($C768=\"\",\"\",IF(VLOOKUP($E768,site!$B:$F,3,0)=\"\",\"-\",VLOOKUP($E768,site!$B:$F,3,0))))","v":""},{"$f":"IFERROR(IF($C768=\"\",\"\",IF(VLOOKUP($D768,site!$B:$F,5,0)=\"\",\"-\",VLOOKUP($D768,site!$B:$F,5,0))),IF($C768=\"\",\"\",IF(VLOOKUP($E768,site!$B:$F,4,0)=\"\",\"-\",VLOOKUP($E768,site!$B:$F,4,0))))","v":""},{"$f":"IFERROR(IF($C768=\"\",\"\",IF(VLOOKUP($D768,site!$B:$G,6,0)=\"\",\"-\",VLOOKUP($D768,site!$B:$G,6,0))),IF($C768=\"\",\"\",IF(VLOOKUP($E768,site!$B:$G,5,0)=\"\",\"-\",VLOOKUP($E768,site!$B:$G,5,0))))","v":""}]
[null,null,null,null,null,null,null,null,null,null,null,null,null,null,null,null,null,null,{"$f":"IFERROR(IF(C769=\"\",\"\",IF(VLOOKUP(D769,site!$B:$D,3,0)=\"\",\"-\",VLOOKUP(D769,site!$B:$D,3,0))),IF(C769=\"\",\"\",IF(VLOOKUP(E769,site!$C:$D,2,0)=\"\",\"-\",VLOOKUP(E769,site!$C:$D,2,0))))","v":""},{"$f":"IFERROR(IF($C769=\"\",\"\",IF(VLOOKUP($D769,site!$B:$F,4,0)=\"\",\"-\",VLOOKUP($D769,site!$B:$F,4,0))),IF($C769=\"\",\"\",IF(VLOOKUP($E769,site!$B:$F,3,0)=\"\",\"-\",VLOOKUP($E769,site!$B:$F,3,0))))","v":""},{"$f":"IFERROR(IF($C769=\"\",\"\",IF(VLOOKUP($D769,site!$B:$F,5,0)=\"\",\"-\",VLOOKUP($D769,site!$B:$F,5,0))),IF($C769=\"\",\"\",IF(VLOOKUP($E769,site!$B:$F,4,0)=\"\",\"-\",VLOOKUP($E769,site!$B:$F,4,0))))","v":""},{"$f":"IFERROR(IF($C769=\"\",\"\",IF(VLOOKUP($D769,site!$B:$G,6,0)=\"\",\"-\",VLOOKUP($D769,site!$B:$G,6,0))),IF($C769=\"\",\"\",IF(VLOOKUP($E769,site!$B:$G,5,0)=\"\",\"-\",VLOOKUP($E769,site!$B:$G,5,0))))","v":""}]
[null,null,null,null,null,null,null,null,null,null,null,null,null,null,null,null,null,null,{"$f":"IFERROR(IF(C770=\"\",\"\",IF(VLOOKUP(D770,site!$B:$D,3,0)=\"\",\"-\",VLOOKUP(D770,site!$B:$D,3,0))),IF(C770=\"\",\"\",IF(VLOOKUP(E770,site!$C:$D,2,0)=\"\",\"-\",VLOOKUP(E770,site!$C:$D,2,0))))","v":""},{"$f":"IFERROR(IF($C770=\"\",\"\",IF(VLOOKUP($D770,site!$B:$F,4,0)=\"\",\"-\",VLOOKUP($D770,site!$B:$F,4,0))),IF($C770=\"\",\"\",IF(VLOOKUP($E770,site!$B:$F,3,0)=\"\",\"-\",VLOOKUP($E770,site!$B:$F,3,0))))","v":""},{"$f":"IFERROR(IF($C770=\"\",\"\",IF(VLOOKUP($D770,site!$B:$F,5,0)=\"\",\"-\",VLOOKUP($D770,site!$B:$F,5,0))),IF($C770=\"\",\"\",IF(VLOOKUP($E770,site!$B:$F,4,0)=\"\",\"-\",VLOOKUP($E770,site!$B:$F,4,0))))","v":""},{"$f":"IFERROR(IF($C770=\"\",\"\",IF(VLOOKUP($D770,site!$B:$G,6,0)=\"\",\"-\",VLOOKUP($D770,site!$B:$G,6,0))),IF($C770=\"\",\"\",IF(VLOOKUP($E770,site!$B:$G,5,0)=\"\",\"-\",VLOOKUP($E770,site!$B:$G,5,0))))","v":""}]
[null,null,null,null,null,null,null,null,null,null,null,null,null,null,null,null,null,null,{"$f":"IFERROR(IF(C771=\"\",\"\",IF(VLOOKUP(D771,site!$B:$D,3,0)=\"\",\"-\",VLOOKUP(D771,site!$B:$D,3,0))),IF(C771=\"\",\"\",IF(VLOOKUP(E771,site!$C:$D,2,0)=\"\",\"-\",VLOOKUP(E771,site!$C:$D,2,0))))","v":""},{"$f":"IFERROR(IF($C771=\"\",\"\",IF(VLOOKUP($D771,site!$B:$F,4,0)=\"\",\"-\",VLOOKUP($D771,site!$B:$F,4,0))),IF($C771=\"\",\"\",IF(VLOOKUP($E771,site!$B:$F,3,0)=\"\",\"-\",VLOOKUP($E771,site!$B:$F,3,0))))","v":""},{"$f":"IFERROR(IF($C771=\"\",\"\",IF(VLOOKUP($D771,site!$B:$F,5,0)=\"\",\"-\",VLOOKUP($D771,site!$B:$F,5,0))),IF($C771=\"\",\"\",IF(VLOOKUP($E771,site!$B:$F,4,0)=\"\",\"-\",VLOOKUP($E771,site!$B:$F,4,0))))","v":""},{"$f":"IFERROR(IF($C771=\"\",\"\",IF(VLOOKUP($D771,site!$B:$G,6,0)=\"\",\"-\",VLOOKUP($D771,site!$B:$G,6,0))),IF($C771=\"\",\"\",IF(VLOOKUP($E771,site!$B:$G,5,0)=\"\",\"-\",VLOOKUP($E771,site!$B:$G,5,0))))","v":""}]
[null,null,null,null,null,null,null,null,null,null,null,null,null,null,null,null,null,null,{"$f":"IFERROR(IF(C772=\"\",\"\",IF(VLOOKUP(D772,site!$B:$D,3,0)=\"\",\"-\",VLOOKUP(D772,site!$B:$D,3,0))),IF(C772=\"\",\"\",IF(VLOOKUP(E772,site!$C:$D,2,0)=\"\",\"-\",VLOOKUP(E772,site!$C:$D,2,0))))","v":""},{"$f":"IFERROR(IF($C772=\"\",\"\",IF(VLOOKUP($D772,site!$B:$F,4,0)=\"\",\"-\",VLOOKUP($D772,site!$B:$F,4,0))),IF($C772=\"\",\"\",IF(VLOOKUP($E772,site!$B:$F,3,0)=\"\",\"-\",VLOOKUP($E772,site!$B:$F,3,0))))","v":""},{"$f":"IFERROR(IF($C772=\"\",\"\",IF(VLOOKUP($D772,site!$B:$F,5,0)=\"\",\"-\",VLOOKUP($D772,site!$B:$F,5,0))),IF($C772=\"\",\"\",IF(VLOOKUP($E772,site!$B:$F,4,0)=\"\",\"-\",VLOOKUP($E772,site!$B:$F,4,0))))","v":""},{"$f":"IFERROR(IF($C772=\"\",\"\",IF(VLOOKUP($D772,site!$B:$G,6,0)=\"\",\"-\",VLOOKUP($D772,site!$B:$G,6,0))),IF($C772=\"\",\"\",IF(VLOOKUP($E772,site!$B:$G,5,0)=\"\",\"-\",VLOOKUP($E772,site!$B:$G,5,0))))","v":""}]
[null,null,null,null,null,null,null,null,null,null,null,null,null,null,null,null,null,null,{"$f":"IFERROR(IF(C773=\"\",\"\",IF(VLOOKUP(D773,site!$B:$D,3,0)=\"\",\"-\",VLOOKUP(D773,site!$B:$D,3,0))),IF(C773=\"\",\"\",IF(VLOOKUP(E773,site!$C:$D,2,0)=\"\",\"-\",VLOOKUP(E773,site!$C:$D,2,0))))","v":""},{"$f":"IFERROR(IF($C773=\"\",\"\",IF(VLOOKUP($D773,site!$B:$F,4,0)=\"\",\"-\",VLOOKUP($D773,site!$B:$F,4,0))),IF($C773=\"\",\"\",IF(VLOOKUP($E773,site!$B:$F,3,0)=\"\",\"-\",VLOOKUP($E773,site!$B:$F,3,0))))","v":""},{"$f":"IFERROR(IF($C773=\"\",\"\",IF(VLOOKUP($D773,site!$B:$F,5,0)=\"\",\"-\",VLOOKUP($D773,site!$B:$F,5,0))),IF($C773=\"\",\"\",IF(VLOOKUP($E773,site!$B:$F,4,0)=\"\",\"-\",VLOOKUP($E773,site!$B:$F,4,0))))","v":""},{"$f":"IFERROR(IF($C773=\"\",\"\",IF(VLOOKUP($D773,site!$B:$G,6,0)=\"\",\"-\",VLOOKUP($D773,site!$B:$G,6,0))),IF($C773=\"\",\"\",IF(VLOOKUP($E773,site!$B:$G,5,0)=\"\",\"-\",VLOOKUP($E773,site!$B:$G,5,0))))","v":""}]
[null,null,null,null,null,null,null,null,null,null,null,null,null,null,null,null,null,null,{"$f":"IFERROR(IF(C774=\"\",\"\",IF(VLOOKUP(D774,site!$B:$D,3,0)=\"\",\"-\",VLOOKUP(D774,site!$B:$D,3,0))),IF(C774=\"\",\"\",IF(VLOOKUP(E774,site!$C:$D,2,0)=\"\",\"-\",VLOOKUP(E774,site!$C:$D,2,0))))","v":""},{"$f":"IFERROR(IF($C774=\"\",\"\",IF(VLOOKUP($D774,site!$B:$F,4,0)=\"\",\"-\",VLOOKUP($D774,site!$B:$F,4,0))),IF($C774=\"\",\"\",IF(VLOOKUP($E774,site!$B:$F,3,0)=\"\",\"-\",VLOOKUP($E774,site!$B:$F,3,0))))","v":""},{"$f":"IFERROR(IF($C774=\"\",\"\",IF(VLOOKUP($D774,site!$B:$F,5,0)=\"\",\"-\",VLOOKUP($D774,site!$B:$F,5,0))),IF($C774=\"\",\"\",IF(VLOOKUP($E774,site!$B:$F,4,0)=\"\",\"-\",VLOOKUP($E774,site!$B:$F,4,0))))","v":""},{"$f":"IFERROR(IF($C774=\"\",\"\",IF(VLOOKUP($D774,site!$B:$G,6,0)=\"\",\"-\",VLOOKUP($D774,site!$B:$G,6,0))),IF($C774=\"\",\"\",IF(VLOOKUP($E774,site!$B:$G,5,0)=\"\",\"-\",VLOOKUP($E774,site!$B:$G,5,0))))","v":""}]
[null,null,null,null,null,null,null,null,null,null,null,null,null,null,null,null,null,null,{"$f":"IFERROR(IF(C775=\"\",\"\",IF(VLOOKUP(D775,site!$B:$D,3,0)=\"\",\"-\",VLOOKUP(D775,site!$B:$D,3,0))),IF(C775=\"\",\"\",IF(VLOOKUP(E775,site!$C:$D,2,0)=\"\",\"-\",VLOOKUP(E775,site!$C:$D,2,0))))","v":""},{"$f":"IFERROR(IF($C775=\"\",\"\",IF(VLOOKUP($D775,site!$B:$F,4,0)=\"\",\"-\",VLOOKUP($D775,site!$B:$F,4,0))),IF($C775=\"\",\"\",IF(VLOOKUP($E775,site!$B:$F,3,0)=\"\",\"-\",VLOOKUP($E775,site!$B:$F,3,0))))","v":""},{"$f":"IFERROR(IF($C775=\"\",\"\",IF(VLOOKUP($D775,site!$B:$F,5,0)=\"\",\"-\",VLOOKUP($D775,site!$B:$F,5,0))),IF($C775=\"\",\"\",IF(VLOOKUP($E775,site!$B:$F,4,0)=\"\",\"-\",VLOOKUP($E775,site!$B:$F,4,0))))","v":""},{"$f":"IFERROR(IF($C775=\"\",\"\",IF(VLOOKUP($D775,site!$B:$G,6,0)=\"\",\"-\",VLOOKUP($D775,site!$B:$G,6,0))),IF($C775=\"\",\"\",IF(VLOOKUP($E775,site!$B:$G,5,0)=\"\",\"-\",VLOOKUP($E775,site!$B:$G,5,0))))","v":""}]
[null,null,null,null,null,null,null,null,null,null,null,null,null,null,null,null,null,null,{"$f":"IFERROR(IF(C776=\"\",\"\",IF(VLOOKUP(D776,site!$B:$D,3,0)=\"\",\"-\",VLOOKUP(D776,site!$B:$D,3,0))),IF(C776=\"\",\"\",IF(VLOOKUP(E776,site!$C:$D,2,0)=\"\",\"-\",VLOOKUP(E776,site!$C:$D,2,0))))","v":""},{"$f":"IFERROR(IF($C776=\"\",\"\",IF(VLOOKUP($D776,site!$B:$F,4,0)=\"\",\"-\",VLOOKUP($D776,site!$B:$F,4,0))),IF($C776=\"\",\"\",IF(VLOOKUP($E776,site!$B:$F,3,0)=\"\",\"-\",VLOOKUP($E776,site!$B:$F,3,0))))","v":""},{"$f":"IFERROR(IF($C776=\"\",\"\",IF(VLOOKUP($D776,site!$B:$F,5,0)=\"\",\"-\",VLOOKUP($D776,site!$B:$F,5,0))),IF($C776=\"\",\"\",IF(VLOOKUP($E776,site!$B:$F,4,0)=\"\",\"-\",VLOOKUP($E776,site!$B:$F,4,0))))","v":""},{"$f":"IFERROR(IF($C776=\"\",\"\",IF(VLOOKUP($D776,site!$B:$G,6,0)=\"\",\"-\",VLOOKUP($D776,site!$B:$G,6,0))),IF($C776=\"\",\"\",IF(VLOOKUP($E776,site!$B:$G,5,0)=\"\",\"-\",VLOOKUP($E776,site!$B:$G,5,0))))","v":""}]
[null,null,null,null,null,null,null,null,null,null,null,null,null,null,null,null,null,null,{"$f":"IFERROR(IF(C777=\"\",\"\",IF(VLOOKUP(D777,site!$B:$D,3,0)=\"\",\"-\",VLOOKUP(D777,site!$B:$D,3,0))),IF(C777=\"\",\"\",IF(VLOOKUP(E777,site!$C:$D,2,0)=\"\",\"-\",VLOOKUP(E777,site!$C:$D,2,0))))","v":""},{"$f":"IFERROR(IF($C777=\"\",\"\",IF(VLOOKUP($D777,site!$B:$F,4,0)=\"\",\"-\",VLOOKUP($D777,site!$B:$F,4,0))),IF($C777=\"\",\"\",IF(VLOOKUP($E777,site!$B:$F,3,0)=\"\",\"-\",VLOOKUP($E777,site!$B:$F,3,0))))","v":""},{"$f":"IFERROR(IF($C777=\"\",\"\",IF(VLOOKUP($D777,site!$B:$F,5,0)=\"\",\"-\",VLOOKUP($D777,site!$B:$F,5,0))),IF($C777=\"\",\"\",IF(VLOOKUP($E777,site!$B:$F,4,0)=\"\",\"-\",VLOOKUP($E777,site!$B:$F,4,0))))","v":""},{"$f":"IFERROR(IF($C777=\"\",\"\",IF(VLOOKUP($D777,site!$B:$G,6,0)=\"\",\"-\",VLOOKUP($D777,site!$B:$G,6,0))),IF($C777=\"\",\"\",IF(VLOOKUP($E777,site!$B:$G,5,0)=\"\",\"-\",VLOOKUP($E777,site!$B:$G,5,0))))","v":""}]
[null,null,null,null,null,null,null,null,null,null,null,null,null,null,null,null,null,null,{"$f":"IFERROR(IF(C778=\"\",\"\",IF(VLOOKUP(D778,site!$B:$D,3,0)=\"\",\"-\",VLOOKUP(D778,site!$B:$D,3,0))),IF(C778=\"\",\"\",IF(VLOOKUP(E778,site!$C:$D,2,0)=\"\",\"-\",VLOOKUP(E778,site!$C:$D,2,0))))","v":""},{"$f":"IFERROR(IF($C778=\"\",\"\",IF(VLOOKUP($D778,site!$B:$F,4,0)=\"\",\"-\",VLOOKUP($D778,site!$B:$F,4,0))),IF($C778=\"\",\"\",IF(VLOOKUP($E778,site!$B:$F,3,0)=\"\",\"-\",VLOOKUP($E778,site!$B:$F,3,0))))","v":""},{"$f":"IFERROR(IF($C778=\"\",\"\",IF(VLOOKUP($D778,site!$B:$F,5,0)=\"\",\"-\",VLOOKUP($D778,site!$B:$F,5,0))),IF($C778=\"\",\"\",IF(VLOOKUP($E778,site!$B:$F,4,0)=\"\",\"-\",VLOOKUP($E778,site!$B:$F,4,0))))","v":""},{"$f":"IFERROR(IF($C778=\"\",\"\",IF(VLOOKUP($D778,site!$B:$G,6,0)=\"\",\"-\",VLOOKUP($D778,site!$B:$G,6,0))),IF($C778=\"\",\"\",IF(VLOOKUP($E778,site!$B:$G,5,0)=\"\",\"-\",VLOOKUP($E778,site!$B:$G,5,0))))","v":""}]
[null,null,null,null,null,null,null,null,null,null,null,null,null,null,null,null,null,null,{"$f":"IFERROR(IF(C779=\"\",\"\",IF(VLOOKUP(D779,site!$B:$D,3,0)=\"\",\"-\",VLOOKUP(D779,site!$B:$D,3,0))),IF(C779=\"\",\"\",IF(VLOOKUP(E779,site!$C:$D,2,0)=\"\",\"-\",VLOOKUP(E779,site!$C:$D,2,0))))","v":""},{"$f":"IFERROR(IF($C779=\"\",\"\",IF(VLOOKUP($D779,site!$B:$F,4,0)=\"\",\"-\",VLOOKUP($D779,site!$B:$F,4,0))),IF($C779=\"\",\"\",IF(VLOOKUP($E779,site!$B:$F,3,0)=\"\",\"-\",VLOOKUP($E779,site!$B:$F,3,0))))","v":""},{"$f":"IFERROR(IF($C779=\"\",\"\",IF(VLOOKUP($D779,site!$B:$F,5,0)=\"\",\"-\",VLOOKUP($D779,site!$B:$F,5,0))),IF($C779=\"\",\"\",IF(VLOOKUP($E779,site!$B:$F,4,0)=\"\",\"-\",VLOOKUP($E779,site!$B:$F,4,0))))","v":""},{"$f":"IFERROR(IF($C779=\"\",\"\",IF(VLOOKUP($D779,site!$B:$G,6,0)=\"\",\"-\",VLOOKUP($D779,site!$B:$G,6,0))),IF($C779=\"\",\"\",IF(VLOOKUP($E779,site!$B:$G,5,0)=\"\",\"-\",VLOOKUP($E779,site!$B:$G,5,0))))","v":""}]
[null,null,null,null,null,null,null,null,null,null,null,null,null,null,null,null,null,null,{"$f":"IFERROR(IF(C780=\"\",\"\",IF(VLOOKUP(D780,site!$B:$D,3,0)=\"\",\"-\",VLOOKUP(D780,site!$B:$D,3,0))),IF(C780=\"\",\"\",IF(VLOOKUP(E780,site!$C:$D,2,0)=\"\",\"-\",VLOOKUP(E780,site!$C:$D,2,0))))","v":""},{"$f":"IFERROR(IF($C780=\"\",\"\",IF(VLOOKUP($D780,site!$B:$F,4,0)=\"\",\"-\",VLOOKUP($D780,site!$B:$F,4,0))),IF($C780=\"\",\"\",IF(VLOOKUP($E780,site!$B:$F,3,0)=\"\",\"-\",VLOOKUP($E780,site!$B:$F,3,0))))","v":""},{"$f":"IFERROR(IF($C780=\"\",\"\",IF(VLOOKUP($D780,site!$B:$F,5,0)=\"\",\"-\",VLOOKUP($D780,site!$B:$F,5,0))),IF($C780=\"\",\"\",IF(VLOOKUP($E780,site!$B:$F,4,0)=\"\",\"-\",VLOOKUP($E780,site!$B:$F,4,0))))","v":""},{"$f":"IFERROR(IF($C780=\"\",\"\",IF(VLOOKUP($D780,site!$B:$G,6,0)=\"\",\"-\",VLOOKUP($D780,site!$B:$G,6,0))),IF($C780=\"\",\"\",IF(VLOOKUP($E780,site!$B:$G,5,0)=\"\",\"-\",VLOOKUP($E780,site!$B:$G,5,0))))","v":""}]
[null,null,null,null,null,null,null,null,null,null,null,null,null,null,null,null,null,null,{"$f":"IFERROR(IF(C781=\"\",\"\",IF(VLOOKUP(D781,site!$B:$D,3,0)=\"\",\"-\",VLOOKUP(D781,site!$B:$D,3,0))),IF(C781=\"\",\"\",IF(VLOOKUP(E781,site!$C:$D,2,0)=\"\",\"-\",VLOOKUP(E781,site!$C:$D,2,0))))","v":""},{"$f":"IFERROR(IF($C781=\"\",\"\",IF(VLOOKUP($D781,site!$B:$F,4,0)=\"\",\"-\",VLOOKUP($D781,site!$B:$F,4,0))),IF($C781=\"\",\"\",IF(VLOOKUP($E781,site!$B:$F,3,0)=\"\",\"-\",VLOOKUP($E781,site!$B:$F,3,0))))","v":""},{"$f":"IFERROR(IF($C781=\"\",\"\",IF(VLOOKUP($D781,site!$B:$F,5,0)=\"\",\"-\",VLOOKUP($D781,site!$B:$F,5,0))),IF($C781=\"\",\"\",IF(VLOOKUP($E781,site!$B:$F,4,0)=\"\",\"-\",VLOOKUP($E781,site!$B:$F,4,0))))","v":""},{"$f":"IFERROR(IF($C781=\"\",\"\",IF(VLOOKUP($D781,site!$B:$G,6,0)=\"\",\"-\",VLOOKUP($D781,site!$B:$G,6,0))),IF($C781=\"\",\"\",IF(VLOOKUP($E781,site!$B:$G,5,0)=\"\",\"-\",VLOOKUP($E781,site!$B:$G,5,0))))","v":""}]
[null,null,null,null,null,null,null,null,null,null,null,null,null,null,null,null,null,null,{"$f":"IFERROR(IF(C782=\"\",\"\",IF(VLOOKUP(D782,site!$B:$D,3,0)=\"\",\"-\",VLOOKUP(D782,site!$B:$D,3,0))),IF(C782=\"\",\"\",IF(VLOOKUP(E782,site!$C:$D,2,0)=\"\",\"-\",VLOOKUP(E782,site!$C:$D,2,0))))","v":""},{"$f":"IFERROR(IF($C782=\"\",\"\",IF(VLOOKUP($D782,site!$B:$F,4,0)=\"\",\"-\",VLOOKUP($D782,site!$B:$F,4,0))),IF($C782=\"\",\"\",IF(VLOOKUP($E782,site!$B:$F,3,0)=\"\",\"-\",VLOOKUP($E782,site!$B:$F,3,0))))","v":""},{"$f":"IFERROR(IF($C782=\"\",\"\",IF(VLOOKUP($D782,site!$B:$F,5,0)=\"\",\"-\",VLOOKUP($D782,site!$B:$F,5,0))),IF($C782=\"\",\"\",IF(VLOOKUP($E782,site!$B:$F,4,0)=\"\",\"-\",VLOOKUP($E782,site!$B:$F,4,0))))","v":""},{"$f":"IFERROR(IF($C782=\"\",\"\",IF(VLOOKUP($D782,site!$B:$G,6,0)=\"\",\"-\",VLOOKUP($D782,site!$B:$G,6,0))),IF($C782=\"\",\"\",IF(VLOOKUP($E782,site!$B:$G,5,0)=\"\",\"-\",VLOOKUP($E782,site!$B:$G,5,0))))","v":""}]
[null,null,null,null,null,null,null,null,null,null,null,null,null,null,null,null,null,null,{"$f":"IFERROR(IF(C783=\"\",\"\",IF(VLOOKUP(D783,site!$B:$D,3,0)=\"\",\"-\",VLOOKUP(D783,site!$B:$D,3,0))),IF(C783=\"\",\"\",IF(VLOOKUP(E783,site!$C:$D,2,0)=\"\",\"-\",VLOOKUP(E783,site!$C:$D,2,0))))","v":""},{"$f":"IFERROR(IF($C783=\"\",\"\",IF(VLOOKUP($D783,site!$B:$F,4,0)=\"\",\"-\",VLOOKUP($D783,site!$B:$F,4,0))),IF($C783=\"\",\"\",IF(VLOOKUP($E783,site!$B:$F,3,0)=\"\",\"-\",VLOOKUP($E783,site!$B:$F,3,0))))","v":""},{"$f":"IFERROR(IF($C783=\"\",\"\",IF(VLOOKUP($D783,site!$B:$F,5,0)=\"\",\"-\",VLOOKUP($D783,site!$B:$F,5,0))),IF($C783=\"\",\"\",IF(VLOOKUP($E783,site!$B:$F,4,0)=\"\",\"-\",VLOOKUP($E783,site!$B:$F,4,0))))","v":""},{"$f":"IFERROR(IF($C783=\"\",\"\",IF(VLOOKUP($D783,site!$B:$G,6,0)=\"\",\"-\",VLOOKUP($D783,site!$B:$G,6,0))),IF($C783=\"\",\"\",IF(VLOOKUP($E783,site!$B:$G,5,0)=\"\",\"-\",VLOOKUP($E783,site!$B:$G,5,0))))","v":""}]
[null,null,null,null,null,null,null,null,null,null,null,null,null,null,null,null,null,null,{"$f":"IFERROR(IF(C784=\"\",\"\",IF(VLOOKUP(D784,site!$B:$D,3,0)=\"\",\"-\",VLOOKUP(D784,site!$B:$D,3,0))),IF(C784=\"\",\"\",IF(VLOOKUP(E784,site!$C:$D,2,0)=\"\",\"-\",VLOOKUP(E784,site!$C:$D,2,0))))","v":""},{"$f":"IFERROR(IF($C784=\"\",\"\",IF(VLOOKUP($D784,site!$B:$F,4,0)=\"\",\"-\",VLOOKUP($D784,site!$B:$F,4,0))),IF($C784=\"\",\"\",IF(VLOOKUP($E784,site!$B:$F,3,0)=\"\",\"-\",VLOOKUP($E784,site!$B:$F,3,0))))","v":""},{"$f":"IFERROR(IF($C784=\"\",\"\",IF(VLOOKUP($D784,site!$B:$F,5,0)=\"\",\"-\",VLOOKUP($D784,site!$B:$F,5,0))),IF($C784=\"\",\"\",IF(VLOOKUP($E784,site!$B:$F,4,0)=\"\",\"-\",VLOOKUP($E784,site!$B:$F,4,0))))","v":""},{"$f":"IFERROR(IF($C784=\"\",\"\",IF(VLOOKUP($D784,site!$B:$G,6,0)=\"\",\"-\",VLOOKUP($D784,site!$B:$G,6,0))),IF($C784=\"\",\"\",IF(VLOOKUP($E784,site!$B:$G,5,0)=\"\",\"-\",VLOOKUP($E784,site!$B:$G,5,0))))","v":""}]
[null,null,null,null,null,null,null,null,null,null,null,null,null,null,null,null,null,null,{"$f":"IFERROR(IF(C785=\"\",\"\",IF(VLOOKUP(D785,site!$B:$D,3,0)=\"\",\"-\",VLOOKUP(D785,site!$B:$D,3,0))),IF(C785=\"\",\"\",IF(VLOOKUP(E785,site!$C:$D,2,0)=\"\",\"-\",VLOOKUP(E785,site!$C:$D,2,0))))","v":""},{"$f":"IFERROR(IF($C785=\"\",\"\",IF(VLOOKUP($D785,site!$B:$F,4,0)=\"\",\"-\",VLOOKUP($D785,site!$B:$F,4,0))),IF($C785=\"\",\"\",IF(VLOOKUP($E785,site!$B:$F,3,0)=\"\",\"-\",VLOOKUP($E785,site!$B:$F,3,0))))","v":""},{"$f":"IFERROR(IF($C785=\"\",\"\",IF(VLOOKUP($D785,site!$B:$F,5,0)=\"\",\"-\",VLOOKUP($D785,site!$B:$F,5,0))),IF($C785=\"\",\"\",IF(VLOOKUP($E785,site!$B:$F,4,0)=\"\",\"-\",VLOOKUP($E785,site!$B:$F,4,0))))","v":""},{"$f":"IFERROR(IF($C785=\"\",\"\",IF(VLOOKUP($D785,site!$B:$G,6,0)=\"\",\"-\",VLOOKUP($D785,site!$B:$G,6,0))),IF($C785=\"\",\"\",IF(VLOOKUP($E785,site!$B:$G,5,0)=\"\",\"-\",VLOOKUP($E785,site!$B:$G,5,0))))","v":""}]
[null,null,null,null,null,null,null,null,null,null,null,null,null,null,null,null,null,null,{"$f":"IFERROR(IF(C786=\"\",\"\",IF(VLOOKUP(D786,site!$B:$D,3,0)=\"\",\"-\",VLOOKUP(D786,site!$B:$D,3,0))),IF(C786=\"\",\"\",IF(VLOOKUP(E786,site!$C:$D,2,0)=\"\",\"-\",VLOOKUP(E786,site!$C:$D,2,0))))","v":""},{"$f":"IFERROR(IF($C786=\"\",\"\",IF(VLOOKUP($D786,site!$B:$F,4,0)=\"\",\"-\",VLOOKUP($D786,site!$B:$F,4,0))),IF($C786=\"\",\"\",IF(VLOOKUP($E786,site!$B:$F,3,0)=\"\",\"-\",VLOOKUP($E786,site!$B:$F,3,0))))","v":""},{"$f":"IFERROR(IF($C786=\"\",\"\",IF(VLOOKUP($D786,site!$B:$F,5,0)=\"\",\"-\",VLOOKUP($D786,site!$B:$F,5,0))),IF($C786=\"\",\"\",IF(VLOOKUP($E786,site!$B:$F,4,0)=\"\",\"-\",VLOOKUP($E786,site!$B:$F,4,0))))","v":""},{"$f":"IFERROR(IF($C786=\"\",\"\",IF(VLOOKUP($D786,site!$B:$G,6,0)=\"\",\"-\",VLOOKUP($D786,site!$B:$G,6,0))),IF($C786=\"\",\"\",IF(VLOOKUP($E786,site!$B:$G,5,0)=\"\",\"-\",VLOOKUP($E786,site!$B:$G,5,0))))","v":""}]
[null,null,null,null,null,null,null,null,null,null,null,null,null,null,null,null,null,null,{"$f":"IFERROR(IF(C787=\"\",\"\",IF(VLOOKUP(D787,site!$B:$D,3,0)=\"\",\"-\",VLOOKUP(D787,site!$B:$D,3,0))),IF(C787=\"\",\"\",IF(VLOOKUP(E787,site!$C:$D,2,0)=\"\",\"-\",VLOOKUP(E787,site!$C:$D,2,0))))","v":""},{"$f":"IFERROR(IF($C787=\"\",\"\",IF(VLOOKUP($D787,site!$B:$F,4,0)=\"\",\"-\",VLOOKUP($D787,site!$B:$F,4,0))),IF($C787=\"\",\"\",IF(VLOOKUP($E787,site!$B:$F,3,0)=\"\",\"-\",VLOOKUP($E787,site!$B:$F,3,0))))","v":""},{"$f":"IFERROR(IF($C787=\"\",\"\",IF(VLOOKUP($D787,site!$B:$F,5,0)=\"\",\"-\",VLOOKUP($D787,site!$B:$F,5,0))),IF($C787=\"\",\"\",IF(VLOOKUP($E787,site!$B:$F,4,0)=\"\",\"-\",VLOOKUP($E787,site!$B:$F,4,0))))","v":""},{"$f":"IFERROR(IF($C787=\"\",\"\",IF(VLOOKUP($D787,site!$B:$G,6,0)=\"\",\"-\",VLOOKUP($D787,site!$B:$G,6,0))),IF($C787=\"\",\"\",IF(VLOOKUP($E787,site!$B:$G,5,0)=\"\",\"-\",VLOOKUP($E787,site!$B:$G,5,0))))","v":""}]
[null,null,null,null,null,null,null,null,null,null,null,null,null,null,null,null,null,null,{"$f":"IFERROR(IF(C788=\"\",\"\",IF(VLOOKUP(D788,site!$B:$D,3,0)=\"\",\"-\",VLOOKUP(D788,site!$B:$D,3,0))),IF(C788=\"\",\"\",IF(VLOOKUP(E788,site!$C:$D,2,0)=\"\",\"-\",VLOOKUP(E788,site!$C:$D,2,0))))","v":""},{"$f":"IFERROR(IF($C788=\"\",\"\",IF(VLOOKUP($D788,site!$B:$F,4,0)=\"\",\"-\",VLOOKUP($D788,site!$B:$F,4,0))),IF($C788=\"\",\"\",IF(VLOOKUP($E788,site!$B:$F,3,0)=\"\",\"-\",VLOOKUP($E788,site!$B:$F,3,0))))","v":""},{"$f":"IFERROR(IF($C788=\"\",\"\",IF(VLOOKUP($D788,site!$B:$F,5,0)=\"\",\"-\",VLOOKUP($D788,site!$B:$F,5,0))),IF($C788=\"\",\"\",IF(VLOOKUP($E788,site!$B:$F,4,0)=\"\",\"-\",VLOOKUP($E788,site!$B:$F,4,0))))","v":""},{"$f":"IFERROR(IF($C788=\"\",\"\",IF(VLOOKUP($D788,site!$B:$G,6,0)=\"\",\"-\",VLOOKUP($D788,site!$B:$G,6,0))),IF($C788=\"\",\"\",IF(VLOOKUP($E788,site!$B:$G,5,0)=\"\",\"-\",VLOOKUP($E788,site!$B:$G,5,0))))","v":""}]
[null,null,null,null,null,null,null,null,null,null,null,null,null,null,null,null,null,null,{"$f":"IFERROR(IF(C789=\"\",\"\",IF(VLOOKUP(D789,site!$B:$D,3,0)=\"\",\"-\",VLOOKUP(D789,site!$B:$D,3,0))),IF(C789=\"\",\"\",IF(VLOOKUP(E789,site!$C:$D,2,0)=\"\",\"-\",VLOOKUP(E789,site!$C:$D,2,0))))","v":""},{"$f":"IFERROR(IF($C789=\"\",\"\",IF(VLOOKUP($D789,site!$B:$F,4,0)=\"\",\"-\",VLOOKUP($D789,site!$B:$F,4,0))),IF($C789=\"\",\"\",IF(VLOOKUP($E789,site!$B:$F,3,0)=\"\",\"-\",VLOOKUP($E789,site!$B:$F,3,0))))","v":""},{"$f":"IFERROR(IF($C789=\"\",\"\",IF(VLOOKUP($D789,site!$B:$F,5,0)=\"\",\"-\",VLOOKUP($D789,site!$B:$F,5,0))),IF($C789=\"\",\"\",IF(VLOOKUP($E789,site!$B:$F,4,0)=\"\",\"-\",VLOOKUP($E789,site!$B:$F,4,0))))","v":""},{"$f":"IFERROR(IF($C789=\"\",\"\",IF(VLOOKUP($D789,site!$B:$G,6,0)=\"\",\"-\",VLOOKUP($D789,site!$B:$G,6,0))),IF($C789=\"\",\"\",IF(VLOOKUP($E789,site!$B:$G,5,0)=\"\",\"-\",VLOOKUP($E789,site!$B:$G,5,0))))","v":""}]
[null,null,null,null,null,null,null,null,null,null,null,null,null,null,null,null,null,null,{"$f":"IFERROR(IF(C790=\"\",\"\",IF(VLOOKUP(D790,site!$B:$D,3,0)=\"\",\"-\",VLOOKUP(D790,site!$B:$D,3,0))),IF(C790=\"\",\"\",IF(VLOOKUP(E790,site!$C:$D,2,0)=\"\",\"-\",VLOOKUP(E790,site!$C:$D,2,0))))","v":""},{"$f":"IFERROR(IF($C790=\"\",\"\",IF(VLOOKUP($D790,site!$B:$F,4,0)=\"\",\"-\",VLOOKUP($D790,site!$B:$F,4,0))),IF($C790=\"\",\"\",IF(VLOOKUP($E790,site!$B:$F,3,0)=\"\",\"-\",VLOOKUP($E790,site!$B:$F,3,0))))","v":""},{"$f":"IFERROR(IF($C790=\"\",\"\",IF(VLOOKUP($D790,site!$B:$F,5,0)=\"\",\"-\",VLOOKUP($D790,site!$B:$F,5,0))),IF($C790=\"\",\"\",IF(VLOOKUP($E790,site!$B:$F,4,0)=\"\",\"-\",VLOOKUP($E790,site!$B:$F,4,0))))","v":""},{"$f":"IFERROR(IF($C790=\"\",\"\",IF(VLOOKUP($D790,site!$B:$G,6,0)=\"\",\"-\",VLOOKUP($D790,site!$B:$G,6,0))),IF($C790=\"\",\"\",IF(VLOOKUP($E790,site!$B:$G,5,0)=\"\",\"-\",VLOOKUP($E790,site!$B:$G,5,0))))","v":""}]
[null,null,null,null,null,null,null,null,null,null,null,null,null,null,null,null,null,null,{"$f":"IFERROR(IF(C791=\"\",\"\",IF(VLOOKUP(D791,site!$B:$D,3,0)=\"\",\"-\",VLOOKUP(D791,site!$B:$D,3,0))),IF(C791=\"\",\"\",IF(VLOOKUP(E791,site!$C:$D,2,0)=\"\",\"-\",VLOOKUP(E791,site!$C:$D,2,0))))","v":""},{"$f":"IFERROR(IF($C791=\"\",\"\",IF(VLOOKUP($D791,site!$B:$F,4,0)=\"\",\"-\",VLOOKUP($D791,site!$B:$F,4,0))),IF($C791=\"\",\"\",IF(VLOOKUP($E791,site!$B:$F,3,0)=\"\",\"-\",VLOOKUP($E791,site!$B:$F,3,0))))","v":""},{"$f":"IFERROR(IF($C791=\"\",\"\",IF(VLOOKUP($D791,site!$B:$F,5,0)=\"\",\"-\",VLOOKUP($D791,site!$B:$F,5,0))),IF($C791=\"\",\"\",IF(VLOOKUP($E791,site!$B:$F,4,0)=\"\",\"-\",VLOOKUP($E791,site!$B:$F,4,0))))","v":""},{"$f":"IFERROR(IF($C791=\"\",\"\",IF(VLOOKUP($D791,site!$B:$G,6,0)=\"\",\"-\",VLOOKUP($D791,site!$B:$G,6,0))),IF($C791=\"\",\"\",IF(VLOOKUP($E791,site!$B:$G,5,0)=\"\",\"-\",VLOOKUP($E791,site!$B:$G,5,0))))","v":""}]
[null,null,null,null,null,null,null,null,null,null,null,null,null,null,null,null,null,null,{"$f":"IFERROR(IF(C792=\"\",\"\",IF(VLOOKUP(D792,site!$B:$D,3,0)=\"\",\"-\",VLOOKUP(D792,site!$B:$D,3,0))),IF(C792=\"\",\"\",IF(VLOOKUP(E792,site!$C:$D,2,0)=\"\",\"-\",VLOOKUP(E792,site!$C:$D,2,0))))","v":""},{"$f":"IFERROR(IF($C792=\"\",\"\",IF(VLOOKUP($D792,site!$B:$F,4,0)=\"\",\"-\",VLOOKUP($D792,site!$B:$F,4,0))),IF($C792=\"\",\"\",IF(VLOOKUP($E792,site!$B:$F,3,0)=\"\",\"-\",VLOOKUP($E792,site!$B:$F,3,0))))","v":""},{"$f":"IFERROR(IF($C792=\"\",\"\",IF(VLOOKUP($D792,site!$B:$F,5,0)=\"\",\"-\",VLOOKUP($D792,site!$B:$F,5,0))),IF($C792=\"\",\"\",IF(VLOOKUP($E792,site!$B:$F,4,0)=\"\",\"-\",VLOOKUP($E792,site!$B:$F,4,0))))","v":""},{"$f":"IFERROR(IF($C792=\"\",\"\",IF(VLOOKUP($D792,site!$B:$G,6,0)=\"\",\"-\",VLOOKUP($D792,site!$B:$G,6,0))),IF($C792=\"\",\"\",IF(VLOOKUP($E792,site!$B:$G,5,0)=\"\",\"-\",VLOOKUP($E792,site!$B:$G,5,0))))","v":""}]
[null,null,null,null,null,null,null,null,null,null,null,null,null,null,null,null,null,null,{"$f":"IFERROR(IF(C793=\"\",\"\",IF(VLOOKUP(D793,site!$B:$D,3,0)=\"\",\"-\",VLOOKUP(D793,site!$B:$D,3,0))),IF(C793=\"\",\"\",IF(VLOOKUP(E793,site!$C:$D,2,0)=\"\",\"-\",VLOOKUP(E793,site!$C:$D,2,0))))","v":""},{"$f":"IFERROR(IF($C793=\"\",\"\",IF(VLOOKUP($D793,site!$B:$F,4,0)=\"\",\"-\",VLOOKUP($D793,site!$B:$F,4,0))),IF($C793=\"\",\"\",IF(VLOOKUP($E793,site!$B:$F,3,0)=\"\",\"-\",VLOOKUP($E793,site!$B:$F,3,0))))","v":""},{"$f":"IFERROR(IF($C793=\"\",\"\",IF(VLOOKUP($D793,site!$B:$F,5,0)=\"\",\"-\",VLOOKUP($D793,site!$B:$F,5,0))),IF($C793=\"\",\"\",IF(VLOOKUP($E793,site!$B:$F,4,0)=\"\",\"-\",VLOOKUP($E793,site!$B:$F,4,0))))","v":""},{"$f":"IFERROR(IF($C793=\"\",\"\",IF(VLOOKUP($D793,site!$B:$G,6,0)=\"\",\"-\",VLOOKUP($D793,site!$B:$G,6,0))),IF($C793=\"\",\"\",IF(VLOOKUP($E793,site!$B:$G,5,0)=\"\",\"-\",VLOOKUP($E793,site!$B:$G,5,0))))","v":""}]
[null,null,null,null,null,null,null,null,null,null,null,null,null,null,null,null,null,null,{"$f":"IFERROR(IF(C794=\"\",\"\",IF(VLOOKUP(D794,site!$B:$D,3,0)=\"\",\"-\",VLOOKUP(D794,site!$B:$D,3,0))),IF(C794=\"\",\"\",IF(VLOOKUP(E794,site!$C:$D,2,0)=\"\",\"-\",VLOOKUP(E794,site!$C:$D,2,0))))","v":""},{"$f":"IFERROR(IF($C794=\"\",\"\",IF(VLOOKUP($D794,site!$B:$F,4,0)=\"\",\"-\",VLOOKUP($D794,site!$B:$F,4,0))),IF($C794=\"\",\"\",IF(VLOOKUP($E794,site!$B:$F,3,0)=\"\",\"-\",VLOOKUP($E794,site!$B:$F,3,0))))","v":""},{"$f":"IFERROR(IF($C794=\"\",\"\",IF(VLOOKUP($D794,site!$B:$F,5,0)=\"\",\"-\",VLOOKUP($D794,site!$B:$F,5,0))),IF($C794=\"\",\"\",IF(VLOOKUP($E794,site!$B:$F,4,0)=\"\",\"-\",VLOOKUP($E794,site!$B:$F,4,0))))","v":""},{"$f":"IFERROR(IF($C794=\"\",\"\",IF(VLOOKUP($D794,site!$B:$G,6,0)=\"\",\"-\",VLOOKUP($D794,site!$B:$G,6,0))),IF($C794=\"\",\"\",IF(VLOOKUP($E794,site!$B:$G,5,0)=\"\",\"-\",VLOOKUP($E794,site!$B:$G,5,0))))","v":""}]
[null,null,null,null,null,null,null,null,null,null,null,null,null,null,null,null,null,null,{"$f":"IFERROR(IF(C795=\"\",\"\",IF(VLOOKUP(D795,site!$B:$D,3,0)=\"\",\"-\",VLOOKUP(D795,site!$B:$D,3,0))),IF(C795=\"\",\"\",IF(VLOOKUP(E795,site!$C:$D,2,0)=\"\",\"-\",VLOOKUP(E795,site!$C:$D,2,0))))","v":""},{"$f":"IFERROR(IF($C795=\"\",\"\",IF(VLOOKUP($D795,site!$B:$F,4,0)=\"\",\"-\",VLOOKUP($D795,site!$B:$F,4,0))),IF($C795=\"\",\"\",IF(VLOOKUP($E795,site!$B:$F,3,0)=\"\",\"-\",VLOOKUP($E795,site!$B:$F,3,0))))","v":""},{"$f":"IFERROR(IF($C795=\"\",\"\",IF(VLOOKUP($D795,site!$B:$F,5,0)=\"\",\"-\",VLOOKUP($D795,site!$B:$F,5,0))),IF($C795=\"\",\"\",IF(VLOOKUP($E795,site!$B:$F,4,0)=\"\",\"-\",VLOOKUP($E795,site!$B:$F,4,0))))","v":""},{"$f":"IFERROR(IF($C795=\"\",\"\",IF(VLOOKUP($D795,site!$B:$G,6,0)=\"\",\"-\",VLOOKUP($D795,site!$B:$G,6,0))),IF($C795=\"\",\"\",IF(VLOOKUP($E795,site!$B:$G,5,0)=\"\",\"-\",VLOOKUP($E795,site!$B:$G,5,0))))","v":""}]
[null,null,null,null,null,null,null,null,null,null,null,null,null,null,null,null,null,null,{"$f":"IFERROR(IF(C796=\"\",\"\",IF(VLOOKUP(D796,site!$B:$D,3,0)=\"\",\"-\",VLOOKUP(D796,site!$B:$D,3,0))),IF(C796=\"\",\"\",IF(VLOOKUP(E796,site!$C:$D,2,0)=\"\",\"-\",VLOOKUP(E796,site!$C:$D,2,0))))","v":""},{"$f":"IFERROR(IF($C796=\"\",\"\",IF(VLOOKUP($D796,site!$B:$F,4,0)=\"\",\"-\",VLOOKUP($D796,site!$B:$F,4,0))),IF($C796=\"\",\"\",IF(VLOOKUP($E796,site!$B:$F,3,0)=\"\",\"-\",VLOOKUP($E796,site!$B:$F,3,0))))","v":""},{"$f":"IFERROR(IF($C796=\"\",\"\",IF(VLOOKUP($D796,site!$B:$F,5,0)=\"\",\"-\",VLOOKUP($D796,site!$B:$F,5,0))),IF($C796=\"\",\"\",IF(VLOOKUP($E796,site!$B:$F,4,0)=\"\",\"-\",VLOOKUP($E796,site!$B:$F,4,0))))","v":""},{"$f":"IFERROR(IF($C796=\"\",\"\",IF(VLOOKUP($D796,site!$B:$G,6,0)=\"\",\"-\",VLOOKUP($D796,site!$B:$G,6,0))),IF($C796=\"\",\"\",IF(VLOOKUP($E796,site!$B:$G,5,0)=\"\",\"-\",VLOOKUP($E796,site!$B:$G,5,0))))","v":""}]
[null,null,null,null,null,null,null,null,null,null,null,null,null,null,null,null,null,null,{"$f":"IFERROR(IF(C797=\"\",\"\",IF(VLOOKUP(D797,site!$B:$D,3,0)=\"\",\"-\",VLOOKUP(D797,site!$B:$D,3,0))),IF(C797=\"\",\"\",IF(VLOOKUP(E797,site!$C:$D,2,0)=\"\",\"-\",VLOOKUP(E797,site!$C:$D,2,0))))","v":""},{"$f":"IFERROR(IF($C797=\"\",\"\",IF(VLOOKUP($D797,site!$B:$F,4,0)=\"\",\"-\",VLOOKUP($D797,site!$B:$F,4,0))),IF($C797=\"\",\"\",IF(VLOOKUP($E797,site!$B:$F,3,0)=\"\",\"-\",VLOOKUP($E797,site!$B:$F,3,0))))","v":""},{"$f":"IFERROR(IF($C797=\"\",\"\",IF(VLOOKUP($D797,site!$B:$F,5,0)=\"\",\"-\",VLOOKUP($D797,site!$B:$F,5,0))),IF($C797=\"\",\"\",IF(VLOOKUP($E797,site!$B:$F,4,0)=\"\",\"-\",VLOOKUP($E797,site!$B:$F,4,0))))","v":""},{"$f":"IFERROR(IF($C797=\"\",\"\",IF(VLOOKUP($D797,site!$B:$G,6,0)=\"\",\"-\",VLOOKUP($D797,site!$B:$G,6,0))),IF($C797=\"\",\"\",IF(VLOOKUP($E797,site!$B:$G,5,0)=\"\",\"-\",VLOOKUP($E797,site!$B:$G,5,0))))","v":""}]
[null,null,null,null,null,null,null,null,null,null,null,null,null,null,null,null,null,null,{"$f":"IFERROR(IF(C798=\"\",\"\",IF(VLOOKUP(D798,site!$B:$D,3,0)=\"\",\"-\",VLOOKUP(D798,site!$B:$D,3,0))),IF(C798=\"\",\"\",IF(VLOOKUP(E798,site!$C:$D,2,0)=\"\",\"-\",VLOOKUP(E798,site!$C:$D,2,0))))","v":""},{"$f":"IFERROR(IF($C798=\"\",\"\",IF(VLOOKUP($D798,site!$B:$F,4,0)=\"\",\"-\",VLOOKUP($D798,site!$B:$F,4,0))),IF($C798=\"\",\"\",IF(VLOOKUP($E798,site!$B:$F,3,0)=\"\",\"-\",VLOOKUP($E798,site!$B:$F,3,0))))","v":""},{"$f":"IFERROR(IF($C798=\"\",\"\",IF(VLOOKUP($D798,site!$B:$F,5,0)=\"\",\"-\",VLOOKUP($D798,site!$B:$F,5,0))),IF($C798=\"\",\"\",IF(VLOOKUP($E798,site!$B:$F,4,0)=\"\",\"-\",VLOOKUP($E798,site!$B:$F,4,0))))","v":""},{"$f":"IFERROR(IF($C798=\"\",\"\",IF(VLOOKUP($D798,site!$B:$G,6,0)=\"\",\"-\",VLOOKUP($D798,site!$B:$G,6,0))),IF($C798=\"\",\"\",IF(VLOOKUP($E798,site!$B:$G,5,0)=\"\",\"-\",VLOOKUP($E798,site!$B:$G,5,0))))","v":""}]
[null,null,null,null,null,null,null,null,null,null,null,null,null,null,null,null,null,null,{"$f":"IFERROR(IF(C799=\"\",\"\",IF(VLOOKUP(D799,site!$B:$D,3,0)=\"\",\"-\",VLOOKUP(D799,site!$B:$D,3,0))),IF(C799=\"\",\"\",IF(VLOOKUP(E799,site!$C:$D,2,0)=\"\",\"-\",VLOOKUP(E799,site!$C:$D,2,0))))","v":""},{"$f":"IFERROR(IF($C799=\"\",\"\",IF(VLOOKUP($D799,site!$B:$F,4,0)=\"\",\"-\",VLOOKUP($D799,site!$B:$F,4,0))),IF($C799=\"\",\"\",IF(VLOOKUP($E799,site!$B:$F,3,0)=\"\",\"-\",VLOOKUP($E799,site!$B:$F,3,0))))","v":""},{"$f":"IFERROR(IF($C799=\"\",\"\",IF(VLOOKUP($D799,site!$B:$F,5,0)=\"\",\"-\",VLOOKUP($D799,site!$B:$F,5,0))),IF($C799=\"\",\"\",IF(VLOOKUP($E799,site!$B:$F,4,0)=\"\",\"-\",VLOOKUP($E799,site!$B:$F,4,0))))","v":""},{"$f":"IFERROR(IF($C799=\"\",\"\",IF(VLOOKUP($D799,site!$B:$G,6,0)=\"\",\"-\",VLOOKUP($D799,site!$B:$G,6,0))),IF($C799=\"\",\"\",IF(VLOOKUP($E799,site!$B:$G,5,0)=\"\",\"-\",VLOOKUP($E799,site!$B:$G,5,0))))","v":""}]
[null,null,null,null,null,null,null,null,null,null,null,null,null,null,null,null,null,null,{"$f":"IFERROR(IF(C800=\"\",\"\",IF(VLOOKUP(D800,site!$B:$D,3,0)=\"\",\"-\",VLOOKUP(D800,site!$B:$D,3,0))),IF(C800=\"\",\"\",IF(VLOOKUP(E800,site!$C:$D,2,0)=\"\",\"-\",VLOOKUP(E800,site!$C:$D,2,0))))","v":""},{"$f":"IFERROR(IF($C800=\"\",\"\",IF(VLOOKUP($D800,site!$B:$F,4,0)=\"\",\"-\",VLOOKUP($D800,site!$B:$F,4,0))),IF($C800=\"\",\"\",IF(VLOOKUP($E800,site!$B:$F,3,0)=\"\",\"-\",VLOOKUP($E800,site!$B:$F,3,0))))","v":""},{"$f":"IFERROR(IF($C800=\"\",\"\",IF(VLOOKUP($D800,site!$B:$F,5,0)=\"\",\"-\",VLOOKUP($D800,site!$B:$F,5,0))),IF($C800=\"\",\"\",IF(VLOOKUP($E800,site!$B:$F,4,0)=\"\",\"-\",VLOOKUP($E800,site!$B:$F,4,0))))","v":""},{"$f":"IFERROR(IF($C800=\"\",\"\",IF(VLOOKUP($D800,site!$B:$G,6,0)=\"\",\"-\",VLOOKUP($D800,site!$B:$G,6,0))),IF($C800=\"\",\"\",IF(VLOOKUP($E800,site!$B:$G,5,0)=\"\",\"-\",VLOOKUP($E800,site!$B:$G,5,0))))","v":""}]
[null,null,null,null,null,null,null,null,null,null,null,null,null,null,null,null,null,null,{"$f":"IFERROR(IF(C801=\"\",\"\",IF(VLOOKUP(D801,site!$B:$D,3,0)=\"\",\"-\",VLOOKUP(D801,site!$B:$D,3,0))),IF(C801=\"\",\"\",IF(VLOOKUP(E801,site!$C:$D,2,0)=\"\",\"-\",VLOOKUP(E801,site!$C:$D,2,0))))","v":""},{"$f":"IFERROR(IF($C801=\"\",\"\",IF(VLOOKUP($D801,site!$B:$F,4,0)=\"\",\"-\",VLOOKUP($D801,site!$B:$F,4,0))),IF($C801=\"\",\"\",IF(VLOOKUP($E801,site!$B:$F,3,0)=\"\",\"-\",VLOOKUP($E801,site!$B:$F,3,0))))","v":""},{"$f":"IFERROR(IF($C801=\"\",\"\",IF(VLOOKUP($D801,site!$B:$F,5,0)=\"\",\"-\",VLOOKUP($D801,site!$B:$F,5,0))),IF($C801=\"\",\"\",IF(VLOOKUP($E801,site!$B:$F,4,0)=\"\",\"-\",VLOOKUP($E801,site!$B:$F,4,0))))","v":""},{"$f":"IFERROR(IF($C801=\"\",\"\",IF(VLOOKUP($D801,site!$B:$G,6,0)=\"\",\"-\",VLOOKUP($D801,site!$B:$G,6,0))),IF($C801=\"\",\"\",IF(VLOOKUP($E801,site!$B:$G,5,0)=\"\",\"-\",VLOOKUP($E801,site!$B:$G,5,0))))","v":""}]
[null,null,null,null,null,null,null,null,null,null,null,null,null,null,null,null,null,null,{"$f":"IFERROR(IF(C802=\"\",\"\",IF(VLOOKUP(D802,site!$B:$D,3,0)=\"\",\"-\",VLOOKUP(D802,site!$B:$D,3,0))),IF(C802=\"\",\"\",IF(VLOOKUP(E802,site!$C:$D,2,0)=\"\",\"-\",VLOOKUP(E802,site!$C:$D,2,0))))","v":""},{"$f":"IFERROR(IF($C802=\"\",\"\",IF(VLOOKUP($D802,site!$B:$F,4,0)=\"\",\"-\",VLOOKUP($D802,site!$B:$F,4,0))),IF($C802=\"\",\"\",IF(VLOOKUP($E802,site!$B:$F,3,0)=\"\",\"-\",VLOOKUP($E802,site!$B:$F,3,0))))","v":""},{"$f":"IFERROR(IF($C802=\"\",\"\",IF(VLOOKUP($D802,site!$B:$F,5,0)=\"\",\"-\",VLOOKUP($D802,site!$B:$F,5,0))),IF($C802=\"\",\"\",IF(VLOOKUP($E802,site!$B:$F,4,0)=\"\",\"-\",VLOOKUP($E802,site!$B:$F,4,0))))","v":""},{"$f":"IFERROR(IF($C802=\"\",\"\",IF(VLOOKUP($D802,site!$B:$G,6,0)=\"\",\"-\",VLOOKUP($D802,site!$B:$G,6,0))),IF($C802=\"\",\"\",IF(VLOOKUP($E802,site!$B:$G,5,0)=\"\",\"-\",VLOOKUP($E802,site!$B:$G,5,0))))","v":""}]
[null,null,null,null,null,null,null,null,null,null,null,null,null,null,null,null,null,null,{"$f":"IFERROR(IF(C803=\"\",\"\",IF(VLOOKUP(D803,site!$B:$D,3,0)=\"\",\"-\",VLOOKUP(D803,site!$B:$D,3,0))),IF(C803=\"\",\"\",IF(VLOOKUP(E803,site!$C:$D,2,0)=\"\",\"-\",VLOOKUP(E803,site!$C:$D,2,0))))","v":""},{"$f":"IFERROR(IF($C803=\"\",\"\",IF(VLOOKUP($D803,site!$B:$F,4,0)=\"\",\"-\",VLOOKUP($D803,site!$B:$F,4,0))),IF($C803=\"\",\"\",IF(VLOOKUP($E803,site!$B:$F,3,0)=\"\",\"-\",VLOOKUP($E803,site!$B:$F,3,0))))","v":""},{"$f":"IFERROR(IF($C803=\"\",\"\",IF(VLOOKUP($D803,site!$B:$F,5,0)=\"\",\"-\",VLOOKUP($D803,site!$B:$F,5,0))),IF($C803=\"\",\"\",IF(VLOOKUP($E803,site!$B:$F,4,0)=\"\",\"-\",VLOOKUP($E803,site!$B:$F,4,0))))","v":""},{"$f":"IFERROR(IF($C803=\"\",\"\",IF(VLOOKUP($D803,site!$B:$G,6,0)=\"\",\"-\",VLOOKUP($D803,site!$B:$G,6,0))),IF($C803=\"\",\"\",IF(VLOOKUP($E803,site!$B:$G,5,0)=\"\",\"-\",VLOOKUP($E803,site!$B:$G,5,0))))","v":""}]
[null,null,null,null,null,null,null,null,null,null,null,null,null,null,null,null,null,null,{"$f":"IFERROR(IF(C804=\"\",\"\",IF(VLOOKUP(D804,site!$B:$D,3,0)=\"\",\"-\",VLOOKUP(D804,site!$B:$D,3,0))),IF(C804=\"\",\"\",IF(VLOOKUP(E804,site!$C:$D,2,0)=\"\",\"-\",VLOOKUP(E804,site!$C:$D,2,0))))","v":""},{"$f":"IFERROR(IF($C804=\"\",\"\",IF(VLOOKUP($D804,site!$B:$F,4,0)=\"\",\"-\",VLOOKUP($D804,site!$B:$F,4,0))),IF($C804=\"\",\"\",IF(VLOOKUP($E804,site!$B:$F,3,0)=\"\",\"-\",VLOOKUP($E804,site!$B:$F,3,0))))","v":""},{"$f":"IFERROR(IF($C804=\"\",\"\",IF(VLOOKUP($D804,site!$B:$F,5,0)=\"\",\"-\",VLOOKUP($D804,site!$B:$F,5,0))),IF($C804=\"\",\"\",IF(VLOOKUP($E804,site!$B:$F,4,0)=\"\",\"-\",VLOOKUP($E804,site!$B:$F,4,0))))","v":""},{"$f":"IFERROR(IF($C804=\"\",\"\",IF(VLOOKUP($D804,site!$B:$G,6,0)=\"\",\"-\",VLOOKUP($D804,site!$B:$G,6,0))),IF($C804=\"\",\"\",IF(VLOOKUP($E804,site!$B:$G,5,0)=\"\",\"-\",VLOOKUP($E804,site!$B:$G,5,0))))","v":""}]
[null,null,null,null,null,null,null,null,null,null,null,null,null,null,null,null,null,null,{"$f":"IFERROR(IF(C805=\"\",\"\",IF(VLOOKUP(D805,site!$B:$D,3,0)=\"\",\"-\",VLOOKUP(D805,site!$B:$D,3,0))),IF(C805=\"\",\"\",IF(VLOOKUP(E805,site!$C:$D,2,0)=\"\",\"-\",VLOOKUP(E805,site!$C:$D,2,0))))","v":""},{"$f":"IFERROR(IF($C805=\"\",\"\",IF(VLOOKUP($D805,site!$B:$F,4,0)=\"\",\"-\",VLOOKUP($D805,site!$B:$F,4,0))),IF($C805=\"\",\"\",IF(VLOOKUP($E805,site!$B:$F,3,0)=\"\",\"-\",VLOOKUP($E805,site!$B:$F,3,0))))","v":""},{"$f":"IFERROR(IF($C805=\"\",\"\",IF(VLOOKUP($D805,site!$B:$F,5,0)=\"\",\"-\",VLOOKUP($D805,site!$B:$F,5,0))),IF($C805=\"\",\"\",IF(VLOOKUP($E805,site!$B:$F,4,0)=\"\",\"-\",VLOOKUP($E805,site!$B:$F,4,0))))","v":""},{"$f":"IFERROR(IF($C805=\"\",\"\",IF(VLOOKUP($D805,site!$B:$G,6,0)=\"\",\"-\",VLOOKUP($D805,site!$B:$G,6,0))),IF($C805=\"\",\"\",IF(VLOOKUP($E805,site!$B:$G,5,0)=\"\",\"-\",VLOOKUP($E805,site!$B:$G,5,0))))","v":""}]
[null,null,null,null,null,null,null,null,null,null,null,null,null,null,null,null,null,null,{"$f":"IFERROR(IF(C806=\"\",\"\",IF(VLOOKUP(D806,site!$B:$D,3,0)=\"\",\"-\",VLOOKUP(D806,site!$B:$D,3,0))),IF(C806=\"\",\"\",IF(VLOOKUP(E806,site!$C:$D,2,0)=\"\",\"-\",VLOOKUP(E806,site!$C:$D,2,0))))","v":""},{"$f":"IFERROR(IF($C806=\"\",\"\",IF(VLOOKUP($D806,site!$B:$F,4,0)=\"\",\"-\",VLOOKUP($D806,site!$B:$F,4,0))),IF($C806=\"\",\"\",IF(VLOOKUP($E806,site!$B:$F,3,0)=\"\",\"-\",VLOOKUP($E806,site!$B:$F,3,0))))","v":""},{"$f":"IFERROR(IF($C806=\"\",\"\",IF(VLOOKUP($D806,site!$B:$F,5,0)=\"\",\"-\",VLOOKUP($D806,site!$B:$F,5,0))),IF($C806=\"\",\"\",IF(VLOOKUP($E806,site!$B:$F,4,0)=\"\",\"-\",VLOOKUP($E806,site!$B:$F,4,0))))","v":""},{"$f":"IFERROR(IF($C806=\"\",\"\",IF(VLOOKUP($D806,site!$B:$G,6,0)=\"\",\"-\",VLOOKUP($D806,site!$B:$G,6,0))),IF($C806=\"\",\"\",IF(VLOOKUP($E806,site!$B:$G,5,0)=\"\",\"-\",VLOOKUP($E806,site!$B:$G,5,0))))","v":""}]
[null,null,null,null,null,null,null,null,null,null,null,null,null,null,null,null,null,null,{"$f":"IFERROR(IF(C807=\"\",\"\",IF(VLOOKUP(D807,site!$B:$D,3,0)=\"\",\"-\",VLOOKUP(D807,site!$B:$D,3,0))),IF(C807=\"\",\"\",IF(VLOOKUP(E807,site!$C:$D,2,0)=\"\",\"-\",VLOOKUP(E807,site!$C:$D,2,0))))","v":""},{"$f":"IFERROR(IF($C807=\"\",\"\",IF(VLOOKUP($D807,site!$B:$F,4,0)=\"\",\"-\",VLOOKUP($D807,site!$B:$F,4,0))),IF($C807=\"\",\"\",IF(VLOOKUP($E807,site!$B:$F,3,0)=\"\",\"-\",VLOOKUP($E807,site!$B:$F,3,0))))","v":""},{"$f":"IFERROR(IF($C807=\"\",\"\",IF(VLOOKUP($D807,site!$B:$F,5,0)=\"\",\"-\",VLOOKUP($D807,site!$B:$F,5,0))),IF($C807=\"\",\"\",IF(VLOOKUP($E807,site!$B:$F,4,0)=\"\",\"-\",VLOOKUP($E807,site!$B:$F,4,0))))","v":""},{"$f":"IFERROR(IF($C807=\"\",\"\",IF(VLOOKUP($D807,site!$B:$G,6,0)=\"\",\"-\",VLOOKUP($D807,site!$B:$G,6,0))),IF($C807=\"\",\"\",IF(VLOOKUP($E807,site!$B:$G,5,0)=\"\",\"-\",VLOOKUP($E807,site!$B:$G,5,0))))","v":""}]
[null,null,null,null,null,null,null,null,null,null,null,null,null,null,null,null,null,null,{"$f":"IFERROR(IF(C808=\"\",\"\",IF(VLOOKUP(D808,site!$B:$D,3,0)=\"\",\"-\",VLOOKUP(D808,site!$B:$D,3,0))),IF(C808=\"\",\"\",IF(VLOOKUP(E808,site!$C:$D,2,0)=\"\",\"-\",VLOOKUP(E808,site!$C:$D,2,0))))","v":""},{"$f":"IFERROR(IF($C808=\"\",\"\",IF(VLOOKUP($D808,site!$B:$F,4,0)=\"\",\"-\",VLOOKUP($D808,site!$B:$F,4,0))),IF($C808=\"\",\"\",IF(VLOOKUP($E808,site!$B:$F,3,0)=\"\",\"-\",VLOOKUP($E808,site!$B:$F,3,0))))","v":""},{"$f":"IFERROR(IF($C808=\"\",\"\",IF(VLOOKUP($D808,site!$B:$F,5,0)=\"\",\"-\",VLOOKUP($D808,site!$B:$F,5,0))),IF($C808=\"\",\"\",IF(VLOOKUP($E808,site!$B:$F,4,0)=\"\",\"-\",VLOOKUP($E808,site!$B:$F,4,0))))","v":""},{"$f":"IFERROR(IF($C808=\"\",\"\",IF(VLOOKUP($D808,site!$B:$G,6,0)=\"\",\"-\",VLOOKUP($D808,site!$B:$G,6,0))),IF($C808=\"\",\"\",IF(VLOOKUP($E808,site!$B:$G,5,0)=\"\",\"-\",VLOOKUP($E808,site!$B:$G,5,0))))","v":""}]
[null,null,null,null,null,null,null,null,null,null,null,null,null,null,null,null,null,null,{"$f":"IFERROR(IF(C809=\"\",\"\",IF(VLOOKUP(D809,site!$B:$D,3,0)=\"\",\"-\",VLOOKUP(D809,site!$B:$D,3,0))),IF(C809=\"\",\"\",IF(VLOOKUP(E809,site!$C:$D,2,0)=\"\",\"-\",VLOOKUP(E809,site!$C:$D,2,0))))","v":""},{"$f":"IFERROR(IF($C809=\"\",\"\",IF(VLOOKUP($D809,site!$B:$F,4,0)=\"\",\"-\",VLOOKUP($D809,site!$B:$F,4,0))),IF($C809=\"\",\"\",IF(VLOOKUP($E809,site!$B:$F,3,0)=\"\",\"-\",VLOOKUP($E809,site!$B:$F,3,0))))","v":""},{"$f":"IFERROR(IF($C809=\"\",\"\",IF(VLOOKUP($D809,site!$B:$F,5,0)=\"\",\"-\",VLOOKUP($D809,site!$B:$F,5,0))),IF($C809=\"\",\"\",IF(VLOOKUP($E809,site!$B:$F,4,0)=\"\",\"-\",VLOOKUP($E809,site!$B:$F,4,0))))","v":""},{"$f":"IFERROR(IF($C809=\"\",\"\",IF(VLOOKUP($D809,site!$B:$G,6,0)=\"\",\"-\",VLOOKUP($D809,site!$B:$G,6,0))),IF($C809=\"\",\"\",IF(VLOOKUP($E809,site!$B:$G,5,0)=\"\",\"-\",VLOOKUP($E809,site!$B:$G,5,0))))","v":""}]
[null,null,null,null,null,null,null,null,null,null,null,null,null,null,null,null,null,null,{"$f":"IFERROR(IF(C810=\"\",\"\",IF(VLOOKUP(D810,site!$B:$D,3,0)=\"\",\"-\",VLOOKUP(D810,site!$B:$D,3,0))),IF(C810=\"\",\"\",IF(VLOOKUP(E810,site!$C:$D,2,0)=\"\",\"-\",VLOOKUP(E810,site!$C:$D,2,0))))","v":""},{"$f":"IFERROR(IF($C810=\"\",\"\",IF(VLOOKUP($D810,site!$B:$F,4,0)=\"\",\"-\",VLOOKUP($D810,site!$B:$F,4,0))),IF($C810=\"\",\"\",IF(VLOOKUP($E810,site!$B:$F,3,0)=\"\",\"-\",VLOOKUP($E810,site!$B:$F,3,0))))","v":""},{"$f":"IFERROR(IF($C810=\"\",\"\",IF(VLOOKUP($D810,site!$B:$F,5,0)=\"\",\"-\",VLOOKUP($D810,site!$B:$F,5,0))),IF($C810=\"\",\"\",IF(VLOOKUP($E810,site!$B:$F,4,0)=\"\",\"-\",VLOOKUP($E810,site!$B:$F,4,0))))","v":""},{"$f":"IFERROR(IF($C810=\"\",\"\",IF(VLOOKUP($D810,site!$B:$G,6,0)=\"\",\"-\",VLOOKUP($D810,site!$B:$G,6,0))),IF($C810=\"\",\"\",IF(VLOOKUP($E810,site!$B:$G,5,0)=\"\",\"-\",VLOOKUP($E810,site!$B:$G,5,0))))","v":""}]
[null,null,null,null,null,null,null,null,null,null,null,null,null,null,null,null,null,null,{"$f":"IFERROR(IF(C811=\"\",\"\",IF(VLOOKUP(D811,site!$B:$D,3,0)=\"\",\"-\",VLOOKUP(D811,site!$B:$D,3,0))),IF(C811=\"\",\"\",IF(VLOOKUP(E811,site!$C:$D,2,0)=\"\",\"-\",VLOOKUP(E811,site!$C:$D,2,0))))","v":""},{"$f":"IFERROR(IF($C811=\"\",\"\",IF(VLOOKUP($D811,site!$B:$F,4,0)=\"\",\"-\",VLOOKUP($D811,site!$B:$F,4,0))),IF($C811=\"\",\"\",IF(VLOOKUP($E811,site!$B:$F,3,0)=\"\",\"-\",VLOOKUP($E811,site!$B:$F,3,0))))","v":""},{"$f":"IFERROR(IF($C811=\"\",\"\",IF(VLOOKUP($D811,site!$B:$F,5,0)=\"\",\"-\",VLOOKUP($D811,site!$B:$F,5,0))),IF($C811=\"\",\"\",IF(VLOOKUP($E811,site!$B:$F,4,0)=\"\",\"-\",VLOOKUP($E811,site!$B:$F,4,0))))","v":""},{"$f":"IFERROR(IF($C811=\"\",\"\",IF(VLOOKUP($D811,site!$B:$G,6,0)=\"\",\"-\",VLOOKUP($D811,site!$B:$G,6,0))),IF($C811=\"\",\"\",IF(VLOOKUP($E811,site!$B:$G,5,0)=\"\",\"-\",VLOOKUP($E811,site!$B:$G,5,0))))","v":""}]
[null,null,null,null,null,null,null,null,null,null,null,null,null,null,null,null,null,null,{"$f":"IFERROR(IF(C812=\"\",\"\",IF(VLOOKUP(D812,site!$B:$D,3,0)=\"\",\"-\",VLOOKUP(D812,site!$B:$D,3,0))),IF(C812=\"\",\"\",IF(VLOOKUP(E812,site!$C:$D,2,0)=\"\",\"-\",VLOOKUP(E812,site!$C:$D,2,0))))","v":""},{"$f":"IFERROR(IF($C812=\"\",\"\",IF(VLOOKUP($D812,site!$B:$F,4,0)=\"\",\"-\",VLOOKUP($D812,site!$B:$F,4,0))),IF($C812=\"\",\"\",IF(VLOOKUP($E812,site!$B:$F,3,0)=\"\",\"-\",VLOOKUP($E812,site!$B:$F,3,0))))","v":""},{"$f":"IFERROR(IF($C812=\"\",\"\",IF(VLOOKUP($D812,site!$B:$F,5,0)=\"\",\"-\",VLOOKUP($D812,site!$B:$F,5,0))),IF($C812=\"\",\"\",IF(VLOOKUP($E812,site!$B:$F,4,0)=\"\",\"-\",VLOOKUP($E812,site!$B:$F,4,0))))","v":""},{"$f":"IFERROR(IF($C812=\"\",\"\",IF(VLOOKUP($D812,site!$B:$G,6,0)=\"\",\"-\",VLOOKUP($D812,site!$B:$G,6,0))),IF($C812=\"\",\"\",IF(VLOOKUP($E812,site!$B:$G,5,0)=\"\",\"-\",VLOOKUP($E812,site!$B:$G,5,0))))","v":""}]
[null,null,null,null,null,null,null,null,null,null,null,null,null,null,null,null,null,null,{"$f":"IFERROR(IF(C813=\"\",\"\",IF(VLOOKUP(D813,site!$B:$D,3,0)=\"\",\"-\",VLOOKUP(D813,site!$B:$D,3,0))),IF(C813=\"\",\"\",IF(VLOOKUP(E813,site!$C:$D,2,0)=\"\",\"-\",VLOOKUP(E813,site!$C:$D,2,0))))","v":""},{"$f":"IFERROR(IF($C813=\"\",\"\",IF(VLOOKUP($D813,site!$B:$F,4,0)=\"\",\"-\",VLOOKUP($D813,site!$B:$F,4,0))),IF($C813=\"\",\"\",IF(VLOOKUP($E813,site!$B:$F,3,0)=\"\",\"-\",VLOOKUP($E813,site!$B:$F,3,0))))","v":""},{"$f":"IFERROR(IF($C813=\"\",\"\",IF(VLOOKUP($D813,site!$B:$F,5,0)=\"\",\"-\",VLOOKUP($D813,site!$B:$F,5,0))),IF($C813=\"\",\"\",IF(VLOOKUP($E813,site!$B:$F,4,0)=\"\",\"-\",VLOOKUP($E813,site!$B:$F,4,0))))","v":""},{"$f":"IFERROR(IF($C813=\"\",\"\",IF(VLOOKUP($D813,site!$B:$G,6,0)=\"\",\"-\",VLOOKUP($D813,site!$B:$G,6,0))),IF($C813=\"\",\"\",IF(VLOOKUP($E813,site!$B:$G,5,0)=\"\",\"-\",VLOOKUP($E813,site!$B:$G,5,0))))","v":""}]
[null,null,null,null,null,null,null,null,null,null,null,null,null,null,null,null,null,null,{"$f":"IFERROR(IF(C814=\"\",\"\",IF(VLOOKUP(D814,site!$B:$D,3,0)=\"\",\"-\",VLOOKUP(D814,site!$B:$D,3,0))),IF(C814=\"\",\"\",IF(VLOOKUP(E814,site!$C:$D,2,0)=\"\",\"-\",VLOOKUP(E814,site!$C:$D,2,0))))","v":""},{"$f":"IFERROR(IF($C814=\"\",\"\",IF(VLOOKUP($D814,site!$B:$F,4,0)=\"\",\"-\",VLOOKUP($D814,site!$B:$F,4,0))),IF($C814=\"\",\"\",IF(VLOOKUP($E814,site!$B:$F,3,0)=\"\",\"-\",VLOOKUP($E814,site!$B:$F,3,0))))","v":""},{"$f":"IFERROR(IF($C814=\"\",\"\",IF(VLOOKUP($D814,site!$B:$F,5,0)=\"\",\"-\",VLOOKUP($D814,site!$B:$F,5,0))),IF($C814=\"\",\"\",IF(VLOOKUP($E814,site!$B:$F,4,0)=\"\",\"-\",VLOOKUP($E814,site!$B:$F,4,0))))","v":""},{"$f":"IFERROR(IF($C814=\"\",\"\",IF(VLOOKUP($D814,site!$B:$G,6,0)=\"\",\"-\",VLOOKUP($D814,site!$B:$G,6,0))),IF($C814=\"\",\"\",IF(VLOOKUP($E814,site!$B:$G,5,0)=\"\",\"-\",VLOOKUP($E814,site!$B:$G,5,0))))","v":""}]
[null,null,null,null,null,null,null,null,null,null,null,null,null,null,null,null,null,null,{"$f":"IFERROR(IF(C815=\"\",\"\",IF(VLOOKUP(D815,site!$B:$D,3,0)=\"\",\"-\",VLOOKUP(D815,site!$B:$D,3,0))),IF(C815=\"\",\"\",IF(VLOOKUP(E815,site!$C:$D,2,0)=\"\",\"-\",VLOOKUP(E815,site!$C:$D,2,0))))","v":""},{"$f":"IFERROR(IF($C815=\"\",\"\",IF(VLOOKUP($D815,site!$B:$F,4,0)=\"\",\"-\",VLOOKUP($D815,site!$B:$F,4,0))),IF($C815=\"\",\"\",IF(VLOOKUP($E815,site!$B:$F,3,0)=\"\",\"-\",VLOOKUP($E815,site!$B:$F,3,0))))","v":""},{"$f":"IFERROR(IF($C815=\"\",\"\",IF(VLOOKUP($D815,site!$B:$F,5,0)=\"\",\"-\",VLOOKUP($D815,site!$B:$F,5,0))),IF($C815=\"\",\"\",IF(VLOOKUP($E815,site!$B:$F,4,0)=\"\",\"-\",VLOOKUP($E815,site!$B:$F,4,0))))","v":""},{"$f":"IFERROR(IF($C815=\"\",\"\",IF(VLOOKUP($D815,site!$B:$G,6,0)=\"\",\"-\",VLOOKUP($D815,site!$B:$G,6,0))),IF($C815=\"\",\"\",IF(VLOOKUP($E815,site!$B:$G,5,0)=\"\",\"-\",VLOOKUP($E815,site!$B:$G,5,0))))","v":""}]
[null,null,null,null,null,null,null,null,null,null,null,null,null,null,null,null,null,null,{"$f":"IFERROR(IF(C816=\"\",\"\",IF(VLOOKUP(D816,site!$B:$D,3,0)=\"\",\"-\",VLOOKUP(D816,site!$B:$D,3,0))),IF(C816=\"\",\"\",IF(VLOOKUP(E816,site!$C:$D,2,0)=\"\",\"-\",VLOOKUP(E816,site!$C:$D,2,0))))","v":""},{"$f":"IFERROR(IF($C816=\"\",\"\",IF(VLOOKUP($D816,site!$B:$F,4,0)=\"\",\"-\",VLOOKUP($D816,site!$B:$F,4,0))),IF($C816=\"\",\"\",IF(VLOOKUP($E816,site!$B:$F,3,0)=\"\",\"-\",VLOOKUP($E816,site!$B:$F,3,0))))","v":""},{"$f":"IFERROR(IF($C816=\"\",\"\",IF(VLOOKUP($D816,site!$B:$F,5,0)=\"\",\"-\",VLOOKUP($D816,site!$B:$F,5,0))),IF($C816=\"\",\"\",IF(VLOOKUP($E816,site!$B:$F,4,0)=\"\",\"-\",VLOOKUP($E816,site!$B:$F,4,0))))","v":""},{"$f":"IFERROR(IF($C816=\"\",\"\",IF(VLOOKUP($D816,site!$B:$G,6,0)=\"\",\"-\",VLOOKUP($D816,site!$B:$G,6,0))),IF($C816=\"\",\"\",IF(VLOOKUP($E816,site!$B:$G,5,0)=\"\",\"-\",VLOOKUP($E816,site!$B:$G,5,0))))","v":""}]
[null,null,null,null,null,null,null,null,null,null,null,null,null,null,null,null,null,null,{"$f":"IFERROR(IF(C817=\"\",\"\",IF(VLOOKUP(D817,site!$B:$D,3,0)=\"\",\"-\",VLOOKUP(D817,site!$B:$D,3,0))),IF(C817=\"\",\"\",IF(VLOOKUP(E817,site!$C:$D,2,0)=\"\",\"-\",VLOOKUP(E817,site!$C:$D,2,0))))","v":""},{"$f":"IFERROR(IF($C817=\"\",\"\",IF(VLOOKUP($D817,site!$B:$F,4,0)=\"\",\"-\",VLOOKUP($D817,site!$B:$F,4,0))),IF($C817=\"\",\"\",IF(VLOOKUP($E817,site!$B:$F,3,0)=\"\",\"-\",VLOOKUP($E817,site!$B:$F,3,0))))","v":""},{"$f":"IFERROR(IF($C817=\"\",\"\",IF(VLOOKUP($D817,site!$B:$F,5,0)=\"\",\"-\",VLOOKUP($D817,site!$B:$F,5,0))),IF($C817=\"\",\"\",IF(VLOOKUP($E817,site!$B:$F,4,0)=\"\",\"-\",VLOOKUP($E817,site!$B:$F,4,0))))","v":""},{"$f":"IFERROR(IF($C817=\"\",\"\",IF(VLOOKUP($D817,site!$B:$G,6,0)=\"\",\"-\",VLOOKUP($D817,site!$B:$G,6,0))),IF($C817=\"\",\"\",IF(VLOOKUP($E817,site!$B:$G,5,0)=\"\",\"-\",VLOOKUP($E817,site!$B:$G,5,0))))","v":""}]
[null,null,null,null,null,null,null,null,null,null,null,null,null,null,null,null,null,null,{"$f":"IFERROR(IF(C818=\"\",\"\",IF(VLOOKUP(D818,site!$B:$D,3,0)=\"\",\"-\",VLOOKUP(D818,site!$B:$D,3,0))),IF(C818=\"\",\"\",IF(VLOOKUP(E818,site!$C:$D,2,0)=\"\",\"-\",VLOOKUP(E818,site!$C:$D,2,0))))","v":""},{"$f":"IFERROR(IF($C818=\"\",\"\",IF(VLOOKUP($D818,site!$B:$F,4,0)=\"\",\"-\",VLOOKUP($D818,site!$B:$F,4,0))),IF($C818=\"\",\"\",IF(VLOOKUP($E818,site!$B:$F,3,0)=\"\",\"-\",VLOOKUP($E818,site!$B:$F,3,0))))","v":""},{"$f":"IFERROR(IF($C818=\"\",\"\",IF(VLOOKUP($D818,site!$B:$F,5,0)=\"\",\"-\",VLOOKUP($D818,site!$B:$F,5,0))),IF($C818=\"\",\"\",IF(VLOOKUP($E818,site!$B:$F,4,0)=\"\",\"-\",VLOOKUP($E818,site!$B:$F,4,0))))","v":""},{"$f":"IFERROR(IF($C818=\"\",\"\",IF(VLOOKUP($D818,site!$B:$G,6,0)=\"\",\"-\",VLOOKUP($D818,site!$B:$G,6,0))),IF($C818=\"\",\"\",IF(VLOOKUP($E818,site!$B:$G,5,0)=\"\",\"-\",VLOOKUP($E818,site!$B:$G,5,0))))","v":""}]
[null,null,null,null,null,null,null,null,null,null,null,null,null,null,null,null,null,null,{"$f":"IFERROR(IF(C819=\"\",\"\",IF(VLOOKUP(D819,site!$B:$D,3,0)=\"\",\"-\",VLOOKUP(D819,site!$B:$D,3,0))),IF(C819=\"\",\"\",IF(VLOOKUP(E819,site!$C:$D,2,0)=\"\",\"-\",VLOOKUP(E819,site!$C:$D,2,0))))","v":""},{"$f":"IFERROR(IF($C819=\"\",\"\",IF(VLOOKUP($D819,site!$B:$F,4,0)=\"\",\"-\",VLOOKUP($D819,site!$B:$F,4,0))),IF($C819=\"\",\"\",IF(VLOOKUP($E819,site!$B:$F,3,0)=\"\",\"-\",VLOOKUP($E819,site!$B:$F,3,0))))","v":""},{"$f":"IFERROR(IF($C819=\"\",\"\",IF(VLOOKUP($D819,site!$B:$F,5,0)=\"\",\"-\",VLOOKUP($D819,site!$B:$F,5,0))),IF($C819=\"\",\"\",IF(VLOOKUP($E819,site!$B:$F,4,0)=\"\",\"-\",VLOOKUP($E819,site!$B:$F,4,0))))","v":""},{"$f":"IFERROR(IF($C819=\"\",\"\",IF(VLOOKUP($D819,site!$B:$G,6,0)=\"\",\"-\",VLOOKUP($D819,site!$B:$G,6,0))),IF($C819=\"\",\"\",IF(VLOOKUP($E819,site!$B:$G,5,0)=\"\",\"-\",VLOOKUP($E819,site!$B:$G,5,0))))","v":""}]
[null,null,null,null,null,null,null,null,null,null,null,null,null,null,null,null,null,null,{"$f":"IFERROR(IF(C820=\"\",\"\",IF(VLOOKUP(D820,site!$B:$D,3,0)=\"\",\"-\",VLOOKUP(D820,site!$B:$D,3,0))),IF(C820=\"\",\"\",IF(VLOOKUP(E820,site!$C:$D,2,0)=\"\",\"-\",VLOOKUP(E820,site!$C:$D,2,0))))","v":""},{"$f":"IFERROR(IF($C820=\"\",\"\",IF(VLOOKUP($D820,site!$B:$F,4,0)=\"\",\"-\",VLOOKUP($D820,site!$B:$F,4,0))),IF($C820=\"\",\"\",IF(VLOOKUP($E820,site!$B:$F,3,0)=\"\",\"-\",VLOOKUP($E820,site!$B:$F,3,0))))","v":""},{"$f":"IFERROR(IF($C820=\"\",\"\",IF(VLOOKUP($D820,site!$B:$F,5,0)=\"\",\"-\",VLOOKUP($D820,site!$B:$F,5,0))),IF($C820=\"\",\"\",IF(VLOOKUP($E820,site!$B:$F,4,0)=\"\",\"-\",VLOOKUP($E820,site!$B:$F,4,0))))","v":""},{"$f":"IFERROR(IF($C820=\"\",\"\",IF(VLOOKUP($D820,site!$B:$G,6,0)=\"\",\"-\",VLOOKUP($D820,site!$B:$G,6,0))),IF($C820=\"\",\"\",IF(VLOOKUP($E820,site!$B:$G,5,0)=\"\",\"-\",VLOOKUP($E820,site!$B:$G,5,0))))","v":""}]
[null,null,null,null,null,null,null,null,null,null,null,null,null,null,null,null,null,null,{"$f":"IFERROR(IF(C821=\"\",\"\",IF(VLOOKUP(D821,site!$B:$D,3,0)=\"\",\"-\",VLOOKUP(D821,site!$B:$D,3,0))),IF(C821=\"\",\"\",IF(VLOOKUP(E821,site!$C:$D,2,0)=\"\",\"-\",VLOOKUP(E821,site!$C:$D,2,0))))","v":""},{"$f":"IFERROR(IF($C821=\"\",\"\",IF(VLOOKUP($D821,site!$B:$F,4,0)=\"\",\"-\",VLOOKUP($D821,site!$B:$F,4,0))),IF($C821=\"\",\"\",IF(VLOOKUP($E821,site!$B:$F,3,0)=\"\",\"-\",VLOOKUP($E821,site!$B:$F,3,0))))","v":""},{"$f":"IFERROR(IF($C821=\"\",\"\",IF(VLOOKUP($D821,site!$B:$F,5,0)=\"\",\"-\",VLOOKUP($D821,site!$B:$F,5,0))),IF($C821=\"\",\"\",IF(VLOOKUP($E821,site!$B:$F,4,0)=\"\",\"-\",VLOOKUP($E821,site!$B:$F,4,0))))","v":""},{"$f":"IFERROR(IF($C821=\"\",\"\",IF(VLOOKUP($D821,site!$B:$G,6,0)=\"\",\"-\",VLOOKUP($D821,site!$B:$G,6,0))),IF($C821=\"\",\"\",IF(VLOOKUP($E821,site!$B:$G,5,0)=\"\",\"-\",VLOOKUP($E821,site!$B:$G,5,0))))","v":""}]
[null,null,null,null,null,null,null,null,null,null,null,null,null,null,null,null,null,null,{"$f":"IFERROR(IF(C822=\"\",\"\",IF(VLOOKUP(D822,site!$B:$D,3,0)=\"\",\"-\",VLOOKUP(D822,site!$B:$D,3,0))),IF(C822=\"\",\"\",IF(VLOOKUP(E822,site!$C:$D,2,0)=\"\",\"-\",VLOOKUP(E822,site!$C:$D,2,0))))","v":""},{"$f":"IFERROR(IF($C822=\"\",\"\",IF(VLOOKUP($D822,site!$B:$F,4,0)=\"\",\"-\",VLOOKUP($D822,site!$B:$F,4,0))),IF($C822=\"\",\"\",IF(VLOOKUP($E822,site!$B:$F,3,0)=\"\",\"-\",VLOOKUP($E822,site!$B:$F,3,0))))","v":""},{"$f":"IFERROR(IF($C822=\"\",\"\",IF(VLOOKUP($D822,site!$B:$F,5,0)=\"\",\"-\",VLOOKUP($D822,site!$B:$F,5,0))),IF($C822=\"\",\"\",IF(VLOOKUP($E822,site!$B:$F,4,0)=\"\",\"-\",VLOOKUP($E822,site!$B:$F,4,0))))","v":""},{"$f":"IFERROR(IF($C822=\"\",\"\",IF(VLOOKUP($D822,site!$B:$G,6,0)=\"\",\"-\",VLOOKUP($D822,site!$B:$G,6,0))),IF($C822=\"\",\"\",IF(VLOOKUP($E822,site!$B:$G,5,0)=\"\",\"-\",VLOOKUP($E822,site!$B:$G,5,0))))","v":""}]
[null,null,null,null,null,null,null,null,null,null,null,null,null,null,null,null,null,null,{"$f":"IFERROR(IF(C823=\"\",\"\",IF(VLOOKUP(D823,site!$B:$D,3,0)=\"\",\"-\",VLOOKUP(D823,site!$B:$D,3,0))),IF(C823=\"\",\"\",IF(VLOOKUP(E823,site!$C:$D,2,0)=\"\",\"-\",VLOOKUP(E823,site!$C:$D,2,0))))","v":""},{"$f":"IFERROR(IF($C823=\"\",\"\",IF(VLOOKUP($D823,site!$B:$F,4,0)=\"\",\"-\",VLOOKUP($D823,site!$B:$F,4,0))),IF($C823=\"\",\"\",IF(VLOOKUP($E823,site!$B:$F,3,0)=\"\",\"-\",VLOOKUP($E823,site!$B:$F,3,0))))","v":""},{"$f":"IFERROR(IF($C823=\"\",\"\",IF(VLOOKUP($D823,site!$B:$F,5,0)=\"\",\"-\",VLOOKUP($D823,site!$B:$F,5,0))),IF($C823=\"\",\"\",IF(VLOOKUP($E823,site!$B:$F,4,0)=\"\",\"-\",VLOOKUP($E823,site!$B:$F,4,0))))","v":""},{"$f":"IFERROR(IF($C823=\"\",\"\",IF(VLOOKUP($D823,site!$B:$G,6,0)=\"\",\"-\",VLOOKUP($D823,site!$B:$G,6,0))),IF($C823=\"\",\"\",IF(VLOOKUP($E823,site!$B:$G,5,0)=\"\",\"-\",VLOOKUP($E823,site!$B:$G,5,0))))","v":""}]
[null,null,null,null,null,null,null,null,null,null,null,null,null,null,null,null,null,null,{"$f":"IFERROR(IF(C824=\"\",\"\",IF(VLOOKUP(D824,site!$B:$D,3,0)=\"\",\"-\",VLOOKUP(D824,site!$B:$D,3,0))),IF(C824=\"\",\"\",IF(VLOOKUP(E824,site!$C:$D,2,0)=\"\",\"-\",VLOOKUP(E824,site!$C:$D,2,0))))","v":""},{"$f":"IFERROR(IF($C824=\"\",\"\",IF(VLOOKUP($D824,site!$B:$F,4,0)=\"\",\"-\",VLOOKUP($D824,site!$B:$F,4,0))),IF($C824=\"\",\"\",IF(VLOOKUP($E824,site!$B:$F,3,0)=\"\",\"-\",VLOOKUP($E824,site!$B:$F,3,0))))","v":""},{"$f":"IFERROR(IF($C824=\"\",\"\",IF(VLOOKUP($D824,site!$B:$F,5,0)=\"\",\"-\",VLOOKUP($D824,site!$B:$F,5,0))),IF($C824=\"\",\"\",IF(VLOOKUP($E824,site!$B:$F,4,0)=\"\",\"-\",VLOOKUP($E824,site!$B:$F,4,0))))","v":""},{"$f":"IFERROR(IF($C824=\"\",\"\",IF(VLOOKUP($D824,site!$B:$G,6,0)=\"\",\"-\",VLOOKUP($D824,site!$B:$G,6,0))),IF($C824=\"\",\"\",IF(VLOOKUP($E824,site!$B:$G,5,0)=\"\",\"-\",VLOOKUP($E824,site!$B:$G,5,0))))","v":""}]
[null,null,null,null,null,null,null,null,null,null,null,null,null,null,null,null,null,null,{"$f":"IFERROR(IF(C825=\"\",\"\",IF(VLOOKUP(D825,site!$B:$D,3,0)=\"\",\"-\",VLOOKUP(D825,site!$B:$D,3,0))),IF(C825=\"\",\"\",IF(VLOOKUP(E825,site!$C:$D,2,0)=\"\",\"-\",VLOOKUP(E825,site!$C:$D,2,0))))","v":""},{"$f":"IFERROR(IF($C825=\"\",\"\",IF(VLOOKUP($D825,site!$B:$F,4,0)=\"\",\"-\",VLOOKUP($D825,site!$B:$F,4,0))),IF($C825=\"\",\"\",IF(VLOOKUP($E825,site!$B:$F,3,0)=\"\",\"-\",VLOOKUP($E825,site!$B:$F,3,0))))","v":""},{"$f":"IFERROR(IF($C825=\"\",\"\",IF(VLOOKUP($D825,site!$B:$F,5,0)=\"\",\"-\",VLOOKUP($D825,site!$B:$F,5,0))),IF($C825=\"\",\"\",IF(VLOOKUP($E825,site!$B:$F,4,0)=\"\",\"-\",VLOOKUP($E825,site!$B:$F,4,0))))","v":""},{"$f":"IFERROR(IF($C825=\"\",\"\",IF(VLOOKUP($D825,site!$B:$G,6,0)=\"\",\"-\",VLOOKUP($D825,site!$B:$G,6,0))),IF($C825=\"\",\"\",IF(VLOOKUP($E825,site!$B:$G,5,0)=\"\",\"-\",VLOOKUP($E825,site!$B:$G,5,0))))","v":""}]
[null,null,null,null,null,null,null,null,null,null,null,null,null,null,null,null,null,null,{"$f":"IFERROR(IF(C826=\"\",\"\",IF(VLOOKUP(D826,site!$B:$D,3,0)=\"\",\"-\",VLOOKUP(D826,site!$B:$D,3,0))),IF(C826=\"\",\"\",IF(VLOOKUP(E826,site!$C:$D,2,0)=\"\",\"-\",VLOOKUP(E826,site!$C:$D,2,0))))","v":""},{"$f":"IFERROR(IF($C826=\"\",\"\",IF(VLOOKUP($D826,site!$B:$F,4,0)=\"\",\"-\",VLOOKUP($D826,site!$B:$F,4,0))),IF($C826=\"\",\"\",IF(VLOOKUP($E826,site!$B:$F,3,0)=\"\",\"-\",VLOOKUP($E826,site!$B:$F,3,0))))","v":""},{"$f":"IFERROR(IF($C826=\"\",\"\",IF(VLOOKUP($D826,site!$B:$F,5,0)=\"\",\"-\",VLOOKUP($D826,site!$B:$F,5,0))),IF($C826=\"\",\"\",IF(VLOOKUP($E826,site!$B:$F,4,0)=\"\",\"-\",VLOOKUP($E826,site!$B:$F,4,0))))","v":""},{"$f":"IFERROR(IF($C826=\"\",\"\",IF(VLOOKUP($D826,site!$B:$G,6,0)=\"\",\"-\",VLOOKUP($D826,site!$B:$G,6,0))),IF($C826=\"\",\"\",IF(VLOOKUP($E826,site!$B:$G,5,0)=\"\",\"-\",VLOOKUP($E826,site!$B:$G,5,0))))","v":""}]
[null,null,null,null,null,null,null,null,null,null,null,null,null,null,null,null,null,null,{"$f":"IFERROR(IF(C827=\"\",\"\",IF(VLOOKUP(D827,site!$B:$D,3,0)=\"\",\"-\",VLOOKUP(D827,site!$B:$D,3,0))),IF(C827=\"\",\"\",IF(VLOOKUP(E827,site!$C:$D,2,0)=\"\",\"-\",VLOOKUP(E827,site!$C:$D,2,0))))","v":""},{"$f":"IFERROR(IF($C827=\"\",\"\",IF(VLOOKUP($D827,site!$B:$F,4,0)=\"\",\"-\",VLOOKUP($D827,site!$B:$F,4,0))),IF($C827=\"\",\"\",IF(VLOOKUP($E827,site!$B:$F,3,0)=\"\",\"-\",VLOOKUP($E827,site!$B:$F,3,0))))","v":""},{"$f":"IFERROR(IF($C827=\"\",\"\",IF(VLOOKUP($D827,site!$B:$F,5,0)=\"\",\"-\",VLOOKUP($D827,site!$B:$F,5,0))),IF($C827=\"\",\"\",IF(VLOOKUP($E827,site!$B:$F,4,0)=\"\",\"-\",VLOOKUP($E827,site!$B:$F,4,0))))","v":""},{"$f":"IFERROR(IF($C827=\"\",\"\",IF(VLOOKUP($D827,site!$B:$G,6,0)=\"\",\"-\",VLOOKUP($D827,site!$B:$G,6,0))),IF($C827=\"\",\"\",IF(VLOOKUP($E827,site!$B:$G,5,0)=\"\",\"-\",VLOOKUP($E827,site!$B:$G,5,0))))","v":""}]
[null,null,null,null,null,null,null,null,null,null,null,null,null,null,null,null,null,null,{"$f":"IFERROR(IF(C828=\"\",\"\",IF(VLOOKUP(D828,site!$B:$D,3,0)=\"\",\"-\",VLOOKUP(D828,site!$B:$D,3,0))),IF(C828=\"\",\"\",IF(VLOOKUP(E828,site!$C:$D,2,0)=\"\",\"-\",VLOOKUP(E828,site!$C:$D,2,0))))","v":""},{"$f":"IFERROR(IF($C828=\"\",\"\",IF(VLOOKUP($D828,site!$B:$F,4,0)=\"\",\"-\",VLOOKUP($D828,site!$B:$F,4,0))),IF($C828=\"\",\"\",IF(VLOOKUP($E828,site!$B:$F,3,0)=\"\",\"-\",VLOOKUP($E828,site!$B:$F,3,0))))","v":""},{"$f":"IFERROR(IF($C828=\"\",\"\",IF(VLOOKUP($D828,site!$B:$F,5,0)=\"\",\"-\",VLOOKUP($D828,site!$B:$F,5,0))),IF($C828=\"\",\"\",IF(VLOOKUP($E828,site!$B:$F,4,0)=\"\",\"-\",VLOOKUP($E828,site!$B:$F,4,0))))","v":""},{"$f":"IFERROR(IF($C828=\"\",\"\",IF(VLOOKUP($D828,site!$B:$G,6,0)=\"\",\"-\",VLOOKUP($D828,site!$B:$G,6,0))),IF($C828=\"\",\"\",IF(VLOOKUP($E828,site!$B:$G,5,0)=\"\",\"-\",VLOOKUP($E828,site!$B:$G,5,0))))","v":""}]
[null,null,null,null,null,null,null,null,null,null,null,null,null,null,null,null,null,null,{"$f":"IFERROR(IF(C829=\"\",\"\",IF(VLOOKUP(D829,site!$B:$D,3,0)=\"\",\"-\",VLOOKUP(D829,site!$B:$D,3,0))),IF(C829=\"\",\"\",IF(VLOOKUP(E829,site!$C:$D,2,0)=\"\",\"-\",VLOOKUP(E829,site!$C:$D,2,0))))","v":""},{"$f":"IFERROR(IF($C829=\"\",\"\",IF(VLOOKUP($D829,site!$B:$F,4,0)=\"\",\"-\",VLOOKUP($D829,site!$B:$F,4,0))),IF($C829=\"\",\"\",IF(VLOOKUP($E829,site!$B:$F,3,0)=\"\",\"-\",VLOOKUP($E829,site!$B:$F,3,0))))","v":""},{"$f":"IFERROR(IF($C829=\"\",\"\",IF(VLOOKUP($D829,site!$B:$F,5,0)=\"\",\"-\",VLOOKUP($D829,site!$B:$F,5,0))),IF($C829=\"\",\"\",IF(VLOOKUP($E829,site!$B:$F,4,0)=\"\",\"-\",VLOOKUP($E829,site!$B:$F,4,0))))","v":""},{"$f":"IFERROR(IF($C829=\"\",\"\",IF(VLOOKUP($D829,site!$B:$G,6,0)=\"\",\"-\",VLOOKUP($D829,site!$B:$G,6,0))),IF($C829=\"\",\"\",IF(VLOOKUP($E829,site!$B:$G,5,0)=\"\",\"-\",VLOOKUP($E829,site!$B:$G,5,0))))","v":""}]
[null,null,null,null,null,null,null,null,null,null,null,null,null,null,null,null,null,null,{"$f":"IFERROR(IF(C830=\"\",\"\",IF(VLOOKUP(D830,site!$B:$D,3,0)=\"\",\"-\",VLOOKUP(D830,site!$B:$D,3,0))),IF(C830=\"\",\"\",IF(VLOOKUP(E830,site!$C:$D,2,0)=\"\",\"-\",VLOOKUP(E830,site!$C:$D,2,0))))","v":""},{"$f":"IFERROR(IF($C830=\"\",\"\",IF(VLOOKUP($D830,site!$B:$F,4,0)=\"\",\"-\",VLOOKUP($D830,site!$B:$F,4,0))),IF($C830=\"\",\"\",IF(VLOOKUP($E830,site!$B:$F,3,0)=\"\",\"-\",VLOOKUP($E830,site!$B:$F,3,0))))","v":""},{"$f":"IFERROR(IF($C830=\"\",\"\",IF(VLOOKUP($D830,site!$B:$F,5,0)=\"\",\"-\",VLOOKUP($D830,site!$B:$F,5,0))),IF($C830=\"\",\"\",IF(VLOOKUP($E830,site!$B:$F,4,0)=\"\",\"-\",VLOOKUP($E830,site!$B:$F,4,0))))","v":""},{"$f":"IFERROR(IF($C830=\"\",\"\",IF(VLOOKUP($D830,site!$B:$G,6,0)=\"\",\"-\",VLOOKUP($D830,site!$B:$G,6,0))),IF($C830=\"\",\"\",IF(VLOOKUP($E830,site!$B:$G,5,0)=\"\",\"-\",VLOOKUP($E830,site!$B:$G,5,0))))","v":""}]
[null,null,null,null,null,null,null,null,null,null,null,null,null,null,null,null,null,null,{"$f":"IFERROR(IF(C831=\"\",\"\",IF(VLOOKUP(D831,site!$B:$D,3,0)=\"\",\"-\",VLOOKUP(D831,site!$B:$D,3,0))),IF(C831=\"\",\"\",IF(VLOOKUP(E831,site!$C:$D,2,0)=\"\",\"-\",VLOOKUP(E831,site!$C:$D,2,0))))","v":""},{"$f":"IFERROR(IF($C831=\"\",\"\",IF(VLOOKUP($D831,site!$B:$F,4,0)=\"\",\"-\",VLOOKUP($D831,site!$B:$F,4,0))),IF($C831=\"\",\"\",IF(VLOOKUP($E831,site!$B:$F,3,0)=\"\",\"-\",VLOOKUP($E831,site!$B:$F,3,0))))","v":""},{"$f":"IFERROR(IF($C831=\"\",\"\",IF(VLOOKUP($D831,site!$B:$F,5,0)=\"\",\"-\",VLOOKUP($D831,site!$B:$F,5,0))),IF($C831=\"\",\"\",IF(VLOOKUP($E831,site!$B:$F,4,0)=\"\",\"-\",VLOOKUP($E831,site!$B:$F,4,0))))","v":""},{"$f":"IFERROR(IF($C831=\"\",\"\",IF(VLOOKUP($D831,site!$B:$G,6,0)=\"\",\"-\",VLOOKUP($D831,site!$B:$G,6,0))),IF($C831=\"\",\"\",IF(VLOOKUP($E831,site!$B:$G,5,0)=\"\",\"-\",VLOOKUP($E831,site!$B:$G,5,0))))","v":""}]
[null,null,null,null,null,null,null,null,null,null,null,null,null,null,null,null,null,null,{"$f":"IFERROR(IF(C832=\"\",\"\",IF(VLOOKUP(D832,site!$B:$D,3,0)=\"\",\"-\",VLOOKUP(D832,site!$B:$D,3,0))),IF(C832=\"\",\"\",IF(VLOOKUP(E832,site!$C:$D,2,0)=\"\",\"-\",VLOOKUP(E832,site!$C:$D,2,0))))","v":""},{"$f":"IFERROR(IF($C832=\"\",\"\",IF(VLOOKUP($D832,site!$B:$F,4,0)=\"\",\"-\",VLOOKUP($D832,site!$B:$F,4,0))),IF($C832=\"\",\"\",IF(VLOOKUP($E832,site!$B:$F,3,0)=\"\",\"-\",VLOOKUP($E832,site!$B:$F,3,0))))","v":""},{"$f":"IFERROR(IF($C832=\"\",\"\",IF(VLOOKUP($D832,site!$B:$F,5,0)=\"\",\"-\",VLOOKUP($D832,site!$B:$F,5,0))),IF($C832=\"\",\"\",IF(VLOOKUP($E832,site!$B:$F,4,0)=\"\",\"-\",VLOOKUP($E832,site!$B:$F,4,0))))","v":""},{"$f":"IFERROR(IF($C832=\"\",\"\",IF(VLOOKUP($D832,site!$B:$G,6,0)=\"\",\"-\",VLOOKUP($D832,site!$B:$G,6,0))),IF($C832=\"\",\"\",IF(VLOOKUP($E832,site!$B:$G,5,0)=\"\",\"-\",VLOOKUP($E832,site!$B:$G,5,0))))","v":""}]
[null,null,null,null,null,null,null,null,null,null,null,null,null,null,null,null,null,null,{"$f":"IFERROR(IF(C833=\"\",\"\",IF(VLOOKUP(D833,site!$B:$D,3,0)=\"\",\"-\",VLOOKUP(D833,site!$B:$D,3,0))),IF(C833=\"\",\"\",IF(VLOOKUP(E833,site!$C:$D,2,0)=\"\",\"-\",VLOOKUP(E833,site!$C:$D,2,0))))","v":""},{"$f":"IFERROR(IF($C833=\"\",\"\",IF(VLOOKUP($D833,site!$B:$F,4,0)=\"\",\"-\",VLOOKUP($D833,site!$B:$F,4,0))),IF($C833=\"\",\"\",IF(VLOOKUP($E833,site!$B:$F,3,0)=\"\",\"-\",VLOOKUP($E833,site!$B:$F,3,0))))","v":""},{"$f":"IFERROR(IF($C833=\"\",\"\",IF(VLOOKUP($D833,site!$B:$F,5,0)=\"\",\"-\",VLOOKUP($D833,site!$B:$F,5,0))),IF($C833=\"\",\"\",IF(VLOOKUP($E833,site!$B:$F,4,0)=\"\",\"-\",VLOOKUP($E833,site!$B:$F,4,0))))","v":""},{"$f":"IFERROR(IF($C833=\"\",\"\",IF(VLOOKUP($D833,site!$B:$G,6,0)=\"\",\"-\",VLOOKUP($D833,site!$B:$G,6,0))),IF($C833=\"\",\"\",IF(VLOOKUP($E833,site!$B:$G,5,0)=\"\",\"-\",VLOOKUP($E833,site!$B:$G,5,0))))","v":""}]
[null,null,null,null,null,null,null,null,null,null,null,null,null,null,null,null,null,null,{"$f":"IFERROR(IF(C834=\"\",\"\",IF(VLOOKUP(D834,site!$B:$D,3,0)=\"\",\"-\",VLOOKUP(D834,site!$B:$D,3,0))),IF(C834=\"\",\"\",IF(VLOOKUP(E834,site!$C:$D,2,0)=\"\",\"-\",VLOOKUP(E834,site!$C:$D,2,0))))","v":""},{"$f":"IFERROR(IF($C834=\"\",\"\",IF(VLOOKUP($D834,site!$B:$F,4,0)=\"\",\"-\",VLOOKUP($D834,site!$B:$F,4,0))),IF($C834=\"\",\"\",IF(VLOOKUP($E834,site!$B:$F,3,0)=\"\",\"-\",VLOOKUP($E834,site!$B:$F,3,0))))","v":""},{"$f":"IFERROR(IF($C834=\"\",\"\",IF(VLOOKUP($D834,site!$B:$F,5,0)=\"\",\"-\",VLOOKUP($D834,site!$B:$F,5,0))),IF($C834=\"\",\"\",IF(VLOOKUP($E834,site!$B:$F,4,0)=\"\",\"-\",VLOOKUP($E834,site!$B:$F,4,0))))","v":""},{"$f":"IFERROR(IF($C834=\"\",\"\",IF(VLOOKUP($D834,site!$B:$G,6,0)=\"\",\"-\",VLOOKUP($D834,site!$B:$G,6,0))),IF($C834=\"\",\"\",IF(VLOOKUP($E834,site!$B:$G,5,0)=\"\",\"-\",VLOOKUP($E834,site!$B:$G,5,0))))","v":""}]
[null,null,null,null,null,null,null,null,null,null,null,null,null,null,null,null,null,null,{"$f":"IFERROR(IF(C835=\"\",\"\",IF(VLOOKUP(D835,site!$B:$D,3,0)=\"\",\"-\",VLOOKUP(D835,site!$B:$D,3,0))),IF(C835=\"\",\"\",IF(VLOOKUP(E835,site!$C:$D,2,0)=\"\",\"-\",VLOOKUP(E835,site!$C:$D,2,0))))","v":""},{"$f":"IFERROR(IF($C835=\"\",\"\",IF(VLOOKUP($D835,site!$B:$F,4,0)=\"\",\"-\",VLOOKUP($D835,site!$B:$F,4,0))),IF($C835=\"\",\"\",IF(VLOOKUP($E835,site!$B:$F,3,0)=\"\",\"-\",VLOOKUP($E835,site!$B:$F,3,0))))","v":""},{"$f":"IFERROR(IF($C835=\"\",\"\",IF(VLOOKUP($D835,site!$B:$F,5,0)=\"\",\"-\",VLOOKUP($D835,site!$B:$F,5,0))),IF($C835=\"\",\"\",IF(VLOOKUP($E835,site!$B:$F,4,0)=\"\",\"-\",VLOOKUP($E835,site!$B:$F,4,0))))","v":""},{"$f":"IFERROR(IF($C835=\"\",\"\",IF(VLOOKUP($D835,site!$B:$G,6,0)=\"\",\"-\",VLOOKUP($D835,site!$B:$G,6,0))),IF($C835=\"\",\"\",IF(VLOOKUP($E835,site!$B:$G,5,0)=\"\",\"-\",VLOOKUP($E835,site!$B:$G,5,0))))","v":""}]
[null,null,null,null,null,null,null,null,null,null,null,null,null,null,null,null,null,null,{"$f":"IFERROR(IF(C836=\"\",\"\",IF(VLOOKUP(D836,site!$B:$D,3,0)=\"\",\"-\",VLOOKUP(D836,site!$B:$D,3,0))),IF(C836=\"\",\"\",IF(VLOOKUP(E836,site!$C:$D,2,0)=\"\",\"-\",VLOOKUP(E836,site!$C:$D,2,0))))","v":""},{"$f":"IFERROR(IF($C836=\"\",\"\",IF(VLOOKUP($D836,site!$B:$F,4,0)=\"\",\"-\",VLOOKUP($D836,site!$B:$F,4,0))),IF($C836=\"\",\"\",IF(VLOOKUP($E836,site!$B:$F,3,0)=\"\",\"-\",VLOOKUP($E836,site!$B:$F,3,0))))","v":""},{"$f":"IFERROR(IF($C836=\"\",\"\",IF(VLOOKUP($D836,site!$B:$F,5,0)=\"\",\"-\",VLOOKUP($D836,site!$B:$F,5,0))),IF($C836=\"\",\"\",IF(VLOOKUP($E836,site!$B:$F,4,0)=\"\",\"-\",VLOOKUP($E836,site!$B:$F,4,0))))","v":""},{"$f":"IFERROR(IF($C836=\"\",\"\",IF(VLOOKUP($D836,site!$B:$G,6,0)=\"\",\"-\",VLOOKUP($D836,site!$B:$G,6,0))),IF($C836=\"\",\"\",IF(VLOOKUP($E836,site!$B:$G,5,0)=\"\",\"-\",VLOOKUP($E836,site!$B:$G,5,0))))","v":""}]
[null,null,null,null,null,null,null,null,null,null,null,null,null,null,null,null,null,null,{"$f":"IFERROR(IF(C837=\"\",\"\",IF(VLOOKUP(D837,site!$B:$D,3,0)=\"\",\"-\",VLOOKUP(D837,site!$B:$D,3,0))),IF(C837=\"\",\"\",IF(VLOOKUP(E837,site!$C:$D,2,0)=\"\",\"-\",VLOOKUP(E837,site!$C:$D,2,0))))","v":""},{"$f":"IFERROR(IF($C837=\"\",\"\",IF(VLOOKUP($D837,site!$B:$F,4,0)=\"\",\"-\",VLOOKUP($D837,site!$B:$F,4,0))),IF($C837=\"\",\"\",IF(VLOOKUP($E837,site!$B:$F,3,0)=\"\",\"-\",VLOOKUP($E837,site!$B:$F,3,0))))","v":""},{"$f":"IFERROR(IF($C837=\"\",\"\",IF(VLOOKUP($D837,site!$B:$F,5,0)=\"\",\"-\",VLOOKUP($D837,site!$B:$F,5,0))),IF($C837=\"\",\"\",IF(VLOOKUP($E837,site!$B:$F,4,0)=\"\",\"-\",VLOOKUP($E837,site!$B:$F,4,0))))","v":""},{"$f":"IFERROR(IF($C837=\"\",\"\",IF(VLOOKUP($D837,site!$B:$G,6,0)=\"\",\"-\",VLOOKUP($D837,site!$B:$G,6,0))),IF($C837=\"\",\"\",IF(VLOOKUP($E837,site!$B:$G,5,0)=\"\",\"-\",VLOOKUP($E837,site!$B:$G,5,0))))","v":""}]
[null,null,null,null,null,null,null,null,null,null,null,null,null,null,null,null,null,null,{"$f":"IFERROR(IF(C838=\"\",\"\",IF(VLOOKUP(D838,site!$B:$D,3,0)=\"\",\"-\",VLOOKUP(D838,site!$B:$D,3,0))),IF(C838=\"\",\"\",IF(VLOOKUP(E838,site!$C:$D,2,0)=\"\",\"-\",VLOOKUP(E838,site!$C:$D,2,0))))","v":""},{"$f":"IFERROR(IF($C838=\"\",\"\",IF(VLOOKUP($D838,site!$B:$F,4,0)=\"\",\"-\",VLOOKUP($D838,site!$B:$F,4,0))),IF($C838=\"\",\"\",IF(VLOOKUP($E838,site!$B:$F,3,0)=\"\",\"-\",VLOOKUP($E838,site!$B:$F,3,0))))","v":""},{"$f":"IFERROR(IF($C838=\"\",\"\",IF(VLOOKUP($D838,site!$B:$F,5,0)=\"\",\"-\",VLOOKUP($D838,site!$B:$F,5,0))),IF($C838=\"\",\"\",IF(VLOOKUP($E838,site!$B:$F,4,0)=\"\",\"-\",VLOOKUP($E838,site!$B:$F,4,0))))","v":""},{"$f":"IFERROR(IF($C838=\"\",\"\",IF(VLOOKUP($D838,site!$B:$G,6,0)=\"\",\"-\",VLOOKUP($D838,site!$B:$G,6,0))),IF($C838=\"\",\"\",IF(VLOOKUP($E838,site!$B:$G,5,0)=\"\",\"-\",VLOOKUP($E838,site!$B:$G,5,0))))","v":""}]
[null,null,null,null,null,null,null,null,null,null,null,null,null,null,null,null,null,null,{"$f":"IFERROR(IF(C839=\"\",\"\",IF(VLOOKUP(D839,site!$B:$D,3,0)=\"\",\"-\",VLOOKUP(D839,site!$B:$D,3,0))),IF(C839=\"\",\"\",IF(VLOOKUP(E839,site!$C:$D,2,0)=\"\",\"-\",VLOOKUP(E839,site!$C:$D,2,0))))","v":""},{"$f":"IFERROR(IF($C839=\"\",\"\",IF(VLOOKUP($D839,site!$B:$F,4,0)=\"\",\"-\",VLOOKUP($D839,site!$B:$F,4,0))),IF($C839=\"\",\"\",IF(VLOOKUP($E839,site!$B:$F,3,0)=\"\",\"-\",VLOOKUP($E839,site!$B:$F,3,0))))","v":""},{"$f":"IFERROR(IF($C839=\"\",\"\",IF(VLOOKUP($D839,site!$B:$F,5,0)=\"\",\"-\",VLOOKUP($D839,site!$B:$F,5,0))),IF($C839=\"\",\"\",IF(VLOOKUP($E839,site!$B:$F,4,0)=\"\",\"-\",VLOOKUP($E839,site!$B:$F,4,0))))","v":""},{"$f":"IFERROR(IF($C839=\"\",\"\",IF(VLOOKUP($D839,site!$B:$G,6,0)=\"\",\"-\",VLOOKUP($D839,site!$B:$G,6,0))),IF($C839=\"\",\"\",IF(VLOOKUP($E839,site!$B:$G,5,0)=\"\",\"-\",VLOOKUP($E839,site!$B:$G,5,0))))","v":""}]
[null,null,null,null,null,null,null,null,null,null,null,null,null,null,null,null,null,null,{"$f":"IFERROR(IF(C840=\"\",\"\",IF(VLOOKUP(D840,site!$B:$D,3,0)=\"\",\"-\",VLOOKUP(D840,site!$B:$D,3,0))),IF(C840=\"\",\"\",IF(VLOOKUP(E840,site!$C:$D,2,0)=\"\",\"-\",VLOOKUP(E840,site!$C:$D,2,0))))","v":""},{"$f":"IFERROR(IF($C840=\"\",\"\",IF(VLOOKUP($D840,site!$B:$F,4,0)=\"\",\"-\",VLOOKUP($D840,site!$B:$F,4,0))),IF($C840=\"\",\"\",IF(VLOOKUP($E840,site!$B:$F,3,0)=\"\",\"-\",VLOOKUP($E840,site!$B:$F,3,0))))","v":""},{"$f":"IFERROR(IF($C840=\"\",\"\",IF(VLOOKUP($D840,site!$B:$F,5,0)=\"\",\"-\",VLOOKUP($D840,site!$B:$F,5,0))),IF($C840=\"\",\"\",IF(VLOOKUP($E840,site!$B:$F,4,0)=\"\",\"-\",VLOOKUP($E840,site!$B:$F,4,0))))","v":""},{"$f":"IFERROR(IF($C840=\"\",\"\",IF(VLOOKUP($D840,site!$B:$G,6,0)=\"\",\"-\",VLOOKUP($D840,site!$B:$G,6,0))),IF($C840=\"\",\"\",IF(VLOOKUP($E840,site!$B:$G,5,0)=\"\",\"-\",VLOOKUP($E840,site!$B:$G,5,0))))","v":""}]
[null,null,null,null,null,null,null,null,null,null,null,null,null,null,null,null,null,null,{"$f":"IFERROR(IF(C841=\"\",\"\",IF(VLOOKUP(D841,site!$B:$D,3,0)=\"\",\"-\",VLOOKUP(D841,site!$B:$D,3,0))),IF(C841=\"\",\"\",IF(VLOOKUP(E841,site!$C:$D,2,0)=\"\",\"-\",VLOOKUP(E841,site!$C:$D,2,0))))","v":""},{"$f":"IFERROR(IF($C841=\"\",\"\",IF(VLOOKUP($D841,site!$B:$F,4,0)=\"\",\"-\",VLOOKUP($D841,site!$B:$F,4,0))),IF($C841=\"\",\"\",IF(VLOOKUP($E841,site!$B:$F,3,0)=\"\",\"-\",VLOOKUP($E841,site!$B:$F,3,0))))","v":""},{"$f":"IFERROR(IF($C841=\"\",\"\",IF(VLOOKUP($D841,site!$B:$F,5,0)=\"\",\"-\",VLOOKUP($D841,site!$B:$F,5,0))),IF($C841=\"\",\"\",IF(VLOOKUP($E841,site!$B:$F,4,0)=\"\",\"-\",VLOOKUP($E841,site!$B:$F,4,0))))","v":""},{"$f":"IFERROR(IF($C841=\"\",\"\",IF(VLOOKUP($D841,site!$B:$G,6,0)=\"\",\"-\",VLOOKUP($D841,site!$B:$G,6,0))),IF($C841=\"\",\"\",IF(VLOOKUP($E841,site!$B:$G,5,0)=\"\",\"-\",VLOOKUP($E841,site!$B:$G,5,0))))","v":""}]
[null,null,null,null,null,null,null,null,null,null,null,null,null,null,null,null,null,null,{"$f":"IFERROR(IF(C842=\"\",\"\",IF(VLOOKUP(D842,site!$B:$D,3,0)=\"\",\"-\",VLOOKUP(D842,site!$B:$D,3,0))),IF(C842=\"\",\"\",IF(VLOOKUP(E842,site!$C:$D,2,0)=\"\",\"-\",VLOOKUP(E842,site!$C:$D,2,0))))","v":""},{"$f":"IFERROR(IF($C842=\"\",\"\",IF(VLOOKUP($D842,site!$B:$F,4,0)=\"\",\"-\",VLOOKUP($D842,site!$B:$F,4,0))),IF($C842=\"\",\"\",IF(VLOOKUP($E842,site!$B:$F,3,0)=\"\",\"-\",VLOOKUP($E842,site!$B:$F,3,0))))","v":""},{"$f":"IFERROR(IF($C842=\"\",\"\",IF(VLOOKUP($D842,site!$B:$F,5,0)=\"\",\"-\",VLOOKUP($D842,site!$B:$F,5,0))),IF($C842=\"\",\"\",IF(VLOOKUP($E842,site!$B:$F,4,0)=\"\",\"-\",VLOOKUP($E842,site!$B:$F,4,0))))","v":""},{"$f":"IFERROR(IF($C842=\"\",\"\",IF(VLOOKUP($D842,site!$B:$G,6,0)=\"\",\"-\",VLOOKUP($D842,site!$B:$G,6,0))),IF($C842=\"\",\"\",IF(VLOOKUP($E842,site!$B:$G,5,0)=\"\",\"-\",VLOOKUP($E842,site!$B:$G,5,0))))","v":""}]
[null,null,null,null,null,null,null,null,null,null,null,null,null,null,null,null,null,null,{"$f":"IFERROR(IF(C843=\"\",\"\",IF(VLOOKUP(D843,site!$B:$D,3,0)=\"\",\"-\",VLOOKUP(D843,site!$B:$D,3,0))),IF(C843=\"\",\"\",IF(VLOOKUP(E843,site!$C:$D,2,0)=\"\",\"-\",VLOOKUP(E843,site!$C:$D,2,0))))","v":""},{"$f":"IFERROR(IF($C843=\"\",\"\",IF(VLOOKUP($D843,site!$B:$F,4,0)=\"\",\"-\",VLOOKUP($D843,site!$B:$F,4,0))),IF($C843=\"\",\"\",IF(VLOOKUP($E843,site!$B:$F,3,0)=\"\",\"-\",VLOOKUP($E843,site!$B:$F,3,0))))","v":""},{"$f":"IFERROR(IF($C843=\"\",\"\",IF(VLOOKUP($D843,site!$B:$F,5,0)=\"\",\"-\",VLOOKUP($D843,site!$B:$F,5,0))),IF($C843=\"\",\"\",IF(VLOOKUP($E843,site!$B:$F,4,0)=\"\",\"-\",VLOOKUP($E843,site!$B:$F,4,0))))","v":""},{"$f":"IFERROR(IF($C843=\"\",\"\",IF(VLOOKUP($D843,site!$B:$G,6,0)=\"\",\"-\",VLOOKUP($D843,site!$B:$G,6,0))),IF($C843=\"\",\"\",IF(VLOOKUP($E843,site!$B:$G,5,0)=\"\",\"-\",VLOOKUP($E843,site!$B:$G,5,0))))","v":""}]
[null,null,null,null,null,null,null,null,null,null,null,null,null,null,null,null,null,null,{"$f":"IFERROR(IF(C844=\"\",\"\",IF(VLOOKUP(D844,site!$B:$D,3,0)=\"\",\"-\",VLOOKUP(D844,site!$B:$D,3,0))),IF(C844=\"\",\"\",IF(VLOOKUP(E844,site!$C:$D,2,0)=\"\",\"-\",VLOOKUP(E844,site!$C:$D,2,0))))","v":""},{"$f":"IFERROR(IF($C844=\"\",\"\",IF(VLOOKUP($D844,site!$B:$F,4,0)=\"\",\"-\",VLOOKUP($D844,site!$B:$F,4,0))),IF($C844=\"\",\"\",IF(VLOOKUP($E844,site!$B:$F,3,0)=\"\",\"-\",VLOOKUP($E844,site!$B:$F,3,0))))","v":""},{"$f":"IFERROR(IF($C844=\"\",\"\",IF(VLOOKUP($D844,site!$B:$F,5,0)=\"\",\"-\",VLOOKUP($D844,site!$B:$F,5,0))),IF($C844=\"\",\"\",IF(VLOOKUP($E844,site!$B:$F,4,0)=\"\",\"-\",VLOOKUP($E844,site!$B:$F,4,0))))","v":""},{"$f":"IFERROR(IF($C844=\"\",\"\",IF(VLOOKUP($D844,site!$B:$G,6,0)=\"\",\"-\",VLOOKUP($D844,site!$B:$G,6,0))),IF($C844=\"\",\"\",IF(VLOOKUP($E844,site!$B:$G,5,0)=\"\",\"-\",VLOOKUP($E844,site!$B:$G,5,0))))","v":""}]
[null,null,null,null,null,null,null,null,null,null,null,null,null,null,null,null,null,null,{"$f":"IFERROR(IF(C845=\"\",\"\",IF(VLOOKUP(D845,site!$B:$D,3,0)=\"\",\"-\",VLOOKUP(D845,site!$B:$D,3,0))),IF(C845=\"\",\"\",IF(VLOOKUP(E845,site!$C:$D,2,0)=\"\",\"-\",VLOOKUP(E845,site!$C:$D,2,0))))","v":""},{"$f":"IFERROR(IF($C845=\"\",\"\",IF(VLOOKUP($D845,site!$B:$F,4,0)=\"\",\"-\",VLOOKUP($D845,site!$B:$F,4,0))),IF($C845=\"\",\"\",IF(VLOOKUP($E845,site!$B:$F,3,0)=\"\",\"-\",VLOOKUP($E845,site!$B:$F,3,0))))","v":""},{"$f":"IFERROR(IF($C845=\"\",\"\",IF(VLOOKUP($D845,site!$B:$F,5,0)=\"\",\"-\",VLOOKUP($D845,site!$B:$F,5,0))),IF($C845=\"\",\"\",IF(VLOOKUP($E845,site!$B:$F,4,0)=\"\",\"-\",VLOOKUP($E845,site!$B:$F,4,0))))","v":""},{"$f":"IFERROR(IF($C845=\"\",\"\",IF(VLOOKUP($D845,site!$B:$G,6,0)=\"\",\"-\",VLOOKUP($D845,site!$B:$G,6,0))),IF($C845=\"\",\"\",IF(VLOOKUP($E845,site!$B:$G,5,0)=\"\",\"-\",VLOOKUP($E845,site!$B:$G,5,0))))","v":""}]
[null,null,null,null,null,null,null,null,null,null,null,null,null,null,null,null,null,null,{"$f":"IFERROR(IF(C846=\"\",\"\",IF(VLOOKUP(D846,site!$B:$D,3,0)=\"\",\"-\",VLOOKUP(D846,site!$B:$D,3,0))),IF(C846=\"\",\"\",IF(VLOOKUP(E846,site!$C:$D,2,0)=\"\",\"-\",VLOOKUP(E846,site!$C:$D,2,0))))","v":""},{"$f":"IFERROR(IF($C846=\"\",\"\",IF(VLOOKUP($D846,site!$B:$F,4,0)=\"\",\"-\",VLOOKUP($D846,site!$B:$F,4,0))),IF($C846=\"\",\"\",IF(VLOOKUP($E846,site!$B:$F,3,0)=\"\",\"-\",VLOOKUP($E846,site!$B:$F,3,0))))","v":""},{"$f":"IFERROR(IF($C846=\"\",\"\",IF(VLOOKUP($D846,site!$B:$F,5,0)=\"\",\"-\",VLOOKUP($D846,site!$B:$F,5,0))),IF($C846=\"\",\"\",IF(VLOOKUP($E846,site!$B:$F,4,0)=\"\",\"-\",VLOOKUP($E846,site!$B:$F,4,0))))","v":""},{"$f":"IFERROR(IF($C846=\"\",\"\",IF(VLOOKUP($D846,site!$B:$G,6,0)=\"\",\"-\",VLOOKUP($D846,site!$B:$G,6,0))),IF($C846=\"\",\"\",IF(VLOOKUP($E846,site!$B:$G,5,0)=\"\",\"-\",VLOOKUP($E846,site!$B:$G,5,0))))","v":""}]
[null,null,null,null,null,null,null,null,null,null,null,null,null,null,null,null,null,null,{"$f":"IFERROR(IF(C847=\"\",\"\",IF(VLOOKUP(D847,site!$B:$D,3,0)=\"\",\"-\",VLOOKUP(D847,site!$B:$D,3,0))),IF(C847=\"\",\"\",IF(VLOOKUP(E847,site!$C:$D,2,0)=\"\",\"-\",VLOOKUP(E847,site!$C:$D,2,0))))","v":""},{"$f":"IFERROR(IF($C847=\"\",\"\",IF(VLOOKUP($D847,site!$B:$F,4,0)=\"\",\"-\",VLOOKUP($D847,site!$B:$F,4,0))),IF($C847=\"\",\"\",IF(VLOOKUP($E847,site!$B:$F,3,0)=\"\",\"-\",VLOOKUP($E847,site!$B:$F,3,0))))","v":""},{"$f":"IFERROR(IF($C847=\"\",\"\",IF(VLOOKUP($D847,site!$B:$F,5,0)=\"\",\"-\",VLOOKUP($D847,site!$B:$F,5,0))),IF($C847=\"\",\"\",IF(VLOOKUP($E847,site!$B:$F,4,0)=\"\",\"-\",VLOOKUP($E847,site!$B:$F,4,0))))","v":""},{"$f":"IFERROR(IF($C847=\"\",\"\",IF(VLOOKUP($D847,site!$B:$G,6,0)=\"\",\"-\",VLOOKUP($D847,site!$B:$G,6,0))),IF($C847=\"\",\"\",IF(VLOOKUP($E847,site!$B:$G,5,0)=\"\",\"-\",VLOOKUP($E847,site!$B:$G,5,0))))","v":""}]
[null,null,null,null,null,null,null,null,null,null,null,null,null,null,null,null,null,null,{"$f":"IFERROR(IF(C848=\"\",\"\",IF(VLOOKUP(D848,site!$B:$D,3,0)=\"\",\"-\",VLOOKUP(D848,site!$B:$D,3,0))),IF(C848=\"\",\"\",IF(VLOOKUP(E848,site!$C:$D,2,0)=\"\",\"-\",VLOOKUP(E848,site!$C:$D,2,0))))","v":""},{"$f":"IFERROR(IF($C848=\"\",\"\",IF(VLOOKUP($D848,site!$B:$F,4,0)=\"\",\"-\",VLOOKUP($D848,site!$B:$F,4,0))),IF($C848=\"\",\"\",IF(VLOOKUP($E848,site!$B:$F,3,0)=\"\",\"-\",VLOOKUP($E848,site!$B:$F,3,0))))","v":""},{"$f":"IFERROR(IF($C848=\"\",\"\",IF(VLOOKUP($D848,site!$B:$F,5,0)=\"\",\"-\",VLOOKUP($D848,site!$B:$F,5,0))),IF($C848=\"\",\"\",IF(VLOOKUP($E848,site!$B:$F,4,0)=\"\",\"-\",VLOOKUP($E848,site!$B:$F,4,0))))","v":""},{"$f":"IFERROR(IF($C848=\"\",\"\",IF(VLOOKUP($D848,site!$B:$G,6,0)=\"\",\"-\",VLOOKUP($D848,site!$B:$G,6,0))),IF($C848=\"\",\"\",IF(VLOOKUP($E848,site!$B:$G,5,0)=\"\",\"-\",VLOOKUP($E848,site!$B:$G,5,0))))","v":""}]
[null,null,null,null,null,null,null,null,null,null,null,null,null,null,null,null,null,null,{"$f":"IFERROR(IF(C849=\"\",\"\",IF(VLOOKUP(D849,site!$B:$D,3,0)=\"\",\"-\",VLOOKUP(D849,site!$B:$D,3,0))),IF(C849=\"\",\"\",IF(VLOOKUP(E849,site!$C:$D,2,0)=\"\",\"-\",VLOOKUP(E849,site!$C:$D,2,0))))","v":""},{"$f":"IFERROR(IF($C849=\"\",\"\",IF(VLOOKUP($D849,site!$B:$F,4,0)=\"\",\"-\",VLOOKUP($D849,site!$B:$F,4,0))),IF($C849=\"\",\"\",IF(VLOOKUP($E849,site!$B:$F,3,0)=\"\",\"-\",VLOOKUP($E849,site!$B:$F,3,0))))","v":""},{"$f":"IFERROR(IF($C849=\"\",\"\",IF(VLOOKUP($D849,site!$B:$F,5,0)=\"\",\"-\",VLOOKUP($D849,site!$B:$F,5,0))),IF($C849=\"\",\"\",IF(VLOOKUP($E849,site!$B:$F,4,0)=\"\",\"-\",VLOOKUP($E849,site!$B:$F,4,0))))","v":""},{"$f":"IFERROR(IF($C849=\"\",\"\",IF(VLOOKUP($D849,site!$B:$G,6,0)=\"\",\"-\",VLOOKUP($D849,site!$B:$G,6,0))),IF($C849=\"\",\"\",IF(VLOOKUP($E849,site!$B:$G,5,0)=\"\",\"-\",VLOOKUP($E849,site!$B:$G,5,0))))","v":""}]
[null,null,null,null,null,null,null,null,null,null,null,null,null,null,null,null,null,null,{"$f":"IFERROR(IF(C850=\"\",\"\",IF(VLOOKUP(D850,site!$B:$D,3,0)=\"\",\"-\",VLOOKUP(D850,site!$B:$D,3,0))),IF(C850=\"\",\"\",IF(VLOOKUP(E850,site!$C:$D,2,0)=\"\",\"-\",VLOOKUP(E850,site!$C:$D,2,0))))","v":""},{"$f":"IFERROR(IF($C850=\"\",\"\",IF(VLOOKUP($D850,site!$B:$F,4,0)=\"\",\"-\",VLOOKUP($D850,site!$B:$F,4,0))),IF($C850=\"\",\"\",IF(VLOOKUP($E850,site!$B:$F,3,0)=\"\",\"-\",VLOOKUP($E850,site!$B:$F,3,0))))","v":""},{"$f":"IFERROR(IF($C850=\"\",\"\",IF(VLOOKUP($D850,site!$B:$F,5,0)=\"\",\"-\",VLOOKUP($D850,site!$B:$F,5,0))),IF($C850=\"\",\"\",IF(VLOOKUP($E850,site!$B:$F,4,0)=\"\",\"-\",VLOOKUP($E850,site!$B:$F,4,0))))","v":""},{"$f":"IFERROR(IF($C850=\"\",\"\",IF(VLOOKUP($D850,site!$B:$G,6,0)=\"\",\"-\",VLOOKUP($D850,site!$B:$G,6,0))),IF($C850=\"\",\"\",IF(VLOOKUP($E850,site!$B:$G,5,0)=\"\",\"-\",VLOOKUP($E850,site!$B:$G,5,0))))","v":""}]
[null,null,null,null,null,null,null,null,null,null,null,null,null,null,null,null,null,null,{"$f":"IFERROR(IF(C851=\"\",\"\",IF(VLOOKUP(D851,site!$B:$D,3,0)=\"\",\"-\",VLOOKUP(D851,site!$B:$D,3,0))),IF(C851=\"\",\"\",IF(VLOOKUP(E851,site!$C:$D,2,0)=\"\",\"-\",VLOOKUP(E851,site!$C:$D,2,0))))","v":""},{"$f":"IFERROR(IF($C851=\"\",\"\",IF(VLOOKUP($D851,site!$B:$F,4,0)=\"\",\"-\",VLOOKUP($D851,site!$B:$F,4,0))),IF($C851=\"\",\"\",IF(VLOOKUP($E851,site!$B:$F,3,0)=\"\",\"-\",VLOOKUP($E851,site!$B:$F,3,0))))","v":""},{"$f":"IFERROR(IF($C851=\"\",\"\",IF(VLOOKUP($D851,site!$B:$F,5,0)=\"\",\"-\",VLOOKUP($D851,site!$B:$F,5,0))),IF($C851=\"\",\"\",IF(VLOOKUP($E851,site!$B:$F,4,0)=\"\",\"-\",VLOOKUP($E851,site!$B:$F,4,0))))","v":""},{"$f":"IFERROR(IF($C851=\"\",\"\",IF(VLOOKUP($D851,site!$B:$G,6,0)=\"\",\"-\",VLOOKUP($D851,site!$B:$G,6,0))),IF($C851=\"\",\"\",IF(VLOOKUP($E851,site!$B:$G,5,0)=\"\",\"-\",VLOOKUP($E851,site!$B:$G,5,0))))","v":""}]
[null,null,null,null,null,null,null,null,null,null,null,null,null,null,null,null,null,null,{"$f":"IFERROR(IF(C852=\"\",\"\",IF(VLOOKUP(D852,site!$B:$D,3,0)=\"\",\"-\",VLOOKUP(D852,site!$B:$D,3,0))),IF(C852=\"\",\"\",IF(VLOOKUP(E852,site!$C:$D,2,0)=\"\",\"-\",VLOOKUP(E852,site!$C:$D,2,0))))","v":""},{"$f":"IFERROR(IF($C852=\"\",\"\",IF(VLOOKUP($D852,site!$B:$F,4,0)=\"\",\"-\",VLOOKUP($D852,site!$B:$F,4,0))),IF($C852=\"\",\"\",IF(VLOOKUP($E852,site!$B:$F,3,0)=\"\",\"-\",VLOOKUP($E852,site!$B:$F,3,0))))","v":""},{"$f":"IFERROR(IF($C852=\"\",\"\",IF(VLOOKUP($D852,site!$B:$F,5,0)=\"\",\"-\",VLOOKUP($D852,site!$B:$F,5,0))),IF($C852=\"\",\"\",IF(VLOOKUP($E852,site!$B:$F,4,0)=\"\",\"-\",VLOOKUP($E852,site!$B:$F,4,0))))","v":""},{"$f":"IFERROR(IF($C852=\"\",\"\",IF(VLOOKUP($D852,site!$B:$G,6,0)=\"\",\"-\",VLOOKUP($D852,site!$B:$G,6,0))),IF($C852=\"\",\"\",IF(VLOOKUP($E852,site!$B:$G,5,0)=\"\",\"-\",VLOOKUP($E852,site!$B:$G,5,0))))","v":""}]
[null,null,null,null,null,null,null,null,null,null,null,null,null,null,null,null,null,null,{"$f":"IFERROR(IF(C853=\"\",\"\",IF(VLOOKUP(D853,site!$B:$D,3,0)=\"\",\"-\",VLOOKUP(D853,site!$B:$D,3,0))),IF(C853=\"\",\"\",IF(VLOOKUP(E853,site!$C:$D,2,0)=\"\",\"-\",VLOOKUP(E853,site!$C:$D,2,0))))","v":""},{"$f":"IFERROR(IF($C853=\"\",\"\",IF(VLOOKUP($D853,site!$B:$F,4,0)=\"\",\"-\",VLOOKUP($D853,site!$B:$F,4,0))),IF($C853=\"\",\"\",IF(VLOOKUP($E853,site!$B:$F,3,0)=\"\",\"-\",VLOOKUP($E853,site!$B:$F,3,0))))","v":""},{"$f":"IFERROR(IF($C853=\"\",\"\",IF(VLOOKUP($D853,site!$B:$F,5,0)=\"\",\"-\",VLOOKUP($D853,site!$B:$F,5,0))),IF($C853=\"\",\"\",IF(VLOOKUP($E853,site!$B:$F,4,0)=\"\",\"-\",VLOOKUP($E853,site!$B:$F,4,0))))","v":""},{"$f":"IFERROR(IF($C853=\"\",\"\",IF(VLOOKUP($D853,site!$B:$G,6,0)=\"\",\"-\",VLOOKUP($D853,site!$B:$G,6,0))),IF($C853=\"\",\"\",IF(VLOOKUP($E853,site!$B:$G,5,0)=\"\",\"-\",VLOOKUP($E853,site!$B:$G,5,0))))","v":""}]
[null,null,null,null,null,null,null,null,null,null,null,null,null,null,null,null,null,null,{"$f":"IFERROR(IF(C854=\"\",\"\",IF(VLOOKUP(D854,site!$B:$D,3,0)=\"\",\"-\",VLOOKUP(D854,site!$B:$D,3,0))),IF(C854=\"\",\"\",IF(VLOOKUP(E854,site!$C:$D,2,0)=\"\",\"-\",VLOOKUP(E854,site!$C:$D,2,0))))","v":""},{"$f":"IFERROR(IF($C854=\"\",\"\",IF(VLOOKUP($D854,site!$B:$F,4,0)=\"\",\"-\",VLOOKUP($D854,site!$B:$F,4,0))),IF($C854=\"\",\"\",IF(VLOOKUP($E854,site!$B:$F,3,0)=\"\",\"-\",VLOOKUP($E854,site!$B:$F,3,0))))","v":""},{"$f":"IFERROR(IF($C854=\"\",\"\",IF(VLOOKUP($D854,site!$B:$F,5,0)=\"\",\"-\",VLOOKUP($D854,site!$B:$F,5,0))),IF($C854=\"\",\"\",IF(VLOOKUP($E854,site!$B:$F,4,0)=\"\",\"-\",VLOOKUP($E854,site!$B:$F,4,0))))","v":""},{"$f":"IFERROR(IF($C854=\"\",\"\",IF(VLOOKUP($D854,site!$B:$G,6,0)=\"\",\"-\",VLOOKUP($D854,site!$B:$G,6,0))),IF($C854=\"\",\"\",IF(VLOOKUP($E854,site!$B:$G,5,0)=\"\",\"-\",VLOOKUP($E854,site!$B:$G,5,0))))","v":""}]
[null,null,null,null,null,null,null,null,null,null,null,null,null,null,null,null,null,null,{"$f":"IFERROR(IF(C855=\"\",\"\",IF(VLOOKUP(D855,site!$B:$D,3,0)=\"\",\"-\",VLOOKUP(D855,site!$B:$D,3,0))),IF(C855=\"\",\"\",IF(VLOOKUP(E855,site!$C:$D,2,0)=\"\",\"-\",VLOOKUP(E855,site!$C:$D,2,0))))","v":""},{"$f":"IFERROR(IF($C855=\"\",\"\",IF(VLOOKUP($D855,site!$B:$F,4,0)=\"\",\"-\",VLOOKUP($D855,site!$B:$F,4,0))),IF($C855=\"\",\"\",IF(VLOOKUP($E855,site!$B:$F,3,0)=\"\",\"-\",VLOOKUP($E855,site!$B:$F,3,0))))","v":""},{"$f":"IFERROR(IF($C855=\"\",\"\",IF(VLOOKUP($D855,site!$B:$F,5,0)=\"\",\"-\",VLOOKUP($D855,site!$B:$F,5,0))),IF($C855=\"\",\"\",IF(VLOOKUP($E855,site!$B:$F,4,0)=\"\",\"-\",VLOOKUP($E855,site!$B:$F,4,0))))","v":""},{"$f":"IFERROR(IF($C855=\"\",\"\",IF(VLOOKUP($D855,site!$B:$G,6,0)=\"\",\"-\",VLOOKUP($D855,site!$B:$G,6,0))),IF($C855=\"\",\"\",IF(VLOOKUP($E855,site!$B:$G,5,0)=\"\",\"-\",VLOOKUP($E855,site!$B:$G,5,0))))","v":""}]
[null,null,null,null,null,null,null,null,null,null,null,null,null,null,null,null,null,null,{"$f":"IFERROR(IF(C856=\"\",\"\",IF(VLOOKUP(D856,site!$B:$D,3,0)=\"\",\"-\",VLOOKUP(D856,site!$B:$D,3,0))),IF(C856=\"\",\"\",IF(VLOOKUP(E856,site!$C:$D,2,0)=\"\",\"-\",VLOOKUP(E856,site!$C:$D,2,0))))","v":""},{"$f":"IFERROR(IF($C856=\"\",\"\",IF(VLOOKUP($D856,site!$B:$F,4,0)=\"\",\"-\",VLOOKUP($D856,site!$B:$F,4,0))),IF($C856=\"\",\"\",IF(VLOOKUP($E856,site!$B:$F,3,0)=\"\",\"-\",VLOOKUP($E856,site!$B:$F,3,0))))","v":""},{"$f":"IFERROR(IF($C856=\"\",\"\",IF(VLOOKUP($D856,site!$B:$F,5,0)=\"\",\"-\",VLOOKUP($D856,site!$B:$F,5,0))),IF($C856=\"\",\"\",IF(VLOOKUP($E856,site!$B:$F,4,0)=\"\",\"-\",VLOOKUP($E856,site!$B:$F,4,0))))","v":""},{"$f":"IFERROR(IF($C856=\"\",\"\",IF(VLOOKUP($D856,site!$B:$G,6,0)=\"\",\"-\",VLOOKUP($D856,site!$B:$G,6,0))),IF($C856=\"\",\"\",IF(VLOOKUP($E856,site!$B:$G,5,0)=\"\",\"-\",VLOOKUP($E856,site!$B:$G,5,0))))","v":""}]
[null,null,null,null,null,null,null,null,null,null,null,null,null,null,null,null,null,null,{"$f":"IFERROR(IF(C857=\"\",\"\",IF(VLOOKUP(D857,site!$B:$D,3,0)=\"\",\"-\",VLOOKUP(D857,site!$B:$D,3,0))),IF(C857=\"\",\"\",IF(VLOOKUP(E857,site!$C:$D,2,0)=\"\",\"-\",VLOOKUP(E857,site!$C:$D,2,0))))","v":""},{"$f":"IFERROR(IF($C857=\"\",\"\",IF(VLOOKUP($D857,site!$B:$F,4,0)=\"\",\"-\",VLOOKUP($D857,site!$B:$F,4,0))),IF($C857=\"\",\"\",IF(VLOOKUP($E857,site!$B:$F,3,0)=\"\",\"-\",VLOOKUP($E857,site!$B:$F,3,0))))","v":""},{"$f":"IFERROR(IF($C857=\"\",\"\",IF(VLOOKUP($D857,site!$B:$F,5,0)=\"\",\"-\",VLOOKUP($D857,site!$B:$F,5,0))),IF($C857=\"\",\"\",IF(VLOOKUP($E857,site!$B:$F,4,0)=\"\",\"-\",VLOOKUP($E857,site!$B:$F,4,0))))","v":""},{"$f":"IFERROR(IF($C857=\"\",\"\",IF(VLOOKUP($D857,site!$B:$G,6,0)=\"\",\"-\",VLOOKUP($D857,site!$B:$G,6,0))),IF($C857=\"\",\"\",IF(VLOOKUP($E857,site!$B:$G,5,0)=\"\",\"-\",VLOOKUP($E857,site!$B:$G,5,0))))","v":""}]
[null,null,null,null,null,null,null,null,null,null,null,null,null,null,null,null,null,null,{"$f":"IFERROR(IF(C858=\"\",\"\",IF(VLOOKUP(D858,site!$B:$D,3,0)=\"\",\"-\",VLOOKUP(D858,site!$B:$D,3,0))),IF(C858=\"\",\"\",IF(VLOOKUP(E858,site!$C:$D,2,0)=\"\",\"-\",VLOOKUP(E858,site!$C:$D,2,0))))","v":""},{"$f":"IFERROR(IF($C858=\"\",\"\",IF(VLOOKUP($D858,site!$B:$F,4,0)=\"\",\"-\",VLOOKUP($D858,site!$B:$F,4,0))),IF($C858=\"\",\"\",IF(VLOOKUP($E858,site!$B:$F,3,0)=\"\",\"-\",VLOOKUP($E858,site!$B:$F,3,0))))","v":""},{"$f":"IFERROR(IF($C858=\"\",\"\",IF(VLOOKUP($D858,site!$B:$F,5,0)=\"\",\"-\",VLOOKUP($D858,site!$B:$F,5,0))),IF($C858=\"\",\"\",IF(VLOOKUP($E858,site!$B:$F,4,0)=\"\",\"-\",VLOOKUP($E858,site!$B:$F,4,0))))","v":""},{"$f":"IFERROR(IF($C858=\"\",\"\",IF(VLOOKUP($D858,site!$B:$G,6,0)=\"\",\"-\",VLOOKUP($D858,site!$B:$G,6,0))),IF($C858=\"\",\"\",IF(VLOOKUP($E858,site!$B:$G,5,0)=\"\",\"-\",VLOOKUP($E858,site!$B:$G,5,0))))","v":""}]
[null,null,null,null,null,null,null,null,null,null,null,null,null,null,null,null,null,null,{"$f":"IFERROR(IF(C859=\"\",\"\",IF(VLOOKUP(D859,site!$B:$D,3,0)=\"\",\"-\",VLOOKUP(D859,site!$B:$D,3,0))),IF(C859=\"\",\"\",IF(VLOOKUP(E859,site!$C:$D,2,0)=\"\",\"-\",VLOOKUP(E859,site!$C:$D,2,0))))","v":""},{"$f":"IFERROR(IF($C859=\"\",\"\",IF(VLOOKUP($D859,site!$B:$F,4,0)=\"\",\"-\",VLOOKUP($D859,site!$B:$F,4,0))),IF($C859=\"\",\"\",IF(VLOOKUP($E859,site!$B:$F,3,0)=\"\",\"-\",VLOOKUP($E859,site!$B:$F,3,0))))","v":""},{"$f":"IFERROR(IF($C859=\"\",\"\",IF(VLOOKUP($D859,site!$B:$F,5,0)=\"\",\"-\",VLOOKUP($D859,site!$B:$F,5,0))),IF($C859=\"\",\"\",IF(VLOOKUP($E859,site!$B:$F,4,0)=\"\",\"-\",VLOOKUP($E859,site!$B:$F,4,0))))","v":""},{"$f":"IFERROR(IF($C859=\"\",\"\",IF(VLOOKUP($D859,site!$B:$G,6,0)=\"\",\"-\",VLOOKUP($D859,site!$B:$G,6,0))),IF($C859=\"\",\"\",IF(VLOOKUP($E859,site!$B:$G,5,0)=\"\",\"-\",VLOOKUP($E859,site!$B:$G,5,0))))","v":""}]
[null,null,null,null,null,null,null,null,null,null,null,null,null,null,null,null,null,null,{"$f":"IFERROR(IF(C860=\"\",\"\",IF(VLOOKUP(D860,site!$B:$D,3,0)=\"\",\"-\",VLOOKUP(D860,site!$B:$D,3,0))),IF(C860=\"\",\"\",IF(VLOOKUP(E860,site!$C:$D,2,0)=\"\",\"-\",VLOOKUP(E860,site!$C:$D,2,0))))","v":""},{"$f":"IFERROR(IF($C860=\"\",\"\",IF(VLOOKUP($D860,site!$B:$F,4,0)=\"\",\"-\",VLOOKUP($D860,site!$B:$F,4,0))),IF($C860=\"\",\"\",IF(VLOOKUP($E860,site!$B:$F,3,0)=\"\",\"-\",VLOOKUP($E860,site!$B:$F,3,0))))","v":""},{"$f":"IFERROR(IF($C860=\"\",\"\",IF(VLOOKUP($D860,site!$B:$F,5,0)=\"\",\"-\",VLOOKUP($D860,site!$B:$F,5,0))),IF($C860=\"\",\"\",IF(VLOOKUP($E860,site!$B:$F,4,0)=\"\",\"-\",VLOOKUP($E860,site!$B:$F,4,0))))","v":""},{"$f":"IFERROR(IF($C860=\"\",\"\",IF(VLOOKUP($D860,site!$B:$G,6,0)=\"\",\"-\",VLOOKUP($D860,site!$B:$G,6,0))),IF($C860=\"\",\"\",IF(VLOOKUP($E860,site!$B:$G,5,0)=\"\",\"-\",VLOOKUP($E860,site!$B:$G,5,0))))","v":""}]
[null,null,null,null,null,null,null,null,null,null,null,null,null,null,null,null,null,null,{"$f":"IFERROR(IF(C861=\"\",\"\",IF(VLOOKUP(D861,site!$B:$D,3,0)=\"\",\"-\",VLOOKUP(D861,site!$B:$D,3,0))),IF(C861=\"\",\"\",IF(VLOOKUP(E861,site!$C:$D,2,0)=\"\",\"-\",VLOOKUP(E861,site!$C:$D,2,0))))","v":""},{"$f":"IFERROR(IF($C861=\"\",\"\",IF(VLOOKUP($D861,site!$B:$F,4,0)=\"\",\"-\",VLOOKUP($D861,site!$B:$F,4,0))),IF($C861=\"\",\"\",IF(VLOOKUP($E861,site!$B:$F,3,0)=\"\",\"-\",VLOOKUP($E861,site!$B:$F,3,0))))","v":""},{"$f":"IFERROR(IF($C861=\"\",\"\",IF(VLOOKUP($D861,site!$B:$F,5,0)=\"\",\"-\",VLOOKUP($D861,site!$B:$F,5,0))),IF($C861=\"\",\"\",IF(VLOOKUP($E861,site!$B:$F,4,0)=\"\",\"-\",VLOOKUP($E861,site!$B:$F,4,0))))","v":""},{"$f":"IFERROR(IF($C861=\"\",\"\",IF(VLOOKUP($D861,site!$B:$G,6,0)=\"\",\"-\",VLOOKUP($D861,site!$B:$G,6,0))),IF($C861=\"\",\"\",IF(VLOOKUP($E861,site!$B:$G,5,0)=\"\",\"-\",VLOOKUP($E861,site!$B:$G,5,0))))","v":""}]
[null,null,null,null,null,null,null,null,null,null,null,null,null,null,null,null,null,null,{"$f":"IFERROR(IF(C862=\"\",\"\",IF(VLOOKUP(D862,site!$B:$D,3,0)=\"\",\"-\",VLOOKUP(D862,site!$B:$D,3,0))),IF(C862=\"\",\"\",IF(VLOOKUP(E862,site!$C:$D,2,0)=\"\",\"-\",VLOOKUP(E862,site!$C:$D,2,0))))","v":""},{"$f":"IFERROR(IF($C862=\"\",\"\",IF(VLOOKUP($D862,site!$B:$F,4,0)=\"\",\"-\",VLOOKUP($D862,site!$B:$F,4,0))),IF($C862=\"\",\"\",IF(VLOOKUP($E862,site!$B:$F,3,0)=\"\",\"-\",VLOOKUP($E862,site!$B:$F,3,0))))","v":""},{"$f":"IFERROR(IF($C862=\"\",\"\",IF(VLOOKUP($D862,site!$B:$F,5,0)=\"\",\"-\",VLOOKUP($D862,site!$B:$F,5,0))),IF($C862=\"\",\"\",IF(VLOOKUP($E862,site!$B:$F,4,0)=\"\",\"-\",VLOOKUP($E862,site!$B:$F,4,0))))","v":""},{"$f":"IFERROR(IF($C862=\"\",\"\",IF(VLOOKUP($D862,site!$B:$G,6,0)=\"\",\"-\",VLOOKUP($D862,site!$B:$G,6,0))),IF($C862=\"\",\"\",IF(VLOOKUP($E862,site!$B:$G,5,0)=\"\",\"-\",VLOOKUP($E862,site!$B:$G,5,0))))","v":""}]
[null,null,null,null,null,null,null,null,null,null,null,null,null,null,null,null,null,null,{"$f":"IFERROR(IF(C863=\"\",\"\",IF(VLOOKUP(D863,site!$B:$D,3,0)=\"\",\"-\",VLOOKUP(D863,site!$B:$D,3,0))),IF(C863=\"\",\"\",IF(VLOOKUP(E863,site!$C:$D,2,0)=\"\",\"-\",VLOOKUP(E863,site!$C:$D,2,0))))","v":""},{"$f":"IFERROR(IF($C863=\"\",\"\",IF(VLOOKUP($D863,site!$B:$F,4,0)=\"\",\"-\",VLOOKUP($D863,site!$B:$F,4,0))),IF($C863=\"\",\"\",IF(VLOOKUP($E863,site!$B:$F,3,0)=\"\",\"-\",VLOOKUP($E863,site!$B:$F,3,0))))","v":""},{"$f":"IFERROR(IF($C863=\"\",\"\",IF(VLOOKUP($D863,site!$B:$F,5,0)=\"\",\"-\",VLOOKUP($D863,site!$B:$F,5,0))),IF($C863=\"\",\"\",IF(VLOOKUP($E863,site!$B:$F,4,0)=\"\",\"-\",VLOOKUP($E863,site!$B:$F,4,0))))","v":""},{"$f":"IFERROR(IF($C863=\"\",\"\",IF(VLOOKUP($D863,site!$B:$G,6,0)=\"\",\"-\",VLOOKUP($D863,site!$B:$G,6,0))),IF($C863=\"\",\"\",IF(VLOOKUP($E863,site!$B:$G,5,0)=\"\",\"-\",VLOOKUP($E863,site!$B:$G,5,0))))","v":""}]
[null,null,null,null,null,null,null,null,null,null,null,null,null,null,null,null,null,null,{"$f":"IFERROR(IF(C864=\"\",\"\",IF(VLOOKUP(D864,site!$B:$D,3,0)=\"\",\"-\",VLOOKUP(D864,site!$B:$D,3,0))),IF(C864=\"\",\"\",IF(VLOOKUP(E864,site!$C:$D,2,0)=\"\",\"-\",VLOOKUP(E864,site!$C:$D,2,0))))","v":""},{"$f":"IFERROR(IF($C864=\"\",\"\",IF(VLOOKUP($D864,site!$B:$F,4,0)=\"\",\"-\",VLOOKUP($D864,site!$B:$F,4,0))),IF($C864=\"\",\"\",IF(VLOOKUP($E864,site!$B:$F,3,0)=\"\",\"-\",VLOOKUP($E864,site!$B:$F,3,0))))","v":""},{"$f":"IFERROR(IF($C864=\"\",\"\",IF(VLOOKUP($D864,site!$B:$F,5,0)=\"\",\"-\",VLOOKUP($D864,site!$B:$F,5,0))),IF($C864=\"\",\"\",IF(VLOOKUP($E864,site!$B:$F,4,0)=\"\",\"-\",VLOOKUP($E864,site!$B:$F,4,0))))","v":""},{"$f":"IFERROR(IF($C864=\"\",\"\",IF(VLOOKUP($D864,site!$B:$G,6,0)=\"\",\"-\",VLOOKUP($D864,site!$B:$G,6,0))),IF($C864=\"\",\"\",IF(VLOOKUP($E864,site!$B:$G,5,0)=\"\",\"-\",VLOOKUP($E864,site!$B:$G,5,0))))","v":""}]
[null,null,null,null,null,null,null,null,null,null,null,null,null,null,null,null,null,null,{"$f":"IFERROR(IF(C865=\"\",\"\",IF(VLOOKUP(D865,site!$B:$D,3,0)=\"\",\"-\",VLOOKUP(D865,site!$B:$D,3,0))),IF(C865=\"\",\"\",IF(VLOOKUP(E865,site!$C:$D,2,0)=\"\",\"-\",VLOOKUP(E865,site!$C:$D,2,0))))","v":""},{"$f":"IFERROR(IF($C865=\"\",\"\",IF(VLOOKUP($D865,site!$B:$F,4,0)=\"\",\"-\",VLOOKUP($D865,site!$B:$F,4,0))),IF($C865=\"\",\"\",IF(VLOOKUP($E865,site!$B:$F,3,0)=\"\",\"-\",VLOOKUP($E865,site!$B:$F,3,0))))","v":""},{"$f":"IFERROR(IF($C865=\"\",\"\",IF(VLOOKUP($D865,site!$B:$F,5,0)=\"\",\"-\",VLOOKUP($D865,site!$B:$F,5,0))),IF($C865=\"\",\"\",IF(VLOOKUP($E865,site!$B:$F,4,0)=\"\",\"-\",VLOOKUP($E865,site!$B:$F,4,0))))","v":""},{"$f":"IFERROR(IF($C865=\"\",\"\",IF(VLOOKUP($D865,site!$B:$G,6,0)=\"\",\"-\",VLOOKUP($D865,site!$B:$G,6,0))),IF($C865=\"\",\"\",IF(VLOOKUP($E865,site!$B:$G,5,0)=\"\",\"-\",VLOOKUP($E865,site!$B:$G,5,0))))","v":""}]
[null,null,null,null,null,null,null,null,null,null,null,null,null,null,null,null,null,null,{"$f":"IFERROR(IF(C866=\"\",\"\",IF(VLOOKUP(D866,site!$B:$D,3,0)=\"\",\"-\",VLOOKUP(D866,site!$B:$D,3,0))),IF(C866=\"\",\"\",IF(VLOOKUP(E866,site!$C:$D,2,0)=\"\",\"-\",VLOOKUP(E866,site!$C:$D,2,0))))","v":""},{"$f":"IFERROR(IF($C866=\"\",\"\",IF(VLOOKUP($D866,site!$B:$F,4,0)=\"\",\"-\",VLOOKUP($D866,site!$B:$F,4,0))),IF($C866=\"\",\"\",IF(VLOOKUP($E866,site!$B:$F,3,0)=\"\",\"-\",VLOOKUP($E866,site!$B:$F,3,0))))","v":""},{"$f":"IFERROR(IF($C866=\"\",\"\",IF(VLOOKUP($D866,site!$B:$F,5,0)=\"\",\"-\",VLOOKUP($D866,site!$B:$F,5,0))),IF($C866=\"\",\"\",IF(VLOOKUP($E866,site!$B:$F,4,0)=\"\",\"-\",VLOOKUP($E866,site!$B:$F,4,0))))","v":""},{"$f":"IFERROR(IF($C866=\"\",\"\",IF(VLOOKUP($D866,site!$B:$G,6,0)=\"\",\"-\",VLOOKUP($D866,site!$B:$G,6,0))),IF($C866=\"\",\"\",IF(VLOOKUP($E866,site!$B:$G,5,0)=\"\",\"-\",VLOOKUP($E866,site!$B:$G,5,0))))","v":""}]
[null,null,null,null,null,null,null,null,null,null,null,null,null,null,null,null,null,null,{"$f":"IFERROR(IF(C867=\"\",\"\",IF(VLOOKUP(D867,site!$B:$D,3,0)=\"\",\"-\",VLOOKUP(D867,site!$B:$D,3,0))),IF(C867=\"\",\"\",IF(VLOOKUP(E867,site!$C:$D,2,0)=\"\",\"-\",VLOOKUP(E867,site!$C:$D,2,0))))","v":""},{"$f":"IFERROR(IF($C867=\"\",\"\",IF(VLOOKUP($D867,site!$B:$F,4,0)=\"\",\"-\",VLOOKUP($D867,site!$B:$F,4,0))),IF($C867=\"\",\"\",IF(VLOOKUP($E867,site!$B:$F,3,0)=\"\",\"-\",VLOOKUP($E867,site!$B:$F,3,0))))","v":""},{"$f":"IFERROR(IF($C867=\"\",\"\",IF(VLOOKUP($D867,site!$B:$F,5,0)=\"\",\"-\",VLOOKUP($D867,site!$B:$F,5,0))),IF($C867=\"\",\"\",IF(VLOOKUP($E867,site!$B:$F,4,0)=\"\",\"-\",VLOOKUP($E867,site!$B:$F,4,0))))","v":""},{"$f":"IFERROR(IF($C867=\"\",\"\",IF(VLOOKUP($D867,site!$B:$G,6,0)=\"\",\"-\",VLOOKUP($D867,site!$B:$G,6,0))),IF($C867=\"\",\"\",IF(VLOOKUP($E867,site!$B:$G,5,0)=\"\",\"-\",VLOOKUP($E867,site!$B:$G,5,0))))","v":""}]
[null,null,null,null,null,null,null,null,null,null,null,null,null,null,null,null,null,null,{"$f":"IFERROR(IF(C868=\"\",\"\",IF(VLOOKUP(D868,site!$B:$D,3,0)=\"\",\"-\",VLOOKUP(D868,site!$B:$D,3,0))),IF(C868=\"\",\"\",IF(VLOOKUP(E868,site!$C:$D,2,0)=\"\",\"-\",VLOOKUP(E868,site!$C:$D,2,0))))","v":""},{"$f":"IFERROR(IF($C868=\"\",\"\",IF(VLOOKUP($D868,site!$B:$F,4,0)=\"\",\"-\",VLOOKUP($D868,site!$B:$F,4,0))),IF($C868=\"\",\"\",IF(VLOOKUP($E868,site!$B:$F,3,0)=\"\",\"-\",VLOOKUP($E868,site!$B:$F,3,0))))","v":""},{"$f":"IFERROR(IF($C868=\"\",\"\",IF(VLOOKUP($D868,site!$B:$F,5,0)=\"\",\"-\",VLOOKUP($D868,site!$B:$F,5,0))),IF($C868=\"\",\"\",IF(VLOOKUP($E868,site!$B:$F,4,0)=\"\",\"-\",VLOOKUP($E868,site!$B:$F,4,0))))","v":""},{"$f":"IFERROR(IF($C868=\"\",\"\",IF(VLOOKUP($D868,site!$B:$G,6,0)=\"\",\"-\",VLOOKUP($D868,site!$B:$G,6,0))),IF($C868=\"\",\"\",IF(VLOOKUP($E868,site!$B:$G,5,0)=\"\",\"-\",VLOOKUP($E868,site!$B:$G,5,0))))","v":""}]
[null,null,null,null,null,null,null,null,null,null,null,null,null,null,null,null,null,null,{"$f":"IFERROR(IF(C869=\"\",\"\",IF(VLOOKUP(D869,site!$B:$D,3,0)=\"\",\"-\",VLOOKUP(D869,site!$B:$D,3,0))),IF(C869=\"\",\"\",IF(VLOOKUP(E869,site!$C:$D,2,0)=\"\",\"-\",VLOOKUP(E869,site!$C:$D,2,0))))","v":""},{"$f":"IFERROR(IF($C869=\"\",\"\",IF(VLOOKUP($D869,site!$B:$F,4,0)=\"\",\"-\",VLOOKUP($D869,site!$B:$F,4,0))),IF($C869=\"\",\"\",IF(VLOOKUP($E869,site!$B:$F,3,0)=\"\",\"-\",VLOOKUP($E869,site!$B:$F,3,0))))","v":""},{"$f":"IFERROR(IF($C869=\"\",\"\",IF(VLOOKUP($D869,site!$B:$F,5,0)=\"\",\"-\",VLOOKUP($D869,site!$B:$F,5,0))),IF($C869=\"\",\"\",IF(VLOOKUP($E869,site!$B:$F,4,0)=\"\",\"-\",VLOOKUP($E869,site!$B:$F,4,0))))","v":""},{"$f":"IFERROR(IF($C869=\"\",\"\",IF(VLOOKUP($D869,site!$B:$G,6,0)=\"\",\"-\",VLOOKUP($D869,site!$B:$G,6,0))),IF($C869=\"\",\"\",IF(VLOOKUP($E869,site!$B:$G,5,0)=\"\",\"-\",VLOOKUP($E869,site!$B:$G,5,0))))","v":""}]
[null,null,null,null,null,null,null,null,null,null,null,null,null,null,null,null,null,null,{"$f":"IFERROR(IF(C870=\"\",\"\",IF(VLOOKUP(D870,site!$B:$D,3,0)=\"\",\"-\",VLOOKUP(D870,site!$B:$D,3,0))),IF(C870=\"\",\"\",IF(VLOOKUP(E870,site!$C:$D,2,0)=\"\",\"-\",VLOOKUP(E870,site!$C:$D,2,0))))","v":""},{"$f":"IFERROR(IF($C870=\"\",\"\",IF(VLOOKUP($D870,site!$B:$F,4,0)=\"\",\"-\",VLOOKUP($D870,site!$B:$F,4,0))),IF($C870=\"\",\"\",IF(VLOOKUP($E870,site!$B:$F,3,0)=\"\",\"-\",VLOOKUP($E870,site!$B:$F,3,0))))","v":""},{"$f":"IFERROR(IF($C870=\"\",\"\",IF(VLOOKUP($D870,site!$B:$F,5,0)=\"\",\"-\",VLOOKUP($D870,site!$B:$F,5,0))),IF($C870=\"\",\"\",IF(VLOOKUP($E870,site!$B:$F,4,0)=\"\",\"-\",VLOOKUP($E870,site!$B:$F,4,0))))","v":""},{"$f":"IFERROR(IF($C870=\"\",\"\",IF(VLOOKUP($D870,site!$B:$G,6,0)=\"\",\"-\",VLOOKUP($D870,site!$B:$G,6,0))),IF($C870=\"\",\"\",IF(VLOOKUP($E870,site!$B:$G,5,0)=\"\",\"-\",VLOOKUP($E870,site!$B:$G,5,0))))","v":""}]
[null,null,null,null,null,null,null,null,null,null,null,null,null,null,null,null,null,null,{"$f":"IFERROR(IF(C871=\"\",\"\",IF(VLOOKUP(D871,site!$B:$D,3,0)=\"\",\"-\",VLOOKUP(D871,site!$B:$D,3,0))),IF(C871=\"\",\"\",IF(VLOOKUP(E871,site!$C:$D,2,0)=\"\",\"-\",VLOOKUP(E871,site!$C:$D,2,0))))","v":""},{"$f":"IFERROR(IF($C871=\"\",\"\",IF(VLOOKUP($D871,site!$B:$F,4,0)=\"\",\"-\",VLOOKUP($D871,site!$B:$F,4,0))),IF($C871=\"\",\"\",IF(VLOOKUP($E871,site!$B:$F,3,0)=\"\",\"-\",VLOOKUP($E871,site!$B:$F,3,0))))","v":""},{"$f":"IFERROR(IF($C871=\"\",\"\",IF(VLOOKUP($D871,site!$B:$F,5,0)=\"\",\"-\",VLOOKUP($D871,site!$B:$F,5,0))),IF($C871=\"\",\"\",IF(VLOOKUP($E871,site!$B:$F,4,0)=\"\",\"-\",VLOOKUP($E871,site!$B:$F,4,0))))","v":""},{"$f":"IFERROR(IF($C871=\"\",\"\",IF(VLOOKUP($D871,site!$B:$G,6,0)=\"\",\"-\",VLOOKUP($D871,site!$B:$G,6,0))),IF($C871=\"\",\"\",IF(VLOOKUP($E871,site!$B:$G,5,0)=\"\",\"-\",VLOOKUP($E871,site!$B:$G,5,0))))","v":""}]
[null,null,null,null,null,null,null,null,null,null,null,null,null,null,null,null,null,null,{"$f":"IFERROR(IF(C872=\"\",\"\",IF(VLOOKUP(D872,site!$B:$D,3,0)=\"\",\"-\",VLOOKUP(D872,site!$B:$D,3,0))),IF(C872=\"\",\"\",IF(VLOOKUP(E872,site!$C:$D,2,0)=\"\",\"-\",VLOOKUP(E872,site!$C:$D,2,0))))","v":""},{"$f":"IFERROR(IF($C872=\"\",\"\",IF(VLOOKUP($D872,site!$B:$F,4,0)=\"\",\"-\",VLOOKUP($D872,site!$B:$F,4,0))),IF($C872=\"\",\"\",IF(VLOOKUP($E872,site!$B:$F,3,0)=\"\",\"-\",VLOOKUP($E872,site!$B:$F,3,0))))","v":""},{"$f":"IFERROR(IF($C872=\"\",\"\",IF(VLOOKUP($D872,site!$B:$F,5,0)=\"\",\"-\",VLOOKUP($D872,site!$B:$F,5,0))),IF($C872=\"\",\"\",IF(VLOOKUP($E872,site!$B:$F,4,0)=\"\",\"-\",VLOOKUP($E872,site!$B:$F,4,0))))","v":""},{"$f":"IFERROR(IF($C872=\"\",\"\",IF(VLOOKUP($D872,site!$B:$G,6,0)=\"\",\"-\",VLOOKUP($D872,site!$B:$G,6,0))),IF($C872=\"\",\"\",IF(VLOOKUP($E872,site!$B:$G,5,0)=\"\",\"-\",VLOOKUP($E872,site!$B:$G,5,0))))","v":""}]
[null,null,null,null,null,null,null,null,null,null,null,null,null,null,null,null,null,null,{"$f":"IFERROR(IF(C873=\"\",\"\",IF(VLOOKUP(D873,site!$B:$D,3,0)=\"\",\"-\",VLOOKUP(D873,site!$B:$D,3,0))),IF(C873=\"\",\"\",IF(VLOOKUP(E873,site!$C:$D,2,0)=\"\",\"-\",VLOOKUP(E873,site!$C:$D,2,0))))","v":""},{"$f":"IFERROR(IF($C873=\"\",\"\",IF(VLOOKUP($D873,site!$B:$F,4,0)=\"\",\"-\",VLOOKUP($D873,site!$B:$F,4,0))),IF($C873=\"\",\"\",IF(VLOOKUP($E873,site!$B:$F,3,0)=\"\",\"-\",VLOOKUP($E873,site!$B:$F,3,0))))","v":""},{"$f":"IFERROR(IF($C873=\"\",\"\",IF(VLOOKUP($D873,site!$B:$F,5,0)=\"\",\"-\",VLOOKUP($D873,site!$B:$F,5,0))),IF($C873=\"\",\"\",IF(VLOOKUP($E873,site!$B:$F,4,0)=\"\",\"-\",VLOOKUP($E873,site!$B:$F,4,0))))","v":""},{"$f":"IFERROR(IF($C873=\"\",\"\",IF(VLOOKUP($D873,site!$B:$G,6,0)=\"\",\"-\",VLOOKUP($D873,site!$B:$G,6,0))),IF($C873=\"\",\"\",IF(VLOOKUP($E873,site!$B:$G,5,0)=\"\",\"-\",VLOOKUP($E873,site!$B:$G,5,0))))","v":""}]
[null,null,null,null,null,null,null,null,null,null,null,null,null,null,null,null,null,null,{"$f":"IFERROR(IF(C874=\"\",\"\",IF(VLOOKUP(D874,site!$B:$D,3,0)=\"\",\"-\",VLOOKUP(D874,site!$B:$D,3,0))),IF(C874=\"\",\"\",IF(VLOOKUP(E874,site!$C:$D,2,0)=\"\",\"-\",VLOOKUP(E874,site!$C:$D,2,0))))","v":""},{"$f":"IFERROR(IF($C874=\"\",\"\",IF(VLOOKUP($D874,site!$B:$F,4,0)=\"\",\"-\",VLOOKUP($D874,site!$B:$F,4,0))),IF($C874=\"\",\"\",IF(VLOOKUP($E874,site!$B:$F,3,0)=\"\",\"-\",VLOOKUP($E874,site!$B:$F,3,0))))","v":""},{"$f":"IFERROR(IF($C874=\"\",\"\",IF(VLOOKUP($D874,site!$B:$F,5,0)=\"\",\"-\",VLOOKUP($D874,site!$B:$F,5,0))),IF($C874=\"\",\"\",IF(VLOOKUP($E874,site!$B:$F,4,0)=\"\",\"-\",VLOOKUP($E874,site!$B:$F,4,0))))","v":""},{"$f":"IFERROR(IF($C874=\"\",\"\",IF(VLOOKUP($D874,site!$B:$G,6,0)=\"\",\"-\",VLOOKUP($D874,site!$B:$G,6,0))),IF($C874=\"\",\"\",IF(VLOOKUP($E874,site!$B:$G,5,0)=\"\",\"-\",VLOOKUP($E874,site!$B:$G,5,0))))","v":""}]
[null,null,null,null,null,null,null,null,null,null,null,null,null,null,null,null,null,null,{"$f":"IFERROR(IF(C875=\"\",\"\",IF(VLOOKUP(D875,site!$B:$D,3,0)=\"\",\"-\",VLOOKUP(D875,site!$B:$D,3,0))),IF(C875=\"\",\"\",IF(VLOOKUP(E875,site!$C:$D,2,0)=\"\",\"-\",VLOOKUP(E875,site!$C:$D,2,0))))","v":""},{"$f":"IFERROR(IF($C875=\"\",\"\",IF(VLOOKUP($D875,site!$B:$F,4,0)=\"\",\"-\",VLOOKUP($D875,site!$B:$F,4,0))),IF($C875=\"\",\"\",IF(VLOOKUP($E875,site!$B:$F,3,0)=\"\",\"-\",VLOOKUP($E875,site!$B:$F,3,0))))","v":""},{"$f":"IFERROR(IF($C875=\"\",\"\",IF(VLOOKUP($D875,site!$B:$F,5,0)=\"\",\"-\",VLOOKUP($D875,site!$B:$F,5,0))),IF($C875=\"\",\"\",IF(VLOOKUP($E875,site!$B:$F,4,0)=\"\",\"-\",VLOOKUP($E875,site!$B:$F,4,0))))","v":""},{"$f":"IFERROR(IF($C875=\"\",\"\",IF(VLOOKUP($D875,site!$B:$G,6,0)=\"\",\"-\",VLOOKUP($D875,site!$B:$G,6,0))),IF($C875=\"\",\"\",IF(VLOOKUP($E875,site!$B:$G,5,0)=\"\",\"-\",VLOOKUP($E875,site!$B:$G,5,0))))","v":""}]
[null,null,null,null,null,null,null,null,null,null,null,null,null,null,null,null,null,null,{"$f":"IFERROR(IF(C876=\"\",\"\",IF(VLOOKUP(D876,site!$B:$D,3,0)=\"\",\"-\",VLOOKUP(D876,site!$B:$D,3,0))),IF(C876=\"\",\"\",IF(VLOOKUP(E876,site!$C:$D,2,0)=\"\",\"-\",VLOOKUP(E876,site!$C:$D,2,0))))","v":""},{"$f":"IFERROR(IF($C876=\"\",\"\",IF(VLOOKUP($D876,site!$B:$F,4,0)=\"\",\"-\",VLOOKUP($D876,site!$B:$F,4,0))),IF($C876=\"\",\"\",IF(VLOOKUP($E876,site!$B:$F,3,0)=\"\",\"-\",VLOOKUP($E876,site!$B:$F,3,0))))","v":""},{"$f":"IFERROR(IF($C876=\"\",\"\",IF(VLOOKUP($D876,site!$B:$F,5,0)=\"\",\"-\",VLOOKUP($D876,site!$B:$F,5,0))),IF($C876=\"\",\"\",IF(VLOOKUP($E876,site!$B:$F,4,0)=\"\",\"-\",VLOOKUP($E876,site!$B:$F,4,0))))","v":""},{"$f":"IFERROR(IF($C876=\"\",\"\",IF(VLOOKUP($D876,site!$B:$G,6,0)=\"\",\"-\",VLOOKUP($D876,site!$B:$G,6,0))),IF($C876=\"\",\"\",IF(VLOOKUP($E876,site!$B:$G,5,0)=\"\",\"-\",VLOOKUP($E876,site!$B:$G,5,0))))","v":""}]
[null,null,null,null,null,null,null,null,null,null,null,null,null,null,null,null,null,null,{"$f":"IFERROR(IF(C877=\"\",\"\",IF(VLOOKUP(D877,site!$B:$D,3,0)=\"\",\"-\",VLOOKUP(D877,site!$B:$D,3,0))),IF(C877=\"\",\"\",IF(VLOOKUP(E877,site!$C:$D,2,0)=\"\",\"-\",VLOOKUP(E877,site!$C:$D,2,0))))","v":""},{"$f":"IFERROR(IF($C877=\"\",\"\",IF(VLOOKUP($D877,site!$B:$F,4,0)=\"\",\"-\",VLOOKUP($D877,site!$B:$F,4,0))),IF($C877=\"\",\"\",IF(VLOOKUP($E877,site!$B:$F,3,0)=\"\",\"-\",VLOOKUP($E877,site!$B:$F,3,0))))","v":""},{"$f":"IFERROR(IF($C877=\"\",\"\",IF(VLOOKUP($D877,site!$B:$F,5,0)=\"\",\"-\",VLOOKUP($D877,site!$B:$F,5,0))),IF($C877=\"\",\"\",IF(VLOOKUP($E877,site!$B:$F,4,0)=\"\",\"-\",VLOOKUP($E877,site!$B:$F,4,0))))","v":""},{"$f":"IFERROR(IF($C877=\"\",\"\",IF(VLOOKUP($D877,site!$B:$G,6,0)=\"\",\"-\",VLOOKUP($D877,site!$B:$G,6,0))),IF($C877=\"\",\"\",IF(VLOOKUP($E877,site!$B:$G,5,0)=\"\",\"-\",VLOOKUP($E877,site!$B:$G,5,0))))","v":""}]
[null,null,null,null,null,null,null,null,null,null,null,null,null,null,null,null,null,null,{"$f":"IFERROR(IF(C878=\"\",\"\",IF(VLOOKUP(D878,site!$B:$D,3,0)=\"\",\"-\",VLOOKUP(D878,site!$B:$D,3,0))),IF(C878=\"\",\"\",IF(VLOOKUP(E878,site!$C:$D,2,0)=\"\",\"-\",VLOOKUP(E878,site!$C:$D,2,0))))","v":""},{"$f":"IFERROR(IF($C878=\"\",\"\",IF(VLOOKUP($D878,site!$B:$F,4,0)=\"\",\"-\",VLOOKUP($D878,site!$B:$F,4,0))),IF($C878=\"\",\"\",IF(VLOOKUP($E878,site!$B:$F,3,0)=\"\",\"-\",VLOOKUP($E878,site!$B:$F,3,0))))","v":""},{"$f":"IFERROR(IF($C878=\"\",\"\",IF(VLOOKUP($D878,site!$B:$F,5,0)=\"\",\"-\",VLOOKUP($D878,site!$B:$F,5,0))),IF($C878=\"\",\"\",IF(VLOOKUP($E878,site!$B:$F,4,0)=\"\",\"-\",VLOOKUP($E878,site!$B:$F,4,0))))","v":""},{"$f":"IFERROR(IF($C878=\"\",\"\",IF(VLOOKUP($D878,site!$B:$G,6,0)=\"\",\"-\",VLOOKUP($D878,site!$B:$G,6,0))),IF($C878=\"\",\"\",IF(VLOOKUP($E878,site!$B:$G,5,0)=\"\",\"-\",VLOOKUP($E878,site!$B:$G,5,0))))","v":""}]
[null,null,null,null,null,null,null,null,null,null,null,null,null,null,null,null,null,null,{"$f":"IFERROR(IF(C879=\"\",\"\",IF(VLOOKUP(D879,site!$B:$D,3,0)=\"\",\"-\",VLOOKUP(D879,site!$B:$D,3,0))),IF(C879=\"\",\"\",IF(VLOOKUP(E879,site!$C:$D,2,0)=\"\",\"-\",VLOOKUP(E879,site!$C:$D,2,0))))","v":""},{"$f":"IFERROR(IF($C879=\"\",\"\",IF(VLOOKUP($D879,site!$B:$F,4,0)=\"\",\"-\",VLOOKUP($D879,site!$B:$F,4,0))),IF($C879=\"\",\"\",IF(VLOOKUP($E879,site!$B:$F,3,0)=\"\",\"-\",VLOOKUP($E879,site!$B:$F,3,0))))","v":""},{"$f":"IFERROR(IF($C879=\"\",\"\",IF(VLOOKUP($D879,site!$B:$F,5,0)=\"\",\"-\",VLOOKUP($D879,site!$B:$F,5,0))),IF($C879=\"\",\"\",IF(VLOOKUP($E879,site!$B:$F,4,0)=\"\",\"-\",VLOOKUP($E879,site!$B:$F,4,0))))","v":""},{"$f":"IFERROR(IF($C879=\"\",\"\",IF(VLOOKUP($D879,site!$B:$G,6,0)=\"\",\"-\",VLOOKUP($D879,site!$B:$G,6,0))),IF($C879=\"\",\"\",IF(VLOOKUP($E879,site!$B:$G,5,0)=\"\",\"-\",VLOOKUP($E879,site!$B:$G,5,0))))","v":""}]
[null,null,null,null,null,null,null,null,null,null,null,null,null,null,null,null,null,null,{"$f":"IFERROR(IF(C880=\"\",\"\",IF(VLOOKUP(D880,site!$B:$D,3,0)=\"\",\"-\",VLOOKUP(D880,site!$B:$D,3,0))),IF(C880=\"\",\"\",IF(VLOOKUP(E880,site!$C:$D,2,0)=\"\",\"-\",VLOOKUP(E880,site!$C:$D,2,0))))","v":""},{"$f":"IFERROR(IF($C880=\"\",\"\",IF(VLOOKUP($D880,site!$B:$F,4,0)=\"\",\"-\",VLOOKUP($D880,site!$B:$F,4,0))),IF($C880=\"\",\"\",IF(VLOOKUP($E880,site!$B:$F,3,0)=\"\",\"-\",VLOOKUP($E880,site!$B:$F,3,0))))","v":""},{"$f":"IFERROR(IF($C880=\"\",\"\",IF(VLOOKUP($D880,site!$B:$F,5,0)=\"\",\"-\",VLOOKUP($D880,site!$B:$F,5,0))),IF($C880=\"\",\"\",IF(VLOOKUP($E880,site!$B:$F,4,0)=\"\",\"-\",VLOOKUP($E880,site!$B:$F,4,0))))","v":""},{"$f":"IFERROR(IF($C880=\"\",\"\",IF(VLOOKUP($D880,site!$B:$G,6,0)=\"\",\"-\",VLOOKUP($D880,site!$B:$G,6,0))),IF($C880=\"\",\"\",IF(VLOOKUP($E880,site!$B:$G,5,0)=\"\",\"-\",VLOOKUP($E880,site!$B:$G,5,0))))","v":""}]
[null,null,null,null,null,null,null,null,null,null,null,null,null,null,null,null,null,null,{"$f":"IFERROR(IF(C881=\"\",\"\",IF(VLOOKUP(D881,site!$B:$D,3,0)=\"\",\"-\",VLOOKUP(D881,site!$B:$D,3,0))),IF(C881=\"\",\"\",IF(VLOOKUP(E881,site!$C:$D,2,0)=\"\",\"-\",VLOOKUP(E881,site!$C:$D,2,0))))","v":""},{"$f":"IFERROR(IF($C881=\"\",\"\",IF(VLOOKUP($D881,site!$B:$F,4,0)=\"\",\"-\",VLOOKUP($D881,site!$B:$F,4,0))),IF($C881=\"\",\"\",IF(VLOOKUP($E881,site!$B:$F,3,0)=\"\",\"-\",VLOOKUP($E881,site!$B:$F,3,0))))","v":""},{"$f":"IFERROR(IF($C881=\"\",\"\",IF(VLOOKUP($D881,site!$B:$F,5,0)=\"\",\"-\",VLOOKUP($D881,site!$B:$F,5,0))),IF($C881=\"\",\"\",IF(VLOOKUP($E881,site!$B:$F,4,0)=\"\",\"-\",VLOOKUP($E881,site!$B:$F,4,0))))","v":""},{"$f":"IFERROR(IF($C881=\"\",\"\",IF(VLOOKUP($D881,site!$B:$G,6,0)=\"\",\"-\",VLOOKUP($D881,site!$B:$G,6,0))),IF($C881=\"\",\"\",IF(VLOOKUP($E881,site!$B:$G,5,0)=\"\",\"-\",VLOOKUP($E881,site!$B:$G,5,0))))","v":""}]
[null,null,null,null,null,null,null,null,null,null,null,null,null,null,null,null,null,null,{"$f":"IFERROR(IF(C882=\"\",\"\",IF(VLOOKUP(D882,site!$B:$D,3,0)=\"\",\"-\",VLOOKUP(D882,site!$B:$D,3,0))),IF(C882=\"\",\"\",IF(VLOOKUP(E882,site!$C:$D,2,0)=\"\",\"-\",VLOOKUP(E882,site!$C:$D,2,0))))","v":""},{"$f":"IFERROR(IF($C882=\"\",\"\",IF(VLOOKUP($D882,site!$B:$F,4,0)=\"\",\"-\",VLOOKUP($D882,site!$B:$F,4,0))),IF($C882=\"\",\"\",IF(VLOOKUP($E882,site!$B:$F,3,0)=\"\",\"-\",VLOOKUP($E882,site!$B:$F,3,0))))","v":""},{"$f":"IFERROR(IF($C882=\"\",\"\",IF(VLOOKUP($D882,site!$B:$F,5,0)=\"\",\"-\",VLOOKUP($D882,site!$B:$F,5,0))),IF($C882=\"\",\"\",IF(VLOOKUP($E882,site!$B:$F,4,0)=\"\",\"-\",VLOOKUP($E882,site!$B:$F,4,0))))","v":""},{"$f":"IFERROR(IF($C882=\"\",\"\",IF(VLOOKUP($D882,site!$B:$G,6,0)=\"\",\"-\",VLOOKUP($D882,site!$B:$G,6,0))),IF($C882=\"\",\"\",IF(VLOOKUP($E882,site!$B:$G,5,0)=\"\",\"-\",VLOOKUP($E882,site!$B:$G,5,0))))","v":""}]
[null,null,null,null,null,null,null,null,null,null,null,null,null,null,null,null,null,null,{"$f":"IFERROR(IF(C883=\"\",\"\",IF(VLOOKUP(D883,site!$B:$D,3,0)=\"\",\"-\",VLOOKUP(D883,site!$B:$D,3,0))),IF(C883=\"\",\"\",IF(VLOOKUP(E883,site!$C:$D,2,0)=\"\",\"-\",VLOOKUP(E883,site!$C:$D,2,0))))","v":""},{"$f":"IFERROR(IF($C883=\"\",\"\",IF(VLOOKUP($D883,site!$B:$F,4,0)=\"\",\"-\",VLOOKUP($D883,site!$B:$F,4,0))),IF($C883=\"\",\"\",IF(VLOOKUP($E883,site!$B:$F,3,0)=\"\",\"-\",VLOOKUP($E883,site!$B:$F,3,0))))","v":""},{"$f":"IFERROR(IF($C883=\"\",\"\",IF(VLOOKUP($D883,site!$B:$F,5,0)=\"\",\"-\",VLOOKUP($D883,site!$B:$F,5,0))),IF($C883=\"\",\"\",IF(VLOOKUP($E883,site!$B:$F,4,0)=\"\",\"-\",VLOOKUP($E883,site!$B:$F,4,0))))","v":""},{"$f":"IFERROR(IF($C883=\"\",\"\",IF(VLOOKUP($D883,site!$B:$G,6,0)=\"\",\"-\",VLOOKUP($D883,site!$B:$G,6,0))),IF($C883=\"\",\"\",IF(VLOOKUP($E883,site!$B:$G,5,0)=\"\",\"-\",VLOOKUP($E883,site!$B:$G,5,0))))","v":""}]
[null,null,null,null,null,null,null,null,null,null,null,null,null,null,null,null,null,null,{"$f":"IFERROR(IF(C884=\"\",\"\",IF(VLOOKUP(D884,site!$B:$D,3,0)=\"\",\"-\",VLOOKUP(D884,site!$B:$D,3,0))),IF(C884=\"\",\"\",IF(VLOOKUP(E884,site!$C:$D,2,0)=\"\",\"-\",VLOOKUP(E884,site!$C:$D,2,0))))","v":""},{"$f":"IFERROR(IF($C884=\"\",\"\",IF(VLOOKUP($D884,site!$B:$F,4,0)=\"\",\"-\",VLOOKUP($D884,site!$B:$F,4,0))),IF($C884=\"\",\"\",IF(VLOOKUP($E884,site!$B:$F,3,0)=\"\",\"-\",VLOOKUP($E884,site!$B:$F,3,0))))","v":""},{"$f":"IFERROR(IF($C884=\"\",\"\",IF(VLOOKUP($D884,site!$B:$F,5,0)=\"\",\"-\",VLOOKUP($D884,site!$B:$F,5,0))),IF($C884=\"\",\"\",IF(VLOOKUP($E884,site!$B:$F,4,0)=\"\",\"-\",VLOOKUP($E884,site!$B:$F,4,0))))","v":""},{"$f":"IFERROR(IF($C884=\"\",\"\",IF(VLOOKUP($D884,site!$B:$G,6,0)=\"\",\"-\",VLOOKUP($D884,site!$B:$G,6,0))),IF($C884=\"\",\"\",IF(VLOOKUP($E884,site!$B:$G,5,0)=\"\",\"-\",VLOOKUP($E884,site!$B:$G,5,0))))","v":""}]
[null,null,null,null,null,null,null,null,null,null,null,null,null,null,null,null,null,null,{"$f":"IFERROR(IF(C885=\"\",\"\",IF(VLOOKUP(D885,site!$B:$D,3,0)=\"\",\"-\",VLOOKUP(D885,site!$B:$D,3,0))),IF(C885=\"\",\"\",IF(VLOOKUP(E885,site!$C:$D,2,0)=\"\",\"-\",VLOOKUP(E885,site!$C:$D,2,0))))","v":""},{"$f":"IFERROR(IF($C885=\"\",\"\",IF(VLOOKUP($D885,site!$B:$F,4,0)=\"\",\"-\",VLOOKUP($D885,site!$B:$F,4,0))),IF($C885=\"\",\"\",IF(VLOOKUP($E885,site!$B:$F,3,0)=\"\",\"-\",VLOOKUP($E885,site!$B:$F,3,0))))","v":""},{"$f":"IFERROR(IF($C885=\"\",\"\",IF(VLOOKUP($D885,site!$B:$F,5,0)=\"\",\"-\",VLOOKUP($D885,site!$B:$F,5,0))),IF($C885=\"\",\"\",IF(VLOOKUP($E885,site!$B:$F,4,0)=\"\",\"-\",VLOOKUP($E885,site!$B:$F,4,0))))","v":""},{"$f":"IFERROR(IF($C885=\"\",\"\",IF(VLOOKUP($D885,site!$B:$G,6,0)=\"\",\"-\",VLOOKUP($D885,site!$B:$G,6,0))),IF($C885=\"\",\"\",IF(VLOOKUP($E885,site!$B:$G,5,0)=\"\",\"-\",VLOOKUP($E885,site!$B:$G,5,0))))","v":""}]
[null,null,null,null,null,null,null,null,null,null,null,null,null,null,null,null,null,null,{"$f":"IFERROR(IF(C886=\"\",\"\",IF(VLOOKUP(D886,site!$B:$D,3,0)=\"\",\"-\",VLOOKUP(D886,site!$B:$D,3,0))),IF(C886=\"\",\"\",IF(VLOOKUP(E886,site!$C:$D,2,0)=\"\",\"-\",VLOOKUP(E886,site!$C:$D,2,0))))","v":""},{"$f":"IFERROR(IF($C886=\"\",\"\",IF(VLOOKUP($D886,site!$B:$F,4,0)=\"\",\"-\",VLOOKUP($D886,site!$B:$F,4,0))),IF($C886=\"\",\"\",IF(VLOOKUP($E886,site!$B:$F,3,0)=\"\",\"-\",VLOOKUP($E886,site!$B:$F,3,0))))","v":""},{"$f":"IFERROR(IF($C886=\"\",\"\",IF(VLOOKUP($D886,site!$B:$F,5,0)=\"\",\"-\",VLOOKUP($D886,site!$B:$F,5,0))),IF($C886=\"\",\"\",IF(VLOOKUP($E886,site!$B:$F,4,0)=\"\",\"-\",VLOOKUP($E886,site!$B:$F,4,0))))","v":""},{"$f":"IFERROR(IF($C886=\"\",\"\",IF(VLOOKUP($D886,site!$B:$G,6,0)=\"\",\"-\",VLOOKUP($D886,site!$B:$G,6,0))),IF($C886=\"\",\"\",IF(VLOOKUP($E886,site!$B:$G,5,0)=\"\",\"-\",VLOOKUP($E886,site!$B:$G,5,0))))","v":""}]
[null,null,null,null,null,null,null,null,null,null,null,null,null,null,null,null,null,null,{"$f":"IFERROR(IF(C887=\"\",\"\",IF(VLOOKUP(D887,site!$B:$D,3,0)=\"\",\"-\",VLOOKUP(D887,site!$B:$D,3,0))),IF(C887=\"\",\"\",IF(VLOOKUP(E887,site!$C:$D,2,0)=\"\",\"-\",VLOOKUP(E887,site!$C:$D,2,0))))","v":""},{"$f":"IFERROR(IF($C887=\"\",\"\",IF(VLOOKUP($D887,site!$B:$F,4,0)=\"\",\"-\",VLOOKUP($D887,site!$B:$F,4,0))),IF($C887=\"\",\"\",IF(VLOOKUP($E887,site!$B:$F,3,0)=\"\",\"-\",VLOOKUP($E887,site!$B:$F,3,0))))","v":""},{"$f":"IFERROR(IF($C887=\"\",\"\",IF(VLOOKUP($D887,site!$B:$F,5,0)=\"\",\"-\",VLOOKUP($D887,site!$B:$F,5,0))),IF($C887=\"\",\"\",IF(VLOOKUP($E887,site!$B:$F,4,0)=\"\",\"-\",VLOOKUP($E887,site!$B:$F,4,0))))","v":""},{"$f":"IFERROR(IF($C887=\"\",\"\",IF(VLOOKUP($D887,site!$B:$G,6,0)=\"\",\"-\",VLOOKUP($D887,site!$B:$G,6,0))),IF($C887=\"\",\"\",IF(VLOOKUP($E887,site!$B:$G,5,0)=\"\",\"-\",VLOOKUP($E887,site!$B:$G,5,0))))","v":""}]
[null,null,null,null,null,null,null,null,null,null,null,null,null,null,null,null,null,null,{"$f":"IFERROR(IF(C888=\"\",\"\",IF(VLOOKUP(D888,site!$B:$D,3,0)=\"\",\"-\",VLOOKUP(D888,site!$B:$D,3,0))),IF(C888=\"\",\"\",IF(VLOOKUP(E888,site!$C:$D,2,0)=\"\",\"-\",VLOOKUP(E888,site!$C:$D,2,0))))","v":""},{"$f":"IFERROR(IF($C888=\"\",\"\",IF(VLOOKUP($D888,site!$B:$F,4,0)=\"\",\"-\",VLOOKUP($D888,site!$B:$F,4,0))),IF($C888=\"\",\"\",IF(VLOOKUP($E888,site!$B:$F,3,0)=\"\",\"-\",VLOOKUP($E888,site!$B:$F,3,0))))","v":""},{"$f":"IFERROR(IF($C888=\"\",\"\",IF(VLOOKUP($D888,site!$B:$F,5,0)=\"\",\"-\",VLOOKUP($D888,site!$B:$F,5,0))),IF($C888=\"\",\"\",IF(VLOOKUP($E888,site!$B:$F,4,0)=\"\",\"-\",VLOOKUP($E888,site!$B:$F,4,0))))","v":""},{"$f":"IFERROR(IF($C888=\"\",\"\",IF(VLOOKUP($D888,site!$B:$G,6,0)=\"\",\"-\",VLOOKUP($D888,site!$B:$G,6,0))),IF($C888=\"\",\"\",IF(VLOOKUP($E888,site!$B:$G,5,0)=\"\",\"-\",VLOOKUP($E888,site!$B:$G,5,0))))","v":""}]
[null,null,null,null,null,null,null,null,null,null,null,null,null,null,null,null,null,null,{"$f":"IFERROR(IF(C889=\"\",\"\",IF(VLOOKUP(D889,site!$B:$D,3,0)=\"\",\"-\",VLOOKUP(D889,site!$B:$D,3,0))),IF(C889=\"\",\"\",IF(VLOOKUP(E889,site!$C:$D,2,0)=\"\",\"-\",VLOOKUP(E889,site!$C:$D,2,0))))","v":""},{"$f":"IFERROR(IF($C889=\"\",\"\",IF(VLOOKUP($D889,site!$B:$F,4,0)=\"\",\"-\",VLOOKUP($D889,site!$B:$F,4,0))),IF($C889=\"\",\"\",IF(VLOOKUP($E889,site!$B:$F,3,0)=\"\",\"-\",VLOOKUP($E889,site!$B:$F,3,0))))","v":""},{"$f":"IFERROR(IF($C889=\"\",\"\",IF(VLOOKUP($D889,site!$B:$F,5,0)=\"\",\"-\",VLOOKUP($D889,site!$B:$F,5,0))),IF($C889=\"\",\"\",IF(VLOOKUP($E889,site!$B:$F,4,0)=\"\",\"-\",VLOOKUP($E889,site!$B:$F,4,0))))","v":""},{"$f":"IFERROR(IF($C889=\"\",\"\",IF(VLOOKUP($D889,site!$B:$G,6,0)=\"\",\"-\",VLOOKUP($D889,site!$B:$G,6,0))),IF($C889=\"\",\"\",IF(VLOOKUP($E889,site!$B:$G,5,0)=\"\",\"-\",VLOOKUP($E889,site!$B:$G,5,0))))","v":""}]
[null,null,null,null,null,null,null,null,null,null,null,null,null,null,null,null,null,null,{"$f":"IFERROR(IF(C890=\"\",\"\",IF(VLOOKUP(D890,site!$B:$D,3,0)=\"\",\"-\",VLOOKUP(D890,site!$B:$D,3,0))),IF(C890=\"\",\"\",IF(VLOOKUP(E890,site!$C:$D,2,0)=\"\",\"-\",VLOOKUP(E890,site!$C:$D,2,0))))","v":""},{"$f":"IFERROR(IF($C890=\"\",\"\",IF(VLOOKUP($D890,site!$B:$F,4,0)=\"\",\"-\",VLOOKUP($D890,site!$B:$F,4,0))),IF($C890=\"\",\"\",IF(VLOOKUP($E890,site!$B:$F,3,0)=\"\",\"-\",VLOOKUP($E890,site!$B:$F,3,0))))","v":""},{"$f":"IFERROR(IF($C890=\"\",\"\",IF(VLOOKUP($D890,site!$B:$F,5,0)=\"\",\"-\",VLOOKUP($D890,site!$B:$F,5,0))),IF($C890=\"\",\"\",IF(VLOOKUP($E890,site!$B:$F,4,0)=\"\",\"-\",VLOOKUP($E890,site!$B:$F,4,0))))","v":""},{"$f":"IFERROR(IF($C890=\"\",\"\",IF(VLOOKUP($D890,site!$B:$G,6,0)=\"\",\"-\",VLOOKUP($D890,site!$B:$G,6,0))),IF($C890=\"\",\"\",IF(VLOOKUP($E890,site!$B:$G,5,0)=\"\",\"-\",VLOOKUP($E890,site!$B:$G,5,0))))","v":""}]
[null,null,null,null,null,null,null,null,null,null,null,null,null,null,null,null,null,null,{"$f":"IFERROR(IF(C891=\"\",\"\",IF(VLOOKUP(D891,site!$B:$D,3,0)=\"\",\"-\",VLOOKUP(D891,site!$B:$D,3,0))),IF(C891=\"\",\"\",IF(VLOOKUP(E891,site!$C:$D,2,0)=\"\",\"-\",VLOOKUP(E891,site!$C:$D,2,0))))","v":""},{"$f":"IFERROR(IF($C891=\"\",\"\",IF(VLOOKUP($D891,site!$B:$F,4,0)=\"\",\"-\",VLOOKUP($D891,site!$B:$F,4,0))),IF($C891=\"\",\"\",IF(VLOOKUP($E891,site!$B:$F,3,0)=\"\",\"-\",VLOOKUP($E891,site!$B:$F,3,0))))","v":""},{"$f":"IFERROR(IF($C891=\"\",\"\",IF(VLOOKUP($D891,site!$B:$F,5,0)=\"\",\"-\",VLOOKUP($D891,site!$B:$F,5,0))),IF($C891=\"\",\"\",IF(VLOOKUP($E891,site!$B:$F,4,0)=\"\",\"-\",VLOOKUP($E891,site!$B:$F,4,0))))","v":""},{"$f":"IFERROR(IF($C891=\"\",\"\",IF(VLOOKUP($D891,site!$B:$G,6,0)=\"\",\"-\",VLOOKUP($D891,site!$B:$G,6,0))),IF($C891=\"\",\"\",IF(VLOOKUP($E891,site!$B:$G,5,0)=\"\",\"-\",VLOOKUP($E891,site!$B:$G,5,0))))","v":""}]
[null,null,null,null,null,null,null,null,null,null,null,null,null,null,null,null,null,null,{"$f":"IFERROR(IF(C892=\"\",\"\",IF(VLOOKUP(D892,site!$B:$D,3,0)=\"\",\"-\",VLOOKUP(D892,site!$B:$D,3,0))),IF(C892=\"\",\"\",IF(VLOOKUP(E892,site!$C:$D,2,0)=\"\",\"-\",VLOOKUP(E892,site!$C:$D,2,0))))","v":""},{"$f":"IFERROR(IF($C892=\"\",\"\",IF(VLOOKUP($D892,site!$B:$F,4,0)=\"\",\"-\",VLOOKUP($D892,site!$B:$F,4,0))),IF($C892=\"\",\"\",IF(VLOOKUP($E892,site!$B:$F,3,0)=\"\",\"-\",VLOOKUP($E892,site!$B:$F,3,0))))","v":""},{"$f":"IFERROR(IF($C892=\"\",\"\",IF(VLOOKUP($D892,site!$B:$F,5,0)=\"\",\"-\",VLOOKUP($D892,site!$B:$F,5,0))),IF($C892=\"\",\"\",IF(VLOOKUP($E892,site!$B:$F,4,0)=\"\",\"-\",VLOOKUP($E892,site!$B:$F,4,0))))","v":""},{"$f":"IFERROR(IF($C892=\"\",\"\",IF(VLOOKUP($D892,site!$B:$G,6,0)=\"\",\"-\",VLOOKUP($D892,site!$B:$G,6,0))),IF($C892=\"\",\"\",IF(VLOOKUP($E892,site!$B:$G,5,0)=\"\",\"-\",VLOOKUP($E892,site!$B:$G,5,0))))","v":""}]
[null,null,null,null,null,null,null,null,null,null,null,null,null,null,null,null,null,null,{"$f":"IFERROR(IF(C893=\"\",\"\",IF(VLOOKUP(D893,site!$B:$D,3,0)=\"\",\"-\",VLOOKUP(D893,site!$B:$D,3,0))),IF(C893=\"\",\"\",IF(VLOOKUP(E893,site!$C:$D,2,0)=\"\",\"-\",VLOOKUP(E893,site!$C:$D,2,0))))","v":""},{"$f":"IFERROR(IF($C893=\"\",\"\",IF(VLOOKUP($D893,site!$B:$F,4,0)=\"\",\"-\",VLOOKUP($D893,site!$B:$F,4,0))),IF($C893=\"\",\"\",IF(VLOOKUP($E893,site!$B:$F,3,0)=\"\",\"-\",VLOOKUP($E893,site!$B:$F,3,0))))","v":""},{"$f":"IFERROR(IF($C893=\"\",\"\",IF(VLOOKUP($D893,site!$B:$F,5,0)=\"\",\"-\",VLOOKUP($D893,site!$B:$F,5,0))),IF($C893=\"\",\"\",IF(VLOOKUP($E893,site!$B:$F,4,0)=\"\",\"-\",VLOOKUP($E893,site!$B:$F,4,0))))","v":""},{"$f":"IFERROR(IF($C893=\"\",\"\",IF(VLOOKUP($D893,site!$B:$G,6,0)=\"\",\"-\",VLOOKUP($D893,site!$B:$G,6,0))),IF($C893=\"\",\"\",IF(VLOOKUP($E893,site!$B:$G,5,0)=\"\",\"-\",VLOOKUP($E893,site!$B:$G,5,0))))","v":""}]
[null,null,null,null,null,null,null,null,null,null,null,null,null,null,null,null,null,null,{"$f":"IFERROR(IF(C894=\"\",\"\",IF(VLOOKUP(D894,site!$B:$D,3,0)=\"\",\"-\",VLOOKUP(D894,site!$B:$D,3,0))),IF(C894=\"\",\"\",IF(VLOOKUP(E894,site!$C:$D,2,0)=\"\",\"-\",VLOOKUP(E894,site!$C:$D,2,0))))","v":""},{"$f":"IFERROR(IF($C894=\"\",\"\",IF(VLOOKUP($D894,site!$B:$F,4,0)=\"\",\"-\",VLOOKUP($D894,site!$B:$F,4,0))),IF($C894=\"\",\"\",IF(VLOOKUP($E894,site!$B:$F,3,0)=\"\",\"-\",VLOOKUP($E894,site!$B:$F,3,0))))","v":""},{"$f":"IFERROR(IF($C894=\"\",\"\",IF(VLOOKUP($D894,site!$B:$F,5,0)=\"\",\"-\",VLOOKUP($D894,site!$B:$F,5,0))),IF($C894=\"\",\"\",IF(VLOOKUP($E894,site!$B:$F,4,0)=\"\",\"-\",VLOOKUP($E894,site!$B:$F,4,0))))","v":""},{"$f":"IFERROR(IF($C894=\"\",\"\",IF(VLOOKUP($D894,site!$B:$G,6,0)=\"\",\"-\",VLOOKUP($D894,site!$B:$G,6,0))),IF($C894=\"\",\"\",IF(VLOOKUP($E894,site!$B:$G,5,0)=\"\",\"-\",VLOOKUP($E894,site!$B:$G,5,0))))","v":""}]
[null,null,null,null,null,null,null,null,null,null,null,null,null,null,null,null,null,null,{"$f":"IFERROR(IF(C895=\"\",\"\",IF(VLOOKUP(D895,site!$B:$D,3,0)=\"\",\"-\",VLOOKUP(D895,site!$B:$D,3,0))),IF(C895=\"\",\"\",IF(VLOOKUP(E895,site!$C:$D,2,0)=\"\",\"-\",VLOOKUP(E895,site!$C:$D,2,0))))","v":""},{"$f":"IFERROR(IF($C895=\"\",\"\",IF(VLOOKUP($D895,site!$B:$F,4,0)=\"\",\"-\",VLOOKUP($D895,site!$B:$F,4,0))),IF($C895=\"\",\"\",IF(VLOOKUP($E895,site!$B:$F,3,0)=\"\",\"-\",VLOOKUP($E895,site!$B:$F,3,0))))","v":""},{"$f":"IFERROR(IF($C895=\"\",\"\",IF(VLOOKUP($D895,site!$B:$F,5,0)=\"\",\"-\",VLOOKUP($D895,site!$B:$F,5,0))),IF($C895=\"\",\"\",IF(VLOOKUP($E895,site!$B:$F,4,0)=\"\",\"-\",VLOOKUP($E895,site!$B:$F,4,0))))","v":""},{"$f":"IFERROR(IF($C895=\"\",\"\",IF(VLOOKUP($D895,site!$B:$G,6,0)=\"\",\"-\",VLOOKUP($D895,site!$B:$G,6,0))),IF($C895=\"\",\"\",IF(VLOOKUP($E895,site!$B:$G,5,0)=\"\",\"-\",VLOOKUP($E895,site!$B:$G,5,0))))","v":""}]
[null,null,null,null,null,null,null,null,null,null,null,null,null,null,null,null,null,null,{"$f":"IFERROR(IF(C896=\"\",\"\",IF(VLOOKUP(D896,site!$B:$D,3,0)=\"\",\"-\",VLOOKUP(D896,site!$B:$D,3,0))),IF(C896=\"\",\"\",IF(VLOOKUP(E896,site!$C:$D,2,0)=\"\",\"-\",VLOOKUP(E896,site!$C:$D,2,0))))","v":""},{"$f":"IFERROR(IF($C896=\"\",\"\",IF(VLOOKUP($D896,site!$B:$F,4,0)=\"\",\"-\",VLOOKUP($D896,site!$B:$F,4,0))),IF($C896=\"\",\"\",IF(VLOOKUP($E896,site!$B:$F,3,0)=\"\",\"-\",VLOOKUP($E896,site!$B:$F,3,0))))","v":""},{"$f":"IFERROR(IF($C896=\"\",\"\",IF(VLOOKUP($D896,site!$B:$F,5,0)=\"\",\"-\",VLOOKUP($D896,site!$B:$F,5,0))),IF($C896=\"\",\"\",IF(VLOOKUP($E896,site!$B:$F,4,0)=\"\",\"-\",VLOOKUP($E896,site!$B:$F,4,0))))","v":""},{"$f":"IFERROR(IF($C896=\"\",\"\",IF(VLOOKUP($D896,site!$B:$G,6,0)=\"\",\"-\",VLOOKUP($D896,site!$B:$G,6,0))),IF($C896=\"\",\"\",IF(VLOOKUP($E896,site!$B:$G,5,0)=\"\",\"-\",VLOOKUP($E896,site!$B:$G,5,0))))","v":""}]
[null,null,null,null,null,null,null,null,null,null,null,null,null,null,null,null,null,null,{"$f":"IFERROR(IF(C897=\"\",\"\",IF(VLOOKUP(D897,site!$B:$D,3,0)=\"\",\"-\",VLOOKUP(D897,site!$B:$D,3,0))),IF(C897=\"\",\"\",IF(VLOOKUP(E897,site!$C:$D,2,0)=\"\",\"-\",VLOOKUP(E897,site!$C:$D,2,0))))","v":""},{"$f":"IFERROR(IF($C897=\"\",\"\",IF(VLOOKUP($D897,site!$B:$F,4,0)=\"\",\"-\",VLOOKUP($D897,site!$B:$F,4,0))),IF($C897=\"\",\"\",IF(VLOOKUP($E897,site!$B:$F,3,0)=\"\",\"-\",VLOOKUP($E897,site!$B:$F,3,0))))","v":""},{"$f":"IFERROR(IF($C897=\"\",\"\",IF(VLOOKUP($D897,site!$B:$F,5,0)=\"\",\"-\",VLOOKUP($D897,site!$B:$F,5,0))),IF($C897=\"\",\"\",IF(VLOOKUP($E897,site!$B:$F,4,0)=\"\",\"-\",VLOOKUP($E897,site!$B:$F,4,0))))","v":""},{"$f":"IFERROR(IF($C897=\"\",\"\",IF(VLOOKUP($D897,site!$B:$G,6,0)=\"\",\"-\",VLOOKUP($D897,site!$B:$G,6,0))),IF($C897=\"\",\"\",IF(VLOOKUP($E897,site!$B:$G,5,0)=\"\",\"-\",VLOOKUP($E897,site!$B:$G,5,0))))","v":""}]
[null,null,null,null,null,null,null,null,null,null,null,null,null,null,null,null,null,null,{"$f":"IFERROR(IF(C898=\"\",\"\",IF(VLOOKUP(D898,site!$B:$D,3,0)=\"\",\"-\",VLOOKUP(D898,site!$B:$D,3,0))),IF(C898=\"\",\"\",IF(VLOOKUP(E898,site!$C:$D,2,0)=\"\",\"-\",VLOOKUP(E898,site!$C:$D,2,0))))","v":""},{"$f":"IFERROR(IF($C898=\"\",\"\",IF(VLOOKUP($D898,site!$B:$F,4,0)=\"\",\"-\",VLOOKUP($D898,site!$B:$F,4,0))),IF($C898=\"\",\"\",IF(VLOOKUP($E898,site!$B:$F,3,0)=\"\",\"-\",VLOOKUP($E898,site!$B:$F,3,0))))","v":""},{"$f":"IFERROR(IF($C898=\"\",\"\",IF(VLOOKUP($D898,site!$B:$F,5,0)=\"\",\"-\",VLOOKUP($D898,site!$B:$F,5,0))),IF($C898=\"\",\"\",IF(VLOOKUP($E898,site!$B:$F,4,0)=\"\",\"-\",VLOOKUP($E898,site!$B:$F,4,0))))","v":""},{"$f":"IFERROR(IF($C898=\"\",\"\",IF(VLOOKUP($D898,site!$B:$G,6,0)=\"\",\"-\",VLOOKUP($D898,site!$B:$G,6,0))),IF($C898=\"\",\"\",IF(VLOOKUP($E898,site!$B:$G,5,0)=\"\",\"-\",VLOOKUP($E898,site!$B:$G,5,0))))","v":""}]
[null,null,null,null,null,null,null,null,null,null,null,null,null,null,null,null,null,null,{"$f":"IFERROR(IF(C899=\"\",\"\",IF(VLOOKUP(D899,site!$B:$D,3,0)=\"\",\"-\",VLOOKUP(D899,site!$B:$D,3,0))),IF(C899=\"\",\"\",IF(VLOOKUP(E899,site!$C:$D,2,0)=\"\",\"-\",VLOOKUP(E899,site!$C:$D,2,0))))","v":""},{"$f":"IFERROR(IF($C899=\"\",\"\",IF(VLOOKUP($D899,site!$B:$F,4,0)=\"\",\"-\",VLOOKUP($D899,site!$B:$F,4,0))),IF($C899=\"\",\"\",IF(VLOOKUP($E899,site!$B:$F,3,0)=\"\",\"-\",VLOOKUP($E899,site!$B:$F,3,0))))","v":""},{"$f":"IFERROR(IF($C899=\"\",\"\",IF(VLOOKUP($D899,site!$B:$F,5,0)=\"\",\"-\",VLOOKUP($D899,site!$B:$F,5,0))),IF($C899=\"\",\"\",IF(VLOOKUP($E899,site!$B:$F,4,0)=\"\",\"-\",VLOOKUP($E899,site!$B:$F,4,0))))","v":""},{"$f":"IFERROR(IF($C899=\"\",\"\",IF(VLOOKUP($D899,site!$B:$G,6,0)=\"\",\"-\",VLOOKUP($D899,site!$B:$G,6,0))),IF($C899=\"\",\"\",IF(VLOOKUP($E899,site!$B:$G,5,0)=\"\",\"-\",VLOOKUP($E899,site!$B:$G,5,0))))","v":""}]
[null,null,null,null,null,null,null,null,null,null,null,null,null,null,null,null,null,null,{"$f":"IFERROR(IF(C900=\"\",\"\",IF(VLOOKUP(D900,site!$B:$D,3,0)=\"\",\"-\",VLOOKUP(D900,site!$B:$D,3,0))),IF(C900=\"\",\"\",IF(VLOOKUP(E900,site!$C:$D,2,0)=\"\",\"-\",VLOOKUP(E900,site!$C:$D,2,0))))","v":""},{"$f":"IFERROR(IF($C900=\"\",\"\",IF(VLOOKUP($D900,site!$B:$F,4,0)=\"\",\"-\",VLOOKUP($D900,site!$B:$F,4,0))),IF($C900=\"\",\"\",IF(VLOOKUP($E900,site!$B:$F,3,0)=\"\",\"-\",VLOOKUP($E900,site!$B:$F,3,0))))","v":""},{"$f":"IFERROR(IF($C900=\"\",\"\",IF(VLOOKUP($D900,site!$B:$F,5,0)=\"\",\"-\",VLOOKUP($D900,site!$B:$F,5,0))),IF($C900=\"\",\"\",IF(VLOOKUP($E900,site!$B:$F,4,0)=\"\",\"-\",VLOOKUP($E900,site!$B:$F,4,0))))","v":""},{"$f":"IFERROR(IF($C900=\"\",\"\",IF(VLOOKUP($D900,site!$B:$G,6,0)=\"\",\"-\",VLOOKUP($D900,site!$B:$G,6,0))),IF($C900=\"\",\"\",IF(VLOOKUP($E900,site!$B:$G,5,0)=\"\",\"-\",VLOOKUP($E900,site!$B:$G,5,0))))","v":""}]
[null,null,null,null,null,null,null,null,null,null,null,null,null,null,null,null,null,null,{"$f":"IFERROR(IF(C901=\"\",\"\",IF(VLOOKUP(D901,site!$B:$D,3,0)=\"\",\"-\",VLOOKUP(D901,site!$B:$D,3,0))),IF(C901=\"\",\"\",IF(VLOOKUP(E901,site!$C:$D,2,0)=\"\",\"-\",VLOOKUP(E901,site!$C:$D,2,0))))","v":""},{"$f":"IFERROR(IF($C901=\"\",\"\",IF(VLOOKUP($D901,site!$B:$F,4,0)=\"\",\"-\",VLOOKUP($D901,site!$B:$F,4,0))),IF($C901=\"\",\"\",IF(VLOOKUP($E901,site!$B:$F,3,0)=\"\",\"-\",VLOOKUP($E901,site!$B:$F,3,0))))","v":""},{"$f":"IFERROR(IF($C901=\"\",\"\",IF(VLOOKUP($D901,site!$B:$F,5,0)=\"\",\"-\",VLOOKUP($D901,site!$B:$F,5,0))),IF($C901=\"\",\"\",IF(VLOOKUP($E901,site!$B:$F,4,0)=\"\",\"-\",VLOOKUP($E901,site!$B:$F,4,0))))","v":""},{"$f":"IFERROR(IF($C901=\"\",\"\",IF(VLOOKUP($D901,site!$B:$G,6,0)=\"\",\"-\",VLOOKUP($D901,site!$B:$G,6,0))),IF($C901=\"\",\"\",IF(VLOOKUP($E901,site!$B:$G,5,0)=\"\",\"-\",VLOOKUP($E901,site!$B:$G,5,0))))","v":""}]
[null,null,null,null,null,null,null,null,null,null,null,null,null,null,null,null,null,null,{"$f":"IFERROR(IF(C902=\"\",\"\",IF(VLOOKUP(D902,site!$B:$D,3,0)=\"\",\"-\",VLOOKUP(D902,site!$B:$D,3,0))),IF(C902=\"\",\"\",IF(VLOOKUP(E902,site!$C:$D,2,0)=\"\",\"-\",VLOOKUP(E902,site!$C:$D,2,0))))","v":""},{"$f":"IFERROR(IF($C902=\"\",\"\",IF(VLOOKUP($D902,site!$B:$F,4,0)=\"\",\"-\",VLOOKUP($D902,site!$B:$F,4,0))),IF($C902=\"\",\"\",IF(VLOOKUP($E902,site!$B:$F,3,0)=\"\",\"-\",VLOOKUP($E902,site!$B:$F,3,0))))","v":""},{"$f":"IFERROR(IF($C902=\"\",\"\",IF(VLOOKUP($D902,site!$B:$F,5,0)=\"\",\"-\",VLOOKUP($D902,site!$B:$F,5,0))),IF($C902=\"\",\"\",IF(VLOOKUP($E902,site!$B:$F,4,0)=\"\",\"-\",VLOOKUP($E902,site!$B:$F,4,0))))","v":""},{"$f":"IFERROR(IF($C902=\"\",\"\",IF(VLOOKUP($D902,site!$B:$G,6,0)=\"\",\"-\",VLOOKUP($D902,site!$B:$G,6,0))),IF($C902=\"\",\"\",IF(VLOOKUP($E902,site!$B:$G,5,0)=\"\",\"-\",VLOOKUP($E902,site!$B:$G,5,0))))","v":""}]
[null,null,null,null,null,null,null,null,null,null,null,null,null,null,null,null,null,null,{"$f":"IFERROR(IF(C903=\"\",\"\",IF(VLOOKUP(D903,site!$B:$D,3,0)=\"\",\"-\",VLOOKUP(D903,site!$B:$D,3,0))),IF(C903=\"\",\"\",IF(VLOOKUP(E903,site!$C:$D,2,0)=\"\",\"-\",VLOOKUP(E903,site!$C:$D,2,0))))","v":""},{"$f":"IFERROR(IF($C903=\"\",\"\",IF(VLOOKUP($D903,site!$B:$F,4,0)=\"\",\"-\",VLOOKUP($D903,site!$B:$F,4,0))),IF($C903=\"\",\"\",IF(VLOOKUP($E903,site!$B:$F,3,0)=\"\",\"-\",VLOOKUP($E903,site!$B:$F,3,0))))","v":""},{"$f":"IFERROR(IF($C903=\"\",\"\",IF(VLOOKUP($D903,site!$B:$F,5,0)=\"\",\"-\",VLOOKUP($D903,site!$B:$F,5,0))),IF($C903=\"\",\"\",IF(VLOOKUP($E903,site!$B:$F,4,0)=\"\",\"-\",VLOOKUP($E903,site!$B:$F,4,0))))","v":""},{"$f":"IFERROR(IF($C903=\"\",\"\",IF(VLOOKUP($D903,site!$B:$G,6,0)=\"\",\"-\",VLOOKUP($D903,site!$B:$G,6,0))),IF($C903=\"\",\"\",IF(VLOOKUP($E903,site!$B:$G,5,0)=\"\",\"-\",VLOOKUP($E903,site!$B:$G,5,0))))","v":""}]
[null,null,null,null,null,null,null,null,null,null,null,null,null,null,null,null,null,null,{"$f":"IFERROR(IF(C904=\"\",\"\",IF(VLOOKUP(D904,site!$B:$D,3,0)=\"\",\"-\",VLOOKUP(D904,site!$B:$D,3,0))),IF(C904=\"\",\"\",IF(VLOOKUP(E904,site!$C:$D,2,0)=\"\",\"-\",VLOOKUP(E904,site!$C:$D,2,0))))","v":""},{"$f":"IFERROR(IF($C904=\"\",\"\",IF(VLOOKUP($D904,site!$B:$F,4,0)=\"\",\"-\",VLOOKUP($D904,site!$B:$F,4,0))),IF($C904=\"\",\"\",IF(VLOOKUP($E904,site!$B:$F,3,0)=\"\",\"-\",VLOOKUP($E904,site!$B:$F,3,0))))","v":""},{"$f":"IFERROR(IF($C904=\"\",\"\",IF(VLOOKUP($D904,site!$B:$F,5,0)=\"\",\"-\",VLOOKUP($D904,site!$B:$F,5,0))),IF($C904=\"\",\"\",IF(VLOOKUP($E904,site!$B:$F,4,0)=\"\",\"-\",VLOOKUP($E904,site!$B:$F,4,0))))","v":""},{"$f":"IFERROR(IF($C904=\"\",\"\",IF(VLOOKUP($D904,site!$B:$G,6,0)=\"\",\"-\",VLOOKUP($D904,site!$B:$G,6,0))),IF($C904=\"\",\"\",IF(VLOOKUP($E904,site!$B:$G,5,0)=\"\",\"-\",VLOOKUP($E904,site!$B:$G,5,0))))","v":""}]
[null,null,null,null,null,null,null,null,null,null,null,null,null,null,null,null,null,null,{"$f":"IFERROR(IF(C905=\"\",\"\",IF(VLOOKUP(D905,site!$B:$D,3,0)=\"\",\"-\",VLOOKUP(D905,site!$B:$D,3,0))),IF(C905=\"\",\"\",IF(VLOOKUP(E905,site!$C:$D,2,0)=\"\",\"-\",VLOOKUP(E905,site!$C:$D,2,0))))","v":""},{"$f":"IFERROR(IF($C905=\"\",\"\",IF(VLOOKUP($D905,site!$B:$F,4,0)=\"\",\"-\",VLOOKUP($D905,site!$B:$F,4,0))),IF($C905=\"\",\"\",IF(VLOOKUP($E905,site!$B:$F,3,0)=\"\",\"-\",VLOOKUP($E905,site!$B:$F,3,0))))","v":""},{"$f":"IFERROR(IF($C905=\"\",\"\",IF(VLOOKUP($D905,site!$B:$F,5,0)=\"\",\"-\",VLOOKUP($D905,site!$B:$F,5,0))),IF($C905=\"\",\"\",IF(VLOOKUP($E905,site!$B:$F,4,0)=\"\",\"-\",VLOOKUP($E905,site!$B:$F,4,0))))","v":""},{"$f":"IFERROR(IF($C905=\"\",\"\",IF(VLOOKUP($D905,site!$B:$G,6,0)=\"\",\"-\",VLOOKUP($D905,site!$B:$G,6,0))),IF($C905=\"\",\"\",IF(VLOOKUP($E905,site!$B:$G,5,0)=\"\",\"-\",VLOOKUP($E905,site!$B:$G,5,0))))","v":""}]
[null,null,null,null,null,null,null,null,null,null,null,null,null,null,null,null,null,null,{"$f":"IFERROR(IF(C906=\"\",\"\",IF(VLOOKUP(D906,site!$B:$D,3,0)=\"\",\"-\",VLOOKUP(D906,site!$B:$D,3,0))),IF(C906=\"\",\"\",IF(VLOOKUP(E906,site!$C:$D,2,0)=\"\",\"-\",VLOOKUP(E906,site!$C:$D,2,0))))","v":""},{"$f":"IFERROR(IF($C906=\"\",\"\",IF(VLOOKUP($D906,site!$B:$F,4,0)=\"\",\"-\",VLOOKUP($D906,site!$B:$F,4,0))),IF($C906=\"\",\"\",IF(VLOOKUP($E906,site!$B:$F,3,0)=\"\",\"-\",VLOOKUP($E906,site!$B:$F,3,0))))","v":""},{"$f":"IFERROR(IF($C906=\"\",\"\",IF(VLOOKUP($D906,site!$B:$F,5,0)=\"\",\"-\",VLOOKUP($D906,site!$B:$F,5,0))),IF($C906=\"\",\"\",IF(VLOOKUP($E906,site!$B:$F,4,0)=\"\",\"-\",VLOOKUP($E906,site!$B:$F,4,0))))","v":""},{"$f":"IFERROR(IF($C906=\"\",\"\",IF(VLOOKUP($D906,site!$B:$G,6,0)=\"\",\"-\",VLOOKUP($D906,site!$B:$G,6,0))),IF($C906=\"\",\"\",IF(VLOOKUP($E906,site!$B:$G,5,0)=\"\",\"-\",VLOOKUP($E906,site!$B:$G,5,0))))","v":""}]
[null,null,null,null,null,null,null,null,null,null,null,null,null,null,null,null,null,null,{"$f":"IFERROR(IF(C907=\"\",\"\",IF(VLOOKUP(D907,site!$B:$D,3,0)=\"\",\"-\",VLOOKUP(D907,site!$B:$D,3,0))),IF(C907=\"\",\"\",IF(VLOOKUP(E907,site!$C:$D,2,0)=\"\",\"-\",VLOOKUP(E907,site!$C:$D,2,0))))","v":""},{"$f":"IFERROR(IF($C907=\"\",\"\",IF(VLOOKUP($D907,site!$B:$F,4,0)=\"\",\"-\",VLOOKUP($D907,site!$B:$F,4,0))),IF($C907=\"\",\"\",IF(VLOOKUP($E907,site!$B:$F,3,0)=\"\",\"-\",VLOOKUP($E907,site!$B:$F,3,0))))","v":""},{"$f":"IFERROR(IF($C907=\"\",\"\",IF(VLOOKUP($D907,site!$B:$F,5,0)=\"\",\"-\",VLOOKUP($D907,site!$B:$F,5,0))),IF($C907=\"\",\"\",IF(VLOOKUP($E907,site!$B:$F,4,0)=\"\",\"-\",VLOOKUP($E907,site!$B:$F,4,0))))","v":""},{"$f":"IFERROR(IF($C907=\"\",\"\",IF(VLOOKUP($D907,site!$B:$G,6,0)=\"\",\"-\",VLOOKUP($D907,site!$B:$G,6,0))),IF($C907=\"\",\"\",IF(VLOOKUP($E907,site!$B:$G,5,0)=\"\",\"-\",VLOOKUP($E907,site!$B:$G,5,0))))","v":""}]
[null,null,null,null,null,null,null,null,null,null,null,null,null,null,null,null,null,null,{"$f":"IFERROR(IF(C908=\"\",\"\",IF(VLOOKUP(D908,site!$B:$D,3,0)=\"\",\"-\",VLOOKUP(D908,site!$B:$D,3,0))),IF(C908=\"\",\"\",IF(VLOOKUP(E908,site!$C:$D,2,0)=\"\",\"-\",VLOOKUP(E908,site!$C:$D,2,0))))","v":""},{"$f":"IFERROR(IF($C908=\"\",\"\",IF(VLOOKUP($D908,site!$B:$F,4,0)=\"\",\"-\",VLOOKUP($D908,site!$B:$F,4,0))),IF($C908=\"\",\"\",IF(VLOOKUP($E908,site!$B:$F,3,0)=\"\",\"-\",VLOOKUP($E908,site!$B:$F,3,0))))","v":""},{"$f":"IFERROR(IF($C908=\"\",\"\",IF(VLOOKUP($D908,site!$B:$F,5,0)=\"\",\"-\",VLOOKUP($D908,site!$B:$F,5,0))),IF($C908=\"\",\"\",IF(VLOOKUP($E908,site!$B:$F,4,0)=\"\",\"-\",VLOOKUP($E908,site!$B:$F,4,0))))","v":""},{"$f":"IFERROR(IF($C908=\"\",\"\",IF(VLOOKUP($D908,site!$B:$G,6,0)=\"\",\"-\",VLOOKUP($D908,site!$B:$G,6,0))),IF($C908=\"\",\"\",IF(VLOOKUP($E908,site!$B:$G,5,0)=\"\",\"-\",VLOOKUP($E908,site!$B:$G,5,0))))","v":""}]
[null,null,null,null,null,null,null,null,null,null,null,null,null,null,null,null,null,null,{"$f":"IFERROR(IF(C909=\"\",\"\",IF(VLOOKUP(D909,site!$B:$D,3,0)=\"\",\"-\",VLOOKUP(D909,site!$B:$D,3,0))),IF(C909=\"\",\"\",IF(VLOOKUP(E909,site!$C:$D,2,0)=\"\",\"-\",VLOOKUP(E909,site!$C:$D,2,0))))","v":""},{"$f":"IFERROR(IF($C909=\"\",\"\",IF(VLOOKUP($D909,site!$B:$F,4,0)=\"\",\"-\",VLOOKUP($D909,site!$B:$F,4,0))),IF($C909=\"\",\"\",IF(VLOOKUP($E909,site!$B:$F,3,0)=\"\",\"-\",VLOOKUP($E909,site!$B:$F,3,0))))","v":""},{"$f":"IFERROR(IF($C909=\"\",\"\",IF(VLOOKUP($D909,site!$B:$F,5,0)=\"\",\"-\",VLOOKUP($D909,site!$B:$F,5,0))),IF($C909=\"\",\"\",IF(VLOOKUP($E909,site!$B:$F,4,0)=\"\",\"-\",VLOOKUP($E909,site!$B:$F,4,0))))","v":""},{"$f":"IFERROR(IF($C909=\"\",\"\",IF(VLOOKUP($D909,site!$B:$G,6,0)=\"\",\"-\",VLOOKUP($D909,site!$B:$G,6,0))),IF($C909=\"\",\"\",IF(VLOOKUP($E909,site!$B:$G,5,0)=\"\",\"-\",VLOOKUP($E909,site!$B:$G,5,0))))","v":""}]
[null,null,null,null,null,null,null,null,null,null,null,null,null,null,null,null,null,null,{"$f":"IFERROR(IF(C910=\"\",\"\",IF(VLOOKUP(D910,site!$B:$D,3,0)=\"\",\"-\",VLOOKUP(D910,site!$B:$D,3,0))),IF(C910=\"\",\"\",IF(VLOOKUP(E910,site!$C:$D,2,0)=\"\",\"-\",VLOOKUP(E910,site!$C:$D,2,0))))","v":""},{"$f":"IFERROR(IF($C910=\"\",\"\",IF(VLOOKUP($D910,site!$B:$F,4,0)=\"\",\"-\",VLOOKUP($D910,site!$B:$F,4,0))),IF($C910=\"\",\"\",IF(VLOOKUP($E910,site!$B:$F,3,0)=\"\",\"-\",VLOOKUP($E910,site!$B:$F,3,0))))","v":""},{"$f":"IFERROR(IF($C910=\"\",\"\",IF(VLOOKUP($D910,site!$B:$F,5,0)=\"\",\"-\",VLOOKUP($D910,site!$B:$F,5,0))),IF($C910=\"\",\"\",IF(VLOOKUP($E910,site!$B:$F,4,0)=\"\",\"-\",VLOOKUP($E910,site!$B:$F,4,0))))","v":""},{"$f":"IFERROR(IF($C910=\"\",\"\",IF(VLOOKUP($D910,site!$B:$G,6,0)=\"\",\"-\",VLOOKUP($D910,site!$B:$G,6,0))),IF($C910=\"\",\"\",IF(VLOOKUP($E910,site!$B:$G,5,0)=\"\",\"-\",VLOOKUP($E910,site!$B:$G,5,0))))","v":""}]
[null,null,null,null,null,null,null,null,null,null,null,null,null,null,null,null,null,null,{"$f":"IFERROR(IF(C911=\"\",\"\",IF(VLOOKUP(D911,site!$B:$D,3,0)=\"\",\"-\",VLOOKUP(D911,site!$B:$D,3,0))),IF(C911=\"\",\"\",IF(VLOOKUP(E911,site!$C:$D,2,0)=\"\",\"-\",VLOOKUP(E911,site!$C:$D,2,0))))","v":""},{"$f":"IFERROR(IF($C911=\"\",\"\",IF(VLOOKUP($D911,site!$B:$F,4,0)=\"\",\"-\",VLOOKUP($D911,site!$B:$F,4,0))),IF($C911=\"\",\"\",IF(VLOOKUP($E911,site!$B:$F,3,0)=\"\",\"-\",VLOOKUP($E911,site!$B:$F,3,0))))","v":""},{"$f":"IFERROR(IF($C911=\"\",\"\",IF(VLOOKUP($D911,site!$B:$F,5,0)=\"\",\"-\",VLOOKUP($D911,site!$B:$F,5,0))),IF($C911=\"\",\"\",IF(VLOOKUP($E911,site!$B:$F,4,0)=\"\",\"-\",VLOOKUP($E911,site!$B:$F,4,0))))","v":""},{"$f":"IFERROR(IF($C911=\"\",\"\",IF(VLOOKUP($D911,site!$B:$G,6,0)=\"\",\"-\",VLOOKUP($D911,site!$B:$G,6,0))),IF($C911=\"\",\"\",IF(VLOOKUP($E911,site!$B:$G,5,0)=\"\",\"-\",VLOOKUP($E911,site!$B:$G,5,0))))","v":""}]
[null,null,null,null,null,null,null,null,null,null,null,null,null,null,null,null,null,null,{"$f":"IFERROR(IF(C912=\"\",\"\",IF(VLOOKUP(D912,site!$B:$D,3,0)=\"\",\"-\",VLOOKUP(D912,site!$B:$D,3,0))),IF(C912=\"\",\"\",IF(VLOOKUP(E912,site!$C:$D,2,0)=\"\",\"-\",VLOOKUP(E912,site!$C:$D,2,0))))","v":""},{"$f":"IFERROR(IF($C912=\"\",\"\",IF(VLOOKUP($D912,site!$B:$F,4,0)=\"\",\"-\",VLOOKUP($D912,site!$B:$F,4,0))),IF($C912=\"\",\"\",IF(VLOOKUP($E912,site!$B:$F,3,0)=\"\",\"-\",VLOOKUP($E912,site!$B:$F,3,0))))","v":""},{"$f":"IFERROR(IF($C912=\"\",\"\",IF(VLOOKUP($D912,site!$B:$F,5,0)=\"\",\"-\",VLOOKUP($D912,site!$B:$F,5,0))),IF($C912=\"\",\"\",IF(VLOOKUP($E912,site!$B:$F,4,0)=\"\",\"-\",VLOOKUP($E912,site!$B:$F,4,0))))","v":""},{"$f":"IFERROR(IF($C912=\"\",\"\",IF(VLOOKUP($D912,site!$B:$G,6,0)=\"\",\"-\",VLOOKUP($D912,site!$B:$G,6,0))),IF($C912=\"\",\"\",IF(VLOOKUP($E912,site!$B:$G,5,0)=\"\",\"-\",VLOOKUP($E912,site!$B:$G,5,0))))","v":""}]
[null,null,null,null,null,null,null,null,null,null,null,null,null,null,null,null,null,null,{"$f":"IFERROR(IF(C913=\"\",\"\",IF(VLOOKUP(D913,site!$B:$D,3,0)=\"\",\"-\",VLOOKUP(D913,site!$B:$D,3,0))),IF(C913=\"\",\"\",IF(VLOOKUP(E913,site!$C:$D,2,0)=\"\",\"-\",VLOOKUP(E913,site!$C:$D,2,0))))","v":""},{"$f":"IFERROR(IF($C913=\"\",\"\",IF(VLOOKUP($D913,site!$B:$F,4,0)=\"\",\"-\",VLOOKUP($D913,site!$B:$F,4,0))),IF($C913=\"\",\"\",IF(VLOOKUP($E913,site!$B:$F,3,0)=\"\",\"-\",VLOOKUP($E913,site!$B:$F,3,0))))","v":""},{"$f":"IFERROR(IF($C913=\"\",\"\",IF(VLOOKUP($D913,site!$B:$F,5,0)=\"\",\"-\",VLOOKUP($D913,site!$B:$F,5,0))),IF($C913=\"\",\"\",IF(VLOOKUP($E913,site!$B:$F,4,0)=\"\",\"-\",VLOOKUP($E913,site!$B:$F,4,0))))","v":""},{"$f":"IFERROR(IF($C913=\"\",\"\",IF(VLOOKUP($D913,site!$B:$G,6,0)=\"\",\"-\",VLOOKUP($D913,site!$B:$G,6,0))),IF($C913=\"\",\"\",IF(VLOOKUP($E913,site!$B:$G,5,0)=\"\",\"-\",VLOOKUP($E913,site!$B:$G,5,0))))","v":""}]
[null,null,null,null,null,null,null,null,null,null,null,null,null,null,null,null,null,null,{"$f":"IFERROR(IF(C914=\"\",\"\",IF(VLOOKUP(D914,site!$B:$D,3,0)=\"\",\"-\",VLOOKUP(D914,site!$B:$D,3,0))),IF(C914=\"\",\"\",IF(VLOOKUP(E914,site!$C:$D,2,0)=\"\",\"-\",VLOOKUP(E914,site!$C:$D,2,0))))","v":""},{"$f":"IFERROR(IF($C914=\"\",\"\",IF(VLOOKUP($D914,site!$B:$F,4,0)=\"\",\"-\",VLOOKUP($D914,site!$B:$F,4,0))),IF($C914=\"\",\"\",IF(VLOOKUP($E914,site!$B:$F,3,0)=\"\",\"-\",VLOOKUP($E914,site!$B:$F,3,0))))","v":""},{"$f":"IFERROR(IF($C914=\"\",\"\",IF(VLOOKUP($D914,site!$B:$F,5,0)=\"\",\"-\",VLOOKUP($D914,site!$B:$F,5,0))),IF($C914=\"\",\"\",IF(VLOOKUP($E914,site!$B:$F,4,0)=\"\",\"-\",VLOOKUP($E914,site!$B:$F,4,0))))","v":""},{"$f":"IFERROR(IF($C914=\"\",\"\",IF(VLOOKUP($D914,site!$B:$G,6,0)=\"\",\"-\",VLOOKUP($D914,site!$B:$G,6,0))),IF($C914=\"\",\"\",IF(VLOOKUP($E914,site!$B:$G,5,0)=\"\",\"-\",VLOOKUP($E914,site!$B:$G,5,0))))","v":""}]
[null,null,null,null,null,null,null,null,null,null,null,null,null,null,null,null,null,null,{"$f":"IFERROR(IF(C915=\"\",\"\",IF(VLOOKUP(D915,site!$B:$D,3,0)=\"\",\"-\",VLOOKUP(D915,site!$B:$D,3,0))),IF(C915=\"\",\"\",IF(VLOOKUP(E915,site!$C:$D,2,0)=\"\",\"-\",VLOOKUP(E915,site!$C:$D,2,0))))","v":""},{"$f":"IFERROR(IF($C915=\"\",\"\",IF(VLOOKUP($D915,site!$B:$F,4,0)=\"\",\"-\",VLOOKUP($D915,site!$B:$F,4,0))),IF($C915=\"\",\"\",IF(VLOOKUP($E915,site!$B:$F,3,0)=\"\",\"-\",VLOOKUP($E915,site!$B:$F,3,0))))","v":""},{"$f":"IFERROR(IF($C915=\"\",\"\",IF(VLOOKUP($D915,site!$B:$F,5,0)=\"\",\"-\",VLOOKUP($D915,site!$B:$F,5,0))),IF($C915=\"\",\"\",IF(VLOOKUP($E915,site!$B:$F,4,0)=\"\",\"-\",VLOOKUP($E915,site!$B:$F,4,0))))","v":""},{"$f":"IFERROR(IF($C915=\"\",\"\",IF(VLOOKUP($D915,site!$B:$G,6,0)=\"\",\"-\",VLOOKUP($D915,site!$B:$G,6,0))),IF($C915=\"\",\"\",IF(VLOOKUP($E915,site!$B:$G,5,0)=\"\",\"-\",VLOOKUP($E915,site!$B:$G,5,0))))","v":""}]
[null,null,null,null,null,null,null,null,null,null,null,null,null,null,null,null,null,null,{"$f":"IFERROR(IF(C916=\"\",\"\",IF(VLOOKUP(D916,site!$B:$D,3,0)=\"\",\"-\",VLOOKUP(D916,site!$B:$D,3,0))),IF(C916=\"\",\"\",IF(VLOOKUP(E916,site!$C:$D,2,0)=\"\",\"-\",VLOOKUP(E916,site!$C:$D,2,0))))","v":""},{"$f":"IFERROR(IF($C916=\"\",\"\",IF(VLOOKUP($D916,site!$B:$F,4,0)=\"\",\"-\",VLOOKUP($D916,site!$B:$F,4,0))),IF($C916=\"\",\"\",IF(VLOOKUP($E916,site!$B:$F,3,0)=\"\",\"-\",VLOOKUP($E916,site!$B:$F,3,0))))","v":""},{"$f":"IFERROR(IF($C916=\"\",\"\",IF(VLOOKUP($D916,site!$B:$F,5,0)=\"\",\"-\",VLOOKUP($D916,site!$B:$F,5,0))),IF($C916=\"\",\"\",IF(VLOOKUP($E916,site!$B:$F,4,0)=\"\",\"-\",VLOOKUP($E916,site!$B:$F,4,0))))","v":""},{"$f":"IFERROR(IF($C916=\"\",\"\",IF(VLOOKUP($D916,site!$B:$G,6,0)=\"\",\"-\",VLOOKUP($D916,site!$B:$G,6,0))),IF($C916=\"\",\"\",IF(VLOOKUP($E916,site!$B:$G,5,0)=\"\",\"-\",VLOOKUP($E916,site!$B:$G,5,0))))","v":""}]
[null,null,null,null,null,null,null,null,null,null,null,null,null,null,null,null,null,null,{"$f":"IFERROR(IF(C917=\"\",\"\",IF(VLOOKUP(D917,site!$B:$D,3,0)=\"\",\"-\",VLOOKUP(D917,site!$B:$D,3,0))),IF(C917=\"\",\"\",IF(VLOOKUP(E917,site!$C:$D,2,0)=\"\",\"-\",VLOOKUP(E917,site!$C:$D,2,0))))","v":""},{"$f":"IFERROR(IF($C917=\"\",\"\",IF(VLOOKUP($D917,site!$B:$F,4,0)=\"\",\"-\",VLOOKUP($D917,site!$B:$F,4,0))),IF($C917=\"\",\"\",IF(VLOOKUP($E917,site!$B:$F,3,0)=\"\",\"-\",VLOOKUP($E917,site!$B:$F,3,0))))","v":""},{"$f":"IFERROR(IF($C917=\"\",\"\",IF(VLOOKUP($D917,site!$B:$F,5,0)=\"\",\"-\",VLOOKUP($D917,site!$B:$F,5,0))),IF($C917=\"\",\"\",IF(VLOOKUP($E917,site!$B:$F,4,0)=\"\",\"-\",VLOOKUP($E917,site!$B:$F,4,0))))","v":""},{"$f":"IFERROR(IF($C917=\"\",\"\",IF(VLOOKUP($D917,site!$B:$G,6,0)=\"\",\"-\",VLOOKUP($D917,site!$B:$G,6,0))),IF($C917=\"\",\"\",IF(VLOOKUP($E917,site!$B:$G,5,0)=\"\",\"-\",VLOOKUP($E917,site!$B:$G,5,0))))","v":""}]
[null,null,null,null,null,null,null,null,null,null,null,null,null,null,null,null,null,null,{"$f":"IFERROR(IF(C918=\"\",\"\",IF(VLOOKUP(D918,site!$B:$D,3,0)=\"\",\"-\",VLOOKUP(D918,site!$B:$D,3,0))),IF(C918=\"\",\"\",IF(VLOOKUP(E918,site!$C:$D,2,0)=\"\",\"-\",VLOOKUP(E918,site!$C:$D,2,0))))","v":""},{"$f":"IFERROR(IF($C918=\"\",\"\",IF(VLOOKUP($D918,site!$B:$F,4,0)=\"\",\"-\",VLOOKUP($D918,site!$B:$F,4,0))),IF($C918=\"\",\"\",IF(VLOOKUP($E918,site!$B:$F,3,0)=\"\",\"-\",VLOOKUP($E918,site!$B:$F,3,0))))","v":""},{"$f":"IFERROR(IF($C918=\"\",\"\",IF(VLOOKUP($D918,site!$B:$F,5,0)=\"\",\"-\",VLOOKUP($D918,site!$B:$F,5,0))),IF($C918=\"\",\"\",IF(VLOOKUP($E918,site!$B:$F,4,0)=\"\",\"-\",VLOOKUP($E918,site!$B:$F,4,0))))","v":""},{"$f":"IFERROR(IF($C918=\"\",\"\",IF(VLOOKUP($D918,site!$B:$G,6,0)=\"\",\"-\",VLOOKUP($D918,site!$B:$G,6,0))),IF($C918=\"\",\"\",IF(VLOOKUP($E918,site!$B:$G,5,0)=\"\",\"-\",VLOOKUP($E918,site!$B:$G,5,0))))","v":""}]
[null,null,null,null,null,null,null,null,null,null,null,null,null,null,null,null,null,null,{"$f":"IFERROR(IF(C919=\"\",\"\",IF(VLOOKUP(D919,site!$B:$D,3,0)=\"\",\"-\",VLOOKUP(D919,site!$B:$D,3,0))),IF(C919=\"\",\"\",IF(VLOOKUP(E919,site!$C:$D,2,0)=\"\",\"-\",VLOOKUP(E919,site!$C:$D,2,0))))","v":""},{"$f":"IFERROR(IF($C919=\"\",\"\",IF(VLOOKUP($D919,site!$B:$F,4,0)=\"\",\"-\",VLOOKUP($D919,site!$B:$F,4,0))),IF($C919=\"\",\"\",IF(VLOOKUP($E919,site!$B:$F,3,0)=\"\",\"-\",VLOOKUP($E919,site!$B:$F,3,0))))","v":""},{"$f":"IFERROR(IF($C919=\"\",\"\",IF(VLOOKUP($D919,site!$B:$F,5,0)=\"\",\"-\",VLOOKUP($D919,site!$B:$F,5,0))),IF($C919=\"\",\"\",IF(VLOOKUP($E919,site!$B:$F,4,0)=\"\",\"-\",VLOOKUP($E919,site!$B:$F,4,0))))","v":""},{"$f":"IFERROR(IF($C919=\"\",\"\",IF(VLOOKUP($D919,site!$B:$G,6,0)=\"\",\"-\",VLOOKUP($D919,site!$B:$G,6,0))),IF($C919=\"\",\"\",IF(VLOOKUP($E919,site!$B:$G,5,0)=\"\",\"-\",VLOOKUP($E919,site!$B:$G,5,0))))","v":""}]
[null,null,null,null,null,null,null,null,null,null,null,null,null,null,null,null,null,null,{"$f":"IFERROR(IF(C920=\"\",\"\",IF(VLOOKUP(D920,site!$B:$D,3,0)=\"\",\"-\",VLOOKUP(D920,site!$B:$D,3,0))),IF(C920=\"\",\"\",IF(VLOOKUP(E920,site!$C:$D,2,0)=\"\",\"-\",VLOOKUP(E920,site!$C:$D,2,0))))","v":""},{"$f":"IFERROR(IF($C920=\"\",\"\",IF(VLOOKUP($D920,site!$B:$F,4,0)=\"\",\"-\",VLOOKUP($D920,site!$B:$F,4,0))),IF($C920=\"\",\"\",IF(VLOOKUP($E920,site!$B:$F,3,0)=\"\",\"-\",VLOOKUP($E920,site!$B:$F,3,0))))","v":""},{"$f":"IFERROR(IF($C920=\"\",\"\",IF(VLOOKUP($D920,site!$B:$F,5,0)=\"\",\"-\",VLOOKUP($D920,site!$B:$F,5,0))),IF($C920=\"\",\"\",IF(VLOOKUP($E920,site!$B:$F,4,0)=\"\",\"-\",VLOOKUP($E920,site!$B:$F,4,0))))","v":""},{"$f":"IFERROR(IF($C920=\"\",\"\",IF(VLOOKUP($D920,site!$B:$G,6,0)=\"\",\"-\",VLOOKUP($D920,site!$B:$G,6,0))),IF($C920=\"\",\"\",IF(VLOOKUP($E920,site!$B:$G,5,0)=\"\",\"-\",VLOOKUP($E920,site!$B:$G,5,0))))","v":""}]
[null,null,null,null,null,null,null,null,null,null,null,null,null,null,null,null,null,null,{"$f":"IFERROR(IF(C921=\"\",\"\",IF(VLOOKUP(D921,site!$B:$D,3,0)=\"\",\"-\",VLOOKUP(D921,site!$B:$D,3,0))),IF(C921=\"\",\"\",IF(VLOOKUP(E921,site!$C:$D,2,0)=\"\",\"-\",VLOOKUP(E921,site!$C:$D,2,0))))","v":""},{"$f":"IFERROR(IF($C921=\"\",\"\",IF(VLOOKUP($D921,site!$B:$F,4,0)=\"\",\"-\",VLOOKUP($D921,site!$B:$F,4,0))),IF($C921=\"\",\"\",IF(VLOOKUP($E921,site!$B:$F,3,0)=\"\",\"-\",VLOOKUP($E921,site!$B:$F,3,0))))","v":""},{"$f":"IFERROR(IF($C921=\"\",\"\",IF(VLOOKUP($D921,site!$B:$F,5,0)=\"\",\"-\",VLOOKUP($D921,site!$B:$F,5,0))),IF($C921=\"\",\"\",IF(VLOOKUP($E921,site!$B:$F,4,0)=\"\",\"-\",VLOOKUP($E921,site!$B:$F,4,0))))","v":""},{"$f":"IFERROR(IF($C921=\"\",\"\",IF(VLOOKUP($D921,site!$B:$G,6,0)=\"\",\"-\",VLOOKUP($D921,site!$B:$G,6,0))),IF($C921=\"\",\"\",IF(VLOOKUP($E921,site!$B:$G,5,0)=\"\",\"-\",VLOOKUP($E921,site!$B:$G,5,0))))","v":""}]
[null,null,null,null,null,null,null,null,null,null,null,null,null,null,null,null,null,null,{"$f":"IFERROR(IF(C922=\"\",\"\",IF(VLOOKUP(D922,site!$B:$D,3,0)=\"\",\"-\",VLOOKUP(D922,site!$B:$D,3,0))),IF(C922=\"\",\"\",IF(VLOOKUP(E922,site!$C:$D,2,0)=\"\",\"-\",VLOOKUP(E922,site!$C:$D,2,0))))","v":""},{"$f":"IFERROR(IF($C922=\"\",\"\",IF(VLOOKUP($D922,site!$B:$F,4,0)=\"\",\"-\",VLOOKUP($D922,site!$B:$F,4,0))),IF($C922=\"\",\"\",IF(VLOOKUP($E922,site!$B:$F,3,0)=\"\",\"-\",VLOOKUP($E922,site!$B:$F,3,0))))","v":""},{"$f":"IFERROR(IF($C922=\"\",\"\",IF(VLOOKUP($D922,site!$B:$F,5,0)=\"\",\"-\",VLOOKUP($D922,site!$B:$F,5,0))),IF($C922=\"\",\"\",IF(VLOOKUP($E922,site!$B:$F,4,0)=\"\",\"-\",VLOOKUP($E922,site!$B:$F,4,0))))","v":""},{"$f":"IFERROR(IF($C922=\"\",\"\",IF(VLOOKUP($D922,site!$B:$G,6,0)=\"\",\"-\",VLOOKUP($D922,site!$B:$G,6,0))),IF($C922=\"\",\"\",IF(VLOOKUP($E922,site!$B:$G,5,0)=\"\",\"-\",VLOOKUP($E922,site!$B:$G,5,0))))","v":""}]
[null,null,null,null,null,null,null,null,null,null,null,null,null,null,null,null,null,null,{"$f":"IFERROR(IF(C923=\"\",\"\",IF(VLOOKUP(D923,site!$B:$D,3,0)=\"\",\"-\",VLOOKUP(D923,site!$B:$D,3,0))),IF(C923=\"\",\"\",IF(VLOOKUP(E923,site!$C:$D,2,0)=\"\",\"-\",VLOOKUP(E923,site!$C:$D,2,0))))","v":""},{"$f":"IFERROR(IF($C923=\"\",\"\",IF(VLOOKUP($D923,site!$B:$F,4,0)=\"\",\"-\",VLOOKUP($D923,site!$B:$F,4,0))),IF($C923=\"\",\"\",IF(VLOOKUP($E923,site!$B:$F,3,0)=\"\",\"-\",VLOOKUP($E923,site!$B:$F,3,0))))","v":""},{"$f":"IFERROR(IF($C923=\"\",\"\",IF(VLOOKUP($D923,site!$B:$F,5,0)=\"\",\"-\",VLOOKUP($D923,site!$B:$F,5,0))),IF($C923=\"\",\"\",IF(VLOOKUP($E923,site!$B:$F,4,0)=\"\",\"-\",VLOOKUP($E923,site!$B:$F,4,0))))","v":""},{"$f":"IFERROR(IF($C923=\"\",\"\",IF(VLOOKUP($D923,site!$B:$G,6,0)=\"\",\"-\",VLOOKUP($D923,site!$B:$G,6,0))),IF($C923=\"\",\"\",IF(VLOOKUP($E923,site!$B:$G,5,0)=\"\",\"-\",VLOOKUP($E923,site!$B:$G,5,0))))","v":""}]
[null,null,null,null,null,null,null,null,null,null,null,null,null,null,null,null,null,null,{"$f":"IFERROR(IF(C924=\"\",\"\",IF(VLOOKUP(D924,site!$B:$D,3,0)=\"\",\"-\",VLOOKUP(D924,site!$B:$D,3,0))),IF(C924=\"\",\"\",IF(VLOOKUP(E924,site!$C:$D,2,0)=\"\",\"-\",VLOOKUP(E924,site!$C:$D,2,0))))","v":""},{"$f":"IFERROR(IF($C924=\"\",\"\",IF(VLOOKUP($D924,site!$B:$F,4,0)=\"\",\"-\",VLOOKUP($D924,site!$B:$F,4,0))),IF($C924=\"\",\"\",IF(VLOOKUP($E924,site!$B:$F,3,0)=\"\",\"-\",VLOOKUP($E924,site!$B:$F,3,0))))","v":""},{"$f":"IFERROR(IF($C924=\"\",\"\",IF(VLOOKUP($D924,site!$B:$F,5,0)=\"\",\"-\",VLOOKUP($D924,site!$B:$F,5,0))),IF($C924=\"\",\"\",IF(VLOOKUP($E924,site!$B:$F,4,0)=\"\",\"-\",VLOOKUP($E924,site!$B:$F,4,0))))","v":""},{"$f":"IFERROR(IF($C924=\"\",\"\",IF(VLOOKUP($D924,site!$B:$G,6,0)=\"\",\"-\",VLOOKUP($D924,site!$B:$G,6,0))),IF($C924=\"\",\"\",IF(VLOOKUP($E924,site!$B:$G,5,0)=\"\",\"-\",VLOOKUP($E924,site!$B:$G,5,0))))","v":""}]
[null,null,null,null,null,null,null,null,null,null,null,null,null,null,null,null,null,null,{"$f":"IFERROR(IF(C925=\"\",\"\",IF(VLOOKUP(D925,site!$B:$D,3,0)=\"\",\"-\",VLOOKUP(D925,site!$B:$D,3,0))),IF(C925=\"\",\"\",IF(VLOOKUP(E925,site!$C:$D,2,0)=\"\",\"-\",VLOOKUP(E925,site!$C:$D,2,0))))","v":""},{"$f":"IFERROR(IF($C925=\"\",\"\",IF(VLOOKUP($D925,site!$B:$F,4,0)=\"\",\"-\",VLOOKUP($D925,site!$B:$F,4,0))),IF($C925=\"\",\"\",IF(VLOOKUP($E925,site!$B:$F,3,0)=\"\",\"-\",VLOOKUP($E925,site!$B:$F,3,0))))","v":""},{"$f":"IFERROR(IF($C925=\"\",\"\",IF(VLOOKUP($D925,site!$B:$F,5,0)=\"\",\"-\",VLOOKUP($D925,site!$B:$F,5,0))),IF($C925=\"\",\"\",IF(VLOOKUP($E925,site!$B:$F,4,0)=\"\",\"-\",VLOOKUP($E925,site!$B:$F,4,0))))","v":""},{"$f":"IFERROR(IF($C925=\"\",\"\",IF(VLOOKUP($D925,site!$B:$G,6,0)=\"\",\"-\",VLOOKUP($D925,site!$B:$G,6,0))),IF($C925=\"\",\"\",IF(VLOOKUP($E925,site!$B:$G,5,0)=\"\",\"-\",VLOOKUP($E925,site!$B:$G,5,0))))","v":""}]
[null,null,null,null,null,null,null,null,null,null,null,null,null,null,null,null,null,null,{"$f":"IFERROR(IF(C926=\"\",\"\",IF(VLOOKUP(D926,site!$B:$D,3,0)=\"\",\"-\",VLOOKUP(D926,site!$B:$D,3,0))),IF(C926=\"\",\"\",IF(VLOOKUP(E926,site!$C:$D,2,0)=\"\",\"-\",VLOOKUP(E926,site!$C:$D,2,0))))","v":""},{"$f":"IFERROR(IF($C926=\"\",\"\",IF(VLOOKUP($D926,site!$B:$F,4,0)=\"\",\"-\",VLOOKUP($D926,site!$B:$F,4,0))),IF($C926=\"\",\"\",IF(VLOOKUP($E926,site!$B:$F,3,0)=\"\",\"-\",VLOOKUP($E926,site!$B:$F,3,0))))","v":""},{"$f":"IFERROR(IF($C926=\"\",\"\",IF(VLOOKUP($D926,site!$B:$F,5,0)=\"\",\"-\",VLOOKUP($D926,site!$B:$F,5,0))),IF($C926=\"\",\"\",IF(VLOOKUP($E926,site!$B:$F,4,0)=\"\",\"-\",VLOOKUP($E926,site!$B:$F,4,0))))","v":""},{"$f":"IFERROR(IF($C926=\"\",\"\",IF(VLOOKUP($D926,site!$B:$G,6,0)=\"\",\"-\",VLOOKUP($D926,site!$B:$G,6,0))),IF($C926=\"\",\"\",IF(VLOOKUP($E926,site!$B:$G,5,0)=\"\",\"-\",VLOOKUP($E926,site!$B:$G,5,0))))","v":""}]
[null,null,null,null,null,null,null,null,null,null,null,null,null,null,null,null,null,null,{"$f":"IFERROR(IF(C927=\"\",\"\",IF(VLOOKUP(D927,site!$B:$D,3,0)=\"\",\"-\",VLOOKUP(D927,site!$B:$D,3,0))),IF(C927=\"\",\"\",IF(VLOOKUP(E927,site!$C:$D,2,0)=\"\",\"-\",VLOOKUP(E927,site!$C:$D,2,0))))","v":""},{"$f":"IFERROR(IF($C927=\"\",\"\",IF(VLOOKUP($D927,site!$B:$F,4,0)=\"\",\"-\",VLOOKUP($D927,site!$B:$F,4,0))),IF($C927=\"\",\"\",IF(VLOOKUP($E927,site!$B:$F,3,0)=\"\",\"-\",VLOOKUP($E927,site!$B:$F,3,0))))","v":""},{"$f":"IFERROR(IF($C927=\"\",\"\",IF(VLOOKUP($D927,site!$B:$F,5,0)=\"\",\"-\",VLOOKUP($D927,site!$B:$F,5,0))),IF($C927=\"\",\"\",IF(VLOOKUP($E927,site!$B:$F,4,0)=\"\",\"-\",VLOOKUP($E927,site!$B:$F,4,0))))","v":""},{"$f":"IFERROR(IF($C927=\"\",\"\",IF(VLOOKUP($D927,site!$B:$G,6,0)=\"\",\"-\",VLOOKUP($D927,site!$B:$G,6,0))),IF($C927=\"\",\"\",IF(VLOOKUP($E927,site!$B:$G,5,0)=\"\",\"-\",VLOOKUP($E927,site!$B:$G,5,0))))","v":""}]
[null,null,null,null,null,null,null,null,null,null,null,null,null,null,null,null,null,null,{"$f":"IFERROR(IF(C928=\"\",\"\",IF(VLOOKUP(D928,site!$B:$D,3,0)=\"\",\"-\",VLOOKUP(D928,site!$B:$D,3,0))),IF(C928=\"\",\"\",IF(VLOOKUP(E928,site!$C:$D,2,0)=\"\",\"-\",VLOOKUP(E928,site!$C:$D,2,0))))","v":""},{"$f":"IFERROR(IF($C928=\"\",\"\",IF(VLOOKUP($D928,site!$B:$F,4,0)=\"\",\"-\",VLOOKUP($D928,site!$B:$F,4,0))),IF($C928=\"\",\"\",IF(VLOOKUP($E928,site!$B:$F,3,0)=\"\",\"-\",VLOOKUP($E928,site!$B:$F,3,0))))","v":""},{"$f":"IFERROR(IF($C928=\"\",\"\",IF(VLOOKUP($D928,site!$B:$F,5,0)=\"\",\"-\",VLOOKUP($D928,site!$B:$F,5,0))),IF($C928=\"\",\"\",IF(VLOOKUP($E928,site!$B:$F,4,0)=\"\",\"-\",VLOOKUP($E928,site!$B:$F,4,0))))","v":""},{"$f":"IFERROR(IF($C928=\"\",\"\",IF(VLOOKUP($D928,site!$B:$G,6,0)=\"\",\"-\",VLOOKUP($D928,site!$B:$G,6,0))),IF($C928=\"\",\"\",IF(VLOOKUP($E928,site!$B:$G,5,0)=\"\",\"-\",VLOOKUP($E928,site!$B:$G,5,0))))","v":""}]
[null,null,null,null,null,null,null,null,null,null,null,null,null,null,null,null,null,null,{"$f":"IFERROR(IF(C929=\"\",\"\",IF(VLOOKUP(D929,site!$B:$D,3,0)=\"\",\"-\",VLOOKUP(D929,site!$B:$D,3,0))),IF(C929=\"\",\"\",IF(VLOOKUP(E929,site!$C:$D,2,0)=\"\",\"-\",VLOOKUP(E929,site!$C:$D,2,0))))","v":""},{"$f":"IFERROR(IF($C929=\"\",\"\",IF(VLOOKUP($D929,site!$B:$F,4,0)=\"\",\"-\",VLOOKUP($D929,site!$B:$F,4,0))),IF($C929=\"\",\"\",IF(VLOOKUP($E929,site!$B:$F,3,0)=\"\",\"-\",VLOOKUP($E929,site!$B:$F,3,0))))","v":""},{"$f":"IFERROR(IF($C929=\"\",\"\",IF(VLOOKUP($D929,site!$B:$F,5,0)=\"\",\"-\",VLOOKUP($D929,site!$B:$F,5,0))),IF($C929=\"\",\"\",IF(VLOOKUP($E929,site!$B:$F,4,0)=\"\",\"-\",VLOOKUP($E929,site!$B:$F,4,0))))","v":""},{"$f":"IFERROR(IF($C929=\"\",\"\",IF(VLOOKUP($D929,site!$B:$G,6,0)=\"\",\"-\",VLOOKUP($D929,site!$B:$G,6,0))),IF($C929=\"\",\"\",IF(VLOOKUP($E929,site!$B:$G,5,0)=\"\",\"-\",VLOOKUP($E929,site!$B:$G,5,0))))","v":""}]
[null,null,null,null,null,null,null,null,null,null,null,null,null,null,null,null,null,null,{"$f":"IFERROR(IF(C930=\"\",\"\",IF(VLOOKUP(D930,site!$B:$D,3,0)=\"\",\"-\",VLOOKUP(D930,site!$B:$D,3,0))),IF(C930=\"\",\"\",IF(VLOOKUP(E930,site!$C:$D,2,0)=\"\",\"-\",VLOOKUP(E930,site!$C:$D,2,0))))","v":""},{"$f":"IFERROR(IF($C930=\"\",\"\",IF(VLOOKUP($D930,site!$B:$F,4,0)=\"\",\"-\",VLOOKUP($D930,site!$B:$F,4,0))),IF($C930=\"\",\"\",IF(VLOOKUP($E930,site!$B:$F,3,0)=\"\",\"-\",VLOOKUP($E930,site!$B:$F,3,0))))","v":""},{"$f":"IFERROR(IF($C930=\"\",\"\",IF(VLOOKUP($D930,site!$B:$F,5,0)=\"\",\"-\",VLOOKUP($D930,site!$B:$F,5,0))),IF($C930=\"\",\"\",IF(VLOOKUP($E930,site!$B:$F,4,0)=\"\",\"-\",VLOOKUP($E930,site!$B:$F,4,0))))","v":""},{"$f":"IFERROR(IF($C930=\"\",\"\",IF(VLOOKUP($D930,site!$B:$G,6,0)=\"\",\"-\",VLOOKUP($D930,site!$B:$G,6,0))),IF($C930=\"\",\"\",IF(VLOOKUP($E930,site!$B:$G,5,0)=\"\",\"-\",VLOOKUP($E930,site!$B:$G,5,0))))","v":""}]
[null,null,null,null,null,null,null,null,null,null,null,null,null,null,null,null,null,null,{"$f":"IFERROR(IF(C931=\"\",\"\",IF(VLOOKUP(D931,site!$B:$D,3,0)=\"\",\"-\",VLOOKUP(D931,site!$B:$D,3,0))),IF(C931=\"\",\"\",IF(VLOOKUP(E931,site!$C:$D,2,0)=\"\",\"-\",VLOOKUP(E931,site!$C:$D,2,0))))","v":""},{"$f":"IFERROR(IF($C931=\"\",\"\",IF(VLOOKUP($D931,site!$B:$F,4,0)=\"\",\"-\",VLOOKUP($D931,site!$B:$F,4,0))),IF($C931=\"\",\"\",IF(VLOOKUP($E931,site!$B:$F,3,0)=\"\",\"-\",VLOOKUP($E931,site!$B:$F,3,0))))","v":""},{"$f":"IFERROR(IF($C931=\"\",\"\",IF(VLOOKUP($D931,site!$B:$F,5,0)=\"\",\"-\",VLOOKUP($D931,site!$B:$F,5,0))),IF($C931=\"\",\"\",IF(VLOOKUP($E931,site!$B:$F,4,0)=\"\",\"-\",VLOOKUP($E931,site!$B:$F,4,0))))","v":""},{"$f":"IFERROR(IF($C931=\"\",\"\",IF(VLOOKUP($D931,site!$B:$G,6,0)=\"\",\"-\",VLOOKUP($D931,site!$B:$G,6,0))),IF($C931=\"\",\"\",IF(VLOOKUP($E931,site!$B:$G,5,0)=\"\",\"-\",VLOOKUP($E931,site!$B:$G,5,0))))","v":""}]
[null,null,null,null,null,null,null,null,null,null,null,null,null,null,null,null,null,null,{"$f":"IFERROR(IF(C932=\"\",\"\",IF(VLOOKUP(D932,site!$B:$D,3,0)=\"\",\"-\",VLOOKUP(D932,site!$B:$D,3,0))),IF(C932=\"\",\"\",IF(VLOOKUP(E932,site!$C:$D,2,0)=\"\",\"-\",VLOOKUP(E932,site!$C:$D,2,0))))","v":""},{"$f":"IFERROR(IF($C932=\"\",\"\",IF(VLOOKUP($D932,site!$B:$F,4,0)=\"\",\"-\",VLOOKUP($D932,site!$B:$F,4,0))),IF($C932=\"\",\"\",IF(VLOOKUP($E932,site!$B:$F,3,0)=\"\",\"-\",VLOOKUP($E932,site!$B:$F,3,0))))","v":""},{"$f":"IFERROR(IF($C932=\"\",\"\",IF(VLOOKUP($D932,site!$B:$F,5,0)=\"\",\"-\",VLOOKUP($D932,site!$B:$F,5,0))),IF($C932=\"\",\"\",IF(VLOOKUP($E932,site!$B:$F,4,0)=\"\",\"-\",VLOOKUP($E932,site!$B:$F,4,0))))","v":""},{"$f":"IFERROR(IF($C932=\"\",\"\",IF(VLOOKUP($D932,site!$B:$G,6,0)=\"\",\"-\",VLOOKUP($D932,site!$B:$G,6,0))),IF($C932=\"\",\"\",IF(VLOOKUP($E932,site!$B:$G,5,0)=\"\",\"-\",VLOOKUP($E932,site!$B:$G,5,0))))","v":""}]
[null,null,null,null,null,null,null,null,null,null,null,null,null,null,null,null,null,null,{"$f":"IFERROR(IF(C933=\"\",\"\",IF(VLOOKUP(D933,site!$B:$D,3,0)=\"\",\"-\",VLOOKUP(D933,site!$B:$D,3,0))),IF(C933=\"\",\"\",IF(VLOOKUP(E933,site!$C:$D,2,0)=\"\",\"-\",VLOOKUP(E933,site!$C:$D,2,0))))","v":""},{"$f":"IFERROR(IF($C933=\"\",\"\",IF(VLOOKUP($D933,site!$B:$F,4,0)=\"\",\"-\",VLOOKUP($D933,site!$B:$F,4,0))),IF($C933=\"\",\"\",IF(VLOOKUP($E933,site!$B:$F,3,0)=\"\",\"-\",VLOOKUP($E933,site!$B:$F,3,0))))","v":""},{"$f":"IFERROR(IF($C933=\"\",\"\",IF(VLOOKUP($D933,site!$B:$F,5,0)=\"\",\"-\",VLOOKUP($D933,site!$B:$F,5,0))),IF($C933=\"\",\"\",IF(VLOOKUP($E933,site!$B:$F,4,0)=\"\",\"-\",VLOOKUP($E933,site!$B:$F,4,0))))","v":""},{"$f":"IFERROR(IF($C933=\"\",\"\",IF(VLOOKUP($D933,site!$B:$G,6,0)=\"\",\"-\",VLOOKUP($D933,site!$B:$G,6,0))),IF($C933=\"\",\"\",IF(VLOOKUP($E933,site!$B:$G,5,0)=\"\",\"-\",VLOOKUP($E933,site!$B:$G,5,0))))","v":""}]
[null,null,null,null,null,null,null,null,null,null,null,null,null,null,null,null,null,null,{"$f":"IFERROR(IF(C934=\"\",\"\",IF(VLOOKUP(D934,site!$B:$D,3,0)=\"\",\"-\",VLOOKUP(D934,site!$B:$D,3,0))),IF(C934=\"\",\"\",IF(VLOOKUP(E934,site!$C:$D,2,0)=\"\",\"-\",VLOOKUP(E934,site!$C:$D,2,0))))","v":""},{"$f":"IFERROR(IF($C934=\"\",\"\",IF(VLOOKUP($D934,site!$B:$F,4,0)=\"\",\"-\",VLOOKUP($D934,site!$B:$F,4,0))),IF($C934=\"\",\"\",IF(VLOOKUP($E934,site!$B:$F,3,0)=\"\",\"-\",VLOOKUP($E934,site!$B:$F,3,0))))","v":""},{"$f":"IFERROR(IF($C934=\"\",\"\",IF(VLOOKUP($D934,site!$B:$F,5,0)=\"\",\"-\",VLOOKUP($D934,site!$B:$F,5,0))),IF($C934=\"\",\"\",IF(VLOOKUP($E934,site!$B:$F,4,0)=\"\",\"-\",VLOOKUP($E934,site!$B:$F,4,0))))","v":""},{"$f":"IFERROR(IF($C934=\"\",\"\",IF(VLOOKUP($D934,site!$B:$G,6,0)=\"\",\"-\",VLOOKUP($D934,site!$B:$G,6,0))),IF($C934=\"\",\"\",IF(VLOOKUP($E934,site!$B:$G,5,0)=\"\",\"-\",VLOOKUP($E934,site!$B:$G,5,0))))","v":""}]
[null,null,null,null,null,null,null,null,null,null,null,null,null,null,null,null,null,null,{"$f":"IFERROR(IF(C935=\"\",\"\",IF(VLOOKUP(D935,site!$B:$D,3,0)=\"\",\"-\",VLOOKUP(D935,site!$B:$D,3,0))),IF(C935=\"\",\"\",IF(VLOOKUP(E935,site!$C:$D,2,0)=\"\",\"-\",VLOOKUP(E935,site!$C:$D,2,0))))","v":""},{"$f":"IFERROR(IF($C935=\"\",\"\",IF(VLOOKUP($D935,site!$B:$F,4,0)=\"\",\"-\",VLOOKUP($D935,site!$B:$F,4,0))),IF($C935=\"\",\"\",IF(VLOOKUP($E935,site!$B:$F,3,0)=\"\",\"-\",VLOOKUP($E935,site!$B:$F,3,0))))","v":""},{"$f":"IFERROR(IF($C935=\"\",\"\",IF(VLOOKUP($D935,site!$B:$F,5,0)=\"\",\"-\",VLOOKUP($D935,site!$B:$F,5,0))),IF($C935=\"\",\"\",IF(VLOOKUP($E935,site!$B:$F,4,0)=\"\",\"-\",VLOOKUP($E935,site!$B:$F,4,0))))","v":""},{"$f":"IFERROR(IF($C935=\"\",\"\",IF(VLOOKUP($D935,site!$B:$G,6,0)=\"\",\"-\",VLOOKUP($D935,site!$B:$G,6,0))),IF($C935=\"\",\"\",IF(VLOOKUP($E935,site!$B:$G,5,0)=\"\",\"-\",VLOOKUP($E935,site!$B:$G,5,0))))","v":""}]
[null,null,null,null,null,null,null,null,null,null,null,null,null,null,null,null,null,null,{"$f":"IFERROR(IF(C936=\"\",\"\",IF(VLOOKUP(D936,site!$B:$D,3,0)=\"\",\"-\",VLOOKUP(D936,site!$B:$D,3,0))),IF(C936=\"\",\"\",IF(VLOOKUP(E936,site!$C:$D,2,0)=\"\",\"-\",VLOOKUP(E936,site!$C:$D,2,0))))","v":""},{"$f":"IFERROR(IF($C936=\"\",\"\",IF(VLOOKUP($D936,site!$B:$F,4,0)=\"\",\"-\",VLOOKUP($D936,site!$B:$F,4,0))),IF($C936=\"\",\"\",IF(VLOOKUP($E936,site!$B:$F,3,0)=\"\",\"-\",VLOOKUP($E936,site!$B:$F,3,0))))","v":""},{"$f":"IFERROR(IF($C936=\"\",\"\",IF(VLOOKUP($D936,site!$B:$F,5,0)=\"\",\"-\",VLOOKUP($D936,site!$B:$F,5,0))),IF($C936=\"\",\"\",IF(VLOOKUP($E936,site!$B:$F,4,0)=\"\",\"-\",VLOOKUP($E936,site!$B:$F,4,0))))","v":""},{"$f":"IFERROR(IF($C936=\"\",\"\",IF(VLOOKUP($D936,site!$B:$G,6,0)=\"\",\"-\",VLOOKUP($D936,site!$B:$G,6,0))),IF($C936=\"\",\"\",IF(VLOOKUP($E936,site!$B:$G,5,0)=\"\",\"-\",VLOOKUP($E936,site!$B:$G,5,0))))","v":""}]
[null,null,null,null,null,null,null,null,null,null,null,null,null,null,null,null,null,null,{"$f":"IFERROR(IF(C937=\"\",\"\",IF(VLOOKUP(D937,site!$B:$D,3,0)=\"\",\"-\",VLOOKUP(D937,site!$B:$D,3,0))),IF(C937=\"\",\"\",IF(VLOOKUP(E937,site!$C:$D,2,0)=\"\",\"-\",VLOOKUP(E937,site!$C:$D,2,0))))","v":""},{"$f":"IFERROR(IF($C937=\"\",\"\",IF(VLOOKUP($D937,site!$B:$F,4,0)=\"\",\"-\",VLOOKUP($D937,site!$B:$F,4,0))),IF($C937=\"\",\"\",IF(VLOOKUP($E937,site!$B:$F,3,0)=\"\",\"-\",VLOOKUP($E937,site!$B:$F,3,0))))","v":""},{"$f":"IFERROR(IF($C937=\"\",\"\",IF(VLOOKUP($D937,site!$B:$F,5,0)=\"\",\"-\",VLOOKUP($D937,site!$B:$F,5,0))),IF($C937=\"\",\"\",IF(VLOOKUP($E937,site!$B:$F,4,0)=\"\",\"-\",VLOOKUP($E937,site!$B:$F,4,0))))","v":""},{"$f":"IFERROR(IF($C937=\"\",\"\",IF(VLOOKUP($D937,site!$B:$G,6,0)=\"\",\"-\",VLOOKUP($D937,site!$B:$G,6,0))),IF($C937=\"\",\"\",IF(VLOOKUP($E937,site!$B:$G,5,0)=\"\",\"-\",VLOOKUP($E937,site!$B:$G,5,0))))","v":""}]
[null,null,null,null,null,null,null,null,null,null,null,null,null,null,null,null,null,null,{"$f":"IFERROR(IF(C938=\"\",\"\",IF(VLOOKUP(D938,site!$B:$D,3,0)=\"\",\"-\",VLOOKUP(D938,site!$B:$D,3,0))),IF(C938=\"\",\"\",IF(VLOOKUP(E938,site!$C:$D,2,0)=\"\",\"-\",VLOOKUP(E938,site!$C:$D,2,0))))","v":""},{"$f":"IFERROR(IF($C938=\"\",\"\",IF(VLOOKUP($D938,site!$B:$F,4,0)=\"\",\"-\",VLOOKUP($D938,site!$B:$F,4,0))),IF($C938=\"\",\"\",IF(VLOOKUP($E938,site!$B:$F,3,0)=\"\",\"-\",VLOOKUP($E938,site!$B:$F,3,0))))","v":""},{"$f":"IFERROR(IF($C938=\"\",\"\",IF(VLOOKUP($D938,site!$B:$F,5,0)=\"\",\"-\",VLOOKUP($D938,site!$B:$F,5,0))),IF($C938=\"\",\"\",IF(VLOOKUP($E938,site!$B:$F,4,0)=\"\",\"-\",VLOOKUP($E938,site!$B:$F,4,0))))","v":""},{"$f":"IFERROR(IF($C938=\"\",\"\",IF(VLOOKUP($D938,site!$B:$G,6,0)=\"\",\"-\",VLOOKUP($D938,site!$B:$G,6,0))),IF($C938=\"\",\"\",IF(VLOOKUP($E938,site!$B:$G,5,0)=\"\",\"-\",VLOOKUP($E938,site!$B:$G,5,0))))","v":""}]
[null,null,null,null,null,null,null,null,null,null,null,null,null,null,null,null,null,null,{"$f":"IFERROR(IF(C939=\"\",\"\",IF(VLOOKUP(D939,site!$B:$D,3,0)=\"\",\"-\",VLOOKUP(D939,site!$B:$D,3,0))),IF(C939=\"\",\"\",IF(VLOOKUP(E939,site!$C:$D,2,0)=\"\",\"-\",VLOOKUP(E939,site!$C:$D,2,0))))","v":""},{"$f":"IFERROR(IF($C939=\"\",\"\",IF(VLOOKUP($D939,site!$B:$F,4,0)=\"\",\"-\",VLOOKUP($D939,site!$B:$F,4,0))),IF($C939=\"\",\"\",IF(VLOOKUP($E939,site!$B:$F,3,0)=\"\",\"-\",VLOOKUP($E939,site!$B:$F,3,0))))","v":""},{"$f":"IFERROR(IF($C939=\"\",\"\",IF(VLOOKUP($D939,site!$B:$F,5,0)=\"\",\"-\",VLOOKUP($D939,site!$B:$F,5,0))),IF($C939=\"\",\"\",IF(VLOOKUP($E939,site!$B:$F,4,0)=\"\",\"-\",VLOOKUP($E939,site!$B:$F,4,0))))","v":""},{"$f":"IFERROR(IF($C939=\"\",\"\",IF(VLOOKUP($D939,site!$B:$G,6,0)=\"\",\"-\",VLOOKUP($D939,site!$B:$G,6,0))),IF($C939=\"\",\"\",IF(VLOOKUP($E939,site!$B:$G,5,0)=\"\",\"-\",VLOOKUP($E939,site!$B:$G,5,0))))","v":""}]
[null,null,null,null,null,null,null,null,null,null,null,null,null,null,null,null,null,null,{"$f":"IFERROR(IF(C940=\"\",\"\",IF(VLOOKUP(D940,site!$B:$D,3,0)=\"\",\"-\",VLOOKUP(D940,site!$B:$D,3,0))),IF(C940=\"\",\"\",IF(VLOOKUP(E940,site!$C:$D,2,0)=\"\",\"-\",VLOOKUP(E940,site!$C:$D,2,0))))","v":""},{"$f":"IFERROR(IF($C940=\"\",\"\",IF(VLOOKUP($D940,site!$B:$F,4,0)=\"\",\"-\",VLOOKUP($D940,site!$B:$F,4,0))),IF($C940=\"\",\"\",IF(VLOOKUP($E940,site!$B:$F,3,0)=\"\",\"-\",VLOOKUP($E940,site!$B:$F,3,0))))","v":""},{"$f":"IFERROR(IF($C940=\"\",\"\",IF(VLOOKUP($D940,site!$B:$F,5,0)=\"\",\"-\",VLOOKUP($D940,site!$B:$F,5,0))),IF($C940=\"\",\"\",IF(VLOOKUP($E940,site!$B:$F,4,0)=\"\",\"-\",VLOOKUP($E940,site!$B:$F,4,0))))","v":""},{"$f":"IFERROR(IF($C940=\"\",\"\",IF(VLOOKUP($D940,site!$B:$G,6,0)=\"\",\"-\",VLOOKUP($D940,site!$B:$G,6,0))),IF($C940=\"\",\"\",IF(VLOOKUP($E940,site!$B:$G,5,0)=\"\",\"-\",VLOOKUP($E940,site!$B:$G,5,0))))","v":""}]
[null,null,null,null,null,null,null,null,null,null,null,null,null,null,null,null,null,null,{"$f":"IFERROR(IF(C941=\"\",\"\",IF(VLOOKUP(D941,site!$B:$D,3,0)=\"\",\"-\",VLOOKUP(D941,site!$B:$D,3,0))),IF(C941=\"\",\"\",IF(VLOOKUP(E941,site!$C:$D,2,0)=\"\",\"-\",VLOOKUP(E941,site!$C:$D,2,0))))","v":""},{"$f":"IFERROR(IF($C941=\"\",\"\",IF(VLOOKUP($D941,site!$B:$F,4,0)=\"\",\"-\",VLOOKUP($D941,site!$B:$F,4,0))),IF($C941=\"\",\"\",IF(VLOOKUP($E941,site!$B:$F,3,0)=\"\",\"-\",VLOOKUP($E941,site!$B:$F,3,0))))","v":""},{"$f":"IFERROR(IF($C941=\"\",\"\",IF(VLOOKUP($D941,site!$B:$F,5,0)=\"\",\"-\",VLOOKUP($D941,site!$B:$F,5,0))),IF($C941=\"\",\"\",IF(VLOOKUP($E941,site!$B:$F,4,0)=\"\",\"-\",VLOOKUP($E941,site!$B:$F,4,0))))","v":""},{"$f":"IFERROR(IF($C941=\"\",\"\",IF(VLOOKUP($D941,site!$B:$G,6,0)=\"\",\"-\",VLOOKUP($D941,site!$B:$G,6,0))),IF($C941=\"\",\"\",IF(VLOOKUP($E941,site!$B:$G,5,0)=\"\",\"-\",VLOOKUP($E941,site!$B:$G,5,0))))","v":""}]
[null,null,null,null,null,null,null,null,null,null,null,null,null,null,null,null,null,null,{"$f":"IFERROR(IF(C942=\"\",\"\",IF(VLOOKUP(D942,site!$B:$D,3,0)=\"\",\"-\",VLOOKUP(D942,site!$B:$D,3,0))),IF(C942=\"\",\"\",IF(VLOOKUP(E942,site!$C:$D,2,0)=\"\",\"-\",VLOOKUP(E942,site!$C:$D,2,0))))","v":""},{"$f":"IFERROR(IF($C942=\"\",\"\",IF(VLOOKUP($D942,site!$B:$F,4,0)=\"\",\"-\",VLOOKUP($D942,site!$B:$F,4,0))),IF($C942=\"\",\"\",IF(VLOOKUP($E942,site!$B:$F,3,0)=\"\",\"-\",VLOOKUP($E942,site!$B:$F,3,0))))","v":""},{"$f":"IFERROR(IF($C942=\"\",\"\",IF(VLOOKUP($D942,site!$B:$F,5,0)=\"\",\"-\",VLOOKUP($D942,site!$B:$F,5,0))),IF($C942=\"\",\"\",IF(VLOOKUP($E942,site!$B:$F,4,0)=\"\",\"-\",VLOOKUP($E942,site!$B:$F,4,0))))","v":""},{"$f":"IFERROR(IF($C942=\"\",\"\",IF(VLOOKUP($D942,site!$B:$G,6,0)=\"\",\"-\",VLOOKUP($D942,site!$B:$G,6,0))),IF($C942=\"\",\"\",IF(VLOOKUP($E942,site!$B:$G,5,0)=\"\",\"-\",VLOOKUP($E942,site!$B:$G,5,0))))","v":""}]
[null,null,null,null,null,null,null,null,null,null,null,null,null,null,null,null,null,null,{"$f":"IFERROR(IF(C943=\"\",\"\",IF(VLOOKUP(D943,site!$B:$D,3,0)=\"\",\"-\",VLOOKUP(D943,site!$B:$D,3,0))),IF(C943=\"\",\"\",IF(VLOOKUP(E943,site!$C:$D,2,0)=\"\",\"-\",VLOOKUP(E943,site!$C:$D,2,0))))","v":""},{"$f":"IFERROR(IF($C943=\"\",\"\",IF(VLOOKUP($D943,site!$B:$F,4,0)=\"\",\"-\",VLOOKUP($D943,site!$B:$F,4,0))),IF($C943=\"\",\"\",IF(VLOOKUP($E943,site!$B:$F,3,0)=\"\",\"-\",VLOOKUP($E943,site!$B:$F,3,0))))","v":""},{"$f":"IFERROR(IF($C943=\"\",\"\",IF(VLOOKUP($D943,site!$B:$F,5,0)=\"\",\"-\",VLOOKUP($D943,site!$B:$F,5,0))),IF($C943=\"\",\"\",IF(VLOOKUP($E943,site!$B:$F,4,0)=\"\",\"-\",VLOOKUP($E943,site!$B:$F,4,0))))","v":""},{"$f":"IFERROR(IF($C943=\"\",\"\",IF(VLOOKUP($D943,site!$B:$G,6,0)=\"\",\"-\",VLOOKUP($D943,site!$B:$G,6,0))),IF($C943=\"\",\"\",IF(VLOOKUP($E943,site!$B:$G,5,0)=\"\",\"-\",VLOOKUP($E943,site!$B:$G,5,0))))","v":""}]
[null,null,null,null,null,null,null,null,null,null,null,null,null,null,null,null,null,null,{"$f":"IFERROR(IF(C944=\"\",\"\",IF(VLOOKUP(D944,site!$B:$D,3,0)=\"\",\"-\",VLOOKUP(D944,site!$B:$D,3,0))),IF(C944=\"\",\"\",IF(VLOOKUP(E944,site!$C:$D,2,0)=\"\",\"-\",VLOOKUP(E944,site!$C:$D,2,0))))","v":""},{"$f":"IFERROR(IF($C944=\"\",\"\",IF(VLOOKUP($D944,site!$B:$F,4,0)=\"\",\"-\",VLOOKUP($D944,site!$B:$F,4,0))),IF($C944=\"\",\"\",IF(VLOOKUP($E944,site!$B:$F,3,0)=\"\",\"-\",VLOOKUP($E944,site!$B:$F,3,0))))","v":""},{"$f":"IFERROR(IF($C944=\"\",\"\",IF(VLOOKUP($D944,site!$B:$F,5,0)=\"\",\"-\",VLOOKUP($D944,site!$B:$F,5,0))),IF($C944=\"\",\"\",IF(VLOOKUP($E944,site!$B:$F,4,0)=\"\",\"-\",VLOOKUP($E944,site!$B:$F,4,0))))","v":""},{"$f":"IFERROR(IF($C944=\"\",\"\",IF(VLOOKUP($D944,site!$B:$G,6,0)=\"\",\"-\",VLOOKUP($D944,site!$B:$G,6,0))),IF($C944=\"\",\"\",IF(VLOOKUP($E944,site!$B:$G,5,0)=\"\",\"-\",VLOOKUP($E944,site!$B:$G,5,0))))","v":""}]
[null,null,null,null,null,null,null,null,null,null,null,null,null,null,null,null,null,null,{"$f":"IFERROR(IF(C945=\"\",\"\",IF(VLOOKUP(D945,site!$B:$D,3,0)=\"\",\"-\",VLOOKUP(D945,site!$B:$D,3,0))),IF(C945=\"\",\"\",IF(VLOOKUP(E945,site!$C:$D,2,0)=\"\",\"-\",VLOOKUP(E945,site!$C:$D,2,0))))","v":""},{"$f":"IFERROR(IF($C945=\"\",\"\",IF(VLOOKUP($D945,site!$B:$F,4,0)=\"\",\"-\",VLOOKUP($D945,site!$B:$F,4,0))),IF($C945=\"\",\"\",IF(VLOOKUP($E945,site!$B:$F,3,0)=\"\",\"-\",VLOOKUP($E945,site!$B:$F,3,0))))","v":""},{"$f":"IFERROR(IF($C945=\"\",\"\",IF(VLOOKUP($D945,site!$B:$F,5,0)=\"\",\"-\",VLOOKUP($D945,site!$B:$F,5,0))),IF($C945=\"\",\"\",IF(VLOOKUP($E945,site!$B:$F,4,0)=\"\",\"-\",VLOOKUP($E945,site!$B:$F,4,0))))","v":""},{"$f":"IFERROR(IF($C945=\"\",\"\",IF(VLOOKUP($D945,site!$B:$G,6,0)=\"\",\"-\",VLOOKUP($D945,site!$B:$G,6,0))),IF($C945=\"\",\"\",IF(VLOOKUP($E945,site!$B:$G,5,0)=\"\",\"-\",VLOOKUP($E945,site!$B:$G,5,0))))","v":""}]
[null,null,null,null,null,null,null,null,null,null,null,null,null,null,null,null,null,null,{"$f":"IFERROR(IF(C946=\"\",\"\",IF(VLOOKUP(D946,site!$B:$D,3,0)=\"\",\"-\",VLOOKUP(D946,site!$B:$D,3,0))),IF(C946=\"\",\"\",IF(VLOOKUP(E946,site!$C:$D,2,0)=\"\",\"-\",VLOOKUP(E946,site!$C:$D,2,0))))","v":""},{"$f":"IFERROR(IF($C946=\"\",\"\",IF(VLOOKUP($D946,site!$B:$F,4,0)=\"\",\"-\",VLOOKUP($D946,site!$B:$F,4,0))),IF($C946=\"\",\"\",IF(VLOOKUP($E946,site!$B:$F,3,0)=\"\",\"-\",VLOOKUP($E946,site!$B:$F,3,0))))","v":""},{"$f":"IFERROR(IF($C946=\"\",\"\",IF(VLOOKUP($D946,site!$B:$F,5,0)=\"\",\"-\",VLOOKUP($D946,site!$B:$F,5,0))),IF($C946=\"\",\"\",IF(VLOOKUP($E946,site!$B:$F,4,0)=\"\",\"-\",VLOOKUP($E946,site!$B:$F,4,0))))","v":""},{"$f":"IFERROR(IF($C946=\"\",\"\",IF(VLOOKUP($D946,site!$B:$G,6,0)=\"\",\"-\",VLOOKUP($D946,site!$B:$G,6,0))),IF($C946=\"\",\"\",IF(VLOOKUP($E946,site!$B:$G,5,0)=\"\",\"-\",VLOOKUP($E946,site!$B:$G,5,0))))","v":""}]
[null,null,null,null,null,null,null,null,null,null,null,null,null,null,null,null,null,null,{"$f":"IFERROR(IF(C947=\"\",\"\",IF(VLOOKUP(D947,site!$B:$D,3,0)=\"\",\"-\",VLOOKUP(D947,site!$B:$D,3,0))),IF(C947=\"\",\"\",IF(VLOOKUP(E947,site!$C:$D,2,0)=\"\",\"-\",VLOOKUP(E947,site!$C:$D,2,0))))","v":""},{"$f":"IFERROR(IF($C947=\"\",\"\",IF(VLOOKUP($D947,site!$B:$F,4,0)=\"\",\"-\",VLOOKUP($D947,site!$B:$F,4,0))),IF($C947=\"\",\"\",IF(VLOOKUP($E947,site!$B:$F,3,0)=\"\",\"-\",VLOOKUP($E947,site!$B:$F,3,0))))","v":""},{"$f":"IFERROR(IF($C947=\"\",\"\",IF(VLOOKUP($D947,site!$B:$F,5,0)=\"\",\"-\",VLOOKUP($D947,site!$B:$F,5,0))),IF($C947=\"\",\"\",IF(VLOOKUP($E947,site!$B:$F,4,0)=\"\",\"-\",VLOOKUP($E947,site!$B:$F,4,0))))","v":""},{"$f":"IFERROR(IF($C947=\"\",\"\",IF(VLOOKUP($D947,site!$B:$G,6,0)=\"\",\"-\",VLOOKUP($D947,site!$B:$G,6,0))),IF($C947=\"\",\"\",IF(VLOOKUP($E947,site!$B:$G,5,0)=\"\",\"-\",VLOOKUP($E947,site!$B:$G,5,0))))","v":""}]
[null,null,null,null,null,null,null,null,null,null,null,null,null,null,null,null,null,null,{"$f":"IFERROR(IF(C948=\"\",\"\",IF(VLOOKUP(D948,site!$B:$D,3,0)=\"\",\"-\",VLOOKUP(D948,site!$B:$D,3,0))),IF(C948=\"\",\"\",IF(VLOOKUP(E948,site!$C:$D,2,0)=\"\",\"-\",VLOOKUP(E948,site!$C:$D,2,0))))","v":""},{"$f":"IFERROR(IF($C948=\"\",\"\",IF(VLOOKUP($D948,site!$B:$F,4,0)=\"\",\"-\",VLOOKUP($D948,site!$B:$F,4,0))),IF($C948=\"\",\"\",IF(VLOOKUP($E948,site!$B:$F,3,0)=\"\",\"-\",VLOOKUP($E948,site!$B:$F,3,0))))","v":""},{"$f":"IFERROR(IF($C948=\"\",\"\",IF(VLOOKUP($D948,site!$B:$F,5,0)=\"\",\"-\",VLOOKUP($D948,site!$B:$F,5,0))),IF($C948=\"\",\"\",IF(VLOOKUP($E948,site!$B:$F,4,0)=\"\",\"-\",VLOOKUP($E948,site!$B:$F,4,0))))","v":""},{"$f":"IFERROR(IF($C948=\"\",\"\",IF(VLOOKUP($D948,site!$B:$G,6,0)=\"\",\"-\",VLOOKUP($D948,site!$B:$G,6,0))),IF($C948=\"\",\"\",IF(VLOOKUP($E948,site!$B:$G,5,0)=\"\",\"-\",VLOOKUP($E948,site!$B:$G,5,0))))","v":""}]
[null,null,null,null,null,null,null,null,null,null,null,null,null,null,null,null,null,null,{"$f":"IFERROR(IF(C949=\"\",\"\",IF(VLOOKUP(D949,site!$B:$D,3,0)=\"\",\"-\",VLOOKUP(D949,site!$B:$D,3,0))),IF(C949=\"\",\"\",IF(VLOOKUP(E949,site!$C:$D,2,0)=\"\",\"-\",VLOOKUP(E949,site!$C:$D,2,0))))","v":""},{"$f":"IFERROR(IF($C949=\"\",\"\",IF(VLOOKUP($D949,site!$B:$F,4,0)=\"\",\"-\",VLOOKUP($D949,site!$B:$F,4,0))),IF($C949=\"\",\"\",IF(VLOOKUP($E949,site!$B:$F,3,0)=\"\",\"-\",VLOOKUP($E949,site!$B:$F,3,0))))","v":""},{"$f":"IFERROR(IF($C949=\"\",\"\",IF(VLOOKUP($D949,site!$B:$F,5,0)=\"\",\"-\",VLOOKUP($D949,site!$B:$F,5,0))),IF($C949=\"\",\"\",IF(VLOOKUP($E949,site!$B:$F,4,0)=\"\",\"-\",VLOOKUP($E949,site!$B:$F,4,0))))","v":""},{"$f":"IFERROR(IF($C949=\"\",\"\",IF(VLOOKUP($D949,site!$B:$G,6,0)=\"\",\"-\",VLOOKUP($D949,site!$B:$G,6,0))),IF($C949=\"\",\"\",IF(VLOOKUP($E949,site!$B:$G,5,0)=\"\",\"-\",VLOOKUP($E949,site!$B:$G,5,0))))","v":""}]
[null,null,null,null,null,null,null,null,null,null,null,null,null,null,null,null,null,null,{"$f":"IFERROR(IF(C950=\"\",\"\",IF(VLOOKUP(D950,site!$B:$D,3,0)=\"\",\"-\",VLOOKUP(D950,site!$B:$D,3,0))),IF(C950=\"\",\"\",IF(VLOOKUP(E950,site!$C:$D,2,0)=\"\",\"-\",VLOOKUP(E950,site!$C:$D,2,0))))","v":""},{"$f":"IFERROR(IF($C950=\"\",\"\",IF(VLOOKUP($D950,site!$B:$F,4,0)=\"\",\"-\",VLOOKUP($D950,site!$B:$F,4,0))),IF($C950=\"\",\"\",IF(VLOOKUP($E950,site!$B:$F,3,0)=\"\",\"-\",VLOOKUP($E950,site!$B:$F,3,0))))","v":""},{"$f":"IFERROR(IF($C950=\"\",\"\",IF(VLOOKUP($D950,site!$B:$F,5,0)=\"\",\"-\",VLOOKUP($D950,site!$B:$F,5,0))),IF($C950=\"\",\"\",IF(VLOOKUP($E950,site!$B:$F,4,0)=\"\",\"-\",VLOOKUP($E950,site!$B:$F,4,0))))","v":""},{"$f":"IFERROR(IF($C950=\"\",\"\",IF(VLOOKUP($D950,site!$B:$G,6,0)=\"\",\"-\",VLOOKUP($D950,site!$B:$G,6,0))),IF($C950=\"\",\"\",IF(VLOOKUP($E950,site!$B:$G,5,0)=\"\",\"-\",VLOOKUP($E950,site!$B:$G,5,0))))","v":""}]
[null,null,null,null,null,null,null,null,null,null,null,null,null,null,null,null,null,null,{"$f":"IFERROR(IF(C951=\"\",\"\",IF(VLOOKUP(D951,site!$B:$D,3,0)=\"\",\"-\",VLOOKUP(D951,site!$B:$D,3,0))),IF(C951=\"\",\"\",IF(VLOOKUP(E951,site!$C:$D,2,0)=\"\",\"-\",VLOOKUP(E951,site!$C:$D,2,0))))","v":""},{"$f":"IFERROR(IF($C951=\"\",\"\",IF(VLOOKUP($D951,site!$B:$F,4,0)=\"\",\"-\",VLOOKUP($D951,site!$B:$F,4,0))),IF($C951=\"\",\"\",IF(VLOOKUP($E951,site!$B:$F,3,0)=\"\",\"-\",VLOOKUP($E951,site!$B:$F,3,0))))","v":""},{"$f":"IFERROR(IF($C951=\"\",\"\",IF(VLOOKUP($D951,site!$B:$F,5,0)=\"\",\"-\",VLOOKUP($D951,site!$B:$F,5,0))),IF($C951=\"\",\"\",IF(VLOOKUP($E951,site!$B:$F,4,0)=\"\",\"-\",VLOOKUP($E951,site!$B:$F,4,0))))","v":""},{"$f":"IFERROR(IF($C951=\"\",\"\",IF(VLOOKUP($D951,site!$B:$G,6,0)=\"\",\"-\",VLOOKUP($D951,site!$B:$G,6,0))),IF($C951=\"\",\"\",IF(VLOOKUP($E951,site!$B:$G,5,0)=\"\",\"-\",VLOOKUP($E951,site!$B:$G,5,0))))","v":""}]
[null,null,null,null,null,null,null,null,null,null,null,null,null,null,null,null,null,null,{"$f":"IFERROR(IF(C952=\"\",\"\",IF(VLOOKUP(D952,site!$B:$D,3,0)=\"\",\"-\",VLOOKUP(D952,site!$B:$D,3,0))),IF(C952=\"\",\"\",IF(VLOOKUP(E952,site!$C:$D,2,0)=\"\",\"-\",VLOOKUP(E952,site!$C:$D,2,0))))","v":""},{"$f":"IFERROR(IF($C952=\"\",\"\",IF(VLOOKUP($D952,site!$B:$F,4,0)=\"\",\"-\",VLOOKUP($D952,site!$B:$F,4,0))),IF($C952=\"\",\"\",IF(VLOOKUP($E952,site!$B:$F,3,0)=\"\",\"-\",VLOOKUP($E952,site!$B:$F,3,0))))","v":""},{"$f":"IFERROR(IF($C952=\"\",\"\",IF(VLOOKUP($D952,site!$B:$F,5,0)=\"\",\"-\",VLOOKUP($D952,site!$B:$F,5,0))),IF($C952=\"\",\"\",IF(VLOOKUP($E952,site!$B:$F,4,0)=\"\",\"-\",VLOOKUP($E952,site!$B:$F,4,0))))","v":""},{"$f":"IFERROR(IF($C952=\"\",\"\",IF(VLOOKUP($D952,site!$B:$G,6,0)=\"\",\"-\",VLOOKUP($D952,site!$B:$G,6,0))),IF($C952=\"\",\"\",IF(VLOOKUP($E952,site!$B:$G,5,0)=\"\",\"-\",VLOOKUP($E952,site!$B:$G,5,0))))","v":""}]
[null,null,null,null,null,null,null,null,null,null,null,null,null,null,null,null,null,null,{"$f":"IFERROR(IF(C953=\"\",\"\",IF(VLOOKUP(D953,site!$B:$D,3,0)=\"\",\"-\",VLOOKUP(D953,site!$B:$D,3,0))),IF(C953=\"\",\"\",IF(VLOOKUP(E953,site!$C:$D,2,0)=\"\",\"-\",VLOOKUP(E953,site!$C:$D,2,0))))","v":""},{"$f":"IFERROR(IF($C953=\"\",\"\",IF(VLOOKUP($D953,site!$B:$F,4,0)=\"\",\"-\",VLOOKUP($D953,site!$B:$F,4,0))),IF($C953=\"\",\"\",IF(VLOOKUP($E953,site!$B:$F,3,0)=\"\",\"-\",VLOOKUP($E953,site!$B:$F,3,0))))","v":""},{"$f":"IFERROR(IF($C953=\"\",\"\",IF(VLOOKUP($D953,site!$B:$F,5,0)=\"\",\"-\",VLOOKUP($D953,site!$B:$F,5,0))),IF($C953=\"\",\"\",IF(VLOOKUP($E953,site!$B:$F,4,0)=\"\",\"-\",VLOOKUP($E953,site!$B:$F,4,0))))","v":""},{"$f":"IFERROR(IF($C953=\"\",\"\",IF(VLOOKUP($D953,site!$B:$G,6,0)=\"\",\"-\",VLOOKUP($D953,site!$B:$G,6,0))),IF($C953=\"\",\"\",IF(VLOOKUP($E953,site!$B:$G,5,0)=\"\",\"-\",VLOOKUP($E953,site!$B:$G,5,0))))","v":""}]
[null,null,null,null,null,null,null,null,null,null,null,null,null,null,null,null,null,null,{"$f":"IFERROR(IF(C954=\"\",\"\",IF(VLOOKUP(D954,site!$B:$D,3,0)=\"\",\"-\",VLOOKUP(D954,site!$B:$D,3,0))),IF(C954=\"\",\"\",IF(VLOOKUP(E954,site!$C:$D,2,0)=\"\",\"-\",VLOOKUP(E954,site!$C:$D,2,0))))","v":""},{"$f":"IFERROR(IF($C954=\"\",\"\",IF(VLOOKUP($D954,site!$B:$F,4,0)=\"\",\"-\",VLOOKUP($D954,site!$B:$F,4,0))),IF($C954=\"\",\"\",IF(VLOOKUP($E954,site!$B:$F,3,0)=\"\",\"-\",VLOOKUP($E954,site!$B:$F,3,0))))","v":""},{"$f":"IFERROR(IF($C954=\"\",\"\",IF(VLOOKUP($D954,site!$B:$F,5,0)=\"\",\"-\",VLOOKUP($D954,site!$B:$F,5,0))),IF($C954=\"\",\"\",IF(VLOOKUP($E954,site!$B:$F,4,0)=\"\",\"-\",VLOOKUP($E954,site!$B:$F,4,0))))","v":""},{"$f":"IFERROR(IF($C954=\"\",\"\",IF(VLOOKUP($D954,site!$B:$G,6,0)=\"\",\"-\",VLOOKUP($D954,site!$B:$G,6,0))),IF($C954=\"\",\"\",IF(VLOOKUP($E954,site!$B:$G,5,0)=\"\",\"-\",VLOOKUP($E954,site!$B:$G,5,0))))","v":""}]
[null,null,null,null,null,null,null,null,null,null,null,null,null,null,null,null,null,null,{"$f":"IFERROR(IF(C955=\"\",\"\",IF(VLOOKUP(D955,site!$B:$D,3,0)=\"\",\"-\",VLOOKUP(D955,site!$B:$D,3,0))),IF(C955=\"\",\"\",IF(VLOOKUP(E955,site!$C:$D,2,0)=\"\",\"-\",VLOOKUP(E955,site!$C:$D,2,0))))","v":""},{"$f":"IFERROR(IF($C955=\"\",\"\",IF(VLOOKUP($D955,site!$B:$F,4,0)=\"\",\"-\",VLOOKUP($D955,site!$B:$F,4,0))),IF($C955=\"\",\"\",IF(VLOOKUP($E955,site!$B:$F,3,0)=\"\",\"-\",VLOOKUP($E955,site!$B:$F,3,0))))","v":""},{"$f":"IFERROR(IF($C955=\"\",\"\",IF(VLOOKUP($D955,site!$B:$F,5,0)=\"\",\"-\",VLOOKUP($D955,site!$B:$F,5,0))),IF($C955=\"\",\"\",IF(VLOOKUP($E955,site!$B:$F,4,0)=\"\",\"-\",VLOOKUP($E955,site!$B:$F,4,0))))","v":""},{"$f":"IFERROR(IF($C955=\"\",\"\",IF(VLOOKUP($D955,site!$B:$G,6,0)=\"\",\"-\",VLOOKUP($D955,site!$B:$G,6,0))),IF($C955=\"\",\"\",IF(VLOOKUP($E955,site!$B:$G,5,0)=\"\",\"-\",VLOOKUP($E955,site!$B:$G,5,0))))","v":""}]
[null,null,null,null,null,null,null,null,null,null,null,null,null,null,null,null,null,null,{"$f":"IFERROR(IF(C956=\"\",\"\",IF(VLOOKUP(D956,site!$B:$D,3,0)=\"\",\"-\",VLOOKUP(D956,site!$B:$D,3,0))),IF(C956=\"\",\"\",IF(VLOOKUP(E956,site!$C:$D,2,0)=\"\",\"-\",VLOOKUP(E956,site!$C:$D,2,0))))","v":""},{"$f":"IFERROR(IF($C956=\"\",\"\",IF(VLOOKUP($D956,site!$B:$F,4,0)=\"\",\"-\",VLOOKUP($D956,site!$B:$F,4,0))),IF($C956=\"\",\"\",IF(VLOOKUP($E956,site!$B:$F,3,0)=\"\",\"-\",VLOOKUP($E956,site!$B:$F,3,0))))","v":""},{"$f":"IFERROR(IF($C956=\"\",\"\",IF(VLOOKUP($D956,site!$B:$F,5,0)=\"\",\"-\",VLOOKUP($D956,site!$B:$F,5,0))),IF($C956=\"\",\"\",IF(VLOOKUP($E956,site!$B:$F,4,0)=\"\",\"-\",VLOOKUP($E956,site!$B:$F,4,0))))","v":""},{"$f":"IFERROR(IF($C956=\"\",\"\",IF(VLOOKUP($D956,site!$B:$G,6,0)=\"\",\"-\",VLOOKUP($D956,site!$B:$G,6,0))),IF($C956=\"\",\"\",IF(VLOOKUP($E956,site!$B:$G,5,0)=\"\",\"-\",VLOOKUP($E956,site!$B:$G,5,0))))","v":""}]
[null,null,null,null,null,null,null,null,null,null,null,null,null,null,null,null,null,null,{"$f":"IFERROR(IF(C957=\"\",\"\",IF(VLOOKUP(D957,site!$B:$D,3,0)=\"\",\"-\",VLOOKUP(D957,site!$B:$D,3,0))),IF(C957=\"\",\"\",IF(VLOOKUP(E957,site!$C:$D,2,0)=\"\",\"-\",VLOOKUP(E957,site!$C:$D,2,0))))","v":""},{"$f":"IFERROR(IF($C957=\"\",\"\",IF(VLOOKUP($D957,site!$B:$F,4,0)=\"\",\"-\",VLOOKUP($D957,site!$B:$F,4,0))),IF($C957=\"\",\"\",IF(VLOOKUP($E957,site!$B:$F,3,0)=\"\",\"-\",VLOOKUP($E957,site!$B:$F,3,0))))","v":""},{"$f":"IFERROR(IF($C957=\"\",\"\",IF(VLOOKUP($D957,site!$B:$F,5,0)=\"\",\"-\",VLOOKUP($D957,site!$B:$F,5,0))),IF($C957=\"\",\"\",IF(VLOOKUP($E957,site!$B:$F,4,0)=\"\",\"-\",VLOOKUP($E957,site!$B:$F,4,0))))","v":""},{"$f":"IFERROR(IF($C957=\"\",\"\",IF(VLOOKUP($D957,site!$B:$G,6,0)=\"\",\"-\",VLOOKUP($D957,site!$B:$G,6,0))),IF($C957=\"\",\"\",IF(VLOOKUP($E957,site!$B:$G,5,0)=\"\",\"-\",VLOOKUP($E957,site!$B:$G,5,0))))","v":""}]
[null,null,null,null,null,null,null,null,null,null,null,null,null,null,null,null,null,null,{"$f":"IFERROR(IF(C958=\"\",\"\",IF(VLOOKUP(D958,site!$B:$D,3,0)=\"\",\"-\",VLOOKUP(D958,site!$B:$D,3,0))),IF(C958=\"\",\"\",IF(VLOOKUP(E958,site!$C:$D,2,0)=\"\",\"-\",VLOOKUP(E958,site!$C:$D,2,0))))","v":""},{"$f":"IFERROR(IF($C958=\"\",\"\",IF(VLOOKUP($D958,site!$B:$F,4,0)=\"\",\"-\",VLOOKUP($D958,site!$B:$F,4,0))),IF($C958=\"\",\"\",IF(VLOOKUP($E958,site!$B:$F,3,0)=\"\",\"-\",VLOOKUP($E958,site!$B:$F,3,0))))","v":""},{"$f":"IFERROR(IF($C958=\"\",\"\",IF(VLOOKUP($D958,site!$B:$F,5,0)=\"\",\"-\",VLOOKUP($D958,site!$B:$F,5,0))),IF($C958=\"\",\"\",IF(VLOOKUP($E958,site!$B:$F,4,0)=\"\",\"-\",VLOOKUP($E958,site!$B:$F,4,0))))","v":""},{"$f":"IFERROR(IF($C958=\"\",\"\",IF(VLOOKUP($D958,site!$B:$G,6,0)=\"\",\"-\",VLOOKUP($D958,site!$B:$G,6,0))),IF($C958=\"\",\"\",IF(VLOOKUP($E958,site!$B:$G,5,0)=\"\",\"-\",VLOOKUP($E958,site!$B:$G,5,0))))","v":""}]
[null,null,null,null,null,null,null,null,null,null,null,null,null,null,null,null,null,null,{"$f":"IFERROR(IF(C959=\"\",\"\",IF(VLOOKUP(D959,site!$B:$D,3,0)=\"\",\"-\",VLOOKUP(D959,site!$B:$D,3,0))),IF(C959=\"\",\"\",IF(VLOOKUP(E959,site!$C:$D,2,0)=\"\",\"-\",VLOOKUP(E959,site!$C:$D,2,0))))","v":""},{"$f":"IFERROR(IF($C959=\"\",\"\",IF(VLOOKUP($D959,site!$B:$F,4,0)=\"\",\"-\",VLOOKUP($D959,site!$B:$F,4,0))),IF($C959=\"\",\"\",IF(VLOOKUP($E959,site!$B:$F,3,0)=\"\",\"-\",VLOOKUP($E959,site!$B:$F,3,0))))","v":""},{"$f":"IFERROR(IF($C959=\"\",\"\",IF(VLOOKUP($D959,site!$B:$F,5,0)=\"\",\"-\",VLOOKUP($D959,site!$B:$F,5,0))),IF($C959=\"\",\"\",IF(VLOOKUP($E959,site!$B:$F,4,0)=\"\",\"-\",VLOOKUP($E959,site!$B:$F,4,0))))","v":""},{"$f":"IFERROR(IF($C959=\"\",\"\",IF(VLOOKUP($D959,site!$B:$G,6,0)=\"\",\"-\",VLOOKUP($D959,site!$B:$G,6,0))),IF($C959=\"\",\"\",IF(VLOOKUP($E959,site!$B:$G,5,0)=\"\",\"-\",VLOOKUP($E959,site!$B:$G,5,0))))","v":""}]
[null,null,null,null,null,null,null,null,null,null,null,null,null,null,null,null,null,null,{"$f":"IFERROR(IF(C960=\"\",\"\",IF(VLOOKUP(D960,site!$B:$D,3,0)=\"\",\"-\",VLOOKUP(D960,site!$B:$D,3,0))),IF(C960=\"\",\"\",IF(VLOOKUP(E960,site!$C:$D,2,0)=\"\",\"-\",VLOOKUP(E960,site!$C:$D,2,0))))","v":""},{"$f":"IFERROR(IF($C960=\"\",\"\",IF(VLOOKUP($D960,site!$B:$F,4,0)=\"\",\"-\",VLOOKUP($D960,site!$B:$F,4,0))),IF($C960=\"\",\"\",IF(VLOOKUP($E960,site!$B:$F,3,0)=\"\",\"-\",VLOOKUP($E960,site!$B:$F,3,0))))","v":""},{"$f":"IFERROR(IF($C960=\"\",\"\",IF(VLOOKUP($D960,site!$B:$F,5,0)=\"\",\"-\",VLOOKUP($D960,site!$B:$F,5,0))),IF($C960=\"\",\"\",IF(VLOOKUP($E960,site!$B:$F,4,0)=\"\",\"-\",VLOOKUP($E960,site!$B:$F,4,0))))","v":""},{"$f":"IFERROR(IF($C960=\"\",\"\",IF(VLOOKUP($D960,site!$B:$G,6,0)=\"\",\"-\",VLOOKUP($D960,site!$B:$G,6,0))),IF($C960=\"\",\"\",IF(VLOOKUP($E960,site!$B:$G,5,0)=\"\",\"-\",VLOOKUP($E960,site!$B:$G,5,0))))","v":""}]
[null,null,null,null,null,null,null,null,null,null,null,null,null,null,null,null,null,null,{"$f":"IFERROR(IF(C961=\"\",\"\",IF(VLOOKUP(D961,site!$B:$D,3,0)=\"\",\"-\",VLOOKUP(D961,site!$B:$D,3,0))),IF(C961=\"\",\"\",IF(VLOOKUP(E961,site!$C:$D,2,0)=\"\",\"-\",VLOOKUP(E961,site!$C:$D,2,0))))","v":""},{"$f":"IFERROR(IF($C961=\"\",\"\",IF(VLOOKUP($D961,site!$B:$F,4,0)=\"\",\"-\",VLOOKUP($D961,site!$B:$F,4,0))),IF($C961=\"\",\"\",IF(VLOOKUP($E961,site!$B:$F,3,0)=\"\",\"-\",VLOOKUP($E961,site!$B:$F,3,0))))","v":""},{"$f":"IFERROR(IF($C961=\"\",\"\",IF(VLOOKUP($D961,site!$B:$F,5,0)=\"\",\"-\",VLOOKUP($D961,site!$B:$F,5,0))),IF($C961=\"\",\"\",IF(VLOOKUP($E961,site!$B:$F,4,0)=\"\",\"-\",VLOOKUP($E961,site!$B:$F,4,0))))","v":""},{"$f":"IFERROR(IF($C961=\"\",\"\",IF(VLOOKUP($D961,site!$B:$G,6,0)=\"\",\"-\",VLOOKUP($D961,site!$B:$G,6,0))),IF($C961=\"\",\"\",IF(VLOOKUP($E961,site!$B:$G,5,0)=\"\",\"-\",VLOOKUP($E961,site!$B:$G,5,0))))","v":""}]
[null,null,null,null,null,null,null,null,null,null,null,null,null,null,null,null,null,null,{"$f":"IFERROR(IF(C962=\"\",\"\",IF(VLOOKUP(D962,site!$B:$D,3,0)=\"\",\"-\",VLOOKUP(D962,site!$B:$D,3,0))),IF(C962=\"\",\"\",IF(VLOOKUP(E962,site!$C:$D,2,0)=\"\",\"-\",VLOOKUP(E962,site!$C:$D,2,0))))","v":""},{"$f":"IFERROR(IF($C962=\"\",\"\",IF(VLOOKUP($D962,site!$B:$F,4,0)=\"\",\"-\",VLOOKUP($D962,site!$B:$F,4,0))),IF($C962=\"\",\"\",IF(VLOOKUP($E962,site!$B:$F,3,0)=\"\",\"-\",VLOOKUP($E962,site!$B:$F,3,0))))","v":""},{"$f":"IFERROR(IF($C962=\"\",\"\",IF(VLOOKUP($D962,site!$B:$F,5,0)=\"\",\"-\",VLOOKUP($D962,site!$B:$F,5,0))),IF($C962=\"\",\"\",IF(VLOOKUP($E962,site!$B:$F,4,0)=\"\",\"-\",VLOOKUP($E962,site!$B:$F,4,0))))","v":""},{"$f":"IFERROR(IF($C962=\"\",\"\",IF(VLOOKUP($D962,site!$B:$G,6,0)=\"\",\"-\",VLOOKUP($D962,site!$B:$G,6,0))),IF($C962=\"\",\"\",IF(VLOOKUP($E962,site!$B:$G,5,0)=\"\",\"-\",VLOOKUP($E962,site!$B:$G,5,0))))","v":""}]
[null,null,null,null,null,null,null,null,null,null,null,null,null,null,null,null,null,null,{"$f":"IFERROR(IF(C963=\"\",\"\",IF(VLOOKUP(D963,site!$B:$D,3,0)=\"\",\"-\",VLOOKUP(D963,site!$B:$D,3,0))),IF(C963=\"\",\"\",IF(VLOOKUP(E963,site!$C:$D,2,0)=\"\",\"-\",VLOOKUP(E963,site!$C:$D,2,0))))","v":""},{"$f":"IFERROR(IF($C963=\"\",\"\",IF(VLOOKUP($D963,site!$B:$F,4,0)=\"\",\"-\",VLOOKUP($D963,site!$B:$F,4,0))),IF($C963=\"\",\"\",IF(VLOOKUP($E963,site!$B:$F,3,0)=\"\",\"-\",VLOOKUP($E963,site!$B:$F,3,0))))","v":""},{"$f":"IFERROR(IF($C963=\"\",\"\",IF(VLOOKUP($D963,site!$B:$F,5,0)=\"\",\"-\",VLOOKUP($D963,site!$B:$F,5,0))),IF($C963=\"\",\"\",IF(VLOOKUP($E963,site!$B:$F,4,0)=\"\",\"-\",VLOOKUP($E963,site!$B:$F,4,0))))","v":""},{"$f":"IFERROR(IF($C963=\"\",\"\",IF(VLOOKUP($D963,site!$B:$G,6,0)=\"\",\"-\",VLOOKUP($D963,site!$B:$G,6,0))),IF($C963=\"\",\"\",IF(VLOOKUP($E963,site!$B:$G,5,0)=\"\",\"-\",VLOOKUP($E963,site!$B:$G,5,0))))","v":""}]
[null,null,null,null,null,null,null,null,null,null,null,null,null,null,null,null,null,null,{"$f":"IFERROR(IF(C964=\"\",\"\",IF(VLOOKUP(D964,site!$B:$D,3,0)=\"\",\"-\",VLOOKUP(D964,site!$B:$D,3,0))),IF(C964=\"\",\"\",IF(VLOOKUP(E964,site!$C:$D,2,0)=\"\",\"-\",VLOOKUP(E964,site!$C:$D,2,0))))","v":""},{"$f":"IFERROR(IF($C964=\"\",\"\",IF(VLOOKUP($D964,site!$B:$F,4,0)=\"\",\"-\",VLOOKUP($D964,site!$B:$F,4,0))),IF($C964=\"\",\"\",IF(VLOOKUP($E964,site!$B:$F,3,0)=\"\",\"-\",VLOOKUP($E964,site!$B:$F,3,0))))","v":""},{"$f":"IFERROR(IF($C964=\"\",\"\",IF(VLOOKUP($D964,site!$B:$F,5,0)=\"\",\"-\",VLOOKUP($D964,site!$B:$F,5,0))),IF($C964=\"\",\"\",IF(VLOOKUP($E964,site!$B:$F,4,0)=\"\",\"-\",VLOOKUP($E964,site!$B:$F,4,0))))","v":""},{"$f":"IFERROR(IF($C964=\"\",\"\",IF(VLOOKUP($D964,site!$B:$G,6,0)=\"\",\"-\",VLOOKUP($D964,site!$B:$G,6,0))),IF($C964=\"\",\"\",IF(VLOOKUP($E964,site!$B:$G,5,0)=\"\",\"-\",VLOOKUP($E964,site!$B:$G,5,0))))","v":""}]
[null,null,null,null,null,null,null,null,null,null,null,null,null,null,null,null,null,null,{"$f":"IFERROR(IF(C965=\"\",\"\",IF(VLOOKUP(D965,site!$B:$D,3,0)=\"\",\"-\",VLOOKUP(D965,site!$B:$D,3,0))),IF(C965=\"\",\"\",IF(VLOOKUP(E965,site!$C:$D,2,0)=\"\",\"-\",VLOOKUP(E965,site!$C:$D,2,0))))","v":""},{"$f":"IFERROR(IF($C965=\"\",\"\",IF(VLOOKUP($D965,site!$B:$F,4,0)=\"\",\"-\",VLOOKUP($D965,site!$B:$F,4,0))),IF($C965=\"\",\"\",IF(VLOOKUP($E965,site!$B:$F,3,0)=\"\",\"-\",VLOOKUP($E965,site!$B:$F,3,0))))","v":""},{"$f":"IFERROR(IF($C965=\"\",\"\",IF(VLOOKUP($D965,site!$B:$F,5,0)=\"\",\"-\",VLOOKUP($D965,site!$B:$F,5,0))),IF($C965=\"\",\"\",IF(VLOOKUP($E965,site!$B:$F,4,0)=\"\",\"-\",VLOOKUP($E965,site!$B:$F,4,0))))","v":""},{"$f":"IFERROR(IF($C965=\"\",\"\",IF(VLOOKUP($D965,site!$B:$G,6,0)=\"\",\"-\",VLOOKUP($D965,site!$B:$G,6,0))),IF($C965=\"\",\"\",IF(VLOOKUP($E965,site!$B:$G,5,0)=\"\",\"-\",VLOOKUP($E965,site!$B:$G,5,0))))","v":""}]
[null,null,null,null,null,null,null,null,null,null,null,null,null,null,null,null,null,null,{"$f":"IFERROR(IF(C966=\"\",\"\",IF(VLOOKUP(D966,site!$B:$D,3,0)=\"\",\"-\",VLOOKUP(D966,site!$B:$D,3,0))),IF(C966=\"\",\"\",IF(VLOOKUP(E966,site!$C:$D,2,0)=\"\",\"-\",VLOOKUP(E966,site!$C:$D,2,0))))","v":""},{"$f":"IFERROR(IF($C966=\"\",\"\",IF(VLOOKUP($D966,site!$B:$F,4,0)=\"\",\"-\",VLOOKUP($D966,site!$B:$F,4,0))),IF($C966=\"\",\"\",IF(VLOOKUP($E966,site!$B:$F,3,0)=\"\",\"-\",VLOOKUP($E966,site!$B:$F,3,0))))","v":""},{"$f":"IFERROR(IF($C966=\"\",\"\",IF(VLOOKUP($D966,site!$B:$F,5,0)=\"\",\"-\",VLOOKUP($D966,site!$B:$F,5,0))),IF($C966=\"\",\"\",IF(VLOOKUP($E966,site!$B:$F,4,0)=\"\",\"-\",VLOOKUP($E966,site!$B:$F,4,0))))","v":""},{"$f":"IFERROR(IF($C966=\"\",\"\",IF(VLOOKUP($D966,site!$B:$G,6,0)=\"\",\"-\",VLOOKUP($D966,site!$B:$G,6,0))),IF($C966=\"\",\"\",IF(VLOOKUP($E966,site!$B:$G,5,0)=\"\",\"-\",VLOOKUP($E966,site!$B:$G,5,0))))","v":""}]
[null,null,null,null,null,null,null,null,null,null,null,null,null,null,null,null,null,null,{"$f":"IFERROR(IF(C967=\"\",\"\",IF(VLOOKUP(D967,site!$B:$D,3,0)=\"\",\"-\",VLOOKUP(D967,site!$B:$D,3,0))),IF(C967=\"\",\"\",IF(VLOOKUP(E967,site!$C:$D,2,0)=\"\",\"-\",VLOOKUP(E967,site!$C:$D,2,0))))","v":""},{"$f":"IFERROR(IF($C967=\"\",\"\",IF(VLOOKUP($D967,site!$B:$F,4,0)=\"\",\"-\",VLOOKUP($D967,site!$B:$F,4,0))),IF($C967=\"\",\"\",IF(VLOOKUP($E967,site!$B:$F,3,0)=\"\",\"-\",VLOOKUP($E967,site!$B:$F,3,0))))","v":""},{"$f":"IFERROR(IF($C967=\"\",\"\",IF(VLOOKUP($D967,site!$B:$F,5,0)=\"\",\"-\",VLOOKUP($D967,site!$B:$F,5,0))),IF($C967=\"\",\"\",IF(VLOOKUP($E967,site!$B:$F,4,0)=\"\",\"-\",VLOOKUP($E967,site!$B:$F,4,0))))","v":""},{"$f":"IFERROR(IF($C967=\"\",\"\",IF(VLOOKUP($D967,site!$B:$G,6,0)=\"\",\"-\",VLOOKUP($D967,site!$B:$G,6,0))),IF($C967=\"\",\"\",IF(VLOOKUP($E967,site!$B:$G,5,0)=\"\",\"-\",VLOOKUP($E967,site!$B:$G,5,0))))","v":""}]
[null,null,null,null,null,null,null,null,null,null,null,null,null,null,null,null,null,null,{"$f":"IFERROR(IF(C968=\"\",\"\",IF(VLOOKUP(D968,site!$B:$D,3,0)=\"\",\"-\",VLOOKUP(D968,site!$B:$D,3,0))),IF(C968=\"\",\"\",IF(VLOOKUP(E968,site!$C:$D,2,0)=\"\",\"-\",VLOOKUP(E968,site!$C:$D,2,0))))","v":""},{"$f":"IFERROR(IF($C968=\"\",\"\",IF(VLOOKUP($D968,site!$B:$F,4,0)=\"\",\"-\",VLOOKUP($D968,site!$B:$F,4,0))),IF($C968=\"\",\"\",IF(VLOOKUP($E968,site!$B:$F,3,0)=\"\",\"-\",VLOOKUP($E968,site!$B:$F,3,0))))","v":""},{"$f":"IFERROR(IF($C968=\"\",\"\",IF(VLOOKUP($D968,site!$B:$F,5,0)=\"\",\"-\",VLOOKUP($D968,site!$B:$F,5,0))),IF($C968=\"\",\"\",IF(VLOOKUP($E968,site!$B:$F,4,0)=\"\",\"-\",VLOOKUP($E968,site!$B:$F,4,0))))","v":""},{"$f":"IFERROR(IF($C968=\"\",\"\",IF(VLOOKUP($D968,site!$B:$G,6,0)=\"\",\"-\",VLOOKUP($D968,site!$B:$G,6,0))),IF($C968=\"\",\"\",IF(VLOOKUP($E968,site!$B:$G,5,0)=\"\",\"-\",VLOOKUP($E968,site!$B:$G,5,0))))","v":""}]
[null,null,null,null,null,null,null,null,null,null,null,null,null,null,null,null,null,null,{"$f":"IFERROR(IF(C969=\"\",\"\",IF(VLOOKUP(D969,site!$B:$D,3,0)=\"\",\"-\",VLOOKUP(D969,site!$B:$D,3,0))),IF(C969=\"\",\"\",IF(VLOOKUP(E969,site!$C:$D,2,0)=\"\",\"-\",VLOOKUP(E969,site!$C:$D,2,0))))","v":""},{"$f":"IFERROR(IF($C969=\"\",\"\",IF(VLOOKUP($D969,site!$B:$F,4,0)=\"\",\"-\",VLOOKUP($D969,site!$B:$F,4,0))),IF($C969=\"\",\"\",IF(VLOOKUP($E969,site!$B:$F,3,0)=\"\",\"-\",VLOOKUP($E969,site!$B:$F,3,0))))","v":""},{"$f":"IFERROR(IF($C969=\"\",\"\",IF(VLOOKUP($D969,site!$B:$F,5,0)=\"\",\"-\",VLOOKUP($D969,site!$B:$F,5,0))),IF($C969=\"\",\"\",IF(VLOOKUP($E969,site!$B:$F,4,0)=\"\",\"-\",VLOOKUP($E969,site!$B:$F,4,0))))","v":""},{"$f":"IFERROR(IF($C969=\"\",\"\",IF(VLOOKUP($D969,site!$B:$G,6,0)=\"\",\"-\",VLOOKUP($D969,site!$B:$G,6,0))),IF($C969=\"\",\"\",IF(VLOOKUP($E969,site!$B:$G,5,0)=\"\",\"-\",VLOOKUP($E969,site!$B:$G,5,0))))","v":""}]
[null,null,null,null,null,null,null,null,null,null,null,null,null,null,null,null,null,null,{"$f":"IFERROR(IF(C970=\"\",\"\",IF(VLOOKUP(D970,site!$B:$D,3,0)=\"\",\"-\",VLOOKUP(D970,site!$B:$D,3,0))),IF(C970=\"\",\"\",IF(VLOOKUP(E970,site!$C:$D,2,0)=\"\",\"-\",VLOOKUP(E970,site!$C:$D,2,0))))","v":""},{"$f":"IFERROR(IF($C970=\"\",\"\",IF(VLOOKUP($D970,site!$B:$F,4,0)=\"\",\"-\",VLOOKUP($D970,site!$B:$F,4,0))),IF($C970=\"\",\"\",IF(VLOOKUP($E970,site!$B:$F,3,0)=\"\",\"-\",VLOOKUP($E970,site!$B:$F,3,0))))","v":""},{"$f":"IFERROR(IF($C970=\"\",\"\",IF(VLOOKUP($D970,site!$B:$F,5,0)=\"\",\"-\",VLOOKUP($D970,site!$B:$F,5,0))),IF($C970=\"\",\"\",IF(VLOOKUP($E970,site!$B:$F,4,0)=\"\",\"-\",VLOOKUP($E970,site!$B:$F,4,0))))","v":""},{"$f":"IFERROR(IF($C970=\"\",\"\",IF(VLOOKUP($D970,site!$B:$G,6,0)=\"\",\"-\",VLOOKUP($D970,site!$B:$G,6,0))),IF($C970=\"\",\"\",IF(VLOOKUP($E970,site!$B:$G,5,0)=\"\",\"-\",VLOOKUP($E970,site!$B:$G,5,0))))","v":""}]
[null,null,null,null,null,null,null,null,null,null,null,null,null,null,null,null,null,null,{"$f":"IFERROR(IF(C971=\"\",\"\",IF(VLOOKUP(D971,site!$B:$D,3,0)=\"\",\"-\",VLOOKUP(D971,site!$B:$D,3,0))),IF(C971=\"\",\"\",IF(VLOOKUP(E971,site!$C:$D,2,0)=\"\",\"-\",VLOOKUP(E971,site!$C:$D,2,0))))","v":""},{"$f":"IFERROR(IF($C971=\"\",\"\",IF(VLOOKUP($D971,site!$B:$F,4,0)=\"\",\"-\",VLOOKUP($D971,site!$B:$F,4,0))),IF($C971=\"\",\"\",IF(VLOOKUP($E971,site!$B:$F,3,0)=\"\",\"-\",VLOOKUP($E971,site!$B:$F,3,0))))","v":""},{"$f":"IFERROR(IF($C971=\"\",\"\",IF(VLOOKUP($D971,site!$B:$F,5,0)=\"\",\"-\",VLOOKUP($D971,site!$B:$F,5,0))),IF($C971=\"\",\"\",IF(VLOOKUP($E971,site!$B:$F,4,0)=\"\",\"-\",VLOOKUP($E971,site!$B:$F,4,0))))","v":""},{"$f":"IFERROR(IF($C971=\"\",\"\",IF(VLOOKUP($D971,site!$B:$G,6,0)=\"\",\"-\",VLOOKUP($D971,site!$B:$G,6,0))),IF($C971=\"\",\"\",IF(VLOOKUP($E971,site!$B:$G,5,0)=\"\",\"-\",VLOOKUP($E971,site!$B:$G,5,0))))","v":""}]
[null,null,null,null,null,null,null,null,null,null,null,null,null,null,null,null,null,null,{"$f":"IFERROR(IF(C972=\"\",\"\",IF(VLOOKUP(D972,site!$B:$D,3,0)=\"\",\"-\",VLOOKUP(D972,site!$B:$D,3,0))),IF(C972=\"\",\"\",IF(VLOOKUP(E972,site!$C:$D,2,0)=\"\",\"-\",VLOOKUP(E972,site!$C:$D,2,0))))","v":""},{"$f":"IFERROR(IF($C972=\"\",\"\",IF(VLOOKUP($D972,site!$B:$F,4,0)=\"\",\"-\",VLOOKUP($D972,site!$B:$F,4,0))),IF($C972=\"\",\"\",IF(VLOOKUP($E972,site!$B:$F,3,0)=\"\",\"-\",VLOOKUP($E972,site!$B:$F,3,0))))","v":""},{"$f":"IFERROR(IF($C972=\"\",\"\",IF(VLOOKUP($D972,site!$B:$F,5,0)=\"\",\"-\",VLOOKUP($D972,site!$B:$F,5,0))),IF($C972=\"\",\"\",IF(VLOOKUP($E972,site!$B:$F,4,0)=\"\",\"-\",VLOOKUP($E972,site!$B:$F,4,0))))","v":""},{"$f":"IFERROR(IF($C972=\"\",\"\",IF(VLOOKUP($D972,site!$B:$G,6,0)=\"\",\"-\",VLOOKUP($D972,site!$B:$G,6,0))),IF($C972=\"\",\"\",IF(VLOOKUP($E972,site!$B:$G,5,0)=\"\",\"-\",VLOOKUP($E972,site!$B:$G,5,0))))","v":""}]
[null,null,null,null,null,null,null,null,null,null,null,null,null,null,null,null,null,null,{"$f":"IFERROR(IF(C973=\"\",\"\",IF(VLOOKUP(D973,site!$B:$D,3,0)=\"\",\"-\",VLOOKUP(D973,site!$B:$D,3,0))),IF(C973=\"\",\"\",IF(VLOOKUP(E973,site!$C:$D,2,0)=\"\",\"-\",VLOOKUP(E973,site!$C:$D,2,0))))","v":""},{"$f":"IFERROR(IF($C973=\"\",\"\",IF(VLOOKUP($D973,site!$B:$F,4,0)=\"\",\"-\",VLOOKUP($D973,site!$B:$F,4,0))),IF($C973=\"\",\"\",IF(VLOOKUP($E973,site!$B:$F,3,0)=\"\",\"-\",VLOOKUP($E973,site!$B:$F,3,0))))","v":""},{"$f":"IFERROR(IF($C973=\"\",\"\",IF(VLOOKUP($D973,site!$B:$F,5,0)=\"\",\"-\",VLOOKUP($D973,site!$B:$F,5,0))),IF($C973=\"\",\"\",IF(VLOOKUP($E973,site!$B:$F,4,0)=\"\",\"-\",VLOOKUP($E973,site!$B:$F,4,0))))","v":""},{"$f":"IFERROR(IF($C973=\"\",\"\",IF(VLOOKUP($D973,site!$B:$G,6,0)=\"\",\"-\",VLOOKUP($D973,site!$B:$G,6,0))),IF($C973=\"\",\"\",IF(VLOOKUP($E973,site!$B:$G,5,0)=\"\",\"-\",VLOOKUP($E973,site!$B:$G,5,0))))","v":""}]
[null,null,null,null,null,null,null,null,null,null,null,null,null,null,null,null,null,null,{"$f":"IFERROR(IF(C974=\"\",\"\",IF(VLOOKUP(D974,site!$B:$D,3,0)=\"\",\"-\",VLOOKUP(D974,site!$B:$D,3,0))),IF(C974=\"\",\"\",IF(VLOOKUP(E974,site!$C:$D,2,0)=\"\",\"-\",VLOOKUP(E974,site!$C:$D,2,0))))","v":""},{"$f":"IFERROR(IF($C974=\"\",\"\",IF(VLOOKUP($D974,site!$B:$F,4,0)=\"\",\"-\",VLOOKUP($D974,site!$B:$F,4,0))),IF($C974=\"\",\"\",IF(VLOOKUP($E974,site!$B:$F,3,0)=\"\",\"-\",VLOOKUP($E974,site!$B:$F,3,0))))","v":""},{"$f":"IFERROR(IF($C974=\"\",\"\",IF(VLOOKUP($D974,site!$B:$F,5,0)=\"\",\"-\",VLOOKUP($D974,site!$B:$F,5,0))),IF($C974=\"\",\"\",IF(VLOOKUP($E974,site!$B:$F,4,0)=\"\",\"-\",VLOOKUP($E974,site!$B:$F,4,0))))","v":""},{"$f":"IFERROR(IF($C974=\"\",\"\",IF(VLOOKUP($D974,site!$B:$G,6,0)=\"\",\"-\",VLOOKUP($D974,site!$B:$G,6,0))),IF($C974=\"\",\"\",IF(VLOOKUP($E974,site!$B:$G,5,0)=\"\",\"-\",VLOOKUP($E974,site!$B:$G,5,0))))","v":""}]
[null,null,null,null,null,null,null,null,null,null,null,null,null,null,null,null,null,null,{"$f":"IFERROR(IF(C975=\"\",\"\",IF(VLOOKUP(D975,site!$B:$D,3,0)=\"\",\"-\",VLOOKUP(D975,site!$B:$D,3,0))),IF(C975=\"\",\"\",IF(VLOOKUP(E975,site!$C:$D,2,0)=\"\",\"-\",VLOOKUP(E975,site!$C:$D,2,0))))","v":""},{"$f":"IFERROR(IF($C975=\"\",\"\",IF(VLOOKUP($D975,site!$B:$F,4,0)=\"\",\"-\",VLOOKUP($D975,site!$B:$F,4,0))),IF($C975=\"\",\"\",IF(VLOOKUP($E975,site!$B:$F,3,0)=\"\",\"-\",VLOOKUP($E975,site!$B:$F,3,0))))","v":""},{"$f":"IFERROR(IF($C975=\"\",\"\",IF(VLOOKUP($D975,site!$B:$F,5,0)=\"\",\"-\",VLOOKUP($D975,site!$B:$F,5,0))),IF($C975=\"\",\"\",IF(VLOOKUP($E975,site!$B:$F,4,0)=\"\",\"-\",VLOOKUP($E975,site!$B:$F,4,0))))","v":""},{"$f":"IFERROR(IF($C975=\"\",\"\",IF(VLOOKUP($D975,site!$B:$G,6,0)=\"\",\"-\",VLOOKUP($D975,site!$B:$G,6,0))),IF($C975=\"\",\"\",IF(VLOOKUP($E975,site!$B:$G,5,0)=\"\",\"-\",VLOOKUP($E975,site!$B:$G,5,0))))","v":""}]
[null,null,null,null,null,null,null,null,null,null,null,null,null,null,null,null,null,null,{"$f":"IFERROR(IF(C976=\"\",\"\",IF(VLOOKUP(D976,site!$B:$D,3,0)=\"\",\"-\",VLOOKUP(D976,site!$B:$D,3,0))),IF(C976=\"\",\"\",IF(VLOOKUP(E976,site!$C:$D,2,0)=\"\",\"-\",VLOOKUP(E976,site!$C:$D,2,0))))","v":""},{"$f":"IFERROR(IF($C976=\"\",\"\",IF(VLOOKUP($D976,site!$B:$F,4,0)=\"\",\"-\",VLOOKUP($D976,site!$B:$F,4,0))),IF($C976=\"\",\"\",IF(VLOOKUP($E976,site!$B:$F,3,0)=\"\",\"-\",VLOOKUP($E976,site!$B:$F,3,0))))","v":""},{"$f":"IFERROR(IF($C976=\"\",\"\",IF(VLOOKUP($D976,site!$B:$F,5,0)=\"\",\"-\",VLOOKUP($D976,site!$B:$F,5,0))),IF($C976=\"\",\"\",IF(VLOOKUP($E976,site!$B:$F,4,0)=\"\",\"-\",VLOOKUP($E976,site!$B:$F,4,0))))","v":""},{"$f":"IFERROR(IF($C976=\"\",\"\",IF(VLOOKUP($D976,site!$B:$G,6,0)=\"\",\"-\",VLOOKUP($D976,site!$B:$G,6,0))),IF($C976=\"\",\"\",IF(VLOOKUP($E976,site!$B:$G,5,0)=\"\",\"-\",VLOOKUP($E976,site!$B:$G,5,0))))","v":""}]
[null,null,null,null,null,null,null,null,null,null,null,null,null,null,null,null,null,null,{"$f":"IFERROR(IF(C977=\"\",\"\",IF(VLOOKUP(D977,site!$B:$D,3,0)=\"\",\"-\",VLOOKUP(D977,site!$B:$D,3,0))),IF(C977=\"\",\"\",IF(VLOOKUP(E977,site!$C:$D,2,0)=\"\",\"-\",VLOOKUP(E977,site!$C:$D,2,0))))","v":""},{"$f":"IFERROR(IF($C977=\"\",\"\",IF(VLOOKUP($D977,site!$B:$F,4,0)=\"\",\"-\",VLOOKUP($D977,site!$B:$F,4,0))),IF($C977=\"\",\"\",IF(VLOOKUP($E977,site!$B:$F,3,0)=\"\",\"-\",VLOOKUP($E977,site!$B:$F,3,0))))","v":""},{"$f":"IFERROR(IF($C977=\"\",\"\",IF(VLOOKUP($D977,site!$B:$F,5,0)=\"\",\"-\",VLOOKUP($D977,site!$B:$F,5,0))),IF($C977=\"\",\"\",IF(VLOOKUP($E977,site!$B:$F,4,0)=\"\",\"-\",VLOOKUP($E977,site!$B:$F,4,0))))","v":""},{"$f":"IFERROR(IF($C977=\"\",\"\",IF(VLOOKUP($D977,site!$B:$G,6,0)=\"\",\"-\",VLOOKUP($D977,site!$B:$G,6,0))),IF($C977=\"\",\"\",IF(VLOOKUP($E977,site!$B:$G,5,0)=\"\",\"-\",VLOOKUP($E977,site!$B:$G,5,0))))","v":""}]
[null,null,null,null,null,null,null,null,null,null,null,null,null,null,null,null,null,null,{"$f":"IFERROR(IF(C978=\"\",\"\",IF(VLOOKUP(D978,site!$B:$D,3,0)=\"\",\"-\",VLOOKUP(D978,site!$B:$D,3,0))),IF(C978=\"\",\"\",IF(VLOOKUP(E978,site!$C:$D,2,0)=\"\",\"-\",VLOOKUP(E978,site!$C:$D,2,0))))","v":""},{"$f":"IFERROR(IF($C978=\"\",\"\",IF(VLOOKUP($D978,site!$B:$F,4,0)=\"\",\"-\",VLOOKUP($D978,site!$B:$F,4,0))),IF($C978=\"\",\"\",IF(VLOOKUP($E978,site!$B:$F,3,0)=\"\",\"-\",VLOOKUP($E978,site!$B:$F,3,0))))","v":""},{"$f":"IFERROR(IF($C978=\"\",\"\",IF(VLOOKUP($D978,site!$B:$F,5,0)=\"\",\"-\",VLOOKUP($D978,site!$B:$F,5,0))),IF($C978=\"\",\"\",IF(VLOOKUP($E978,site!$B:$F,4,0)=\"\",\"-\",VLOOKUP($E978,site!$B:$F,4,0))))","v":""},{"$f":"IFERROR(IF($C978=\"\",\"\",IF(VLOOKUP($D978,site!$B:$G,6,0)=\"\",\"-\",VLOOKUP($D978,site!$B:$G,6,0))),IF($C978=\"\",\"\",IF(VLOOKUP($E978,site!$B:$G,5,0)=\"\",\"-\",VLOOKUP($E978,site!$B:$G,5,0))))","v":""}]
[null,null,null,null,null,null,null,null,null,null,null,null,null,null,null,null,null,null,{"$f":"IFERROR(IF(C979=\"\",\"\",IF(VLOOKUP(D979,site!$B:$D,3,0)=\"\",\"-\",VLOOKUP(D979,site!$B:$D,3,0))),IF(C979=\"\",\"\",IF(VLOOKUP(E979,site!$C:$D,2,0)=\"\",\"-\",VLOOKUP(E979,site!$C:$D,2,0))))","v":""},{"$f":"IFERROR(IF($C979=\"\",\"\",IF(VLOOKUP($D979,site!$B:$F,4,0)=\"\",\"-\",VLOOKUP($D979,site!$B:$F,4,0))),IF($C979=\"\",\"\",IF(VLOOKUP($E979,site!$B:$F,3,0)=\"\",\"-\",VLOOKUP($E979,site!$B:$F,3,0))))","v":""},{"$f":"IFERROR(IF($C979=\"\",\"\",IF(VLOOKUP($D979,site!$B:$F,5,0)=\"\",\"-\",VLOOKUP($D979,site!$B:$F,5,0))),IF($C979=\"\",\"\",IF(VLOOKUP($E979,site!$B:$F,4,0)=\"\",\"-\",VLOOKUP($E979,site!$B:$F,4,0))))","v":""},{"$f":"IFERROR(IF($C979=\"\",\"\",IF(VLOOKUP($D979,site!$B:$G,6,0)=\"\",\"-\",VLOOKUP($D979,site!$B:$G,6,0))),IF($C979=\"\",\"\",IF(VLOOKUP($E979,site!$B:$G,5,0)=\"\",\"-\",VLOOKUP($E979,site!$B:$G,5,0))))","v":""}]
[null,null,null,null,null,null,null,null,null,null,null,null,null,null,null,null,null,null,{"$f":"IFERROR(IF(C980=\"\",\"\",IF(VLOOKUP(D980,site!$B:$D,3,0)=\"\",\"-\",VLOOKUP(D980,site!$B:$D,3,0))),IF(C980=\"\",\"\",IF(VLOOKUP(E980,site!$C:$D,2,0)=\"\",\"-\",VLOOKUP(E980,site!$C:$D,2,0))))","v":""},{"$f":"IFERROR(IF($C980=\"\",\"\",IF(VLOOKUP($D980,site!$B:$F,4,0)=\"\",\"-\",VLOOKUP($D980,site!$B:$F,4,0))),IF($C980=\"\",\"\",IF(VLOOKUP($E980,site!$B:$F,3,0)=\"\",\"-\",VLOOKUP($E980,site!$B:$F,3,0))))","v":""},{"$f":"IFERROR(IF($C980=\"\",\"\",IF(VLOOKUP($D980,site!$B:$F,5,0)=\"\",\"-\",VLOOKUP($D980,site!$B:$F,5,0))),IF($C980=\"\",\"\",IF(VLOOKUP($E980,site!$B:$F,4,0)=\"\",\"-\",VLOOKUP($E980,site!$B:$F,4,0))))","v":""},{"$f":"IFERROR(IF($C980=\"\",\"\",IF(VLOOKUP($D980,site!$B:$G,6,0)=\"\",\"-\",VLOOKUP($D980,site!$B:$G,6,0))),IF($C980=\"\",\"\",IF(VLOOKUP($E980,site!$B:$G,5,0)=\"\",\"-\",VLOOKUP($E980,site!$B:$G,5,0))))","v":""}]
[null,null,null,null,null,null,null,null,null,null,null,null,null,null,null,null,null,null,{"$f":"IFERROR(IF(C981=\"\",\"\",IF(VLOOKUP(D981,site!$B:$D,3,0)=\"\",\"-\",VLOOKUP(D981,site!$B:$D,3,0))),IF(C981=\"\",\"\",IF(VLOOKUP(E981,site!$C:$D,2,0)=\"\",\"-\",VLOOKUP(E981,site!$C:$D,2,0))))","v":""},{"$f":"IFERROR(IF($C981=\"\",\"\",IF(VLOOKUP($D981,site!$B:$F,4,0)=\"\",\"-\",VLOOKUP($D981,site!$B:$F,4,0))),IF($C981=\"\",\"\",IF(VLOOKUP($E981,site!$B:$F,3,0)=\"\",\"-\",VLOOKUP($E981,site!$B:$F,3,0))))","v":""},{"$f":"IFERROR(IF($C981=\"\",\"\",IF(VLOOKUP($D981,site!$B:$F,5,0)=\"\",\"-\",VLOOKUP($D981,site!$B:$F,5,0))),IF($C981=\"\",\"\",IF(VLOOKUP($E981,site!$B:$F,4,0)=\"\",\"-\",VLOOKUP($E981,site!$B:$F,4,0))))","v":""},{"$f":"IFERROR(IF($C981=\"\",\"\",IF(VLOOKUP($D981,site!$B:$G,6,0)=\"\",\"-\",VLOOKUP($D981,site!$B:$G,6,0))),IF($C981=\"\",\"\",IF(VLOOKUP($E981,site!$B:$G,5,0)=\"\",\"-\",VLOOKUP($E981,site!$B:$G,5,0))))","v":""}]
[null,null,null,null,null,null,null,null,null,null,null,null,null,null,null,null,null,null,{"$f":"IFERROR(IF(C982=\"\",\"\",IF(VLOOKUP(D982,site!$B:$D,3,0)=\"\",\"-\",VLOOKUP(D982,site!$B:$D,3,0))),IF(C982=\"\",\"\",IF(VLOOKUP(E982,site!$C:$D,2,0)=\"\",\"-\",VLOOKUP(E982,site!$C:$D,2,0))))","v":""},{"$f":"IFERROR(IF($C982=\"\",\"\",IF(VLOOKUP($D982,site!$B:$F,4,0)=\"\",\"-\",VLOOKUP($D982,site!$B:$F,4,0))),IF($C982=\"\",\"\",IF(VLOOKUP($E982,site!$B:$F,3,0)=\"\",\"-\",VLOOKUP($E982,site!$B:$F,3,0))))","v":""},{"$f":"IFERROR(IF($C982=\"\",\"\",IF(VLOOKUP($D982,site!$B:$F,5,0)=\"\",\"-\",VLOOKUP($D982,site!$B:$F,5,0))),IF($C982=\"\",\"\",IF(VLOOKUP($E982,site!$B:$F,4,0)=\"\",\"-\",VLOOKUP($E982,site!$B:$F,4,0))))","v":""},{"$f":"IFERROR(IF($C982=\"\",\"\",IF(VLOOKUP($D982,site!$B:$G,6,0)=\"\",\"-\",VLOOKUP($D982,site!$B:$G,6,0))),IF($C982=\"\",\"\",IF(VLOOKUP($E982,site!$B:$G,5,0)=\"\",\"-\",VLOOKUP($E982,site!$B:$G,5,0))))","v":""}]
[null,null,null,null,null,null,null,null,null,null,null,null,null,null,null,null,null,null,{"$f":"IFERROR(IF(C983=\"\",\"\",IF(VLOOKUP(D983,site!$B:$D,3,0)=\"\",\"-\",VLOOKUP(D983,site!$B:$D,3,0))),IF(C983=\"\",\"\",IF(VLOOKUP(E983,site!$C:$D,2,0)=\"\",\"-\",VLOOKUP(E983,site!$C:$D,2,0))))","v":""},{"$f":"IFERROR(IF($C983=\"\",\"\",IF(VLOOKUP($D983,site!$B:$F,4,0)=\"\",\"-\",VLOOKUP($D983,site!$B:$F,4,0))),IF($C983=\"\",\"\",IF(VLOOKUP($E983,site!$B:$F,3,0)=\"\",\"-\",VLOOKUP($E983,site!$B:$F,3,0))))","v":""},{"$f":"IFERROR(IF($C983=\"\",\"\",IF(VLOOKUP($D983,site!$B:$F,5,0)=\"\",\"-\",VLOOKUP($D983,site!$B:$F,5,0))),IF($C983=\"\",\"\",IF(VLOOKUP($E983,site!$B:$F,4,0)=\"\",\"-\",VLOOKUP($E983,site!$B:$F,4,0))))","v":""},{"$f":"IFERROR(IF($C983=\"\",\"\",IF(VLOOKUP($D983,site!$B:$G,6,0)=\"\",\"-\",VLOOKUP($D983,site!$B:$G,6,0))),IF($C983=\"\",\"\",IF(VLOOKUP($E983,site!$B:$G,5,0)=\"\",\"-\",VLOOKUP($E983,site!$B:$G,5,0))))","v":""}]
[null,null,null,null,null,null,null,null,null,null,null,null,null,null,null,null,null,null,{"$f":"IFERROR(IF(C984=\"\",\"\",IF(VLOOKUP(D984,site!$B:$D,3,0)=\"\",\"-\",VLOOKUP(D984,site!$B:$D,3,0))),IF(C984=\"\",\"\",IF(VLOOKUP(E984,site!$C:$D,2,0)=\"\",\"-\",VLOOKUP(E984,site!$C:$D,2,0))))","v":""},{"$f":"IFERROR(IF($C984=\"\",\"\",IF(VLOOKUP($D984,site!$B:$F,4,0)=\"\",\"-\",VLOOKUP($D984,site!$B:$F,4,0))),IF($C984=\"\",\"\",IF(VLOOKUP($E984,site!$B:$F,3,0)=\"\",\"-\",VLOOKUP($E984,site!$B:$F,3,0))))","v":""},{"$f":"IFERROR(IF($C984=\"\",\"\",IF(VLOOKUP($D984,site!$B:$F,5,0)=\"\",\"-\",VLOOKUP($D984,site!$B:$F,5,0))),IF($C984=\"\",\"\",IF(VLOOKUP($E984,site!$B:$F,4,0)=\"\",\"-\",VLOOKUP($E984,site!$B:$F,4,0))))","v":""},{"$f":"IFERROR(IF($C984=\"\",\"\",IF(VLOOKUP($D984,site!$B:$G,6,0)=\"\",\"-\",VLOOKUP($D984,site!$B:$G,6,0))),IF($C984=\"\",\"\",IF(VLOOKUP($E984,site!$B:$G,5,0)=\"\",\"-\",VLOOKUP($E984,site!$B:$G,5,0))))","v":""}]
[null,null,null,null,null,null,null,null,null,null,null,null,null,null,null,null,null,null,{"$f":"IFERROR(IF(C985=\"\",\"\",IF(VLOOKUP(D985,site!$B:$D,3,0)=\"\",\"-\",VLOOKUP(D985,site!$B:$D,3,0))),IF(C985=\"\",\"\",IF(VLOOKUP(E985,site!$C:$D,2,0)=\"\",\"-\",VLOOKUP(E985,site!$C:$D,2,0))))","v":""},{"$f":"IFERROR(IF($C985=\"\",\"\",IF(VLOOKUP($D985,site!$B:$F,4,0)=\"\",\"-\",VLOOKUP($D985,site!$B:$F,4,0))),IF($C985=\"\",\"\",IF(VLOOKUP($E985,site!$B:$F,3,0)=\"\",\"-\",VLOOKUP($E985,site!$B:$F,3,0))))","v":""},{"$f":"IFERROR(IF($C985=\"\",\"\",IF(VLOOKUP($D985,site!$B:$F,5,0)=\"\",\"-\",VLOOKUP($D985,site!$B:$F,5,0))),IF($C985=\"\",\"\",IF(VLOOKUP($E985,site!$B:$F,4,0)=\"\",\"-\",VLOOKUP($E985,site!$B:$F,4,0))))","v":""},{"$f":"IFERROR(IF($C985=\"\",\"\",IF(VLOOKUP($D985,site!$B:$G,6,0)=\"\",\"-\",VLOOKUP($D985,site!$B:$G,6,0))),IF($C985=\"\",\"\",IF(VLOOKUP($E985,site!$B:$G,5,0)=\"\",\"-\",VLOOKUP($E985,site!$B:$G,5,0))))","v":""}]
[null,null,null,null,null,null,null,null,null,null,null,null,null,null,null,null,null,null,{"$f":"IFERROR(IF(C986=\"\",\"\",IF(VLOOKUP(D986,site!$B:$D,3,0)=\"\",\"-\",VLOOKUP(D986,site!$B:$D,3,0))),IF(C986=\"\",\"\",IF(VLOOKUP(E986,site!$C:$D,2,0)=\"\",\"-\",VLOOKUP(E986,site!$C:$D,2,0))))","v":""},{"$f":"IFERROR(IF($C986=\"\",\"\",IF(VLOOKUP($D986,site!$B:$F,4,0)=\"\",\"-\",VLOOKUP($D986,site!$B:$F,4,0))),IF($C986=\"\",\"\",IF(VLOOKUP($E986,site!$B:$F,3,0)=\"\",\"-\",VLOOKUP($E986,site!$B:$F,3,0))))","v":""},{"$f":"IFERROR(IF($C986=\"\",\"\",IF(VLOOKUP($D986,site!$B:$F,5,0)=\"\",\"-\",VLOOKUP($D986,site!$B:$F,5,0))),IF($C986=\"\",\"\",IF(VLOOKUP($E986,site!$B:$F,4,0)=\"\",\"-\",VLOOKUP($E986,site!$B:$F,4,0))))","v":""},{"$f":"IFERROR(IF($C986=\"\",\"\",IF(VLOOKUP($D986,site!$B:$G,6,0)=\"\",\"-\",VLOOKUP($D986,site!$B:$G,6,0))),IF($C986=\"\",\"\",IF(VLOOKUP($E986,site!$B:$G,5,0)=\"\",\"-\",VLOOKUP($E986,site!$B:$G,5,0))))","v":""}]
[null,null,null,null,null,null,null,null,null,null,null,null,null,null,null,null,null,null,{"$f":"IFERROR(IF(C987=\"\",\"\",IF(VLOOKUP(D987,site!$B:$D,3,0)=\"\",\"-\",VLOOKUP(D987,site!$B:$D,3,0))),IF(C987=\"\",\"\",IF(VLOOKUP(E987,site!$C:$D,2,0)=\"\",\"-\",VLOOKUP(E987,site!$C:$D,2,0))))","v":""},{"$f":"IFERROR(IF($C987=\"\",\"\",IF(VLOOKUP($D987,site!$B:$F,4,0)=\"\",\"-\",VLOOKUP($D987,site!$B:$F,4,0))),IF($C987=\"\",\"\",IF(VLOOKUP($E987,site!$B:$F,3,0)=\"\",\"-\",VLOOKUP($E987,site!$B:$F,3,0))))","v":""},{"$f":"IFERROR(IF($C987=\"\",\"\",IF(VLOOKUP($D987,site!$B:$F,5,0)=\"\",\"-\",VLOOKUP($D987,site!$B:$F,5,0))),IF($C987=\"\",\"\",IF(VLOOKUP($E987,site!$B:$F,4,0)=\"\",\"-\",VLOOKUP($E987,site!$B:$F,4,0))))","v":""},{"$f":"IFERROR(IF($C987=\"\",\"\",IF(VLOOKUP($D987,site!$B:$G,6,0)=\"\",\"-\",VLOOKUP($D987,site!$B:$G,6,0))),IF($C987=\"\",\"\",IF(VLOOKUP($E987,site!$B:$G,5,0)=\"\",\"-\",VLOOKUP($E987,site!$B:$G,5,0))))","v":""}]
[null,null,null,null,null,null,null,null,null,null,null,null,null,null,null,null,null,null,{"$f":"IFERROR(IF(C988=\"\",\"\",IF(VLOOKUP(D988,site!$B:$D,3,0)=\"\",\"-\",VLOOKUP(D988,site!$B:$D,3,0))),IF(C988=\"\",\"\",IF(VLOOKUP(E988,site!$C:$D,2,0)=\"\",\"-\",VLOOKUP(E988,site!$C:$D,2,0))))","v":""},{"$f":"IFERROR(IF($C988=\"\",\"\",IF(VLOOKUP($D988,site!$B:$F,4,0)=\"\",\"-\",VLOOKUP($D988,site!$B:$F,4,0))),IF($C988=\"\",\"\",IF(VLOOKUP($E988,site!$B:$F,3,0)=\"\",\"-\",VLOOKUP($E988,site!$B:$F,3,0))))","v":""},{"$f":"IFERROR(IF($C988=\"\",\"\",IF(VLOOKUP($D988,site!$B:$F,5,0)=\"\",\"-\",VLOOKUP($D988,site!$B:$F,5,0))),IF($C988=\"\",\"\",IF(VLOOKUP($E988,site!$B:$F,4,0)=\"\",\"-\",VLOOKUP($E988,site!$B:$F,4,0))))","v":""},{"$f":"IFERROR(IF($C988=\"\",\"\",IF(VLOOKUP($D988,site!$B:$G,6,0)=\"\",\"-\",VLOOKUP($D988,site!$B:$G,6,0))),IF($C988=\"\",\"\",IF(VLOOKUP($E988,site!$B:$G,5,0)=\"\",\"-\",VLOOKUP($E988,site!$B:$G,5,0))))","v":""}]
[null,null,null,null,null,null,null,null,null,null,null,null,null,null,null,null,null,null,{"$f":"IFERROR(IF(C989=\"\",\"\",IF(VLOOKUP(D989,site!$B:$D,3,0)=\"\",\"-\",VLOOKUP(D989,site!$B:$D,3,0))),IF(C989=\"\",\"\",IF(VLOOKUP(E989,site!$C:$D,2,0)=\"\",\"-\",VLOOKUP(E989,site!$C:$D,2,0))))","v":""},{"$f":"IFERROR(IF($C989=\"\",\"\",IF(VLOOKUP($D989,site!$B:$F,4,0)=\"\",\"-\",VLOOKUP($D989,site!$B:$F,4,0))),IF($C989=\"\",\"\",IF(VLOOKUP($E989,site!$B:$F,3,0)=\"\",\"-\",VLOOKUP($E989,site!$B:$F,3,0))))","v":""},{"$f":"IFERROR(IF($C989=\"\",\"\",IF(VLOOKUP($D989,site!$B:$F,5,0)=\"\",\"-\",VLOOKUP($D989,site!$B:$F,5,0))),IF($C989=\"\",\"\",IF(VLOOKUP($E989,site!$B:$F,4,0)=\"\",\"-\",VLOOKUP($E989,site!$B:$F,4,0))))","v":""},{"$f":"IFERROR(IF($C989=\"\",\"\",IF(VLOOKUP($D989,site!$B:$G,6,0)=\"\",\"-\",VLOOKUP($D989,site!$B:$G,6,0))),IF($C989=\"\",\"\",IF(VLOOKUP($E989,site!$B:$G,5,0)=\"\",\"-\",VLOOKUP($E989,site!$B:$G,5,0))))","v":""}]
[null,null,null,null,null,null,null,null,null,null,null,null,null,null,null,null,null,null,{"$f":"IFERROR(IF(C990=\"\",\"\",IF(VLOOKUP(D990,site!$B:$D,3,0)=\"\",\"-\",VLOOKUP(D990,site!$B:$D,3,0))),IF(C990=\"\",\"\",IF(VLOOKUP(E990,site!$C:$D,2,0)=\"\",\"-\",VLOOKUP(E990,site!$C:$D,2,0))))","v":""},{"$f":"IFERROR(IF($C990=\"\",\"\",IF(VLOOKUP($D990,site!$B:$F,4,0)=\"\",\"-\",VLOOKUP($D990,site!$B:$F,4,0))),IF($C990=\"\",\"\",IF(VLOOKUP($E990,site!$B:$F,3,0)=\"\",\"-\",VLOOKUP($E990,site!$B:$F,3,0))))","v":""},{"$f":"IFERROR(IF($C990=\"\",\"\",IF(VLOOKUP($D990,site!$B:$F,5,0)=\"\",\"-\",VLOOKUP($D990,site!$B:$F,5,0))),IF($C990=\"\",\"\",IF(VLOOKUP($E990,site!$B:$F,4,0)=\"\",\"-\",VLOOKUP($E990,site!$B:$F,4,0))))","v":""},{"$f":"IFERROR(IF($C990=\"\",\"\",IF(VLOOKUP($D990,site!$B:$G,6,0)=\"\",\"-\",VLOOKUP($D990,site!$B:$G,6,0))),IF($C990=\"\",\"\",IF(VLOOKUP($E990,site!$B:$G,5,0)=\"\",\"-\",VLOOKUP($E990,site!$B:$G,5,0))))","v":""}]
[null,null,null,null,null,null,null,null,null,null,null,null,null,null,null,null,null,null,{"$f":"IFERROR(IF(C991=\"\",\"\",IF(VLOOKUP(D991,site!$B:$D,3,0)=\"\",\"-\",VLOOKUP(D991,site!$B:$D,3,0))),IF(C991=\"\",\"\",IF(VLOOKUP(E991,site!$C:$D,2,0)=\"\",\"-\",VLOOKUP(E991,site!$C:$D,2,0))))","v":""},{"$f":"IFERROR(IF($C991=\"\",\"\",IF(VLOOKUP($D991,site!$B:$F,4,0)=\"\",\"-\",VLOOKUP($D991,site!$B:$F,4,0))),IF($C991=\"\",\"\",IF(VLOOKUP($E991,site!$B:$F,3,0)=\"\",\"-\",VLOOKUP($E991,site!$B:$F,3,0))))","v":""},{"$f":"IFERROR(IF($C991=\"\",\"\",IF(VLOOKUP($D991,site!$B:$F,5,0)=\"\",\"-\",VLOOKUP($D991,site!$B:$F,5,0))),IF($C991=\"\",\"\",IF(VLOOKUP($E991,site!$B:$F,4,0)=\"\",\"-\",VLOOKUP($E991,site!$B:$F,4,0))))","v":""},{"$f":"IFERROR(IF($C991=\"\",\"\",IF(VLOOKUP($D991,site!$B:$G,6,0)=\"\",\"-\",VLOOKUP($D991,site!$B:$G,6,0))),IF($C991=\"\",\"\",IF(VLOOKUP($E991,site!$B:$G,5,0)=\"\",\"-\",VLOOKUP($E991,site!$B:$G,5,0))))","v":""}]
[null,null,null,null,null,null,null,null,null,null,null,null,null,null,null,null,null,null,{"$f":"IFERROR(IF(C992=\"\",\"\",IF(VLOOKUP(D992,site!$B:$D,3,0)=\"\",\"-\",VLOOKUP(D992,site!$B:$D,3,0))),IF(C992=\"\",\"\",IF(VLOOKUP(E992,site!$C:$D,2,0)=\"\",\"-\",VLOOKUP(E992,site!$C:$D,2,0))))","v":""},{"$f":"IFERROR(IF($C992=\"\",\"\",IF(VLOOKUP($D992,site!$B:$F,4,0)=\"\",\"-\",VLOOKUP($D992,site!$B:$F,4,0))),IF($C992=\"\",\"\",IF(VLOOKUP($E992,site!$B:$F,3,0)=\"\",\"-\",VLOOKUP($E992,site!$B:$F,3,0))))","v":""},{"$f":"IFERROR(IF($C992=\"\",\"\",IF(VLOOKUP($D992,site!$B:$F,5,0)=\"\",\"-\",VLOOKUP($D992,site!$B:$F,5,0))),IF($C992=\"\",\"\",IF(VLOOKUP($E992,site!$B:$F,4,0)=\"\",\"-\",VLOOKUP($E992,site!$B:$F,4,0))))","v":""},{"$f":"IFERROR(IF($C992=\"\",\"\",IF(VLOOKUP($D992,site!$B:$G,6,0)=\"\",\"-\",VLOOKUP($D992,site!$B:$G,6,0))),IF($C992=\"\",\"\",IF(VLOOKUP($E992,site!$B:$G,5,0)=\"\",\"-\",VLOOKUP($E992,site!$B:$G,5,0))))","v":""}]
[null,null,null,null,null,null,null,null,null,null,null,null,null,null,null,null,null,null,{"$f":"IFERROR(IF(C993=\"\",\"\",IF(VLOOKUP(D993,site!$B:$D,3,0)=\"\",\"-\",VLOOKUP(D993,site!$B:$D,3,0))),IF(C993=\"\",\"\",IF(VLOOKUP(E993,site!$C:$D,2,0)=\"\",\"-\",VLOOKUP(E993,site!$C:$D,2,0))))","v":""},{"$f":"IFERROR(IF($C993=\"\",\"\",IF(VLOOKUP($D993,site!$B:$F,4,0)=\"\",\"-\",VLOOKUP($D993,site!$B:$F,4,0))),IF($C993=\"\",\"\",IF(VLOOKUP($E993,site!$B:$F,3,0)=\"\",\"-\",VLOOKUP($E993,site!$B:$F,3,0))))","v":""},{"$f":"IFERROR(IF($C993=\"\",\"\",IF(VLOOKUP($D993,site!$B:$F,5,0)=\"\",\"-\",VLOOKUP($D993,site!$B:$F,5,0))),IF($C993=\"\",\"\",IF(VLOOKUP($E993,site!$B:$F,4,0)=\"\",\"-\",VLOOKUP($E993,site!$B:$F,4,0))))","v":""},{"$f":"IFERROR(IF($C993=\"\",\"\",IF(VLOOKUP($D993,site!$B:$G,6,0)=\"\",\"-\",VLOOKUP($D993,site!$B:$G,6,0))),IF($C993=\"\",\"\",IF(VLOOKUP($E993,site!$B:$G,5,0)=\"\",\"-\",VLOOKUP($E993,site!$B:$G,5,0))))","v":""}]
[null,null,null,null,null,null,null,null,null,null,null,null,null,null,null,null,null,null,{"$f":"IFERROR(IF(C994=\"\",\"\",IF(VLOOKUP(D994,site!$B:$D,3,0)=\"\",\"-\",VLOOKUP(D994,site!$B:$D,3,0))),IF(C994=\"\",\"\",IF(VLOOKUP(E994,site!$C:$D,2,0)=\"\",\"-\",VLOOKUP(E994,site!$C:$D,2,0))))","v":""},{"$f":"IFERROR(IF($C994=\"\",\"\",IF(VLOOKUP($D994,site!$B:$F,4,0)=\"\",\"-\",VLOOKUP($D994,site!$B:$F,4,0))),IF($C994=\"\",\"\",IF(VLOOKUP($E994,site!$B:$F,3,0)=\"\",\"-\",VLOOKUP($E994,site!$B:$F,3,0))))","v":""},{"$f":"IFERROR(IF($C994=\"\",\"\",IF(VLOOKUP($D994,site!$B:$F,5,0)=\"\",\"-\",VLOOKUP($D994,site!$B:$F,5,0))),IF($C994=\"\",\"\",IF(VLOOKUP($E994,site!$B:$F,4,0)=\"\",\"-\",VLOOKUP($E994,site!$B:$F,4,0))))","v":""},{"$f":"IFERROR(IF($C994=\"\",\"\",IF(VLOOKUP($D994,site!$B:$G,6,0)=\"\",\"-\",VLOOKUP($D994,site!$B:$G,6,0))),IF($C994=\"\",\"\",IF(VLOOKUP($E994,site!$B:$G,5,0)=\"\",\"-\",VLOOKUP($E994,site!$B:$G,5,0))))","v":""}]
[null,null,null,null,null,null,null,null,null,null,null,null,null,null,null,null,null,null,{"$f":"IFERROR(IF(C995=\"\",\"\",IF(VLOOKUP(D995,site!$B:$D,3,0)=\"\",\"-\",VLOOKUP(D995,site!$B:$D,3,0))),IF(C995=\"\",\"\",IF(VLOOKUP(E995,site!$C:$D,2,0)=\"\",\"-\",VLOOKUP(E995,site!$C:$D,2,0))))","v":""},{"$f":"IFERROR(IF($C995=\"\",\"\",IF(VLOOKUP($D995,site!$B:$F,4,0)=\"\",\"-\",VLOOKUP($D995,site!$B:$F,4,0))),IF($C995=\"\",\"\",IF(VLOOKUP($E995,site!$B:$F,3,0)=\"\",\"-\",VLOOKUP($E995,site!$B:$F,3,0))))","v":""},{"$f":"IFERROR(IF($C995=\"\",\"\",IF(VLOOKUP($D995,site!$B:$F,5,0)=\"\",\"-\",VLOOKUP($D995,site!$B:$F,5,0))),IF($C995=\"\",\"\",IF(VLOOKUP($E995,site!$B:$F,4,0)=\"\",\"-\",VLOOKUP($E995,site!$B:$F,4,0))))","v":""},{"$f":"IFERROR(IF($C995=\"\",\"\",IF(VLOOKUP($D995,site!$B:$G,6,0)=\"\",\"-\",VLOOKUP($D995,site!$B:$G,6,0))),IF($C995=\"\",\"\",IF(VLOOKUP($E995,site!$B:$G,5,0)=\"\",\"-\",VLOOKUP($E995,site!$B:$G,5,0))))","v":""}]
[null,null,null,null,null,null,null,null,null,null,null,null,null,null,null,null,null,null,{"$f":"IFERROR(IF(C996=\"\",\"\",IF(VLOOKUP(D996,site!$B:$D,3,0)=\"\",\"-\",VLOOKUP(D996,site!$B:$D,3,0))),IF(C996=\"\",\"\",IF(VLOOKUP(E996,site!$C:$D,2,0)=\"\",\"-\",VLOOKUP(E996,site!$C:$D,2,0))))","v":""},{"$f":"IFERROR(IF($C996=\"\",\"\",IF(VLOOKUP($D996,site!$B:$F,4,0)=\"\",\"-\",VLOOKUP($D996,site!$B:$F,4,0))),IF($C996=\"\",\"\",IF(VLOOKUP($E996,site!$B:$F,3,0)=\"\",\"-\",VLOOKUP($E996,site!$B:$F,3,0))))","v":""},{"$f":"IFERROR(IF($C996=\"\",\"\",IF(VLOOKUP($D996,site!$B:$F,5,0)=\"\",\"-\",VLOOKUP($D996,site!$B:$F,5,0))),IF($C996=\"\",\"\",IF(VLOOKUP($E996,site!$B:$F,4,0)=\"\",\"-\",VLOOKUP($E996,site!$B:$F,4,0))))","v":""},{"$f":"IFERROR(IF($C996=\"\",\"\",IF(VLOOKUP($D996,site!$B:$G,6,0)=\"\",\"-\",VLOOKUP($D996,site!$B:$G,6,0))),IF($C996=\"\",\"\",IF(VLOOKUP($E996,site!$B:$G,5,0)=\"\",\"-\",VLOOKUP($E996,site!$B:$G,5,0))))","v":""}]
[null,null,null,null,null,null,null,null,null,null,null,null,null,null,null,null,null,null,{"$f":"IFERROR(IF(C997=\"\",\"\",IF(VLOOKUP(D997,site!$B:$D,3,0)=\"\",\"-\",VLOOKUP(D997,site!$B:$D,3,0))),IF(C997=\"\",\"\",IF(VLOOKUP(E997,site!$C:$D,2,0)=\"\",\"-\",VLOOKUP(E997,site!$C:$D,2,0))))","v":""},{"$f":"IFERROR(IF($C997=\"\",\"\",IF(VLOOKUP($D997,site!$B:$F,4,0)=\"\",\"-\",VLOOKUP($D997,site!$B:$F,4,0))),IF($C997=\"\",\"\",IF(VLOOKUP($E997,site!$B:$F,3,0)=\"\",\"-\",VLOOKUP($E997,site!$B:$F,3,0))))","v":""},{"$f":"IFERROR(IF($C997=\"\",\"\",IF(VLOOKUP($D997,site!$B:$F,5,0)=\"\",\"-\",VLOOKUP($D997,site!$B:$F,5,0))),IF($C997=\"\",\"\",IF(VLOOKUP($E997,site!$B:$F,4,0)=\"\",\"-\",VLOOKUP($E997,site!$B:$F,4,0))))","v":""},{"$f":"IFERROR(IF($C997=\"\",\"\",IF(VLOOKUP($D997,site!$B:$G,6,0)=\"\",\"-\",VLOOKUP($D997,site!$B:$G,6,0))),IF($C997=\"\",\"\",IF(VLOOKUP($E997,site!$B:$G,5,0)=\"\",\"-\",VLOOKUP($E997,site!$B:$G,5,0))))","v":""}]
[null,null,null,null,null,null,null,null,null,null,null,null,null,null,null,null,null,null,{"$f":"IFERROR(IF(C998=\"\",\"\",IF(VLOOKUP(D998,site!$B:$D,3,0)=\"\",\"-\",VLOOKUP(D998,site!$B:$D,3,0))),IF(C998=\"\",\"\",IF(VLOOKUP(E998,site!$C:$D,2,0)=\"\",\"-\",VLOOKUP(E998,site!$C:$D,2,0))))","v":""},{"$f":"IFERROR(IF($C998=\"\",\"\",IF(VLOOKUP($D998,site!$B:$F,4,0)=\"\",\"-\",VLOOKUP($D998,site!$B:$F,4,0))),IF($C998=\"\",\"\",IF(VLOOKUP($E998,site!$B:$F,3,0)=\"\",\"-\",VLOOKUP($E998,site!$B:$F,3,0))))","v":""},{"$f":"IFERROR(IF($C998=\"\",\"\",IF(VLOOKUP($D998,site!$B:$F,5,0)=\"\",\"-\",VLOOKUP($D998,site!$B:$F,5,0))),IF($C998=\"\",\"\",IF(VLOOKUP($E998,site!$B:$F,4,0)=\"\",\"-\",VLOOKUP($E998,site!$B:$F,4,0))))","v":""},{"$f":"IFERROR(IF($C998=\"\",\"\",IF(VLOOKUP($D998,site!$B:$G,6,0)=\"\",\"-\",VLOOKUP($D998,site!$B:$G,6,0))),IF($C998=\"\",\"\",IF(VLOOKUP($E998,site!$B:$G,5,0)=\"\",\"-\",VLOOKUP($E998,site!$B:$G,5,0))))","v":""}]
[null,null,null,null,null,null,null,null,null,null,null,null,null,null,null,null,null,null,{"$f":"IFERROR(IF(C999=\"\",\"\",IF(VLOOKUP(D999,site!$B:$D,3,0)=\"\",\"-\",VLOOKUP(D999,site!$B:$D,3,0))),IF(C999=\"\",\"\",IF(VLOOKUP(E999,site!$C:$D,2,0)=\"\",\"-\",VLOOKUP(E999,site!$C:$D,2,0))))","v":""},{"$f":"IFERROR(IF($C999=\"\",\"\",IF(VLOOKUP($D999,site!$B:$F,4,0)=\"\",\"-\",VLOOKUP($D999,site!$B:$F,4,0))),IF($C999=\"\",\"\",IF(VLOOKUP($E999,site!$B:$F,3,0)=\"\",\"-\",VLOOKUP($E999,site!$B:$F,3,0))))","v":""},{"$f":"IFERROR(IF($C999=\"\",\"\",IF(VLOOKUP($D999,site!$B:$F,5,0)=\"\",\"-\",VLOOKUP($D999,site!$B:$F,5,0))),IF($C999=\"\",\"\",IF(VLOOKUP($E999,site!$B:$F,4,0)=\"\",\"-\",VLOOKUP($E999,site!$B:$F,4,0))))","v":""},{"$f":"IFERROR(IF($C999=\"\",\"\",IF(VLOOKUP($D999,site!$B:$G,6,0)=\"\",\"-\",VLOOKUP($D999,site!$B:$G,6,0))),IF($C999=\"\",\"\",IF(VLOOKUP($E999,site!$B:$G,5,0)=\"\",\"-\",VLOOKUP($E999,site!$B:$G,5,0))))","v":""}]
[null,null,null,null,null,null,null,null,null,null,null,null,null,null,null,null,null,null,{"$f":"IFERROR(IF(C1000=\"\",\"\",IF(VLOOKUP(D1000,site!$B:$D,3,0)=\"\",\"-\",VLOOKUP(D1000,site!$B:$D,3,0))),IF(C1000=\"\",\"\",IF(VLOOKUP(E1000,site!$C:$D,2,0)=\"\",\"-\",VLOOKUP(E1000,site!$C:$D,2,0))))","v":""},{"$f":"IFERROR(IF($C1000=\"\",\"\",IF(VLOOKUP($D1000,site!$B:$F,4,0)=\"\",\"-\",VLOOKUP($D1000,site!$B:$F,4,0))),IF($C1000=\"\",\"\",IF(VLOOKUP($E1000,site!$B:$F,3,0)=\"\",\"-\",VLOOKUP($E1000,site!$B:$F,3,0))))","v":""},{"$f":"IFERROR(IF($C1000=\"\",\"\",IF(VLOOKUP($D1000,site!$B:$F,5,0)=\"\",\"-\",VLOOKUP($D1000,site!$B:$F,5,0))),IF($C1000=\"\",\"\",IF(VLOOKUP($E1000,site!$B:$F,4,0)=\"\",\"-\",VLOOKUP($E1000,site!$B:$F,4,0))))","v":""},{"$f":"IFERROR(IF($C1000=\"\",\"\",IF(VLOOKUP($D1000,site!$B:$G,6,0)=\"\",\"-\",VLOOKUP($D1000,site!$B:$G,6,0))),IF($C1000=\"\",\"\",IF(VLOOKUP($E1000,site!$B:$G,5,0)=\"\",\"-\",VLOOKUP($E1000,site!$B:$G,5,0))))","v":""}]

{"sheet":"ARCHIVIO","index":11,"n_rows":1065,"n_cols":22,"rows_kept":1065,"cut":false,"hidden":false,"merged":[]}
["DATE","TIME","LEAGUE","HOME","AWAY","HT","ST","FT","HT","HT","ST","ST","FT","FT","FT","GOAL 1","GOAL 2","GOAL 3","RESULT","ODDS 1","ODDS X","ODDS 2"]
["23-08-2020","00:00:00","Brazil - Serie A","Internacional ","Atletico MG ","NB","NB","NB","-","-","-","-","1.5 O (FT)","-","-","NB","NB","NB","1:0 (1:0) ","-","-","-"]
["23-08-2020","00:00:00","Brazil - Serie B","CRB AL ","Vitoria ","X","X","W2","-","-","-","-","-","-","-","CRB AL ","Vitoria ","Vitoria ","2:2 (1:0) ","-","-","-"]
["23-08-2020","00:00:00","Mexico Primera Division","Atlas ","Queretaro ","X","X","X","-","-","-","-","1.5 O (FT)","-","-","Atlas ","Atlas ","-","1:0 (1:0) ","-","-","-"]
["23-08-2020","00:00:00","USA MLS","Los Angeles ","LA Galaxy ","W1","W1","X","0.5 O (HT)","-","0.5 O (ST)","-","1.5 O (FT)","-","-","Los Angeles ","LA Galaxy ","-","0:2 (0:1) ","-","-","-"]
["23-08-2020","00:30:00","Nicaragua Primera","Diriangen FC ","Walter Ferretti ","NB","NB","NB","-","-","-","-","-","-","-","NB","NB","NB","0:1 (0:0) ","-","-","-"]
["23-08-2020","00:45:00","Ecuador Primera Division","Portoviejo ","Guayaquil City ","NB","NB","NB","-","-","0.5 O (ST)","-","1.5 O (FT)","2.5 O (FT)","-","NB","NB","NB","3:1 (1:0) ","-","-","-"]
["23-08-2020","01:00:00","Morocco Botola","Olympique de Safi ","Rapide Oued Zem ","NB","NB","NB","-","-","-","-","-","-","-","NB","NB","NB","1:0 (1:0) ","-","-","-"]
["23-08-2020","01:00:00","Morocco Botola","Hassania Agadir ","Youssoufia Berrechid ","NB","NB","NB","-","-","-","-","-","-","-","NB","NB","NB","2:0 (0:0) ","-","-","-"]
["23-08-2020","01:00:00","Paraguay Primera Division","River Plate PAR ","Libertad ","X","X","W1","-","-","-","-","-","-","-","-","Libertad ","River Plate PAR ","1:2 (1:1) ","-","-","-"]
["23-08-2020","01:00:00","USA MLS","Atlanta ","Nashville ","NB","NB","NB","0.5 O (HT)","-","0.5 O (ST)","-","1.5 O (FT)","-","-","NB","NB","NB","2:0 (1:0) ","-","-","-"]
["23-08-2020","01:00:00","USA USL","Pittsburgh II ","Saint Louis ","NB","NB","NB","0.5 O (HT)","-","-","-","-","-","-","NB","NB","NB","2:2 (2:1) ","-","-","-"]
["23-08-2020","01:30:00","Ecuador Primera Division","Aucas ","LDU Quito ","W1","W2","W2","-","-","-","-","1.5 O (FT)","-","-","Aucas ","LDU Quito ","Aucas ","2:0 (2:0) ","-","-","-"]
["23-08-2020","01:30:00","USA USL","Tampa Bay ","Atlanta Utd  ","NB","NB","NB","NB","NB","NB","NB","NB","NB","NB","NB","NB","NB","2:1 (2:0) ","-","-","-"]
["23-08-2020","01:30:00","USA USL","Birmingham Legion FC ","Memphis ","NB","NB","NB","-","-","0.5 O (ST)","-","1.5 O (FT)","-","-","NB","NB","NB","2:2 (1:2) ","-","-","-"]
["23-08-2020","02:00:00","Brazil - Serie A","Goias ","Atletico GO ","NB","NB","NB","-","-","-","-","1.5 O (FT)","-","-","NB","NB","NB","2:0 (1:0) ","-","-","-"]
["23-08-2020","02:00:00","Costa Rica Primera Division","Santos de G ","Herediano ","NB","NB","NB","-","-","0.5 O (ST)","1.5 O (ST)","1.5 O (FT)","2.5 O (FT)","-","NB","NB","NB","1:1 (0:0) ","-","-","-"]
["23-08-2020","02:00:00","Mexico Primera Division","Tigres ","Unam Pumas ","W2","W1","W1","-","-","0.5 O (ST)","-","-","-","-","Unam Pumas ","Tigres ","Tigres ","1:1 (0:0) ","-","-","-"]
["23-08-2020","02:00:00","USA MLS","Inter Miami CF ","Orlando ","NB","NB","NB","-","-","0.5 O (ST)","-","-","-","-","NB","NB","NB","3:2 (2:1) ","-","-","-"]
["23-08-2020","02:00:00","USA USL","Colorado Springs Sw. ","El Paso ","NB","NB","NB","-","-","0.5 O (ST)","-","1.5 O (FT)","-","-","NB","NB","NB","0:0 (0:0) ","-","-","-"]
["23-08-2020","02:00:00","USA USL","Kansas City II ","OKC Energy FC ","NB","NB","NB","-","1.5 O (HT)","-","-","1.5 O (FT)","-","-","NB","NB","NB","3:0 (2:0) ","-","-","-"]
["23-08-2020","03:00:00","USA MLS","Colorado ","Salt Lake ","X","W2","W1","-","-","0.5 O (ST)","1.5 O (ST)","1.5 O (FT)","-","-","Salt Lake ","Salt Lake ","Salt Lake ","1:4 (1:0) ","-","-","-"]
["23-08-2020","03:00:00","USA USL","San Diego Loyal SC ","Reno FC ","NB","NB","NB","-","-","-","-","-","-","-","NB","NB","NB","1:3 (0:1) ","-","-","-"]
["23-08-2020","03:00:00","USA USL","Rio Grande Valley ","Austin Bold ","X","W1","X","-","-","-","-","-","-","-","Austin Bold ","Rio Grande Valley ","Rio Grande Valley ","2:3 (0:2) ","-","-","-"]
["23-08-2020","03:00:00","USA USL","Las Vegas Lights ","Phoenix Rising ","NB","NB","NB","-","-","-","-","-","-","-","NB","NB","NB","3:3 (0:1) ","-","-","-"]
["23-08-2020","03:00:00","USA USL","LA Galaxy II ","Orange County ","W1","W1","W1","-","-","-","-","-","-","-","LA Galaxy II ","LA Galaxy II ","-","1:2 (1:1) ","-","-","-"]
["23-08-2020","03:00:00","USA USL","San Antonio ","Tulsa ","NB","NB","NB","-","-","0.5 O (ST)","-","-","-","-","NB","NB","NB","2:0 (1:0) ","-","-","-"]
["23-08-2020","04:00:00","Costa Rica Primera Division","LD Alajuelense ","Guadalupe FC ","X","W2","W1","-","-","-","-","1.5 O (FT)","-","-","Guadalupe FC ","Guadalupe FC ","Guadalupe FC ","0:1 (0:0) ","-","-","-"]
["23-08-2020","04:00:00","Mexico Primera Division","America ","Monterrey ","W1","W2","W2","-","-","0.5 O (ST)","-","1.5 O (FT)","2.5 O (FT)","-","America ","Monterrey ","Monterrey ",{"$error":"#N/A"},{"$error":"#N/A"},{"$error":"#N/A"},{"$error":"#N/A"}]
["23-08-2020","04:00:00","Nicaragua Primera","Esteli ","Art Municipal Jalapa ","X","W1","W1","-","-","-","-","-","-","-","Art Municipal Jalapa ","-","-","2:1 (0:1) ","-","-","-"]
["23-08-2020","04:00:00","Nicaragua Primera","Managua FC ","Juventus Managua ","W1","W2","W1","-","-","-","-","-","-","-","Managua FC ","Juventus Managua ","-","0:1 (0:0) ","-","-","-"]
["23-08-2020","04:00:00","USA USL","Real Monarchs ","New Mexico ","NB","NB","NB","-","-","0.5 O (ST)","-","1.5 O (FT)","-","-","NB","NB","NB","1:2 (0:1) ","-","-","-"]
["23-08-2020","05:00:00","USA USL","Sacramento Republic ","Portland Timbers II ","X","X","X","-","-","-","-","-","-","-","Sacramento Republic ","-","-","2:1 (0:1) ","-","-","-"]
["23-08-2020","06:00:00","Japan J. League 3","Hachnohe ","Kamatamare S ","NB","NB","NB","-","-","0.5 O (ST)","-","-","-","-","NB","NB","NB","2:4 (2:1) ","-","-","-"]
["23-08-2020","06:30:00","Australia NPL Northern New South","Valentine ","Edgeworth ","NB","NB","NB","-","-","0.5 O (ST)","-","-","-","-","NB","NB","NB","0:2 (0:0) ","-","-","-"]
["23-08-2020","06:30:00","Australia NPL Northern New South","Weston ","Lake Macquarie ","X","W2","W2","-","-","0.5 O (ST)","-","-","-","-","-","Lake Macquarie ","Lake Macquarie ","3:1 (1:1) ","-","-","-"]
["23-08-2020","06:30:00","Australia NPL Northern New South","Newcastle Ol. ","Charlestown Azz. ","NB","NB","NB","-","-","0.5 O (ST)","-","-","-","-","NB","NB","NB","1:3 (0:2) ","-","-","-"]
["23-08-2020","07:00:00","Australia NPL Capital Football","Cooma ","Woden Weston ","NB","NB","NB","0.5 O (HT)","-","-","-","-","-","-","NB","NB","NB","0:1 (0:1) ","-","-","-"]
["23-08-2020","07:15:00","Australia NPL Capital Football","Canberra ","Belconnen ","NB","NB","NB","-","-","-","-","-","-","-","NB","NB","NB","3:2 (0:1) ","-","-","-"]
["23-08-2020","08:00:00","Japan J. League 3","Imabari ","Kataller T ","NB","NB","NB","-","-","-","-","1.5 O (FT)","-","-","NB","NB","NB","0:3 (0:1) ","-","-","-"]
["23-08-2020","09:00:00","Australia NPL Queensland","Gold Coast Utd ","Redlands Utd ","NB","NB","NB","0.5 O (HT)","1.5 O (HT)","0.5 O (ST)","-","1.5 O (FT)","2.5 O (FT)","-","NB","NB","NB","0:1 (0:0) ","-","-","-"]
["23-08-2020","10:00:00","Australia A-League","Brisbane Roar ","Western United ","NB","NB","NB","-","-","-","-","-","-","-","NB","NB","NB","0:1 (0:1) ","-","-","-"]
["23-08-2020","10:00:00","Japan J. League 3","YSCC Yokohama ","Gainare T ","NB","NB","NB","-","-","-","-","1.5 O (FT)","2.5 O (FT)","-","NB","NB","NB","1:1 (0:0) ","-","-","-"]
["23-08-2020","11:00:00","Russia PFL West","Chita ","Znamya ","NB","NB","NB","0.5 O (HT)","-","-","-","1.5 O (FT)","-","-","NB","NB","NB","1:3 (0:1) ","-","-","-"]
["23-08-2020","11:00:00","Russia PFL West","Zenit Irkutsk ","Kolomna ","NB","NB","NB","0.5 O (HT)","-","-","-","1.5 O (FT)","-","-","NB","NB","NB","4:0 (1:0) ","-","-","-"]
["23-08-2020","11:00:00","Japan - J. League","Nagoya ","Kawasaki ","X","X","W2","-","-","0.5 O (ST)","1.5 O (ST)","1.5 O (FT)","-","-","Kawasaki ","Kawasaki ","Kawasaki ","1:0 (1:0) ","-","-","-"]
["23-08-2020","11:00:00","Japan - J. League","Tosu ","Sapporo ","X","X","X","-","-","0.5 O (ST)","-","1.5 O (FT)","-","-","Tosu ","-","Tosu ","Postponed ","-","-","-"]
["23-08-2020","11:00:00","Japan - J. League 2","Montedio ","Ventforet ","X","W2","W2","-","-","0.5 O (ST)","-","-","-","-","-","Ventforet ","Ventforet ","3:1 (1:1) ","-","-","-"]
["23-08-2020","11:00:00","Japan - J. League 2","Niigata ","Ryukyu ","W1","W1","W1","-","-","0.5 O (ST)","1.5 O (ST)","1.5 O (FT)","-","-","Niigata ","Niigata ","Niigata ","1:0 (1:0) ","-","-","-"]
["23-08-2020","11:00:00","Japan - J. League 2","Tochigi ","Avispa F ","W2","W1","W1","-","-","-","-","-","-","-","Avispa F ","Tochigi ","Tochigi ","0:1 (0:1) ","-","-","-"]
["23-08-2020","11:00:00","Myanmar National League","Yadanarbon ","Ispe Fc ","NB","NB","NB","-","-","-","-","1.5 O (FT)","-","-","NB","NB","NB","4:0 (0:0) ","-","-","-"]
["23-08-2020","11:00:00","Myanmar National League","Ayeyawady ","Rakhine Utd ","NB","NB","NB","-","-","-","-","-","-","-","NB","NB","NB","4:0 (2:0) ","-","-","-"]
["23-08-2020","11:00:00","South Korea - K-League","Jeonbuk ","Sangju Sangmu ","W1","W1","W1","-","-","0.5 O (ST)","-","1.5 O (FT)","2.5 O (FT)","-","Jeonbuk ","Jeonbuk ","Jeonbuk ","2:1 (1:1) ","-","-","-"]
["23-08-2020","11:30:00","Japan - J. League 2","Jubilo I ","Zweigen K ","NB","NB","NB","-","-","-","-","-","-","-","NB","NB","NB","6:0 (1:0) ","-","-","-"]
["23-08-2020","11:30:00","Japan - J. League 2","Kyoto Sanga ","Matsumoto ","X","W2","W2","-","-","0.5 O (ST)","-","1.5 O (FT)","-","-","Kyoto Sanga ","Kyoto Sanga ","Matsumoto ","2:2 (1:0) ","-","-","-"]
["23-08-2020","12:00:00","Russia PFL Ural","Novosibirsk ","FC Tyumen ","W1","X","W1","-","-","-","-","-","-","-","Novosibirsk ","FC Tyumen ","Novosibirsk ","1:1 (1:1) ","-","-","-"]
["23-08-2020","12:00:00","Russia PFL Ural","Dynamo Barnaul ","FC Zvezda Perm ","NB","NB","NB","-","-","0.5 O (ST)","-","1.5 O (FT)","-","-","NB","NB","NB","1:1 (1:0) ","-","-","-"]
["23-08-2020","12:00:00","Russia PFL Ural","Orenburg- ","Chelyabinsk ","NB","NB","NB","NB","NB","NB","NB","NB","NB","NB","NB","NB","NB","1:3 (1:0) ",{"$error":"#N/A"},{"$error":"#N/A"},{"$error":"#N/A"}]
["23-08-2020","12:00:00","Belarus Vysshaya Liga Women","Botsor Brest W ","Zorka-BDU W ","NB","NB","NB","-","-","-","-","-","-","-","NB","NB","NB","0:9 (0:4) ","-","-","-"]
["23-08-2020","12:00:00","Japan - J. League","Tokyo ","Shonan ","NB","NB","NB","-","-","0.5 O (ST)","-","1.5 O (FT)","-","-","NB","NB","NB","3:0 (1:0) ","-","-","-"]
["23-08-2020","12:00:00","Japan - J. League","Kashima ","Gamba ","X","W1","W1","-","-","0.5 O (ST)","-","1.5 O (FT)","-","-","Kashima ","Kashima ","Kashima ","1:1 (0:1) ","-","-","-"]
["23-08-2020","12:00:00","Japan - J. League","Oita ","Kashiwa ","X","X","X","-","-","0.5 O (ST)","1.5 O (ST)","1.5 O (FT)","2.5 O (FT)","-","Kashiwa ","Kashiwa ","Kashiwa ","0:0 (0:0) ","-","-","-"]
["23-08-2020","12:00:00","Japan - J. League","Yokohama Marinos ","Hiroshima ","X","W2","W2","-","-","0.5 O (ST)","-","1.5 O (FT)","-","-","Hiroshima ","Hiroshima ","Yokohama Marinos ","3:1 (1:0) ","-","-","-"]
["23-08-2020","12:00:00","Japan - J. League","Urawa ","Kobe ","W1","X","W1","-","-","0.5 O (ST)","1.5 O (ST)","1.5 O (FT)","-","-","Urawa ","Urawa ","Urawa ","1:2 (1:1) ","-","-","-"]
["23-08-2020","12:00:00","Japan - J. League","Cerezo ","Sendai ","X","W1","X","-","-","0.5 O (ST)","-","1.5 O (FT)","-","-","Sendai ","Cerezo ","Sendai ","2:1 (1:1) ","-","-","-"]
["23-08-2020","12:00:00","Japan - J. League 2","Ichihara Chiba ","Tokushima V ","W2","W1","W1","0.5 O (HT)","-","0.5 O (ST)","-","1.5 O (FT)","-","-","Ichihara Chiba ","Ichihara Chiba ","Ichihara Chiba ","1:2 (1:0) ","-","-","-"]
["23-08-2020","12:00:00","Japan - J. League 2","Mito H ","V-Varen ","X","X","X","-","-","-","-","-","-","-","-","Mito H ","V-Varen ","2:3 (2:1) ","-","-","-"]
["23-08-2020","12:00:00","Japan - J. League 2","Giravanz K ","Tokyo V ","W2","X","W1","-","-","-","-","1.5 O (FT)","-","-","Tokyo V ","Giravanz K ","Giravanz K ","2:1 (1:1) ","-","-","-"]
["23-08-2020","12:00:00","South Korea - K-League Challenge","Jeju Utd ","Ansan Greeners ","NB","NB","NB","-","-","-","-","-","-","-","NB","NB","NB","3:1 (1:0) ","-","-","-"]
["23-08-2020","12:00:00","South Korea - K-League Challenge","Suwon City ","Seoul E-Land ","NB","NB","NB","-","-","-","-","-","-","-","NB","NB","NB","2:0 (0:0) ","-","-","-"]
["23-08-2020","12:30:00","Poland Ekstraklasa","Wisla Plock ","Stal Mielec ","NB","NB","NB","-","-","-","-","1.5 O (FT)","-","-","NB","NB","NB","1:1 (0:0) ","-","-","-"]
["23-08-2020","13:00:00","Ukraine - Premier League","Ingulets ","SC Dnipro ","X","X","X","-","-","-","-","1.5 O (FT)","-","-","-","-","-","1:1 (1:1) ","-","-","-"]
["23-08-2020","13:00:00","France Ligue 1","Monaco ","Reims ","W1","W2","X","0.5 O (HT)","-","-","-","1.5 O (FT)","-","-","Monaco ","Reims ","Monaco ","2:2 (1:2) ","-","-","-"]
["23-08-2020","13:00:00","Russia PFL West","Zenit II ","Rodina Moscow ","NB","NB","NB","0.5 O (HT)","-","0.5 O (ST)","-","1.5 O (FT)","-","-","NB","NB","NB","1:2 (0:1) ","-","-","-"]
["23-08-2020","13:00:00","Russia PFL Ural","Lada Togliatti ","KamAZ ","W1","X","W1","-","-","-","-","1.5 O (FT)","2.5 O (FT)","-","-","Lada Togliatti ","KamAZ ","1:4 (1:4) ","-","-","-"]
["23-08-2020","13:00:00","Russia PFL Center","Khimik-Arsenal ","Kaluga ","X","W1","W1","-","-","0.5 O (ST)","-","1.5 O (FT)","-","-","Khimik-Arsenal ","Khimik-Arsenal ","Khimik-Arsenal ","1:0 (1:0) ","-","-","-"]
["23-08-2020","13:00:00","Russia PFL Center","FC Khimki-M ","Sokol Saratov ","X","W2","W2","-","-","0.5 O (ST)","-","-","-","-","Sokol Saratov ","Sokol Saratov ","Sokol Saratov ","1:2 (0:0) ","-","-","-"]
["23-08-2020","13:00:00","South Korea - K-League","Seongnam ","Ulsan Hyundai ","X","W2","W2","-","-","0.5 O (ST)","-","-","-","-","-","Ulsan Hyundai ","Seongnam ","1:2 (0:2) ","-","-","-"]
["23-08-2020","13:30:00","Belgium Pro League","Standard ","Genk ","X","X","X","-","-","-","-","1.5 O (FT)","-","-","Genk ","Standard ","Standard ","0:0 (0:0) ",{"$error":"#N/A"},{"$error":"#N/A"},{"$error":"#N/A"}]
["23-08-2020","13:30:00","Germany Regionalliga Northeast","Halberstadt ","Bischofswerdaer ","NB","NB","NB","-","-","-","-","1.5 O (FT)","-","-","NB","NB","NB","2:3 (1:2) ","-","-","-"]
["23-08-2020","13:30:00","Germany Regionalliga Northeast","BFC Dynamo ","Hertha II ","NB","NB","NB","-","-","0.5 O (ST)","1.5 O (ST)","1.5 O (FT)","2.5 O (FT)","3.5 O (FT)","NB","NB","NB","1:2 (1:1) ","-","-","-"]
["23-08-2020","14:00:00","Belarus Vysshaya Liga Women","Bobruichanka W ","Neman W ","NB","NB","NB","-","-","-","-","-","-","-","NB","NB","NB","1:4 (0:3) ","-","-","-"]
["23-08-2020","14:00:00","Latvia - Virsliga","Riga FC ","Tukums 000 ","NB","NB","NB","NB","NB","NB","NB","NB","NB","NB","NB","NB","NB","5:2 (3:0) ","-","-","-"]
["23-08-2020","14:00:00","Sweden Div 1","Team TG ","Frej ","NB","NB","NB","0.5 O (HT)","-","0.5 O (ST)","-","1.5 O (FT)","2.5 O (FT)","-","NB","NB","NB","1:2 (1:1) ","-","-","-"]
["23-08-2020","14:05:00","Germany Regionalliga Northeast","Lok Leipzig ","Berliner AK ","NB","NB","NB","0.5 O (HT)","-","0.5 O (ST)","1.5 O (ST)","1.5 O (FT)","-","-","NB","NB","NB","2:1 (0:1) ","-","-","-"]
["23-08-2020","14:05:00","Germany Regionalliga Northeast","Meuselwitz ","Cottbus ","W2","W1","W1","-","-","-","-","1.5 O (FT)","2.5 O (FT)","-","Cottbus ","Meuselwitz ","Meuselwitz ","2:0 (1:0) ","-","-","-"]
["23-08-2020","14:30:00","Sweden Allsvenskan","Malmo ","Falkenbergs ","X","W1","W1","0.5 O (HT)","-","-","-","1.5 O (FT)","-","-","Malmo ","Malmo ","Malmo ","2:1 (1:0) ","-","-","-"]
["23-08-2020","14:30:00","Sweden Allsvenskan","Elfsborg ","Ostersund ","W1","W1","W1","-","-","-","-","-","-","-","Elfsborg ","Ostersund ","Ostersund ","0:1 (0:0) ",{"$error":"#N/A"},{"$error":"#N/A"},{"$error":"#N/A"}]
["23-08-2020","14:30:00","Sweden Superettan","Jonkopings ","Vasteraas ","NB","NB","NB","0.5 O (HT)","-","-","-","1.5 O (FT)","-","-","NB","NB","NB","1:1 (0:0) ","-","-","-"]
["23-08-2020","15:00:00","Belarus Premier League","Slavia Mozyr ","Vitebsk ","X","X","X","-","-","-","-","-","-","-","-","-","-","1:1 (1:1) ","-","-","-"]
["23-08-2020","15:00:00","Poland Ekstraklasa","Warta Poznan ","KS Lechia ","NB","NB","NB","-","-","0.5 O (ST)","-","-","-","-","NB","NB","NB","0:1 (0:0) ",{"$error":"#N/A"},{"$error":"#N/A"},{"$error":"#N/A"}]
["23-08-2020","15:00:00","France Ligue 1","Nimes ","Brestois ","W1","W1","W1","-","-","-","-","-","-","-","Nimes ","Nimes ","Nimes ","4:0 (2:0) ","-","-","-"]
["23-08-2020","15:00:00","France Ligue 1","Lorient ","Strasbourg ","NB","NB","NB","-","-","-","-","-","-","-","NB","NB","NB","3:1 (0:1) ","-","-","-"]
["23-08-2020","15:00:00","Romania Liga I","CSMS Iasi ","C. Targoviste ","NB","NB","NB","-","-","0.5 O (ST)","1.5 O (ST)","1.5 O (FT)","-","-","NB","NB","NB","1:0 (1:0) ","-","-","-"]
["23-08-2020","15:00:00","Russia PFL West","FC Tver ","FC Smolensk ","W2","W1","W1","-","-","-","-","1.5 O (FT)","-","-","FC Smolensk ","FC Tver ","FC Tver ","2:0 (0:0) ","-","-","-"]
["23-08-2020","15:00:00","Russia PFL West","Zvezda SPb ","Tor. Vladimir ","X","W2","W2","0.5 O (HT)","-","0.5 O (ST)","-","1.5 O (FT)","-","-","-","Tor. Vladimir ","Tor. Vladimir ","1:0 (0:0) ","-","-","-"]
["23-08-2020","15:00:00","Russia PFL Ural","Nosta Novotroitsk ","Ural- ","NB","NB","NB","NB","NB","NB","NB","NB","NB","NB","NB","NB","NB","3:1 (3:1) ","-","-","-"]
["23-08-2020","15:00:00","Russia PFL Center","Strogino Moscow ","Saturn Ramenskoye ","W1","W1","W1","-","-","0.5 O (ST)","-","1.5 O (FT)","-","-","Saturn Ramenskoye ","Strogino Moscow ","Saturn Ramenskoye ","1:0 (1:0) ","-","-","-"]
["23-08-2020","15:00:00","Russia PFL South","Legion-Dynamo ","Anzhi Makhachkala ","NB","NB","NB","-","-","-","-","1.5 O (FT)","-","-","NB","NB","NB","4:1 (1:0) ","-","-","-"]
["24-08-2020","00:00:00","Brazil - Serie A","Sport Recife ","Sao Paulo ","W2","X","W2","-","-","-","-","-","-","-","Sao Paulo ","Sao Paulo ","Sao Paulo ","0:1 (0:1) ","-","-","-"]
["24-08-2020","00:30:00","Mexico Primera Division","Toluca ","G. Chivas ","X","W1","W1","-","-","-","-","-","-","-","G. Chivas ","Toluca ","Toluca ","1:0 (0:0) ","-","-","-"]
["24-08-2020","00:45:00","Nicaragua Primera","Chinandega FC ","CD Junior ","X","X","X","-","-","0.5 O (ST)","-","-","-","-","-","Chinandega FC ","Chinandega FC ","2:2 (0:0) ","-","-","-"]
["24-08-2020","01:00:00","Brazil - Serie A","Ceara ","Bahia BA ","X","W1","W1","-","-","0.5 O (ST)","-","-","-","-","Ceara ","Ceara ","Ceara ","2:0 (1:0) ","-","-","-"]
["24-08-2020","01:00:00","Brazil - Serie B","Confianca ","Cruzeiro MG ","X","X","X","-","-","-","-","-","-","-","Confianca ","Cruzeiro MG ","-","1:1 (1:1) ","-","-","-"]
["24-08-2020","01:00:00","Costa Rica Primera Division","Municipal Grecia ","Zeledon ","W1","X","W1","0.5 O (HT)","-","0.5 O (ST)","-","1.5 O (FT)","-","-","Municipal Grecia ","Zeledon ","Municipal Grecia ","3:1 (2:0) ","-","-","-"]
["24-08-2020","01:00:00","Ecuador Primera Division","Uni Catolica (ECU) ","El Nacional ","X","W1","X","-","-","0.5 O (ST)","-","1.5 O (FT)","-","-","Uni Catolica (ECU) ","Uni Catolica (ECU) ","Uni Catolica (ECU) ","1:1 (0:1) ","-","-","-"]
["24-08-2020","01:00:00","Morocco Botola","Far Rabat ","Mouloudia Oujda ","W2","W1","X","0.5 O (HT)","-","0.5 O (ST)","-","1.5 O (FT)","-","-","Mouloudia Oujda ","Far Rabat ","-","1:1 (0:1) ","-","-","-"]
["24-08-2020","01:00:00","Morocco Botola","Khemis Zemamra ","Wydad ","NB","NB","NB","-","-","-","-","1.5 O (FT)","-","-","NB","NB","NB","Postponed ","-","-","-"]
["24-08-2020","01:00:00","Nicaragua Primera","Ocotal ","Real Madriz ","W2","W1","X","-","-","-","-","-","-","-","Real Madriz ","Ocotal ","-","1:1 (0:1) ","-","-","-"]
["24-08-2020","01:00:00","Paraguay Primera Division","Sol de America ","Guairena ","W2","W1","W1","0.5 O (HT)","-","0.5 O (ST)","1.5 O (ST)","1.5 O (FT)","-","-","Guairena ","Sol de America ","Guairena ","2:1 (0:1) ","-","-","-"]
["24-08-2020","01:00:00","USA USL","New York R B II ","Philadelphia II ","NB","NB","NB","0.5 O (HT)","1.5 O (HT)","-","-","1.5 O (FT)","2.5 O (FT)","-","NB","NB","NB","Postponed ","-","-","-"]
["24-08-2020","01:00:00","USA USL","Miami ","Charlotte Ind. ","X","W1","W1","-","-","0.5 O (ST)","-","1.5 O (FT)","2.5 O (FT)","-","Miami ","Miami ","Charlotte Ind. ","2:1 (1:1) ","-","-","-"]
["24-08-2020","01:00:00","USA USL","Hartford ","Loudoun ","W2","W1","X","0.5 O (HT)","-","0.5 O (ST)","-","1.5 O (FT)","2.5 O (FT)","3.5 O (FT)","Loudoun ","-","Loudoun ","2:2 (0:1) ","-","-","-"]
["24-08-2020","01:30:00","Ecuador Primera Division","Barcelona Guayaquil ","Emelec ","X","W1","W1","-","-","0.5 O (ST)","1.5 O (ST)","1.5 O (FT)","2.5 O (FT)","-","Barcelona Guayaquil ","Emelec ","Barcelona Guayaquil ","2:1 (0:0) ","-","-","-"]
["24-08-2020","02:00:00","Costa Rica Primera Division","San Carlos ","Saprissa ","W1","X","X","-","-","-","-","-","-","-","-","Saprissa ","-","Postponed ","-","-","-"]
["24-08-2020","02:35:00","Mexico Primera Division","San Luis ","Cruz Azul ","W2","W2","W2","0.5 O (HT)","-","0.5 O (ST)","-","1.5 O (FT)","-","-","Cruz Azul ","Cruz Azul ","Cruz Azul ","1:3 (1:2) ","-","-","-"]
["24-08-2020","04:00:00","USA MLS","Portland ","Seattle ","X","W2","W2","-","-","0.5 O (ST)","-","1.5 O (FT)","2.5 O (FT)","-","-","Seattle ","Seattle ","0:3 (0:0) ","-","-","-"]
["24-08-2020","04:06:00","Mexico Primera Division","Tijuana ","Puebla ","W1","W2","W1","0.5 O (HT)","-","-","-","1.5 O (FT)","-","-","Tijuana ","Puebla ","Tijuana ","1:0 (1:0) ","-","-","-"]
["24-08-2020","12:30:00","South Korea - K-League Challenge","FC Anyang ","Daejeon Citizen ","X","X","X","-","-","-","1.5 O (ST)","1.5 O (FT)","-","-","FC Anyang ","Daejeon Citizen ","Daejeon Citizen ","0:0 (0:0) ","-","-","-"]
["24-08-2020","13:00:00","Intenational Club Friendlies","Austria Lustenau ","Werder Bremen ","W2","X","W2","0.5 O (HT)","1.5 O (HT)","0.5 O (ST)","-","1.5 O (FT)","2.5 O (FT)","-","Werder Bremen ","Werder Bremen ","Austria Lustenau ","2:4 (0:2) ","-","-","-"]
["24-08-2020","14:00:00","China Super League","Jiangsu Sainty ","Shenzhen FC ","W1","W2","W1","0.5 O (HT)","-","0.5 O (ST)","-","1.5 O (FT)","-","-","Jiangsu Sainty ","Shenzhen FC ","-","1:1 (1:0) ","-","-","-"]
["24-08-2020","15:00:00","Russia PFL West","Kazanka Moscow ","Leningradets ","X","X","X","-","-","-","-","1.5 O (FT)","-","-","Leningradets ","Kazanka Moscow ","Leningradets ","1:1 (1:1) ","-","-","-"]
["24-08-2020","15:00:00","Russia PFL Ural","Lada Dm ","Z. Izhevsk ","X","W1","W1","-","-","0.5 O (ST)","-","1.5 O (FT)","-","-","Lada Dm ","Lada Dm ","Lada Dm ","2:0 (0:0) ","-","-","-"]
["24-08-2020","15:00:00","Armenia Premier League","Lori ","Van ","NB","NB","NB","0.5 O (HT)","-","-","-","-","-","-","NB","NB","NB","Postponed ","-","-","-"]
["24-08-2020","15:30:00","South Africa Premier Soccer League","Maritzburg ","Bidwest Wits ","X","X","X","-","-","-","-","-","-","-","Maritzburg ","Bidwest Wits ","-","0:0 (0:0) ","-","-","-"]
["24-08-2020","15:30:00","South Africa Premier Soccer League","AmaZulu ","Bloemfontein ","X","X","X","-","-","-","-","-","-","-","AmaZulu ","Bloemfontein ","-","2:2 (1:1) ","-","-","-"]
["24-08-2020","15:30:00","Uzbekistan Superleague","FK Kokand ","FC Andijon ","W1","X","W1","-","-","-","1.5 O (ST)","1.5 O (FT)","-","-","FK Kokand ","FK Kokand ","FK Kokand ","2:1 (1:0) ","-","-","-"]
["24-08-2020","15:30:00","Uzbekistan Superleague","Pakhtakor ","Lokomotiv ","W1","W1","W1","-","1.5 O (HT)","-","1.5 O (ST)","1.5 O (FT)","-","-","Pakhtakor ","Pakhtakor ","Pakhtakor ","7:0 (4:0) ","-","-","-"]
["24-08-2020","16:00:00","Uzbekistan Superleague","FC Nasaf ","Bunyodkor ","W1","W2","X","0.5 O (HT)","-","0.5 O (ST)","-","1.5 O (FT)","-","-","FC Nasaf ","FC Nasaf ","FC Nasaf ","2:2 (1:0) ","-","-","-"]
["24-08-2020","17:00:00","Romania Liga I","Voluntari ","Gaz Metan ","X","X","W1","-","-","-","-","-","-","-","Voluntari ","Gaz Metan ","Voluntari ","2:1 (1:0) ","-","-","-"]
["24-08-2020","17:00:00","Russia PFL Center","Vidnoe ","Sakhalin ","W1","W1","W1","-","-","0.5 O (ST)","-","-","-","-","Vidnoe ","Vidnoe ","Vidnoe ","3:0 (2:0) ","-","-","-"]
["24-08-2020","17:45:00","Bulgaria A Grupa","Montana ","Veliko Tarnovo ","X","W1","W1","-","-","0.5 O (ST)","-","-","-","-","Montana ","Montana ","Montana ",{"$error":"#N/A"},{"$error":"#N/A"},{"$error":"#N/A"},{"$error":"#N/A"}]
["24-08-2020","17:45:00","Saudi Arabia - Saudi Professional League","Al Ettifaq ","Al Raed ","W1","W1","W1","-","-","-","-","-","-","-","Al Ettifaq ","Al Ettifaq ","Al Ettifaq ","4:0 (3:0) ","-","-","-"]
["24-08-2020","18:00:00","Poland Ekstraklasa","Jagiellonia ","Wisla Krakow ","X","X","X","-","-","-","-","-","-","-","Jagiellonia ","Wisla Krakow ","Wisla Krakow ","1:1 (1:1) ","-","-","-"]
["24-08-2020","18:00:00","Cyprus 1st Division ","Nea Salamina ","AEK Larnaca ","W2","X","W2","0.5 O (HT)","-","0.5 O (ST)","-","1.5 O (FT)","2.5 O (FT)","-","AEK Larnaca ","AEK Larnaca ","AEK Larnaca ","1:2 (0:1) ","-","-","-"]
["24-08-2020","18:00:00","Norway - Adeccoligaen","Oeygarden ","Jerv ","X","W1","W1","-","-","0.5 O (ST)","-","-","-","-","Oeygarden ","Oeygarden ","Oeygarden ","1:0 (0:0) ","-","-","-"]
["24-08-2020","18:00:00","Norway - Adeccoligaen","Raufoss ","Ullensaker ","W2","W1","X","0.5 O (HT)","-","0.5 O (ST)","-","1.5 O (FT)","-","-","Ullensaker ","Raufoss ","Raufoss ","1:1 (0:1) ","-","-","-"]
["24-08-2020","18:00:00","Norway - Adeccoligaen","Ranheim ","Strommen ","W1","W1","W1","-","-","0.5 O (ST)","1.5 O (ST)","1.5 O (FT)","2.5 O (FT)","-","Ranheim ","Ranheim ","Ranheim ","5:1 (2:0) ","-","-","-"]
["24-08-2020","18:00:00","Norway - Adeccoligaen","Tromsoe ","Sogndal ","W1","W2","W2","0.5 O (HT)","-","0.5 O (ST)","-","1.5 O (FT)","-","-","Tromsoe ","Sogndal ","Sogndal ","2:2 (1:0) ","-","-","-"]
["24-08-2020","18:00:00","Norway - Adeccoligaen","Grorud ","KFUM Oslo ","W1","W1","W1","-","-","-","-","-","-","-","Grorud ","Grorud ","Grorud ","3:0 (1:0) ","-","-","-"]
["24-08-2020","18:00:00","Norway - Adeccoligaen","Stjordals Blink ","Aasane ","W1","W2","X","-","-","0.5 O (ST)","-","-","-","-","Stjordals Blink ","Aasane ","-","2:2 (2:1) ","-","-","-"]
["24-08-2020","18:00:00","Norway - Adeccoligaen","Sandnes ","Ham-Kam ","W2","X","W2","0.5 O (HT)","-","0.5 O (ST)","1.5 O (ST)","1.5 O (FT)","2.5 O (FT)","-","Ham-Kam ","Ham-Kam ","Ham-Kam ","1:2 (0:1) ","-","-","-"]
["24-08-2020","18:00:00","Saudi Arabia - Saudi Professional League","Al Shabab ","Abha ","W1","W2","X","0.5 O (HT)","-","-","-","1.5 O (FT)","-","-","Al Shabab ","Abha ","-","1:1 (1:0) ","-","-","-"]
["24-08-2020","18:00:00","South Africa Premier Soccer League","Mamelodi ","Golden Arrows ","X","W1","W1","-","-","0.5 O (ST)","-","-","-","-","Mamelodi ","Mamelodi ","Mamelodi ","1:0 (0:0) ","-","-","-"]
["24-08-2020","18:10:00","Saudi Arabia - Saudi Professional League","Al Hazem ","Al Fateh ","X","W2","W2","0.5 O (HT)","-","0.5 O (ST)","1.5 O (ST)","1.5 O (FT)","-","-","Al Fateh ","Al Hazem ","Al Hazem ","3:4 (1:1) ","-","-","-"]
["24-08-2020","18:45:00","Intenational Club Friendlies","Emmen ","Zwolle ","X","W2","W2","-","-","0.5 O (ST)","-","-","-","-","Zwolle ","Zwolle ","Zwolle ","0:1 (0:0) ","-","-","-"]
["24-08-2020","19:00:00","Sweden Allsvenskan","Norrkoping ","Hacken ","X","W2","W2","-","-","-","-","-","-","-","Hacken ","Hacken ","Hacken ","0:1 (0:0) ","-","-","-"]
["24-08-2020","19:00:00","Sweden Allsvenskan","Kalmar ","Mjallby ","X","W2","W2","0.5 O (HT)","-","-","-","1.5 O (FT)","-","-","Mjallby ","Mjallby ","-","1:4 (1:1) ",{"$error":"#N/A"},{"$error":"#N/A"},{"$error":"#N/A"}]
["24-08-2020","19:00:00","Sweden Superettan","Brage ","Dalkurd ","W1","X","W1","-","-","-","-","1.5 O (FT)","-","-","Brage ","Dalkurd ","Dalkurd ","2:1 (1:0) ","-","-","-"]
["24-08-2020","19:00:00","Sweden Superettan","Akropolis ","Degerfors ","W1","W2","X","0.5 O (HT)","-","0.5 O (ST)","-","1.5 O (FT)","-","-","Akropolis ","Degerfors ","Akropolis ","1:1 (1:0) ","-","-","-"]
["24-08-2020","19:50:00","Saudi Arabia - Saudi Professional League","Al Ittihad ","Al Fayha ","W1","W1","W1","-","-","-","-","1.5 O (FT)","-","-","Al Fayha ","Al Ittihad ","Al Fayha ","4:1 (2:1) ","-","-","-"]
["24-08-2020","20:00:00","Romania Liga I","Dinamo B. ","Hermannstadt ","W2","W1","X","-","-","0.5 O (ST)","-","1.5 O (FT)","-","-","Hermannstadt ","Dinamo B. ","Dinamo B. ","1:1 (0:1) ","-","-","-"]
["24-08-2020","20:00:00","Belgium Tweede Klasse","Lommel ","Seraing ","W1","W2","W2","-","-","0.5 O (ST)","1.5 O (ST)","1.5 O (FT)","2.5 O (FT)","3.5 O (FT)","-","Seraing ","Seraing ","3:5 (2:1) ","-","-","-"]
["24-08-2020","20:00:00","Bulgaria A Grupa","CSKA 948 ","Arda ","NB","NB","NB","NB","NB","NB","NB","NB","NB","NB","NB","NB","NB","0:2 (0:1) ",{"$error":"#N/A"},{"$error":"#N/A"},{"$error":"#N/A"}]
["24-08-2020","20:30:00","Norway - Adeccoligaen","Kongsvinger ","Lillestrom ","W2","W1","W2","-","-","0.5 O (ST)","-","1.5 O (FT)","-","-","Lillestrom ","Kongsvinger ","Lillestrom ","0:3 (0:2) ","-","-","-"]
["24-08-2020","20:30:00","Norway - Tippeligaen","Stabaek ","Brann ","X","W2","W2","-","-","0.5 O (ST)","-","1.5 O (FT)","-","-","Brann ","Brann ","Brann ","0:2 (0:0) ","-","-","-"]
["24-08-2020","20:45:00","Belgium Pro League","St. Truidense ","Oostende ","X","W1","W1","-","-","-","-","-","-","-","Oostende ","St. Truidense ","Oostende ",{"$error":"#N/A"},{"$error":"#N/A"},{"$error":"#N/A"},{"$error":"#N/A"}]
["24-08-2020","20:45:00","France Ligue 2","Troyes ","Le Havre ","W1","W1","W1","-","-","-","-","-","-","-","Troyes ","Troyes ","Troyes ","2:0 (0:0) ","-","-","-"]
["24-08-2020","20:45:00","France National","Red Star ","Bastia ","W2","W2","W2","-","-","0.5 O (ST)","-","-","-","-","-","Bastia ","Bastia ","3:5 (1:2) ","-","-","-"]
["25-08-2020","01:00:00","Brazil - Serie B","Chapecoense ","Guarani ","W1","X","W1","-","-","-","-","-","-","-","Chapecoense ","Chapecoense ","Chapecoense ","2:0 (2:0) ","-","-","-"]
["25-08-2020","01:00:00","USA MLS","NYC FC ","Columbus ","X","W1","W1","-","-","-","-","-","-","-","NYC FC ","NYC FC ","NYC FC ","1:0 (0:0) ","-","-","-"]
["25-08-2020","04:05:00","Mexico Primera Division","Pachuca ","Mazatlan ","W1","X","W1","-","-","-","1.5 O (ST)","1.5 O (FT)","2.5 O (FT)","-","-","Pachuca ","-","4:3 (2:1) ","-","-","-"]
["25-08-2020","11:00:00","Australia NPL Queensland","Brisbane Strikers ","Olympic Brisbane ","X","X","X","-","-","-","1.5 O (ST)","1.5 O (FT)","2.5 O (FT)","3.5 O (FT)","Olympic Brisbane ","Olympic Brisbane ","Olympic Brisbane ","2:2 (1:1) ","-","-","-"]
["25-08-2020","11:00:00","Russia Premier Women","Yenisey Krasnoyarsk W ","FC Zenit W ","X","W2","W2","-","-","-","-","-","-","-","Yenisey Krasnoyarsk W ","FC Zenit W ","FC Zenit W ","0:1 (0:0) ","-","-","-"]
["25-08-2020","11:30:00","Australia NPL Queensland","Moreton Bay ","Capalaba ","W2","W1","W2","0.5 O (HT)","-","0.5 O (ST)","1.5 O (ST)","1.5 O (FT)","2.5 O (FT)","-","Capalaba ","Moreton Bay ","Moreton Bay ","3:5 (0:4) ","-","-","-"]
["25-08-2020","11:45:00","Australia NPL Queensland","Gold Coast Knights ","Brisbane City ","W2","W1","X","-","-","-","1.5 O (ST)","1.5 O (FT)","2.5 O (FT)","3.5 O (FT)","Brisbane City ","Gold Coast Knights ","Gold Coast Knights ","2:2 (0:1) ","-","-","-"]
["25-08-2020","12:00:00","China Super League","Guangzhou RF ","Shandong Luneng ","W2","W2","W2","-","-","-","-","-","-","-","Shandong Luneng ","Shandong Luneng ","Shandong Luneng ","1:5 (0:4) ","-","-","-"]
["25-08-2020","14:00:00","China Super League","Dalian Yifang ","Guangzhou Evergrande ","X","W2","X","-","-","-","-","1.5 O (FT)","-","-","Dalian Yifang ","Guangzhou Evergrande ","Guangzhou Evergrande ","2:2 (2:0) ","-","-","-"]
["25-08-2020","14:00:00","Intenational Club Friendlies","Ajax ","Kiel ","W1","W2","W1","0.5 O (HT)","-","0.5 O (ST)","-","1.5 O (FT)","-","-","Ajax ","Kiel ","Ajax ","5:2 (4:0) ","-","-","-"]
["25-08-2020","14:00:00","Kazakhstan Premier League","Tobol ","Astana ","W1","W1","W1","-","-","0.5 O (ST)","-","1.5 O (FT)","-","-","Tobol ","Tobol ","Tobol ","2:0 (1:0) ","-","-","-"]
["25-08-2020","14:00:00","Uzbekistan Superleague","Qizilqum ","Sogdiana ","W1","W2","X","-","-","-","-","1.5 O (FT)","-","-","Qizilqum ","Sogdiana ","Sogdiana ","1:1 (1:0) ","-","-","-"]
["25-08-2020","15:00:00","Intenational Club Friendlies","Newcastle ","Crewe ","W1","W1","W1","-","-","0.5 O (ST)","-","1.5 O (FT)","-","-","Newcastle ","Newcastle ","Newcastle ","3:0 (1:0) ","-","-","-"]
["25-08-2020","15:00:00","Intenational Club Friendlies","Luzern ","Zurich ","X","W1","W1","-","-","0.5 O (ST)","-","1.5 O (FT)","-","-","Luzern ","Luzern ","Luzern ","2:0 (1:0) ","-","-","-"]
["25-08-2020","15:00:00","Intenational Club Friendlies","Dundee United ","Sheffield Utd ","W2","X","W2","0.5 O (HT)","-","0.5 O (ST)","-","1.5 O (FT)","-","-","Sheffield Utd ","Dundee United ","Sheffield Utd ","0:1 (0:1) ","-","-","-"]
["25-08-2020","15:00:00","Intenational Club Friendlies","Ipswich ","West Ham ","W2","W2","W2","0.5 O (HT)","-","0.5 O (ST)","-","1.5 O (FT)","-","-","West Ham ","Ipswich ","-","1:4 (0:1) ","-","-","-"]
["25-08-2020","15:00:00","Intenational Club Friendlies","Aue ","Magdeburg ","W1","W1","W1","-","-","-","-","-","-","-","Aue ","Aue ","Aue ","3:1 (2:1) ","-","-","-"]
["25-08-2020","15:00:00","Intenational Club Friendlies","Wycombe ","West Ham ","W2","W2","W2","-","-","-","-","1.5 O (FT)","-","-","Wycombe ","West Ham ","Wycombe ","1:5 (1:4) ","-","-","-"]
["25-08-2020","16:00:00","Intenational Club Friendlies","Salzburg ","Liverpool ","W1","W2","X","-","-","0.5 O (ST)","-","1.5 O (FT)","-","-","Salzburg ","Liverpool ","Salzburg ","2:2 (2:0) ","-","-","-"]
["25-08-2020","16:00:00","Intenational Club Friendlies","Bielefeld ","Feyenoord ","X","X","X","-","-","-","-","-","-","-","Bielefeld ","Bielefeld ","Bielefeld ","0:0 (0:0) ","-","-","-"]
["25-08-2020","16:00:00","Uzbekistan Superleague","Surkhon Termez ","Metallurg B ","W1","W2","W2","-","-","-","-","1.5 O (FT)","2.5 O (FT)","-","Surkhon Termez ","Metallurg B ","Metallurg B ","1:2 (1:0) ","-","-","-"]
["25-08-2020","16:00:00","Uzbekistan Superleague","AGMK ","Navbahor ","W2","W1","X","-","-","0.5 O (ST)","-","1.5 O (FT)","-","-","Navbahor ","AGMK ","AGMK ","1:1 (0:1) ","-","-","-"]
["25-08-2020","17:00:00","Egypt Premier League","Enppi ","Aswan ","X","X","X","-","-","-","-","-","-","-","Aswan ","-","Aswan ","1:1 (1:1) ","-","-","-"]
["25-08-2020","17:30:00","Russia - Premier League","FC Tambov ","Sochi ","X","W2","W2","-","-","-","-","-","-","-","Sochi ","Sochi ","Sochi ","0:1 (0:0) ","-","-","-"]
["25-08-2020","17:30:00","Germany Regionalliga Northeast","Lichtenberg ","Altglienicke ","X","W2","W2","-","-","0.5 O (ST)","-","1.5 O (FT)","-","-","Lichtenberg ","Altglienicke ","Altglienicke ","2:4 (0:0) ","-","-","-"]
["25-08-2020","17:30:00","Tunisia Ligue 1","Hammam-Lif ","Sfaxien ","W2","W1","W1","0.5 O (HT)","-","0.5 O (ST)","-","1.5 O (FT)","-","-","Sfaxien ","Hammam-Lif ","Sfaxien ","2:1 (0:1) ","-","-","-"]
["25-08-2020","17:30:00","Tunisia Ligue 1","Etoile ","Ben Guerdane ","X","W1","W1","-","-","0.5 O (ST)","-","-","-","-","Ben Guerdane ","Etoile ","Etoile ","1:0 (0:0) ","-","-","-"]
["25-08-2020","18:00:00","UEFA Europa League","Riteriai ","Derry City ","X","W1","W1","-","-","-","-","-","-","-","Riteriai ","Derry City ","Riteriai ","2:2 (1:1) AET 1:0 ","-","-","-"]
["25-08-2020","18:00:00","Lithuania A Lyga","FK Banga ","FK Suduva ","X","X","X","0.5 O (HT)","1.5 O (HT)","0.5 O (ST)","1.5 O (ST)","1.5 O (FT)","2.5 O (FT)","-","FK Banga ","FK Banga ","FK Banga ","Postponed ","-","-","-"]
["25-08-2020","18:00:00","Peru-Primera division","Binacional ","Cantolao ","X","W1","W1","-","-","0.5 O (ST)","-","-","-","-","-","Cantolao ","Cantolao ","2:3 (0:0) ","-","-","-"]
["25-08-2020","18:00:00","Saudi Arabia - Saudi Professional League","Al Hilal ","Al Faisaly ","X","W1","W1","-","-","0.5 O (ST)","-","-","-","-","Al Faisaly ","Al Hilal ","Al Hilal ","2:0 (0:0) ","-","-","-"]
["25-08-2020","18:00:00","South Africa Premier Soccer League","Black Leopards ","Supersport ","X","W2","W2","-","-","-","-","-","-","-","Supersport ","Supersport ","Supersport ","0:1 (0:0) ","-","-","-"]
["25-08-2020","18:00:00","UEFA Youth League","Benfica U-9 ","Real Madrid U-9 ","NB","NB","NB","NB","NB","NB","NB","NB","NB","NB","NB","NB","NB",{"$error":"#N/A"},{"$error":"#N/A"},{"$error":"#N/A"},{"$error":"#N/A"}]
["25-08-2020","18:05:00","Saudi Arabia - Saudi Professional League","Damac ","Al Ahli Saudi ","W1","W2","W1","-","1.5 O (HT)","-","-","1.5 O (FT)","-","-","Damac ","Al Ahli Saudi ","Al Ahli Saudi ","2:1 (2:0) ","-","-","-"]
["25-08-2020","18:20:00","Saudi Arabia - Saudi Professional League","Al Wehda ","Al Taawoun ","W1","X","W1","0.5 O (HT)","-","-","-","1.5 O (FT)","2.5 O (FT)","-","-","Al Wehda ","Al Wehda ","2:1 (2:1) ","-","-","-"]
["25-08-2020","18:30:00","Intenational Club Friendlies","C Palace ","Oxford Utd ","W2","W1","W1","-","-","-","-","-","-","-","Oxford Utd ","C Palace ","Oxford Utd ","2:1 (0:1) ","-","-","-"]
["25-08-2020","19:00:00","Germany Regionalliga Northeast","Viktoria Berlin ","Rathenow ","W1","W1","W1","0.5 O (HT)","-","0.5 O (ST)","-","1.5 O (FT)","-","-","Viktoria Berlin ","Viktoria Berlin ","Viktoria Berlin ","2:0 (1:0) ","-","-","-"]
["25-08-2020","19:00:00","Intenational Club Friendlies","Ajax ","Hertha ","W1","X","W1","0.5 O (HT)","-","-","-","1.5 O (FT)","-","-","Ajax ","Hertha ","Ajax ","5:2 (4:0) ","-","-","-"]
["25-08-2020","19:00:00","Intenational Club Friendlies","Heracles ","Telstar ","W1","W1","W1","-","-","0.5 O (ST)","1.5 O (ST)","1.5 O (FT)","-","-","Heracles ","Heracles ","Heracles ","4:0 (2:0) ","-","-","-"]
["25-08-2020","19:00:00","Slovakia - Corgon Liga","Michalovce ","Zlate Moravce ","W1","W1","W1","0.5 O (HT)","-","-","-","-","-","-","Michalovce ","Michalovce ","Michalovce ","1:0 (1:0) ","-","-","-"]
["25-08-2020","19:15:00","Ecuador Primera Division","Cuenca ","Orense ","W1","W2","X","0.5 O (HT)","1.5 O (HT)","-","-","1.5 O (FT)","-","-","-","Orense ","Orense ","2:2 (2:1) ","-","-","-"]
["25-08-2020","19:30:00","Russia - Premier League","Arsenal Tula ","Khimki ","W2","W1","W2","-","-","-","-","1.5 O (FT)","-","-","Khimki ","Arsenal Tula ","Khimki ","1:1 (0:1) ","-","-","-"]
["25-08-2020","19:50:00","Saudi Arabia - Saudi Professional League","Al Nassr ","Al Adalh ","W1","W1","W1","-","-","0.5 O (ST)","-","1.5 O (FT)","-","-","-","Al Nassr ","-","6:1 (5:1) ","-","-","-"]
["25-08-2020","20:00:00","UEFA Champions League","PAOK ","Besiktas ","W1","X","W1","0.5 O (HT)","-","-","-","1.5 O (FT)","-","-","Besiktas ","Besiktas ","Besiktas ","3:1 (3:1) ","-","-","-"]
["25-08-2020","20:00:00","UEFA Champions League","Tirana ","Crvena Zvezda ","W2","W2","W2","0.5 O (HT)","-","0.5 O (ST)","-","1.5 O (FT)","-","-","Crvena Zvezda ","Crvena Zvezda ","Crvena Zvezda ","0:1 (0:0) ","-","-","-"]
["25-08-2020","20:00:00","Egypt Premier League","Pyramids FC ","El-Entag ","W1","W1","W1","-","-","0.5 O (ST)","-","1.5 O (FT)","2.5 O (FT)","-","Pyramids FC ","Pyramids FC ","Pyramids FC ","3:0 (2:0) ","-","-","-"]
["25-08-2020","20:00:00","Intenational Club Friendlies","Villarreal ","Tenerife ","W1","W2","W2","-","-","-","-","1.5 O (FT)","-","-","Villarreal ","Tenerife ","-","2:3 (1:0) ","-","-","-"]
["25-08-2020","20:15:00","Schweizer Cup","Basel ","Winterthur ","W1","W1","W1","-","-","-","-","1.5 O (FT)","-","-","Winterthur ","Basel ","Winterthur ","6:1 (3:1) ","-","-","-"]
["25-08-2020","21:00:00","Morocco Botola","Sportive Rabat ","Olympique de Safi ","NB","NB","NB","NB","NB","NB","NB","NB","NB","NB","NB","NB","NB","Postponed ","-","-","-"]
["25-08-2020","21:00:00","Morocco Botola","Rapide Oued Zem ","Hassania Agadir ","NB","NB","NB","-","-","-","-","-","-","-","NB","NB","NB","Postponed ","-","-","-"]
["25-08-2020","21:15:00","Iceland - Pepsi-deild karla","Fylkir R ","Fjolnir R ","W1","W1","W1","-","-","0.5 O (ST)","-","1.5 O (FT)","-","-","Fjolnir R ","Fylkir R ","Fylkir R ","2:0 (0:0) ","-","-","-"]
["25-08-2020","21:15:00","Peru-Primera division","Sporting Cristal ","Alianza Lima ","W2","W1","X","-","-","-","-","-","-","-","Alianza Lima ","Sporting Cristal ","Sporting Cristal ","1:1 (0:1) ","-","-","-"]
["25-08-2020","21:30:00","Ecuador Primera Division","Macara ","Tecnico Uni ","X","X","W2","-","-","-","-","-","-","-","Tecnico Uni ","Tecnico Uni ","Tecnico Uni ","0:0 (0:0) ","-","-","-"]
["25-08-2020","22:30:00","Paraguay Primera Division","Guarani Asuncion ","Nac. Asuncion ","X","W1","W1","-","-","0.5 O (ST)","-","-","-","-","Guarani Asuncion ","Guarani Asuncion ","Guarani Asuncion ","1:0 (0:0) ","-","-","-"]
["26-08-2020","00:15:00","Ecuador Primera Division","Ind. del Valle ","Aucas ","W2","W1","X","-","-","-","-","1.5 O (FT)","-","-","Aucas ","Ind. del Valle ","Ind. del Valle ","1:1 (0:1) ","-","-","-"]
["26-08-2020","01:00:00","Morocco Botola","Youssoufia Berrechid ","Olympique Khouribga ","W1","X","W1","-","-","-","-","-","-","-","Youssoufia Berrechid ","Olympique Khouribga ","Youssoufia Berrechid ","1:0 (1:0) ","-","-","-"]
["26-08-2020","01:00:00","Paraguay Primera Division","San Lorenzo ","River Plate PAR ","X","X","X","-","-","-","-","-","-","-","-","River Plate PAR ","River Plate PAR ","0:0 (0:0) ","-","-","-"]
["26-08-2020","01:00:00","Peru-Primera division","Dep. Municipal ","Cienciano ","X","W2","W2","-","-","0.5 O (ST)","-","-","-","-","Dep. Municipal ","Cienciano ","Cienciano ","0:1 (0:0) ","-","-","-"]
["26-08-2020","01:00:00","USA MLS","DC United ","New England ","X","W1","W2","-","1.5 O (HT)","-","-","1.5 O (FT)","-","-","New England ","DC United ","DC United ","1:2 (0:2) ","-","-","-"]
["26-08-2020","01:30:00","USA MLS","Chicago Fire ","Cincinnati ","W1","W1","W1","-","-","-","-","-","-","-","Chicago Fire ","Chicago Fire ","Chicago Fire ","3:0 (2:0) ","-","-","-"]
["26-08-2020","01:30:00","USA MLS","Philadelphia ","New York ","W1","X","W1","0.5 O (HT)","-","-","-","-","-","-","Philadelphia ","Philadelphia ","Philadelphia ","1:0 (1:0) ","-","-","-"]
["26-08-2020","02:00:00","Ecuador Primera Division","LDU Quito ","Delfin ","W1","X","W1","-","-","-","-","1.5 O (FT)","-","-","LDU Quito ","LDU Quito ","LDU Quito ","1:0 (1:0) ","-","-","-"]
["26-08-2020","02:00:00","USA MLS","Montreal Imp ","Vancouver ","X","X","W1","-","-","-","-","-","-","-","Montreal Imp ","Vancouver ","Montreal Imp ","2:0 (2:0) ","-","-","-"]
["26-08-2020","02:30:00","USA MLS","Kansas City ","Houston ","W2","W2","W2","-","-","-","-","1.5 O (FT)","-","-","Houston ","Kansas City ","-","2:5 (1:2) ","-","-","-"]
["26-08-2020","04:00:00","USA USL","Las Vegas Lights ","Orange County ","X","W1","W2","-","-","-","-","-","-","-","Orange County ","Las Vegas Lights ","Orange County ","3:1 (1:1) ","-","-","-"]
["26-08-2020","09:00:00","Australia A-League","Melbourne City ","Western United ","X","W1","W1","-","-","0.5 O (ST)","-","-","-","-","Western United ","Melbourne City ","Melbourne City ","2:0 (0:0) ","-","-","-"]
["26-08-2020","09:30:00","China Super League","Henan Jianye ","Shanghai Shenhua ","X","X","X","-","-","0.5 O (ST)","-","1.5 O (FT)","-","-","Henan Jianye ","Henan Jianye ","Henan Jianye ","0:0 (0:0) ","-","-","-"]
["26-08-2020","11:00:00","Russia Cup","Khabarovsk ","Fakel Voronezh ","X","X","W1","-","-","-","-","-","-","-","Fakel Voronezh ","Khabarovsk ","Fakel Voronezh ","0:0 (0:0) AET 0:0, pen 8:7 ","-","-","-"]
["26-08-2020","11:00:00","Myanmar National League","Yadanarbon ","Magway ","W1","W1","W1","0.5 O (HT)","-","0.5 O (ST)","1.5 O (ST)","1.5 O (FT)","2.5 O (FT)","3.5 O (FT)","Magway ","Yadanarbon ","Yadanarbon ","4:1 (2:1) ","-","-","-"]
["26-08-2020","11:00:00","Myanmar National League","Yangon ","Hantharwady Utd ","W1","W2","W2","-","-","0.5 O (ST)","-","-","-","-","Yangon ","Hantharwady Utd ","-","1:3 (1:0) ","-","-","-"]
["26-08-2020","11:00:00","Myanmar National League","Southern Myanmar Utd ","Ispe Fc ","W2","W1","X","-","-","-","-","1.5 O (FT)","-","-","Ispe Fc ","Southern Myanmar Utd ","Southern Myanmar Utd ","1:1 (0:1) ","-","-","-"]
["26-08-2020","11:30:00","Australia NPL Queensland","Peninsula ","Redlands Utd ","W1","W1","W1","0.5 O (HT)","-","0.5 O (ST)","-","1.5 O (FT)","-","-","Peninsula ","Peninsula ","Peninsula ","3:0 (2:0) ","-","-","-"]
["26-08-2020","11:30:00","Australia NPL Queensland","Brisbane Roar U- ","Gold Coast Utd ","NB","NB","NB","NB","NB","NB","NB","NB","NB","NB","NB","NB","NB","2:1 (1:0) ",{"$error":"#N/A"},{"$error":"#N/A"},{"$error":"#N/A"}]
["26-08-2020","11:30:00","Intenational Club Friendlies","Lugo ","Ponferradina ","W1","W2","W2","-","-","-","-","1.5 O (FT)","-","-","Lugo ","Ponferradina ","Ponferradina ","1:2 (1:0) ","-","-","-"]
["26-08-2020","12:00:00","Russia PFL West","Zenit Irkutsk ","Znamya ","W2","W1","X","0.5 O (HT)","-","0.5 O (ST)","-","1.5 O (FT)","-","-","Znamya ","Zenit Irkutsk ","Znamya ","1:1 (0:1) ","-","-","-"]
["26-08-2020","12:00:00","Russia PFL Ural","Dynamo Barnaul ","FC Tyumen ","W2","X","W2","-","-","-","-","1.5 O (FT)","-","-","FC Tyumen ","FC Tyumen ","FC Tyumen ","0:2 (0:2) ","-","-","-"]
["26-08-2020","12:00:00","Belarus Division 2","Molodechno ","Meliorator Zhit ","X","W1","W1","-","-","0.5 O (ST)","1.5 O (ST)","1.5 O (FT)","2.5 O (FT)","-","Molodechno ","Molodechno ","Molodechno ","3:0 (0:0) ","-","-","-"]
["26-08-2020","12:00:00","China Super League","Shanghai SIPG ","Chongqing Lifan ","W1","W1","W1","-","-","0.5 O (ST)","-","1.5 O (FT)","2.5 O (FT)","-","Shanghai SIPG ","Shanghai SIPG ","Shanghai SIPG ","3:0 (2:0) ","-","-","-"]
["26-08-2020","12:00:00","Japan - J. League","Tokyo ","Kashima ","W1","W2","W2","-","-","0.5 O (ST)","-","1.5 O (FT)","-","-","Tokyo ","Kashima ","Tokyo ","1:2 (1:0) ","-","-","-"]
["26-08-2020","12:00:00","Japan - J. League","Kobe ","Kawasaki ","W2","W2","W2","-","-","0.5 O (ST)","1.5 O (ST)","1.5 O (FT)","-","-","Kawasaki ","Kawasaki ","Kawasaki ","2:2 (2:1) ","-","-","-"]
["26-08-2020","12:10:00","Australia A-League","Sydney ","Perth ","W1","X","W1","-","-","-","-","-","-","-","Sydney ","Sydney ","Sydney ","2:0 (2:0) ","-","-","-"]
["26-08-2020","12:15:00","Australia NPL Northern New South","Valentine ","Adamstown ","X","W1","W1","-","-","0.5 O (ST)","-","-","-","-","Adamstown ","Valentine ","Valentine ","3:1 (0:0) ","-","-","-"]
["26-08-2020","12:15:00","Australia NPL Northern New South","Newcastle Ol. ","Maitland ","W1","W1","W1","-","-","0.5 O (ST)","1.5 O (ST)","1.5 O (FT)","-","-","Newcastle Ol. ","Newcastle Ol. ","Newcastle Ol. ","4:0 (1:0) ","-","-","-"]
["26-08-2020","12:30:00","Japan - J. League","Yokohama Marinos ","Sapporo ","W1","W1","W1","-","-","0.5 O (ST)","-","1.5 O (FT)","-","-","Yokohama Marinos ","Yokohama Marinos ","Yokohama Marinos ","4:1 (2:0) ","-","-","-"]
["26-08-2020","12:30:00","South Korea - K-League Challenge","Jeju Utd ","Bucheon ","W1","W1","W1","-","-","-","-","1.5 O (FT)","-","-","Jeju Utd ","Jeju Utd ","Jeju Utd ","4:0 (1:0) ","-","-","-"]
["26-08-2020","13:30:00","Russia Cup","Tom Tomsk ","Nizhny Novgorod ","W2","X","W2","0.5 O (HT)","-","-","-","-","-","-","Nizhny Novgorod ","Nizhny Novgorod ","Nizhny Novgorod ","0:1 (0:1) ","-","-","-"]
["26-08-2020","14:00:00","Russia Cup","Yenisey ","Volgar Astrakhan ","W1","W2","W1","0.5 O (HT)","-","0.5 O (ST)","-","1.5 O (FT)","-","-","Yenisey ","Volgar Astrakhan ","Yenisey ","2:1 (2:0) ","-","-","-"]
["26-08-2020","14:00:00","Russia Cup","Akron ","Chertanovo ","W2","X","W2","0.5 O (HT)","-","-","-","-","-","-","Chertanovo ","Akron ","Chertanovo ","0:1 (0:1) ","-","-","-"]
["26-08-2020","14:00:00","Russia PFL Ural","Novosibirsk ","FC Zvezda Perm ","X","W1","W1","-","-","-","-","-","-","-","FC Zvezda Perm ","FC Zvezda Perm ","FC Zvezda Perm ","2:1 (0:0) ","-","-","-"]
["26-08-2020","14:00:00","China Super League","Wuhan ","Tianjin Teda ","W2","W1","W1","0.5 O (HT)","-","0.5 O (ST)","-","1.5 O (FT)","-","-","Tianjin Teda ","Wuhan ","Wuhan ","2:1 (0:1) ","-","-","-"]
["26-08-2020","14:00:00","Intenational Club Friendlies","Birmingham ","Leicester ","X","X","W2","-","-","0.5 O (ST)","-","1.5 O (FT)","-","-","Leicester ","Leicester ","Leicester ","0:2 (0:0) ","-","-","-"]
["26-08-2020","14:00:00","Kazakhstan Premier League","Taraz ","Okzhetpes ","W1","W2","W2","0.5 O (HT)","-","0.5 O (ST)","-","1.5 O (FT)","-","-","Taraz ","-","-","2:3 (1:0) ","-","-","-"]
["26-08-2020","14:00:00","Russia Premier Women","Zvezda W ","CSKA Moscow W ","W2","X","W2","-","-","-","-","-","-","-","CSKA Moscow W ","CSKA Moscow W ","CSKA Moscow W ","0:1 (0:1) ","-","-","-"]
["26-08-2020","15:00:00","Uruguay Primera Division","Danubio ","Fenix ","X","W1","W1","-","-","0.5 O (ST)","1.5 O (ST)","1.5 O (FT)","2.5 O (FT)","-","Danubio ","Danubio ","Danubio ","2:0 (0:0) ","-","-","-"]
["26-08-2020","15:30:00","Uzbekistan Superleague","Mash AL ","Buxoro ","W1","X","W1","-","-","-","-","-","-","-","Mash AL ","Buxoro ","Mash AL ","1:0 (1:0) ","-","-","-"]
["26-08-2020","16:00:00","Russia Cup","Orenburg ","Alania ","W1","W2","W1","-","-","0.5 O (ST)","-","1.5 O (FT)","-","-","Orenburg ","Alania ","Orenburg ","2:1 (2:0) ","-","-","-"]
["26-08-2020","16:00:00","Russia PFL West","Chita ","Kolomna ","W1","W2","X","0.5 O (HT)","-","-","-","1.5 O (FT)","-","-","Chita ","Kolomna ","Chita ","1:1 (1:0) ","-","-","-"]
["26-08-2020","16:00:00","Belarus Division 2","Rogachev-MKK ","Shakhtyor Petrikov ","X","W2","W2","-","-","0.5 O (ST)","1.5 O (ST)","1.5 O (FT)","2.5 O (FT)","3.5 O (FT)","Shakhtyor Petrikov ","Shakhtyor Petrikov ","Shakhtyor Petrikov ","0:4 (0:0) ","-","-","-"]
["26-08-2020","16:00:00","Egypt Premier League","El Gaish ","Smouha ","X","X","X","-","-","0.5 O (ST)","-","-","-","-","Smouha ","-","Smouha ","1:1 (0:0) ","-","-","-"]
["26-08-2020","16:00:00","Intenational Club Friendlies","Stuttgart ","Hamburg ","X","W1","W1","0.5 O (HT)","-","0.5 O (ST)","-","1.5 O (FT)","-","-","Hamburg ","Stuttgart ","Stuttgart ","3:2 (3:1) ","-","-","-"]
["26-08-2020","16:00:00","Russia Premier Women","Kubanochka W ","Chertanovo W ","W2","W2","W2","0.5 O (HT)","-","-","-","-","-","-","Chertanovo W ","Chertanovo W ","Chertanovo W ","4:0 (2:0) ","-","-","-"]
["26-08-2020","16:30:00","UEFA Champions League","AZ Alkmaar ","Viktoria Plzen ","X","W1","W1","-","-","0.5 O (ST)","1.5 O (ST)","1.5 O (FT)","-","-","Viktoria Plzen ","AZ Alkmaar ","AZ Alkmaar ","1:1 (0:0) AET 2:0 ","-","-","-"]
["26-08-2020","16:30:00","Russia Cup","Kr Sovetov ","Irtysh Omsk ","W1","W1","W1","0.5 O (HT)","-","-","-","1.5 O (FT)","-","-","Kr Sovetov ","Kr Sovetov ","Kr Sovetov ","5:0 (3:0) ","-","-","-"]
["26-08-2020","17:00:00","Russia Cup","Neftekhimik ","Dynamo Bryansk ","X","W2","W2","-","-","-","-","-","-","-","Dynamo Bryansk ","Dynamo Bryansk ","Dynamo Bryansk ","0:1 (0:0) ","-","-","-"]
["26-08-2020","17:00:00","Belarus Division 2","Chayka Zelva ","Baranovichi ","W1","W2","W2","-","-","0.5 O (ST)","1.5 O (ST)","1.5 O (FT)","2.5 O (FT)","3.5 O (FT)","Chayka Zelva ","Baranovichi ","Baranovichi ","1:2 (1:0) ","-","-","-"]
["26-08-2020","17:00:00","Czech Republic 1. Division","Hradec Kralove ","Vlasim ","W1","W1","W1","-","-","0.5 O (ST)","-","-","-","-","Hradec Kralove ","Hradec Kralove ","Hradec Kralove ","1:0 (0:0) ","-","-","-"]
["26-08-2020","17:00:00","Kazakhstan Premier League","Kaspiy Aktau ","Kaisar Kyzylorda ","X","W1","W1","-","-","-","-","-","-","-","Kaisar Kyzylorda ","Kaspiy Aktau ","Kaspiy Aktau ","1:0 (0:0) ","-","-","-"]
["26-08-2020","17:00:00","Latvia - Virsliga","Metta ","Riga FC ","X","W2","W2","-","-","0.5 O (ST)","1.5 O (ST)","1.5 O (FT)","-","-","Riga FC ","Riga FC ","Riga FC ","0:3 (0:0) ","-","-","-"]
["26-08-2020","17:00:00","Russia Premier Women","Ryazan W ","FC Lokomotiv Moscow W ","X","X","X","-","-","-","-","-","-","-","FC Lokomotiv Moscow W ","FC Lokomotiv Moscow W ","FC Lokomotiv Moscow W ","0:0 (0:0) ","-","-","-"]
["26-08-2020","17:30:00","Russia - Premier League","Rotor ","Spartak Moscow ","X","W2","W2","0.5 O (HT)","-","-","-","-","-","-","Spartak Moscow ","Spartak Moscow ","Spartak Moscow ","0:1 (0:0) ","-","-","-"]
["26-08-2020","17:30:00","Russia - Premier League","Lokomotiv Moscow ","Akhmat Grozny ","W2","W1","W2","-","-","-","-","-","-","-","Akhmat Grozny ","Lokomotiv Moscow ","Lokomotiv Moscow ","2:3 (0:2) ","-","-","-"]
["26-08-2020","17:30:00","Russia - Premier League","Rubin Kazan ","Ufa ","X","W1","X","-","-","-","-","-","-","-","Ufa ","Rubin Kazan ","Rubin Kazan ","3:0 (0:0) ","-","-","-"]
["26-08-2020","17:30:00","Russia Cup","Veles ","Baltika ","X","W1","W1","-","-","-","-","-","-","-","Veles ","Veles ","Veles ","4:1 (1:1) ","-","-","-"]
["26-08-2020","17:30:00","Finland - Veikkausliga","HJK ","Seinajoen ","W1","W1","W1","0.5 O (HT)","-","-","-","-","-","-","HJK ","HJK ","HJK ","2:0 (1:0) ","-","-","-"]
["26-08-2020","17:30:00","Finland - Veikkausliga","Haka ","Lahti ","X","X","W1","0.5 O (HT)","-","0.5 O (ST)","-","1.5 O (FT)","-","-","Lahti ","Haka ","Haka ","2:2 (1:1) ","-","-","-"]
["26-08-2020","17:30:00","Finland - Veikkausliga","Mariehamn ","RoPS ","W1","W1","W1","-","-","0.5 O (ST)","1.5 O (ST)","1.5 O (FT)","2.5 O (FT)","-","Mariehamn ","Mariehamn ","Mariehamn ","4:0 (2:0) ","-","-","-"]
["26-08-2020","17:30:00","Finland - Veikkausliga","TPS ","HIFK ","X","W1","W1","-","-","0.5 O (ST)","-","-","-","-","HIFK ","TPS ","TPS ","1:0 (0:0) ","-","-","-"]
["26-08-2020","17:30:00","Finland - Ykkonen","MyPa ","Mikkelin ","W2","X","W2","-","-","-","-","-","-","-","Mikkelin ","MyPa ","Mikkelin ","0:1 (0:1) ","-","-","-"]
["26-08-2020","17:30:00","Germany Regionalliga Northeast","Fuerstenwalde ","Jena ","W1","W1","W1","0.5 O (HT)","-","0.5 O (ST)","-","1.5 O (FT)","-","-","Jena ","Fuerstenwalde ","-","3:1 (2:1) ","-","-","-"]
["26-08-2020","17:30:00","Intenational Club Friendlies","Lamia ","Volos ","X","W1","W1","-","-","-","-","-","-","-","Volos ","Lamia ","Lamia ","2:0 (0:0) ","-","-","-"]
["26-08-2020","17:30:00","Intenational Club Friendlies","Hartberg ","Hannover ","W2","W1","W1","-","-","0.5 O (ST)","-","1.5 O (FT)","-","-","Hannover ","Hartberg ","Hannover ","2:1 (0:1) ","-","-","-"]
["26-08-2020","17:30:00","Tunisia Ligue 1","S. Tunisien ","Slimane ","X","W1","W1","-","-","0.5 O (ST)","-","-","-","-","Slimane ","S. Tunisien ","S. Tunisien ","1:0 (0:0) ","-","-","-"]
["26-08-2020","17:30:00","Tunisia Ligue 1","Chebba ","Bizertin ","X","X","X","-","-","-","-","-","-","-","-","-","-","0:0 (0:0) ","-","-","-"]
["26-08-2020","17:30:00","Tunisia Ligue 1","Metlaoui ","Kairouanaise ","X","W1","W1","-","-","0.5 O (ST)","-","1.5 O (FT)","-","-","Kairouanaise ","Metlaoui ","Metlaoui ","2:0 (0:0) ","-","-","-"]
["26-08-2020","17:30:00","Uruguay Primera Division","Boston River ","Plaza Colonia ","X","X","X","-","-","-","-","-","-","-","Plaza Colonia ","Boston River ","Plaza Colonia ","0:0 (0:0) ","-","-","-"]
["26-08-2020","18:00:00","UEFA Champions League","FK Suduva ","Maccabi Tel Aviv ","W2","W2","W2","-","-","0.5 O (ST)","1.5 O (ST)","1.5 O (FT)","2.5 O (FT)","-","Maccabi Tel Aviv ","Maccabi Tel Aviv ","Maccabi Tel Aviv ","0:3 (0:1) ","-","-","-"]
["26-08-2020","18:00:00","UEFA Champions League","NK Celje ","Molde ","W1","W2","W2","-","-","-","-","1.5 O (FT)","-","-","NK Celje ","Molde ","NK Celje ","1:2 (1:0) ","-","-","-"]
["26-08-2020","18:00:00","UEFA Champions League","Qarabag ","Sheriff ","W1","X","W1","0.5 O (HT)","-","-","-","-","-","-","Qarabag ","Qarabag ","Qarabag ","2:1 (1:0) ","-","-","-"]
["26-08-2020","18:00:00","Russia Cup","Fc Chayka Pes ","Tekstilshchik Iv ","W2","W2","W2","0.5 O (HT)","-","0.5 O (ST)","-","-","-","-","Tekstilshchik Iv ","Tekstilshchik Iv ","-","0:2 (0:1) ","-","-","-"]
["26-08-2020","18:00:00","Cyprus 1st Division ","Achnas ","Paralimni ","W1","W1","W1","0.5 O (HT)","-","0.5 O (ST)","-","1.5 O (FT)","-","-","Achnas ","Achnas ","Achnas ","2:0 (1:0) ","-","-","-"]
["26-08-2020","18:00:00","Peru-Primera division","Mannucci ","Llacuabamba ","W2","X","W2","-","-","-","-","-","-","-","Llacuabamba ","-","Llacuabamba ","1:0 (1:0) ","-","-","-"]
["26-08-2020","18:30:00","UEFA Europa League","Niederkorn ","FK Zeta ","W1","W1","W1","-","-","0.5 O (ST)","-","1.5 O (FT)","-","-","Niederkorn ","Niederkorn ","Niederkorn ","3:0 (1:0) ","-","-","-"]
["26-08-2020","18:30:00","Russia Cup","Torpedo Moscow ","Shinnik Yaroslavl ","W2","W1","W2","-","-","-","-","1.5 O (FT)","-","-","Shinnik Yaroslavl ","Torpedo Moscow ","Torpedo Moscow ","1:2 (0:2) ","-","-","-"]
["26-08-2020","18:30:00","Egypt Premier League","Masr ","Al Masry ","X","X","X","-","-","-","-","1.5 O (FT)","-","-","Al Masry ","-","Masr ","0:0 (0:0) ","-","-","-"]
["26-08-2020","18:30:00","Intenational Club Friendlies","Bellinzona ","Lugano ","X","X","X","0.5 O (HT)","-","-","-","1.5 O (FT)","-","-","Bellinzona ","Lugano ","Bellinzona ","1:1 (1:1) ","-","-","-"]
["26-08-2020","19:00:00","UEFA Champions League","Lok Zagreb ","Rapid Wien ","W2","X","W2","0.5 O (HT)","-","-","-","1.5 O (FT)","-","-","Rapid Wien ","Rapid Wien ","Rapid Wien ","0:1 (0:1) ","-","-","-"]
["26-08-2020","19:00:00","Greece Super League","A.O Xanthi ","Apollon Smyrnis ","X","X","W1","-","-","0.5 O (ST)","-","-","-","-","A.O Xanthi ","A.O Xanthi ","A.O Xanthi ","0:1 (0:0) ",{"$error":"#N/A"},{"$error":"#N/A"},{"$error":"#N/A"}]
["26-08-2020","19:00:00","Germany Regionalliga Northeast","Auerbach ","Chemnitz ","X","W1","W1","-","-","0.5 O (ST)","-","1.5 O (FT)","-","-","Auerbach ","Chemnitz ","Chemnitz ","2:1 (0:0) ","-","-","-"]
["26-08-2020","19:00:00","Germany Regionalliga Northeast","Babelsberg ","Luckenwalde ","X","W2","W2","-","-","-","1.5 O (ST)","1.5 O (FT)","2.5 O (FT)","-","Luckenwalde ","Luckenwalde ","Babelsberg ","1:3 (1:1) ","-","-","-"]
["26-08-2020","19:00:00","Iceland - Pepsi-deild karla","KR Reykjavik ","Valur R ","X","X","W2","-","-","-","-","1.5 O (FT)","-","-","KR Reykjavik ","Valur R ","Valur R ","4:5 (3:3) ","-","-","-"]
["26-08-2020","19:00:00","Intenational Club Friendlies","Malaga ","Cadiz ","X","W2","W2","-","-","-","-","-","-","-","Malaga ","Cadiz ","Malaga ","1:2 (1:1) ","-","-","-"]
["26-08-2020","19:00:00","Intenational Club Friendlies","Alaves ","Huesca ","X","W2","W2","-","-","-","-","1.5 O (FT)","-","-","Alaves ","Huesca ","Alaves ","1:2 (1:1) ","-","-","-"]
["26-08-2020","19:15:00","Ecuador Primera Division","Mushuc Runa ","Uni Catolica (ECU) ","W1","W2","W2","-","-","-","-","1.5 O (FT)","-","-","Mushuc Runa ","Uni Catolica (ECU) ","Uni Catolica (ECU) ","1:2 (1:0) ","-","-","-"]
["26-08-2020","19:30:00","UEFA Champions League","Ludogorets ","Midtjylland ","X","W2","W2","-","-","-","-","-","-","-","Ludogorets ","Midtjylland ","Midtjylland ","0:1 (0:0) ","-","-","-"]
["26-08-2020","19:30:00","Russia - Premier League","Rostov ","Ural Yekaterinburg ","X","X","W1","-","-","-","-","-","-","-","Rostov ","Ural Yekaterinburg ","Rostov ","1:0 (0:0) ","-","-","-"]
["26-08-2020","19:30:00","Russia - Premier League","Krasnodar ","CSKA Moscow ","X","W1","W1","-","-","0.5 O (ST)","-","-","-","-","CSKA Moscow ","Krasnodar ","Krasnodar ","1:1 (0:1) ","-","-","-"]
["26-08-2020","19:45:00","Russia - Premier League","Dinamo Moscow ","FC Zenit ","W1","X","W1","-","-","-","-","-","-","-","Dinamo Moscow ","FC Zenit ","Dinamo Moscow ",{"$error":"#N/A"},{"$error":"#N/A"},{"$error":"#N/A"},{"$error":"#N/A"}]
["26-08-2020","20:00:00","UEFA Champions League","CFR Cluj ","Dinamo Zagreb ","W2","X","W2","-","-","-","-","-","-","-","Dinamo Zagreb ","Dinamo Zagreb ","CFR Cluj ","2:2 (0:1) AET 0:0, pen 5:6 ","-","-","-"]
["26-08-2020","20:00:00","UEFA Champions League","Legia Warszawa ","Omonia ","X","W2","W2","-","-","-","-","-","-","-","Legia Warszawa ","Omonia ","Omonia ","0:0 (0:0) AET 0:2 ",{"$error":"#N/A"},{"$error":"#N/A"},{"$error":"#N/A"}]
["26-08-2020","20:00:00","UEFA Champions League","Dinamo Brest ","Sarajevo ","X","W1","W1","0.5 O (HT)","-","0.5 O (ST)","-","-","-","-","Dinamo Brest ","Dinamo Brest ","Sarajevo ","2:1 (1:1) ","-","-","-"]
["26-08-2020","20:00:00","Iceland - Pepsi-deild karla","Stjarnan ","Akureyri ","W1","W2","X","-","-","-","-","-","-","-","Stjarnan ","Akureyri ","Akureyri ","1:1 (1:0) ",{"$error":"#N/A"},{"$error":"#N/A"},{"$error":"#N/A"}]
["26-08-2020","20:00:00","Tunisia Ligue 1","Monastir ","US Tataouine ","W1","W2","X","-","-","0.5 O (ST)","-","1.5 O (FT)","-","-","Monastir ","US Tataouine ","-","1:1 (1:0) ","-","-","-"]
["27-08-2020","00:00:00","Brazil - Serie A","Sao Paulo ","Atletico PR ","X","W1","W1","-","-","0.5 O (ST)","-","-","-","-","Atletico PR ","Sao Paulo ","Sao Paulo ","1:0 (0:0) ","-","-","-"]
["27-08-2020","00:15:00","Ecuador Primera Division","Emelec ","Portoviejo ","X","W1","W1","-","-","0.5 O (ST)","1.5 O (ST)","1.5 O (FT)","2.5 O (FT)","-","Emelec ","Emelec ","Emelec ","2:1 (0:0) ","-","-","-"]
["27-08-2020","01:00:00","Morocco Botola","Wydad ","Raja Casablanca ","NB","NB","NB","-","-","-","-","-","-","-","NB","NB","NB","Postponed ","-","-","-"]
["27-08-2020","01:00:00","Morocco Botola","Ittihad Tanger ","Khemis Zemamra ","NB","NB","NB","-","-","-","-","-","-","-","NB","NB","NB","Postponed ","-","-","-"]
["27-08-2020","01:00:00","Paraguay Primera Division","Guairena ","Cerro Porteno ","W1","W2","W2","-","-","0.5 O (ST)","-","1.5 O (FT)","-","-","Guairena ","Cerro Porteno ","Guairena ","1:2 (1:0) ","-","-","-"]
["27-08-2020","01:00:00","Peru-Primera division","Cusco ","Sport Boys ","X","W1","W1","-","-","0.5 O (ST)","-","1.5 O (FT)","-","-","Cusco ","Cusco ","Cusco ","2:0 (0:0) ","-","-","-"]
["27-08-2020","01:00:00","USA USL","Charlotte Ind. ","Carolina ","X","W1","W1","0.5 O (HT)","-","0.5 O (ST)","-","1.5 O (FT)","-","-","Carolina ","Charlotte Ind. ","Charlotte Ind. ","1:0 (0:0) ","-","-","-"]
["27-08-2020","01:15:00","Uruguay Primera Division","Nacional M. ","Progreso ","W1","W1","W1","-","-","0.5 O (ST)","-","1.5 O (FT)","-","-","Nacional M. ","Progreso ","-","2:1 (2:0) ","-","-","-"]
["27-08-2020","01:30:00","Paraguay Primera Division"," de Octubre ","Olimpia Asuncion ","NB","NB","NB","NB","NB","NB","NB","NB","NB","NB","NB","NB","NB","0:3 (0:2) ",{"$error":"#N/A"},{"$error":"#N/A"},{"$error":"#N/A"}]
["27-08-2020","01:30:00","USA MLS","Orlando ","Nashville ","X","W1","W1","-","-","0.5 O (ST)","-","1.5 O (FT)","-","-","Orlando ","Orlando ","Nashville ","3:1 (1:1) ","-","-","-"]
["27-08-2020","01:30:00","USA USL","Charleston ","Miami ","W1","X","W1","-","-","-","1.5 O (ST)","1.5 O (FT)","2.5 O (FT)","-","Charleston ","Charleston ","Charleston ","3:1 (2:0) ","-","-","-"]
["27-08-2020","02:00:00","Ecuador Primera Division","Guayaquil City ","Barcelona Guayaquil ","W2","W2","W2","-","-","0.5 O (ST)","-","1.5 O (FT)","2.5 O (FT)","-","Barcelona Guayaquil ","Barcelona Guayaquil ","Barcelona Guayaquil ","2:1 (2:0) ","-","-","-"]
["27-08-2020","02:00:00","USA MLS","Inter Miami CF ","Atlanta ","NB","NB","NB","-","-","0.5 O (ST)","-","-","-","-","NB","NB","NB","Postponed ","-","-","-"]
["27-08-2020","02:00:00","USA USL","Louisville City ","Indy Eleven ","X","W1","W1","-","-","-","-","-","-","-","Indy Eleven ","Louisville City ","Louisville City ","1:0 (0:0) ","-","-","-"]
["27-08-2020","02:30:00","Brazil - Serie A","Corinthians ","Fortaleza ","X","X","W1","-","-","0.5 O (ST)","-","1.5 O (FT)","-","-","Corinthians ","Corinthians ","Corinthians ","1:1 (0:0) ","-","-","-"]
["27-08-2020","02:30:00","USA MLS","Dallas ","Colorado ","X","X","X","-","-","0.5 O (ST)","1.5 O (ST)","1.5 O (FT)","-","-","Colorado ","-","-","Postponed ","-","-","-"]
["27-08-2020","03:00:00","USA USL","Colorado Springs Sw. ","Austin Bold ","W2","W1","X","-","-","-","-","1.5 O (FT)","-","-","Austin Bold ","Colorado Springs Sw. ","-","4:4 (0:4) ","-","-","-"]
["27-08-2020","03:30:00","USA MLS","Salt Lake ","Los Angeles ","NB","NB","NB","0.5 O (HT)","1.5 O (HT)","0.5 O (ST)","1.5 O (ST)","1.5 O (FT)","2.5 O (FT)","3.5 O (FT)","NB","NB","NB","Postponed ","-","-","-"]
["27-08-2020","04:30:00","USA MLS","San Jose ","Portland ","X","W1","W1","-","-","0.5 O (ST)","-","1.5 O (FT)","2.5 O (FT)","-","-","-","San Jose ","Postponed ","-","-","-"]
["27-08-2020","04:30:00","USA USL","Portland Timbers II ","LA Galaxy II ","W2","W2","W2","-","-","0.5 O (ST)","1.5 O (ST)","1.5 O (FT)","2.5 O (FT)","3.5 O (FT)","LA Galaxy II ","LA Galaxy II ","LA Galaxy II ","2:3 (0:1) ","-","-","-"]
["27-08-2020","05:00:00","USA MLS","LA Galaxy ","Seattle ","X","W2","W2","-","-","0.5 O (ST)","-","1.5 O (FT)","-","-","LA Galaxy ","Seattle ","Seattle ","Postponed ","-","-","-"]
["27-08-2020","11:00:00","Myanmar National League","Sagaing Utd ","Ayeyawady ","W2","W2","W2","-","1.5 O (HT)","-","-","1.5 O (FT)","-","-","Ayeyawady ","Ayeyawady ","-","1:6 (0:2) ","-","-","-"]
["27-08-2020","11:00:00","Myanmar National League","Shan United ","Rakhine Utd ","W1","X","W1","0.5 O (HT)","-","-","-","-","-","-","Shan United ","Shan United ","Shan United ","1:0 (1:0) ","-","-","-"]
["27-08-2020","11:30:00","Australia NPL Queensland","Eastern Suburbs ","Queensland ","W1","W2","X","-","-","-","-","-","-","-","Eastern Suburbs ","Queensland ","Eastern Suburbs ","1:1 (1:0) ","-","-","-"]
["27-08-2020","12:00:00","China Super League","Shijiazhuang ","Beijing Guoan ","X","X","X","-","-","0.5 O (ST)","1.5 O (ST)","1.5 O (FT)","2.5 O (FT)","-","-","-","Beijing Guoan ","2:2 (1:1) ","-","-","-"]
["27-08-2020","12:00:00","Kazakhstan Premier League","Zhetysu ","Kyzyl-Zhar ","W1","W1","W1","0.5 O (HT)","-","-","-","-","-","-","Zhetysu ","Zhetysu ","Zhetysu ","3:0 (2:0) ","-","-","-"]
["27-08-2020","14:00:00","Russia - 1. Division","Spartak  ","Krasnodar- ","NB","NB","NB","NB","NB","NB","NB","NB","NB","NB","NB","NB","NB",{"$error":"#N/A"},{"$error":"#N/A"},{"$error":"#N/A"},{"$error":"#N/A"}]
["27-08-2020","14:00:00","China Super League","Qingdao Huanghai ","Hebei China ","W2","X","W2","0.5 O (HT)","-","0.5 O (ST)","-","1.5 O (FT)","-","-","Hebei China ","Hebei China ","Hebei China ",{"$error":"#N/A"},{"$error":"#N/A"},{"$error":"#N/A"},{"$error":"#N/A"}]
["27-08-2020","15:30:00","South Africa Premier Soccer League","Bloemfontein ","Bidwest Wits ","X","X","X","-","-","-","-","-","-","-","-","Bidwest Wits ","Bidwest Wits ","1:1 (1:1) ","-","-","-"]
["27-08-2020","15:30:00","Uzbekistan Superleague","Lokomotiv ","FC Nasaf ","W2","W2","W2","0.5 O (HT)","-","0.5 O (ST)","1.5 O (ST)","1.5 O (FT)","2.5 O (FT)","3.5 O (FT)","FC Nasaf ","FC Nasaf ","FC Nasaf ","0:4 (0:2) ","-","-","-"]
["27-08-2020","16:00:00","UEFA Europa League","Ventspils ","Dinamo Auto ","X","W1","W1","0.5 O (HT)","-","0.5 O (ST)","-","1.5 O (FT)","2.5 O (FT)","-","Ventspils ","Ventspils ","Ventspils ","2:1 (1:1) ",{"$error":"#N/A"},{"$error":"#N/A"},{"$error":"#N/A"}]
["27-08-2020","16:00:00","UEFA Europa League","Ordabasy ","Botosani ","W2","X","W2","-","-","-","-","1.5 O (FT)","-","-","Botosani ","-","Botosani ","1:2 (1:2) ","-","-","-"]
["27-08-2020","16:00:00","UEFA Europa League","Kairat ","FC Noah ","W1","W1","W1","-","-","-","-","-","-","-","FC Noah ","Kairat ","FC Noah ","4:1 (2:1) ","-","-","-"]
["27-08-2020","16:00:00","Egypt Premier League","Al Ittihad ","El Hodood ","X","X","X","-","-","0.5 O (ST)","-","1.5 O (FT)","-","-","Al Ittihad ","El Hodood ","El Hodood ","1:1 (0:0) ","-","-","-"]
["27-08-2020","16:00:00","Uzbekistan Superleague","FC Andijon ","Pakhtakor ","W2","X","W2","-","-","-","1.5 O (ST)","1.5 O (FT)","-","-","Pakhtakor ","Pakhtakor ","Pakhtakor ","0:2 (0:2) ","-","-","-"]
["27-08-2020","16:30:00","UEFA Europa League","Teuta ","Beitar Jerusalem ","W1","W1","W1","-","-","-","-","-","-","-","Teuta ","Teuta ","Teuta ","2:0 (1:0) ","-","-","-"]
["27-08-2020","16:30:00","UEFA Europa League","Banja Luka ","Sutjeska ","W1","X","W1","0.5 O (HT)","-","-","-","-","-","-","Banja Luka ","Sutjeska ","Banja Luka ","1:0 (1:0) ","-","-","-"]
["27-08-2020","16:30:00","UEFA Europa League","Kalju ","Mura ","NB","NB","NB","-","-","-","1.5 O (ST)","1.5 O (FT)","-","-","NB","NB","NB","Postponed ","-","-","-"]
["27-08-2020","17:00:00","UEFA Europa League","Dinamo Minsk ","Piast Gliwice ","W2","W2","W2","-","-","0.5 O (ST)","-","-","-","-","Piast Gliwice ","Piast Gliwice ","Piast Gliwice ","0:2 (0:1) ","-","-","-"]
["27-08-2020","17:30:00","UEFA Europa League","Lincoln Red Imps ","Racing U ","W1","W1","W1","0.5 O (HT)","-","0.5 O (ST)","-","1.5 O (FT)","-","-","Lincoln Red Imps ","Lincoln Red Imps ","Lincoln Red Imps ","2:0 (1:0) ","-","-","-"]
["27-08-2020","18:00:00","UEFA Europa League","Bodo-Glimt ","Kauno ","W1","W1","W1","-","-","0.5 O (ST)","-","1.5 O (FT)","-","-","Bodo-Glimt ","Bodo-Glimt ","Bodo-Glimt ","6:1 (2:0) ","-","-","-"]
["27-08-2020","18:00:00","UEFA Europa League","Alashkert ","Renova ","X","W2","W2","-","-","0.5 O (ST)","-","-","-","-","Alashkert ","Renova ","Renova ","0:1 (0:0) ","-","-","-"]
["27-08-2020","18:00:00","UEFA Europa League","Neftchi Baku ","FK Shkupi ","X","W1","W1","-","-","-","-","1.5 O (FT)","-","-","FK Shkupi ","Neftchi Baku ","-","2:1 (0:0) ","-","-","-"]
["27-08-2020","18:00:00","UEFA Europa League","Apollon Lim. ","Saburtalo ","W1","W1","W1","0.5 O (HT)","-","0.5 O (ST)","1.5 O (ST)","1.5 O (FT)","2.5 O (FT)","-","Apollon Lim. ","Apollon Lim. ","Apollon Lim. ","5:1 (2:0) ","-","-","-"]
["27-08-2020","18:00:00","UEFA Europa League","Sumgayit ","FK Shkendija ","X","W2","W2","-","-","-","-","-","-","-","-","FK Shkendija ","FK Shkendija ","0:2 (0:0) ",{"$error":"#N/A"},{"$error":"#N/A"},{"$error":"#N/A"}]
["27-08-2020","18:00:00","Norway - Adeccoligaen","KFUM Oslo ","Stjordals Blink ","W2","X","W2","-","-","-","-","-","-","-","Stjordals Blink ","KFUM Oslo ","Stjordals Blink ","0:1 (0:1) ","-","-","-"]
["27-08-2020","18:00:00","Norway - Adeccoligaen","Lillestrom ","Strommen ","W1","X","W1","-","-","0.5 O (ST)","-","1.5 O (FT)","-","-","Lillestrom ","Strommen ","Lillestrom ","1:0 (1:0) ","-","-","-"]
["27-08-2020","18:00:00","Norway - Adeccoligaen","Sandnes ","Raufoss ","W1","W1","W1","0.5 O (HT)","-","0.5 O (ST)","-","1.5 O (FT)","-","-","Sandnes ","Sandnes ","Sandnes ","2:1 (1:1) ","-","-","-"]
["27-08-2020","18:00:00","Norway - Adeccoligaen","Aasane ","Grorud ","X","X","X","-","-","0.5 O (ST)","-","1.5 O (FT)","-","-","Aasane ","Grorud ","Grorud ","1:1 (0:0) ","-","-","-"]
["27-08-2020","18:00:00","Norway - Adeccoligaen","Ullensaker ","Kongsvinger ","X","W2","X","-","-","0.5 O (ST)","-","1.5 O (FT)","-","-","Ullensaker ","Kongsvinger ","Kongsvinger ","0:2 (0:0) ","-","-","-"]
["27-08-2020","18:00:00","Norway - Adeccoligaen","Jerv ","Ranheim ","W2","W2","W2","-","-","0.5 O (ST)","-","1.5 O (FT)","2.5 O (FT)","-","Ranheim ","Ranheim ","Ranheim ","1:6 (1:3) ","-","-","-"]
["27-08-2020","18:00:00","Norway - Adeccoligaen","Sogndal ","Oeygarden ","W1","W1","W1","-","-","0.5 O (ST)","-","-","-","-","Sogndal ","Sogndal ","Sogndal ","2:0 (1:0) ","-","-","-"]
["27-08-2020","18:00:00","Peru-Primera division","Universitario Dep. ","San Martin ","X","W1","W1","-","-","0.5 O (ST)","1.5 O (ST)","1.5 O (FT)","-","-","Universitario Dep. ","Universitario Dep. ","Universitario Dep. ","2:0 (0:0) ","-","-","-"]
["27-08-2020","18:00:00","South Africa Premier Soccer League","Kaizer Chiefs ","Mamelodi ","X","X","W2","-","-","-","-","-","-","-","Mamelodi ","Mamelodi ","Mamelodi ","0:1 (0:1) ","-","-","-"]
["27-08-2020","18:30:00","UEFA Europa League","Olimpija L ","Vikingur R ","X","W1","W1","-","-","-","-","1.5 O (FT)","-","-","Vikingur R ","Olimpija L ","Olimpija L ","1:1 (0:1) AET 1:0 ","-","-","-"]
["27-08-2020","18:30:00","UEFA Europa League","Fehervar ","Bohemians D. ","X","X","W2","-","-","-","-","-","-","-","Bohemians D. ","Bohemians D. ","Bohemians D. ","1:1 (1:1) AET 0:0, pen 4:2 ","-","-","-"]
["27-08-2020","18:30:00","Egypt Premier League","Misr Lel ","Wadi Degla ","W2","W2","W2","0.5 O (HT)","-","0.5 O (ST)","-","1.5 O (FT)","-","-","Misr Lel ","Wadi Degla ","Misr Lel ","1:3 (1:2) ","-","-","-"]
["27-08-2020","18:30:00","Norway - Adeccoligaen","Ham-Kam ","Tromsoe ","W1","W2","W1","0.5 O (HT)","-","0.5 O (ST)","1.5 O (ST)","1.5 O (FT)","2.5 O (FT)","-","-","Tromsoe ","Tromsoe ","0:2 (0:1) ","-","-","-"]
["27-08-2020","19:00:00","UEFA Europa League","Malmo ","Cracovia ","W1","X","W1","-","-","-","-","1.5 O (FT)","-","-","Malmo ","Cracovia ","Malmo ","2:0 (2:0) ","-","-","-"]
["27-08-2020","19:00:00","UEFA Europa League","Hammarby ","Puskas ","W1","W1","W1","-","-","0.5 O (ST)","-","1.5 O (FT)","-","-","Hammarby ","Hammarby ","Hammarby ","3:0 (2:0) ","-","-","-"]
["27-08-2020","19:00:00","UEFA Europa League","Rosenborg ","Breidablik ","W1","W2","W1","0.5 O (HT)","-","0.5 O (ST)","-","1.5 O (FT)","-","-","Rosenborg ","Breidablik ","Rosenborg ","4:2 (4:0) ","-","-","-"]
["27-08-2020","19:00:00","UEFA Europa League","Keshla ","Laci ","X","X","W1","0.5 O (HT)","-","-","-","-","-","-","Keshla ","Keshla ","Keshla ",{"$error":"#N/A"},{"$error":"#N/A"},{"$error":"#N/A"},{"$error":"#N/A"}]
["27-08-2020","19:00:00","UEFA Europa League","VMFD Zalgiris ","Paide ","W1","X","W1","-","-","-","-","1.5 O (FT)","-","-","VMFD Zalgiris ","-","VMFD Zalgiris ","2:0 (2:0) ","-","-","-"]
["27-08-2020","19:00:00","UEFA Europa League","CSKA Sofia ","Sirens ","X","W1","W1","-","-","0.5 O (ST)","-","-","-","-","-","CSKA Sofia ","CSKA Sofia ","2:1 (0:0) ","-","-","-"]
["27-08-2020","19:00:00","UEFA Europa League","Vaduz ","Hibernians ","W2","W2","W2","-","-","0.5 O (ST)","-","1.5 O (FT)","-","-","Hibernians ","Hibernians ","Hibernians ","0:2 (0:1) ","-","-","-"]
["27-08-2020","19:00:00","UEFA Europa League","Aarhus ","Honka ","W1","W1","W1","-","-","-","-","1.5 O (FT)","2.5 O (FT)","-","-","Honka ","Honka ","5:2 (3:1) ","-","-","-"]
["27-08-2020","19:00:00","UEFA Europa League","SC Gjilani ","APOEL ","X","W1","W1","-","-","0.5 O (ST)","-","1.5 O (FT)","-","-","SC Gjilani ","SC Gjilani ","SC Gjilani ","0:0 (0:0) AET 0:2 ","-","-","-"]
["27-08-2020","19:00:00","UEFA Europa League","Lok Tbilisi ","U. Craiova ","X","W1","W1","-","-","-","-","1.5 O (FT)","-","-","U. Craiova ","U. Craiova ","U. Craiova ","2:1 (0:0) ","-","-","-"]
["27-08-2020","19:00:00","UEFA Europa League","Maccabi Haifa ","Zeljeznicar ","NB","NB","NB","0.5 O (HT)","-","0.5 O (ST)","-","1.5 O (FT)","2.5 O (FT)","-","NB","NB","NB","Postponed ","-","-","-"]
["27-08-2020","19:15:00","UEFA Europa League","Hafnarfjordur ","Dunajska Streda ","W2","W2","W2","-","-","0.5 O (ST)","-","1.5 O (FT)","-","-","Dunajska Streda ","Dunajska Streda ","Dunajska Streda ","0:2 (0:1) ","-","-","-"]
["27-08-2020","19:30:00","UEFA Europa League","Soligorsk ","Sfintul G ","X","X","X","-","-","-","-","-","-","-","Sfintul G ","Soligorsk ","-","0:0 (0:0) AET 0:0 ",{"$error":"#N/A"},{"$error":"#N/A"},{"$error":"#N/A"}]
["27-08-2020","19:30:00","UEFA Europa League","New Saints ","Zilina4 ","NB","NB","NB","NB","NB","NB","NB","NB","NB","NB","NB","NB","NB","1:1 (0:0) AET 2:0 ","-","-","-"]
["27-08-2020","19:30:00","Israel Liga Leumit","Hapoel Acre ","Ramat Gan Givatayim ","W1","X","W1","-","-","0.5 O (ST)","-","1.5 O (FT)","-","-","Hapoel Acre ","Ramat Gan Givatayim ","Hapoel Acre ","1:1 (1:0) ","-","-","-"]
["27-08-2020","19:30:00","Israel Liga Leumit","Hapoel Iksal ","H Jerusalem ","W2","W1","X","-","-","-","-","1.5 O (FT)","-","-","H Jerusalem ","H Jerusalem ","H Jerusalem ","3:3 (0:2) ","-","-","-"]
["27-08-2020","19:30:00","Israel Liga Leumit","FC Kafr Qasim ","Nir Ramat Hasharon ","W2","W2","W2","0.5 O (HT)","-","-","-","1.5 O (FT)","2.5 O (FT)","-","Nir Ramat Hasharon ","Nir Ramat Hasharon ","Nir Ramat Hasharon ","0:3 (0:2) ","-","-","-"]
["27-08-2020","19:30:00","Israel Liga Leumit","Hapoel Raanana ","Hapoel Um El Fahem ","W2","X","W2","0.5 O (HT)","-","-","-","1.5 O (FT)","2.5 O (FT)","-","Hapoel Um El Fahem ","Hapoel Raanana ","Hapoel Um El Fahem ","0:1 (0:1) ","-","-","-"]
["27-08-2020","19:45:00","UEFA Europa League","Hapoel Beer Sheva ","Dinamo Batumi ","W1","W1","W1","-","-","0.5 O (ST)","-","1.5 O (FT)","-","-","Hapoel Beer Sheva ","Hapoel Beer Sheva ","Hapoel Beer Sheva ","3:0 (2:0) ","-","-","-"]
["27-08-2020","20:00:00","UEFA Europa League","FK Iskra ","Lok Plovdiv ","X","W2","W2","-","-","0.5 O (ST)","-","-","-","-","-","Lok Plovdiv ","Lok Plovdiv ","0:1 (0:0) ","-","-","-"]
["27-08-2020","20:00:00","UEFA Europa League","Valletta ","Bala Town ","W2","X","W2","0.5 O (HT)","-","-","-","1.5 O (FT)","-","-","Bala Town ","Bala Town ","Bala Town ","0:1 (0:1) ","-","-","-"]
["27-08-2020","20:00:00","UEFA Europa League","B36 Tуrshavn ","Levadia ","X","W1","W1","-","-","0.5 O (ST)","-","1.5 O (FT)","-","-","Levadia ","B36 Tуrshavn ","Levadia ","2:2 (0:0) AET 2:1 ","-","-","-"]
["27-08-2020","20:00:00","UEFA Europa League","Kukesi ","Slavia Sofia ","X","W1","W1","-","-","-","-","-","-","-","Kukesi ","Kukesi ","Kukesi ","2:1 (0:0) ","-","-","-"]
["27-08-2020","20:00:00","UEFA Europa League","Petrocub ","Backa Topola ","W2","W2","W2","0.5 O (HT)","-","0.5 O (ST)","-","1.5 O (FT)","-","-","Backa Topola ","Backa Topola ","Backa Topola ",{"$error":"#N/A"},{"$error":"#N/A"},{"$error":"#N/A"},{"$error":"#N/A"}]
["27-08-2020","20:00:00","UEFA Europa League","Zrinjski Mostar ","Differdange ","W1","W1","W1","0.5 O (HT)","-","0.5 O (ST)","-","1.5 O (FT)","-","-","Zrinjski Mostar ","Zrinjski Mostar ","Zrinjski Mostar ","3:0 (2:0) ","-","-","-"]
["27-08-2020","20:00:00","Uruguay Primera Division","Defensor Sp. ","Cerro ","X","X","W1","-","-","-","-","-","-","-","Defensor Sp. ","Cerro ","Cerro ","1:1 (1:0) ","-","-","-"]
["27-08-2020","20:15:00","UEFA Europa League","Servette ","Ruzomberok ","X","W1","W1","-","-","0.5 O (ST)","-","-","-","-","Servette ","Servette ","Servette ","3:0 (0:0) ","-","-","-"]
["27-08-2020","20:15:00","Peru-Primera division","Atletico Grau ","Huanuco ","W2","W1","X","-","-","-","-","-","-","-","Huanuco ","Atletico Grau ","Huanuco ","1:1 (0:1) ",{"$error":"#N/A"},{"$error":"#N/A"},{"$error":"#N/A"}]
["27-08-2020","20:30:00","UEFA Europa League","Steaua B. ","Shirak ","W1","W1","W1","-","-","-","-","-","-","-","Steaua B. ","Steaua B. ","Steaua B. ","3:0 (1:0) ","-","-","-"]
["27-08-2020","20:45:00","UEFA Europa League","Motherwell ","Glentoran ","X","W1","W1","-","-","0.5 O (ST)","1.5 O (ST)","1.5 O (FT)","2.5 O (FT)","-","Glentoran ","Glentoran ","Glentoran ","5:1 (0:0) ","-","-","-"]
["27-08-2020","20:45:00","UEFA Europa League","Maribor ","Coleraine ","X","X","X","-","-","-","-","-","-","-","Maribor ","Maribor ","-","1:1 (0:0) AET 0:0 ","-","-","-"]
["27-08-2020","20:45:00","UEFA Europa League","Aberdeen ","Runavik ","W1","W1","W1","-","-","-","-","-","-","-","Aberdeen ","Aberdeen ","Aberdeen ","6:0 (2:0) ","-","-","-"]
["27-08-2020","21:00:00","UEFA Europa League","Partizan ","Rigas Futbola ","X","W1","W1","-","-","0.5 O (ST)","1.5 O (ST)","1.5 O (FT)","-","-","Partizan ","Partizan ","Partizan ","1:0 (0:0) ","-","-","-"]
["27-08-2020","21:00:00","UEFA Europa League","Shamrock ","Ilves ","X","W1","W1","-","-","-","-","1.5 O (FT)","-","-","Shamrock ","Shamrock ","Shamrock ","2:2 (1:1) AET 0:0, pen 12:11 ",{"$error":"#N/A"},{"$error":"#N/A"},{"$error":"#N/A"}]
["27-08-2020","21:00:00","UEFA Europa League","Honved ","Inter Turku ","X","W1","W1","-","-","-","-","-","-","-","Honved ","Honved ","Honved ","1:1 (0:0) AET 1:0 ","-","-","-"]
["27-08-2020","21:00:00","UEFA Europa League","Lech Poznan ","Valmiera ","X","W1","W1","-","-","0.5 O (ST)","-","1.5 O (FT)","-","-","Valmiera ","Lech Poznan ","Lech Poznan ","3:0 (0:0) ","-","-","-"]
["27-08-2020","21:00:00","Egypt Premier League","Al Mokawloon ","Zamalek ","W1","X","W1","-","-","0.5 O (ST)","-","1.5 O (FT)","-","-","Al Mokawloon ","Zamalek ","Zamalek ","2:1 (1:0) ",{"$error":"#N/A"},{"$error":"#N/A"},{"$error":"#N/A"}]
["27-08-2020","21:00:00","Egypt Premier League","Tanta ","Ismaily ","W2","W2","W2","0.5 O (HT)","-","0.5 O (ST)","-","1.5 O (FT)","2.5 O (FT)","-","Ismaily ","Ismaily ","Ismaily ","1:3 (0:1) ","-","-","-"]
["27-08-2020","21:00:00","Morocco Botola","Mouloudia Oujda ","Raja ","W2","W1","X","-","-","0.5 O (ST)","-","-","-","-","Raja ","Mouloudia Oujda ","Mouloudia Oujda ","1:1 (0:1) ","-","-","-"]
["27-08-2020","22:15:00","Uruguay Primera Division","Wanderers ","Liverpool M ","X","W1","W1","-","-","-","-","1.5 O (FT)","-","-","Wanderers ","Wanderers ","Wanderers ","2:0 (1:0) ","-","-","-"]
["28-08-2020","01:00:00","Paraguay Primera Division","Libertad ","Sportivo Luqueno ","X","X","X","-","-","-","-","-","-","-","Libertad ","Libertad ","Libertad ","0:0 (0:0) ","-","-","-"]
["28-08-2020","01:15:00","Uruguay Primera Division","Penarol ","Cerro Largo ","W1","W1","W1","-","-","-","-","1.5 O (FT)","-","-","Penarol ","Penarol ","Penarol ","2:0 (1:0) ","-","-","-"]
["28-08-2020","13:00:00","Intenational Club Friendlies","Midtjylland ","Fredericia ","W1","X","W1","-","-","0.5 O (ST)","-","1.5 O (FT)","-","-","Midtjylland ","Midtjylland ","Midtjylland ","5:1 (4:0) ","-","-","-"]
["28-08-2020","13:00:00","Intenational Club Friendlies","Nordsjaelland ","HB Koege ","W1","X","W1","-","-","-","-","-","-","-","Nordsjaelland ","HB Koege ","HB Koege ","5:4 (3:2) ","-","-","-"]
["28-08-2020","14:00:00","Russia PFL West","Rodina Moscow ","Zvezda SPb ","W2","W1","W1","0.5 O (HT)","-","0.5 O (ST)","-","1.5 O (FT)","2.5 O (FT)","-","Zvezda SPb ","Rodina Moscow ","Rodina Moscow ","3:2 (0:2) ","-","-","-"]
["28-08-2020","14:00:00","Belarus Reserve League","Minsk Res ","Neman Res ","X","W1","W1","0.5 O (HT)","1.5 O (HT)","0.5 O (ST)","1.5 O (ST)","1.5 O (FT)","2.5 O (FT)","3.5 O (FT)","Neman Res ","Minsk Res ","Neman Res ","3:1 (1:1) ","-","-","-"]
["28-08-2020","15:00:00","Russia PFL South","Anzhi Makhachkala ","Krasnodar-3 ","X","X","X","-","-","0.5 O (ST)","1.5 O (ST)","1.5 O (FT)","-","-","Anzhi Makhachkala ","Anzhi Makhachkala ","Anzhi Makhachkala ","1:1 (0:0) ","-","-","-"]
["28-08-2020","15:00:00","Malaysia Super League","Perak ","Melaka ","X","W2","W2","-","-","0.5 O (ST)","-","-","-","-","Melaka ","Melaka ","Melaka ","0:1 (0:0) ","-","-","-"]
["28-08-2020","15:00:00","Malaysia Super League","Felda ","Uitm Perlis ","W1","X","W1","0.5 O (HT)","-","-","-","-","-","-","Felda ","Felda ","Felda ","0:1 (0:1) ","-","-","-"]
["28-08-2020","15:00:00","Malaysia Super League","Pahang ","Johor D. T. ","W2","X","W2","0.5 O (HT)","-","-","-","-","-","-","-","Johor D. T. ","-","2:3 (2:3) ","-","-","-"]
["28-08-2020","15:30:00","Intenational Club Friendlies","Dortmund ","Paderborn ","W1","W2","W1","-","-","-","-","1.5 O (FT)","-","-","Dortmund ","Paderborn ","Paderborn ","1:1 (1:0) ","-","-","-"]
["28-08-2020","15:30:00","Uzbekistan Superleague","Bunyodkor ","Qizilqum ","W1","W2","X","-","-","0.5 O (ST)","-","1.5 O (FT)","-","-","Bunyodkor ","Qizilqum ","Bunyodkor ","1:1 (1:0) ","-","-","-"]
["28-08-2020","15:30:00","Uzbekistan Superleague","Navbahor ","FK Kokand ","X","W2","W2","-","-","0.5 O (ST)","-","1.5 O (FT)","-","-","-","FK Kokand ","FK Kokand ","0:1 (0:0) ","-","-","-"]
["28-08-2020","16:00:00","Intenational Club Friendlies","Feyenoord ","Hamburg ","X","W2","W2","-","-","-","-","1.5 O (FT)","-","-","Hamburg ","Hamburg ","Hamburg ","0:1 (0:0) ","-","-","-"]
["28-08-2020","16:00:00","Intenational Club Friendlies","Tottenham ","Reading ","W1","X","W1","-","-","-","-","1.5 O (FT)","-","-","Tottenham ","Reading ","Tottenham ","4:1 (3:0) ","-","-","-"]
["28-08-2020","16:00:00","Poland II Liga","S. Ostroda ","Poznan II ","X","W2","W2","-","-","0.5 O (ST)","1.5 O (ST)","1.5 O (FT)","-","-","Poznan II ","Poznan II ","Poznan II ","2:0 (0:0) ","-","-","-"]
["28-08-2020","16:00:00","Uzbekistan Superleague","Sogdiana ","Surkhon Termez ","W1","X","W1","-","-","-","-","1.5 O (FT)","-","-","Sogdiana ","Sogdiana ","Sogdiana ","2:0 (2:0) ","-","-","-"]
["28-08-2020","17:00:00","Romania Liga I","Gaz Metan ","Arges ","W1","W1","W1","-","-","-","-","-","-","-","Gaz Metan ","Gaz Metan ","Gaz Metan ","2:0 (1:0) ","-","-","-"]
["28-08-2020","17:00:00","Poland I Liga","Jastrzebie ","Arka Gdynia ","W2","W2","W2","0.5 O (HT)","-","0.5 O (ST)","-","1.5 O (FT)","-","-","Arka Gdynia ","Arka Gdynia ","Arka Gdynia ","0:4 (0:3) ","-","-","-"]
["28-08-2020","17:00:00","Serbia - Superliga","Indija ","Javor ","W2","X","W2","0.5 O (HT)","-","0.5 O (ST)","-","1.5 O (FT)","2.5 O (FT)","-","Javor ","Javor ","-","3:2 (1:0) ","-","-","-"]
["28-08-2020","17:30:00","Cyprus 1st Division ","Pafos ","Anorthosis ","X","W2","W2","-","-","0.5 O (ST)","-","-","-","-","-","Anorthosis ","Anorthosis ","0:1 (0:0) ","-","-","-"]
["28-08-2020","17:40:00","Poland I Liga","Odra Opole ","LKS Lodz ","W2","W1","W2","-","-","-","-","-","-","-","LKS Lodz ","LKS Lodz ","LKS Lodz ","0:4 (0:2) ","-","-","-"]
["28-08-2020","17:45:00","Bulgaria A Grupa","Tsarsko Selo Sofia ","CSKA 948 ","NB","NB","NB","NB","NB","NB","NB","NB","NB","NB","NB","NB","NB","0:0 (0:0) ","-","-","-"]
["28-08-2020","18:00:00","Czech Republic Gambrinus League","Banik Ostrava ","C. Budejovice ","W2","W1","W1","-","-","-","-","-","-","-","Banik Ostrava ","Banik Ostrava ","Banik Ostrava ","2:2 (1:2) ","-","-","-"]
["28-08-2020","18:00:00","Poland Ekstraklasa","Zaglebie Lubin ","Warta Poznan ","X","W1","W1","-","-","0.5 O (ST)","-","-","-","-","Warta Poznan ","Zaglebie Lubin ","Zaglebie Lubin ","1:0 (0:0) ","-","-","-"]
["28-08-2020","18:00:00","Poland II Liga","Suwalki ","Olimpia Elblag ","X","W1","W1","0.5 O (HT)","-","0.5 O (ST)","-","1.5 O (FT)","2.5 O (FT)","-","Suwalki ","Suwalki ","Suwalki ","2:1 (1:1) ","-","-","-"]
["28-08-2020","18:00:00","South Africa Premier Soccer League","Stellenbosch ","Chippa Utd ","W1","W2","X","-","-","0.5 O (ST)","-","-","-","-","Stellenbosch ","Chippa Utd ","Chippa Utd ","1:1 (1:0) ","-","-","-"]
["28-08-2020","18:45:00","Netherlands Eerste Divisie","Jong Utrecht ","FC Eindhoven ","W2","X","W2","0.5 O (HT)","-","0.5 O (ST)","-","1.5 O (FT)","-","-","FC Eindhoven ","Jong Utrecht ","Jong Utrecht ","1:2 (0:1) ","-","-","-"]
["28-08-2020","19:00:00","Denmark 2nd Division","Roskilde ","Naestved ","W1","W1","W1","-","-","-","-","1.5 O (FT)","-","-","Roskilde ","Roskilde ","Roskilde ","Postponed ","-","-","-"]
["28-08-2020","19:00:00","Denmark 2nd Division","Hellerup ","AB Taarnby ","X","W1","W1","-","-","-","-","1.5 O (FT)","-","-","-","Hellerup ","Hellerup ","1:0 (0:0) ","-","-","-"]
["28-08-2020","19:00:00","Serbia - Superliga","Metalac ","Cukaricki ","X","X","X","-","-","-","-","-","-","-","Metalac ","Cukaricki ","Cukaricki ","0:0 (0:0) ","-","-","-"]
["28-08-2020","19:30:00","Cyprus 1st Division ","AEL Limassol ","Nea Salamina ","X","W1","W1","-","-","-","-","-","-","-","AEL Limassol ","AEL Limassol ","AEL Limassol ","2:1 (1:1) ","-","-","-"]
["28-08-2020","19:30:00","Faroe islands Premier League","Tvoeroyri ","Vikingur ","X","W2","W2","-","-","0.5 O (ST)","-","1.5 O (FT)","2.5 O (FT)","-","Vikingur ","Vikingur ","Vikingur ","1:2 (1:1) ","-","-","-"]
["28-08-2020","19:30:00","Poland II Liga","Chojnice ","Pogon Siedlce ","W1","X","W1","-","-","-","-","1.5 O (FT)","2.5 O (FT)","-","Chojnice ","Pogon Siedlce ","-","4:2 (3:1) ","-","-","-"]
["28-08-2020","20:00:00","Romania Liga I","UTA Arad ","Voluntari ","X","X","X","-","-","-","-","-","-","-","Voluntari ","-","Voluntari ","0:0 (0:0) ","-","-","-"]
["28-08-2020","20:00:00","France National","Concarneau ","Stade Briochin ","X","X","X","-","-","-","-","-","-","-","-","Concarneau ","-","0:0 (0:0) ","-","-","-"]
["28-08-2020","20:00:00","France National","Boulogne ","Red Star ","W1","W2","X","-","-","0.5 O (ST)","-","1.5 O (FT)","-","-","Boulogne ","Red Star ","Boulogne ","1:1 (1:0) ","-","-","-"]
["28-08-2020","20:00:00","France National","Creteil ","Orleans ","X","W1","W1","-","-","-","-","-","-","-","Creteil ","Creteil ","Creteil ","1:0 (0:0) ","-","-","-"]
["28-08-2020","20:00:00","France National","Le Mans ","Quevilly Rouen ","W2","X","X","-","-","-","-","1.5 O (FT)","-","-","Quevilly Rouen ","Le Mans ","Le Mans ","2:2 (0:2) ","-","-","-"]
["28-08-2020","20:00:00","France National","Bourg Peronnas ","Annecy ","NB","NB","NB","NB","NB","NB","NB","NB","NB","NB","NB","NB","NB","Postponed ","-","-","-"]
["28-08-2020","20:00:00","France National","Sete ","Lyon-Duchere ","W2","W1","W1","0.5 O (HT)","-","-","-","1.5 O (FT)","-","-","Lyon-Duchere ","Sete ","Lyon-Duchere ","3:1 (0:1) ","-","-","-"]
["28-08-2020","20:00:00","France National","Villefranche ","Cholet ","X","X","X","-","-","-","-","1.5 O (FT)","-","-","Cholet ","-","Villefranche ","0:0 (0:0) ","-","-","-"]
["28-08-2020","20:00:00","France National","Laval ","Avranches ","W2","X","W2","0.5 O (HT)","-","0.5 O (ST)","-","1.5 O (FT)","-","-","Avranches ","Laval ","-","1:3 (0:2) ","-","-","-"]
["28-08-2020","20:00:00","Belgium Tweede Klasse","Seraing ","Deinze ","W2","W1","W1","-","-","0.5 O (ST)","1.5 O (ST)","1.5 O (FT)","2.5 O (FT)","-","Deinze ","Seraing ","Seraing ","3:2 (0:2) ","-","-","-"]
["28-08-2020","20:00:00","Bulgaria A Grupa","Beroe ","Vratsa ","W1","W1","W1","-","-","-","-","-","-","-","Beroe ","Beroe ","Beroe ","6:0 (3:0) ","-","-","-"]
["28-08-2020","20:00:00","Croatia 1. Division","Gorica ","Sibenik ","W1","X","W1","-","-","-","-","1.5 O (FT)","-","-","Gorica ","Gorica ","-","3:2 (1:0) ","-","-","-"]
["28-08-2020","20:00:00","Faroe islands Premier League","EB Streymur ","Fuglafjordur ","X","W1","W1","-","-","0.5 O (ST)","-","1.5 O (FT)","-","-","Fuglafjordur ","EB Streymur ","EB Streymur ","1:0 (0:0) ","-","-","-"]
["28-08-2020","20:00:00","Hungary - NBI Liga","Diosgyori ","MTK Budapest ","W1","W2","W2","0.5 O (HT)","-","-","-","1.5 O (FT)","-","-","Diosgyori ","MTK Budapest ","Diosgyori ","1:1 (1:0) ","-","-","-"]
["28-08-2020","20:00:00","Iceland - 1st deild","Leiknir R ","Keflavik ","W1","W1","W1","-","-","0.5 O (ST)","1.5 O (ST)","1.5 O (FT)","-","-","Leiknir R ","Leiknir R ","Keflavik ","5:1 (3:1) ","-","-","-"]
["28-08-2020","20:00:00","Intenational Club Friendlies","Villarreal ","Valencia ","W1","X","W1","-","-","-","-","1.5 O (FT)","-","-","Villarreal ","Valencia ","Villarreal ","1:2 (1:0) ","-","-","-"]
["28-08-2020","20:30:00","Poland Ekstraklasa","Stal Mielec ","Gornik Zabrze ","W2","W2","W2","0.5 O (HT)","-","-","-","1.5 O (FT)","-","-","Gornik Zabrze ","Gornik Zabrze ","Gornik Zabrze ","0:2 (0:1) ","-","-","-"]
["28-08-2020","20:45:00","Belgium Pro League","Oostende ","Anderlecht ","W1","W2","X","-","-","-","-","-","-","-","Oostende ","Anderlecht ","Oostende ","2:2 (2:1) ","-","-","-"]
["28-08-2020","21:00:00","France Ligue 1","Lyon ","Dijon ","W1","W1","W1","0.5 O (HT)","-","0.5 O (ST)","-","-","-","-","Lyon ","Lyon ","Dijon ","4:1 (3:1) ","-","-","-"]
["28-08-2020","21:00:00","Netherlands Eerste Divisie","Cambuur ","NEC Nijmegen ","X","W1","W1","-","-","0.5 O (ST)","1.5 O (ST)","1.5 O (FT)","-","-","Cambuur ","Cambuur ","Cambuur ","2:0 (0:0) ","-","-","-"]
["29-08-2020","00:15:00","Brazil - Serie B","Oeste SP ","Avai ","W2","W2","W2","-","-","0.5 O (ST)","-","-","-","-","Avai ","Avai ","Avai ","0:2 (0:1) ","-","-","-"]
["29-08-2020","01:00:00","USA USL","Hartford ","Pittsburgh II ","W2","W2","W2","0.5 O (HT)","-","0.5 O (ST)","-","1.5 O (FT)","2.5 O (FT)","-","Pittsburgh II ","Pittsburgh II ","Pittsburgh II ","0:3 (0:2) ","-","-","-"]
["29-08-2020","01:30:00","Brazil - Serie B","Cuiaba ","Chapecoense ","W2","X","W1","-","-","-","-","-","-","-","Chapecoense ","Cuiaba ","Cuiaba ",{"$error":"#N/A"},{"$error":"#N/A"},{"$error":"#N/A"},{"$error":"#N/A"}]
["29-08-2020","02:00:00","Ecuador Primera Division","Aucas ","Macara ","W1","X","X","-","-","-","-","-","-","-","Aucas ","Macara ","Aucas ","1:0 (1:0) ","-","-","-"]
["29-08-2020","02:00:00","USA MLS","Montreal Imp ","Toronto ","X","W2","W2","-","-","0.5 O (ST)","-","-","-","-","Montreal Imp ","Toronto ","Toronto ","0:1 (0:0) ","-","-","-"]
["29-08-2020","02:00:00","USA USL","Rio Grande Valley ","San Antonio ","X","W1","W1","-","-","0.5 O (ST)","-","-","-","-","San Antonio ","Rio Grande Valley ","-","1:3 (1:2) ","-","-","-"]
["29-08-2020","02:30:00","Brazil - Serie B","Guarani ","Nautico PE ","W1","W2","W2","0.5 O (HT)","-","-","-","1.5 O (FT)","-","-","Guarani ","Nautico PE ","Nautico PE ","1:2 (1:0) ","-","-","-"]
["29-08-2020","02:30:00","Mexico Primera Division","Puebla ","Toluca ","W1","W1","W1","0.5 O (HT)","1.5 O (HT)","-","1.5 O (ST)","1.5 O (FT)","2.5 O (FT)","3.5 O (FT)","Toluca ","Puebla ","Toluca ","4:1 (2:1) ","-","-","-"]
["29-08-2020","04:30:00","Mexico Primera Division","Mazatlan ","Tigres ","X","X","X","-","-","0.5 O (ST)","-","1.5 O (FT)","-","-","Tigres ","Tigres ","Tigres ","1:1 (0:0) ","-","-","-"]
["29-08-2020","06:00:00","Australia NPL Tasmania","Riverside Olympic ","Clarence ","X","X","X","0.5 O (HT)","-","-","-","-","-","-","Riverside Olympic ","-","Riverside Olympic ","3:3 (1:1) ","-","-","-"]
["29-08-2020","06:15:00","Australia NPL Tasmania","Kingborough Lions ","Devonport ","W1","W2","X","0.5 O (HT)","-","0.5 O (ST)","-","1.5 O (FT)","-","-","Kingborough Lions ","Devonport ","-","1:1 (1:0) ","-","-","-"]
["29-08-2020","07:30:00","Australia NPL South Australia","Modbury Jets ","Croydon ","W2","X","W2","0.5 O (HT)","-","-","-","1.5 O (FT)","2.5 O (FT)","-","Modbury Jets ","-","-","1:3 (1:3) ","-","-","-"]
["29-08-2020","07:30:00","Australia NPL South Australia","Metro Stars ","Para Hills ","W2","W1","W1","-","-","0.5 O (ST)","-","-","-","-","Para Hills ","Metro Stars ","Metro Stars ","3:2 (0:1) ","-","-","-"]
["29-08-2020","07:30:00","Australia NPL South Australia","Adelaide City ","Adelaide U- ","NB","NB","NB","NB","NB","NB","NB","NB","NB","NB","NB","NB","NB","2:1 (1:1) ","-","-","-"]
["29-08-2020","07:30:00","Australia NPL South Australia","Comets ","Blue Eagles ","X","W1","W1","-","-","0.5 O (ST)","-","1.5 O (FT)","-","-","Blue Eagles ","Comets ","Comets ","4:0 (0:0) ","-","-","-"]
["29-08-2020","08:00:00","Chinese Taipei Mulan League Women","Hualien W ","Kaohsiung W ","W1","W1","W1","-","-","-","1.5 O (ST)","1.5 O (FT)","2.5 O (FT)","-","Hualien W ","Hualien W ","Hualien W ","3:0 (1:0) ","-","-","-"]
["29-08-2020","08:00:00","Chinese Taipei Mulan League Women","Taichung Blue W ","Taipei Bear W ","W1","W2","W1","-","1.5 O (HT)","0.5 O (ST)","-","1.5 O (FT)","2.5 O (FT)","-","Taichung Blue W ","Taipei Bear W ","Taipei Bear W ","2:1 (2:0) ","-","-","-"]
["29-08-2020","08:00:00","Japan J. League 3","Grulla M ","Imabari ","W2","X","W2","-","-","-","-","-","-","-","Imabari ","Grulla M ","Imabari ","0:1 (0:1) ","-","-","-"]
["29-08-2020","08:30:00","Australia NPL Tasmania","Glenorchy ","Launceston ","W1","W1","W1","0.5 O (HT)","1.5 O (HT)","0.5 O (ST)","-","1.5 O (FT)","2.5 O (FT)","-","Glenorchy ","Glenorchy ","Glenorchy ","3:0 (2:0) ","-","-","-"]
["29-08-2020","09:00:00","Australia NPL Queensland","Peninsula ","Capalaba ","W1","W1","W1","0.5 O (HT)","-","0.5 O (ST)","-","1.5 O (FT)","-","-","Peninsula ","Peninsula ","Peninsula ","2:0 (1:0) ","-","-","-"]
["29-08-2020","09:00:00","Australia NPL Western Australia","Floreat ","Sorrento ","W1","W1","W1","0.5 O (HT)","-","0.5 O (ST)","-","1.5 O (FT)","2.5 O (FT)","-","Floreat ","-","Floreat ","3:1 (1:0) ","-","-","-"]
["29-08-2020","09:00:00","Australia NPL Western Australia","Gwelup Croatia ","Bayswater ","W1","W1","W1","0.5 O (HT)","1.5 O (HT)","0.5 O (ST)","-","1.5 O (FT)","2.5 O (FT)","-","-","Gwelup Croatia ","-","3:1 (2:1) ","-","-","-"]
["29-08-2020","09:00:00","Australia NPL Western Australia","Joondalup ","Perth ","X","W1","W1","-","-","0.5 O (ST)","1.5 O (ST)","1.5 O (FT)","2.5 O (FT)","-","-","-","-","2:1 (0:0) ","-","-","-"]
["29-08-2020","09:00:00","Australia NPL Western Australia","Balcatta ","Inglewood Utd ","W1","W2","W2","-","-","0.5 O (ST)","1.5 O (ST)","1.5 O (FT)","-","-","Balcatta ","Inglewood Utd ","-","1:2 (1:0) ","-","-","-"]
["29-08-2020","09:00:00","Australia NPL Western Australia","Armadale ","Perth Glory U ","NB","NB","NB","NB","NB","NB","NB","NB","NB","NB","NB","NB","NB","5:2 (2:1) ","-","-","-"]
["29-08-2020","09:00:00","Australia NPL Western Australia","Rockingham City ","Cockburn ","W2","W2","W2","-","-","0.5 O (ST)","-","1.5 O (FT)","-","-","Cockburn ","Cockburn ","Cockburn ","0:3 (0:2) ","-","-","-"]
["29-08-2020","09:30:00","Australia NPL Capital Football","Belconnen ","Cooma ","W1","W1","W1","0.5 O (HT)","-","-","-","-","-","-","Belconnen ","Belconnen ","Belconnen ","2:0 (1:0) ","-","-","-"]
["29-08-2020","09:30:00","Australia NPL Capital Football","Panthers ","Gungahlin Un. ","X","X","X","-","-","-","-","-","-","-","Gungahlin Un. ","Panthers ","-","0:0 (0:0) ","-","-","-"]
["29-08-2020","09:30:00","Australia NPL Queensland","Brisbane City ","Moreton Bay ","W2","X","W2","0.5 O (HT)","-","0.5 O (ST)","1.5 O (ST)","1.5 O (FT)","2.5 O (FT)","-","Moreton Bay ","Moreton Bay ","-","1:2 (0:1) ","-","-","-"]
["29-08-2020","09:30:00","Australia NPL South Australia","Cumberland ","Campbelltown ","W2","X","W2","-","-","-","-","-","-","-","Campbelltown ","Cumberland ","Campbelltown ","0:1 (0:1) ","-","-","-"]
["29-08-2020","10:00:00","Japan J. League 3","Fujieda ","Kagoshima Utd ","W1","X","W1","-","-","-","-","1.5 O (FT)","-","-","Fujieda ","Kagoshima Utd ","Fujieda ","1:0 (1:0) ","-","-","-"]
["29-08-2020","10:25:00","Australia NPL Capital Football","Woden Weston ","Canberra Ol. ","W1","W1","W1","0.5 O (HT)","-","-","-","-","-","-","Woden Weston ","-","Canberra Ol. ","3:1 (1:0) ","-","-","-"]
["29-08-2020","10:30:00","Australia NPL Queensland","Brisbane Strikers ","Gold Coast Utd ","W2","W1","W2","0.5 O (HT)","1.5 O (HT)","0.5 O (ST)","1.5 O (ST)","1.5 O (FT)","2.5 O (FT)","3.5 O (FT)","Gold Coast Utd ","Gold Coast Utd ","-","2:3 (0:2) ","-","-","-"]
["29-08-2020","10:30:00","Australia NPL South Australia","Adelaide Olympic ","Adelaide Croatia ","X","X","X","0.5 O (HT)","-","-","-","-","-","-","Adelaide Croatia ","Adelaide Olympic ","Adelaide Croatia ","4:4 (2:2) ","-","-","-"]
["29-08-2020","10:30:00","Australia NPL Tasmania","Olympia W ","South Hobart ","X","W1","W1","0.5 O (HT)","-","-","-","-","-","-","South Hobart ","Olympia W ","South Hobart ","2:1 (1:1) ","-","-","-"]
["29-08-2020","10:30:00","Chinese Taipei Mulan League Women","New Taipei W ","Taoyuan W ","X","W2","W2","-","-","-","-","-","-","-","Taoyuan W ","Taoyuan W ","Taoyuan W ","0:0 (0:0) ","-","-","-"]
["29-08-2020","11:00:00","Russia PFL Ural","Ural- ","Orenburg- ","NB","NB","NB","NB","NB","NB","NB","NB","NB","NB","NB","NB","NB",{"$error":"#N/A"},{"$error":"#N/A"},{"$error":"#N/A"},{"$error":"#N/A"}]
["29-08-2020","11:00:00","Czech Republic 1. Division","Chrudim ","Mas Taborsko ","X","W1","W1","-","-","0.5 O (ST)","-","-","-","-","Chrudim ","Chrudim ","Chrudim ","1:0 (0:0) ","-","-","-"]
["29-08-2020","11:00:00","Japan - J. League","Kobe ","Yokohama Marinos ","X","W1","X","-","-","0.5 O (ST)","-","1.5 O (FT)","-","-","Yokohama Marinos ","Yokohama Marinos ","Yokohama Marinos ","3:3 (1:2) ","-","-","-"]
["29-08-2020","11:00:00","Japan - J. League 2","Matsumoto ","Tokushima V ","W2","X","W2","0.5 O (HT)","-","0.5 O (ST)","-","1.5 O (FT)","-","-","Tokushima V ","-","Matsumoto ","1:3 (0:2) ","-","-","-"]
["29-08-2020","11:00:00","Japan - J. League 2","Tokyo V ","Kyoto Sanga ","X","X","W1","-","-","-","-","1.5 O (FT)","-","-","Tokyo V ","Tokyo V ","Tokyo V ","2:0 (2:0) ","-","-","-"]
["29-08-2020","11:00:00","Japan J. League 3","Cerezo U3 ","Fukushima U ","NB","NB","NB","NB","NB","NB","NB","NB","NB","NB","NB","NB","NB","1:2 (0:0) ",{"$error":"#N/A"},{"$error":"#N/A"},{"$error":"#N/A"}]
["29-08-2020","11:00:00","South Korea - K-League","Sangju Sangmu ","Incheon Utd ","W1","W1","W1","0.5 O (HT)","1.5 O (HT)","-","-","1.5 O (FT)","-","-","Incheon Utd ","Sangju Sangmu ","-","3:1 (2:1) ","-","-","-"]
["29-08-2020","11:30:00","Japan J. League 3","Kataller T ","Hachnohe ","NB","NB","NB","-","-","-","-","1.5 O (FT)","-","-","NB","NB","NB","Postponed ","-","-","-"]
["29-08-2020","11:30:00","South Korea - K-League Challenge","Gyeongnam ","Suwon City ","X","W2","W2","-","-","0.5 O (ST)","-","-","-","-","-","Suwon City ","Suwon City ","2:3 (1:1) ","-","-","-"]
["29-08-2020","12:00:00","Russia PFL West","Leningradets ","FC Murom ","X","W2","W2","-","-","-","-","1.5 O (FT)","-","-","Leningradets ","FC Murom ","FC Murom ","0:2 (0:0) ","-","-","-"]
["29-08-2020","12:00:00","Russia PFL Ural","Kr. Sovetov- ","Volna ","NB","NB","NB","NB","NB","NB","NB","NB","NB","NB","NB","NB","NB","1:2 (1:0) ",{"$error":"#N/A"},{"$error":"#N/A"},{"$error":"#N/A"}]
["29-08-2020","12:00:00","Belarus Division 2","Viktoriya MG ","SMI-Avtotrans ","X","W1","W1","-","-","0.5 O (ST)","1.5 O (ST)","1.5 O (FT)","-","-","Viktoriya MG ","Viktoriya MG ","Viktoriya MG ","2:0 (0:0) ","-","-","-"]
["29-08-2020","12:00:00","Belarus Division 2","BGU Minsk ","Dinamo Malorita ","X","W2","W2","0.5 O (HT)","1.5 O (HT)","-","-","1.5 O (FT)","2.5 O (FT)","3.5 O (FT)","Dinamo Malorita ","-","Dinamo Malorita ","2:3 (1:1) ","-","-","-"]
["29-08-2020","12:00:00","Belarus Division 2","Bumprom ","Energosbyt-BSATU ","X","W1","W1","-","-","0.5 O (ST)","1.5 O (ST)","1.5 O (FT)","-","-","Bumprom ","Bumprom ","Bumprom ","2:0 (0:0) ","-","-","-"]
["29-08-2020","12:00:00","Belarus Division 2","Zhlobin ","Shakhtyor Petrikov ","X","W2","W2","-","-","0.5 O (ST)","1.5 O (ST)","1.5 O (FT)","2.5 O (FT)","-","Shakhtyor Petrikov ","Shakhtyor Petrikov ","Shakhtyor Petrikov ","0:4 (0:0) ","-","-","-"]
["29-08-2020","12:00:00","China Super League","Guangzhou RF ","Shenzhen FC ","W2","W2","W2","0.5 O (HT)","-","0.5 O (ST)","-","1.5 O (FT)","-","-","Shenzhen FC ","Shenzhen FC ","Shenzhen FC ","0:2 (0:1) ",{"$error":"#N/A"},{"$error":"#N/A"},{"$error":"#N/A"}]
["29-08-2020","12:00:00","Japan - J. League","Shonan ","Tosu ","X","X","X","-","-","0.5 O (ST)","1.5 O (ST)","1.5 O (FT)","-","-","-","-","-","Postponed ","-","-","-"]
["29-08-2020","12:00:00","Japan - J. League","Gamba ","Tokyo ","X","W2","X","-","-","0.5 O (ST)","-","1.5 O (FT)","-","-","Tokyo ","Tokyo ","Tokyo ","1:3 (1:1) ","-","-","-"]
["29-08-2020","12:00:00","Japan - J. League","Kashiwa ","Kashima ","X","W2","W2","-","-","0.5 O (ST)","-","1.5 O (FT)","-","-","Kashiwa ","Kashiwa ","Kashiwa ","2:3 (0:0) ",{"$error":"#N/A"},{"$error":"#N/A"},{"$error":"#N/A"}]
["29-08-2020","12:00:00","Japan - J. League","Sapporo ","Nagoya ","X","W2","W2","-","-","0.5 O (ST)","-","1.5 O (FT)","-","-","Nagoya ","Sapporo ","Nagoya ","0:0 (0:0) ","-","-","-"]
["29-08-2020","12:00:00","Japan - J. League","Hiroshima ","Sendai ","X","W2","X","-","-","0.5 O (ST)","-","1.5 O (FT)","-","-","Hiroshima ","Sendai ","Hiroshima ","1:1 (1:0) ","-","-","-"]
["29-08-2020","12:00:00","Japan - J. League","Kawasaki ","Shimizu ","W1","W1","W1","-","-","0.5 O (ST)","1.5 O (ST)","1.5 O (FT)","2.5 O (FT)","3.5 O (FT)","Kawasaki ","Kawasaki ","Kawasaki ","5:0 (1:0) ","-","-","-"]
["29-08-2020","12:00:00","Japan - J. League","Urawa ","Oita ","X","W1","W1","-","-","0.5 O (ST)","1.5 O (ST)","1.5 O (FT)","-","-","Urawa ","Urawa ","Urawa ","2:1 (2:1) ","-","-","-"]
["29-08-2020","12:00:00","Japan - J. League 2","Avispa F ","Niigata ","X","W2","W2","-","-","0.5 O (ST)","1.5 O (ST)","1.5 O (FT)","-","-","Niigata ","Niigata ","Niigata ","0:1 (0:0) ","-","-","-"]
["29-08-2020","12:00:00","Japan - J. League 2","V-Varen ","Omiya A ","X","W1","W1","-","-","-","-","-","-","-","-","V-Varen ","V-Varen ","1:0 (0:0) ","-","-","-"]
["29-08-2020","12:00:00","Japan - J. League 2","Renofa Y ","Zweigen K ","W2","X","W2","0.5 O (HT)","-","-","-","-","-","-","Zweigen K ","Zweigen K ","Zweigen K ","1:3 (0:2) ","-","-","-"]
["29-08-2020","12:00:00","Japan - J. League 2","Giravanz K ","Ichihara Chiba ","W1","W2","W1","0.5 O (HT)","-","0.5 O (ST)","-","1.5 O (FT)","-","-","Giravanz K ","Ichihara Chiba ","Giravanz K ","3:2 (3:1) ","-","-","-"]
["29-08-2020","12:00:00","Japan - J. League 2","Ryukyu ","Montedio ","W2","W2","W2","-","-","0.5 O (ST)","1.5 O (ST)","1.5 O (FT)","-","-","Montedio ","-","-","1:4 (0:2) ","-","-","-"]
["29-08-2020","12:00:00","Japan - J. League 2","Mito H ","Ehime ","X","X","X","-","-","-","-","-","-","-","Mito H ","Mito H ","-","0:0 (0:0) ","-","-","-"]
["29-08-2020","12:00:00","Japan J. League 3","Gainare T ","Nagano Parceiro ","X","X","X","-","-","-","1.5 O (ST)","1.5 O (FT)","2.5 O (FT)","-","Gainare T ","Nagano Parceiro ","-","1:1 (0:0) ","-","-","-"]
["29-08-2020","12:00:00","South Korea - K-League Challenge","Jeju Utd ","FC Anyang ","W1","W1","W1","-","-","-","1.5 O (ST)","1.5 O (FT)","-","-","Jeju Utd ","Jeju Utd ","Jeju Utd ","3:1 (1:0) ","-","-","-"]
["29-08-2020","12:00:00","South Korea Women WK-League","Incheon Hyundai W ","Changnyeong W ","W1","W1","W1","-","-","-","-","1.5 O (FT)","-","-","Incheon Hyundai W ","Incheon Hyundai W ","Incheon Hyundai W ","2:0 (1:0) ","-","-","-"]
["29-08-2020","12:40:00","Poland I Liga","Radom ","Widzew Lodz ","W2","W1","W1","0.5 O (HT)","-","0.5 O (ST)","-","1.5 O (FT)","2.5 O (FT)","-","Widzew Lodz ","Radom ","Widzew Lodz ","4:1 (0:1) ","-","-","-"]
["29-08-2020","13:00:00","Russia PFL Ural","Z. Izhevsk ","Lada Togliatti ","W1","X","W1","-","-","-","-","1.5 O (FT)","-","-","Z. Izhevsk ","Z. Izhevsk ","Z. Izhevsk ","0:0 (0:0) ","-","-","-"]
["29-08-2020","13:00:00","Belarus Division 2","Stenles Pinsk ","Ostrovets ","W1","W2","W1","0.5 O (HT)","-","-","-","1.5 O (FT)","2.5 O (FT)","-","Stenles Pinsk ","Ostrovets ","Stenles Pinsk ","4:2 (4:1) ","-","-","-"]
["29-08-2020","13:00:00","Belarus Division 2","Gorki ","Osipovichi ","X","W1","W1","-","-","0.5 O (ST)","1.5 O (ST)","1.5 O (FT)","2.5 O (FT)","-","Osipovichi ","Gorki ","Gorki ","3:1 (1:1) ","-","-","-"]
["29-08-2020","13:00:00","Belarus Division 2","Stolbtsy ","Ivatsevichi ","W2","W2","W2","0.5 O (HT)","-","0.5 O (ST)","1.5 O (ST)","1.5 O (FT)","2.5 O (FT)","3.5 O (FT)","Ivatsevichi ","Ivatsevichi ","-","1:5 (1:2) ","-","-","-"]
["29-08-2020","13:00:00","South Korea - K-League","Suwon ","Busan ","X","W1","W1","-","-","0.5 O (ST)","-","-","-","-","Busan ","Suwon ","Suwon ","3:1 (0:1) ","-","-","-"]
["29-08-2020","13:00:00","Sweden Div 1","Lindome ","Trollhattans ","W1","W2","X","0.5 O (HT)","-","0.5 O (ST)","-","1.5 O (FT)","-","-","Lindome ","Trollhattans ","Lindome ","1:1 (0:1) ","-","-","-"]
["29-08-2020","13:00:00","Sweden Div 1","Orebro Syrianska ","Sandvikens ","W2","W1","X","0.5 O (HT)","1.5 O (HT)","0.5 O (ST)","-","1.5 O (FT)","2.5 O (FT)","3.5 O (FT)","-","Orebro Syrianska ","-","2:2 (2:1) ","-","-","-"]
["29-08-2020","13:00:00","Sweden Div 1","Luleaa ","Brommapojkarna ","X","X","X","-","-","-","-","-","-","-","Luleaa ","Luleaa ","Luleaa ","0:0 (0:0) ","-","-","-"]
["29-08-2020","13:00:00","Sweden Superettan","Dalkurd ","Vasteraas ","W1","X","W1","-","-","-","-","1.5 O (FT)","-","-","Dalkurd ","Vasteraas ","Vasteraas ","3:2 (1:0) ","-","-","-"]
["29-08-2020","13:30:00","Belarus Premier League","Minsk ","Neman ","W1","W2","W2","-","-","-","-","1.5 O (FT)","-","-","Neman ","Minsk ","Neman ","4:3 (3:1) ","-","-","-"]
["29-08-2020","13:30:00","Germany Regionalliga Northeast","Rathenow ","Auerbach ","W2","W2","W2","-","-","0.5 O (ST)","1.5 O (ST)","1.5 O (FT)","2.5 O (FT)","-","Auerbach ","Auerbach ","Auerbach ","1:4 (0:2) ","-","-","-"]
["29-08-2020","13:30:00","Germany Regionalliga Northeast","TB Berlin ","Lichtenberg ","X","W2","W2","-","-","0.5 O (ST)","1.5 O (ST)","1.5 O (FT)","-","-","-","Lichtenberg ","Lichtenberg ","2:0 (0:0) ","-","-","-"]
["29-08-2020","13:30:00","Germany Regionalliga Northeast","Cottbus ","Viktoria Berlin ","W2","X","W2","-","-","0.5 O (ST)","-","1.5 O (FT)","-","-","Viktoria Berlin ","Viktoria Berlin ","Viktoria Berlin ","1:2 (0:1) ","-","-","-"]
["29-08-2020","13:30:00","Germany Regionalliga Northeast","Altglienicke ","Meuselwitz ","W1","W1","W1","-","-","-","-","1.5 O (FT)","2.5 O (FT)","3.5 O (FT)","Meuselwitz ","Altglienicke ","Meuselwitz ","3:1 (2:1) ","-","-","-"]
["29-08-2020","13:30:00","South Africa Premier Soccer League","Orlando Pirates ","Supersport ","X","W1","W1","-","-","-","-","-","-","-","Supersport ","Orlando Pirates ","Supersport ","2:1 (1:1) ","-","-","-"]
["29-08-2020","13:30:00","South Africa Premier Soccer League","Highlands Park ","Maritzburg ","W2","W1","X","-","-","-","-","1.5 O (FT)","-","-","Maritzburg ","Highlands Park ","Maritzburg ","1:1 (0:1) ","-","-","-"]
["29-08-2020","13:45:00","Denmark 2nd Division","Frederiksberg ","Avarta ","W1","X","W1","-","-","-","-","1.5 O (FT)","-","-","Frederiksberg ","Avarta ","Frederiksberg ","1:0 (1:0) ","-","-","-"]
["29-08-2020","14:00:00","Russia PFL Ural","Chelyabinsk ","Nosta Novotroitsk ","W1","W1","W1","0.5 O (HT)","-","-","-","-","-","-","Chelyabinsk ","Chelyabinsk ","Chelyabinsk ","2:1 (1:1) ","-","-","-"]
["29-08-2020","14:00:00","Belarus Pervaya Liga","Naftan Novopolotsk ","Gomel ","X","X","X","-","-","-","-","1.5 O (FT)","-","-","-","-","-","Postponed ","-","-","-"]
["29-08-2020","14:00:00","China Super League","Shandong Luneng ","Dalian Yifang ","X","W1","X","-","-","-","-","-","-","-","Dalian Yifang ","-","Dalian Yifang ","0:1 (0:0) ","-","-","-"]
["29-08-2020","14:00:00","Denmark 2nd Division","Naesby ","Brabrand ","W1","W1","W1","-","-","0.5 O (ST)","-","1.5 O (FT)","-","-","Naesby ","Naesby ","Naesby ","2:1 (0:0) ","-","-","-"]
["29-08-2020","14:00:00","Denmark 2nd Division","Dalum ","Sydvest ","W2","W1","W1","-","-","-","-","1.5 O (FT)","-","-","Sydvest ","Dalum ","Dalum ","1:0 (0:0) ","-","-","-"]
["29-08-2020","14:00:00","Denmark 2nd Division","Jammerbugt ","Oure FA ","X","W1","W1","-","-","0.5 O (ST)","1.5 O (ST)","1.5 O (FT)","-","-","Jammerbugt ","Jammerbugt ","Jammerbugt ","2:0 (0:0) ","-","-","-"]
["29-08-2020","14:00:00","Denmark 2nd Division","Middelfart ","Vsk Arhus ","X","W2","W2","-","-","0.5 O (ST)","1.5 O (ST)","1.5 O (FT)","-","-","Vsk Arhus ","Vsk Arhus ","Vsk Arhus ","0:2 (0:0) ","-","-","-"]
["29-08-2020","14:00:00","Denmark 2nd Division","Hillerod ","Gladsaxe ","X","W1","W1","-","-","0.5 O (ST)","-","1.5 O (FT)","2.5 O (FT)","-","-","Hillerod ","Hillerod ","3:0 (0:0) ","-","-","-"]
["29-08-2020","14:00:00","Germany Regionalliga Northeast","Jena ","Lok Leipzig ","X","X","X","0.5 O (HT)","-","0.5 O (ST)","-","1.5 O (FT)","-","-","Lok Leipzig ","Lok Leipzig ","-","1:1 (0:0) ","-","-","-"]
["29-08-2020","14:00:00","Kazakhstan Premier League","Kaisar Kyzylorda ","Tobol ","W1","W2","W1","-","-","0.5 O (ST)","-","-","-","-","Kaisar Kyzylorda ","Tobol ","Tobol ","2:1 (1:0) ","-","-","-"]
["29-08-2020","14:00:00","Latvia - Virsliga","Tukums 000 ","Liepaja ","NB","NB","NB","NB","NB","NB","NB","NB","NB","NB","NB","NB","NB","0:5 (0:3) ",{"$error":"#N/A"},{"$error":"#N/A"},{"$error":"#N/A"}]
["29-08-2020","14:00:00","Sweden Damallsvenskan","Umea W ","IK Uppsala W ","W1","X","W1","0.5 O (HT)","-","-","-","1.5 O (FT)","-","-","Umea W ","Umea W ","Umea W ","1:0 (1:0) ","-","-","-"]
["30-08-2020","00:00:00","Brazil - Serie A","Fluminense ","Vasco da Gama ","W1","X","W2","0.5 O (HT)","-","-","-","1.5 O (FT)","-","-","Fluminense ","Fluminense ","Vasco da Gama ","2:1 (1:0) ","-","-","-"]
["30-08-2020","00:00:00","Brazil - Serie A","Bahia BA ","Palmeiras ","X","X","X","-","-","0.5 O (ST)","-","1.5 O (FT)","-","-","Palmeiras ","Palmeiras ","Palmeiras ","1:1 (0:0) ","-","-","-"]
["30-08-2020","00:00:00","Brazil - Serie B","Cruzeiro MG ","America MG ","W2","W1","W2","-","-","-","-","-","-","-","America MG ","Cruzeiro MG ","-","1:2 (0:2) ","-","-","-"]
["30-08-2020","00:00:00","Brazil - Serie B","Figueirense ","Confianca ","X","X","X","-","-","-","-","-","-","-","Figueirense ","Confianca ","-","0:0 (0:0) ","-","-","-"]
["30-08-2020","00:00:00","Costa Rica Primera Division","Zeledon ","Guadalupe FC ","W1","X","W1","0.5 O (HT)","1.5 O (HT)","-","1.5 O (ST)","1.5 O (FT)","2.5 O (FT)","3.5 O (FT)","Guadalupe FC ","-","Zeledon ","3:2 (2:1) ","-","-","-"]
["30-08-2020","00:30:00","Chile Primera Division","U. Catolica Santiago ","Espanola ","W2","X","W2","0.5 O (HT)","-","0.5 O (ST)","-","1.5 O (FT)","2.5 O (FT)","-","Espanola ","Espanola ","Espanola ","0:1 (0:1) ","-","-","-"]
["30-08-2020","00:30:00","Ecuador Primera Division","Barcelona Guayaquil ","Olmedo ","W1","W1","W1","-","-","0.5 O (ST)","1.5 O (ST)","1.5 O (FT)","2.5 O (FT)","-","Barcelona Guayaquil ","Barcelona Guayaquil ","Barcelona Guayaquil ","3:1 (1:0) ","-","-","-"]
["30-08-2020","00:30:00","Guatemala Liga Nacional","Coban Imperial ","Municipal ","W1","W2","X","0.5 O (HT)","-","0.5 O (ST)","-","1.5 O (FT)","-","-","Coban Imperial ","Municipal ","-","1:1 (0:1) ","-","-","-"]
["30-08-2020","00:30:00","USA USL","Loudoun ","New York R B II ","W2","X","W2","0.5 O (HT)","-","0.5 O (ST)","-","1.5 O (FT)","2.5 O (FT)","-","Loudoun ","New York R B II ","-","2:3 (1:2) ","-","-","-"]
["30-08-2020","01:00:00","Costa Rica Primera Division","Santos de G ","Municipal Grecia ","W2","W1","W2","0.5 O (HT)","-","0.5 O (ST)","-","1.5 O (FT)","-","-","Municipal Grecia ","Santos de G ","Santos de G ","1:1 (0:1) ","-","-","-"]
["30-08-2020","01:00:00","Morocco Botola","Moghreb Tetouan ","Wydad ","X","X","X","-","-","-","-","-","-","-","-","-","-","Postponed ","-","-","-"]
["30-08-2020","01:00:00","Morocco Botola","Hassania Agadir ","Sportive Rabat ","NB","NB","NB","NB","NB","NB","NB","NB","NB","NB","NB","NB","NB","Postponed ","-","-","-"]
["30-08-2020","01:00:00","Nicaragua Primera","CD Junior ","Diriangen FC ","X","X","X","-","-","-","-","-","-","-","-","CD Junior ","CD Junior ","1:1 (0:0) ","-","-","-"]
["30-08-2020","01:00:00","Paraguay Primera Division","Nac. Asuncion "," de Octubre ","NB","NB","NB","NB","NB","NB","NB","NB","NB","NB","NB","NB","NB","0:0 (0:0) ","-","-","-"]
["30-08-2020","01:00:00","USA USL","Carolina ","Memphis ","NB","NB","NB","-","-","0.5 O (ST)","-","1.5 O (FT)","-","-","NB","NB","NB","Postponed ","-","-","-"]
["30-08-2020","01:00:00","USA USL","Charlotte Ind. ","Birmingham Legion FC ","W2","W2","W2","0.5 O (HT)","-","0.5 O (ST)","-","1.5 O (FT)","-","-","Birmingham Legion FC ","Charlotte Ind. ","Charlotte Ind. ","1:4 (0:2) ","-","-","-"]
["30-08-2020","01:30:00","USA MLS","Cincinnati ","Columbus ","X","W1","X","-","-","-","-","-","-","-","Columbus ","Cincinnati ","Cincinnati ","0:0 (0:0) ","-","-","-"]
["30-08-2020","01:30:00","USA MLS","NYC FC ","Chicago Fire ","X","W1","W1","-","-","0.5 O (ST)","-","1.5 O (FT)","2.5 O (FT)","-","NYC FC ","NYC FC ","NYC FC ","3:1 (1:1) ","-","-","-"]
["30-08-2020","01:30:00","USA MLS","Philadelphia ","DC United ","W1","X","W1","-","-","-","-","-","-","-","Philadelphia ","DC United ","Philadelphia ","4:1 (3:0) ","-","-","-"]
["30-08-2020","01:30:00","USA USL","Charleston ","Tampa Bay ","W1","X","W1","-","-","-","-","1.5 O (FT)","-","-","Charleston ","Charleston ","Charleston ","1:0 (1:0) ","-","-","-"]
["30-08-2020","02:00:00","Brazil - Serie A","Fortaleza ","Bragantino ","W1","W1","W1","-","-","0.5 O (ST)","-","1.5 O (FT)","-","-","Fortaleza ","Fortaleza ","Fortaleza ","3:0 (1:0) ","-","-","-"]
["30-08-2020","02:00:00","Brazil - Serie B","Sampaio Correa ","Ponte Preta ","W2","W2","W2","-","-","0.5 O (ST)","-","1.5 O (FT)","-","-","Ponte Preta ","Ponte Preta ","Ponte Preta ","1:2 (0:2) ","-","-","-"]
["30-08-2020","02:00:00","Mexico Primera Division","G. Chivas ","Pachuca ","X","X","W2","-","-","-","-","-","-","-","-","Pachuca ","Pachuca ","0:0 (0:0) ","-","-","-"]
["30-08-2020","02:00:00","Mexico Primera Division","San Luis ","America ","X","W2","W2","0.5 O (HT)","-","0.5 O (ST)","-","1.5 O (FT)","-","-","San Luis ","America ","America ","1:2 (1:1) ","-","-","-"]
["30-08-2020","02:00:00","USA MLS","New England ","New York ","X","X","X","-","-","-","-","-","-","-","New England ","New York ","New England ","1:1 (1:1) ","-","-","-"]
["30-08-2020","02:00:00","USA USL","Tulsa ","Kansas City II ","X","W1","W1","-","1.5 O (HT)","0.5 O (ST)","-","1.5 O (FT)","2.5 O (FT)","-","-","Tulsa ","Tulsa ","1:2 (1:1) ","-","-","-"]
["30-08-2020","02:00:00","USA USL","Colorado Springs Sw. ","New Mexico ","X","X","X","-","-","0.5 O (ST)","-","1.5 O (FT)","-","-","New Mexico ","Colorado Springs Sw. ","-","1:1 (0:0) ","-","-","-"]
["30-08-2020","02:00:00","USA USL","Saint Louis ","Louisville City ","W2","W1","X","-","-","-","-","-","-","-","Louisville City ","Saint Louis ","-","1:1 (0:1) ","-","-","-"]
["30-08-2020","02:30:00","USA MLS","Dallas ","Minnesota ","W2","X","W2","-","-","0.5 O (ST)","-","-","-","-","Minnesota ","Dallas ","Dallas ","3:1 (2:0) ","-","-","-"]
["30-08-2020","02:45:00","Ecuador Primera Division","Tecnico Uni ","Emelec ","X","W1","W1","-","-","0.5 O (ST)","1.5 O (ST)","1.5 O (FT)","-","-","Emelec ","Tecnico Uni ","Tecnico Uni ","2:0 (0:0) ","-","-","-"]
["30-08-2020","03:00:00","Nicaragua Primera","Art Municipal Jalapa ","Managua FC ","X","W2","W1","-","-","0.5 O (ST)","-","-","-","-","Art Municipal Jalapa ","Managua FC ","Managua FC ","1:0 (0:0) ","-","-","-"]
["30-08-2020","03:00:00","USA MLS","Colorado ","Kansas City ","X","X","W1","-","-","-","-","1.5 O (FT)","-","-","Colorado ","Kansas City ","Colorado ","1:1 (0:0) ","-","-","-"]
["30-08-2020","03:30:00","USA USL","El Paso ","Real Monarchs ","X","W1","W1","-","-","0.5 O (ST)","-","1.5 O (FT)","2.5 O (FT)","-","Real Monarchs ","El Paso ","-","2:1 (0:0) ","-","-","-"]
["30-08-2020","04:00:00","Costa Rica Primera Division","Herediano ","LD Alajuelense ","X","W1","W1","-","-","-","-","1.5 O (FT)","-","-","LD Alajuelense ","LD Alajuelense ","Herediano ","1:2 (0:0) ","-","-","-"]
["30-08-2020","04:00:00","Mexico Primera Division","Cruz Azul ","Necaxa ","W1","W1","W1","0.5 O (HT)","-","0.5 O (ST)","-","1.5 O (FT)","-","-","Cruz Azul ","Cruz Azul ","Cruz Azul ","3:0 (1:0) ","-","-","-"]
["30-08-2020","04:00:00","Nicaragua Primera","Walter Ferretti ","Esteli ","X","X","X","-","-","-","-","-","-","-","Walter Ferretti ","Esteli ","-","0:0 (0:0) ","-","-","-"]
["30-08-2020","04:00:00","USA USL","Orange County ","San Diego Loyal SC ","X","X","X","-","-","-","-","-","-","-","Orange County ","San Diego Loyal SC ","Orange County ","0:0 (0:0) ","-","-","-"]
["30-08-2020","04:00:00","USA USL","Reno FC ","Phoenix Rising ","X","W1","W1","-","-","-","-","-","-","-","Reno FC ","-","Reno FC ","2:1 (0:0) ","-","-","-"]
["30-08-2020","04:30:00","USA MLS","Portland ","Salt Lake ","W1","W2","X","-","-","0.5 O (ST)","-","1.5 O (FT)","2.5 O (FT)","-","-","-","Salt Lake ","4:4 (2:1) ","-","-","-"]
["30-08-2020","04:30:00","USA MLS","LA Galaxy ","San Jose ","X","W1","W1","0.5 O (HT)","-","0.5 O (ST)","-","1.5 O (FT)","-","-","San Jose ","-","-","3:2 (1:1) ","-","-","-"]
["30-08-2020","05:45:00","Australia NPL Northern New South","Lake Macquarie ","Valentine ","X","W1","W1","-","-","0.5 O (ST)","-","-","-","-","-","Lake Macquarie ","Lake Macquarie ","0:1 (0:0) ","-","-","-"]
["30-08-2020","06:00:00","Australia NPL Queensland","Brisbane Roar U- ","Redlands Utd ","NB","NB","NB","NB","NB","NB","NB","NB","NB","NB","NB","NB","NB","2:1 (1:1) ",{"$error":"#N/A"},{"$error":"#N/A"},{"$error":"#N/A"}]
["30-08-2020","06:30:00","Australia NPL Northern New South","Edgeworth ","Newcastle Ol. ","X","W1","W1","-","-","0.5 O (ST)","-","-","-","-","Newcastle Ol. ","Edgeworth ","Edgeworth ","2:0 (0:0) ","-","-","-"]
["30-08-2020","06:30:00","Australia NPL Northern New South","Charlestown Azz. ","Lambton ","X","W1","W1","-","-","0.5 O (ST)","-","-","-","-","-","Charlestown Azz. ","Charlestown Azz. ","2:0 (0:0) ","-","-","-"]
["30-08-2020","06:30:00","Australia NPL Northern New South","Adamstown ","Maitland ","W1","W2","W2","-","-","0.5 O (ST)","1.5 O (ST)","1.5 O (FT)","2.5 O (FT)","-","Adamstown ","Maitland ","Adamstown ","1:2 (1:0) ","-","-","-"]
["30-08-2020","06:30:00","Australia NPL Northern New South","Weston ","Broadmeadow ","W1","W2","W2","0.5 O (HT)","1.5 O (HT)","0.5 O (ST)","1.5 O (ST)","1.5 O (FT)","2.5 O (FT)","3.5 O (FT)","-","Broadmeadow ","-","3:2 (1:2) ","-","-","-"]
["30-08-2020","07:00:00","Russia - 1. Division","Khabarovsk ","Shinnik Yaroslavl ","X","X","W1","-","-","-","-","-","-","-","Khabarovsk ","Khabarovsk ","Khabarovsk ","2:1 (1:0) ","-","-","-"]
["30-08-2020","08:00:00","Australia NPL Queensland","Sunshine Coast ","Gold Coast Knights ","W1","W1","W1","-","-","-","1.5 O (ST)","1.5 O (FT)","2.5 O (FT)","3.5 O (FT)","Sunshine Coast ","Sunshine Coast ","-","4:1 (1:0) ","-","-","-"]
["30-08-2020","08:45:00","Australia NPL Capital Football","Canberra ","Tuggeranong ","X","X","X","-","-","-","1.5 O (ST)","1.5 O (FT)","-","-","-","Canberra ","-","1:1 (0:0) ","-","-","-"]
["30-08-2020","09:00:00","Japan J. League 3","Azul Claro Numazu ","Roasso K ","W2","W2","W2","-","-","-","-","1.5 O (FT)","-","-","Roasso K ","Roasso K ","Roasso K ","0:3 (0:1) ","3.3 ","3.3 ","1.99 "]
["30-08-2020","10:00:00","Australia NPL Queensland","Olympic Brisbane ","Queensland ","W1","X","W1","-","-","-","-","-","-","-","Olympic Brisbane ","Queensland ","Olympic Brisbane ","1:0 (1:0) ","2.7 ","3.7 ","2.31 "]
["30-08-2020","10:00:00","Czech Republic 1. Division","Zizkov ","Vysehrad ","W1","W1","W1","0.5 O (HT)","-","0.5 O (ST)","1.5 O (ST)","1.5 O (FT)","2.5 O (FT)","-","Zizkov ","Zizkov ","Zizkov ","3:0 (1:0) ","1.28 ","5.4 ","8.4 "]
["30-08-2020","10:30:00","Australia A-League","Sydney ","Melbourne City ","X","W1","W1","-","-","-","-","-","-","-","Sydney ","Sydney ","Sydney ","0:0 (0:0) AET 1:0 ","2.7 ","3.3 ","2.65 "]
["30-08-2020","10:30:00","South Korea - K-League","Ulsan Hyundai ","Seoul ","W1","W1","W1","0.5 O (HT)","1.5 O (HT)","0.5 O (ST)","-","1.5 O (FT)","2.5 O (FT)","-","Ulsan Hyundai ","Ulsan Hyundai ","Ulsan Hyundai ","3:0 (2:0) ","1.42 ","4.5 ","6.5 "]
["30-08-2020","11:00:00","Japan - J. League","Yokohama FC ","Cerezo ","W2","X","W2","-","-","0.5 O (ST)","1.5 O (ST)","1.5 O (FT)","-","-","Cerezo ","Yokohama FC ","Yokohama FC ","1:2 (0:1) ","3.75 ","3.4 ","2.03 "]
["30-08-2020","11:00:00","Japan - J. League 2","Ventforet ","Tochigi ","X","W2","W2","-","-","-","-","-","-","-","Tochigi ","Tochigi ","Tochigi ","0:1 (0:0) ","2.8 ","2.85 ","2.8 "]
["30-08-2020","11:00:00","Japan J. League 3","Kamatamare S ","YSCC Yokohama ","X","W1","W1","-","-","-","-","-","-","-","Kamatamare S ","Kamatamare S ","Kamatamare S ","1:0 (0:0) ","2.2 ","3.45 ","2.75 "]
["30-08-2020","11:00:00","Japan J. League 3","Gifu ","Blaublitz A ","NB","NB","NB","-","-","-","-","-","-","-","NB","NB","NB","Postponed ","2.8 ","3.05 ","2.35 "]
["30-08-2020","11:00:00","Japan J. League 3","Gamba Osaka U3 ","Sagamihara ","NB","NB","NB","NB","NB","NB","NB","NB","NB","NB","NB","NB","NB","3:0 (1:0) ",{"$error":"#N/A"},{"$error":"#N/A"},{"$error":"#N/A"}]
["30-08-2020","11:00:00","Myanmar National League","Yadanarbon ","Yangon ","W2","W2","W2","0.5 O (HT)","-","0.5 O (ST)","1.5 O (ST)","1.5 O (FT)","2.5 O (FT)","3.5 O (FT)","Yangon ","Yadanarbon ","-","1:3 (0:1) ","-","-","-"]
["30-08-2020","11:00:00","Myanmar National League","Southern Myanmar Utd ","Ayeyawady ","X","X","X","-","-","-","-","1.5 O (FT)","-","-","Ayeyawady ","Ayeyawady ","Ayeyawady ","1:1 (1:1) ",13,"7.5 ","1.1 "]
["30-08-2020","11:00:00","Myanmar National League","Ispe Fc ","Hantharwady Utd ","X","W2","W2","-","-","-","-","-","-","-","Ispe Fc ","Hantharwady Utd ","Hantharwady Utd ","0:1 (0:0) ",20,10,"1.04 "]
["30-08-2020","11:00:00","South Korea - K-League Challenge","Jeonnam ","Daejeon Citizen ","X","X","X","-","-","0.5 O (ST)","-","-","-","-","Daejeon Citizen ","Jeonnam ","Daejeon Citizen ","1:1 (0:0) ","2.3 ","3.05 ","3.15 "]
["30-08-2020","12:00:00","Russia - 1. Division","Tom Tomsk ","Neftekhimik ","X","X","X","-","-","-","-","-","-","-","Neftekhimik ","Tom Tomsk ","Neftekhimik ","0:0 (0:0) ","3.9 ","3.15 ","2.01 "]
["30-08-2020","12:00:00","Russia - 1. Division","Yenisey ","Kr Sovetov ","W1","W2","W1","0.5 O (HT)","-","0.5 O (ST)","-","1.5 O (FT)","-","-","Yenisey ","Kr Sovetov ","Yenisey ","3:1 (3:0) ","3.5 ","3.35 ","2.05 "]
["30-08-2020","12:00:00","China Super League","Jiangsu Sainty ","Henan Jianye ","W1","W1","W1","-","-","0.5 O (ST)","-","1.5 O (FT)","-","-","Henan Jianye ","Jiangsu Sainty ","-","5:2 (3:2) ","1.35 ","4.9 ","9.2 "]
["30-08-2020","12:00:00","Estonia - Meistriliiga","Trans ","Kuressaare ","X","X","X","-","-","-","-","-","-","-","Kuressaare ","Trans ","Kuressaare ","0:0 (0:0) ","1.52 ","4.4 ","5.1 "]
["30-08-2020","12:00:00","Japan - J. League 2","Kusatsu G ","Jubilo I ","X","X","X","-","-","-","-","-","-","-","Jubilo I ","Kusatsu G ","-","2:2 (1:1) ","5.5 ","3.9 ","1.58 "]
["30-08-2020","12:00:00","Japan - J. League 2","Machida Z ","Fagiano O ","W1","X","W1","0.5 O (HT)","-","-","-","1.5 O (FT)","-","-","Machida Z ","Machida Z ","Machida Z ","2:0 (2:0) ","2.48 ","2.75 ","3.3 "]
["30-08-2020","12:00:00","Kazakhstan Premier League","Ordabasy ","Kairat ","W2","X","W2","0.5 O (HT)","1.5 O (HT)","-","-","1.5 O (FT)","-","-","Kairat ","-","Kairat ","1:3 (1:3) ","4.4 ","3.6 ","1.78 "]
["30-08-2020","12:00:00","Poland II Liga","Slask Wroclaw II ","Skra ","W1","X","W1","0.5 O (HT)","-","-","-","-","-","-","Slask Wroclaw II ","-","Slask Wroclaw II ","0:1 (0:1) ","2.05 ","3.25 ","3.5 "]
["30-08-2020","12:00:00","South Korea - K-League","Jeonbuk ","Gangwon ","X","W2","W2","-","-","-","-","1.5 O (FT)","-","-","Jeonbuk ","Jeonbuk ","Jeonbuk ","1:2 (0:0) ","1.5 ","4.6 ","5.8 "]
["30-08-2020","12:00:00","South Korea - K-League","Pohang Steelers ","Seongnam ","X","X","W1","-","-","-","-","-","-","-","Seongnam ","Pohang Steelers ","-","2:1 (0:1) ","1.87 ","3.3 ","4.6 "]
["30-08-2020","12:00:00","South Korea - K-League Challenge","Ansan Greeners ","Seoul E-Land ","X","X","W2","-","-","-","-","-","-","-","-","Seoul E-Land ","Seoul E-Land ","0:1 (0:0) ","3.7 ","3.1 ","2.05 "]
["30-08-2020","12:00:00","South Korea - K-League Challenge","Bucheon ","Asan ","W2","W2","W2","-","-","-","-","1.5 O (FT)","-","-","Asan ","Asan ","Asan ","0:2 (0:1) ","1.96 ","3.1 ",4]
["30-08-2020","12:15:00","Netherlands Eerste Divisie","Telstar ","Volendam ","X","W2","X","-","-","0.5 O (ST)","-","1.5 O (FT)","-","-","Volendam ","Volendam ","Volendam ","2:2 (2:1) ","3.05 ","3.7 ","2.12 "]
["30-08-2020","12:30:00","Poland Ekstraklasa","Piast Gliwice ","Pogon Szczecin ","X","W2","W2","-","-","0.5 O (ST)","-","-","-","-","Pogon Szczecin ","Pogon Szczecin ","Pogon Szczecin ","0:1 (0:0) ","2.28 ","3.1 ","3.15 "]
["30-08-2020","12:40:00","Poland I Liga","Glogow ","Korona Kielce ","W1","W2","X","-","-","-","-","1.5 O (FT)","-","-","Glogow ","Korona Kielce ","Glogow ","1:1 (1:0) ","2.28 ","3.35 ",3]
["30-08-2020","13:00:00","Russia - Premier League","Ufa ","Dinamo Moscow ","W2","W1","X","-","-","-","-","-","-","-","Dinamo Moscow ","Ufa ","Dinamo Moscow ","1:1 (0:1) ","4.5 ","3.05 ",2]
["30-08-2020","13:00:00","France Ligue 1","Reims ","Lille ","W2","W1","W1","0.5 O (HT)","-","-","-","1.5 O (FT)","-","-","Lille ","Reims ","Reims ","0:1 (0:1) ","3.1 ","2.9 ","2.7 "]
["30-08-2020","13:00:00","Denmark 2nd Division","Slagelse ","KFUM Roskilde ","W1","W1","W1","-","-","0.5 O (ST)","-","1.5 O (FT)","-","-","Slagelse ","Slagelse ","Slagelse ","2:0 (1:0) ","1.99 ","3.65 ","3.4 "]
["30-08-2020","13:00:00","Denmark 2nd Division","Holstebro ","B 93 Copenhagen ","W2","X","W2","0.5 O (HT)","-","-","-","1.5 O (FT)","-","-","B 93 Copenhagen ","Holstebro ","B 93 Copenhagen ","0:1 (0:1) ","-","-","-"]
["30-08-2020","13:00:00","Denmark 2nd Division","Thisted ","Holbaek ","W1","W1","W1","-","-","0.5 O (ST)","-","1.5 O (FT)","-","-","Thisted ","Thisted ","Thisted ","2:0 (1:0) ","1.89 ","3.85 ","3.6 "]
["30-08-2020","13:00:00","South Korea - K-League","Daegu ","Gwangju ","W2","W1","W2","-","-","0.5 O (ST)","-","1.5 O (FT)","-","-","Gwangju ","Daegu ","Daegu ","4:6 (1:2) ","2.11 ","3.2 ","3.75 "]
["30-08-2020","13:30:00","Belgium Pro League","Genk ","Brugge ","W1","X","W2","0.5 O (HT)","-","0.5 O (ST)","-","1.5 O (FT)","-","-","Genk ","Genk ","Genk ","1:2 (0:1) ","3.2 ","3.6 ","2.07 "]
["30-08-2020","13:30:00","Germany Regionalliga Northeast","Berliner AK ","BFC Dynamo ","X","W2","W2","0.5 O (HT)","-","0.5 O (ST)","1.5 O (ST)","1.5 O (FT)","2.5 O (FT)","-","BFC Dynamo ","BFC Dynamo ","BFC Dynamo ","1:3 (1:1) ","2.3 ","3.6 ","2.7 "]
["30-08-2020","13:30:00","Germany Regionalliga Northeast","Bischofswerdaer ","Babelsberg ","W1","X","W1","0.5 O (HT)","-","0.5 O (ST)","1.5 O (ST)","1.5 O (FT)","2.5 O (FT)","-","Bischofswerdaer ","-","Babelsberg ","1:2 (0:1) ","3.05 ","3.5 ","2.12 "]
["30-08-2020","13:30:00","Germany Regionalliga Northeast","Luckenwalde ","Fuerstenwalde ","W1","W2","W2","-","-","-","-","1.5 O (FT)","2.5 O (FT)","-","Luckenwalde ","Fuerstenwalde ","-","1:2 (1:0) ","2.85 ","3.7 ","2.17 "]
["30-08-2020","13:30:00","Poland II Liga","Hutnik Krakow ","GKS Katowice ","W2","W1","W2","0.5 O (HT)","-","0.5 O (ST)","-","1.5 O (FT)","-","-","GKS Katowice ","Hutnik Krakow ","Hutnik Krakow ","3:2 (3:0) ","2.6 ","3.35 ","2.31 "]
["30-08-2020","13:30:00","South Africa Premier Soccer League","Bloemfontein ","Polokwane ","X","X","X","-","-","-","-","-","-","-","-","-","-","0:0 (0:0) ","2.5 ","2.9 ",3]
["30-08-2020","14:00:00","Russia - 1. Division","Chertanovo ","Alania ","W2","W2","W2","-","-","0.5 O (ST)","-","1.5 O (FT)","-","-","Alania ","Alania ","Alania ","0:3 (0:2) ","2.48 ","3.35 ","2.7 "]
["30-08-2020","14:00:00","China Super League","Shanghai Shenhua ","Guangzhou Evergrande ","X","W2","W2","-","-","-","-","1.5 O (FT)","-","-","Guangzhou Evergrande ","Guangzhou Evergrande ","Guangzhou Evergrande ","1:4 (1:1) ","6.6 ","4.9 ","1.44 "]
["30-08-2020","14:00:00","Estonia - Meistriliiga","Paide ","Tammeka ","W1","X","W1","0.5 O (HT)","-","-","-","1.5 O (FT)","-","-","Paide ","Paide ","Paide ","3:1 (3:1) ","1.25 ","5.9 ","9.1 "]
["30-08-2020","14:00:00","Kazakhstan Premier League","Astana ","Taraz ","W1","W2","W1","0.5 O (HT)","-","0.5 O (ST)","-","1.5 O (FT)","-","-","Astana ","Taraz ","Astana ","1:1 (1:0) ","1.21 ","5.7 ","14.5 "]
["30-08-2020","14:00:00","Latvia - Virsliga","Metta ","Ventspils ","X","W2","W2","-","-","0.5 O (ST)","-","1.5 O (FT)","2.5 O (FT)","-","Ventspils ","Ventspils ","Ventspils ","1:2 (0:0) ","6.2 ","3.9 ","1.44 "]
["30-08-2020","14:00:00","Sweden Div 1","Team TG ","Sylvia ","W1","W2","W1","0.5 O (HT)","-","0.5 O (ST)","-","1.5 O (FT)","-","-","Team TG ","Team TG ","Team TG ","3:4 (1:3) ","7.1 ","5.4 ","1.32 "]
["30-08-2020","14:30:00","Romania Liga I","Botosani ","CSMS Iasi ","X","W1","W1","-","-","-","-","1.5 O (FT)","-","-","Botosani ","Botosani ","Botosani ",{"$error":"#N/A"},{"$error":"#N/A"},{"$error":"#N/A"},{"$error":"#N/A"}]
["30-08-2020","14:30:00","Netherlands Eerste Divisie","Jong Ajax ","Roda ","W2","W2","W2","0.5 O (HT)","-","0.5 O (ST)","1.5 O (ST)","1.5 O (FT)","2.5 O (FT)","3.5 O (FT)","Roda ","Roda ","Roda ","0:4 (0:1) ","1.72 ","4.1 ","3.9 "]
["31-08-2020","00:00:00","Brazil - Serie A","Gremio ","Goias ","NB","NB","NB","-","-","-","-","-","-","-","NB","NB","NB","Postponed ","-","-","-"]
["31-08-2020","00:00:00","Brazil - Serie B","CSA AL ","CRB AL ","W2","X","W2","-","-","-","-","-","-","-","CRB AL ","CSA AL ","CRB AL ","0:2 (0:2) ","3.55 ","2.85 ","2.28 "]
["31-08-2020","00:00:00","Brazil - Serie B","Operario ","Brazil Pelotas ","X","W1","W1","-","-","0.5 O (ST)","-","1.5 O (FT)","-","-","Operario ","Operario ","Operario ","2:1 (1:1) ","1.78 ","3.15 ","5.2 "]
["31-08-2020","00:00:00","Nicaragua Primera","Real Madriz ","Chinandega FC ","X","W2","W2","-","-","0.5 O (ST)","-","-","-","-","Real Madriz ","Chinandega FC ","Chinandega FC ","0:1 (0:0) ",2,"3.5 ","3.05 "]
["31-08-2020","00:00:00","USA USL","OKC Energy FC ","Austin Bold ","X","X","X","0.5 O (HT)","1.5 O (HT)","-","-","1.5 O (FT)","-","-","Austin Bold ","OKC Energy FC ","-","1:1 (1:1) ","2.85 ","3.1 ","2.3 "]
["31-08-2020","00:30:00","Chile Primera Division","Curico Unido ","Deportes Union ","X","W2","W2","-","-","-","-","-","-","-","Curico Unido ","Deportes Union ","Deportes Union ","0:2 (0:0) ","2.8 ","3.25 ","2.46 "]
["31-08-2020","00:30:00","Paraguay Primera Division","Cerro Porteno ","Olimpia Asuncion ","X","W1","W1","-","-","0.5 O (ST)","-","1.5 O (FT)","-","-","Olimpia Asuncion ","Cerro Porteno ","Cerro Porteno ","2:0 (0:0) ","2.8 ","3.35 ","2.37 "]
["31-08-2020","00:45:00","Ecuador Primera Division","Ind. del Valle ","Guayaquil City ","W1","X","W1","0.5 O (HT)","-","0.5 O (ST)","-","1.5 O (FT)","-","-","Ind. del Valle ","Ind. del Valle ","Ind. del Valle ","3:0 (1:0) ","1.4 ","4.3 ","7.77 "]
["31-08-2020","01:00:00","Brazil - Serie A","Atletico GO ","Ceara ","X","W2","W2","-","-","0.5 O (ST)","-","-","-","-","Atletico GO ","Ceara ","Ceara ","0:2 (0:0) ",{"$error":"#N/A"},{"$error":"#N/A"},{"$error":"#N/A"}]
["31-08-2020","01:00:00","Guatemala Liga Nacional","Dep. Guastatoya ","Deportivo Sanarate ","W1","W2","X","0.5 O (HT)","-","0.5 O (ST)","-","1.5 O (FT)","-","-","Dep. Guastatoya ","Deportivo Sanarate ","-","1:1 (0:1) ","1.41 ","4.1 ","6.2 "]
["31-08-2020","01:00:00","Morocco Botola","Raja ","Berkane ","NB","NB","NB","-","-","-","-","-","-","-","NB","NB","NB","Postponed ","-","-","-"]
["31-08-2020","01:00:00","Morocco Botola","Raja Casablanca ","Ittihad Tanger ","NB","NB","NB","-","-","-","-","-","-","-","NB","NB","NB","Postponed ","-","-","-"]
["31-08-2020","01:00:00","USA USL","LA Galaxy II ","Las Vegas Lights ","X","W1","W1","-","-","0.5 O (ST)","1.5 O (ST)","1.5 O (FT)","2.5 O (FT)","3.5 O (FT)","LA Galaxy II ","LA Galaxy II ","LA Galaxy II ","4:3 (1:1) ","1.96 ","3.45 ","3.2 "]
["31-08-2020","01:15:00","Uruguay Primera Division","Penarol ","Wanderers ","X","W2","W2","-","-","-","-","1.5 O (FT)","-","-","Penarol ","Wanderers ","Wanderers ","0:2 (0:0) ","1.97 ","3.2 ",4]
["31-08-2020","02:00:00","Costa Rica Primera Division","San Carlos ","Limon ","X","X","X","0.5 O (HT)","1.5 O (HT)","-","1.5 O (ST)","1.5 O (FT)","2.5 O (FT)","-","San Carlos ","-","San Carlos ","2:2 (1:1) ","1.48 ","4.4 ","5.5 "]
["31-08-2020","02:06:00","Mexico Primera Division","Santos Laguna ","Queretaro ","W1","W1","W1","0.5 O (HT)","-","0.5 O (ST)","-","1.5 O (FT)","-","-","Santos Laguna ","Santos Laguna ","Santos Laguna ","2:1 (1:1) ","2.17 ","3.3 ","3.15 "]
["31-08-2020","02:30:00","USA MLS","Nashville ","Inter Miami CF ","X","W1","W1","-","-","0.5 O (ST)","-","-","-","-","Nashville ","Nashville ","Nashville ","1:0 (0:0) ","2.17 ","3.25 ","3.2 "]
["31-08-2020","03:00:00","Nicaragua Primera","Juventus Managua ","Ocotal ","W2","X","W2","0.5 O (HT)","-","-","-","-","-","-","Ocotal ","Ocotal ","Ocotal ","1:0 (1:0) ","1.89 ","3.45 ","3.4 "]
["31-08-2020","03:00:00","USA USL","Portland Timbers II ","Tacoma Defiance ","NB","NB","NB","NB","NB","NB","NB","NB","NB","NB","NB","NB","NB","Postponed ","4.3 ","4.2 ","1.57 "]
["31-08-2020","04:00:00","USA MLS","Seattle ","Los Angeles ","W2","W1","W1","-","-","0.5 O (ST)","1.5 O (ST)","1.5 O (FT)","2.5 O (FT)","3.5 O (FT)","-","Seattle ","Seattle ","3:1 (1:0) ","2.5 ","3.85 ","2.55 "]
["31-08-2020","04:06:00","Mexico Primera Division","Monterrey ","Juarez ","W2","W1","W1","-","-","0.5 O (ST)","-","1.5 O (FT)","-","-","Juarez ","Monterrey ","-","2:1 (0:1) ","1.45 ","4.4 ",6]
["31-08-2020","11:00:00","Myanmar National League","Shan United ","Sagaing Utd ","X","W1","W1","0.5 O (HT)","-","-","-","-","-","-","Shan United ","Shan United ","Shan United ","5:1 (1:1) ","1.4 ","4.5 ","5.5 "]
["31-08-2020","11:00:00","Myanmar National League","Magway ","Rakhine Utd ","W1","W2","X","0.5 O (HT)","-","-","-","-","-","-","Magway ","Rakhine Utd ","Magway ","2:2 (1:0) ","3.8 ","3.8 ","1.7 "]
["31-08-2020","11:00:00","South Korea Women WK-League","Suwon FMC W ","Seoul W ","W1","X","W1","0.5 O (HT)","-","-","-","1.5 O (FT)","2.5 O (FT)","-","Suwon FMC W ","Suwon FMC W ","Suwon FMC W ","4:0 (4:0) ","-","-","-"]
["31-08-2020","11:00:00","South Korea Women WK-League","Boeun Sangmu W ","Incheon Hyundai W ","W2","X","W2","0.5 O (HT)","-","-","-","1.5 O (FT)","-","-","Incheon Hyundai W ","Incheon Hyundai W ","Incheon Hyundai W ","0:2 (0:2) ","-","-","-"]
["31-08-2020","11:00:00","South Korea Women WK-League","Gyeongju W ","Changnyeong W ","W1","X","W1","-","-","-","-","1.5 O (FT)","2.5 O (FT)","3.5 O (FT)","Gyeongju W ","Changnyeong W ","Gyeongju W ","5:1 (5:1) ","-","-","-"]
["31-08-2020","12:00:00","China Super League","Shijiazhuang ","Hebei China ","X","X","X","0.5 O (HT)","1.5 O (HT)","0.5 O (ST)","1.5 O (ST)","1.5 O (FT)","2.5 O (FT)","3.5 O (FT)","Hebei China ","Shijiazhuang ","-","3:1 (1:1) ","2.85 ","3.65 ","2.33 "]
["31-08-2020","13:00:00","Russia PFL South","Inter Cherkessk ","Forte ","W2","W1","W2","-","-","0.5 O (ST)","-","1.5 O (FT)","2.5 O (FT)","-","Forte ","Inter Cherkessk ","Inter Cherkessk ","1:2 (0:2) ","5.3 ","4.2 ","1.55 "]
["31-08-2020","14:00:00","China Super League","Shanghai SIPG ","Tianjin Teda ","W1","W1","W1","-","1.5 O (HT)","0.5 O (ST)","-","1.5 O (FT)","2.5 O (FT)","-","Shanghai SIPG ","Shanghai SIPG ","Shanghai SIPG ","4:1 (2:0) ","1.21 ","6.9 ","12.5 "]
["31-08-2020","15:00:00","Intenational Club Friendlies","Odense ","Broendby ","W2","W2","W2","-","-","0.5 O (ST)","1.5 O (ST)","1.5 O (FT)","2.5 O (FT)","-","Broendby ","Broendby ","Broendby ","1:2 (0:0) ","2.44 ","3.45 ","2.44 "]
["31-08-2020","16:00:00","Russia Premier Women","Ryazan W ","Zvezda W ","X","X","X","-","-","-","-","-","-","-","Ryazan W ","-","Ryazan W ","0:0 (0:0) ","2.8 ","2.65 ","2.65 "]
["31-08-2020","17:00:00","Russia - 1. Division","Fc Chayka Pes ","Fakel Voronezh ","W2","X","W2","-","-","0.5 O (ST)","-","-","-","-","Fakel Voronezh ","Fakel Voronezh ","Fakel Voronezh ","2:1 (1:0) ",{"$error":"#N/A"},{"$error":"#N/A"},{"$error":"#N/A"}]
["31-08-2020","17:00:00","Egypt Premier League","El Hodood ","Misr Lel ","W2","W1","X","-","-","0.5 O (ST)","-","1.5 O (FT)","-","-","Misr Lel ","El Hodood ","-","1:1 (0:1) ",3,"2.44 ","3.1 "]
["31-08-2020","17:00:00","Russia Premier Women","FC Lokomotiv Moscow W ","CSKA Moscow W ","X","X","X","-","-","-","-","-","-","-","CSKA Moscow W ","-","CSKA Moscow W ","0:0 (0:0) ","2.6 ","2.65 ","2.8 "]
["31-08-2020","17:00:00","Russia Premier Women","Chertanovo W ","Yenisey Krasnoyarsk W ","W2","X","W2","-","-","-","-","-","-","-","Yenisey Krasnoyarsk W ","-","Yenisey Krasnoyarsk W ","0:1 (0:1) ","3.25 ",3,"2.1 "]
["31-08-2020","17:30:00","Finland - Veikkausliga","Lahti ","Inter Turku ","W1","W2","X","0.5 O (HT)","-","0.5 O (ST)","-","1.5 O (FT)","-","-","Lahti ","Inter Turku ","-","2:2 (2:0) ","4.2 ","3.5 ","1.8 "]
["31-08-2020","18:00:00","Bosnia & Herzegovina Premier League","Bijeljina ","Sarajevo ","W1","X","W1","0.5 O (HT)","1.5 O (HT)","-","-","1.5 O (FT)","-","-","Bijeljina ","Sarajevo ","Bijeljina ","0:2 (0:2) ","4.1 ","3.05 ","1.96 "]
["31-08-2020","18:00:00","Israel Liga Leumit","H. Nazareth Illit ","Beitar Tel Aviv ","W2","W1","W1","-","-","-","-","1.5 O (FT)","-","-","Beitar Tel Aviv ","H. Nazareth Illit ","Beitar Tel Aviv ","2:1 (0:1) ","2.17 ","3.25 ","3.2 "]
["31-08-2020","18:00:00","Israel Liga Leumit","Sektzia Nes Tziona ","Nazareth ","X","X","X","-","-","-","-","-","-","-","-","Nazareth ","Nazareth ","1:1 (0:0) ","3.35 ","3.35 ","2.06 "]
["31-08-2020","18:00:00","Peru-Primera division","Cienciano ","Universitario Dep. ","W1","W2","W2","-","-","0.5 O (ST)","-","1.5 O (FT)","-","-","Cienciano ","Universitario Dep. ","Cienciano ","1:3 (1:0) ","3.55 ","3.4 ","2.03 "]
["31-08-2020","18:30:00","Russia Premier Women","FC Zenit W ","Kubanochka W ","W2","W1","X","-","-","0.5 O (ST)","-","-","-","-","Kubanochka W ","FC Zenit W ","-","2:2 (0:2) ","2.8 ","2.7 ","2.6 "]
["31-08-2020","19:00:00","Slovakia - Corgon Liga","Trencin ","Slovan Bratislava ","W2","W2","W2","0.5 O (HT)","-","-","-","1.5 O (FT)","2.5 O (FT)","-","Slovan Bratislava ","Slovan Bratislava ","Slovan Bratislava ","1:2 (1:1) ","3.9 ","4.2 ","1.74 "]
["31-08-2020","19:00:00","Sweden Superettan","Norrby ","Orgryte ","X","W1","W1","-","-","-","-","1.5 O (FT)","-","-","Norrby ","Norrby ","Norrby ","2:0 (0:0) ","2.37 ","3.35 ","2.9 "]
["31-08-2020","19:30:00","Intenational Club Friendlies","Vejle ","Nordsjaelland ","W2","W2","W2","0.5 O (HT)","-","-","-","-","-","-","Nordsjaelland ","Nordsjaelland ","Nordsjaelland ","— — ","3.95 ","4.7 ","1.55 "]
["31-08-2020","19:30:00","Israel Liga Leumit","H. Petah Tikva ","Hapoel Afula ","X","W2","W2","-","-","0.5 O (ST)","1.5 O (ST)","1.5 O (FT)","-","-","Hapoel Afula ","Hapoel Afula ","Hapoel Afula ","1:1 (0:0) ","1.65 ","3.4 ","4.7 "]
["31-08-2020","19:30:00","Israel Liga Leumit","Hapoel Kfar Shelem ","H. Rishon Lezion ","NB","NB","NB","NB","NB","NB","NB","NB","NB","NB","NB","NB","NB","— — ","-","-","-"]
["31-08-2020","20:00:00","Romania Liga I","C. Targoviste ","Dinamo B. ","W1","X","W1","0.5 O (HT)","-","-","-","1.5 O (FT)","-","-","C. Targoviste ","Dinamo B. ","C. Targoviste ","1:0 (1:0) ","5.4 ",4,"1.62 "]
["31-08-2020","20:00:00","Egypt Premier League","Ismaily ","Al Ittihad ","W2","W1","W1","-","-","0.5 O (ST)","-","1.5 O (FT)","-","-","Ismaily ","Al Ittihad ","Ismaily ","1:3 (1:2) ","2.55 ","2.41 ","3.75 "]
["31-08-2020","20:00:00","Netherlands Eerste Divisie","De Graafschap ","Den Bosch ","W1","W1","W1","-","-","0.5 O (ST)","-","1.5 O (FT)","-","-","De Graafschap ","De Graafschap ","De Graafschap ","4:2 (1:0) ","1.27 ","6.1 ","8.4 "]
["31-08-2020","20:10:00","Bosnia & Herzegovina Premier League","Banja Luka ","Krupa ","W1","W1","W1","0.5 O (HT)","-","-","-","1.5 O (FT)","-","-","Banja Luka ","Krupa ","Krupa ","3:1 (1:0) ","1.12 ","7.6 ",19]
["31-08-2020","20:15:00","Peru-Primera division","Cantolao ","Sporting Cristal ","W2","W2","W2","-","-","0.5 O (ST)","-","1.5 O (FT)","-","-","Cantolao ","Sporting Cristal ","-","2:6 (1:3) ","5.1 ","4.2 ","1.57 "]
["31-08-2020","20:45:00","France National","CA Bastia ","Bastia ","X","X","X","-","-","-","-","-","-","-","Bastia ","Bastia ","Bastia ","0:0 (0:0) ","4.05 ","3.25 ","1.8 "]
["31-08-2020","20:45:00","Ireland - 1. Division","Longford Town ","Wexford ","W1","W1","W1","-","-","-","-","-","-","-","Longford Town ","Longford Town ","Longford Town ","3:1 (1:0) ","1.39 ","4.5 ","7.2 "]
["31-08-2020","21:00:00","Morocco Botola","Olympique de Safi ","Difaa Hassani ","W2","X","W2","-","-","-","-","-","-","-","Difaa Hassani ","-","Difaa Hassani ","1:0 (1:0) ","2.44 ","2.65 ","3.45 "]
["31-08-2020","22:30:00","Paraguay Primera Division","Sportivo Luqueno ","San Lorenzo ","X","X","X","-","-","-","-","-","-","-","San Lorenzo ","Sportivo Luqueno ","San Lorenzo ","0:0 (0:0) ","2.15 ","3.35 ","3.15 "]
["31-08-2020","22:30:00","Peru-Primera division","Cesar Vallejo ","Huancayo ","X","W1","X","-","-","0.5 O (ST)","-","1.5 O (FT)","-","-","Cesar Vallejo ","Cesar Vallejo ","Cesar Vallejo ","2:0 (0:0) ","1.88 ","3.35 ","4.2 "]
["31-08-2020","22:30:00","Peru-Primera division","Huanuco ","Dep. Municipal ","X","X","X","-","-","-","-","-","-","-","Huanuco ","Huanuco ","Huanuco ","1:1 (1:1) ","2.35 ","3.1 ",3]
["2020-01-09","01:00:00","Brazil - Serie B","Guarani ","Oeste SP ","X","X","X","-","-","-","-","-","-","-","-","-","-","1:1 (0:0) ","1.87 ","3.24 ","4.65 "]
["2020-01-09","01:00:00","Paraguay Primera Division","Sol de America ","Libertad ","X","X","X","-","-","-","-","-","-","-","-","-","-","1:3 (0:1) ","4.7 ","4.15 ","1.82 "]
["2020-01-09","01:00:00","Peru-Primera division","Sport Boys ","Melgar ","X","X","X","-","-","-","-","-","-","-","-","-","-","1:0 (1:0) ","-","-","-"]
["2020-01-09","04:05:00","Mexico Primera Division","Leon ","Atlas ","X","X","X","-","-","-","-","-","-","-","-","-","-","2:1 (2:1) ","1.74 ","4.15 ","5.35 "]
["2020-01-09","11:00:00","South Korea Women WK-League","Hwacheon W ","Gumi Sportstoto W ","NB","NB","NB","-","-","0.5 O (ST)","1.5 O (ST)","1.5 O (FT)","2.5 O (FT)","3.5 O (FT)","NB","NB","NB","2:0 (2:0) ","-","-","-"]
["2020-01-09","11:30:00","Australia NPL Queensland","Moreton Bay ","Eastern Suburbs ","NB","NB","NB","-","-","-","-","-","-","-","NB","NB","NB","1:1 (0:1) ","-","-","-"]
["2020-01-09","12:00:00","China Super League","Qingdao Huanghai ","Wuhan ","NB","NB","NB","-","-","-","-","-","-","-","NB","NB","NB","0:3 (0:2) ",4333,"3.6 ","2.03 "]
["2020-01-09","14:00:00","China Super League","Beijing Guoan ","Chongqing Lifan ","X","X","X","-","-","-","-","-","-","-","-","-","-","5:2 (2:1) ","1.59 ","4.7 ","6.25 "]
["2020-01-09","16:00:00","Uzbekistan Superleague","Navbahor ","Pakhtakor ","NB","NB","NB","-","-","-","-","-","-","-","NB","NB","NB","1:1 (1:1) ","-","5.45 ","-"]
["2020-01-09","17:30:00","Finland - Veikkausliga","Honka ","HIFK ","NB","NB","NB","-","-","-","-","1.5 O (FT)","-","-","NB","NB","NB","0:1 (0:1) ","1.82 ","3.54 ","5.85 "]
["2020-01-09","17:30:00","Finland - Veikkausliga","Haka ","Ilves ","X","X","X","-","-","-","-","-","-","-","-","-","-","0:2 (0:1) ","3.9 ","3.32 ","2.25 "]
["2020-01-09","17:30:00","Germany Regionalliga Northeast","Lichtenberg ","Chemie Leipzig ","NB","NB","NB","-","-","-","-","-","-","-","NB","NB","NB","0:0 (0:0) ","3.24 ","3.46 ","2.17 "]
["2020-01-09","18:00:00","Chile Primera Division","Coquimbo ","Audax ","NB","NB","NB","-","-","-","-","1.5 O (FT)","-","-","NB","NB","NB","0:0 (0:0) ","2.27 ","3.35 ","3.22 "]
["2020-01-09","18:00:00","Germany Regionalliga Southwest","Rot-Weiss Koblenz ","SSV Ulm ","NB","NB","NB","-","-","-","-","-","-","-","NB","NB","NB","0:0 (0:0) ",10,"5.85 ","1.27 "]
["2020-01-09","18:00:00","Peru-Primera division","Carlos Stein ","Cajamarca ","NB","NB","NB","-","1.5 O (HT)","-","-","1.5 O (FT)","-","-","NB","NB","NB","0:1 (0:0) ","-","-","-"]
["2020-01-09","18:30:00","Germany Regionalliga Southwest","Elversberg ","FC Giessen ","X","X","X","-","-","-","-","-","-","-","-","-","-","1:0 (0:0) ","1.2 ","7.1 ","11.75 "]
["2020-01-09","19:15:00","Ecuador Primera Division","Cuenca ","Tecnico Uni ","NB","NB","NB","-","-","-","-","-","-","-","NB","NB","NB","2:2 (1:2) ","2.75 ","3.7 ","2.72 "]
["2020-01-09","20:00:00","France National","Lyon-Duchere ","Concarneau ","NB","NB","NB","-","-","-","-","-","-","-","NB","NB","NB","1:2 (1:2) ","2.53 ","3.04 ","2.84 "]
["2020-01-09","20:00:00","France National","Avranches ","Creteil ","X","X","X","-","-","-","-","-","-","-","-","-","-","2:0 (1:0) ","2.5 ",2875,"3.05 "]
["2020-01-09","20:00:00","France National","Stade Briochin ","Laval ","NB","NB","NB","-","-","-","-","-","-","-","NB","NB","NB","0:2 (0:1) ","2.66 ","2.97 ","2.75 "]
["2020-01-09","20:00:00","France National","Cholet ","Sete ","NB","NB","NB","-","-","-","-","-","-","-","NB","NB","NB","3:1 (1:1) ","2.25 ","3.14 ","3.2 "]
["2020-01-09","20:00:00","France National","Quevilly Rouen ","Bourg Peronnas ","NB","NB","NB","-","-","-","-","1.5 O (FT)","-","-","NB","NB","NB","— — ","2.91 ","3.1 ","2.44 "]
["2020-01-09","20:00:00","France National","Annecy ","Villefranche ","NB","NB","NB","NB","NB","NB","NB","NB","NB","NB","NB","NB","NB","— — ","-","-","-"]
["2020-01-09","20:15:00","Peru-Primera division","San Martin ","Binacional ","X","X","X","-","-","-","-","-","-","-","-","-","-","0:0 (0:0) ","-","-","-"]
["2020-01-09","20:45:00","France National","Red Star ","Le Mans ","NB","NB","NB","-","-","-","-","-","-","-","NB","NB","NB","0:0 (0:0) ","2.42 ","3.3 ","2.79 "]
["2020-01-09","21:30:00","Ecuador Primera Division","Orense ","Mushuc Runa ","NB","NB","NB","-","-","-","-","1.5 O (FT)","-","-","NB","NB","NB","0:2 (0:0) ","2.4 ","3.55 ","3.3 "]
["2020-01-09","22:00:00","Brazil - Serie B","Botafogo SP ","Cuiaba ","NB","NB","NB","-","-","-","-","-","-","-","NB","NB","NB","1:1 (0:1) ","3.28 ","2.99 ","2.39 "]
["2020-01-09","22:30:00","Peru-Primera division","Llacuabamba ","Atletico Grau ","NB","NB","NB","-","-","-","-","-","-","-","NB","NB","NB","2:0 (2:0) ","-","-","-"]
["2020-02-09","00:15:00","Brazil - Serie B","Parana ","Ponte Preta ","X","X","X","-","-","-","-","-","-","-","-","-","-","2:1 (1:1) ",2875,"2.94 ","2.7 "]
["2020-02-09","00:15:00","Ecuador Primera Division","LDU Quito ","Macara ","NB","NB","NB","-","-","-","-","-","-","-","NB","NB","NB","1:0 (1:0) ","1.74 ","3.88 ","5.9 "]
["2020-02-09","01:00:00","Paraguay Primera Division","Guairena ","General Diaz ","NB","NB","NB","-","-","-","-","1.5 O (FT)","-","-","NB","NB","NB","2:1 (0:0) ","2.11 ","3.65 ","3.95 "]
["2020-02-09","01:00:00","Peru-Primera division","Ayacucho ","Mannucci ","NB","NB","NB","-","-","-","-","-","-","-","NB","NB","NB",{"$error":"#N/A"},{"$error":"#N/A"},{"$error":"#N/A"},{"$error":"#N/A"}]
["2020-02-09","01:00:00","USA USL","Pittsburgh II ","Loudoun ","NB","NB","NB","0.5 O (HT)","1.5 O (HT)","-","-","1.5 O (FT)","-","-","NB","NB","NB","3:0 (2:0) ","1.23 ","5.8 ","9.8 "]
["2020-02-09","01:30:00","Brazil - Serie B","Chapecoense ","Juventude RS ","NB","NB","NB","-","-","-","-","-","-","-","NB","NB","NB","1:0 (0:0) ","2.06 ","3.1 ","3.98 "]
["2020-02-09","02:00:00","Ecuador Primera Division","Barcelona Guayaquil ","Aucas ","X","X","X","-","-","-","-","-","-","-","-","-","-","4:2 (3:1) ","1.51 ","4.9 ","7.3 "]
["2020-02-09","02:00:00","USA MLS","Toronto ","Montreal Imp ","X","X","X","-","-","-","-","-","-","-","-","-","-","0:1 (0:1) ","1.44 ","4.95 ","6.5 "]
["2020-02-09","02:30:00","Brazil - Serie B","Confianca ","Vitoria ","NB","NB","NB","-","-","-","-","-","-","-","NB","NB","NB","1:0 (0:0) ","2.81 ","3.02 ","2.7 "]
["2020-02-09","02:30:00","Brazil - Serie B","Nautico PE ","Figueirense ","X","X","X","-","-","-","-","-","-","-","-","-","-","1:0 (0:0) ","2.07 ","3.16 ","3.85 "]
["2020-02-09","04:00:00","Costa Rica Primera Division","LD Alajuelense ","Santos de G ","X","X","X","-","-","-","-","1.5 O (FT)","-","-","-","-","-","2:1 (0:1) ","-","-","-"]
["2020-02-09","07:00:00","Japan J. League 3","Hachnohe ","Cerezo U3 ","NB","NB","NB","NB","NB","NB","NB","NB","NB","NB","NB","NB","NB","2:0 (1:0) ","1.77 ","3.76 ","3.9 "]
["2020-02-09","08:00:00","Japan J. League 3","Imabari ","Nagano Parceiro ","NB","NB","NB","-","1.5 O (HT)","-","-","1.5 O (FT)","-","-","NB","NB","NB","1:1 (1:1) ","2.24 ","2.93 ","3.34 "]
["2020-02-09","08:00:00","Japan J. League 3","Fukushima U ","Gamba Osaka U3 ","NB","NB","NB","NB","NB","NB","NB","NB","NB","NB","NB","NB","NB","2:4 (1:1) ","1.8 ","3.88 ","3.64 "]
["2020-02-09","11:00:00","Japan J. League 3","Blaublitz A ","Azul Claro Numazu ","X","X","X","-","-","0.5 O (ST)","1.5 O (ST)","1.5 O (FT)","-","-","-","-","-","3:1 (0:0) ",1615,"3.64 ","5.15 "]
["2020-02-09","11:30:00","Russia Cup","Zenit Irkutsk ","Novosibirsk ","X","X","X","-","-","-","-","-","-","-","-","-","-","1:1 (0:0) AET 0:0, pen 4:3 ","3.28 ","3.28 ","2.11 "]
["2020-02-09","11:30:00","Australia NPL Queensland","Capalaba ","Brisbane Strikers ","NB","NB","NB","-","-","-","1.5 O (ST)","1.5 O (FT)","2.5 O (FT)","3.5 O (FT)","NB","NB","NB","2:2 (1:1) ","4.4 ","4.7 ",1615]
["2020-02-09","12:00:00","Russia Cup","Leningradets ","Dolgoprudny ","NB","NB","NB","-","1.5 O (HT)","-","-","1.5 O (FT)","-","-","NB","NB","NB","2:1 (0:1) ","2.27 ","3.22 ","2.98 "]
["2020-02-09","12:00:00","Japan - J. League 2","Omiya A ","Kyoto Sanga ","X","X","X","-","-","-","-","-","-","-","-","-","-","1:0 (0:0) ","1.78 ","3.68 ","4.65 "]
["2020-02-09","12:00:00","Japan - J. League 2","Montedio ","Renofa Y ","X","X","X","-","-","0.5 O (ST)","1.5 O (ST)","1.5 O (FT)","-","-","-","-","-","0:0 (0:0) ","1.69 ","3.94 ","4.9 "]
["2020-02-09","12:00:00","Japan - J. League 2","Niigata ","V-Varen ","X","X","X","-","-","-","-","1.5 O (FT)","-","-","-","-","-","2:2 (0:1) ","2.38 ","3.42 ","2.97 "]
["2020-02-09","12:00:00","Japan - J. League 2","Ehime ","Machida Z ","NB","NB","NB","-","-","-","-","-","-","-","NB","NB","NB","1:2 (1:1) ","2.67 ","3.24 ","2.73 "]
["2020-02-09","12:00:00","Japan - J. League 2","Ichihara Chiba ","Avispa F ","NB","NB","NB","-","-","0.5 O (ST)","1.5 O (ST)","1.5 O (FT)","-","-","NB","NB","NB","2:2 (1:1) ","2.26 ","3.1 ","3.52 "]
["2020-02-09","12:00:00","Japan - J. League 2","Fagiano O ","Matsumoto ","NB","NB","NB","-","-","-","-","-","-","-","NB","NB","NB","1:0 (0:0) ","2.38 ","2.97 ","3.42 "]
["2020-02-09","12:00:00","Japan - J. League 2","Tochigi ","Giravanz K ","NB","NB","NB","-","-","-","-","1.5 O (FT)","-","-","NB","NB","NB","2:2 (1:0) ","2.54 ","3.08 ","3.02 "]
["2020-02-09","12:00:00","Japan - J. League 2","Zweigen K ","Ryukyu ","NB","NB","NB","0.5 O (HT)","1.5 O (HT)","0.5 O (ST)","1.5 O (ST)","1.5 O (FT)","2.5 O (FT)","3.5 O (FT)","NB","NB","NB","2:1 (1:1) ","1.93 ",4,"3.55 "]
["2020-02-09","12:00:00","Japan - J. League 2","Ventforet ","Kusatsu G ","NB","NB","NB","-","-","-","1.5 O (ST)","1.5 O (FT)","-","-","NB","NB","NB","1:0 (1:0) ","2.2 ","3.22 ","3.52 "]
["2020-02-09","12:00:00","Japan - J. League 2","Tokushima V ","Mito H ","X","X","X","-","-","-","-","-","-","-","-","-","-","1:2 (0:2) ","1.75 ","3.86 ","4.55 "]
["2020-02-09","12:00:00","Japan J. League 3","Gifu ","YSCC Yokohama ","NB","NB","NB","-","-","-","-","-","-","-","NB","NB","NB","3:2 (1:1) ","1.59 ","4.05 ","4.75 "]
["2020-02-09","12:00:00","Japan J. League 3","Sagamihara ","Kamatamare S ","X","X","X","-","-","-","-","1.5 O (FT)","-","-","-","-","-","2:2 (0:1) ","1.83 ","3.44 ",4]
["2020-02-09","12:00:00","Japan J. League 3","Kataller T ","Roasso K ","X","X","X","-","-","-","-","1.5 O (FT)","-","-","-","-","-","2:3 (1:2) ","2.27 ","3.2 ",3]
["2020-02-09","12:00:00","Japan J. League 3","Gainare T ","Fujieda ","NB","NB","NB","-","-","-","-","-","-","-","NB","NB","NB","3:1 (1:1) ","2.66 ","3.34 ","2.43 "]
["2020-02-09","12:30:00","Japan - J. League 2","Jubilo I ","Tokyo V ","X","X","X","-","-","-","-","-","-","-","-","-","-","2:2 (2:1) ","2.21 ","3.54 ","3.18 "]
["2020-02-09","15:00:00","Russia Cup","Znamya Noginsk ","Sokol Saratov ","NB","NB","NB","-","-","-","-","-","-","-","NB","NB","NB","0:0 (0:0) ","3.62 ","3.32 ","1.96 "]
["2020-02-09","15:00:00","Russia Cup","FC Zvezda Perm ","Chelyabinsk ","X","X","X","-","-","-","-","1.5 O (FT)","-","-","-","-","-","3:1 (1:0) ","2.13 ","3.18 ","3.3 "]
["2020-02-09","15:30:00","Egypt Premier League","El Gaish ","Aswan ","NB","NB","NB","-","-","-","-","1.5 O (FT)","-","-","NB","NB","NB","0:0 (0:0) ","2.2 ","2.97 ","3.58 "]
["2020-02-09","16:00:00","Russia Cup","Mashuk-KMV ","Legion-Dynamo ","NB","NB","NB","-","-","-","-","1.5 O (FT)","2.5 O (FT)","-","NB","NB","NB","— — ","2.06 ","3.44 ","3.22 "]
["2020-02-09","16:00:00","Russia Cup","Volga Ulyanovsk ","KamAZ ","X","X","X","-","-","-","-","-","-","-","-","-","-","2:0 (1:0) ",3,"3.3 ","2.22 "]
["2020-02-09","16:00:00","Russia Cup","Kolomna ","Rodina Moscow ","X","X","X","-","-","-","-","1.5 O (FT)","-","-","-","-","-","2:3 (1:0) ","4.75 ","3.92 ","1.61 "]
["2020-02-09","17:00:00","Russia Cup","Kaluga ","Salyut ","X","X","X","-","-","-","-","-","-","-","-","-","-","0:0 (0:0) ","2.09 ","3.42 ","3.16 "]
["2020-02-09","17:00:00","Russia Cup","Kuban Holding ","Dinamo St ","NB","NB","NB","-","-","-","-","-","-","-","NB","NB","NB","3:4 (0:1) ","-","-","-"]
["2020-02-09","17:30:00","Russia Cup","Chernomorets Nov ","Novokubansk ","X","X","X","-","-","-","-","-","-","-","-","-","-","4:0 (1:0) ","1.24 ","5.45 ","10.25 "]
["2020-02-09","17:30:00","Finland - Ykkonen","MyPa ","KPV Kokkola ","NB","NB","NB","-","-","-","-","-","-","-","NB","NB","NB","1:1 (0:0) ","6.05 ",5,"1.42 "]
["2020-02-09","17:30:00","Germany Regionalliga Northeast","BFC Dynamo ","Jena ","NB","NB","NB","-","-","-","-","1.5 O (FT)","-","-","NB","NB","NB","1:1 (1:1) ","2.24 ","3.82 ","2.85 "]
["2020-02-09","17:30:00","Germany Regionalliga Northeast","Fuerstenwalde ","Bischofswerdaer ","NB","NB","NB","-","-","-","-","1.5 O (FT)","-","-","NB","NB","NB","2:1 (0:0) ","1.38 ","5.15 ","7.2 "]
["2020-02-09","17:30:00","Uruguay Primera Division","Cerro Largo ","Torque ","NB","NB","NB","0.5 O (HT)","-","-","-","1.5 O (FT)","2.5 O (FT)","-","NB","NB","NB","Postponed ","2.48 ","3.24 ","2.79 "]
["2020-02-09","18:00:00","EURO U-21 Qualification","Faroe Islands U ","Israel U ","NB","NB","NB","NB","NB","NB","NB","NB","NB","NB","NB","NB","NB",{"$error":"#N/A"},{"$error":"#N/A"},{"$error":"#N/A"},{"$error":"#N/A"}]
["2020-02-09","18:00:00","Egypt Premier League","Enppi ","El Gouna ","NB","NB","NB","-","-","-","-","-","-","-","NB","NB","NB","0:0 (0:0) ","2.47 ","2.94 ","3.08 "]
["2020-02-09","18:00:00","South Africa Premier Soccer League","Maritzburg ","Orlando Pirates ","X","X","X","-","-","-","-","-","-","-","-","-","-","0:1 (0:0) ","4.1 ","2.86 ","2.05 "]
["2020-02-09","18:00:00","South Africa Premier Soccer League","Golden Arrows ","Bloemfontein ","NB","NB","NB","-","-","-","-","1.5 O (FT)","-","-","NB","NB","NB","0:0 (0:0) ","2.98 ","2.74 ",2625]
["2020-02-09","18:00:00","South Africa Premier Soccer League","Kaizer Chiefs ","Chippa Utd ","NB","NB","NB","-","-","-","-","-","-","-","NB","NB","NB","1:0 (1:0) ","1.44 ","4.05 ","7.1 "]
["2020-02-09","18:00:00","South Africa Premier Soccer League","Black Leopards ","Bidwest Wits ","NB","NB","NB","-","-","-","-","-","-","-","NB","NB","NB","1:0 (0:0) ","3.75 ","3.1 ","2.03 "]
["2020-02-09","18:00:00","South Africa Premier Soccer League","Stellenbosch ","AmaZulu ","NB","NB","NB","-","-","-","-","-","-","-","NB","NB","NB","1:1 (0:1) ","2.98 ","2.96 ","2.45 "]
["2020-02-09","18:00:00","South Africa Premier Soccer League","Highlands Park ","Cape Town ","NB","NB","NB","-","-","-","-","1.5 O (FT)","-","-","NB","NB","NB","1:0 (1:0) ","2.49 ",2875,"3.02 "]
["2020-02-09","18:00:00","South Africa Premier Soccer League","Polokwane ","Mamelodi ","NB","NB","NB","-","-","-","-","-","-","-","NB","NB","NB","0:3 (0:2) ","5.55 ","3.62 ","1.6 "]
["2020-02-09","18:00:00","South Africa Premier Soccer League","Supersport ","Baroka ","NB","NB","NB","-","-","-","-","1.5 O (FT)","-","-","NB","NB","NB","4:1 (1:1) ","1.85 ","3.16 ","4.45 "]
["2020-02-09","18:00:00","Sweden Div 1","Karlstad ","Taby FK ","NB","NB","NB","0.5 O (HT)","-","0.5 O (ST)","-","1.5 O (FT)","2.5 O (FT)","-","NB","NB","NB","— — ","1.79 ","3.78 ","3.78 "]
["2020-02-09","18:15:00","Germany Regionalliga Northeast","Meuselwitz ","TB Berlin ","NB","NB","NB","-","-","-","-","-","-","-","NB","NB","NB","2:2 (1:0) ","-","-","-"]
["2020-02-09","18:30:00","Germany Regionalliga Southwest","Aalen ","Steinbach ","NB","NB","NB","-","-","-","-","-","-","-","NB","NB","NB","1:0 (1:0) ","3.58 ","3.64 ","1.98 "]
["2020-02-09","19:00:00","Germany Regionalliga Northeast","Hertha II ","Berliner AK ","X","X","X","-","-","0.5 O (ST)","1.5 O (ST)","1.5 O (FT)","2.5 O (FT)","3.5 O (FT)","-","-","-","2:5 (1:2) ",1615,"4.45 ","4.65 "]
["2020-02-09","19:00:00","Germany Regionalliga Northeast","Auerbach ","Cottbus ","NB","NB","NB","-","-","-","-","-","-","-","NB","NB","NB","2:5 (1:2) ","2.34 ","3.78 ","2.73 "]
["2020-02-09","19:00:00","Germany Regionalliga Northeast","Halberstadt ","Rathenow ","X","X","X","-","-","-","-","-","-","-","-","-","-","0:3 (0:0) ","1.83 ","3.84 ","3.98 "]
["2020-02-09","19:00:00","Germany Regionalliga Northeast","Babelsberg ","Chemnitz ","NB","NB","NB","-","-","-","1.5 O (ST)","1.5 O (FT)","-","-","NB","NB","NB","2:2 (1:1) ","3.46 ","3.62 ","2.03 "]
["2020-02-09","19:00:00","Germany Regionalliga Northeast","Viktoria Berlin ","Altglienicke ","NB","NB","NB","-","-","-","-","-","-","-","NB","NB","NB","2:1 (1:1) ","2.64 ","3.58 ","2.5 "]
["2020-02-09","19:00:00","Sweden Div 1","Trollhattans ","Motala ","NB","NB","NB","0.5 O (HT)","-","0.5 O (ST)","-","1.5 O (FT)","-","-","NB","NB","NB","— — ","1.84 ","3.7 ","3.65 "]
["2020-02-09","19:00:00","Sweden Div 1","Luleaa ","Frej ","NB","NB","NB","-","-","-","-","-","-","-","NB","NB","NB","— — ","3.82 ","3.48 ","1.86 "]
["2020-02-09","19:00:00","Sweden Div 1","Utsiktens ","Landskrona ","NB","NB","NB","-","-","-","-","-","-","-","NB","NB","NB","1:1 (1:0) ","2.52 ","3.58 ","2.43 "]
["2020-02-09","19:00:00","Sweden Div 1","Karlskrona ","Varnamo ","NB","NB","NB","0.5 O (HT)","-","0.5 O (ST)","1.5 O (ST)","1.5 O (FT)","2.5 O (FT)","-","NB","NB","NB","— — ","8.9 ","6.15 ","1.23 "]
["2020-02-09","19:00:00","Sweden Div 1","Lunds ","Torns ","NB","NB","NB","-","-","0.5 O (ST)","1.5 O (ST)","1.5 O (FT)","2.5 O (FT)","3.5 O (FT)","NB","NB","NB","0:0 (0:0) ","2.54 ","3.62 ","2.4 "]
["2020-02-09","19:00:00","Sweden Div 1","Sandvikens ","Gefle ","NB","NB","NB","-","-","-","-","1.5 O (FT)","-","-","NB","NB","NB","1:1 (0:0) ","1.74 ","3.7 ","4.15 "]
["2020-02-09","19:00:00","Sweden Div 1","Skovde ","Oskarshamn ","NB","NB","NB","0.5 O (HT)","-","0.5 O (ST)","-","1.5 O (FT)","2.5 O (FT)","3.5 O (FT)","NB","NB","NB","— — ","1.75 ","4.05 ","3.74 "]
["2020-02-09","19:00:00","Sweden Div 1","Sollentuna ","Team TG ","NB","NB","NB","0.5 O (HT)","-","0.5 O (ST)","1.5 O (ST)","1.5 O (FT)","2.5 O (FT)","-","NB","NB","NB","— — ","1.22 ","6.3 ","9.2 "]
["2020-02-09","19:00:00","Sweden Div 1","Linkoping ","Assyriska ","NB","NB","NB","-","-","-","-","-","-","-","NB","NB","NB","2:0 (1:0) ","2.28 ","3.84 ","2.57 "]
["2020-02-09","19:00:00","Sweden Div 1","Sylvia ","Vasalunds ","NB","NB","NB","-","1.5 O (HT)","-","-","1.5 O (FT)","-","-","NB","NB","NB","3:3 (0:3) ","2.9 ","3.88 ","2.06 "]
["2020-02-09","19:00:00","Sweden Div 1","Brommapojkarna ","Berga ","NB","NB","NB","-","-","0.5 O (ST)","1.5 O (ST)","1.5 O (FT)","-","-","NB","NB","NB","5:0 (3:0) ",1184,"6.5 ","11.25 "]
["2020-02-09","19:15:00","Ecuador Primera Division","Olmedo ","Delfin ","NB","NB","NB","-","-","-","-","1.5 O (FT)","-","-","NB","NB","NB","2:0 (2:0) ","2.5 ","3.48 ","2.7 "]
["2020-02-09","19:30:00","Germany Regionalliga Northeast","Lok Leipzig ","Luckenwalde ","NB","NB","NB","-","-","-","1.5 O (ST)","1.5 O (FT)","-","-","NB","NB","NB","3:0 (1:0) ","1.53 ","4.4 ","5.65 "]
["2020-02-09","19:30:00","Iceland - 1st deild","Magni ","Afturelding ","NB","NB","NB","0.5 O (HT)","-","0.5 O (ST)","-","1.5 O (FT)","2.5 O (FT)","3.5 O (FT)","NB","NB","NB","— — ","6.45 ","5.1 ","1.39 "]
["2020-02-09","19:30:00","Iceland - 1st deild","Vestmannaeyjar ","Leiknir R ","NB","NB","NB","-","-","-","1.5 O (ST)","1.5 O (FT)","-","-","NB","NB","NB","— — ","1.89 ","3.94 ","3.48 "]
["2020-02-09","19:30:00","Iceland - 1st deild","IF Vestri ","Thor A ","NB","NB","NB","0.5 O (HT)","-","0.5 O (ST)","-","1.5 O (FT)","-","-","NB","NB","NB","— — ","2.66 ","3.65 ","2.38 "]
["2020-02-09","19:30:00","Iceland - 1st deild","Keflavik ","Grindavik ","X","W1","W1","-","-","0.5 O (ST)","1.5 O (ST)","1.5 O (FT)","-","-","Keflavik ","Keflavik ","Keflavik ","— — ","-","-","-"]
["2020-02-09","19:30:00","Sweden Div 1","Karlslund ","Nykoping ","NB","NB","NB","0.5 O (HT)","1.5 O (HT)","0.5 O (ST)","1.5 O (ST)","1.5 O (FT)","2.5 O (FT)","3.5 O (FT)","NB","NB","NB","1:0 (0:0) ","-","-","-"]
["2020-02-09","19:30:00","Sweden Div 1","Tvaakers ","Eskilsminne ","NB","NB","NB","-","-","-","-","-","-","-","NB","NB","NB","2:2 (1:0) ","2.11 ","3.76 ",2875]
["2020-02-09","19:30:00","Sweden Div 1","Haninge ","Orebro Syrianska ","NB","NB","NB","0.5 O (HT)","1.5 O (HT)","0.5 O (ST)","1.5 O (ST)","1.5 O (FT)","2.5 O (FT)","3.5 O (FT)","NB","NB","NB","2:0 (2:0) ","1.75 ",4,"3.75 "]
["2020-02-09","20:00:00","Sweden Div 1","Qviding ","Lindome ","NB","NB","NB","0.5 O (HT)","1.5 O (HT)","-","-","1.5 O (FT)","-","-","NB","NB","NB","1:0 (0:0) ","3.62 ","3.7 ","1.85 "]
["2020-02-09","20:00:00","Uruguay Primera Division","Rentistas ","Plaza Colonia ","NB","NB","NB","-","-","-","-","-","-","-","NB","NB","NB","Postponed ","2.47 ","3.04 ","2.98 "]
["2020-02-09","20:30:00","EURO U-21 Qualification","San Marino U ","Czech R. U ","NB","NB","NB","NB","NB","NB","NB","NB","NB","NB","NB","NB","NB",{"$error":"#N/A"},{"$error":"#N/A"},{"$error":"#N/A"},{"$error":"#N/A"}]
["2020-02-09","20:30:00","Egypt Premier League","Smouha ","El-Entag ","X","X","X","-","-","-","-","-","-","-","-","-","-","1:2 (1:1) ","2.08 ","3.04 ","3.84 "]
["2020-02-09","21:00:00","USA USL","Portland Timbers II ","Sacramento Republic ","NB","NB","NB","-","-","-","-","-","-","-","NB","NB","NB","1:2 (0:0) ","4.95 ","4.5 ","1.51 "]
["2020-02-09","21:15:00","Iceland - 1st deild","Fram R ","Vikingur O ","X","X","X","-","-","-","-","-","-","-","-","-","-","1:1 (0:0) ","1.4 ","5.25 ","6.05 "]
["2020-02-09","21:30:00","Brazil - Serie B","Avai ","Operario ","NB","NB","NB","-","-","-","-","-","-","-","NB","NB","NB","2:0 (2:0) ","2.39 ","2.96 ","3.3 "]
["2020-02-09","21:30:00","Brazil - Serie B","America MG ","CSA AL ","NB","NB","NB","-","-","-","-","-","-","-","NB","NB","NB","2:1 (1:0) ","1.38 ","4.4 ","9.4 "]
["2020-02-09","21:30:00","Ecuador Primera Division","Guayaquil City ","Uni Catolica (ECU) ","NB","NB","NB","-","-","-","-","-","-","-","NB","NB","NB","1:3 (1:2) ",4,"3.8 ",1833]
["2020-02-09","22:15:00","Uruguay Primera Division","Wanderers ","River Plate FC ","X","X","X","-","-","-","-","1.5 O (FT)","-","-","River Plate FC ","River Plate FC ","Wanderers ","Postponed ","2.04 ","3.25 ","3.68 "]
["2020-02-09","22:30:00","Iceland - 1st deild","Throttur R ","Leiknir F ","NB","NB","NB","-","-","-","-","-","-","-","NB","NB","NB","0:0 (0:0) ","2.03 ","3.86 ","3.14 "]
["18-11-2020","00:00:00","Chile Primera Division","Cobresal ","La Serena ","NB","NB","NB","-","-","0.5 O (ST)","-","1.5 O (FT)","-","-","NB","NB","NB","— — ","1.46 ","4.6 ","6.3 "]
["18-11-2020","00:00:00","Panama LPF","Arabe Unido ","A. Chiriqui ","W1","W1","W1","-","-","-","-","1.5 O (FT)","-","-","Arabe Unido ","Arabe Unido ","Arabe Unido ","— — ","-","-","-"]
["18-11-2020","00:00:00","Panama LPF","Ind. Chorrera ","Universitario ","X","W1","W1","-","-","-","-","-","-","-","-","Ind. Chorrera ","Ind. Chorrera ","— — ","-","-","-"]
["18-11-2020","01:00:00","World Cup Qual. South America","Ecuador ","Colombia ","W2","X","W2","-","-","-","-","1.5 O (FT)","-","-","Colombia ","Ecuador ","Colombia ","6:1 (4:1) ",{"$error":"#N/A"},{"$error":"#N/A"},{"$error":"#N/A"}]
["18-11-2020","01:00:00","World Cup Qual. South America","Venezuela ","Chile ","X","W2","W1","-","-","-","-","1.5 O (FT)","-","-","Venezuela ","Chile ","Chile ","2:1 (1:1) ","3.62 ","3.41 ","2.17 "]
["18-11-2020","01:00:00","Brazil - Serie B","Sampaio Correa ","Nautico PE ","X","W1","W1","-","-","0.5 O (ST)","-","1.5 O (FT)","-","-","Sampaio Correa ","Sampaio Correa ","Sampaio Correa ","2:1 (0:0) ",{"$error":"#N/A"},{"$error":"#N/A"},{"$error":"#N/A"}]
["18-11-2020","01:00:00","Costa Rica Primera Division","Cartagines ","Herediano ","W2","X","W2","0.5 O (HT)","-","-","-","1.5 O (FT)","-","-","Herediano ","Cartagines ","Herediano ","0:1 (0:1) ","2.384 ","3.4 ","2.795 "]
["18-11-2020","03:00:00","World Cup Qual. South America","Uruguay ","Brazil ","X","X","W2","0.5 O (HT)","-","-","-","1.5 O (FT)","-","-","Brazil ","Brazil ","Brazil ","0:2 (0:2) ",{"$error":"#N/A"},{"$error":"#N/A"},{"$error":"#N/A"}]
["18-11-2020","03:00:00","World Cup Qual. South America","Paraguay ","Bolivia ","W2","W1","X","-","-","-","-","1.5 O (FT)","-","-","Paraguay ","Paraguay ","Paraguay ","2:2 (1:2) ","1.3 ","5.54 ","12.6 "]
["18-11-2020","03:00:00","Venezuela Primera Division","Est. Merida ","Trujillanos ","X","W2","W2","-","-","0.5 O (ST)","-","1.5 O (FT)","-","-","Est. Merida ","Trujillanos ","Trujillanos ","1:2 (1:0) ","1.816 ","3.74 ",4]
["18-11-2020","04:30:00","World Cup Qual. South America","Peru ","Argentina ","W2","X","W2","-","-","-","-","-","-","-","Argentina ","Argentina ","Argentina ","0:2 (0:2) ","6.15 ","3.82 ","1.66 "]
["18-11-2020","08:00:00","Japan J. League 3","Hachnohe ","Kataller T ","X","X","W2","-","-","0.5 O (ST)","-","1.5 O (FT)","-","-","-","Hachnohe ","Hachnohe ","1:2 (0:2) ","3.18 ","3.62 ","2.025 "]
["18-11-2020","08:00:00","Japan J. League 3","Fukushima U ","YSCC Yokohama ","X","X","X","-","-","0.5 O (ST)","1.5 O (ST)","1.5 O (FT)","-","-","YSCC Yokohama ","Fukushima U ","YSCC Yokohama ","2:2 (1:1) ","1.71 ",4,"3.98 "]
["18-11-2020","08:00:00","Japan J. League 3","Grulla M ","Sagamihara ","X","X","X","-","-","-","-","1.5 O (FT)","-","-","Sagamihara ","Grulla M ","Sagamihara ","1:1 (0:0) ","3.36 ","3.22 ","2.09 "]
["18-11-2020","12:00:00","Japan J. League 3","Fujieda ","Azul Claro Numazu ","X","X","X","-","-","-","-","-","-","-","Azul Claro Numazu ","Fujieda ","Fujieda ","1:0 (0:0) ","2.4 ","3.1 ","2.875 "]
["18-11-2020","13:00:00","Japan - J. League","Kobe ","Urawa ","X","W2","W2","-","-","0.5 O (ST)","-","1.5 O (FT)","-","-","Urawa ","Urawa ","Urawa ","0:1 (0:0) ","2.656 ","3.82 ","2.384 "]
["18-11-2020","14:00:00","AFC Champions League","Perth ","Shanghai Shenhua ","W2","W1","W2","-","-","-","-","-","-","-","Shanghai Shenhua ","Perth ","Shanghai Shenhua ","1:2 (0:2) ","3.32 ","3.4 ","2.07 "]
["18-11-2020","14:00:00","Japan - J. League","Sendai ","Tokyo ","X","W1","W2","-","-","0.5 O (ST)","1.5 O (ST)","1.5 O (FT)","-","-","Tokyo ","Tokyo ","Tokyo ","2:2 (0:1) ","3.8 ","3.72 ","1.896 "]
["18-11-2020","14:00:00","Japan - J. League","Kawasaki ","Yokohama Marinos ","W1","W1","W1","-","-","0.5 O (ST)","-","1.5 O (FT)","-","-","Kawasaki ","Kawasaki ","Kawasaki ","3:1 (0:0) ","1.605 ","4.7 ","4.34 "]
["18-11-2020","14:00:00","Japan J. League 3","Gifu ","Cerezo U3 ","NB","NB","NB","NB","NB","NB","NB","NB","NB","NB","NB","NB","NB","3:0 (0:0) ","1.53 ","4.2 ","5.15 "]
["18-11-2020","14:00:00","Japan J. League 3","Roasso K ","Imabari ","W2","W1","W2","0.5 O (HT)","-","-","-","-","-","-","Imabari ","Roasso K ","Imabari ","1:2 (0:2) ","2.055 ","3.22 ","3.46 "]
["18-11-2020","14:00:00","Japan J. League 3","Gamba Osaka U3 ","Blaublitz A ","NB","NB","NB","NB","NB","NB","NB","NB","NB","NB","NB","NB","NB","0:2 (0:1) ",{"$error":"#N/A"},{"$error":"#N/A"},{"$error":"#N/A"}]
["18-11-2020","14:00:00","Japan J. League 3","Kamatamare S ","Kagoshima Utd ","X","W2","W2","-","-","-","-","-","-","-","-","Kagoshima Utd ","Kamatamare S ","1:2 (1:1) ","3.48 ","3.6 ","1.925 "]
["18-11-2020","14:00:00","Japan J. League 3","Nagano Parceiro ","Gainare T ","X","X","W2","-","-","0.5 O (ST)","-","-","-","-","Gainare T ","Gainare T ","Gainare T ","0:1 (0:0) ","1.805 ","3.48 ","4.14 "]
["18-11-2020","14:00:00","Turkey 2nd Lig","Bodrumspor ","Sivas B. Spor ","X","X","X","-","-","0.5 O (ST)","1.5 O (ST)","1.5 O (FT)","2.5 O (FT)","-","Sivas B. Spor ","Sivas B. Spor ","-","2:2 (1:1) ","2.016 ","3.5 ","3.28 "]
["18-11-2020","14:00:00","Turkey 2nd Lig","Tarsus ","Serik ","X","W2","W2","0.5 O (HT)","-","0.5 O (ST)","-","1.5 O (FT)","-","-","Serik ","Serik ","Serik ","1:3 (1:1) ","2.085 ","3.14 ","3.48 "]
["18-11-2020","14:00:00","Turkey 2nd Lig","Hekimoglu Trabzon ","Sariyer ","X","W1","W1","-","-","0.5 O (ST)","-","1.5 O (FT)","-","-","Hekimoglu Trabzon ","Hekimoglu Trabzon ","Hekimoglu Trabzon ","2:0 (0:0) ","1.855 ","3.42 ","3.94 "]
["18-11-2020","14:00:00","Turkey 2nd Lig","Demirspor ","Inegolspor ","X","W2","W2","-","-","0.5 O (ST)","-","1.5 O (FT)","-","-","Demirspor ","Inegolspor ","Demirspor ","— — ","-","-","-"]
["18-11-2020","14:00:00","Turkey 2nd Lig","Van Spor ","Elazigspor ","W1","X","W1","-","-","-","-","-","-","-","Van Spor ","Van Spor ","Van Spor ","2:1 (1:0) ","-","-","-"]
["18-11-2020","14:00:00","Turkey 2nd Lig","Karacabey ","Kirsehir ","X","X","X","-","-","-","-","-","-","-","Kirsehir ","Karacabey ","Kirsehir ","2:2 (2:2) ","1.84 ","3.34 ","4.12 "]
["18-11-2020","14:00:00","Turkey 2nd Lig","Amedspor ","Kocaelispor ","W1","X","W1","-","-","-","-","-","-","-","Amedspor ","Amedspor ","Amedspor ","3:0 (3:0) ","2.336 ","3.4 ","2.745 "]
["18-11-2020","14:00:00","Turkey 2nd Lig","Sakaryaspor ","Mamak ","W1","W1","W1","-","-","0.5 O (ST)","-","1.5 O (FT)","-","-","Sakaryaspor ","Sakaryaspor ","Sakaryaspor ","3:1 (2:1) ","1.34 ","4.58 ","8.3 "]
["18-11-2020","14:00:00","Turkey 2nd Lig","A. Selcukluspor ","Turgutluspor ","W2","X","W2","-","-","0.5 O (ST)","-","1.5 O (FT)","-","-","Turgutluspor ","A. Selcukluspor ","A. Selcukluspor ","1:2 (0:1) ","-","-","-"]
["18-11-2020","14:00:00","Turkey 2nd Lig","Erzincanspor ","Manisa Buyuksehir ","NB","NB","NB","-","-","0.5 O (ST)","-","1.5 O (FT)","-","-","NB","NB","NB","— — ",4,"3.82 ","1.744 "]
["18-11-2020","14:00:00","Turkey 2nd Lig","Ergene ","Nigde Anadolu ","W1","X","W1","0.5 O (HT)","-","-","-","1.5 O (FT)","-","-","Ergene ","Ergene ","Ergene ","3:2 (3:2) ","1.97 ","3.76 ","3.2 "]
["18-11-2020","14:00:00","Turkey 2nd Lig","Eyupspor ","Karabukspor ","W1","W1","W1","0.5 O (HT)","-","-","-","1.5 O (FT)","-","-","Eyupspor ","Eyupspor ","Eyupspor ","7:0 (4:0) ","1.025 ",13,30]
["18-11-2020","14:00:00","Turkey 2nd Lig","Kirklarelispor ","Bayburt ","NB","NB","NB","-","-","-","-","-","-","-","NB","NB","NB","— — ","-","-","-"]
["18-11-2020","14:00:00","Turkey 2nd Lig","Usakspor ","Zonguldak ","W1","X","W1","-","-","0.5 O (ST)","-","1.5 O (FT)","-","-","Usakspor ","-","Usakspor ","3:2 (2:1) ","1.475 ","4.14 ",6]
["18-11-2020","14:00:00","Turkey 2nd Lig","Sancaktepe ","Afyonspor ","X","W1","W1","-","-","0.5 O (ST)","-","1.5 O (FT)","-","-","Sancaktepe ","Sancaktepe ","Sancaktepe ","0:2 (0:0) ","1.565 ",4,"5.1 "]
["18-11-2020","14:00:00","Turkey 2nd Lig","Pazarspor ","Pendikspor ","NB","NB","NB","-","-","0.5 O (ST)","-","1.5 O (FT)","-","-","NB","NB","NB","— — ","-","-","-"]
["18-11-2020","14:00:00","Turkey 2nd Lig","Kastamonuspor ","Etimesgut ","X","W1","W1","-","-","-","-","-","-","-","Kastamonuspor ","Kastamonuspor ","Kastamonuspor ","2:1 (0:0) ","2.664 ","3.16 ","2.53 "]
["18-11-2020","14:00:00","Turkey 2nd Lig","Kahramanmaras ","Corumspor ","NB","NB","NB","-","-","0.5 O (ST)","-","1.5 O (FT)","-","-","NB","NB","NB","— — ","-","-","-"]
["18-11-2020","15:00:00","Russia PFL West","Zvezda SPb ","Luki-Energiya V.luki ","W1","W1","W1","-","-","-","-","-","-","-","Zvezda SPb ","Zvezda SPb ","Zvezda SPb ","3:0 (1:0) ","2.35 ","3.46 ","2.685 "]
["18-11-2020","15:00:00","Belarus Pervaya Liga","Sputnik Rechica ","Orsha ","W1","W1","W1","0.5 O (HT)","-","0.5 O (ST)","-","1.5 O (FT)","-","-","Sputnik Rechica ","Sputnik Rechica ","Sputnik Rechica ","4:2 (2:1) ","1.27 ","5.2 ",9]
["18-11-2020","15:00:00","Poland I Liga","Resovia ","Nowy Sacz ","X","X","X","-","-","-","-","1.5 O (FT)","-","-","Resovia ","Resovia ","Resovia ","0:0 (0:0) ","2.21 ","3.184 ","3.44 "]
["18-11-2020","15:00:00","Poland II Liga","Slask Wroclaw II ","GKS Katowice ","W2","W2","W2","-","-","0.5 O (ST)","-","1.5 O (FT)","-","-","GKS Katowice ","GKS Katowice ","GKS Katowice ","0:3 (0:1) ","3.07 ","3.76 ","2.02 "]
["18-11-2020","15:00:00","Thailand Premier League","Chiangrai ","Muang Thong ","X","W2","W2","-","-","-","-","-","-","-","Muang Thong ","Muang Thong ","Muang Thong ","2:1 (1:1) ","2.265 ","3.62 ","2.85 "]
["18-11-2020","16:00:00","Norway - Adeccoligaen","Grorud ","Strommen ","X","W1","W1","-","-","0.5 O (ST)","-","1.5 O (FT)","-","-","Strommen ","Grorud ","Grorud ","2:1 (1:1) ","3.096 ","3.74 ","2.144 "]
["18-11-2020","16:00:00","Poland II Liga","Blekitni S. ","Poznan II ","W1","X","W1","0.5 O (HT)","-","-","-","1.5 O (FT)","-","-","Blekitni S. ","Poznan II ","Blekitni S. ","1:0 (1:0) ","1.856 ","3.84 ","3.48 "]
["18-11-2020","16:30:00","Slovenia - 1. Division","Bravo ","Domzale ","X","X","X","-","-","0.5 O (ST)","-","1.5 O (FT)","-","-","Domzale ","Domzale ","Domzale ","— — ","-","-","-"]
["18-11-2020","17:00:00","Poland I Liga","Puszcza Niepolomice ","Gornik Leczna ","W1","X","W1","-","-","-","-","-","-","-","Puszcza Niepolomice ","Puszcza Niepolomice ","Puszcza Niepolomice ","1:0 (1:0) ","2.496 ","3.12 ","2.984 "]
["18-11-2020","17:30:00","Chile Primera Division","Curico ","U. de Concep ","W1","W1","W1","0.5 O (HT)","-","-","-","1.5 O (FT)","-","-","U. de Concep ","U. de Concep ","Curico ","2:2 (2:1) ","2.46 ","3.096 ","3.12 "]
["18-11-2020","18:00:00","Poland I Liga","Glogow ","Odra Opole ","W1","W2","W2","-","-","0.5 O (ST)","-","-","-","-","Glogow ","Odra Opole ","Odra Opole ","2:3 (1:0) ","2.65 ","3.4 ","2.58 "]
["18-11-2020","19:00:00","UEFA Nations League","Albania ","Belarus ","W1","W2","W1","-","-","-","-","1.5 O (FT)","-","-","Albania ","Belarus ","Albania ","3:2 (3:1) ","1.75 ","3.62 ","5.5 "]
["18-11-2020","19:00:00","UEFA Nations League","Kazakhstan ","Lithuania ","X","W2","W2","-","-","0.5 O (ST)","-","1.5 O (FT)","-","-","Kazakhstan ","Lithuania ","Kazakhstan ","1:2 (1:1) ",{"$error":"#N/A"},{"$error":"#N/A"},{"$error":"#N/A"}]
["18-11-2020","19:00:00","Poland I Liga","Arka Gdynia ","Sosnowiec ","X","X","W1","-","-","-","-","1.5 O (FT)","-","-","Arka Gdynia ","Arka Gdynia ","Arka Gdynia ","2:0 (1:0) ","1.76 ","3.78 ","4.44 "]
["18-11-2020","19:00:00","Poland II Liga","S. Ostroda ","Garbarnia Krakow ","X","X","X","-","-","-","-","1.5 O (FT)","-","-","S. Ostroda ","S. Ostroda ","S. Ostroda ","1:1 (0:0) ","2.21 ","3.48 ","2.86 "]
["18-11-2020","20:00:00","Poland I Liga","Korona Kielce ","Olsztyn ","NB","NB","NB","-","-","0.5 O (ST)","-","-","-","-","NB","NB","NB","0:2 (0:2) HT ","1.856 ","3.64 ","4.14 "]
["18-11-2020","20:00:00","Spain Primera Division Women","Rayo Vallecano W ","Real Betis W ","W2","W2","W2","0.5 O (HT)","-","-","-","1.5 O (FT)","-","-","Real Betis W ","Real Betis W ","Real Betis W ","1:0 (1:0) HT ","3.72 ","3.9 ","1.78 "]
["18-11-2020","20:30:00","EURO U-21 Qualification","Italy U ","Sweden U ","NB","NB","NB","NB","NB","NB","NB","NB","NB","NB","NB","NB","NB",{"$error":"#N/A"},{"$error":"#N/A"},{"$error":"#N/A"},{"$error":"#N/A"}]
["18-11-2020","20:30:00","EURO U-21 Qualification","Luxembourg U ","Ireland Rep U ","NB","NB","NB","NB","NB","NB","NB","NB","NB","NB","NB","NB","NB",{"$error":"#N/A"},{"$error":"#N/A"},{"$error":"#N/A"},{"$error":"#N/A"}]
["18-11-2020","21:00:00","UEFA Nations League","Armenia ","FYR Macedonia ","W1","W1","W1","-","-","-","-","1.5 O (FT)","-","-","Armenia ","Armenia ","Armenia ","-:- ","3.36 ","3.41 ","2.27 "]
["18-11-2020","21:00:00","UEFA Nations League","Georgia ","Estonia ","W1","X","W1","-","-","-","-","-","-","-","Georgia ","Georgia ","Georgia ","-:- ","1.56 ","3.86 ","7.58 "]
["18-11-2020","21:00:00","Germany Regionalliga West","Aachen ","F. Cologne ","NB","NB","NB","-","-","-","-","-","-","-","NB","NB","NB","-:- ","2.736 ","3.54 ","2.43 "]
["18-11-2020","21:00:00","Guatemala Liga Nacional","Iztapa ","Coban Imperial ","X","X","X","-","-","0.5 O (ST)","-","1.5 O (FT)","-","-","Coban Imperial ","Iztapa ","-","-:- ","1.74 ","3.5 ","4.42 "]
["18-11-2020","21:00:00","Guatemala Liga Nacional","Antigua ","S. L. Cotzumalguapa ","X","X","X","-","-","-","-","-","-","-","Antigua ","Antigua ","Antigua ","— — ","1.83 ","3.34 ","3.78 "]
["18-11-2020","21:00:00","Norway - Adeccoligaen","Sandnes ","Stjordals Blink ","NB","NB","NB","0.5 O (HT)","-","0.5 O (ST)","-","1.5 O (FT)","2.5 O (FT)","-","NB","NB","NB","-:- ","1.75 ","4.2 ","4.06 "]
["18-11-2020","21:00:00","Norway - Adeccoligaen","Lillestrom ","Jerv ","W1","W1","W1","-","-","0.5 O (ST)","-","1.5 O (FT)","-","-","Lillestrom ","Lillestrom ","Lillestrom ","-:- ","1.385 ",5,"7.4 "]
["18-11-2020","21:00:00","Poland I Liga","Radom ","LKS Lodz ","NB","NB","NB","0.5 O (HT)","-","0.5 O (ST)","-","1.5 O (FT)","-","-","NB","NB","NB","-:- ","3.88 ","3.48 ","1.95 "]
["18-11-2020","21:00:00","Poland II Liga","Motor Lublin ","Bytovia ","NB","NB","NB","-","-","-","-","-","-","-","NB","NB","NB","-:- ","2.91 ","3.12 ","2.365 "]
["18-11-2020","21:15:00","Ecuador Primera Division","Aucas ","Ind. del Valle ","X","W2","W1","0.5 O (HT)","-","0.5 O (ST)","1.5 O (ST)","1.5 O (FT)","2.5 O (FT)","-","Aucas ","Ind. del Valle ","Ind. del Valle ","— — ","2.645 ","3.84 ","2.312 "]
["18-11-2020","21:30:00","Belgium Tweede Klasse","Westerlo ","Deinze ","NB","NB","NB","0.5 O (HT)","-","-","-","1.5 O (FT)","-","-","NB","NB","NB","— — ","1.936 ","3.42 ","4.04 "]
["18-11-2020","21:30:00","Germany Regionalliga West","Gladbach II ","RW Essen ","X","X","W2","-","-","0.5 O (ST)","-","1.5 O (FT)","-","-","Gladbach II ","RW Essen ","RW Essen ","— — ","6.5 ",5,"1.42 "]
["18-11-2020","21:30:00","Spain Primera Division Women","Espanyol W ","Atl. Bilbao W ","W2","W2","W2","-","-","-","-","-","-","-","Atl. Bilbao W ","Atl. Bilbao W ","Atl. Bilbao W ","— — ","5.85 ","4.44 ","1.455 "]
["18-11-2020","22:30:00","Germany Regionalliga West","Rodinghausen ","Wiedenbruck ","X","X","W2","-","-","-","-","-","-","-","Wiedenbruck ","Rodinghausen ","Wiedenbruck ","— — ","1.78 ","3.9 ","4.22 "]
["18-11-2020","22:30:00","Germany Regionalliga West","Wuppertal ","Straelen ","W1","W1","W1","-","-","0.5 O (ST)","-","1.5 O (FT)","-","-","Wuppertal ","Straelen ","-","— — ","2.03 ","3.7 ","3.42 "]
["18-11-2020","22:30:00","Germany Regionalliga West","Homberg ","Bergisch Gladb. ","W2","W2","W2","-","-","0.5 O (ST)","-","1.5 O (FT)","-","-","Bergisch Gladb. ","Bergisch Gladb. ","Bergisch Gladb. ","— — ","2.15 ","3.54 ","3.24 "]
["18-11-2020","23:30:00","Copa do Brasil","Gremio ","Cuiaba ","NB","NB","NB","-","-","-","-","1.5 O (FT)","-","-","NB","NB","NB","— — ","1.49 ","4.2 ","6.6 "]
["18-11-2020","23:30:00","EURO U-21 Qualification","Portugal U ","Netherlands U ","NB","NB","NB","NB","NB","NB","NB","NB","NB","NB","NB","NB","NB",{"$error":"#N/A"},{"$error":"#N/A"},{"$error":"#N/A"},{"$error":"#N/A"}]
["18-11-2020","23:30:00","Ecuador Primera Division","Delfin ","Guayaquil City ","X","X","W2","-","-","0.5 O (ST)","-","1.5 O (FT)","-","-","Guayaquil City ","Guayaquil City ","Guayaquil City ","— — ","1.65 ","4.08 ","4.54 "]
["18-11-2020","23:45:00","UEFA Nations League","Austria ","Norway ","NB","NB","NB","-","-","0.5 O (ST)","-","-","-","-","NB","NB","NB","— — ","1.375 ","5.05 ","8.2 "]
["18-11-2020","23:45:00","UEFA Nations League","Serbia ","Russia ","X","X","X","-","-","0.5 O (ST)","-","1.5 O (FT)","-","-","Russia ","Russia ","Russia ","— — ","2.98 ","3.44 ","2.5 "]
["18-11-2020","23:45:00","UEFA Nations League","Bosnia-Herzegovina ","Italy ","W2","W2","W2","-","-","0.5 O (ST)","-","1.5 O (FT)","-","-","Italy ","Italy ","Italy ","— — ","8.6 ","5.25 ","1.35 "]
["18-11-2020","23:45:00","UEFA Nations League","Ireland ","Bulgaria ","X","W1","W1","-","-","0.5 O (ST)","-","-","-","-","Ireland ","Ireland ","Ireland ","— — ","1.87 ","3.34 ","4.7 "]
["18-11-2020","23:45:00","UEFA Nations League","Kosovo ","Moldova ","NB","NB","NB","0.5 O (HT)","-","0.5 O (ST)","-","1.5 O (FT)","-","-","NB","NB","NB","— — ","1.49 ","4.04 ","7.8 "]
["18-11-2020","23:45:00","UEFA Nations League","England ","Iceland ","W2","X","W2","0.5 O (HT)","-","0.5 O (ST)","-","1.5 O (FT)","-","-","England ","England ","England ","— — ","1.168 ","7.6 ",17]
["18-11-2020","23:45:00","UEFA Nations League","Hungary ","Turkey ","NB","NB","NB","-","-","-","-","1.5 O (FT)","-","-","NB","NB","NB","— — ","3.3 ","3.42 ","2.21 "]
["18-11-2020","23:45:00","UEFA Nations League","Wales ","Finland ","NB","NB","NB","-","-","-","-","-","-","-","NB","NB","NB","— — ","2.11 ","3.18 ","3.88 "]
["18-11-2020","23:45:00","UEFA Nations League","Poland ","Netherlands ","W2","X","W2","-","-","0.5 O (ST)","-","1.5 O (FT)","-","-","Netherlands ","Poland ","Poland ","— — ","3.84 ","3.74 ","2.005 "]
["18-11-2020","23:45:00","UEFA Nations League","Northern Ireland ","Romania ","NB","NB","NB","-","-","-","-","-","-","-","NB","NB","NB","— — ","3.136 ","3.16 ","2.43 "]
["18-11-2020","23:45:00","UEFA Nations League","Belgium ","Denmark ","NB","NB","NB","-","-","0.5 O (ST)","-","1.5 O (FT)","-","-","NB","NB","NB","— — ","1.744 ","3.76 ","5.35 "]
["18-11-2020","23:45:00","UEFA Nations League","Israel ","Scotland ","W2","W1","W1","-","-","-","-","1.5 O (FT)","-","-","Scotland ","Israel ","Scotland ","— — ","2.71 ","3.38 ","2.6 "]
["18-11-2020","23:45:00","UEFA Nations League","Czech Republic ","Slovakia ","W1","X","W1","0.5 O (HT)","-","0.5 O (ST)","-","1.5 O (FT)","-","-","Czech Republic ","Czech Republic ","Czech Republic ","— — ","1.47 ","4.54 ","6.8 "]
["18-11-2020","23:45:00","UEFA Nations League","Greece ","Slovenia ","NB","NB","NB","-","-","-","-","-","-","-","NB","NB","NB","— — ","2.14 ","2.9 ","4.26 "]
["19-11-2020","00:00:00","Netherlands Eerste Divisie","De Graafschap ","Cambuur ","W1","W1","W1","0.5 O (HT)","-","0.5 O (ST)","-","1.5 O (FT)","-","-","De Graafschap ","De Graafschap ","De Graafschap ","— — ","2.944 ","3.84 ","2.2 "]
["19-11-2020","00:00:00","Peru-Primera division","Huanuco ","Cantolao ","X","X","X","-","-","0.5 O (ST)","-","1.5 O (FT)","-","-","-","Cantolao ","Cantolao ","— — ","2.31 ","3.075 ","3.2 "]
["19-11-2020","00:30:00","Peru-Primera division","San Martin ","Cajamarca ","X","W1","W1","-","-","-","-","1.5 O (FT)","-","-","San Martin ","San Martin ","San Martin ","— — ","2.97 ","2.704 ","2.75 "]
["19-11-2020","01:00:00","Panama LPF","San Miguelito ","San Francisco ","X","X","W2","-","-","-","-","-","-","-","San Francisco ","San Miguelito ","San Miguelito ","1:2 (0:1) ","-","-","-"]
["19-11-2020","01:00:00","Venezuela Primera Division","Lara ","Atl. Venezuela ","X","W2","W1","-","-","0.5 O (ST)","-","1.5 O (FT)","-","-","Lara ","Atl. Venezuela ","Atl. Venezuela ","4:0 (1:0) ","1.77 ","3.5 ","4.56 "]
["19-11-2020","01:10:00","Guatemala Liga Nacional","Dep. Guastatoya ","Xelaju MC ","W1","X","W1","-","-","-","-","1.5 O (FT)","-","-","Dep. Guastatoya ","Dep. Guastatoya ","Dep. Guastatoya ","2:0 (2:0) ","1.792 ","2.96 ","5.25 "]
["19-11-2020","01:45:00","Ecuador Primera Division","Tecnico Uni ","Macara ","X","W2","W2","-","-","-","-","-","-","-","Macara ","Macara ","Macara ","0:1 (0:0) ","3.18 ","3.26 ","2.23 "]
["19-11-2020","02:00:00","Brazil - Serie A","Atletico MG ","Atletico PR ","X","X","W1","-","-","-","-","-","-","-","Atletico MG ","Atletico PR ","Atletico PR ","0:2 (0:2) ","1.67 ","3.78 ","4.8 "]
["19-11-2020","02:00:00","Copa do Brasil","Ceara ","Palmeiras ","W2","W1","X","-","-","-","-","1.5 O (FT)","-","-","Palmeiras ","Ceara ","Ceara ","2:2 (0:2) ","2.18 ","3.32 ","3.22 "]
["19-11-2020","02:15:00","Chile Primera Division","Union La Calera ","U de Chile ","X","W1","W1","-","-","-","-","-","-","-","Union La Calera ","Union La Calera ","Union La Calera ","1:0 (0:0) ","2.07 ","3.58 ","3.4 "]
["19-11-2020","03:00:00","Panama LPF","Amador ","Tauro ","X","X","W2","-","-","-","-","-","-","-","Tauro ","Tauro ","Tauro ","0:1 (0:0) ","-","-","-"]
["19-11-2020","03:00:00","Peru-Primera division","Melgar ","Huancayo ","X","W1","W1","-","-","-","-","1.5 O (FT)","-","-","Huancayo ","Melgar ","Melgar ","4:0 (1:0) ","1.83 ","3.68 ","3.94 "]
["19-11-2020","04:00:00","Costa Rica Primera Division","Santos de G ","Saprissa ","X","X","X","-","-","-","-","-","-","-","Saprissa ","Saprissa ","Saprissa ","0:0 (0:0) ","4.22 ","4.12 ","1.696 "]
["19-11-2020","04:00:00","Ecuador Primera Division","LDU Quito ","Emelec ","X","W1","W1","-","-","-","-","-","-","-","LDU Quito ","LDU Quito ","LDU Quito ","1:2 (1:0) ","1.54 ","4.14 ","5.55 "]
["19-11-2020","04:00:00","Venezuela Primera Division","Mineros ","Carabobo ","X","X","W1","-","-","0.5 O (ST)","-","1.5 O (FT)","-","-","Mineros ","Mineros ","Mineros ","4:2 (1:1) ","1.47 ","4.36 ","6.35 "]
["19-11-2020","04:30:00","Chile Primera Division","Coquimbo ","U. Catolica Santiago ","W1","X","W1","0.5 O (HT)","-","0.5 O (ST)","-","1.5 O (FT)","-","-","Coquimbo ","Coquimbo ","Coquimbo ","2:1 (1:0) ","6.45 ","4.44 ","1.45 "]
["19-11-2020","04:30:00","Copa do Brasil","America MG ","Internacional ","X","W1","W1","-","-","-","-","-","-","-","America MG ","America MG ","America MG ","0:1 (0:0) AET 0:0, pen 6:5 ","3.2 ","3.04 ","2.32 "]
["19-11-2020","04:30:00","Copa do Brasil","Sao Paulo ","Flamengo ","X","W1","W1","-","-","0.5 O (ST)","-","1.5 O (FT)","-","-","Flamengo ","Sao Paulo ","Sao Paulo ","3:0 (0:0) ","2.41 ","3.6 ","2.51 "]
["19-11-2020","11:00:00","Russia Premier Women","Yenisey Krasnoyarsk W ","Zvezda W ","W2","W2","W2","-","-","-","-","-","-","-","Zvezda W ","Zvezda W ","Zvezda W ","0:0 (0:0) HT ","-","-","-"]
["19-11-2020","13:00:00","Russia Youth teams","Krasnodar Youth ","Rotor Youth ","NB","NB","NB","0.5 O (HT)","-","-","-","1.5 O (FT)","-","3.5 O (FT)","NB","NB","NB","— — ","-","-","-"]
["19-11-2020","13:30:00","Uzbekistan Superleague","FC Andijon ","Mash AL ","NB","NB","NB","-","-","-","-","-","-","-","NB","NB","NB","— — ","2.52 ","3.22 ","2.744 "]
["19-11-2020","14:00:00","AFC Champions League","Sydney ","Shanghai SIPG ","X","X","X","-","-","-","-","1.5 O (FT)","-","-","Sydney ","Shanghai SIPG ","Shanghai SIPG ","— — ","-","-","-"]
["19-11-2020","14:00:00","Turkey 2nd Lig","Sanliurfaspor ","Gumushanespor ","W1","W2","X","0.5 O (HT)","-","0.5 O (ST)","-","1.5 O (FT)","-","-","Sanliurfaspor ","Gumushanespor ","Gumushanespor ","— — ","1.71 ","3.88 ","4.1 "]
["19-11-2020","14:30:00","Uzbekistan Superleague","Buxoro ","Qizilqum ","X","X","X","-","-","-","-","1.5 O (FT)","-","-","Qizilqum ","Buxoro ","-","— — ","2.365 ","3.3 ","2.91 "]
["19-11-2020","15:00:00","Russia PFL South","Novokubansk ","SKA-Rostov ","NB","NB","NB","0.5 O (HT)","-","0.5 O (ST)","1.5 O (ST)","1.5 O (FT)","2.5 O (FT)","3.5 O (FT)","NB","NB","NB","— — ","-","-","-"]
["19-11-2020","15:00:00","Russia Youth teams","Rostov Youth ","Chertanovo U9 ","NB","NB","NB","NB","NB","NB","NB","NB","NB","NB","NB","NB","NB","— — ","1.84 ","3.84 ","3.7 "]
["19-11-2020","15:30:00","Uzbekistan Superleague","Lokomotiv ","AGMK ","W1","X","W1","-","-","0.5 O (ST)","-","1.5 O (FT)","-","-","Lokomotiv ","Lokomotiv ","Lokomotiv ","— — ","2.2 ","3.44 ","3.07 "]
["19-11-2020","16:40:00","Iran Pro League","Nassaji ","Tractor ","X","X","X","-","-","-","-","-","-","-","Tractor ","Nassaji ","Tractor ","— — ","3.96 ","2.425 ","2.41 "]
["19-11-2020","16:50:00","Iran Pro League","Sepahan ","Aluminium Arak ","NB","NB","NB","0.5 O (HT)","-","-","-","1.5 O (FT)","-","-","NB","NB","NB","— — ","1.28 ","4.74 ","11.5 "]
["19-11-2020","17:05:00","Iran Pro League","Naft Masjed ","SaiPa ","X","W2","X","-","-","-","-","-","-","-","SaiPa ","SaiPa ","SaiPa ","— — ","2.66 ","2.784 ","2.885 "]
["19-11-2020","17:15:00","Uruguay Primera Division","Plaza Colonia ","Torque ","W2","W1","X","-","-","-","-","1.5 O (FT)","-","-","Torque ","Plaza Colonia ","Torque ","— — ","-","-","-"]
["19-11-2020","17:30:00","Russia PFL South","Krasnodar-3 ","Kuban Holding ","NB","NB","NB","-","-","-","-","1.5 O (FT)","-","-","NB","NB","NB","— — ","8.3 ","5.75 ","1.26 "]
["19-11-2020","17:30:00","Chile Primera Division","Antofagasta ","Everton VM ","W2","W1","W2","-","-","0.5 O (ST)","-","-","-","-","Everton VM ","Antofagasta ","Everton VM ","— — ","2.84 ","3.32 ","2.5 "]
["19-11-2020","21:15:00","Ecuador Primera Division","Mushuc Runa ","Olmedo ","W2","W2","W2","0.5 O (HT)","-","-","-","1.5 O (FT)","-","-","Olmedo ","Olmedo ","Olmedo ","— — ","2.325 ","3.6 ","2.765 "]
["20-11-2020","00:00:00","Spain Primera Division","Osasuna ","Huesca ","X","X","W2","-","-","-","-","-","-","-","Osasuna ","Huesca ","Osasuna ","— — ","2.39 ","3.28 ","3.28 "]
["20-11-2020","00:00:00","France Ligue 1","Monaco ","PSG ","W2","W2","W2","0.5 O (HT)","-","0.5 O (ST)","-","1.5 O (FT)","-","-","PSG ","PSG ","PSG ","— — ","5.3 ","5.2 ","1.55 "]
["20-11-2020","00:00:00","Spain Segunda Division","Espanyol ","Girona ","W2","X","W2","-","-","0.5 O (ST)","-","1.5 O (FT)","-","-","Girona ","Girona ","Girona ","— — ","1.52 ","3.88 ","7.4 "]
["20-11-2020","00:00:00","Italy Serie B","Frosinone ","Cosenza ","W1","W2","X","-","-","-","-","1.5 O (FT)","-","-","Frosinone ","Cosenza ","Frosinone ","— — ","1.81 ","3.18 ","5.55 "]
["20-11-2020","00:00:00","France Division 1 Women","PSG W ","Lyon W ","X","X","X","-","-","0.5 O (ST)","1.5 O (ST)","1.5 O (FT)","2.5 O (FT)","-","Lyon W ","-","-","— — ","-","-","-"]
["20-11-2020","00:00:00","Netherlands Eerste Divisie","Den Bosch ","Jong Ajax ","X","W2","W2","-","-","0.5 O (ST)","-","1.5 O (FT)","-","-","Den Bosch ","Jong Ajax ","Jong Ajax ","— — ","3.065 ","4.04 ","2.11 "]
["20-11-2020","00:00:00","Netherlands Eerste Divisie","Jong Utrecht ","Helmond ","X","W1","W1","-","-","0.5 O (ST)","1.5 O (ST)","1.5 O (FT)","-","-","Helmond ","Jong Utrecht ","Jong Utrecht ","— — ","1.97 ","3.8 ","3.62 "]
["20-11-2020","00:00:00","Netherlands Eerste Divisie","Maastricht ","Jong PSV ","X","X","X","-","-","0.5 O (ST)","-","1.5 O (FT)","-","-","Jong PSV ","Jong PSV ","Jong PSV ","— — ","2.23 ","3.94 ","2.896 "]
["20-11-2020","00:10:00","Argentina Copa Liga","Arsenal S ","Santa Fe ","W1","W1","W1","-","-","-","-","1.5 O (FT)","-","-","Arsenal S ","Santa Fe ","Arsenal S ","— — ","2.44 ","3.24 ","3.04 "]
["20-11-2020","01:00:00","Costa Rica Primera Division","Limon ","Herediano ","W1","X","W1","0.5 O (HT)","-","-","-","-","-","-","Limon ","Herediano ","Limon ","— — ","3.01 ","3.32 ","2.3 "]
["20-11-2020","01:00:00","Venezuela Primera Division","Aragua ","Metropolitanos ","X","W1","W1","-","-","-","-","-","-","-","Aragua ","Metropolitanos ","Aragua ","— — ","2.656 ","3.16 ","2.656 "]
["20-11-2020","01:30:00","Chile Primera Division","Colo-Colo ","Audax ","W1","W1","W1","-","-","-","-","-","-","-","Colo-Colo ","Colo-Colo ","Colo-Colo ","— — ","1.93 ","3.78 ","3.78 "]
["20-11-2020","01:45:00","Ecuador Primera Division","Portoviejo ","Orense ","NB","NB","NB","-","-","0.5 O (ST)","-","1.5 O (FT)","-","-","NB","NB","NB","— — ","2.288 ","3.54 ","2.85 "]
["20-11-2020","02:00:00","Brazil - Serie A","Vasco da Gama ","Fortaleza ","X","W1","W1","-","-","-","-","-","-","-","Fortaleza ","Vasco da Gama ","Vasco da Gama ","— — ","2.45 ","3.1 ","3.168 "]
["20-11-2020","02:00:00","Uruguay Primera Division","Cerro ","Rentistas ","W1","X","W1","-","-","-","-","-","-","-","Cerro ","Rentistas ","Cerro ","— — ","-","-","-"]
["20-11-2020","03:00:00","Panama LPF","Costa Del Este FC ","Alianza ","X","X","X","-","-","-","-","-","-","-","Alianza ","Costa Del Este FC ","Costa Del Este FC ","— — ","-","-","-"]
["20-11-2020","04:00:00","Ecuador Primera Division","Barcelona Guayaquil ","Cuenca ","W1","W1","W1","-","-","-","-","1.5 O (FT)","-","-","Barcelona Guayaquil ","Barcelona Guayaquil ","Barcelona Guayaquil ","— — ","-","-","-"]
["20-11-2020","04:00:00","Venezuela Primera Division","Tachira ","Monagas ","W2","X","W1","-","-","-","-","-","-","-","Monagas ","Tachira ","Tachira ","— — ","-","-","-"]
["20-11-2020","04:15:00","Argentina Copa Liga","Atletico Tucuman ","Racing ","W1","X","W1","-","-","0.5 O (ST)","-","1.5 O (FT)","-","-","Racing ","Atletico Tucuman ","Racing ","— — ","1.58 ","4.2 ","5.65 "]
["20-11-2020","04:30:00","Chile Primera Division","S. Wanderers ","Union Espanola ","X","X","W2","-","-","0.5 O (ST)","-","1.5 O (FT)","-","-","Union Espanola ","Union Espanola ","Union Espanola ","— — ","3.144 ","3.84 ","2.12 "]
["20-11-2020","05:00:00","Nicaragua Primera","Esteli ","Managua FC ","X","X","W1","0.5 O (HT)","-","0.5 O (ST)","-","1.5 O (FT)","-","-","Esteli ","Esteli ","Esteli ","— — ","-","-","-"]
["20-11-2020","05:00:00","Nicaragua Primera","Walter Ferretti ","Chinandega FC ","W1","W1","W2","-","-","0.5 O (ST)","-","1.5 O (FT)","-","-","Walter Ferretti ","Walter Ferretti ","Walter Ferretti ","— — ","-","-","-"]
["20-11-2020","05:00:00","Nicaragua Primera","Art Municipal Jalapa ","Real Madriz ","X","X","X","-","-","0.5 O (ST)","-","1.5 O (FT)","-","-","Art Municipal Jalapa ","Art Municipal Jalapa ","Art Municipal Jalapa ","— — ","-","-","-"]
["20-11-2020","05:00:00","Nicaragua Primera","Diriangen FC ","Ocotal ","X","W1","W1","-","-","0.5 O (ST)","-","-","-","-","Diriangen FC ","Diriangen FC ","Diriangen FC ","— — ","-","-","-"]
["20-11-2020","05:00:00","Nicaragua Primera","CD Junior ","Juventus Managua ","NB","NB","NB","-","-","0.5 O (ST)","-","-","-","-","NB","NB","NB","— — ","-","-","-"]
["20-11-2020","14:00:00","Ukraine U-21 League","Shakhtar-D ","Oleksandriya-D ","W1","W2","W1","-","-","0.5 O (ST)","-","1.5 O (FT)","-","-","Shakhtar-D ","Oleksandriya-D ","Oleksandriya-D ","— — ","-","-","-"]
["20-11-2020","14:00:00","Ukraine U-21 League","Olimpik Donetsk-D ","Zorya-D ","W2","W2","W2","0.5 O (HT)","-","0.5 O (ST)","-","1.5 O (FT)","-","-","Zorya-D ","Zorya-D ","Zorya-D ","— — ","-","-","-"]
["20-11-2020","14:00:00","Uzbekistan Superleague","Metallurg B ","Bunyodkor ","W2","W2","W2","-","-","-","-","1.5 O (FT)","-","-","Bunyodkor ","Bunyodkor ","Bunyodkor ","— — ","2.29 ","3.22 ","3.096 "]
["20-11-2020","14:00:00","Uzbekistan Superleague","Sogdiana ","FC Nasaf ","W2","W1","X","-","-","-","-","-","-","-","FC Nasaf ","Sogdiana ","FC Nasaf ","— — ","3.32 ","3.22 ","2.175 "]
["20-11-2020","15:00:00","Russia - 1. Division","Krasnodar- ","Shinnik Yaroslavl ","NB","NB","NB","NB","NB","NB","NB","NB","NB","NB","NB","NB","NB","— — ",{"$error":"#N/A"},{"$error":"#N/A"},{"$error":"#N/A"}]
["20-11-2020","15:00:00","Russia PFL South","Inter Cherkessk ","Makhachkala ","W1","W1","W1","-","-","0.5 O (ST)","-","1.5 O (FT)","-","-","Inter Cherkessk ","Inter Cherkessk ","Inter Cherkessk ","— — ","-","-","-"]
["20-11-2020","15:00:00","Russia Youth teams","Arsenal Youth ","Dinamo Moscow Youth ","X","W1","W1","-","-","0.5 O (ST)","-","1.5 O (FT)","-","-","Dinamo Moscow Youth ","Arsenal Youth ","Arsenal Youth ","— — ","-","-","-"]
["20-11-2020","15:00:00","Latvia - Virsliga","Jelgava ","Valmiera ","X","W2","W2","-","-","0.5 O (ST)","-","1.5 O (FT)","-","-","Valmiera ","Valmiera ","Valmiera ","— — ","3.36 ","3.56 ",2]
["20-11-2020","15:00:00","Moldova - Divizia Nationala","Dinamo Auto ","Floresti ","W1","X","W1","0.5 O (HT)","-","-","-","1.5 O (FT)","-","-","Dinamo Auto ","Dinamo Auto ","Dinamo Auto ","— — ","-","-","-"]
["20-11-2020","15:00:00","Ukraine - Persha Liga","Girnik ","Obolon-Brovar ","X","W1","W2","-","-","0.5 O (ST)","-","1.5 O (FT)","-","-","Obolon-Brovar ","Girnik ","Obolon-Brovar ","— — ","2.03 ","3.15 ","3.66 "]
["20-11-2020","15:00:00","Ukraine - Persha Liga","Agrobiznes ","Nyva Ternopil ","NB","NB","NB","-","-","-","-","-","-","-","NB","NB","NB","— — ","1.57 ","3.82 ","5.4 "]
["20-11-2020","15:00:00","Ukraine - Persha Liga","A. Kramatorsk ","Veres Rivne ","W1","X","W1","-","-","-","-","1.5 O (FT)","-","-","A. Kramatorsk ","Veres Rivne ","A. Kramatorsk ","— — ","5.5 ","3.78 ","1.568 "]
["20-11-2020","15:00:00","Ukraine - Persha Liga","Polissya ","Mykolaiv ","NB","NB","NB","-","-","-","-","1.5 O (FT)","-","-","NB","NB","NB","— — ","2.115 ","3.184 ","3.36 "]
["20-11-2020","15:00:00","Ukraine - Persha Liga","Krystal ","VPK-Agro ","NB","NB","NB","-","-","0.5 O (ST)","-","1.5 O (FT)","-","-","NB","NB","NB","— — ","2.696 ","3.06 ","2.568 "]
["20-11-2020","15:00:00","Ukraine U-21 League","Ingulets-D ","Dinamo-D ","NB","NB","NB","0.5 O (HT)","-","0.5 O (ST)","1.5 O (ST)","1.5 O (FT)","-","-","NB","NB","NB","— — ","-","-","-"]
["20-11-2020","16:00:00","Germany Regionalliga West","Schalke II ","Dortmund II ","X","W2","W2","-","-","-","-","1.5 O (FT)","-","-","Dortmund II ","Dortmund II ","Dortmund II ","— — ","-","-","-"]
["20-11-2020","16:00:00","Ukraine - Persha Liga","Volyn ","Prykarpattya ","X","W1","W1","-","-","-","-","-","-","-","Prykarpattya ","Volyn ","Volyn ","— — ","1.496 ","4.1 ","5.75 "]
["20-11-2020","16:00:00","Ukraine - Persha Liga","Lypova Dolyna ","Chernomorets Odessa ","NB","NB","NB","-","-","0.5 O (ST)","-","1.5 O (FT)","-","-","NB","NB","NB","— — ","3.62 ","3.16 ","2.03 "]
["20-11-2020","16:00:00","Uzbekistan Superleague","Navbahor ","Surkhon Termez ","X","W1","W1","-","-","-","-","-","-","-","Navbahor ","Navbahor ","Navbahor ","— — ","-","-","-"]
["20-11-2020","16:00:00","Uzbekistan Superleague","Pakhtakor ","FK Kokand ","W1","W1","W1","-","-","0.5 O (ST)","-","1.5 O (FT)","-","-","Pakhtakor ","Pakhtakor ","Pakhtakor ","— — ","1.136 ",8,15]
["20-11-2020","16:30:00","Czech Republic 1. Division","Jihlava ","Blansko ","NB","NB","NB","0.5 O (HT)","-","0.5 O (ST)","-","1.5 O (FT)","-","-","NB","NB","NB","— — ","1.85 ","3.58 ","3.86 "]
["20-11-2020","16:40:00","Iran Pro League","Mes Rafsanjan ","Gohar Sirjan ","NB","NB","NB","-","-","0.5 O (ST)","1.5 O (ST)","1.5 O (FT)","-","-","NB","NB","NB","— — ","2.91 ","2.875 ","2.56 "]
["20-11-2020","17:00:00","Russia Youth teams","PFC Sochi Youth ","Akhmat Youth ","W1","X","W1","0.5 O (HT)","-","-","-","1.5 O (FT)","-","-","PFC Sochi Youth ","Akhmat Youth ","PFC Sochi Youth ","— — ","-","-","-"]
["20-11-2020","17:00:00","Israel Liga Leumit","Hapoel Kfar Shelem ","H. Petah Tikva ","NB","NB","NB","-","-","-","-","1.5 O (FT)","-","-","NB","NB","NB","— — ","2.79 ","3.18 ","2.45 "]
["20-11-2020","17:00:00","Israel Liga Leumit","Sektzia Nes Tziona ","Hapoel Um El Fahem ","NB","NB","NB","-","-","-","-","-","-","-","NB","NB","NB","— — ","2.03 ","3.34 ","3.5 "]
["20-11-2020","17:00:00","Israel Liga Leumit","Hapoel Acre ","Nir Ramat Hasharon ","X","X","X","-","-","-","-","-","-","-","Hapoel Acre ","Hapoel Acre ","-","— — ","2.44 ","3.14 ","2.83 "]
["20-11-2020","17:00:00","Israel Liga Leumit","Hapoel Iksal ","Hapoel Raanana ","NB","NB","NB","-","-","0.5 O (ST)","-","1.5 O (FT)","-","-","NB","NB","NB","— — ","2.46 ","3.2 ","2.76 "]
["20-11-2020","17:00:00","Israel Liga Leumit","Ramat Gan Givatayim ","Beitar Tel Aviv ","X","X","W1","-","-","-","-","1.5 O (FT)","-","-","Beitar Tel Aviv ","Ramat Gan Givatayim ","Ramat Gan Givatayim ","— — ","1.76 ","3.52 ","4.42 "]
["20-11-2020","17:00:00","Ukraine - Persha Liga","Metalist ","Kremin ","X","X","W1","-","-","-","-","-","-","-","Kremin ","Kremin ","Kremin ","— — ","1.808 ","3.4 ","4.18 "]
["20-11-2020","17:05:00","Iran Pro League","Machine Tabriz ","Zob Ahan ","W2","X","W2","-","-","-","-","1.5 O (FT)","-","-","Zob Ahan ","Machine Tabriz ","Zob Ahan ","— — ","2.456 ","2.91 ","3.04 "]
["20-11-2020","17:10:00","Iran Pro League","Foolad ","Esteghlal ","X","W2","X","-","-","-","-","-","-","-","-","Esteghlal ","Esteghlal ","— — ","2.536 ","2.936 ","2.88 "]
["20-11-2020","18:00:00","Moldova - Divizia Nationala","Zimbru ","Dacia Buiucani ","X","W2","W2","-","-","-","-","-","-","-","Dacia Buiucani ","Dacia Buiucani ","Dacia Buiucani ","— — ","-","-","-"]
["20-11-2020","18:00:00","U.A.E. Etisalat National League","Al-Wasl ","AL Ain ","W2","W2","W2","0.5 O (HT)","-","0.5 O (ST)","-","1.5 O (FT)","-","-","AL Ain ","AL Ain ","AL Ain ","— — ","3.66 ","3.74 ","1.9 "]
["20-11-2020","18:00:00","U.A.E. Etisalat National League","Baniyas ","Kalba ","W2","W1","W1","-","-","0.5 O (ST)","-","1.5 O (FT)","-","-","Kalba ","Baniyas ","-","— — ","1.45 ","4.6 ","6.2 "]
["20-11-2020","19:30:00","Romania Liga I","CSMS Iasi ","Arges ","NB","NB","NB","0.5 O (HT)","-","0.5 O (ST)","-","1.5 O (FT)","-","-","NB","NB","NB","— — ","2.44 ","3.24 ","2.96 "]
["20-11-2020","20:00:00","Croatia 1. Division","Lok Zagreb ","Varazdin ","W1","W1","W1","0.5 O (HT)","-","-","-","-","-","-","Lok Zagreb ","Lok Zagreb ","Lok Zagreb ","— — ","1.784 ","3.68 ","4.26 "]
["20-11-2020","20:00:00","Moldova - Divizia Nationala","Dinamo Auto ","Dacia Buiucani ","X","W1","W1","-","-","-","-","-","-","-","Dacia Buiucani ","Dinamo Auto ","Dinamo Auto ","— — ","-","-","-"]
["20-11-2020","20:00:00","Moldova - Divizia Nationala","Zimbru ","Sfintul G ","W2","W2","W2","-","-","-","-","1.5 O (FT)","-","-","Sfintul G ","Sfintul G ","Sfintul G ","— — ","-","-","-"]
["20-11-2020","20:00:00","Moldova - Divizia Nationala","Floresti ","Petrocub ","W2","W2","W2","0.5 O (HT)","-","-","-","-","-","-","Petrocub ","Petrocub ","Petrocub ","— — ","-","-","-"]
["20-11-2020","20:00:00","Moldova - Divizia Nationala","Milsami ","Speranta ","X","W1","W1","-","-","-","-","-","-","-","Milsami ","Milsami ","Milsami ","— — ","-","-","-"]
["20-11-2020","20:00:00","Serbia - Superliga","Javor ","Spartak Subotica ","X","W2","X","-","-","0.5 O (ST)","-","-","-","-","Javor ","Spartak Subotica ","Spartak Subotica ","— — ","2.81 ","3.3 ","2.35 "]
["20-11-2020","20:00:00","Serbia - Superliga","Mladost L ","Cukaricki ","W2","W1","W2","-","-","0.5 O (ST)","-","1.5 O (FT)","-","-","Cukaricki ","Mladost L ","Cukaricki ","— — ","2.625 ","3.28 ","2.49 "]
["20-11-2020","20:00:00","Serbia - Superliga","Radnik ","Macva ","X","W1","W1","-","-","-","-","1.5 O (FT)","-","-","Radnik ","Radnik ","Radnik ","— — ","1.55 ",4,"5.25 "]
["20-11-2020","20:40:00","Poland I Liga","Nieciecza ","Widzew Lodz ","NB","NB","NB","-","-","-","-","1.5 O (FT)","-","-","NB","NB","NB","— — ","2.025 ","3.38 ","3.72 "]
["20-11-2020","21:00:00","Ukraine - Premier League","Rukh Lviv ","FC Mariupol ","NB","NB","NB","-","-","-","-","-","-","-","NB","NB","NB","— — ","2.82 ","3.32 ","2.48 "]
["20-11-2020","21:00:00","Poland Ekstraklasa","KS Lechia ","Slask Wroclaw ","W1","W1","W1","-","-","0.5 O (ST)","-","-","-","-","KS Lechia ","KS Lechia ","KS Lechia ","— — ","2.392 ","3.58 ","2.86 "]
["20-11-2020","21:00:00","France National","Lyon-Duchere ","Cholet ","X","X","W2","-","-","-","-","1.5 O (FT)","-","-","Cholet ","Lyon-Duchere ","Lyon-Duchere ","— — ","2.72 ","3.18 ","2.54 "]
["20-11-2020","21:00:00","France National","Laval ","Boulogne ","X","X","X","-","-","-","-","-","-","-","Boulogne ","Laval ","Boulogne ","— — ","2.22 ",3,"3.08 "]
["20-11-2020","21:00:00","France National","Sete ","Red Star ","NB","NB","NB","-","-","0.5 O (ST)","-","-","-","-","NB","NB","NB","— — ","2.68 ","3.2 ","2.56 "]
["20-11-2020","21:00:00","France National","Annecy ","Villefranche ","NB","NB","NB","-","-","-","-","-","-","-","NB","NB","NB","— — ","2.42 ","3.15 ","2.92 "]
["20-11-2020","21:00:00","France National","Quevilly Rouen ","Bourg Peronnas ","W1","W1","W1","-","-","-","-","-","-","-","Bourg Peronnas ","Quevilly Rouen ","Quevilly Rouen ","— — ","2.41 ","3.15 ","2.93 "]
["20-11-2020","21:00:00","Austria - ADEG Erste Liga","BW Linz ","Horn ","W1","W2","W1","-","-","-","-","1.5 O (FT)","-","-","BW Linz ","Horn ","BW Linz ","— — ","1.72 ","4.14 ","4.28 "]
["20-11-2020","21:00:00","Denmark 1. Division","Viborg ","Hobro ","W2","X","W1","0.5 O (HT)","-","0.5 O (ST)","-","1.5 O (FT)","-","-","Hobro ","Viborg ","Viborg ","— — ","1.66 ","4.24 ","4.6 "]
["20-11-2020","21:00:00","Germany Regionalliga North","Weiche ","St. Pauli II ","X","W1","W1","-","-","0.5 O (ST)","-","1.5 O (FT)","-","-","Weiche ","Weiche ","Weiche ","— — ","-","-","-"]
["20-11-2020","21:00:00","U.A.E. Etisalat National League","Sharjah ","Al-Nasr Dubai ","X","X","W1","-","-","0.5 O (ST)","-","1.5 O (FT)","2.5 O (FT)","-","Al-Nasr Dubai ","Al-Nasr Dubai ","Al-Nasr Dubai ","— — ","2.02 ","3.6 ","2.975 "]
["20-11-2020","21:00:00","U.A.E. Etisalat National League","Fujairah ","Hatta ","W2","X","W2","0.5 O (HT)","-","0.5 O (ST)","-","1.5 O (FT)","-","-","Hatta ","-","Hatta ","— — ","2.22 ","3.54 ","2.984 "]
["20-11-2020","21:30:00","Austria - ADEG Erste Liga","Amstetten ","Austria Wien II ","X","X","W1","-","-","-","-","1.5 O (FT)","-","-","Austria Wien II ","Austria Wien II ","Amstetten ","— — ","1.93 ","3.96 ","3.5 "]
["20-11-2020","21:30:00","Austria - ADEG Erste Liga","Austria Lustenau ","Floridsdorf ","X","X","W2","-","-","0.5 O (ST)","-","1.5 O (FT)","-","-","Floridsdorf ","Austria Lustenau ","Floridsdorf ","— — ","2.15 ","3.72 ","3.11 "]
["20-11-2020","21:30:00","Austria - ADEG Erste Liga","Liefering ","Kapfenberg ","X","X","W1","-","-","-","-","1.5 O (FT)","-","-","Liefering ","Liefering ","Liefering ","— — ","1.31 ","5.8 ","8.3 "]
["20-11-2020","21:30:00","Austria - ADEG Erste Liga","Lafnitz ","Vorwarts Steyr ","X","X","X","-","-","0.5 O (ST)","-","1.5 O (FT)","-","-","Lafnitz ","Vorwarts Steyr ","Lafnitz ","— — ","1.685 ","4.1 ","4.56 "]
["20-11-2020","21:45:00","Czech Republic Gambrinus League","Slovan Liberec ","Jablonec ","X","W1","W1","-","-","0.5 O (ST)","-","1.5 O (FT)","-","-","Slovan Liberec ","Slovan Liberec ","Slovan Liberec ","— — ","2.16 ","3.44 ","3.3 "]
["20-11-2020","21:45:00","Netherlands Eerste Divisie","Volendam ","Oss ","X","W1","W1","-","-","0.5 O (ST)","-","1.5 O (FT)","-","-","Volendam ","Volendam ","Volendam ","— — ","1.26 ","6.1 ","11.5 "]
["20-11-2020","21:45:00","Netherlands Eerste Divisie","NEC Nijmegen ","Roda ","W1","W1","W1","0.5 O (HT)","-","0.5 O (ST)","-","1.5 O (FT)","-","-","NEC Nijmegen ","NEC Nijmegen ","NEC Nijmegen ","— — ","1.92 ","3.74 ","3.86 "]
["20-11-2020","21:45:00","Netherlands Eerste Divisie","Excelsior ","Jong AZ ","W2","W1","X","-","-","0.5 O (ST)","1.5 O (ST)","1.5 O (FT)","-","-","Jong AZ ","Excelsior ","Excelsior ","— — ","1.64 ","4.6 ","4.54 "]
["20-11-2020","22:00:00","France Ligue 1","Rennes ","Bordeaux ","W1","W1","W1","-","-","0.5 O (ST)","-","1.5 O (FT)","-","-","Rennes ","Bordeaux ","Rennes ","— — ","1.95 ","3.56 ","4.28 "]
["20-11-2020","22:00:00","Denmark - Superligaen","Lyngby ","Horsens ","X","W1","W1","-","-","-","-","1.5 O (FT)","-","-","Horsens ","Lyngby ","Lyngby ","— — ","2.43 ","3.5 ","2.85 "]
["20-11-2020","22:00:00","Spain Segunda Division","Alcorcon ","Lugo ","X","W2","W2","-","-","0.5 O (ST)","-","-","-","-","Alcorcon ","Lugo ","Lugo ","— — ","2.85 ","2.94 ","2.79 "]
["20-11-2020","22:00:00","Germany - 3. Liga","Duisburg ","Verl ","NB","NB","NB","-","-","0.5 O (ST)","-","1.5 O (FT)","-","-","NB","NB","NB","— — ","2.5 ","3.32 ","2.795 "]
["20-11-2020","22:00:00","Denmark 1. Division","Kolding IF ","Fredericia ","W2","X","W2","-","-","-","-","1.5 O (FT)","-","-","Fredericia ","Fredericia ","Fredericia ","— — ","3.42 ","3.88 ","1.98 "]
["20-11-2020","22:00:00","Denmark 2nd Division","Hellerup ","Nykoebing ","W2","W2","W2","-","-","-","-","-","-","-","Nykoebing ","Nykoebing ","Nykoebing ","— — ","4.26 ","3.92 ","1.68 "]
["20-11-2020","22:00:00","Denmark 2nd Division","Roskilde ","Gladsaxe ","X","W2","W2","-","-","0.5 O (ST)","-","1.5 O (FT)","-","-","Gladsaxe ","Gladsaxe ","Gladsaxe ","— — ","3.42 ","3.54 ","1.96 "]
["20-11-2020","22:00:00","Sweden Div 1","Motala ","Linkoping ","NB","NB","NB","0.5 O (HT)","-","0.5 O (ST)","-","1.5 O (FT)","2.5 O (FT)","-","NB","NB","NB","— — ","-","-","-"]
["20-11-2020","22:00:00","Switzerland - Challenge League","Stade Ouchy ","Schaffhausen ","W1","W1","W1","-","-","0.5 O (ST)","1.5 O (ST)","1.5 O (FT)","2.5 O (FT)","-","Stade Ouchy ","Stade Ouchy ","Stade Ouchy ","— — ","-","-","-"]

{"sheet":"Инструкция","index":12,"n_rows":123,"n_cols":21,"rows_kept":123,"cut":false,"hidden":false,"merged":[]}
["NB - нет ставки, HT - 1 тайм, ST - 2 тайм, FT - матч, W1 - победа 1 команды, W2 - победа 2 команды, X - ничья"]
[]
[]
[]
[]
[null,null,null,null,null,null,null,null,null,null,null,"<<----- 1 Тайм Больше 0,5"]
[]
[]
[]
[]
[]
[]
[]
[null,null,null,null,null,null,null,null,null," ",null,"<<----- ТБ 1,5",null," "]
[null,null,null,null,null,null,null,null,null,null,null,null,null,null," "," "]
[null,null,null,null,null,null,null,null,null,null,null,null,null," "]
[null,null,null,null,null,null,null,null,null,null,null," ",null," "]
[null,null,null,null,null,null,null,null,null," ",null,null,null," "]
[null,null,null,null,null,null,null," "]
[null,null,null,null,null,null,null,null,null,null,null,null,null," ",null,null," "]
[]
[null,null,null,null,null,null,null,null,null,null,null," "]
[]
[]
[]
[]
[null,null,null,null,null,null,null,null,null,null,null,"<<----- 1 тайм / Матч",null,null,null,null,null,null,null,null," "]
[]
[null,null,null,null,null,null,null,null,null,null,null,null,null,null," "]
[]
[]
[null,null,null,null,null,null,null,null,null,null,null," ",null,null," "]
[]
[]
[null,null,null,null,null,null,null,null,null,null," "]
[]
[]
[]
[]
[null,null,null,null,null,null,null,null,null,null,null,null," "]
[]
[null,null,null,null,null,null,null,null,null,null,null,null,null," "]
[null,null,null,null,null,null,null,null,null,null,null,null,null," "]
[]
[]
[]
[]
[null,null,null,null,null,null,null,null,null," "]
[]
[]
[]
[]
[null,null,null,null,null,null,null,null,null," "]
[]
[]
[]
[]
[]
[]
[]
[]
[]
[null,null,null,null,null,null,null,null,null,null,null,null,null,null,null," "]
[]
[null,null,null,null,null,null,null,null,null,null,null," "]
[]
[]
[]
[]
[]
[]
[]
[]
[]
[]
[]
[]
[]
[]
[]
[]
[]
[]
[]
[]
[]
[]
[]
[]
[]
[]
[]
[null,null,null,null,null,null,null,null,null,null,null," ",null," "]
[]
[]
[]
[]
[]
[]
[]
[]
[]
[null,null,null,null,null,null,null,null,null,null,null," "]
[]
[]
[null,null,null,null,null,null,null,null,null,null,null," "]
[]
[]
[]
[]
[]
[]
[]
[]
[]
[]
[]
[]
[]
[]
[null,null,null,null,null,null,null,null,null,null,null,null," "]
[]
[null,null,null,null,null,null,null,null,null,null,null,null,null,null,null,null," "]